{"text_format":"1","workbook":"xlsx","n_sheets":4,"sheets":["Inputs","SIP Returns","Screener","temp"],"not_rendered":{"charts":0,"images":0,"macros":1,"external_links":0,"defined_names":11,"comments":0,"pivot_tables":0},"unopened":[],"bounds":{"document_bytes":16777216,"sheet_cells":100000,"rows_first":2000,"rows_last":500,"rows_between":2000,"halvings":0,"cell_chars":16384,"cell_head_chars":4096},"cells_cut":0,"cells_raw":0,"read":"whole","date_system":"1900"}

{"sheet":"Inputs","index":0,"n_rows":32,"n_cols":32,"rows_kept":32,"cut":false,"hidden":false,"merged":[[8,0,8,2],[9,0,9,6],[0,0,0,6],[1,0,1,6],[5,0,5,2],[5,3,5,5]]}
["Freefincal Mutual Fund SIP Returns Screener 1.0.0",null,null,null,null,null,null,null,null,"Pick one from the list",null,{"$f":"IF(MATCH(D6,J1:J30,0)=1, \"\", CONCATENATE(\"https://www.valueresearchonline.com/funds/fundselector/default.asp?pg=sipreturns&cat=\",INDEX(J1:K30,MATCH(D6,J1:J30,0),2),\"&exc=susp%2Cdir&ftype=html\"))","v":"https://www.valueresearchonline.com/funds/fundselector/default.asp?pg=sipreturns&cat=12&exc=susp%2Cdir&ftype=html"}]
[{"$f":"HYPERLINK(\"http://freefincal.com/freefincal-mutual-fund-screener-google-sheets-edition/\",\"To Get to Know How to use this tool Please visit : http://freefincal.com/freefincal-mutual-fund-screener-google-sheets-edition/\")","v":"To Get to Know How to use this tool Please visit : http://freefincal.com/freefincal-mutual-fund-screener-google-sheets-edition/"},null,null,null,null,null,null,null,null,"All Equity funds","equityAll",{"$f":"INDEX(J1:K30,MATCH(D6,J1:J30,0),2)","v":12}]
[null,null,null,null,null,null,null,null,null,"All Equity except sector funds","equityExcSec"]
[null,null,null,null,null,null,null,null,null,"Equity: Large Cap",8]
[null,null,null,null,null,null,null,null,null,"Equity: Multi-Cap",9]
["Choose the category you wish to analze",null,null,"Equity: Banking",null,null,null,null,null,"Equity: Mid Cap",10]
[null,null,null,null,null,null,null,null,null,"Equity: Small cap",11]
[null,null,null,null,null,null,null,null,null,"Equity; Tax Planning",18,"https://www.valueresearchonline.com/funds/fundselector/default.asp?pg=sipreturns&cat=23&exc=susp%2Cdir&ftype=html"]
["Reference rank for grading funds",null,null,15,"Funds below this rank will be graded higher",null,null,null,null,"Hybrid: Equity oriented",23,"https://www.valueresearchonline.com/funds/fundselector/default.asp?pg=sipreturns&cat=23&exc=susp%2Cdir&ftype=html"]
["For greater clarity, see \"How to interpret results\" section in the Shortlist sheet.",null,null,null,null,null,null,null,null,"Equity: Others",13]
[null,null,null,null,null,null,null,null,null,"Equity: Pharma",17]
[null,null,null,null,null,null,null,null,null,"Equity: technology",19]
[null,null,null,null,null,null,null,null,null,"Equity: Banking",12,"https://www.valueresearchonline.com/funds/fundselector/default.asp?pg=sipreturns&cat=equityAll&exc=susp%2Cdir"]
[null,null,null,null,null,null,null,null,null,"Equity: FMCG",15]
[null,null,null,null,null,null,null,null,null,"Equity: Infrastructure",20]
[null,null,null,null,null,null,null,null,null,"Equity: International",21]
[]
[null,null,null,null,null,null,null,null,null,null,null,"https://www.valueresearchonline.com/funds/fundselector/default.asp?pg=sipreturns&cat=23&exc=susp%2Cdir"]
[]
[]
[null,null,null,null,null,null,null,null,null,null,null,null,null,null,1,1]
[null,null,null,null,null,null,null,null,null,null,null,null,null,null,2,3]
[null,null,null,null,null,null,null,null,null,null,null,null,null,null,3,5]
[null,null,null,null,null,null,null,null,null,null,null,null,null,null,4,10]
[null,null,null,null,null,null,null,null,null,null,null,null,null,null,5,15]
[null,null,null,null,null,null,null,null,null,null,null,null,null,null,6,20]
[]
[]
[]
[]
[]
[1,{"$f":"A32+1","v":2},3,4,5,6,7,8,9,10,11,12,13,14,15,16,17,18,19,20,21,22,23,24,25,26,27,28,29,30,31,32]

{"sheet":"SIP Returns","index":1,"n_rows":20,"n_cols":10,"rows_kept":20,"cut":false,"hidden":false,"merged":[]}
[null,"Fund","Rating","Category","1-Year","3-Year","5-Year","10-Year","15-Year","20-Year"]
[null,null,null,null,"Return","Return","Return","Return","Return","Return"]
["PDF","Baroda Pioneer Banking and Financial Services Fund",null,"EQ-BANK ",-26.62,4.32,"-","-","-","-"]
["PDF","Birla Sun Life Banking & Financial Services Fund - Regular Plan","Unrated","EQ-BANK ",-14.75,"-","-","-","-","-"]
["PDF","Edelweiss Exchange Traded Scheme-Nifty Bank","Unrated","EQ-BANK ","-","-","-","-","-","-"]
["PDF","Goldman Sachs Banking BeES Fund",null,"EQ-BANK ",-25.61,7.06,9.4600000000000009,12.24,"-","-"]
["PDF","Goldman Sachs PSU Bank BeES Fund",null,"EQ-BANK ",-52.66,-16.62,-11.28,"-","-","-"]
["PDF","ICICI Prudential Banking and Financial Services Fund - Regular Plan | Invest Now",null,"EQ-BANK ",-23.72,11.65,14.79,"-","-","-"]
["PDF","Kotak Banking ETF Fund Regular","Unrated","EQ-BANK ",-25.41,"-","-","-","-","-"]
["PDF","Kotak PSU Bank ETF",null,"EQ-BANK ",-52.74,-16.73,-11.49,"-","-","-"]
["PDF","LIC Nomura MF Banking & Financial Services Fund - Regular Plan","Unrated","EQ-BANK ","-","-","-","-","-","-"]
["PDF","R*Shares Banking ETF",null,"EQ-BANK ",-25.39,7.8,10.44,"-","-","-"]
["PDF","Reliance Banking Fund",null,"EQ-BANK ",-24.15,9.8699999999999992,11.41,15.57,"-","-"]
["PDF","Religare Invesco Banking Fund",null,"EQ-BANK ",-19.61,10.47,11.67,"-","-","-"]
["PDF","SBI Banking & Financial Services Fund - Regular Plan | Invest Online","Unrated","EQ-BANK ","-","-","-","-","-","-"]
["PDF","SBI ETF Nifty Bank Fund | Invest Online","Unrated","EQ-BANK ","-","-","-","-","-","-"]
["PDF","Sundaram Financial Services Opportunities Fund - Regular Plan",null,"EQ-BANK ",-26.48,5.75,6.94,"-","-","-"]
["PDF","Tata Banking and Financial Services Fund - Regular Plan","Unrated","EQ-BANK ","-","-","-","-","-","-"]
["PDF","Taurus Banking & Financial Services Fund - Regular Plan",null,"EQ-BANK ",-28.83,1.32,"-","-","-","-"]
["PDF","UTI Banking Sector Fund - Regular Plan",null,"EQ-BANK ",-25.89,5.39,7.55,11.42,"-","-"]

{"sheet":"Screener","index":2,"n_rows":1000,"n_cols":32,"rows_kept":1000,"cut":false,"hidden":false,"merged":[]}
["All returns here are SIP returns  -->",null,{"$f":"'SIP Returns'!D1","v":"Category"},{"$f":"'SIP Returns'!E1","v":"1-Year"},{"$f":"'SIP Returns'!F1","v":"3-Year"},{"$f":"'SIP Returns'!G1","v":"5-Year"},{"$f":"'SIP Returns'!H1","v":"10-Year"},{"$f":"'SIP Returns'!I1","v":"15-Year"},{"$f":"'SIP Returns'!J1","v":"20-Year"},"1-year Rank","3-year Rank","5-year Rank","10-year Rank","15-year Rank","20-year Rank",null,null,null,null,null,null,"Years for which l return data is available",{"$f":"CONCATENATE(\"Consistency in SIP returns in top \",Inputs!D9)","v":"Consistency in SIP returns in top 15"},null,null,null,null,null,null,null,null,"Consistency in above average CAGR over 1-12Y periods"]
[{"$f":"'SIP Returns'!B3","v":"Baroda Pioneer Banking and Financial Services Fund"},null,{"$f":"'SIP Returns'!D3","v":"EQ-BANK "},{"$f":"'SIP Returns'!E3","v":-26.62},{"$f":"'SIP Returns'!F3","v":4.32},{"$f":"'SIP Returns'!G3","v":"-"},{"$f":"'SIP Returns'!H3","v":"-"},{"$f":"'SIP Returns'!I3","v":"-"},{"$f":"'SIP Returns'!J3","v":"-"},{"$f":"IF($A2=\"\",\"\",IF(ISERROR(RANK(D2,$D$2:$D$1000,0)),\"\",RANK(D2,$D$2:$D$1000,0)))","v":991},{"$f":"IF($A2=\"\",\"\",IF(ISERROR(RANK(E2,$E$2:$E$1000,0)),\"\",RANK(E2,$E$2:$E$1000,0)))","v":8},{"$f":"IF($A2=\"\",\"\",IF(ISERROR(RANK(F2,$F$2:$F$1000,0)),\"\",RANK(F2,$F$2:$F$1000,0)))","v":""},{"$f":"IF($A2=\"\",\"\",IF(ISERROR(RANK(G2,$G$2:$G$1000,0)),\"\",RANK(G2,$G$2:$G$1000,0)))","v":""},{"$f":"IF($A2=\"\",\"\",IF(ISERROR(RANK(H2,$H$2:$H$1000,0)),\"\",RANK(H2,$H$2:$H$1000,0)))","v":""},{"$f":"IF($A2=\"\",\"\",IF(ISERROR(RANK(I2,$I$2:$I$1000,0)),\"\",RANK(I2,$I$2:$I$1000,0)))","v":""},{"$f":"IF(J2=\"\",\"\",IF(J2>Inputs!$D$9,0,1))","v":0},{"$f":"IF(K2=\"\",\"\",IF(K2>Inputs!$D$9,0,1))","v":1},{"$f":"IF(L2=\"\",\"\",IF(L2>Inputs!$D$9,0,1))","v":""},{"$f":"IF(M2=\"\",\"\",IF(M2>Inputs!$D$9,0,1))","v":""},{"$f":"IF(N2=\"\",\"\",IF(N2>Inputs!$D$9,0,1))","v":""},{"$f":"IF(O2=\"\",\"\",IF(O2>Inputs!$D$9,0,1))","v":""},{"$f":"IF(COUNT(P2:U2)=0,\"\",INDEX(Inputs!$O$21:$P$26,MATCH(COUNT(P2:U2),Inputs!$O$21:$O$26,0),2))","v":3},{"$f":"IF(COUNT(P2:U2)=0,\"NA\",SUM(P2:U2)/COUNT(P2:U2))","v":0.5},null,null,{"$f":"IF(D2=\"\",\"\",IF(D2=\"-\",\"\",IF(D2>AVERAGE($D$2:$D$1000),1,0)))","v":0},1,"","","","",{"$f":"IF(COUNT(Z2:AE2)=0,\"\",SUM(Z2:AE2)/COUNT(Z2:AE2))","v":0.5}]
[{"$f":"'SIP Returns'!B4","v":"Birla Sun Life Banking & Financial Services Fund - Regular Plan"},null,{"$f":"'SIP Returns'!D4","v":"EQ-BANK "},{"$f":"'SIP Returns'!E4","v":-14.75},{"$f":"'SIP Returns'!F4","v":"-"},{"$f":"'SIP Returns'!G4","v":"-"},{"$f":"'SIP Returns'!H4","v":"-"},{"$f":"'SIP Returns'!I4","v":"-"},{"$f":"'SIP Returns'!J4","v":"-"},982,"","","","","",{"$f":"IF(J3=\"\",\"\",IF(J3>Inputs!$D$9,0,1))","v":0},{"$f":"IF(K3=\"\",\"\",IF(K3>Inputs!$D$9,0,1))","v":""},{"$f":"IF(L3=\"\",\"\",IF(L3>Inputs!$D$9,0,1))","v":""},{"$f":"IF(M3=\"\",\"\",IF(M3>Inputs!$D$9,0,1))","v":""},{"$f":"IF(N3=\"\",\"\",IF(N3>Inputs!$D$9,0,1))","v":""},{"$f":"IF(O3=\"\",\"\",IF(O3>Inputs!$D$9,0,1))","v":""},{"$f":"IF(COUNT(P3:U3)=0,\"\",INDEX(Inputs!$O$21:$P$26,MATCH(COUNT(P3:U3),Inputs!$O$21:$O$26,0),2))","v":1},{"$f":"IF(COUNT(P3:U3)=0,\"\",SUM(P3:U3)/COUNT(P3:U3))","v":0},null,null,{"$f":"IF(D3=\"\",\"\",IF(D3=\"-\",\"\",IF(D3>AVERAGE($D$2:$D$1000),1,0)))","v":0},"","","","","",0]
[{"$f":"'SIP Returns'!B5","v":"Edelweiss Exchange Traded Scheme-Nifty Bank"},null,{"$f":"'SIP Returns'!D5","v":"EQ-BANK "},{"$f":"'SIP Returns'!E5","v":"-"},{"$f":"'SIP Returns'!F5","v":"-"},{"$f":"'SIP Returns'!G5","v":"-"},{"$f":"'SIP Returns'!H5","v":"-"},{"$f":"'SIP Returns'!I5","v":"-"},{"$f":"'SIP Returns'!J5","v":"-"},"","","","","","",{"$f":"IF(J4=\"\",\"\",IF(J4>Inputs!$D$9,0,1))","v":""},{"$f":"IF(K4=\"\",\"\",IF(K4>Inputs!$D$9,0,1))","v":""},{"$f":"IF(L4=\"\",\"\",IF(L4>Inputs!$D$9,0,1))","v":""},{"$f":"IF(M4=\"\",\"\",IF(M4>Inputs!$D$9,0,1))","v":""},{"$f":"IF(N4=\"\",\"\",IF(N4>Inputs!$D$9,0,1))","v":""},{"$f":"IF(O4=\"\",\"\",IF(O4>Inputs!$D$9,0,1))","v":""},{"$f":"IF(COUNT(P4:U4)=0,\"\",INDEX(Inputs!$O$21:$P$26,MATCH(COUNT(P4:U4),Inputs!$O$21:$O$26,0),2))","v":""},"",null,null,{"$f":"IF(D4=\"\",\"\",IF(D4=\"-\",\"\",IF(D4>AVERAGE($D$2:$D$1000),1,0)))","v":""},"","","","","",""]
[{"$f":"'SIP Returns'!B6","v":"Goldman Sachs Banking BeES Fund"},null,{"$f":"'SIP Returns'!D6","v":"EQ-BANK "},{"$f":"'SIP Returns'!E6","v":-25.61},{"$f":"'SIP Returns'!F6","v":7.06},{"$f":"'SIP Returns'!G6","v":9.4600000000000009},{"$f":"'SIP Returns'!H6","v":12.24},{"$f":"'SIP Returns'!I6","v":"-"},{"$f":"'SIP Returns'!J6","v":"-"},988,5,5,2,"","",{"$f":"IF(J5=\"\",\"\",IF(J5>Inputs!$D$9,0,1))","v":0},{"$f":"IF(K5=\"\",\"\",IF(K5>Inputs!$D$9,0,1))","v":1},{"$f":"IF(L5=\"\",\"\",IF(L5>Inputs!$D$9,0,1))","v":1},{"$f":"IF(M5=\"\",\"\",IF(M5>Inputs!$D$9,0,1))","v":1},{"$f":"IF(N5=\"\",\"\",IF(N5>Inputs!$D$9,0,1))","v":""},{"$f":"IF(O5=\"\",\"\",IF(O5>Inputs!$D$9,0,1))","v":""},{"$f":"IF(COUNT(P5:U5)=0,\"\",INDEX(Inputs!$O$21:$P$26,MATCH(COUNT(P5:U5),Inputs!$O$21:$O$26,0),2))","v":10},0.75,null,null,{"$f":"IF(D5=\"\",\"\",IF(D5=\"-\",\"\",IF(D5>AVERAGE($D$2:$D$1000),1,0)))","v":0},1,1,1,"","",0.75]
[{"$f":"'SIP Returns'!B7","v":"Goldman Sachs PSU Bank BeES Fund"},null,{"$f":"'SIP Returns'!D7","v":"EQ-BANK "},{"$f":"'SIP Returns'!E7","v":-52.66},{"$f":"'SIP Returns'!F7","v":-16.62},{"$f":"'SIP Returns'!G7","v":-11.28},{"$f":"'SIP Returns'!H7","v":"-"},{"$f":"'SIP Returns'!I7","v":"-"},{"$f":"'SIP Returns'!J7","v":"-"},993,991,989,"","","",{"$f":"IF(J6=\"\",\"\",IF(J6>Inputs!$D$9,0,1))","v":0},{"$f":"IF(K6=\"\",\"\",IF(K6>Inputs!$D$9,0,1))","v":0},{"$f":"IF(L6=\"\",\"\",IF(L6>Inputs!$D$9,0,1))","v":0},{"$f":"IF(M6=\"\",\"\",IF(M6>Inputs!$D$9,0,1))","v":""},{"$f":"IF(N6=\"\",\"\",IF(N6>Inputs!$D$9,0,1))","v":""},{"$f":"IF(O6=\"\",\"\",IF(O6>Inputs!$D$9,0,1))","v":""},{"$f":"IF(COUNT(P6:U6)=0,\"\",INDEX(Inputs!$O$21:$P$26,MATCH(COUNT(P6:U6),Inputs!$O$21:$O$26,0),2))","v":5},0,null,null,{"$f":"IF(D6=\"\",\"\",IF(D6=\"-\",\"\",IF(D6>AVERAGE($D$2:$D$1000),1,0)))","v":0},0,0,"","","",0]
[{"$f":"'SIP Returns'!B8","v":"ICICI Prudential Banking and Financial Services Fund - Regular Plan | Invest Now"},null,{"$f":"'SIP Returns'!D8","v":"EQ-BANK "},{"$f":"'SIP Returns'!E8","v":-23.72},{"$f":"'SIP Returns'!F8","v":11.65},{"$f":"'SIP Returns'!G8","v":14.79},{"$f":"'SIP Returns'!H8","v":"-"},{"$f":"'SIP Returns'!I8","v":"-"},{"$f":"'SIP Returns'!J8","v":"-"},984,1,1,"","","",{"$f":"IF(J7=\"\",\"\",IF(J7>Inputs!$D$9,0,1))","v":0},{"$f":"IF(K7=\"\",\"\",IF(K7>Inputs!$D$9,0,1))","v":1},{"$f":"IF(L7=\"\",\"\",IF(L7>Inputs!$D$9,0,1))","v":1},{"$f":"IF(M7=\"\",\"\",IF(M7>Inputs!$D$9,0,1))","v":""},{"$f":"IF(N7=\"\",\"\",IF(N7>Inputs!$D$9,0,1))","v":""},{"$f":"IF(O7=\"\",\"\",IF(O7>Inputs!$D$9,0,1))","v":""},{"$f":"IF(COUNT(P7:U7)=0,\"\",INDEX(Inputs!$O$21:$P$26,MATCH(COUNT(P7:U7),Inputs!$O$21:$O$26,0),2))","v":5},0.66666666666666663,null,null,{"$f":"IF(D7=\"\",\"\",IF(D7=\"-\",\"\",IF(D7>AVERAGE($D$2:$D$1000),1,0)))","v":0},1,1,"","","",0.66666666666666663]
[{"$f":"'SIP Returns'!B9","v":"Kotak Banking ETF Fund Regular"},null,{"$f":"'SIP Returns'!D9","v":"EQ-BANK "},{"$f":"'SIP Returns'!E9","v":-25.41},{"$f":"'SIP Returns'!F9","v":"-"},{"$f":"'SIP Returns'!G9","v":"-"},{"$f":"'SIP Returns'!H9","v":"-"},{"$f":"'SIP Returns'!I9","v":"-"},{"$f":"'SIP Returns'!J9","v":"-"},987,"","","","","",{"$f":"IF(J8=\"\",\"\",IF(J8>Inputs!$D$9,0,1))","v":0},{"$f":"IF(K8=\"\",\"\",IF(K8>Inputs!$D$9,0,1))","v":""},{"$f":"IF(L8=\"\",\"\",IF(L8>Inputs!$D$9,0,1))","v":""},{"$f":"IF(M8=\"\",\"\",IF(M8>Inputs!$D$9,0,1))","v":""},{"$f":"IF(N8=\"\",\"\",IF(N8>Inputs!$D$9,0,1))","v":""},{"$f":"IF(O8=\"\",\"\",IF(O8>Inputs!$D$9,0,1))","v":""},{"$f":"IF(COUNT(P8:U8)=0,\"\",INDEX(Inputs!$O$21:$P$26,MATCH(COUNT(P8:U8),Inputs!$O$21:$O$26,0),2))","v":1},0,null,null,{"$f":"IF(D8=\"\",\"\",IF(D8=\"-\",\"\",IF(D8>AVERAGE($D$2:$D$1000),1,0)))","v":0},"","","","","",0]
[{"$f":"'SIP Returns'!B10","v":"Kotak PSU Bank ETF"},null,{"$f":"'SIP Returns'!D10","v":"EQ-BANK "},{"$f":"'SIP Returns'!E10","v":-52.74},{"$f":"'SIP Returns'!F10","v":-16.73},{"$f":"'SIP Returns'!G10","v":-11.49},{"$f":"'SIP Returns'!H10","v":"-"},{"$f":"'SIP Returns'!I10","v":"-"},{"$f":"'SIP Returns'!J10","v":"-"},994,992,990,"","","",{"$f":"IF(J9=\"\",\"\",IF(J9>Inputs!$D$9,0,1))","v":0},{"$f":"IF(K9=\"\",\"\",IF(K9>Inputs!$D$9,0,1))","v":0},{"$f":"IF(L9=\"\",\"\",IF(L9>Inputs!$D$9,0,1))","v":0},{"$f":"IF(M9=\"\",\"\",IF(M9>Inputs!$D$9,0,1))","v":""},{"$f":"IF(N9=\"\",\"\",IF(N9>Inputs!$D$9,0,1))","v":""},{"$f":"IF(O9=\"\",\"\",IF(O9>Inputs!$D$9,0,1))","v":""},{"$f":"IF(COUNT(P9:U9)=0,\"\",INDEX(Inputs!$O$21:$P$26,MATCH(COUNT(P9:U9),Inputs!$O$21:$O$26,0),2))","v":5},0,null,null,{"$f":"IF(D9=\"\",\"\",IF(D9=\"-\",\"\",IF(D9>AVERAGE($D$2:$D$1000),1,0)))","v":0},0,0,"","","",0]
[{"$f":"'SIP Returns'!B11","v":"LIC Nomura MF Banking & Financial Services Fund - Regular Plan"},null,{"$f":"'SIP Returns'!D11","v":"EQ-BANK "},{"$f":"'SIP Returns'!E11","v":"-"},{"$f":"'SIP Returns'!F11","v":"-"},{"$f":"'SIP Returns'!G11","v":"-"},{"$f":"'SIP Returns'!H11","v":"-"},{"$f":"'SIP Returns'!I11","v":"-"},{"$f":"'SIP Returns'!J11","v":"-"},"","","","","","",{"$f":"IF(J10=\"\",\"\",IF(J10>Inputs!$D$9,0,1))","v":""},{"$f":"IF(K10=\"\",\"\",IF(K10>Inputs!$D$9,0,1))","v":""},{"$f":"IF(L10=\"\",\"\",IF(L10>Inputs!$D$9,0,1))","v":""},{"$f":"IF(M10=\"\",\"\",IF(M10>Inputs!$D$9,0,1))","v":""},{"$f":"IF(N10=\"\",\"\",IF(N10>Inputs!$D$9,0,1))","v":""},{"$f":"IF(O10=\"\",\"\",IF(O10>Inputs!$D$9,0,1))","v":""},{"$f":"IF(COUNT(P10:U10)=0,\"\",INDEX(Inputs!$O$21:$P$26,MATCH(COUNT(P10:U10),Inputs!$O$21:$O$26,0),2))","v":""},"",null,null,{"$f":"IF(D10=\"\",\"\",IF(D10=\"-\",\"\",IF(D10>AVERAGE($D$2:$D$1000),1,0)))","v":""},"","","","","",""]
[{"$f":"'SIP Returns'!B12","v":"R*Shares Banking ETF"},null,{"$f":"'SIP Returns'!D12","v":"EQ-BANK "},{"$f":"'SIP Returns'!E12","v":-25.39},{"$f":"'SIP Returns'!F12","v":7.8},{"$f":"'SIP Returns'!G12","v":10.44},{"$f":"'SIP Returns'!H12","v":"-"},{"$f":"'SIP Returns'!I12","v":"-"},{"$f":"'SIP Returns'!J12","v":"-"},986,4,4,"","","",{"$f":"IF(J11=\"\",\"\",IF(J11>Inputs!$D$9,0,1))","v":0},{"$f":"IF(K11=\"\",\"\",IF(K11>Inputs!$D$9,0,1))","v":1},{"$f":"IF(L11=\"\",\"\",IF(L11>Inputs!$D$9,0,1))","v":1},{"$f":"IF(M11=\"\",\"\",IF(M11>Inputs!$D$9,0,1))","v":""},{"$f":"IF(N11=\"\",\"\",IF(N11>Inputs!$D$9,0,1))","v":""},{"$f":"IF(O11=\"\",\"\",IF(O11>Inputs!$D$9,0,1))","v":""},{"$f":"IF(COUNT(P11:U11)=0,\"\",INDEX(Inputs!$O$21:$P$26,MATCH(COUNT(P11:U11),Inputs!$O$21:$O$26,0),2))","v":5},0.66666666666666663,null,null,{"$f":"IF(D11=\"\",\"\",IF(D11=\"-\",\"\",IF(D11>AVERAGE($D$2:$D$1000),1,0)))","v":0},1,1,"","","",0.66666666666666663]
[{"$f":"'SIP Returns'!B13","v":"Reliance Banking Fund"},null,{"$f":"'SIP Returns'!D13","v":"EQ-BANK "},{"$f":"'SIP Returns'!E13","v":-24.15},{"$f":"'SIP Returns'!F13","v":9.8699999999999992},{"$f":"'SIP Returns'!G13","v":11.41},{"$f":"'SIP Returns'!H13","v":15.57},{"$f":"'SIP Returns'!I13","v":"-"},{"$f":"'SIP Returns'!J13","v":"-"},985,3,3,1,"","",{"$f":"IF(J12=\"\",\"\",IF(J12>Inputs!$D$9,0,1))","v":0},{"$f":"IF(K12=\"\",\"\",IF(K12>Inputs!$D$9,0,1))","v":1},{"$f":"IF(L12=\"\",\"\",IF(L12>Inputs!$D$9,0,1))","v":1},{"$f":"IF(M12=\"\",\"\",IF(M12>Inputs!$D$9,0,1))","v":1},{"$f":"IF(N12=\"\",\"\",IF(N12>Inputs!$D$9,0,1))","v":""},{"$f":"IF(O12=\"\",\"\",IF(O12>Inputs!$D$9,0,1))","v":""},{"$f":"IF(COUNT(P12:U12)=0,\"\",INDEX(Inputs!$O$21:$P$26,MATCH(COUNT(P12:U12),Inputs!$O$21:$O$26,0),2))","v":10},0.75,null,null,{"$f":"IF(D12=\"\",\"\",IF(D12=\"-\",\"\",IF(D12>AVERAGE($D$2:$D$1000),1,0)))","v":0},1,1,1,"","",0.75]
[{"$f":"'SIP Returns'!B14","v":"Religare Invesco Banking Fund"},null,{"$f":"'SIP Returns'!D14","v":"EQ-BANK "},{"$f":"'SIP Returns'!E14","v":-19.61},{"$f":"'SIP Returns'!F14","v":10.47},{"$f":"'SIP Returns'!G14","v":11.67},{"$f":"'SIP Returns'!H14","v":"-"},{"$f":"'SIP Returns'!I14","v":"-"},{"$f":"'SIP Returns'!J14","v":"-"},983,2,2,"","","",{"$f":"IF(J13=\"\",\"\",IF(J13>Inputs!$D$9,0,1))","v":0},{"$f":"IF(K13=\"\",\"\",IF(K13>Inputs!$D$9,0,1))","v":1},{"$f":"IF(L13=\"\",\"\",IF(L13>Inputs!$D$9,0,1))","v":1},{"$f":"IF(M13=\"\",\"\",IF(M13>Inputs!$D$9,0,1))","v":""},{"$f":"IF(N13=\"\",\"\",IF(N13>Inputs!$D$9,0,1))","v":""},{"$f":"IF(O13=\"\",\"\",IF(O13>Inputs!$D$9,0,1))","v":""},{"$f":"IF(COUNT(P13:U13)=0,\"\",INDEX(Inputs!$O$21:$P$26,MATCH(COUNT(P13:U13),Inputs!$O$21:$O$26,0),2))","v":5},0.66666666666666663,null,null,{"$f":"IF(D13=\"\",\"\",IF(D13=\"-\",\"\",IF(D13>AVERAGE($D$2:$D$1000),1,0)))","v":0},1,1,"","","",0.66666666666666663]
[{"$f":"'SIP Returns'!B15","v":"SBI Banking & Financial Services Fund - Regular Plan | Invest Online"},null,{"$f":"'SIP Returns'!D15","v":"EQ-BANK "},{"$f":"'SIP Returns'!E15","v":"-"},{"$f":"'SIP Returns'!F15","v":"-"},{"$f":"'SIP Returns'!G15","v":"-"},{"$f":"'SIP Returns'!H15","v":"-"},{"$f":"'SIP Returns'!I15","v":"-"},{"$f":"'SIP Returns'!J15","v":"-"},"","","","","","",{"$f":"IF(J14=\"\",\"\",IF(J14>Inputs!$D$9,0,1))","v":""},{"$f":"IF(K14=\"\",\"\",IF(K14>Inputs!$D$9,0,1))","v":""},{"$f":"IF(L14=\"\",\"\",IF(L14>Inputs!$D$9,0,1))","v":""},{"$f":"IF(M14=\"\",\"\",IF(M14>Inputs!$D$9,0,1))","v":""},{"$f":"IF(N14=\"\",\"\",IF(N14>Inputs!$D$9,0,1))","v":""},{"$f":"IF(O14=\"\",\"\",IF(O14>Inputs!$D$9,0,1))","v":""},{"$f":"IF(COUNT(P14:U14)=0,\"\",INDEX(Inputs!$O$21:$P$26,MATCH(COUNT(P14:U14),Inputs!$O$21:$O$26,0),2))","v":""},"",null,null,{"$f":"IF(D14=\"\",\"\",IF(D14=\"-\",\"\",IF(D14>AVERAGE($D$2:$D$1000),1,0)))","v":""},"","","","","",""]
[{"$f":"'SIP Returns'!B16","v":"SBI ETF Nifty Bank Fund | Invest Online"},null,{"$f":"'SIP Returns'!D16","v":"EQ-BANK "},{"$f":"'SIP Returns'!E16","v":"-"},{"$f":"'SIP Returns'!F16","v":"-"},{"$f":"'SIP Returns'!G16","v":"-"},{"$f":"'SIP Returns'!H16","v":"-"},{"$f":"'SIP Returns'!I16","v":"-"},{"$f":"'SIP Returns'!J16","v":"-"},"","","","","","",{"$f":"IF(J15=\"\",\"\",IF(J15>Inputs!$D$9,0,1))","v":""},{"$f":"IF(K15=\"\",\"\",IF(K15>Inputs!$D$9,0,1))","v":""},{"$f":"IF(L15=\"\",\"\",IF(L15>Inputs!$D$9,0,1))","v":""},{"$f":"IF(M15=\"\",\"\",IF(M15>Inputs!$D$9,0,1))","v":""},{"$f":"IF(N15=\"\",\"\",IF(N15>Inputs!$D$9,0,1))","v":""},{"$f":"IF(O15=\"\",\"\",IF(O15>Inputs!$D$9,0,1))","v":""},{"$f":"IF(COUNT(P15:U15)=0,\"\",INDEX(Inputs!$O$21:$P$26,MATCH(COUNT(P15:U15),Inputs!$O$21:$O$26,0),2))","v":""},"",null,null,{"$f":"IF(D15=\"\",\"\",IF(D15=\"-\",\"\",IF(D15>AVERAGE($D$2:$D$1000),1,0)))","v":""},"","","","","",""]
[{"$f":"'SIP Returns'!B17","v":"Sundaram Financial Services Opportunities Fund - Regular Plan"},null,{"$f":"'SIP Returns'!D17","v":"EQ-BANK "},{"$f":"'SIP Returns'!E17","v":-26.48},{"$f":"'SIP Returns'!F17","v":5.75},{"$f":"'SIP Returns'!G17","v":6.94},{"$f":"'SIP Returns'!H17","v":"-"},{"$f":"'SIP Returns'!I17","v":"-"},{"$f":"'SIP Returns'!J17","v":"-"},990,6,7,"","","",{"$f":"IF(J16=\"\",\"\",IF(J16>Inputs!$D$9,0,1))","v":0},{"$f":"IF(K16=\"\",\"\",IF(K16>Inputs!$D$9,0,1))","v":1},{"$f":"IF(L16=\"\",\"\",IF(L16>Inputs!$D$9,0,1))","v":1},{"$f":"IF(M16=\"\",\"\",IF(M16>Inputs!$D$9,0,1))","v":""},{"$f":"IF(N16=\"\",\"\",IF(N16>Inputs!$D$9,0,1))","v":""},{"$f":"IF(O16=\"\",\"\",IF(O16>Inputs!$D$9,0,1))","v":""},{"$f":"IF(COUNT(P16:U16)=0,\"\",INDEX(Inputs!$O$21:$P$26,MATCH(COUNT(P16:U16),Inputs!$O$21:$O$26,0),2))","v":5},0.66666666666666663,null,null,{"$f":"IF(D16=\"\",\"\",IF(D16=\"-\",\"\",IF(D16>AVERAGE($D$2:$D$1000),1,0)))","v":0},1,1,"","","",0.66666666666666663]
[{"$f":"'SIP Returns'!B18","v":"Tata Banking and Financial Services Fund - Regular Plan"},null,{"$f":"'SIP Returns'!D18","v":"EQ-BANK "},{"$f":"'SIP Returns'!E18","v":"-"},{"$f":"'SIP Returns'!F18","v":"-"},{"$f":"'SIP Returns'!G18","v":"-"},{"$f":"'SIP Returns'!H18","v":"-"},{"$f":"'SIP Returns'!I18","v":"-"},{"$f":"'SIP Returns'!J18","v":"-"},"","","","","","",{"$f":"IF(J17=\"\",\"\",IF(J17>Inputs!$D$9,0,1))","v":""},{"$f":"IF(K17=\"\",\"\",IF(K17>Inputs!$D$9,0,1))","v":""},{"$f":"IF(L17=\"\",\"\",IF(L17>Inputs!$D$9,0,1))","v":""},{"$f":"IF(M17=\"\",\"\",IF(M17>Inputs!$D$9,0,1))","v":""},{"$f":"IF(N17=\"\",\"\",IF(N17>Inputs!$D$9,0,1))","v":""},{"$f":"IF(O17=\"\",\"\",IF(O17>Inputs!$D$9,0,1))","v":""},{"$f":"IF(COUNT(P17:U17)=0,\"\",INDEX(Inputs!$O$21:$P$26,MATCH(COUNT(P17:U17),Inputs!$O$21:$O$26,0),2))","v":""},"",null,null,{"$f":"IF(D17=\"\",\"\",IF(D17=\"-\",\"\",IF(D17>AVERAGE($D$2:$D$1000),1,0)))","v":""},"","","","","",""]
[{"$f":"'SIP Returns'!B19","v":"Taurus Banking & Financial Services Fund - Regular Plan"},null,{"$f":"'SIP Returns'!D19","v":"EQ-BANK "},{"$f":"'SIP Returns'!E19","v":-28.83},{"$f":"'SIP Returns'!F19","v":1.32},{"$f":"'SIP Returns'!G19","v":"-"},{"$f":"'SIP Returns'!H19","v":"-"},{"$f":"'SIP Returns'!I19","v":"-"},{"$f":"'SIP Returns'!J19","v":"-"},992,9,"","","","",{"$f":"IF(J18=\"\",\"\",IF(J18>Inputs!$D$9,0,1))","v":0},{"$f":"IF(K18=\"\",\"\",IF(K18>Inputs!$D$9,0,1))","v":1},{"$f":"IF(L18=\"\",\"\",IF(L18>Inputs!$D$9,0,1))","v":""},{"$f":"IF(M18=\"\",\"\",IF(M18>Inputs!$D$9,0,1))","v":""},{"$f":"IF(N18=\"\",\"\",IF(N18>Inputs!$D$9,0,1))","v":""},{"$f":"IF(O18=\"\",\"\",IF(O18>Inputs!$D$9,0,1))","v":""},{"$f":"IF(COUNT(P18:U18)=0,\"\",INDEX(Inputs!$O$21:$P$26,MATCH(COUNT(P18:U18),Inputs!$O$21:$O$26,0),2))","v":3},0.5,null,null,{"$f":"IF(D18=\"\",\"\",IF(D18=\"-\",\"\",IF(D18>AVERAGE($D$2:$D$1000),1,0)))","v":0},1,"","","","",0.5]
[{"$f":"'SIP Returns'!B20","v":"UTI Banking Sector Fund - Regular Plan"},null,{"$f":"'SIP Returns'!D20","v":"EQ-BANK "},{"$f":"'SIP Returns'!E20","v":-25.89},{"$f":"'SIP Returns'!F20","v":5.39},{"$f":"'SIP Returns'!G20","v":7.55},{"$f":"'SIP Returns'!H20","v":11.42},{"$f":"'SIP Returns'!I20","v":"-"},{"$f":"'SIP Returns'!J20","v":"-"},989,7,6,3,"","",{"$f":"IF(J19=\"\",\"\",IF(J19>Inputs!$D$9,0,1))","v":0},{"$f":"IF(K19=\"\",\"\",IF(K19>Inputs!$D$9,0,1))","v":1},{"$f":"IF(L19=\"\",\"\",IF(L19>Inputs!$D$9,0,1))","v":1},{"$f":"IF(M19=\"\",\"\",IF(M19>Inputs!$D$9,0,1))","v":1},{"$f":"IF(N19=\"\",\"\",IF(N19>Inputs!$D$9,0,1))","v":""},{"$f":"IF(O19=\"\",\"\",IF(O19>Inputs!$D$9,0,1))","v":""},{"$f":"IF(COUNT(P19:U19)=0,\"\",INDEX(Inputs!$O$21:$P$26,MATCH(COUNT(P19:U19),Inputs!$O$21:$O$26,0),2))","v":10},0.75,null,null,{"$f":"IF(D19=\"\",\"\",IF(D19=\"-\",\"\",IF(D19>AVERAGE($D$2:$D$1000),1,0)))","v":0},1,1,1,"","",0.75]
[{"$f":"'SIP Returns'!B21","v":0},null,{"$f":"'SIP Returns'!D21","v":0},{"$f":"'SIP Returns'!E21","v":0},{"$f":"'SIP Returns'!F21","v":0},{"$f":"'SIP Returns'!G21","v":0},{"$f":"'SIP Returns'!H21","v":0},{"$f":"'SIP Returns'!I21","v":0},{"$f":"'SIP Returns'!J21","v":0},1,10,8,4,1,1,{"$f":"IF(J20=\"\",\"\",IF(J20>Inputs!$D$9,0,1))","v":1},{"$f":"IF(K20=\"\",\"\",IF(K20>Inputs!$D$9,0,1))","v":1},{"$f":"IF(L20=\"\",\"\",IF(L20>Inputs!$D$9,0,1))","v":1},{"$f":"IF(M20=\"\",\"\",IF(M20>Inputs!$D$9,0,1))","v":1},{"$f":"IF(N20=\"\",\"\",IF(N20>Inputs!$D$9,0,1))","v":1},{"$f":"IF(O20=\"\",\"\",IF(O20>Inputs!$D$9,0,1))","v":1},{"$f":"IF(COUNT(P20:U20)=0,\"\",INDEX(Inputs!$O$21:$P$26,MATCH(COUNT(P20:U20),Inputs!$O$21:$O$26,0),2))","v":20},1,null,null,{"$f":"IF(D20=\"\",\"\",IF(D20=\"-\",\"\",IF(D20>AVERAGE($D$2:$D$1000),1,0)))","v":1},1,1,1,1,1,1]
[{"$f":"'SIP Returns'!B22","v":0},null,{"$f":"'SIP Returns'!D22","v":0},{"$f":"'SIP Returns'!E22","v":0},{"$f":"'SIP Returns'!F22","v":0},{"$f":"'SIP Returns'!G22","v":0},{"$f":"'SIP Returns'!H22","v":0},{"$f":"'SIP Returns'!I22","v":0},{"$f":"'SIP Returns'!J22","v":0},1,10,8,4,1,1,{"$f":"IF(J21=\"\",\"\",IF(J21>Inputs!$D$9,0,1))","v":1},{"$f":"IF(K21=\"\",\"\",IF(K21>Inputs!$D$9,0,1))","v":1},{"$f":"IF(L21=\"\",\"\",IF(L21>Inputs!$D$9,0,1))","v":1},{"$f":"IF(M21=\"\",\"\",IF(M21>Inputs!$D$9,0,1))","v":1},{"$f":"IF(N21=\"\",\"\",IF(N21>Inputs!$D$9,0,1))","v":1},{"$f":"IF(O21=\"\",\"\",IF(O21>Inputs!$D$9,0,1))","v":1},{"$f":"IF(COUNT(P21:U21)=0,\"\",INDEX(Inputs!$O$21:$P$26,MATCH(COUNT(P21:U21),Inputs!$O$21:$O$26,0),2))","v":20},1,null,null,{"$f":"IF(D21=\"\",\"\",IF(D21=\"-\",\"\",IF(D21>AVERAGE($D$2:$D$1000),1,0)))","v":1},1,1,1,1,1,1]
[{"$f":"'SIP Returns'!B23","v":0},null,{"$f":"'SIP Returns'!D23","v":0},{"$f":"'SIP Returns'!E23","v":0},{"$f":"'SIP Returns'!F23","v":0},{"$f":"'SIP Returns'!G23","v":0},{"$f":"'SIP Returns'!H23","v":0},{"$f":"'SIP Returns'!I23","v":0},{"$f":"'SIP Returns'!J23","v":0},1,10,8,4,1,1,{"$f":"IF(J22=\"\",\"\",IF(J22>Inputs!$D$9,0,1))","v":1},{"$f":"IF(K22=\"\",\"\",IF(K22>Inputs!$D$9,0,1))","v":1},{"$f":"IF(L22=\"\",\"\",IF(L22>Inputs!$D$9,0,1))","v":1},{"$f":"IF(M22=\"\",\"\",IF(M22>Inputs!$D$9,0,1))","v":1},{"$f":"IF(N22=\"\",\"\",IF(N22>Inputs!$D$9,0,1))","v":1},{"$f":"IF(O22=\"\",\"\",IF(O22>Inputs!$D$9,0,1))","v":1},{"$f":"IF(COUNT(P22:U22)=0,\"\",INDEX(Inputs!$O$21:$P$26,MATCH(COUNT(P22:U22),Inputs!$O$21:$O$26,0),2))","v":20},1,null,null,{"$f":"IF(D22=\"\",\"\",IF(D22=\"-\",\"\",IF(D22>AVERAGE($D$2:$D$1000),1,0)))","v":1},1,1,1,1,1,1]
[{"$f":"'SIP Returns'!B24","v":0},null,{"$f":"'SIP Returns'!D24","v":0},{"$f":"'SIP Returns'!E24","v":0},{"$f":"'SIP Returns'!F24","v":0},{"$f":"'SIP Returns'!G24","v":0},{"$f":"'SIP Returns'!H24","v":0},{"$f":"'SIP Returns'!I24","v":0},{"$f":"'SIP Returns'!J24","v":0},1,10,8,4,1,1,{"$f":"IF(J23=\"\",\"\",IF(J23>Inputs!$D$9,0,1))","v":1},{"$f":"IF(K23=\"\",\"\",IF(K23>Inputs!$D$9,0,1))","v":1},{"$f":"IF(L23=\"\",\"\",IF(L23>Inputs!$D$9,0,1))","v":1},{"$f":"IF(M23=\"\",\"\",IF(M23>Inputs!$D$9,0,1))","v":1},{"$f":"IF(N23=\"\",\"\",IF(N23>Inputs!$D$9,0,1))","v":1},{"$f":"IF(O23=\"\",\"\",IF(O23>Inputs!$D$9,0,1))","v":1},{"$f":"IF(COUNT(P23:U23)=0,\"\",INDEX(Inputs!$O$21:$P$26,MATCH(COUNT(P23:U23),Inputs!$O$21:$O$26,0),2))","v":20},1,null,null,{"$f":"IF(D23=\"\",\"\",IF(D23=\"-\",\"\",IF(D23>AVERAGE($D$2:$D$1000),1,0)))","v":1},1,1,1,1,1,1]
[{"$f":"'SIP Returns'!B25","v":0},null,{"$f":"'SIP Returns'!D25","v":0},{"$f":"'SIP Returns'!E25","v":0},{"$f":"'SIP Returns'!F25","v":0},{"$f":"'SIP Returns'!G25","v":0},{"$f":"'SIP Returns'!H25","v":0},{"$f":"'SIP Returns'!I25","v":0},{"$f":"'SIP Returns'!J25","v":0},1,10,8,4,1,1,{"$f":"IF(J24=\"\",\"\",IF(J24>Inputs!$D$9,0,1))","v":1},{"$f":"IF(K24=\"\",\"\",IF(K24>Inputs!$D$9,0,1))","v":1},{"$f":"IF(L24=\"\",\"\",IF(L24>Inputs!$D$9,0,1))","v":1},{"$f":"IF(M24=\"\",\"\",IF(M24>Inputs!$D$9,0,1))","v":1},{"$f":"IF(N24=\"\",\"\",IF(N24>Inputs!$D$9,0,1))","v":1},{"$f":"IF(O24=\"\",\"\",IF(O24>Inputs!$D$9,0,1))","v":1},{"$f":"IF(COUNT(P24:U24)=0,\"\",INDEX(Inputs!$O$21:$P$26,MATCH(COUNT(P24:U24),Inputs!$O$21:$O$26,0),2))","v":20},1,null,null,{"$f":"IF(D24=\"\",\"\",IF(D24=\"-\",\"\",IF(D24>AVERAGE($D$2:$D$1000),1,0)))","v":1},1,1,1,1,1,1]
[{"$f":"'SIP Returns'!B26","v":0},null,{"$f":"'SIP Returns'!D26","v":0},{"$f":"'SIP Returns'!E26","v":0},{"$f":"'SIP Returns'!F26","v":0},{"$f":"'SIP Returns'!G26","v":0},{"$f":"'SIP Returns'!H26","v":0},{"$f":"'SIP Returns'!I26","v":0},{"$f":"'SIP Returns'!J26","v":0},1,10,8,4,1,1,{"$f":"IF(J25=\"\",\"\",IF(J25>Inputs!$D$9,0,1))","v":1},{"$f":"IF(K25=\"\",\"\",IF(K25>Inputs!$D$9,0,1))","v":1},{"$f":"IF(L25=\"\",\"\",IF(L25>Inputs!$D$9,0,1))","v":1},{"$f":"IF(M25=\"\",\"\",IF(M25>Inputs!$D$9,0,1))","v":1},{"$f":"IF(N25=\"\",\"\",IF(N25>Inputs!$D$9,0,1))","v":1},{"$f":"IF(O25=\"\",\"\",IF(O25>Inputs!$D$9,0,1))","v":1},{"$f":"IF(COUNT(P25:U25)=0,\"\",INDEX(Inputs!$O$21:$P$26,MATCH(COUNT(P25:U25),Inputs!$O$21:$O$26,0),2))","v":20},1,null,null,{"$f":"IF(D25=\"\",\"\",IF(D25=\"-\",\"\",IF(D25>AVERAGE($D$2:$D$1000),1,0)))","v":1},1,1,1,1,1,1]
[{"$f":"'SIP Returns'!B27","v":0},null,{"$f":"'SIP Returns'!D27","v":0},{"$f":"'SIP Returns'!E27","v":0},{"$f":"'SIP Returns'!F27","v":0},{"$f":"'SIP Returns'!G27","v":0},{"$f":"'SIP Returns'!H27","v":0},{"$f":"'SIP Returns'!I27","v":0},{"$f":"'SIP Returns'!J27","v":0},1,10,8,4,1,1,{"$f":"IF(J26=\"\",\"\",IF(J26>Inputs!$D$9,0,1))","v":1},{"$f":"IF(K26=\"\",\"\",IF(K26>Inputs!$D$9,0,1))","v":1},{"$f":"IF(L26=\"\",\"\",IF(L26>Inputs!$D$9,0,1))","v":1},{"$f":"IF(M26=\"\",\"\",IF(M26>Inputs!$D$9,0,1))","v":1},{"$f":"IF(N26=\"\",\"\",IF(N26>Inputs!$D$9,0,1))","v":1},{"$f":"IF(O26=\"\",\"\",IF(O26>Inputs!$D$9,0,1))","v":1},{"$f":"IF(COUNT(P26:U26)=0,\"\",INDEX(Inputs!$O$21:$P$26,MATCH(COUNT(P26:U26),Inputs!$O$21:$O$26,0),2))","v":20},1,null,null,{"$f":"IF(D26=\"\",\"\",IF(D26=\"-\",\"\",IF(D26>AVERAGE($D$2:$D$1000),1,0)))","v":1},1,1,1,1,1,1]
[{"$f":"'SIP Returns'!B28","v":0},null,{"$f":"'SIP Returns'!D28","v":0},{"$f":"'SIP Returns'!E28","v":0},{"$f":"'SIP Returns'!F28","v":0},{"$f":"'SIP Returns'!G28","v":0},{"$f":"'SIP Returns'!H28","v":0},{"$f":"'SIP Returns'!I28","v":0},{"$f":"'SIP Returns'!J28","v":0},1,10,8,4,1,1,{"$f":"IF(J27=\"\",\"\",IF(J27>Inputs!$D$9,0,1))","v":1},{"$f":"IF(K27=\"\",\"\",IF(K27>Inputs!$D$9,0,1))","v":1},{"$f":"IF(L27=\"\",\"\",IF(L27>Inputs!$D$9,0,1))","v":1},{"$f":"IF(M27=\"\",\"\",IF(M27>Inputs!$D$9,0,1))","v":1},{"$f":"IF(N27=\"\",\"\",IF(N27>Inputs!$D$9,0,1))","v":1},{"$f":"IF(O27=\"\",\"\",IF(O27>Inputs!$D$9,0,1))","v":1},{"$f":"IF(COUNT(P27:U27)=0,\"\",INDEX(Inputs!$O$21:$P$26,MATCH(COUNT(P27:U27),Inputs!$O$21:$O$26,0),2))","v":20},1,null,null,{"$f":"IF(D27=\"\",\"\",IF(D27=\"-\",\"\",IF(D27>AVERAGE($D$2:$D$1000),1,0)))","v":1},1,1,1,1,1,1]
[{"$f":"'SIP Returns'!B29","v":0},null,{"$f":"'SIP Returns'!D29","v":0},{"$f":"'SIP Returns'!E29","v":0},{"$f":"'SIP Returns'!F29","v":0},{"$f":"'SIP Returns'!G29","v":0},{"$f":"'SIP Returns'!H29","v":0},{"$f":"'SIP Returns'!I29","v":0},{"$f":"'SIP Returns'!J29","v":0},1,10,8,4,1,1,{"$f":"IF(J28=\"\",\"\",IF(J28>Inputs!$D$9,0,1))","v":1},{"$f":"IF(K28=\"\",\"\",IF(K28>Inputs!$D$9,0,1))","v":1},{"$f":"IF(L28=\"\",\"\",IF(L28>Inputs!$D$9,0,1))","v":1},{"$f":"IF(M28=\"\",\"\",IF(M28>Inputs!$D$9,0,1))","v":1},{"$f":"IF(N28=\"\",\"\",IF(N28>Inputs!$D$9,0,1))","v":1},{"$f":"IF(O28=\"\",\"\",IF(O28>Inputs!$D$9,0,1))","v":1},{"$f":"IF(COUNT(P28:U28)=0,\"\",INDEX(Inputs!$O$21:$P$26,MATCH(COUNT(P28:U28),Inputs!$O$21:$O$26,0),2))","v":20},1,null,null,{"$f":"IF(D28=\"\",\"\",IF(D28=\"-\",\"\",IF(D28>AVERAGE($D$2:$D$1000),1,0)))","v":1},1,1,1,1,1,1]
[{"$f":"'SIP Returns'!B30","v":0},null,{"$f":"'SIP Returns'!D30","v":0},{"$f":"'SIP Returns'!E30","v":0},{"$f":"'SIP Returns'!F30","v":0},{"$f":"'SIP Returns'!G30","v":0},{"$f":"'SIP Returns'!H30","v":0},{"$f":"'SIP Returns'!I30","v":0},{"$f":"'SIP Returns'!J30","v":0},1,10,8,4,1,1,{"$f":"IF(J29=\"\",\"\",IF(J29>Inputs!$D$9,0,1))","v":1},{"$f":"IF(K29=\"\",\"\",IF(K29>Inputs!$D$9,0,1))","v":1},{"$f":"IF(L29=\"\",\"\",IF(L29>Inputs!$D$9,0,1))","v":1},{"$f":"IF(M29=\"\",\"\",IF(M29>Inputs!$D$9,0,1))","v":1},{"$f":"IF(N29=\"\",\"\",IF(N29>Inputs!$D$9,0,1))","v":1},{"$f":"IF(O29=\"\",\"\",IF(O29>Inputs!$D$9,0,1))","v":1},{"$f":"IF(COUNT(P29:U29)=0,\"\",INDEX(Inputs!$O$21:$P$26,MATCH(COUNT(P29:U29),Inputs!$O$21:$O$26,0),2))","v":20},1,null,null,{"$f":"IF(D29=\"\",\"\",IF(D29=\"-\",\"\",IF(D29>AVERAGE($D$2:$D$1000),1,0)))","v":1},1,1,1,1,1,1]
[{"$f":"'SIP Returns'!B31","v":0},null,{"$f":"'SIP Returns'!D31","v":0},{"$f":"'SIP Returns'!E31","v":0},{"$f":"'SIP Returns'!F31","v":0},{"$f":"'SIP Returns'!G31","v":0},{"$f":"'SIP Returns'!H31","v":0},{"$f":"'SIP Returns'!I31","v":0},{"$f":"'SIP Returns'!J31","v":0},1,10,8,4,1,1,{"$f":"IF(J30=\"\",\"\",IF(J30>Inputs!$D$9,0,1))","v":1},{"$f":"IF(K30=\"\",\"\",IF(K30>Inputs!$D$9,0,1))","v":1},{"$f":"IF(L30=\"\",\"\",IF(L30>Inputs!$D$9,0,1))","v":1},{"$f":"IF(M30=\"\",\"\",IF(M30>Inputs!$D$9,0,1))","v":1},{"$f":"IF(N30=\"\",\"\",IF(N30>Inputs!$D$9,0,1))","v":1},{"$f":"IF(O30=\"\",\"\",IF(O30>Inputs!$D$9,0,1))","v":1},{"$f":"IF(COUNT(P30:U30)=0,\"\",INDEX(Inputs!$O$21:$P$26,MATCH(COUNT(P30:U30),Inputs!$O$21:$O$26,0),2))","v":20},1,null,null,{"$f":"IF(D30=\"\",\"\",IF(D30=\"-\",\"\",IF(D30>AVERAGE($D$2:$D$1000),1,0)))","v":1},1,1,1,1,1,1]
[{"$f":"'SIP Returns'!B32","v":0},null,{"$f":"'SIP Returns'!D32","v":0},{"$f":"'SIP Returns'!E32","v":0},{"$f":"'SIP Returns'!F32","v":0},{"$f":"'SIP Returns'!G32","v":0},{"$f":"'SIP Returns'!H32","v":0},{"$f":"'SIP Returns'!I32","v":0},{"$f":"'SIP Returns'!J32","v":0},1,10,8,4,1,1,{"$f":"IF(J31=\"\",\"\",IF(J31>Inputs!$D$9,0,1))","v":1},{"$f":"IF(K31=\"\",\"\",IF(K31>Inputs!$D$9,0,1))","v":1},{"$f":"IF(L31=\"\",\"\",IF(L31>Inputs!$D$9,0,1))","v":1},{"$f":"IF(M31=\"\",\"\",IF(M31>Inputs!$D$9,0,1))","v":1},{"$f":"IF(N31=\"\",\"\",IF(N31>Inputs!$D$9,0,1))","v":1},{"$f":"IF(O31=\"\",\"\",IF(O31>Inputs!$D$9,0,1))","v":1},{"$f":"IF(COUNT(P31:U31)=0,\"\",INDEX(Inputs!$O$21:$P$26,MATCH(COUNT(P31:U31),Inputs!$O$21:$O$26,0),2))","v":20},1,null,null,{"$f":"IF(D31=\"\",\"\",IF(D31=\"-\",\"\",IF(D31>AVERAGE($D$2:$D$1000),1,0)))","v":1},1,1,1,1,1,1]
[{"$f":"'SIP Returns'!B33","v":0},null,{"$f":"'SIP Returns'!D33","v":0},{"$f":"'SIP Returns'!E33","v":0},{"$f":"'SIP Returns'!F33","v":0},{"$f":"'SIP Returns'!G33","v":0},{"$f":"'SIP Returns'!H33","v":0},{"$f":"'SIP Returns'!I33","v":0},{"$f":"'SIP Returns'!J33","v":0},1,10,8,4,1,1,{"$f":"IF(J32=\"\",\"\",IF(J32>Inputs!$D$9,0,1))","v":1},{"$f":"IF(K32=\"\",\"\",IF(K32>Inputs!$D$9,0,1))","v":1},{"$f":"IF(L32=\"\",\"\",IF(L32>Inputs!$D$9,0,1))","v":1},{"$f":"IF(M32=\"\",\"\",IF(M32>Inputs!$D$9,0,1))","v":1},{"$f":"IF(N32=\"\",\"\",IF(N32>Inputs!$D$9,0,1))","v":1},{"$f":"IF(O32=\"\",\"\",IF(O32>Inputs!$D$9,0,1))","v":1},{"$f":"IF(COUNT(P32:U32)=0,\"\",INDEX(Inputs!$O$21:$P$26,MATCH(COUNT(P32:U32),Inputs!$O$21:$O$26,0),2))","v":20},1,null,null,{"$f":"IF(D32=\"\",\"\",IF(D32=\"-\",\"\",IF(D32>AVERAGE($D$2:$D$1000),1,0)))","v":1},1,1,1,1,1,1]
[{"$f":"'SIP Returns'!B34","v":0},null,{"$f":"'SIP Returns'!D34","v":0},{"$f":"'SIP Returns'!E34","v":0},{"$f":"'SIP Returns'!F34","v":0},{"$f":"'SIP Returns'!G34","v":0},{"$f":"'SIP Returns'!H34","v":0},{"$f":"'SIP Returns'!I34","v":0},{"$f":"'SIP Returns'!J34","v":0},1,10,8,4,1,1,{"$f":"IF(J33=\"\",\"\",IF(J33>Inputs!$D$9,0,1))","v":1},{"$f":"IF(K33=\"\",\"\",IF(K33>Inputs!$D$9,0,1))","v":1},{"$f":"IF(L33=\"\",\"\",IF(L33>Inputs!$D$9,0,1))","v":1},{"$f":"IF(M33=\"\",\"\",IF(M33>Inputs!$D$9,0,1))","v":1},{"$f":"IF(N33=\"\",\"\",IF(N33>Inputs!$D$9,0,1))","v":1},{"$f":"IF(O33=\"\",\"\",IF(O33>Inputs!$D$9,0,1))","v":1},{"$f":"IF(COUNT(P33:U33)=0,\"\",INDEX(Inputs!$O$21:$P$26,MATCH(COUNT(P33:U33),Inputs!$O$21:$O$26,0),2))","v":20},1,null,null,{"$f":"IF(D33=\"\",\"\",IF(D33=\"-\",\"\",IF(D33>AVERAGE($D$2:$D$1000),1,0)))","v":1},1,1,1,1,1,1]
[{"$f":"'SIP Returns'!B35","v":0},null,{"$f":"'SIP Returns'!D35","v":0},{"$f":"'SIP Returns'!E35","v":0},{"$f":"'SIP Returns'!F35","v":0},{"$f":"'SIP Returns'!G35","v":0},{"$f":"'SIP Returns'!H35","v":0},{"$f":"'SIP Returns'!I35","v":0},{"$f":"'SIP Returns'!J35","v":0},1,10,8,4,1,1,{"$f":"IF(J34=\"\",\"\",IF(J34>Inputs!$D$9,0,1))","v":1},{"$f":"IF(K34=\"\",\"\",IF(K34>Inputs!$D$9,0,1))","v":1},{"$f":"IF(L34=\"\",\"\",IF(L34>Inputs!$D$9,0,1))","v":1},{"$f":"IF(M34=\"\",\"\",IF(M34>Inputs!$D$9,0,1))","v":1},{"$f":"IF(N34=\"\",\"\",IF(N34>Inputs!$D$9,0,1))","v":1},{"$f":"IF(O34=\"\",\"\",IF(O34>Inputs!$D$9,0,1))","v":1},{"$f":"IF(COUNT(P34:U34)=0,\"\",INDEX(Inputs!$O$21:$P$26,MATCH(COUNT(P34:U34),Inputs!$O$21:$O$26,0),2))","v":20},1,null,null,{"$f":"IF(D34=\"\",\"\",IF(D34=\"-\",\"\",IF(D34>AVERAGE($D$2:$D$1000),1,0)))","v":1},1,1,1,1,1,1]
[{"$f":"'SIP Returns'!B36","v":0},null,{"$f":"'SIP Returns'!D36","v":0},{"$f":"'SIP Returns'!E36","v":0},{"$f":"'SIP Returns'!F36","v":0},{"$f":"'SIP Returns'!G36","v":0},{"$f":"'SIP Returns'!H36","v":0},{"$f":"'SIP Returns'!I36","v":0},{"$f":"'SIP Returns'!J36","v":0},1,10,8,4,1,1,{"$f":"IF(J35=\"\",\"\",IF(J35>Inputs!$D$9,0,1))","v":1},{"$f":"IF(K35=\"\",\"\",IF(K35>Inputs!$D$9,0,1))","v":1},{"$f":"IF(L35=\"\",\"\",IF(L35>Inputs!$D$9,0,1))","v":1},{"$f":"IF(M35=\"\",\"\",IF(M35>Inputs!$D$9,0,1))","v":1},{"$f":"IF(N35=\"\",\"\",IF(N35>Inputs!$D$9,0,1))","v":1},{"$f":"IF(O35=\"\",\"\",IF(O35>Inputs!$D$9,0,1))","v":1},{"$f":"IF(COUNT(P35:U35)=0,\"\",INDEX(Inputs!$O$21:$P$26,MATCH(COUNT(P35:U35),Inputs!$O$21:$O$26,0),2))","v":20},1,null,null,{"$f":"IF(D35=\"\",\"\",IF(D35=\"-\",\"\",IF(D35>AVERAGE($D$2:$D$1000),1,0)))","v":1},1,1,1,1,1,1]
[{"$f":"'SIP Returns'!B37","v":0},null,{"$f":"'SIP Returns'!D37","v":0},{"$f":"'SIP Returns'!E37","v":0},{"$f":"'SIP Returns'!F37","v":0},{"$f":"'SIP Returns'!G37","v":0},{"$f":"'SIP Returns'!H37","v":0},{"$f":"'SIP Returns'!I37","v":0},{"$f":"'SIP Returns'!J37","v":0},1,10,8,4,1,1,{"$f":"IF(J36=\"\",\"\",IF(J36>Inputs!$D$9,0,1))","v":1},{"$f":"IF(K36=\"\",\"\",IF(K36>Inputs!$D$9,0,1))","v":1},{"$f":"IF(L36=\"\",\"\",IF(L36>Inputs!$D$9,0,1))","v":1},{"$f":"IF(M36=\"\",\"\",IF(M36>Inputs!$D$9,0,1))","v":1},{"$f":"IF(N36=\"\",\"\",IF(N36>Inputs!$D$9,0,1))","v":1},{"$f":"IF(O36=\"\",\"\",IF(O36>Inputs!$D$9,0,1))","v":1},{"$f":"IF(COUNT(P36:U36)=0,\"\",INDEX(Inputs!$O$21:$P$26,MATCH(COUNT(P36:U36),Inputs!$O$21:$O$26,0),2))","v":20},1,null,null,{"$f":"IF(D36=\"\",\"\",IF(D36=\"-\",\"\",IF(D36>AVERAGE($D$2:$D$1000),1,0)))","v":1},1,1,1,1,1,1]
[{"$f":"'SIP Returns'!B38","v":0},null,{"$f":"'SIP Returns'!D38","v":0},{"$f":"'SIP Returns'!E38","v":0},{"$f":"'SIP Returns'!F38","v":0},{"$f":"'SIP Returns'!G38","v":0},{"$f":"'SIP Returns'!H38","v":0},{"$f":"'SIP Returns'!I38","v":0},{"$f":"'SIP Returns'!J38","v":0},1,10,8,4,1,1,{"$f":"IF(J37=\"\",\"\",IF(J37>Inputs!$D$9,0,1))","v":1},{"$f":"IF(K37=\"\",\"\",IF(K37>Inputs!$D$9,0,1))","v":1},{"$f":"IF(L37=\"\",\"\",IF(L37>Inputs!$D$9,0,1))","v":1},{"$f":"IF(M37=\"\",\"\",IF(M37>Inputs!$D$9,0,1))","v":1},{"$f":"IF(N37=\"\",\"\",IF(N37>Inputs!$D$9,0,1))","v":1},{"$f":"IF(O37=\"\",\"\",IF(O37>Inputs!$D$9,0,1))","v":1},{"$f":"IF(COUNT(P37:U37)=0,\"\",INDEX(Inputs!$O$21:$P$26,MATCH(COUNT(P37:U37),Inputs!$O$21:$O$26,0),2))","v":20},1,null,null,{"$f":"IF(D37=\"\",\"\",IF(D37=\"-\",\"\",IF(D37>AVERAGE($D$2:$D$1000),1,0)))","v":1},1,1,1,1,1,1]
[{"$f":"'SIP Returns'!B39","v":0},null,{"$f":"'SIP Returns'!D39","v":0},{"$f":"'SIP Returns'!E39","v":0},{"$f":"'SIP Returns'!F39","v":0},{"$f":"'SIP Returns'!G39","v":0},{"$f":"'SIP Returns'!H39","v":0},{"$f":"'SIP Returns'!I39","v":0},{"$f":"'SIP Returns'!J39","v":0},1,10,8,4,1,1,{"$f":"IF(J38=\"\",\"\",IF(J38>Inputs!$D$9,0,1))","v":1},{"$f":"IF(K38=\"\",\"\",IF(K38>Inputs!$D$9,0,1))","v":1},{"$f":"IF(L38=\"\",\"\",IF(L38>Inputs!$D$9,0,1))","v":1},{"$f":"IF(M38=\"\",\"\",IF(M38>Inputs!$D$9,0,1))","v":1},{"$f":"IF(N38=\"\",\"\",IF(N38>Inputs!$D$9,0,1))","v":1},{"$f":"IF(O38=\"\",\"\",IF(O38>Inputs!$D$9,0,1))","v":1},{"$f":"IF(COUNT(P38:U38)=0,\"\",INDEX(Inputs!$O$21:$P$26,MATCH(COUNT(P38:U38),Inputs!$O$21:$O$26,0),2))","v":20},1,null,null,{"$f":"IF(D38=\"\",\"\",IF(D38=\"-\",\"\",IF(D38>AVERAGE($D$2:$D$1000),1,0)))","v":1},1,1,1,1,1,1]
[{"$f":"'SIP Returns'!B40","v":0},null,{"$f":"'SIP Returns'!D40","v":0},{"$f":"'SIP Returns'!E40","v":0},{"$f":"'SIP Returns'!F40","v":0},{"$f":"'SIP Returns'!G40","v":0},{"$f":"'SIP Returns'!H40","v":0},{"$f":"'SIP Returns'!I40","v":0},{"$f":"'SIP Returns'!J40","v":0},1,10,8,4,1,1,{"$f":"IF(J39=\"\",\"\",IF(J39>Inputs!$D$9,0,1))","v":1},{"$f":"IF(K39=\"\",\"\",IF(K39>Inputs!$D$9,0,1))","v":1},{"$f":"IF(L39=\"\",\"\",IF(L39>Inputs!$D$9,0,1))","v":1},{"$f":"IF(M39=\"\",\"\",IF(M39>Inputs!$D$9,0,1))","v":1},{"$f":"IF(N39=\"\",\"\",IF(N39>Inputs!$D$9,0,1))","v":1},{"$f":"IF(O39=\"\",\"\",IF(O39>Inputs!$D$9,0,1))","v":1},{"$f":"IF(COUNT(P39:U39)=0,\"\",INDEX(Inputs!$O$21:$P$26,MATCH(COUNT(P39:U39),Inputs!$O$21:$O$26,0),2))","v":20},1,null,null,{"$f":"IF(D39=\"\",\"\",IF(D39=\"-\",\"\",IF(D39>AVERAGE($D$2:$D$1000),1,0)))","v":1},1,1,1,1,1,1]
[{"$f":"'SIP Returns'!B41","v":0},null,{"$f":"'SIP Returns'!D41","v":0},{"$f":"'SIP Returns'!E41","v":0},{"$f":"'SIP Returns'!F41","v":0},{"$f":"'SIP Returns'!G41","v":0},{"$f":"'SIP Returns'!H41","v":0},{"$f":"'SIP Returns'!I41","v":0},{"$f":"'SIP Returns'!J41","v":0},1,10,8,4,1,1,{"$f":"IF(J40=\"\",\"\",IF(J40>Inputs!$D$9,0,1))","v":1},{"$f":"IF(K40=\"\",\"\",IF(K40>Inputs!$D$9,0,1))","v":1},{"$f":"IF(L40=\"\",\"\",IF(L40>Inputs!$D$9,0,1))","v":1},{"$f":"IF(M40=\"\",\"\",IF(M40>Inputs!$D$9,0,1))","v":1},{"$f":"IF(N40=\"\",\"\",IF(N40>Inputs!$D$9,0,1))","v":1},{"$f":"IF(O40=\"\",\"\",IF(O40>Inputs!$D$9,0,1))","v":1},{"$f":"IF(COUNT(P40:U40)=0,\"\",INDEX(Inputs!$O$21:$P$26,MATCH(COUNT(P40:U40),Inputs!$O$21:$O$26,0),2))","v":20},1,null,null,{"$f":"IF(D40=\"\",\"\",IF(D40=\"-\",\"\",IF(D40>AVERAGE($D$2:$D$1000),1,0)))","v":1},1,1,1,1,1,1]
[{"$f":"'SIP Returns'!B42","v":0},null,{"$f":"'SIP Returns'!D42","v":0},{"$f":"'SIP Returns'!E42","v":0},{"$f":"'SIP Returns'!F42","v":0},{"$f":"'SIP Returns'!G42","v":0},{"$f":"'SIP Returns'!H42","v":0},{"$f":"'SIP Returns'!I42","v":0},{"$f":"'SIP Returns'!J42","v":0},1,10,8,4,1,1,{"$f":"IF(J41=\"\",\"\",IF(J41>Inputs!$D$9,0,1))","v":1},{"$f":"IF(K41=\"\",\"\",IF(K41>Inputs!$D$9,0,1))","v":1},{"$f":"IF(L41=\"\",\"\",IF(L41>Inputs!$D$9,0,1))","v":1},{"$f":"IF(M41=\"\",\"\",IF(M41>Inputs!$D$9,0,1))","v":1},{"$f":"IF(N41=\"\",\"\",IF(N41>Inputs!$D$9,0,1))","v":1},{"$f":"IF(O41=\"\",\"\",IF(O41>Inputs!$D$9,0,1))","v":1},{"$f":"IF(COUNT(P41:U41)=0,\"\",INDEX(Inputs!$O$21:$P$26,MATCH(COUNT(P41:U41),Inputs!$O$21:$O$26,0),2))","v":20},1,null,null,{"$f":"IF(D41=\"\",\"\",IF(D41=\"-\",\"\",IF(D41>AVERAGE($D$2:$D$1000),1,0)))","v":1},1,1,1,1,1,1]
[{"$f":"'SIP Returns'!B43","v":0},null,{"$f":"'SIP Returns'!D43","v":0},{"$f":"'SIP Returns'!E43","v":0},{"$f":"'SIP Returns'!F43","v":0},{"$f":"'SIP Returns'!G43","v":0},{"$f":"'SIP Returns'!H43","v":0},{"$f":"'SIP Returns'!I43","v":0},{"$f":"'SIP Returns'!J43","v":0},1,10,8,4,1,1,{"$f":"IF(J42=\"\",\"\",IF(J42>Inputs!$D$9,0,1))","v":1},{"$f":"IF(K42=\"\",\"\",IF(K42>Inputs!$D$9,0,1))","v":1},{"$f":"IF(L42=\"\",\"\",IF(L42>Inputs!$D$9,0,1))","v":1},{"$f":"IF(M42=\"\",\"\",IF(M42>Inputs!$D$9,0,1))","v":1},{"$f":"IF(N42=\"\",\"\",IF(N42>Inputs!$D$9,0,1))","v":1},{"$f":"IF(O42=\"\",\"\",IF(O42>Inputs!$D$9,0,1))","v":1},{"$f":"IF(COUNT(P42:U42)=0,\"\",INDEX(Inputs!$O$21:$P$26,MATCH(COUNT(P42:U42),Inputs!$O$21:$O$26,0),2))","v":20},1,null,null,{"$f":"IF(D42=\"\",\"\",IF(D42=\"-\",\"\",IF(D42>AVERAGE($D$2:$D$1000),1,0)))","v":1},1,1,1,1,1,1]
[{"$f":"'SIP Returns'!B44","v":0},null,{"$f":"'SIP Returns'!D44","v":0},{"$f":"'SIP Returns'!E44","v":0},{"$f":"'SIP Returns'!F44","v":0},{"$f":"'SIP Returns'!G44","v":0},{"$f":"'SIP Returns'!H44","v":0},{"$f":"'SIP Returns'!I44","v":0},{"$f":"'SIP Returns'!J44","v":0},1,10,8,4,1,1,{"$f":"IF(J43=\"\",\"\",IF(J43>Inputs!$D$9,0,1))","v":1},{"$f":"IF(K43=\"\",\"\",IF(K43>Inputs!$D$9,0,1))","v":1},{"$f":"IF(L43=\"\",\"\",IF(L43>Inputs!$D$9,0,1))","v":1},{"$f":"IF(M43=\"\",\"\",IF(M43>Inputs!$D$9,0,1))","v":1},{"$f":"IF(N43=\"\",\"\",IF(N43>Inputs!$D$9,0,1))","v":1},{"$f":"IF(O43=\"\",\"\",IF(O43>Inputs!$D$9,0,1))","v":1},{"$f":"IF(COUNT(P43:U43)=0,\"\",INDEX(Inputs!$O$21:$P$26,MATCH(COUNT(P43:U43),Inputs!$O$21:$O$26,0),2))","v":20},1,null,null,{"$f":"IF(D43=\"\",\"\",IF(D43=\"-\",\"\",IF(D43>AVERAGE($D$2:$D$1000),1,0)))","v":1},1,1,1,1,1,1]
[{"$f":"'SIP Returns'!B45","v":0},null,{"$f":"'SIP Returns'!D45","v":0},{"$f":"'SIP Returns'!E45","v":0},{"$f":"'SIP Returns'!F45","v":0},{"$f":"'SIP Returns'!G45","v":0},{"$f":"'SIP Returns'!H45","v":0},{"$f":"'SIP Returns'!I45","v":0},{"$f":"'SIP Returns'!J45","v":0},1,10,8,4,1,1,{"$f":"IF(J44=\"\",\"\",IF(J44>Inputs!$D$9,0,1))","v":1},{"$f":"IF(K44=\"\",\"\",IF(K44>Inputs!$D$9,0,1))","v":1},{"$f":"IF(L44=\"\",\"\",IF(L44>Inputs!$D$9,0,1))","v":1},{"$f":"IF(M44=\"\",\"\",IF(M44>Inputs!$D$9,0,1))","v":1},{"$f":"IF(N44=\"\",\"\",IF(N44>Inputs!$D$9,0,1))","v":1},{"$f":"IF(O44=\"\",\"\",IF(O44>Inputs!$D$9,0,1))","v":1},{"$f":"IF(COUNT(P44:U44)=0,\"\",INDEX(Inputs!$O$21:$P$26,MATCH(COUNT(P44:U44),Inputs!$O$21:$O$26,0),2))","v":20},1,null,null,{"$f":"IF(D44=\"\",\"\",IF(D44=\"-\",\"\",IF(D44>AVERAGE($D$2:$D$1000),1,0)))","v":1},1,1,1,1,1,1]
[{"$f":"'SIP Returns'!B46","v":0},null,{"$f":"'SIP Returns'!D46","v":0},{"$f":"'SIP Returns'!E46","v":0},{"$f":"'SIP Returns'!F46","v":0},{"$f":"'SIP Returns'!G46","v":0},{"$f":"'SIP Returns'!H46","v":0},{"$f":"'SIP Returns'!I46","v":0},{"$f":"'SIP Returns'!J46","v":0},1,10,8,4,1,1,{"$f":"IF(J45=\"\",\"\",IF(J45>Inputs!$D$9,0,1))","v":1},{"$f":"IF(K45=\"\",\"\",IF(K45>Inputs!$D$9,0,1))","v":1},{"$f":"IF(L45=\"\",\"\",IF(L45>Inputs!$D$9,0,1))","v":1},{"$f":"IF(M45=\"\",\"\",IF(M45>Inputs!$D$9,0,1))","v":1},{"$f":"IF(N45=\"\",\"\",IF(N45>Inputs!$D$9,0,1))","v":1},{"$f":"IF(O45=\"\",\"\",IF(O45>Inputs!$D$9,0,1))","v":1},{"$f":"IF(COUNT(P45:U45)=0,\"\",INDEX(Inputs!$O$21:$P$26,MATCH(COUNT(P45:U45),Inputs!$O$21:$O$26,0),2))","v":20},1,null,null,{"$f":"IF(D45=\"\",\"\",IF(D45=\"-\",\"\",IF(D45>AVERAGE($D$2:$D$1000),1,0)))","v":1},1,1,1,1,1,1]
[{"$f":"'SIP Returns'!B47","v":0},null,{"$f":"'SIP Returns'!D47","v":0},{"$f":"'SIP Returns'!E47","v":0},{"$f":"'SIP Returns'!F47","v":0},{"$f":"'SIP Returns'!G47","v":0},{"$f":"'SIP Returns'!H47","v":0},{"$f":"'SIP Returns'!I47","v":0},{"$f":"'SIP Returns'!J47","v":0},1,10,8,4,1,1,{"$f":"IF(J46=\"\",\"\",IF(J46>Inputs!$D$9,0,1))","v":1},{"$f":"IF(K46=\"\",\"\",IF(K46>Inputs!$D$9,0,1))","v":1},{"$f":"IF(L46=\"\",\"\",IF(L46>Inputs!$D$9,0,1))","v":1},{"$f":"IF(M46=\"\",\"\",IF(M46>Inputs!$D$9,0,1))","v":1},{"$f":"IF(N46=\"\",\"\",IF(N46>Inputs!$D$9,0,1))","v":1},{"$f":"IF(O46=\"\",\"\",IF(O46>Inputs!$D$9,0,1))","v":1},{"$f":"IF(COUNT(P46:U46)=0,\"\",INDEX(Inputs!$O$21:$P$26,MATCH(COUNT(P46:U46),Inputs!$O$21:$O$26,0),2))","v":20},1,null,null,{"$f":"IF(D46=\"\",\"\",IF(D46=\"-\",\"\",IF(D46>AVERAGE($D$2:$D$1000),1,0)))","v":1},1,1,1,1,1,1]
[{"$f":"'SIP Returns'!B48","v":0},null,{"$f":"'SIP Returns'!D48","v":0},{"$f":"'SIP Returns'!E48","v":0},{"$f":"'SIP Returns'!F48","v":0},{"$f":"'SIP Returns'!G48","v":0},{"$f":"'SIP Returns'!H48","v":0},{"$f":"'SIP Returns'!I48","v":0},{"$f":"'SIP Returns'!J48","v":0},1,10,8,4,1,1,{"$f":"IF(J47=\"\",\"\",IF(J47>Inputs!$D$9,0,1))","v":1},{"$f":"IF(K47=\"\",\"\",IF(K47>Inputs!$D$9,0,1))","v":1},{"$f":"IF(L47=\"\",\"\",IF(L47>Inputs!$D$9,0,1))","v":1},{"$f":"IF(M47=\"\",\"\",IF(M47>Inputs!$D$9,0,1))","v":1},{"$f":"IF(N47=\"\",\"\",IF(N47>Inputs!$D$9,0,1))","v":1},{"$f":"IF(O47=\"\",\"\",IF(O47>Inputs!$D$9,0,1))","v":1},{"$f":"IF(COUNT(P47:U47)=0,\"\",INDEX(Inputs!$O$21:$P$26,MATCH(COUNT(P47:U47),Inputs!$O$21:$O$26,0),2))","v":20},1,null,null,{"$f":"IF(D47=\"\",\"\",IF(D47=\"-\",\"\",IF(D47>AVERAGE($D$2:$D$1000),1,0)))","v":1},1,1,1,1,1,1]
[{"$f":"'SIP Returns'!B49","v":0},null,{"$f":"'SIP Returns'!D49","v":0},{"$f":"'SIP Returns'!E49","v":0},{"$f":"'SIP Returns'!F49","v":0},{"$f":"'SIP Returns'!G49","v":0},{"$f":"'SIP Returns'!H49","v":0},{"$f":"'SIP Returns'!I49","v":0},{"$f":"'SIP Returns'!J49","v":0},1,10,8,4,1,1,{"$f":"IF(J48=\"\",\"\",IF(J48>Inputs!$D$9,0,1))","v":1},{"$f":"IF(K48=\"\",\"\",IF(K48>Inputs!$D$9,0,1))","v":1},{"$f":"IF(L48=\"\",\"\",IF(L48>Inputs!$D$9,0,1))","v":1},{"$f":"IF(M48=\"\",\"\",IF(M48>Inputs!$D$9,0,1))","v":1},{"$f":"IF(N48=\"\",\"\",IF(N48>Inputs!$D$9,0,1))","v":1},{"$f":"IF(O48=\"\",\"\",IF(O48>Inputs!$D$9,0,1))","v":1},{"$f":"IF(COUNT(P48:U48)=0,\"\",INDEX(Inputs!$O$21:$P$26,MATCH(COUNT(P48:U48),Inputs!$O$21:$O$26,0),2))","v":20},1,null,null,{"$f":"IF(D48=\"\",\"\",IF(D48=\"-\",\"\",IF(D48>AVERAGE($D$2:$D$1000),1,0)))","v":1},1,1,1,1,1,1]
[{"$f":"'SIP Returns'!B50","v":0},null,{"$f":"'SIP Returns'!D50","v":0},{"$f":"'SIP Returns'!E50","v":0},{"$f":"'SIP Returns'!F50","v":0},{"$f":"'SIP Returns'!G50","v":0},{"$f":"'SIP Returns'!H50","v":0},{"$f":"'SIP Returns'!I50","v":0},{"$f":"'SIP Returns'!J50","v":0},1,10,8,4,1,1,{"$f":"IF(J49=\"\",\"\",IF(J49>Inputs!$D$9,0,1))","v":1},{"$f":"IF(K49=\"\",\"\",IF(K49>Inputs!$D$9,0,1))","v":1},{"$f":"IF(L49=\"\",\"\",IF(L49>Inputs!$D$9,0,1))","v":1},{"$f":"IF(M49=\"\",\"\",IF(M49>Inputs!$D$9,0,1))","v":1},{"$f":"IF(N49=\"\",\"\",IF(N49>Inputs!$D$9,0,1))","v":1},{"$f":"IF(O49=\"\",\"\",IF(O49>Inputs!$D$9,0,1))","v":1},{"$f":"IF(COUNT(P49:U49)=0,\"\",INDEX(Inputs!$O$21:$P$26,MATCH(COUNT(P49:U49),Inputs!$O$21:$O$26,0),2))","v":20},1,null,null,{"$f":"IF(D49=\"\",\"\",IF(D49=\"-\",\"\",IF(D49>AVERAGE($D$2:$D$1000),1,0)))","v":1},1,1,1,1,1,1]
[{"$f":"'SIP Returns'!B51","v":0},null,{"$f":"'SIP Returns'!D51","v":0},{"$f":"'SIP Returns'!E51","v":0},{"$f":"'SIP Returns'!F51","v":0},{"$f":"'SIP Returns'!G51","v":0},{"$f":"'SIP Returns'!H51","v":0},{"$f":"'SIP Returns'!I51","v":0},{"$f":"'SIP Returns'!J51","v":0},1,10,8,4,1,1,{"$f":"IF(J50=\"\",\"\",IF(J50>Inputs!$D$9,0,1))","v":1},{"$f":"IF(K50=\"\",\"\",IF(K50>Inputs!$D$9,0,1))","v":1},{"$f":"IF(L50=\"\",\"\",IF(L50>Inputs!$D$9,0,1))","v":1},{"$f":"IF(M50=\"\",\"\",IF(M50>Inputs!$D$9,0,1))","v":1},{"$f":"IF(N50=\"\",\"\",IF(N50>Inputs!$D$9,0,1))","v":1},{"$f":"IF(O50=\"\",\"\",IF(O50>Inputs!$D$9,0,1))","v":1},{"$f":"IF(COUNT(P50:U50)=0,\"\",INDEX(Inputs!$O$21:$P$26,MATCH(COUNT(P50:U50),Inputs!$O$21:$O$26,0),2))","v":20},1,null,null,{"$f":"IF(D50=\"\",\"\",IF(D50=\"-\",\"\",IF(D50>AVERAGE($D$2:$D$1000),1,0)))","v":1},1,1,1,1,1,1]
[{"$f":"'SIP Returns'!B52","v":0},null,{"$f":"'SIP Returns'!D52","v":0},{"$f":"'SIP Returns'!E52","v":0},{"$f":"'SIP Returns'!F52","v":0},{"$f":"'SIP Returns'!G52","v":0},{"$f":"'SIP Returns'!H52","v":0},{"$f":"'SIP Returns'!I52","v":0},{"$f":"'SIP Returns'!J52","v":0},1,10,8,4,1,1,{"$f":"IF(J51=\"\",\"\",IF(J51>Inputs!$D$9,0,1))","v":1},{"$f":"IF(K51=\"\",\"\",IF(K51>Inputs!$D$9,0,1))","v":1},{"$f":"IF(L51=\"\",\"\",IF(L51>Inputs!$D$9,0,1))","v":1},{"$f":"IF(M51=\"\",\"\",IF(M51>Inputs!$D$9,0,1))","v":1},{"$f":"IF(N51=\"\",\"\",IF(N51>Inputs!$D$9,0,1))","v":1},{"$f":"IF(O51=\"\",\"\",IF(O51>Inputs!$D$9,0,1))","v":1},{"$f":"IF(COUNT(P51:U51)=0,\"\",INDEX(Inputs!$O$21:$P$26,MATCH(COUNT(P51:U51),Inputs!$O$21:$O$26,0),2))","v":20},1,null,null,{"$f":"IF(D51=\"\",\"\",IF(D51=\"-\",\"\",IF(D51>AVERAGE($D$2:$D$1000),1,0)))","v":1},1,1,1,1,1,1]
[{"$f":"'SIP Returns'!B53","v":0},null,{"$f":"'SIP Returns'!D53","v":0},{"$f":"'SIP Returns'!E53","v":0},{"$f":"'SIP Returns'!F53","v":0},{"$f":"'SIP Returns'!G53","v":0},{"$f":"'SIP Returns'!H53","v":0},{"$f":"'SIP Returns'!I53","v":0},{"$f":"'SIP Returns'!J53","v":0},1,10,8,4,1,1,{"$f":"IF(J52=\"\",\"\",IF(J52>Inputs!$D$9,0,1))","v":1},{"$f":"IF(K52=\"\",\"\",IF(K52>Inputs!$D$9,0,1))","v":1},{"$f":"IF(L52=\"\",\"\",IF(L52>Inputs!$D$9,0,1))","v":1},{"$f":"IF(M52=\"\",\"\",IF(M52>Inputs!$D$9,0,1))","v":1},{"$f":"IF(N52=\"\",\"\",IF(N52>Inputs!$D$9,0,1))","v":1},{"$f":"IF(O52=\"\",\"\",IF(O52>Inputs!$D$9,0,1))","v":1},{"$f":"IF(COUNT(P52:U52)=0,\"\",INDEX(Inputs!$O$21:$P$26,MATCH(COUNT(P52:U52),Inputs!$O$21:$O$26,0),2))","v":20},1,null,null,{"$f":"IF(D52=\"\",\"\",IF(D52=\"-\",\"\",IF(D52>AVERAGE($D$2:$D$1000),1,0)))","v":1},1,1,1,1,1,1]
[{"$f":"'SIP Returns'!B54","v":0},null,{"$f":"'SIP Returns'!D54","v":0},{"$f":"'SIP Returns'!E54","v":0},{"$f":"'SIP Returns'!F54","v":0},{"$f":"'SIP Returns'!G54","v":0},{"$f":"'SIP Returns'!H54","v":0},{"$f":"'SIP Returns'!I54","v":0},{"$f":"'SIP Returns'!J54","v":0},1,10,8,4,1,1,{"$f":"IF(J53=\"\",\"\",IF(J53>Inputs!$D$9,0,1))","v":1},{"$f":"IF(K53=\"\",\"\",IF(K53>Inputs!$D$9,0,1))","v":1},{"$f":"IF(L53=\"\",\"\",IF(L53>Inputs!$D$9,0,1))","v":1},{"$f":"IF(M53=\"\",\"\",IF(M53>Inputs!$D$9,0,1))","v":1},{"$f":"IF(N53=\"\",\"\",IF(N53>Inputs!$D$9,0,1))","v":1},{"$f":"IF(O53=\"\",\"\",IF(O53>Inputs!$D$9,0,1))","v":1},{"$f":"IF(COUNT(P53:U53)=0,\"\",INDEX(Inputs!$O$21:$P$26,MATCH(COUNT(P53:U53),Inputs!$O$21:$O$26,0),2))","v":20},1,null,null,{"$f":"IF(D53=\"\",\"\",IF(D53=\"-\",\"\",IF(D53>AVERAGE($D$2:$D$1000),1,0)))","v":1},1,1,1,1,1,1]
[{"$f":"'SIP Returns'!B55","v":0},null,{"$f":"'SIP Returns'!D55","v":0},{"$f":"'SIP Returns'!E55","v":0},{"$f":"'SIP Returns'!F55","v":0},{"$f":"'SIP Returns'!G55","v":0},{"$f":"'SIP Returns'!H55","v":0},{"$f":"'SIP Returns'!I55","v":0},{"$f":"'SIP Returns'!J55","v":0},1,10,8,4,1,1,{"$f":"IF(J54=\"\",\"\",IF(J54>Inputs!$D$9,0,1))","v":1},{"$f":"IF(K54=\"\",\"\",IF(K54>Inputs!$D$9,0,1))","v":1},{"$f":"IF(L54=\"\",\"\",IF(L54>Inputs!$D$9,0,1))","v":1},{"$f":"IF(M54=\"\",\"\",IF(M54>Inputs!$D$9,0,1))","v":1},{"$f":"IF(N54=\"\",\"\",IF(N54>Inputs!$D$9,0,1))","v":1},{"$f":"IF(O54=\"\",\"\",IF(O54>Inputs!$D$9,0,1))","v":1},{"$f":"IF(COUNT(P54:U54)=0,\"\",INDEX(Inputs!$O$21:$P$26,MATCH(COUNT(P54:U54),Inputs!$O$21:$O$26,0),2))","v":20},1,null,null,{"$f":"IF(D54=\"\",\"\",IF(D54=\"-\",\"\",IF(D54>AVERAGE($D$2:$D$1000),1,0)))","v":1},1,1,1,1,1,1]
[{"$f":"'SIP Returns'!B56","v":0},null,{"$f":"'SIP Returns'!D56","v":0},{"$f":"'SIP Returns'!E56","v":0},{"$f":"'SIP Returns'!F56","v":0},{"$f":"'SIP Returns'!G56","v":0},{"$f":"'SIP Returns'!H56","v":0},{"$f":"'SIP Returns'!I56","v":0},{"$f":"'SIP Returns'!J56","v":0},1,10,8,4,1,1,{"$f":"IF(J55=\"\",\"\",IF(J55>Inputs!$D$9,0,1))","v":1},{"$f":"IF(K55=\"\",\"\",IF(K55>Inputs!$D$9,0,1))","v":1},{"$f":"IF(L55=\"\",\"\",IF(L55>Inputs!$D$9,0,1))","v":1},{"$f":"IF(M55=\"\",\"\",IF(M55>Inputs!$D$9,0,1))","v":1},{"$f":"IF(N55=\"\",\"\",IF(N55>Inputs!$D$9,0,1))","v":1},{"$f":"IF(O55=\"\",\"\",IF(O55>Inputs!$D$9,0,1))","v":1},{"$f":"IF(COUNT(P55:U55)=0,\"\",INDEX(Inputs!$O$21:$P$26,MATCH(COUNT(P55:U55),Inputs!$O$21:$O$26,0),2))","v":20},1,null,null,{"$f":"IF(D55=\"\",\"\",IF(D55=\"-\",\"\",IF(D55>AVERAGE($D$2:$D$1000),1,0)))","v":1},1,1,1,1,1,1]
[{"$f":"'SIP Returns'!B57","v":0},null,{"$f":"'SIP Returns'!D57","v":0},{"$f":"'SIP Returns'!E57","v":0},{"$f":"'SIP Returns'!F57","v":0},{"$f":"'SIP Returns'!G57","v":0},{"$f":"'SIP Returns'!H57","v":0},{"$f":"'SIP Returns'!I57","v":0},{"$f":"'SIP Returns'!J57","v":0},1,10,8,4,1,1,{"$f":"IF(J56=\"\",\"\",IF(J56>Inputs!$D$9,0,1))","v":1},{"$f":"IF(K56=\"\",\"\",IF(K56>Inputs!$D$9,0,1))","v":1},{"$f":"IF(L56=\"\",\"\",IF(L56>Inputs!$D$9,0,1))","v":1},{"$f":"IF(M56=\"\",\"\",IF(M56>Inputs!$D$9,0,1))","v":1},{"$f":"IF(N56=\"\",\"\",IF(N56>Inputs!$D$9,0,1))","v":1},{"$f":"IF(O56=\"\",\"\",IF(O56>Inputs!$D$9,0,1))","v":1},{"$f":"IF(COUNT(P56:U56)=0,\"\",INDEX(Inputs!$O$21:$P$26,MATCH(COUNT(P56:U56),Inputs!$O$21:$O$26,0),2))","v":20},1,null,null,{"$f":"IF(D56=\"\",\"\",IF(D56=\"-\",\"\",IF(D56>AVERAGE($D$2:$D$1000),1,0)))","v":1},1,1,1,1,1,1]
[{"$f":"'SIP Returns'!B58","v":0},null,{"$f":"'SIP Returns'!D58","v":0},{"$f":"'SIP Returns'!E58","v":0},{"$f":"'SIP Returns'!F58","v":0},{"$f":"'SIP Returns'!G58","v":0},{"$f":"'SIP Returns'!H58","v":0},{"$f":"'SIP Returns'!I58","v":0},{"$f":"'SIP Returns'!J58","v":0},1,10,8,4,1,1,{"$f":"IF(J57=\"\",\"\",IF(J57>Inputs!$D$9,0,1))","v":1},{"$f":"IF(K57=\"\",\"\",IF(K57>Inputs!$D$9,0,1))","v":1},{"$f":"IF(L57=\"\",\"\",IF(L57>Inputs!$D$9,0,1))","v":1},{"$f":"IF(M57=\"\",\"\",IF(M57>Inputs!$D$9,0,1))","v":1},{"$f":"IF(N57=\"\",\"\",IF(N57>Inputs!$D$9,0,1))","v":1},{"$f":"IF(O57=\"\",\"\",IF(O57>Inputs!$D$9,0,1))","v":1},{"$f":"IF(COUNT(P57:U57)=0,\"\",INDEX(Inputs!$O$21:$P$26,MATCH(COUNT(P57:U57),Inputs!$O$21:$O$26,0),2))","v":20},1,null,null,{"$f":"IF(D57=\"\",\"\",IF(D57=\"-\",\"\",IF(D57>AVERAGE($D$2:$D$1000),1,0)))","v":1},1,1,1,1,1,1]
[{"$f":"'SIP Returns'!B59","v":0},null,{"$f":"'SIP Returns'!D59","v":0},{"$f":"'SIP Returns'!E59","v":0},{"$f":"'SIP Returns'!F59","v":0},{"$f":"'SIP Returns'!G59","v":0},{"$f":"'SIP Returns'!H59","v":0},{"$f":"'SIP Returns'!I59","v":0},{"$f":"'SIP Returns'!J59","v":0},1,10,8,4,1,1,{"$f":"IF(J58=\"\",\"\",IF(J58>Inputs!$D$9,0,1))","v":1},{"$f":"IF(K58=\"\",\"\",IF(K58>Inputs!$D$9,0,1))","v":1},{"$f":"IF(L58=\"\",\"\",IF(L58>Inputs!$D$9,0,1))","v":1},{"$f":"IF(M58=\"\",\"\",IF(M58>Inputs!$D$9,0,1))","v":1},{"$f":"IF(N58=\"\",\"\",IF(N58>Inputs!$D$9,0,1))","v":1},{"$f":"IF(O58=\"\",\"\",IF(O58>Inputs!$D$9,0,1))","v":1},{"$f":"IF(COUNT(P58:U58)=0,\"\",INDEX(Inputs!$O$21:$P$26,MATCH(COUNT(P58:U58),Inputs!$O$21:$O$26,0),2))","v":20},1,null,null,{"$f":"IF(D58=\"\",\"\",IF(D58=\"-\",\"\",IF(D58>AVERAGE($D$2:$D$1000),1,0)))","v":1},1,1,1,1,1,1]
[{"$f":"'SIP Returns'!B60","v":0},null,{"$f":"'SIP Returns'!D60","v":0},{"$f":"'SIP Returns'!E60","v":0},{"$f":"'SIP Returns'!F60","v":0},{"$f":"'SIP Returns'!G60","v":0},{"$f":"'SIP Returns'!H60","v":0},{"$f":"'SIP Returns'!I60","v":0},{"$f":"'SIP Returns'!J60","v":0},1,10,8,4,1,1,{"$f":"IF(J59=\"\",\"\",IF(J59>Inputs!$D$9,0,1))","v":1},{"$f":"IF(K59=\"\",\"\",IF(K59>Inputs!$D$9,0,1))","v":1},{"$f":"IF(L59=\"\",\"\",IF(L59>Inputs!$D$9,0,1))","v":1},{"$f":"IF(M59=\"\",\"\",IF(M59>Inputs!$D$9,0,1))","v":1},{"$f":"IF(N59=\"\",\"\",IF(N59>Inputs!$D$9,0,1))","v":1},{"$f":"IF(O59=\"\",\"\",IF(O59>Inputs!$D$9,0,1))","v":1},{"$f":"IF(COUNT(P59:U59)=0,\"\",INDEX(Inputs!$O$21:$P$26,MATCH(COUNT(P59:U59),Inputs!$O$21:$O$26,0),2))","v":20},1,null,null,{"$f":"IF(D59=\"\",\"\",IF(D59=\"-\",\"\",IF(D59>AVERAGE($D$2:$D$1000),1,0)))","v":1},1,1,1,1,1,1]
[{"$f":"'SIP Returns'!B61","v":0},null,{"$f":"'SIP Returns'!D61","v":0},{"$f":"'SIP Returns'!E61","v":0},{"$f":"'SIP Returns'!F61","v":0},{"$f":"'SIP Returns'!G61","v":0},{"$f":"'SIP Returns'!H61","v":0},{"$f":"'SIP Returns'!I61","v":0},{"$f":"'SIP Returns'!J61","v":0},1,10,8,4,1,1,{"$f":"IF(J60=\"\",\"\",IF(J60>Inputs!$D$9,0,1))","v":1},{"$f":"IF(K60=\"\",\"\",IF(K60>Inputs!$D$9,0,1))","v":1},{"$f":"IF(L60=\"\",\"\",IF(L60>Inputs!$D$9,0,1))","v":1},{"$f":"IF(M60=\"\",\"\",IF(M60>Inputs!$D$9,0,1))","v":1},{"$f":"IF(N60=\"\",\"\",IF(N60>Inputs!$D$9,0,1))","v":1},{"$f":"IF(O60=\"\",\"\",IF(O60>Inputs!$D$9,0,1))","v":1},{"$f":"IF(COUNT(P60:U60)=0,\"\",INDEX(Inputs!$O$21:$P$26,MATCH(COUNT(P60:U60),Inputs!$O$21:$O$26,0),2))","v":20},1,null,null,{"$f":"IF(D60=\"\",\"\",IF(D60=\"-\",\"\",IF(D60>AVERAGE($D$2:$D$1000),1,0)))","v":1},1,1,1,1,1,1]
[{"$f":"'SIP Returns'!B62","v":0},null,{"$f":"'SIP Returns'!D62","v":0},{"$f":"'SIP Returns'!E62","v":0},{"$f":"'SIP Returns'!F62","v":0},{"$f":"'SIP Returns'!G62","v":0},{"$f":"'SIP Returns'!H62","v":0},{"$f":"'SIP Returns'!I62","v":0},{"$f":"'SIP Returns'!J62","v":0},1,10,8,4,1,1,{"$f":"IF(J61=\"\",\"\",IF(J61>Inputs!$D$9,0,1))","v":1},{"$f":"IF(K61=\"\",\"\",IF(K61>Inputs!$D$9,0,1))","v":1},{"$f":"IF(L61=\"\",\"\",IF(L61>Inputs!$D$9,0,1))","v":1},{"$f":"IF(M61=\"\",\"\",IF(M61>Inputs!$D$9,0,1))","v":1},{"$f":"IF(N61=\"\",\"\",IF(N61>Inputs!$D$9,0,1))","v":1},{"$f":"IF(O61=\"\",\"\",IF(O61>Inputs!$D$9,0,1))","v":1},{"$f":"IF(COUNT(P61:U61)=0,\"\",INDEX(Inputs!$O$21:$P$26,MATCH(COUNT(P61:U61),Inputs!$O$21:$O$26,0),2))","v":20},1,null,null,{"$f":"IF(D61=\"\",\"\",IF(D61=\"-\",\"\",IF(D61>AVERAGE($D$2:$D$1000),1,0)))","v":1},1,1,1,1,1,1]
[{"$f":"'SIP Returns'!B63","v":0},null,{"$f":"'SIP Returns'!D63","v":0},{"$f":"'SIP Returns'!E63","v":0},{"$f":"'SIP Returns'!F63","v":0},{"$f":"'SIP Returns'!G63","v":0},{"$f":"'SIP Returns'!H63","v":0},{"$f":"'SIP Returns'!I63","v":0},{"$f":"'SIP Returns'!J63","v":0},1,10,8,4,1,1,{"$f":"IF(J62=\"\",\"\",IF(J62>Inputs!$D$9,0,1))","v":1},{"$f":"IF(K62=\"\",\"\",IF(K62>Inputs!$D$9,0,1))","v":1},{"$f":"IF(L62=\"\",\"\",IF(L62>Inputs!$D$9,0,1))","v":1},{"$f":"IF(M62=\"\",\"\",IF(M62>Inputs!$D$9,0,1))","v":1},{"$f":"IF(N62=\"\",\"\",IF(N62>Inputs!$D$9,0,1))","v":1},{"$f":"IF(O62=\"\",\"\",IF(O62>Inputs!$D$9,0,1))","v":1},{"$f":"IF(COUNT(P62:U62)=0,\"\",INDEX(Inputs!$O$21:$P$26,MATCH(COUNT(P62:U62),Inputs!$O$21:$O$26,0),2))","v":20},1,null,null,{"$f":"IF(D62=\"\",\"\",IF(D62=\"-\",\"\",IF(D62>AVERAGE($D$2:$D$1000),1,0)))","v":1},1,1,1,1,1,1]
[{"$f":"'SIP Returns'!B64","v":0},null,{"$f":"'SIP Returns'!D64","v":0},{"$f":"'SIP Returns'!E64","v":0},{"$f":"'SIP Returns'!F64","v":0},{"$f":"'SIP Returns'!G64","v":0},{"$f":"'SIP Returns'!H64","v":0},{"$f":"'SIP Returns'!I64","v":0},{"$f":"'SIP Returns'!J64","v":0},1,10,8,4,1,1,{"$f":"IF(J63=\"\",\"\",IF(J63>Inputs!$D$9,0,1))","v":1},{"$f":"IF(K63=\"\",\"\",IF(K63>Inputs!$D$9,0,1))","v":1},{"$f":"IF(L63=\"\",\"\",IF(L63>Inputs!$D$9,0,1))","v":1},{"$f":"IF(M63=\"\",\"\",IF(M63>Inputs!$D$9,0,1))","v":1},{"$f":"IF(N63=\"\",\"\",IF(N63>Inputs!$D$9,0,1))","v":1},{"$f":"IF(O63=\"\",\"\",IF(O63>Inputs!$D$9,0,1))","v":1},{"$f":"IF(COUNT(P63:U63)=0,\"\",INDEX(Inputs!$O$21:$P$26,MATCH(COUNT(P63:U63),Inputs!$O$21:$O$26,0),2))","v":20},1,null,null,{"$f":"IF(D63=\"\",\"\",IF(D63=\"-\",\"\",IF(D63>AVERAGE($D$2:$D$1000),1,0)))","v":1},1,1,1,1,1,1]
[{"$f":"'SIP Returns'!B65","v":0},null,{"$f":"'SIP Returns'!D65","v":0},{"$f":"'SIP Returns'!E65","v":0},{"$f":"'SIP Returns'!F65","v":0},{"$f":"'SIP Returns'!G65","v":0},{"$f":"'SIP Returns'!H65","v":0},{"$f":"'SIP Returns'!I65","v":0},{"$f":"'SIP Returns'!J65","v":0},1,10,8,4,1,1,{"$f":"IF(J64=\"\",\"\",IF(J64>Inputs!$D$9,0,1))","v":1},{"$f":"IF(K64=\"\",\"\",IF(K64>Inputs!$D$9,0,1))","v":1},{"$f":"IF(L64=\"\",\"\",IF(L64>Inputs!$D$9,0,1))","v":1},{"$f":"IF(M64=\"\",\"\",IF(M64>Inputs!$D$9,0,1))","v":1},{"$f":"IF(N64=\"\",\"\",IF(N64>Inputs!$D$9,0,1))","v":1},{"$f":"IF(O64=\"\",\"\",IF(O64>Inputs!$D$9,0,1))","v":1},{"$f":"IF(COUNT(P64:U64)=0,\"\",INDEX(Inputs!$O$21:$P$26,MATCH(COUNT(P64:U64),Inputs!$O$21:$O$26,0),2))","v":20},1,null,null,{"$f":"IF(D64=\"\",\"\",IF(D64=\"-\",\"\",IF(D64>AVERAGE($D$2:$D$1000),1,0)))","v":1},1,1,1,1,1,1]
[{"$f":"'SIP Returns'!B66","v":0},null,{"$f":"'SIP Returns'!D66","v":0},{"$f":"'SIP Returns'!E66","v":0},{"$f":"'SIP Returns'!F66","v":0},{"$f":"'SIP Returns'!G66","v":0},{"$f":"'SIP Returns'!H66","v":0},{"$f":"'SIP Returns'!I66","v":0},{"$f":"'SIP Returns'!J66","v":0},1,10,8,4,1,1,{"$f":"IF(J65=\"\",\"\",IF(J65>Inputs!$D$9,0,1))","v":1},{"$f":"IF(K65=\"\",\"\",IF(K65>Inputs!$D$9,0,1))","v":1},{"$f":"IF(L65=\"\",\"\",IF(L65>Inputs!$D$9,0,1))","v":1},{"$f":"IF(M65=\"\",\"\",IF(M65>Inputs!$D$9,0,1))","v":1},{"$f":"IF(N65=\"\",\"\",IF(N65>Inputs!$D$9,0,1))","v":1},{"$f":"IF(O65=\"\",\"\",IF(O65>Inputs!$D$9,0,1))","v":1},{"$f":"IF(COUNT(P65:U65)=0,\"\",INDEX(Inputs!$O$21:$P$26,MATCH(COUNT(P65:U65),Inputs!$O$21:$O$26,0),2))","v":20},1,null,null,{"$f":"IF(D65=\"\",\"\",IF(D65=\"-\",\"\",IF(D65>AVERAGE($D$2:$D$1000),1,0)))","v":1},1,1,1,1,1,1]
[{"$f":"'SIP Returns'!B67","v":0},null,{"$f":"'SIP Returns'!D67","v":0},{"$f":"'SIP Returns'!E67","v":0},{"$f":"'SIP Returns'!F67","v":0},{"$f":"'SIP Returns'!G67","v":0},{"$f":"'SIP Returns'!H67","v":0},{"$f":"'SIP Returns'!I67","v":0},{"$f":"'SIP Returns'!J67","v":0},{"$f":"IF($A66=\"\",\"\",IF(ISERROR(RANK(D66,$D$2:$D$1000,0)),\"\",RANK(D66,$D$2:$D$1000,0)))","v":1},{"$f":"IF($A66=\"\",\"\",IF(ISERROR(RANK(E66,$E$2:$E$1000,0)),\"\",RANK(E66,$E$2:$E$1000,0)))","v":10},{"$f":"IF($A66=\"\",\"\",IF(ISERROR(RANK(F66,$F$2:$F$1000,0)),\"\",RANK(F66,$F$2:$F$1000,0)))","v":8},{"$f":"IF($A66=\"\",\"\",IF(ISERROR(RANK(G66,$G$2:$G$1000,0)),\"\",RANK(G66,$G$2:$G$1000,0)))","v":4},{"$f":"IF($A66=\"\",\"\",IF(ISERROR(RANK(H66,$H$2:$H$1000,0)),\"\",RANK(H66,$H$2:$H$1000,0)))","v":1},{"$f":"IF($A66=\"\",\"\",IF(ISERROR(RANK(I66,$I$2:$I$1000,0)),\"\",RANK(I66,$I$2:$I$1000,0)))","v":1},{"$f":"IF(J66=\"\",\"\",IF(J66>Inputs!$D$9,0,1))","v":1},{"$f":"IF(K66=\"\",\"\",IF(K66>Inputs!$D$9,0,1))","v":1},{"$f":"IF(L66=\"\",\"\",IF(L66>Inputs!$D$9,0,1))","v":1},{"$f":"IF(M66=\"\",\"\",IF(M66>Inputs!$D$9,0,1))","v":1},{"$f":"IF(N66=\"\",\"\",IF(N66>Inputs!$D$9,0,1))","v":1},{"$f":"IF(O66=\"\",\"\",IF(O66>Inputs!$D$9,0,1))","v":1},{"$f":"IF(COUNT(P66:U66)=0,\"\",INDEX(Inputs!$O$21:$P$26,MATCH(COUNT(P66:U66),Inputs!$O$21:$O$26,0),2))","v":20},1,null,null,{"$f":"IF(D66=\"\",\"\",IF(D66=\"-\",\"\",IF(D66>AVERAGE($D$2:$D$1000),1,0)))","v":1},1,1,1,1,1,{"$f":"IF(COUNT(Z66:AE66)=0,\"\",SUM(Z66:AE66)/COUNT(Z66:AE66))","v":1}]
[{"$f":"'SIP Returns'!B68","v":0},null,{"$f":"'SIP Returns'!D68","v":0},{"$f":"'SIP Returns'!E68","v":0},{"$f":"'SIP Returns'!F68","v":0},{"$f":"'SIP Returns'!G68","v":0},{"$f":"'SIP Returns'!H68","v":0},{"$f":"'SIP Returns'!I68","v":0},{"$f":"'SIP Returns'!J68","v":0},1,10,8,4,1,1,{"$f":"IF(J67=\"\",\"\",IF(J67>Inputs!$D$9,0,1))","v":1},{"$f":"IF(K67=\"\",\"\",IF(K67>Inputs!$D$9,0,1))","v":1},{"$f":"IF(L67=\"\",\"\",IF(L67>Inputs!$D$9,0,1))","v":1},{"$f":"IF(M67=\"\",\"\",IF(M67>Inputs!$D$9,0,1))","v":1},{"$f":"IF(N67=\"\",\"\",IF(N67>Inputs!$D$9,0,1))","v":1},{"$f":"IF(O67=\"\",\"\",IF(O67>Inputs!$D$9,0,1))","v":1},{"$f":"IF(COUNT(P67:U67)=0,\"\",INDEX(Inputs!$O$21:$P$26,MATCH(COUNT(P67:U67),Inputs!$O$21:$O$26,0),2))","v":20},{"$f":"IF(COUNT(P67:U67)=0,\"\",SUM(P67:U67)/COUNT(P67:U67))","v":1},null,null,{"$f":"IF(D67=\"\",\"\",IF(D67=\"-\",\"\",IF(D67>AVERAGE($D$2:$D$1000),1,0)))","v":1},1,1,1,1,1,1]
[{"$f":"'SIP Returns'!B69","v":0},null,{"$f":"'SIP Returns'!D69","v":0},{"$f":"'SIP Returns'!E69","v":0},{"$f":"'SIP Returns'!F69","v":0},{"$f":"'SIP Returns'!G69","v":0},{"$f":"'SIP Returns'!H69","v":0},{"$f":"'SIP Returns'!I69","v":0},{"$f":"'SIP Returns'!J69","v":0},1,10,8,4,1,1,{"$f":"IF(J68=\"\",\"\",IF(J68>Inputs!$D$9,0,1))","v":1},{"$f":"IF(K68=\"\",\"\",IF(K68>Inputs!$D$9,0,1))","v":1},{"$f":"IF(L68=\"\",\"\",IF(L68>Inputs!$D$9,0,1))","v":1},{"$f":"IF(M68=\"\",\"\",IF(M68>Inputs!$D$9,0,1))","v":1},{"$f":"IF(N68=\"\",\"\",IF(N68>Inputs!$D$9,0,1))","v":1},{"$f":"IF(O68=\"\",\"\",IF(O68>Inputs!$D$9,0,1))","v":1},{"$f":"IF(COUNT(P68:U68)=0,\"\",INDEX(Inputs!$O$21:$P$26,MATCH(COUNT(P68:U68),Inputs!$O$21:$O$26,0),2))","v":20},1,null,null,{"$f":"IF(D68=\"\",\"\",IF(D68=\"-\",\"\",IF(D68>AVERAGE($D$2:$D$1000),1,0)))","v":1},1,1,1,1,1,1]
[{"$f":"'SIP Returns'!B70","v":0},null,{"$f":"'SIP Returns'!D70","v":0},{"$f":"'SIP Returns'!E70","v":0},{"$f":"'SIP Returns'!F70","v":0},{"$f":"'SIP Returns'!G70","v":0},{"$f":"'SIP Returns'!H70","v":0},{"$f":"'SIP Returns'!I70","v":0},{"$f":"'SIP Returns'!J70","v":0},1,10,8,4,1,1,{"$f":"IF(J69=\"\",\"\",IF(J69>Inputs!$D$9,0,1))","v":1},{"$f":"IF(K69=\"\",\"\",IF(K69>Inputs!$D$9,0,1))","v":1},{"$f":"IF(L69=\"\",\"\",IF(L69>Inputs!$D$9,0,1))","v":1},{"$f":"IF(M69=\"\",\"\",IF(M69>Inputs!$D$9,0,1))","v":1},{"$f":"IF(N69=\"\",\"\",IF(N69>Inputs!$D$9,0,1))","v":1},{"$f":"IF(O69=\"\",\"\",IF(O69>Inputs!$D$9,0,1))","v":1},{"$f":"IF(COUNT(P69:U69)=0,\"\",INDEX(Inputs!$O$21:$P$26,MATCH(COUNT(P69:U69),Inputs!$O$21:$O$26,0),2))","v":20},1,null,null,{"$f":"IF(D69=\"\",\"\",IF(D69=\"-\",\"\",IF(D69>AVERAGE($D$2:$D$1000),1,0)))","v":1},1,1,1,1,1,1]
[{"$f":"'SIP Returns'!B71","v":0},null,{"$f":"'SIP Returns'!D71","v":0},{"$f":"'SIP Returns'!E71","v":0},{"$f":"'SIP Returns'!F71","v":0},{"$f":"'SIP Returns'!G71","v":0},{"$f":"'SIP Returns'!H71","v":0},{"$f":"'SIP Returns'!I71","v":0},{"$f":"'SIP Returns'!J71","v":0},1,10,8,4,1,1,{"$f":"IF(J70=\"\",\"\",IF(J70>Inputs!$D$9,0,1))","v":1},{"$f":"IF(K70=\"\",\"\",IF(K70>Inputs!$D$9,0,1))","v":1},{"$f":"IF(L70=\"\",\"\",IF(L70>Inputs!$D$9,0,1))","v":1},{"$f":"IF(M70=\"\",\"\",IF(M70>Inputs!$D$9,0,1))","v":1},{"$f":"IF(N70=\"\",\"\",IF(N70>Inputs!$D$9,0,1))","v":1},{"$f":"IF(O70=\"\",\"\",IF(O70>Inputs!$D$9,0,1))","v":1},{"$f":"IF(COUNT(P70:U70)=0,\"\",INDEX(Inputs!$O$21:$P$26,MATCH(COUNT(P70:U70),Inputs!$O$21:$O$26,0),2))","v":20},1,null,null,{"$f":"IF(D70=\"\",\"\",IF(D70=\"-\",\"\",IF(D70>AVERAGE($D$2:$D$1000),1,0)))","v":1},1,1,1,1,1,1]
[{"$f":"'SIP Returns'!B72","v":0},null,{"$f":"'SIP Returns'!D72","v":0},{"$f":"'SIP Returns'!E72","v":0},{"$f":"'SIP Returns'!F72","v":0},{"$f":"'SIP Returns'!G72","v":0},{"$f":"'SIP Returns'!H72","v":0},{"$f":"'SIP Returns'!I72","v":0},{"$f":"'SIP Returns'!J72","v":0},1,10,8,4,1,1,{"$f":"IF(J71=\"\",\"\",IF(J71>Inputs!$D$9,0,1))","v":1},{"$f":"IF(K71=\"\",\"\",IF(K71>Inputs!$D$9,0,1))","v":1},{"$f":"IF(L71=\"\",\"\",IF(L71>Inputs!$D$9,0,1))","v":1},{"$f":"IF(M71=\"\",\"\",IF(M71>Inputs!$D$9,0,1))","v":1},{"$f":"IF(N71=\"\",\"\",IF(N71>Inputs!$D$9,0,1))","v":1},{"$f":"IF(O71=\"\",\"\",IF(O71>Inputs!$D$9,0,1))","v":1},{"$f":"IF(COUNT(P71:U71)=0,\"\",INDEX(Inputs!$O$21:$P$26,MATCH(COUNT(P71:U71),Inputs!$O$21:$O$26,0),2))","v":20},1,null,null,{"$f":"IF(D71=\"\",\"\",IF(D71=\"-\",\"\",IF(D71>AVERAGE($D$2:$D$1000),1,0)))","v":1},1,1,1,1,1,1]
[{"$f":"'SIP Returns'!B73","v":0},null,{"$f":"'SIP Returns'!D73","v":0},{"$f":"'SIP Returns'!E73","v":0},{"$f":"'SIP Returns'!F73","v":0},{"$f":"'SIP Returns'!G73","v":0},{"$f":"'SIP Returns'!H73","v":0},{"$f":"'SIP Returns'!I73","v":0},{"$f":"'SIP Returns'!J73","v":0},1,10,8,4,1,1,{"$f":"IF(J72=\"\",\"\",IF(J72>Inputs!$D$9,0,1))","v":1},{"$f":"IF(K72=\"\",\"\",IF(K72>Inputs!$D$9,0,1))","v":1},{"$f":"IF(L72=\"\",\"\",IF(L72>Inputs!$D$9,0,1))","v":1},{"$f":"IF(M72=\"\",\"\",IF(M72>Inputs!$D$9,0,1))","v":1},{"$f":"IF(N72=\"\",\"\",IF(N72>Inputs!$D$9,0,1))","v":1},{"$f":"IF(O72=\"\",\"\",IF(O72>Inputs!$D$9,0,1))","v":1},{"$f":"IF(COUNT(P72:U72)=0,\"\",INDEX(Inputs!$O$21:$P$26,MATCH(COUNT(P72:U72),Inputs!$O$21:$O$26,0),2))","v":20},1,null,null,{"$f":"IF(D72=\"\",\"\",IF(D72=\"-\",\"\",IF(D72>AVERAGE($D$2:$D$1000),1,0)))","v":1},1,1,1,1,1,1]
[{"$f":"'SIP Returns'!B74","v":0},null,{"$f":"'SIP Returns'!D74","v":0},{"$f":"'SIP Returns'!E74","v":0},{"$f":"'SIP Returns'!F74","v":0},{"$f":"'SIP Returns'!G74","v":0},{"$f":"'SIP Returns'!H74","v":0},{"$f":"'SIP Returns'!I74","v":0},{"$f":"'SIP Returns'!J74","v":0},1,10,8,4,1,1,{"$f":"IF(J73=\"\",\"\",IF(J73>Inputs!$D$9,0,1))","v":1},{"$f":"IF(K73=\"\",\"\",IF(K73>Inputs!$D$9,0,1))","v":1},{"$f":"IF(L73=\"\",\"\",IF(L73>Inputs!$D$9,0,1))","v":1},{"$f":"IF(M73=\"\",\"\",IF(M73>Inputs!$D$9,0,1))","v":1},{"$f":"IF(N73=\"\",\"\",IF(N73>Inputs!$D$9,0,1))","v":1},{"$f":"IF(O73=\"\",\"\",IF(O73>Inputs!$D$9,0,1))","v":1},{"$f":"IF(COUNT(P73:U73)=0,\"\",INDEX(Inputs!$O$21:$P$26,MATCH(COUNT(P73:U73),Inputs!$O$21:$O$26,0),2))","v":20},1,null,null,{"$f":"IF(D73=\"\",\"\",IF(D73=\"-\",\"\",IF(D73>AVERAGE($D$2:$D$1000),1,0)))","v":1},1,1,1,1,1,1]
[{"$f":"'SIP Returns'!B75","v":0},null,{"$f":"'SIP Returns'!D75","v":0},{"$f":"'SIP Returns'!E75","v":0},{"$f":"'SIP Returns'!F75","v":0},{"$f":"'SIP Returns'!G75","v":0},{"$f":"'SIP Returns'!H75","v":0},{"$f":"'SIP Returns'!I75","v":0},{"$f":"'SIP Returns'!J75","v":0},1,10,8,4,1,1,{"$f":"IF(J74=\"\",\"\",IF(J74>Inputs!$D$9,0,1))","v":1},{"$f":"IF(K74=\"\",\"\",IF(K74>Inputs!$D$9,0,1))","v":1},{"$f":"IF(L74=\"\",\"\",IF(L74>Inputs!$D$9,0,1))","v":1},{"$f":"IF(M74=\"\",\"\",IF(M74>Inputs!$D$9,0,1))","v":1},{"$f":"IF(N74=\"\",\"\",IF(N74>Inputs!$D$9,0,1))","v":1},{"$f":"IF(O74=\"\",\"\",IF(O74>Inputs!$D$9,0,1))","v":1},{"$f":"IF(COUNT(P74:U74)=0,\"\",INDEX(Inputs!$O$21:$P$26,MATCH(COUNT(P74:U74),Inputs!$O$21:$O$26,0),2))","v":20},1,null,null,{"$f":"IF(D74=\"\",\"\",IF(D74=\"-\",\"\",IF(D74>AVERAGE($D$2:$D$1000),1,0)))","v":1},1,1,1,1,1,1]
[{"$f":"'SIP Returns'!B76","v":0},null,{"$f":"'SIP Returns'!D76","v":0},{"$f":"'SIP Returns'!E76","v":0},{"$f":"'SIP Returns'!F76","v":0},{"$f":"'SIP Returns'!G76","v":0},{"$f":"'SIP Returns'!H76","v":0},{"$f":"'SIP Returns'!I76","v":0},{"$f":"'SIP Returns'!J76","v":0},1,10,8,4,1,1,{"$f":"IF(J75=\"\",\"\",IF(J75>Inputs!$D$9,0,1))","v":1},{"$f":"IF(K75=\"\",\"\",IF(K75>Inputs!$D$9,0,1))","v":1},{"$f":"IF(L75=\"\",\"\",IF(L75>Inputs!$D$9,0,1))","v":1},{"$f":"IF(M75=\"\",\"\",IF(M75>Inputs!$D$9,0,1))","v":1},{"$f":"IF(N75=\"\",\"\",IF(N75>Inputs!$D$9,0,1))","v":1},{"$f":"IF(O75=\"\",\"\",IF(O75>Inputs!$D$9,0,1))","v":1},{"$f":"IF(COUNT(P75:U75)=0,\"\",INDEX(Inputs!$O$21:$P$26,MATCH(COUNT(P75:U75),Inputs!$O$21:$O$26,0),2))","v":20},1,null,null,{"$f":"IF(D75=\"\",\"\",IF(D75=\"-\",\"\",IF(D75>AVERAGE($D$2:$D$1000),1,0)))","v":1},1,1,1,1,1,1]
[{"$f":"'SIP Returns'!B77","v":0},null,{"$f":"'SIP Returns'!D77","v":0},{"$f":"'SIP Returns'!E77","v":0},{"$f":"'SIP Returns'!F77","v":0},{"$f":"'SIP Returns'!G77","v":0},{"$f":"'SIP Returns'!H77","v":0},{"$f":"'SIP Returns'!I77","v":0},{"$f":"'SIP Returns'!J77","v":0},1,10,8,4,1,1,{"$f":"IF(J76=\"\",\"\",IF(J76>Inputs!$D$9,0,1))","v":1},{"$f":"IF(K76=\"\",\"\",IF(K76>Inputs!$D$9,0,1))","v":1},{"$f":"IF(L76=\"\",\"\",IF(L76>Inputs!$D$9,0,1))","v":1},{"$f":"IF(M76=\"\",\"\",IF(M76>Inputs!$D$9,0,1))","v":1},{"$f":"IF(N76=\"\",\"\",IF(N76>Inputs!$D$9,0,1))","v":1},{"$f":"IF(O76=\"\",\"\",IF(O76>Inputs!$D$9,0,1))","v":1},{"$f":"IF(COUNT(P76:U76)=0,\"\",INDEX(Inputs!$O$21:$P$26,MATCH(COUNT(P76:U76),Inputs!$O$21:$O$26,0),2))","v":20},1,null,null,{"$f":"IF(D76=\"\",\"\",IF(D76=\"-\",\"\",IF(D76>AVERAGE($D$2:$D$1000),1,0)))","v":1},1,1,1,1,1,1]
[{"$f":"'SIP Returns'!B78","v":0},null,{"$f":"'SIP Returns'!D78","v":0},{"$f":"'SIP Returns'!E78","v":0},{"$f":"'SIP Returns'!F78","v":0},{"$f":"'SIP Returns'!G78","v":0},{"$f":"'SIP Returns'!H78","v":0},{"$f":"'SIP Returns'!I78","v":0},{"$f":"'SIP Returns'!J78","v":0},1,10,8,4,1,1,{"$f":"IF(J77=\"\",\"\",IF(J77>Inputs!$D$9,0,1))","v":1},{"$f":"IF(K77=\"\",\"\",IF(K77>Inputs!$D$9,0,1))","v":1},{"$f":"IF(L77=\"\",\"\",IF(L77>Inputs!$D$9,0,1))","v":1},{"$f":"IF(M77=\"\",\"\",IF(M77>Inputs!$D$9,0,1))","v":1},{"$f":"IF(N77=\"\",\"\",IF(N77>Inputs!$D$9,0,1))","v":1},{"$f":"IF(O77=\"\",\"\",IF(O77>Inputs!$D$9,0,1))","v":1},{"$f":"IF(COUNT(P77:U77)=0,\"\",INDEX(Inputs!$O$21:$P$26,MATCH(COUNT(P77:U77),Inputs!$O$21:$O$26,0),2))","v":20},1,null,null,{"$f":"IF(D77=\"\",\"\",IF(D77=\"-\",\"\",IF(D77>AVERAGE($D$2:$D$1000),1,0)))","v":1},1,1,1,1,1,1]
[{"$f":"'SIP Returns'!B79","v":0},null,{"$f":"'SIP Returns'!D79","v":0},{"$f":"'SIP Returns'!E79","v":0},{"$f":"'SIP Returns'!F79","v":0},{"$f":"'SIP Returns'!G79","v":0},{"$f":"'SIP Returns'!H79","v":0},{"$f":"'SIP Returns'!I79","v":0},{"$f":"'SIP Returns'!J79","v":0},1,10,8,4,1,1,{"$f":"IF(J78=\"\",\"\",IF(J78>Inputs!$D$9,0,1))","v":1},{"$f":"IF(K78=\"\",\"\",IF(K78>Inputs!$D$9,0,1))","v":1},{"$f":"IF(L78=\"\",\"\",IF(L78>Inputs!$D$9,0,1))","v":1},{"$f":"IF(M78=\"\",\"\",IF(M78>Inputs!$D$9,0,1))","v":1},{"$f":"IF(N78=\"\",\"\",IF(N78>Inputs!$D$9,0,1))","v":1},{"$f":"IF(O78=\"\",\"\",IF(O78>Inputs!$D$9,0,1))","v":1},{"$f":"IF(COUNT(P78:U78)=0,\"\",INDEX(Inputs!$O$21:$P$26,MATCH(COUNT(P78:U78),Inputs!$O$21:$O$26,0),2))","v":20},1,null,null,{"$f":"IF(D78=\"\",\"\",IF(D78=\"-\",\"\",IF(D78>AVERAGE($D$2:$D$1000),1,0)))","v":1},1,1,1,1,1,1]
[{"$f":"'SIP Returns'!B80","v":0},null,{"$f":"'SIP Returns'!D80","v":0},{"$f":"'SIP Returns'!E80","v":0},{"$f":"'SIP Returns'!F80","v":0},{"$f":"'SIP Returns'!G80","v":0},{"$f":"'SIP Returns'!H80","v":0},{"$f":"'SIP Returns'!I80","v":0},{"$f":"'SIP Returns'!J80","v":0},1,10,8,4,1,1,{"$f":"IF(J79=\"\",\"\",IF(J79>Inputs!$D$9,0,1))","v":1},{"$f":"IF(K79=\"\",\"\",IF(K79>Inputs!$D$9,0,1))","v":1},{"$f":"IF(L79=\"\",\"\",IF(L79>Inputs!$D$9,0,1))","v":1},{"$f":"IF(M79=\"\",\"\",IF(M79>Inputs!$D$9,0,1))","v":1},{"$f":"IF(N79=\"\",\"\",IF(N79>Inputs!$D$9,0,1))","v":1},{"$f":"IF(O79=\"\",\"\",IF(O79>Inputs!$D$9,0,1))","v":1},{"$f":"IF(COUNT(P79:U79)=0,\"\",INDEX(Inputs!$O$21:$P$26,MATCH(COUNT(P79:U79),Inputs!$O$21:$O$26,0),2))","v":20},1,null,null,{"$f":"IF(D79=\"\",\"\",IF(D79=\"-\",\"\",IF(D79>AVERAGE($D$2:$D$1000),1,0)))","v":1},1,1,1,1,1,1]
[{"$f":"'SIP Returns'!B81","v":0},null,{"$f":"'SIP Returns'!D81","v":0},{"$f":"'SIP Returns'!E81","v":0},{"$f":"'SIP Returns'!F81","v":0},{"$f":"'SIP Returns'!G81","v":0},{"$f":"'SIP Returns'!H81","v":0},{"$f":"'SIP Returns'!I81","v":0},{"$f":"'SIP Returns'!J81","v":0},1,10,8,4,1,1,{"$f":"IF(J80=\"\",\"\",IF(J80>Inputs!$D$9,0,1))","v":1},{"$f":"IF(K80=\"\",\"\",IF(K80>Inputs!$D$9,0,1))","v":1},{"$f":"IF(L80=\"\",\"\",IF(L80>Inputs!$D$9,0,1))","v":1},{"$f":"IF(M80=\"\",\"\",IF(M80>Inputs!$D$9,0,1))","v":1},{"$f":"IF(N80=\"\",\"\",IF(N80>Inputs!$D$9,0,1))","v":1},{"$f":"IF(O80=\"\",\"\",IF(O80>Inputs!$D$9,0,1))","v":1},{"$f":"IF(COUNT(P80:U80)=0,\"\",INDEX(Inputs!$O$21:$P$26,MATCH(COUNT(P80:U80),Inputs!$O$21:$O$26,0),2))","v":20},1,null,null,{"$f":"IF(D80=\"\",\"\",IF(D80=\"-\",\"\",IF(D80>AVERAGE($D$2:$D$1000),1,0)))","v":1},1,1,1,1,1,1]
[{"$f":"'SIP Returns'!B82","v":0},null,{"$f":"'SIP Returns'!D82","v":0},{"$f":"'SIP Returns'!E82","v":0},{"$f":"'SIP Returns'!F82","v":0},{"$f":"'SIP Returns'!G82","v":0},{"$f":"'SIP Returns'!H82","v":0},{"$f":"'SIP Returns'!I82","v":0},{"$f":"'SIP Returns'!J82","v":0},1,10,8,4,1,1,{"$f":"IF(J81=\"\",\"\",IF(J81>Inputs!$D$9,0,1))","v":1},{"$f":"IF(K81=\"\",\"\",IF(K81>Inputs!$D$9,0,1))","v":1},{"$f":"IF(L81=\"\",\"\",IF(L81>Inputs!$D$9,0,1))","v":1},{"$f":"IF(M81=\"\",\"\",IF(M81>Inputs!$D$9,0,1))","v":1},{"$f":"IF(N81=\"\",\"\",IF(N81>Inputs!$D$9,0,1))","v":1},{"$f":"IF(O81=\"\",\"\",IF(O81>Inputs!$D$9,0,1))","v":1},{"$f":"IF(COUNT(P81:U81)=0,\"\",INDEX(Inputs!$O$21:$P$26,MATCH(COUNT(P81:U81),Inputs!$O$21:$O$26,0),2))","v":20},1,null,null,{"$f":"IF(D81=\"\",\"\",IF(D81=\"-\",\"\",IF(D81>AVERAGE($D$2:$D$1000),1,0)))","v":1},1,1,1,1,1,1]
[{"$f":"'SIP Returns'!B83","v":0},null,{"$f":"'SIP Returns'!D83","v":0},{"$f":"'SIP Returns'!E83","v":0},{"$f":"'SIP Returns'!F83","v":0},{"$f":"'SIP Returns'!G83","v":0},{"$f":"'SIP Returns'!H83","v":0},{"$f":"'SIP Returns'!I83","v":0},{"$f":"'SIP Returns'!J83","v":0},1,10,8,4,1,1,{"$f":"IF(J82=\"\",\"\",IF(J82>Inputs!$D$9,0,1))","v":1},{"$f":"IF(K82=\"\",\"\",IF(K82>Inputs!$D$9,0,1))","v":1},{"$f":"IF(L82=\"\",\"\",IF(L82>Inputs!$D$9,0,1))","v":1},{"$f":"IF(M82=\"\",\"\",IF(M82>Inputs!$D$9,0,1))","v":1},{"$f":"IF(N82=\"\",\"\",IF(N82>Inputs!$D$9,0,1))","v":1},{"$f":"IF(O82=\"\",\"\",IF(O82>Inputs!$D$9,0,1))","v":1},{"$f":"IF(COUNT(P82:U82)=0,\"\",INDEX(Inputs!$O$21:$P$26,MATCH(COUNT(P82:U82),Inputs!$O$21:$O$26,0),2))","v":20},1,null,null,{"$f":"IF(D82=\"\",\"\",IF(D82=\"-\",\"\",IF(D82>AVERAGE($D$2:$D$1000),1,0)))","v":1},1,1,1,1,1,1]
[{"$f":"'SIP Returns'!B84","v":0},null,{"$f":"'SIP Returns'!D84","v":0},{"$f":"'SIP Returns'!E84","v":0},{"$f":"'SIP Returns'!F84","v":0},{"$f":"'SIP Returns'!G84","v":0},{"$f":"'SIP Returns'!H84","v":0},{"$f":"'SIP Returns'!I84","v":0},{"$f":"'SIP Returns'!J84","v":0},1,10,8,4,1,1,{"$f":"IF(J83=\"\",\"\",IF(J83>Inputs!$D$9,0,1))","v":1},{"$f":"IF(K83=\"\",\"\",IF(K83>Inputs!$D$9,0,1))","v":1},{"$f":"IF(L83=\"\",\"\",IF(L83>Inputs!$D$9,0,1))","v":1},{"$f":"IF(M83=\"\",\"\",IF(M83>Inputs!$D$9,0,1))","v":1},{"$f":"IF(N83=\"\",\"\",IF(N83>Inputs!$D$9,0,1))","v":1},{"$f":"IF(O83=\"\",\"\",IF(O83>Inputs!$D$9,0,1))","v":1},{"$f":"IF(COUNT(P83:U83)=0,\"\",INDEX(Inputs!$O$21:$P$26,MATCH(COUNT(P83:U83),Inputs!$O$21:$O$26,0),2))","v":20},1,null,null,{"$f":"IF(D83=\"\",\"\",IF(D83=\"-\",\"\",IF(D83>AVERAGE($D$2:$D$1000),1,0)))","v":1},1,1,1,1,1,1]
[{"$f":"'SIP Returns'!B85","v":0},null,{"$f":"'SIP Returns'!D85","v":0},{"$f":"'SIP Returns'!E85","v":0},{"$f":"'SIP Returns'!F85","v":0},{"$f":"'SIP Returns'!G85","v":0},{"$f":"'SIP Returns'!H85","v":0},{"$f":"'SIP Returns'!I85","v":0},{"$f":"'SIP Returns'!J85","v":0},1,10,8,4,1,1,{"$f":"IF(J84=\"\",\"\",IF(J84>Inputs!$D$9,0,1))","v":1},{"$f":"IF(K84=\"\",\"\",IF(K84>Inputs!$D$9,0,1))","v":1},{"$f":"IF(L84=\"\",\"\",IF(L84>Inputs!$D$9,0,1))","v":1},{"$f":"IF(M84=\"\",\"\",IF(M84>Inputs!$D$9,0,1))","v":1},{"$f":"IF(N84=\"\",\"\",IF(N84>Inputs!$D$9,0,1))","v":1},{"$f":"IF(O84=\"\",\"\",IF(O84>Inputs!$D$9,0,1))","v":1},{"$f":"IF(COUNT(P84:U84)=0,\"\",INDEX(Inputs!$O$21:$P$26,MATCH(COUNT(P84:U84),Inputs!$O$21:$O$26,0),2))","v":20},1,null,null,{"$f":"IF(D84=\"\",\"\",IF(D84=\"-\",\"\",IF(D84>AVERAGE($D$2:$D$1000),1,0)))","v":1},1,1,1,1,1,1]
[{"$f":"'SIP Returns'!B86","v":0},null,{"$f":"'SIP Returns'!D86","v":0},{"$f":"'SIP Returns'!E86","v":0},{"$f":"'SIP Returns'!F86","v":0},{"$f":"'SIP Returns'!G86","v":0},{"$f":"'SIP Returns'!H86","v":0},{"$f":"'SIP Returns'!I86","v":0},{"$f":"'SIP Returns'!J86","v":0},1,10,8,4,1,1,{"$f":"IF(J85=\"\",\"\",IF(J85>Inputs!$D$9,0,1))","v":1},{"$f":"IF(K85=\"\",\"\",IF(K85>Inputs!$D$9,0,1))","v":1},{"$f":"IF(L85=\"\",\"\",IF(L85>Inputs!$D$9,0,1))","v":1},{"$f":"IF(M85=\"\",\"\",IF(M85>Inputs!$D$9,0,1))","v":1},{"$f":"IF(N85=\"\",\"\",IF(N85>Inputs!$D$9,0,1))","v":1},{"$f":"IF(O85=\"\",\"\",IF(O85>Inputs!$D$9,0,1))","v":1},{"$f":"IF(COUNT(P85:U85)=0,\"\",INDEX(Inputs!$O$21:$P$26,MATCH(COUNT(P85:U85),Inputs!$O$21:$O$26,0),2))","v":20},1,null,null,{"$f":"IF(D85=\"\",\"\",IF(D85=\"-\",\"\",IF(D85>AVERAGE($D$2:$D$1000),1,0)))","v":1},1,1,1,1,1,1]
[{"$f":"'SIP Returns'!B87","v":0},null,{"$f":"'SIP Returns'!D87","v":0},{"$f":"'SIP Returns'!E87","v":0},{"$f":"'SIP Returns'!F87","v":0},{"$f":"'SIP Returns'!G87","v":0},{"$f":"'SIP Returns'!H87","v":0},{"$f":"'SIP Returns'!I87","v":0},{"$f":"'SIP Returns'!J87","v":0},1,10,8,4,1,1,{"$f":"IF(J86=\"\",\"\",IF(J86>Inputs!$D$9,0,1))","v":1},{"$f":"IF(K86=\"\",\"\",IF(K86>Inputs!$D$9,0,1))","v":1},{"$f":"IF(L86=\"\",\"\",IF(L86>Inputs!$D$9,0,1))","v":1},{"$f":"IF(M86=\"\",\"\",IF(M86>Inputs!$D$9,0,1))","v":1},{"$f":"IF(N86=\"\",\"\",IF(N86>Inputs!$D$9,0,1))","v":1},{"$f":"IF(O86=\"\",\"\",IF(O86>Inputs!$D$9,0,1))","v":1},{"$f":"IF(COUNT(P86:U86)=0,\"\",INDEX(Inputs!$O$21:$P$26,MATCH(COUNT(P86:U86),Inputs!$O$21:$O$26,0),2))","v":20},1,null,null,{"$f":"IF(D86=\"\",\"\",IF(D86=\"-\",\"\",IF(D86>AVERAGE($D$2:$D$1000),1,0)))","v":1},1,1,1,1,1,1]
[{"$f":"'SIP Returns'!B88","v":0},null,{"$f":"'SIP Returns'!D88","v":0},{"$f":"'SIP Returns'!E88","v":0},{"$f":"'SIP Returns'!F88","v":0},{"$f":"'SIP Returns'!G88","v":0},{"$f":"'SIP Returns'!H88","v":0},{"$f":"'SIP Returns'!I88","v":0},{"$f":"'SIP Returns'!J88","v":0},1,10,8,4,1,1,{"$f":"IF(J87=\"\",\"\",IF(J87>Inputs!$D$9,0,1))","v":1},{"$f":"IF(K87=\"\",\"\",IF(K87>Inputs!$D$9,0,1))","v":1},{"$f":"IF(L87=\"\",\"\",IF(L87>Inputs!$D$9,0,1))","v":1},{"$f":"IF(M87=\"\",\"\",IF(M87>Inputs!$D$9,0,1))","v":1},{"$f":"IF(N87=\"\",\"\",IF(N87>Inputs!$D$9,0,1))","v":1},{"$f":"IF(O87=\"\",\"\",IF(O87>Inputs!$D$9,0,1))","v":1},{"$f":"IF(COUNT(P87:U87)=0,\"\",INDEX(Inputs!$O$21:$P$26,MATCH(COUNT(P87:U87),Inputs!$O$21:$O$26,0),2))","v":20},1,null,null,{"$f":"IF(D87=\"\",\"\",IF(D87=\"-\",\"\",IF(D87>AVERAGE($D$2:$D$1000),1,0)))","v":1},1,1,1,1,1,1]
[{"$f":"'SIP Returns'!B89","v":0},null,{"$f":"'SIP Returns'!D89","v":0},{"$f":"'SIP Returns'!E89","v":0},{"$f":"'SIP Returns'!F89","v":0},{"$f":"'SIP Returns'!G89","v":0},{"$f":"'SIP Returns'!H89","v":0},{"$f":"'SIP Returns'!I89","v":0},{"$f":"'SIP Returns'!J89","v":0},1,10,8,4,1,1,{"$f":"IF(J88=\"\",\"\",IF(J88>Inputs!$D$9,0,1))","v":1},{"$f":"IF(K88=\"\",\"\",IF(K88>Inputs!$D$9,0,1))","v":1},{"$f":"IF(L88=\"\",\"\",IF(L88>Inputs!$D$9,0,1))","v":1},{"$f":"IF(M88=\"\",\"\",IF(M88>Inputs!$D$9,0,1))","v":1},{"$f":"IF(N88=\"\",\"\",IF(N88>Inputs!$D$9,0,1))","v":1},{"$f":"IF(O88=\"\",\"\",IF(O88>Inputs!$D$9,0,1))","v":1},{"$f":"IF(COUNT(P88:U88)=0,\"\",INDEX(Inputs!$O$21:$P$26,MATCH(COUNT(P88:U88),Inputs!$O$21:$O$26,0),2))","v":20},1,null,null,{"$f":"IF(D88=\"\",\"\",IF(D88=\"-\",\"\",IF(D88>AVERAGE($D$2:$D$1000),1,0)))","v":1},1,1,1,1,1,1]
[{"$f":"'SIP Returns'!B90","v":0},null,{"$f":"'SIP Returns'!D90","v":0},{"$f":"'SIP Returns'!E90","v":0},{"$f":"'SIP Returns'!F90","v":0},{"$f":"'SIP Returns'!G90","v":0},{"$f":"'SIP Returns'!H90","v":0},{"$f":"'SIP Returns'!I90","v":0},{"$f":"'SIP Returns'!J90","v":0},1,10,8,4,1,1,{"$f":"IF(J89=\"\",\"\",IF(J89>Inputs!$D$9,0,1))","v":1},{"$f":"IF(K89=\"\",\"\",IF(K89>Inputs!$D$9,0,1))","v":1},{"$f":"IF(L89=\"\",\"\",IF(L89>Inputs!$D$9,0,1))","v":1},{"$f":"IF(M89=\"\",\"\",IF(M89>Inputs!$D$9,0,1))","v":1},{"$f":"IF(N89=\"\",\"\",IF(N89>Inputs!$D$9,0,1))","v":1},{"$f":"IF(O89=\"\",\"\",IF(O89>Inputs!$D$9,0,1))","v":1},{"$f":"IF(COUNT(P89:U89)=0,\"\",INDEX(Inputs!$O$21:$P$26,MATCH(COUNT(P89:U89),Inputs!$O$21:$O$26,0),2))","v":20},1,null,null,{"$f":"IF(D89=\"\",\"\",IF(D89=\"-\",\"\",IF(D89>AVERAGE($D$2:$D$1000),1,0)))","v":1},1,1,1,1,1,1]
[{"$f":"'SIP Returns'!B91","v":0},null,{"$f":"'SIP Returns'!D91","v":0},{"$f":"'SIP Returns'!E91","v":0},{"$f":"'SIP Returns'!F91","v":0},{"$f":"'SIP Returns'!G91","v":0},{"$f":"'SIP Returns'!H91","v":0},{"$f":"'SIP Returns'!I91","v":0},{"$f":"'SIP Returns'!J91","v":0},1,10,8,4,1,1,{"$f":"IF(J90=\"\",\"\",IF(J90>Inputs!$D$9,0,1))","v":1},{"$f":"IF(K90=\"\",\"\",IF(K90>Inputs!$D$9,0,1))","v":1},{"$f":"IF(L90=\"\",\"\",IF(L90>Inputs!$D$9,0,1))","v":1},{"$f":"IF(M90=\"\",\"\",IF(M90>Inputs!$D$9,0,1))","v":1},{"$f":"IF(N90=\"\",\"\",IF(N90>Inputs!$D$9,0,1))","v":1},{"$f":"IF(O90=\"\",\"\",IF(O90>Inputs!$D$9,0,1))","v":1},{"$f":"IF(COUNT(P90:U90)=0,\"\",INDEX(Inputs!$O$21:$P$26,MATCH(COUNT(P90:U90),Inputs!$O$21:$O$26,0),2))","v":20},1,null,null,{"$f":"IF(D90=\"\",\"\",IF(D90=\"-\",\"\",IF(D90>AVERAGE($D$2:$D$1000),1,0)))","v":1},1,1,1,1,1,1]
[{"$f":"'SIP Returns'!B92","v":0},null,{"$f":"'SIP Returns'!D92","v":0},{"$f":"'SIP Returns'!E92","v":0},{"$f":"'SIP Returns'!F92","v":0},{"$f":"'SIP Returns'!G92","v":0},{"$f":"'SIP Returns'!H92","v":0},{"$f":"'SIP Returns'!I92","v":0},{"$f":"'SIP Returns'!J92","v":0},1,10,8,4,1,1,{"$f":"IF(J91=\"\",\"\",IF(J91>Inputs!$D$9,0,1))","v":1},{"$f":"IF(K91=\"\",\"\",IF(K91>Inputs!$D$9,0,1))","v":1},{"$f":"IF(L91=\"\",\"\",IF(L91>Inputs!$D$9,0,1))","v":1},{"$f":"IF(M91=\"\",\"\",IF(M91>Inputs!$D$9,0,1))","v":1},{"$f":"IF(N91=\"\",\"\",IF(N91>Inputs!$D$9,0,1))","v":1},{"$f":"IF(O91=\"\",\"\",IF(O91>Inputs!$D$9,0,1))","v":1},{"$f":"IF(COUNT(P91:U91)=0,\"\",INDEX(Inputs!$O$21:$P$26,MATCH(COUNT(P91:U91),Inputs!$O$21:$O$26,0),2))","v":20},1,null,null,{"$f":"IF(D91=\"\",\"\",IF(D91=\"-\",\"\",IF(D91>AVERAGE($D$2:$D$1000),1,0)))","v":1},1,1,1,1,1,1]
[{"$f":"'SIP Returns'!B93","v":0},null,{"$f":"'SIP Returns'!D93","v":0},{"$f":"'SIP Returns'!E93","v":0},{"$f":"'SIP Returns'!F93","v":0},{"$f":"'SIP Returns'!G93","v":0},{"$f":"'SIP Returns'!H93","v":0},{"$f":"'SIP Returns'!I93","v":0},{"$f":"'SIP Returns'!J93","v":0},1,10,8,4,1,1,{"$f":"IF(J92=\"\",\"\",IF(J92>Inputs!$D$9,0,1))","v":1},{"$f":"IF(K92=\"\",\"\",IF(K92>Inputs!$D$9,0,1))","v":1},{"$f":"IF(L92=\"\",\"\",IF(L92>Inputs!$D$9,0,1))","v":1},{"$f":"IF(M92=\"\",\"\",IF(M92>Inputs!$D$9,0,1))","v":1},{"$f":"IF(N92=\"\",\"\",IF(N92>Inputs!$D$9,0,1))","v":1},{"$f":"IF(O92=\"\",\"\",IF(O92>Inputs!$D$9,0,1))","v":1},{"$f":"IF(COUNT(P92:U92)=0,\"\",INDEX(Inputs!$O$21:$P$26,MATCH(COUNT(P92:U92),Inputs!$O$21:$O$26,0),2))","v":20},1,null,null,{"$f":"IF(D92=\"\",\"\",IF(D92=\"-\",\"\",IF(D92>AVERAGE($D$2:$D$1000),1,0)))","v":1},1,1,1,1,1,1]
[{"$f":"'SIP Returns'!B94","v":0},null,{"$f":"'SIP Returns'!D94","v":0},{"$f":"'SIP Returns'!E94","v":0},{"$f":"'SIP Returns'!F94","v":0},{"$f":"'SIP Returns'!G94","v":0},{"$f":"'SIP Returns'!H94","v":0},{"$f":"'SIP Returns'!I94","v":0},{"$f":"'SIP Returns'!J94","v":0},1,10,8,4,1,1,{"$f":"IF(J93=\"\",\"\",IF(J93>Inputs!$D$9,0,1))","v":1},{"$f":"IF(K93=\"\",\"\",IF(K93>Inputs!$D$9,0,1))","v":1},{"$f":"IF(L93=\"\",\"\",IF(L93>Inputs!$D$9,0,1))","v":1},{"$f":"IF(M93=\"\",\"\",IF(M93>Inputs!$D$9,0,1))","v":1},{"$f":"IF(N93=\"\",\"\",IF(N93>Inputs!$D$9,0,1))","v":1},{"$f":"IF(O93=\"\",\"\",IF(O93>Inputs!$D$9,0,1))","v":1},{"$f":"IF(COUNT(P93:U93)=0,\"\",INDEX(Inputs!$O$21:$P$26,MATCH(COUNT(P93:U93),Inputs!$O$21:$O$26,0),2))","v":20},1,null,null,{"$f":"IF(D93=\"\",\"\",IF(D93=\"-\",\"\",IF(D93>AVERAGE($D$2:$D$1000),1,0)))","v":1},1,1,1,1,1,1]
[{"$f":"'SIP Returns'!B95","v":0},null,{"$f":"'SIP Returns'!D95","v":0},{"$f":"'SIP Returns'!E95","v":0},{"$f":"'SIP Returns'!F95","v":0},{"$f":"'SIP Returns'!G95","v":0},{"$f":"'SIP Returns'!H95","v":0},{"$f":"'SIP Returns'!I95","v":0},{"$f":"'SIP Returns'!J95","v":0},1,10,8,4,1,1,{"$f":"IF(J94=\"\",\"\",IF(J94>Inputs!$D$9,0,1))","v":1},{"$f":"IF(K94=\"\",\"\",IF(K94>Inputs!$D$9,0,1))","v":1},{"$f":"IF(L94=\"\",\"\",IF(L94>Inputs!$D$9,0,1))","v":1},{"$f":"IF(M94=\"\",\"\",IF(M94>Inputs!$D$9,0,1))","v":1},{"$f":"IF(N94=\"\",\"\",IF(N94>Inputs!$D$9,0,1))","v":1},{"$f":"IF(O94=\"\",\"\",IF(O94>Inputs!$D$9,0,1))","v":1},{"$f":"IF(COUNT(P94:U94)=0,\"\",INDEX(Inputs!$O$21:$P$26,MATCH(COUNT(P94:U94),Inputs!$O$21:$O$26,0),2))","v":20},1,null,null,{"$f":"IF(D94=\"\",\"\",IF(D94=\"-\",\"\",IF(D94>AVERAGE($D$2:$D$1000),1,0)))","v":1},1,1,1,1,1,1]
[{"$f":"'SIP Returns'!B96","v":0},null,{"$f":"'SIP Returns'!D96","v":0},{"$f":"'SIP Returns'!E96","v":0},{"$f":"'SIP Returns'!F96","v":0},{"$f":"'SIP Returns'!G96","v":0},{"$f":"'SIP Returns'!H96","v":0},{"$f":"'SIP Returns'!I96","v":0},{"$f":"'SIP Returns'!J96","v":0},1,10,8,4,1,1,{"$f":"IF(J95=\"\",\"\",IF(J95>Inputs!$D$9,0,1))","v":1},{"$f":"IF(K95=\"\",\"\",IF(K95>Inputs!$D$9,0,1))","v":1},{"$f":"IF(L95=\"\",\"\",IF(L95>Inputs!$D$9,0,1))","v":1},{"$f":"IF(M95=\"\",\"\",IF(M95>Inputs!$D$9,0,1))","v":1},{"$f":"IF(N95=\"\",\"\",IF(N95>Inputs!$D$9,0,1))","v":1},{"$f":"IF(O95=\"\",\"\",IF(O95>Inputs!$D$9,0,1))","v":1},{"$f":"IF(COUNT(P95:U95)=0,\"\",INDEX(Inputs!$O$21:$P$26,MATCH(COUNT(P95:U95),Inputs!$O$21:$O$26,0),2))","v":20},1,null,null,{"$f":"IF(D95=\"\",\"\",IF(D95=\"-\",\"\",IF(D95>AVERAGE($D$2:$D$1000),1,0)))","v":1},1,1,1,1,1,1]
[{"$f":"'SIP Returns'!B97","v":0},null,{"$f":"'SIP Returns'!D97","v":0},{"$f":"'SIP Returns'!E97","v":0},{"$f":"'SIP Returns'!F97","v":0},{"$f":"'SIP Returns'!G97","v":0},{"$f":"'SIP Returns'!H97","v":0},{"$f":"'SIP Returns'!I97","v":0},{"$f":"'SIP Returns'!J97","v":0},1,10,8,4,1,1,{"$f":"IF(J96=\"\",\"\",IF(J96>Inputs!$D$9,0,1))","v":1},{"$f":"IF(K96=\"\",\"\",IF(K96>Inputs!$D$9,0,1))","v":1},{"$f":"IF(L96=\"\",\"\",IF(L96>Inputs!$D$9,0,1))","v":1},{"$f":"IF(M96=\"\",\"\",IF(M96>Inputs!$D$9,0,1))","v":1},{"$f":"IF(N96=\"\",\"\",IF(N96>Inputs!$D$9,0,1))","v":1},{"$f":"IF(O96=\"\",\"\",IF(O96>Inputs!$D$9,0,1))","v":1},{"$f":"IF(COUNT(P96:U96)=0,\"\",INDEX(Inputs!$O$21:$P$26,MATCH(COUNT(P96:U96),Inputs!$O$21:$O$26,0),2))","v":20},1,null,null,{"$f":"IF(D96=\"\",\"\",IF(D96=\"-\",\"\",IF(D96>AVERAGE($D$2:$D$1000),1,0)))","v":1},1,1,1,1,1,1]
[{"$f":"'SIP Returns'!B98","v":0},null,{"$f":"'SIP Returns'!D98","v":0},{"$f":"'SIP Returns'!E98","v":0},{"$f":"'SIP Returns'!F98","v":0},{"$f":"'SIP Returns'!G98","v":0},{"$f":"'SIP Returns'!H98","v":0},{"$f":"'SIP Returns'!I98","v":0},{"$f":"'SIP Returns'!J98","v":0},1,10,8,4,1,1,{"$f":"IF(J97=\"\",\"\",IF(J97>Inputs!$D$9,0,1))","v":1},{"$f":"IF(K97=\"\",\"\",IF(K97>Inputs!$D$9,0,1))","v":1},{"$f":"IF(L97=\"\",\"\",IF(L97>Inputs!$D$9,0,1))","v":1},{"$f":"IF(M97=\"\",\"\",IF(M97>Inputs!$D$9,0,1))","v":1},{"$f":"IF(N97=\"\",\"\",IF(N97>Inputs!$D$9,0,1))","v":1},{"$f":"IF(O97=\"\",\"\",IF(O97>Inputs!$D$9,0,1))","v":1},{"$f":"IF(COUNT(P97:U97)=0,\"\",INDEX(Inputs!$O$21:$P$26,MATCH(COUNT(P97:U97),Inputs!$O$21:$O$26,0),2))","v":20},1,null,null,{"$f":"IF(D97=\"\",\"\",IF(D97=\"-\",\"\",IF(D97>AVERAGE($D$2:$D$1000),1,0)))","v":1},1,1,1,1,1,1]
[{"$f":"'SIP Returns'!B99","v":0},null,{"$f":"'SIP Returns'!D99","v":0},{"$f":"'SIP Returns'!E99","v":0},{"$f":"'SIP Returns'!F99","v":0},{"$f":"'SIP Returns'!G99","v":0},{"$f":"'SIP Returns'!H99","v":0},{"$f":"'SIP Returns'!I99","v":0},{"$f":"'SIP Returns'!J99","v":0},1,10,8,4,1,1,{"$f":"IF(J98=\"\",\"\",IF(J98>Inputs!$D$9,0,1))","v":1},{"$f":"IF(K98=\"\",\"\",IF(K98>Inputs!$D$9,0,1))","v":1},{"$f":"IF(L98=\"\",\"\",IF(L98>Inputs!$D$9,0,1))","v":1},{"$f":"IF(M98=\"\",\"\",IF(M98>Inputs!$D$9,0,1))","v":1},{"$f":"IF(N98=\"\",\"\",IF(N98>Inputs!$D$9,0,1))","v":1},{"$f":"IF(O98=\"\",\"\",IF(O98>Inputs!$D$9,0,1))","v":1},{"$f":"IF(COUNT(P98:U98)=0,\"\",INDEX(Inputs!$O$21:$P$26,MATCH(COUNT(P98:U98),Inputs!$O$21:$O$26,0),2))","v":20},1,null,null,{"$f":"IF(D98=\"\",\"\",IF(D98=\"-\",\"\",IF(D98>AVERAGE($D$2:$D$1000),1,0)))","v":1},1,1,1,1,1,1]
[{"$f":"'SIP Returns'!B100","v":0},null,{"$f":"'SIP Returns'!D100","v":0},{"$f":"'SIP Returns'!E100","v":0},{"$f":"'SIP Returns'!F100","v":0},{"$f":"'SIP Returns'!G100","v":0},{"$f":"'SIP Returns'!H100","v":0},{"$f":"'SIP Returns'!I100","v":0},{"$f":"'SIP Returns'!J100","v":0},1,10,8,4,1,1,{"$f":"IF(J99=\"\",\"\",IF(J99>Inputs!$D$9,0,1))","v":1},{"$f":"IF(K99=\"\",\"\",IF(K99>Inputs!$D$9,0,1))","v":1},{"$f":"IF(L99=\"\",\"\",IF(L99>Inputs!$D$9,0,1))","v":1},{"$f":"IF(M99=\"\",\"\",IF(M99>Inputs!$D$9,0,1))","v":1},{"$f":"IF(N99=\"\",\"\",IF(N99>Inputs!$D$9,0,1))","v":1},{"$f":"IF(O99=\"\",\"\",IF(O99>Inputs!$D$9,0,1))","v":1},{"$f":"IF(COUNT(P99:U99)=0,\"\",INDEX(Inputs!$O$21:$P$26,MATCH(COUNT(P99:U99),Inputs!$O$21:$O$26,0),2))","v":20},1,null,null,{"$f":"IF(D99=\"\",\"\",IF(D99=\"-\",\"\",IF(D99>AVERAGE($D$2:$D$1000),1,0)))","v":1},1,1,1,1,1,1]
[{"$f":"'SIP Returns'!B101","v":0},null,{"$f":"'SIP Returns'!D101","v":0},{"$f":"'SIP Returns'!E101","v":0},{"$f":"'SIP Returns'!F101","v":0},{"$f":"'SIP Returns'!G101","v":0},{"$f":"'SIP Returns'!H101","v":0},{"$f":"'SIP Returns'!I101","v":0},{"$f":"'SIP Returns'!J101","v":0},1,10,8,4,1,1,{"$f":"IF(J100=\"\",\"\",IF(J100>Inputs!$D$9,0,1))","v":1},{"$f":"IF(K100=\"\",\"\",IF(K100>Inputs!$D$9,0,1))","v":1},{"$f":"IF(L100=\"\",\"\",IF(L100>Inputs!$D$9,0,1))","v":1},{"$f":"IF(M100=\"\",\"\",IF(M100>Inputs!$D$9,0,1))","v":1},{"$f":"IF(N100=\"\",\"\",IF(N100>Inputs!$D$9,0,1))","v":1},{"$f":"IF(O100=\"\",\"\",IF(O100>Inputs!$D$9,0,1))","v":1},{"$f":"IF(COUNT(P100:U100)=0,\"\",INDEX(Inputs!$O$21:$P$26,MATCH(COUNT(P100:U100),Inputs!$O$21:$O$26,0),2))","v":20},1,null,null,{"$f":"IF(D100=\"\",\"\",IF(D100=\"-\",\"\",IF(D100>AVERAGE($D$2:$D$1000),1,0)))","v":1},1,1,1,1,1,1]
[{"$f":"'SIP Returns'!B102","v":0},null,{"$f":"'SIP Returns'!D102","v":0},{"$f":"'SIP Returns'!E102","v":0},{"$f":"'SIP Returns'!F102","v":0},{"$f":"'SIP Returns'!G102","v":0},{"$f":"'SIP Returns'!H102","v":0},{"$f":"'SIP Returns'!I102","v":0},{"$f":"'SIP Returns'!J102","v":0},1,10,8,4,1,1,{"$f":"IF(J101=\"\",\"\",IF(J101>Inputs!$D$9,0,1))","v":1},{"$f":"IF(K101=\"\",\"\",IF(K101>Inputs!$D$9,0,1))","v":1},{"$f":"IF(L101=\"\",\"\",IF(L101>Inputs!$D$9,0,1))","v":1},{"$f":"IF(M101=\"\",\"\",IF(M101>Inputs!$D$9,0,1))","v":1},{"$f":"IF(N101=\"\",\"\",IF(N101>Inputs!$D$9,0,1))","v":1},{"$f":"IF(O101=\"\",\"\",IF(O101>Inputs!$D$9,0,1))","v":1},{"$f":"IF(COUNT(P101:U101)=0,\"\",INDEX(Inputs!$O$21:$P$26,MATCH(COUNT(P101:U101),Inputs!$O$21:$O$26,0),2))","v":20},1,null,null,{"$f":"IF(D101=\"\",\"\",IF(D101=\"-\",\"\",IF(D101>AVERAGE($D$2:$D$1000),1,0)))","v":1},1,1,1,1,1,1]
[{"$f":"'SIP Returns'!B103","v":0},null,{"$f":"'SIP Returns'!D103","v":0},{"$f":"'SIP Returns'!E103","v":0},{"$f":"'SIP Returns'!F103","v":0},{"$f":"'SIP Returns'!G103","v":0},{"$f":"'SIP Returns'!H103","v":0},{"$f":"'SIP Returns'!I103","v":0},{"$f":"'SIP Returns'!J103","v":0},1,10,8,4,1,1,{"$f":"IF(J102=\"\",\"\",IF(J102>Inputs!$D$9,0,1))","v":1},{"$f":"IF(K102=\"\",\"\",IF(K102>Inputs!$D$9,0,1))","v":1},{"$f":"IF(L102=\"\",\"\",IF(L102>Inputs!$D$9,0,1))","v":1},{"$f":"IF(M102=\"\",\"\",IF(M102>Inputs!$D$9,0,1))","v":1},{"$f":"IF(N102=\"\",\"\",IF(N102>Inputs!$D$9,0,1))","v":1},{"$f":"IF(O102=\"\",\"\",IF(O102>Inputs!$D$9,0,1))","v":1},{"$f":"IF(COUNT(P102:U102)=0,\"\",INDEX(Inputs!$O$21:$P$26,MATCH(COUNT(P102:U102),Inputs!$O$21:$O$26,0),2))","v":20},1,null,null,{"$f":"IF(D102=\"\",\"\",IF(D102=\"-\",\"\",IF(D102>AVERAGE($D$2:$D$1000),1,0)))","v":1},1,1,1,1,1,1]
[{"$f":"'SIP Returns'!B104","v":0},null,{"$f":"'SIP Returns'!D104","v":0},{"$f":"'SIP Returns'!E104","v":0},{"$f":"'SIP Returns'!F104","v":0},{"$f":"'SIP Returns'!G104","v":0},{"$f":"'SIP Returns'!H104","v":0},{"$f":"'SIP Returns'!I104","v":0},{"$f":"'SIP Returns'!J104","v":0},1,10,8,4,1,1,{"$f":"IF(J103=\"\",\"\",IF(J103>Inputs!$D$9,0,1))","v":1},{"$f":"IF(K103=\"\",\"\",IF(K103>Inputs!$D$9,0,1))","v":1},{"$f":"IF(L103=\"\",\"\",IF(L103>Inputs!$D$9,0,1))","v":1},{"$f":"IF(M103=\"\",\"\",IF(M103>Inputs!$D$9,0,1))","v":1},{"$f":"IF(N103=\"\",\"\",IF(N103>Inputs!$D$9,0,1))","v":1},{"$f":"IF(O103=\"\",\"\",IF(O103>Inputs!$D$9,0,1))","v":1},{"$f":"IF(COUNT(P103:U103)=0,\"\",INDEX(Inputs!$O$21:$P$26,MATCH(COUNT(P103:U103),Inputs!$O$21:$O$26,0),2))","v":20},1,null,null,{"$f":"IF(D103=\"\",\"\",IF(D103=\"-\",\"\",IF(D103>AVERAGE($D$2:$D$1000),1,0)))","v":1},1,1,1,1,1,1]
[{"$f":"'SIP Returns'!B105","v":0},null,{"$f":"'SIP Returns'!D105","v":0},{"$f":"'SIP Returns'!E105","v":0},{"$f":"'SIP Returns'!F105","v":0},{"$f":"'SIP Returns'!G105","v":0},{"$f":"'SIP Returns'!H105","v":0},{"$f":"'SIP Returns'!I105","v":0},{"$f":"'SIP Returns'!J105","v":0},1,10,8,4,1,1,{"$f":"IF(J104=\"\",\"\",IF(J104>Inputs!$D$9,0,1))","v":1},{"$f":"IF(K104=\"\",\"\",IF(K104>Inputs!$D$9,0,1))","v":1},{"$f":"IF(L104=\"\",\"\",IF(L104>Inputs!$D$9,0,1))","v":1},{"$f":"IF(M104=\"\",\"\",IF(M104>Inputs!$D$9,0,1))","v":1},{"$f":"IF(N104=\"\",\"\",IF(N104>Inputs!$D$9,0,1))","v":1},{"$f":"IF(O104=\"\",\"\",IF(O104>Inputs!$D$9,0,1))","v":1},{"$f":"IF(COUNT(P104:U104)=0,\"\",INDEX(Inputs!$O$21:$P$26,MATCH(COUNT(P104:U104),Inputs!$O$21:$O$26,0),2))","v":20},1,null,null,{"$f":"IF(D104=\"\",\"\",IF(D104=\"-\",\"\",IF(D104>AVERAGE($D$2:$D$1000),1,0)))","v":1},1,1,1,1,1,1]
[{"$f":"'SIP Returns'!B106","v":0},null,{"$f":"'SIP Returns'!D106","v":0},{"$f":"'SIP Returns'!E106","v":0},{"$f":"'SIP Returns'!F106","v":0},{"$f":"'SIP Returns'!G106","v":0},{"$f":"'SIP Returns'!H106","v":0},{"$f":"'SIP Returns'!I106","v":0},{"$f":"'SIP Returns'!J106","v":0},1,10,8,4,1,1,{"$f":"IF(J105=\"\",\"\",IF(J105>Inputs!$D$9,0,1))","v":1},{"$f":"IF(K105=\"\",\"\",IF(K105>Inputs!$D$9,0,1))","v":1},{"$f":"IF(L105=\"\",\"\",IF(L105>Inputs!$D$9,0,1))","v":1},{"$f":"IF(M105=\"\",\"\",IF(M105>Inputs!$D$9,0,1))","v":1},{"$f":"IF(N105=\"\",\"\",IF(N105>Inputs!$D$9,0,1))","v":1},{"$f":"IF(O105=\"\",\"\",IF(O105>Inputs!$D$9,0,1))","v":1},{"$f":"IF(COUNT(P105:U105)=0,\"\",INDEX(Inputs!$O$21:$P$26,MATCH(COUNT(P105:U105),Inputs!$O$21:$O$26,0),2))","v":20},1,null,null,{"$f":"IF(D105=\"\",\"\",IF(D105=\"-\",\"\",IF(D105>AVERAGE($D$2:$D$1000),1,0)))","v":1},1,1,1,1,1,1]
[{"$f":"'SIP Returns'!B107","v":0},null,{"$f":"'SIP Returns'!D107","v":0},{"$f":"'SIP Returns'!E107","v":0},{"$f":"'SIP Returns'!F107","v":0},{"$f":"'SIP Returns'!G107","v":0},{"$f":"'SIP Returns'!H107","v":0},{"$f":"'SIP Returns'!I107","v":0},{"$f":"'SIP Returns'!J107","v":0},1,10,8,4,1,1,{"$f":"IF(J106=\"\",\"\",IF(J106>Inputs!$D$9,0,1))","v":1},{"$f":"IF(K106=\"\",\"\",IF(K106>Inputs!$D$9,0,1))","v":1},{"$f":"IF(L106=\"\",\"\",IF(L106>Inputs!$D$9,0,1))","v":1},{"$f":"IF(M106=\"\",\"\",IF(M106>Inputs!$D$9,0,1))","v":1},{"$f":"IF(N106=\"\",\"\",IF(N106>Inputs!$D$9,0,1))","v":1},{"$f":"IF(O106=\"\",\"\",IF(O106>Inputs!$D$9,0,1))","v":1},{"$f":"IF(COUNT(P106:U106)=0,\"\",INDEX(Inputs!$O$21:$P$26,MATCH(COUNT(P106:U106),Inputs!$O$21:$O$26,0),2))","v":20},1,null,null,{"$f":"IF(D106=\"\",\"\",IF(D106=\"-\",\"\",IF(D106>AVERAGE($D$2:$D$1000),1,0)))","v":1},1,1,1,1,1,1]
[{"$f":"'SIP Returns'!B108","v":0},null,{"$f":"'SIP Returns'!D108","v":0},{"$f":"'SIP Returns'!E108","v":0},{"$f":"'SIP Returns'!F108","v":0},{"$f":"'SIP Returns'!G108","v":0},{"$f":"'SIP Returns'!H108","v":0},{"$f":"'SIP Returns'!I108","v":0},{"$f":"'SIP Returns'!J108","v":0},1,10,8,4,1,1,{"$f":"IF(J107=\"\",\"\",IF(J107>Inputs!$D$9,0,1))","v":1},{"$f":"IF(K107=\"\",\"\",IF(K107>Inputs!$D$9,0,1))","v":1},{"$f":"IF(L107=\"\",\"\",IF(L107>Inputs!$D$9,0,1))","v":1},{"$f":"IF(M107=\"\",\"\",IF(M107>Inputs!$D$9,0,1))","v":1},{"$f":"IF(N107=\"\",\"\",IF(N107>Inputs!$D$9,0,1))","v":1},{"$f":"IF(O107=\"\",\"\",IF(O107>Inputs!$D$9,0,1))","v":1},{"$f":"IF(COUNT(P107:U107)=0,\"\",INDEX(Inputs!$O$21:$P$26,MATCH(COUNT(P107:U107),Inputs!$O$21:$O$26,0),2))","v":20},1,null,null,{"$f":"IF(D107=\"\",\"\",IF(D107=\"-\",\"\",IF(D107>AVERAGE($D$2:$D$1000),1,0)))","v":1},1,1,1,1,1,1]
[{"$f":"'SIP Returns'!B109","v":0},null,{"$f":"'SIP Returns'!D109","v":0},{"$f":"'SIP Returns'!E109","v":0},{"$f":"'SIP Returns'!F109","v":0},{"$f":"'SIP Returns'!G109","v":0},{"$f":"'SIP Returns'!H109","v":0},{"$f":"'SIP Returns'!I109","v":0},{"$f":"'SIP Returns'!J109","v":0},1,10,8,4,1,1,{"$f":"IF(J108=\"\",\"\",IF(J108>Inputs!$D$9,0,1))","v":1},{"$f":"IF(K108=\"\",\"\",IF(K108>Inputs!$D$9,0,1))","v":1},{"$f":"IF(L108=\"\",\"\",IF(L108>Inputs!$D$9,0,1))","v":1},{"$f":"IF(M108=\"\",\"\",IF(M108>Inputs!$D$9,0,1))","v":1},{"$f":"IF(N108=\"\",\"\",IF(N108>Inputs!$D$9,0,1))","v":1},{"$f":"IF(O108=\"\",\"\",IF(O108>Inputs!$D$9,0,1))","v":1},{"$f":"IF(COUNT(P108:U108)=0,\"\",INDEX(Inputs!$O$21:$P$26,MATCH(COUNT(P108:U108),Inputs!$O$21:$O$26,0),2))","v":20},1,null,null,{"$f":"IF(D108=\"\",\"\",IF(D108=\"-\",\"\",IF(D108>AVERAGE($D$2:$D$1000),1,0)))","v":1},1,1,1,1,1,1]
[{"$f":"'SIP Returns'!B110","v":0},null,{"$f":"'SIP Returns'!D110","v":0},{"$f":"'SIP Returns'!E110","v":0},{"$f":"'SIP Returns'!F110","v":0},{"$f":"'SIP Returns'!G110","v":0},{"$f":"'SIP Returns'!H110","v":0},{"$f":"'SIP Returns'!I110","v":0},{"$f":"'SIP Returns'!J110","v":0},1,10,8,4,1,1,{"$f":"IF(J109=\"\",\"\",IF(J109>Inputs!$D$9,0,1))","v":1},{"$f":"IF(K109=\"\",\"\",IF(K109>Inputs!$D$9,0,1))","v":1},{"$f":"IF(L109=\"\",\"\",IF(L109>Inputs!$D$9,0,1))","v":1},{"$f":"IF(M109=\"\",\"\",IF(M109>Inputs!$D$9,0,1))","v":1},{"$f":"IF(N109=\"\",\"\",IF(N109>Inputs!$D$9,0,1))","v":1},{"$f":"IF(O109=\"\",\"\",IF(O109>Inputs!$D$9,0,1))","v":1},{"$f":"IF(COUNT(P109:U109)=0,\"\",INDEX(Inputs!$O$21:$P$26,MATCH(COUNT(P109:U109),Inputs!$O$21:$O$26,0),2))","v":20},1,null,null,{"$f":"IF(D109=\"\",\"\",IF(D109=\"-\",\"\",IF(D109>AVERAGE($D$2:$D$1000),1,0)))","v":1},1,1,1,1,1,1]
[{"$f":"'SIP Returns'!B111","v":0},null,{"$f":"'SIP Returns'!D111","v":0},{"$f":"'SIP Returns'!E111","v":0},{"$f":"'SIP Returns'!F111","v":0},{"$f":"'SIP Returns'!G111","v":0},{"$f":"'SIP Returns'!H111","v":0},{"$f":"'SIP Returns'!I111","v":0},{"$f":"'SIP Returns'!J111","v":0},1,10,8,4,1,1,{"$f":"IF(J110=\"\",\"\",IF(J110>Inputs!$D$9,0,1))","v":1},{"$f":"IF(K110=\"\",\"\",IF(K110>Inputs!$D$9,0,1))","v":1},{"$f":"IF(L110=\"\",\"\",IF(L110>Inputs!$D$9,0,1))","v":1},{"$f":"IF(M110=\"\",\"\",IF(M110>Inputs!$D$9,0,1))","v":1},{"$f":"IF(N110=\"\",\"\",IF(N110>Inputs!$D$9,0,1))","v":1},{"$f":"IF(O110=\"\",\"\",IF(O110>Inputs!$D$9,0,1))","v":1},{"$f":"IF(COUNT(P110:U110)=0,\"\",INDEX(Inputs!$O$21:$P$26,MATCH(COUNT(P110:U110),Inputs!$O$21:$O$26,0),2))","v":20},1,null,null,{"$f":"IF(D110=\"\",\"\",IF(D110=\"-\",\"\",IF(D110>AVERAGE($D$2:$D$1000),1,0)))","v":1},1,1,1,1,1,1]
[{"$f":"'SIP Returns'!B112","v":0},null,{"$f":"'SIP Returns'!D112","v":0},{"$f":"'SIP Returns'!E112","v":0},{"$f":"'SIP Returns'!F112","v":0},{"$f":"'SIP Returns'!G112","v":0},{"$f":"'SIP Returns'!H112","v":0},{"$f":"'SIP Returns'!I112","v":0},{"$f":"'SIP Returns'!J112","v":0},1,10,8,4,1,1,{"$f":"IF(J111=\"\",\"\",IF(J111>Inputs!$D$9,0,1))","v":1},{"$f":"IF(K111=\"\",\"\",IF(K111>Inputs!$D$9,0,1))","v":1},{"$f":"IF(L111=\"\",\"\",IF(L111>Inputs!$D$9,0,1))","v":1},{"$f":"IF(M111=\"\",\"\",IF(M111>Inputs!$D$9,0,1))","v":1},{"$f":"IF(N111=\"\",\"\",IF(N111>Inputs!$D$9,0,1))","v":1},{"$f":"IF(O111=\"\",\"\",IF(O111>Inputs!$D$9,0,1))","v":1},{"$f":"IF(COUNT(P111:U111)=0,\"\",INDEX(Inputs!$O$21:$P$26,MATCH(COUNT(P111:U111),Inputs!$O$21:$O$26,0),2))","v":20},1,null,null,{"$f":"IF(D111=\"\",\"\",IF(D111=\"-\",\"\",IF(D111>AVERAGE($D$2:$D$1000),1,0)))","v":1},1,1,1,1,1,1]
[{"$f":"'SIP Returns'!B113","v":0},null,{"$f":"'SIP Returns'!D113","v":0},{"$f":"'SIP Returns'!E113","v":0},{"$f":"'SIP Returns'!F113","v":0},{"$f":"'SIP Returns'!G113","v":0},{"$f":"'SIP Returns'!H113","v":0},{"$f":"'SIP Returns'!I113","v":0},{"$f":"'SIP Returns'!J113","v":0},1,10,8,4,1,1,{"$f":"IF(J112=\"\",\"\",IF(J112>Inputs!$D$9,0,1))","v":1},{"$f":"IF(K112=\"\",\"\",IF(K112>Inputs!$D$9,0,1))","v":1},{"$f":"IF(L112=\"\",\"\",IF(L112>Inputs!$D$9,0,1))","v":1},{"$f":"IF(M112=\"\",\"\",IF(M112>Inputs!$D$9,0,1))","v":1},{"$f":"IF(N112=\"\",\"\",IF(N112>Inputs!$D$9,0,1))","v":1},{"$f":"IF(O112=\"\",\"\",IF(O112>Inputs!$D$9,0,1))","v":1},{"$f":"IF(COUNT(P112:U112)=0,\"\",INDEX(Inputs!$O$21:$P$26,MATCH(COUNT(P112:U112),Inputs!$O$21:$O$26,0),2))","v":20},1,null,null,{"$f":"IF(D112=\"\",\"\",IF(D112=\"-\",\"\",IF(D112>AVERAGE($D$2:$D$1000),1,0)))","v":1},1,1,1,1,1,1]
[{"$f":"'SIP Returns'!B114","v":0},null,{"$f":"'SIP Returns'!D114","v":0},{"$f":"'SIP Returns'!E114","v":0},{"$f":"'SIP Returns'!F114","v":0},{"$f":"'SIP Returns'!G114","v":0},{"$f":"'SIP Returns'!H114","v":0},{"$f":"'SIP Returns'!I114","v":0},{"$f":"'SIP Returns'!J114","v":0},1,10,8,4,1,1,{"$f":"IF(J113=\"\",\"\",IF(J113>Inputs!$D$9,0,1))","v":1},{"$f":"IF(K113=\"\",\"\",IF(K113>Inputs!$D$9,0,1))","v":1},{"$f":"IF(L113=\"\",\"\",IF(L113>Inputs!$D$9,0,1))","v":1},{"$f":"IF(M113=\"\",\"\",IF(M113>Inputs!$D$9,0,1))","v":1},{"$f":"IF(N113=\"\",\"\",IF(N113>Inputs!$D$9,0,1))","v":1},{"$f":"IF(O113=\"\",\"\",IF(O113>Inputs!$D$9,0,1))","v":1},{"$f":"IF(COUNT(P113:U113)=0,\"\",INDEX(Inputs!$O$21:$P$26,MATCH(COUNT(P113:U113),Inputs!$O$21:$O$26,0),2))","v":20},1,null,null,{"$f":"IF(D113=\"\",\"\",IF(D113=\"-\",\"\",IF(D113>AVERAGE($D$2:$D$1000),1,0)))","v":1},1,1,1,1,1,1]
[{"$f":"'SIP Returns'!B115","v":0},null,{"$f":"'SIP Returns'!D115","v":0},{"$f":"'SIP Returns'!E115","v":0},{"$f":"'SIP Returns'!F115","v":0},{"$f":"'SIP Returns'!G115","v":0},{"$f":"'SIP Returns'!H115","v":0},{"$f":"'SIP Returns'!I115","v":0},{"$f":"'SIP Returns'!J115","v":0},1,10,8,4,1,1,{"$f":"IF(J114=\"\",\"\",IF(J114>Inputs!$D$9,0,1))","v":1},{"$f":"IF(K114=\"\",\"\",IF(K114>Inputs!$D$9,0,1))","v":1},{"$f":"IF(L114=\"\",\"\",IF(L114>Inputs!$D$9,0,1))","v":1},{"$f":"IF(M114=\"\",\"\",IF(M114>Inputs!$D$9,0,1))","v":1},{"$f":"IF(N114=\"\",\"\",IF(N114>Inputs!$D$9,0,1))","v":1},{"$f":"IF(O114=\"\",\"\",IF(O114>Inputs!$D$9,0,1))","v":1},{"$f":"IF(COUNT(P114:U114)=0,\"\",INDEX(Inputs!$O$21:$P$26,MATCH(COUNT(P114:U114),Inputs!$O$21:$O$26,0),2))","v":20},1,null,null,{"$f":"IF(D114=\"\",\"\",IF(D114=\"-\",\"\",IF(D114>AVERAGE($D$2:$D$1000),1,0)))","v":1},1,1,1,1,1,1]
[{"$f":"'SIP Returns'!B116","v":0},null,{"$f":"'SIP Returns'!D116","v":0},{"$f":"'SIP Returns'!E116","v":0},{"$f":"'SIP Returns'!F116","v":0},{"$f":"'SIP Returns'!G116","v":0},{"$f":"'SIP Returns'!H116","v":0},{"$f":"'SIP Returns'!I116","v":0},{"$f":"'SIP Returns'!J116","v":0},1,10,8,4,1,1,{"$f":"IF(J115=\"\",\"\",IF(J115>Inputs!$D$9,0,1))","v":1},{"$f":"IF(K115=\"\",\"\",IF(K115>Inputs!$D$9,0,1))","v":1},{"$f":"IF(L115=\"\",\"\",IF(L115>Inputs!$D$9,0,1))","v":1},{"$f":"IF(M115=\"\",\"\",IF(M115>Inputs!$D$9,0,1))","v":1},{"$f":"IF(N115=\"\",\"\",IF(N115>Inputs!$D$9,0,1))","v":1},{"$f":"IF(O115=\"\",\"\",IF(O115>Inputs!$D$9,0,1))","v":1},{"$f":"IF(COUNT(P115:U115)=0,\"\",INDEX(Inputs!$O$21:$P$26,MATCH(COUNT(P115:U115),Inputs!$O$21:$O$26,0),2))","v":20},1,null,null,{"$f":"IF(D115=\"\",\"\",IF(D115=\"-\",\"\",IF(D115>AVERAGE($D$2:$D$1000),1,0)))","v":1},1,1,1,1,1,1]
[{"$f":"'SIP Returns'!B117","v":0},null,{"$f":"'SIP Returns'!D117","v":0},{"$f":"'SIP Returns'!E117","v":0},{"$f":"'SIP Returns'!F117","v":0},{"$f":"'SIP Returns'!G117","v":0},{"$f":"'SIP Returns'!H117","v":0},{"$f":"'SIP Returns'!I117","v":0},{"$f":"'SIP Returns'!J117","v":0},1,10,8,4,1,1,{"$f":"IF(J116=\"\",\"\",IF(J116>Inputs!$D$9,0,1))","v":1},{"$f":"IF(K116=\"\",\"\",IF(K116>Inputs!$D$9,0,1))","v":1},{"$f":"IF(L116=\"\",\"\",IF(L116>Inputs!$D$9,0,1))","v":1},{"$f":"IF(M116=\"\",\"\",IF(M116>Inputs!$D$9,0,1))","v":1},{"$f":"IF(N116=\"\",\"\",IF(N116>Inputs!$D$9,0,1))","v":1},{"$f":"IF(O116=\"\",\"\",IF(O116>Inputs!$D$9,0,1))","v":1},{"$f":"IF(COUNT(P116:U116)=0,\"\",INDEX(Inputs!$O$21:$P$26,MATCH(COUNT(P116:U116),Inputs!$O$21:$O$26,0),2))","v":20},1,null,null,{"$f":"IF(D116=\"\",\"\",IF(D116=\"-\",\"\",IF(D116>AVERAGE($D$2:$D$1000),1,0)))","v":1},1,1,1,1,1,1]
[{"$f":"'SIP Returns'!B118","v":0},null,{"$f":"'SIP Returns'!D118","v":0},{"$f":"'SIP Returns'!E118","v":0},{"$f":"'SIP Returns'!F118","v":0},{"$f":"'SIP Returns'!G118","v":0},{"$f":"'SIP Returns'!H118","v":0},{"$f":"'SIP Returns'!I118","v":0},{"$f":"'SIP Returns'!J118","v":0},1,10,8,4,1,1,{"$f":"IF(J117=\"\",\"\",IF(J117>Inputs!$D$9,0,1))","v":1},{"$f":"IF(K117=\"\",\"\",IF(K117>Inputs!$D$9,0,1))","v":1},{"$f":"IF(L117=\"\",\"\",IF(L117>Inputs!$D$9,0,1))","v":1},{"$f":"IF(M117=\"\",\"\",IF(M117>Inputs!$D$9,0,1))","v":1},{"$f":"IF(N117=\"\",\"\",IF(N117>Inputs!$D$9,0,1))","v":1},{"$f":"IF(O117=\"\",\"\",IF(O117>Inputs!$D$9,0,1))","v":1},{"$f":"IF(COUNT(P117:U117)=0,\"\",INDEX(Inputs!$O$21:$P$26,MATCH(COUNT(P117:U117),Inputs!$O$21:$O$26,0),2))","v":20},1,null,null,{"$f":"IF(D117=\"\",\"\",IF(D117=\"-\",\"\",IF(D117>AVERAGE($D$2:$D$1000),1,0)))","v":1},1,1,1,1,1,1]
[{"$f":"'SIP Returns'!B119","v":0},null,{"$f":"'SIP Returns'!D119","v":0},{"$f":"'SIP Returns'!E119","v":0},{"$f":"'SIP Returns'!F119","v":0},{"$f":"'SIP Returns'!G119","v":0},{"$f":"'SIP Returns'!H119","v":0},{"$f":"'SIP Returns'!I119","v":0},{"$f":"'SIP Returns'!J119","v":0},1,10,8,4,1,1,{"$f":"IF(J118=\"\",\"\",IF(J118>Inputs!$D$9,0,1))","v":1},{"$f":"IF(K118=\"\",\"\",IF(K118>Inputs!$D$9,0,1))","v":1},{"$f":"IF(L118=\"\",\"\",IF(L118>Inputs!$D$9,0,1))","v":1},{"$f":"IF(M118=\"\",\"\",IF(M118>Inputs!$D$9,0,1))","v":1},{"$f":"IF(N118=\"\",\"\",IF(N118>Inputs!$D$9,0,1))","v":1},{"$f":"IF(O118=\"\",\"\",IF(O118>Inputs!$D$9,0,1))","v":1},{"$f":"IF(COUNT(P118:U118)=0,\"\",INDEX(Inputs!$O$21:$P$26,MATCH(COUNT(P118:U118),Inputs!$O$21:$O$26,0),2))","v":20},1,null,null,{"$f":"IF(D118=\"\",\"\",IF(D118=\"-\",\"\",IF(D118>AVERAGE($D$2:$D$1000),1,0)))","v":1},1,1,1,1,1,1]
[{"$f":"'SIP Returns'!B120","v":0},null,{"$f":"'SIP Returns'!D120","v":0},{"$f":"'SIP Returns'!E120","v":0},{"$f":"'SIP Returns'!F120","v":0},{"$f":"'SIP Returns'!G120","v":0},{"$f":"'SIP Returns'!H120","v":0},{"$f":"'SIP Returns'!I120","v":0},{"$f":"'SIP Returns'!J120","v":0},1,10,8,4,1,1,{"$f":"IF(J119=\"\",\"\",IF(J119>Inputs!$D$9,0,1))","v":1},{"$f":"IF(K119=\"\",\"\",IF(K119>Inputs!$D$9,0,1))","v":1},{"$f":"IF(L119=\"\",\"\",IF(L119>Inputs!$D$9,0,1))","v":1},{"$f":"IF(M119=\"\",\"\",IF(M119>Inputs!$D$9,0,1))","v":1},{"$f":"IF(N119=\"\",\"\",IF(N119>Inputs!$D$9,0,1))","v":1},{"$f":"IF(O119=\"\",\"\",IF(O119>Inputs!$D$9,0,1))","v":1},{"$f":"IF(COUNT(P119:U119)=0,\"\",INDEX(Inputs!$O$21:$P$26,MATCH(COUNT(P119:U119),Inputs!$O$21:$O$26,0),2))","v":20},1,null,null,{"$f":"IF(D119=\"\",\"\",IF(D119=\"-\",\"\",IF(D119>AVERAGE($D$2:$D$1000),1,0)))","v":1},1,1,1,1,1,1]
[{"$f":"'SIP Returns'!B121","v":0},null,{"$f":"'SIP Returns'!D121","v":0},{"$f":"'SIP Returns'!E121","v":0},{"$f":"'SIP Returns'!F121","v":0},{"$f":"'SIP Returns'!G121","v":0},{"$f":"'SIP Returns'!H121","v":0},{"$f":"'SIP Returns'!I121","v":0},{"$f":"'SIP Returns'!J121","v":0},1,10,8,4,1,1,{"$f":"IF(J120=\"\",\"\",IF(J120>Inputs!$D$9,0,1))","v":1},{"$f":"IF(K120=\"\",\"\",IF(K120>Inputs!$D$9,0,1))","v":1},{"$f":"IF(L120=\"\",\"\",IF(L120>Inputs!$D$9,0,1))","v":1},{"$f":"IF(M120=\"\",\"\",IF(M120>Inputs!$D$9,0,1))","v":1},{"$f":"IF(N120=\"\",\"\",IF(N120>Inputs!$D$9,0,1))","v":1},{"$f":"IF(O120=\"\",\"\",IF(O120>Inputs!$D$9,0,1))","v":1},{"$f":"IF(COUNT(P120:U120)=0,\"\",INDEX(Inputs!$O$21:$P$26,MATCH(COUNT(P120:U120),Inputs!$O$21:$O$26,0),2))","v":20},1,null,null,{"$f":"IF(D120=\"\",\"\",IF(D120=\"-\",\"\",IF(D120>AVERAGE($D$2:$D$1000),1,0)))","v":1},1,1,1,1,1,1]
[{"$f":"'SIP Returns'!B122","v":0},null,{"$f":"'SIP Returns'!D122","v":0},{"$f":"'SIP Returns'!E122","v":0},{"$f":"'SIP Returns'!F122","v":0},{"$f":"'SIP Returns'!G122","v":0},{"$f":"'SIP Returns'!H122","v":0},{"$f":"'SIP Returns'!I122","v":0},{"$f":"'SIP Returns'!J122","v":0},1,10,8,4,1,1,{"$f":"IF(J121=\"\",\"\",IF(J121>Inputs!$D$9,0,1))","v":1},{"$f":"IF(K121=\"\",\"\",IF(K121>Inputs!$D$9,0,1))","v":1},{"$f":"IF(L121=\"\",\"\",IF(L121>Inputs!$D$9,0,1))","v":1},{"$f":"IF(M121=\"\",\"\",IF(M121>Inputs!$D$9,0,1))","v":1},{"$f":"IF(N121=\"\",\"\",IF(N121>Inputs!$D$9,0,1))","v":1},{"$f":"IF(O121=\"\",\"\",IF(O121>Inputs!$D$9,0,1))","v":1},{"$f":"IF(COUNT(P121:U121)=0,\"\",INDEX(Inputs!$O$21:$P$26,MATCH(COUNT(P121:U121),Inputs!$O$21:$O$26,0),2))","v":20},1,null,null,{"$f":"IF(D121=\"\",\"\",IF(D121=\"-\",\"\",IF(D121>AVERAGE($D$2:$D$1000),1,0)))","v":1},1,1,1,1,1,1]
[{"$f":"'SIP Returns'!B123","v":0},null,{"$f":"'SIP Returns'!D123","v":0},{"$f":"'SIP Returns'!E123","v":0},{"$f":"'SIP Returns'!F123","v":0},{"$f":"'SIP Returns'!G123","v":0},{"$f":"'SIP Returns'!H123","v":0},{"$f":"'SIP Returns'!I123","v":0},{"$f":"'SIP Returns'!J123","v":0},1,10,8,4,1,1,{"$f":"IF(J122=\"\",\"\",IF(J122>Inputs!$D$9,0,1))","v":1},{"$f":"IF(K122=\"\",\"\",IF(K122>Inputs!$D$9,0,1))","v":1},{"$f":"IF(L122=\"\",\"\",IF(L122>Inputs!$D$9,0,1))","v":1},{"$f":"IF(M122=\"\",\"\",IF(M122>Inputs!$D$9,0,1))","v":1},{"$f":"IF(N122=\"\",\"\",IF(N122>Inputs!$D$9,0,1))","v":1},{"$f":"IF(O122=\"\",\"\",IF(O122>Inputs!$D$9,0,1))","v":1},{"$f":"IF(COUNT(P122:U122)=0,\"\",INDEX(Inputs!$O$21:$P$26,MATCH(COUNT(P122:U122),Inputs!$O$21:$O$26,0),2))","v":20},1,null,null,{"$f":"IF(D122=\"\",\"\",IF(D122=\"-\",\"\",IF(D122>AVERAGE($D$2:$D$1000),1,0)))","v":1},1,1,1,1,1,1]
[{"$f":"'SIP Returns'!B124","v":0},null,{"$f":"'SIP Returns'!D124","v":0},{"$f":"'SIP Returns'!E124","v":0},{"$f":"'SIP Returns'!F124","v":0},{"$f":"'SIP Returns'!G124","v":0},{"$f":"'SIP Returns'!H124","v":0},{"$f":"'SIP Returns'!I124","v":0},{"$f":"'SIP Returns'!J124","v":0},1,10,8,4,1,1,{"$f":"IF(J123=\"\",\"\",IF(J123>Inputs!$D$9,0,1))","v":1},{"$f":"IF(K123=\"\",\"\",IF(K123>Inputs!$D$9,0,1))","v":1},{"$f":"IF(L123=\"\",\"\",IF(L123>Inputs!$D$9,0,1))","v":1},{"$f":"IF(M123=\"\",\"\",IF(M123>Inputs!$D$9,0,1))","v":1},{"$f":"IF(N123=\"\",\"\",IF(N123>Inputs!$D$9,0,1))","v":1},{"$f":"IF(O123=\"\",\"\",IF(O123>Inputs!$D$9,0,1))","v":1},{"$f":"IF(COUNT(P123:U123)=0,\"\",INDEX(Inputs!$O$21:$P$26,MATCH(COUNT(P123:U123),Inputs!$O$21:$O$26,0),2))","v":20},1,null,null,{"$f":"IF(D123=\"\",\"\",IF(D123=\"-\",\"\",IF(D123>AVERAGE($D$2:$D$1000),1,0)))","v":1},1,1,1,1,1,1]
[{"$f":"'SIP Returns'!B125","v":0},null,{"$f":"'SIP Returns'!D125","v":0},{"$f":"'SIP Returns'!E125","v":0},{"$f":"'SIP Returns'!F125","v":0},{"$f":"'SIP Returns'!G125","v":0},{"$f":"'SIP Returns'!H125","v":0},{"$f":"'SIP Returns'!I125","v":0},{"$f":"'SIP Returns'!J125","v":0},1,10,8,4,1,1,{"$f":"IF(J124=\"\",\"\",IF(J124>Inputs!$D$9,0,1))","v":1},{"$f":"IF(K124=\"\",\"\",IF(K124>Inputs!$D$9,0,1))","v":1},{"$f":"IF(L124=\"\",\"\",IF(L124>Inputs!$D$9,0,1))","v":1},{"$f":"IF(M124=\"\",\"\",IF(M124>Inputs!$D$9,0,1))","v":1},{"$f":"IF(N124=\"\",\"\",IF(N124>Inputs!$D$9,0,1))","v":1},{"$f":"IF(O124=\"\",\"\",IF(O124>Inputs!$D$9,0,1))","v":1},{"$f":"IF(COUNT(P124:U124)=0,\"\",INDEX(Inputs!$O$21:$P$26,MATCH(COUNT(P124:U124),Inputs!$O$21:$O$26,0),2))","v":20},1,null,null,{"$f":"IF(D124=\"\",\"\",IF(D124=\"-\",\"\",IF(D124>AVERAGE($D$2:$D$1000),1,0)))","v":1},1,1,1,1,1,1]
[{"$f":"'SIP Returns'!B126","v":0},null,{"$f":"'SIP Returns'!D126","v":0},{"$f":"'SIP Returns'!E126","v":0},{"$f":"'SIP Returns'!F126","v":0},{"$f":"'SIP Returns'!G126","v":0},{"$f":"'SIP Returns'!H126","v":0},{"$f":"'SIP Returns'!I126","v":0},{"$f":"'SIP Returns'!J126","v":0},1,10,8,4,1,1,{"$f":"IF(J125=\"\",\"\",IF(J125>Inputs!$D$9,0,1))","v":1},{"$f":"IF(K125=\"\",\"\",IF(K125>Inputs!$D$9,0,1))","v":1},{"$f":"IF(L125=\"\",\"\",IF(L125>Inputs!$D$9,0,1))","v":1},{"$f":"IF(M125=\"\",\"\",IF(M125>Inputs!$D$9,0,1))","v":1},{"$f":"IF(N125=\"\",\"\",IF(N125>Inputs!$D$9,0,1))","v":1},{"$f":"IF(O125=\"\",\"\",IF(O125>Inputs!$D$9,0,1))","v":1},{"$f":"IF(COUNT(P125:U125)=0,\"\",INDEX(Inputs!$O$21:$P$26,MATCH(COUNT(P125:U125),Inputs!$O$21:$O$26,0),2))","v":20},1,null,null,{"$f":"IF(D125=\"\",\"\",IF(D125=\"-\",\"\",IF(D125>AVERAGE($D$2:$D$1000),1,0)))","v":1},1,1,1,1,1,1]
[{"$f":"'SIP Returns'!B127","v":0},null,{"$f":"'SIP Returns'!D127","v":0},{"$f":"'SIP Returns'!E127","v":0},{"$f":"'SIP Returns'!F127","v":0},{"$f":"'SIP Returns'!G127","v":0},{"$f":"'SIP Returns'!H127","v":0},{"$f":"'SIP Returns'!I127","v":0},{"$f":"'SIP Returns'!J127","v":0},1,10,8,4,1,1,{"$f":"IF(J126=\"\",\"\",IF(J126>Inputs!$D$9,0,1))","v":1},{"$f":"IF(K126=\"\",\"\",IF(K126>Inputs!$D$9,0,1))","v":1},{"$f":"IF(L126=\"\",\"\",IF(L126>Inputs!$D$9,0,1))","v":1},{"$f":"IF(M126=\"\",\"\",IF(M126>Inputs!$D$9,0,1))","v":1},{"$f":"IF(N126=\"\",\"\",IF(N126>Inputs!$D$9,0,1))","v":1},{"$f":"IF(O126=\"\",\"\",IF(O126>Inputs!$D$9,0,1))","v":1},{"$f":"IF(COUNT(P126:U126)=0,\"\",INDEX(Inputs!$O$21:$P$26,MATCH(COUNT(P126:U126),Inputs!$O$21:$O$26,0),2))","v":20},1,null,null,{"$f":"IF(D126=\"\",\"\",IF(D126=\"-\",\"\",IF(D126>AVERAGE($D$2:$D$1000),1,0)))","v":1},1,1,1,1,1,1]
[{"$f":"'SIP Returns'!B128","v":0},null,{"$f":"'SIP Returns'!D128","v":0},{"$f":"'SIP Returns'!E128","v":0},{"$f":"'SIP Returns'!F128","v":0},{"$f":"'SIP Returns'!G128","v":0},{"$f":"'SIP Returns'!H128","v":0},{"$f":"'SIP Returns'!I128","v":0},{"$f":"'SIP Returns'!J128","v":0},1,10,8,4,1,1,{"$f":"IF(J127=\"\",\"\",IF(J127>Inputs!$D$9,0,1))","v":1},{"$f":"IF(K127=\"\",\"\",IF(K127>Inputs!$D$9,0,1))","v":1},{"$f":"IF(L127=\"\",\"\",IF(L127>Inputs!$D$9,0,1))","v":1},{"$f":"IF(M127=\"\",\"\",IF(M127>Inputs!$D$9,0,1))","v":1},{"$f":"IF(N127=\"\",\"\",IF(N127>Inputs!$D$9,0,1))","v":1},{"$f":"IF(O127=\"\",\"\",IF(O127>Inputs!$D$9,0,1))","v":1},{"$f":"IF(COUNT(P127:U127)=0,\"\",INDEX(Inputs!$O$21:$P$26,MATCH(COUNT(P127:U127),Inputs!$O$21:$O$26,0),2))","v":20},1,null,null,{"$f":"IF(D127=\"\",\"\",IF(D127=\"-\",\"\",IF(D127>AVERAGE($D$2:$D$1000),1,0)))","v":1},1,1,1,1,1,1]
[{"$f":"'SIP Returns'!B129","v":0},null,{"$f":"'SIP Returns'!D129","v":0},{"$f":"'SIP Returns'!E129","v":0},{"$f":"'SIP Returns'!F129","v":0},{"$f":"'SIP Returns'!G129","v":0},{"$f":"'SIP Returns'!H129","v":0},{"$f":"'SIP Returns'!I129","v":0},{"$f":"'SIP Returns'!J129","v":0},1,10,8,4,1,1,{"$f":"IF(J128=\"\",\"\",IF(J128>Inputs!$D$9,0,1))","v":1},{"$f":"IF(K128=\"\",\"\",IF(K128>Inputs!$D$9,0,1))","v":1},{"$f":"IF(L128=\"\",\"\",IF(L128>Inputs!$D$9,0,1))","v":1},{"$f":"IF(M128=\"\",\"\",IF(M128>Inputs!$D$9,0,1))","v":1},{"$f":"IF(N128=\"\",\"\",IF(N128>Inputs!$D$9,0,1))","v":1},{"$f":"IF(O128=\"\",\"\",IF(O128>Inputs!$D$9,0,1))","v":1},{"$f":"IF(COUNT(P128:U128)=0,\"\",INDEX(Inputs!$O$21:$P$26,MATCH(COUNT(P128:U128),Inputs!$O$21:$O$26,0),2))","v":20},1,null,null,{"$f":"IF(D128=\"\",\"\",IF(D128=\"-\",\"\",IF(D128>AVERAGE($D$2:$D$1000),1,0)))","v":1},1,1,1,1,1,1]
[{"$f":"'SIP Returns'!B130","v":0},null,{"$f":"'SIP Returns'!D130","v":0},{"$f":"'SIP Returns'!E130","v":0},{"$f":"'SIP Returns'!F130","v":0},{"$f":"'SIP Returns'!G130","v":0},{"$f":"'SIP Returns'!H130","v":0},{"$f":"'SIP Returns'!I130","v":0},{"$f":"'SIP Returns'!J130","v":0},1,10,8,4,1,1,{"$f":"IF(J129=\"\",\"\",IF(J129>Inputs!$D$9,0,1))","v":1},{"$f":"IF(K129=\"\",\"\",IF(K129>Inputs!$D$9,0,1))","v":1},{"$f":"IF(L129=\"\",\"\",IF(L129>Inputs!$D$9,0,1))","v":1},{"$f":"IF(M129=\"\",\"\",IF(M129>Inputs!$D$9,0,1))","v":1},{"$f":"IF(N129=\"\",\"\",IF(N129>Inputs!$D$9,0,1))","v":1},{"$f":"IF(O129=\"\",\"\",IF(O129>Inputs!$D$9,0,1))","v":1},{"$f":"IF(COUNT(P129:U129)=0,\"\",INDEX(Inputs!$O$21:$P$26,MATCH(COUNT(P129:U129),Inputs!$O$21:$O$26,0),2))","v":20},1,null,null,{"$f":"IF(D129=\"\",\"\",IF(D129=\"-\",\"\",IF(D129>AVERAGE($D$2:$D$1000),1,0)))","v":1},1,1,1,1,1,1]
[{"$f":"'SIP Returns'!B131","v":0},null,{"$f":"'SIP Returns'!D131","v":0},{"$f":"'SIP Returns'!E131","v":0},{"$f":"'SIP Returns'!F131","v":0},{"$f":"'SIP Returns'!G131","v":0},{"$f":"'SIP Returns'!H131","v":0},{"$f":"'SIP Returns'!I131","v":0},{"$f":"'SIP Returns'!J131","v":0},{"$f":"IF($A130=\"\",\"\",IF(ISERROR(RANK(D130,$D$2:$D$1000,0)),\"\",RANK(D130,$D$2:$D$1000,0)))","v":1},{"$f":"IF($A130=\"\",\"\",IF(ISERROR(RANK(E130,$E$2:$E$1000,0)),\"\",RANK(E130,$E$2:$E$1000,0)))","v":10},{"$f":"IF($A130=\"\",\"\",IF(ISERROR(RANK(F130,$F$2:$F$1000,0)),\"\",RANK(F130,$F$2:$F$1000,0)))","v":8},{"$f":"IF($A130=\"\",\"\",IF(ISERROR(RANK(G130,$G$2:$G$1000,0)),\"\",RANK(G130,$G$2:$G$1000,0)))","v":4},{"$f":"IF($A130=\"\",\"\",IF(ISERROR(RANK(H130,$H$2:$H$1000,0)),\"\",RANK(H130,$H$2:$H$1000,0)))","v":1},{"$f":"IF($A130=\"\",\"\",IF(ISERROR(RANK(I130,$I$2:$I$1000,0)),\"\",RANK(I130,$I$2:$I$1000,0)))","v":1},{"$f":"IF(J130=\"\",\"\",IF(J130>Inputs!$D$9,0,1))","v":1},{"$f":"IF(K130=\"\",\"\",IF(K130>Inputs!$D$9,0,1))","v":1},{"$f":"IF(L130=\"\",\"\",IF(L130>Inputs!$D$9,0,1))","v":1},{"$f":"IF(M130=\"\",\"\",IF(M130>Inputs!$D$9,0,1))","v":1},{"$f":"IF(N130=\"\",\"\",IF(N130>Inputs!$D$9,0,1))","v":1},{"$f":"IF(O130=\"\",\"\",IF(O130>Inputs!$D$9,0,1))","v":1},{"$f":"IF(COUNT(P130:U130)=0,\"\",INDEX(Inputs!$O$21:$P$26,MATCH(COUNT(P130:U130),Inputs!$O$21:$O$26,0),2))","v":20},1,null,null,{"$f":"IF(D130=\"\",\"\",IF(D130=\"-\",\"\",IF(D130>AVERAGE($D$2:$D$1000),1,0)))","v":1},1,1,1,1,1,{"$f":"IF(COUNT(Z130:AE130)=0,\"\",SUM(Z130:AE130)/COUNT(Z130:AE130))","v":1}]
[{"$f":"'SIP Returns'!B132","v":0},null,{"$f":"'SIP Returns'!D132","v":0},{"$f":"'SIP Returns'!E132","v":0},{"$f":"'SIP Returns'!F132","v":0},{"$f":"'SIP Returns'!G132","v":0},{"$f":"'SIP Returns'!H132","v":0},{"$f":"'SIP Returns'!I132","v":0},{"$f":"'SIP Returns'!J132","v":0},1,10,8,4,1,1,{"$f":"IF(J131=\"\",\"\",IF(J131>Inputs!$D$9,0,1))","v":1},{"$f":"IF(K131=\"\",\"\",IF(K131>Inputs!$D$9,0,1))","v":1},{"$f":"IF(L131=\"\",\"\",IF(L131>Inputs!$D$9,0,1))","v":1},{"$f":"IF(M131=\"\",\"\",IF(M131>Inputs!$D$9,0,1))","v":1},{"$f":"IF(N131=\"\",\"\",IF(N131>Inputs!$D$9,0,1))","v":1},{"$f":"IF(O131=\"\",\"\",IF(O131>Inputs!$D$9,0,1))","v":1},{"$f":"IF(COUNT(P131:U131)=0,\"\",INDEX(Inputs!$O$21:$P$26,MATCH(COUNT(P131:U131),Inputs!$O$21:$O$26,0),2))","v":20},{"$f":"IF(COUNT(P131:U131)=0,\"\",SUM(P131:U131)/COUNT(P131:U131))","v":1},null,null,{"$f":"IF(D131=\"\",\"\",IF(D131=\"-\",\"\",IF(D131>AVERAGE($D$2:$D$1000),1,0)))","v":1},1,1,1,1,1,1]
[{"$f":"'SIP Returns'!B133","v":0},null,{"$f":"'SIP Returns'!D133","v":0},{"$f":"'SIP Returns'!E133","v":0},{"$f":"'SIP Returns'!F133","v":0},{"$f":"'SIP Returns'!G133","v":0},{"$f":"'SIP Returns'!H133","v":0},{"$f":"'SIP Returns'!I133","v":0},{"$f":"'SIP Returns'!J133","v":0},1,10,8,4,1,1,{"$f":"IF(J132=\"\",\"\",IF(J132>Inputs!$D$9,0,1))","v":1},{"$f":"IF(K132=\"\",\"\",IF(K132>Inputs!$D$9,0,1))","v":1},{"$f":"IF(L132=\"\",\"\",IF(L132>Inputs!$D$9,0,1))","v":1},{"$f":"IF(M132=\"\",\"\",IF(M132>Inputs!$D$9,0,1))","v":1},{"$f":"IF(N132=\"\",\"\",IF(N132>Inputs!$D$9,0,1))","v":1},{"$f":"IF(O132=\"\",\"\",IF(O132>Inputs!$D$9,0,1))","v":1},{"$f":"IF(COUNT(P132:U132)=0,\"\",INDEX(Inputs!$O$21:$P$26,MATCH(COUNT(P132:U132),Inputs!$O$21:$O$26,0),2))","v":20},1,null,null,{"$f":"IF(D132=\"\",\"\",IF(D132=\"-\",\"\",IF(D132>AVERAGE($D$2:$D$1000),1,0)))","v":1},1,1,1,1,1,1]
[{"$f":"'SIP Returns'!B134","v":0},null,{"$f":"'SIP Returns'!D134","v":0},{"$f":"'SIP Returns'!E134","v":0},{"$f":"'SIP Returns'!F134","v":0},{"$f":"'SIP Returns'!G134","v":0},{"$f":"'SIP Returns'!H134","v":0},{"$f":"'SIP Returns'!I134","v":0},{"$f":"'SIP Returns'!J134","v":0},1,10,8,4,1,1,{"$f":"IF(J133=\"\",\"\",IF(J133>Inputs!$D$9,0,1))","v":1},{"$f":"IF(K133=\"\",\"\",IF(K133>Inputs!$D$9,0,1))","v":1},{"$f":"IF(L133=\"\",\"\",IF(L133>Inputs!$D$9,0,1))","v":1},{"$f":"IF(M133=\"\",\"\",IF(M133>Inputs!$D$9,0,1))","v":1},{"$f":"IF(N133=\"\",\"\",IF(N133>Inputs!$D$9,0,1))","v":1},{"$f":"IF(O133=\"\",\"\",IF(O133>Inputs!$D$9,0,1))","v":1},{"$f":"IF(COUNT(P133:U133)=0,\"\",INDEX(Inputs!$O$21:$P$26,MATCH(COUNT(P133:U133),Inputs!$O$21:$O$26,0),2))","v":20},1,null,null,{"$f":"IF(D133=\"\",\"\",IF(D133=\"-\",\"\",IF(D133>AVERAGE($D$2:$D$1000),1,0)))","v":1},1,1,1,1,1,1]
[{"$f":"'SIP Returns'!B135","v":0},null,{"$f":"'SIP Returns'!D135","v":0},{"$f":"'SIP Returns'!E135","v":0},{"$f":"'SIP Returns'!F135","v":0},{"$f":"'SIP Returns'!G135","v":0},{"$f":"'SIP Returns'!H135","v":0},{"$f":"'SIP Returns'!I135","v":0},{"$f":"'SIP Returns'!J135","v":0},1,10,8,4,1,1,{"$f":"IF(J134=\"\",\"\",IF(J134>Inputs!$D$9,0,1))","v":1},{"$f":"IF(K134=\"\",\"\",IF(K134>Inputs!$D$9,0,1))","v":1},{"$f":"IF(L134=\"\",\"\",IF(L134>Inputs!$D$9,0,1))","v":1},{"$f":"IF(M134=\"\",\"\",IF(M134>Inputs!$D$9,0,1))","v":1},{"$f":"IF(N134=\"\",\"\",IF(N134>Inputs!$D$9,0,1))","v":1},{"$f":"IF(O134=\"\",\"\",IF(O134>Inputs!$D$9,0,1))","v":1},{"$f":"IF(COUNT(P134:U134)=0,\"\",INDEX(Inputs!$O$21:$P$26,MATCH(COUNT(P134:U134),Inputs!$O$21:$O$26,0),2))","v":20},1,null,null,{"$f":"IF(D134=\"\",\"\",IF(D134=\"-\",\"\",IF(D134>AVERAGE($D$2:$D$1000),1,0)))","v":1},1,1,1,1,1,1]
[{"$f":"'SIP Returns'!B136","v":0},null,{"$f":"'SIP Returns'!D136","v":0},{"$f":"'SIP Returns'!E136","v":0},{"$f":"'SIP Returns'!F136","v":0},{"$f":"'SIP Returns'!G136","v":0},{"$f":"'SIP Returns'!H136","v":0},{"$f":"'SIP Returns'!I136","v":0},{"$f":"'SIP Returns'!J136","v":0},1,10,8,4,1,1,{"$f":"IF(J135=\"\",\"\",IF(J135>Inputs!$D$9,0,1))","v":1},{"$f":"IF(K135=\"\",\"\",IF(K135>Inputs!$D$9,0,1))","v":1},{"$f":"IF(L135=\"\",\"\",IF(L135>Inputs!$D$9,0,1))","v":1},{"$f":"IF(M135=\"\",\"\",IF(M135>Inputs!$D$9,0,1))","v":1},{"$f":"IF(N135=\"\",\"\",IF(N135>Inputs!$D$9,0,1))","v":1},{"$f":"IF(O135=\"\",\"\",IF(O135>Inputs!$D$9,0,1))","v":1},{"$f":"IF(COUNT(P135:U135)=0,\"\",INDEX(Inputs!$O$21:$P$26,MATCH(COUNT(P135:U135),Inputs!$O$21:$O$26,0),2))","v":20},1,null,null,{"$f":"IF(D135=\"\",\"\",IF(D135=\"-\",\"\",IF(D135>AVERAGE($D$2:$D$1000),1,0)))","v":1},1,1,1,1,1,1]
[{"$f":"'SIP Returns'!B137","v":0},null,{"$f":"'SIP Returns'!D137","v":0},{"$f":"'SIP Returns'!E137","v":0},{"$f":"'SIP Returns'!F137","v":0},{"$f":"'SIP Returns'!G137","v":0},{"$f":"'SIP Returns'!H137","v":0},{"$f":"'SIP Returns'!I137","v":0},{"$f":"'SIP Returns'!J137","v":0},1,10,8,4,1,1,{"$f":"IF(J136=\"\",\"\",IF(J136>Inputs!$D$9,0,1))","v":1},{"$f":"IF(K136=\"\",\"\",IF(K136>Inputs!$D$9,0,1))","v":1},{"$f":"IF(L136=\"\",\"\",IF(L136>Inputs!$D$9,0,1))","v":1},{"$f":"IF(M136=\"\",\"\",IF(M136>Inputs!$D$9,0,1))","v":1},{"$f":"IF(N136=\"\",\"\",IF(N136>Inputs!$D$9,0,1))","v":1},{"$f":"IF(O136=\"\",\"\",IF(O136>Inputs!$D$9,0,1))","v":1},{"$f":"IF(COUNT(P136:U136)=0,\"\",INDEX(Inputs!$O$21:$P$26,MATCH(COUNT(P136:U136),Inputs!$O$21:$O$26,0),2))","v":20},1,null,null,{"$f":"IF(D136=\"\",\"\",IF(D136=\"-\",\"\",IF(D136>AVERAGE($D$2:$D$1000),1,0)))","v":1},1,1,1,1,1,1]
[{"$f":"'SIP Returns'!B138","v":0},null,{"$f":"'SIP Returns'!D138","v":0},{"$f":"'SIP Returns'!E138","v":0},{"$f":"'SIP Returns'!F138","v":0},{"$f":"'SIP Returns'!G138","v":0},{"$f":"'SIP Returns'!H138","v":0},{"$f":"'SIP Returns'!I138","v":0},{"$f":"'SIP Returns'!J138","v":0},1,10,8,4,1,1,{"$f":"IF(J137=\"\",\"\",IF(J137>Inputs!$D$9,0,1))","v":1},{"$f":"IF(K137=\"\",\"\",IF(K137>Inputs!$D$9,0,1))","v":1},{"$f":"IF(L137=\"\",\"\",IF(L137>Inputs!$D$9,0,1))","v":1},{"$f":"IF(M137=\"\",\"\",IF(M137>Inputs!$D$9,0,1))","v":1},{"$f":"IF(N137=\"\",\"\",IF(N137>Inputs!$D$9,0,1))","v":1},{"$f":"IF(O137=\"\",\"\",IF(O137>Inputs!$D$9,0,1))","v":1},{"$f":"IF(COUNT(P137:U137)=0,\"\",INDEX(Inputs!$O$21:$P$26,MATCH(COUNT(P137:U137),Inputs!$O$21:$O$26,0),2))","v":20},1,null,null,{"$f":"IF(D137=\"\",\"\",IF(D137=\"-\",\"\",IF(D137>AVERAGE($D$2:$D$1000),1,0)))","v":1},1,1,1,1,1,1]
[{"$f":"'SIP Returns'!B139","v":0},null,{"$f":"'SIP Returns'!D139","v":0},{"$f":"'SIP Returns'!E139","v":0},{"$f":"'SIP Returns'!F139","v":0},{"$f":"'SIP Returns'!G139","v":0},{"$f":"'SIP Returns'!H139","v":0},{"$f":"'SIP Returns'!I139","v":0},{"$f":"'SIP Returns'!J139","v":0},1,10,8,4,1,1,{"$f":"IF(J138=\"\",\"\",IF(J138>Inputs!$D$9,0,1))","v":1},{"$f":"IF(K138=\"\",\"\",IF(K138>Inputs!$D$9,0,1))","v":1},{"$f":"IF(L138=\"\",\"\",IF(L138>Inputs!$D$9,0,1))","v":1},{"$f":"IF(M138=\"\",\"\",IF(M138>Inputs!$D$9,0,1))","v":1},{"$f":"IF(N138=\"\",\"\",IF(N138>Inputs!$D$9,0,1))","v":1},{"$f":"IF(O138=\"\",\"\",IF(O138>Inputs!$D$9,0,1))","v":1},{"$f":"IF(COUNT(P138:U138)=0,\"\",INDEX(Inputs!$O$21:$P$26,MATCH(COUNT(P138:U138),Inputs!$O$21:$O$26,0),2))","v":20},1,null,null,{"$f":"IF(D138=\"\",\"\",IF(D138=\"-\",\"\",IF(D138>AVERAGE($D$2:$D$1000),1,0)))","v":1},1,1,1,1,1,1]
[{"$f":"'SIP Returns'!B140","v":0},null,{"$f":"'SIP Returns'!D140","v":0},{"$f":"'SIP Returns'!E140","v":0},{"$f":"'SIP Returns'!F140","v":0},{"$f":"'SIP Returns'!G140","v":0},{"$f":"'SIP Returns'!H140","v":0},{"$f":"'SIP Returns'!I140","v":0},{"$f":"'SIP Returns'!J140","v":0},1,10,8,4,1,1,{"$f":"IF(J139=\"\",\"\",IF(J139>Inputs!$D$9,0,1))","v":1},{"$f":"IF(K139=\"\",\"\",IF(K139>Inputs!$D$9,0,1))","v":1},{"$f":"IF(L139=\"\",\"\",IF(L139>Inputs!$D$9,0,1))","v":1},{"$f":"IF(M139=\"\",\"\",IF(M139>Inputs!$D$9,0,1))","v":1},{"$f":"IF(N139=\"\",\"\",IF(N139>Inputs!$D$9,0,1))","v":1},{"$f":"IF(O139=\"\",\"\",IF(O139>Inputs!$D$9,0,1))","v":1},{"$f":"IF(COUNT(P139:U139)=0,\"\",INDEX(Inputs!$O$21:$P$26,MATCH(COUNT(P139:U139),Inputs!$O$21:$O$26,0),2))","v":20},1,null,null,{"$f":"IF(D139=\"\",\"\",IF(D139=\"-\",\"\",IF(D139>AVERAGE($D$2:$D$1000),1,0)))","v":1},1,1,1,1,1,1]
[{"$f":"'SIP Returns'!B141","v":0},null,{"$f":"'SIP Returns'!D141","v":0},{"$f":"'SIP Returns'!E141","v":0},{"$f":"'SIP Returns'!F141","v":0},{"$f":"'SIP Returns'!G141","v":0},{"$f":"'SIP Returns'!H141","v":0},{"$f":"'SIP Returns'!I141","v":0},{"$f":"'SIP Returns'!J141","v":0},1,10,8,4,1,1,{"$f":"IF(J140=\"\",\"\",IF(J140>Inputs!$D$9,0,1))","v":1},{"$f":"IF(K140=\"\",\"\",IF(K140>Inputs!$D$9,0,1))","v":1},{"$f":"IF(L140=\"\",\"\",IF(L140>Inputs!$D$9,0,1))","v":1},{"$f":"IF(M140=\"\",\"\",IF(M140>Inputs!$D$9,0,1))","v":1},{"$f":"IF(N140=\"\",\"\",IF(N140>Inputs!$D$9,0,1))","v":1},{"$f":"IF(O140=\"\",\"\",IF(O140>Inputs!$D$9,0,1))","v":1},{"$f":"IF(COUNT(P140:U140)=0,\"\",INDEX(Inputs!$O$21:$P$26,MATCH(COUNT(P140:U140),Inputs!$O$21:$O$26,0),2))","v":20},1,null,null,{"$f":"IF(D140=\"\",\"\",IF(D140=\"-\",\"\",IF(D140>AVERAGE($D$2:$D$1000),1,0)))","v":1},1,1,1,1,1,1]
[{"$f":"'SIP Returns'!B142","v":0},null,{"$f":"'SIP Returns'!D142","v":0},{"$f":"'SIP Returns'!E142","v":0},{"$f":"'SIP Returns'!F142","v":0},{"$f":"'SIP Returns'!G142","v":0},{"$f":"'SIP Returns'!H142","v":0},{"$f":"'SIP Returns'!I142","v":0},{"$f":"'SIP Returns'!J142","v":0},1,10,8,4,1,1,{"$f":"IF(J141=\"\",\"\",IF(J141>Inputs!$D$9,0,1))","v":1},{"$f":"IF(K141=\"\",\"\",IF(K141>Inputs!$D$9,0,1))","v":1},{"$f":"IF(L141=\"\",\"\",IF(L141>Inputs!$D$9,0,1))","v":1},{"$f":"IF(M141=\"\",\"\",IF(M141>Inputs!$D$9,0,1))","v":1},{"$f":"IF(N141=\"\",\"\",IF(N141>Inputs!$D$9,0,1))","v":1},{"$f":"IF(O141=\"\",\"\",IF(O141>Inputs!$D$9,0,1))","v":1},{"$f":"IF(COUNT(P141:U141)=0,\"\",INDEX(Inputs!$O$21:$P$26,MATCH(COUNT(P141:U141),Inputs!$O$21:$O$26,0),2))","v":20},1,null,null,{"$f":"IF(D141=\"\",\"\",IF(D141=\"-\",\"\",IF(D141>AVERAGE($D$2:$D$1000),1,0)))","v":1},1,1,1,1,1,1]
[{"$f":"'SIP Returns'!B143","v":0},null,{"$f":"'SIP Returns'!D143","v":0},{"$f":"'SIP Returns'!E143","v":0},{"$f":"'SIP Returns'!F143","v":0},{"$f":"'SIP Returns'!G143","v":0},{"$f":"'SIP Returns'!H143","v":0},{"$f":"'SIP Returns'!I143","v":0},{"$f":"'SIP Returns'!J143","v":0},1,10,8,4,1,1,{"$f":"IF(J142=\"\",\"\",IF(J142>Inputs!$D$9,0,1))","v":1},{"$f":"IF(K142=\"\",\"\",IF(K142>Inputs!$D$9,0,1))","v":1},{"$f":"IF(L142=\"\",\"\",IF(L142>Inputs!$D$9,0,1))","v":1},{"$f":"IF(M142=\"\",\"\",IF(M142>Inputs!$D$9,0,1))","v":1},{"$f":"IF(N142=\"\",\"\",IF(N142>Inputs!$D$9,0,1))","v":1},{"$f":"IF(O142=\"\",\"\",IF(O142>Inputs!$D$9,0,1))","v":1},{"$f":"IF(COUNT(P142:U142)=0,\"\",INDEX(Inputs!$O$21:$P$26,MATCH(COUNT(P142:U142),Inputs!$O$21:$O$26,0),2))","v":20},1,null,null,{"$f":"IF(D142=\"\",\"\",IF(D142=\"-\",\"\",IF(D142>AVERAGE($D$2:$D$1000),1,0)))","v":1},1,1,1,1,1,1]
[{"$f":"'SIP Returns'!B144","v":0},null,{"$f":"'SIP Returns'!D144","v":0},{"$f":"'SIP Returns'!E144","v":0},{"$f":"'SIP Returns'!F144","v":0},{"$f":"'SIP Returns'!G144","v":0},{"$f":"'SIP Returns'!H144","v":0},{"$f":"'SIP Returns'!I144","v":0},{"$f":"'SIP Returns'!J144","v":0},1,10,8,4,1,1,{"$f":"IF(J143=\"\",\"\",IF(J143>Inputs!$D$9,0,1))","v":1},{"$f":"IF(K143=\"\",\"\",IF(K143>Inputs!$D$9,0,1))","v":1},{"$f":"IF(L143=\"\",\"\",IF(L143>Inputs!$D$9,0,1))","v":1},{"$f":"IF(M143=\"\",\"\",IF(M143>Inputs!$D$9,0,1))","v":1},{"$f":"IF(N143=\"\",\"\",IF(N143>Inputs!$D$9,0,1))","v":1},{"$f":"IF(O143=\"\",\"\",IF(O143>Inputs!$D$9,0,1))","v":1},{"$f":"IF(COUNT(P143:U143)=0,\"\",INDEX(Inputs!$O$21:$P$26,MATCH(COUNT(P143:U143),Inputs!$O$21:$O$26,0),2))","v":20},1,null,null,{"$f":"IF(D143=\"\",\"\",IF(D143=\"-\",\"\",IF(D143>AVERAGE($D$2:$D$1000),1,0)))","v":1},1,1,1,1,1,1]
[{"$f":"'SIP Returns'!B145","v":0},null,{"$f":"'SIP Returns'!D145","v":0},{"$f":"'SIP Returns'!E145","v":0},{"$f":"'SIP Returns'!F145","v":0},{"$f":"'SIP Returns'!G145","v":0},{"$f":"'SIP Returns'!H145","v":0},{"$f":"'SIP Returns'!I145","v":0},{"$f":"'SIP Returns'!J145","v":0},1,10,8,4,1,1,{"$f":"IF(J144=\"\",\"\",IF(J144>Inputs!$D$9,0,1))","v":1},{"$f":"IF(K144=\"\",\"\",IF(K144>Inputs!$D$9,0,1))","v":1},{"$f":"IF(L144=\"\",\"\",IF(L144>Inputs!$D$9,0,1))","v":1},{"$f":"IF(M144=\"\",\"\",IF(M144>Inputs!$D$9,0,1))","v":1},{"$f":"IF(N144=\"\",\"\",IF(N144>Inputs!$D$9,0,1))","v":1},{"$f":"IF(O144=\"\",\"\",IF(O144>Inputs!$D$9,0,1))","v":1},{"$f":"IF(COUNT(P144:U144)=0,\"\",INDEX(Inputs!$O$21:$P$26,MATCH(COUNT(P144:U144),Inputs!$O$21:$O$26,0),2))","v":20},1,null,null,{"$f":"IF(D144=\"\",\"\",IF(D144=\"-\",\"\",IF(D144>AVERAGE($D$2:$D$1000),1,0)))","v":1},1,1,1,1,1,1]
[{"$f":"'SIP Returns'!B146","v":0},null,{"$f":"'SIP Returns'!D146","v":0},{"$f":"'SIP Returns'!E146","v":0},{"$f":"'SIP Returns'!F146","v":0},{"$f":"'SIP Returns'!G146","v":0},{"$f":"'SIP Returns'!H146","v":0},{"$f":"'SIP Returns'!I146","v":0},{"$f":"'SIP Returns'!J146","v":0},1,10,8,4,1,1,{"$f":"IF(J145=\"\",\"\",IF(J145>Inputs!$D$9,0,1))","v":1},{"$f":"IF(K145=\"\",\"\",IF(K145>Inputs!$D$9,0,1))","v":1},{"$f":"IF(L145=\"\",\"\",IF(L145>Inputs!$D$9,0,1))","v":1},{"$f":"IF(M145=\"\",\"\",IF(M145>Inputs!$D$9,0,1))","v":1},{"$f":"IF(N145=\"\",\"\",IF(N145>Inputs!$D$9,0,1))","v":1},{"$f":"IF(O145=\"\",\"\",IF(O145>Inputs!$D$9,0,1))","v":1},{"$f":"IF(COUNT(P145:U145)=0,\"\",INDEX(Inputs!$O$21:$P$26,MATCH(COUNT(P145:U145),Inputs!$O$21:$O$26,0),2))","v":20},1,null,null,{"$f":"IF(D145=\"\",\"\",IF(D145=\"-\",\"\",IF(D145>AVERAGE($D$2:$D$1000),1,0)))","v":1},1,1,1,1,1,1]
[{"$f":"'SIP Returns'!B147","v":0},null,{"$f":"'SIP Returns'!D147","v":0},{"$f":"'SIP Returns'!E147","v":0},{"$f":"'SIP Returns'!F147","v":0},{"$f":"'SIP Returns'!G147","v":0},{"$f":"'SIP Returns'!H147","v":0},{"$f":"'SIP Returns'!I147","v":0},{"$f":"'SIP Returns'!J147","v":0},1,10,8,4,1,1,{"$f":"IF(J146=\"\",\"\",IF(J146>Inputs!$D$9,0,1))","v":1},{"$f":"IF(K146=\"\",\"\",IF(K146>Inputs!$D$9,0,1))","v":1},{"$f":"IF(L146=\"\",\"\",IF(L146>Inputs!$D$9,0,1))","v":1},{"$f":"IF(M146=\"\",\"\",IF(M146>Inputs!$D$9,0,1))","v":1},{"$f":"IF(N146=\"\",\"\",IF(N146>Inputs!$D$9,0,1))","v":1},{"$f":"IF(O146=\"\",\"\",IF(O146>Inputs!$D$9,0,1))","v":1},{"$f":"IF(COUNT(P146:U146)=0,\"\",INDEX(Inputs!$O$21:$P$26,MATCH(COUNT(P146:U146),Inputs!$O$21:$O$26,0),2))","v":20},1,null,null,{"$f":"IF(D146=\"\",\"\",IF(D146=\"-\",\"\",IF(D146>AVERAGE($D$2:$D$1000),1,0)))","v":1},1,1,1,1,1,1]
[{"$f":"'SIP Returns'!B148","v":0},null,{"$f":"'SIP Returns'!D148","v":0},{"$f":"'SIP Returns'!E148","v":0},{"$f":"'SIP Returns'!F148","v":0},{"$f":"'SIP Returns'!G148","v":0},{"$f":"'SIP Returns'!H148","v":0},{"$f":"'SIP Returns'!I148","v":0},{"$f":"'SIP Returns'!J148","v":0},1,10,8,4,1,1,{"$f":"IF(J147=\"\",\"\",IF(J147>Inputs!$D$9,0,1))","v":1},{"$f":"IF(K147=\"\",\"\",IF(K147>Inputs!$D$9,0,1))","v":1},{"$f":"IF(L147=\"\",\"\",IF(L147>Inputs!$D$9,0,1))","v":1},{"$f":"IF(M147=\"\",\"\",IF(M147>Inputs!$D$9,0,1))","v":1},{"$f":"IF(N147=\"\",\"\",IF(N147>Inputs!$D$9,0,1))","v":1},{"$f":"IF(O147=\"\",\"\",IF(O147>Inputs!$D$9,0,1))","v":1},{"$f":"IF(COUNT(P147:U147)=0,\"\",INDEX(Inputs!$O$21:$P$26,MATCH(COUNT(P147:U147),Inputs!$O$21:$O$26,0),2))","v":20},1,null,null,{"$f":"IF(D147=\"\",\"\",IF(D147=\"-\",\"\",IF(D147>AVERAGE($D$2:$D$1000),1,0)))","v":1},1,1,1,1,1,1]
[{"$f":"'SIP Returns'!B149","v":0},null,{"$f":"'SIP Returns'!D149","v":0},{"$f":"'SIP Returns'!E149","v":0},{"$f":"'SIP Returns'!F149","v":0},{"$f":"'SIP Returns'!G149","v":0},{"$f":"'SIP Returns'!H149","v":0},{"$f":"'SIP Returns'!I149","v":0},{"$f":"'SIP Returns'!J149","v":0},1,10,8,4,1,1,{"$f":"IF(J148=\"\",\"\",IF(J148>Inputs!$D$9,0,1))","v":1},{"$f":"IF(K148=\"\",\"\",IF(K148>Inputs!$D$9,0,1))","v":1},{"$f":"IF(L148=\"\",\"\",IF(L148>Inputs!$D$9,0,1))","v":1},{"$f":"IF(M148=\"\",\"\",IF(M148>Inputs!$D$9,0,1))","v":1},{"$f":"IF(N148=\"\",\"\",IF(N148>Inputs!$D$9,0,1))","v":1},{"$f":"IF(O148=\"\",\"\",IF(O148>Inputs!$D$9,0,1))","v":1},{"$f":"IF(COUNT(P148:U148)=0,\"\",INDEX(Inputs!$O$21:$P$26,MATCH(COUNT(P148:U148),Inputs!$O$21:$O$26,0),2))","v":20},1,null,null,{"$f":"IF(D148=\"\",\"\",IF(D148=\"-\",\"\",IF(D148>AVERAGE($D$2:$D$1000),1,0)))","v":1},1,1,1,1,1,1]
[{"$f":"'SIP Returns'!B150","v":0},null,{"$f":"'SIP Returns'!D150","v":0},{"$f":"'SIP Returns'!E150","v":0},{"$f":"'SIP Returns'!F150","v":0},{"$f":"'SIP Returns'!G150","v":0},{"$f":"'SIP Returns'!H150","v":0},{"$f":"'SIP Returns'!I150","v":0},{"$f":"'SIP Returns'!J150","v":0},1,10,8,4,1,1,{"$f":"IF(J149=\"\",\"\",IF(J149>Inputs!$D$9,0,1))","v":1},{"$f":"IF(K149=\"\",\"\",IF(K149>Inputs!$D$9,0,1))","v":1},{"$f":"IF(L149=\"\",\"\",IF(L149>Inputs!$D$9,0,1))","v":1},{"$f":"IF(M149=\"\",\"\",IF(M149>Inputs!$D$9,0,1))","v":1},{"$f":"IF(N149=\"\",\"\",IF(N149>Inputs!$D$9,0,1))","v":1},{"$f":"IF(O149=\"\",\"\",IF(O149>Inputs!$D$9,0,1))","v":1},{"$f":"IF(COUNT(P149:U149)=0,\"\",INDEX(Inputs!$O$21:$P$26,MATCH(COUNT(P149:U149),Inputs!$O$21:$O$26,0),2))","v":20},1,null,null,{"$f":"IF(D149=\"\",\"\",IF(D149=\"-\",\"\",IF(D149>AVERAGE($D$2:$D$1000),1,0)))","v":1},1,1,1,1,1,1]
[{"$f":"'SIP Returns'!B151","v":0},null,{"$f":"'SIP Returns'!D151","v":0},{"$f":"'SIP Returns'!E151","v":0},{"$f":"'SIP Returns'!F151","v":0},{"$f":"'SIP Returns'!G151","v":0},{"$f":"'SIP Returns'!H151","v":0},{"$f":"'SIP Returns'!I151","v":0},{"$f":"'SIP Returns'!J151","v":0},1,10,8,4,1,1,{"$f":"IF(J150=\"\",\"\",IF(J150>Inputs!$D$9,0,1))","v":1},{"$f":"IF(K150=\"\",\"\",IF(K150>Inputs!$D$9,0,1))","v":1},{"$f":"IF(L150=\"\",\"\",IF(L150>Inputs!$D$9,0,1))","v":1},{"$f":"IF(M150=\"\",\"\",IF(M150>Inputs!$D$9,0,1))","v":1},{"$f":"IF(N150=\"\",\"\",IF(N150>Inputs!$D$9,0,1))","v":1},{"$f":"IF(O150=\"\",\"\",IF(O150>Inputs!$D$9,0,1))","v":1},{"$f":"IF(COUNT(P150:U150)=0,\"\",INDEX(Inputs!$O$21:$P$26,MATCH(COUNT(P150:U150),Inputs!$O$21:$O$26,0),2))","v":20},1,null,null,{"$f":"IF(D150=\"\",\"\",IF(D150=\"-\",\"\",IF(D150>AVERAGE($D$2:$D$1000),1,0)))","v":1},1,1,1,1,1,1]
[{"$f":"'SIP Returns'!B152","v":0},null,{"$f":"'SIP Returns'!D152","v":0},{"$f":"'SIP Returns'!E152","v":0},{"$f":"'SIP Returns'!F152","v":0},{"$f":"'SIP Returns'!G152","v":0},{"$f":"'SIP Returns'!H152","v":0},{"$f":"'SIP Returns'!I152","v":0},{"$f":"'SIP Returns'!J152","v":0},1,10,8,4,1,1,{"$f":"IF(J151=\"\",\"\",IF(J151>Inputs!$D$9,0,1))","v":1},{"$f":"IF(K151=\"\",\"\",IF(K151>Inputs!$D$9,0,1))","v":1},{"$f":"IF(L151=\"\",\"\",IF(L151>Inputs!$D$9,0,1))","v":1},{"$f":"IF(M151=\"\",\"\",IF(M151>Inputs!$D$9,0,1))","v":1},{"$f":"IF(N151=\"\",\"\",IF(N151>Inputs!$D$9,0,1))","v":1},{"$f":"IF(O151=\"\",\"\",IF(O151>Inputs!$D$9,0,1))","v":1},{"$f":"IF(COUNT(P151:U151)=0,\"\",INDEX(Inputs!$O$21:$P$26,MATCH(COUNT(P151:U151),Inputs!$O$21:$O$26,0),2))","v":20},1,null,null,{"$f":"IF(D151=\"\",\"\",IF(D151=\"-\",\"\",IF(D151>AVERAGE($D$2:$D$1000),1,0)))","v":1},1,1,1,1,1,1]
[{"$f":"'SIP Returns'!B153","v":0},null,{"$f":"'SIP Returns'!D153","v":0},{"$f":"'SIP Returns'!E153","v":0},{"$f":"'SIP Returns'!F153","v":0},{"$f":"'SIP Returns'!G153","v":0},{"$f":"'SIP Returns'!H153","v":0},{"$f":"'SIP Returns'!I153","v":0},{"$f":"'SIP Returns'!J153","v":0},1,10,8,4,1,1,{"$f":"IF(J152=\"\",\"\",IF(J152>Inputs!$D$9,0,1))","v":1},{"$f":"IF(K152=\"\",\"\",IF(K152>Inputs!$D$9,0,1))","v":1},{"$f":"IF(L152=\"\",\"\",IF(L152>Inputs!$D$9,0,1))","v":1},{"$f":"IF(M152=\"\",\"\",IF(M152>Inputs!$D$9,0,1))","v":1},{"$f":"IF(N152=\"\",\"\",IF(N152>Inputs!$D$9,0,1))","v":1},{"$f":"IF(O152=\"\",\"\",IF(O152>Inputs!$D$9,0,1))","v":1},{"$f":"IF(COUNT(P152:U152)=0,\"\",INDEX(Inputs!$O$21:$P$26,MATCH(COUNT(P152:U152),Inputs!$O$21:$O$26,0),2))","v":20},1,null,null,{"$f":"IF(D152=\"\",\"\",IF(D152=\"-\",\"\",IF(D152>AVERAGE($D$2:$D$1000),1,0)))","v":1},1,1,1,1,1,1]
[{"$f":"'SIP Returns'!B154","v":0},null,{"$f":"'SIP Returns'!D154","v":0},{"$f":"'SIP Returns'!E154","v":0},{"$f":"'SIP Returns'!F154","v":0},{"$f":"'SIP Returns'!G154","v":0},{"$f":"'SIP Returns'!H154","v":0},{"$f":"'SIP Returns'!I154","v":0},{"$f":"'SIP Returns'!J154","v":0},1,10,8,4,1,1,{"$f":"IF(J153=\"\",\"\",IF(J153>Inputs!$D$9,0,1))","v":1},{"$f":"IF(K153=\"\",\"\",IF(K153>Inputs!$D$9,0,1))","v":1},{"$f":"IF(L153=\"\",\"\",IF(L153>Inputs!$D$9,0,1))","v":1},{"$f":"IF(M153=\"\",\"\",IF(M153>Inputs!$D$9,0,1))","v":1},{"$f":"IF(N153=\"\",\"\",IF(N153>Inputs!$D$9,0,1))","v":1},{"$f":"IF(O153=\"\",\"\",IF(O153>Inputs!$D$9,0,1))","v":1},{"$f":"IF(COUNT(P153:U153)=0,\"\",INDEX(Inputs!$O$21:$P$26,MATCH(COUNT(P153:U153),Inputs!$O$21:$O$26,0),2))","v":20},1,null,null,{"$f":"IF(D153=\"\",\"\",IF(D153=\"-\",\"\",IF(D153>AVERAGE($D$2:$D$1000),1,0)))","v":1},1,1,1,1,1,1]
[{"$f":"'SIP Returns'!B155","v":0},null,{"$f":"'SIP Returns'!D155","v":0},{"$f":"'SIP Returns'!E155","v":0},{"$f":"'SIP Returns'!F155","v":0},{"$f":"'SIP Returns'!G155","v":0},{"$f":"'SIP Returns'!H155","v":0},{"$f":"'SIP Returns'!I155","v":0},{"$f":"'SIP Returns'!J155","v":0},1,10,8,4,1,1,{"$f":"IF(J154=\"\",\"\",IF(J154>Inputs!$D$9,0,1))","v":1},{"$f":"IF(K154=\"\",\"\",IF(K154>Inputs!$D$9,0,1))","v":1},{"$f":"IF(L154=\"\",\"\",IF(L154>Inputs!$D$9,0,1))","v":1},{"$f":"IF(M154=\"\",\"\",IF(M154>Inputs!$D$9,0,1))","v":1},{"$f":"IF(N154=\"\",\"\",IF(N154>Inputs!$D$9,0,1))","v":1},{"$f":"IF(O154=\"\",\"\",IF(O154>Inputs!$D$9,0,1))","v":1},{"$f":"IF(COUNT(P154:U154)=0,\"\",INDEX(Inputs!$O$21:$P$26,MATCH(COUNT(P154:U154),Inputs!$O$21:$O$26,0),2))","v":20},1,null,null,{"$f":"IF(D154=\"\",\"\",IF(D154=\"-\",\"\",IF(D154>AVERAGE($D$2:$D$1000),1,0)))","v":1},1,1,1,1,1,1]
[{"$f":"'SIP Returns'!B156","v":0},null,{"$f":"'SIP Returns'!D156","v":0},{"$f":"'SIP Returns'!E156","v":0},{"$f":"'SIP Returns'!F156","v":0},{"$f":"'SIP Returns'!G156","v":0},{"$f":"'SIP Returns'!H156","v":0},{"$f":"'SIP Returns'!I156","v":0},{"$f":"'SIP Returns'!J156","v":0},1,10,8,4,1,1,{"$f":"IF(J155=\"\",\"\",IF(J155>Inputs!$D$9,0,1))","v":1},{"$f":"IF(K155=\"\",\"\",IF(K155>Inputs!$D$9,0,1))","v":1},{"$f":"IF(L155=\"\",\"\",IF(L155>Inputs!$D$9,0,1))","v":1},{"$f":"IF(M155=\"\",\"\",IF(M155>Inputs!$D$9,0,1))","v":1},{"$f":"IF(N155=\"\",\"\",IF(N155>Inputs!$D$9,0,1))","v":1},{"$f":"IF(O155=\"\",\"\",IF(O155>Inputs!$D$9,0,1))","v":1},{"$f":"IF(COUNT(P155:U155)=0,\"\",INDEX(Inputs!$O$21:$P$26,MATCH(COUNT(P155:U155),Inputs!$O$21:$O$26,0),2))","v":20},1,null,null,{"$f":"IF(D155=\"\",\"\",IF(D155=\"-\",\"\",IF(D155>AVERAGE($D$2:$D$1000),1,0)))","v":1},1,1,1,1,1,1]
[{"$f":"'SIP Returns'!B157","v":0},null,{"$f":"'SIP Returns'!D157","v":0},{"$f":"'SIP Returns'!E157","v":0},{"$f":"'SIP Returns'!F157","v":0},{"$f":"'SIP Returns'!G157","v":0},{"$f":"'SIP Returns'!H157","v":0},{"$f":"'SIP Returns'!I157","v":0},{"$f":"'SIP Returns'!J157","v":0},1,10,8,4,1,1,{"$f":"IF(J156=\"\",\"\",IF(J156>Inputs!$D$9,0,1))","v":1},{"$f":"IF(K156=\"\",\"\",IF(K156>Inputs!$D$9,0,1))","v":1},{"$f":"IF(L156=\"\",\"\",IF(L156>Inputs!$D$9,0,1))","v":1},{"$f":"IF(M156=\"\",\"\",IF(M156>Inputs!$D$9,0,1))","v":1},{"$f":"IF(N156=\"\",\"\",IF(N156>Inputs!$D$9,0,1))","v":1},{"$f":"IF(O156=\"\",\"\",IF(O156>Inputs!$D$9,0,1))","v":1},{"$f":"IF(COUNT(P156:U156)=0,\"\",INDEX(Inputs!$O$21:$P$26,MATCH(COUNT(P156:U156),Inputs!$O$21:$O$26,0),2))","v":20},1,null,null,{"$f":"IF(D156=\"\",\"\",IF(D156=\"-\",\"\",IF(D156>AVERAGE($D$2:$D$1000),1,0)))","v":1},1,1,1,1,1,1]
[{"$f":"'SIP Returns'!B158","v":0},null,{"$f":"'SIP Returns'!D158","v":0},{"$f":"'SIP Returns'!E158","v":0},{"$f":"'SIP Returns'!F158","v":0},{"$f":"'SIP Returns'!G158","v":0},{"$f":"'SIP Returns'!H158","v":0},{"$f":"'SIP Returns'!I158","v":0},{"$f":"'SIP Returns'!J158","v":0},1,10,8,4,1,1,{"$f":"IF(J157=\"\",\"\",IF(J157>Inputs!$D$9,0,1))","v":1},{"$f":"IF(K157=\"\",\"\",IF(K157>Inputs!$D$9,0,1))","v":1},{"$f":"IF(L157=\"\",\"\",IF(L157>Inputs!$D$9,0,1))","v":1},{"$f":"IF(M157=\"\",\"\",IF(M157>Inputs!$D$9,0,1))","v":1},{"$f":"IF(N157=\"\",\"\",IF(N157>Inputs!$D$9,0,1))","v":1},{"$f":"IF(O157=\"\",\"\",IF(O157>Inputs!$D$9,0,1))","v":1},{"$f":"IF(COUNT(P157:U157)=0,\"\",INDEX(Inputs!$O$21:$P$26,MATCH(COUNT(P157:U157),Inputs!$O$21:$O$26,0),2))","v":20},1,null,null,{"$f":"IF(D157=\"\",\"\",IF(D157=\"-\",\"\",IF(D157>AVERAGE($D$2:$D$1000),1,0)))","v":1},1,1,1,1,1,1]
[{"$f":"'SIP Returns'!B159","v":0},null,{"$f":"'SIP Returns'!D159","v":0},{"$f":"'SIP Returns'!E159","v":0},{"$f":"'SIP Returns'!F159","v":0},{"$f":"'SIP Returns'!G159","v":0},{"$f":"'SIP Returns'!H159","v":0},{"$f":"'SIP Returns'!I159","v":0},{"$f":"'SIP Returns'!J159","v":0},1,10,8,4,1,1,{"$f":"IF(J158=\"\",\"\",IF(J158>Inputs!$D$9,0,1))","v":1},{"$f":"IF(K158=\"\",\"\",IF(K158>Inputs!$D$9,0,1))","v":1},{"$f":"IF(L158=\"\",\"\",IF(L158>Inputs!$D$9,0,1))","v":1},{"$f":"IF(M158=\"\",\"\",IF(M158>Inputs!$D$9,0,1))","v":1},{"$f":"IF(N158=\"\",\"\",IF(N158>Inputs!$D$9,0,1))","v":1},{"$f":"IF(O158=\"\",\"\",IF(O158>Inputs!$D$9,0,1))","v":1},{"$f":"IF(COUNT(P158:U158)=0,\"\",INDEX(Inputs!$O$21:$P$26,MATCH(COUNT(P158:U158),Inputs!$O$21:$O$26,0),2))","v":20},1,null,null,{"$f":"IF(D158=\"\",\"\",IF(D158=\"-\",\"\",IF(D158>AVERAGE($D$2:$D$1000),1,0)))","v":1},1,1,1,1,1,1]
[{"$f":"'SIP Returns'!B160","v":0},null,{"$f":"'SIP Returns'!D160","v":0},{"$f":"'SIP Returns'!E160","v":0},{"$f":"'SIP Returns'!F160","v":0},{"$f":"'SIP Returns'!G160","v":0},{"$f":"'SIP Returns'!H160","v":0},{"$f":"'SIP Returns'!I160","v":0},{"$f":"'SIP Returns'!J160","v":0},1,10,8,4,1,1,{"$f":"IF(J159=\"\",\"\",IF(J159>Inputs!$D$9,0,1))","v":1},{"$f":"IF(K159=\"\",\"\",IF(K159>Inputs!$D$9,0,1))","v":1},{"$f":"IF(L159=\"\",\"\",IF(L159>Inputs!$D$9,0,1))","v":1},{"$f":"IF(M159=\"\",\"\",IF(M159>Inputs!$D$9,0,1))","v":1},{"$f":"IF(N159=\"\",\"\",IF(N159>Inputs!$D$9,0,1))","v":1},{"$f":"IF(O159=\"\",\"\",IF(O159>Inputs!$D$9,0,1))","v":1},{"$f":"IF(COUNT(P159:U159)=0,\"\",INDEX(Inputs!$O$21:$P$26,MATCH(COUNT(P159:U159),Inputs!$O$21:$O$26,0),2))","v":20},1,null,null,{"$f":"IF(D159=\"\",\"\",IF(D159=\"-\",\"\",IF(D159>AVERAGE($D$2:$D$1000),1,0)))","v":1},1,1,1,1,1,1]
[{"$f":"'SIP Returns'!B161","v":0},null,{"$f":"'SIP Returns'!D161","v":0},{"$f":"'SIP Returns'!E161","v":0},{"$f":"'SIP Returns'!F161","v":0},{"$f":"'SIP Returns'!G161","v":0},{"$f":"'SIP Returns'!H161","v":0},{"$f":"'SIP Returns'!I161","v":0},{"$f":"'SIP Returns'!J161","v":0},1,10,8,4,1,1,{"$f":"IF(J160=\"\",\"\",IF(J160>Inputs!$D$9,0,1))","v":1},{"$f":"IF(K160=\"\",\"\",IF(K160>Inputs!$D$9,0,1))","v":1},{"$f":"IF(L160=\"\",\"\",IF(L160>Inputs!$D$9,0,1))","v":1},{"$f":"IF(M160=\"\",\"\",IF(M160>Inputs!$D$9,0,1))","v":1},{"$f":"IF(N160=\"\",\"\",IF(N160>Inputs!$D$9,0,1))","v":1},{"$f":"IF(O160=\"\",\"\",IF(O160>Inputs!$D$9,0,1))","v":1},{"$f":"IF(COUNT(P160:U160)=0,\"\",INDEX(Inputs!$O$21:$P$26,MATCH(COUNT(P160:U160),Inputs!$O$21:$O$26,0),2))","v":20},1,null,null,{"$f":"IF(D160=\"\",\"\",IF(D160=\"-\",\"\",IF(D160>AVERAGE($D$2:$D$1000),1,0)))","v":1},1,1,1,1,1,1]
[{"$f":"'SIP Returns'!B162","v":0},null,{"$f":"'SIP Returns'!D162","v":0},{"$f":"'SIP Returns'!E162","v":0},{"$f":"'SIP Returns'!F162","v":0},{"$f":"'SIP Returns'!G162","v":0},{"$f":"'SIP Returns'!H162","v":0},{"$f":"'SIP Returns'!I162","v":0},{"$f":"'SIP Returns'!J162","v":0},1,10,8,4,1,1,{"$f":"IF(J161=\"\",\"\",IF(J161>Inputs!$D$9,0,1))","v":1},{"$f":"IF(K161=\"\",\"\",IF(K161>Inputs!$D$9,0,1))","v":1},{"$f":"IF(L161=\"\",\"\",IF(L161>Inputs!$D$9,0,1))","v":1},{"$f":"IF(M161=\"\",\"\",IF(M161>Inputs!$D$9,0,1))","v":1},{"$f":"IF(N161=\"\",\"\",IF(N161>Inputs!$D$9,0,1))","v":1},{"$f":"IF(O161=\"\",\"\",IF(O161>Inputs!$D$9,0,1))","v":1},{"$f":"IF(COUNT(P161:U161)=0,\"\",INDEX(Inputs!$O$21:$P$26,MATCH(COUNT(P161:U161),Inputs!$O$21:$O$26,0),2))","v":20},1,null,null,{"$f":"IF(D161=\"\",\"\",IF(D161=\"-\",\"\",IF(D161>AVERAGE($D$2:$D$1000),1,0)))","v":1},1,1,1,1,1,1]
[{"$f":"'SIP Returns'!B163","v":0},null,{"$f":"'SIP Returns'!D163","v":0},{"$f":"'SIP Returns'!E163","v":0},{"$f":"'SIP Returns'!F163","v":0},{"$f":"'SIP Returns'!G163","v":0},{"$f":"'SIP Returns'!H163","v":0},{"$f":"'SIP Returns'!I163","v":0},{"$f":"'SIP Returns'!J163","v":0},1,10,8,4,1,1,{"$f":"IF(J162=\"\",\"\",IF(J162>Inputs!$D$9,0,1))","v":1},{"$f":"IF(K162=\"\",\"\",IF(K162>Inputs!$D$9,0,1))","v":1},{"$f":"IF(L162=\"\",\"\",IF(L162>Inputs!$D$9,0,1))","v":1},{"$f":"IF(M162=\"\",\"\",IF(M162>Inputs!$D$9,0,1))","v":1},{"$f":"IF(N162=\"\",\"\",IF(N162>Inputs!$D$9,0,1))","v":1},{"$f":"IF(O162=\"\",\"\",IF(O162>Inputs!$D$9,0,1))","v":1},{"$f":"IF(COUNT(P162:U162)=0,\"\",INDEX(Inputs!$O$21:$P$26,MATCH(COUNT(P162:U162),Inputs!$O$21:$O$26,0),2))","v":20},1,null,null,{"$f":"IF(D162=\"\",\"\",IF(D162=\"-\",\"\",IF(D162>AVERAGE($D$2:$D$1000),1,0)))","v":1},1,1,1,1,1,1]
[{"$f":"'SIP Returns'!B164","v":0},null,{"$f":"'SIP Returns'!D164","v":0},{"$f":"'SIP Returns'!E164","v":0},{"$f":"'SIP Returns'!F164","v":0},{"$f":"'SIP Returns'!G164","v":0},{"$f":"'SIP Returns'!H164","v":0},{"$f":"'SIP Returns'!I164","v":0},{"$f":"'SIP Returns'!J164","v":0},1,10,8,4,1,1,{"$f":"IF(J163=\"\",\"\",IF(J163>Inputs!$D$9,0,1))","v":1},{"$f":"IF(K163=\"\",\"\",IF(K163>Inputs!$D$9,0,1))","v":1},{"$f":"IF(L163=\"\",\"\",IF(L163>Inputs!$D$9,0,1))","v":1},{"$f":"IF(M163=\"\",\"\",IF(M163>Inputs!$D$9,0,1))","v":1},{"$f":"IF(N163=\"\",\"\",IF(N163>Inputs!$D$9,0,1))","v":1},{"$f":"IF(O163=\"\",\"\",IF(O163>Inputs!$D$9,0,1))","v":1},{"$f":"IF(COUNT(P163:U163)=0,\"\",INDEX(Inputs!$O$21:$P$26,MATCH(COUNT(P163:U163),Inputs!$O$21:$O$26,0),2))","v":20},1,null,null,{"$f":"IF(D163=\"\",\"\",IF(D163=\"-\",\"\",IF(D163>AVERAGE($D$2:$D$1000),1,0)))","v":1},1,1,1,1,1,1]
[{"$f":"'SIP Returns'!B165","v":0},null,{"$f":"'SIP Returns'!D165","v":0},{"$f":"'SIP Returns'!E165","v":0},{"$f":"'SIP Returns'!F165","v":0},{"$f":"'SIP Returns'!G165","v":0},{"$f":"'SIP Returns'!H165","v":0},{"$f":"'SIP Returns'!I165","v":0},{"$f":"'SIP Returns'!J165","v":0},1,10,8,4,1,1,{"$f":"IF(J164=\"\",\"\",IF(J164>Inputs!$D$9,0,1))","v":1},{"$f":"IF(K164=\"\",\"\",IF(K164>Inputs!$D$9,0,1))","v":1},{"$f":"IF(L164=\"\",\"\",IF(L164>Inputs!$D$9,0,1))","v":1},{"$f":"IF(M164=\"\",\"\",IF(M164>Inputs!$D$9,0,1))","v":1},{"$f":"IF(N164=\"\",\"\",IF(N164>Inputs!$D$9,0,1))","v":1},{"$f":"IF(O164=\"\",\"\",IF(O164>Inputs!$D$9,0,1))","v":1},{"$f":"IF(COUNT(P164:U164)=0,\"\",INDEX(Inputs!$O$21:$P$26,MATCH(COUNT(P164:U164),Inputs!$O$21:$O$26,0),2))","v":20},1,null,null,{"$f":"IF(D164=\"\",\"\",IF(D164=\"-\",\"\",IF(D164>AVERAGE($D$2:$D$1000),1,0)))","v":1},1,1,1,1,1,1]
[{"$f":"'SIP Returns'!B166","v":0},null,{"$f":"'SIP Returns'!D166","v":0},{"$f":"'SIP Returns'!E166","v":0},{"$f":"'SIP Returns'!F166","v":0},{"$f":"'SIP Returns'!G166","v":0},{"$f":"'SIP Returns'!H166","v":0},{"$f":"'SIP Returns'!I166","v":0},{"$f":"'SIP Returns'!J166","v":0},1,10,8,4,1,1,{"$f":"IF(J165=\"\",\"\",IF(J165>Inputs!$D$9,0,1))","v":1},{"$f":"IF(K165=\"\",\"\",IF(K165>Inputs!$D$9,0,1))","v":1},{"$f":"IF(L165=\"\",\"\",IF(L165>Inputs!$D$9,0,1))","v":1},{"$f":"IF(M165=\"\",\"\",IF(M165>Inputs!$D$9,0,1))","v":1},{"$f":"IF(N165=\"\",\"\",IF(N165>Inputs!$D$9,0,1))","v":1},{"$f":"IF(O165=\"\",\"\",IF(O165>Inputs!$D$9,0,1))","v":1},{"$f":"IF(COUNT(P165:U165)=0,\"\",INDEX(Inputs!$O$21:$P$26,MATCH(COUNT(P165:U165),Inputs!$O$21:$O$26,0),2))","v":20},1,null,null,{"$f":"IF(D165=\"\",\"\",IF(D165=\"-\",\"\",IF(D165>AVERAGE($D$2:$D$1000),1,0)))","v":1},1,1,1,1,1,1]
[{"$f":"'SIP Returns'!B167","v":0},null,{"$f":"'SIP Returns'!D167","v":0},{"$f":"'SIP Returns'!E167","v":0},{"$f":"'SIP Returns'!F167","v":0},{"$f":"'SIP Returns'!G167","v":0},{"$f":"'SIP Returns'!H167","v":0},{"$f":"'SIP Returns'!I167","v":0},{"$f":"'SIP Returns'!J167","v":0},1,10,8,4,1,1,{"$f":"IF(J166=\"\",\"\",IF(J166>Inputs!$D$9,0,1))","v":1},{"$f":"IF(K166=\"\",\"\",IF(K166>Inputs!$D$9,0,1))","v":1},{"$f":"IF(L166=\"\",\"\",IF(L166>Inputs!$D$9,0,1))","v":1},{"$f":"IF(M166=\"\",\"\",IF(M166>Inputs!$D$9,0,1))","v":1},{"$f":"IF(N166=\"\",\"\",IF(N166>Inputs!$D$9,0,1))","v":1},{"$f":"IF(O166=\"\",\"\",IF(O166>Inputs!$D$9,0,1))","v":1},{"$f":"IF(COUNT(P166:U166)=0,\"\",INDEX(Inputs!$O$21:$P$26,MATCH(COUNT(P166:U166),Inputs!$O$21:$O$26,0),2))","v":20},1,null,null,{"$f":"IF(D166=\"\",\"\",IF(D166=\"-\",\"\",IF(D166>AVERAGE($D$2:$D$1000),1,0)))","v":1},1,1,1,1,1,1]
[{"$f":"'SIP Returns'!B168","v":0},null,{"$f":"'SIP Returns'!D168","v":0},{"$f":"'SIP Returns'!E168","v":0},{"$f":"'SIP Returns'!F168","v":0},{"$f":"'SIP Returns'!G168","v":0},{"$f":"'SIP Returns'!H168","v":0},{"$f":"'SIP Returns'!I168","v":0},{"$f":"'SIP Returns'!J168","v":0},1,10,8,4,1,1,{"$f":"IF(J167=\"\",\"\",IF(J167>Inputs!$D$9,0,1))","v":1},{"$f":"IF(K167=\"\",\"\",IF(K167>Inputs!$D$9,0,1))","v":1},{"$f":"IF(L167=\"\",\"\",IF(L167>Inputs!$D$9,0,1))","v":1},{"$f":"IF(M167=\"\",\"\",IF(M167>Inputs!$D$9,0,1))","v":1},{"$f":"IF(N167=\"\",\"\",IF(N167>Inputs!$D$9,0,1))","v":1},{"$f":"IF(O167=\"\",\"\",IF(O167>Inputs!$D$9,0,1))","v":1},{"$f":"IF(COUNT(P167:U167)=0,\"\",INDEX(Inputs!$O$21:$P$26,MATCH(COUNT(P167:U167),Inputs!$O$21:$O$26,0),2))","v":20},1,null,null,{"$f":"IF(D167=\"\",\"\",IF(D167=\"-\",\"\",IF(D167>AVERAGE($D$2:$D$1000),1,0)))","v":1},1,1,1,1,1,1]
[{"$f":"'SIP Returns'!B169","v":0},null,{"$f":"'SIP Returns'!D169","v":0},{"$f":"'SIP Returns'!E169","v":0},{"$f":"'SIP Returns'!F169","v":0},{"$f":"'SIP Returns'!G169","v":0},{"$f":"'SIP Returns'!H169","v":0},{"$f":"'SIP Returns'!I169","v":0},{"$f":"'SIP Returns'!J169","v":0},1,10,8,4,1,1,{"$f":"IF(J168=\"\",\"\",IF(J168>Inputs!$D$9,0,1))","v":1},{"$f":"IF(K168=\"\",\"\",IF(K168>Inputs!$D$9,0,1))","v":1},{"$f":"IF(L168=\"\",\"\",IF(L168>Inputs!$D$9,0,1))","v":1},{"$f":"IF(M168=\"\",\"\",IF(M168>Inputs!$D$9,0,1))","v":1},{"$f":"IF(N168=\"\",\"\",IF(N168>Inputs!$D$9,0,1))","v":1},{"$f":"IF(O168=\"\",\"\",IF(O168>Inputs!$D$9,0,1))","v":1},{"$f":"IF(COUNT(P168:U168)=0,\"\",INDEX(Inputs!$O$21:$P$26,MATCH(COUNT(P168:U168),Inputs!$O$21:$O$26,0),2))","v":20},1,null,null,{"$f":"IF(D168=\"\",\"\",IF(D168=\"-\",\"\",IF(D168>AVERAGE($D$2:$D$1000),1,0)))","v":1},1,1,1,1,1,1]
[{"$f":"'SIP Returns'!B170","v":0},null,{"$f":"'SIP Returns'!D170","v":0},{"$f":"'SIP Returns'!E170","v":0},{"$f":"'SIP Returns'!F170","v":0},{"$f":"'SIP Returns'!G170","v":0},{"$f":"'SIP Returns'!H170","v":0},{"$f":"'SIP Returns'!I170","v":0},{"$f":"'SIP Returns'!J170","v":0},1,10,8,4,1,1,{"$f":"IF(J169=\"\",\"\",IF(J169>Inputs!$D$9,0,1))","v":1},{"$f":"IF(K169=\"\",\"\",IF(K169>Inputs!$D$9,0,1))","v":1},{"$f":"IF(L169=\"\",\"\",IF(L169>Inputs!$D$9,0,1))","v":1},{"$f":"IF(M169=\"\",\"\",IF(M169>Inputs!$D$9,0,1))","v":1},{"$f":"IF(N169=\"\",\"\",IF(N169>Inputs!$D$9,0,1))","v":1},{"$f":"IF(O169=\"\",\"\",IF(O169>Inputs!$D$9,0,1))","v":1},{"$f":"IF(COUNT(P169:U169)=0,\"\",INDEX(Inputs!$O$21:$P$26,MATCH(COUNT(P169:U169),Inputs!$O$21:$O$26,0),2))","v":20},1,null,null,{"$f":"IF(D169=\"\",\"\",IF(D169=\"-\",\"\",IF(D169>AVERAGE($D$2:$D$1000),1,0)))","v":1},1,1,1,1,1,1]
[{"$f":"'SIP Returns'!B171","v":0},null,{"$f":"'SIP Returns'!D171","v":0},{"$f":"'SIP Returns'!E171","v":0},{"$f":"'SIP Returns'!F171","v":0},{"$f":"'SIP Returns'!G171","v":0},{"$f":"'SIP Returns'!H171","v":0},{"$f":"'SIP Returns'!I171","v":0},{"$f":"'SIP Returns'!J171","v":0},1,10,8,4,1,1,{"$f":"IF(J170=\"\",\"\",IF(J170>Inputs!$D$9,0,1))","v":1},{"$f":"IF(K170=\"\",\"\",IF(K170>Inputs!$D$9,0,1))","v":1},{"$f":"IF(L170=\"\",\"\",IF(L170>Inputs!$D$9,0,1))","v":1},{"$f":"IF(M170=\"\",\"\",IF(M170>Inputs!$D$9,0,1))","v":1},{"$f":"IF(N170=\"\",\"\",IF(N170>Inputs!$D$9,0,1))","v":1},{"$f":"IF(O170=\"\",\"\",IF(O170>Inputs!$D$9,0,1))","v":1},{"$f":"IF(COUNT(P170:U170)=0,\"\",INDEX(Inputs!$O$21:$P$26,MATCH(COUNT(P170:U170),Inputs!$O$21:$O$26,0),2))","v":20},1,null,null,{"$f":"IF(D170=\"\",\"\",IF(D170=\"-\",\"\",IF(D170>AVERAGE($D$2:$D$1000),1,0)))","v":1},1,1,1,1,1,1]
[{"$f":"'SIP Returns'!B172","v":0},null,{"$f":"'SIP Returns'!D172","v":0},{"$f":"'SIP Returns'!E172","v":0},{"$f":"'SIP Returns'!F172","v":0},{"$f":"'SIP Returns'!G172","v":0},{"$f":"'SIP Returns'!H172","v":0},{"$f":"'SIP Returns'!I172","v":0},{"$f":"'SIP Returns'!J172","v":0},1,10,8,4,1,1,{"$f":"IF(J171=\"\",\"\",IF(J171>Inputs!$D$9,0,1))","v":1},{"$f":"IF(K171=\"\",\"\",IF(K171>Inputs!$D$9,0,1))","v":1},{"$f":"IF(L171=\"\",\"\",IF(L171>Inputs!$D$9,0,1))","v":1},{"$f":"IF(M171=\"\",\"\",IF(M171>Inputs!$D$9,0,1))","v":1},{"$f":"IF(N171=\"\",\"\",IF(N171>Inputs!$D$9,0,1))","v":1},{"$f":"IF(O171=\"\",\"\",IF(O171>Inputs!$D$9,0,1))","v":1},{"$f":"IF(COUNT(P171:U171)=0,\"\",INDEX(Inputs!$O$21:$P$26,MATCH(COUNT(P171:U171),Inputs!$O$21:$O$26,0),2))","v":20},1,null,null,{"$f":"IF(D171=\"\",\"\",IF(D171=\"-\",\"\",IF(D171>AVERAGE($D$2:$D$1000),1,0)))","v":1},1,1,1,1,1,1]
[{"$f":"'SIP Returns'!B173","v":0},null,{"$f":"'SIP Returns'!D173","v":0},{"$f":"'SIP Returns'!E173","v":0},{"$f":"'SIP Returns'!F173","v":0},{"$f":"'SIP Returns'!G173","v":0},{"$f":"'SIP Returns'!H173","v":0},{"$f":"'SIP Returns'!I173","v":0},{"$f":"'SIP Returns'!J173","v":0},1,10,8,4,1,1,{"$f":"IF(J172=\"\",\"\",IF(J172>Inputs!$D$9,0,1))","v":1},{"$f":"IF(K172=\"\",\"\",IF(K172>Inputs!$D$9,0,1))","v":1},{"$f":"IF(L172=\"\",\"\",IF(L172>Inputs!$D$9,0,1))","v":1},{"$f":"IF(M172=\"\",\"\",IF(M172>Inputs!$D$9,0,1))","v":1},{"$f":"IF(N172=\"\",\"\",IF(N172>Inputs!$D$9,0,1))","v":1},{"$f":"IF(O172=\"\",\"\",IF(O172>Inputs!$D$9,0,1))","v":1},{"$f":"IF(COUNT(P172:U172)=0,\"\",INDEX(Inputs!$O$21:$P$26,MATCH(COUNT(P172:U172),Inputs!$O$21:$O$26,0),2))","v":20},1,null,null,{"$f":"IF(D172=\"\",\"\",IF(D172=\"-\",\"\",IF(D172>AVERAGE($D$2:$D$1000),1,0)))","v":1},1,1,1,1,1,1]
[{"$f":"'SIP Returns'!B174","v":0},null,{"$f":"'SIP Returns'!D174","v":0},{"$f":"'SIP Returns'!E174","v":0},{"$f":"'SIP Returns'!F174","v":0},{"$f":"'SIP Returns'!G174","v":0},{"$f":"'SIP Returns'!H174","v":0},{"$f":"'SIP Returns'!I174","v":0},{"$f":"'SIP Returns'!J174","v":0},1,10,8,4,1,1,{"$f":"IF(J173=\"\",\"\",IF(J173>Inputs!$D$9,0,1))","v":1},{"$f":"IF(K173=\"\",\"\",IF(K173>Inputs!$D$9,0,1))","v":1},{"$f":"IF(L173=\"\",\"\",IF(L173>Inputs!$D$9,0,1))","v":1},{"$f":"IF(M173=\"\",\"\",IF(M173>Inputs!$D$9,0,1))","v":1},{"$f":"IF(N173=\"\",\"\",IF(N173>Inputs!$D$9,0,1))","v":1},{"$f":"IF(O173=\"\",\"\",IF(O173>Inputs!$D$9,0,1))","v":1},{"$f":"IF(COUNT(P173:U173)=0,\"\",INDEX(Inputs!$O$21:$P$26,MATCH(COUNT(P173:U173),Inputs!$O$21:$O$26,0),2))","v":20},1,null,null,{"$f":"IF(D173=\"\",\"\",IF(D173=\"-\",\"\",IF(D173>AVERAGE($D$2:$D$1000),1,0)))","v":1},1,1,1,1,1,1]
[{"$f":"'SIP Returns'!B175","v":0},null,{"$f":"'SIP Returns'!D175","v":0},{"$f":"'SIP Returns'!E175","v":0},{"$f":"'SIP Returns'!F175","v":0},{"$f":"'SIP Returns'!G175","v":0},{"$f":"'SIP Returns'!H175","v":0},{"$f":"'SIP Returns'!I175","v":0},{"$f":"'SIP Returns'!J175","v":0},1,10,8,4,1,1,{"$f":"IF(J174=\"\",\"\",IF(J174>Inputs!$D$9,0,1))","v":1},{"$f":"IF(K174=\"\",\"\",IF(K174>Inputs!$D$9,0,1))","v":1},{"$f":"IF(L174=\"\",\"\",IF(L174>Inputs!$D$9,0,1))","v":1},{"$f":"IF(M174=\"\",\"\",IF(M174>Inputs!$D$9,0,1))","v":1},{"$f":"IF(N174=\"\",\"\",IF(N174>Inputs!$D$9,0,1))","v":1},{"$f":"IF(O174=\"\",\"\",IF(O174>Inputs!$D$9,0,1))","v":1},{"$f":"IF(COUNT(P174:U174)=0,\"\",INDEX(Inputs!$O$21:$P$26,MATCH(COUNT(P174:U174),Inputs!$O$21:$O$26,0),2))","v":20},1,null,null,{"$f":"IF(D174=\"\",\"\",IF(D174=\"-\",\"\",IF(D174>AVERAGE($D$2:$D$1000),1,0)))","v":1},1,1,1,1,1,1]
[{"$f":"'SIP Returns'!B176","v":0},null,{"$f":"'SIP Returns'!D176","v":0},{"$f":"'SIP Returns'!E176","v":0},{"$f":"'SIP Returns'!F176","v":0},{"$f":"'SIP Returns'!G176","v":0},{"$f":"'SIP Returns'!H176","v":0},{"$f":"'SIP Returns'!I176","v":0},{"$f":"'SIP Returns'!J176","v":0},1,10,8,4,1,1,{"$f":"IF(J175=\"\",\"\",IF(J175>Inputs!$D$9,0,1))","v":1},{"$f":"IF(K175=\"\",\"\",IF(K175>Inputs!$D$9,0,1))","v":1},{"$f":"IF(L175=\"\",\"\",IF(L175>Inputs!$D$9,0,1))","v":1},{"$f":"IF(M175=\"\",\"\",IF(M175>Inputs!$D$9,0,1))","v":1},{"$f":"IF(N175=\"\",\"\",IF(N175>Inputs!$D$9,0,1))","v":1},{"$f":"IF(O175=\"\",\"\",IF(O175>Inputs!$D$9,0,1))","v":1},{"$f":"IF(COUNT(P175:U175)=0,\"\",INDEX(Inputs!$O$21:$P$26,MATCH(COUNT(P175:U175),Inputs!$O$21:$O$26,0),2))","v":20},1,null,null,{"$f":"IF(D175=\"\",\"\",IF(D175=\"-\",\"\",IF(D175>AVERAGE($D$2:$D$1000),1,0)))","v":1},1,1,1,1,1,1]
[{"$f":"'SIP Returns'!B177","v":0},null,{"$f":"'SIP Returns'!D177","v":0},{"$f":"'SIP Returns'!E177","v":0},{"$f":"'SIP Returns'!F177","v":0},{"$f":"'SIP Returns'!G177","v":0},{"$f":"'SIP Returns'!H177","v":0},{"$f":"'SIP Returns'!I177","v":0},{"$f":"'SIP Returns'!J177","v":0},1,10,8,4,1,1,{"$f":"IF(J176=\"\",\"\",IF(J176>Inputs!$D$9,0,1))","v":1},{"$f":"IF(K176=\"\",\"\",IF(K176>Inputs!$D$9,0,1))","v":1},{"$f":"IF(L176=\"\",\"\",IF(L176>Inputs!$D$9,0,1))","v":1},{"$f":"IF(M176=\"\",\"\",IF(M176>Inputs!$D$9,0,1))","v":1},{"$f":"IF(N176=\"\",\"\",IF(N176>Inputs!$D$9,0,1))","v":1},{"$f":"IF(O176=\"\",\"\",IF(O176>Inputs!$D$9,0,1))","v":1},{"$f":"IF(COUNT(P176:U176)=0,\"\",INDEX(Inputs!$O$21:$P$26,MATCH(COUNT(P176:U176),Inputs!$O$21:$O$26,0),2))","v":20},1,null,null,{"$f":"IF(D176=\"\",\"\",IF(D176=\"-\",\"\",IF(D176>AVERAGE($D$2:$D$1000),1,0)))","v":1},1,1,1,1,1,1]
[{"$f":"'SIP Returns'!B178","v":0},null,{"$f":"'SIP Returns'!D178","v":0},{"$f":"'SIP Returns'!E178","v":0},{"$f":"'SIP Returns'!F178","v":0},{"$f":"'SIP Returns'!G178","v":0},{"$f":"'SIP Returns'!H178","v":0},{"$f":"'SIP Returns'!I178","v":0},{"$f":"'SIP Returns'!J178","v":0},1,10,8,4,1,1,{"$f":"IF(J177=\"\",\"\",IF(J177>Inputs!$D$9,0,1))","v":1},{"$f":"IF(K177=\"\",\"\",IF(K177>Inputs!$D$9,0,1))","v":1},{"$f":"IF(L177=\"\",\"\",IF(L177>Inputs!$D$9,0,1))","v":1},{"$f":"IF(M177=\"\",\"\",IF(M177>Inputs!$D$9,0,1))","v":1},{"$f":"IF(N177=\"\",\"\",IF(N177>Inputs!$D$9,0,1))","v":1},{"$f":"IF(O177=\"\",\"\",IF(O177>Inputs!$D$9,0,1))","v":1},{"$f":"IF(COUNT(P177:U177)=0,\"\",INDEX(Inputs!$O$21:$P$26,MATCH(COUNT(P177:U177),Inputs!$O$21:$O$26,0),2))","v":20},1,null,null,{"$f":"IF(D177=\"\",\"\",IF(D177=\"-\",\"\",IF(D177>AVERAGE($D$2:$D$1000),1,0)))","v":1},1,1,1,1,1,1]
[{"$f":"'SIP Returns'!B179","v":0},null,{"$f":"'SIP Returns'!D179","v":0},{"$f":"'SIP Returns'!E179","v":0},{"$f":"'SIP Returns'!F179","v":0},{"$f":"'SIP Returns'!G179","v":0},{"$f":"'SIP Returns'!H179","v":0},{"$f":"'SIP Returns'!I179","v":0},{"$f":"'SIP Returns'!J179","v":0},1,10,8,4,1,1,{"$f":"IF(J178=\"\",\"\",IF(J178>Inputs!$D$9,0,1))","v":1},{"$f":"IF(K178=\"\",\"\",IF(K178>Inputs!$D$9,0,1))","v":1},{"$f":"IF(L178=\"\",\"\",IF(L178>Inputs!$D$9,0,1))","v":1},{"$f":"IF(M178=\"\",\"\",IF(M178>Inputs!$D$9,0,1))","v":1},{"$f":"IF(N178=\"\",\"\",IF(N178>Inputs!$D$9,0,1))","v":1},{"$f":"IF(O178=\"\",\"\",IF(O178>Inputs!$D$9,0,1))","v":1},{"$f":"IF(COUNT(P178:U178)=0,\"\",INDEX(Inputs!$O$21:$P$26,MATCH(COUNT(P178:U178),Inputs!$O$21:$O$26,0),2))","v":20},1,null,null,{"$f":"IF(D178=\"\",\"\",IF(D178=\"-\",\"\",IF(D178>AVERAGE($D$2:$D$1000),1,0)))","v":1},1,1,1,1,1,1]
[{"$f":"'SIP Returns'!B180","v":0},null,{"$f":"'SIP Returns'!D180","v":0},{"$f":"'SIP Returns'!E180","v":0},{"$f":"'SIP Returns'!F180","v":0},{"$f":"'SIP Returns'!G180","v":0},{"$f":"'SIP Returns'!H180","v":0},{"$f":"'SIP Returns'!I180","v":0},{"$f":"'SIP Returns'!J180","v":0},1,10,8,4,1,1,{"$f":"IF(J179=\"\",\"\",IF(J179>Inputs!$D$9,0,1))","v":1},{"$f":"IF(K179=\"\",\"\",IF(K179>Inputs!$D$9,0,1))","v":1},{"$f":"IF(L179=\"\",\"\",IF(L179>Inputs!$D$9,0,1))","v":1},{"$f":"IF(M179=\"\",\"\",IF(M179>Inputs!$D$9,0,1))","v":1},{"$f":"IF(N179=\"\",\"\",IF(N179>Inputs!$D$9,0,1))","v":1},{"$f":"IF(O179=\"\",\"\",IF(O179>Inputs!$D$9,0,1))","v":1},{"$f":"IF(COUNT(P179:U179)=0,\"\",INDEX(Inputs!$O$21:$P$26,MATCH(COUNT(P179:U179),Inputs!$O$21:$O$26,0),2))","v":20},1,null,null,{"$f":"IF(D179=\"\",\"\",IF(D179=\"-\",\"\",IF(D179>AVERAGE($D$2:$D$1000),1,0)))","v":1},1,1,1,1,1,1]
[{"$f":"'SIP Returns'!B181","v":0},null,{"$f":"'SIP Returns'!D181","v":0},{"$f":"'SIP Returns'!E181","v":0},{"$f":"'SIP Returns'!F181","v":0},{"$f":"'SIP Returns'!G181","v":0},{"$f":"'SIP Returns'!H181","v":0},{"$f":"'SIP Returns'!I181","v":0},{"$f":"'SIP Returns'!J181","v":0},1,10,8,4,1,1,{"$f":"IF(J180=\"\",\"\",IF(J180>Inputs!$D$9,0,1))","v":1},{"$f":"IF(K180=\"\",\"\",IF(K180>Inputs!$D$9,0,1))","v":1},{"$f":"IF(L180=\"\",\"\",IF(L180>Inputs!$D$9,0,1))","v":1},{"$f":"IF(M180=\"\",\"\",IF(M180>Inputs!$D$9,0,1))","v":1},{"$f":"IF(N180=\"\",\"\",IF(N180>Inputs!$D$9,0,1))","v":1},{"$f":"IF(O180=\"\",\"\",IF(O180>Inputs!$D$9,0,1))","v":1},{"$f":"IF(COUNT(P180:U180)=0,\"\",INDEX(Inputs!$O$21:$P$26,MATCH(COUNT(P180:U180),Inputs!$O$21:$O$26,0),2))","v":20},1,null,null,{"$f":"IF(D180=\"\",\"\",IF(D180=\"-\",\"\",IF(D180>AVERAGE($D$2:$D$1000),1,0)))","v":1},1,1,1,1,1,1]
[{"$f":"'SIP Returns'!B182","v":0},null,{"$f":"'SIP Returns'!D182","v":0},{"$f":"'SIP Returns'!E182","v":0},{"$f":"'SIP Returns'!F182","v":0},{"$f":"'SIP Returns'!G182","v":0},{"$f":"'SIP Returns'!H182","v":0},{"$f":"'SIP Returns'!I182","v":0},{"$f":"'SIP Returns'!J182","v":0},1,10,8,4,1,1,{"$f":"IF(J181=\"\",\"\",IF(J181>Inputs!$D$9,0,1))","v":1},{"$f":"IF(K181=\"\",\"\",IF(K181>Inputs!$D$9,0,1))","v":1},{"$f":"IF(L181=\"\",\"\",IF(L181>Inputs!$D$9,0,1))","v":1},{"$f":"IF(M181=\"\",\"\",IF(M181>Inputs!$D$9,0,1))","v":1},{"$f":"IF(N181=\"\",\"\",IF(N181>Inputs!$D$9,0,1))","v":1},{"$f":"IF(O181=\"\",\"\",IF(O181>Inputs!$D$9,0,1))","v":1},{"$f":"IF(COUNT(P181:U181)=0,\"\",INDEX(Inputs!$O$21:$P$26,MATCH(COUNT(P181:U181),Inputs!$O$21:$O$26,0),2))","v":20},1,null,null,{"$f":"IF(D181=\"\",\"\",IF(D181=\"-\",\"\",IF(D181>AVERAGE($D$2:$D$1000),1,0)))","v":1},1,1,1,1,1,1]
[{"$f":"'SIP Returns'!B183","v":0},null,{"$f":"'SIP Returns'!D183","v":0},{"$f":"'SIP Returns'!E183","v":0},{"$f":"'SIP Returns'!F183","v":0},{"$f":"'SIP Returns'!G183","v":0},{"$f":"'SIP Returns'!H183","v":0},{"$f":"'SIP Returns'!I183","v":0},{"$f":"'SIP Returns'!J183","v":0},1,10,8,4,1,1,{"$f":"IF(J182=\"\",\"\",IF(J182>Inputs!$D$9,0,1))","v":1},{"$f":"IF(K182=\"\",\"\",IF(K182>Inputs!$D$9,0,1))","v":1},{"$f":"IF(L182=\"\",\"\",IF(L182>Inputs!$D$9,0,1))","v":1},{"$f":"IF(M182=\"\",\"\",IF(M182>Inputs!$D$9,0,1))","v":1},{"$f":"IF(N182=\"\",\"\",IF(N182>Inputs!$D$9,0,1))","v":1},{"$f":"IF(O182=\"\",\"\",IF(O182>Inputs!$D$9,0,1))","v":1},{"$f":"IF(COUNT(P182:U182)=0,\"\",INDEX(Inputs!$O$21:$P$26,MATCH(COUNT(P182:U182),Inputs!$O$21:$O$26,0),2))","v":20},1,null,null,{"$f":"IF(D182=\"\",\"\",IF(D182=\"-\",\"\",IF(D182>AVERAGE($D$2:$D$1000),1,0)))","v":1},1,1,1,1,1,1]
[{"$f":"'SIP Returns'!B184","v":0},null,{"$f":"'SIP Returns'!D184","v":0},{"$f":"'SIP Returns'!E184","v":0},{"$f":"'SIP Returns'!F184","v":0},{"$f":"'SIP Returns'!G184","v":0},{"$f":"'SIP Returns'!H184","v":0},{"$f":"'SIP Returns'!I184","v":0},{"$f":"'SIP Returns'!J184","v":0},1,10,8,4,1,1,{"$f":"IF(J183=\"\",\"\",IF(J183>Inputs!$D$9,0,1))","v":1},{"$f":"IF(K183=\"\",\"\",IF(K183>Inputs!$D$9,0,1))","v":1},{"$f":"IF(L183=\"\",\"\",IF(L183>Inputs!$D$9,0,1))","v":1},{"$f":"IF(M183=\"\",\"\",IF(M183>Inputs!$D$9,0,1))","v":1},{"$f":"IF(N183=\"\",\"\",IF(N183>Inputs!$D$9,0,1))","v":1},{"$f":"IF(O183=\"\",\"\",IF(O183>Inputs!$D$9,0,1))","v":1},{"$f":"IF(COUNT(P183:U183)=0,\"\",INDEX(Inputs!$O$21:$P$26,MATCH(COUNT(P183:U183),Inputs!$O$21:$O$26,0),2))","v":20},1,null,null,{"$f":"IF(D183=\"\",\"\",IF(D183=\"-\",\"\",IF(D183>AVERAGE($D$2:$D$1000),1,0)))","v":1},1,1,1,1,1,1]
[{"$f":"'SIP Returns'!B185","v":0},null,{"$f":"'SIP Returns'!D185","v":0},{"$f":"'SIP Returns'!E185","v":0},{"$f":"'SIP Returns'!F185","v":0},{"$f":"'SIP Returns'!G185","v":0},{"$f":"'SIP Returns'!H185","v":0},{"$f":"'SIP Returns'!I185","v":0},{"$f":"'SIP Returns'!J185","v":0},1,10,8,4,1,1,{"$f":"IF(J184=\"\",\"\",IF(J184>Inputs!$D$9,0,1))","v":1},{"$f":"IF(K184=\"\",\"\",IF(K184>Inputs!$D$9,0,1))","v":1},{"$f":"IF(L184=\"\",\"\",IF(L184>Inputs!$D$9,0,1))","v":1},{"$f":"IF(M184=\"\",\"\",IF(M184>Inputs!$D$9,0,1))","v":1},{"$f":"IF(N184=\"\",\"\",IF(N184>Inputs!$D$9,0,1))","v":1},{"$f":"IF(O184=\"\",\"\",IF(O184>Inputs!$D$9,0,1))","v":1},{"$f":"IF(COUNT(P184:U184)=0,\"\",INDEX(Inputs!$O$21:$P$26,MATCH(COUNT(P184:U184),Inputs!$O$21:$O$26,0),2))","v":20},1,null,null,{"$f":"IF(D184=\"\",\"\",IF(D184=\"-\",\"\",IF(D184>AVERAGE($D$2:$D$1000),1,0)))","v":1},1,1,1,1,1,1]
[{"$f":"'SIP Returns'!B186","v":0},null,{"$f":"'SIP Returns'!D186","v":0},{"$f":"'SIP Returns'!E186","v":0},{"$f":"'SIP Returns'!F186","v":0},{"$f":"'SIP Returns'!G186","v":0},{"$f":"'SIP Returns'!H186","v":0},{"$f":"'SIP Returns'!I186","v":0},{"$f":"'SIP Returns'!J186","v":0},1,10,8,4,1,1,{"$f":"IF(J185=\"\",\"\",IF(J185>Inputs!$D$9,0,1))","v":1},{"$f":"IF(K185=\"\",\"\",IF(K185>Inputs!$D$9,0,1))","v":1},{"$f":"IF(L185=\"\",\"\",IF(L185>Inputs!$D$9,0,1))","v":1},{"$f":"IF(M185=\"\",\"\",IF(M185>Inputs!$D$9,0,1))","v":1},{"$f":"IF(N185=\"\",\"\",IF(N185>Inputs!$D$9,0,1))","v":1},{"$f":"IF(O185=\"\",\"\",IF(O185>Inputs!$D$9,0,1))","v":1},{"$f":"IF(COUNT(P185:U185)=0,\"\",INDEX(Inputs!$O$21:$P$26,MATCH(COUNT(P185:U185),Inputs!$O$21:$O$26,0),2))","v":20},1,null,null,{"$f":"IF(D185=\"\",\"\",IF(D185=\"-\",\"\",IF(D185>AVERAGE($D$2:$D$1000),1,0)))","v":1},1,1,1,1,1,1]
[{"$f":"'SIP Returns'!B187","v":0},null,{"$f":"'SIP Returns'!D187","v":0},{"$f":"'SIP Returns'!E187","v":0},{"$f":"'SIP Returns'!F187","v":0},{"$f":"'SIP Returns'!G187","v":0},{"$f":"'SIP Returns'!H187","v":0},{"$f":"'SIP Returns'!I187","v":0},{"$f":"'SIP Returns'!J187","v":0},1,10,8,4,1,1,{"$f":"IF(J186=\"\",\"\",IF(J186>Inputs!$D$9,0,1))","v":1},{"$f":"IF(K186=\"\",\"\",IF(K186>Inputs!$D$9,0,1))","v":1},{"$f":"IF(L186=\"\",\"\",IF(L186>Inputs!$D$9,0,1))","v":1},{"$f":"IF(M186=\"\",\"\",IF(M186>Inputs!$D$9,0,1))","v":1},{"$f":"IF(N186=\"\",\"\",IF(N186>Inputs!$D$9,0,1))","v":1},{"$f":"IF(O186=\"\",\"\",IF(O186>Inputs!$D$9,0,1))","v":1},{"$f":"IF(COUNT(P186:U186)=0,\"\",INDEX(Inputs!$O$21:$P$26,MATCH(COUNT(P186:U186),Inputs!$O$21:$O$26,0),2))","v":20},1,null,null,{"$f":"IF(D186=\"\",\"\",IF(D186=\"-\",\"\",IF(D186>AVERAGE($D$2:$D$1000),1,0)))","v":1},1,1,1,1,1,1]
[{"$f":"'SIP Returns'!B188","v":0},null,{"$f":"'SIP Returns'!D188","v":0},{"$f":"'SIP Returns'!E188","v":0},{"$f":"'SIP Returns'!F188","v":0},{"$f":"'SIP Returns'!G188","v":0},{"$f":"'SIP Returns'!H188","v":0},{"$f":"'SIP Returns'!I188","v":0},{"$f":"'SIP Returns'!J188","v":0},1,10,8,4,1,1,{"$f":"IF(J187=\"\",\"\",IF(J187>Inputs!$D$9,0,1))","v":1},{"$f":"IF(K187=\"\",\"\",IF(K187>Inputs!$D$9,0,1))","v":1},{"$f":"IF(L187=\"\",\"\",IF(L187>Inputs!$D$9,0,1))","v":1},{"$f":"IF(M187=\"\",\"\",IF(M187>Inputs!$D$9,0,1))","v":1},{"$f":"IF(N187=\"\",\"\",IF(N187>Inputs!$D$9,0,1))","v":1},{"$f":"IF(O187=\"\",\"\",IF(O187>Inputs!$D$9,0,1))","v":1},{"$f":"IF(COUNT(P187:U187)=0,\"\",INDEX(Inputs!$O$21:$P$26,MATCH(COUNT(P187:U187),Inputs!$O$21:$O$26,0),2))","v":20},1,null,null,{"$f":"IF(D187=\"\",\"\",IF(D187=\"-\",\"\",IF(D187>AVERAGE($D$2:$D$1000),1,0)))","v":1},1,1,1,1,1,1]
[{"$f":"'SIP Returns'!B189","v":0},null,{"$f":"'SIP Returns'!D189","v":0},{"$f":"'SIP Returns'!E189","v":0},{"$f":"'SIP Returns'!F189","v":0},{"$f":"'SIP Returns'!G189","v":0},{"$f":"'SIP Returns'!H189","v":0},{"$f":"'SIP Returns'!I189","v":0},{"$f":"'SIP Returns'!J189","v":0},1,10,8,4,1,1,{"$f":"IF(J188=\"\",\"\",IF(J188>Inputs!$D$9,0,1))","v":1},{"$f":"IF(K188=\"\",\"\",IF(K188>Inputs!$D$9,0,1))","v":1},{"$f":"IF(L188=\"\",\"\",IF(L188>Inputs!$D$9,0,1))","v":1},{"$f":"IF(M188=\"\",\"\",IF(M188>Inputs!$D$9,0,1))","v":1},{"$f":"IF(N188=\"\",\"\",IF(N188>Inputs!$D$9,0,1))","v":1},{"$f":"IF(O188=\"\",\"\",IF(O188>Inputs!$D$9,0,1))","v":1},{"$f":"IF(COUNT(P188:U188)=0,\"\",INDEX(Inputs!$O$21:$P$26,MATCH(COUNT(P188:U188),Inputs!$O$21:$O$26,0),2))","v":20},1,null,null,{"$f":"IF(D188=\"\",\"\",IF(D188=\"-\",\"\",IF(D188>AVERAGE($D$2:$D$1000),1,0)))","v":1},1,1,1,1,1,1]
[{"$f":"'SIP Returns'!B190","v":0},null,{"$f":"'SIP Returns'!D190","v":0},{"$f":"'SIP Returns'!E190","v":0},{"$f":"'SIP Returns'!F190","v":0},{"$f":"'SIP Returns'!G190","v":0},{"$f":"'SIP Returns'!H190","v":0},{"$f":"'SIP Returns'!I190","v":0},{"$f":"'SIP Returns'!J190","v":0},1,10,8,4,1,1,{"$f":"IF(J189=\"\",\"\",IF(J189>Inputs!$D$9,0,1))","v":1},{"$f":"IF(K189=\"\",\"\",IF(K189>Inputs!$D$9,0,1))","v":1},{"$f":"IF(L189=\"\",\"\",IF(L189>Inputs!$D$9,0,1))","v":1},{"$f":"IF(M189=\"\",\"\",IF(M189>Inputs!$D$9,0,1))","v":1},{"$f":"IF(N189=\"\",\"\",IF(N189>Inputs!$D$9,0,1))","v":1},{"$f":"IF(O189=\"\",\"\",IF(O189>Inputs!$D$9,0,1))","v":1},{"$f":"IF(COUNT(P189:U189)=0,\"\",INDEX(Inputs!$O$21:$P$26,MATCH(COUNT(P189:U189),Inputs!$O$21:$O$26,0),2))","v":20},1,null,null,{"$f":"IF(D189=\"\",\"\",IF(D189=\"-\",\"\",IF(D189>AVERAGE($D$2:$D$1000),1,0)))","v":1},1,1,1,1,1,1]
[{"$f":"'SIP Returns'!B191","v":0},null,{"$f":"'SIP Returns'!D191","v":0},{"$f":"'SIP Returns'!E191","v":0},{"$f":"'SIP Returns'!F191","v":0},{"$f":"'SIP Returns'!G191","v":0},{"$f":"'SIP Returns'!H191","v":0},{"$f":"'SIP Returns'!I191","v":0},{"$f":"'SIP Returns'!J191","v":0},1,10,8,4,1,1,{"$f":"IF(J190=\"\",\"\",IF(J190>Inputs!$D$9,0,1))","v":1},{"$f":"IF(K190=\"\",\"\",IF(K190>Inputs!$D$9,0,1))","v":1},{"$f":"IF(L190=\"\",\"\",IF(L190>Inputs!$D$9,0,1))","v":1},{"$f":"IF(M190=\"\",\"\",IF(M190>Inputs!$D$9,0,1))","v":1},{"$f":"IF(N190=\"\",\"\",IF(N190>Inputs!$D$9,0,1))","v":1},{"$f":"IF(O190=\"\",\"\",IF(O190>Inputs!$D$9,0,1))","v":1},{"$f":"IF(COUNT(P190:U190)=0,\"\",INDEX(Inputs!$O$21:$P$26,MATCH(COUNT(P190:U190),Inputs!$O$21:$O$26,0),2))","v":20},1,null,null,{"$f":"IF(D190=\"\",\"\",IF(D190=\"-\",\"\",IF(D190>AVERAGE($D$2:$D$1000),1,0)))","v":1},1,1,1,1,1,1]
[{"$f":"'SIP Returns'!B192","v":0},null,{"$f":"'SIP Returns'!D192","v":0},{"$f":"'SIP Returns'!E192","v":0},{"$f":"'SIP Returns'!F192","v":0},{"$f":"'SIP Returns'!G192","v":0},{"$f":"'SIP Returns'!H192","v":0},{"$f":"'SIP Returns'!I192","v":0},{"$f":"'SIP Returns'!J192","v":0},1,10,8,4,1,1,{"$f":"IF(J191=\"\",\"\",IF(J191>Inputs!$D$9,0,1))","v":1},{"$f":"IF(K191=\"\",\"\",IF(K191>Inputs!$D$9,0,1))","v":1},{"$f":"IF(L191=\"\",\"\",IF(L191>Inputs!$D$9,0,1))","v":1},{"$f":"IF(M191=\"\",\"\",IF(M191>Inputs!$D$9,0,1))","v":1},{"$f":"IF(N191=\"\",\"\",IF(N191>Inputs!$D$9,0,1))","v":1},{"$f":"IF(O191=\"\",\"\",IF(O191>Inputs!$D$9,0,1))","v":1},{"$f":"IF(COUNT(P191:U191)=0,\"\",INDEX(Inputs!$O$21:$P$26,MATCH(COUNT(P191:U191),Inputs!$O$21:$O$26,0),2))","v":20},1,null,null,{"$f":"IF(D191=\"\",\"\",IF(D191=\"-\",\"\",IF(D191>AVERAGE($D$2:$D$1000),1,0)))","v":1},1,1,1,1,1,1]
[{"$f":"'SIP Returns'!B193","v":0},null,{"$f":"'SIP Returns'!D193","v":0},{"$f":"'SIP Returns'!E193","v":0},{"$f":"'SIP Returns'!F193","v":0},{"$f":"'SIP Returns'!G193","v":0},{"$f":"'SIP Returns'!H193","v":0},{"$f":"'SIP Returns'!I193","v":0},{"$f":"'SIP Returns'!J193","v":0},1,10,8,4,1,1,{"$f":"IF(J192=\"\",\"\",IF(J192>Inputs!$D$9,0,1))","v":1},{"$f":"IF(K192=\"\",\"\",IF(K192>Inputs!$D$9,0,1))","v":1},{"$f":"IF(L192=\"\",\"\",IF(L192>Inputs!$D$9,0,1))","v":1},{"$f":"IF(M192=\"\",\"\",IF(M192>Inputs!$D$9,0,1))","v":1},{"$f":"IF(N192=\"\",\"\",IF(N192>Inputs!$D$9,0,1))","v":1},{"$f":"IF(O192=\"\",\"\",IF(O192>Inputs!$D$9,0,1))","v":1},{"$f":"IF(COUNT(P192:U192)=0,\"\",INDEX(Inputs!$O$21:$P$26,MATCH(COUNT(P192:U192),Inputs!$O$21:$O$26,0),2))","v":20},1,null,null,{"$f":"IF(D192=\"\",\"\",IF(D192=\"-\",\"\",IF(D192>AVERAGE($D$2:$D$1000),1,0)))","v":1},1,1,1,1,1,1]
[{"$f":"'SIP Returns'!B194","v":0},null,{"$f":"'SIP Returns'!D194","v":0},{"$f":"'SIP Returns'!E194","v":0},{"$f":"'SIP Returns'!F194","v":0},{"$f":"'SIP Returns'!G194","v":0},{"$f":"'SIP Returns'!H194","v":0},{"$f":"'SIP Returns'!I194","v":0},{"$f":"'SIP Returns'!J194","v":0},1,10,8,4,1,1,{"$f":"IF(J193=\"\",\"\",IF(J193>Inputs!$D$9,0,1))","v":1},{"$f":"IF(K193=\"\",\"\",IF(K193>Inputs!$D$9,0,1))","v":1},{"$f":"IF(L193=\"\",\"\",IF(L193>Inputs!$D$9,0,1))","v":1},{"$f":"IF(M193=\"\",\"\",IF(M193>Inputs!$D$9,0,1))","v":1},{"$f":"IF(N193=\"\",\"\",IF(N193>Inputs!$D$9,0,1))","v":1},{"$f":"IF(O193=\"\",\"\",IF(O193>Inputs!$D$9,0,1))","v":1},{"$f":"IF(COUNT(P193:U193)=0,\"\",INDEX(Inputs!$O$21:$P$26,MATCH(COUNT(P193:U193),Inputs!$O$21:$O$26,0),2))","v":20},1,null,null,{"$f":"IF(D193=\"\",\"\",IF(D193=\"-\",\"\",IF(D193>AVERAGE($D$2:$D$1000),1,0)))","v":1},1,1,1,1,1,1]
[{"$f":"'SIP Returns'!B195","v":0},null,{"$f":"'SIP Returns'!D195","v":0},{"$f":"'SIP Returns'!E195","v":0},{"$f":"'SIP Returns'!F195","v":0},{"$f":"'SIP Returns'!G195","v":0},{"$f":"'SIP Returns'!H195","v":0},{"$f":"'SIP Returns'!I195","v":0},{"$f":"'SIP Returns'!J195","v":0},{"$f":"IF($A194=\"\",\"\",IF(ISERROR(RANK(D194,$D$2:$D$1000,0)),\"\",RANK(D194,$D$2:$D$1000,0)))","v":1},{"$f":"IF($A194=\"\",\"\",IF(ISERROR(RANK(E194,$E$2:$E$1000,0)),\"\",RANK(E194,$E$2:$E$1000,0)))","v":10},{"$f":"IF($A194=\"\",\"\",IF(ISERROR(RANK(F194,$F$2:$F$1000,0)),\"\",RANK(F194,$F$2:$F$1000,0)))","v":8},{"$f":"IF($A194=\"\",\"\",IF(ISERROR(RANK(G194,$G$2:$G$1000,0)),\"\",RANK(G194,$G$2:$G$1000,0)))","v":4},{"$f":"IF($A194=\"\",\"\",IF(ISERROR(RANK(H194,$H$2:$H$1000,0)),\"\",RANK(H194,$H$2:$H$1000,0)))","v":1},{"$f":"IF($A194=\"\",\"\",IF(ISERROR(RANK(I194,$I$2:$I$1000,0)),\"\",RANK(I194,$I$2:$I$1000,0)))","v":1},{"$f":"IF(J194=\"\",\"\",IF(J194>Inputs!$D$9,0,1))","v":1},{"$f":"IF(K194=\"\",\"\",IF(K194>Inputs!$D$9,0,1))","v":1},{"$f":"IF(L194=\"\",\"\",IF(L194>Inputs!$D$9,0,1))","v":1},{"$f":"IF(M194=\"\",\"\",IF(M194>Inputs!$D$9,0,1))","v":1},{"$f":"IF(N194=\"\",\"\",IF(N194>Inputs!$D$9,0,1))","v":1},{"$f":"IF(O194=\"\",\"\",IF(O194>Inputs!$D$9,0,1))","v":1},{"$f":"IF(COUNT(P194:U194)=0,\"\",INDEX(Inputs!$O$21:$P$26,MATCH(COUNT(P194:U194),Inputs!$O$21:$O$26,0),2))","v":20},1,null,null,{"$f":"IF(D194=\"\",\"\",IF(D194=\"-\",\"\",IF(D194>AVERAGE($D$2:$D$1000),1,0)))","v":1},1,1,1,1,1,{"$f":"IF(COUNT(Z194:AE194)=0,\"\",SUM(Z194:AE194)/COUNT(Z194:AE194))","v":1}]
[{"$f":"'SIP Returns'!B196","v":0},null,{"$f":"'SIP Returns'!D196","v":0},{"$f":"'SIP Returns'!E196","v":0},{"$f":"'SIP Returns'!F196","v":0},{"$f":"'SIP Returns'!G196","v":0},{"$f":"'SIP Returns'!H196","v":0},{"$f":"'SIP Returns'!I196","v":0},{"$f":"'SIP Returns'!J196","v":0},1,10,8,4,1,1,{"$f":"IF(J195=\"\",\"\",IF(J195>Inputs!$D$9,0,1))","v":1},{"$f":"IF(K195=\"\",\"\",IF(K195>Inputs!$D$9,0,1))","v":1},{"$f":"IF(L195=\"\",\"\",IF(L195>Inputs!$D$9,0,1))","v":1},{"$f":"IF(M195=\"\",\"\",IF(M195>Inputs!$D$9,0,1))","v":1},{"$f":"IF(N195=\"\",\"\",IF(N195>Inputs!$D$9,0,1))","v":1},{"$f":"IF(O195=\"\",\"\",IF(O195>Inputs!$D$9,0,1))","v":1},{"$f":"IF(COUNT(P195:U195)=0,\"\",INDEX(Inputs!$O$21:$P$26,MATCH(COUNT(P195:U195),Inputs!$O$21:$O$26,0),2))","v":20},{"$f":"IF(COUNT(P195:U195)=0,\"\",SUM(P195:U195)/COUNT(P195:U195))","v":1},null,null,{"$f":"IF(D195=\"\",\"\",IF(D195=\"-\",\"\",IF(D195>AVERAGE($D$2:$D$1000),1,0)))","v":1},1,1,1,1,1,1]
[{"$f":"'SIP Returns'!B197","v":0},null,{"$f":"'SIP Returns'!D197","v":0},{"$f":"'SIP Returns'!E197","v":0},{"$f":"'SIP Returns'!F197","v":0},{"$f":"'SIP Returns'!G197","v":0},{"$f":"'SIP Returns'!H197","v":0},{"$f":"'SIP Returns'!I197","v":0},{"$f":"'SIP Returns'!J197","v":0},1,10,8,4,1,1,{"$f":"IF(J196=\"\",\"\",IF(J196>Inputs!$D$9,0,1))","v":1},{"$f":"IF(K196=\"\",\"\",IF(K196>Inputs!$D$9,0,1))","v":1},{"$f":"IF(L196=\"\",\"\",IF(L196>Inputs!$D$9,0,1))","v":1},{"$f":"IF(M196=\"\",\"\",IF(M196>Inputs!$D$9,0,1))","v":1},{"$f":"IF(N196=\"\",\"\",IF(N196>Inputs!$D$9,0,1))","v":1},{"$f":"IF(O196=\"\",\"\",IF(O196>Inputs!$D$9,0,1))","v":1},{"$f":"IF(COUNT(P196:U196)=0,\"\",INDEX(Inputs!$O$21:$P$26,MATCH(COUNT(P196:U196),Inputs!$O$21:$O$26,0),2))","v":20},1,null,null,{"$f":"IF(D196=\"\",\"\",IF(D196=\"-\",\"\",IF(D196>AVERAGE($D$2:$D$1000),1,0)))","v":1},1,1,1,1,1,1]
[{"$f":"'SIP Returns'!B198","v":0},null,{"$f":"'SIP Returns'!D198","v":0},{"$f":"'SIP Returns'!E198","v":0},{"$f":"'SIP Returns'!F198","v":0},{"$f":"'SIP Returns'!G198","v":0},{"$f":"'SIP Returns'!H198","v":0},{"$f":"'SIP Returns'!I198","v":0},{"$f":"'SIP Returns'!J198","v":0},1,10,8,4,1,1,{"$f":"IF(J197=\"\",\"\",IF(J197>Inputs!$D$9,0,1))","v":1},{"$f":"IF(K197=\"\",\"\",IF(K197>Inputs!$D$9,0,1))","v":1},{"$f":"IF(L197=\"\",\"\",IF(L197>Inputs!$D$9,0,1))","v":1},{"$f":"IF(M197=\"\",\"\",IF(M197>Inputs!$D$9,0,1))","v":1},{"$f":"IF(N197=\"\",\"\",IF(N197>Inputs!$D$9,0,1))","v":1},{"$f":"IF(O197=\"\",\"\",IF(O197>Inputs!$D$9,0,1))","v":1},{"$f":"IF(COUNT(P197:U197)=0,\"\",INDEX(Inputs!$O$21:$P$26,MATCH(COUNT(P197:U197),Inputs!$O$21:$O$26,0),2))","v":20},1,null,null,{"$f":"IF(D197=\"\",\"\",IF(D197=\"-\",\"\",IF(D197>AVERAGE($D$2:$D$1000),1,0)))","v":1},1,1,1,1,1,1]
[{"$f":"'SIP Returns'!B199","v":0},null,{"$f":"'SIP Returns'!D199","v":0},{"$f":"'SIP Returns'!E199","v":0},{"$f":"'SIP Returns'!F199","v":0},{"$f":"'SIP Returns'!G199","v":0},{"$f":"'SIP Returns'!H199","v":0},{"$f":"'SIP Returns'!I199","v":0},{"$f":"'SIP Returns'!J199","v":0},1,10,8,4,1,1,{"$f":"IF(J198=\"\",\"\",IF(J198>Inputs!$D$9,0,1))","v":1},{"$f":"IF(K198=\"\",\"\",IF(K198>Inputs!$D$9,0,1))","v":1},{"$f":"IF(L198=\"\",\"\",IF(L198>Inputs!$D$9,0,1))","v":1},{"$f":"IF(M198=\"\",\"\",IF(M198>Inputs!$D$9,0,1))","v":1},{"$f":"IF(N198=\"\",\"\",IF(N198>Inputs!$D$9,0,1))","v":1},{"$f":"IF(O198=\"\",\"\",IF(O198>Inputs!$D$9,0,1))","v":1},{"$f":"IF(COUNT(P198:U198)=0,\"\",INDEX(Inputs!$O$21:$P$26,MATCH(COUNT(P198:U198),Inputs!$O$21:$O$26,0),2))","v":20},1,null,null,{"$f":"IF(D198=\"\",\"\",IF(D198=\"-\",\"\",IF(D198>AVERAGE($D$2:$D$1000),1,0)))","v":1},1,1,1,1,1,1]
[{"$f":"'SIP Returns'!B200","v":0},null,{"$f":"'SIP Returns'!D200","v":0},{"$f":"'SIP Returns'!E200","v":0},{"$f":"'SIP Returns'!F200","v":0},{"$f":"'SIP Returns'!G200","v":0},{"$f":"'SIP Returns'!H200","v":0},{"$f":"'SIP Returns'!I200","v":0},{"$f":"'SIP Returns'!J200","v":0},1,10,8,4,1,1,{"$f":"IF(J199=\"\",\"\",IF(J199>Inputs!$D$9,0,1))","v":1},{"$f":"IF(K199=\"\",\"\",IF(K199>Inputs!$D$9,0,1))","v":1},{"$f":"IF(L199=\"\",\"\",IF(L199>Inputs!$D$9,0,1))","v":1},{"$f":"IF(M199=\"\",\"\",IF(M199>Inputs!$D$9,0,1))","v":1},{"$f":"IF(N199=\"\",\"\",IF(N199>Inputs!$D$9,0,1))","v":1},{"$f":"IF(O199=\"\",\"\",IF(O199>Inputs!$D$9,0,1))","v":1},{"$f":"IF(COUNT(P199:U199)=0,\"\",INDEX(Inputs!$O$21:$P$26,MATCH(COUNT(P199:U199),Inputs!$O$21:$O$26,0),2))","v":20},1,null,null,{"$f":"IF(D199=\"\",\"\",IF(D199=\"-\",\"\",IF(D199>AVERAGE($D$2:$D$1000),1,0)))","v":1},1,1,1,1,1,1]
[{"$f":"'SIP Returns'!B201","v":0},null,{"$f":"'SIP Returns'!D201","v":0},{"$f":"'SIP Returns'!E201","v":0},{"$f":"'SIP Returns'!F201","v":0},{"$f":"'SIP Returns'!G201","v":0},{"$f":"'SIP Returns'!H201","v":0},{"$f":"'SIP Returns'!I201","v":0},{"$f":"'SIP Returns'!J201","v":0},1,10,8,4,1,1,{"$f":"IF(J200=\"\",\"\",IF(J200>Inputs!$D$9,0,1))","v":1},{"$f":"IF(K200=\"\",\"\",IF(K200>Inputs!$D$9,0,1))","v":1},{"$f":"IF(L200=\"\",\"\",IF(L200>Inputs!$D$9,0,1))","v":1},{"$f":"IF(M200=\"\",\"\",IF(M200>Inputs!$D$9,0,1))","v":1},{"$f":"IF(N200=\"\",\"\",IF(N200>Inputs!$D$9,0,1))","v":1},{"$f":"IF(O200=\"\",\"\",IF(O200>Inputs!$D$9,0,1))","v":1},{"$f":"IF(COUNT(P200:U200)=0,\"\",INDEX(Inputs!$O$21:$P$26,MATCH(COUNT(P200:U200),Inputs!$O$21:$O$26,0),2))","v":20},1,null,null,{"$f":"IF(D200=\"\",\"\",IF(D200=\"-\",\"\",IF(D200>AVERAGE($D$2:$D$1000),1,0)))","v":1},1,1,1,1,1,1]
[{"$f":"'SIP Returns'!B202","v":0},null,{"$f":"'SIP Returns'!D202","v":0},{"$f":"'SIP Returns'!E202","v":0},{"$f":"'SIP Returns'!F202","v":0},{"$f":"'SIP Returns'!G202","v":0},{"$f":"'SIP Returns'!H202","v":0},{"$f":"'SIP Returns'!I202","v":0},{"$f":"'SIP Returns'!J202","v":0},1,10,8,4,1,1,{"$f":"IF(J201=\"\",\"\",IF(J201>Inputs!$D$9,0,1))","v":1},{"$f":"IF(K201=\"\",\"\",IF(K201>Inputs!$D$9,0,1))","v":1},{"$f":"IF(L201=\"\",\"\",IF(L201>Inputs!$D$9,0,1))","v":1},{"$f":"IF(M201=\"\",\"\",IF(M201>Inputs!$D$9,0,1))","v":1},{"$f":"IF(N201=\"\",\"\",IF(N201>Inputs!$D$9,0,1))","v":1},{"$f":"IF(O201=\"\",\"\",IF(O201>Inputs!$D$9,0,1))","v":1},{"$f":"IF(COUNT(P201:U201)=0,\"\",INDEX(Inputs!$O$21:$P$26,MATCH(COUNT(P201:U201),Inputs!$O$21:$O$26,0),2))","v":20},1,null,null,{"$f":"IF(D201=\"\",\"\",IF(D201=\"-\",\"\",IF(D201>AVERAGE($D$2:$D$1000),1,0)))","v":1},1,1,1,1,1,1]
[{"$f":"'SIP Returns'!B203","v":0},null,{"$f":"'SIP Returns'!D203","v":0},{"$f":"'SIP Returns'!E203","v":0},{"$f":"'SIP Returns'!F203","v":0},{"$f":"'SIP Returns'!G203","v":0},{"$f":"'SIP Returns'!H203","v":0},{"$f":"'SIP Returns'!I203","v":0},{"$f":"'SIP Returns'!J203","v":0},1,10,8,4,1,1,{"$f":"IF(J202=\"\",\"\",IF(J202>Inputs!$D$9,0,1))","v":1},{"$f":"IF(K202=\"\",\"\",IF(K202>Inputs!$D$9,0,1))","v":1},{"$f":"IF(L202=\"\",\"\",IF(L202>Inputs!$D$9,0,1))","v":1},{"$f":"IF(M202=\"\",\"\",IF(M202>Inputs!$D$9,0,1))","v":1},{"$f":"IF(N202=\"\",\"\",IF(N202>Inputs!$D$9,0,1))","v":1},{"$f":"IF(O202=\"\",\"\",IF(O202>Inputs!$D$9,0,1))","v":1},{"$f":"IF(COUNT(P202:U202)=0,\"\",INDEX(Inputs!$O$21:$P$26,MATCH(COUNT(P202:U202),Inputs!$O$21:$O$26,0),2))","v":20},1,null,null,{"$f":"IF(D202=\"\",\"\",IF(D202=\"-\",\"\",IF(D202>AVERAGE($D$2:$D$1000),1,0)))","v":1},1,1,1,1,1,1]
[{"$f":"'SIP Returns'!B204","v":0},null,{"$f":"'SIP Returns'!D204","v":0},{"$f":"'SIP Returns'!E204","v":0},{"$f":"'SIP Returns'!F204","v":0},{"$f":"'SIP Returns'!G204","v":0},{"$f":"'SIP Returns'!H204","v":0},{"$f":"'SIP Returns'!I204","v":0},{"$f":"'SIP Returns'!J204","v":0},1,10,8,4,1,1,{"$f":"IF(J203=\"\",\"\",IF(J203>Inputs!$D$9,0,1))","v":1},{"$f":"IF(K203=\"\",\"\",IF(K203>Inputs!$D$9,0,1))","v":1},{"$f":"IF(L203=\"\",\"\",IF(L203>Inputs!$D$9,0,1))","v":1},{"$f":"IF(M203=\"\",\"\",IF(M203>Inputs!$D$9,0,1))","v":1},{"$f":"IF(N203=\"\",\"\",IF(N203>Inputs!$D$9,0,1))","v":1},{"$f":"IF(O203=\"\",\"\",IF(O203>Inputs!$D$9,0,1))","v":1},{"$f":"IF(COUNT(P203:U203)=0,\"\",INDEX(Inputs!$O$21:$P$26,MATCH(COUNT(P203:U203),Inputs!$O$21:$O$26,0),2))","v":20},1,null,null,{"$f":"IF(D203=\"\",\"\",IF(D203=\"-\",\"\",IF(D203>AVERAGE($D$2:$D$1000),1,0)))","v":1},1,1,1,1,1,1]
[{"$f":"'SIP Returns'!B205","v":0},null,{"$f":"'SIP Returns'!D205","v":0},{"$f":"'SIP Returns'!E205","v":0},{"$f":"'SIP Returns'!F205","v":0},{"$f":"'SIP Returns'!G205","v":0},{"$f":"'SIP Returns'!H205","v":0},{"$f":"'SIP Returns'!I205","v":0},{"$f":"'SIP Returns'!J205","v":0},1,10,8,4,1,1,{"$f":"IF(J204=\"\",\"\",IF(J204>Inputs!$D$9,0,1))","v":1},{"$f":"IF(K204=\"\",\"\",IF(K204>Inputs!$D$9,0,1))","v":1},{"$f":"IF(L204=\"\",\"\",IF(L204>Inputs!$D$9,0,1))","v":1},{"$f":"IF(M204=\"\",\"\",IF(M204>Inputs!$D$9,0,1))","v":1},{"$f":"IF(N204=\"\",\"\",IF(N204>Inputs!$D$9,0,1))","v":1},{"$f":"IF(O204=\"\",\"\",IF(O204>Inputs!$D$9,0,1))","v":1},{"$f":"IF(COUNT(P204:U204)=0,\"\",INDEX(Inputs!$O$21:$P$26,MATCH(COUNT(P204:U204),Inputs!$O$21:$O$26,0),2))","v":20},1,null,null,{"$f":"IF(D204=\"\",\"\",IF(D204=\"-\",\"\",IF(D204>AVERAGE($D$2:$D$1000),1,0)))","v":1},1,1,1,1,1,1]
[{"$f":"'SIP Returns'!B206","v":0},null,{"$f":"'SIP Returns'!D206","v":0},{"$f":"'SIP Returns'!E206","v":0},{"$f":"'SIP Returns'!F206","v":0},{"$f":"'SIP Returns'!G206","v":0},{"$f":"'SIP Returns'!H206","v":0},{"$f":"'SIP Returns'!I206","v":0},{"$f":"'SIP Returns'!J206","v":0},1,10,8,4,1,1,{"$f":"IF(J205=\"\",\"\",IF(J205>Inputs!$D$9,0,1))","v":1},{"$f":"IF(K205=\"\",\"\",IF(K205>Inputs!$D$9,0,1))","v":1},{"$f":"IF(L205=\"\",\"\",IF(L205>Inputs!$D$9,0,1))","v":1},{"$f":"IF(M205=\"\",\"\",IF(M205>Inputs!$D$9,0,1))","v":1},{"$f":"IF(N205=\"\",\"\",IF(N205>Inputs!$D$9,0,1))","v":1},{"$f":"IF(O205=\"\",\"\",IF(O205>Inputs!$D$9,0,1))","v":1},{"$f":"IF(COUNT(P205:U205)=0,\"\",INDEX(Inputs!$O$21:$P$26,MATCH(COUNT(P205:U205),Inputs!$O$21:$O$26,0),2))","v":20},1,null,null,{"$f":"IF(D205=\"\",\"\",IF(D205=\"-\",\"\",IF(D205>AVERAGE($D$2:$D$1000),1,0)))","v":1},1,1,1,1,1,1]
[{"$f":"'SIP Returns'!B207","v":0},null,{"$f":"'SIP Returns'!D207","v":0},{"$f":"'SIP Returns'!E207","v":0},{"$f":"'SIP Returns'!F207","v":0},{"$f":"'SIP Returns'!G207","v":0},{"$f":"'SIP Returns'!H207","v":0},{"$f":"'SIP Returns'!I207","v":0},{"$f":"'SIP Returns'!J207","v":0},1,10,8,4,1,1,{"$f":"IF(J206=\"\",\"\",IF(J206>Inputs!$D$9,0,1))","v":1},{"$f":"IF(K206=\"\",\"\",IF(K206>Inputs!$D$9,0,1))","v":1},{"$f":"IF(L206=\"\",\"\",IF(L206>Inputs!$D$9,0,1))","v":1},{"$f":"IF(M206=\"\",\"\",IF(M206>Inputs!$D$9,0,1))","v":1},{"$f":"IF(N206=\"\",\"\",IF(N206>Inputs!$D$9,0,1))","v":1},{"$f":"IF(O206=\"\",\"\",IF(O206>Inputs!$D$9,0,1))","v":1},{"$f":"IF(COUNT(P206:U206)=0,\"\",INDEX(Inputs!$O$21:$P$26,MATCH(COUNT(P206:U206),Inputs!$O$21:$O$26,0),2))","v":20},1,null,null,{"$f":"IF(D206=\"\",\"\",IF(D206=\"-\",\"\",IF(D206>AVERAGE($D$2:$D$1000),1,0)))","v":1},1,1,1,1,1,1]
[{"$f":"'SIP Returns'!B208","v":0},null,{"$f":"'SIP Returns'!D208","v":0},{"$f":"'SIP Returns'!E208","v":0},{"$f":"'SIP Returns'!F208","v":0},{"$f":"'SIP Returns'!G208","v":0},{"$f":"'SIP Returns'!H208","v":0},{"$f":"'SIP Returns'!I208","v":0},{"$f":"'SIP Returns'!J208","v":0},1,10,8,4,1,1,{"$f":"IF(J207=\"\",\"\",IF(J207>Inputs!$D$9,0,1))","v":1},{"$f":"IF(K207=\"\",\"\",IF(K207>Inputs!$D$9,0,1))","v":1},{"$f":"IF(L207=\"\",\"\",IF(L207>Inputs!$D$9,0,1))","v":1},{"$f":"IF(M207=\"\",\"\",IF(M207>Inputs!$D$9,0,1))","v":1},{"$f":"IF(N207=\"\",\"\",IF(N207>Inputs!$D$9,0,1))","v":1},{"$f":"IF(O207=\"\",\"\",IF(O207>Inputs!$D$9,0,1))","v":1},{"$f":"IF(COUNT(P207:U207)=0,\"\",INDEX(Inputs!$O$21:$P$26,MATCH(COUNT(P207:U207),Inputs!$O$21:$O$26,0),2))","v":20},1,null,null,{"$f":"IF(D207=\"\",\"\",IF(D207=\"-\",\"\",IF(D207>AVERAGE($D$2:$D$1000),1,0)))","v":1},1,1,1,1,1,1]
[{"$f":"'SIP Returns'!B209","v":0},null,{"$f":"'SIP Returns'!D209","v":0},{"$f":"'SIP Returns'!E209","v":0},{"$f":"'SIP Returns'!F209","v":0},{"$f":"'SIP Returns'!G209","v":0},{"$f":"'SIP Returns'!H209","v":0},{"$f":"'SIP Returns'!I209","v":0},{"$f":"'SIP Returns'!J209","v":0},1,10,8,4,1,1,{"$f":"IF(J208=\"\",\"\",IF(J208>Inputs!$D$9,0,1))","v":1},{"$f":"IF(K208=\"\",\"\",IF(K208>Inputs!$D$9,0,1))","v":1},{"$f":"IF(L208=\"\",\"\",IF(L208>Inputs!$D$9,0,1))","v":1},{"$f":"IF(M208=\"\",\"\",IF(M208>Inputs!$D$9,0,1))","v":1},{"$f":"IF(N208=\"\",\"\",IF(N208>Inputs!$D$9,0,1))","v":1},{"$f":"IF(O208=\"\",\"\",IF(O208>Inputs!$D$9,0,1))","v":1},{"$f":"IF(COUNT(P208:U208)=0,\"\",INDEX(Inputs!$O$21:$P$26,MATCH(COUNT(P208:U208),Inputs!$O$21:$O$26,0),2))","v":20},1,null,null,{"$f":"IF(D208=\"\",\"\",IF(D208=\"-\",\"\",IF(D208>AVERAGE($D$2:$D$1000),1,0)))","v":1},1,1,1,1,1,1]
[{"$f":"'SIP Returns'!B210","v":0},null,{"$f":"'SIP Returns'!D210","v":0},{"$f":"'SIP Returns'!E210","v":0},{"$f":"'SIP Returns'!F210","v":0},{"$f":"'SIP Returns'!G210","v":0},{"$f":"'SIP Returns'!H210","v":0},{"$f":"'SIP Returns'!I210","v":0},{"$f":"'SIP Returns'!J210","v":0},1,10,8,4,1,1,{"$f":"IF(J209=\"\",\"\",IF(J209>Inputs!$D$9,0,1))","v":1},{"$f":"IF(K209=\"\",\"\",IF(K209>Inputs!$D$9,0,1))","v":1},{"$f":"IF(L209=\"\",\"\",IF(L209>Inputs!$D$9,0,1))","v":1},{"$f":"IF(M209=\"\",\"\",IF(M209>Inputs!$D$9,0,1))","v":1},{"$f":"IF(N209=\"\",\"\",IF(N209>Inputs!$D$9,0,1))","v":1},{"$f":"IF(O209=\"\",\"\",IF(O209>Inputs!$D$9,0,1))","v":1},{"$f":"IF(COUNT(P209:U209)=0,\"\",INDEX(Inputs!$O$21:$P$26,MATCH(COUNT(P209:U209),Inputs!$O$21:$O$26,0),2))","v":20},1,null,null,{"$f":"IF(D209=\"\",\"\",IF(D209=\"-\",\"\",IF(D209>AVERAGE($D$2:$D$1000),1,0)))","v":1},1,1,1,1,1,1]
[{"$f":"'SIP Returns'!B211","v":0},null,{"$f":"'SIP Returns'!D211","v":0},{"$f":"'SIP Returns'!E211","v":0},{"$f":"'SIP Returns'!F211","v":0},{"$f":"'SIP Returns'!G211","v":0},{"$f":"'SIP Returns'!H211","v":0},{"$f":"'SIP Returns'!I211","v":0},{"$f":"'SIP Returns'!J211","v":0},1,10,8,4,1,1,{"$f":"IF(J210=\"\",\"\",IF(J210>Inputs!$D$9,0,1))","v":1},{"$f":"IF(K210=\"\",\"\",IF(K210>Inputs!$D$9,0,1))","v":1},{"$f":"IF(L210=\"\",\"\",IF(L210>Inputs!$D$9,0,1))","v":1},{"$f":"IF(M210=\"\",\"\",IF(M210>Inputs!$D$9,0,1))","v":1},{"$f":"IF(N210=\"\",\"\",IF(N210>Inputs!$D$9,0,1))","v":1},{"$f":"IF(O210=\"\",\"\",IF(O210>Inputs!$D$9,0,1))","v":1},{"$f":"IF(COUNT(P210:U210)=0,\"\",INDEX(Inputs!$O$21:$P$26,MATCH(COUNT(P210:U210),Inputs!$O$21:$O$26,0),2))","v":20},1,null,null,{"$f":"IF(D210=\"\",\"\",IF(D210=\"-\",\"\",IF(D210>AVERAGE($D$2:$D$1000),1,0)))","v":1},1,1,1,1,1,1]
[{"$f":"'SIP Returns'!B212","v":0},null,{"$f":"'SIP Returns'!D212","v":0},{"$f":"'SIP Returns'!E212","v":0},{"$f":"'SIP Returns'!F212","v":0},{"$f":"'SIP Returns'!G212","v":0},{"$f":"'SIP Returns'!H212","v":0},{"$f":"'SIP Returns'!I212","v":0},{"$f":"'SIP Returns'!J212","v":0},1,10,8,4,1,1,{"$f":"IF(J211=\"\",\"\",IF(J211>Inputs!$D$9,0,1))","v":1},{"$f":"IF(K211=\"\",\"\",IF(K211>Inputs!$D$9,0,1))","v":1},{"$f":"IF(L211=\"\",\"\",IF(L211>Inputs!$D$9,0,1))","v":1},{"$f":"IF(M211=\"\",\"\",IF(M211>Inputs!$D$9,0,1))","v":1},{"$f":"IF(N211=\"\",\"\",IF(N211>Inputs!$D$9,0,1))","v":1},{"$f":"IF(O211=\"\",\"\",IF(O211>Inputs!$D$9,0,1))","v":1},{"$f":"IF(COUNT(P211:U211)=0,\"\",INDEX(Inputs!$O$21:$P$26,MATCH(COUNT(P211:U211),Inputs!$O$21:$O$26,0),2))","v":20},1,null,null,{"$f":"IF(D211=\"\",\"\",IF(D211=\"-\",\"\",IF(D211>AVERAGE($D$2:$D$1000),1,0)))","v":1},1,1,1,1,1,1]
[{"$f":"'SIP Returns'!B213","v":0},null,{"$f":"'SIP Returns'!D213","v":0},{"$f":"'SIP Returns'!E213","v":0},{"$f":"'SIP Returns'!F213","v":0},{"$f":"'SIP Returns'!G213","v":0},{"$f":"'SIP Returns'!H213","v":0},{"$f":"'SIP Returns'!I213","v":0},{"$f":"'SIP Returns'!J213","v":0},1,10,8,4,1,1,{"$f":"IF(J212=\"\",\"\",IF(J212>Inputs!$D$9,0,1))","v":1},{"$f":"IF(K212=\"\",\"\",IF(K212>Inputs!$D$9,0,1))","v":1},{"$f":"IF(L212=\"\",\"\",IF(L212>Inputs!$D$9,0,1))","v":1},{"$f":"IF(M212=\"\",\"\",IF(M212>Inputs!$D$9,0,1))","v":1},{"$f":"IF(N212=\"\",\"\",IF(N212>Inputs!$D$9,0,1))","v":1},{"$f":"IF(O212=\"\",\"\",IF(O212>Inputs!$D$9,0,1))","v":1},{"$f":"IF(COUNT(P212:U212)=0,\"\",INDEX(Inputs!$O$21:$P$26,MATCH(COUNT(P212:U212),Inputs!$O$21:$O$26,0),2))","v":20},1,null,null,{"$f":"IF(D212=\"\",\"\",IF(D212=\"-\",\"\",IF(D212>AVERAGE($D$2:$D$1000),1,0)))","v":1},1,1,1,1,1,1]
[{"$f":"'SIP Returns'!B214","v":0},null,{"$f":"'SIP Returns'!D214","v":0},{"$f":"'SIP Returns'!E214","v":0},{"$f":"'SIP Returns'!F214","v":0},{"$f":"'SIP Returns'!G214","v":0},{"$f":"'SIP Returns'!H214","v":0},{"$f":"'SIP Returns'!I214","v":0},{"$f":"'SIP Returns'!J214","v":0},1,10,8,4,1,1,{"$f":"IF(J213=\"\",\"\",IF(J213>Inputs!$D$9,0,1))","v":1},{"$f":"IF(K213=\"\",\"\",IF(K213>Inputs!$D$9,0,1))","v":1},{"$f":"IF(L213=\"\",\"\",IF(L213>Inputs!$D$9,0,1))","v":1},{"$f":"IF(M213=\"\",\"\",IF(M213>Inputs!$D$9,0,1))","v":1},{"$f":"IF(N213=\"\",\"\",IF(N213>Inputs!$D$9,0,1))","v":1},{"$f":"IF(O213=\"\",\"\",IF(O213>Inputs!$D$9,0,1))","v":1},{"$f":"IF(COUNT(P213:U213)=0,\"\",INDEX(Inputs!$O$21:$P$26,MATCH(COUNT(P213:U213),Inputs!$O$21:$O$26,0),2))","v":20},1,null,null,{"$f":"IF(D213=\"\",\"\",IF(D213=\"-\",\"\",IF(D213>AVERAGE($D$2:$D$1000),1,0)))","v":1},1,1,1,1,1,1]
[{"$f":"'SIP Returns'!B215","v":0},null,{"$f":"'SIP Returns'!D215","v":0},{"$f":"'SIP Returns'!E215","v":0},{"$f":"'SIP Returns'!F215","v":0},{"$f":"'SIP Returns'!G215","v":0},{"$f":"'SIP Returns'!H215","v":0},{"$f":"'SIP Returns'!I215","v":0},{"$f":"'SIP Returns'!J215","v":0},1,10,8,4,1,1,{"$f":"IF(J214=\"\",\"\",IF(J214>Inputs!$D$9,0,1))","v":1},{"$f":"IF(K214=\"\",\"\",IF(K214>Inputs!$D$9,0,1))","v":1},{"$f":"IF(L214=\"\",\"\",IF(L214>Inputs!$D$9,0,1))","v":1},{"$f":"IF(M214=\"\",\"\",IF(M214>Inputs!$D$9,0,1))","v":1},{"$f":"IF(N214=\"\",\"\",IF(N214>Inputs!$D$9,0,1))","v":1},{"$f":"IF(O214=\"\",\"\",IF(O214>Inputs!$D$9,0,1))","v":1},{"$f":"IF(COUNT(P214:U214)=0,\"\",INDEX(Inputs!$O$21:$P$26,MATCH(COUNT(P214:U214),Inputs!$O$21:$O$26,0),2))","v":20},1,null,null,{"$f":"IF(D214=\"\",\"\",IF(D214=\"-\",\"\",IF(D214>AVERAGE($D$2:$D$1000),1,0)))","v":1},1,1,1,1,1,1]
[{"$f":"'SIP Returns'!B216","v":0},null,{"$f":"'SIP Returns'!D216","v":0},{"$f":"'SIP Returns'!E216","v":0},{"$f":"'SIP Returns'!F216","v":0},{"$f":"'SIP Returns'!G216","v":0},{"$f":"'SIP Returns'!H216","v":0},{"$f":"'SIP Returns'!I216","v":0},{"$f":"'SIP Returns'!J216","v":0},1,10,8,4,1,1,{"$f":"IF(J215=\"\",\"\",IF(J215>Inputs!$D$9,0,1))","v":1},{"$f":"IF(K215=\"\",\"\",IF(K215>Inputs!$D$9,0,1))","v":1},{"$f":"IF(L215=\"\",\"\",IF(L215>Inputs!$D$9,0,1))","v":1},{"$f":"IF(M215=\"\",\"\",IF(M215>Inputs!$D$9,0,1))","v":1},{"$f":"IF(N215=\"\",\"\",IF(N215>Inputs!$D$9,0,1))","v":1},{"$f":"IF(O215=\"\",\"\",IF(O215>Inputs!$D$9,0,1))","v":1},{"$f":"IF(COUNT(P215:U215)=0,\"\",INDEX(Inputs!$O$21:$P$26,MATCH(COUNT(P215:U215),Inputs!$O$21:$O$26,0),2))","v":20},1,null,null,{"$f":"IF(D215=\"\",\"\",IF(D215=\"-\",\"\",IF(D215>AVERAGE($D$2:$D$1000),1,0)))","v":1},1,1,1,1,1,1]
[{"$f":"'SIP Returns'!B217","v":0},null,{"$f":"'SIP Returns'!D217","v":0},{"$f":"'SIP Returns'!E217","v":0},{"$f":"'SIP Returns'!F217","v":0},{"$f":"'SIP Returns'!G217","v":0},{"$f":"'SIP Returns'!H217","v":0},{"$f":"'SIP Returns'!I217","v":0},{"$f":"'SIP Returns'!J217","v":0},1,10,8,4,1,1,{"$f":"IF(J216=\"\",\"\",IF(J216>Inputs!$D$9,0,1))","v":1},{"$f":"IF(K216=\"\",\"\",IF(K216>Inputs!$D$9,0,1))","v":1},{"$f":"IF(L216=\"\",\"\",IF(L216>Inputs!$D$9,0,1))","v":1},{"$f":"IF(M216=\"\",\"\",IF(M216>Inputs!$D$9,0,1))","v":1},{"$f":"IF(N216=\"\",\"\",IF(N216>Inputs!$D$9,0,1))","v":1},{"$f":"IF(O216=\"\",\"\",IF(O216>Inputs!$D$9,0,1))","v":1},{"$f":"IF(COUNT(P216:U216)=0,\"\",INDEX(Inputs!$O$21:$P$26,MATCH(COUNT(P216:U216),Inputs!$O$21:$O$26,0),2))","v":20},1,null,null,{"$f":"IF(D216=\"\",\"\",IF(D216=\"-\",\"\",IF(D216>AVERAGE($D$2:$D$1000),1,0)))","v":1},1,1,1,1,1,1]
[{"$f":"'SIP Returns'!B218","v":0},null,{"$f":"'SIP Returns'!D218","v":0},{"$f":"'SIP Returns'!E218","v":0},{"$f":"'SIP Returns'!F218","v":0},{"$f":"'SIP Returns'!G218","v":0},{"$f":"'SIP Returns'!H218","v":0},{"$f":"'SIP Returns'!I218","v":0},{"$f":"'SIP Returns'!J218","v":0},1,10,8,4,1,1,{"$f":"IF(J217=\"\",\"\",IF(J217>Inputs!$D$9,0,1))","v":1},{"$f":"IF(K217=\"\",\"\",IF(K217>Inputs!$D$9,0,1))","v":1},{"$f":"IF(L217=\"\",\"\",IF(L217>Inputs!$D$9,0,1))","v":1},{"$f":"IF(M217=\"\",\"\",IF(M217>Inputs!$D$9,0,1))","v":1},{"$f":"IF(N217=\"\",\"\",IF(N217>Inputs!$D$9,0,1))","v":1},{"$f":"IF(O217=\"\",\"\",IF(O217>Inputs!$D$9,0,1))","v":1},{"$f":"IF(COUNT(P217:U217)=0,\"\",INDEX(Inputs!$O$21:$P$26,MATCH(COUNT(P217:U217),Inputs!$O$21:$O$26,0),2))","v":20},1,null,null,{"$f":"IF(D217=\"\",\"\",IF(D217=\"-\",\"\",IF(D217>AVERAGE($D$2:$D$1000),1,0)))","v":1},1,1,1,1,1,1]
[{"$f":"'SIP Returns'!B219","v":0},null,{"$f":"'SIP Returns'!D219","v":0},{"$f":"'SIP Returns'!E219","v":0},{"$f":"'SIP Returns'!F219","v":0},{"$f":"'SIP Returns'!G219","v":0},{"$f":"'SIP Returns'!H219","v":0},{"$f":"'SIP Returns'!I219","v":0},{"$f":"'SIP Returns'!J219","v":0},1,10,8,4,1,1,{"$f":"IF(J218=\"\",\"\",IF(J218>Inputs!$D$9,0,1))","v":1},{"$f":"IF(K218=\"\",\"\",IF(K218>Inputs!$D$9,0,1))","v":1},{"$f":"IF(L218=\"\",\"\",IF(L218>Inputs!$D$9,0,1))","v":1},{"$f":"IF(M218=\"\",\"\",IF(M218>Inputs!$D$9,0,1))","v":1},{"$f":"IF(N218=\"\",\"\",IF(N218>Inputs!$D$9,0,1))","v":1},{"$f":"IF(O218=\"\",\"\",IF(O218>Inputs!$D$9,0,1))","v":1},{"$f":"IF(COUNT(P218:U218)=0,\"\",INDEX(Inputs!$O$21:$P$26,MATCH(COUNT(P218:U218),Inputs!$O$21:$O$26,0),2))","v":20},1,null,null,{"$f":"IF(D218=\"\",\"\",IF(D218=\"-\",\"\",IF(D218>AVERAGE($D$2:$D$1000),1,0)))","v":1},1,1,1,1,1,1]
[{"$f":"'SIP Returns'!B220","v":0},null,{"$f":"'SIP Returns'!D220","v":0},{"$f":"'SIP Returns'!E220","v":0},{"$f":"'SIP Returns'!F220","v":0},{"$f":"'SIP Returns'!G220","v":0},{"$f":"'SIP Returns'!H220","v":0},{"$f":"'SIP Returns'!I220","v":0},{"$f":"'SIP Returns'!J220","v":0},1,10,8,4,1,1,{"$f":"IF(J219=\"\",\"\",IF(J219>Inputs!$D$9,0,1))","v":1},{"$f":"IF(K219=\"\",\"\",IF(K219>Inputs!$D$9,0,1))","v":1},{"$f":"IF(L219=\"\",\"\",IF(L219>Inputs!$D$9,0,1))","v":1},{"$f":"IF(M219=\"\",\"\",IF(M219>Inputs!$D$9,0,1))","v":1},{"$f":"IF(N219=\"\",\"\",IF(N219>Inputs!$D$9,0,1))","v":1},{"$f":"IF(O219=\"\",\"\",IF(O219>Inputs!$D$9,0,1))","v":1},{"$f":"IF(COUNT(P219:U219)=0,\"\",INDEX(Inputs!$O$21:$P$26,MATCH(COUNT(P219:U219),Inputs!$O$21:$O$26,0),2))","v":20},1,null,null,{"$f":"IF(D219=\"\",\"\",IF(D219=\"-\",\"\",IF(D219>AVERAGE($D$2:$D$1000),1,0)))","v":1},1,1,1,1,1,1]
[{"$f":"'SIP Returns'!B221","v":0},null,{"$f":"'SIP Returns'!D221","v":0},{"$f":"'SIP Returns'!E221","v":0},{"$f":"'SIP Returns'!F221","v":0},{"$f":"'SIP Returns'!G221","v":0},{"$f":"'SIP Returns'!H221","v":0},{"$f":"'SIP Returns'!I221","v":0},{"$f":"'SIP Returns'!J221","v":0},1,10,8,4,1,1,{"$f":"IF(J220=\"\",\"\",IF(J220>Inputs!$D$9,0,1))","v":1},{"$f":"IF(K220=\"\",\"\",IF(K220>Inputs!$D$9,0,1))","v":1},{"$f":"IF(L220=\"\",\"\",IF(L220>Inputs!$D$9,0,1))","v":1},{"$f":"IF(M220=\"\",\"\",IF(M220>Inputs!$D$9,0,1))","v":1},{"$f":"IF(N220=\"\",\"\",IF(N220>Inputs!$D$9,0,1))","v":1},{"$f":"IF(O220=\"\",\"\",IF(O220>Inputs!$D$9,0,1))","v":1},{"$f":"IF(COUNT(P220:U220)=0,\"\",INDEX(Inputs!$O$21:$P$26,MATCH(COUNT(P220:U220),Inputs!$O$21:$O$26,0),2))","v":20},1,null,null,{"$f":"IF(D220=\"\",\"\",IF(D220=\"-\",\"\",IF(D220>AVERAGE($D$2:$D$1000),1,0)))","v":1},1,1,1,1,1,1]
[{"$f":"'SIP Returns'!B222","v":0},null,{"$f":"'SIP Returns'!D222","v":0},{"$f":"'SIP Returns'!E222","v":0},{"$f":"'SIP Returns'!F222","v":0},{"$f":"'SIP Returns'!G222","v":0},{"$f":"'SIP Returns'!H222","v":0},{"$f":"'SIP Returns'!I222","v":0},{"$f":"'SIP Returns'!J222","v":0},1,10,8,4,1,1,{"$f":"IF(J221=\"\",\"\",IF(J221>Inputs!$D$9,0,1))","v":1},{"$f":"IF(K221=\"\",\"\",IF(K221>Inputs!$D$9,0,1))","v":1},{"$f":"IF(L221=\"\",\"\",IF(L221>Inputs!$D$9,0,1))","v":1},{"$f":"IF(M221=\"\",\"\",IF(M221>Inputs!$D$9,0,1))","v":1},{"$f":"IF(N221=\"\",\"\",IF(N221>Inputs!$D$9,0,1))","v":1},{"$f":"IF(O221=\"\",\"\",IF(O221>Inputs!$D$9,0,1))","v":1},{"$f":"IF(COUNT(P221:U221)=0,\"\",INDEX(Inputs!$O$21:$P$26,MATCH(COUNT(P221:U221),Inputs!$O$21:$O$26,0),2))","v":20},1,null,null,{"$f":"IF(D221=\"\",\"\",IF(D221=\"-\",\"\",IF(D221>AVERAGE($D$2:$D$1000),1,0)))","v":1},1,1,1,1,1,1]
[{"$f":"'SIP Returns'!B223","v":0},null,{"$f":"'SIP Returns'!D223","v":0},{"$f":"'SIP Returns'!E223","v":0},{"$f":"'SIP Returns'!F223","v":0},{"$f":"'SIP Returns'!G223","v":0},{"$f":"'SIP Returns'!H223","v":0},{"$f":"'SIP Returns'!I223","v":0},{"$f":"'SIP Returns'!J223","v":0},1,10,8,4,1,1,{"$f":"IF(J222=\"\",\"\",IF(J222>Inputs!$D$9,0,1))","v":1},{"$f":"IF(K222=\"\",\"\",IF(K222>Inputs!$D$9,0,1))","v":1},{"$f":"IF(L222=\"\",\"\",IF(L222>Inputs!$D$9,0,1))","v":1},{"$f":"IF(M222=\"\",\"\",IF(M222>Inputs!$D$9,0,1))","v":1},{"$f":"IF(N222=\"\",\"\",IF(N222>Inputs!$D$9,0,1))","v":1},{"$f":"IF(O222=\"\",\"\",IF(O222>Inputs!$D$9,0,1))","v":1},{"$f":"IF(COUNT(P222:U222)=0,\"\",INDEX(Inputs!$O$21:$P$26,MATCH(COUNT(P222:U222),Inputs!$O$21:$O$26,0),2))","v":20},1,null,null,{"$f":"IF(D222=\"\",\"\",IF(D222=\"-\",\"\",IF(D222>AVERAGE($D$2:$D$1000),1,0)))","v":1},1,1,1,1,1,1]
[{"$f":"'SIP Returns'!B224","v":0},null,{"$f":"'SIP Returns'!D224","v":0},{"$f":"'SIP Returns'!E224","v":0},{"$f":"'SIP Returns'!F224","v":0},{"$f":"'SIP Returns'!G224","v":0},{"$f":"'SIP Returns'!H224","v":0},{"$f":"'SIP Returns'!I224","v":0},{"$f":"'SIP Returns'!J224","v":0},1,10,8,4,1,1,{"$f":"IF(J223=\"\",\"\",IF(J223>Inputs!$D$9,0,1))","v":1},{"$f":"IF(K223=\"\",\"\",IF(K223>Inputs!$D$9,0,1))","v":1},{"$f":"IF(L223=\"\",\"\",IF(L223>Inputs!$D$9,0,1))","v":1},{"$f":"IF(M223=\"\",\"\",IF(M223>Inputs!$D$9,0,1))","v":1},{"$f":"IF(N223=\"\",\"\",IF(N223>Inputs!$D$9,0,1))","v":1},{"$f":"IF(O223=\"\",\"\",IF(O223>Inputs!$D$9,0,1))","v":1},{"$f":"IF(COUNT(P223:U223)=0,\"\",INDEX(Inputs!$O$21:$P$26,MATCH(COUNT(P223:U223),Inputs!$O$21:$O$26,0),2))","v":20},1,null,null,{"$f":"IF(D223=\"\",\"\",IF(D223=\"-\",\"\",IF(D223>AVERAGE($D$2:$D$1000),1,0)))","v":1},1,1,1,1,1,1]
[{"$f":"'SIP Returns'!B225","v":0},null,{"$f":"'SIP Returns'!D225","v":0},{"$f":"'SIP Returns'!E225","v":0},{"$f":"'SIP Returns'!F225","v":0},{"$f":"'SIP Returns'!G225","v":0},{"$f":"'SIP Returns'!H225","v":0},{"$f":"'SIP Returns'!I225","v":0},{"$f":"'SIP Returns'!J225","v":0},1,10,8,4,1,1,{"$f":"IF(J224=\"\",\"\",IF(J224>Inputs!$D$9,0,1))","v":1},{"$f":"IF(K224=\"\",\"\",IF(K224>Inputs!$D$9,0,1))","v":1},{"$f":"IF(L224=\"\",\"\",IF(L224>Inputs!$D$9,0,1))","v":1},{"$f":"IF(M224=\"\",\"\",IF(M224>Inputs!$D$9,0,1))","v":1},{"$f":"IF(N224=\"\",\"\",IF(N224>Inputs!$D$9,0,1))","v":1},{"$f":"IF(O224=\"\",\"\",IF(O224>Inputs!$D$9,0,1))","v":1},{"$f":"IF(COUNT(P224:U224)=0,\"\",INDEX(Inputs!$O$21:$P$26,MATCH(COUNT(P224:U224),Inputs!$O$21:$O$26,0),2))","v":20},1,null,null,{"$f":"IF(D224=\"\",\"\",IF(D224=\"-\",\"\",IF(D224>AVERAGE($D$2:$D$1000),1,0)))","v":1},1,1,1,1,1,1]
[{"$f":"'SIP Returns'!B226","v":0},null,{"$f":"'SIP Returns'!D226","v":0},{"$f":"'SIP Returns'!E226","v":0},{"$f":"'SIP Returns'!F226","v":0},{"$f":"'SIP Returns'!G226","v":0},{"$f":"'SIP Returns'!H226","v":0},{"$f":"'SIP Returns'!I226","v":0},{"$f":"'SIP Returns'!J226","v":0},1,10,8,4,1,1,{"$f":"IF(J225=\"\",\"\",IF(J225>Inputs!$D$9,0,1))","v":1},{"$f":"IF(K225=\"\",\"\",IF(K225>Inputs!$D$9,0,1))","v":1},{"$f":"IF(L225=\"\",\"\",IF(L225>Inputs!$D$9,0,1))","v":1},{"$f":"IF(M225=\"\",\"\",IF(M225>Inputs!$D$9,0,1))","v":1},{"$f":"IF(N225=\"\",\"\",IF(N225>Inputs!$D$9,0,1))","v":1},{"$f":"IF(O225=\"\",\"\",IF(O225>Inputs!$D$9,0,1))","v":1},{"$f":"IF(COUNT(P225:U225)=0,\"\",INDEX(Inputs!$O$21:$P$26,MATCH(COUNT(P225:U225),Inputs!$O$21:$O$26,0),2))","v":20},1,null,null,{"$f":"IF(D225=\"\",\"\",IF(D225=\"-\",\"\",IF(D225>AVERAGE($D$2:$D$1000),1,0)))","v":1},1,1,1,1,1,1]
[{"$f":"'SIP Returns'!B227","v":0},null,{"$f":"'SIP Returns'!D227","v":0},{"$f":"'SIP Returns'!E227","v":0},{"$f":"'SIP Returns'!F227","v":0},{"$f":"'SIP Returns'!G227","v":0},{"$f":"'SIP Returns'!H227","v":0},{"$f":"'SIP Returns'!I227","v":0},{"$f":"'SIP Returns'!J227","v":0},1,10,8,4,1,1,{"$f":"IF(J226=\"\",\"\",IF(J226>Inputs!$D$9,0,1))","v":1},{"$f":"IF(K226=\"\",\"\",IF(K226>Inputs!$D$9,0,1))","v":1},{"$f":"IF(L226=\"\",\"\",IF(L226>Inputs!$D$9,0,1))","v":1},{"$f":"IF(M226=\"\",\"\",IF(M226>Inputs!$D$9,0,1))","v":1},{"$f":"IF(N226=\"\",\"\",IF(N226>Inputs!$D$9,0,1))","v":1},{"$f":"IF(O226=\"\",\"\",IF(O226>Inputs!$D$9,0,1))","v":1},{"$f":"IF(COUNT(P226:U226)=0,\"\",INDEX(Inputs!$O$21:$P$26,MATCH(COUNT(P226:U226),Inputs!$O$21:$O$26,0),2))","v":20},1,null,null,{"$f":"IF(D226=\"\",\"\",IF(D226=\"-\",\"\",IF(D226>AVERAGE($D$2:$D$1000),1,0)))","v":1},1,1,1,1,1,1]
[{"$f":"'SIP Returns'!B228","v":0},null,{"$f":"'SIP Returns'!D228","v":0},{"$f":"'SIP Returns'!E228","v":0},{"$f":"'SIP Returns'!F228","v":0},{"$f":"'SIP Returns'!G228","v":0},{"$f":"'SIP Returns'!H228","v":0},{"$f":"'SIP Returns'!I228","v":0},{"$f":"'SIP Returns'!J228","v":0},1,10,8,4,1,1,{"$f":"IF(J227=\"\",\"\",IF(J227>Inputs!$D$9,0,1))","v":1},{"$f":"IF(K227=\"\",\"\",IF(K227>Inputs!$D$9,0,1))","v":1},{"$f":"IF(L227=\"\",\"\",IF(L227>Inputs!$D$9,0,1))","v":1},{"$f":"IF(M227=\"\",\"\",IF(M227>Inputs!$D$9,0,1))","v":1},{"$f":"IF(N227=\"\",\"\",IF(N227>Inputs!$D$9,0,1))","v":1},{"$f":"IF(O227=\"\",\"\",IF(O227>Inputs!$D$9,0,1))","v":1},{"$f":"IF(COUNT(P227:U227)=0,\"\",INDEX(Inputs!$O$21:$P$26,MATCH(COUNT(P227:U227),Inputs!$O$21:$O$26,0),2))","v":20},1,null,null,{"$f":"IF(D227=\"\",\"\",IF(D227=\"-\",\"\",IF(D227>AVERAGE($D$2:$D$1000),1,0)))","v":1},1,1,1,1,1,1]
[{"$f":"'SIP Returns'!B229","v":0},null,{"$f":"'SIP Returns'!D229","v":0},{"$f":"'SIP Returns'!E229","v":0},{"$f":"'SIP Returns'!F229","v":0},{"$f":"'SIP Returns'!G229","v":0},{"$f":"'SIP Returns'!H229","v":0},{"$f":"'SIP Returns'!I229","v":0},{"$f":"'SIP Returns'!J229","v":0},1,10,8,4,1,1,{"$f":"IF(J228=\"\",\"\",IF(J228>Inputs!$D$9,0,1))","v":1},{"$f":"IF(K228=\"\",\"\",IF(K228>Inputs!$D$9,0,1))","v":1},{"$f":"IF(L228=\"\",\"\",IF(L228>Inputs!$D$9,0,1))","v":1},{"$f":"IF(M228=\"\",\"\",IF(M228>Inputs!$D$9,0,1))","v":1},{"$f":"IF(N228=\"\",\"\",IF(N228>Inputs!$D$9,0,1))","v":1},{"$f":"IF(O228=\"\",\"\",IF(O228>Inputs!$D$9,0,1))","v":1},{"$f":"IF(COUNT(P228:U228)=0,\"\",INDEX(Inputs!$O$21:$P$26,MATCH(COUNT(P228:U228),Inputs!$O$21:$O$26,0),2))","v":20},1,null,null,{"$f":"IF(D228=\"\",\"\",IF(D228=\"-\",\"\",IF(D228>AVERAGE($D$2:$D$1000),1,0)))","v":1},1,1,1,1,1,1]
[{"$f":"'SIP Returns'!B230","v":0},null,{"$f":"'SIP Returns'!D230","v":0},{"$f":"'SIP Returns'!E230","v":0},{"$f":"'SIP Returns'!F230","v":0},{"$f":"'SIP Returns'!G230","v":0},{"$f":"'SIP Returns'!H230","v":0},{"$f":"'SIP Returns'!I230","v":0},{"$f":"'SIP Returns'!J230","v":0},1,10,8,4,1,1,{"$f":"IF(J229=\"\",\"\",IF(J229>Inputs!$D$9,0,1))","v":1},{"$f":"IF(K229=\"\",\"\",IF(K229>Inputs!$D$9,0,1))","v":1},{"$f":"IF(L229=\"\",\"\",IF(L229>Inputs!$D$9,0,1))","v":1},{"$f":"IF(M229=\"\",\"\",IF(M229>Inputs!$D$9,0,1))","v":1},{"$f":"IF(N229=\"\",\"\",IF(N229>Inputs!$D$9,0,1))","v":1},{"$f":"IF(O229=\"\",\"\",IF(O229>Inputs!$D$9,0,1))","v":1},{"$f":"IF(COUNT(P229:U229)=0,\"\",INDEX(Inputs!$O$21:$P$26,MATCH(COUNT(P229:U229),Inputs!$O$21:$O$26,0),2))","v":20},1,null,null,{"$f":"IF(D229=\"\",\"\",IF(D229=\"-\",\"\",IF(D229>AVERAGE($D$2:$D$1000),1,0)))","v":1},1,1,1,1,1,1]
[{"$f":"'SIP Returns'!B231","v":0},null,{"$f":"'SIP Returns'!D231","v":0},{"$f":"'SIP Returns'!E231","v":0},{"$f":"'SIP Returns'!F231","v":0},{"$f":"'SIP Returns'!G231","v":0},{"$f":"'SIP Returns'!H231","v":0},{"$f":"'SIP Returns'!I231","v":0},{"$f":"'SIP Returns'!J231","v":0},1,10,8,4,1,1,{"$f":"IF(J230=\"\",\"\",IF(J230>Inputs!$D$9,0,1))","v":1},{"$f":"IF(K230=\"\",\"\",IF(K230>Inputs!$D$9,0,1))","v":1},{"$f":"IF(L230=\"\",\"\",IF(L230>Inputs!$D$9,0,1))","v":1},{"$f":"IF(M230=\"\",\"\",IF(M230>Inputs!$D$9,0,1))","v":1},{"$f":"IF(N230=\"\",\"\",IF(N230>Inputs!$D$9,0,1))","v":1},{"$f":"IF(O230=\"\",\"\",IF(O230>Inputs!$D$9,0,1))","v":1},{"$f":"IF(COUNT(P230:U230)=0,\"\",INDEX(Inputs!$O$21:$P$26,MATCH(COUNT(P230:U230),Inputs!$O$21:$O$26,0),2))","v":20},1,null,null,{"$f":"IF(D230=\"\",\"\",IF(D230=\"-\",\"\",IF(D230>AVERAGE($D$2:$D$1000),1,0)))","v":1},1,1,1,1,1,1]
[{"$f":"'SIP Returns'!B232","v":0},null,{"$f":"'SIP Returns'!D232","v":0},{"$f":"'SIP Returns'!E232","v":0},{"$f":"'SIP Returns'!F232","v":0},{"$f":"'SIP Returns'!G232","v":0},{"$f":"'SIP Returns'!H232","v":0},{"$f":"'SIP Returns'!I232","v":0},{"$f":"'SIP Returns'!J232","v":0},1,10,8,4,1,1,{"$f":"IF(J231=\"\",\"\",IF(J231>Inputs!$D$9,0,1))","v":1},{"$f":"IF(K231=\"\",\"\",IF(K231>Inputs!$D$9,0,1))","v":1},{"$f":"IF(L231=\"\",\"\",IF(L231>Inputs!$D$9,0,1))","v":1},{"$f":"IF(M231=\"\",\"\",IF(M231>Inputs!$D$9,0,1))","v":1},{"$f":"IF(N231=\"\",\"\",IF(N231>Inputs!$D$9,0,1))","v":1},{"$f":"IF(O231=\"\",\"\",IF(O231>Inputs!$D$9,0,1))","v":1},{"$f":"IF(COUNT(P231:U231)=0,\"\",INDEX(Inputs!$O$21:$P$26,MATCH(COUNT(P231:U231),Inputs!$O$21:$O$26,0),2))","v":20},1,null,null,{"$f":"IF(D231=\"\",\"\",IF(D231=\"-\",\"\",IF(D231>AVERAGE($D$2:$D$1000),1,0)))","v":1},1,1,1,1,1,1]
[{"$f":"'SIP Returns'!B233","v":0},null,{"$f":"'SIP Returns'!D233","v":0},{"$f":"'SIP Returns'!E233","v":0},{"$f":"'SIP Returns'!F233","v":0},{"$f":"'SIP Returns'!G233","v":0},{"$f":"'SIP Returns'!H233","v":0},{"$f":"'SIP Returns'!I233","v":0},{"$f":"'SIP Returns'!J233","v":0},1,10,8,4,1,1,{"$f":"IF(J232=\"\",\"\",IF(J232>Inputs!$D$9,0,1))","v":1},{"$f":"IF(K232=\"\",\"\",IF(K232>Inputs!$D$9,0,1))","v":1},{"$f":"IF(L232=\"\",\"\",IF(L232>Inputs!$D$9,0,1))","v":1},{"$f":"IF(M232=\"\",\"\",IF(M232>Inputs!$D$9,0,1))","v":1},{"$f":"IF(N232=\"\",\"\",IF(N232>Inputs!$D$9,0,1))","v":1},{"$f":"IF(O232=\"\",\"\",IF(O232>Inputs!$D$9,0,1))","v":1},{"$f":"IF(COUNT(P232:U232)=0,\"\",INDEX(Inputs!$O$21:$P$26,MATCH(COUNT(P232:U232),Inputs!$O$21:$O$26,0),2))","v":20},1,null,null,{"$f":"IF(D232=\"\",\"\",IF(D232=\"-\",\"\",IF(D232>AVERAGE($D$2:$D$1000),1,0)))","v":1},1,1,1,1,1,1]
[{"$f":"'SIP Returns'!B234","v":0},null,{"$f":"'SIP Returns'!D234","v":0},{"$f":"'SIP Returns'!E234","v":0},{"$f":"'SIP Returns'!F234","v":0},{"$f":"'SIP Returns'!G234","v":0},{"$f":"'SIP Returns'!H234","v":0},{"$f":"'SIP Returns'!I234","v":0},{"$f":"'SIP Returns'!J234","v":0},1,10,8,4,1,1,{"$f":"IF(J233=\"\",\"\",IF(J233>Inputs!$D$9,0,1))","v":1},{"$f":"IF(K233=\"\",\"\",IF(K233>Inputs!$D$9,0,1))","v":1},{"$f":"IF(L233=\"\",\"\",IF(L233>Inputs!$D$9,0,1))","v":1},{"$f":"IF(M233=\"\",\"\",IF(M233>Inputs!$D$9,0,1))","v":1},{"$f":"IF(N233=\"\",\"\",IF(N233>Inputs!$D$9,0,1))","v":1},{"$f":"IF(O233=\"\",\"\",IF(O233>Inputs!$D$9,0,1))","v":1},{"$f":"IF(COUNT(P233:U233)=0,\"\",INDEX(Inputs!$O$21:$P$26,MATCH(COUNT(P233:U233),Inputs!$O$21:$O$26,0),2))","v":20},1,null,null,{"$f":"IF(D233=\"\",\"\",IF(D233=\"-\",\"\",IF(D233>AVERAGE($D$2:$D$1000),1,0)))","v":1},1,1,1,1,1,1]
[{"$f":"'SIP Returns'!B235","v":0},null,{"$f":"'SIP Returns'!D235","v":0},{"$f":"'SIP Returns'!E235","v":0},{"$f":"'SIP Returns'!F235","v":0},{"$f":"'SIP Returns'!G235","v":0},{"$f":"'SIP Returns'!H235","v":0},{"$f":"'SIP Returns'!I235","v":0},{"$f":"'SIP Returns'!J235","v":0},1,10,8,4,1,1,{"$f":"IF(J234=\"\",\"\",IF(J234>Inputs!$D$9,0,1))","v":1},{"$f":"IF(K234=\"\",\"\",IF(K234>Inputs!$D$9,0,1))","v":1},{"$f":"IF(L234=\"\",\"\",IF(L234>Inputs!$D$9,0,1))","v":1},{"$f":"IF(M234=\"\",\"\",IF(M234>Inputs!$D$9,0,1))","v":1},{"$f":"IF(N234=\"\",\"\",IF(N234>Inputs!$D$9,0,1))","v":1},{"$f":"IF(O234=\"\",\"\",IF(O234>Inputs!$D$9,0,1))","v":1},{"$f":"IF(COUNT(P234:U234)=0,\"\",INDEX(Inputs!$O$21:$P$26,MATCH(COUNT(P234:U234),Inputs!$O$21:$O$26,0),2))","v":20},1,null,null,{"$f":"IF(D234=\"\",\"\",IF(D234=\"-\",\"\",IF(D234>AVERAGE($D$2:$D$1000),1,0)))","v":1},1,1,1,1,1,1]
[{"$f":"'SIP Returns'!B236","v":0},null,{"$f":"'SIP Returns'!D236","v":0},{"$f":"'SIP Returns'!E236","v":0},{"$f":"'SIP Returns'!F236","v":0},{"$f":"'SIP Returns'!G236","v":0},{"$f":"'SIP Returns'!H236","v":0},{"$f":"'SIP Returns'!I236","v":0},{"$f":"'SIP Returns'!J236","v":0},1,10,8,4,1,1,{"$f":"IF(J235=\"\",\"\",IF(J235>Inputs!$D$9,0,1))","v":1},{"$f":"IF(K235=\"\",\"\",IF(K235>Inputs!$D$9,0,1))","v":1},{"$f":"IF(L235=\"\",\"\",IF(L235>Inputs!$D$9,0,1))","v":1},{"$f":"IF(M235=\"\",\"\",IF(M235>Inputs!$D$9,0,1))","v":1},{"$f":"IF(N235=\"\",\"\",IF(N235>Inputs!$D$9,0,1))","v":1},{"$f":"IF(O235=\"\",\"\",IF(O235>Inputs!$D$9,0,1))","v":1},{"$f":"IF(COUNT(P235:U235)=0,\"\",INDEX(Inputs!$O$21:$P$26,MATCH(COUNT(P235:U235),Inputs!$O$21:$O$26,0),2))","v":20},1,null,null,{"$f":"IF(D235=\"\",\"\",IF(D235=\"-\",\"\",IF(D235>AVERAGE($D$2:$D$1000),1,0)))","v":1},1,1,1,1,1,1]
[{"$f":"'SIP Returns'!B237","v":0},null,{"$f":"'SIP Returns'!D237","v":0},{"$f":"'SIP Returns'!E237","v":0},{"$f":"'SIP Returns'!F237","v":0},{"$f":"'SIP Returns'!G237","v":0},{"$f":"'SIP Returns'!H237","v":0},{"$f":"'SIP Returns'!I237","v":0},{"$f":"'SIP Returns'!J237","v":0},1,10,8,4,1,1,{"$f":"IF(J236=\"\",\"\",IF(J236>Inputs!$D$9,0,1))","v":1},{"$f":"IF(K236=\"\",\"\",IF(K236>Inputs!$D$9,0,1))","v":1},{"$f":"IF(L236=\"\",\"\",IF(L236>Inputs!$D$9,0,1))","v":1},{"$f":"IF(M236=\"\",\"\",IF(M236>Inputs!$D$9,0,1))","v":1},{"$f":"IF(N236=\"\",\"\",IF(N236>Inputs!$D$9,0,1))","v":1},{"$f":"IF(O236=\"\",\"\",IF(O236>Inputs!$D$9,0,1))","v":1},{"$f":"IF(COUNT(P236:U236)=0,\"\",INDEX(Inputs!$O$21:$P$26,MATCH(COUNT(P236:U236),Inputs!$O$21:$O$26,0),2))","v":20},1,null,null,{"$f":"IF(D236=\"\",\"\",IF(D236=\"-\",\"\",IF(D236>AVERAGE($D$2:$D$1000),1,0)))","v":1},1,1,1,1,1,1]
[{"$f":"'SIP Returns'!B238","v":0},null,{"$f":"'SIP Returns'!D238","v":0},{"$f":"'SIP Returns'!E238","v":0},{"$f":"'SIP Returns'!F238","v":0},{"$f":"'SIP Returns'!G238","v":0},{"$f":"'SIP Returns'!H238","v":0},{"$f":"'SIP Returns'!I238","v":0},{"$f":"'SIP Returns'!J238","v":0},1,10,8,4,1,1,{"$f":"IF(J237=\"\",\"\",IF(J237>Inputs!$D$9,0,1))","v":1},{"$f":"IF(K237=\"\",\"\",IF(K237>Inputs!$D$9,0,1))","v":1},{"$f":"IF(L237=\"\",\"\",IF(L237>Inputs!$D$9,0,1))","v":1},{"$f":"IF(M237=\"\",\"\",IF(M237>Inputs!$D$9,0,1))","v":1},{"$f":"IF(N237=\"\",\"\",IF(N237>Inputs!$D$9,0,1))","v":1},{"$f":"IF(O237=\"\",\"\",IF(O237>Inputs!$D$9,0,1))","v":1},{"$f":"IF(COUNT(P237:U237)=0,\"\",INDEX(Inputs!$O$21:$P$26,MATCH(COUNT(P237:U237),Inputs!$O$21:$O$26,0),2))","v":20},1,null,null,{"$f":"IF(D237=\"\",\"\",IF(D237=\"-\",\"\",IF(D237>AVERAGE($D$2:$D$1000),1,0)))","v":1},1,1,1,1,1,1]
[{"$f":"'SIP Returns'!B239","v":0},null,{"$f":"'SIP Returns'!D239","v":0},{"$f":"'SIP Returns'!E239","v":0},{"$f":"'SIP Returns'!F239","v":0},{"$f":"'SIP Returns'!G239","v":0},{"$f":"'SIP Returns'!H239","v":0},{"$f":"'SIP Returns'!I239","v":0},{"$f":"'SIP Returns'!J239","v":0},1,10,8,4,1,1,{"$f":"IF(J238=\"\",\"\",IF(J238>Inputs!$D$9,0,1))","v":1},{"$f":"IF(K238=\"\",\"\",IF(K238>Inputs!$D$9,0,1))","v":1},{"$f":"IF(L238=\"\",\"\",IF(L238>Inputs!$D$9,0,1))","v":1},{"$f":"IF(M238=\"\",\"\",IF(M238>Inputs!$D$9,0,1))","v":1},{"$f":"IF(N238=\"\",\"\",IF(N238>Inputs!$D$9,0,1))","v":1},{"$f":"IF(O238=\"\",\"\",IF(O238>Inputs!$D$9,0,1))","v":1},{"$f":"IF(COUNT(P238:U238)=0,\"\",INDEX(Inputs!$O$21:$P$26,MATCH(COUNT(P238:U238),Inputs!$O$21:$O$26,0),2))","v":20},1,null,null,{"$f":"IF(D238=\"\",\"\",IF(D238=\"-\",\"\",IF(D238>AVERAGE($D$2:$D$1000),1,0)))","v":1},1,1,1,1,1,1]
[{"$f":"'SIP Returns'!B240","v":0},null,{"$f":"'SIP Returns'!D240","v":0},{"$f":"'SIP Returns'!E240","v":0},{"$f":"'SIP Returns'!F240","v":0},{"$f":"'SIP Returns'!G240","v":0},{"$f":"'SIP Returns'!H240","v":0},{"$f":"'SIP Returns'!I240","v":0},{"$f":"'SIP Returns'!J240","v":0},1,10,8,4,1,1,{"$f":"IF(J239=\"\",\"\",IF(J239>Inputs!$D$9,0,1))","v":1},{"$f":"IF(K239=\"\",\"\",IF(K239>Inputs!$D$9,0,1))","v":1},{"$f":"IF(L239=\"\",\"\",IF(L239>Inputs!$D$9,0,1))","v":1},{"$f":"IF(M239=\"\",\"\",IF(M239>Inputs!$D$9,0,1))","v":1},{"$f":"IF(N239=\"\",\"\",IF(N239>Inputs!$D$9,0,1))","v":1},{"$f":"IF(O239=\"\",\"\",IF(O239>Inputs!$D$9,0,1))","v":1},{"$f":"IF(COUNT(P239:U239)=0,\"\",INDEX(Inputs!$O$21:$P$26,MATCH(COUNT(P239:U239),Inputs!$O$21:$O$26,0),2))","v":20},1,null,null,{"$f":"IF(D239=\"\",\"\",IF(D239=\"-\",\"\",IF(D239>AVERAGE($D$2:$D$1000),1,0)))","v":1},1,1,1,1,1,1]
[{"$f":"'SIP Returns'!B241","v":0},null,{"$f":"'SIP Returns'!D241","v":0},{"$f":"'SIP Returns'!E241","v":0},{"$f":"'SIP Returns'!F241","v":0},{"$f":"'SIP Returns'!G241","v":0},{"$f":"'SIP Returns'!H241","v":0},{"$f":"'SIP Returns'!I241","v":0},{"$f":"'SIP Returns'!J241","v":0},1,10,8,4,1,1,{"$f":"IF(J240=\"\",\"\",IF(J240>Inputs!$D$9,0,1))","v":1},{"$f":"IF(K240=\"\",\"\",IF(K240>Inputs!$D$9,0,1))","v":1},{"$f":"IF(L240=\"\",\"\",IF(L240>Inputs!$D$9,0,1))","v":1},{"$f":"IF(M240=\"\",\"\",IF(M240>Inputs!$D$9,0,1))","v":1},{"$f":"IF(N240=\"\",\"\",IF(N240>Inputs!$D$9,0,1))","v":1},{"$f":"IF(O240=\"\",\"\",IF(O240>Inputs!$D$9,0,1))","v":1},{"$f":"IF(COUNT(P240:U240)=0,\"\",INDEX(Inputs!$O$21:$P$26,MATCH(COUNT(P240:U240),Inputs!$O$21:$O$26,0),2))","v":20},1,null,null,{"$f":"IF(D240=\"\",\"\",IF(D240=\"-\",\"\",IF(D240>AVERAGE($D$2:$D$1000),1,0)))","v":1},1,1,1,1,1,1]
[{"$f":"'SIP Returns'!B242","v":0},null,{"$f":"'SIP Returns'!D242","v":0},{"$f":"'SIP Returns'!E242","v":0},{"$f":"'SIP Returns'!F242","v":0},{"$f":"'SIP Returns'!G242","v":0},{"$f":"'SIP Returns'!H242","v":0},{"$f":"'SIP Returns'!I242","v":0},{"$f":"'SIP Returns'!J242","v":0},1,10,8,4,1,1,{"$f":"IF(J241=\"\",\"\",IF(J241>Inputs!$D$9,0,1))","v":1},{"$f":"IF(K241=\"\",\"\",IF(K241>Inputs!$D$9,0,1))","v":1},{"$f":"IF(L241=\"\",\"\",IF(L241>Inputs!$D$9,0,1))","v":1},{"$f":"IF(M241=\"\",\"\",IF(M241>Inputs!$D$9,0,1))","v":1},{"$f":"IF(N241=\"\",\"\",IF(N241>Inputs!$D$9,0,1))","v":1},{"$f":"IF(O241=\"\",\"\",IF(O241>Inputs!$D$9,0,1))","v":1},{"$f":"IF(COUNT(P241:U241)=0,\"\",INDEX(Inputs!$O$21:$P$26,MATCH(COUNT(P241:U241),Inputs!$O$21:$O$26,0),2))","v":20},1,null,null,{"$f":"IF(D241=\"\",\"\",IF(D241=\"-\",\"\",IF(D241>AVERAGE($D$2:$D$1000),1,0)))","v":1},1,1,1,1,1,1]
[{"$f":"'SIP Returns'!B243","v":0},null,{"$f":"'SIP Returns'!D243","v":0},{"$f":"'SIP Returns'!E243","v":0},{"$f":"'SIP Returns'!F243","v":0},{"$f":"'SIP Returns'!G243","v":0},{"$f":"'SIP Returns'!H243","v":0},{"$f":"'SIP Returns'!I243","v":0},{"$f":"'SIP Returns'!J243","v":0},1,10,8,4,1,1,{"$f":"IF(J242=\"\",\"\",IF(J242>Inputs!$D$9,0,1))","v":1},{"$f":"IF(K242=\"\",\"\",IF(K242>Inputs!$D$9,0,1))","v":1},{"$f":"IF(L242=\"\",\"\",IF(L242>Inputs!$D$9,0,1))","v":1},{"$f":"IF(M242=\"\",\"\",IF(M242>Inputs!$D$9,0,1))","v":1},{"$f":"IF(N242=\"\",\"\",IF(N242>Inputs!$D$9,0,1))","v":1},{"$f":"IF(O242=\"\",\"\",IF(O242>Inputs!$D$9,0,1))","v":1},{"$f":"IF(COUNT(P242:U242)=0,\"\",INDEX(Inputs!$O$21:$P$26,MATCH(COUNT(P242:U242),Inputs!$O$21:$O$26,0),2))","v":20},1,null,null,{"$f":"IF(D242=\"\",\"\",IF(D242=\"-\",\"\",IF(D242>AVERAGE($D$2:$D$1000),1,0)))","v":1},1,1,1,1,1,1]
[{"$f":"'SIP Returns'!B244","v":0},null,{"$f":"'SIP Returns'!D244","v":0},{"$f":"'SIP Returns'!E244","v":0},{"$f":"'SIP Returns'!F244","v":0},{"$f":"'SIP Returns'!G244","v":0},{"$f":"'SIP Returns'!H244","v":0},{"$f":"'SIP Returns'!I244","v":0},{"$f":"'SIP Returns'!J244","v":0},1,10,8,4,1,1,{"$f":"IF(J243=\"\",\"\",IF(J243>Inputs!$D$9,0,1))","v":1},{"$f":"IF(K243=\"\",\"\",IF(K243>Inputs!$D$9,0,1))","v":1},{"$f":"IF(L243=\"\",\"\",IF(L243>Inputs!$D$9,0,1))","v":1},{"$f":"IF(M243=\"\",\"\",IF(M243>Inputs!$D$9,0,1))","v":1},{"$f":"IF(N243=\"\",\"\",IF(N243>Inputs!$D$9,0,1))","v":1},{"$f":"IF(O243=\"\",\"\",IF(O243>Inputs!$D$9,0,1))","v":1},{"$f":"IF(COUNT(P243:U243)=0,\"\",INDEX(Inputs!$O$21:$P$26,MATCH(COUNT(P243:U243),Inputs!$O$21:$O$26,0),2))","v":20},1,null,null,{"$f":"IF(D243=\"\",\"\",IF(D243=\"-\",\"\",IF(D243>AVERAGE($D$2:$D$1000),1,0)))","v":1},1,1,1,1,1,1]
[{"$f":"'SIP Returns'!B245","v":0},null,{"$f":"'SIP Returns'!D245","v":0},{"$f":"'SIP Returns'!E245","v":0},{"$f":"'SIP Returns'!F245","v":0},{"$f":"'SIP Returns'!G245","v":0},{"$f":"'SIP Returns'!H245","v":0},{"$f":"'SIP Returns'!I245","v":0},{"$f":"'SIP Returns'!J245","v":0},1,10,8,4,1,1,{"$f":"IF(J244=\"\",\"\",IF(J244>Inputs!$D$9,0,1))","v":1},{"$f":"IF(K244=\"\",\"\",IF(K244>Inputs!$D$9,0,1))","v":1},{"$f":"IF(L244=\"\",\"\",IF(L244>Inputs!$D$9,0,1))","v":1},{"$f":"IF(M244=\"\",\"\",IF(M244>Inputs!$D$9,0,1))","v":1},{"$f":"IF(N244=\"\",\"\",IF(N244>Inputs!$D$9,0,1))","v":1},{"$f":"IF(O244=\"\",\"\",IF(O244>Inputs!$D$9,0,1))","v":1},{"$f":"IF(COUNT(P244:U244)=0,\"\",INDEX(Inputs!$O$21:$P$26,MATCH(COUNT(P244:U244),Inputs!$O$21:$O$26,0),2))","v":20},1,null,null,{"$f":"IF(D244=\"\",\"\",IF(D244=\"-\",\"\",IF(D244>AVERAGE($D$2:$D$1000),1,0)))","v":1},1,1,1,1,1,1]
[{"$f":"'SIP Returns'!B246","v":0},null,{"$f":"'SIP Returns'!D246","v":0},{"$f":"'SIP Returns'!E246","v":0},{"$f":"'SIP Returns'!F246","v":0},{"$f":"'SIP Returns'!G246","v":0},{"$f":"'SIP Returns'!H246","v":0},{"$f":"'SIP Returns'!I246","v":0},{"$f":"'SIP Returns'!J246","v":0},1,10,8,4,1,1,{"$f":"IF(J245=\"\",\"\",IF(J245>Inputs!$D$9,0,1))","v":1},{"$f":"IF(K245=\"\",\"\",IF(K245>Inputs!$D$9,0,1))","v":1},{"$f":"IF(L245=\"\",\"\",IF(L245>Inputs!$D$9,0,1))","v":1},{"$f":"IF(M245=\"\",\"\",IF(M245>Inputs!$D$9,0,1))","v":1},{"$f":"IF(N245=\"\",\"\",IF(N245>Inputs!$D$9,0,1))","v":1},{"$f":"IF(O245=\"\",\"\",IF(O245>Inputs!$D$9,0,1))","v":1},{"$f":"IF(COUNT(P245:U245)=0,\"\",INDEX(Inputs!$O$21:$P$26,MATCH(COUNT(P245:U245),Inputs!$O$21:$O$26,0),2))","v":20},1,null,null,{"$f":"IF(D245=\"\",\"\",IF(D245=\"-\",\"\",IF(D245>AVERAGE($D$2:$D$1000),1,0)))","v":1},1,1,1,1,1,1]
[{"$f":"'SIP Returns'!B247","v":0},null,{"$f":"'SIP Returns'!D247","v":0},{"$f":"'SIP Returns'!E247","v":0},{"$f":"'SIP Returns'!F247","v":0},{"$f":"'SIP Returns'!G247","v":0},{"$f":"'SIP Returns'!H247","v":0},{"$f":"'SIP Returns'!I247","v":0},{"$f":"'SIP Returns'!J247","v":0},1,10,8,4,1,1,{"$f":"IF(J246=\"\",\"\",IF(J246>Inputs!$D$9,0,1))","v":1},{"$f":"IF(K246=\"\",\"\",IF(K246>Inputs!$D$9,0,1))","v":1},{"$f":"IF(L246=\"\",\"\",IF(L246>Inputs!$D$9,0,1))","v":1},{"$f":"IF(M246=\"\",\"\",IF(M246>Inputs!$D$9,0,1))","v":1},{"$f":"IF(N246=\"\",\"\",IF(N246>Inputs!$D$9,0,1))","v":1},{"$f":"IF(O246=\"\",\"\",IF(O246>Inputs!$D$9,0,1))","v":1},{"$f":"IF(COUNT(P246:U246)=0,\"\",INDEX(Inputs!$O$21:$P$26,MATCH(COUNT(P246:U246),Inputs!$O$21:$O$26,0),2))","v":20},1,null,null,{"$f":"IF(D246=\"\",\"\",IF(D246=\"-\",\"\",IF(D246>AVERAGE($D$2:$D$1000),1,0)))","v":1},1,1,1,1,1,1]
[{"$f":"'SIP Returns'!B248","v":0},null,{"$f":"'SIP Returns'!D248","v":0},{"$f":"'SIP Returns'!E248","v":0},{"$f":"'SIP Returns'!F248","v":0},{"$f":"'SIP Returns'!G248","v":0},{"$f":"'SIP Returns'!H248","v":0},{"$f":"'SIP Returns'!I248","v":0},{"$f":"'SIP Returns'!J248","v":0},1,10,8,4,1,1,{"$f":"IF(J247=\"\",\"\",IF(J247>Inputs!$D$9,0,1))","v":1},{"$f":"IF(K247=\"\",\"\",IF(K247>Inputs!$D$9,0,1))","v":1},{"$f":"IF(L247=\"\",\"\",IF(L247>Inputs!$D$9,0,1))","v":1},{"$f":"IF(M247=\"\",\"\",IF(M247>Inputs!$D$9,0,1))","v":1},{"$f":"IF(N247=\"\",\"\",IF(N247>Inputs!$D$9,0,1))","v":1},{"$f":"IF(O247=\"\",\"\",IF(O247>Inputs!$D$9,0,1))","v":1},{"$f":"IF(COUNT(P247:U247)=0,\"\",INDEX(Inputs!$O$21:$P$26,MATCH(COUNT(P247:U247),Inputs!$O$21:$O$26,0),2))","v":20},1,null,null,{"$f":"IF(D247=\"\",\"\",IF(D247=\"-\",\"\",IF(D247>AVERAGE($D$2:$D$1000),1,0)))","v":1},1,1,1,1,1,1]
[{"$f":"'SIP Returns'!B249","v":0},null,{"$f":"'SIP Returns'!D249","v":0},{"$f":"'SIP Returns'!E249","v":0},{"$f":"'SIP Returns'!F249","v":0},{"$f":"'SIP Returns'!G249","v":0},{"$f":"'SIP Returns'!H249","v":0},{"$f":"'SIP Returns'!I249","v":0},{"$f":"'SIP Returns'!J249","v":0},1,10,8,4,1,1,{"$f":"IF(J248=\"\",\"\",IF(J248>Inputs!$D$9,0,1))","v":1},{"$f":"IF(K248=\"\",\"\",IF(K248>Inputs!$D$9,0,1))","v":1},{"$f":"IF(L248=\"\",\"\",IF(L248>Inputs!$D$9,0,1))","v":1},{"$f":"IF(M248=\"\",\"\",IF(M248>Inputs!$D$9,0,1))","v":1},{"$f":"IF(N248=\"\",\"\",IF(N248>Inputs!$D$9,0,1))","v":1},{"$f":"IF(O248=\"\",\"\",IF(O248>Inputs!$D$9,0,1))","v":1},{"$f":"IF(COUNT(P248:U248)=0,\"\",INDEX(Inputs!$O$21:$P$26,MATCH(COUNT(P248:U248),Inputs!$O$21:$O$26,0),2))","v":20},1,null,null,{"$f":"IF(D248=\"\",\"\",IF(D248=\"-\",\"\",IF(D248>AVERAGE($D$2:$D$1000),1,0)))","v":1},1,1,1,1,1,1]
[{"$f":"'SIP Returns'!B250","v":0},null,{"$f":"'SIP Returns'!D250","v":0},{"$f":"'SIP Returns'!E250","v":0},{"$f":"'SIP Returns'!F250","v":0},{"$f":"'SIP Returns'!G250","v":0},{"$f":"'SIP Returns'!H250","v":0},{"$f":"'SIP Returns'!I250","v":0},{"$f":"'SIP Returns'!J250","v":0},1,10,8,4,1,1,{"$f":"IF(J249=\"\",\"\",IF(J249>Inputs!$D$9,0,1))","v":1},{"$f":"IF(K249=\"\",\"\",IF(K249>Inputs!$D$9,0,1))","v":1},{"$f":"IF(L249=\"\",\"\",IF(L249>Inputs!$D$9,0,1))","v":1},{"$f":"IF(M249=\"\",\"\",IF(M249>Inputs!$D$9,0,1))","v":1},{"$f":"IF(N249=\"\",\"\",IF(N249>Inputs!$D$9,0,1))","v":1},{"$f":"IF(O249=\"\",\"\",IF(O249>Inputs!$D$9,0,1))","v":1},{"$f":"IF(COUNT(P249:U249)=0,\"\",INDEX(Inputs!$O$21:$P$26,MATCH(COUNT(P249:U249),Inputs!$O$21:$O$26,0),2))","v":20},1,null,null,{"$f":"IF(D249=\"\",\"\",IF(D249=\"-\",\"\",IF(D249>AVERAGE($D$2:$D$1000),1,0)))","v":1},1,1,1,1,1,1]
[{"$f":"'SIP Returns'!B251","v":0},null,{"$f":"'SIP Returns'!D251","v":0},{"$f":"'SIP Returns'!E251","v":0},{"$f":"'SIP Returns'!F251","v":0},{"$f":"'SIP Returns'!G251","v":0},{"$f":"'SIP Returns'!H251","v":0},{"$f":"'SIP Returns'!I251","v":0},{"$f":"'SIP Returns'!J251","v":0},1,10,8,4,1,1,{"$f":"IF(J250=\"\",\"\",IF(J250>Inputs!$D$9,0,1))","v":1},{"$f":"IF(K250=\"\",\"\",IF(K250>Inputs!$D$9,0,1))","v":1},{"$f":"IF(L250=\"\",\"\",IF(L250>Inputs!$D$9,0,1))","v":1},{"$f":"IF(M250=\"\",\"\",IF(M250>Inputs!$D$9,0,1))","v":1},{"$f":"IF(N250=\"\",\"\",IF(N250>Inputs!$D$9,0,1))","v":1},{"$f":"IF(O250=\"\",\"\",IF(O250>Inputs!$D$9,0,1))","v":1},{"$f":"IF(COUNT(P250:U250)=0,\"\",INDEX(Inputs!$O$21:$P$26,MATCH(COUNT(P250:U250),Inputs!$O$21:$O$26,0),2))","v":20},1,null,null,{"$f":"IF(D250=\"\",\"\",IF(D250=\"-\",\"\",IF(D250>AVERAGE($D$2:$D$1000),1,0)))","v":1},1,1,1,1,1,1]
[{"$f":"'SIP Returns'!B252","v":0},null,{"$f":"'SIP Returns'!D252","v":0},{"$f":"'SIP Returns'!E252","v":0},{"$f":"'SIP Returns'!F252","v":0},{"$f":"'SIP Returns'!G252","v":0},{"$f":"'SIP Returns'!H252","v":0},{"$f":"'SIP Returns'!I252","v":0},{"$f":"'SIP Returns'!J252","v":0},1,10,8,4,1,1,{"$f":"IF(J251=\"\",\"\",IF(J251>Inputs!$D$9,0,1))","v":1},{"$f":"IF(K251=\"\",\"\",IF(K251>Inputs!$D$9,0,1))","v":1},{"$f":"IF(L251=\"\",\"\",IF(L251>Inputs!$D$9,0,1))","v":1},{"$f":"IF(M251=\"\",\"\",IF(M251>Inputs!$D$9,0,1))","v":1},{"$f":"IF(N251=\"\",\"\",IF(N251>Inputs!$D$9,0,1))","v":1},{"$f":"IF(O251=\"\",\"\",IF(O251>Inputs!$D$9,0,1))","v":1},{"$f":"IF(COUNT(P251:U251)=0,\"\",INDEX(Inputs!$O$21:$P$26,MATCH(COUNT(P251:U251),Inputs!$O$21:$O$26,0),2))","v":20},1,null,null,{"$f":"IF(D251=\"\",\"\",IF(D251=\"-\",\"\",IF(D251>AVERAGE($D$2:$D$1000),1,0)))","v":1},1,1,1,1,1,1]
[{"$f":"'SIP Returns'!B253","v":0},null,{"$f":"'SIP Returns'!D253","v":0},{"$f":"'SIP Returns'!E253","v":0},{"$f":"'SIP Returns'!F253","v":0},{"$f":"'SIP Returns'!G253","v":0},{"$f":"'SIP Returns'!H253","v":0},{"$f":"'SIP Returns'!I253","v":0},{"$f":"'SIP Returns'!J253","v":0},1,10,8,4,1,1,{"$f":"IF(J252=\"\",\"\",IF(J252>Inputs!$D$9,0,1))","v":1},{"$f":"IF(K252=\"\",\"\",IF(K252>Inputs!$D$9,0,1))","v":1},{"$f":"IF(L252=\"\",\"\",IF(L252>Inputs!$D$9,0,1))","v":1},{"$f":"IF(M252=\"\",\"\",IF(M252>Inputs!$D$9,0,1))","v":1},{"$f":"IF(N252=\"\",\"\",IF(N252>Inputs!$D$9,0,1))","v":1},{"$f":"IF(O252=\"\",\"\",IF(O252>Inputs!$D$9,0,1))","v":1},{"$f":"IF(COUNT(P252:U252)=0,\"\",INDEX(Inputs!$O$21:$P$26,MATCH(COUNT(P252:U252),Inputs!$O$21:$O$26,0),2))","v":20},1,null,null,{"$f":"IF(D252=\"\",\"\",IF(D252=\"-\",\"\",IF(D252>AVERAGE($D$2:$D$1000),1,0)))","v":1},1,1,1,1,1,1]
[{"$f":"'SIP Returns'!B254","v":0},null,{"$f":"'SIP Returns'!D254","v":0},{"$f":"'SIP Returns'!E254","v":0},{"$f":"'SIP Returns'!F254","v":0},{"$f":"'SIP Returns'!G254","v":0},{"$f":"'SIP Returns'!H254","v":0},{"$f":"'SIP Returns'!I254","v":0},{"$f":"'SIP Returns'!J254","v":0},1,10,8,4,1,1,{"$f":"IF(J253=\"\",\"\",IF(J253>Inputs!$D$9,0,1))","v":1},{"$f":"IF(K253=\"\",\"\",IF(K253>Inputs!$D$9,0,1))","v":1},{"$f":"IF(L253=\"\",\"\",IF(L253>Inputs!$D$9,0,1))","v":1},{"$f":"IF(M253=\"\",\"\",IF(M253>Inputs!$D$9,0,1))","v":1},{"$f":"IF(N253=\"\",\"\",IF(N253>Inputs!$D$9,0,1))","v":1},{"$f":"IF(O253=\"\",\"\",IF(O253>Inputs!$D$9,0,1))","v":1},{"$f":"IF(COUNT(P253:U253)=0,\"\",INDEX(Inputs!$O$21:$P$26,MATCH(COUNT(P253:U253),Inputs!$O$21:$O$26,0),2))","v":20},1,null,null,{"$f":"IF(D253=\"\",\"\",IF(D253=\"-\",\"\",IF(D253>AVERAGE($D$2:$D$1000),1,0)))","v":1},1,1,1,1,1,1]
[{"$f":"'SIP Returns'!B255","v":0},null,{"$f":"'SIP Returns'!D255","v":0},{"$f":"'SIP Returns'!E255","v":0},{"$f":"'SIP Returns'!F255","v":0},{"$f":"'SIP Returns'!G255","v":0},{"$f":"'SIP Returns'!H255","v":0},{"$f":"'SIP Returns'!I255","v":0},{"$f":"'SIP Returns'!J255","v":0},1,10,8,4,1,1,{"$f":"IF(J254=\"\",\"\",IF(J254>Inputs!$D$9,0,1))","v":1},{"$f":"IF(K254=\"\",\"\",IF(K254>Inputs!$D$9,0,1))","v":1},{"$f":"IF(L254=\"\",\"\",IF(L254>Inputs!$D$9,0,1))","v":1},{"$f":"IF(M254=\"\",\"\",IF(M254>Inputs!$D$9,0,1))","v":1},{"$f":"IF(N254=\"\",\"\",IF(N254>Inputs!$D$9,0,1))","v":1},{"$f":"IF(O254=\"\",\"\",IF(O254>Inputs!$D$9,0,1))","v":1},{"$f":"IF(COUNT(P254:U254)=0,\"\",INDEX(Inputs!$O$21:$P$26,MATCH(COUNT(P254:U254),Inputs!$O$21:$O$26,0),2))","v":20},1,null,null,{"$f":"IF(D254=\"\",\"\",IF(D254=\"-\",\"\",IF(D254>AVERAGE($D$2:$D$1000),1,0)))","v":1},1,1,1,1,1,1]
[{"$f":"'SIP Returns'!B256","v":0},null,{"$f":"'SIP Returns'!D256","v":0},{"$f":"'SIP Returns'!E256","v":0},{"$f":"'SIP Returns'!F256","v":0},{"$f":"'SIP Returns'!G256","v":0},{"$f":"'SIP Returns'!H256","v":0},{"$f":"'SIP Returns'!I256","v":0},{"$f":"'SIP Returns'!J256","v":0},1,10,8,4,1,1,{"$f":"IF(J255=\"\",\"\",IF(J255>Inputs!$D$9,0,1))","v":1},{"$f":"IF(K255=\"\",\"\",IF(K255>Inputs!$D$9,0,1))","v":1},{"$f":"IF(L255=\"\",\"\",IF(L255>Inputs!$D$9,0,1))","v":1},{"$f":"IF(M255=\"\",\"\",IF(M255>Inputs!$D$9,0,1))","v":1},{"$f":"IF(N255=\"\",\"\",IF(N255>Inputs!$D$9,0,1))","v":1},{"$f":"IF(O255=\"\",\"\",IF(O255>Inputs!$D$9,0,1))","v":1},{"$f":"IF(COUNT(P255:U255)=0,\"\",INDEX(Inputs!$O$21:$P$26,MATCH(COUNT(P255:U255),Inputs!$O$21:$O$26,0),2))","v":20},1,null,null,{"$f":"IF(D255=\"\",\"\",IF(D255=\"-\",\"\",IF(D255>AVERAGE($D$2:$D$1000),1,0)))","v":1},1,1,1,1,1,1]
[{"$f":"'SIP Returns'!B257","v":0},null,{"$f":"'SIP Returns'!D257","v":0},{"$f":"'SIP Returns'!E257","v":0},{"$f":"'SIP Returns'!F257","v":0},{"$f":"'SIP Returns'!G257","v":0},{"$f":"'SIP Returns'!H257","v":0},{"$f":"'SIP Returns'!I257","v":0},{"$f":"'SIP Returns'!J257","v":0},1,10,8,4,1,1,{"$f":"IF(J256=\"\",\"\",IF(J256>Inputs!$D$9,0,1))","v":1},{"$f":"IF(K256=\"\",\"\",IF(K256>Inputs!$D$9,0,1))","v":1},{"$f":"IF(L256=\"\",\"\",IF(L256>Inputs!$D$9,0,1))","v":1},{"$f":"IF(M256=\"\",\"\",IF(M256>Inputs!$D$9,0,1))","v":1},{"$f":"IF(N256=\"\",\"\",IF(N256>Inputs!$D$9,0,1))","v":1},{"$f":"IF(O256=\"\",\"\",IF(O256>Inputs!$D$9,0,1))","v":1},{"$f":"IF(COUNT(P256:U256)=0,\"\",INDEX(Inputs!$O$21:$P$26,MATCH(COUNT(P256:U256),Inputs!$O$21:$O$26,0),2))","v":20},1,null,null,{"$f":"IF(D256=\"\",\"\",IF(D256=\"-\",\"\",IF(D256>AVERAGE($D$2:$D$1000),1,0)))","v":1},1,1,1,1,1,1]
[{"$f":"'SIP Returns'!B258","v":0},null,{"$f":"'SIP Returns'!D258","v":0},{"$f":"'SIP Returns'!E258","v":0},{"$f":"'SIP Returns'!F258","v":0},{"$f":"'SIP Returns'!G258","v":0},{"$f":"'SIP Returns'!H258","v":0},{"$f":"'SIP Returns'!I258","v":0},{"$f":"'SIP Returns'!J258","v":0},1,10,8,4,1,1,{"$f":"IF(J257=\"\",\"\",IF(J257>Inputs!$D$9,0,1))","v":1},{"$f":"IF(K257=\"\",\"\",IF(K257>Inputs!$D$9,0,1))","v":1},{"$f":"IF(L257=\"\",\"\",IF(L257>Inputs!$D$9,0,1))","v":1},{"$f":"IF(M257=\"\",\"\",IF(M257>Inputs!$D$9,0,1))","v":1},{"$f":"IF(N257=\"\",\"\",IF(N257>Inputs!$D$9,0,1))","v":1},{"$f":"IF(O257=\"\",\"\",IF(O257>Inputs!$D$9,0,1))","v":1},{"$f":"IF(COUNT(P257:U257)=0,\"\",INDEX(Inputs!$O$21:$P$26,MATCH(COUNT(P257:U257),Inputs!$O$21:$O$26,0),2))","v":20},1,null,null,{"$f":"IF(D257=\"\",\"\",IF(D257=\"-\",\"\",IF(D257>AVERAGE($D$2:$D$1000),1,0)))","v":1},1,1,1,1,1,1]
[{"$f":"'SIP Returns'!B259","v":0},null,{"$f":"'SIP Returns'!D259","v":0},{"$f":"'SIP Returns'!E259","v":0},{"$f":"'SIP Returns'!F259","v":0},{"$f":"'SIP Returns'!G259","v":0},{"$f":"'SIP Returns'!H259","v":0},{"$f":"'SIP Returns'!I259","v":0},{"$f":"'SIP Returns'!J259","v":0},{"$f":"IF($A258=\"\",\"\",IF(ISERROR(RANK(D258,$D$2:$D$1000,0)),\"\",RANK(D258,$D$2:$D$1000,0)))","v":1},{"$f":"IF($A258=\"\",\"\",IF(ISERROR(RANK(E258,$E$2:$E$1000,0)),\"\",RANK(E258,$E$2:$E$1000,0)))","v":10},{"$f":"IF($A258=\"\",\"\",IF(ISERROR(RANK(F258,$F$2:$F$1000,0)),\"\",RANK(F258,$F$2:$F$1000,0)))","v":8},{"$f":"IF($A258=\"\",\"\",IF(ISERROR(RANK(G258,$G$2:$G$1000,0)),\"\",RANK(G258,$G$2:$G$1000,0)))","v":4},{"$f":"IF($A258=\"\",\"\",IF(ISERROR(RANK(H258,$H$2:$H$1000,0)),\"\",RANK(H258,$H$2:$H$1000,0)))","v":1},{"$f":"IF($A258=\"\",\"\",IF(ISERROR(RANK(I258,$I$2:$I$1000,0)),\"\",RANK(I258,$I$2:$I$1000,0)))","v":1},{"$f":"IF(J258=\"\",\"\",IF(J258>Inputs!$D$9,0,1))","v":1},{"$f":"IF(K258=\"\",\"\",IF(K258>Inputs!$D$9,0,1))","v":1},{"$f":"IF(L258=\"\",\"\",IF(L258>Inputs!$D$9,0,1))","v":1},{"$f":"IF(M258=\"\",\"\",IF(M258>Inputs!$D$9,0,1))","v":1},{"$f":"IF(N258=\"\",\"\",IF(N258>Inputs!$D$9,0,1))","v":1},{"$f":"IF(O258=\"\",\"\",IF(O258>Inputs!$D$9,0,1))","v":1},{"$f":"IF(COUNT(P258:U258)=0,\"\",INDEX(Inputs!$O$21:$P$26,MATCH(COUNT(P258:U258),Inputs!$O$21:$O$26,0),2))","v":20},1,null,null,{"$f":"IF(D258=\"\",\"\",IF(D258=\"-\",\"\",IF(D258>AVERAGE($D$2:$D$1000),1,0)))","v":1},1,1,1,1,1,{"$f":"IF(COUNT(Z258:AE258)=0,\"\",SUM(Z258:AE258)/COUNT(Z258:AE258))","v":1}]
[{"$f":"'SIP Returns'!B260","v":0},null,{"$f":"'SIP Returns'!D260","v":0},{"$f":"'SIP Returns'!E260","v":0},{"$f":"'SIP Returns'!F260","v":0},{"$f":"'SIP Returns'!G260","v":0},{"$f":"'SIP Returns'!H260","v":0},{"$f":"'SIP Returns'!I260","v":0},{"$f":"'SIP Returns'!J260","v":0},1,10,8,4,1,1,{"$f":"IF(J259=\"\",\"\",IF(J259>Inputs!$D$9,0,1))","v":1},{"$f":"IF(K259=\"\",\"\",IF(K259>Inputs!$D$9,0,1))","v":1},{"$f":"IF(L259=\"\",\"\",IF(L259>Inputs!$D$9,0,1))","v":1},{"$f":"IF(M259=\"\",\"\",IF(M259>Inputs!$D$9,0,1))","v":1},{"$f":"IF(N259=\"\",\"\",IF(N259>Inputs!$D$9,0,1))","v":1},{"$f":"IF(O259=\"\",\"\",IF(O259>Inputs!$D$9,0,1))","v":1},{"$f":"IF(COUNT(P259:U259)=0,\"\",INDEX(Inputs!$O$21:$P$26,MATCH(COUNT(P259:U259),Inputs!$O$21:$O$26,0),2))","v":20},{"$f":"IF(COUNT(P259:U259)=0,\"\",SUM(P259:U259)/COUNT(P259:U259))","v":1},null,null,{"$f":"IF(D259=\"\",\"\",IF(D259=\"-\",\"\",IF(D259>AVERAGE($D$2:$D$1000),1,0)))","v":1},1,1,1,1,1,1]
[{"$f":"'SIP Returns'!B261","v":0},null,{"$f":"'SIP Returns'!D261","v":0},{"$f":"'SIP Returns'!E261","v":0},{"$f":"'SIP Returns'!F261","v":0},{"$f":"'SIP Returns'!G261","v":0},{"$f":"'SIP Returns'!H261","v":0},{"$f":"'SIP Returns'!I261","v":0},{"$f":"'SIP Returns'!J261","v":0},1,10,8,4,1,1,{"$f":"IF(J260=\"\",\"\",IF(J260>Inputs!$D$9,0,1))","v":1},{"$f":"IF(K260=\"\",\"\",IF(K260>Inputs!$D$9,0,1))","v":1},{"$f":"IF(L260=\"\",\"\",IF(L260>Inputs!$D$9,0,1))","v":1},{"$f":"IF(M260=\"\",\"\",IF(M260>Inputs!$D$9,0,1))","v":1},{"$f":"IF(N260=\"\",\"\",IF(N260>Inputs!$D$9,0,1))","v":1},{"$f":"IF(O260=\"\",\"\",IF(O260>Inputs!$D$9,0,1))","v":1},{"$f":"IF(COUNT(P260:U260)=0,\"\",INDEX(Inputs!$O$21:$P$26,MATCH(COUNT(P260:U260),Inputs!$O$21:$O$26,0),2))","v":20},1,null,null,{"$f":"IF(D260=\"\",\"\",IF(D260=\"-\",\"\",IF(D260>AVERAGE($D$2:$D$1000),1,0)))","v":1},1,1,1,1,1,1]
[{"$f":"'SIP Returns'!B262","v":0},null,{"$f":"'SIP Returns'!D262","v":0},{"$f":"'SIP Returns'!E262","v":0},{"$f":"'SIP Returns'!F262","v":0},{"$f":"'SIP Returns'!G262","v":0},{"$f":"'SIP Returns'!H262","v":0},{"$f":"'SIP Returns'!I262","v":0},{"$f":"'SIP Returns'!J262","v":0},1,10,8,4,1,1,{"$f":"IF(J261=\"\",\"\",IF(J261>Inputs!$D$9,0,1))","v":1},{"$f":"IF(K261=\"\",\"\",IF(K261>Inputs!$D$9,0,1))","v":1},{"$f":"IF(L261=\"\",\"\",IF(L261>Inputs!$D$9,0,1))","v":1},{"$f":"IF(M261=\"\",\"\",IF(M261>Inputs!$D$9,0,1))","v":1},{"$f":"IF(N261=\"\",\"\",IF(N261>Inputs!$D$9,0,1))","v":1},{"$f":"IF(O261=\"\",\"\",IF(O261>Inputs!$D$9,0,1))","v":1},{"$f":"IF(COUNT(P261:U261)=0,\"\",INDEX(Inputs!$O$21:$P$26,MATCH(COUNT(P261:U261),Inputs!$O$21:$O$26,0),2))","v":20},1,null,null,{"$f":"IF(D261=\"\",\"\",IF(D261=\"-\",\"\",IF(D261>AVERAGE($D$2:$D$1000),1,0)))","v":1},1,1,1,1,1,1]
[{"$f":"'SIP Returns'!B263","v":0},null,{"$f":"'SIP Returns'!D263","v":0},{"$f":"'SIP Returns'!E263","v":0},{"$f":"'SIP Returns'!F263","v":0},{"$f":"'SIP Returns'!G263","v":0},{"$f":"'SIP Returns'!H263","v":0},{"$f":"'SIP Returns'!I263","v":0},{"$f":"'SIP Returns'!J263","v":0},1,10,8,4,1,1,{"$f":"IF(J262=\"\",\"\",IF(J262>Inputs!$D$9,0,1))","v":1},{"$f":"IF(K262=\"\",\"\",IF(K262>Inputs!$D$9,0,1))","v":1},{"$f":"IF(L262=\"\",\"\",IF(L262>Inputs!$D$9,0,1))","v":1},{"$f":"IF(M262=\"\",\"\",IF(M262>Inputs!$D$9,0,1))","v":1},{"$f":"IF(N262=\"\",\"\",IF(N262>Inputs!$D$9,0,1))","v":1},{"$f":"IF(O262=\"\",\"\",IF(O262>Inputs!$D$9,0,1))","v":1},{"$f":"IF(COUNT(P262:U262)=0,\"\",INDEX(Inputs!$O$21:$P$26,MATCH(COUNT(P262:U262),Inputs!$O$21:$O$26,0),2))","v":20},1,null,null,{"$f":"IF(D262=\"\",\"\",IF(D262=\"-\",\"\",IF(D262>AVERAGE($D$2:$D$1000),1,0)))","v":1},1,1,1,1,1,1]
[{"$f":"'SIP Returns'!B264","v":0},null,{"$f":"'SIP Returns'!D264","v":0},{"$f":"'SIP Returns'!E264","v":0},{"$f":"'SIP Returns'!F264","v":0},{"$f":"'SIP Returns'!G264","v":0},{"$f":"'SIP Returns'!H264","v":0},{"$f":"'SIP Returns'!I264","v":0},{"$f":"'SIP Returns'!J264","v":0},1,10,8,4,1,1,{"$f":"IF(J263=\"\",\"\",IF(J263>Inputs!$D$9,0,1))","v":1},{"$f":"IF(K263=\"\",\"\",IF(K263>Inputs!$D$9,0,1))","v":1},{"$f":"IF(L263=\"\",\"\",IF(L263>Inputs!$D$9,0,1))","v":1},{"$f":"IF(M263=\"\",\"\",IF(M263>Inputs!$D$9,0,1))","v":1},{"$f":"IF(N263=\"\",\"\",IF(N263>Inputs!$D$9,0,1))","v":1},{"$f":"IF(O263=\"\",\"\",IF(O263>Inputs!$D$9,0,1))","v":1},{"$f":"IF(COUNT(P263:U263)=0,\"\",INDEX(Inputs!$O$21:$P$26,MATCH(COUNT(P263:U263),Inputs!$O$21:$O$26,0),2))","v":20},1,null,null,{"$f":"IF(D263=\"\",\"\",IF(D263=\"-\",\"\",IF(D263>AVERAGE($D$2:$D$1000),1,0)))","v":1},1,1,1,1,1,1]
[{"$f":"'SIP Returns'!B265","v":0},null,{"$f":"'SIP Returns'!D265","v":0},{"$f":"'SIP Returns'!E265","v":0},{"$f":"'SIP Returns'!F265","v":0},{"$f":"'SIP Returns'!G265","v":0},{"$f":"'SIP Returns'!H265","v":0},{"$f":"'SIP Returns'!I265","v":0},{"$f":"'SIP Returns'!J265","v":0},1,10,8,4,1,1,{"$f":"IF(J264=\"\",\"\",IF(J264>Inputs!$D$9,0,1))","v":1},{"$f":"IF(K264=\"\",\"\",IF(K264>Inputs!$D$9,0,1))","v":1},{"$f":"IF(L264=\"\",\"\",IF(L264>Inputs!$D$9,0,1))","v":1},{"$f":"IF(M264=\"\",\"\",IF(M264>Inputs!$D$9,0,1))","v":1},{"$f":"IF(N264=\"\",\"\",IF(N264>Inputs!$D$9,0,1))","v":1},{"$f":"IF(O264=\"\",\"\",IF(O264>Inputs!$D$9,0,1))","v":1},{"$f":"IF(COUNT(P264:U264)=0,\"\",INDEX(Inputs!$O$21:$P$26,MATCH(COUNT(P264:U264),Inputs!$O$21:$O$26,0),2))","v":20},1,null,null,{"$f":"IF(D264=\"\",\"\",IF(D264=\"-\",\"\",IF(D264>AVERAGE($D$2:$D$1000),1,0)))","v":1},1,1,1,1,1,1]
[{"$f":"'SIP Returns'!B266","v":0},null,{"$f":"'SIP Returns'!D266","v":0},{"$f":"'SIP Returns'!E266","v":0},{"$f":"'SIP Returns'!F266","v":0},{"$f":"'SIP Returns'!G266","v":0},{"$f":"'SIP Returns'!H266","v":0},{"$f":"'SIP Returns'!I266","v":0},{"$f":"'SIP Returns'!J266","v":0},1,10,8,4,1,1,{"$f":"IF(J265=\"\",\"\",IF(J265>Inputs!$D$9,0,1))","v":1},{"$f":"IF(K265=\"\",\"\",IF(K265>Inputs!$D$9,0,1))","v":1},{"$f":"IF(L265=\"\",\"\",IF(L265>Inputs!$D$9,0,1))","v":1},{"$f":"IF(M265=\"\",\"\",IF(M265>Inputs!$D$9,0,1))","v":1},{"$f":"IF(N265=\"\",\"\",IF(N265>Inputs!$D$9,0,1))","v":1},{"$f":"IF(O265=\"\",\"\",IF(O265>Inputs!$D$9,0,1))","v":1},{"$f":"IF(COUNT(P265:U265)=0,\"\",INDEX(Inputs!$O$21:$P$26,MATCH(COUNT(P265:U265),Inputs!$O$21:$O$26,0),2))","v":20},1,null,null,{"$f":"IF(D265=\"\",\"\",IF(D265=\"-\",\"\",IF(D265>AVERAGE($D$2:$D$1000),1,0)))","v":1},1,1,1,1,1,1]
[{"$f":"'SIP Returns'!B267","v":0},null,{"$f":"'SIP Returns'!D267","v":0},{"$f":"'SIP Returns'!E267","v":0},{"$f":"'SIP Returns'!F267","v":0},{"$f":"'SIP Returns'!G267","v":0},{"$f":"'SIP Returns'!H267","v":0},{"$f":"'SIP Returns'!I267","v":0},{"$f":"'SIP Returns'!J267","v":0},1,10,8,4,1,1,{"$f":"IF(J266=\"\",\"\",IF(J266>Inputs!$D$9,0,1))","v":1},{"$f":"IF(K266=\"\",\"\",IF(K266>Inputs!$D$9,0,1))","v":1},{"$f":"IF(L266=\"\",\"\",IF(L266>Inputs!$D$9,0,1))","v":1},{"$f":"IF(M266=\"\",\"\",IF(M266>Inputs!$D$9,0,1))","v":1},{"$f":"IF(N266=\"\",\"\",IF(N266>Inputs!$D$9,0,1))","v":1},{"$f":"IF(O266=\"\",\"\",IF(O266>Inputs!$D$9,0,1))","v":1},{"$f":"IF(COUNT(P266:U266)=0,\"\",INDEX(Inputs!$O$21:$P$26,MATCH(COUNT(P266:U266),Inputs!$O$21:$O$26,0),2))","v":20},1,null,null,{"$f":"IF(D266=\"\",\"\",IF(D266=\"-\",\"\",IF(D266>AVERAGE($D$2:$D$1000),1,0)))","v":1},1,1,1,1,1,1]
[{"$f":"'SIP Returns'!B268","v":0},null,{"$f":"'SIP Returns'!D268","v":0},{"$f":"'SIP Returns'!E268","v":0},{"$f":"'SIP Returns'!F268","v":0},{"$f":"'SIP Returns'!G268","v":0},{"$f":"'SIP Returns'!H268","v":0},{"$f":"'SIP Returns'!I268","v":0},{"$f":"'SIP Returns'!J268","v":0},1,10,8,4,1,1,{"$f":"IF(J267=\"\",\"\",IF(J267>Inputs!$D$9,0,1))","v":1},{"$f":"IF(K267=\"\",\"\",IF(K267>Inputs!$D$9,0,1))","v":1},{"$f":"IF(L267=\"\",\"\",IF(L267>Inputs!$D$9,0,1))","v":1},{"$f":"IF(M267=\"\",\"\",IF(M267>Inputs!$D$9,0,1))","v":1},{"$f":"IF(N267=\"\",\"\",IF(N267>Inputs!$D$9,0,1))","v":1},{"$f":"IF(O267=\"\",\"\",IF(O267>Inputs!$D$9,0,1))","v":1},{"$f":"IF(COUNT(P267:U267)=0,\"\",INDEX(Inputs!$O$21:$P$26,MATCH(COUNT(P267:U267),Inputs!$O$21:$O$26,0),2))","v":20},1,null,null,{"$f":"IF(D267=\"\",\"\",IF(D267=\"-\",\"\",IF(D267>AVERAGE($D$2:$D$1000),1,0)))","v":1},1,1,1,1,1,1]
[{"$f":"'SIP Returns'!B269","v":0},null,{"$f":"'SIP Returns'!D269","v":0},{"$f":"'SIP Returns'!E269","v":0},{"$f":"'SIP Returns'!F269","v":0},{"$f":"'SIP Returns'!G269","v":0},{"$f":"'SIP Returns'!H269","v":0},{"$f":"'SIP Returns'!I269","v":0},{"$f":"'SIP Returns'!J269","v":0},1,10,8,4,1,1,{"$f":"IF(J268=\"\",\"\",IF(J268>Inputs!$D$9,0,1))","v":1},{"$f":"IF(K268=\"\",\"\",IF(K268>Inputs!$D$9,0,1))","v":1},{"$f":"IF(L268=\"\",\"\",IF(L268>Inputs!$D$9,0,1))","v":1},{"$f":"IF(M268=\"\",\"\",IF(M268>Inputs!$D$9,0,1))","v":1},{"$f":"IF(N268=\"\",\"\",IF(N268>Inputs!$D$9,0,1))","v":1},{"$f":"IF(O268=\"\",\"\",IF(O268>Inputs!$D$9,0,1))","v":1},{"$f":"IF(COUNT(P268:U268)=0,\"\",INDEX(Inputs!$O$21:$P$26,MATCH(COUNT(P268:U268),Inputs!$O$21:$O$26,0),2))","v":20},1,null,null,{"$f":"IF(D268=\"\",\"\",IF(D268=\"-\",\"\",IF(D268>AVERAGE($D$2:$D$1000),1,0)))","v":1},1,1,1,1,1,1]
[{"$f":"'SIP Returns'!B270","v":0},null,{"$f":"'SIP Returns'!D270","v":0},{"$f":"'SIP Returns'!E270","v":0},{"$f":"'SIP Returns'!F270","v":0},{"$f":"'SIP Returns'!G270","v":0},{"$f":"'SIP Returns'!H270","v":0},{"$f":"'SIP Returns'!I270","v":0},{"$f":"'SIP Returns'!J270","v":0},1,10,8,4,1,1,{"$f":"IF(J269=\"\",\"\",IF(J269>Inputs!$D$9,0,1))","v":1},{"$f":"IF(K269=\"\",\"\",IF(K269>Inputs!$D$9,0,1))","v":1},{"$f":"IF(L269=\"\",\"\",IF(L269>Inputs!$D$9,0,1))","v":1},{"$f":"IF(M269=\"\",\"\",IF(M269>Inputs!$D$9,0,1))","v":1},{"$f":"IF(N269=\"\",\"\",IF(N269>Inputs!$D$9,0,1))","v":1},{"$f":"IF(O269=\"\",\"\",IF(O269>Inputs!$D$9,0,1))","v":1},{"$f":"IF(COUNT(P269:U269)=0,\"\",INDEX(Inputs!$O$21:$P$26,MATCH(COUNT(P269:U269),Inputs!$O$21:$O$26,0),2))","v":20},1,null,null,{"$f":"IF(D269=\"\",\"\",IF(D269=\"-\",\"\",IF(D269>AVERAGE($D$2:$D$1000),1,0)))","v":1},1,1,1,1,1,1]
[{"$f":"'SIP Returns'!B271","v":0},null,{"$f":"'SIP Returns'!D271","v":0},{"$f":"'SIP Returns'!E271","v":0},{"$f":"'SIP Returns'!F271","v":0},{"$f":"'SIP Returns'!G271","v":0},{"$f":"'SIP Returns'!H271","v":0},{"$f":"'SIP Returns'!I271","v":0},{"$f":"'SIP Returns'!J271","v":0},1,10,8,4,1,1,{"$f":"IF(J270=\"\",\"\",IF(J270>Inputs!$D$9,0,1))","v":1},{"$f":"IF(K270=\"\",\"\",IF(K270>Inputs!$D$9,0,1))","v":1},{"$f":"IF(L270=\"\",\"\",IF(L270>Inputs!$D$9,0,1))","v":1},{"$f":"IF(M270=\"\",\"\",IF(M270>Inputs!$D$9,0,1))","v":1},{"$f":"IF(N270=\"\",\"\",IF(N270>Inputs!$D$9,0,1))","v":1},{"$f":"IF(O270=\"\",\"\",IF(O270>Inputs!$D$9,0,1))","v":1},{"$f":"IF(COUNT(P270:U270)=0,\"\",INDEX(Inputs!$O$21:$P$26,MATCH(COUNT(P270:U270),Inputs!$O$21:$O$26,0),2))","v":20},1,null,null,{"$f":"IF(D270=\"\",\"\",IF(D270=\"-\",\"\",IF(D270>AVERAGE($D$2:$D$1000),1,0)))","v":1},1,1,1,1,1,1]
[{"$f":"'SIP Returns'!B272","v":0},null,{"$f":"'SIP Returns'!D272","v":0},{"$f":"'SIP Returns'!E272","v":0},{"$f":"'SIP Returns'!F272","v":0},{"$f":"'SIP Returns'!G272","v":0},{"$f":"'SIP Returns'!H272","v":0},{"$f":"'SIP Returns'!I272","v":0},{"$f":"'SIP Returns'!J272","v":0},1,10,8,4,1,1,{"$f":"IF(J271=\"\",\"\",IF(J271>Inputs!$D$9,0,1))","v":1},{"$f":"IF(K271=\"\",\"\",IF(K271>Inputs!$D$9,0,1))","v":1},{"$f":"IF(L271=\"\",\"\",IF(L271>Inputs!$D$9,0,1))","v":1},{"$f":"IF(M271=\"\",\"\",IF(M271>Inputs!$D$9,0,1))","v":1},{"$f":"IF(N271=\"\",\"\",IF(N271>Inputs!$D$9,0,1))","v":1},{"$f":"IF(O271=\"\",\"\",IF(O271>Inputs!$D$9,0,1))","v":1},{"$f":"IF(COUNT(P271:U271)=0,\"\",INDEX(Inputs!$O$21:$P$26,MATCH(COUNT(P271:U271),Inputs!$O$21:$O$26,0),2))","v":20},1,null,null,{"$f":"IF(D271=\"\",\"\",IF(D271=\"-\",\"\",IF(D271>AVERAGE($D$2:$D$1000),1,0)))","v":1},1,1,1,1,1,1]
[{"$f":"'SIP Returns'!B273","v":0},null,{"$f":"'SIP Returns'!D273","v":0},{"$f":"'SIP Returns'!E273","v":0},{"$f":"'SIP Returns'!F273","v":0},{"$f":"'SIP Returns'!G273","v":0},{"$f":"'SIP Returns'!H273","v":0},{"$f":"'SIP Returns'!I273","v":0},{"$f":"'SIP Returns'!J273","v":0},1,10,8,4,1,1,{"$f":"IF(J272=\"\",\"\",IF(J272>Inputs!$D$9,0,1))","v":1},{"$f":"IF(K272=\"\",\"\",IF(K272>Inputs!$D$9,0,1))","v":1},{"$f":"IF(L272=\"\",\"\",IF(L272>Inputs!$D$9,0,1))","v":1},{"$f":"IF(M272=\"\",\"\",IF(M272>Inputs!$D$9,0,1))","v":1},{"$f":"IF(N272=\"\",\"\",IF(N272>Inputs!$D$9,0,1))","v":1},{"$f":"IF(O272=\"\",\"\",IF(O272>Inputs!$D$9,0,1))","v":1},{"$f":"IF(COUNT(P272:U272)=0,\"\",INDEX(Inputs!$O$21:$P$26,MATCH(COUNT(P272:U272),Inputs!$O$21:$O$26,0),2))","v":20},1,null,null,{"$f":"IF(D272=\"\",\"\",IF(D272=\"-\",\"\",IF(D272>AVERAGE($D$2:$D$1000),1,0)))","v":1},1,1,1,1,1,1]
[{"$f":"'SIP Returns'!B274","v":0},null,{"$f":"'SIP Returns'!D274","v":0},{"$f":"'SIP Returns'!E274","v":0},{"$f":"'SIP Returns'!F274","v":0},{"$f":"'SIP Returns'!G274","v":0},{"$f":"'SIP Returns'!H274","v":0},{"$f":"'SIP Returns'!I274","v":0},{"$f":"'SIP Returns'!J274","v":0},1,10,8,4,1,1,{"$f":"IF(J273=\"\",\"\",IF(J273>Inputs!$D$9,0,1))","v":1},{"$f":"IF(K273=\"\",\"\",IF(K273>Inputs!$D$9,0,1))","v":1},{"$f":"IF(L273=\"\",\"\",IF(L273>Inputs!$D$9,0,1))","v":1},{"$f":"IF(M273=\"\",\"\",IF(M273>Inputs!$D$9,0,1))","v":1},{"$f":"IF(N273=\"\",\"\",IF(N273>Inputs!$D$9,0,1))","v":1},{"$f":"IF(O273=\"\",\"\",IF(O273>Inputs!$D$9,0,1))","v":1},{"$f":"IF(COUNT(P273:U273)=0,\"\",INDEX(Inputs!$O$21:$P$26,MATCH(COUNT(P273:U273),Inputs!$O$21:$O$26,0),2))","v":20},1,null,null,{"$f":"IF(D273=\"\",\"\",IF(D273=\"-\",\"\",IF(D273>AVERAGE($D$2:$D$1000),1,0)))","v":1},1,1,1,1,1,1]
[{"$f":"'SIP Returns'!B275","v":0},null,{"$f":"'SIP Returns'!D275","v":0},{"$f":"'SIP Returns'!E275","v":0},{"$f":"'SIP Returns'!F275","v":0},{"$f":"'SIP Returns'!G275","v":0},{"$f":"'SIP Returns'!H275","v":0},{"$f":"'SIP Returns'!I275","v":0},{"$f":"'SIP Returns'!J275","v":0},1,10,8,4,1,1,{"$f":"IF(J274=\"\",\"\",IF(J274>Inputs!$D$9,0,1))","v":1},{"$f":"IF(K274=\"\",\"\",IF(K274>Inputs!$D$9,0,1))","v":1},{"$f":"IF(L274=\"\",\"\",IF(L274>Inputs!$D$9,0,1))","v":1},{"$f":"IF(M274=\"\",\"\",IF(M274>Inputs!$D$9,0,1))","v":1},{"$f":"IF(N274=\"\",\"\",IF(N274>Inputs!$D$9,0,1))","v":1},{"$f":"IF(O274=\"\",\"\",IF(O274>Inputs!$D$9,0,1))","v":1},{"$f":"IF(COUNT(P274:U274)=0,\"\",INDEX(Inputs!$O$21:$P$26,MATCH(COUNT(P274:U274),Inputs!$O$21:$O$26,0),2))","v":20},1,null,null,{"$f":"IF(D274=\"\",\"\",IF(D274=\"-\",\"\",IF(D274>AVERAGE($D$2:$D$1000),1,0)))","v":1},1,1,1,1,1,1]
[{"$f":"'SIP Returns'!B276","v":0},null,{"$f":"'SIP Returns'!D276","v":0},{"$f":"'SIP Returns'!E276","v":0},{"$f":"'SIP Returns'!F276","v":0},{"$f":"'SIP Returns'!G276","v":0},{"$f":"'SIP Returns'!H276","v":0},{"$f":"'SIP Returns'!I276","v":0},{"$f":"'SIP Returns'!J276","v":0},1,10,8,4,1,1,{"$f":"IF(J275=\"\",\"\",IF(J275>Inputs!$D$9,0,1))","v":1},{"$f":"IF(K275=\"\",\"\",IF(K275>Inputs!$D$9,0,1))","v":1},{"$f":"IF(L275=\"\",\"\",IF(L275>Inputs!$D$9,0,1))","v":1},{"$f":"IF(M275=\"\",\"\",IF(M275>Inputs!$D$9,0,1))","v":1},{"$f":"IF(N275=\"\",\"\",IF(N275>Inputs!$D$9,0,1))","v":1},{"$f":"IF(O275=\"\",\"\",IF(O275>Inputs!$D$9,0,1))","v":1},{"$f":"IF(COUNT(P275:U275)=0,\"\",INDEX(Inputs!$O$21:$P$26,MATCH(COUNT(P275:U275),Inputs!$O$21:$O$26,0),2))","v":20},1,null,null,{"$f":"IF(D275=\"\",\"\",IF(D275=\"-\",\"\",IF(D275>AVERAGE($D$2:$D$1000),1,0)))","v":1},1,1,1,1,1,1]
[{"$f":"'SIP Returns'!B277","v":0},null,{"$f":"'SIP Returns'!D277","v":0},{"$f":"'SIP Returns'!E277","v":0},{"$f":"'SIP Returns'!F277","v":0},{"$f":"'SIP Returns'!G277","v":0},{"$f":"'SIP Returns'!H277","v":0},{"$f":"'SIP Returns'!I277","v":0},{"$f":"'SIP Returns'!J277","v":0},1,10,8,4,1,1,{"$f":"IF(J276=\"\",\"\",IF(J276>Inputs!$D$9,0,1))","v":1},{"$f":"IF(K276=\"\",\"\",IF(K276>Inputs!$D$9,0,1))","v":1},{"$f":"IF(L276=\"\",\"\",IF(L276>Inputs!$D$9,0,1))","v":1},{"$f":"IF(M276=\"\",\"\",IF(M276>Inputs!$D$9,0,1))","v":1},{"$f":"IF(N276=\"\",\"\",IF(N276>Inputs!$D$9,0,1))","v":1},{"$f":"IF(O276=\"\",\"\",IF(O276>Inputs!$D$9,0,1))","v":1},{"$f":"IF(COUNT(P276:U276)=0,\"\",INDEX(Inputs!$O$21:$P$26,MATCH(COUNT(P276:U276),Inputs!$O$21:$O$26,0),2))","v":20},1,null,null,{"$f":"IF(D276=\"\",\"\",IF(D276=\"-\",\"\",IF(D276>AVERAGE($D$2:$D$1000),1,0)))","v":1},1,1,1,1,1,1]
[{"$f":"'SIP Returns'!B278","v":0},null,{"$f":"'SIP Returns'!D278","v":0},{"$f":"'SIP Returns'!E278","v":0},{"$f":"'SIP Returns'!F278","v":0},{"$f":"'SIP Returns'!G278","v":0},{"$f":"'SIP Returns'!H278","v":0},{"$f":"'SIP Returns'!I278","v":0},{"$f":"'SIP Returns'!J278","v":0},1,10,8,4,1,1,{"$f":"IF(J277=\"\",\"\",IF(J277>Inputs!$D$9,0,1))","v":1},{"$f":"IF(K277=\"\",\"\",IF(K277>Inputs!$D$9,0,1))","v":1},{"$f":"IF(L277=\"\",\"\",IF(L277>Inputs!$D$9,0,1))","v":1},{"$f":"IF(M277=\"\",\"\",IF(M277>Inputs!$D$9,0,1))","v":1},{"$f":"IF(N277=\"\",\"\",IF(N277>Inputs!$D$9,0,1))","v":1},{"$f":"IF(O277=\"\",\"\",IF(O277>Inputs!$D$9,0,1))","v":1},{"$f":"IF(COUNT(P277:U277)=0,\"\",INDEX(Inputs!$O$21:$P$26,MATCH(COUNT(P277:U277),Inputs!$O$21:$O$26,0),2))","v":20},1,null,null,{"$f":"IF(D277=\"\",\"\",IF(D277=\"-\",\"\",IF(D277>AVERAGE($D$2:$D$1000),1,0)))","v":1},1,1,1,1,1,1]
[{"$f":"'SIP Returns'!B279","v":0},null,{"$f":"'SIP Returns'!D279","v":0},{"$f":"'SIP Returns'!E279","v":0},{"$f":"'SIP Returns'!F279","v":0},{"$f":"'SIP Returns'!G279","v":0},{"$f":"'SIP Returns'!H279","v":0},{"$f":"'SIP Returns'!I279","v":0},{"$f":"'SIP Returns'!J279","v":0},1,10,8,4,1,1,{"$f":"IF(J278=\"\",\"\",IF(J278>Inputs!$D$9,0,1))","v":1},{"$f":"IF(K278=\"\",\"\",IF(K278>Inputs!$D$9,0,1))","v":1},{"$f":"IF(L278=\"\",\"\",IF(L278>Inputs!$D$9,0,1))","v":1},{"$f":"IF(M278=\"\",\"\",IF(M278>Inputs!$D$9,0,1))","v":1},{"$f":"IF(N278=\"\",\"\",IF(N278>Inputs!$D$9,0,1))","v":1},{"$f":"IF(O278=\"\",\"\",IF(O278>Inputs!$D$9,0,1))","v":1},{"$f":"IF(COUNT(P278:U278)=0,\"\",INDEX(Inputs!$O$21:$P$26,MATCH(COUNT(P278:U278),Inputs!$O$21:$O$26,0),2))","v":20},1,null,null,{"$f":"IF(D278=\"\",\"\",IF(D278=\"-\",\"\",IF(D278>AVERAGE($D$2:$D$1000),1,0)))","v":1},1,1,1,1,1,1]
[{"$f":"'SIP Returns'!B280","v":0},null,{"$f":"'SIP Returns'!D280","v":0},{"$f":"'SIP Returns'!E280","v":0},{"$f":"'SIP Returns'!F280","v":0},{"$f":"'SIP Returns'!G280","v":0},{"$f":"'SIP Returns'!H280","v":0},{"$f":"'SIP Returns'!I280","v":0},{"$f":"'SIP Returns'!J280","v":0},1,10,8,4,1,1,{"$f":"IF(J279=\"\",\"\",IF(J279>Inputs!$D$9,0,1))","v":1},{"$f":"IF(K279=\"\",\"\",IF(K279>Inputs!$D$9,0,1))","v":1},{"$f":"IF(L279=\"\",\"\",IF(L279>Inputs!$D$9,0,1))","v":1},{"$f":"IF(M279=\"\",\"\",IF(M279>Inputs!$D$9,0,1))","v":1},{"$f":"IF(N279=\"\",\"\",IF(N279>Inputs!$D$9,0,1))","v":1},{"$f":"IF(O279=\"\",\"\",IF(O279>Inputs!$D$9,0,1))","v":1},{"$f":"IF(COUNT(P279:U279)=0,\"\",INDEX(Inputs!$O$21:$P$26,MATCH(COUNT(P279:U279),Inputs!$O$21:$O$26,0),2))","v":20},1,null,null,{"$f":"IF(D279=\"\",\"\",IF(D279=\"-\",\"\",IF(D279>AVERAGE($D$2:$D$1000),1,0)))","v":1},1,1,1,1,1,1]
[{"$f":"'SIP Returns'!B281","v":0},null,{"$f":"'SIP Returns'!D281","v":0},{"$f":"'SIP Returns'!E281","v":0},{"$f":"'SIP Returns'!F281","v":0},{"$f":"'SIP Returns'!G281","v":0},{"$f":"'SIP Returns'!H281","v":0},{"$f":"'SIP Returns'!I281","v":0},{"$f":"'SIP Returns'!J281","v":0},1,10,8,4,1,1,{"$f":"IF(J280=\"\",\"\",IF(J280>Inputs!$D$9,0,1))","v":1},{"$f":"IF(K280=\"\",\"\",IF(K280>Inputs!$D$9,0,1))","v":1},{"$f":"IF(L280=\"\",\"\",IF(L280>Inputs!$D$9,0,1))","v":1},{"$f":"IF(M280=\"\",\"\",IF(M280>Inputs!$D$9,0,1))","v":1},{"$f":"IF(N280=\"\",\"\",IF(N280>Inputs!$D$9,0,1))","v":1},{"$f":"IF(O280=\"\",\"\",IF(O280>Inputs!$D$9,0,1))","v":1},{"$f":"IF(COUNT(P280:U280)=0,\"\",INDEX(Inputs!$O$21:$P$26,MATCH(COUNT(P280:U280),Inputs!$O$21:$O$26,0),2))","v":20},1,null,null,{"$f":"IF(D280=\"\",\"\",IF(D280=\"-\",\"\",IF(D280>AVERAGE($D$2:$D$1000),1,0)))","v":1},1,1,1,1,1,1]
[{"$f":"'SIP Returns'!B282","v":0},null,{"$f":"'SIP Returns'!D282","v":0},{"$f":"'SIP Returns'!E282","v":0},{"$f":"'SIP Returns'!F282","v":0},{"$f":"'SIP Returns'!G282","v":0},{"$f":"'SIP Returns'!H282","v":0},{"$f":"'SIP Returns'!I282","v":0},{"$f":"'SIP Returns'!J282","v":0},1,10,8,4,1,1,{"$f":"IF(J281=\"\",\"\",IF(J281>Inputs!$D$9,0,1))","v":1},{"$f":"IF(K281=\"\",\"\",IF(K281>Inputs!$D$9,0,1))","v":1},{"$f":"IF(L281=\"\",\"\",IF(L281>Inputs!$D$9,0,1))","v":1},{"$f":"IF(M281=\"\",\"\",IF(M281>Inputs!$D$9,0,1))","v":1},{"$f":"IF(N281=\"\",\"\",IF(N281>Inputs!$D$9,0,1))","v":1},{"$f":"IF(O281=\"\",\"\",IF(O281>Inputs!$D$9,0,1))","v":1},{"$f":"IF(COUNT(P281:U281)=0,\"\",INDEX(Inputs!$O$21:$P$26,MATCH(COUNT(P281:U281),Inputs!$O$21:$O$26,0),2))","v":20},1,null,null,{"$f":"IF(D281=\"\",\"\",IF(D281=\"-\",\"\",IF(D281>AVERAGE($D$2:$D$1000),1,0)))","v":1},1,1,1,1,1,1]
[{"$f":"'SIP Returns'!B283","v":0},null,{"$f":"'SIP Returns'!D283","v":0},{"$f":"'SIP Returns'!E283","v":0},{"$f":"'SIP Returns'!F283","v":0},{"$f":"'SIP Returns'!G283","v":0},{"$f":"'SIP Returns'!H283","v":0},{"$f":"'SIP Returns'!I283","v":0},{"$f":"'SIP Returns'!J283","v":0},1,10,8,4,1,1,{"$f":"IF(J282=\"\",\"\",IF(J282>Inputs!$D$9,0,1))","v":1},{"$f":"IF(K282=\"\",\"\",IF(K282>Inputs!$D$9,0,1))","v":1},{"$f":"IF(L282=\"\",\"\",IF(L282>Inputs!$D$9,0,1))","v":1},{"$f":"IF(M282=\"\",\"\",IF(M282>Inputs!$D$9,0,1))","v":1},{"$f":"IF(N282=\"\",\"\",IF(N282>Inputs!$D$9,0,1))","v":1},{"$f":"IF(O282=\"\",\"\",IF(O282>Inputs!$D$9,0,1))","v":1},{"$f":"IF(COUNT(P282:U282)=0,\"\",INDEX(Inputs!$O$21:$P$26,MATCH(COUNT(P282:U282),Inputs!$O$21:$O$26,0),2))","v":20},1,null,null,{"$f":"IF(D282=\"\",\"\",IF(D282=\"-\",\"\",IF(D282>AVERAGE($D$2:$D$1000),1,0)))","v":1},1,1,1,1,1,1]
[{"$f":"'SIP Returns'!B284","v":0},null,{"$f":"'SIP Returns'!D284","v":0},{"$f":"'SIP Returns'!E284","v":0},{"$f":"'SIP Returns'!F284","v":0},{"$f":"'SIP Returns'!G284","v":0},{"$f":"'SIP Returns'!H284","v":0},{"$f":"'SIP Returns'!I284","v":0},{"$f":"'SIP Returns'!J284","v":0},1,10,8,4,1,1,{"$f":"IF(J283=\"\",\"\",IF(J283>Inputs!$D$9,0,1))","v":1},{"$f":"IF(K283=\"\",\"\",IF(K283>Inputs!$D$9,0,1))","v":1},{"$f":"IF(L283=\"\",\"\",IF(L283>Inputs!$D$9,0,1))","v":1},{"$f":"IF(M283=\"\",\"\",IF(M283>Inputs!$D$9,0,1))","v":1},{"$f":"IF(N283=\"\",\"\",IF(N283>Inputs!$D$9,0,1))","v":1},{"$f":"IF(O283=\"\",\"\",IF(O283>Inputs!$D$9,0,1))","v":1},{"$f":"IF(COUNT(P283:U283)=0,\"\",INDEX(Inputs!$O$21:$P$26,MATCH(COUNT(P283:U283),Inputs!$O$21:$O$26,0),2))","v":20},1,null,null,{"$f":"IF(D283=\"\",\"\",IF(D283=\"-\",\"\",IF(D283>AVERAGE($D$2:$D$1000),1,0)))","v":1},1,1,1,1,1,1]
[{"$f":"'SIP Returns'!B285","v":0},null,{"$f":"'SIP Returns'!D285","v":0},{"$f":"'SIP Returns'!E285","v":0},{"$f":"'SIP Returns'!F285","v":0},{"$f":"'SIP Returns'!G285","v":0},{"$f":"'SIP Returns'!H285","v":0},{"$f":"'SIP Returns'!I285","v":0},{"$f":"'SIP Returns'!J285","v":0},1,10,8,4,1,1,{"$f":"IF(J284=\"\",\"\",IF(J284>Inputs!$D$9,0,1))","v":1},{"$f":"IF(K284=\"\",\"\",IF(K284>Inputs!$D$9,0,1))","v":1},{"$f":"IF(L284=\"\",\"\",IF(L284>Inputs!$D$9,0,1))","v":1},{"$f":"IF(M284=\"\",\"\",IF(M284>Inputs!$D$9,0,1))","v":1},{"$f":"IF(N284=\"\",\"\",IF(N284>Inputs!$D$9,0,1))","v":1},{"$f":"IF(O284=\"\",\"\",IF(O284>Inputs!$D$9,0,1))","v":1},{"$f":"IF(COUNT(P284:U284)=0,\"\",INDEX(Inputs!$O$21:$P$26,MATCH(COUNT(P284:U284),Inputs!$O$21:$O$26,0),2))","v":20},1,null,null,{"$f":"IF(D284=\"\",\"\",IF(D284=\"-\",\"\",IF(D284>AVERAGE($D$2:$D$1000),1,0)))","v":1},1,1,1,1,1,1]
[{"$f":"'SIP Returns'!B286","v":0},null,{"$f":"'SIP Returns'!D286","v":0},{"$f":"'SIP Returns'!E286","v":0},{"$f":"'SIP Returns'!F286","v":0},{"$f":"'SIP Returns'!G286","v":0},{"$f":"'SIP Returns'!H286","v":0},{"$f":"'SIP Returns'!I286","v":0},{"$f":"'SIP Returns'!J286","v":0},1,10,8,4,1,1,{"$f":"IF(J285=\"\",\"\",IF(J285>Inputs!$D$9,0,1))","v":1},{"$f":"IF(K285=\"\",\"\",IF(K285>Inputs!$D$9,0,1))","v":1},{"$f":"IF(L285=\"\",\"\",IF(L285>Inputs!$D$9,0,1))","v":1},{"$f":"IF(M285=\"\",\"\",IF(M285>Inputs!$D$9,0,1))","v":1},{"$f":"IF(N285=\"\",\"\",IF(N285>Inputs!$D$9,0,1))","v":1},{"$f":"IF(O285=\"\",\"\",IF(O285>Inputs!$D$9,0,1))","v":1},{"$f":"IF(COUNT(P285:U285)=0,\"\",INDEX(Inputs!$O$21:$P$26,MATCH(COUNT(P285:U285),Inputs!$O$21:$O$26,0),2))","v":20},1,null,null,{"$f":"IF(D285=\"\",\"\",IF(D285=\"-\",\"\",IF(D285>AVERAGE($D$2:$D$1000),1,0)))","v":1},1,1,1,1,1,1]
[{"$f":"'SIP Returns'!B287","v":0},null,{"$f":"'SIP Returns'!D287","v":0},{"$f":"'SIP Returns'!E287","v":0},{"$f":"'SIP Returns'!F287","v":0},{"$f":"'SIP Returns'!G287","v":0},{"$f":"'SIP Returns'!H287","v":0},{"$f":"'SIP Returns'!I287","v":0},{"$f":"'SIP Returns'!J287","v":0},1,10,8,4,1,1,{"$f":"IF(J286=\"\",\"\",IF(J286>Inputs!$D$9,0,1))","v":1},{"$f":"IF(K286=\"\",\"\",IF(K286>Inputs!$D$9,0,1))","v":1},{"$f":"IF(L286=\"\",\"\",IF(L286>Inputs!$D$9,0,1))","v":1},{"$f":"IF(M286=\"\",\"\",IF(M286>Inputs!$D$9,0,1))","v":1},{"$f":"IF(N286=\"\",\"\",IF(N286>Inputs!$D$9,0,1))","v":1},{"$f":"IF(O286=\"\",\"\",IF(O286>Inputs!$D$9,0,1))","v":1},{"$f":"IF(COUNT(P286:U286)=0,\"\",INDEX(Inputs!$O$21:$P$26,MATCH(COUNT(P286:U286),Inputs!$O$21:$O$26,0),2))","v":20},1,null,null,{"$f":"IF(D286=\"\",\"\",IF(D286=\"-\",\"\",IF(D286>AVERAGE($D$2:$D$1000),1,0)))","v":1},1,1,1,1,1,1]
[{"$f":"'SIP Returns'!B288","v":0},null,{"$f":"'SIP Returns'!D288","v":0},{"$f":"'SIP Returns'!E288","v":0},{"$f":"'SIP Returns'!F288","v":0},{"$f":"'SIP Returns'!G288","v":0},{"$f":"'SIP Returns'!H288","v":0},{"$f":"'SIP Returns'!I288","v":0},{"$f":"'SIP Returns'!J288","v":0},1,10,8,4,1,1,{"$f":"IF(J287=\"\",\"\",IF(J287>Inputs!$D$9,0,1))","v":1},{"$f":"IF(K287=\"\",\"\",IF(K287>Inputs!$D$9,0,1))","v":1},{"$f":"IF(L287=\"\",\"\",IF(L287>Inputs!$D$9,0,1))","v":1},{"$f":"IF(M287=\"\",\"\",IF(M287>Inputs!$D$9,0,1))","v":1},{"$f":"IF(N287=\"\",\"\",IF(N287>Inputs!$D$9,0,1))","v":1},{"$f":"IF(O287=\"\",\"\",IF(O287>Inputs!$D$9,0,1))","v":1},{"$f":"IF(COUNT(P287:U287)=0,\"\",INDEX(Inputs!$O$21:$P$26,MATCH(COUNT(P287:U287),Inputs!$O$21:$O$26,0),2))","v":20},1,null,null,{"$f":"IF(D287=\"\",\"\",IF(D287=\"-\",\"\",IF(D287>AVERAGE($D$2:$D$1000),1,0)))","v":1},1,1,1,1,1,1]
[{"$f":"'SIP Returns'!B289","v":0},null,{"$f":"'SIP Returns'!D289","v":0},{"$f":"'SIP Returns'!E289","v":0},{"$f":"'SIP Returns'!F289","v":0},{"$f":"'SIP Returns'!G289","v":0},{"$f":"'SIP Returns'!H289","v":0},{"$f":"'SIP Returns'!I289","v":0},{"$f":"'SIP Returns'!J289","v":0},1,10,8,4,1,1,{"$f":"IF(J288=\"\",\"\",IF(J288>Inputs!$D$9,0,1))","v":1},{"$f":"IF(K288=\"\",\"\",IF(K288>Inputs!$D$9,0,1))","v":1},{"$f":"IF(L288=\"\",\"\",IF(L288>Inputs!$D$9,0,1))","v":1},{"$f":"IF(M288=\"\",\"\",IF(M288>Inputs!$D$9,0,1))","v":1},{"$f":"IF(N288=\"\",\"\",IF(N288>Inputs!$D$9,0,1))","v":1},{"$f":"IF(O288=\"\",\"\",IF(O288>Inputs!$D$9,0,1))","v":1},{"$f":"IF(COUNT(P288:U288)=0,\"\",INDEX(Inputs!$O$21:$P$26,MATCH(COUNT(P288:U288),Inputs!$O$21:$O$26,0),2))","v":20},1,null,null,{"$f":"IF(D288=\"\",\"\",IF(D288=\"-\",\"\",IF(D288>AVERAGE($D$2:$D$1000),1,0)))","v":1},1,1,1,1,1,1]
[{"$f":"'SIP Returns'!B290","v":0},null,{"$f":"'SIP Returns'!D290","v":0},{"$f":"'SIP Returns'!E290","v":0},{"$f":"'SIP Returns'!F290","v":0},{"$f":"'SIP Returns'!G290","v":0},{"$f":"'SIP Returns'!H290","v":0},{"$f":"'SIP Returns'!I290","v":0},{"$f":"'SIP Returns'!J290","v":0},1,10,8,4,1,1,{"$f":"IF(J289=\"\",\"\",IF(J289>Inputs!$D$9,0,1))","v":1},{"$f":"IF(K289=\"\",\"\",IF(K289>Inputs!$D$9,0,1))","v":1},{"$f":"IF(L289=\"\",\"\",IF(L289>Inputs!$D$9,0,1))","v":1},{"$f":"IF(M289=\"\",\"\",IF(M289>Inputs!$D$9,0,1))","v":1},{"$f":"IF(N289=\"\",\"\",IF(N289>Inputs!$D$9,0,1))","v":1},{"$f":"IF(O289=\"\",\"\",IF(O289>Inputs!$D$9,0,1))","v":1},{"$f":"IF(COUNT(P289:U289)=0,\"\",INDEX(Inputs!$O$21:$P$26,MATCH(COUNT(P289:U289),Inputs!$O$21:$O$26,0),2))","v":20},1,null,null,{"$f":"IF(D289=\"\",\"\",IF(D289=\"-\",\"\",IF(D289>AVERAGE($D$2:$D$1000),1,0)))","v":1},1,1,1,1,1,1]
[{"$f":"'SIP Returns'!B291","v":0},null,{"$f":"'SIP Returns'!D291","v":0},{"$f":"'SIP Returns'!E291","v":0},{"$f":"'SIP Returns'!F291","v":0},{"$f":"'SIP Returns'!G291","v":0},{"$f":"'SIP Returns'!H291","v":0},{"$f":"'SIP Returns'!I291","v":0},{"$f":"'SIP Returns'!J291","v":0},1,10,8,4,1,1,{"$f":"IF(J290=\"\",\"\",IF(J290>Inputs!$D$9,0,1))","v":1},{"$f":"IF(K290=\"\",\"\",IF(K290>Inputs!$D$9,0,1))","v":1},{"$f":"IF(L290=\"\",\"\",IF(L290>Inputs!$D$9,0,1))","v":1},{"$f":"IF(M290=\"\",\"\",IF(M290>Inputs!$D$9,0,1))","v":1},{"$f":"IF(N290=\"\",\"\",IF(N290>Inputs!$D$9,0,1))","v":1},{"$f":"IF(O290=\"\",\"\",IF(O290>Inputs!$D$9,0,1))","v":1},{"$f":"IF(COUNT(P290:U290)=0,\"\",INDEX(Inputs!$O$21:$P$26,MATCH(COUNT(P290:U290),Inputs!$O$21:$O$26,0),2))","v":20},1,null,null,{"$f":"IF(D290=\"\",\"\",IF(D290=\"-\",\"\",IF(D290>AVERAGE($D$2:$D$1000),1,0)))","v":1},1,1,1,1,1,1]
[{"$f":"'SIP Returns'!B292","v":0},null,{"$f":"'SIP Returns'!D292","v":0},{"$f":"'SIP Returns'!E292","v":0},{"$f":"'SIP Returns'!F292","v":0},{"$f":"'SIP Returns'!G292","v":0},{"$f":"'SIP Returns'!H292","v":0},{"$f":"'SIP Returns'!I292","v":0},{"$f":"'SIP Returns'!J292","v":0},1,10,8,4,1,1,{"$f":"IF(J291=\"\",\"\",IF(J291>Inputs!$D$9,0,1))","v":1},{"$f":"IF(K291=\"\",\"\",IF(K291>Inputs!$D$9,0,1))","v":1},{"$f":"IF(L291=\"\",\"\",IF(L291>Inputs!$D$9,0,1))","v":1},{"$f":"IF(M291=\"\",\"\",IF(M291>Inputs!$D$9,0,1))","v":1},{"$f":"IF(N291=\"\",\"\",IF(N291>Inputs!$D$9,0,1))","v":1},{"$f":"IF(O291=\"\",\"\",IF(O291>Inputs!$D$9,0,1))","v":1},{"$f":"IF(COUNT(P291:U291)=0,\"\",INDEX(Inputs!$O$21:$P$26,MATCH(COUNT(P291:U291),Inputs!$O$21:$O$26,0),2))","v":20},1,null,null,{"$f":"IF(D291=\"\",\"\",IF(D291=\"-\",\"\",IF(D291>AVERAGE($D$2:$D$1000),1,0)))","v":1},1,1,1,1,1,1]
[{"$f":"'SIP Returns'!B293","v":0},null,{"$f":"'SIP Returns'!D293","v":0},{"$f":"'SIP Returns'!E293","v":0},{"$f":"'SIP Returns'!F293","v":0},{"$f":"'SIP Returns'!G293","v":0},{"$f":"'SIP Returns'!H293","v":0},{"$f":"'SIP Returns'!I293","v":0},{"$f":"'SIP Returns'!J293","v":0},1,10,8,4,1,1,{"$f":"IF(J292=\"\",\"\",IF(J292>Inputs!$D$9,0,1))","v":1},{"$f":"IF(K292=\"\",\"\",IF(K292>Inputs!$D$9,0,1))","v":1},{"$f":"IF(L292=\"\",\"\",IF(L292>Inputs!$D$9,0,1))","v":1},{"$f":"IF(M292=\"\",\"\",IF(M292>Inputs!$D$9,0,1))","v":1},{"$f":"IF(N292=\"\",\"\",IF(N292>Inputs!$D$9,0,1))","v":1},{"$f":"IF(O292=\"\",\"\",IF(O292>Inputs!$D$9,0,1))","v":1},{"$f":"IF(COUNT(P292:U292)=0,\"\",INDEX(Inputs!$O$21:$P$26,MATCH(COUNT(P292:U292),Inputs!$O$21:$O$26,0),2))","v":20},1,null,null,{"$f":"IF(D292=\"\",\"\",IF(D292=\"-\",\"\",IF(D292>AVERAGE($D$2:$D$1000),1,0)))","v":1},1,1,1,1,1,1]
[{"$f":"'SIP Returns'!B294","v":0},null,{"$f":"'SIP Returns'!D294","v":0},{"$f":"'SIP Returns'!E294","v":0},{"$f":"'SIP Returns'!F294","v":0},{"$f":"'SIP Returns'!G294","v":0},{"$f":"'SIP Returns'!H294","v":0},{"$f":"'SIP Returns'!I294","v":0},{"$f":"'SIP Returns'!J294","v":0},1,10,8,4,1,1,{"$f":"IF(J293=\"\",\"\",IF(J293>Inputs!$D$9,0,1))","v":1},{"$f":"IF(K293=\"\",\"\",IF(K293>Inputs!$D$9,0,1))","v":1},{"$f":"IF(L293=\"\",\"\",IF(L293>Inputs!$D$9,0,1))","v":1},{"$f":"IF(M293=\"\",\"\",IF(M293>Inputs!$D$9,0,1))","v":1},{"$f":"IF(N293=\"\",\"\",IF(N293>Inputs!$D$9,0,1))","v":1},{"$f":"IF(O293=\"\",\"\",IF(O293>Inputs!$D$9,0,1))","v":1},{"$f":"IF(COUNT(P293:U293)=0,\"\",INDEX(Inputs!$O$21:$P$26,MATCH(COUNT(P293:U293),Inputs!$O$21:$O$26,0),2))","v":20},1,null,null,{"$f":"IF(D293=\"\",\"\",IF(D293=\"-\",\"\",IF(D293>AVERAGE($D$2:$D$1000),1,0)))","v":1},1,1,1,1,1,1]
[{"$f":"'SIP Returns'!B295","v":0},null,{"$f":"'SIP Returns'!D295","v":0},{"$f":"'SIP Returns'!E295","v":0},{"$f":"'SIP Returns'!F295","v":0},{"$f":"'SIP Returns'!G295","v":0},{"$f":"'SIP Returns'!H295","v":0},{"$f":"'SIP Returns'!I295","v":0},{"$f":"'SIP Returns'!J295","v":0},1,10,8,4,1,1,{"$f":"IF(J294=\"\",\"\",IF(J294>Inputs!$D$9,0,1))","v":1},{"$f":"IF(K294=\"\",\"\",IF(K294>Inputs!$D$9,0,1))","v":1},{"$f":"IF(L294=\"\",\"\",IF(L294>Inputs!$D$9,0,1))","v":1},{"$f":"IF(M294=\"\",\"\",IF(M294>Inputs!$D$9,0,1))","v":1},{"$f":"IF(N294=\"\",\"\",IF(N294>Inputs!$D$9,0,1))","v":1},{"$f":"IF(O294=\"\",\"\",IF(O294>Inputs!$D$9,0,1))","v":1},{"$f":"IF(COUNT(P294:U294)=0,\"\",INDEX(Inputs!$O$21:$P$26,MATCH(COUNT(P294:U294),Inputs!$O$21:$O$26,0),2))","v":20},1,null,null,{"$f":"IF(D294=\"\",\"\",IF(D294=\"-\",\"\",IF(D294>AVERAGE($D$2:$D$1000),1,0)))","v":1},1,1,1,1,1,1]
[{"$f":"'SIP Returns'!B296","v":0},null,{"$f":"'SIP Returns'!D296","v":0},{"$f":"'SIP Returns'!E296","v":0},{"$f":"'SIP Returns'!F296","v":0},{"$f":"'SIP Returns'!G296","v":0},{"$f":"'SIP Returns'!H296","v":0},{"$f":"'SIP Returns'!I296","v":0},{"$f":"'SIP Returns'!J296","v":0},1,10,8,4,1,1,{"$f":"IF(J295=\"\",\"\",IF(J295>Inputs!$D$9,0,1))","v":1},{"$f":"IF(K295=\"\",\"\",IF(K295>Inputs!$D$9,0,1))","v":1},{"$f":"IF(L295=\"\",\"\",IF(L295>Inputs!$D$9,0,1))","v":1},{"$f":"IF(M295=\"\",\"\",IF(M295>Inputs!$D$9,0,1))","v":1},{"$f":"IF(N295=\"\",\"\",IF(N295>Inputs!$D$9,0,1))","v":1},{"$f":"IF(O295=\"\",\"\",IF(O295>Inputs!$D$9,0,1))","v":1},{"$f":"IF(COUNT(P295:U295)=0,\"\",INDEX(Inputs!$O$21:$P$26,MATCH(COUNT(P295:U295),Inputs!$O$21:$O$26,0),2))","v":20},1,null,null,{"$f":"IF(D295=\"\",\"\",IF(D295=\"-\",\"\",IF(D295>AVERAGE($D$2:$D$1000),1,0)))","v":1},1,1,1,1,1,1]
[{"$f":"'SIP Returns'!B297","v":0},null,{"$f":"'SIP Returns'!D297","v":0},{"$f":"'SIP Returns'!E297","v":0},{"$f":"'SIP Returns'!F297","v":0},{"$f":"'SIP Returns'!G297","v":0},{"$f":"'SIP Returns'!H297","v":0},{"$f":"'SIP Returns'!I297","v":0},{"$f":"'SIP Returns'!J297","v":0},1,10,8,4,1,1,{"$f":"IF(J296=\"\",\"\",IF(J296>Inputs!$D$9,0,1))","v":1},{"$f":"IF(K296=\"\",\"\",IF(K296>Inputs!$D$9,0,1))","v":1},{"$f":"IF(L296=\"\",\"\",IF(L296>Inputs!$D$9,0,1))","v":1},{"$f":"IF(M296=\"\",\"\",IF(M296>Inputs!$D$9,0,1))","v":1},{"$f":"IF(N296=\"\",\"\",IF(N296>Inputs!$D$9,0,1))","v":1},{"$f":"IF(O296=\"\",\"\",IF(O296>Inputs!$D$9,0,1))","v":1},{"$f":"IF(COUNT(P296:U296)=0,\"\",INDEX(Inputs!$O$21:$P$26,MATCH(COUNT(P296:U296),Inputs!$O$21:$O$26,0),2))","v":20},1,null,null,{"$f":"IF(D296=\"\",\"\",IF(D296=\"-\",\"\",IF(D296>AVERAGE($D$2:$D$1000),1,0)))","v":1},1,1,1,1,1,1]
[{"$f":"'SIP Returns'!B298","v":0},null,{"$f":"'SIP Returns'!D298","v":0},{"$f":"'SIP Returns'!E298","v":0},{"$f":"'SIP Returns'!F298","v":0},{"$f":"'SIP Returns'!G298","v":0},{"$f":"'SIP Returns'!H298","v":0},{"$f":"'SIP Returns'!I298","v":0},{"$f":"'SIP Returns'!J298","v":0},1,10,8,4,1,1,{"$f":"IF(J297=\"\",\"\",IF(J297>Inputs!$D$9,0,1))","v":1},{"$f":"IF(K297=\"\",\"\",IF(K297>Inputs!$D$9,0,1))","v":1},{"$f":"IF(L297=\"\",\"\",IF(L297>Inputs!$D$9,0,1))","v":1},{"$f":"IF(M297=\"\",\"\",IF(M297>Inputs!$D$9,0,1))","v":1},{"$f":"IF(N297=\"\",\"\",IF(N297>Inputs!$D$9,0,1))","v":1},{"$f":"IF(O297=\"\",\"\",IF(O297>Inputs!$D$9,0,1))","v":1},{"$f":"IF(COUNT(P297:U297)=0,\"\",INDEX(Inputs!$O$21:$P$26,MATCH(COUNT(P297:U297),Inputs!$O$21:$O$26,0),2))","v":20},1,null,null,{"$f":"IF(D297=\"\",\"\",IF(D297=\"-\",\"\",IF(D297>AVERAGE($D$2:$D$1000),1,0)))","v":1},1,1,1,1,1,1]
[{"$f":"'SIP Returns'!B299","v":0},null,{"$f":"'SIP Returns'!D299","v":0},{"$f":"'SIP Returns'!E299","v":0},{"$f":"'SIP Returns'!F299","v":0},{"$f":"'SIP Returns'!G299","v":0},{"$f":"'SIP Returns'!H299","v":0},{"$f":"'SIP Returns'!I299","v":0},{"$f":"'SIP Returns'!J299","v":0},1,10,8,4,1,1,{"$f":"IF(J298=\"\",\"\",IF(J298>Inputs!$D$9,0,1))","v":1},{"$f":"IF(K298=\"\",\"\",IF(K298>Inputs!$D$9,0,1))","v":1},{"$f":"IF(L298=\"\",\"\",IF(L298>Inputs!$D$9,0,1))","v":1},{"$f":"IF(M298=\"\",\"\",IF(M298>Inputs!$D$9,0,1))","v":1},{"$f":"IF(N298=\"\",\"\",IF(N298>Inputs!$D$9,0,1))","v":1},{"$f":"IF(O298=\"\",\"\",IF(O298>Inputs!$D$9,0,1))","v":1},{"$f":"IF(COUNT(P298:U298)=0,\"\",INDEX(Inputs!$O$21:$P$26,MATCH(COUNT(P298:U298),Inputs!$O$21:$O$26,0),2))","v":20},1,null,null,{"$f":"IF(D298=\"\",\"\",IF(D298=\"-\",\"\",IF(D298>AVERAGE($D$2:$D$1000),1,0)))","v":1},1,1,1,1,1,1]
[{"$f":"'SIP Returns'!B300","v":0},null,{"$f":"'SIP Returns'!D300","v":0},{"$f":"'SIP Returns'!E300","v":0},{"$f":"'SIP Returns'!F300","v":0},{"$f":"'SIP Returns'!G300","v":0},{"$f":"'SIP Returns'!H300","v":0},{"$f":"'SIP Returns'!I300","v":0},{"$f":"'SIP Returns'!J300","v":0},1,10,8,4,1,1,{"$f":"IF(J299=\"\",\"\",IF(J299>Inputs!$D$9,0,1))","v":1},{"$f":"IF(K299=\"\",\"\",IF(K299>Inputs!$D$9,0,1))","v":1},{"$f":"IF(L299=\"\",\"\",IF(L299>Inputs!$D$9,0,1))","v":1},{"$f":"IF(M299=\"\",\"\",IF(M299>Inputs!$D$9,0,1))","v":1},{"$f":"IF(N299=\"\",\"\",IF(N299>Inputs!$D$9,0,1))","v":1},{"$f":"IF(O299=\"\",\"\",IF(O299>Inputs!$D$9,0,1))","v":1},{"$f":"IF(COUNT(P299:U299)=0,\"\",INDEX(Inputs!$O$21:$P$26,MATCH(COUNT(P299:U299),Inputs!$O$21:$O$26,0),2))","v":20},1,null,null,{"$f":"IF(D299=\"\",\"\",IF(D299=\"-\",\"\",IF(D299>AVERAGE($D$2:$D$1000),1,0)))","v":1},1,1,1,1,1,1]
[{"$f":"'SIP Returns'!B301","v":0},null,{"$f":"'SIP Returns'!D301","v":0},{"$f":"'SIP Returns'!E301","v":0},{"$f":"'SIP Returns'!F301","v":0},{"$f":"'SIP Returns'!G301","v":0},{"$f":"'SIP Returns'!H301","v":0},{"$f":"'SIP Returns'!I301","v":0},{"$f":"'SIP Returns'!J301","v":0},1,10,8,4,1,1,{"$f":"IF(J300=\"\",\"\",IF(J300>Inputs!$D$9,0,1))","v":1},{"$f":"IF(K300=\"\",\"\",IF(K300>Inputs!$D$9,0,1))","v":1},{"$f":"IF(L300=\"\",\"\",IF(L300>Inputs!$D$9,0,1))","v":1},{"$f":"IF(M300=\"\",\"\",IF(M300>Inputs!$D$9,0,1))","v":1},{"$f":"IF(N300=\"\",\"\",IF(N300>Inputs!$D$9,0,1))","v":1},{"$f":"IF(O300=\"\",\"\",IF(O300>Inputs!$D$9,0,1))","v":1},{"$f":"IF(COUNT(P300:U300)=0,\"\",INDEX(Inputs!$O$21:$P$26,MATCH(COUNT(P300:U300),Inputs!$O$21:$O$26,0),2))","v":20},1,null,null,{"$f":"IF(D300=\"\",\"\",IF(D300=\"-\",\"\",IF(D300>AVERAGE($D$2:$D$1000),1,0)))","v":1},1,1,1,1,1,1]
[{"$f":"'SIP Returns'!B302","v":0},null,{"$f":"'SIP Returns'!D302","v":0},{"$f":"'SIP Returns'!E302","v":0},{"$f":"'SIP Returns'!F302","v":0},{"$f":"'SIP Returns'!G302","v":0},{"$f":"'SIP Returns'!H302","v":0},{"$f":"'SIP Returns'!I302","v":0},{"$f":"'SIP Returns'!J302","v":0},1,10,8,4,1,1,{"$f":"IF(J301=\"\",\"\",IF(J301>Inputs!$D$9,0,1))","v":1},{"$f":"IF(K301=\"\",\"\",IF(K301>Inputs!$D$9,0,1))","v":1},{"$f":"IF(L301=\"\",\"\",IF(L301>Inputs!$D$9,0,1))","v":1},{"$f":"IF(M301=\"\",\"\",IF(M301>Inputs!$D$9,0,1))","v":1},{"$f":"IF(N301=\"\",\"\",IF(N301>Inputs!$D$9,0,1))","v":1},{"$f":"IF(O301=\"\",\"\",IF(O301>Inputs!$D$9,0,1))","v":1},{"$f":"IF(COUNT(P301:U301)=0,\"\",INDEX(Inputs!$O$21:$P$26,MATCH(COUNT(P301:U301),Inputs!$O$21:$O$26,0),2))","v":20},1,null,null,{"$f":"IF(D301=\"\",\"\",IF(D301=\"-\",\"\",IF(D301>AVERAGE($D$2:$D$1000),1,0)))","v":1},1,1,1,1,1,1]
[{"$f":"'SIP Returns'!B303","v":0},null,{"$f":"'SIP Returns'!D303","v":0},{"$f":"'SIP Returns'!E303","v":0},{"$f":"'SIP Returns'!F303","v":0},{"$f":"'SIP Returns'!G303","v":0},{"$f":"'SIP Returns'!H303","v":0},{"$f":"'SIP Returns'!I303","v":0},{"$f":"'SIP Returns'!J303","v":0},1,10,8,4,1,1,{"$f":"IF(J302=\"\",\"\",IF(J302>Inputs!$D$9,0,1))","v":1},{"$f":"IF(K302=\"\",\"\",IF(K302>Inputs!$D$9,0,1))","v":1},{"$f":"IF(L302=\"\",\"\",IF(L302>Inputs!$D$9,0,1))","v":1},{"$f":"IF(M302=\"\",\"\",IF(M302>Inputs!$D$9,0,1))","v":1},{"$f":"IF(N302=\"\",\"\",IF(N302>Inputs!$D$9,0,1))","v":1},{"$f":"IF(O302=\"\",\"\",IF(O302>Inputs!$D$9,0,1))","v":1},{"$f":"IF(COUNT(P302:U302)=0,\"\",INDEX(Inputs!$O$21:$P$26,MATCH(COUNT(P302:U302),Inputs!$O$21:$O$26,0),2))","v":20},1,null,null,{"$f":"IF(D302=\"\",\"\",IF(D302=\"-\",\"\",IF(D302>AVERAGE($D$2:$D$1000),1,0)))","v":1},1,1,1,1,1,1]
[{"$f":"'SIP Returns'!B304","v":0},null,{"$f":"'SIP Returns'!D304","v":0},{"$f":"'SIP Returns'!E304","v":0},{"$f":"'SIP Returns'!F304","v":0},{"$f":"'SIP Returns'!G304","v":0},{"$f":"'SIP Returns'!H304","v":0},{"$f":"'SIP Returns'!I304","v":0},{"$f":"'SIP Returns'!J304","v":0},1,10,8,4,1,1,{"$f":"IF(J303=\"\",\"\",IF(J303>Inputs!$D$9,0,1))","v":1},{"$f":"IF(K303=\"\",\"\",IF(K303>Inputs!$D$9,0,1))","v":1},{"$f":"IF(L303=\"\",\"\",IF(L303>Inputs!$D$9,0,1))","v":1},{"$f":"IF(M303=\"\",\"\",IF(M303>Inputs!$D$9,0,1))","v":1},{"$f":"IF(N303=\"\",\"\",IF(N303>Inputs!$D$9,0,1))","v":1},{"$f":"IF(O303=\"\",\"\",IF(O303>Inputs!$D$9,0,1))","v":1},{"$f":"IF(COUNT(P303:U303)=0,\"\",INDEX(Inputs!$O$21:$P$26,MATCH(COUNT(P303:U303),Inputs!$O$21:$O$26,0),2))","v":20},1,null,null,{"$f":"IF(D303=\"\",\"\",IF(D303=\"-\",\"\",IF(D303>AVERAGE($D$2:$D$1000),1,0)))","v":1},1,1,1,1,1,1]
[{"$f":"'SIP Returns'!B305","v":0},null,{"$f":"'SIP Returns'!D305","v":0},{"$f":"'SIP Returns'!E305","v":0},{"$f":"'SIP Returns'!F305","v":0},{"$f":"'SIP Returns'!G305","v":0},{"$f":"'SIP Returns'!H305","v":0},{"$f":"'SIP Returns'!I305","v":0},{"$f":"'SIP Returns'!J305","v":0},1,10,8,4,1,1,{"$f":"IF(J304=\"\",\"\",IF(J304>Inputs!$D$9,0,1))","v":1},{"$f":"IF(K304=\"\",\"\",IF(K304>Inputs!$D$9,0,1))","v":1},{"$f":"IF(L304=\"\",\"\",IF(L304>Inputs!$D$9,0,1))","v":1},{"$f":"IF(M304=\"\",\"\",IF(M304>Inputs!$D$9,0,1))","v":1},{"$f":"IF(N304=\"\",\"\",IF(N304>Inputs!$D$9,0,1))","v":1},{"$f":"IF(O304=\"\",\"\",IF(O304>Inputs!$D$9,0,1))","v":1},{"$f":"IF(COUNT(P304:U304)=0,\"\",INDEX(Inputs!$O$21:$P$26,MATCH(COUNT(P304:U304),Inputs!$O$21:$O$26,0),2))","v":20},1,null,null,{"$f":"IF(D304=\"\",\"\",IF(D304=\"-\",\"\",IF(D304>AVERAGE($D$2:$D$1000),1,0)))","v":1},1,1,1,1,1,1]
[{"$f":"'SIP Returns'!B306","v":0},null,{"$f":"'SIP Returns'!D306","v":0},{"$f":"'SIP Returns'!E306","v":0},{"$f":"'SIP Returns'!F306","v":0},{"$f":"'SIP Returns'!G306","v":0},{"$f":"'SIP Returns'!H306","v":0},{"$f":"'SIP Returns'!I306","v":0},{"$f":"'SIP Returns'!J306","v":0},1,10,8,4,1,1,{"$f":"IF(J305=\"\",\"\",IF(J305>Inputs!$D$9,0,1))","v":1},{"$f":"IF(K305=\"\",\"\",IF(K305>Inputs!$D$9,0,1))","v":1},{"$f":"IF(L305=\"\",\"\",IF(L305>Inputs!$D$9,0,1))","v":1},{"$f":"IF(M305=\"\",\"\",IF(M305>Inputs!$D$9,0,1))","v":1},{"$f":"IF(N305=\"\",\"\",IF(N305>Inputs!$D$9,0,1))","v":1},{"$f":"IF(O305=\"\",\"\",IF(O305>Inputs!$D$9,0,1))","v":1},{"$f":"IF(COUNT(P305:U305)=0,\"\",INDEX(Inputs!$O$21:$P$26,MATCH(COUNT(P305:U305),Inputs!$O$21:$O$26,0),2))","v":20},1,null,null,{"$f":"IF(D305=\"\",\"\",IF(D305=\"-\",\"\",IF(D305>AVERAGE($D$2:$D$1000),1,0)))","v":1},1,1,1,1,1,1]
[{"$f":"'SIP Returns'!B307","v":0},null,{"$f":"'SIP Returns'!D307","v":0},{"$f":"'SIP Returns'!E307","v":0},{"$f":"'SIP Returns'!F307","v":0},{"$f":"'SIP Returns'!G307","v":0},{"$f":"'SIP Returns'!H307","v":0},{"$f":"'SIP Returns'!I307","v":0},{"$f":"'SIP Returns'!J307","v":0},1,10,8,4,1,1,{"$f":"IF(J306=\"\",\"\",IF(J306>Inputs!$D$9,0,1))","v":1},{"$f":"IF(K306=\"\",\"\",IF(K306>Inputs!$D$9,0,1))","v":1},{"$f":"IF(L306=\"\",\"\",IF(L306>Inputs!$D$9,0,1))","v":1},{"$f":"IF(M306=\"\",\"\",IF(M306>Inputs!$D$9,0,1))","v":1},{"$f":"IF(N306=\"\",\"\",IF(N306>Inputs!$D$9,0,1))","v":1},{"$f":"IF(O306=\"\",\"\",IF(O306>Inputs!$D$9,0,1))","v":1},{"$f":"IF(COUNT(P306:U306)=0,\"\",INDEX(Inputs!$O$21:$P$26,MATCH(COUNT(P306:U306),Inputs!$O$21:$O$26,0),2))","v":20},1,null,null,{"$f":"IF(D306=\"\",\"\",IF(D306=\"-\",\"\",IF(D306>AVERAGE($D$2:$D$1000),1,0)))","v":1},1,1,1,1,1,1]
[{"$f":"'SIP Returns'!B308","v":0},null,{"$f":"'SIP Returns'!D308","v":0},{"$f":"'SIP Returns'!E308","v":0},{"$f":"'SIP Returns'!F308","v":0},{"$f":"'SIP Returns'!G308","v":0},{"$f":"'SIP Returns'!H308","v":0},{"$f":"'SIP Returns'!I308","v":0},{"$f":"'SIP Returns'!J308","v":0},1,10,8,4,1,1,{"$f":"IF(J307=\"\",\"\",IF(J307>Inputs!$D$9,0,1))","v":1},{"$f":"IF(K307=\"\",\"\",IF(K307>Inputs!$D$9,0,1))","v":1},{"$f":"IF(L307=\"\",\"\",IF(L307>Inputs!$D$9,0,1))","v":1},{"$f":"IF(M307=\"\",\"\",IF(M307>Inputs!$D$9,0,1))","v":1},{"$f":"IF(N307=\"\",\"\",IF(N307>Inputs!$D$9,0,1))","v":1},{"$f":"IF(O307=\"\",\"\",IF(O307>Inputs!$D$9,0,1))","v":1},{"$f":"IF(COUNT(P307:U307)=0,\"\",INDEX(Inputs!$O$21:$P$26,MATCH(COUNT(P307:U307),Inputs!$O$21:$O$26,0),2))","v":20},1,null,null,{"$f":"IF(D307=\"\",\"\",IF(D307=\"-\",\"\",IF(D307>AVERAGE($D$2:$D$1000),1,0)))","v":1},1,1,1,1,1,1]
[{"$f":"'SIP Returns'!B309","v":0},null,{"$f":"'SIP Returns'!D309","v":0},{"$f":"'SIP Returns'!E309","v":0},{"$f":"'SIP Returns'!F309","v":0},{"$f":"'SIP Returns'!G309","v":0},{"$f":"'SIP Returns'!H309","v":0},{"$f":"'SIP Returns'!I309","v":0},{"$f":"'SIP Returns'!J309","v":0},1,10,8,4,1,1,{"$f":"IF(J308=\"\",\"\",IF(J308>Inputs!$D$9,0,1))","v":1},{"$f":"IF(K308=\"\",\"\",IF(K308>Inputs!$D$9,0,1))","v":1},{"$f":"IF(L308=\"\",\"\",IF(L308>Inputs!$D$9,0,1))","v":1},{"$f":"IF(M308=\"\",\"\",IF(M308>Inputs!$D$9,0,1))","v":1},{"$f":"IF(N308=\"\",\"\",IF(N308>Inputs!$D$9,0,1))","v":1},{"$f":"IF(O308=\"\",\"\",IF(O308>Inputs!$D$9,0,1))","v":1},{"$f":"IF(COUNT(P308:U308)=0,\"\",INDEX(Inputs!$O$21:$P$26,MATCH(COUNT(P308:U308),Inputs!$O$21:$O$26,0),2))","v":20},1,null,null,{"$f":"IF(D308=\"\",\"\",IF(D308=\"-\",\"\",IF(D308>AVERAGE($D$2:$D$1000),1,0)))","v":1},1,1,1,1,1,1]
[{"$f":"'SIP Returns'!B310","v":0},null,{"$f":"'SIP Returns'!D310","v":0},{"$f":"'SIP Returns'!E310","v":0},{"$f":"'SIP Returns'!F310","v":0},{"$f":"'SIP Returns'!G310","v":0},{"$f":"'SIP Returns'!H310","v":0},{"$f":"'SIP Returns'!I310","v":0},{"$f":"'SIP Returns'!J310","v":0},1,10,8,4,1,1,{"$f":"IF(J309=\"\",\"\",IF(J309>Inputs!$D$9,0,1))","v":1},{"$f":"IF(K309=\"\",\"\",IF(K309>Inputs!$D$9,0,1))","v":1},{"$f":"IF(L309=\"\",\"\",IF(L309>Inputs!$D$9,0,1))","v":1},{"$f":"IF(M309=\"\",\"\",IF(M309>Inputs!$D$9,0,1))","v":1},{"$f":"IF(N309=\"\",\"\",IF(N309>Inputs!$D$9,0,1))","v":1},{"$f":"IF(O309=\"\",\"\",IF(O309>Inputs!$D$9,0,1))","v":1},{"$f":"IF(COUNT(P309:U309)=0,\"\",INDEX(Inputs!$O$21:$P$26,MATCH(COUNT(P309:U309),Inputs!$O$21:$O$26,0),2))","v":20},1,null,null,{"$f":"IF(D309=\"\",\"\",IF(D309=\"-\",\"\",IF(D309>AVERAGE($D$2:$D$1000),1,0)))","v":1},1,1,1,1,1,1]
[{"$f":"'SIP Returns'!B311","v":0},null,{"$f":"'SIP Returns'!D311","v":0},{"$f":"'SIP Returns'!E311","v":0},{"$f":"'SIP Returns'!F311","v":0},{"$f":"'SIP Returns'!G311","v":0},{"$f":"'SIP Returns'!H311","v":0},{"$f":"'SIP Returns'!I311","v":0},{"$f":"'SIP Returns'!J311","v":0},1,10,8,4,1,1,{"$f":"IF(J310=\"\",\"\",IF(J310>Inputs!$D$9,0,1))","v":1},{"$f":"IF(K310=\"\",\"\",IF(K310>Inputs!$D$9,0,1))","v":1},{"$f":"IF(L310=\"\",\"\",IF(L310>Inputs!$D$9,0,1))","v":1},{"$f":"IF(M310=\"\",\"\",IF(M310>Inputs!$D$9,0,1))","v":1},{"$f":"IF(N310=\"\",\"\",IF(N310>Inputs!$D$9,0,1))","v":1},{"$f":"IF(O310=\"\",\"\",IF(O310>Inputs!$D$9,0,1))","v":1},{"$f":"IF(COUNT(P310:U310)=0,\"\",INDEX(Inputs!$O$21:$P$26,MATCH(COUNT(P310:U310),Inputs!$O$21:$O$26,0),2))","v":20},1,null,null,{"$f":"IF(D310=\"\",\"\",IF(D310=\"-\",\"\",IF(D310>AVERAGE($D$2:$D$1000),1,0)))","v":1},1,1,1,1,1,1]
[{"$f":"'SIP Returns'!B312","v":0},null,{"$f":"'SIP Returns'!D312","v":0},{"$f":"'SIP Returns'!E312","v":0},{"$f":"'SIP Returns'!F312","v":0},{"$f":"'SIP Returns'!G312","v":0},{"$f":"'SIP Returns'!H312","v":0},{"$f":"'SIP Returns'!I312","v":0},{"$f":"'SIP Returns'!J312","v":0},1,10,8,4,1,1,{"$f":"IF(J311=\"\",\"\",IF(J311>Inputs!$D$9,0,1))","v":1},{"$f":"IF(K311=\"\",\"\",IF(K311>Inputs!$D$9,0,1))","v":1},{"$f":"IF(L311=\"\",\"\",IF(L311>Inputs!$D$9,0,1))","v":1},{"$f":"IF(M311=\"\",\"\",IF(M311>Inputs!$D$9,0,1))","v":1},{"$f":"IF(N311=\"\",\"\",IF(N311>Inputs!$D$9,0,1))","v":1},{"$f":"IF(O311=\"\",\"\",IF(O311>Inputs!$D$9,0,1))","v":1},{"$f":"IF(COUNT(P311:U311)=0,\"\",INDEX(Inputs!$O$21:$P$26,MATCH(COUNT(P311:U311),Inputs!$O$21:$O$26,0),2))","v":20},1,null,null,{"$f":"IF(D311=\"\",\"\",IF(D311=\"-\",\"\",IF(D311>AVERAGE($D$2:$D$1000),1,0)))","v":1},1,1,1,1,1,1]
[{"$f":"'SIP Returns'!B313","v":0},null,{"$f":"'SIP Returns'!D313","v":0},{"$f":"'SIP Returns'!E313","v":0},{"$f":"'SIP Returns'!F313","v":0},{"$f":"'SIP Returns'!G313","v":0},{"$f":"'SIP Returns'!H313","v":0},{"$f":"'SIP Returns'!I313","v":0},{"$f":"'SIP Returns'!J313","v":0},1,10,8,4,1,1,{"$f":"IF(J312=\"\",\"\",IF(J312>Inputs!$D$9,0,1))","v":1},{"$f":"IF(K312=\"\",\"\",IF(K312>Inputs!$D$9,0,1))","v":1},{"$f":"IF(L312=\"\",\"\",IF(L312>Inputs!$D$9,0,1))","v":1},{"$f":"IF(M312=\"\",\"\",IF(M312>Inputs!$D$9,0,1))","v":1},{"$f":"IF(N312=\"\",\"\",IF(N312>Inputs!$D$9,0,1))","v":1},{"$f":"IF(O312=\"\",\"\",IF(O312>Inputs!$D$9,0,1))","v":1},{"$f":"IF(COUNT(P312:U312)=0,\"\",INDEX(Inputs!$O$21:$P$26,MATCH(COUNT(P312:U312),Inputs!$O$21:$O$26,0),2))","v":20},1,null,null,{"$f":"IF(D312=\"\",\"\",IF(D312=\"-\",\"\",IF(D312>AVERAGE($D$2:$D$1000),1,0)))","v":1},1,1,1,1,1,1]
[{"$f":"'SIP Returns'!B314","v":0},null,{"$f":"'SIP Returns'!D314","v":0},{"$f":"'SIP Returns'!E314","v":0},{"$f":"'SIP Returns'!F314","v":0},{"$f":"'SIP Returns'!G314","v":0},{"$f":"'SIP Returns'!H314","v":0},{"$f":"'SIP Returns'!I314","v":0},{"$f":"'SIP Returns'!J314","v":0},1,10,8,4,1,1,{"$f":"IF(J313=\"\",\"\",IF(J313>Inputs!$D$9,0,1))","v":1},{"$f":"IF(K313=\"\",\"\",IF(K313>Inputs!$D$9,0,1))","v":1},{"$f":"IF(L313=\"\",\"\",IF(L313>Inputs!$D$9,0,1))","v":1},{"$f":"IF(M313=\"\",\"\",IF(M313>Inputs!$D$9,0,1))","v":1},{"$f":"IF(N313=\"\",\"\",IF(N313>Inputs!$D$9,0,1))","v":1},{"$f":"IF(O313=\"\",\"\",IF(O313>Inputs!$D$9,0,1))","v":1},{"$f":"IF(COUNT(P313:U313)=0,\"\",INDEX(Inputs!$O$21:$P$26,MATCH(COUNT(P313:U313),Inputs!$O$21:$O$26,0),2))","v":20},1,null,null,{"$f":"IF(D313=\"\",\"\",IF(D313=\"-\",\"\",IF(D313>AVERAGE($D$2:$D$1000),1,0)))","v":1},1,1,1,1,1,1]
[{"$f":"'SIP Returns'!B315","v":0},null,{"$f":"'SIP Returns'!D315","v":0},{"$f":"'SIP Returns'!E315","v":0},{"$f":"'SIP Returns'!F315","v":0},{"$f":"'SIP Returns'!G315","v":0},{"$f":"'SIP Returns'!H315","v":0},{"$f":"'SIP Returns'!I315","v":0},{"$f":"'SIP Returns'!J315","v":0},1,10,8,4,1,1,{"$f":"IF(J314=\"\",\"\",IF(J314>Inputs!$D$9,0,1))","v":1},{"$f":"IF(K314=\"\",\"\",IF(K314>Inputs!$D$9,0,1))","v":1},{"$f":"IF(L314=\"\",\"\",IF(L314>Inputs!$D$9,0,1))","v":1},{"$f":"IF(M314=\"\",\"\",IF(M314>Inputs!$D$9,0,1))","v":1},{"$f":"IF(N314=\"\",\"\",IF(N314>Inputs!$D$9,0,1))","v":1},{"$f":"IF(O314=\"\",\"\",IF(O314>Inputs!$D$9,0,1))","v":1},{"$f":"IF(COUNT(P314:U314)=0,\"\",INDEX(Inputs!$O$21:$P$26,MATCH(COUNT(P314:U314),Inputs!$O$21:$O$26,0),2))","v":20},1,null,null,{"$f":"IF(D314=\"\",\"\",IF(D314=\"-\",\"\",IF(D314>AVERAGE($D$2:$D$1000),1,0)))","v":1},1,1,1,1,1,1]
[{"$f":"'SIP Returns'!B316","v":0},null,{"$f":"'SIP Returns'!D316","v":0},{"$f":"'SIP Returns'!E316","v":0},{"$f":"'SIP Returns'!F316","v":0},{"$f":"'SIP Returns'!G316","v":0},{"$f":"'SIP Returns'!H316","v":0},{"$f":"'SIP Returns'!I316","v":0},{"$f":"'SIP Returns'!J316","v":0},1,10,8,4,1,1,{"$f":"IF(J315=\"\",\"\",IF(J315>Inputs!$D$9,0,1))","v":1},{"$f":"IF(K315=\"\",\"\",IF(K315>Inputs!$D$9,0,1))","v":1},{"$f":"IF(L315=\"\",\"\",IF(L315>Inputs!$D$9,0,1))","v":1},{"$f":"IF(M315=\"\",\"\",IF(M315>Inputs!$D$9,0,1))","v":1},{"$f":"IF(N315=\"\",\"\",IF(N315>Inputs!$D$9,0,1))","v":1},{"$f":"IF(O315=\"\",\"\",IF(O315>Inputs!$D$9,0,1))","v":1},{"$f":"IF(COUNT(P315:U315)=0,\"\",INDEX(Inputs!$O$21:$P$26,MATCH(COUNT(P315:U315),Inputs!$O$21:$O$26,0),2))","v":20},1,null,null,{"$f":"IF(D315=\"\",\"\",IF(D315=\"-\",\"\",IF(D315>AVERAGE($D$2:$D$1000),1,0)))","v":1},1,1,1,1,1,1]
[{"$f":"'SIP Returns'!B317","v":0},null,{"$f":"'SIP Returns'!D317","v":0},{"$f":"'SIP Returns'!E317","v":0},{"$f":"'SIP Returns'!F317","v":0},{"$f":"'SIP Returns'!G317","v":0},{"$f":"'SIP Returns'!H317","v":0},{"$f":"'SIP Returns'!I317","v":0},{"$f":"'SIP Returns'!J317","v":0},1,10,8,4,1,1,{"$f":"IF(J316=\"\",\"\",IF(J316>Inputs!$D$9,0,1))","v":1},{"$f":"IF(K316=\"\",\"\",IF(K316>Inputs!$D$9,0,1))","v":1},{"$f":"IF(L316=\"\",\"\",IF(L316>Inputs!$D$9,0,1))","v":1},{"$f":"IF(M316=\"\",\"\",IF(M316>Inputs!$D$9,0,1))","v":1},{"$f":"IF(N316=\"\",\"\",IF(N316>Inputs!$D$9,0,1))","v":1},{"$f":"IF(O316=\"\",\"\",IF(O316>Inputs!$D$9,0,1))","v":1},{"$f":"IF(COUNT(P316:U316)=0,\"\",INDEX(Inputs!$O$21:$P$26,MATCH(COUNT(P316:U316),Inputs!$O$21:$O$26,0),2))","v":20},1,null,null,{"$f":"IF(D316=\"\",\"\",IF(D316=\"-\",\"\",IF(D316>AVERAGE($D$2:$D$1000),1,0)))","v":1},1,1,1,1,1,1]
[{"$f":"'SIP Returns'!B318","v":0},null,{"$f":"'SIP Returns'!D318","v":0},{"$f":"'SIP Returns'!E318","v":0},{"$f":"'SIP Returns'!F318","v":0},{"$f":"'SIP Returns'!G318","v":0},{"$f":"'SIP Returns'!H318","v":0},{"$f":"'SIP Returns'!I318","v":0},{"$f":"'SIP Returns'!J318","v":0},1,10,8,4,1,1,{"$f":"IF(J317=\"\",\"\",IF(J317>Inputs!$D$9,0,1))","v":1},{"$f":"IF(K317=\"\",\"\",IF(K317>Inputs!$D$9,0,1))","v":1},{"$f":"IF(L317=\"\",\"\",IF(L317>Inputs!$D$9,0,1))","v":1},{"$f":"IF(M317=\"\",\"\",IF(M317>Inputs!$D$9,0,1))","v":1},{"$f":"IF(N317=\"\",\"\",IF(N317>Inputs!$D$9,0,1))","v":1},{"$f":"IF(O317=\"\",\"\",IF(O317>Inputs!$D$9,0,1))","v":1},{"$f":"IF(COUNT(P317:U317)=0,\"\",INDEX(Inputs!$O$21:$P$26,MATCH(COUNT(P317:U317),Inputs!$O$21:$O$26,0),2))","v":20},1,null,null,{"$f":"IF(D317=\"\",\"\",IF(D317=\"-\",\"\",IF(D317>AVERAGE($D$2:$D$1000),1,0)))","v":1},1,1,1,1,1,1]
[{"$f":"'SIP Returns'!B319","v":0},null,{"$f":"'SIP Returns'!D319","v":0},{"$f":"'SIP Returns'!E319","v":0},{"$f":"'SIP Returns'!F319","v":0},{"$f":"'SIP Returns'!G319","v":0},{"$f":"'SIP Returns'!H319","v":0},{"$f":"'SIP Returns'!I319","v":0},{"$f":"'SIP Returns'!J319","v":0},1,10,8,4,1,1,{"$f":"IF(J318=\"\",\"\",IF(J318>Inputs!$D$9,0,1))","v":1},{"$f":"IF(K318=\"\",\"\",IF(K318>Inputs!$D$9,0,1))","v":1},{"$f":"IF(L318=\"\",\"\",IF(L318>Inputs!$D$9,0,1))","v":1},{"$f":"IF(M318=\"\",\"\",IF(M318>Inputs!$D$9,0,1))","v":1},{"$f":"IF(N318=\"\",\"\",IF(N318>Inputs!$D$9,0,1))","v":1},{"$f":"IF(O318=\"\",\"\",IF(O318>Inputs!$D$9,0,1))","v":1},{"$f":"IF(COUNT(P318:U318)=0,\"\",INDEX(Inputs!$O$21:$P$26,MATCH(COUNT(P318:U318),Inputs!$O$21:$O$26,0),2))","v":20},1,null,null,{"$f":"IF(D318=\"\",\"\",IF(D318=\"-\",\"\",IF(D318>AVERAGE($D$2:$D$1000),1,0)))","v":1},1,1,1,1,1,1]
[{"$f":"'SIP Returns'!B320","v":0},null,{"$f":"'SIP Returns'!D320","v":0},{"$f":"'SIP Returns'!E320","v":0},{"$f":"'SIP Returns'!F320","v":0},{"$f":"'SIP Returns'!G320","v":0},{"$f":"'SIP Returns'!H320","v":0},{"$f":"'SIP Returns'!I320","v":0},{"$f":"'SIP Returns'!J320","v":0},1,10,8,4,1,1,{"$f":"IF(J319=\"\",\"\",IF(J319>Inputs!$D$9,0,1))","v":1},{"$f":"IF(K319=\"\",\"\",IF(K319>Inputs!$D$9,0,1))","v":1},{"$f":"IF(L319=\"\",\"\",IF(L319>Inputs!$D$9,0,1))","v":1},{"$f":"IF(M319=\"\",\"\",IF(M319>Inputs!$D$9,0,1))","v":1},{"$f":"IF(N319=\"\",\"\",IF(N319>Inputs!$D$9,0,1))","v":1},{"$f":"IF(O319=\"\",\"\",IF(O319>Inputs!$D$9,0,1))","v":1},{"$f":"IF(COUNT(P319:U319)=0,\"\",INDEX(Inputs!$O$21:$P$26,MATCH(COUNT(P319:U319),Inputs!$O$21:$O$26,0),2))","v":20},1,null,null,{"$f":"IF(D319=\"\",\"\",IF(D319=\"-\",\"\",IF(D319>AVERAGE($D$2:$D$1000),1,0)))","v":1},1,1,1,1,1,1]
[{"$f":"'SIP Returns'!B321","v":0},null,{"$f":"'SIP Returns'!D321","v":0},{"$f":"'SIP Returns'!E321","v":0},{"$f":"'SIP Returns'!F321","v":0},{"$f":"'SIP Returns'!G321","v":0},{"$f":"'SIP Returns'!H321","v":0},{"$f":"'SIP Returns'!I321","v":0},{"$f":"'SIP Returns'!J321","v":0},1,10,8,4,1,1,{"$f":"IF(J320=\"\",\"\",IF(J320>Inputs!$D$9,0,1))","v":1},{"$f":"IF(K320=\"\",\"\",IF(K320>Inputs!$D$9,0,1))","v":1},{"$f":"IF(L320=\"\",\"\",IF(L320>Inputs!$D$9,0,1))","v":1},{"$f":"IF(M320=\"\",\"\",IF(M320>Inputs!$D$9,0,1))","v":1},{"$f":"IF(N320=\"\",\"\",IF(N320>Inputs!$D$9,0,1))","v":1},{"$f":"IF(O320=\"\",\"\",IF(O320>Inputs!$D$9,0,1))","v":1},{"$f":"IF(COUNT(P320:U320)=0,\"\",INDEX(Inputs!$O$21:$P$26,MATCH(COUNT(P320:U320),Inputs!$O$21:$O$26,0),2))","v":20},1,null,null,{"$f":"IF(D320=\"\",\"\",IF(D320=\"-\",\"\",IF(D320>AVERAGE($D$2:$D$1000),1,0)))","v":1},1,1,1,1,1,1]
[{"$f":"'SIP Returns'!B322","v":0},null,{"$f":"'SIP Returns'!D322","v":0},{"$f":"'SIP Returns'!E322","v":0},{"$f":"'SIP Returns'!F322","v":0},{"$f":"'SIP Returns'!G322","v":0},{"$f":"'SIP Returns'!H322","v":0},{"$f":"'SIP Returns'!I322","v":0},{"$f":"'SIP Returns'!J322","v":0},1,10,8,4,1,1,{"$f":"IF(J321=\"\",\"\",IF(J321>Inputs!$D$9,0,1))","v":1},{"$f":"IF(K321=\"\",\"\",IF(K321>Inputs!$D$9,0,1))","v":1},{"$f":"IF(L321=\"\",\"\",IF(L321>Inputs!$D$9,0,1))","v":1},{"$f":"IF(M321=\"\",\"\",IF(M321>Inputs!$D$9,0,1))","v":1},{"$f":"IF(N321=\"\",\"\",IF(N321>Inputs!$D$9,0,1))","v":1},{"$f":"IF(O321=\"\",\"\",IF(O321>Inputs!$D$9,0,1))","v":1},{"$f":"IF(COUNT(P321:U321)=0,\"\",INDEX(Inputs!$O$21:$P$26,MATCH(COUNT(P321:U321),Inputs!$O$21:$O$26,0),2))","v":20},1,null,null,{"$f":"IF(D321=\"\",\"\",IF(D321=\"-\",\"\",IF(D321>AVERAGE($D$2:$D$1000),1,0)))","v":1},1,1,1,1,1,1]
[{"$f":"'SIP Returns'!B323","v":0},null,{"$f":"'SIP Returns'!D323","v":0},{"$f":"'SIP Returns'!E323","v":0},{"$f":"'SIP Returns'!F323","v":0},{"$f":"'SIP Returns'!G323","v":0},{"$f":"'SIP Returns'!H323","v":0},{"$f":"'SIP Returns'!I323","v":0},{"$f":"'SIP Returns'!J323","v":0},{"$f":"IF($A322=\"\",\"\",IF(ISERROR(RANK(D322,$D$2:$D$1000,0)),\"\",RANK(D322,$D$2:$D$1000,0)))","v":1},{"$f":"IF($A322=\"\",\"\",IF(ISERROR(RANK(E322,$E$2:$E$1000,0)),\"\",RANK(E322,$E$2:$E$1000,0)))","v":10},{"$f":"IF($A322=\"\",\"\",IF(ISERROR(RANK(F322,$F$2:$F$1000,0)),\"\",RANK(F322,$F$2:$F$1000,0)))","v":8},{"$f":"IF($A322=\"\",\"\",IF(ISERROR(RANK(G322,$G$2:$G$1000,0)),\"\",RANK(G322,$G$2:$G$1000,0)))","v":4},{"$f":"IF($A322=\"\",\"\",IF(ISERROR(RANK(H322,$H$2:$H$1000,0)),\"\",RANK(H322,$H$2:$H$1000,0)))","v":1},{"$f":"IF($A322=\"\",\"\",IF(ISERROR(RANK(I322,$I$2:$I$1000,0)),\"\",RANK(I322,$I$2:$I$1000,0)))","v":1},{"$f":"IF(J322=\"\",\"\",IF(J322>Inputs!$D$9,0,1))","v":1},{"$f":"IF(K322=\"\",\"\",IF(K322>Inputs!$D$9,0,1))","v":1},{"$f":"IF(L322=\"\",\"\",IF(L322>Inputs!$D$9,0,1))","v":1},{"$f":"IF(M322=\"\",\"\",IF(M322>Inputs!$D$9,0,1))","v":1},{"$f":"IF(N322=\"\",\"\",IF(N322>Inputs!$D$9,0,1))","v":1},{"$f":"IF(O322=\"\",\"\",IF(O322>Inputs!$D$9,0,1))","v":1},{"$f":"IF(COUNT(P322:U322)=0,\"\",INDEX(Inputs!$O$21:$P$26,MATCH(COUNT(P322:U322),Inputs!$O$21:$O$26,0),2))","v":20},1,null,null,{"$f":"IF(D322=\"\",\"\",IF(D322=\"-\",\"\",IF(D322>AVERAGE($D$2:$D$1000),1,0)))","v":1},1,1,1,1,1,{"$f":"IF(COUNT(Z322:AE322)=0,\"\",SUM(Z322:AE322)/COUNT(Z322:AE322))","v":1}]
[{"$f":"'SIP Returns'!B324","v":0},null,{"$f":"'SIP Returns'!D324","v":0},{"$f":"'SIP Returns'!E324","v":0},{"$f":"'SIP Returns'!F324","v":0},{"$f":"'SIP Returns'!G324","v":0},{"$f":"'SIP Returns'!H324","v":0},{"$f":"'SIP Returns'!I324","v":0},{"$f":"'SIP Returns'!J324","v":0},1,10,8,4,1,1,{"$f":"IF(J323=\"\",\"\",IF(J323>Inputs!$D$9,0,1))","v":1},{"$f":"IF(K323=\"\",\"\",IF(K323>Inputs!$D$9,0,1))","v":1},{"$f":"IF(L323=\"\",\"\",IF(L323>Inputs!$D$9,0,1))","v":1},{"$f":"IF(M323=\"\",\"\",IF(M323>Inputs!$D$9,0,1))","v":1},{"$f":"IF(N323=\"\",\"\",IF(N323>Inputs!$D$9,0,1))","v":1},{"$f":"IF(O323=\"\",\"\",IF(O323>Inputs!$D$9,0,1))","v":1},{"$f":"IF(COUNT(P323:U323)=0,\"\",INDEX(Inputs!$O$21:$P$26,MATCH(COUNT(P323:U323),Inputs!$O$21:$O$26,0),2))","v":20},{"$f":"IF(COUNT(P323:U323)=0,\"\",SUM(P323:U323)/COUNT(P323:U323))","v":1},null,null,{"$f":"IF(D323=\"\",\"\",IF(D323=\"-\",\"\",IF(D323>AVERAGE($D$2:$D$1000),1,0)))","v":1},1,1,1,1,1,1]
[{"$f":"'SIP Returns'!B325","v":0},null,{"$f":"'SIP Returns'!D325","v":0},{"$f":"'SIP Returns'!E325","v":0},{"$f":"'SIP Returns'!F325","v":0},{"$f":"'SIP Returns'!G325","v":0},{"$f":"'SIP Returns'!H325","v":0},{"$f":"'SIP Returns'!I325","v":0},{"$f":"'SIP Returns'!J325","v":0},1,10,8,4,1,1,{"$f":"IF(J324=\"\",\"\",IF(J324>Inputs!$D$9,0,1))","v":1},{"$f":"IF(K324=\"\",\"\",IF(K324>Inputs!$D$9,0,1))","v":1},{"$f":"IF(L324=\"\",\"\",IF(L324>Inputs!$D$9,0,1))","v":1},{"$f":"IF(M324=\"\",\"\",IF(M324>Inputs!$D$9,0,1))","v":1},{"$f":"IF(N324=\"\",\"\",IF(N324>Inputs!$D$9,0,1))","v":1},{"$f":"IF(O324=\"\",\"\",IF(O324>Inputs!$D$9,0,1))","v":1},{"$f":"IF(COUNT(P324:U324)=0,\"\",INDEX(Inputs!$O$21:$P$26,MATCH(COUNT(P324:U324),Inputs!$O$21:$O$26,0),2))","v":20},1,null,null,{"$f":"IF(D324=\"\",\"\",IF(D324=\"-\",\"\",IF(D324>AVERAGE($D$2:$D$1000),1,0)))","v":1},1,1,1,1,1,1]
[{"$f":"'SIP Returns'!B326","v":0},null,{"$f":"'SIP Returns'!D326","v":0},{"$f":"'SIP Returns'!E326","v":0},{"$f":"'SIP Returns'!F326","v":0},{"$f":"'SIP Returns'!G326","v":0},{"$f":"'SIP Returns'!H326","v":0},{"$f":"'SIP Returns'!I326","v":0},{"$f":"'SIP Returns'!J326","v":0},1,10,8,4,1,1,{"$f":"IF(J325=\"\",\"\",IF(J325>Inputs!$D$9,0,1))","v":1},{"$f":"IF(K325=\"\",\"\",IF(K325>Inputs!$D$9,0,1))","v":1},{"$f":"IF(L325=\"\",\"\",IF(L325>Inputs!$D$9,0,1))","v":1},{"$f":"IF(M325=\"\",\"\",IF(M325>Inputs!$D$9,0,1))","v":1},{"$f":"IF(N325=\"\",\"\",IF(N325>Inputs!$D$9,0,1))","v":1},{"$f":"IF(O325=\"\",\"\",IF(O325>Inputs!$D$9,0,1))","v":1},{"$f":"IF(COUNT(P325:U325)=0,\"\",INDEX(Inputs!$O$21:$P$26,MATCH(COUNT(P325:U325),Inputs!$O$21:$O$26,0),2))","v":20},1,null,null,{"$f":"IF(D325=\"\",\"\",IF(D325=\"-\",\"\",IF(D325>AVERAGE($D$2:$D$1000),1,0)))","v":1},1,1,1,1,1,1]
[{"$f":"'SIP Returns'!B327","v":0},null,{"$f":"'SIP Returns'!D327","v":0},{"$f":"'SIP Returns'!E327","v":0},{"$f":"'SIP Returns'!F327","v":0},{"$f":"'SIP Returns'!G327","v":0},{"$f":"'SIP Returns'!H327","v":0},{"$f":"'SIP Returns'!I327","v":0},{"$f":"'SIP Returns'!J327","v":0},1,10,8,4,1,1,{"$f":"IF(J326=\"\",\"\",IF(J326>Inputs!$D$9,0,1))","v":1},{"$f":"IF(K326=\"\",\"\",IF(K326>Inputs!$D$9,0,1))","v":1},{"$f":"IF(L326=\"\",\"\",IF(L326>Inputs!$D$9,0,1))","v":1},{"$f":"IF(M326=\"\",\"\",IF(M326>Inputs!$D$9,0,1))","v":1},{"$f":"IF(N326=\"\",\"\",IF(N326>Inputs!$D$9,0,1))","v":1},{"$f":"IF(O326=\"\",\"\",IF(O326>Inputs!$D$9,0,1))","v":1},{"$f":"IF(COUNT(P326:U326)=0,\"\",INDEX(Inputs!$O$21:$P$26,MATCH(COUNT(P326:U326),Inputs!$O$21:$O$26,0),2))","v":20},1,null,null,{"$f":"IF(D326=\"\",\"\",IF(D326=\"-\",\"\",IF(D326>AVERAGE($D$2:$D$1000),1,0)))","v":1},1,1,1,1,1,1]
[{"$f":"'SIP Returns'!B328","v":0},null,{"$f":"'SIP Returns'!D328","v":0},{"$f":"'SIP Returns'!E328","v":0},{"$f":"'SIP Returns'!F328","v":0},{"$f":"'SIP Returns'!G328","v":0},{"$f":"'SIP Returns'!H328","v":0},{"$f":"'SIP Returns'!I328","v":0},{"$f":"'SIP Returns'!J328","v":0},1,10,8,4,1,1,{"$f":"IF(J327=\"\",\"\",IF(J327>Inputs!$D$9,0,1))","v":1},{"$f":"IF(K327=\"\",\"\",IF(K327>Inputs!$D$9,0,1))","v":1},{"$f":"IF(L327=\"\",\"\",IF(L327>Inputs!$D$9,0,1))","v":1},{"$f":"IF(M327=\"\",\"\",IF(M327>Inputs!$D$9,0,1))","v":1},{"$f":"IF(N327=\"\",\"\",IF(N327>Inputs!$D$9,0,1))","v":1},{"$f":"IF(O327=\"\",\"\",IF(O327>Inputs!$D$9,0,1))","v":1},{"$f":"IF(COUNT(P327:U327)=0,\"\",INDEX(Inputs!$O$21:$P$26,MATCH(COUNT(P327:U327),Inputs!$O$21:$O$26,0),2))","v":20},1,null,null,{"$f":"IF(D327=\"\",\"\",IF(D327=\"-\",\"\",IF(D327>AVERAGE($D$2:$D$1000),1,0)))","v":1},1,1,1,1,1,1]
[{"$f":"'SIP Returns'!B329","v":0},null,{"$f":"'SIP Returns'!D329","v":0},{"$f":"'SIP Returns'!E329","v":0},{"$f":"'SIP Returns'!F329","v":0},{"$f":"'SIP Returns'!G329","v":0},{"$f":"'SIP Returns'!H329","v":0},{"$f":"'SIP Returns'!I329","v":0},{"$f":"'SIP Returns'!J329","v":0},1,10,8,4,1,1,{"$f":"IF(J328=\"\",\"\",IF(J328>Inputs!$D$9,0,1))","v":1},{"$f":"IF(K328=\"\",\"\",IF(K328>Inputs!$D$9,0,1))","v":1},{"$f":"IF(L328=\"\",\"\",IF(L328>Inputs!$D$9,0,1))","v":1},{"$f":"IF(M328=\"\",\"\",IF(M328>Inputs!$D$9,0,1))","v":1},{"$f":"IF(N328=\"\",\"\",IF(N328>Inputs!$D$9,0,1))","v":1},{"$f":"IF(O328=\"\",\"\",IF(O328>Inputs!$D$9,0,1))","v":1},{"$f":"IF(COUNT(P328:U328)=0,\"\",INDEX(Inputs!$O$21:$P$26,MATCH(COUNT(P328:U328),Inputs!$O$21:$O$26,0),2))","v":20},1,null,null,{"$f":"IF(D328=\"\",\"\",IF(D328=\"-\",\"\",IF(D328>AVERAGE($D$2:$D$1000),1,0)))","v":1},1,1,1,1,1,1]
[{"$f":"'SIP Returns'!B330","v":0},null,{"$f":"'SIP Returns'!D330","v":0},{"$f":"'SIP Returns'!E330","v":0},{"$f":"'SIP Returns'!F330","v":0},{"$f":"'SIP Returns'!G330","v":0},{"$f":"'SIP Returns'!H330","v":0},{"$f":"'SIP Returns'!I330","v":0},{"$f":"'SIP Returns'!J330","v":0},1,10,8,4,1,1,{"$f":"IF(J329=\"\",\"\",IF(J329>Inputs!$D$9,0,1))","v":1},{"$f":"IF(K329=\"\",\"\",IF(K329>Inputs!$D$9,0,1))","v":1},{"$f":"IF(L329=\"\",\"\",IF(L329>Inputs!$D$9,0,1))","v":1},{"$f":"IF(M329=\"\",\"\",IF(M329>Inputs!$D$9,0,1))","v":1},{"$f":"IF(N329=\"\",\"\",IF(N329>Inputs!$D$9,0,1))","v":1},{"$f":"IF(O329=\"\",\"\",IF(O329>Inputs!$D$9,0,1))","v":1},{"$f":"IF(COUNT(P329:U329)=0,\"\",INDEX(Inputs!$O$21:$P$26,MATCH(COUNT(P329:U329),Inputs!$O$21:$O$26,0),2))","v":20},1,null,null,{"$f":"IF(D329=\"\",\"\",IF(D329=\"-\",\"\",IF(D329>AVERAGE($D$2:$D$1000),1,0)))","v":1},1,1,1,1,1,1]
[{"$f":"'SIP Returns'!B331","v":0},null,{"$f":"'SIP Returns'!D331","v":0},{"$f":"'SIP Returns'!E331","v":0},{"$f":"'SIP Returns'!F331","v":0},{"$f":"'SIP Returns'!G331","v":0},{"$f":"'SIP Returns'!H331","v":0},{"$f":"'SIP Returns'!I331","v":0},{"$f":"'SIP Returns'!J331","v":0},1,10,8,4,1,1,{"$f":"IF(J330=\"\",\"\",IF(J330>Inputs!$D$9,0,1))","v":1},{"$f":"IF(K330=\"\",\"\",IF(K330>Inputs!$D$9,0,1))","v":1},{"$f":"IF(L330=\"\",\"\",IF(L330>Inputs!$D$9,0,1))","v":1},{"$f":"IF(M330=\"\",\"\",IF(M330>Inputs!$D$9,0,1))","v":1},{"$f":"IF(N330=\"\",\"\",IF(N330>Inputs!$D$9,0,1))","v":1},{"$f":"IF(O330=\"\",\"\",IF(O330>Inputs!$D$9,0,1))","v":1},{"$f":"IF(COUNT(P330:U330)=0,\"\",INDEX(Inputs!$O$21:$P$26,MATCH(COUNT(P330:U330),Inputs!$O$21:$O$26,0),2))","v":20},1,null,null,{"$f":"IF(D330=\"\",\"\",IF(D330=\"-\",\"\",IF(D330>AVERAGE($D$2:$D$1000),1,0)))","v":1},1,1,1,1,1,1]
[{"$f":"'SIP Returns'!B332","v":0},null,{"$f":"'SIP Returns'!D332","v":0},{"$f":"'SIP Returns'!E332","v":0},{"$f":"'SIP Returns'!F332","v":0},{"$f":"'SIP Returns'!G332","v":0},{"$f":"'SIP Returns'!H332","v":0},{"$f":"'SIP Returns'!I332","v":0},{"$f":"'SIP Returns'!J332","v":0},1,10,8,4,1,1,{"$f":"IF(J331=\"\",\"\",IF(J331>Inputs!$D$9,0,1))","v":1},{"$f":"IF(K331=\"\",\"\",IF(K331>Inputs!$D$9,0,1))","v":1},{"$f":"IF(L331=\"\",\"\",IF(L331>Inputs!$D$9,0,1))","v":1},{"$f":"IF(M331=\"\",\"\",IF(M331>Inputs!$D$9,0,1))","v":1},{"$f":"IF(N331=\"\",\"\",IF(N331>Inputs!$D$9,0,1))","v":1},{"$f":"IF(O331=\"\",\"\",IF(O331>Inputs!$D$9,0,1))","v":1},{"$f":"IF(COUNT(P331:U331)=0,\"\",INDEX(Inputs!$O$21:$P$26,MATCH(COUNT(P331:U331),Inputs!$O$21:$O$26,0),2))","v":20},1,null,null,{"$f":"IF(D331=\"\",\"\",IF(D331=\"-\",\"\",IF(D331>AVERAGE($D$2:$D$1000),1,0)))","v":1},1,1,1,1,1,1]
[{"$f":"'SIP Returns'!B333","v":0},null,{"$f":"'SIP Returns'!D333","v":0},{"$f":"'SIP Returns'!E333","v":0},{"$f":"'SIP Returns'!F333","v":0},{"$f":"'SIP Returns'!G333","v":0},{"$f":"'SIP Returns'!H333","v":0},{"$f":"'SIP Returns'!I333","v":0},{"$f":"'SIP Returns'!J333","v":0},1,10,8,4,1,1,{"$f":"IF(J332=\"\",\"\",IF(J332>Inputs!$D$9,0,1))","v":1},{"$f":"IF(K332=\"\",\"\",IF(K332>Inputs!$D$9,0,1))","v":1},{"$f":"IF(L332=\"\",\"\",IF(L332>Inputs!$D$9,0,1))","v":1},{"$f":"IF(M332=\"\",\"\",IF(M332>Inputs!$D$9,0,1))","v":1},{"$f":"IF(N332=\"\",\"\",IF(N332>Inputs!$D$9,0,1))","v":1},{"$f":"IF(O332=\"\",\"\",IF(O332>Inputs!$D$9,0,1))","v":1},{"$f":"IF(COUNT(P332:U332)=0,\"\",INDEX(Inputs!$O$21:$P$26,MATCH(COUNT(P332:U332),Inputs!$O$21:$O$26,0),2))","v":20},1,null,null,{"$f":"IF(D332=\"\",\"\",IF(D332=\"-\",\"\",IF(D332>AVERAGE($D$2:$D$1000),1,0)))","v":1},1,1,1,1,1,1]
[{"$f":"'SIP Returns'!B334","v":0},null,{"$f":"'SIP Returns'!D334","v":0},{"$f":"'SIP Returns'!E334","v":0},{"$f":"'SIP Returns'!F334","v":0},{"$f":"'SIP Returns'!G334","v":0},{"$f":"'SIP Returns'!H334","v":0},{"$f":"'SIP Returns'!I334","v":0},{"$f":"'SIP Returns'!J334","v":0},1,10,8,4,1,1,{"$f":"IF(J333=\"\",\"\",IF(J333>Inputs!$D$9,0,1))","v":1},{"$f":"IF(K333=\"\",\"\",IF(K333>Inputs!$D$9,0,1))","v":1},{"$f":"IF(L333=\"\",\"\",IF(L333>Inputs!$D$9,0,1))","v":1},{"$f":"IF(M333=\"\",\"\",IF(M333>Inputs!$D$9,0,1))","v":1},{"$f":"IF(N333=\"\",\"\",IF(N333>Inputs!$D$9,0,1))","v":1},{"$f":"IF(O333=\"\",\"\",IF(O333>Inputs!$D$9,0,1))","v":1},{"$f":"IF(COUNT(P333:U333)=0,\"\",INDEX(Inputs!$O$21:$P$26,MATCH(COUNT(P333:U333),Inputs!$O$21:$O$26,0),2))","v":20},1,null,null,{"$f":"IF(D333=\"\",\"\",IF(D333=\"-\",\"\",IF(D333>AVERAGE($D$2:$D$1000),1,0)))","v":1},1,1,1,1,1,1]
[{"$f":"'SIP Returns'!B335","v":0},null,{"$f":"'SIP Returns'!D335","v":0},{"$f":"'SIP Returns'!E335","v":0},{"$f":"'SIP Returns'!F335","v":0},{"$f":"'SIP Returns'!G335","v":0},{"$f":"'SIP Returns'!H335","v":0},{"$f":"'SIP Returns'!I335","v":0},{"$f":"'SIP Returns'!J335","v":0},1,10,8,4,1,1,{"$f":"IF(J334=\"\",\"\",IF(J334>Inputs!$D$9,0,1))","v":1},{"$f":"IF(K334=\"\",\"\",IF(K334>Inputs!$D$9,0,1))","v":1},{"$f":"IF(L334=\"\",\"\",IF(L334>Inputs!$D$9,0,1))","v":1},{"$f":"IF(M334=\"\",\"\",IF(M334>Inputs!$D$9,0,1))","v":1},{"$f":"IF(N334=\"\",\"\",IF(N334>Inputs!$D$9,0,1))","v":1},{"$f":"IF(O334=\"\",\"\",IF(O334>Inputs!$D$9,0,1))","v":1},{"$f":"IF(COUNT(P334:U334)=0,\"\",INDEX(Inputs!$O$21:$P$26,MATCH(COUNT(P334:U334),Inputs!$O$21:$O$26,0),2))","v":20},1,null,null,{"$f":"IF(D334=\"\",\"\",IF(D334=\"-\",\"\",IF(D334>AVERAGE($D$2:$D$1000),1,0)))","v":1},1,1,1,1,1,1]
[{"$f":"'SIP Returns'!B336","v":0},null,{"$f":"'SIP Returns'!D336","v":0},{"$f":"'SIP Returns'!E336","v":0},{"$f":"'SIP Returns'!F336","v":0},{"$f":"'SIP Returns'!G336","v":0},{"$f":"'SIP Returns'!H336","v":0},{"$f":"'SIP Returns'!I336","v":0},{"$f":"'SIP Returns'!J336","v":0},1,10,8,4,1,1,{"$f":"IF(J335=\"\",\"\",IF(J335>Inputs!$D$9,0,1))","v":1},{"$f":"IF(K335=\"\",\"\",IF(K335>Inputs!$D$9,0,1))","v":1},{"$f":"IF(L335=\"\",\"\",IF(L335>Inputs!$D$9,0,1))","v":1},{"$f":"IF(M335=\"\",\"\",IF(M335>Inputs!$D$9,0,1))","v":1},{"$f":"IF(N335=\"\",\"\",IF(N335>Inputs!$D$9,0,1))","v":1},{"$f":"IF(O335=\"\",\"\",IF(O335>Inputs!$D$9,0,1))","v":1},{"$f":"IF(COUNT(P335:U335)=0,\"\",INDEX(Inputs!$O$21:$P$26,MATCH(COUNT(P335:U335),Inputs!$O$21:$O$26,0),2))","v":20},1,null,null,{"$f":"IF(D335=\"\",\"\",IF(D335=\"-\",\"\",IF(D335>AVERAGE($D$2:$D$1000),1,0)))","v":1},1,1,1,1,1,1]
[{"$f":"'SIP Returns'!B337","v":0},null,{"$f":"'SIP Returns'!D337","v":0},{"$f":"'SIP Returns'!E337","v":0},{"$f":"'SIP Returns'!F337","v":0},{"$f":"'SIP Returns'!G337","v":0},{"$f":"'SIP Returns'!H337","v":0},{"$f":"'SIP Returns'!I337","v":0},{"$f":"'SIP Returns'!J337","v":0},1,10,8,4,1,1,{"$f":"IF(J336=\"\",\"\",IF(J336>Inputs!$D$9,0,1))","v":1},{"$f":"IF(K336=\"\",\"\",IF(K336>Inputs!$D$9,0,1))","v":1},{"$f":"IF(L336=\"\",\"\",IF(L336>Inputs!$D$9,0,1))","v":1},{"$f":"IF(M336=\"\",\"\",IF(M336>Inputs!$D$9,0,1))","v":1},{"$f":"IF(N336=\"\",\"\",IF(N336>Inputs!$D$9,0,1))","v":1},{"$f":"IF(O336=\"\",\"\",IF(O336>Inputs!$D$9,0,1))","v":1},{"$f":"IF(COUNT(P336:U336)=0,\"\",INDEX(Inputs!$O$21:$P$26,MATCH(COUNT(P336:U336),Inputs!$O$21:$O$26,0),2))","v":20},1,null,null,{"$f":"IF(D336=\"\",\"\",IF(D336=\"-\",\"\",IF(D336>AVERAGE($D$2:$D$1000),1,0)))","v":1},1,1,1,1,1,1]
[{"$f":"'SIP Returns'!B338","v":0},null,{"$f":"'SIP Returns'!D338","v":0},{"$f":"'SIP Returns'!E338","v":0},{"$f":"'SIP Returns'!F338","v":0},{"$f":"'SIP Returns'!G338","v":0},{"$f":"'SIP Returns'!H338","v":0},{"$f":"'SIP Returns'!I338","v":0},{"$f":"'SIP Returns'!J338","v":0},1,10,8,4,1,1,{"$f":"IF(J337=\"\",\"\",IF(J337>Inputs!$D$9,0,1))","v":1},{"$f":"IF(K337=\"\",\"\",IF(K337>Inputs!$D$9,0,1))","v":1},{"$f":"IF(L337=\"\",\"\",IF(L337>Inputs!$D$9,0,1))","v":1},{"$f":"IF(M337=\"\",\"\",IF(M337>Inputs!$D$9,0,1))","v":1},{"$f":"IF(N337=\"\",\"\",IF(N337>Inputs!$D$9,0,1))","v":1},{"$f":"IF(O337=\"\",\"\",IF(O337>Inputs!$D$9,0,1))","v":1},{"$f":"IF(COUNT(P337:U337)=0,\"\",INDEX(Inputs!$O$21:$P$26,MATCH(COUNT(P337:U337),Inputs!$O$21:$O$26,0),2))","v":20},1,null,null,{"$f":"IF(D337=\"\",\"\",IF(D337=\"-\",\"\",IF(D337>AVERAGE($D$2:$D$1000),1,0)))","v":1},1,1,1,1,1,1]
[{"$f":"'SIP Returns'!B339","v":0},null,{"$f":"'SIP Returns'!D339","v":0},{"$f":"'SIP Returns'!E339","v":0},{"$f":"'SIP Returns'!F339","v":0},{"$f":"'SIP Returns'!G339","v":0},{"$f":"'SIP Returns'!H339","v":0},{"$f":"'SIP Returns'!I339","v":0},{"$f":"'SIP Returns'!J339","v":0},1,10,8,4,1,1,{"$f":"IF(J338=\"\",\"\",IF(J338>Inputs!$D$9,0,1))","v":1},{"$f":"IF(K338=\"\",\"\",IF(K338>Inputs!$D$9,0,1))","v":1},{"$f":"IF(L338=\"\",\"\",IF(L338>Inputs!$D$9,0,1))","v":1},{"$f":"IF(M338=\"\",\"\",IF(M338>Inputs!$D$9,0,1))","v":1},{"$f":"IF(N338=\"\",\"\",IF(N338>Inputs!$D$9,0,1))","v":1},{"$f":"IF(O338=\"\",\"\",IF(O338>Inputs!$D$9,0,1))","v":1},{"$f":"IF(COUNT(P338:U338)=0,\"\",INDEX(Inputs!$O$21:$P$26,MATCH(COUNT(P338:U338),Inputs!$O$21:$O$26,0),2))","v":20},1,null,null,{"$f":"IF(D338=\"\",\"\",IF(D338=\"-\",\"\",IF(D338>AVERAGE($D$2:$D$1000),1,0)))","v":1},1,1,1,1,1,1]
[{"$f":"'SIP Returns'!B340","v":0},null,{"$f":"'SIP Returns'!D340","v":0},{"$f":"'SIP Returns'!E340","v":0},{"$f":"'SIP Returns'!F340","v":0},{"$f":"'SIP Returns'!G340","v":0},{"$f":"'SIP Returns'!H340","v":0},{"$f":"'SIP Returns'!I340","v":0},{"$f":"'SIP Returns'!J340","v":0},1,10,8,4,1,1,{"$f":"IF(J339=\"\",\"\",IF(J339>Inputs!$D$9,0,1))","v":1},{"$f":"IF(K339=\"\",\"\",IF(K339>Inputs!$D$9,0,1))","v":1},{"$f":"IF(L339=\"\",\"\",IF(L339>Inputs!$D$9,0,1))","v":1},{"$f":"IF(M339=\"\",\"\",IF(M339>Inputs!$D$9,0,1))","v":1},{"$f":"IF(N339=\"\",\"\",IF(N339>Inputs!$D$9,0,1))","v":1},{"$f":"IF(O339=\"\",\"\",IF(O339>Inputs!$D$9,0,1))","v":1},{"$f":"IF(COUNT(P339:U339)=0,\"\",INDEX(Inputs!$O$21:$P$26,MATCH(COUNT(P339:U339),Inputs!$O$21:$O$26,0),2))","v":20},1,null,null,{"$f":"IF(D339=\"\",\"\",IF(D339=\"-\",\"\",IF(D339>AVERAGE($D$2:$D$1000),1,0)))","v":1},1,1,1,1,1,1]
[{"$f":"'SIP Returns'!B341","v":0},null,{"$f":"'SIP Returns'!D341","v":0},{"$f":"'SIP Returns'!E341","v":0},{"$f":"'SIP Returns'!F341","v":0},{"$f":"'SIP Returns'!G341","v":0},{"$f":"'SIP Returns'!H341","v":0},{"$f":"'SIP Returns'!I341","v":0},{"$f":"'SIP Returns'!J341","v":0},1,10,8,4,1,1,{"$f":"IF(J340=\"\",\"\",IF(J340>Inputs!$D$9,0,1))","v":1},{"$f":"IF(K340=\"\",\"\",IF(K340>Inputs!$D$9,0,1))","v":1},{"$f":"IF(L340=\"\",\"\",IF(L340>Inputs!$D$9,0,1))","v":1},{"$f":"IF(M340=\"\",\"\",IF(M340>Inputs!$D$9,0,1))","v":1},{"$f":"IF(N340=\"\",\"\",IF(N340>Inputs!$D$9,0,1))","v":1},{"$f":"IF(O340=\"\",\"\",IF(O340>Inputs!$D$9,0,1))","v":1},{"$f":"IF(COUNT(P340:U340)=0,\"\",INDEX(Inputs!$O$21:$P$26,MATCH(COUNT(P340:U340),Inputs!$O$21:$O$26,0),2))","v":20},1,null,null,{"$f":"IF(D340=\"\",\"\",IF(D340=\"-\",\"\",IF(D340>AVERAGE($D$2:$D$1000),1,0)))","v":1},1,1,1,1,1,1]
[{"$f":"'SIP Returns'!B342","v":0},null,{"$f":"'SIP Returns'!D342","v":0},{"$f":"'SIP Returns'!E342","v":0},{"$f":"'SIP Returns'!F342","v":0},{"$f":"'SIP Returns'!G342","v":0},{"$f":"'SIP Returns'!H342","v":0},{"$f":"'SIP Returns'!I342","v":0},{"$f":"'SIP Returns'!J342","v":0},1,10,8,4,1,1,{"$f":"IF(J341=\"\",\"\",IF(J341>Inputs!$D$9,0,1))","v":1},{"$f":"IF(K341=\"\",\"\",IF(K341>Inputs!$D$9,0,1))","v":1},{"$f":"IF(L341=\"\",\"\",IF(L341>Inputs!$D$9,0,1))","v":1},{"$f":"IF(M341=\"\",\"\",IF(M341>Inputs!$D$9,0,1))","v":1},{"$f":"IF(N341=\"\",\"\",IF(N341>Inputs!$D$9,0,1))","v":1},{"$f":"IF(O341=\"\",\"\",IF(O341>Inputs!$D$9,0,1))","v":1},{"$f":"IF(COUNT(P341:U341)=0,\"\",INDEX(Inputs!$O$21:$P$26,MATCH(COUNT(P341:U341),Inputs!$O$21:$O$26,0),2))","v":20},1,null,null,{"$f":"IF(D341=\"\",\"\",IF(D341=\"-\",\"\",IF(D341>AVERAGE($D$2:$D$1000),1,0)))","v":1},1,1,1,1,1,1]
[{"$f":"'SIP Returns'!B343","v":0},null,{"$f":"'SIP Returns'!D343","v":0},{"$f":"'SIP Returns'!E343","v":0},{"$f":"'SIP Returns'!F343","v":0},{"$f":"'SIP Returns'!G343","v":0},{"$f":"'SIP Returns'!H343","v":0},{"$f":"'SIP Returns'!I343","v":0},{"$f":"'SIP Returns'!J343","v":0},1,10,8,4,1,1,{"$f":"IF(J342=\"\",\"\",IF(J342>Inputs!$D$9,0,1))","v":1},{"$f":"IF(K342=\"\",\"\",IF(K342>Inputs!$D$9,0,1))","v":1},{"$f":"IF(L342=\"\",\"\",IF(L342>Inputs!$D$9,0,1))","v":1},{"$f":"IF(M342=\"\",\"\",IF(M342>Inputs!$D$9,0,1))","v":1},{"$f":"IF(N342=\"\",\"\",IF(N342>Inputs!$D$9,0,1))","v":1},{"$f":"IF(O342=\"\",\"\",IF(O342>Inputs!$D$9,0,1))","v":1},{"$f":"IF(COUNT(P342:U342)=0,\"\",INDEX(Inputs!$O$21:$P$26,MATCH(COUNT(P342:U342),Inputs!$O$21:$O$26,0),2))","v":20},1,null,null,{"$f":"IF(D342=\"\",\"\",IF(D342=\"-\",\"\",IF(D342>AVERAGE($D$2:$D$1000),1,0)))","v":1},1,1,1,1,1,1]
[{"$f":"'SIP Returns'!B344","v":0},null,{"$f":"'SIP Returns'!D344","v":0},{"$f":"'SIP Returns'!E344","v":0},{"$f":"'SIP Returns'!F344","v":0},{"$f":"'SIP Returns'!G344","v":0},{"$f":"'SIP Returns'!H344","v":0},{"$f":"'SIP Returns'!I344","v":0},{"$f":"'SIP Returns'!J344","v":0},1,10,8,4,1,1,{"$f":"IF(J343=\"\",\"\",IF(J343>Inputs!$D$9,0,1))","v":1},{"$f":"IF(K343=\"\",\"\",IF(K343>Inputs!$D$9,0,1))","v":1},{"$f":"IF(L343=\"\",\"\",IF(L343>Inputs!$D$9,0,1))","v":1},{"$f":"IF(M343=\"\",\"\",IF(M343>Inputs!$D$9,0,1))","v":1},{"$f":"IF(N343=\"\",\"\",IF(N343>Inputs!$D$9,0,1))","v":1},{"$f":"IF(O343=\"\",\"\",IF(O343>Inputs!$D$9,0,1))","v":1},{"$f":"IF(COUNT(P343:U343)=0,\"\",INDEX(Inputs!$O$21:$P$26,MATCH(COUNT(P343:U343),Inputs!$O$21:$O$26,0),2))","v":20},1,null,null,{"$f":"IF(D343=\"\",\"\",IF(D343=\"-\",\"\",IF(D343>AVERAGE($D$2:$D$1000),1,0)))","v":1},1,1,1,1,1,1]
[{"$f":"'SIP Returns'!B345","v":0},null,{"$f":"'SIP Returns'!D345","v":0},{"$f":"'SIP Returns'!E345","v":0},{"$f":"'SIP Returns'!F345","v":0},{"$f":"'SIP Returns'!G345","v":0},{"$f":"'SIP Returns'!H345","v":0},{"$f":"'SIP Returns'!I345","v":0},{"$f":"'SIP Returns'!J345","v":0},1,10,8,4,1,1,{"$f":"IF(J344=\"\",\"\",IF(J344>Inputs!$D$9,0,1))","v":1},{"$f":"IF(K344=\"\",\"\",IF(K344>Inputs!$D$9,0,1))","v":1},{"$f":"IF(L344=\"\",\"\",IF(L344>Inputs!$D$9,0,1))","v":1},{"$f":"IF(M344=\"\",\"\",IF(M344>Inputs!$D$9,0,1))","v":1},{"$f":"IF(N344=\"\",\"\",IF(N344>Inputs!$D$9,0,1))","v":1},{"$f":"IF(O344=\"\",\"\",IF(O344>Inputs!$D$9,0,1))","v":1},{"$f":"IF(COUNT(P344:U344)=0,\"\",INDEX(Inputs!$O$21:$P$26,MATCH(COUNT(P344:U344),Inputs!$O$21:$O$26,0),2))","v":20},1,null,null,{"$f":"IF(D344=\"\",\"\",IF(D344=\"-\",\"\",IF(D344>AVERAGE($D$2:$D$1000),1,0)))","v":1},1,1,1,1,1,1]
[{"$f":"'SIP Returns'!B346","v":0},null,{"$f":"'SIP Returns'!D346","v":0},{"$f":"'SIP Returns'!E346","v":0},{"$f":"'SIP Returns'!F346","v":0},{"$f":"'SIP Returns'!G346","v":0},{"$f":"'SIP Returns'!H346","v":0},{"$f":"'SIP Returns'!I346","v":0},{"$f":"'SIP Returns'!J346","v":0},1,10,8,4,1,1,{"$f":"IF(J345=\"\",\"\",IF(J345>Inputs!$D$9,0,1))","v":1},{"$f":"IF(K345=\"\",\"\",IF(K345>Inputs!$D$9,0,1))","v":1},{"$f":"IF(L345=\"\",\"\",IF(L345>Inputs!$D$9,0,1))","v":1},{"$f":"IF(M345=\"\",\"\",IF(M345>Inputs!$D$9,0,1))","v":1},{"$f":"IF(N345=\"\",\"\",IF(N345>Inputs!$D$9,0,1))","v":1},{"$f":"IF(O345=\"\",\"\",IF(O345>Inputs!$D$9,0,1))","v":1},{"$f":"IF(COUNT(P345:U345)=0,\"\",INDEX(Inputs!$O$21:$P$26,MATCH(COUNT(P345:U345),Inputs!$O$21:$O$26,0),2))","v":20},1,null,null,{"$f":"IF(D345=\"\",\"\",IF(D345=\"-\",\"\",IF(D345>AVERAGE($D$2:$D$1000),1,0)))","v":1},1,1,1,1,1,1]
[{"$f":"'SIP Returns'!B347","v":0},null,{"$f":"'SIP Returns'!D347","v":0},{"$f":"'SIP Returns'!E347","v":0},{"$f":"'SIP Returns'!F347","v":0},{"$f":"'SIP Returns'!G347","v":0},{"$f":"'SIP Returns'!H347","v":0},{"$f":"'SIP Returns'!I347","v":0},{"$f":"'SIP Returns'!J347","v":0},1,10,8,4,1,1,{"$f":"IF(J346=\"\",\"\",IF(J346>Inputs!$D$9,0,1))","v":1},{"$f":"IF(K346=\"\",\"\",IF(K346>Inputs!$D$9,0,1))","v":1},{"$f":"IF(L346=\"\",\"\",IF(L346>Inputs!$D$9,0,1))","v":1},{"$f":"IF(M346=\"\",\"\",IF(M346>Inputs!$D$9,0,1))","v":1},{"$f":"IF(N346=\"\",\"\",IF(N346>Inputs!$D$9,0,1))","v":1},{"$f":"IF(O346=\"\",\"\",IF(O346>Inputs!$D$9,0,1))","v":1},{"$f":"IF(COUNT(P346:U346)=0,\"\",INDEX(Inputs!$O$21:$P$26,MATCH(COUNT(P346:U346),Inputs!$O$21:$O$26,0),2))","v":20},1,null,null,{"$f":"IF(D346=\"\",\"\",IF(D346=\"-\",\"\",IF(D346>AVERAGE($D$2:$D$1000),1,0)))","v":1},1,1,1,1,1,1]
[{"$f":"'SIP Returns'!B348","v":0},null,{"$f":"'SIP Returns'!D348","v":0},{"$f":"'SIP Returns'!E348","v":0},{"$f":"'SIP Returns'!F348","v":0},{"$f":"'SIP Returns'!G348","v":0},{"$f":"'SIP Returns'!H348","v":0},{"$f":"'SIP Returns'!I348","v":0},{"$f":"'SIP Returns'!J348","v":0},1,10,8,4,1,1,{"$f":"IF(J347=\"\",\"\",IF(J347>Inputs!$D$9,0,1))","v":1},{"$f":"IF(K347=\"\",\"\",IF(K347>Inputs!$D$9,0,1))","v":1},{"$f":"IF(L347=\"\",\"\",IF(L347>Inputs!$D$9,0,1))","v":1},{"$f":"IF(M347=\"\",\"\",IF(M347>Inputs!$D$9,0,1))","v":1},{"$f":"IF(N347=\"\",\"\",IF(N347>Inputs!$D$9,0,1))","v":1},{"$f":"IF(O347=\"\",\"\",IF(O347>Inputs!$D$9,0,1))","v":1},{"$f":"IF(COUNT(P347:U347)=0,\"\",INDEX(Inputs!$O$21:$P$26,MATCH(COUNT(P347:U347),Inputs!$O$21:$O$26,0),2))","v":20},1,null,null,{"$f":"IF(D347=\"\",\"\",IF(D347=\"-\",\"\",IF(D347>AVERAGE($D$2:$D$1000),1,0)))","v":1},1,1,1,1,1,1]
[{"$f":"'SIP Returns'!B349","v":0},null,{"$f":"'SIP Returns'!D349","v":0},{"$f":"'SIP Returns'!E349","v":0},{"$f":"'SIP Returns'!F349","v":0},{"$f":"'SIP Returns'!G349","v":0},{"$f":"'SIP Returns'!H349","v":0},{"$f":"'SIP Returns'!I349","v":0},{"$f":"'SIP Returns'!J349","v":0},1,10,8,4,1,1,{"$f":"IF(J348=\"\",\"\",IF(J348>Inputs!$D$9,0,1))","v":1},{"$f":"IF(K348=\"\",\"\",IF(K348>Inputs!$D$9,0,1))","v":1},{"$f":"IF(L348=\"\",\"\",IF(L348>Inputs!$D$9,0,1))","v":1},{"$f":"IF(M348=\"\",\"\",IF(M348>Inputs!$D$9,0,1))","v":1},{"$f":"IF(N348=\"\",\"\",IF(N348>Inputs!$D$9,0,1))","v":1},{"$f":"IF(O348=\"\",\"\",IF(O348>Inputs!$D$9,0,1))","v":1},{"$f":"IF(COUNT(P348:U348)=0,\"\",INDEX(Inputs!$O$21:$P$26,MATCH(COUNT(P348:U348),Inputs!$O$21:$O$26,0),2))","v":20},1,null,null,{"$f":"IF(D348=\"\",\"\",IF(D348=\"-\",\"\",IF(D348>AVERAGE($D$2:$D$1000),1,0)))","v":1},1,1,1,1,1,1]
[{"$f":"'SIP Returns'!B350","v":0},null,{"$f":"'SIP Returns'!D350","v":0},{"$f":"'SIP Returns'!E350","v":0},{"$f":"'SIP Returns'!F350","v":0},{"$f":"'SIP Returns'!G350","v":0},{"$f":"'SIP Returns'!H350","v":0},{"$f":"'SIP Returns'!I350","v":0},{"$f":"'SIP Returns'!J350","v":0},1,10,8,4,1,1,{"$f":"IF(J349=\"\",\"\",IF(J349>Inputs!$D$9,0,1))","v":1},{"$f":"IF(K349=\"\",\"\",IF(K349>Inputs!$D$9,0,1))","v":1},{"$f":"IF(L349=\"\",\"\",IF(L349>Inputs!$D$9,0,1))","v":1},{"$f":"IF(M349=\"\",\"\",IF(M349>Inputs!$D$9,0,1))","v":1},{"$f":"IF(N349=\"\",\"\",IF(N349>Inputs!$D$9,0,1))","v":1},{"$f":"IF(O349=\"\",\"\",IF(O349>Inputs!$D$9,0,1))","v":1},{"$f":"IF(COUNT(P349:U349)=0,\"\",INDEX(Inputs!$O$21:$P$26,MATCH(COUNT(P349:U349),Inputs!$O$21:$O$26,0),2))","v":20},1,null,null,{"$f":"IF(D349=\"\",\"\",IF(D349=\"-\",\"\",IF(D349>AVERAGE($D$2:$D$1000),1,0)))","v":1},1,1,1,1,1,1]
[{"$f":"'SIP Returns'!B351","v":0},null,{"$f":"'SIP Returns'!D351","v":0},{"$f":"'SIP Returns'!E351","v":0},{"$f":"'SIP Returns'!F351","v":0},{"$f":"'SIP Returns'!G351","v":0},{"$f":"'SIP Returns'!H351","v":0},{"$f":"'SIP Returns'!I351","v":0},{"$f":"'SIP Returns'!J351","v":0},1,10,8,4,1,1,{"$f":"IF(J350=\"\",\"\",IF(J350>Inputs!$D$9,0,1))","v":1},{"$f":"IF(K350=\"\",\"\",IF(K350>Inputs!$D$9,0,1))","v":1},{"$f":"IF(L350=\"\",\"\",IF(L350>Inputs!$D$9,0,1))","v":1},{"$f":"IF(M350=\"\",\"\",IF(M350>Inputs!$D$9,0,1))","v":1},{"$f":"IF(N350=\"\",\"\",IF(N350>Inputs!$D$9,0,1))","v":1},{"$f":"IF(O350=\"\",\"\",IF(O350>Inputs!$D$9,0,1))","v":1},{"$f":"IF(COUNT(P350:U350)=0,\"\",INDEX(Inputs!$O$21:$P$26,MATCH(COUNT(P350:U350),Inputs!$O$21:$O$26,0),2))","v":20},1,null,null,{"$f":"IF(D350=\"\",\"\",IF(D350=\"-\",\"\",IF(D350>AVERAGE($D$2:$D$1000),1,0)))","v":1},1,1,1,1,1,1]
[{"$f":"'SIP Returns'!B352","v":0},null,{"$f":"'SIP Returns'!D352","v":0},{"$f":"'SIP Returns'!E352","v":0},{"$f":"'SIP Returns'!F352","v":0},{"$f":"'SIP Returns'!G352","v":0},{"$f":"'SIP Returns'!H352","v":0},{"$f":"'SIP Returns'!I352","v":0},{"$f":"'SIP Returns'!J352","v":0},1,10,8,4,1,1,{"$f":"IF(J351=\"\",\"\",IF(J351>Inputs!$D$9,0,1))","v":1},{"$f":"IF(K351=\"\",\"\",IF(K351>Inputs!$D$9,0,1))","v":1},{"$f":"IF(L351=\"\",\"\",IF(L351>Inputs!$D$9,0,1))","v":1},{"$f":"IF(M351=\"\",\"\",IF(M351>Inputs!$D$9,0,1))","v":1},{"$f":"IF(N351=\"\",\"\",IF(N351>Inputs!$D$9,0,1))","v":1},{"$f":"IF(O351=\"\",\"\",IF(O351>Inputs!$D$9,0,1))","v":1},{"$f":"IF(COUNT(P351:U351)=0,\"\",INDEX(Inputs!$O$21:$P$26,MATCH(COUNT(P351:U351),Inputs!$O$21:$O$26,0),2))","v":20},1,null,null,{"$f":"IF(D351=\"\",\"\",IF(D351=\"-\",\"\",IF(D351>AVERAGE($D$2:$D$1000),1,0)))","v":1},1,1,1,1,1,1]
[{"$f":"'SIP Returns'!B353","v":0},null,{"$f":"'SIP Returns'!D353","v":0},{"$f":"'SIP Returns'!E353","v":0},{"$f":"'SIP Returns'!F353","v":0},{"$f":"'SIP Returns'!G353","v":0},{"$f":"'SIP Returns'!H353","v":0},{"$f":"'SIP Returns'!I353","v":0},{"$f":"'SIP Returns'!J353","v":0},1,10,8,4,1,1,{"$f":"IF(J352=\"\",\"\",IF(J352>Inputs!$D$9,0,1))","v":1},{"$f":"IF(K352=\"\",\"\",IF(K352>Inputs!$D$9,0,1))","v":1},{"$f":"IF(L352=\"\",\"\",IF(L352>Inputs!$D$9,0,1))","v":1},{"$f":"IF(M352=\"\",\"\",IF(M352>Inputs!$D$9,0,1))","v":1},{"$f":"IF(N352=\"\",\"\",IF(N352>Inputs!$D$9,0,1))","v":1},{"$f":"IF(O352=\"\",\"\",IF(O352>Inputs!$D$9,0,1))","v":1},{"$f":"IF(COUNT(P352:U352)=0,\"\",INDEX(Inputs!$O$21:$P$26,MATCH(COUNT(P352:U352),Inputs!$O$21:$O$26,0),2))","v":20},1,null,null,{"$f":"IF(D352=\"\",\"\",IF(D352=\"-\",\"\",IF(D352>AVERAGE($D$2:$D$1000),1,0)))","v":1},1,1,1,1,1,1]
[{"$f":"'SIP Returns'!B354","v":0},null,{"$f":"'SIP Returns'!D354","v":0},{"$f":"'SIP Returns'!E354","v":0},{"$f":"'SIP Returns'!F354","v":0},{"$f":"'SIP Returns'!G354","v":0},{"$f":"'SIP Returns'!H354","v":0},{"$f":"'SIP Returns'!I354","v":0},{"$f":"'SIP Returns'!J354","v":0},1,10,8,4,1,1,{"$f":"IF(J353=\"\",\"\",IF(J353>Inputs!$D$9,0,1))","v":1},{"$f":"IF(K353=\"\",\"\",IF(K353>Inputs!$D$9,0,1))","v":1},{"$f":"IF(L353=\"\",\"\",IF(L353>Inputs!$D$9,0,1))","v":1},{"$f":"IF(M353=\"\",\"\",IF(M353>Inputs!$D$9,0,1))","v":1},{"$f":"IF(N353=\"\",\"\",IF(N353>Inputs!$D$9,0,1))","v":1},{"$f":"IF(O353=\"\",\"\",IF(O353>Inputs!$D$9,0,1))","v":1},{"$f":"IF(COUNT(P353:U353)=0,\"\",INDEX(Inputs!$O$21:$P$26,MATCH(COUNT(P353:U353),Inputs!$O$21:$O$26,0),2))","v":20},1,null,null,{"$f":"IF(D353=\"\",\"\",IF(D353=\"-\",\"\",IF(D353>AVERAGE($D$2:$D$1000),1,0)))","v":1},1,1,1,1,1,1]
[{"$f":"'SIP Returns'!B355","v":0},null,{"$f":"'SIP Returns'!D355","v":0},{"$f":"'SIP Returns'!E355","v":0},{"$f":"'SIP Returns'!F355","v":0},{"$f":"'SIP Returns'!G355","v":0},{"$f":"'SIP Returns'!H355","v":0},{"$f":"'SIP Returns'!I355","v":0},{"$f":"'SIP Returns'!J355","v":0},1,10,8,4,1,1,{"$f":"IF(J354=\"\",\"\",IF(J354>Inputs!$D$9,0,1))","v":1},{"$f":"IF(K354=\"\",\"\",IF(K354>Inputs!$D$9,0,1))","v":1},{"$f":"IF(L354=\"\",\"\",IF(L354>Inputs!$D$9,0,1))","v":1},{"$f":"IF(M354=\"\",\"\",IF(M354>Inputs!$D$9,0,1))","v":1},{"$f":"IF(N354=\"\",\"\",IF(N354>Inputs!$D$9,0,1))","v":1},{"$f":"IF(O354=\"\",\"\",IF(O354>Inputs!$D$9,0,1))","v":1},{"$f":"IF(COUNT(P354:U354)=0,\"\",INDEX(Inputs!$O$21:$P$26,MATCH(COUNT(P354:U354),Inputs!$O$21:$O$26,0),2))","v":20},1,null,null,{"$f":"IF(D354=\"\",\"\",IF(D354=\"-\",\"\",IF(D354>AVERAGE($D$2:$D$1000),1,0)))","v":1},1,1,1,1,1,1]
[{"$f":"'SIP Returns'!B356","v":0},null,{"$f":"'SIP Returns'!D356","v":0},{"$f":"'SIP Returns'!E356","v":0},{"$f":"'SIP Returns'!F356","v":0},{"$f":"'SIP Returns'!G356","v":0},{"$f":"'SIP Returns'!H356","v":0},{"$f":"'SIP Returns'!I356","v":0},{"$f":"'SIP Returns'!J356","v":0},1,10,8,4,1,1,{"$f":"IF(J355=\"\",\"\",IF(J355>Inputs!$D$9,0,1))","v":1},{"$f":"IF(K355=\"\",\"\",IF(K355>Inputs!$D$9,0,1))","v":1},{"$f":"IF(L355=\"\",\"\",IF(L355>Inputs!$D$9,0,1))","v":1},{"$f":"IF(M355=\"\",\"\",IF(M355>Inputs!$D$9,0,1))","v":1},{"$f":"IF(N355=\"\",\"\",IF(N355>Inputs!$D$9,0,1))","v":1},{"$f":"IF(O355=\"\",\"\",IF(O355>Inputs!$D$9,0,1))","v":1},{"$f":"IF(COUNT(P355:U355)=0,\"\",INDEX(Inputs!$O$21:$P$26,MATCH(COUNT(P355:U355),Inputs!$O$21:$O$26,0),2))","v":20},1,null,null,{"$f":"IF(D355=\"\",\"\",IF(D355=\"-\",\"\",IF(D355>AVERAGE($D$2:$D$1000),1,0)))","v":1},1,1,1,1,1,1]
[{"$f":"'SIP Returns'!B357","v":0},null,{"$f":"'SIP Returns'!D357","v":0},{"$f":"'SIP Returns'!E357","v":0},{"$f":"'SIP Returns'!F357","v":0},{"$f":"'SIP Returns'!G357","v":0},{"$f":"'SIP Returns'!H357","v":0},{"$f":"'SIP Returns'!I357","v":0},{"$f":"'SIP Returns'!J357","v":0},1,10,8,4,1,1,{"$f":"IF(J356=\"\",\"\",IF(J356>Inputs!$D$9,0,1))","v":1},{"$f":"IF(K356=\"\",\"\",IF(K356>Inputs!$D$9,0,1))","v":1},{"$f":"IF(L356=\"\",\"\",IF(L356>Inputs!$D$9,0,1))","v":1},{"$f":"IF(M356=\"\",\"\",IF(M356>Inputs!$D$9,0,1))","v":1},{"$f":"IF(N356=\"\",\"\",IF(N356>Inputs!$D$9,0,1))","v":1},{"$f":"IF(O356=\"\",\"\",IF(O356>Inputs!$D$9,0,1))","v":1},{"$f":"IF(COUNT(P356:U356)=0,\"\",INDEX(Inputs!$O$21:$P$26,MATCH(COUNT(P356:U356),Inputs!$O$21:$O$26,0),2))","v":20},1,null,null,{"$f":"IF(D356=\"\",\"\",IF(D356=\"-\",\"\",IF(D356>AVERAGE($D$2:$D$1000),1,0)))","v":1},1,1,1,1,1,1]
[{"$f":"'SIP Returns'!B358","v":0},null,{"$f":"'SIP Returns'!D358","v":0},{"$f":"'SIP Returns'!E358","v":0},{"$f":"'SIP Returns'!F358","v":0},{"$f":"'SIP Returns'!G358","v":0},{"$f":"'SIP Returns'!H358","v":0},{"$f":"'SIP Returns'!I358","v":0},{"$f":"'SIP Returns'!J358","v":0},1,10,8,4,1,1,{"$f":"IF(J357=\"\",\"\",IF(J357>Inputs!$D$9,0,1))","v":1},{"$f":"IF(K357=\"\",\"\",IF(K357>Inputs!$D$9,0,1))","v":1},{"$f":"IF(L357=\"\",\"\",IF(L357>Inputs!$D$9,0,1))","v":1},{"$f":"IF(M357=\"\",\"\",IF(M357>Inputs!$D$9,0,1))","v":1},{"$f":"IF(N357=\"\",\"\",IF(N357>Inputs!$D$9,0,1))","v":1},{"$f":"IF(O357=\"\",\"\",IF(O357>Inputs!$D$9,0,1))","v":1},{"$f":"IF(COUNT(P357:U357)=0,\"\",INDEX(Inputs!$O$21:$P$26,MATCH(COUNT(P357:U357),Inputs!$O$21:$O$26,0),2))","v":20},1,null,null,{"$f":"IF(D357=\"\",\"\",IF(D357=\"-\",\"\",IF(D357>AVERAGE($D$2:$D$1000),1,0)))","v":1},1,1,1,1,1,1]
[{"$f":"'SIP Returns'!B359","v":0},null,{"$f":"'SIP Returns'!D359","v":0},{"$f":"'SIP Returns'!E359","v":0},{"$f":"'SIP Returns'!F359","v":0},{"$f":"'SIP Returns'!G359","v":0},{"$f":"'SIP Returns'!H359","v":0},{"$f":"'SIP Returns'!I359","v":0},{"$f":"'SIP Returns'!J359","v":0},1,10,8,4,1,1,{"$f":"IF(J358=\"\",\"\",IF(J358>Inputs!$D$9,0,1))","v":1},{"$f":"IF(K358=\"\",\"\",IF(K358>Inputs!$D$9,0,1))","v":1},{"$f":"IF(L358=\"\",\"\",IF(L358>Inputs!$D$9,0,1))","v":1},{"$f":"IF(M358=\"\",\"\",IF(M358>Inputs!$D$9,0,1))","v":1},{"$f":"IF(N358=\"\",\"\",IF(N358>Inputs!$D$9,0,1))","v":1},{"$f":"IF(O358=\"\",\"\",IF(O358>Inputs!$D$9,0,1))","v":1},{"$f":"IF(COUNT(P358:U358)=0,\"\",INDEX(Inputs!$O$21:$P$26,MATCH(COUNT(P358:U358),Inputs!$O$21:$O$26,0),2))","v":20},1,null,null,{"$f":"IF(D358=\"\",\"\",IF(D358=\"-\",\"\",IF(D358>AVERAGE($D$2:$D$1000),1,0)))","v":1},1,1,1,1,1,1]
[{"$f":"'SIP Returns'!B360","v":0},null,{"$f":"'SIP Returns'!D360","v":0},{"$f":"'SIP Returns'!E360","v":0},{"$f":"'SIP Returns'!F360","v":0},{"$f":"'SIP Returns'!G360","v":0},{"$f":"'SIP Returns'!H360","v":0},{"$f":"'SIP Returns'!I360","v":0},{"$f":"'SIP Returns'!J360","v":0},1,10,8,4,1,1,{"$f":"IF(J359=\"\",\"\",IF(J359>Inputs!$D$9,0,1))","v":1},{"$f":"IF(K359=\"\",\"\",IF(K359>Inputs!$D$9,0,1))","v":1},{"$f":"IF(L359=\"\",\"\",IF(L359>Inputs!$D$9,0,1))","v":1},{"$f":"IF(M359=\"\",\"\",IF(M359>Inputs!$D$9,0,1))","v":1},{"$f":"IF(N359=\"\",\"\",IF(N359>Inputs!$D$9,0,1))","v":1},{"$f":"IF(O359=\"\",\"\",IF(O359>Inputs!$D$9,0,1))","v":1},{"$f":"IF(COUNT(P359:U359)=0,\"\",INDEX(Inputs!$O$21:$P$26,MATCH(COUNT(P359:U359),Inputs!$O$21:$O$26,0),2))","v":20},1,null,null,{"$f":"IF(D359=\"\",\"\",IF(D359=\"-\",\"\",IF(D359>AVERAGE($D$2:$D$1000),1,0)))","v":1},1,1,1,1,1,1]
[{"$f":"'SIP Returns'!B361","v":0},null,{"$f":"'SIP Returns'!D361","v":0},{"$f":"'SIP Returns'!E361","v":0},{"$f":"'SIP Returns'!F361","v":0},{"$f":"'SIP Returns'!G361","v":0},{"$f":"'SIP Returns'!H361","v":0},{"$f":"'SIP Returns'!I361","v":0},{"$f":"'SIP Returns'!J361","v":0},1,10,8,4,1,1,{"$f":"IF(J360=\"\",\"\",IF(J360>Inputs!$D$9,0,1))","v":1},{"$f":"IF(K360=\"\",\"\",IF(K360>Inputs!$D$9,0,1))","v":1},{"$f":"IF(L360=\"\",\"\",IF(L360>Inputs!$D$9,0,1))","v":1},{"$f":"IF(M360=\"\",\"\",IF(M360>Inputs!$D$9,0,1))","v":1},{"$f":"IF(N360=\"\",\"\",IF(N360>Inputs!$D$9,0,1))","v":1},{"$f":"IF(O360=\"\",\"\",IF(O360>Inputs!$D$9,0,1))","v":1},{"$f":"IF(COUNT(P360:U360)=0,\"\",INDEX(Inputs!$O$21:$P$26,MATCH(COUNT(P360:U360),Inputs!$O$21:$O$26,0),2))","v":20},1,null,null,{"$f":"IF(D360=\"\",\"\",IF(D360=\"-\",\"\",IF(D360>AVERAGE($D$2:$D$1000),1,0)))","v":1},1,1,1,1,1,1]
[{"$f":"'SIP Returns'!B362","v":0},null,{"$f":"'SIP Returns'!D362","v":0},{"$f":"'SIP Returns'!E362","v":0},{"$f":"'SIP Returns'!F362","v":0},{"$f":"'SIP Returns'!G362","v":0},{"$f":"'SIP Returns'!H362","v":0},{"$f":"'SIP Returns'!I362","v":0},{"$f":"'SIP Returns'!J362","v":0},1,10,8,4,1,1,{"$f":"IF(J361=\"\",\"\",IF(J361>Inputs!$D$9,0,1))","v":1},{"$f":"IF(K361=\"\",\"\",IF(K361>Inputs!$D$9,0,1))","v":1},{"$f":"IF(L361=\"\",\"\",IF(L361>Inputs!$D$9,0,1))","v":1},{"$f":"IF(M361=\"\",\"\",IF(M361>Inputs!$D$9,0,1))","v":1},{"$f":"IF(N361=\"\",\"\",IF(N361>Inputs!$D$9,0,1))","v":1},{"$f":"IF(O361=\"\",\"\",IF(O361>Inputs!$D$9,0,1))","v":1},{"$f":"IF(COUNT(P361:U361)=0,\"\",INDEX(Inputs!$O$21:$P$26,MATCH(COUNT(P361:U361),Inputs!$O$21:$O$26,0),2))","v":20},1,null,null,{"$f":"IF(D361=\"\",\"\",IF(D361=\"-\",\"\",IF(D361>AVERAGE($D$2:$D$1000),1,0)))","v":1},1,1,1,1,1,1]
[{"$f":"'SIP Returns'!B363","v":0},null,{"$f":"'SIP Returns'!D363","v":0},{"$f":"'SIP Returns'!E363","v":0},{"$f":"'SIP Returns'!F363","v":0},{"$f":"'SIP Returns'!G363","v":0},{"$f":"'SIP Returns'!H363","v":0},{"$f":"'SIP Returns'!I363","v":0},{"$f":"'SIP Returns'!J363","v":0},1,10,8,4,1,1,{"$f":"IF(J362=\"\",\"\",IF(J362>Inputs!$D$9,0,1))","v":1},{"$f":"IF(K362=\"\",\"\",IF(K362>Inputs!$D$9,0,1))","v":1},{"$f":"IF(L362=\"\",\"\",IF(L362>Inputs!$D$9,0,1))","v":1},{"$f":"IF(M362=\"\",\"\",IF(M362>Inputs!$D$9,0,1))","v":1},{"$f":"IF(N362=\"\",\"\",IF(N362>Inputs!$D$9,0,1))","v":1},{"$f":"IF(O362=\"\",\"\",IF(O362>Inputs!$D$9,0,1))","v":1},{"$f":"IF(COUNT(P362:U362)=0,\"\",INDEX(Inputs!$O$21:$P$26,MATCH(COUNT(P362:U362),Inputs!$O$21:$O$26,0),2))","v":20},1,null,null,{"$f":"IF(D362=\"\",\"\",IF(D362=\"-\",\"\",IF(D362>AVERAGE($D$2:$D$1000),1,0)))","v":1},1,1,1,1,1,1]
[{"$f":"'SIP Returns'!B364","v":0},null,{"$f":"'SIP Returns'!D364","v":0},{"$f":"'SIP Returns'!E364","v":0},{"$f":"'SIP Returns'!F364","v":0},{"$f":"'SIP Returns'!G364","v":0},{"$f":"'SIP Returns'!H364","v":0},{"$f":"'SIP Returns'!I364","v":0},{"$f":"'SIP Returns'!J364","v":0},1,10,8,4,1,1,{"$f":"IF(J363=\"\",\"\",IF(J363>Inputs!$D$9,0,1))","v":1},{"$f":"IF(K363=\"\",\"\",IF(K363>Inputs!$D$9,0,1))","v":1},{"$f":"IF(L363=\"\",\"\",IF(L363>Inputs!$D$9,0,1))","v":1},{"$f":"IF(M363=\"\",\"\",IF(M363>Inputs!$D$9,0,1))","v":1},{"$f":"IF(N363=\"\",\"\",IF(N363>Inputs!$D$9,0,1))","v":1},{"$f":"IF(O363=\"\",\"\",IF(O363>Inputs!$D$9,0,1))","v":1},{"$f":"IF(COUNT(P363:U363)=0,\"\",INDEX(Inputs!$O$21:$P$26,MATCH(COUNT(P363:U363),Inputs!$O$21:$O$26,0),2))","v":20},1,null,null,{"$f":"IF(D363=\"\",\"\",IF(D363=\"-\",\"\",IF(D363>AVERAGE($D$2:$D$1000),1,0)))","v":1},1,1,1,1,1,1]
[{"$f":"'SIP Returns'!B365","v":0},null,{"$f":"'SIP Returns'!D365","v":0},{"$f":"'SIP Returns'!E365","v":0},{"$f":"'SIP Returns'!F365","v":0},{"$f":"'SIP Returns'!G365","v":0},{"$f":"'SIP Returns'!H365","v":0},{"$f":"'SIP Returns'!I365","v":0},{"$f":"'SIP Returns'!J365","v":0},1,10,8,4,1,1,{"$f":"IF(J364=\"\",\"\",IF(J364>Inputs!$D$9,0,1))","v":1},{"$f":"IF(K364=\"\",\"\",IF(K364>Inputs!$D$9,0,1))","v":1},{"$f":"IF(L364=\"\",\"\",IF(L364>Inputs!$D$9,0,1))","v":1},{"$f":"IF(M364=\"\",\"\",IF(M364>Inputs!$D$9,0,1))","v":1},{"$f":"IF(N364=\"\",\"\",IF(N364>Inputs!$D$9,0,1))","v":1},{"$f":"IF(O364=\"\",\"\",IF(O364>Inputs!$D$9,0,1))","v":1},{"$f":"IF(COUNT(P364:U364)=0,\"\",INDEX(Inputs!$O$21:$P$26,MATCH(COUNT(P364:U364),Inputs!$O$21:$O$26,0),2))","v":20},1,null,null,{"$f":"IF(D364=\"\",\"\",IF(D364=\"-\",\"\",IF(D364>AVERAGE($D$2:$D$1000),1,0)))","v":1},1,1,1,1,1,1]
[{"$f":"'SIP Returns'!B366","v":0},null,{"$f":"'SIP Returns'!D366","v":0},{"$f":"'SIP Returns'!E366","v":0},{"$f":"'SIP Returns'!F366","v":0},{"$f":"'SIP Returns'!G366","v":0},{"$f":"'SIP Returns'!H366","v":0},{"$f":"'SIP Returns'!I366","v":0},{"$f":"'SIP Returns'!J366","v":0},1,10,8,4,1,1,{"$f":"IF(J365=\"\",\"\",IF(J365>Inputs!$D$9,0,1))","v":1},{"$f":"IF(K365=\"\",\"\",IF(K365>Inputs!$D$9,0,1))","v":1},{"$f":"IF(L365=\"\",\"\",IF(L365>Inputs!$D$9,0,1))","v":1},{"$f":"IF(M365=\"\",\"\",IF(M365>Inputs!$D$9,0,1))","v":1},{"$f":"IF(N365=\"\",\"\",IF(N365>Inputs!$D$9,0,1))","v":1},{"$f":"IF(O365=\"\",\"\",IF(O365>Inputs!$D$9,0,1))","v":1},{"$f":"IF(COUNT(P365:U365)=0,\"\",INDEX(Inputs!$O$21:$P$26,MATCH(COUNT(P365:U365),Inputs!$O$21:$O$26,0),2))","v":20},1,null,null,{"$f":"IF(D365=\"\",\"\",IF(D365=\"-\",\"\",IF(D365>AVERAGE($D$2:$D$1000),1,0)))","v":1},1,1,1,1,1,1]
[{"$f":"'SIP Returns'!B367","v":0},null,{"$f":"'SIP Returns'!D367","v":0},{"$f":"'SIP Returns'!E367","v":0},{"$f":"'SIP Returns'!F367","v":0},{"$f":"'SIP Returns'!G367","v":0},{"$f":"'SIP Returns'!H367","v":0},{"$f":"'SIP Returns'!I367","v":0},{"$f":"'SIP Returns'!J367","v":0},1,10,8,4,1,1,{"$f":"IF(J366=\"\",\"\",IF(J366>Inputs!$D$9,0,1))","v":1},{"$f":"IF(K366=\"\",\"\",IF(K366>Inputs!$D$9,0,1))","v":1},{"$f":"IF(L366=\"\",\"\",IF(L366>Inputs!$D$9,0,1))","v":1},{"$f":"IF(M366=\"\",\"\",IF(M366>Inputs!$D$9,0,1))","v":1},{"$f":"IF(N366=\"\",\"\",IF(N366>Inputs!$D$9,0,1))","v":1},{"$f":"IF(O366=\"\",\"\",IF(O366>Inputs!$D$9,0,1))","v":1},{"$f":"IF(COUNT(P366:U366)=0,\"\",INDEX(Inputs!$O$21:$P$26,MATCH(COUNT(P366:U366),Inputs!$O$21:$O$26,0),2))","v":20},1,null,null,{"$f":"IF(D366=\"\",\"\",IF(D366=\"-\",\"\",IF(D366>AVERAGE($D$2:$D$1000),1,0)))","v":1},1,1,1,1,1,1]
[{"$f":"'SIP Returns'!B368","v":0},null,{"$f":"'SIP Returns'!D368","v":0},{"$f":"'SIP Returns'!E368","v":0},{"$f":"'SIP Returns'!F368","v":0},{"$f":"'SIP Returns'!G368","v":0},{"$f":"'SIP Returns'!H368","v":0},{"$f":"'SIP Returns'!I368","v":0},{"$f":"'SIP Returns'!J368","v":0},1,10,8,4,1,1,{"$f":"IF(J367=\"\",\"\",IF(J367>Inputs!$D$9,0,1))","v":1},{"$f":"IF(K367=\"\",\"\",IF(K367>Inputs!$D$9,0,1))","v":1},{"$f":"IF(L367=\"\",\"\",IF(L367>Inputs!$D$9,0,1))","v":1},{"$f":"IF(M367=\"\",\"\",IF(M367>Inputs!$D$9,0,1))","v":1},{"$f":"IF(N367=\"\",\"\",IF(N367>Inputs!$D$9,0,1))","v":1},{"$f":"IF(O367=\"\",\"\",IF(O367>Inputs!$D$9,0,1))","v":1},{"$f":"IF(COUNT(P367:U367)=0,\"\",INDEX(Inputs!$O$21:$P$26,MATCH(COUNT(P367:U367),Inputs!$O$21:$O$26,0),2))","v":20},1,null,null,{"$f":"IF(D367=\"\",\"\",IF(D367=\"-\",\"\",IF(D367>AVERAGE($D$2:$D$1000),1,0)))","v":1},1,1,1,1,1,1]
[{"$f":"'SIP Returns'!B369","v":0},null,{"$f":"'SIP Returns'!D369","v":0},{"$f":"'SIP Returns'!E369","v":0},{"$f":"'SIP Returns'!F369","v":0},{"$f":"'SIP Returns'!G369","v":0},{"$f":"'SIP Returns'!H369","v":0},{"$f":"'SIP Returns'!I369","v":0},{"$f":"'SIP Returns'!J369","v":0},1,10,8,4,1,1,{"$f":"IF(J368=\"\",\"\",IF(J368>Inputs!$D$9,0,1))","v":1},{"$f":"IF(K368=\"\",\"\",IF(K368>Inputs!$D$9,0,1))","v":1},{"$f":"IF(L368=\"\",\"\",IF(L368>Inputs!$D$9,0,1))","v":1},{"$f":"IF(M368=\"\",\"\",IF(M368>Inputs!$D$9,0,1))","v":1},{"$f":"IF(N368=\"\",\"\",IF(N368>Inputs!$D$9,0,1))","v":1},{"$f":"IF(O368=\"\",\"\",IF(O368>Inputs!$D$9,0,1))","v":1},{"$f":"IF(COUNT(P368:U368)=0,\"\",INDEX(Inputs!$O$21:$P$26,MATCH(COUNT(P368:U368),Inputs!$O$21:$O$26,0),2))","v":20},1,null,null,{"$f":"IF(D368=\"\",\"\",IF(D368=\"-\",\"\",IF(D368>AVERAGE($D$2:$D$1000),1,0)))","v":1},1,1,1,1,1,1]
[{"$f":"'SIP Returns'!B370","v":0},null,{"$f":"'SIP Returns'!D370","v":0},{"$f":"'SIP Returns'!E370","v":0},{"$f":"'SIP Returns'!F370","v":0},{"$f":"'SIP Returns'!G370","v":0},{"$f":"'SIP Returns'!H370","v":0},{"$f":"'SIP Returns'!I370","v":0},{"$f":"'SIP Returns'!J370","v":0},1,10,8,4,1,1,{"$f":"IF(J369=\"\",\"\",IF(J369>Inputs!$D$9,0,1))","v":1},{"$f":"IF(K369=\"\",\"\",IF(K369>Inputs!$D$9,0,1))","v":1},{"$f":"IF(L369=\"\",\"\",IF(L369>Inputs!$D$9,0,1))","v":1},{"$f":"IF(M369=\"\",\"\",IF(M369>Inputs!$D$9,0,1))","v":1},{"$f":"IF(N369=\"\",\"\",IF(N369>Inputs!$D$9,0,1))","v":1},{"$f":"IF(O369=\"\",\"\",IF(O369>Inputs!$D$9,0,1))","v":1},{"$f":"IF(COUNT(P369:U369)=0,\"\",INDEX(Inputs!$O$21:$P$26,MATCH(COUNT(P369:U369),Inputs!$O$21:$O$26,0),2))","v":20},1,null,null,{"$f":"IF(D369=\"\",\"\",IF(D369=\"-\",\"\",IF(D369>AVERAGE($D$2:$D$1000),1,0)))","v":1},1,1,1,1,1,1]
[{"$f":"'SIP Returns'!B371","v":0},null,{"$f":"'SIP Returns'!D371","v":0},{"$f":"'SIP Returns'!E371","v":0},{"$f":"'SIP Returns'!F371","v":0},{"$f":"'SIP Returns'!G371","v":0},{"$f":"'SIP Returns'!H371","v":0},{"$f":"'SIP Returns'!I371","v":0},{"$f":"'SIP Returns'!J371","v":0},1,10,8,4,1,1,{"$f":"IF(J370=\"\",\"\",IF(J370>Inputs!$D$9,0,1))","v":1},{"$f":"IF(K370=\"\",\"\",IF(K370>Inputs!$D$9,0,1))","v":1},{"$f":"IF(L370=\"\",\"\",IF(L370>Inputs!$D$9,0,1))","v":1},{"$f":"IF(M370=\"\",\"\",IF(M370>Inputs!$D$9,0,1))","v":1},{"$f":"IF(N370=\"\",\"\",IF(N370>Inputs!$D$9,0,1))","v":1},{"$f":"IF(O370=\"\",\"\",IF(O370>Inputs!$D$9,0,1))","v":1},{"$f":"IF(COUNT(P370:U370)=0,\"\",INDEX(Inputs!$O$21:$P$26,MATCH(COUNT(P370:U370),Inputs!$O$21:$O$26,0),2))","v":20},1,null,null,{"$f":"IF(D370=\"\",\"\",IF(D370=\"-\",\"\",IF(D370>AVERAGE($D$2:$D$1000),1,0)))","v":1},1,1,1,1,1,1]
[{"$f":"'SIP Returns'!B372","v":0},null,{"$f":"'SIP Returns'!D372","v":0},{"$f":"'SIP Returns'!E372","v":0},{"$f":"'SIP Returns'!F372","v":0},{"$f":"'SIP Returns'!G372","v":0},{"$f":"'SIP Returns'!H372","v":0},{"$f":"'SIP Returns'!I372","v":0},{"$f":"'SIP Returns'!J372","v":0},1,10,8,4,1,1,{"$f":"IF(J371=\"\",\"\",IF(J371>Inputs!$D$9,0,1))","v":1},{"$f":"IF(K371=\"\",\"\",IF(K371>Inputs!$D$9,0,1))","v":1},{"$f":"IF(L371=\"\",\"\",IF(L371>Inputs!$D$9,0,1))","v":1},{"$f":"IF(M371=\"\",\"\",IF(M371>Inputs!$D$9,0,1))","v":1},{"$f":"IF(N371=\"\",\"\",IF(N371>Inputs!$D$9,0,1))","v":1},{"$f":"IF(O371=\"\",\"\",IF(O371>Inputs!$D$9,0,1))","v":1},{"$f":"IF(COUNT(P371:U371)=0,\"\",INDEX(Inputs!$O$21:$P$26,MATCH(COUNT(P371:U371),Inputs!$O$21:$O$26,0),2))","v":20},1,null,null,{"$f":"IF(D371=\"\",\"\",IF(D371=\"-\",\"\",IF(D371>AVERAGE($D$2:$D$1000),1,0)))","v":1},1,1,1,1,1,1]
[{"$f":"'SIP Returns'!B373","v":0},null,{"$f":"'SIP Returns'!D373","v":0},{"$f":"'SIP Returns'!E373","v":0},{"$f":"'SIP Returns'!F373","v":0},{"$f":"'SIP Returns'!G373","v":0},{"$f":"'SIP Returns'!H373","v":0},{"$f":"'SIP Returns'!I373","v":0},{"$f":"'SIP Returns'!J373","v":0},1,10,8,4,1,1,{"$f":"IF(J372=\"\",\"\",IF(J372>Inputs!$D$9,0,1))","v":1},{"$f":"IF(K372=\"\",\"\",IF(K372>Inputs!$D$9,0,1))","v":1},{"$f":"IF(L372=\"\",\"\",IF(L372>Inputs!$D$9,0,1))","v":1},{"$f":"IF(M372=\"\",\"\",IF(M372>Inputs!$D$9,0,1))","v":1},{"$f":"IF(N372=\"\",\"\",IF(N372>Inputs!$D$9,0,1))","v":1},{"$f":"IF(O372=\"\",\"\",IF(O372>Inputs!$D$9,0,1))","v":1},{"$f":"IF(COUNT(P372:U372)=0,\"\",INDEX(Inputs!$O$21:$P$26,MATCH(COUNT(P372:U372),Inputs!$O$21:$O$26,0),2))","v":20},1,null,null,{"$f":"IF(D372=\"\",\"\",IF(D372=\"-\",\"\",IF(D372>AVERAGE($D$2:$D$1000),1,0)))","v":1},1,1,1,1,1,1]
[{"$f":"'SIP Returns'!B374","v":0},null,{"$f":"'SIP Returns'!D374","v":0},{"$f":"'SIP Returns'!E374","v":0},{"$f":"'SIP Returns'!F374","v":0},{"$f":"'SIP Returns'!G374","v":0},{"$f":"'SIP Returns'!H374","v":0},{"$f":"'SIP Returns'!I374","v":0},{"$f":"'SIP Returns'!J374","v":0},1,10,8,4,1,1,{"$f":"IF(J373=\"\",\"\",IF(J373>Inputs!$D$9,0,1))","v":1},{"$f":"IF(K373=\"\",\"\",IF(K373>Inputs!$D$9,0,1))","v":1},{"$f":"IF(L373=\"\",\"\",IF(L373>Inputs!$D$9,0,1))","v":1},{"$f":"IF(M373=\"\",\"\",IF(M373>Inputs!$D$9,0,1))","v":1},{"$f":"IF(N373=\"\",\"\",IF(N373>Inputs!$D$9,0,1))","v":1},{"$f":"IF(O373=\"\",\"\",IF(O373>Inputs!$D$9,0,1))","v":1},{"$f":"IF(COUNT(P373:U373)=0,\"\",INDEX(Inputs!$O$21:$P$26,MATCH(COUNT(P373:U373),Inputs!$O$21:$O$26,0),2))","v":20},1,null,null,{"$f":"IF(D373=\"\",\"\",IF(D373=\"-\",\"\",IF(D373>AVERAGE($D$2:$D$1000),1,0)))","v":1},1,1,1,1,1,1]
[{"$f":"'SIP Returns'!B375","v":0},null,{"$f":"'SIP Returns'!D375","v":0},{"$f":"'SIP Returns'!E375","v":0},{"$f":"'SIP Returns'!F375","v":0},{"$f":"'SIP Returns'!G375","v":0},{"$f":"'SIP Returns'!H375","v":0},{"$f":"'SIP Returns'!I375","v":0},{"$f":"'SIP Returns'!J375","v":0},1,10,8,4,1,1,{"$f":"IF(J374=\"\",\"\",IF(J374>Inputs!$D$9,0,1))","v":1},{"$f":"IF(K374=\"\",\"\",IF(K374>Inputs!$D$9,0,1))","v":1},{"$f":"IF(L374=\"\",\"\",IF(L374>Inputs!$D$9,0,1))","v":1},{"$f":"IF(M374=\"\",\"\",IF(M374>Inputs!$D$9,0,1))","v":1},{"$f":"IF(N374=\"\",\"\",IF(N374>Inputs!$D$9,0,1))","v":1},{"$f":"IF(O374=\"\",\"\",IF(O374>Inputs!$D$9,0,1))","v":1},{"$f":"IF(COUNT(P374:U374)=0,\"\",INDEX(Inputs!$O$21:$P$26,MATCH(COUNT(P374:U374),Inputs!$O$21:$O$26,0),2))","v":20},1,null,null,{"$f":"IF(D374=\"\",\"\",IF(D374=\"-\",\"\",IF(D374>AVERAGE($D$2:$D$1000),1,0)))","v":1},1,1,1,1,1,1]
[{"$f":"'SIP Returns'!B376","v":0},null,{"$f":"'SIP Returns'!D376","v":0},{"$f":"'SIP Returns'!E376","v":0},{"$f":"'SIP Returns'!F376","v":0},{"$f":"'SIP Returns'!G376","v":0},{"$f":"'SIP Returns'!H376","v":0},{"$f":"'SIP Returns'!I376","v":0},{"$f":"'SIP Returns'!J376","v":0},1,10,8,4,1,1,{"$f":"IF(J375=\"\",\"\",IF(J375>Inputs!$D$9,0,1))","v":1},{"$f":"IF(K375=\"\",\"\",IF(K375>Inputs!$D$9,0,1))","v":1},{"$f":"IF(L375=\"\",\"\",IF(L375>Inputs!$D$9,0,1))","v":1},{"$f":"IF(M375=\"\",\"\",IF(M375>Inputs!$D$9,0,1))","v":1},{"$f":"IF(N375=\"\",\"\",IF(N375>Inputs!$D$9,0,1))","v":1},{"$f":"IF(O375=\"\",\"\",IF(O375>Inputs!$D$9,0,1))","v":1},{"$f":"IF(COUNT(P375:U375)=0,\"\",INDEX(Inputs!$O$21:$P$26,MATCH(COUNT(P375:U375),Inputs!$O$21:$O$26,0),2))","v":20},1,null,null,{"$f":"IF(D375=\"\",\"\",IF(D375=\"-\",\"\",IF(D375>AVERAGE($D$2:$D$1000),1,0)))","v":1},1,1,1,1,1,1]
[{"$f":"'SIP Returns'!B377","v":0},null,{"$f":"'SIP Returns'!D377","v":0},{"$f":"'SIP Returns'!E377","v":0},{"$f":"'SIP Returns'!F377","v":0},{"$f":"'SIP Returns'!G377","v":0},{"$f":"'SIP Returns'!H377","v":0},{"$f":"'SIP Returns'!I377","v":0},{"$f":"'SIP Returns'!J377","v":0},1,10,8,4,1,1,{"$f":"IF(J376=\"\",\"\",IF(J376>Inputs!$D$9,0,1))","v":1},{"$f":"IF(K376=\"\",\"\",IF(K376>Inputs!$D$9,0,1))","v":1},{"$f":"IF(L376=\"\",\"\",IF(L376>Inputs!$D$9,0,1))","v":1},{"$f":"IF(M376=\"\",\"\",IF(M376>Inputs!$D$9,0,1))","v":1},{"$f":"IF(N376=\"\",\"\",IF(N376>Inputs!$D$9,0,1))","v":1},{"$f":"IF(O376=\"\",\"\",IF(O376>Inputs!$D$9,0,1))","v":1},{"$f":"IF(COUNT(P376:U376)=0,\"\",INDEX(Inputs!$O$21:$P$26,MATCH(COUNT(P376:U376),Inputs!$O$21:$O$26,0),2))","v":20},1,null,null,{"$f":"IF(D376=\"\",\"\",IF(D376=\"-\",\"\",IF(D376>AVERAGE($D$2:$D$1000),1,0)))","v":1},1,1,1,1,1,1]
[{"$f":"'SIP Returns'!B378","v":0},null,{"$f":"'SIP Returns'!D378","v":0},{"$f":"'SIP Returns'!E378","v":0},{"$f":"'SIP Returns'!F378","v":0},{"$f":"'SIP Returns'!G378","v":0},{"$f":"'SIP Returns'!H378","v":0},{"$f":"'SIP Returns'!I378","v":0},{"$f":"'SIP Returns'!J378","v":0},1,10,8,4,1,1,{"$f":"IF(J377=\"\",\"\",IF(J377>Inputs!$D$9,0,1))","v":1},{"$f":"IF(K377=\"\",\"\",IF(K377>Inputs!$D$9,0,1))","v":1},{"$f":"IF(L377=\"\",\"\",IF(L377>Inputs!$D$9,0,1))","v":1},{"$f":"IF(M377=\"\",\"\",IF(M377>Inputs!$D$9,0,1))","v":1},{"$f":"IF(N377=\"\",\"\",IF(N377>Inputs!$D$9,0,1))","v":1},{"$f":"IF(O377=\"\",\"\",IF(O377>Inputs!$D$9,0,1))","v":1},{"$f":"IF(COUNT(P377:U377)=0,\"\",INDEX(Inputs!$O$21:$P$26,MATCH(COUNT(P377:U377),Inputs!$O$21:$O$26,0),2))","v":20},1,null,null,{"$f":"IF(D377=\"\",\"\",IF(D377=\"-\",\"\",IF(D377>AVERAGE($D$2:$D$1000),1,0)))","v":1},1,1,1,1,1,1]
[{"$f":"'SIP Returns'!B379","v":0},null,{"$f":"'SIP Returns'!D379","v":0},{"$f":"'SIP Returns'!E379","v":0},{"$f":"'SIP Returns'!F379","v":0},{"$f":"'SIP Returns'!G379","v":0},{"$f":"'SIP Returns'!H379","v":0},{"$f":"'SIP Returns'!I379","v":0},{"$f":"'SIP Returns'!J379","v":0},1,10,8,4,1,1,{"$f":"IF(J378=\"\",\"\",IF(J378>Inputs!$D$9,0,1))","v":1},{"$f":"IF(K378=\"\",\"\",IF(K378>Inputs!$D$9,0,1))","v":1},{"$f":"IF(L378=\"\",\"\",IF(L378>Inputs!$D$9,0,1))","v":1},{"$f":"IF(M378=\"\",\"\",IF(M378>Inputs!$D$9,0,1))","v":1},{"$f":"IF(N378=\"\",\"\",IF(N378>Inputs!$D$9,0,1))","v":1},{"$f":"IF(O378=\"\",\"\",IF(O378>Inputs!$D$9,0,1))","v":1},{"$f":"IF(COUNT(P378:U378)=0,\"\",INDEX(Inputs!$O$21:$P$26,MATCH(COUNT(P378:U378),Inputs!$O$21:$O$26,0),2))","v":20},1,null,null,{"$f":"IF(D378=\"\",\"\",IF(D378=\"-\",\"\",IF(D378>AVERAGE($D$2:$D$1000),1,0)))","v":1},1,1,1,1,1,1]
[{"$f":"'SIP Returns'!B380","v":0},null,{"$f":"'SIP Returns'!D380","v":0},{"$f":"'SIP Returns'!E380","v":0},{"$f":"'SIP Returns'!F380","v":0},{"$f":"'SIP Returns'!G380","v":0},{"$f":"'SIP Returns'!H380","v":0},{"$f":"'SIP Returns'!I380","v":0},{"$f":"'SIP Returns'!J380","v":0},1,10,8,4,1,1,{"$f":"IF(J379=\"\",\"\",IF(J379>Inputs!$D$9,0,1))","v":1},{"$f":"IF(K379=\"\",\"\",IF(K379>Inputs!$D$9,0,1))","v":1},{"$f":"IF(L379=\"\",\"\",IF(L379>Inputs!$D$9,0,1))","v":1},{"$f":"IF(M379=\"\",\"\",IF(M379>Inputs!$D$9,0,1))","v":1},{"$f":"IF(N379=\"\",\"\",IF(N379>Inputs!$D$9,0,1))","v":1},{"$f":"IF(O379=\"\",\"\",IF(O379>Inputs!$D$9,0,1))","v":1},{"$f":"IF(COUNT(P379:U379)=0,\"\",INDEX(Inputs!$O$21:$P$26,MATCH(COUNT(P379:U379),Inputs!$O$21:$O$26,0),2))","v":20},1,null,null,{"$f":"IF(D379=\"\",\"\",IF(D379=\"-\",\"\",IF(D379>AVERAGE($D$2:$D$1000),1,0)))","v":1},1,1,1,1,1,1]
[{"$f":"'SIP Returns'!B381","v":0},null,{"$f":"'SIP Returns'!D381","v":0},{"$f":"'SIP Returns'!E381","v":0},{"$f":"'SIP Returns'!F381","v":0},{"$f":"'SIP Returns'!G381","v":0},{"$f":"'SIP Returns'!H381","v":0},{"$f":"'SIP Returns'!I381","v":0},{"$f":"'SIP Returns'!J381","v":0},1,10,8,4,1,1,{"$f":"IF(J380=\"\",\"\",IF(J380>Inputs!$D$9,0,1))","v":1},{"$f":"IF(K380=\"\",\"\",IF(K380>Inputs!$D$9,0,1))","v":1},{"$f":"IF(L380=\"\",\"\",IF(L380>Inputs!$D$9,0,1))","v":1},{"$f":"IF(M380=\"\",\"\",IF(M380>Inputs!$D$9,0,1))","v":1},{"$f":"IF(N380=\"\",\"\",IF(N380>Inputs!$D$9,0,1))","v":1},{"$f":"IF(O380=\"\",\"\",IF(O380>Inputs!$D$9,0,1))","v":1},{"$f":"IF(COUNT(P380:U380)=0,\"\",INDEX(Inputs!$O$21:$P$26,MATCH(COUNT(P380:U380),Inputs!$O$21:$O$26,0),2))","v":20},1,null,null,{"$f":"IF(D380=\"\",\"\",IF(D380=\"-\",\"\",IF(D380>AVERAGE($D$2:$D$1000),1,0)))","v":1},1,1,1,1,1,1]
[{"$f":"'SIP Returns'!B382","v":0},null,{"$f":"'SIP Returns'!D382","v":0},{"$f":"'SIP Returns'!E382","v":0},{"$f":"'SIP Returns'!F382","v":0},{"$f":"'SIP Returns'!G382","v":0},{"$f":"'SIP Returns'!H382","v":0},{"$f":"'SIP Returns'!I382","v":0},{"$f":"'SIP Returns'!J382","v":0},1,10,8,4,1,1,{"$f":"IF(J381=\"\",\"\",IF(J381>Inputs!$D$9,0,1))","v":1},{"$f":"IF(K381=\"\",\"\",IF(K381>Inputs!$D$9,0,1))","v":1},{"$f":"IF(L381=\"\",\"\",IF(L381>Inputs!$D$9,0,1))","v":1},{"$f":"IF(M381=\"\",\"\",IF(M381>Inputs!$D$9,0,1))","v":1},{"$f":"IF(N381=\"\",\"\",IF(N381>Inputs!$D$9,0,1))","v":1},{"$f":"IF(O381=\"\",\"\",IF(O381>Inputs!$D$9,0,1))","v":1},{"$f":"IF(COUNT(P381:U381)=0,\"\",INDEX(Inputs!$O$21:$P$26,MATCH(COUNT(P381:U381),Inputs!$O$21:$O$26,0),2))","v":20},1,null,null,{"$f":"IF(D381=\"\",\"\",IF(D381=\"-\",\"\",IF(D381>AVERAGE($D$2:$D$1000),1,0)))","v":1},1,1,1,1,1,1]
[{"$f":"'SIP Returns'!B383","v":0},null,{"$f":"'SIP Returns'!D383","v":0},{"$f":"'SIP Returns'!E383","v":0},{"$f":"'SIP Returns'!F383","v":0},{"$f":"'SIP Returns'!G383","v":0},{"$f":"'SIP Returns'!H383","v":0},{"$f":"'SIP Returns'!I383","v":0},{"$f":"'SIP Returns'!J383","v":0},1,10,8,4,1,1,{"$f":"IF(J382=\"\",\"\",IF(J382>Inputs!$D$9,0,1))","v":1},{"$f":"IF(K382=\"\",\"\",IF(K382>Inputs!$D$9,0,1))","v":1},{"$f":"IF(L382=\"\",\"\",IF(L382>Inputs!$D$9,0,1))","v":1},{"$f":"IF(M382=\"\",\"\",IF(M382>Inputs!$D$9,0,1))","v":1},{"$f":"IF(N382=\"\",\"\",IF(N382>Inputs!$D$9,0,1))","v":1},{"$f":"IF(O382=\"\",\"\",IF(O382>Inputs!$D$9,0,1))","v":1},{"$f":"IF(COUNT(P382:U382)=0,\"\",INDEX(Inputs!$O$21:$P$26,MATCH(COUNT(P382:U382),Inputs!$O$21:$O$26,0),2))","v":20},1,null,null,{"$f":"IF(D382=\"\",\"\",IF(D382=\"-\",\"\",IF(D382>AVERAGE($D$2:$D$1000),1,0)))","v":1},1,1,1,1,1,1]
[{"$f":"'SIP Returns'!B384","v":0},null,{"$f":"'SIP Returns'!D384","v":0},{"$f":"'SIP Returns'!E384","v":0},{"$f":"'SIP Returns'!F384","v":0},{"$f":"'SIP Returns'!G384","v":0},{"$f":"'SIP Returns'!H384","v":0},{"$f":"'SIP Returns'!I384","v":0},{"$f":"'SIP Returns'!J384","v":0},1,10,8,4,1,1,{"$f":"IF(J383=\"\",\"\",IF(J383>Inputs!$D$9,0,1))","v":1},{"$f":"IF(K383=\"\",\"\",IF(K383>Inputs!$D$9,0,1))","v":1},{"$f":"IF(L383=\"\",\"\",IF(L383>Inputs!$D$9,0,1))","v":1},{"$f":"IF(M383=\"\",\"\",IF(M383>Inputs!$D$9,0,1))","v":1},{"$f":"IF(N383=\"\",\"\",IF(N383>Inputs!$D$9,0,1))","v":1},{"$f":"IF(O383=\"\",\"\",IF(O383>Inputs!$D$9,0,1))","v":1},{"$f":"IF(COUNT(P383:U383)=0,\"\",INDEX(Inputs!$O$21:$P$26,MATCH(COUNT(P383:U383),Inputs!$O$21:$O$26,0),2))","v":20},1,null,null,{"$f":"IF(D383=\"\",\"\",IF(D383=\"-\",\"\",IF(D383>AVERAGE($D$2:$D$1000),1,0)))","v":1},1,1,1,1,1,1]
[{"$f":"'SIP Returns'!B385","v":0},null,{"$f":"'SIP Returns'!D385","v":0},{"$f":"'SIP Returns'!E385","v":0},{"$f":"'SIP Returns'!F385","v":0},{"$f":"'SIP Returns'!G385","v":0},{"$f":"'SIP Returns'!H385","v":0},{"$f":"'SIP Returns'!I385","v":0},{"$f":"'SIP Returns'!J385","v":0},1,10,8,4,1,1,{"$f":"IF(J384=\"\",\"\",IF(J384>Inputs!$D$9,0,1))","v":1},{"$f":"IF(K384=\"\",\"\",IF(K384>Inputs!$D$9,0,1))","v":1},{"$f":"IF(L384=\"\",\"\",IF(L384>Inputs!$D$9,0,1))","v":1},{"$f":"IF(M384=\"\",\"\",IF(M384>Inputs!$D$9,0,1))","v":1},{"$f":"IF(N384=\"\",\"\",IF(N384>Inputs!$D$9,0,1))","v":1},{"$f":"IF(O384=\"\",\"\",IF(O384>Inputs!$D$9,0,1))","v":1},{"$f":"IF(COUNT(P384:U384)=0,\"\",INDEX(Inputs!$O$21:$P$26,MATCH(COUNT(P384:U384),Inputs!$O$21:$O$26,0),2))","v":20},1,null,null,{"$f":"IF(D384=\"\",\"\",IF(D384=\"-\",\"\",IF(D384>AVERAGE($D$2:$D$1000),1,0)))","v":1},1,1,1,1,1,1]
[{"$f":"'SIP Returns'!B386","v":0},null,{"$f":"'SIP Returns'!D386","v":0},{"$f":"'SIP Returns'!E386","v":0},{"$f":"'SIP Returns'!F386","v":0},{"$f":"'SIP Returns'!G386","v":0},{"$f":"'SIP Returns'!H386","v":0},{"$f":"'SIP Returns'!I386","v":0},{"$f":"'SIP Returns'!J386","v":0},1,10,8,4,1,1,{"$f":"IF(J385=\"\",\"\",IF(J385>Inputs!$D$9,0,1))","v":1},{"$f":"IF(K385=\"\",\"\",IF(K385>Inputs!$D$9,0,1))","v":1},{"$f":"IF(L385=\"\",\"\",IF(L385>Inputs!$D$9,0,1))","v":1},{"$f":"IF(M385=\"\",\"\",IF(M385>Inputs!$D$9,0,1))","v":1},{"$f":"IF(N385=\"\",\"\",IF(N385>Inputs!$D$9,0,1))","v":1},{"$f":"IF(O385=\"\",\"\",IF(O385>Inputs!$D$9,0,1))","v":1},{"$f":"IF(COUNT(P385:U385)=0,\"\",INDEX(Inputs!$O$21:$P$26,MATCH(COUNT(P385:U385),Inputs!$O$21:$O$26,0),2))","v":20},1,null,null,{"$f":"IF(D385=\"\",\"\",IF(D385=\"-\",\"\",IF(D385>AVERAGE($D$2:$D$1000),1,0)))","v":1},1,1,1,1,1,1]
[{"$f":"'SIP Returns'!B387","v":0},null,{"$f":"'SIP Returns'!D387","v":0},{"$f":"'SIP Returns'!E387","v":0},{"$f":"'SIP Returns'!F387","v":0},{"$f":"'SIP Returns'!G387","v":0},{"$f":"'SIP Returns'!H387","v":0},{"$f":"'SIP Returns'!I387","v":0},{"$f":"'SIP Returns'!J387","v":0},{"$f":"IF($A386=\"\",\"\",IF(ISERROR(RANK(D386,$D$2:$D$1000,0)),\"\",RANK(D386,$D$2:$D$1000,0)))","v":1},{"$f":"IF($A386=\"\",\"\",IF(ISERROR(RANK(E386,$E$2:$E$1000,0)),\"\",RANK(E386,$E$2:$E$1000,0)))","v":10},{"$f":"IF($A386=\"\",\"\",IF(ISERROR(RANK(F386,$F$2:$F$1000,0)),\"\",RANK(F386,$F$2:$F$1000,0)))","v":8},{"$f":"IF($A386=\"\",\"\",IF(ISERROR(RANK(G386,$G$2:$G$1000,0)),\"\",RANK(G386,$G$2:$G$1000,0)))","v":4},{"$f":"IF($A386=\"\",\"\",IF(ISERROR(RANK(H386,$H$2:$H$1000,0)),\"\",RANK(H386,$H$2:$H$1000,0)))","v":1},{"$f":"IF($A386=\"\",\"\",IF(ISERROR(RANK(I386,$I$2:$I$1000,0)),\"\",RANK(I386,$I$2:$I$1000,0)))","v":1},{"$f":"IF(J386=\"\",\"\",IF(J386>Inputs!$D$9,0,1))","v":1},{"$f":"IF(K386=\"\",\"\",IF(K386>Inputs!$D$9,0,1))","v":1},{"$f":"IF(L386=\"\",\"\",IF(L386>Inputs!$D$9,0,1))","v":1},{"$f":"IF(M386=\"\",\"\",IF(M386>Inputs!$D$9,0,1))","v":1},{"$f":"IF(N386=\"\",\"\",IF(N386>Inputs!$D$9,0,1))","v":1},{"$f":"IF(O386=\"\",\"\",IF(O386>Inputs!$D$9,0,1))","v":1},{"$f":"IF(COUNT(P386:U386)=0,\"\",INDEX(Inputs!$O$21:$P$26,MATCH(COUNT(P386:U386),Inputs!$O$21:$O$26,0),2))","v":20},1,null,null,{"$f":"IF(D386=\"\",\"\",IF(D386=\"-\",\"\",IF(D386>AVERAGE($D$2:$D$1000),1,0)))","v":1},1,1,1,1,1,{"$f":"IF(COUNT(Z386:AE386)=0,\"\",SUM(Z386:AE386)/COUNT(Z386:AE386))","v":1}]
[{"$f":"'SIP Returns'!B388","v":0},null,{"$f":"'SIP Returns'!D388","v":0},{"$f":"'SIP Returns'!E388","v":0},{"$f":"'SIP Returns'!F388","v":0},{"$f":"'SIP Returns'!G388","v":0},{"$f":"'SIP Returns'!H388","v":0},{"$f":"'SIP Returns'!I388","v":0},{"$f":"'SIP Returns'!J388","v":0},1,10,8,4,1,1,{"$f":"IF(J387=\"\",\"\",IF(J387>Inputs!$D$9,0,1))","v":1},{"$f":"IF(K387=\"\",\"\",IF(K387>Inputs!$D$9,0,1))","v":1},{"$f":"IF(L387=\"\",\"\",IF(L387>Inputs!$D$9,0,1))","v":1},{"$f":"IF(M387=\"\",\"\",IF(M387>Inputs!$D$9,0,1))","v":1},{"$f":"IF(N387=\"\",\"\",IF(N387>Inputs!$D$9,0,1))","v":1},{"$f":"IF(O387=\"\",\"\",IF(O387>Inputs!$D$9,0,1))","v":1},{"$f":"IF(COUNT(P387:U387)=0,\"\",INDEX(Inputs!$O$21:$P$26,MATCH(COUNT(P387:U387),Inputs!$O$21:$O$26,0),2))","v":20},{"$f":"IF(COUNT(P387:U387)=0,\"\",SUM(P387:U387)/COUNT(P387:U387))","v":1},null,null,{"$f":"IF(D387=\"\",\"\",IF(D387=\"-\",\"\",IF(D387>AVERAGE($D$2:$D$1000),1,0)))","v":1},1,1,1,1,1,1]
[{"$f":"'SIP Returns'!B389","v":0},null,{"$f":"'SIP Returns'!D389","v":0},{"$f":"'SIP Returns'!E389","v":0},{"$f":"'SIP Returns'!F389","v":0},{"$f":"'SIP Returns'!G389","v":0},{"$f":"'SIP Returns'!H389","v":0},{"$f":"'SIP Returns'!I389","v":0},{"$f":"'SIP Returns'!J389","v":0},1,10,8,4,1,1,{"$f":"IF(J388=\"\",\"\",IF(J388>Inputs!$D$9,0,1))","v":1},{"$f":"IF(K388=\"\",\"\",IF(K388>Inputs!$D$9,0,1))","v":1},{"$f":"IF(L388=\"\",\"\",IF(L388>Inputs!$D$9,0,1))","v":1},{"$f":"IF(M388=\"\",\"\",IF(M388>Inputs!$D$9,0,1))","v":1},{"$f":"IF(N388=\"\",\"\",IF(N388>Inputs!$D$9,0,1))","v":1},{"$f":"IF(O388=\"\",\"\",IF(O388>Inputs!$D$9,0,1))","v":1},{"$f":"IF(COUNT(P388:U388)=0,\"\",INDEX(Inputs!$O$21:$P$26,MATCH(COUNT(P388:U388),Inputs!$O$21:$O$26,0),2))","v":20},1,null,null,{"$f":"IF(D388=\"\",\"\",IF(D388=\"-\",\"\",IF(D388>AVERAGE($D$2:$D$1000),1,0)))","v":1},1,1,1,1,1,1]
[{"$f":"'SIP Returns'!B390","v":0},null,{"$f":"'SIP Returns'!D390","v":0},{"$f":"'SIP Returns'!E390","v":0},{"$f":"'SIP Returns'!F390","v":0},{"$f":"'SIP Returns'!G390","v":0},{"$f":"'SIP Returns'!H390","v":0},{"$f":"'SIP Returns'!I390","v":0},{"$f":"'SIP Returns'!J390","v":0},1,10,8,4,1,1,{"$f":"IF(J389=\"\",\"\",IF(J389>Inputs!$D$9,0,1))","v":1},{"$f":"IF(K389=\"\",\"\",IF(K389>Inputs!$D$9,0,1))","v":1},{"$f":"IF(L389=\"\",\"\",IF(L389>Inputs!$D$9,0,1))","v":1},{"$f":"IF(M389=\"\",\"\",IF(M389>Inputs!$D$9,0,1))","v":1},{"$f":"IF(N389=\"\",\"\",IF(N389>Inputs!$D$9,0,1))","v":1},{"$f":"IF(O389=\"\",\"\",IF(O389>Inputs!$D$9,0,1))","v":1},{"$f":"IF(COUNT(P389:U389)=0,\"\",INDEX(Inputs!$O$21:$P$26,MATCH(COUNT(P389:U389),Inputs!$O$21:$O$26,0),2))","v":20},1,null,null,{"$f":"IF(D389=\"\",\"\",IF(D389=\"-\",\"\",IF(D389>AVERAGE($D$2:$D$1000),1,0)))","v":1},1,1,1,1,1,1]
[{"$f":"'SIP Returns'!B391","v":0},null,{"$f":"'SIP Returns'!D391","v":0},{"$f":"'SIP Returns'!E391","v":0},{"$f":"'SIP Returns'!F391","v":0},{"$f":"'SIP Returns'!G391","v":0},{"$f":"'SIP Returns'!H391","v":0},{"$f":"'SIP Returns'!I391","v":0},{"$f":"'SIP Returns'!J391","v":0},1,10,8,4,1,1,{"$f":"IF(J390=\"\",\"\",IF(J390>Inputs!$D$9,0,1))","v":1},{"$f":"IF(K390=\"\",\"\",IF(K390>Inputs!$D$9,0,1))","v":1},{"$f":"IF(L390=\"\",\"\",IF(L390>Inputs!$D$9,0,1))","v":1},{"$f":"IF(M390=\"\",\"\",IF(M390>Inputs!$D$9,0,1))","v":1},{"$f":"IF(N390=\"\",\"\",IF(N390>Inputs!$D$9,0,1))","v":1},{"$f":"IF(O390=\"\",\"\",IF(O390>Inputs!$D$9,0,1))","v":1},{"$f":"IF(COUNT(P390:U390)=0,\"\",INDEX(Inputs!$O$21:$P$26,MATCH(COUNT(P390:U390),Inputs!$O$21:$O$26,0),2))","v":20},1,null,null,{"$f":"IF(D390=\"\",\"\",IF(D390=\"-\",\"\",IF(D390>AVERAGE($D$2:$D$1000),1,0)))","v":1},1,1,1,1,1,1]
[{"$f":"'SIP Returns'!B392","v":0},null,{"$f":"'SIP Returns'!D392","v":0},{"$f":"'SIP Returns'!E392","v":0},{"$f":"'SIP Returns'!F392","v":0},{"$f":"'SIP Returns'!G392","v":0},{"$f":"'SIP Returns'!H392","v":0},{"$f":"'SIP Returns'!I392","v":0},{"$f":"'SIP Returns'!J392","v":0},1,10,8,4,1,1,{"$f":"IF(J391=\"\",\"\",IF(J391>Inputs!$D$9,0,1))","v":1},{"$f":"IF(K391=\"\",\"\",IF(K391>Inputs!$D$9,0,1))","v":1},{"$f":"IF(L391=\"\",\"\",IF(L391>Inputs!$D$9,0,1))","v":1},{"$f":"IF(M391=\"\",\"\",IF(M391>Inputs!$D$9,0,1))","v":1},{"$f":"IF(N391=\"\",\"\",IF(N391>Inputs!$D$9,0,1))","v":1},{"$f":"IF(O391=\"\",\"\",IF(O391>Inputs!$D$9,0,1))","v":1},{"$f":"IF(COUNT(P391:U391)=0,\"\",INDEX(Inputs!$O$21:$P$26,MATCH(COUNT(P391:U391),Inputs!$O$21:$O$26,0),2))","v":20},1,null,null,{"$f":"IF(D391=\"\",\"\",IF(D391=\"-\",\"\",IF(D391>AVERAGE($D$2:$D$1000),1,0)))","v":1},1,1,1,1,1,1]
[{"$f":"'SIP Returns'!B393","v":0},null,{"$f":"'SIP Returns'!D393","v":0},{"$f":"'SIP Returns'!E393","v":0},{"$f":"'SIP Returns'!F393","v":0},{"$f":"'SIP Returns'!G393","v":0},{"$f":"'SIP Returns'!H393","v":0},{"$f":"'SIP Returns'!I393","v":0},{"$f":"'SIP Returns'!J393","v":0},1,10,8,4,1,1,{"$f":"IF(J392=\"\",\"\",IF(J392>Inputs!$D$9,0,1))","v":1},{"$f":"IF(K392=\"\",\"\",IF(K392>Inputs!$D$9,0,1))","v":1},{"$f":"IF(L392=\"\",\"\",IF(L392>Inputs!$D$9,0,1))","v":1},{"$f":"IF(M392=\"\",\"\",IF(M392>Inputs!$D$9,0,1))","v":1},{"$f":"IF(N392=\"\",\"\",IF(N392>Inputs!$D$9,0,1))","v":1},{"$f":"IF(O392=\"\",\"\",IF(O392>Inputs!$D$9,0,1))","v":1},{"$f":"IF(COUNT(P392:U392)=0,\"\",INDEX(Inputs!$O$21:$P$26,MATCH(COUNT(P392:U392),Inputs!$O$21:$O$26,0),2))","v":20},1,null,null,{"$f":"IF(D392=\"\",\"\",IF(D392=\"-\",\"\",IF(D392>AVERAGE($D$2:$D$1000),1,0)))","v":1},1,1,1,1,1,1]
[{"$f":"'SIP Returns'!B394","v":0},null,{"$f":"'SIP Returns'!D394","v":0},{"$f":"'SIP Returns'!E394","v":0},{"$f":"'SIP Returns'!F394","v":0},{"$f":"'SIP Returns'!G394","v":0},{"$f":"'SIP Returns'!H394","v":0},{"$f":"'SIP Returns'!I394","v":0},{"$f":"'SIP Returns'!J394","v":0},1,10,8,4,1,1,{"$f":"IF(J393=\"\",\"\",IF(J393>Inputs!$D$9,0,1))","v":1},{"$f":"IF(K393=\"\",\"\",IF(K393>Inputs!$D$9,0,1))","v":1},{"$f":"IF(L393=\"\",\"\",IF(L393>Inputs!$D$9,0,1))","v":1},{"$f":"IF(M393=\"\",\"\",IF(M393>Inputs!$D$9,0,1))","v":1},{"$f":"IF(N393=\"\",\"\",IF(N393>Inputs!$D$9,0,1))","v":1},{"$f":"IF(O393=\"\",\"\",IF(O393>Inputs!$D$9,0,1))","v":1},{"$f":"IF(COUNT(P393:U393)=0,\"\",INDEX(Inputs!$O$21:$P$26,MATCH(COUNT(P393:U393),Inputs!$O$21:$O$26,0),2))","v":20},1,null,null,{"$f":"IF(D393=\"\",\"\",IF(D393=\"-\",\"\",IF(D393>AVERAGE($D$2:$D$1000),1,0)))","v":1},1,1,1,1,1,1]
[{"$f":"'SIP Returns'!B395","v":0},null,{"$f":"'SIP Returns'!D395","v":0},{"$f":"'SIP Returns'!E395","v":0},{"$f":"'SIP Returns'!F395","v":0},{"$f":"'SIP Returns'!G395","v":0},{"$f":"'SIP Returns'!H395","v":0},{"$f":"'SIP Returns'!I395","v":0},{"$f":"'SIP Returns'!J395","v":0},1,10,8,4,1,1,{"$f":"IF(J394=\"\",\"\",IF(J394>Inputs!$D$9,0,1))","v":1},{"$f":"IF(K394=\"\",\"\",IF(K394>Inputs!$D$9,0,1))","v":1},{"$f":"IF(L394=\"\",\"\",IF(L394>Inputs!$D$9,0,1))","v":1},{"$f":"IF(M394=\"\",\"\",IF(M394>Inputs!$D$9,0,1))","v":1},{"$f":"IF(N394=\"\",\"\",IF(N394>Inputs!$D$9,0,1))","v":1},{"$f":"IF(O394=\"\",\"\",IF(O394>Inputs!$D$9,0,1))","v":1},{"$f":"IF(COUNT(P394:U394)=0,\"\",INDEX(Inputs!$O$21:$P$26,MATCH(COUNT(P394:U394),Inputs!$O$21:$O$26,0),2))","v":20},1,null,null,{"$f":"IF(D394=\"\",\"\",IF(D394=\"-\",\"\",IF(D394>AVERAGE($D$2:$D$1000),1,0)))","v":1},1,1,1,1,1,1]
[{"$f":"'SIP Returns'!B396","v":0},null,{"$f":"'SIP Returns'!D396","v":0},{"$f":"'SIP Returns'!E396","v":0},{"$f":"'SIP Returns'!F396","v":0},{"$f":"'SIP Returns'!G396","v":0},{"$f":"'SIP Returns'!H396","v":0},{"$f":"'SIP Returns'!I396","v":0},{"$f":"'SIP Returns'!J396","v":0},1,10,8,4,1,1,{"$f":"IF(J395=\"\",\"\",IF(J395>Inputs!$D$9,0,1))","v":1},{"$f":"IF(K395=\"\",\"\",IF(K395>Inputs!$D$9,0,1))","v":1},{"$f":"IF(L395=\"\",\"\",IF(L395>Inputs!$D$9,0,1))","v":1},{"$f":"IF(M395=\"\",\"\",IF(M395>Inputs!$D$9,0,1))","v":1},{"$f":"IF(N395=\"\",\"\",IF(N395>Inputs!$D$9,0,1))","v":1},{"$f":"IF(O395=\"\",\"\",IF(O395>Inputs!$D$9,0,1))","v":1},{"$f":"IF(COUNT(P395:U395)=0,\"\",INDEX(Inputs!$O$21:$P$26,MATCH(COUNT(P395:U395),Inputs!$O$21:$O$26,0),2))","v":20},1,null,null,{"$f":"IF(D395=\"\",\"\",IF(D395=\"-\",\"\",IF(D395>AVERAGE($D$2:$D$1000),1,0)))","v":1},1,1,1,1,1,1]
[{"$f":"'SIP Returns'!B397","v":0},null,{"$f":"'SIP Returns'!D397","v":0},{"$f":"'SIP Returns'!E397","v":0},{"$f":"'SIP Returns'!F397","v":0},{"$f":"'SIP Returns'!G397","v":0},{"$f":"'SIP Returns'!H397","v":0},{"$f":"'SIP Returns'!I397","v":0},{"$f":"'SIP Returns'!J397","v":0},1,10,8,4,1,1,{"$f":"IF(J396=\"\",\"\",IF(J396>Inputs!$D$9,0,1))","v":1},{"$f":"IF(K396=\"\",\"\",IF(K396>Inputs!$D$9,0,1))","v":1},{"$f":"IF(L396=\"\",\"\",IF(L396>Inputs!$D$9,0,1))","v":1},{"$f":"IF(M396=\"\",\"\",IF(M396>Inputs!$D$9,0,1))","v":1},{"$f":"IF(N396=\"\",\"\",IF(N396>Inputs!$D$9,0,1))","v":1},{"$f":"IF(O396=\"\",\"\",IF(O396>Inputs!$D$9,0,1))","v":1},{"$f":"IF(COUNT(P396:U396)=0,\"\",INDEX(Inputs!$O$21:$P$26,MATCH(COUNT(P396:U396),Inputs!$O$21:$O$26,0),2))","v":20},1,null,null,{"$f":"IF(D396=\"\",\"\",IF(D396=\"-\",\"\",IF(D396>AVERAGE($D$2:$D$1000),1,0)))","v":1},1,1,1,1,1,1]
[{"$f":"'SIP Returns'!B398","v":0},null,{"$f":"'SIP Returns'!D398","v":0},{"$f":"'SIP Returns'!E398","v":0},{"$f":"'SIP Returns'!F398","v":0},{"$f":"'SIP Returns'!G398","v":0},{"$f":"'SIP Returns'!H398","v":0},{"$f":"'SIP Returns'!I398","v":0},{"$f":"'SIP Returns'!J398","v":0},1,10,8,4,1,1,{"$f":"IF(J397=\"\",\"\",IF(J397>Inputs!$D$9,0,1))","v":1},{"$f":"IF(K397=\"\",\"\",IF(K397>Inputs!$D$9,0,1))","v":1},{"$f":"IF(L397=\"\",\"\",IF(L397>Inputs!$D$9,0,1))","v":1},{"$f":"IF(M397=\"\",\"\",IF(M397>Inputs!$D$9,0,1))","v":1},{"$f":"IF(N397=\"\",\"\",IF(N397>Inputs!$D$9,0,1))","v":1},{"$f":"IF(O397=\"\",\"\",IF(O397>Inputs!$D$9,0,1))","v":1},{"$f":"IF(COUNT(P397:U397)=0,\"\",INDEX(Inputs!$O$21:$P$26,MATCH(COUNT(P397:U397),Inputs!$O$21:$O$26,0),2))","v":20},1,null,null,{"$f":"IF(D397=\"\",\"\",IF(D397=\"-\",\"\",IF(D397>AVERAGE($D$2:$D$1000),1,0)))","v":1},1,1,1,1,1,1]
[{"$f":"'SIP Returns'!B399","v":0},null,{"$f":"'SIP Returns'!D399","v":0},{"$f":"'SIP Returns'!E399","v":0},{"$f":"'SIP Returns'!F399","v":0},{"$f":"'SIP Returns'!G399","v":0},{"$f":"'SIP Returns'!H399","v":0},{"$f":"'SIP Returns'!I399","v":0},{"$f":"'SIP Returns'!J399","v":0},1,10,8,4,1,1,{"$f":"IF(J398=\"\",\"\",IF(J398>Inputs!$D$9,0,1))","v":1},{"$f":"IF(K398=\"\",\"\",IF(K398>Inputs!$D$9,0,1))","v":1},{"$f":"IF(L398=\"\",\"\",IF(L398>Inputs!$D$9,0,1))","v":1},{"$f":"IF(M398=\"\",\"\",IF(M398>Inputs!$D$9,0,1))","v":1},{"$f":"IF(N398=\"\",\"\",IF(N398>Inputs!$D$9,0,1))","v":1},{"$f":"IF(O398=\"\",\"\",IF(O398>Inputs!$D$9,0,1))","v":1},{"$f":"IF(COUNT(P398:U398)=0,\"\",INDEX(Inputs!$O$21:$P$26,MATCH(COUNT(P398:U398),Inputs!$O$21:$O$26,0),2))","v":20},1,null,null,{"$f":"IF(D398=\"\",\"\",IF(D398=\"-\",\"\",IF(D398>AVERAGE($D$2:$D$1000),1,0)))","v":1},1,1,1,1,1,1]
[{"$f":"'SIP Returns'!B400","v":0},null,{"$f":"'SIP Returns'!D400","v":0},{"$f":"'SIP Returns'!E400","v":0},{"$f":"'SIP Returns'!F400","v":0},{"$f":"'SIP Returns'!G400","v":0},{"$f":"'SIP Returns'!H400","v":0},{"$f":"'SIP Returns'!I400","v":0},{"$f":"'SIP Returns'!J400","v":0},1,10,8,4,1,1,{"$f":"IF(J399=\"\",\"\",IF(J399>Inputs!$D$9,0,1))","v":1},{"$f":"IF(K399=\"\",\"\",IF(K399>Inputs!$D$9,0,1))","v":1},{"$f":"IF(L399=\"\",\"\",IF(L399>Inputs!$D$9,0,1))","v":1},{"$f":"IF(M399=\"\",\"\",IF(M399>Inputs!$D$9,0,1))","v":1},{"$f":"IF(N399=\"\",\"\",IF(N399>Inputs!$D$9,0,1))","v":1},{"$f":"IF(O399=\"\",\"\",IF(O399>Inputs!$D$9,0,1))","v":1},{"$f":"IF(COUNT(P399:U399)=0,\"\",INDEX(Inputs!$O$21:$P$26,MATCH(COUNT(P399:U399),Inputs!$O$21:$O$26,0),2))","v":20},1,null,null,{"$f":"IF(D399=\"\",\"\",IF(D399=\"-\",\"\",IF(D399>AVERAGE($D$2:$D$1000),1,0)))","v":1},1,1,1,1,1,1]
[{"$f":"'SIP Returns'!B401","v":0},null,{"$f":"'SIP Returns'!D401","v":0},{"$f":"'SIP Returns'!E401","v":0},{"$f":"'SIP Returns'!F401","v":0},{"$f":"'SIP Returns'!G401","v":0},{"$f":"'SIP Returns'!H401","v":0},{"$f":"'SIP Returns'!I401","v":0},{"$f":"'SIP Returns'!J401","v":0},1,10,8,4,1,1,{"$f":"IF(J400=\"\",\"\",IF(J400>Inputs!$D$9,0,1))","v":1},{"$f":"IF(K400=\"\",\"\",IF(K400>Inputs!$D$9,0,1))","v":1},{"$f":"IF(L400=\"\",\"\",IF(L400>Inputs!$D$9,0,1))","v":1},{"$f":"IF(M400=\"\",\"\",IF(M400>Inputs!$D$9,0,1))","v":1},{"$f":"IF(N400=\"\",\"\",IF(N400>Inputs!$D$9,0,1))","v":1},{"$f":"IF(O400=\"\",\"\",IF(O400>Inputs!$D$9,0,1))","v":1},{"$f":"IF(COUNT(P400:U400)=0,\"\",INDEX(Inputs!$O$21:$P$26,MATCH(COUNT(P400:U400),Inputs!$O$21:$O$26,0),2))","v":20},1,null,null,{"$f":"IF(D400=\"\",\"\",IF(D400=\"-\",\"\",IF(D400>AVERAGE($D$2:$D$1000),1,0)))","v":1},1,1,1,1,1,1]
[{"$f":"'SIP Returns'!B402","v":0},null,{"$f":"'SIP Returns'!D402","v":0},{"$f":"'SIP Returns'!E402","v":0},{"$f":"'SIP Returns'!F402","v":0},{"$f":"'SIP Returns'!G402","v":0},{"$f":"'SIP Returns'!H402","v":0},{"$f":"'SIP Returns'!I402","v":0},{"$f":"'SIP Returns'!J402","v":0},1,10,8,4,1,1,{"$f":"IF(J401=\"\",\"\",IF(J401>Inputs!$D$9,0,1))","v":1},{"$f":"IF(K401=\"\",\"\",IF(K401>Inputs!$D$9,0,1))","v":1},{"$f":"IF(L401=\"\",\"\",IF(L401>Inputs!$D$9,0,1))","v":1},{"$f":"IF(M401=\"\",\"\",IF(M401>Inputs!$D$9,0,1))","v":1},{"$f":"IF(N401=\"\",\"\",IF(N401>Inputs!$D$9,0,1))","v":1},{"$f":"IF(O401=\"\",\"\",IF(O401>Inputs!$D$9,0,1))","v":1},{"$f":"IF(COUNT(P401:U401)=0,\"\",INDEX(Inputs!$O$21:$P$26,MATCH(COUNT(P401:U401),Inputs!$O$21:$O$26,0),2))","v":20},1,null,null,{"$f":"IF(D401=\"\",\"\",IF(D401=\"-\",\"\",IF(D401>AVERAGE($D$2:$D$1000),1,0)))","v":1},1,1,1,1,1,1]
[{"$f":"'SIP Returns'!B403","v":0},null,{"$f":"'SIP Returns'!D403","v":0},{"$f":"'SIP Returns'!E403","v":0},{"$f":"'SIP Returns'!F403","v":0},{"$f":"'SIP Returns'!G403","v":0},{"$f":"'SIP Returns'!H403","v":0},{"$f":"'SIP Returns'!I403","v":0},{"$f":"'SIP Returns'!J403","v":0},1,10,8,4,1,1,{"$f":"IF(J402=\"\",\"\",IF(J402>Inputs!$D$9,0,1))","v":1},{"$f":"IF(K402=\"\",\"\",IF(K402>Inputs!$D$9,0,1))","v":1},{"$f":"IF(L402=\"\",\"\",IF(L402>Inputs!$D$9,0,1))","v":1},{"$f":"IF(M402=\"\",\"\",IF(M402>Inputs!$D$9,0,1))","v":1},{"$f":"IF(N402=\"\",\"\",IF(N402>Inputs!$D$9,0,1))","v":1},{"$f":"IF(O402=\"\",\"\",IF(O402>Inputs!$D$9,0,1))","v":1},{"$f":"IF(COUNT(P402:U402)=0,\"\",INDEX(Inputs!$O$21:$P$26,MATCH(COUNT(P402:U402),Inputs!$O$21:$O$26,0),2))","v":20},1,null,null,{"$f":"IF(D402=\"\",\"\",IF(D402=\"-\",\"\",IF(D402>AVERAGE($D$2:$D$1000),1,0)))","v":1},1,1,1,1,1,1]
[{"$f":"'SIP Returns'!B404","v":0},null,{"$f":"'SIP Returns'!D404","v":0},{"$f":"'SIP Returns'!E404","v":0},{"$f":"'SIP Returns'!F404","v":0},{"$f":"'SIP Returns'!G404","v":0},{"$f":"'SIP Returns'!H404","v":0},{"$f":"'SIP Returns'!I404","v":0},{"$f":"'SIP Returns'!J404","v":0},1,10,8,4,1,1,{"$f":"IF(J403=\"\",\"\",IF(J403>Inputs!$D$9,0,1))","v":1},{"$f":"IF(K403=\"\",\"\",IF(K403>Inputs!$D$9,0,1))","v":1},{"$f":"IF(L403=\"\",\"\",IF(L403>Inputs!$D$9,0,1))","v":1},{"$f":"IF(M403=\"\",\"\",IF(M403>Inputs!$D$9,0,1))","v":1},{"$f":"IF(N403=\"\",\"\",IF(N403>Inputs!$D$9,0,1))","v":1},{"$f":"IF(O403=\"\",\"\",IF(O403>Inputs!$D$9,0,1))","v":1},{"$f":"IF(COUNT(P403:U403)=0,\"\",INDEX(Inputs!$O$21:$P$26,MATCH(COUNT(P403:U403),Inputs!$O$21:$O$26,0),2))","v":20},1,null,null,{"$f":"IF(D403=\"\",\"\",IF(D403=\"-\",\"\",IF(D403>AVERAGE($D$2:$D$1000),1,0)))","v":1},1,1,1,1,1,1]
[{"$f":"'SIP Returns'!B405","v":0},null,{"$f":"'SIP Returns'!D405","v":0},{"$f":"'SIP Returns'!E405","v":0},{"$f":"'SIP Returns'!F405","v":0},{"$f":"'SIP Returns'!G405","v":0},{"$f":"'SIP Returns'!H405","v":0},{"$f":"'SIP Returns'!I405","v":0},{"$f":"'SIP Returns'!J405","v":0},1,10,8,4,1,1,{"$f":"IF(J404=\"\",\"\",IF(J404>Inputs!$D$9,0,1))","v":1},{"$f":"IF(K404=\"\",\"\",IF(K404>Inputs!$D$9,0,1))","v":1},{"$f":"IF(L404=\"\",\"\",IF(L404>Inputs!$D$9,0,1))","v":1},{"$f":"IF(M404=\"\",\"\",IF(M404>Inputs!$D$9,0,1))","v":1},{"$f":"IF(N404=\"\",\"\",IF(N404>Inputs!$D$9,0,1))","v":1},{"$f":"IF(O404=\"\",\"\",IF(O404>Inputs!$D$9,0,1))","v":1},{"$f":"IF(COUNT(P404:U404)=0,\"\",INDEX(Inputs!$O$21:$P$26,MATCH(COUNT(P404:U404),Inputs!$O$21:$O$26,0),2))","v":20},1,null,null,{"$f":"IF(D404=\"\",\"\",IF(D404=\"-\",\"\",IF(D404>AVERAGE($D$2:$D$1000),1,0)))","v":1},1,1,1,1,1,1]
[{"$f":"'SIP Returns'!B406","v":0},null,{"$f":"'SIP Returns'!D406","v":0},{"$f":"'SIP Returns'!E406","v":0},{"$f":"'SIP Returns'!F406","v":0},{"$f":"'SIP Returns'!G406","v":0},{"$f":"'SIP Returns'!H406","v":0},{"$f":"'SIP Returns'!I406","v":0},{"$f":"'SIP Returns'!J406","v":0},1,10,8,4,1,1,{"$f":"IF(J405=\"\",\"\",IF(J405>Inputs!$D$9,0,1))","v":1},{"$f":"IF(K405=\"\",\"\",IF(K405>Inputs!$D$9,0,1))","v":1},{"$f":"IF(L405=\"\",\"\",IF(L405>Inputs!$D$9,0,1))","v":1},{"$f":"IF(M405=\"\",\"\",IF(M405>Inputs!$D$9,0,1))","v":1},{"$f":"IF(N405=\"\",\"\",IF(N405>Inputs!$D$9,0,1))","v":1},{"$f":"IF(O405=\"\",\"\",IF(O405>Inputs!$D$9,0,1))","v":1},{"$f":"IF(COUNT(P405:U405)=0,\"\",INDEX(Inputs!$O$21:$P$26,MATCH(COUNT(P405:U405),Inputs!$O$21:$O$26,0),2))","v":20},1,null,null,{"$f":"IF(D405=\"\",\"\",IF(D405=\"-\",\"\",IF(D405>AVERAGE($D$2:$D$1000),1,0)))","v":1},1,1,1,1,1,1]
[{"$f":"'SIP Returns'!B407","v":0},null,{"$f":"'SIP Returns'!D407","v":0},{"$f":"'SIP Returns'!E407","v":0},{"$f":"'SIP Returns'!F407","v":0},{"$f":"'SIP Returns'!G407","v":0},{"$f":"'SIP Returns'!H407","v":0},{"$f":"'SIP Returns'!I407","v":0},{"$f":"'SIP Returns'!J407","v":0},1,10,8,4,1,1,{"$f":"IF(J406=\"\",\"\",IF(J406>Inputs!$D$9,0,1))","v":1},{"$f":"IF(K406=\"\",\"\",IF(K406>Inputs!$D$9,0,1))","v":1},{"$f":"IF(L406=\"\",\"\",IF(L406>Inputs!$D$9,0,1))","v":1},{"$f":"IF(M406=\"\",\"\",IF(M406>Inputs!$D$9,0,1))","v":1},{"$f":"IF(N406=\"\",\"\",IF(N406>Inputs!$D$9,0,1))","v":1},{"$f":"IF(O406=\"\",\"\",IF(O406>Inputs!$D$9,0,1))","v":1},{"$f":"IF(COUNT(P406:U406)=0,\"\",INDEX(Inputs!$O$21:$P$26,MATCH(COUNT(P406:U406),Inputs!$O$21:$O$26,0),2))","v":20},1,null,null,{"$f":"IF(D406=\"\",\"\",IF(D406=\"-\",\"\",IF(D406>AVERAGE($D$2:$D$1000),1,0)))","v":1},1,1,1,1,1,1]
[{"$f":"'SIP Returns'!B408","v":0},null,{"$f":"'SIP Returns'!D408","v":0},{"$f":"'SIP Returns'!E408","v":0},{"$f":"'SIP Returns'!F408","v":0},{"$f":"'SIP Returns'!G408","v":0},{"$f":"'SIP Returns'!H408","v":0},{"$f":"'SIP Returns'!I408","v":0},{"$f":"'SIP Returns'!J408","v":0},1,10,8,4,1,1,{"$f":"IF(J407=\"\",\"\",IF(J407>Inputs!$D$9,0,1))","v":1},{"$f":"IF(K407=\"\",\"\",IF(K407>Inputs!$D$9,0,1))","v":1},{"$f":"IF(L407=\"\",\"\",IF(L407>Inputs!$D$9,0,1))","v":1},{"$f":"IF(M407=\"\",\"\",IF(M407>Inputs!$D$9,0,1))","v":1},{"$f":"IF(N407=\"\",\"\",IF(N407>Inputs!$D$9,0,1))","v":1},{"$f":"IF(O407=\"\",\"\",IF(O407>Inputs!$D$9,0,1))","v":1},{"$f":"IF(COUNT(P407:U407)=0,\"\",INDEX(Inputs!$O$21:$P$26,MATCH(COUNT(P407:U407),Inputs!$O$21:$O$26,0),2))","v":20},1,null,null,{"$f":"IF(D407=\"\",\"\",IF(D407=\"-\",\"\",IF(D407>AVERAGE($D$2:$D$1000),1,0)))","v":1},1,1,1,1,1,1]
[{"$f":"'SIP Returns'!B409","v":0},null,{"$f":"'SIP Returns'!D409","v":0},{"$f":"'SIP Returns'!E409","v":0},{"$f":"'SIP Returns'!F409","v":0},{"$f":"'SIP Returns'!G409","v":0},{"$f":"'SIP Returns'!H409","v":0},{"$f":"'SIP Returns'!I409","v":0},{"$f":"'SIP Returns'!J409","v":0},1,10,8,4,1,1,{"$f":"IF(J408=\"\",\"\",IF(J408>Inputs!$D$9,0,1))","v":1},{"$f":"IF(K408=\"\",\"\",IF(K408>Inputs!$D$9,0,1))","v":1},{"$f":"IF(L408=\"\",\"\",IF(L408>Inputs!$D$9,0,1))","v":1},{"$f":"IF(M408=\"\",\"\",IF(M408>Inputs!$D$9,0,1))","v":1},{"$f":"IF(N408=\"\",\"\",IF(N408>Inputs!$D$9,0,1))","v":1},{"$f":"IF(O408=\"\",\"\",IF(O408>Inputs!$D$9,0,1))","v":1},{"$f":"IF(COUNT(P408:U408)=0,\"\",INDEX(Inputs!$O$21:$P$26,MATCH(COUNT(P408:U408),Inputs!$O$21:$O$26,0),2))","v":20},1,null,null,{"$f":"IF(D408=\"\",\"\",IF(D408=\"-\",\"\",IF(D408>AVERAGE($D$2:$D$1000),1,0)))","v":1},1,1,1,1,1,1]
[{"$f":"'SIP Returns'!B410","v":0},null,{"$f":"'SIP Returns'!D410","v":0},{"$f":"'SIP Returns'!E410","v":0},{"$f":"'SIP Returns'!F410","v":0},{"$f":"'SIP Returns'!G410","v":0},{"$f":"'SIP Returns'!H410","v":0},{"$f":"'SIP Returns'!I410","v":0},{"$f":"'SIP Returns'!J410","v":0},1,10,8,4,1,1,{"$f":"IF(J409=\"\",\"\",IF(J409>Inputs!$D$9,0,1))","v":1},{"$f":"IF(K409=\"\",\"\",IF(K409>Inputs!$D$9,0,1))","v":1},{"$f":"IF(L409=\"\",\"\",IF(L409>Inputs!$D$9,0,1))","v":1},{"$f":"IF(M409=\"\",\"\",IF(M409>Inputs!$D$9,0,1))","v":1},{"$f":"IF(N409=\"\",\"\",IF(N409>Inputs!$D$9,0,1))","v":1},{"$f":"IF(O409=\"\",\"\",IF(O409>Inputs!$D$9,0,1))","v":1},{"$f":"IF(COUNT(P409:U409)=0,\"\",INDEX(Inputs!$O$21:$P$26,MATCH(COUNT(P409:U409),Inputs!$O$21:$O$26,0),2))","v":20},1,null,null,{"$f":"IF(D409=\"\",\"\",IF(D409=\"-\",\"\",IF(D409>AVERAGE($D$2:$D$1000),1,0)))","v":1},1,1,1,1,1,1]
[{"$f":"'SIP Returns'!B411","v":0},null,{"$f":"'SIP Returns'!D411","v":0},{"$f":"'SIP Returns'!E411","v":0},{"$f":"'SIP Returns'!F411","v":0},{"$f":"'SIP Returns'!G411","v":0},{"$f":"'SIP Returns'!H411","v":0},{"$f":"'SIP Returns'!I411","v":0},{"$f":"'SIP Returns'!J411","v":0},1,10,8,4,1,1,{"$f":"IF(J410=\"\",\"\",IF(J410>Inputs!$D$9,0,1))","v":1},{"$f":"IF(K410=\"\",\"\",IF(K410>Inputs!$D$9,0,1))","v":1},{"$f":"IF(L410=\"\",\"\",IF(L410>Inputs!$D$9,0,1))","v":1},{"$f":"IF(M410=\"\",\"\",IF(M410>Inputs!$D$9,0,1))","v":1},{"$f":"IF(N410=\"\",\"\",IF(N410>Inputs!$D$9,0,1))","v":1},{"$f":"IF(O410=\"\",\"\",IF(O410>Inputs!$D$9,0,1))","v":1},{"$f":"IF(COUNT(P410:U410)=0,\"\",INDEX(Inputs!$O$21:$P$26,MATCH(COUNT(P410:U410),Inputs!$O$21:$O$26,0),2))","v":20},1,null,null,{"$f":"IF(D410=\"\",\"\",IF(D410=\"-\",\"\",IF(D410>AVERAGE($D$2:$D$1000),1,0)))","v":1},1,1,1,1,1,1]
[{"$f":"'SIP Returns'!B412","v":0},null,{"$f":"'SIP Returns'!D412","v":0},{"$f":"'SIP Returns'!E412","v":0},{"$f":"'SIP Returns'!F412","v":0},{"$f":"'SIP Returns'!G412","v":0},{"$f":"'SIP Returns'!H412","v":0},{"$f":"'SIP Returns'!I412","v":0},{"$f":"'SIP Returns'!J412","v":0},1,10,8,4,1,1,{"$f":"IF(J411=\"\",\"\",IF(J411>Inputs!$D$9,0,1))","v":1},{"$f":"IF(K411=\"\",\"\",IF(K411>Inputs!$D$9,0,1))","v":1},{"$f":"IF(L411=\"\",\"\",IF(L411>Inputs!$D$9,0,1))","v":1},{"$f":"IF(M411=\"\",\"\",IF(M411>Inputs!$D$9,0,1))","v":1},{"$f":"IF(N411=\"\",\"\",IF(N411>Inputs!$D$9,0,1))","v":1},{"$f":"IF(O411=\"\",\"\",IF(O411>Inputs!$D$9,0,1))","v":1},{"$f":"IF(COUNT(P411:U411)=0,\"\",INDEX(Inputs!$O$21:$P$26,MATCH(COUNT(P411:U411),Inputs!$O$21:$O$26,0),2))","v":20},1,null,null,{"$f":"IF(D411=\"\",\"\",IF(D411=\"-\",\"\",IF(D411>AVERAGE($D$2:$D$1000),1,0)))","v":1},1,1,1,1,1,1]
[{"$f":"'SIP Returns'!B413","v":0},null,{"$f":"'SIP Returns'!D413","v":0},{"$f":"'SIP Returns'!E413","v":0},{"$f":"'SIP Returns'!F413","v":0},{"$f":"'SIP Returns'!G413","v":0},{"$f":"'SIP Returns'!H413","v":0},{"$f":"'SIP Returns'!I413","v":0},{"$f":"'SIP Returns'!J413","v":0},1,10,8,4,1,1,{"$f":"IF(J412=\"\",\"\",IF(J412>Inputs!$D$9,0,1))","v":1},{"$f":"IF(K412=\"\",\"\",IF(K412>Inputs!$D$9,0,1))","v":1},{"$f":"IF(L412=\"\",\"\",IF(L412>Inputs!$D$9,0,1))","v":1},{"$f":"IF(M412=\"\",\"\",IF(M412>Inputs!$D$9,0,1))","v":1},{"$f":"IF(N412=\"\",\"\",IF(N412>Inputs!$D$9,0,1))","v":1},{"$f":"IF(O412=\"\",\"\",IF(O412>Inputs!$D$9,0,1))","v":1},{"$f":"IF(COUNT(P412:U412)=0,\"\",INDEX(Inputs!$O$21:$P$26,MATCH(COUNT(P412:U412),Inputs!$O$21:$O$26,0),2))","v":20},1,null,null,{"$f":"IF(D412=\"\",\"\",IF(D412=\"-\",\"\",IF(D412>AVERAGE($D$2:$D$1000),1,0)))","v":1},1,1,1,1,1,1]
[{"$f":"'SIP Returns'!B414","v":0},null,{"$f":"'SIP Returns'!D414","v":0},{"$f":"'SIP Returns'!E414","v":0},{"$f":"'SIP Returns'!F414","v":0},{"$f":"'SIP Returns'!G414","v":0},{"$f":"'SIP Returns'!H414","v":0},{"$f":"'SIP Returns'!I414","v":0},{"$f":"'SIP Returns'!J414","v":0},1,10,8,4,1,1,{"$f":"IF(J413=\"\",\"\",IF(J413>Inputs!$D$9,0,1))","v":1},{"$f":"IF(K413=\"\",\"\",IF(K413>Inputs!$D$9,0,1))","v":1},{"$f":"IF(L413=\"\",\"\",IF(L413>Inputs!$D$9,0,1))","v":1},{"$f":"IF(M413=\"\",\"\",IF(M413>Inputs!$D$9,0,1))","v":1},{"$f":"IF(N413=\"\",\"\",IF(N413>Inputs!$D$9,0,1))","v":1},{"$f":"IF(O413=\"\",\"\",IF(O413>Inputs!$D$9,0,1))","v":1},{"$f":"IF(COUNT(P413:U413)=0,\"\",INDEX(Inputs!$O$21:$P$26,MATCH(COUNT(P413:U413),Inputs!$O$21:$O$26,0),2))","v":20},1,null,null,{"$f":"IF(D413=\"\",\"\",IF(D413=\"-\",\"\",IF(D413>AVERAGE($D$2:$D$1000),1,0)))","v":1},1,1,1,1,1,1]
[{"$f":"'SIP Returns'!B415","v":0},null,{"$f":"'SIP Returns'!D415","v":0},{"$f":"'SIP Returns'!E415","v":0},{"$f":"'SIP Returns'!F415","v":0},{"$f":"'SIP Returns'!G415","v":0},{"$f":"'SIP Returns'!H415","v":0},{"$f":"'SIP Returns'!I415","v":0},{"$f":"'SIP Returns'!J415","v":0},1,10,8,4,1,1,{"$f":"IF(J414=\"\",\"\",IF(J414>Inputs!$D$9,0,1))","v":1},{"$f":"IF(K414=\"\",\"\",IF(K414>Inputs!$D$9,0,1))","v":1},{"$f":"IF(L414=\"\",\"\",IF(L414>Inputs!$D$9,0,1))","v":1},{"$f":"IF(M414=\"\",\"\",IF(M414>Inputs!$D$9,0,1))","v":1},{"$f":"IF(N414=\"\",\"\",IF(N414>Inputs!$D$9,0,1))","v":1},{"$f":"IF(O414=\"\",\"\",IF(O414>Inputs!$D$9,0,1))","v":1},{"$f":"IF(COUNT(P414:U414)=0,\"\",INDEX(Inputs!$O$21:$P$26,MATCH(COUNT(P414:U414),Inputs!$O$21:$O$26,0),2))","v":20},1,null,null,{"$f":"IF(D414=\"\",\"\",IF(D414=\"-\",\"\",IF(D414>AVERAGE($D$2:$D$1000),1,0)))","v":1},1,1,1,1,1,1]
[{"$f":"'SIP Returns'!B416","v":0},null,{"$f":"'SIP Returns'!D416","v":0},{"$f":"'SIP Returns'!E416","v":0},{"$f":"'SIP Returns'!F416","v":0},{"$f":"'SIP Returns'!G416","v":0},{"$f":"'SIP Returns'!H416","v":0},{"$f":"'SIP Returns'!I416","v":0},{"$f":"'SIP Returns'!J416","v":0},1,10,8,4,1,1,{"$f":"IF(J415=\"\",\"\",IF(J415>Inputs!$D$9,0,1))","v":1},{"$f":"IF(K415=\"\",\"\",IF(K415>Inputs!$D$9,0,1))","v":1},{"$f":"IF(L415=\"\",\"\",IF(L415>Inputs!$D$9,0,1))","v":1},{"$f":"IF(M415=\"\",\"\",IF(M415>Inputs!$D$9,0,1))","v":1},{"$f":"IF(N415=\"\",\"\",IF(N415>Inputs!$D$9,0,1))","v":1},{"$f":"IF(O415=\"\",\"\",IF(O415>Inputs!$D$9,0,1))","v":1},{"$f":"IF(COUNT(P415:U415)=0,\"\",INDEX(Inputs!$O$21:$P$26,MATCH(COUNT(P415:U415),Inputs!$O$21:$O$26,0),2))","v":20},1,null,null,{"$f":"IF(D415=\"\",\"\",IF(D415=\"-\",\"\",IF(D415>AVERAGE($D$2:$D$1000),1,0)))","v":1},1,1,1,1,1,1]
[{"$f":"'SIP Returns'!B417","v":0},null,{"$f":"'SIP Returns'!D417","v":0},{"$f":"'SIP Returns'!E417","v":0},{"$f":"'SIP Returns'!F417","v":0},{"$f":"'SIP Returns'!G417","v":0},{"$f":"'SIP Returns'!H417","v":0},{"$f":"'SIP Returns'!I417","v":0},{"$f":"'SIP Returns'!J417","v":0},1,10,8,4,1,1,{"$f":"IF(J416=\"\",\"\",IF(J416>Inputs!$D$9,0,1))","v":1},{"$f":"IF(K416=\"\",\"\",IF(K416>Inputs!$D$9,0,1))","v":1},{"$f":"IF(L416=\"\",\"\",IF(L416>Inputs!$D$9,0,1))","v":1},{"$f":"IF(M416=\"\",\"\",IF(M416>Inputs!$D$9,0,1))","v":1},{"$f":"IF(N416=\"\",\"\",IF(N416>Inputs!$D$9,0,1))","v":1},{"$f":"IF(O416=\"\",\"\",IF(O416>Inputs!$D$9,0,1))","v":1},{"$f":"IF(COUNT(P416:U416)=0,\"\",INDEX(Inputs!$O$21:$P$26,MATCH(COUNT(P416:U416),Inputs!$O$21:$O$26,0),2))","v":20},1,null,null,{"$f":"IF(D416=\"\",\"\",IF(D416=\"-\",\"\",IF(D416>AVERAGE($D$2:$D$1000),1,0)))","v":1},1,1,1,1,1,1]
[{"$f":"'SIP Returns'!B418","v":0},null,{"$f":"'SIP Returns'!D418","v":0},{"$f":"'SIP Returns'!E418","v":0},{"$f":"'SIP Returns'!F418","v":0},{"$f":"'SIP Returns'!G418","v":0},{"$f":"'SIP Returns'!H418","v":0},{"$f":"'SIP Returns'!I418","v":0},{"$f":"'SIP Returns'!J418","v":0},1,10,8,4,1,1,{"$f":"IF(J417=\"\",\"\",IF(J417>Inputs!$D$9,0,1))","v":1},{"$f":"IF(K417=\"\",\"\",IF(K417>Inputs!$D$9,0,1))","v":1},{"$f":"IF(L417=\"\",\"\",IF(L417>Inputs!$D$9,0,1))","v":1},{"$f":"IF(M417=\"\",\"\",IF(M417>Inputs!$D$9,0,1))","v":1},{"$f":"IF(N417=\"\",\"\",IF(N417>Inputs!$D$9,0,1))","v":1},{"$f":"IF(O417=\"\",\"\",IF(O417>Inputs!$D$9,0,1))","v":1},{"$f":"IF(COUNT(P417:U417)=0,\"\",INDEX(Inputs!$O$21:$P$26,MATCH(COUNT(P417:U417),Inputs!$O$21:$O$26,0),2))","v":20},1,null,null,{"$f":"IF(D417=\"\",\"\",IF(D417=\"-\",\"\",IF(D417>AVERAGE($D$2:$D$1000),1,0)))","v":1},1,1,1,1,1,1]
[{"$f":"'SIP Returns'!B419","v":0},null,{"$f":"'SIP Returns'!D419","v":0},{"$f":"'SIP Returns'!E419","v":0},{"$f":"'SIP Returns'!F419","v":0},{"$f":"'SIP Returns'!G419","v":0},{"$f":"'SIP Returns'!H419","v":0},{"$f":"'SIP Returns'!I419","v":0},{"$f":"'SIP Returns'!J419","v":0},1,10,8,4,1,1,{"$f":"IF(J418=\"\",\"\",IF(J418>Inputs!$D$9,0,1))","v":1},{"$f":"IF(K418=\"\",\"\",IF(K418>Inputs!$D$9,0,1))","v":1},{"$f":"IF(L418=\"\",\"\",IF(L418>Inputs!$D$9,0,1))","v":1},{"$f":"IF(M418=\"\",\"\",IF(M418>Inputs!$D$9,0,1))","v":1},{"$f":"IF(N418=\"\",\"\",IF(N418>Inputs!$D$9,0,1))","v":1},{"$f":"IF(O418=\"\",\"\",IF(O418>Inputs!$D$9,0,1))","v":1},{"$f":"IF(COUNT(P418:U418)=0,\"\",INDEX(Inputs!$O$21:$P$26,MATCH(COUNT(P418:U418),Inputs!$O$21:$O$26,0),2))","v":20},1,null,null,{"$f":"IF(D418=\"\",\"\",IF(D418=\"-\",\"\",IF(D418>AVERAGE($D$2:$D$1000),1,0)))","v":1},1,1,1,1,1,1]
[{"$f":"'SIP Returns'!B420","v":0},null,{"$f":"'SIP Returns'!D420","v":0},{"$f":"'SIP Returns'!E420","v":0},{"$f":"'SIP Returns'!F420","v":0},{"$f":"'SIP Returns'!G420","v":0},{"$f":"'SIP Returns'!H420","v":0},{"$f":"'SIP Returns'!I420","v":0},{"$f":"'SIP Returns'!J420","v":0},1,10,8,4,1,1,{"$f":"IF(J419=\"\",\"\",IF(J419>Inputs!$D$9,0,1))","v":1},{"$f":"IF(K419=\"\",\"\",IF(K419>Inputs!$D$9,0,1))","v":1},{"$f":"IF(L419=\"\",\"\",IF(L419>Inputs!$D$9,0,1))","v":1},{"$f":"IF(M419=\"\",\"\",IF(M419>Inputs!$D$9,0,1))","v":1},{"$f":"IF(N419=\"\",\"\",IF(N419>Inputs!$D$9,0,1))","v":1},{"$f":"IF(O419=\"\",\"\",IF(O419>Inputs!$D$9,0,1))","v":1},{"$f":"IF(COUNT(P419:U419)=0,\"\",INDEX(Inputs!$O$21:$P$26,MATCH(COUNT(P419:U419),Inputs!$O$21:$O$26,0),2))","v":20},1,null,null,{"$f":"IF(D419=\"\",\"\",IF(D419=\"-\",\"\",IF(D419>AVERAGE($D$2:$D$1000),1,0)))","v":1},1,1,1,1,1,1]
[{"$f":"'SIP Returns'!B421","v":0},null,{"$f":"'SIP Returns'!D421","v":0},{"$f":"'SIP Returns'!E421","v":0},{"$f":"'SIP Returns'!F421","v":0},{"$f":"'SIP Returns'!G421","v":0},{"$f":"'SIP Returns'!H421","v":0},{"$f":"'SIP Returns'!I421","v":0},{"$f":"'SIP Returns'!J421","v":0},1,10,8,4,1,1,{"$f":"IF(J420=\"\",\"\",IF(J420>Inputs!$D$9,0,1))","v":1},{"$f":"IF(K420=\"\",\"\",IF(K420>Inputs!$D$9,0,1))","v":1},{"$f":"IF(L420=\"\",\"\",IF(L420>Inputs!$D$9,0,1))","v":1},{"$f":"IF(M420=\"\",\"\",IF(M420>Inputs!$D$9,0,1))","v":1},{"$f":"IF(N420=\"\",\"\",IF(N420>Inputs!$D$9,0,1))","v":1},{"$f":"IF(O420=\"\",\"\",IF(O420>Inputs!$D$9,0,1))","v":1},{"$f":"IF(COUNT(P420:U420)=0,\"\",INDEX(Inputs!$O$21:$P$26,MATCH(COUNT(P420:U420),Inputs!$O$21:$O$26,0),2))","v":20},1,null,null,{"$f":"IF(D420=\"\",\"\",IF(D420=\"-\",\"\",IF(D420>AVERAGE($D$2:$D$1000),1,0)))","v":1},1,1,1,1,1,1]
[{"$f":"'SIP Returns'!B422","v":0},null,{"$f":"'SIP Returns'!D422","v":0},{"$f":"'SIP Returns'!E422","v":0},{"$f":"'SIP Returns'!F422","v":0},{"$f":"'SIP Returns'!G422","v":0},{"$f":"'SIP Returns'!H422","v":0},{"$f":"'SIP Returns'!I422","v":0},{"$f":"'SIP Returns'!J422","v":0},1,10,8,4,1,1,{"$f":"IF(J421=\"\",\"\",IF(J421>Inputs!$D$9,0,1))","v":1},{"$f":"IF(K421=\"\",\"\",IF(K421>Inputs!$D$9,0,1))","v":1},{"$f":"IF(L421=\"\",\"\",IF(L421>Inputs!$D$9,0,1))","v":1},{"$f":"IF(M421=\"\",\"\",IF(M421>Inputs!$D$9,0,1))","v":1},{"$f":"IF(N421=\"\",\"\",IF(N421>Inputs!$D$9,0,1))","v":1},{"$f":"IF(O421=\"\",\"\",IF(O421>Inputs!$D$9,0,1))","v":1},{"$f":"IF(COUNT(P421:U421)=0,\"\",INDEX(Inputs!$O$21:$P$26,MATCH(COUNT(P421:U421),Inputs!$O$21:$O$26,0),2))","v":20},1,null,null,{"$f":"IF(D421=\"\",\"\",IF(D421=\"-\",\"\",IF(D421>AVERAGE($D$2:$D$1000),1,0)))","v":1},1,1,1,1,1,1]
[{"$f":"'SIP Returns'!B423","v":0},null,{"$f":"'SIP Returns'!D423","v":0},{"$f":"'SIP Returns'!E423","v":0},{"$f":"'SIP Returns'!F423","v":0},{"$f":"'SIP Returns'!G423","v":0},{"$f":"'SIP Returns'!H423","v":0},{"$f":"'SIP Returns'!I423","v":0},{"$f":"'SIP Returns'!J423","v":0},1,10,8,4,1,1,{"$f":"IF(J422=\"\",\"\",IF(J422>Inputs!$D$9,0,1))","v":1},{"$f":"IF(K422=\"\",\"\",IF(K422>Inputs!$D$9,0,1))","v":1},{"$f":"IF(L422=\"\",\"\",IF(L422>Inputs!$D$9,0,1))","v":1},{"$f":"IF(M422=\"\",\"\",IF(M422>Inputs!$D$9,0,1))","v":1},{"$f":"IF(N422=\"\",\"\",IF(N422>Inputs!$D$9,0,1))","v":1},{"$f":"IF(O422=\"\",\"\",IF(O422>Inputs!$D$9,0,1))","v":1},{"$f":"IF(COUNT(P422:U422)=0,\"\",INDEX(Inputs!$O$21:$P$26,MATCH(COUNT(P422:U422),Inputs!$O$21:$O$26,0),2))","v":20},1,null,null,{"$f":"IF(D422=\"\",\"\",IF(D422=\"-\",\"\",IF(D422>AVERAGE($D$2:$D$1000),1,0)))","v":1},1,1,1,1,1,1]
[{"$f":"'SIP Returns'!B424","v":0},null,{"$f":"'SIP Returns'!D424","v":0},{"$f":"'SIP Returns'!E424","v":0},{"$f":"'SIP Returns'!F424","v":0},{"$f":"'SIP Returns'!G424","v":0},{"$f":"'SIP Returns'!H424","v":0},{"$f":"'SIP Returns'!I424","v":0},{"$f":"'SIP Returns'!J424","v":0},1,10,8,4,1,1,{"$f":"IF(J423=\"\",\"\",IF(J423>Inputs!$D$9,0,1))","v":1},{"$f":"IF(K423=\"\",\"\",IF(K423>Inputs!$D$9,0,1))","v":1},{"$f":"IF(L423=\"\",\"\",IF(L423>Inputs!$D$9,0,1))","v":1},{"$f":"IF(M423=\"\",\"\",IF(M423>Inputs!$D$9,0,1))","v":1},{"$f":"IF(N423=\"\",\"\",IF(N423>Inputs!$D$9,0,1))","v":1},{"$f":"IF(O423=\"\",\"\",IF(O423>Inputs!$D$9,0,1))","v":1},{"$f":"IF(COUNT(P423:U423)=0,\"\",INDEX(Inputs!$O$21:$P$26,MATCH(COUNT(P423:U423),Inputs!$O$21:$O$26,0),2))","v":20},1,null,null,{"$f":"IF(D423=\"\",\"\",IF(D423=\"-\",\"\",IF(D423>AVERAGE($D$2:$D$1000),1,0)))","v":1},1,1,1,1,1,1]
[{"$f":"'SIP Returns'!B425","v":0},null,{"$f":"'SIP Returns'!D425","v":0},{"$f":"'SIP Returns'!E425","v":0},{"$f":"'SIP Returns'!F425","v":0},{"$f":"'SIP Returns'!G425","v":0},{"$f":"'SIP Returns'!H425","v":0},{"$f":"'SIP Returns'!I425","v":0},{"$f":"'SIP Returns'!J425","v":0},1,10,8,4,1,1,{"$f":"IF(J424=\"\",\"\",IF(J424>Inputs!$D$9,0,1))","v":1},{"$f":"IF(K424=\"\",\"\",IF(K424>Inputs!$D$9,0,1))","v":1},{"$f":"IF(L424=\"\",\"\",IF(L424>Inputs!$D$9,0,1))","v":1},{"$f":"IF(M424=\"\",\"\",IF(M424>Inputs!$D$9,0,1))","v":1},{"$f":"IF(N424=\"\",\"\",IF(N424>Inputs!$D$9,0,1))","v":1},{"$f":"IF(O424=\"\",\"\",IF(O424>Inputs!$D$9,0,1))","v":1},{"$f":"IF(COUNT(P424:U424)=0,\"\",INDEX(Inputs!$O$21:$P$26,MATCH(COUNT(P424:U424),Inputs!$O$21:$O$26,0),2))","v":20},1,null,null,{"$f":"IF(D424=\"\",\"\",IF(D424=\"-\",\"\",IF(D424>AVERAGE($D$2:$D$1000),1,0)))","v":1},1,1,1,1,1,1]
[{"$f":"'SIP Returns'!B426","v":0},null,{"$f":"'SIP Returns'!D426","v":0},{"$f":"'SIP Returns'!E426","v":0},{"$f":"'SIP Returns'!F426","v":0},{"$f":"'SIP Returns'!G426","v":0},{"$f":"'SIP Returns'!H426","v":0},{"$f":"'SIP Returns'!I426","v":0},{"$f":"'SIP Returns'!J426","v":0},1,10,8,4,1,1,{"$f":"IF(J425=\"\",\"\",IF(J425>Inputs!$D$9,0,1))","v":1},{"$f":"IF(K425=\"\",\"\",IF(K425>Inputs!$D$9,0,1))","v":1},{"$f":"IF(L425=\"\",\"\",IF(L425>Inputs!$D$9,0,1))","v":1},{"$f":"IF(M425=\"\",\"\",IF(M425>Inputs!$D$9,0,1))","v":1},{"$f":"IF(N425=\"\",\"\",IF(N425>Inputs!$D$9,0,1))","v":1},{"$f":"IF(O425=\"\",\"\",IF(O425>Inputs!$D$9,0,1))","v":1},{"$f":"IF(COUNT(P425:U425)=0,\"\",INDEX(Inputs!$O$21:$P$26,MATCH(COUNT(P425:U425),Inputs!$O$21:$O$26,0),2))","v":20},1,null,null,{"$f":"IF(D425=\"\",\"\",IF(D425=\"-\",\"\",IF(D425>AVERAGE($D$2:$D$1000),1,0)))","v":1},1,1,1,1,1,1]
[{"$f":"'SIP Returns'!B427","v":0},null,{"$f":"'SIP Returns'!D427","v":0},{"$f":"'SIP Returns'!E427","v":0},{"$f":"'SIP Returns'!F427","v":0},{"$f":"'SIP Returns'!G427","v":0},{"$f":"'SIP Returns'!H427","v":0},{"$f":"'SIP Returns'!I427","v":0},{"$f":"'SIP Returns'!J427","v":0},1,10,8,4,1,1,{"$f":"IF(J426=\"\",\"\",IF(J426>Inputs!$D$9,0,1))","v":1},{"$f":"IF(K426=\"\",\"\",IF(K426>Inputs!$D$9,0,1))","v":1},{"$f":"IF(L426=\"\",\"\",IF(L426>Inputs!$D$9,0,1))","v":1},{"$f":"IF(M426=\"\",\"\",IF(M426>Inputs!$D$9,0,1))","v":1},{"$f":"IF(N426=\"\",\"\",IF(N426>Inputs!$D$9,0,1))","v":1},{"$f":"IF(O426=\"\",\"\",IF(O426>Inputs!$D$9,0,1))","v":1},{"$f":"IF(COUNT(P426:U426)=0,\"\",INDEX(Inputs!$O$21:$P$26,MATCH(COUNT(P426:U426),Inputs!$O$21:$O$26,0),2))","v":20},1,null,null,{"$f":"IF(D426=\"\",\"\",IF(D426=\"-\",\"\",IF(D426>AVERAGE($D$2:$D$1000),1,0)))","v":1},1,1,1,1,1,1]
[{"$f":"'SIP Returns'!B428","v":0},null,{"$f":"'SIP Returns'!D428","v":0},{"$f":"'SIP Returns'!E428","v":0},{"$f":"'SIP Returns'!F428","v":0},{"$f":"'SIP Returns'!G428","v":0},{"$f":"'SIP Returns'!H428","v":0},{"$f":"'SIP Returns'!I428","v":0},{"$f":"'SIP Returns'!J428","v":0},1,10,8,4,1,1,{"$f":"IF(J427=\"\",\"\",IF(J427>Inputs!$D$9,0,1))","v":1},{"$f":"IF(K427=\"\",\"\",IF(K427>Inputs!$D$9,0,1))","v":1},{"$f":"IF(L427=\"\",\"\",IF(L427>Inputs!$D$9,0,1))","v":1},{"$f":"IF(M427=\"\",\"\",IF(M427>Inputs!$D$9,0,1))","v":1},{"$f":"IF(N427=\"\",\"\",IF(N427>Inputs!$D$9,0,1))","v":1},{"$f":"IF(O427=\"\",\"\",IF(O427>Inputs!$D$9,0,1))","v":1},{"$f":"IF(COUNT(P427:U427)=0,\"\",INDEX(Inputs!$O$21:$P$26,MATCH(COUNT(P427:U427),Inputs!$O$21:$O$26,0),2))","v":20},1,null,null,{"$f":"IF(D427=\"\",\"\",IF(D427=\"-\",\"\",IF(D427>AVERAGE($D$2:$D$1000),1,0)))","v":1},1,1,1,1,1,1]
[{"$f":"'SIP Returns'!B429","v":0},null,{"$f":"'SIP Returns'!D429","v":0},{"$f":"'SIP Returns'!E429","v":0},{"$f":"'SIP Returns'!F429","v":0},{"$f":"'SIP Returns'!G429","v":0},{"$f":"'SIP Returns'!H429","v":0},{"$f":"'SIP Returns'!I429","v":0},{"$f":"'SIP Returns'!J429","v":0},1,10,8,4,1,1,{"$f":"IF(J428=\"\",\"\",IF(J428>Inputs!$D$9,0,1))","v":1},{"$f":"IF(K428=\"\",\"\",IF(K428>Inputs!$D$9,0,1))","v":1},{"$f":"IF(L428=\"\",\"\",IF(L428>Inputs!$D$9,0,1))","v":1},{"$f":"IF(M428=\"\",\"\",IF(M428>Inputs!$D$9,0,1))","v":1},{"$f":"IF(N428=\"\",\"\",IF(N428>Inputs!$D$9,0,1))","v":1},{"$f":"IF(O428=\"\",\"\",IF(O428>Inputs!$D$9,0,1))","v":1},{"$f":"IF(COUNT(P428:U428)=0,\"\",INDEX(Inputs!$O$21:$P$26,MATCH(COUNT(P428:U428),Inputs!$O$21:$O$26,0),2))","v":20},1,null,null,{"$f":"IF(D428=\"\",\"\",IF(D428=\"-\",\"\",IF(D428>AVERAGE($D$2:$D$1000),1,0)))","v":1},1,1,1,1,1,1]
[{"$f":"'SIP Returns'!B430","v":0},null,{"$f":"'SIP Returns'!D430","v":0},{"$f":"'SIP Returns'!E430","v":0},{"$f":"'SIP Returns'!F430","v":0},{"$f":"'SIP Returns'!G430","v":0},{"$f":"'SIP Returns'!H430","v":0},{"$f":"'SIP Returns'!I430","v":0},{"$f":"'SIP Returns'!J430","v":0},1,10,8,4,1,1,{"$f":"IF(J429=\"\",\"\",IF(J429>Inputs!$D$9,0,1))","v":1},{"$f":"IF(K429=\"\",\"\",IF(K429>Inputs!$D$9,0,1))","v":1},{"$f":"IF(L429=\"\",\"\",IF(L429>Inputs!$D$9,0,1))","v":1},{"$f":"IF(M429=\"\",\"\",IF(M429>Inputs!$D$9,0,1))","v":1},{"$f":"IF(N429=\"\",\"\",IF(N429>Inputs!$D$9,0,1))","v":1},{"$f":"IF(O429=\"\",\"\",IF(O429>Inputs!$D$9,0,1))","v":1},{"$f":"IF(COUNT(P429:U429)=0,\"\",INDEX(Inputs!$O$21:$P$26,MATCH(COUNT(P429:U429),Inputs!$O$21:$O$26,0),2))","v":20},1,null,null,{"$f":"IF(D429=\"\",\"\",IF(D429=\"-\",\"\",IF(D429>AVERAGE($D$2:$D$1000),1,0)))","v":1},1,1,1,1,1,1]
[{"$f":"'SIP Returns'!B431","v":0},null,{"$f":"'SIP Returns'!D431","v":0},{"$f":"'SIP Returns'!E431","v":0},{"$f":"'SIP Returns'!F431","v":0},{"$f":"'SIP Returns'!G431","v":0},{"$f":"'SIP Returns'!H431","v":0},{"$f":"'SIP Returns'!I431","v":0},{"$f":"'SIP Returns'!J431","v":0},1,10,8,4,1,1,{"$f":"IF(J430=\"\",\"\",IF(J430>Inputs!$D$9,0,1))","v":1},{"$f":"IF(K430=\"\",\"\",IF(K430>Inputs!$D$9,0,1))","v":1},{"$f":"IF(L430=\"\",\"\",IF(L430>Inputs!$D$9,0,1))","v":1},{"$f":"IF(M430=\"\",\"\",IF(M430>Inputs!$D$9,0,1))","v":1},{"$f":"IF(N430=\"\",\"\",IF(N430>Inputs!$D$9,0,1))","v":1},{"$f":"IF(O430=\"\",\"\",IF(O430>Inputs!$D$9,0,1))","v":1},{"$f":"IF(COUNT(P430:U430)=0,\"\",INDEX(Inputs!$O$21:$P$26,MATCH(COUNT(P430:U430),Inputs!$O$21:$O$26,0),2))","v":20},1,null,null,{"$f":"IF(D430=\"\",\"\",IF(D430=\"-\",\"\",IF(D430>AVERAGE($D$2:$D$1000),1,0)))","v":1},1,1,1,1,1,1]
[{"$f":"'SIP Returns'!B432","v":0},null,{"$f":"'SIP Returns'!D432","v":0},{"$f":"'SIP Returns'!E432","v":0},{"$f":"'SIP Returns'!F432","v":0},{"$f":"'SIP Returns'!G432","v":0},{"$f":"'SIP Returns'!H432","v":0},{"$f":"'SIP Returns'!I432","v":0},{"$f":"'SIP Returns'!J432","v":0},1,10,8,4,1,1,{"$f":"IF(J431=\"\",\"\",IF(J431>Inputs!$D$9,0,1))","v":1},{"$f":"IF(K431=\"\",\"\",IF(K431>Inputs!$D$9,0,1))","v":1},{"$f":"IF(L431=\"\",\"\",IF(L431>Inputs!$D$9,0,1))","v":1},{"$f":"IF(M431=\"\",\"\",IF(M431>Inputs!$D$9,0,1))","v":1},{"$f":"IF(N431=\"\",\"\",IF(N431>Inputs!$D$9,0,1))","v":1},{"$f":"IF(O431=\"\",\"\",IF(O431>Inputs!$D$9,0,1))","v":1},{"$f":"IF(COUNT(P431:U431)=0,\"\",INDEX(Inputs!$O$21:$P$26,MATCH(COUNT(P431:U431),Inputs!$O$21:$O$26,0),2))","v":20},1,null,null,{"$f":"IF(D431=\"\",\"\",IF(D431=\"-\",\"\",IF(D431>AVERAGE($D$2:$D$1000),1,0)))","v":1},1,1,1,1,1,1]
[{"$f":"'SIP Returns'!B433","v":0},null,{"$f":"'SIP Returns'!D433","v":0},{"$f":"'SIP Returns'!E433","v":0},{"$f":"'SIP Returns'!F433","v":0},{"$f":"'SIP Returns'!G433","v":0},{"$f":"'SIP Returns'!H433","v":0},{"$f":"'SIP Returns'!I433","v":0},{"$f":"'SIP Returns'!J433","v":0},1,10,8,4,1,1,{"$f":"IF(J432=\"\",\"\",IF(J432>Inputs!$D$9,0,1))","v":1},{"$f":"IF(K432=\"\",\"\",IF(K432>Inputs!$D$9,0,1))","v":1},{"$f":"IF(L432=\"\",\"\",IF(L432>Inputs!$D$9,0,1))","v":1},{"$f":"IF(M432=\"\",\"\",IF(M432>Inputs!$D$9,0,1))","v":1},{"$f":"IF(N432=\"\",\"\",IF(N432>Inputs!$D$9,0,1))","v":1},{"$f":"IF(O432=\"\",\"\",IF(O432>Inputs!$D$9,0,1))","v":1},{"$f":"IF(COUNT(P432:U432)=0,\"\",INDEX(Inputs!$O$21:$P$26,MATCH(COUNT(P432:U432),Inputs!$O$21:$O$26,0),2))","v":20},1,null,null,{"$f":"IF(D432=\"\",\"\",IF(D432=\"-\",\"\",IF(D432>AVERAGE($D$2:$D$1000),1,0)))","v":1},1,1,1,1,1,1]
[{"$f":"'SIP Returns'!B434","v":0},null,{"$f":"'SIP Returns'!D434","v":0},{"$f":"'SIP Returns'!E434","v":0},{"$f":"'SIP Returns'!F434","v":0},{"$f":"'SIP Returns'!G434","v":0},{"$f":"'SIP Returns'!H434","v":0},{"$f":"'SIP Returns'!I434","v":0},{"$f":"'SIP Returns'!J434","v":0},1,10,8,4,1,1,{"$f":"IF(J433=\"\",\"\",IF(J433>Inputs!$D$9,0,1))","v":1},{"$f":"IF(K433=\"\",\"\",IF(K433>Inputs!$D$9,0,1))","v":1},{"$f":"IF(L433=\"\",\"\",IF(L433>Inputs!$D$9,0,1))","v":1},{"$f":"IF(M433=\"\",\"\",IF(M433>Inputs!$D$9,0,1))","v":1},{"$f":"IF(N433=\"\",\"\",IF(N433>Inputs!$D$9,0,1))","v":1},{"$f":"IF(O433=\"\",\"\",IF(O433>Inputs!$D$9,0,1))","v":1},{"$f":"IF(COUNT(P433:U433)=0,\"\",INDEX(Inputs!$O$21:$P$26,MATCH(COUNT(P433:U433),Inputs!$O$21:$O$26,0),2))","v":20},1,null,null,{"$f":"IF(D433=\"\",\"\",IF(D433=\"-\",\"\",IF(D433>AVERAGE($D$2:$D$1000),1,0)))","v":1},1,1,1,1,1,1]
[{"$f":"'SIP Returns'!B435","v":0},null,{"$f":"'SIP Returns'!D435","v":0},{"$f":"'SIP Returns'!E435","v":0},{"$f":"'SIP Returns'!F435","v":0},{"$f":"'SIP Returns'!G435","v":0},{"$f":"'SIP Returns'!H435","v":0},{"$f":"'SIP Returns'!I435","v":0},{"$f":"'SIP Returns'!J435","v":0},1,10,8,4,1,1,{"$f":"IF(J434=\"\",\"\",IF(J434>Inputs!$D$9,0,1))","v":1},{"$f":"IF(K434=\"\",\"\",IF(K434>Inputs!$D$9,0,1))","v":1},{"$f":"IF(L434=\"\",\"\",IF(L434>Inputs!$D$9,0,1))","v":1},{"$f":"IF(M434=\"\",\"\",IF(M434>Inputs!$D$9,0,1))","v":1},{"$f":"IF(N434=\"\",\"\",IF(N434>Inputs!$D$9,0,1))","v":1},{"$f":"IF(O434=\"\",\"\",IF(O434>Inputs!$D$9,0,1))","v":1},{"$f":"IF(COUNT(P434:U434)=0,\"\",INDEX(Inputs!$O$21:$P$26,MATCH(COUNT(P434:U434),Inputs!$O$21:$O$26,0),2))","v":20},1,null,null,{"$f":"IF(D434=\"\",\"\",IF(D434=\"-\",\"\",IF(D434>AVERAGE($D$2:$D$1000),1,0)))","v":1},1,1,1,1,1,1]
[{"$f":"'SIP Returns'!B436","v":0},null,{"$f":"'SIP Returns'!D436","v":0},{"$f":"'SIP Returns'!E436","v":0},{"$f":"'SIP Returns'!F436","v":0},{"$f":"'SIP Returns'!G436","v":0},{"$f":"'SIP Returns'!H436","v":0},{"$f":"'SIP Returns'!I436","v":0},{"$f":"'SIP Returns'!J436","v":0},1,10,8,4,1,1,{"$f":"IF(J435=\"\",\"\",IF(J435>Inputs!$D$9,0,1))","v":1},{"$f":"IF(K435=\"\",\"\",IF(K435>Inputs!$D$9,0,1))","v":1},{"$f":"IF(L435=\"\",\"\",IF(L435>Inputs!$D$9,0,1))","v":1},{"$f":"IF(M435=\"\",\"\",IF(M435>Inputs!$D$9,0,1))","v":1},{"$f":"IF(N435=\"\",\"\",IF(N435>Inputs!$D$9,0,1))","v":1},{"$f":"IF(O435=\"\",\"\",IF(O435>Inputs!$D$9,0,1))","v":1},{"$f":"IF(COUNT(P435:U435)=0,\"\",INDEX(Inputs!$O$21:$P$26,MATCH(COUNT(P435:U435),Inputs!$O$21:$O$26,0),2))","v":20},1,null,null,{"$f":"IF(D435=\"\",\"\",IF(D435=\"-\",\"\",IF(D435>AVERAGE($D$2:$D$1000),1,0)))","v":1},1,1,1,1,1,1]
[{"$f":"'SIP Returns'!B437","v":0},null,{"$f":"'SIP Returns'!D437","v":0},{"$f":"'SIP Returns'!E437","v":0},{"$f":"'SIP Returns'!F437","v":0},{"$f":"'SIP Returns'!G437","v":0},{"$f":"'SIP Returns'!H437","v":0},{"$f":"'SIP Returns'!I437","v":0},{"$f":"'SIP Returns'!J437","v":0},1,10,8,4,1,1,{"$f":"IF(J436=\"\",\"\",IF(J436>Inputs!$D$9,0,1))","v":1},{"$f":"IF(K436=\"\",\"\",IF(K436>Inputs!$D$9,0,1))","v":1},{"$f":"IF(L436=\"\",\"\",IF(L436>Inputs!$D$9,0,1))","v":1},{"$f":"IF(M436=\"\",\"\",IF(M436>Inputs!$D$9,0,1))","v":1},{"$f":"IF(N436=\"\",\"\",IF(N436>Inputs!$D$9,0,1))","v":1},{"$f":"IF(O436=\"\",\"\",IF(O436>Inputs!$D$9,0,1))","v":1},{"$f":"IF(COUNT(P436:U436)=0,\"\",INDEX(Inputs!$O$21:$P$26,MATCH(COUNT(P436:U436),Inputs!$O$21:$O$26,0),2))","v":20},1,null,null,{"$f":"IF(D436=\"\",\"\",IF(D436=\"-\",\"\",IF(D436>AVERAGE($D$2:$D$1000),1,0)))","v":1},1,1,1,1,1,1]
[{"$f":"'SIP Returns'!B438","v":0},null,{"$f":"'SIP Returns'!D438","v":0},{"$f":"'SIP Returns'!E438","v":0},{"$f":"'SIP Returns'!F438","v":0},{"$f":"'SIP Returns'!G438","v":0},{"$f":"'SIP Returns'!H438","v":0},{"$f":"'SIP Returns'!I438","v":0},{"$f":"'SIP Returns'!J438","v":0},1,10,8,4,1,1,{"$f":"IF(J437=\"\",\"\",IF(J437>Inputs!$D$9,0,1))","v":1},{"$f":"IF(K437=\"\",\"\",IF(K437>Inputs!$D$9,0,1))","v":1},{"$f":"IF(L437=\"\",\"\",IF(L437>Inputs!$D$9,0,1))","v":1},{"$f":"IF(M437=\"\",\"\",IF(M437>Inputs!$D$9,0,1))","v":1},{"$f":"IF(N437=\"\",\"\",IF(N437>Inputs!$D$9,0,1))","v":1},{"$f":"IF(O437=\"\",\"\",IF(O437>Inputs!$D$9,0,1))","v":1},{"$f":"IF(COUNT(P437:U437)=0,\"\",INDEX(Inputs!$O$21:$P$26,MATCH(COUNT(P437:U437),Inputs!$O$21:$O$26,0),2))","v":20},1,null,null,{"$f":"IF(D437=\"\",\"\",IF(D437=\"-\",\"\",IF(D437>AVERAGE($D$2:$D$1000),1,0)))","v":1},1,1,1,1,1,1]
[{"$f":"'SIP Returns'!B439","v":0},null,{"$f":"'SIP Returns'!D439","v":0},{"$f":"'SIP Returns'!E439","v":0},{"$f":"'SIP Returns'!F439","v":0},{"$f":"'SIP Returns'!G439","v":0},{"$f":"'SIP Returns'!H439","v":0},{"$f":"'SIP Returns'!I439","v":0},{"$f":"'SIP Returns'!J439","v":0},1,10,8,4,1,1,{"$f":"IF(J438=\"\",\"\",IF(J438>Inputs!$D$9,0,1))","v":1},{"$f":"IF(K438=\"\",\"\",IF(K438>Inputs!$D$9,0,1))","v":1},{"$f":"IF(L438=\"\",\"\",IF(L438>Inputs!$D$9,0,1))","v":1},{"$f":"IF(M438=\"\",\"\",IF(M438>Inputs!$D$9,0,1))","v":1},{"$f":"IF(N438=\"\",\"\",IF(N438>Inputs!$D$9,0,1))","v":1},{"$f":"IF(O438=\"\",\"\",IF(O438>Inputs!$D$9,0,1))","v":1},{"$f":"IF(COUNT(P438:U438)=0,\"\",INDEX(Inputs!$O$21:$P$26,MATCH(COUNT(P438:U438),Inputs!$O$21:$O$26,0),2))","v":20},1,null,null,{"$f":"IF(D438=\"\",\"\",IF(D438=\"-\",\"\",IF(D438>AVERAGE($D$2:$D$1000),1,0)))","v":1},1,1,1,1,1,1]
[{"$f":"'SIP Returns'!B440","v":0},null,{"$f":"'SIP Returns'!D440","v":0},{"$f":"'SIP Returns'!E440","v":0},{"$f":"'SIP Returns'!F440","v":0},{"$f":"'SIP Returns'!G440","v":0},{"$f":"'SIP Returns'!H440","v":0},{"$f":"'SIP Returns'!I440","v":0},{"$f":"'SIP Returns'!J440","v":0},1,10,8,4,1,1,{"$f":"IF(J439=\"\",\"\",IF(J439>Inputs!$D$9,0,1))","v":1},{"$f":"IF(K439=\"\",\"\",IF(K439>Inputs!$D$9,0,1))","v":1},{"$f":"IF(L439=\"\",\"\",IF(L439>Inputs!$D$9,0,1))","v":1},{"$f":"IF(M439=\"\",\"\",IF(M439>Inputs!$D$9,0,1))","v":1},{"$f":"IF(N439=\"\",\"\",IF(N439>Inputs!$D$9,0,1))","v":1},{"$f":"IF(O439=\"\",\"\",IF(O439>Inputs!$D$9,0,1))","v":1},{"$f":"IF(COUNT(P439:U439)=0,\"\",INDEX(Inputs!$O$21:$P$26,MATCH(COUNT(P439:U439),Inputs!$O$21:$O$26,0),2))","v":20},1,null,null,{"$f":"IF(D439=\"\",\"\",IF(D439=\"-\",\"\",IF(D439>AVERAGE($D$2:$D$1000),1,0)))","v":1},1,1,1,1,1,1]
[{"$f":"'SIP Returns'!B441","v":0},null,{"$f":"'SIP Returns'!D441","v":0},{"$f":"'SIP Returns'!E441","v":0},{"$f":"'SIP Returns'!F441","v":0},{"$f":"'SIP Returns'!G441","v":0},{"$f":"'SIP Returns'!H441","v":0},{"$f":"'SIP Returns'!I441","v":0},{"$f":"'SIP Returns'!J441","v":0},1,10,8,4,1,1,{"$f":"IF(J440=\"\",\"\",IF(J440>Inputs!$D$9,0,1))","v":1},{"$f":"IF(K440=\"\",\"\",IF(K440>Inputs!$D$9,0,1))","v":1},{"$f":"IF(L440=\"\",\"\",IF(L440>Inputs!$D$9,0,1))","v":1},{"$f":"IF(M440=\"\",\"\",IF(M440>Inputs!$D$9,0,1))","v":1},{"$f":"IF(N440=\"\",\"\",IF(N440>Inputs!$D$9,0,1))","v":1},{"$f":"IF(O440=\"\",\"\",IF(O440>Inputs!$D$9,0,1))","v":1},{"$f":"IF(COUNT(P440:U440)=0,\"\",INDEX(Inputs!$O$21:$P$26,MATCH(COUNT(P440:U440),Inputs!$O$21:$O$26,0),2))","v":20},1,null,null,{"$f":"IF(D440=\"\",\"\",IF(D440=\"-\",\"\",IF(D440>AVERAGE($D$2:$D$1000),1,0)))","v":1},1,1,1,1,1,1]
[{"$f":"'SIP Returns'!B442","v":0},null,{"$f":"'SIP Returns'!D442","v":0},{"$f":"'SIP Returns'!E442","v":0},{"$f":"'SIP Returns'!F442","v":0},{"$f":"'SIP Returns'!G442","v":0},{"$f":"'SIP Returns'!H442","v":0},{"$f":"'SIP Returns'!I442","v":0},{"$f":"'SIP Returns'!J442","v":0},1,10,8,4,1,1,{"$f":"IF(J441=\"\",\"\",IF(J441>Inputs!$D$9,0,1))","v":1},{"$f":"IF(K441=\"\",\"\",IF(K441>Inputs!$D$9,0,1))","v":1},{"$f":"IF(L441=\"\",\"\",IF(L441>Inputs!$D$9,0,1))","v":1},{"$f":"IF(M441=\"\",\"\",IF(M441>Inputs!$D$9,0,1))","v":1},{"$f":"IF(N441=\"\",\"\",IF(N441>Inputs!$D$9,0,1))","v":1},{"$f":"IF(O441=\"\",\"\",IF(O441>Inputs!$D$9,0,1))","v":1},{"$f":"IF(COUNT(P441:U441)=0,\"\",INDEX(Inputs!$O$21:$P$26,MATCH(COUNT(P441:U441),Inputs!$O$21:$O$26,0),2))","v":20},1,null,null,{"$f":"IF(D441=\"\",\"\",IF(D441=\"-\",\"\",IF(D441>AVERAGE($D$2:$D$1000),1,0)))","v":1},1,1,1,1,1,1]
[{"$f":"'SIP Returns'!B443","v":0},null,{"$f":"'SIP Returns'!D443","v":0},{"$f":"'SIP Returns'!E443","v":0},{"$f":"'SIP Returns'!F443","v":0},{"$f":"'SIP Returns'!G443","v":0},{"$f":"'SIP Returns'!H443","v":0},{"$f":"'SIP Returns'!I443","v":0},{"$f":"'SIP Returns'!J443","v":0},1,10,8,4,1,1,{"$f":"IF(J442=\"\",\"\",IF(J442>Inputs!$D$9,0,1))","v":1},{"$f":"IF(K442=\"\",\"\",IF(K442>Inputs!$D$9,0,1))","v":1},{"$f":"IF(L442=\"\",\"\",IF(L442>Inputs!$D$9,0,1))","v":1},{"$f":"IF(M442=\"\",\"\",IF(M442>Inputs!$D$9,0,1))","v":1},{"$f":"IF(N442=\"\",\"\",IF(N442>Inputs!$D$9,0,1))","v":1},{"$f":"IF(O442=\"\",\"\",IF(O442>Inputs!$D$9,0,1))","v":1},{"$f":"IF(COUNT(P442:U442)=0,\"\",INDEX(Inputs!$O$21:$P$26,MATCH(COUNT(P442:U442),Inputs!$O$21:$O$26,0),2))","v":20},1,null,null,{"$f":"IF(D442=\"\",\"\",IF(D442=\"-\",\"\",IF(D442>AVERAGE($D$2:$D$1000),1,0)))","v":1},1,1,1,1,1,1]
[{"$f":"'SIP Returns'!B444","v":0},null,{"$f":"'SIP Returns'!D444","v":0},{"$f":"'SIP Returns'!E444","v":0},{"$f":"'SIP Returns'!F444","v":0},{"$f":"'SIP Returns'!G444","v":0},{"$f":"'SIP Returns'!H444","v":0},{"$f":"'SIP Returns'!I444","v":0},{"$f":"'SIP Returns'!J444","v":0},1,10,8,4,1,1,{"$f":"IF(J443=\"\",\"\",IF(J443>Inputs!$D$9,0,1))","v":1},{"$f":"IF(K443=\"\",\"\",IF(K443>Inputs!$D$9,0,1))","v":1},{"$f":"IF(L443=\"\",\"\",IF(L443>Inputs!$D$9,0,1))","v":1},{"$f":"IF(M443=\"\",\"\",IF(M443>Inputs!$D$9,0,1))","v":1},{"$f":"IF(N443=\"\",\"\",IF(N443>Inputs!$D$9,0,1))","v":1},{"$f":"IF(O443=\"\",\"\",IF(O443>Inputs!$D$9,0,1))","v":1},{"$f":"IF(COUNT(P443:U443)=0,\"\",INDEX(Inputs!$O$21:$P$26,MATCH(COUNT(P443:U443),Inputs!$O$21:$O$26,0),2))","v":20},1,null,null,{"$f":"IF(D443=\"\",\"\",IF(D443=\"-\",\"\",IF(D443>AVERAGE($D$2:$D$1000),1,0)))","v":1},1,1,1,1,1,1]
[{"$f":"'SIP Returns'!B445","v":0},null,{"$f":"'SIP Returns'!D445","v":0},{"$f":"'SIP Returns'!E445","v":0},{"$f":"'SIP Returns'!F445","v":0},{"$f":"'SIP Returns'!G445","v":0},{"$f":"'SIP Returns'!H445","v":0},{"$f":"'SIP Returns'!I445","v":0},{"$f":"'SIP Returns'!J445","v":0},1,10,8,4,1,1,{"$f":"IF(J444=\"\",\"\",IF(J444>Inputs!$D$9,0,1))","v":1},{"$f":"IF(K444=\"\",\"\",IF(K444>Inputs!$D$9,0,1))","v":1},{"$f":"IF(L444=\"\",\"\",IF(L444>Inputs!$D$9,0,1))","v":1},{"$f":"IF(M444=\"\",\"\",IF(M444>Inputs!$D$9,0,1))","v":1},{"$f":"IF(N444=\"\",\"\",IF(N444>Inputs!$D$9,0,1))","v":1},{"$f":"IF(O444=\"\",\"\",IF(O444>Inputs!$D$9,0,1))","v":1},{"$f":"IF(COUNT(P444:U444)=0,\"\",INDEX(Inputs!$O$21:$P$26,MATCH(COUNT(P444:U444),Inputs!$O$21:$O$26,0),2))","v":20},1,null,null,{"$f":"IF(D444=\"\",\"\",IF(D444=\"-\",\"\",IF(D444>AVERAGE($D$2:$D$1000),1,0)))","v":1},1,1,1,1,1,1]
[{"$f":"'SIP Returns'!B446","v":0},null,{"$f":"'SIP Returns'!D446","v":0},{"$f":"'SIP Returns'!E446","v":0},{"$f":"'SIP Returns'!F446","v":0},{"$f":"'SIP Returns'!G446","v":0},{"$f":"'SIP Returns'!H446","v":0},{"$f":"'SIP Returns'!I446","v":0},{"$f":"'SIP Returns'!J446","v":0},1,10,8,4,1,1,{"$f":"IF(J445=\"\",\"\",IF(J445>Inputs!$D$9,0,1))","v":1},{"$f":"IF(K445=\"\",\"\",IF(K445>Inputs!$D$9,0,1))","v":1},{"$f":"IF(L445=\"\",\"\",IF(L445>Inputs!$D$9,0,1))","v":1},{"$f":"IF(M445=\"\",\"\",IF(M445>Inputs!$D$9,0,1))","v":1},{"$f":"IF(N445=\"\",\"\",IF(N445>Inputs!$D$9,0,1))","v":1},{"$f":"IF(O445=\"\",\"\",IF(O445>Inputs!$D$9,0,1))","v":1},{"$f":"IF(COUNT(P445:U445)=0,\"\",INDEX(Inputs!$O$21:$P$26,MATCH(COUNT(P445:U445),Inputs!$O$21:$O$26,0),2))","v":20},1,null,null,{"$f":"IF(D445=\"\",\"\",IF(D445=\"-\",\"\",IF(D445>AVERAGE($D$2:$D$1000),1,0)))","v":1},1,1,1,1,1,1]
[{"$f":"'SIP Returns'!B447","v":0},null,{"$f":"'SIP Returns'!D447","v":0},{"$f":"'SIP Returns'!E447","v":0},{"$f":"'SIP Returns'!F447","v":0},{"$f":"'SIP Returns'!G447","v":0},{"$f":"'SIP Returns'!H447","v":0},{"$f":"'SIP Returns'!I447","v":0},{"$f":"'SIP Returns'!J447","v":0},1,10,8,4,1,1,{"$f":"IF(J446=\"\",\"\",IF(J446>Inputs!$D$9,0,1))","v":1},{"$f":"IF(K446=\"\",\"\",IF(K446>Inputs!$D$9,0,1))","v":1},{"$f":"IF(L446=\"\",\"\",IF(L446>Inputs!$D$9,0,1))","v":1},{"$f":"IF(M446=\"\",\"\",IF(M446>Inputs!$D$9,0,1))","v":1},{"$f":"IF(N446=\"\",\"\",IF(N446>Inputs!$D$9,0,1))","v":1},{"$f":"IF(O446=\"\",\"\",IF(O446>Inputs!$D$9,0,1))","v":1},{"$f":"IF(COUNT(P446:U446)=0,\"\",INDEX(Inputs!$O$21:$P$26,MATCH(COUNT(P446:U446),Inputs!$O$21:$O$26,0),2))","v":20},1,null,null,{"$f":"IF(D446=\"\",\"\",IF(D446=\"-\",\"\",IF(D446>AVERAGE($D$2:$D$1000),1,0)))","v":1},1,1,1,1,1,1]
[{"$f":"'SIP Returns'!B448","v":0},null,{"$f":"'SIP Returns'!D448","v":0},{"$f":"'SIP Returns'!E448","v":0},{"$f":"'SIP Returns'!F448","v":0},{"$f":"'SIP Returns'!G448","v":0},{"$f":"'SIP Returns'!H448","v":0},{"$f":"'SIP Returns'!I448","v":0},{"$f":"'SIP Returns'!J448","v":0},1,10,8,4,1,1,{"$f":"IF(J447=\"\",\"\",IF(J447>Inputs!$D$9,0,1))","v":1},{"$f":"IF(K447=\"\",\"\",IF(K447>Inputs!$D$9,0,1))","v":1},{"$f":"IF(L447=\"\",\"\",IF(L447>Inputs!$D$9,0,1))","v":1},{"$f":"IF(M447=\"\",\"\",IF(M447>Inputs!$D$9,0,1))","v":1},{"$f":"IF(N447=\"\",\"\",IF(N447>Inputs!$D$9,0,1))","v":1},{"$f":"IF(O447=\"\",\"\",IF(O447>Inputs!$D$9,0,1))","v":1},{"$f":"IF(COUNT(P447:U447)=0,\"\",INDEX(Inputs!$O$21:$P$26,MATCH(COUNT(P447:U447),Inputs!$O$21:$O$26,0),2))","v":20},1,null,null,{"$f":"IF(D447=\"\",\"\",IF(D447=\"-\",\"\",IF(D447>AVERAGE($D$2:$D$1000),1,0)))","v":1},1,1,1,1,1,1]
[{"$f":"'SIP Returns'!B449","v":0},null,{"$f":"'SIP Returns'!D449","v":0},{"$f":"'SIP Returns'!E449","v":0},{"$f":"'SIP Returns'!F449","v":0},{"$f":"'SIP Returns'!G449","v":0},{"$f":"'SIP Returns'!H449","v":0},{"$f":"'SIP Returns'!I449","v":0},{"$f":"'SIP Returns'!J449","v":0},1,10,8,4,1,1,{"$f":"IF(J448=\"\",\"\",IF(J448>Inputs!$D$9,0,1))","v":1},{"$f":"IF(K448=\"\",\"\",IF(K448>Inputs!$D$9,0,1))","v":1},{"$f":"IF(L448=\"\",\"\",IF(L448>Inputs!$D$9,0,1))","v":1},{"$f":"IF(M448=\"\",\"\",IF(M448>Inputs!$D$9,0,1))","v":1},{"$f":"IF(N448=\"\",\"\",IF(N448>Inputs!$D$9,0,1))","v":1},{"$f":"IF(O448=\"\",\"\",IF(O448>Inputs!$D$9,0,1))","v":1},{"$f":"IF(COUNT(P448:U448)=0,\"\",INDEX(Inputs!$O$21:$P$26,MATCH(COUNT(P448:U448),Inputs!$O$21:$O$26,0),2))","v":20},1,null,null,{"$f":"IF(D448=\"\",\"\",IF(D448=\"-\",\"\",IF(D448>AVERAGE($D$2:$D$1000),1,0)))","v":1},1,1,1,1,1,1]
[{"$f":"'SIP Returns'!B450","v":0},null,{"$f":"'SIP Returns'!D450","v":0},{"$f":"'SIP Returns'!E450","v":0},{"$f":"'SIP Returns'!F450","v":0},{"$f":"'SIP Returns'!G450","v":0},{"$f":"'SIP Returns'!H450","v":0},{"$f":"'SIP Returns'!I450","v":0},{"$f":"'SIP Returns'!J450","v":0},1,10,8,4,1,1,{"$f":"IF(J449=\"\",\"\",IF(J449>Inputs!$D$9,0,1))","v":1},{"$f":"IF(K449=\"\",\"\",IF(K449>Inputs!$D$9,0,1))","v":1},{"$f":"IF(L449=\"\",\"\",IF(L449>Inputs!$D$9,0,1))","v":1},{"$f":"IF(M449=\"\",\"\",IF(M449>Inputs!$D$9,0,1))","v":1},{"$f":"IF(N449=\"\",\"\",IF(N449>Inputs!$D$9,0,1))","v":1},{"$f":"IF(O449=\"\",\"\",IF(O449>Inputs!$D$9,0,1))","v":1},{"$f":"IF(COUNT(P449:U449)=0,\"\",INDEX(Inputs!$O$21:$P$26,MATCH(COUNT(P449:U449),Inputs!$O$21:$O$26,0),2))","v":20},1,null,null,{"$f":"IF(D449=\"\",\"\",IF(D449=\"-\",\"\",IF(D449>AVERAGE($D$2:$D$1000),1,0)))","v":1},1,1,1,1,1,1]
[{"$f":"'SIP Returns'!B451","v":0},null,{"$f":"'SIP Returns'!D451","v":0},{"$f":"'SIP Returns'!E451","v":0},{"$f":"'SIP Returns'!F451","v":0},{"$f":"'SIP Returns'!G451","v":0},{"$f":"'SIP Returns'!H451","v":0},{"$f":"'SIP Returns'!I451","v":0},{"$f":"'SIP Returns'!J451","v":0},{"$f":"IF($A450=\"\",\"\",IF(ISERROR(RANK(D450,$D$2:$D$1000,0)),\"\",RANK(D450,$D$2:$D$1000,0)))","v":1},{"$f":"IF($A450=\"\",\"\",IF(ISERROR(RANK(E450,$E$2:$E$1000,0)),\"\",RANK(E450,$E$2:$E$1000,0)))","v":10},{"$f":"IF($A450=\"\",\"\",IF(ISERROR(RANK(F450,$F$2:$F$1000,0)),\"\",RANK(F450,$F$2:$F$1000,0)))","v":8},{"$f":"IF($A450=\"\",\"\",IF(ISERROR(RANK(G450,$G$2:$G$1000,0)),\"\",RANK(G450,$G$2:$G$1000,0)))","v":4},{"$f":"IF($A450=\"\",\"\",IF(ISERROR(RANK(H450,$H$2:$H$1000,0)),\"\",RANK(H450,$H$2:$H$1000,0)))","v":1},{"$f":"IF($A450=\"\",\"\",IF(ISERROR(RANK(I450,$I$2:$I$1000,0)),\"\",RANK(I450,$I$2:$I$1000,0)))","v":1},{"$f":"IF(J450=\"\",\"\",IF(J450>Inputs!$D$9,0,1))","v":1},{"$f":"IF(K450=\"\",\"\",IF(K450>Inputs!$D$9,0,1))","v":1},{"$f":"IF(L450=\"\",\"\",IF(L450>Inputs!$D$9,0,1))","v":1},{"$f":"IF(M450=\"\",\"\",IF(M450>Inputs!$D$9,0,1))","v":1},{"$f":"IF(N450=\"\",\"\",IF(N450>Inputs!$D$9,0,1))","v":1},{"$f":"IF(O450=\"\",\"\",IF(O450>Inputs!$D$9,0,1))","v":1},{"$f":"IF(COUNT(P450:U450)=0,\"\",INDEX(Inputs!$O$21:$P$26,MATCH(COUNT(P450:U450),Inputs!$O$21:$O$26,0),2))","v":20},1,null,null,{"$f":"IF(D450=\"\",\"\",IF(D450=\"-\",\"\",IF(D450>AVERAGE($D$2:$D$1000),1,0)))","v":1},1,1,1,1,1,{"$f":"IF(COUNT(Z450:AE450)=0,\"\",SUM(Z450:AE450)/COUNT(Z450:AE450))","v":1}]
[{"$f":"'SIP Returns'!B452","v":0},null,{"$f":"'SIP Returns'!D452","v":0},{"$f":"'SIP Returns'!E452","v":0},{"$f":"'SIP Returns'!F452","v":0},{"$f":"'SIP Returns'!G452","v":0},{"$f":"'SIP Returns'!H452","v":0},{"$f":"'SIP Returns'!I452","v":0},{"$f":"'SIP Returns'!J452","v":0},1,10,8,4,1,1,{"$f":"IF(J451=\"\",\"\",IF(J451>Inputs!$D$9,0,1))","v":1},{"$f":"IF(K451=\"\",\"\",IF(K451>Inputs!$D$9,0,1))","v":1},{"$f":"IF(L451=\"\",\"\",IF(L451>Inputs!$D$9,0,1))","v":1},{"$f":"IF(M451=\"\",\"\",IF(M451>Inputs!$D$9,0,1))","v":1},{"$f":"IF(N451=\"\",\"\",IF(N451>Inputs!$D$9,0,1))","v":1},{"$f":"IF(O451=\"\",\"\",IF(O451>Inputs!$D$9,0,1))","v":1},{"$f":"IF(COUNT(P451:U451)=0,\"\",INDEX(Inputs!$O$21:$P$26,MATCH(COUNT(P451:U451),Inputs!$O$21:$O$26,0),2))","v":20},{"$f":"IF(COUNT(P451:U451)=0,\"\",SUM(P451:U451)/COUNT(P451:U451))","v":1},null,null,{"$f":"IF(D451=\"\",\"\",IF(D451=\"-\",\"\",IF(D451>AVERAGE($D$2:$D$1000),1,0)))","v":1},1,1,1,1,1,1]
[{"$f":"'SIP Returns'!B453","v":0},null,{"$f":"'SIP Returns'!D453","v":0},{"$f":"'SIP Returns'!E453","v":0},{"$f":"'SIP Returns'!F453","v":0},{"$f":"'SIP Returns'!G453","v":0},{"$f":"'SIP Returns'!H453","v":0},{"$f":"'SIP Returns'!I453","v":0},{"$f":"'SIP Returns'!J453","v":0},1,10,8,4,1,1,{"$f":"IF(J452=\"\",\"\",IF(J452>Inputs!$D$9,0,1))","v":1},{"$f":"IF(K452=\"\",\"\",IF(K452>Inputs!$D$9,0,1))","v":1},{"$f":"IF(L452=\"\",\"\",IF(L452>Inputs!$D$9,0,1))","v":1},{"$f":"IF(M452=\"\",\"\",IF(M452>Inputs!$D$9,0,1))","v":1},{"$f":"IF(N452=\"\",\"\",IF(N452>Inputs!$D$9,0,1))","v":1},{"$f":"IF(O452=\"\",\"\",IF(O452>Inputs!$D$9,0,1))","v":1},{"$f":"IF(COUNT(P452:U452)=0,\"\",INDEX(Inputs!$O$21:$P$26,MATCH(COUNT(P452:U452),Inputs!$O$21:$O$26,0),2))","v":20},1,null,null,{"$f":"IF(D452=\"\",\"\",IF(D452=\"-\",\"\",IF(D452>AVERAGE($D$2:$D$1000),1,0)))","v":1},1,1,1,1,1,1]
[{"$f":"'SIP Returns'!B454","v":0},null,{"$f":"'SIP Returns'!D454","v":0},{"$f":"'SIP Returns'!E454","v":0},{"$f":"'SIP Returns'!F454","v":0},{"$f":"'SIP Returns'!G454","v":0},{"$f":"'SIP Returns'!H454","v":0},{"$f":"'SIP Returns'!I454","v":0},{"$f":"'SIP Returns'!J454","v":0},1,10,8,4,1,1,{"$f":"IF(J453=\"\",\"\",IF(J453>Inputs!$D$9,0,1))","v":1},{"$f":"IF(K453=\"\",\"\",IF(K453>Inputs!$D$9,0,1))","v":1},{"$f":"IF(L453=\"\",\"\",IF(L453>Inputs!$D$9,0,1))","v":1},{"$f":"IF(M453=\"\",\"\",IF(M453>Inputs!$D$9,0,1))","v":1},{"$f":"IF(N453=\"\",\"\",IF(N453>Inputs!$D$9,0,1))","v":1},{"$f":"IF(O453=\"\",\"\",IF(O453>Inputs!$D$9,0,1))","v":1},{"$f":"IF(COUNT(P453:U453)=0,\"\",INDEX(Inputs!$O$21:$P$26,MATCH(COUNT(P453:U453),Inputs!$O$21:$O$26,0),2))","v":20},1,null,null,{"$f":"IF(D453=\"\",\"\",IF(D453=\"-\",\"\",IF(D453>AVERAGE($D$2:$D$1000),1,0)))","v":1},1,1,1,1,1,1]
[{"$f":"'SIP Returns'!B455","v":0},null,{"$f":"'SIP Returns'!D455","v":0},{"$f":"'SIP Returns'!E455","v":0},{"$f":"'SIP Returns'!F455","v":0},{"$f":"'SIP Returns'!G455","v":0},{"$f":"'SIP Returns'!H455","v":0},{"$f":"'SIP Returns'!I455","v":0},{"$f":"'SIP Returns'!J455","v":0},1,10,8,4,1,1,{"$f":"IF(J454=\"\",\"\",IF(J454>Inputs!$D$9,0,1))","v":1},{"$f":"IF(K454=\"\",\"\",IF(K454>Inputs!$D$9,0,1))","v":1},{"$f":"IF(L454=\"\",\"\",IF(L454>Inputs!$D$9,0,1))","v":1},{"$f":"IF(M454=\"\",\"\",IF(M454>Inputs!$D$9,0,1))","v":1},{"$f":"IF(N454=\"\",\"\",IF(N454>Inputs!$D$9,0,1))","v":1},{"$f":"IF(O454=\"\",\"\",IF(O454>Inputs!$D$9,0,1))","v":1},{"$f":"IF(COUNT(P454:U454)=0,\"\",INDEX(Inputs!$O$21:$P$26,MATCH(COUNT(P454:U454),Inputs!$O$21:$O$26,0),2))","v":20},1,null,null,{"$f":"IF(D454=\"\",\"\",IF(D454=\"-\",\"\",IF(D454>AVERAGE($D$2:$D$1000),1,0)))","v":1},1,1,1,1,1,1]
[{"$f":"'SIP Returns'!B456","v":0},null,{"$f":"'SIP Returns'!D456","v":0},{"$f":"'SIP Returns'!E456","v":0},{"$f":"'SIP Returns'!F456","v":0},{"$f":"'SIP Returns'!G456","v":0},{"$f":"'SIP Returns'!H456","v":0},{"$f":"'SIP Returns'!I456","v":0},{"$f":"'SIP Returns'!J456","v":0},1,10,8,4,1,1,{"$f":"IF(J455=\"\",\"\",IF(J455>Inputs!$D$9,0,1))","v":1},{"$f":"IF(K455=\"\",\"\",IF(K455>Inputs!$D$9,0,1))","v":1},{"$f":"IF(L455=\"\",\"\",IF(L455>Inputs!$D$9,0,1))","v":1},{"$f":"IF(M455=\"\",\"\",IF(M455>Inputs!$D$9,0,1))","v":1},{"$f":"IF(N455=\"\",\"\",IF(N455>Inputs!$D$9,0,1))","v":1},{"$f":"IF(O455=\"\",\"\",IF(O455>Inputs!$D$9,0,1))","v":1},{"$f":"IF(COUNT(P455:U455)=0,\"\",INDEX(Inputs!$O$21:$P$26,MATCH(COUNT(P455:U455),Inputs!$O$21:$O$26,0),2))","v":20},1,null,null,{"$f":"IF(D455=\"\",\"\",IF(D455=\"-\",\"\",IF(D455>AVERAGE($D$2:$D$1000),1,0)))","v":1},1,1,1,1,1,1]
[{"$f":"'SIP Returns'!B457","v":0},null,{"$f":"'SIP Returns'!D457","v":0},{"$f":"'SIP Returns'!E457","v":0},{"$f":"'SIP Returns'!F457","v":0},{"$f":"'SIP Returns'!G457","v":0},{"$f":"'SIP Returns'!H457","v":0},{"$f":"'SIP Returns'!I457","v":0},{"$f":"'SIP Returns'!J457","v":0},1,10,8,4,1,1,{"$f":"IF(J456=\"\",\"\",IF(J456>Inputs!$D$9,0,1))","v":1},{"$f":"IF(K456=\"\",\"\",IF(K456>Inputs!$D$9,0,1))","v":1},{"$f":"IF(L456=\"\",\"\",IF(L456>Inputs!$D$9,0,1))","v":1},{"$f":"IF(M456=\"\",\"\",IF(M456>Inputs!$D$9,0,1))","v":1},{"$f":"IF(N456=\"\",\"\",IF(N456>Inputs!$D$9,0,1))","v":1},{"$f":"IF(O456=\"\",\"\",IF(O456>Inputs!$D$9,0,1))","v":1},{"$f":"IF(COUNT(P456:U456)=0,\"\",INDEX(Inputs!$O$21:$P$26,MATCH(COUNT(P456:U456),Inputs!$O$21:$O$26,0),2))","v":20},1,null,null,{"$f":"IF(D456=\"\",\"\",IF(D456=\"-\",\"\",IF(D456>AVERAGE($D$2:$D$1000),1,0)))","v":1},1,1,1,1,1,1]
[{"$f":"'SIP Returns'!B458","v":0},null,{"$f":"'SIP Returns'!D458","v":0},{"$f":"'SIP Returns'!E458","v":0},{"$f":"'SIP Returns'!F458","v":0},{"$f":"'SIP Returns'!G458","v":0},{"$f":"'SIP Returns'!H458","v":0},{"$f":"'SIP Returns'!I458","v":0},{"$f":"'SIP Returns'!J458","v":0},1,10,8,4,1,1,{"$f":"IF(J457=\"\",\"\",IF(J457>Inputs!$D$9,0,1))","v":1},{"$f":"IF(K457=\"\",\"\",IF(K457>Inputs!$D$9,0,1))","v":1},{"$f":"IF(L457=\"\",\"\",IF(L457>Inputs!$D$9,0,1))","v":1},{"$f":"IF(M457=\"\",\"\",IF(M457>Inputs!$D$9,0,1))","v":1},{"$f":"IF(N457=\"\",\"\",IF(N457>Inputs!$D$9,0,1))","v":1},{"$f":"IF(O457=\"\",\"\",IF(O457>Inputs!$D$9,0,1))","v":1},{"$f":"IF(COUNT(P457:U457)=0,\"\",INDEX(Inputs!$O$21:$P$26,MATCH(COUNT(P457:U457),Inputs!$O$21:$O$26,0),2))","v":20},1,null,null,{"$f":"IF(D457=\"\",\"\",IF(D457=\"-\",\"\",IF(D457>AVERAGE($D$2:$D$1000),1,0)))","v":1},1,1,1,1,1,1]
[{"$f":"'SIP Returns'!B459","v":0},null,{"$f":"'SIP Returns'!D459","v":0},{"$f":"'SIP Returns'!E459","v":0},{"$f":"'SIP Returns'!F459","v":0},{"$f":"'SIP Returns'!G459","v":0},{"$f":"'SIP Returns'!H459","v":0},{"$f":"'SIP Returns'!I459","v":0},{"$f":"'SIP Returns'!J459","v":0},1,10,8,4,1,1,{"$f":"IF(J458=\"\",\"\",IF(J458>Inputs!$D$9,0,1))","v":1},{"$f":"IF(K458=\"\",\"\",IF(K458>Inputs!$D$9,0,1))","v":1},{"$f":"IF(L458=\"\",\"\",IF(L458>Inputs!$D$9,0,1))","v":1},{"$f":"IF(M458=\"\",\"\",IF(M458>Inputs!$D$9,0,1))","v":1},{"$f":"IF(N458=\"\",\"\",IF(N458>Inputs!$D$9,0,1))","v":1},{"$f":"IF(O458=\"\",\"\",IF(O458>Inputs!$D$9,0,1))","v":1},{"$f":"IF(COUNT(P458:U458)=0,\"\",INDEX(Inputs!$O$21:$P$26,MATCH(COUNT(P458:U458),Inputs!$O$21:$O$26,0),2))","v":20},1,null,null,{"$f":"IF(D458=\"\",\"\",IF(D458=\"-\",\"\",IF(D458>AVERAGE($D$2:$D$1000),1,0)))","v":1},1,1,1,1,1,1]
[{"$f":"'SIP Returns'!B460","v":0},null,{"$f":"'SIP Returns'!D460","v":0},{"$f":"'SIP Returns'!E460","v":0},{"$f":"'SIP Returns'!F460","v":0},{"$f":"'SIP Returns'!G460","v":0},{"$f":"'SIP Returns'!H460","v":0},{"$f":"'SIP Returns'!I460","v":0},{"$f":"'SIP Returns'!J460","v":0},1,10,8,4,1,1,{"$f":"IF(J459=\"\",\"\",IF(J459>Inputs!$D$9,0,1))","v":1},{"$f":"IF(K459=\"\",\"\",IF(K459>Inputs!$D$9,0,1))","v":1},{"$f":"IF(L459=\"\",\"\",IF(L459>Inputs!$D$9,0,1))","v":1},{"$f":"IF(M459=\"\",\"\",IF(M459>Inputs!$D$9,0,1))","v":1},{"$f":"IF(N459=\"\",\"\",IF(N459>Inputs!$D$9,0,1))","v":1},{"$f":"IF(O459=\"\",\"\",IF(O459>Inputs!$D$9,0,1))","v":1},{"$f":"IF(COUNT(P459:U459)=0,\"\",INDEX(Inputs!$O$21:$P$26,MATCH(COUNT(P459:U459),Inputs!$O$21:$O$26,0),2))","v":20},1,null,null,{"$f":"IF(D459=\"\",\"\",IF(D459=\"-\",\"\",IF(D459>AVERAGE($D$2:$D$1000),1,0)))","v":1},1,1,1,1,1,1]
[{"$f":"'SIP Returns'!B461","v":0},null,{"$f":"'SIP Returns'!D461","v":0},{"$f":"'SIP Returns'!E461","v":0},{"$f":"'SIP Returns'!F461","v":0},{"$f":"'SIP Returns'!G461","v":0},{"$f":"'SIP Returns'!H461","v":0},{"$f":"'SIP Returns'!I461","v":0},{"$f":"'SIP Returns'!J461","v":0},1,10,8,4,1,1,{"$f":"IF(J460=\"\",\"\",IF(J460>Inputs!$D$9,0,1))","v":1},{"$f":"IF(K460=\"\",\"\",IF(K460>Inputs!$D$9,0,1))","v":1},{"$f":"IF(L460=\"\",\"\",IF(L460>Inputs!$D$9,0,1))","v":1},{"$f":"IF(M460=\"\",\"\",IF(M460>Inputs!$D$9,0,1))","v":1},{"$f":"IF(N460=\"\",\"\",IF(N460>Inputs!$D$9,0,1))","v":1},{"$f":"IF(O460=\"\",\"\",IF(O460>Inputs!$D$9,0,1))","v":1},{"$f":"IF(COUNT(P460:U460)=0,\"\",INDEX(Inputs!$O$21:$P$26,MATCH(COUNT(P460:U460),Inputs!$O$21:$O$26,0),2))","v":20},1,null,null,{"$f":"IF(D460=\"\",\"\",IF(D460=\"-\",\"\",IF(D460>AVERAGE($D$2:$D$1000),1,0)))","v":1},1,1,1,1,1,1]
[{"$f":"'SIP Returns'!B462","v":0},null,{"$f":"'SIP Returns'!D462","v":0},{"$f":"'SIP Returns'!E462","v":0},{"$f":"'SIP Returns'!F462","v":0},{"$f":"'SIP Returns'!G462","v":0},{"$f":"'SIP Returns'!H462","v":0},{"$f":"'SIP Returns'!I462","v":0},{"$f":"'SIP Returns'!J462","v":0},1,10,8,4,1,1,{"$f":"IF(J461=\"\",\"\",IF(J461>Inputs!$D$9,0,1))","v":1},{"$f":"IF(K461=\"\",\"\",IF(K461>Inputs!$D$9,0,1))","v":1},{"$f":"IF(L461=\"\",\"\",IF(L461>Inputs!$D$9,0,1))","v":1},{"$f":"IF(M461=\"\",\"\",IF(M461>Inputs!$D$9,0,1))","v":1},{"$f":"IF(N461=\"\",\"\",IF(N461>Inputs!$D$9,0,1))","v":1},{"$f":"IF(O461=\"\",\"\",IF(O461>Inputs!$D$9,0,1))","v":1},{"$f":"IF(COUNT(P461:U461)=0,\"\",INDEX(Inputs!$O$21:$P$26,MATCH(COUNT(P461:U461),Inputs!$O$21:$O$26,0),2))","v":20},1,null,null,{"$f":"IF(D461=\"\",\"\",IF(D461=\"-\",\"\",IF(D461>AVERAGE($D$2:$D$1000),1,0)))","v":1},1,1,1,1,1,1]
[{"$f":"'SIP Returns'!B463","v":0},null,{"$f":"'SIP Returns'!D463","v":0},{"$f":"'SIP Returns'!E463","v":0},{"$f":"'SIP Returns'!F463","v":0},{"$f":"'SIP Returns'!G463","v":0},{"$f":"'SIP Returns'!H463","v":0},{"$f":"'SIP Returns'!I463","v":0},{"$f":"'SIP Returns'!J463","v":0},1,10,8,4,1,1,{"$f":"IF(J462=\"\",\"\",IF(J462>Inputs!$D$9,0,1))","v":1},{"$f":"IF(K462=\"\",\"\",IF(K462>Inputs!$D$9,0,1))","v":1},{"$f":"IF(L462=\"\",\"\",IF(L462>Inputs!$D$9,0,1))","v":1},{"$f":"IF(M462=\"\",\"\",IF(M462>Inputs!$D$9,0,1))","v":1},{"$f":"IF(N462=\"\",\"\",IF(N462>Inputs!$D$9,0,1))","v":1},{"$f":"IF(O462=\"\",\"\",IF(O462>Inputs!$D$9,0,1))","v":1},{"$f":"IF(COUNT(P462:U462)=0,\"\",INDEX(Inputs!$O$21:$P$26,MATCH(COUNT(P462:U462),Inputs!$O$21:$O$26,0),2))","v":20},1,null,null,{"$f":"IF(D462=\"\",\"\",IF(D462=\"-\",\"\",IF(D462>AVERAGE($D$2:$D$1000),1,0)))","v":1},1,1,1,1,1,1]
[{"$f":"'SIP Returns'!B464","v":0},null,{"$f":"'SIP Returns'!D464","v":0},{"$f":"'SIP Returns'!E464","v":0},{"$f":"'SIP Returns'!F464","v":0},{"$f":"'SIP Returns'!G464","v":0},{"$f":"'SIP Returns'!H464","v":0},{"$f":"'SIP Returns'!I464","v":0},{"$f":"'SIP Returns'!J464","v":0},1,10,8,4,1,1,{"$f":"IF(J463=\"\",\"\",IF(J463>Inputs!$D$9,0,1))","v":1},{"$f":"IF(K463=\"\",\"\",IF(K463>Inputs!$D$9,0,1))","v":1},{"$f":"IF(L463=\"\",\"\",IF(L463>Inputs!$D$9,0,1))","v":1},{"$f":"IF(M463=\"\",\"\",IF(M463>Inputs!$D$9,0,1))","v":1},{"$f":"IF(N463=\"\",\"\",IF(N463>Inputs!$D$9,0,1))","v":1},{"$f":"IF(O463=\"\",\"\",IF(O463>Inputs!$D$9,0,1))","v":1},{"$f":"IF(COUNT(P463:U463)=0,\"\",INDEX(Inputs!$O$21:$P$26,MATCH(COUNT(P463:U463),Inputs!$O$21:$O$26,0),2))","v":20},1,null,null,{"$f":"IF(D463=\"\",\"\",IF(D463=\"-\",\"\",IF(D463>AVERAGE($D$2:$D$1000),1,0)))","v":1},1,1,1,1,1,1]
[{"$f":"'SIP Returns'!B465","v":0},null,{"$f":"'SIP Returns'!D465","v":0},{"$f":"'SIP Returns'!E465","v":0},{"$f":"'SIP Returns'!F465","v":0},{"$f":"'SIP Returns'!G465","v":0},{"$f":"'SIP Returns'!H465","v":0},{"$f":"'SIP Returns'!I465","v":0},{"$f":"'SIP Returns'!J465","v":0},1,10,8,4,1,1,{"$f":"IF(J464=\"\",\"\",IF(J464>Inputs!$D$9,0,1))","v":1},{"$f":"IF(K464=\"\",\"\",IF(K464>Inputs!$D$9,0,1))","v":1},{"$f":"IF(L464=\"\",\"\",IF(L464>Inputs!$D$9,0,1))","v":1},{"$f":"IF(M464=\"\",\"\",IF(M464>Inputs!$D$9,0,1))","v":1},{"$f":"IF(N464=\"\",\"\",IF(N464>Inputs!$D$9,0,1))","v":1},{"$f":"IF(O464=\"\",\"\",IF(O464>Inputs!$D$9,0,1))","v":1},{"$f":"IF(COUNT(P464:U464)=0,\"\",INDEX(Inputs!$O$21:$P$26,MATCH(COUNT(P464:U464),Inputs!$O$21:$O$26,0),2))","v":20},1,null,null,{"$f":"IF(D464=\"\",\"\",IF(D464=\"-\",\"\",IF(D464>AVERAGE($D$2:$D$1000),1,0)))","v":1},1,1,1,1,1,1]
[{"$f":"'SIP Returns'!B466","v":0},null,{"$f":"'SIP Returns'!D466","v":0},{"$f":"'SIP Returns'!E466","v":0},{"$f":"'SIP Returns'!F466","v":0},{"$f":"'SIP Returns'!G466","v":0},{"$f":"'SIP Returns'!H466","v":0},{"$f":"'SIP Returns'!I466","v":0},{"$f":"'SIP Returns'!J466","v":0},1,10,8,4,1,1,{"$f":"IF(J465=\"\",\"\",IF(J465>Inputs!$D$9,0,1))","v":1},{"$f":"IF(K465=\"\",\"\",IF(K465>Inputs!$D$9,0,1))","v":1},{"$f":"IF(L465=\"\",\"\",IF(L465>Inputs!$D$9,0,1))","v":1},{"$f":"IF(M465=\"\",\"\",IF(M465>Inputs!$D$9,0,1))","v":1},{"$f":"IF(N465=\"\",\"\",IF(N465>Inputs!$D$9,0,1))","v":1},{"$f":"IF(O465=\"\",\"\",IF(O465>Inputs!$D$9,0,1))","v":1},{"$f":"IF(COUNT(P465:U465)=0,\"\",INDEX(Inputs!$O$21:$P$26,MATCH(COUNT(P465:U465),Inputs!$O$21:$O$26,0),2))","v":20},1,null,null,{"$f":"IF(D465=\"\",\"\",IF(D465=\"-\",\"\",IF(D465>AVERAGE($D$2:$D$1000),1,0)))","v":1},1,1,1,1,1,1]
[{"$f":"'SIP Returns'!B467","v":0},null,{"$f":"'SIP Returns'!D467","v":0},{"$f":"'SIP Returns'!E467","v":0},{"$f":"'SIP Returns'!F467","v":0},{"$f":"'SIP Returns'!G467","v":0},{"$f":"'SIP Returns'!H467","v":0},{"$f":"'SIP Returns'!I467","v":0},{"$f":"'SIP Returns'!J467","v":0},1,10,8,4,1,1,{"$f":"IF(J466=\"\",\"\",IF(J466>Inputs!$D$9,0,1))","v":1},{"$f":"IF(K466=\"\",\"\",IF(K466>Inputs!$D$9,0,1))","v":1},{"$f":"IF(L466=\"\",\"\",IF(L466>Inputs!$D$9,0,1))","v":1},{"$f":"IF(M466=\"\",\"\",IF(M466>Inputs!$D$9,0,1))","v":1},{"$f":"IF(N466=\"\",\"\",IF(N466>Inputs!$D$9,0,1))","v":1},{"$f":"IF(O466=\"\",\"\",IF(O466>Inputs!$D$9,0,1))","v":1},{"$f":"IF(COUNT(P466:U466)=0,\"\",INDEX(Inputs!$O$21:$P$26,MATCH(COUNT(P466:U466),Inputs!$O$21:$O$26,0),2))","v":20},1,null,null,{"$f":"IF(D466=\"\",\"\",IF(D466=\"-\",\"\",IF(D466>AVERAGE($D$2:$D$1000),1,0)))","v":1},1,1,1,1,1,1]
[{"$f":"'SIP Returns'!B468","v":0},null,{"$f":"'SIP Returns'!D468","v":0},{"$f":"'SIP Returns'!E468","v":0},{"$f":"'SIP Returns'!F468","v":0},{"$f":"'SIP Returns'!G468","v":0},{"$f":"'SIP Returns'!H468","v":0},{"$f":"'SIP Returns'!I468","v":0},{"$f":"'SIP Returns'!J468","v":0},1,10,8,4,1,1,{"$f":"IF(J467=\"\",\"\",IF(J467>Inputs!$D$9,0,1))","v":1},{"$f":"IF(K467=\"\",\"\",IF(K467>Inputs!$D$9,0,1))","v":1},{"$f":"IF(L467=\"\",\"\",IF(L467>Inputs!$D$9,0,1))","v":1},{"$f":"IF(M467=\"\",\"\",IF(M467>Inputs!$D$9,0,1))","v":1},{"$f":"IF(N467=\"\",\"\",IF(N467>Inputs!$D$9,0,1))","v":1},{"$f":"IF(O467=\"\",\"\",IF(O467>Inputs!$D$9,0,1))","v":1},{"$f":"IF(COUNT(P467:U467)=0,\"\",INDEX(Inputs!$O$21:$P$26,MATCH(COUNT(P467:U467),Inputs!$O$21:$O$26,0),2))","v":20},1,null,null,{"$f":"IF(D467=\"\",\"\",IF(D467=\"-\",\"\",IF(D467>AVERAGE($D$2:$D$1000),1,0)))","v":1},1,1,1,1,1,1]
[{"$f":"'SIP Returns'!B469","v":0},null,{"$f":"'SIP Returns'!D469","v":0},{"$f":"'SIP Returns'!E469","v":0},{"$f":"'SIP Returns'!F469","v":0},{"$f":"'SIP Returns'!G469","v":0},{"$f":"'SIP Returns'!H469","v":0},{"$f":"'SIP Returns'!I469","v":0},{"$f":"'SIP Returns'!J469","v":0},1,10,8,4,1,1,{"$f":"IF(J468=\"\",\"\",IF(J468>Inputs!$D$9,0,1))","v":1},{"$f":"IF(K468=\"\",\"\",IF(K468>Inputs!$D$9,0,1))","v":1},{"$f":"IF(L468=\"\",\"\",IF(L468>Inputs!$D$9,0,1))","v":1},{"$f":"IF(M468=\"\",\"\",IF(M468>Inputs!$D$9,0,1))","v":1},{"$f":"IF(N468=\"\",\"\",IF(N468>Inputs!$D$9,0,1))","v":1},{"$f":"IF(O468=\"\",\"\",IF(O468>Inputs!$D$9,0,1))","v":1},{"$f":"IF(COUNT(P468:U468)=0,\"\",INDEX(Inputs!$O$21:$P$26,MATCH(COUNT(P468:U468),Inputs!$O$21:$O$26,0),2))","v":20},1,null,null,{"$f":"IF(D468=\"\",\"\",IF(D468=\"-\",\"\",IF(D468>AVERAGE($D$2:$D$1000),1,0)))","v":1},1,1,1,1,1,1]
[{"$f":"'SIP Returns'!B470","v":0},null,{"$f":"'SIP Returns'!D470","v":0},{"$f":"'SIP Returns'!E470","v":0},{"$f":"'SIP Returns'!F470","v":0},{"$f":"'SIP Returns'!G470","v":0},{"$f":"'SIP Returns'!H470","v":0},{"$f":"'SIP Returns'!I470","v":0},{"$f":"'SIP Returns'!J470","v":0},1,10,8,4,1,1,{"$f":"IF(J469=\"\",\"\",IF(J469>Inputs!$D$9,0,1))","v":1},{"$f":"IF(K469=\"\",\"\",IF(K469>Inputs!$D$9,0,1))","v":1},{"$f":"IF(L469=\"\",\"\",IF(L469>Inputs!$D$9,0,1))","v":1},{"$f":"IF(M469=\"\",\"\",IF(M469>Inputs!$D$9,0,1))","v":1},{"$f":"IF(N469=\"\",\"\",IF(N469>Inputs!$D$9,0,1))","v":1},{"$f":"IF(O469=\"\",\"\",IF(O469>Inputs!$D$9,0,1))","v":1},{"$f":"IF(COUNT(P469:U469)=0,\"\",INDEX(Inputs!$O$21:$P$26,MATCH(COUNT(P469:U469),Inputs!$O$21:$O$26,0),2))","v":20},1,null,null,{"$f":"IF(D469=\"\",\"\",IF(D469=\"-\",\"\",IF(D469>AVERAGE($D$2:$D$1000),1,0)))","v":1},1,1,1,1,1,1]
[{"$f":"'SIP Returns'!B471","v":0},null,{"$f":"'SIP Returns'!D471","v":0},{"$f":"'SIP Returns'!E471","v":0},{"$f":"'SIP Returns'!F471","v":0},{"$f":"'SIP Returns'!G471","v":0},{"$f":"'SIP Returns'!H471","v":0},{"$f":"'SIP Returns'!I471","v":0},{"$f":"'SIP Returns'!J471","v":0},1,10,8,4,1,1,{"$f":"IF(J470=\"\",\"\",IF(J470>Inputs!$D$9,0,1))","v":1},{"$f":"IF(K470=\"\",\"\",IF(K470>Inputs!$D$9,0,1))","v":1},{"$f":"IF(L470=\"\",\"\",IF(L470>Inputs!$D$9,0,1))","v":1},{"$f":"IF(M470=\"\",\"\",IF(M470>Inputs!$D$9,0,1))","v":1},{"$f":"IF(N470=\"\",\"\",IF(N470>Inputs!$D$9,0,1))","v":1},{"$f":"IF(O470=\"\",\"\",IF(O470>Inputs!$D$9,0,1))","v":1},{"$f":"IF(COUNT(P470:U470)=0,\"\",INDEX(Inputs!$O$21:$P$26,MATCH(COUNT(P470:U470),Inputs!$O$21:$O$26,0),2))","v":20},1,null,null,{"$f":"IF(D470=\"\",\"\",IF(D470=\"-\",\"\",IF(D470>AVERAGE($D$2:$D$1000),1,0)))","v":1},1,1,1,1,1,1]
[{"$f":"'SIP Returns'!B472","v":0},null,{"$f":"'SIP Returns'!D472","v":0},{"$f":"'SIP Returns'!E472","v":0},{"$f":"'SIP Returns'!F472","v":0},{"$f":"'SIP Returns'!G472","v":0},{"$f":"'SIP Returns'!H472","v":0},{"$f":"'SIP Returns'!I472","v":0},{"$f":"'SIP Returns'!J472","v":0},1,10,8,4,1,1,{"$f":"IF(J471=\"\",\"\",IF(J471>Inputs!$D$9,0,1))","v":1},{"$f":"IF(K471=\"\",\"\",IF(K471>Inputs!$D$9,0,1))","v":1},{"$f":"IF(L471=\"\",\"\",IF(L471>Inputs!$D$9,0,1))","v":1},{"$f":"IF(M471=\"\",\"\",IF(M471>Inputs!$D$9,0,1))","v":1},{"$f":"IF(N471=\"\",\"\",IF(N471>Inputs!$D$9,0,1))","v":1},{"$f":"IF(O471=\"\",\"\",IF(O471>Inputs!$D$9,0,1))","v":1},{"$f":"IF(COUNT(P471:U471)=0,\"\",INDEX(Inputs!$O$21:$P$26,MATCH(COUNT(P471:U471),Inputs!$O$21:$O$26,0),2))","v":20},1,null,null,{"$f":"IF(D471=\"\",\"\",IF(D471=\"-\",\"\",IF(D471>AVERAGE($D$2:$D$1000),1,0)))","v":1},1,1,1,1,1,1]
[{"$f":"'SIP Returns'!B473","v":0},null,{"$f":"'SIP Returns'!D473","v":0},{"$f":"'SIP Returns'!E473","v":0},{"$f":"'SIP Returns'!F473","v":0},{"$f":"'SIP Returns'!G473","v":0},{"$f":"'SIP Returns'!H473","v":0},{"$f":"'SIP Returns'!I473","v":0},{"$f":"'SIP Returns'!J473","v":0},1,10,8,4,1,1,{"$f":"IF(J472=\"\",\"\",IF(J472>Inputs!$D$9,0,1))","v":1},{"$f":"IF(K472=\"\",\"\",IF(K472>Inputs!$D$9,0,1))","v":1},{"$f":"IF(L472=\"\",\"\",IF(L472>Inputs!$D$9,0,1))","v":1},{"$f":"IF(M472=\"\",\"\",IF(M472>Inputs!$D$9,0,1))","v":1},{"$f":"IF(N472=\"\",\"\",IF(N472>Inputs!$D$9,0,1))","v":1},{"$f":"IF(O472=\"\",\"\",IF(O472>Inputs!$D$9,0,1))","v":1},{"$f":"IF(COUNT(P472:U472)=0,\"\",INDEX(Inputs!$O$21:$P$26,MATCH(COUNT(P472:U472),Inputs!$O$21:$O$26,0),2))","v":20},1,null,null,{"$f":"IF(D472=\"\",\"\",IF(D472=\"-\",\"\",IF(D472>AVERAGE($D$2:$D$1000),1,0)))","v":1},1,1,1,1,1,1]
[{"$f":"'SIP Returns'!B474","v":0},null,{"$f":"'SIP Returns'!D474","v":0},{"$f":"'SIP Returns'!E474","v":0},{"$f":"'SIP Returns'!F474","v":0},{"$f":"'SIP Returns'!G474","v":0},{"$f":"'SIP Returns'!H474","v":0},{"$f":"'SIP Returns'!I474","v":0},{"$f":"'SIP Returns'!J474","v":0},1,10,8,4,1,1,{"$f":"IF(J473=\"\",\"\",IF(J473>Inputs!$D$9,0,1))","v":1},{"$f":"IF(K473=\"\",\"\",IF(K473>Inputs!$D$9,0,1))","v":1},{"$f":"IF(L473=\"\",\"\",IF(L473>Inputs!$D$9,0,1))","v":1},{"$f":"IF(M473=\"\",\"\",IF(M473>Inputs!$D$9,0,1))","v":1},{"$f":"IF(N473=\"\",\"\",IF(N473>Inputs!$D$9,0,1))","v":1},{"$f":"IF(O473=\"\",\"\",IF(O473>Inputs!$D$9,0,1))","v":1},{"$f":"IF(COUNT(P473:U473)=0,\"\",INDEX(Inputs!$O$21:$P$26,MATCH(COUNT(P473:U473),Inputs!$O$21:$O$26,0),2))","v":20},1,null,null,{"$f":"IF(D473=\"\",\"\",IF(D473=\"-\",\"\",IF(D473>AVERAGE($D$2:$D$1000),1,0)))","v":1},1,1,1,1,1,1]
[{"$f":"'SIP Returns'!B475","v":0},null,{"$f":"'SIP Returns'!D475","v":0},{"$f":"'SIP Returns'!E475","v":0},{"$f":"'SIP Returns'!F475","v":0},{"$f":"'SIP Returns'!G475","v":0},{"$f":"'SIP Returns'!H475","v":0},{"$f":"'SIP Returns'!I475","v":0},{"$f":"'SIP Returns'!J475","v":0},1,10,8,4,1,1,{"$f":"IF(J474=\"\",\"\",IF(J474>Inputs!$D$9,0,1))","v":1},{"$f":"IF(K474=\"\",\"\",IF(K474>Inputs!$D$9,0,1))","v":1},{"$f":"IF(L474=\"\",\"\",IF(L474>Inputs!$D$9,0,1))","v":1},{"$f":"IF(M474=\"\",\"\",IF(M474>Inputs!$D$9,0,1))","v":1},{"$f":"IF(N474=\"\",\"\",IF(N474>Inputs!$D$9,0,1))","v":1},{"$f":"IF(O474=\"\",\"\",IF(O474>Inputs!$D$9,0,1))","v":1},{"$f":"IF(COUNT(P474:U474)=0,\"\",INDEX(Inputs!$O$21:$P$26,MATCH(COUNT(P474:U474),Inputs!$O$21:$O$26,0),2))","v":20},1,null,null,{"$f":"IF(D474=\"\",\"\",IF(D474=\"-\",\"\",IF(D474>AVERAGE($D$2:$D$1000),1,0)))","v":1},1,1,1,1,1,1]
[{"$f":"'SIP Returns'!B476","v":0},null,{"$f":"'SIP Returns'!D476","v":0},{"$f":"'SIP Returns'!E476","v":0},{"$f":"'SIP Returns'!F476","v":0},{"$f":"'SIP Returns'!G476","v":0},{"$f":"'SIP Returns'!H476","v":0},{"$f":"'SIP Returns'!I476","v":0},{"$f":"'SIP Returns'!J476","v":0},1,10,8,4,1,1,{"$f":"IF(J475=\"\",\"\",IF(J475>Inputs!$D$9,0,1))","v":1},{"$f":"IF(K475=\"\",\"\",IF(K475>Inputs!$D$9,0,1))","v":1},{"$f":"IF(L475=\"\",\"\",IF(L475>Inputs!$D$9,0,1))","v":1},{"$f":"IF(M475=\"\",\"\",IF(M475>Inputs!$D$9,0,1))","v":1},{"$f":"IF(N475=\"\",\"\",IF(N475>Inputs!$D$9,0,1))","v":1},{"$f":"IF(O475=\"\",\"\",IF(O475>Inputs!$D$9,0,1))","v":1},{"$f":"IF(COUNT(P475:U475)=0,\"\",INDEX(Inputs!$O$21:$P$26,MATCH(COUNT(P475:U475),Inputs!$O$21:$O$26,0),2))","v":20},1,null,null,{"$f":"IF(D475=\"\",\"\",IF(D475=\"-\",\"\",IF(D475>AVERAGE($D$2:$D$1000),1,0)))","v":1},1,1,1,1,1,1]
[{"$f":"'SIP Returns'!B477","v":0},null,{"$f":"'SIP Returns'!D477","v":0},{"$f":"'SIP Returns'!E477","v":0},{"$f":"'SIP Returns'!F477","v":0},{"$f":"'SIP Returns'!G477","v":0},{"$f":"'SIP Returns'!H477","v":0},{"$f":"'SIP Returns'!I477","v":0},{"$f":"'SIP Returns'!J477","v":0},1,10,8,4,1,1,{"$f":"IF(J476=\"\",\"\",IF(J476>Inputs!$D$9,0,1))","v":1},{"$f":"IF(K476=\"\",\"\",IF(K476>Inputs!$D$9,0,1))","v":1},{"$f":"IF(L476=\"\",\"\",IF(L476>Inputs!$D$9,0,1))","v":1},{"$f":"IF(M476=\"\",\"\",IF(M476>Inputs!$D$9,0,1))","v":1},{"$f":"IF(N476=\"\",\"\",IF(N476>Inputs!$D$9,0,1))","v":1},{"$f":"IF(O476=\"\",\"\",IF(O476>Inputs!$D$9,0,1))","v":1},{"$f":"IF(COUNT(P476:U476)=0,\"\",INDEX(Inputs!$O$21:$P$26,MATCH(COUNT(P476:U476),Inputs!$O$21:$O$26,0),2))","v":20},1,null,null,{"$f":"IF(D476=\"\",\"\",IF(D476=\"-\",\"\",IF(D476>AVERAGE($D$2:$D$1000),1,0)))","v":1},1,1,1,1,1,1]
[{"$f":"'SIP Returns'!B478","v":0},null,{"$f":"'SIP Returns'!D478","v":0},{"$f":"'SIP Returns'!E478","v":0},{"$f":"'SIP Returns'!F478","v":0},{"$f":"'SIP Returns'!G478","v":0},{"$f":"'SIP Returns'!H478","v":0},{"$f":"'SIP Returns'!I478","v":0},{"$f":"'SIP Returns'!J478","v":0},1,10,8,4,1,1,{"$f":"IF(J477=\"\",\"\",IF(J477>Inputs!$D$9,0,1))","v":1},{"$f":"IF(K477=\"\",\"\",IF(K477>Inputs!$D$9,0,1))","v":1},{"$f":"IF(L477=\"\",\"\",IF(L477>Inputs!$D$9,0,1))","v":1},{"$f":"IF(M477=\"\",\"\",IF(M477>Inputs!$D$9,0,1))","v":1},{"$f":"IF(N477=\"\",\"\",IF(N477>Inputs!$D$9,0,1))","v":1},{"$f":"IF(O477=\"\",\"\",IF(O477>Inputs!$D$9,0,1))","v":1},{"$f":"IF(COUNT(P477:U477)=0,\"\",INDEX(Inputs!$O$21:$P$26,MATCH(COUNT(P477:U477),Inputs!$O$21:$O$26,0),2))","v":20},1,null,null,{"$f":"IF(D477=\"\",\"\",IF(D477=\"-\",\"\",IF(D477>AVERAGE($D$2:$D$1000),1,0)))","v":1},1,1,1,1,1,1]
[{"$f":"'SIP Returns'!B479","v":0},null,{"$f":"'SIP Returns'!D479","v":0},{"$f":"'SIP Returns'!E479","v":0},{"$f":"'SIP Returns'!F479","v":0},{"$f":"'SIP Returns'!G479","v":0},{"$f":"'SIP Returns'!H479","v":0},{"$f":"'SIP Returns'!I479","v":0},{"$f":"'SIP Returns'!J479","v":0},1,10,8,4,1,1,{"$f":"IF(J478=\"\",\"\",IF(J478>Inputs!$D$9,0,1))","v":1},{"$f":"IF(K478=\"\",\"\",IF(K478>Inputs!$D$9,0,1))","v":1},{"$f":"IF(L478=\"\",\"\",IF(L478>Inputs!$D$9,0,1))","v":1},{"$f":"IF(M478=\"\",\"\",IF(M478>Inputs!$D$9,0,1))","v":1},{"$f":"IF(N478=\"\",\"\",IF(N478>Inputs!$D$9,0,1))","v":1},{"$f":"IF(O478=\"\",\"\",IF(O478>Inputs!$D$9,0,1))","v":1},{"$f":"IF(COUNT(P478:U478)=0,\"\",INDEX(Inputs!$O$21:$P$26,MATCH(COUNT(P478:U478),Inputs!$O$21:$O$26,0),2))","v":20},1,null,null,{"$f":"IF(D478=\"\",\"\",IF(D478=\"-\",\"\",IF(D478>AVERAGE($D$2:$D$1000),1,0)))","v":1},1,1,1,1,1,1]
[{"$f":"'SIP Returns'!B480","v":0},null,{"$f":"'SIP Returns'!D480","v":0},{"$f":"'SIP Returns'!E480","v":0},{"$f":"'SIP Returns'!F480","v":0},{"$f":"'SIP Returns'!G480","v":0},{"$f":"'SIP Returns'!H480","v":0},{"$f":"'SIP Returns'!I480","v":0},{"$f":"'SIP Returns'!J480","v":0},1,10,8,4,1,1,{"$f":"IF(J479=\"\",\"\",IF(J479>Inputs!$D$9,0,1))","v":1},{"$f":"IF(K479=\"\",\"\",IF(K479>Inputs!$D$9,0,1))","v":1},{"$f":"IF(L479=\"\",\"\",IF(L479>Inputs!$D$9,0,1))","v":1},{"$f":"IF(M479=\"\",\"\",IF(M479>Inputs!$D$9,0,1))","v":1},{"$f":"IF(N479=\"\",\"\",IF(N479>Inputs!$D$9,0,1))","v":1},{"$f":"IF(O479=\"\",\"\",IF(O479>Inputs!$D$9,0,1))","v":1},{"$f":"IF(COUNT(P479:U479)=0,\"\",INDEX(Inputs!$O$21:$P$26,MATCH(COUNT(P479:U479),Inputs!$O$21:$O$26,0),2))","v":20},1,null,null,{"$f":"IF(D479=\"\",\"\",IF(D479=\"-\",\"\",IF(D479>AVERAGE($D$2:$D$1000),1,0)))","v":1},1,1,1,1,1,1]
[{"$f":"'SIP Returns'!B481","v":0},null,{"$f":"'SIP Returns'!D481","v":0},{"$f":"'SIP Returns'!E481","v":0},{"$f":"'SIP Returns'!F481","v":0},{"$f":"'SIP Returns'!G481","v":0},{"$f":"'SIP Returns'!H481","v":0},{"$f":"'SIP Returns'!I481","v":0},{"$f":"'SIP Returns'!J481","v":0},1,10,8,4,1,1,{"$f":"IF(J480=\"\",\"\",IF(J480>Inputs!$D$9,0,1))","v":1},{"$f":"IF(K480=\"\",\"\",IF(K480>Inputs!$D$9,0,1))","v":1},{"$f":"IF(L480=\"\",\"\",IF(L480>Inputs!$D$9,0,1))","v":1},{"$f":"IF(M480=\"\",\"\",IF(M480>Inputs!$D$9,0,1))","v":1},{"$f":"IF(N480=\"\",\"\",IF(N480>Inputs!$D$9,0,1))","v":1},{"$f":"IF(O480=\"\",\"\",IF(O480>Inputs!$D$9,0,1))","v":1},{"$f":"IF(COUNT(P480:U480)=0,\"\",INDEX(Inputs!$O$21:$P$26,MATCH(COUNT(P480:U480),Inputs!$O$21:$O$26,0),2))","v":20},1,null,null,{"$f":"IF(D480=\"\",\"\",IF(D480=\"-\",\"\",IF(D480>AVERAGE($D$2:$D$1000),1,0)))","v":1},1,1,1,1,1,1]
[{"$f":"'SIP Returns'!B482","v":0},null,{"$f":"'SIP Returns'!D482","v":0},{"$f":"'SIP Returns'!E482","v":0},{"$f":"'SIP Returns'!F482","v":0},{"$f":"'SIP Returns'!G482","v":0},{"$f":"'SIP Returns'!H482","v":0},{"$f":"'SIP Returns'!I482","v":0},{"$f":"'SIP Returns'!J482","v":0},1,10,8,4,1,1,{"$f":"IF(J481=\"\",\"\",IF(J481>Inputs!$D$9,0,1))","v":1},{"$f":"IF(K481=\"\",\"\",IF(K481>Inputs!$D$9,0,1))","v":1},{"$f":"IF(L481=\"\",\"\",IF(L481>Inputs!$D$9,0,1))","v":1},{"$f":"IF(M481=\"\",\"\",IF(M481>Inputs!$D$9,0,1))","v":1},{"$f":"IF(N481=\"\",\"\",IF(N481>Inputs!$D$9,0,1))","v":1},{"$f":"IF(O481=\"\",\"\",IF(O481>Inputs!$D$9,0,1))","v":1},{"$f":"IF(COUNT(P481:U481)=0,\"\",INDEX(Inputs!$O$21:$P$26,MATCH(COUNT(P481:U481),Inputs!$O$21:$O$26,0),2))","v":20},1,null,null,{"$f":"IF(D481=\"\",\"\",IF(D481=\"-\",\"\",IF(D481>AVERAGE($D$2:$D$1000),1,0)))","v":1},1,1,1,1,1,1]
[{"$f":"'SIP Returns'!B483","v":0},null,{"$f":"'SIP Returns'!D483","v":0},{"$f":"'SIP Returns'!E483","v":0},{"$f":"'SIP Returns'!F483","v":0},{"$f":"'SIP Returns'!G483","v":0},{"$f":"'SIP Returns'!H483","v":0},{"$f":"'SIP Returns'!I483","v":0},{"$f":"'SIP Returns'!J483","v":0},1,10,8,4,1,1,{"$f":"IF(J482=\"\",\"\",IF(J482>Inputs!$D$9,0,1))","v":1},{"$f":"IF(K482=\"\",\"\",IF(K482>Inputs!$D$9,0,1))","v":1},{"$f":"IF(L482=\"\",\"\",IF(L482>Inputs!$D$9,0,1))","v":1},{"$f":"IF(M482=\"\",\"\",IF(M482>Inputs!$D$9,0,1))","v":1},{"$f":"IF(N482=\"\",\"\",IF(N482>Inputs!$D$9,0,1))","v":1},{"$f":"IF(O482=\"\",\"\",IF(O482>Inputs!$D$9,0,1))","v":1},{"$f":"IF(COUNT(P482:U482)=0,\"\",INDEX(Inputs!$O$21:$P$26,MATCH(COUNT(P482:U482),Inputs!$O$21:$O$26,0),2))","v":20},1,null,null,{"$f":"IF(D482=\"\",\"\",IF(D482=\"-\",\"\",IF(D482>AVERAGE($D$2:$D$1000),1,0)))","v":1},1,1,1,1,1,1]
[{"$f":"'SIP Returns'!B484","v":0},null,{"$f":"'SIP Returns'!D484","v":0},{"$f":"'SIP Returns'!E484","v":0},{"$f":"'SIP Returns'!F484","v":0},{"$f":"'SIP Returns'!G484","v":0},{"$f":"'SIP Returns'!H484","v":0},{"$f":"'SIP Returns'!I484","v":0},{"$f":"'SIP Returns'!J484","v":0},1,10,8,4,1,1,{"$f":"IF(J483=\"\",\"\",IF(J483>Inputs!$D$9,0,1))","v":1},{"$f":"IF(K483=\"\",\"\",IF(K483>Inputs!$D$9,0,1))","v":1},{"$f":"IF(L483=\"\",\"\",IF(L483>Inputs!$D$9,0,1))","v":1},{"$f":"IF(M483=\"\",\"\",IF(M483>Inputs!$D$9,0,1))","v":1},{"$f":"IF(N483=\"\",\"\",IF(N483>Inputs!$D$9,0,1))","v":1},{"$f":"IF(O483=\"\",\"\",IF(O483>Inputs!$D$9,0,1))","v":1},{"$f":"IF(COUNT(P483:U483)=0,\"\",INDEX(Inputs!$O$21:$P$26,MATCH(COUNT(P483:U483),Inputs!$O$21:$O$26,0),2))","v":20},1,null,null,{"$f":"IF(D483=\"\",\"\",IF(D483=\"-\",\"\",IF(D483>AVERAGE($D$2:$D$1000),1,0)))","v":1},1,1,1,1,1,1]
[{"$f":"'SIP Returns'!B485","v":0},null,{"$f":"'SIP Returns'!D485","v":0},{"$f":"'SIP Returns'!E485","v":0},{"$f":"'SIP Returns'!F485","v":0},{"$f":"'SIP Returns'!G485","v":0},{"$f":"'SIP Returns'!H485","v":0},{"$f":"'SIP Returns'!I485","v":0},{"$f":"'SIP Returns'!J485","v":0},1,10,8,4,1,1,{"$f":"IF(J484=\"\",\"\",IF(J484>Inputs!$D$9,0,1))","v":1},{"$f":"IF(K484=\"\",\"\",IF(K484>Inputs!$D$9,0,1))","v":1},{"$f":"IF(L484=\"\",\"\",IF(L484>Inputs!$D$9,0,1))","v":1},{"$f":"IF(M484=\"\",\"\",IF(M484>Inputs!$D$9,0,1))","v":1},{"$f":"IF(N484=\"\",\"\",IF(N484>Inputs!$D$9,0,1))","v":1},{"$f":"IF(O484=\"\",\"\",IF(O484>Inputs!$D$9,0,1))","v":1},{"$f":"IF(COUNT(P484:U484)=0,\"\",INDEX(Inputs!$O$21:$P$26,MATCH(COUNT(P484:U484),Inputs!$O$21:$O$26,0),2))","v":20},1,null,null,{"$f":"IF(D484=\"\",\"\",IF(D484=\"-\",\"\",IF(D484>AVERAGE($D$2:$D$1000),1,0)))","v":1},1,1,1,1,1,1]
[{"$f":"'SIP Returns'!B486","v":0},null,{"$f":"'SIP Returns'!D486","v":0},{"$f":"'SIP Returns'!E486","v":0},{"$f":"'SIP Returns'!F486","v":0},{"$f":"'SIP Returns'!G486","v":0},{"$f":"'SIP Returns'!H486","v":0},{"$f":"'SIP Returns'!I486","v":0},{"$f":"'SIP Returns'!J486","v":0},1,10,8,4,1,1,{"$f":"IF(J485=\"\",\"\",IF(J485>Inputs!$D$9,0,1))","v":1},{"$f":"IF(K485=\"\",\"\",IF(K485>Inputs!$D$9,0,1))","v":1},{"$f":"IF(L485=\"\",\"\",IF(L485>Inputs!$D$9,0,1))","v":1},{"$f":"IF(M485=\"\",\"\",IF(M485>Inputs!$D$9,0,1))","v":1},{"$f":"IF(N485=\"\",\"\",IF(N485>Inputs!$D$9,0,1))","v":1},{"$f":"IF(O485=\"\",\"\",IF(O485>Inputs!$D$9,0,1))","v":1},{"$f":"IF(COUNT(P485:U485)=0,\"\",INDEX(Inputs!$O$21:$P$26,MATCH(COUNT(P485:U485),Inputs!$O$21:$O$26,0),2))","v":20},1,null,null,{"$f":"IF(D485=\"\",\"\",IF(D485=\"-\",\"\",IF(D485>AVERAGE($D$2:$D$1000),1,0)))","v":1},1,1,1,1,1,1]
[{"$f":"'SIP Returns'!B487","v":0},null,{"$f":"'SIP Returns'!D487","v":0},{"$f":"'SIP Returns'!E487","v":0},{"$f":"'SIP Returns'!F487","v":0},{"$f":"'SIP Returns'!G487","v":0},{"$f":"'SIP Returns'!H487","v":0},{"$f":"'SIP Returns'!I487","v":0},{"$f":"'SIP Returns'!J487","v":0},1,10,8,4,1,1,{"$f":"IF(J486=\"\",\"\",IF(J486>Inputs!$D$9,0,1))","v":1},{"$f":"IF(K486=\"\",\"\",IF(K486>Inputs!$D$9,0,1))","v":1},{"$f":"IF(L486=\"\",\"\",IF(L486>Inputs!$D$9,0,1))","v":1},{"$f":"IF(M486=\"\",\"\",IF(M486>Inputs!$D$9,0,1))","v":1},{"$f":"IF(N486=\"\",\"\",IF(N486>Inputs!$D$9,0,1))","v":1},{"$f":"IF(O486=\"\",\"\",IF(O486>Inputs!$D$9,0,1))","v":1},{"$f":"IF(COUNT(P486:U486)=0,\"\",INDEX(Inputs!$O$21:$P$26,MATCH(COUNT(P486:U486),Inputs!$O$21:$O$26,0),2))","v":20},1,null,null,{"$f":"IF(D486=\"\",\"\",IF(D486=\"-\",\"\",IF(D486>AVERAGE($D$2:$D$1000),1,0)))","v":1},1,1,1,1,1,1]
[{"$f":"'SIP Returns'!B488","v":0},null,{"$f":"'SIP Returns'!D488","v":0},{"$f":"'SIP Returns'!E488","v":0},{"$f":"'SIP Returns'!F488","v":0},{"$f":"'SIP Returns'!G488","v":0},{"$f":"'SIP Returns'!H488","v":0},{"$f":"'SIP Returns'!I488","v":0},{"$f":"'SIP Returns'!J488","v":0},1,10,8,4,1,1,{"$f":"IF(J487=\"\",\"\",IF(J487>Inputs!$D$9,0,1))","v":1},{"$f":"IF(K487=\"\",\"\",IF(K487>Inputs!$D$9,0,1))","v":1},{"$f":"IF(L487=\"\",\"\",IF(L487>Inputs!$D$9,0,1))","v":1},{"$f":"IF(M487=\"\",\"\",IF(M487>Inputs!$D$9,0,1))","v":1},{"$f":"IF(N487=\"\",\"\",IF(N487>Inputs!$D$9,0,1))","v":1},{"$f":"IF(O487=\"\",\"\",IF(O487>Inputs!$D$9,0,1))","v":1},{"$f":"IF(COUNT(P487:U487)=0,\"\",INDEX(Inputs!$O$21:$P$26,MATCH(COUNT(P487:U487),Inputs!$O$21:$O$26,0),2))","v":20},1,null,null,{"$f":"IF(D487=\"\",\"\",IF(D487=\"-\",\"\",IF(D487>AVERAGE($D$2:$D$1000),1,0)))","v":1},1,1,1,1,1,1]
[{"$f":"'SIP Returns'!B489","v":0},null,{"$f":"'SIP Returns'!D489","v":0},{"$f":"'SIP Returns'!E489","v":0},{"$f":"'SIP Returns'!F489","v":0},{"$f":"'SIP Returns'!G489","v":0},{"$f":"'SIP Returns'!H489","v":0},{"$f":"'SIP Returns'!I489","v":0},{"$f":"'SIP Returns'!J489","v":0},1,10,8,4,1,1,{"$f":"IF(J488=\"\",\"\",IF(J488>Inputs!$D$9,0,1))","v":1},{"$f":"IF(K488=\"\",\"\",IF(K488>Inputs!$D$9,0,1))","v":1},{"$f":"IF(L488=\"\",\"\",IF(L488>Inputs!$D$9,0,1))","v":1},{"$f":"IF(M488=\"\",\"\",IF(M488>Inputs!$D$9,0,1))","v":1},{"$f":"IF(N488=\"\",\"\",IF(N488>Inputs!$D$9,0,1))","v":1},{"$f":"IF(O488=\"\",\"\",IF(O488>Inputs!$D$9,0,1))","v":1},{"$f":"IF(COUNT(P488:U488)=0,\"\",INDEX(Inputs!$O$21:$P$26,MATCH(COUNT(P488:U488),Inputs!$O$21:$O$26,0),2))","v":20},1,null,null,{"$f":"IF(D488=\"\",\"\",IF(D488=\"-\",\"\",IF(D488>AVERAGE($D$2:$D$1000),1,0)))","v":1},1,1,1,1,1,1]
[{"$f":"'SIP Returns'!B490","v":0},null,{"$f":"'SIP Returns'!D490","v":0},{"$f":"'SIP Returns'!E490","v":0},{"$f":"'SIP Returns'!F490","v":0},{"$f":"'SIP Returns'!G490","v":0},{"$f":"'SIP Returns'!H490","v":0},{"$f":"'SIP Returns'!I490","v":0},{"$f":"'SIP Returns'!J490","v":0},1,10,8,4,1,1,{"$f":"IF(J489=\"\",\"\",IF(J489>Inputs!$D$9,0,1))","v":1},{"$f":"IF(K489=\"\",\"\",IF(K489>Inputs!$D$9,0,1))","v":1},{"$f":"IF(L489=\"\",\"\",IF(L489>Inputs!$D$9,0,1))","v":1},{"$f":"IF(M489=\"\",\"\",IF(M489>Inputs!$D$9,0,1))","v":1},{"$f":"IF(N489=\"\",\"\",IF(N489>Inputs!$D$9,0,1))","v":1},{"$f":"IF(O489=\"\",\"\",IF(O489>Inputs!$D$9,0,1))","v":1},{"$f":"IF(COUNT(P489:U489)=0,\"\",INDEX(Inputs!$O$21:$P$26,MATCH(COUNT(P489:U489),Inputs!$O$21:$O$26,0),2))","v":20},1,null,null,{"$f":"IF(D489=\"\",\"\",IF(D489=\"-\",\"\",IF(D489>AVERAGE($D$2:$D$1000),1,0)))","v":1},1,1,1,1,1,1]
[{"$f":"'SIP Returns'!B491","v":0},null,{"$f":"'SIP Returns'!D491","v":0},{"$f":"'SIP Returns'!E491","v":0},{"$f":"'SIP Returns'!F491","v":0},{"$f":"'SIP Returns'!G491","v":0},{"$f":"'SIP Returns'!H491","v":0},{"$f":"'SIP Returns'!I491","v":0},{"$f":"'SIP Returns'!J491","v":0},1,10,8,4,1,1,{"$f":"IF(J490=\"\",\"\",IF(J490>Inputs!$D$9,0,1))","v":1},{"$f":"IF(K490=\"\",\"\",IF(K490>Inputs!$D$9,0,1))","v":1},{"$f":"IF(L490=\"\",\"\",IF(L490>Inputs!$D$9,0,1))","v":1},{"$f":"IF(M490=\"\",\"\",IF(M490>Inputs!$D$9,0,1))","v":1},{"$f":"IF(N490=\"\",\"\",IF(N490>Inputs!$D$9,0,1))","v":1},{"$f":"IF(O490=\"\",\"\",IF(O490>Inputs!$D$9,0,1))","v":1},{"$f":"IF(COUNT(P490:U490)=0,\"\",INDEX(Inputs!$O$21:$P$26,MATCH(COUNT(P490:U490),Inputs!$O$21:$O$26,0),2))","v":20},1,null,null,{"$f":"IF(D490=\"\",\"\",IF(D490=\"-\",\"\",IF(D490>AVERAGE($D$2:$D$1000),1,0)))","v":1},1,1,1,1,1,1]
[{"$f":"'SIP Returns'!B492","v":0},null,{"$f":"'SIP Returns'!D492","v":0},{"$f":"'SIP Returns'!E492","v":0},{"$f":"'SIP Returns'!F492","v":0},{"$f":"'SIP Returns'!G492","v":0},{"$f":"'SIP Returns'!H492","v":0},{"$f":"'SIP Returns'!I492","v":0},{"$f":"'SIP Returns'!J492","v":0},1,10,8,4,1,1,{"$f":"IF(J491=\"\",\"\",IF(J491>Inputs!$D$9,0,1))","v":1},{"$f":"IF(K491=\"\",\"\",IF(K491>Inputs!$D$9,0,1))","v":1},{"$f":"IF(L491=\"\",\"\",IF(L491>Inputs!$D$9,0,1))","v":1},{"$f":"IF(M491=\"\",\"\",IF(M491>Inputs!$D$9,0,1))","v":1},{"$f":"IF(N491=\"\",\"\",IF(N491>Inputs!$D$9,0,1))","v":1},{"$f":"IF(O491=\"\",\"\",IF(O491>Inputs!$D$9,0,1))","v":1},{"$f":"IF(COUNT(P491:U491)=0,\"\",INDEX(Inputs!$O$21:$P$26,MATCH(COUNT(P491:U491),Inputs!$O$21:$O$26,0),2))","v":20},1,null,null,{"$f":"IF(D491=\"\",\"\",IF(D491=\"-\",\"\",IF(D491>AVERAGE($D$2:$D$1000),1,0)))","v":1},1,1,1,1,1,1]
[{"$f":"'SIP Returns'!B493","v":0},null,{"$f":"'SIP Returns'!D493","v":0},{"$f":"'SIP Returns'!E493","v":0},{"$f":"'SIP Returns'!F493","v":0},{"$f":"'SIP Returns'!G493","v":0},{"$f":"'SIP Returns'!H493","v":0},{"$f":"'SIP Returns'!I493","v":0},{"$f":"'SIP Returns'!J493","v":0},1,10,8,4,1,1,{"$f":"IF(J492=\"\",\"\",IF(J492>Inputs!$D$9,0,1))","v":1},{"$f":"IF(K492=\"\",\"\",IF(K492>Inputs!$D$9,0,1))","v":1},{"$f":"IF(L492=\"\",\"\",IF(L492>Inputs!$D$9,0,1))","v":1},{"$f":"IF(M492=\"\",\"\",IF(M492>Inputs!$D$9,0,1))","v":1},{"$f":"IF(N492=\"\",\"\",IF(N492>Inputs!$D$9,0,1))","v":1},{"$f":"IF(O492=\"\",\"\",IF(O492>Inputs!$D$9,0,1))","v":1},{"$f":"IF(COUNT(P492:U492)=0,\"\",INDEX(Inputs!$O$21:$P$26,MATCH(COUNT(P492:U492),Inputs!$O$21:$O$26,0),2))","v":20},1,null,null,{"$f":"IF(D492=\"\",\"\",IF(D492=\"-\",\"\",IF(D492>AVERAGE($D$2:$D$1000),1,0)))","v":1},1,1,1,1,1,1]
[{"$f":"'SIP Returns'!B494","v":0},null,{"$f":"'SIP Returns'!D494","v":0},{"$f":"'SIP Returns'!E494","v":0},{"$f":"'SIP Returns'!F494","v":0},{"$f":"'SIP Returns'!G494","v":0},{"$f":"'SIP Returns'!H494","v":0},{"$f":"'SIP Returns'!I494","v":0},{"$f":"'SIP Returns'!J494","v":0},1,10,8,4,1,1,{"$f":"IF(J493=\"\",\"\",IF(J493>Inputs!$D$9,0,1))","v":1},{"$f":"IF(K493=\"\",\"\",IF(K493>Inputs!$D$9,0,1))","v":1},{"$f":"IF(L493=\"\",\"\",IF(L493>Inputs!$D$9,0,1))","v":1},{"$f":"IF(M493=\"\",\"\",IF(M493>Inputs!$D$9,0,1))","v":1},{"$f":"IF(N493=\"\",\"\",IF(N493>Inputs!$D$9,0,1))","v":1},{"$f":"IF(O493=\"\",\"\",IF(O493>Inputs!$D$9,0,1))","v":1},{"$f":"IF(COUNT(P493:U493)=0,\"\",INDEX(Inputs!$O$21:$P$26,MATCH(COUNT(P493:U493),Inputs!$O$21:$O$26,0),2))","v":20},1,null,null,{"$f":"IF(D493=\"\",\"\",IF(D493=\"-\",\"\",IF(D493>AVERAGE($D$2:$D$1000),1,0)))","v":1},1,1,1,1,1,1]
[{"$f":"'SIP Returns'!B495","v":0},null,{"$f":"'SIP Returns'!D495","v":0},{"$f":"'SIP Returns'!E495","v":0},{"$f":"'SIP Returns'!F495","v":0},{"$f":"'SIP Returns'!G495","v":0},{"$f":"'SIP Returns'!H495","v":0},{"$f":"'SIP Returns'!I495","v":0},{"$f":"'SIP Returns'!J495","v":0},1,10,8,4,1,1,{"$f":"IF(J494=\"\",\"\",IF(J494>Inputs!$D$9,0,1))","v":1},{"$f":"IF(K494=\"\",\"\",IF(K494>Inputs!$D$9,0,1))","v":1},{"$f":"IF(L494=\"\",\"\",IF(L494>Inputs!$D$9,0,1))","v":1},{"$f":"IF(M494=\"\",\"\",IF(M494>Inputs!$D$9,0,1))","v":1},{"$f":"IF(N494=\"\",\"\",IF(N494>Inputs!$D$9,0,1))","v":1},{"$f":"IF(O494=\"\",\"\",IF(O494>Inputs!$D$9,0,1))","v":1},{"$f":"IF(COUNT(P494:U494)=0,\"\",INDEX(Inputs!$O$21:$P$26,MATCH(COUNT(P494:U494),Inputs!$O$21:$O$26,0),2))","v":20},1,null,null,{"$f":"IF(D494=\"\",\"\",IF(D494=\"-\",\"\",IF(D494>AVERAGE($D$2:$D$1000),1,0)))","v":1},1,1,1,1,1,1]
[{"$f":"'SIP Returns'!B496","v":0},null,{"$f":"'SIP Returns'!D496","v":0},{"$f":"'SIP Returns'!E496","v":0},{"$f":"'SIP Returns'!F496","v":0},{"$f":"'SIP Returns'!G496","v":0},{"$f":"'SIP Returns'!H496","v":0},{"$f":"'SIP Returns'!I496","v":0},{"$f":"'SIP Returns'!J496","v":0},1,10,8,4,1,1,{"$f":"IF(J495=\"\",\"\",IF(J495>Inputs!$D$9,0,1))","v":1},{"$f":"IF(K495=\"\",\"\",IF(K495>Inputs!$D$9,0,1))","v":1},{"$f":"IF(L495=\"\",\"\",IF(L495>Inputs!$D$9,0,1))","v":1},{"$f":"IF(M495=\"\",\"\",IF(M495>Inputs!$D$9,0,1))","v":1},{"$f":"IF(N495=\"\",\"\",IF(N495>Inputs!$D$9,0,1))","v":1},{"$f":"IF(O495=\"\",\"\",IF(O495>Inputs!$D$9,0,1))","v":1},{"$f":"IF(COUNT(P495:U495)=0,\"\",INDEX(Inputs!$O$21:$P$26,MATCH(COUNT(P495:U495),Inputs!$O$21:$O$26,0),2))","v":20},1,null,null,{"$f":"IF(D495=\"\",\"\",IF(D495=\"-\",\"\",IF(D495>AVERAGE($D$2:$D$1000),1,0)))","v":1},1,1,1,1,1,1]
[{"$f":"'SIP Returns'!B497","v":0},null,{"$f":"'SIP Returns'!D497","v":0},{"$f":"'SIP Returns'!E497","v":0},{"$f":"'SIP Returns'!F497","v":0},{"$f":"'SIP Returns'!G497","v":0},{"$f":"'SIP Returns'!H497","v":0},{"$f":"'SIP Returns'!I497","v":0},{"$f":"'SIP Returns'!J497","v":0},1,10,8,4,1,1,{"$f":"IF(J496=\"\",\"\",IF(J496>Inputs!$D$9,0,1))","v":1},{"$f":"IF(K496=\"\",\"\",IF(K496>Inputs!$D$9,0,1))","v":1},{"$f":"IF(L496=\"\",\"\",IF(L496>Inputs!$D$9,0,1))","v":1},{"$f":"IF(M496=\"\",\"\",IF(M496>Inputs!$D$9,0,1))","v":1},{"$f":"IF(N496=\"\",\"\",IF(N496>Inputs!$D$9,0,1))","v":1},{"$f":"IF(O496=\"\",\"\",IF(O496>Inputs!$D$9,0,1))","v":1},{"$f":"IF(COUNT(P496:U496)=0,\"\",INDEX(Inputs!$O$21:$P$26,MATCH(COUNT(P496:U496),Inputs!$O$21:$O$26,0),2))","v":20},1,null,null,{"$f":"IF(D496=\"\",\"\",IF(D496=\"-\",\"\",IF(D496>AVERAGE($D$2:$D$1000),1,0)))","v":1},1,1,1,1,1,1]
[{"$f":"'SIP Returns'!B498","v":0},null,{"$f":"'SIP Returns'!D498","v":0},{"$f":"'SIP Returns'!E498","v":0},{"$f":"'SIP Returns'!F498","v":0},{"$f":"'SIP Returns'!G498","v":0},{"$f":"'SIP Returns'!H498","v":0},{"$f":"'SIP Returns'!I498","v":0},{"$f":"'SIP Returns'!J498","v":0},1,10,8,4,1,1,{"$f":"IF(J497=\"\",\"\",IF(J497>Inputs!$D$9,0,1))","v":1},{"$f":"IF(K497=\"\",\"\",IF(K497>Inputs!$D$9,0,1))","v":1},{"$f":"IF(L497=\"\",\"\",IF(L497>Inputs!$D$9,0,1))","v":1},{"$f":"IF(M497=\"\",\"\",IF(M497>Inputs!$D$9,0,1))","v":1},{"$f":"IF(N497=\"\",\"\",IF(N497>Inputs!$D$9,0,1))","v":1},{"$f":"IF(O497=\"\",\"\",IF(O497>Inputs!$D$9,0,1))","v":1},{"$f":"IF(COUNT(P497:U497)=0,\"\",INDEX(Inputs!$O$21:$P$26,MATCH(COUNT(P497:U497),Inputs!$O$21:$O$26,0),2))","v":20},1,null,null,{"$f":"IF(D497=\"\",\"\",IF(D497=\"-\",\"\",IF(D497>AVERAGE($D$2:$D$1000),1,0)))","v":1},1,1,1,1,1,1]
[{"$f":"'SIP Returns'!B499","v":0},null,{"$f":"'SIP Returns'!D499","v":0},{"$f":"'SIP Returns'!E499","v":0},{"$f":"'SIP Returns'!F499","v":0},{"$f":"'SIP Returns'!G499","v":0},{"$f":"'SIP Returns'!H499","v":0},{"$f":"'SIP Returns'!I499","v":0},{"$f":"'SIP Returns'!J499","v":0},1,10,8,4,1,1,{"$f":"IF(J498=\"\",\"\",IF(J498>Inputs!$D$9,0,1))","v":1},{"$f":"IF(K498=\"\",\"\",IF(K498>Inputs!$D$9,0,1))","v":1},{"$f":"IF(L498=\"\",\"\",IF(L498>Inputs!$D$9,0,1))","v":1},{"$f":"IF(M498=\"\",\"\",IF(M498>Inputs!$D$9,0,1))","v":1},{"$f":"IF(N498=\"\",\"\",IF(N498>Inputs!$D$9,0,1))","v":1},{"$f":"IF(O498=\"\",\"\",IF(O498>Inputs!$D$9,0,1))","v":1},{"$f":"IF(COUNT(P498:U498)=0,\"\",INDEX(Inputs!$O$21:$P$26,MATCH(COUNT(P498:U498),Inputs!$O$21:$O$26,0),2))","v":20},1,null,null,{"$f":"IF(D498=\"\",\"\",IF(D498=\"-\",\"\",IF(D498>AVERAGE($D$2:$D$1000),1,0)))","v":1},1,1,1,1,1,1]
[{"$f":"'SIP Returns'!B500","v":0},null,{"$f":"'SIP Returns'!D500","v":0},{"$f":"'SIP Returns'!E500","v":0},{"$f":"'SIP Returns'!F500","v":0},{"$f":"'SIP Returns'!G500","v":0},{"$f":"'SIP Returns'!H500","v":0},{"$f":"'SIP Returns'!I500","v":0},{"$f":"'SIP Returns'!J500","v":0},1,10,8,4,1,1,{"$f":"IF(J499=\"\",\"\",IF(J499>Inputs!$D$9,0,1))","v":1},{"$f":"IF(K499=\"\",\"\",IF(K499>Inputs!$D$9,0,1))","v":1},{"$f":"IF(L499=\"\",\"\",IF(L499>Inputs!$D$9,0,1))","v":1},{"$f":"IF(M499=\"\",\"\",IF(M499>Inputs!$D$9,0,1))","v":1},{"$f":"IF(N499=\"\",\"\",IF(N499>Inputs!$D$9,0,1))","v":1},{"$f":"IF(O499=\"\",\"\",IF(O499>Inputs!$D$9,0,1))","v":1},{"$f":"IF(COUNT(P499:U499)=0,\"\",INDEX(Inputs!$O$21:$P$26,MATCH(COUNT(P499:U499),Inputs!$O$21:$O$26,0),2))","v":20},1,null,null,{"$f":"IF(D499=\"\",\"\",IF(D499=\"-\",\"\",IF(D499>AVERAGE($D$2:$D$1000),1,0)))","v":1},1,1,1,1,1,1]
[{"$f":"'SIP Returns'!B501","v":0},null,{"$f":"'SIP Returns'!D501","v":0},{"$f":"'SIP Returns'!E501","v":0},{"$f":"'SIP Returns'!F501","v":0},{"$f":"'SIP Returns'!G501","v":0},{"$f":"'SIP Returns'!H501","v":0},{"$f":"'SIP Returns'!I501","v":0},{"$f":"'SIP Returns'!J501","v":0},1,10,8,4,1,1,{"$f":"IF(J500=\"\",\"\",IF(J500>Inputs!$D$9,0,1))","v":1},{"$f":"IF(K500=\"\",\"\",IF(K500>Inputs!$D$9,0,1))","v":1},{"$f":"IF(L500=\"\",\"\",IF(L500>Inputs!$D$9,0,1))","v":1},{"$f":"IF(M500=\"\",\"\",IF(M500>Inputs!$D$9,0,1))","v":1},{"$f":"IF(N500=\"\",\"\",IF(N500>Inputs!$D$9,0,1))","v":1},{"$f":"IF(O500=\"\",\"\",IF(O500>Inputs!$D$9,0,1))","v":1},{"$f":"IF(COUNT(P500:U500)=0,\"\",INDEX(Inputs!$O$21:$P$26,MATCH(COUNT(P500:U500),Inputs!$O$21:$O$26,0),2))","v":20},1,null,null,{"$f":"IF(D500=\"\",\"\",IF(D500=\"-\",\"\",IF(D500>AVERAGE($D$2:$D$1000),1,0)))","v":1},1,1,1,1,1,1]
[{"$f":"'SIP Returns'!B502","v":0},null,{"$f":"'SIP Returns'!D502","v":0},{"$f":"'SIP Returns'!E502","v":0},{"$f":"'SIP Returns'!F502","v":0},{"$f":"'SIP Returns'!G502","v":0},{"$f":"'SIP Returns'!H502","v":0},{"$f":"'SIP Returns'!I502","v":0},{"$f":"'SIP Returns'!J502","v":0},1,10,8,4,1,1,{"$f":"IF(J501=\"\",\"\",IF(J501>Inputs!$D$9,0,1))","v":1},{"$f":"IF(K501=\"\",\"\",IF(K501>Inputs!$D$9,0,1))","v":1},{"$f":"IF(L501=\"\",\"\",IF(L501>Inputs!$D$9,0,1))","v":1},{"$f":"IF(M501=\"\",\"\",IF(M501>Inputs!$D$9,0,1))","v":1},{"$f":"IF(N501=\"\",\"\",IF(N501>Inputs!$D$9,0,1))","v":1},{"$f":"IF(O501=\"\",\"\",IF(O501>Inputs!$D$9,0,1))","v":1},{"$f":"IF(COUNT(P501:U501)=0,\"\",INDEX(Inputs!$O$21:$P$26,MATCH(COUNT(P501:U501),Inputs!$O$21:$O$26,0),2))","v":20},1,null,null,{"$f":"IF(D501=\"\",\"\",IF(D501=\"-\",\"\",IF(D501>AVERAGE($D$2:$D$1000),1,0)))","v":1},1,1,1,1,1,1]
[{"$f":"'SIP Returns'!B503","v":0},null,{"$f":"'SIP Returns'!D503","v":0},{"$f":"'SIP Returns'!E503","v":0},{"$f":"'SIP Returns'!F503","v":0},{"$f":"'SIP Returns'!G503","v":0},{"$f":"'SIP Returns'!H503","v":0},{"$f":"'SIP Returns'!I503","v":0},{"$f":"'SIP Returns'!J503","v":0},1,10,8,4,1,1,{"$f":"IF(J502=\"\",\"\",IF(J502>Inputs!$D$9,0,1))","v":1},{"$f":"IF(K502=\"\",\"\",IF(K502>Inputs!$D$9,0,1))","v":1},{"$f":"IF(L502=\"\",\"\",IF(L502>Inputs!$D$9,0,1))","v":1},{"$f":"IF(M502=\"\",\"\",IF(M502>Inputs!$D$9,0,1))","v":1},{"$f":"IF(N502=\"\",\"\",IF(N502>Inputs!$D$9,0,1))","v":1},{"$f":"IF(O502=\"\",\"\",IF(O502>Inputs!$D$9,0,1))","v":1},{"$f":"IF(COUNT(P502:U502)=0,\"\",INDEX(Inputs!$O$21:$P$26,MATCH(COUNT(P502:U502),Inputs!$O$21:$O$26,0),2))","v":20},1,null,null,{"$f":"IF(D502=\"\",\"\",IF(D502=\"-\",\"\",IF(D502>AVERAGE($D$2:$D$1000),1,0)))","v":1},1,1,1,1,1,1]
[{"$f":"'SIP Returns'!B504","v":0},null,{"$f":"'SIP Returns'!D504","v":0},{"$f":"'SIP Returns'!E504","v":0},{"$f":"'SIP Returns'!F504","v":0},{"$f":"'SIP Returns'!G504","v":0},{"$f":"'SIP Returns'!H504","v":0},{"$f":"'SIP Returns'!I504","v":0},{"$f":"'SIP Returns'!J504","v":0},1,10,8,4,1,1,{"$f":"IF(J503=\"\",\"\",IF(J503>Inputs!$D$9,0,1))","v":1},{"$f":"IF(K503=\"\",\"\",IF(K503>Inputs!$D$9,0,1))","v":1},{"$f":"IF(L503=\"\",\"\",IF(L503>Inputs!$D$9,0,1))","v":1},{"$f":"IF(M503=\"\",\"\",IF(M503>Inputs!$D$9,0,1))","v":1},{"$f":"IF(N503=\"\",\"\",IF(N503>Inputs!$D$9,0,1))","v":1},{"$f":"IF(O503=\"\",\"\",IF(O503>Inputs!$D$9,0,1))","v":1},{"$f":"IF(COUNT(P503:U503)=0,\"\",INDEX(Inputs!$O$21:$P$26,MATCH(COUNT(P503:U503),Inputs!$O$21:$O$26,0),2))","v":20},1,null,null,{"$f":"IF(D503=\"\",\"\",IF(D503=\"-\",\"\",IF(D503>AVERAGE($D$2:$D$1000),1,0)))","v":1},1,1,1,1,1,1]
[{"$f":"'SIP Returns'!B505","v":0},null,{"$f":"'SIP Returns'!D505","v":0},{"$f":"'SIP Returns'!E505","v":0},{"$f":"'SIP Returns'!F505","v":0},{"$f":"'SIP Returns'!G505","v":0},{"$f":"'SIP Returns'!H505","v":0},{"$f":"'SIP Returns'!I505","v":0},{"$f":"'SIP Returns'!J505","v":0},1,10,8,4,1,1,{"$f":"IF(J504=\"\",\"\",IF(J504>Inputs!$D$9,0,1))","v":1},{"$f":"IF(K504=\"\",\"\",IF(K504>Inputs!$D$9,0,1))","v":1},{"$f":"IF(L504=\"\",\"\",IF(L504>Inputs!$D$9,0,1))","v":1},{"$f":"IF(M504=\"\",\"\",IF(M504>Inputs!$D$9,0,1))","v":1},{"$f":"IF(N504=\"\",\"\",IF(N504>Inputs!$D$9,0,1))","v":1},{"$f":"IF(O504=\"\",\"\",IF(O504>Inputs!$D$9,0,1))","v":1},{"$f":"IF(COUNT(P504:U504)=0,\"\",INDEX(Inputs!$O$21:$P$26,MATCH(COUNT(P504:U504),Inputs!$O$21:$O$26,0),2))","v":20},1,null,null,{"$f":"IF(D504=\"\",\"\",IF(D504=\"-\",\"\",IF(D504>AVERAGE($D$2:$D$1000),1,0)))","v":1},1,1,1,1,1,1]
[{"$f":"'SIP Returns'!B506","v":0},null,{"$f":"'SIP Returns'!D506","v":0},{"$f":"'SIP Returns'!E506","v":0},{"$f":"'SIP Returns'!F506","v":0},{"$f":"'SIP Returns'!G506","v":0},{"$f":"'SIP Returns'!H506","v":0},{"$f":"'SIP Returns'!I506","v":0},{"$f":"'SIP Returns'!J506","v":0},1,10,8,4,1,1,{"$f":"IF(J505=\"\",\"\",IF(J505>Inputs!$D$9,0,1))","v":1},{"$f":"IF(K505=\"\",\"\",IF(K505>Inputs!$D$9,0,1))","v":1},{"$f":"IF(L505=\"\",\"\",IF(L505>Inputs!$D$9,0,1))","v":1},{"$f":"IF(M505=\"\",\"\",IF(M505>Inputs!$D$9,0,1))","v":1},{"$f":"IF(N505=\"\",\"\",IF(N505>Inputs!$D$9,0,1))","v":1},{"$f":"IF(O505=\"\",\"\",IF(O505>Inputs!$D$9,0,1))","v":1},{"$f":"IF(COUNT(P505:U505)=0,\"\",INDEX(Inputs!$O$21:$P$26,MATCH(COUNT(P505:U505),Inputs!$O$21:$O$26,0),2))","v":20},1,null,null,{"$f":"IF(D505=\"\",\"\",IF(D505=\"-\",\"\",IF(D505>AVERAGE($D$2:$D$1000),1,0)))","v":1},1,1,1,1,1,1]
[{"$f":"'SIP Returns'!B507","v":0},null,{"$f":"'SIP Returns'!D507","v":0},{"$f":"'SIP Returns'!E507","v":0},{"$f":"'SIP Returns'!F507","v":0},{"$f":"'SIP Returns'!G507","v":0},{"$f":"'SIP Returns'!H507","v":0},{"$f":"'SIP Returns'!I507","v":0},{"$f":"'SIP Returns'!J507","v":0},1,10,8,4,1,1,{"$f":"IF(J506=\"\",\"\",IF(J506>Inputs!$D$9,0,1))","v":1},{"$f":"IF(K506=\"\",\"\",IF(K506>Inputs!$D$9,0,1))","v":1},{"$f":"IF(L506=\"\",\"\",IF(L506>Inputs!$D$9,0,1))","v":1},{"$f":"IF(M506=\"\",\"\",IF(M506>Inputs!$D$9,0,1))","v":1},{"$f":"IF(N506=\"\",\"\",IF(N506>Inputs!$D$9,0,1))","v":1},{"$f":"IF(O506=\"\",\"\",IF(O506>Inputs!$D$9,0,1))","v":1},{"$f":"IF(COUNT(P506:U506)=0,\"\",INDEX(Inputs!$O$21:$P$26,MATCH(COUNT(P506:U506),Inputs!$O$21:$O$26,0),2))","v":20},1,null,null,{"$f":"IF(D506=\"\",\"\",IF(D506=\"-\",\"\",IF(D506>AVERAGE($D$2:$D$1000),1,0)))","v":1},1,1,1,1,1,1]
[{"$f":"'SIP Returns'!B508","v":0},null,{"$f":"'SIP Returns'!D508","v":0},{"$f":"'SIP Returns'!E508","v":0},{"$f":"'SIP Returns'!F508","v":0},{"$f":"'SIP Returns'!G508","v":0},{"$f":"'SIP Returns'!H508","v":0},{"$f":"'SIP Returns'!I508","v":0},{"$f":"'SIP Returns'!J508","v":0},1,10,8,4,1,1,{"$f":"IF(J507=\"\",\"\",IF(J507>Inputs!$D$9,0,1))","v":1},{"$f":"IF(K507=\"\",\"\",IF(K507>Inputs!$D$9,0,1))","v":1},{"$f":"IF(L507=\"\",\"\",IF(L507>Inputs!$D$9,0,1))","v":1},{"$f":"IF(M507=\"\",\"\",IF(M507>Inputs!$D$9,0,1))","v":1},{"$f":"IF(N507=\"\",\"\",IF(N507>Inputs!$D$9,0,1))","v":1},{"$f":"IF(O507=\"\",\"\",IF(O507>Inputs!$D$9,0,1))","v":1},{"$f":"IF(COUNT(P507:U507)=0,\"\",INDEX(Inputs!$O$21:$P$26,MATCH(COUNT(P507:U507),Inputs!$O$21:$O$26,0),2))","v":20},1,null,null,{"$f":"IF(D507=\"\",\"\",IF(D507=\"-\",\"\",IF(D507>AVERAGE($D$2:$D$1000),1,0)))","v":1},1,1,1,1,1,1]
[{"$f":"'SIP Returns'!B509","v":0},null,{"$f":"'SIP Returns'!D509","v":0},{"$f":"'SIP Returns'!E509","v":0},{"$f":"'SIP Returns'!F509","v":0},{"$f":"'SIP Returns'!G509","v":0},{"$f":"'SIP Returns'!H509","v":0},{"$f":"'SIP Returns'!I509","v":0},{"$f":"'SIP Returns'!J509","v":0},1,10,8,4,1,1,{"$f":"IF(J508=\"\",\"\",IF(J508>Inputs!$D$9,0,1))","v":1},{"$f":"IF(K508=\"\",\"\",IF(K508>Inputs!$D$9,0,1))","v":1},{"$f":"IF(L508=\"\",\"\",IF(L508>Inputs!$D$9,0,1))","v":1},{"$f":"IF(M508=\"\",\"\",IF(M508>Inputs!$D$9,0,1))","v":1},{"$f":"IF(N508=\"\",\"\",IF(N508>Inputs!$D$9,0,1))","v":1},{"$f":"IF(O508=\"\",\"\",IF(O508>Inputs!$D$9,0,1))","v":1},{"$f":"IF(COUNT(P508:U508)=0,\"\",INDEX(Inputs!$O$21:$P$26,MATCH(COUNT(P508:U508),Inputs!$O$21:$O$26,0),2))","v":20},1,null,null,{"$f":"IF(D508=\"\",\"\",IF(D508=\"-\",\"\",IF(D508>AVERAGE($D$2:$D$1000),1,0)))","v":1},1,1,1,1,1,1]
[{"$f":"'SIP Returns'!B510","v":0},null,{"$f":"'SIP Returns'!D510","v":0},{"$f":"'SIP Returns'!E510","v":0},{"$f":"'SIP Returns'!F510","v":0},{"$f":"'SIP Returns'!G510","v":0},{"$f":"'SIP Returns'!H510","v":0},{"$f":"'SIP Returns'!I510","v":0},{"$f":"'SIP Returns'!J510","v":0},1,10,8,4,1,1,{"$f":"IF(J509=\"\",\"\",IF(J509>Inputs!$D$9,0,1))","v":1},{"$f":"IF(K509=\"\",\"\",IF(K509>Inputs!$D$9,0,1))","v":1},{"$f":"IF(L509=\"\",\"\",IF(L509>Inputs!$D$9,0,1))","v":1},{"$f":"IF(M509=\"\",\"\",IF(M509>Inputs!$D$9,0,1))","v":1},{"$f":"IF(N509=\"\",\"\",IF(N509>Inputs!$D$9,0,1))","v":1},{"$f":"IF(O509=\"\",\"\",IF(O509>Inputs!$D$9,0,1))","v":1},{"$f":"IF(COUNT(P509:U509)=0,\"\",INDEX(Inputs!$O$21:$P$26,MATCH(COUNT(P509:U509),Inputs!$O$21:$O$26,0),2))","v":20},1,null,null,{"$f":"IF(D509=\"\",\"\",IF(D509=\"-\",\"\",IF(D509>AVERAGE($D$2:$D$1000),1,0)))","v":1},1,1,1,1,1,1]
[{"$f":"'SIP Returns'!B511","v":0},null,{"$f":"'SIP Returns'!D511","v":0},{"$f":"'SIP Returns'!E511","v":0},{"$f":"'SIP Returns'!F511","v":0},{"$f":"'SIP Returns'!G511","v":0},{"$f":"'SIP Returns'!H511","v":0},{"$f":"'SIP Returns'!I511","v":0},{"$f":"'SIP Returns'!J511","v":0},1,10,8,4,1,1,{"$f":"IF(J510=\"\",\"\",IF(J510>Inputs!$D$9,0,1))","v":1},{"$f":"IF(K510=\"\",\"\",IF(K510>Inputs!$D$9,0,1))","v":1},{"$f":"IF(L510=\"\",\"\",IF(L510>Inputs!$D$9,0,1))","v":1},{"$f":"IF(M510=\"\",\"\",IF(M510>Inputs!$D$9,0,1))","v":1},{"$f":"IF(N510=\"\",\"\",IF(N510>Inputs!$D$9,0,1))","v":1},{"$f":"IF(O510=\"\",\"\",IF(O510>Inputs!$D$9,0,1))","v":1},{"$f":"IF(COUNT(P510:U510)=0,\"\",INDEX(Inputs!$O$21:$P$26,MATCH(COUNT(P510:U510),Inputs!$O$21:$O$26,0),2))","v":20},1,null,null,{"$f":"IF(D510=\"\",\"\",IF(D510=\"-\",\"\",IF(D510>AVERAGE($D$2:$D$1000),1,0)))","v":1},1,1,1,1,1,1]
[{"$f":"'SIP Returns'!B512","v":0},null,{"$f":"'SIP Returns'!D512","v":0},{"$f":"'SIP Returns'!E512","v":0},{"$f":"'SIP Returns'!F512","v":0},{"$f":"'SIP Returns'!G512","v":0},{"$f":"'SIP Returns'!H512","v":0},{"$f":"'SIP Returns'!I512","v":0},{"$f":"'SIP Returns'!J512","v":0},1,10,8,4,1,1,{"$f":"IF(J511=\"\",\"\",IF(J511>Inputs!$D$9,0,1))","v":1},{"$f":"IF(K511=\"\",\"\",IF(K511>Inputs!$D$9,0,1))","v":1},{"$f":"IF(L511=\"\",\"\",IF(L511>Inputs!$D$9,0,1))","v":1},{"$f":"IF(M511=\"\",\"\",IF(M511>Inputs!$D$9,0,1))","v":1},{"$f":"IF(N511=\"\",\"\",IF(N511>Inputs!$D$9,0,1))","v":1},{"$f":"IF(O511=\"\",\"\",IF(O511>Inputs!$D$9,0,1))","v":1},{"$f":"IF(COUNT(P511:U511)=0,\"\",INDEX(Inputs!$O$21:$P$26,MATCH(COUNT(P511:U511),Inputs!$O$21:$O$26,0),2))","v":20},1,null,null,{"$f":"IF(D511=\"\",\"\",IF(D511=\"-\",\"\",IF(D511>AVERAGE($D$2:$D$1000),1,0)))","v":1},1,1,1,1,1,1]
[{"$f":"'SIP Returns'!B513","v":0},null,{"$f":"'SIP Returns'!D513","v":0},{"$f":"'SIP Returns'!E513","v":0},{"$f":"'SIP Returns'!F513","v":0},{"$f":"'SIP Returns'!G513","v":0},{"$f":"'SIP Returns'!H513","v":0},{"$f":"'SIP Returns'!I513","v":0},{"$f":"'SIP Returns'!J513","v":0},1,10,8,4,1,1,{"$f":"IF(J512=\"\",\"\",IF(J512>Inputs!$D$9,0,1))","v":1},{"$f":"IF(K512=\"\",\"\",IF(K512>Inputs!$D$9,0,1))","v":1},{"$f":"IF(L512=\"\",\"\",IF(L512>Inputs!$D$9,0,1))","v":1},{"$f":"IF(M512=\"\",\"\",IF(M512>Inputs!$D$9,0,1))","v":1},{"$f":"IF(N512=\"\",\"\",IF(N512>Inputs!$D$9,0,1))","v":1},{"$f":"IF(O512=\"\",\"\",IF(O512>Inputs!$D$9,0,1))","v":1},{"$f":"IF(COUNT(P512:U512)=0,\"\",INDEX(Inputs!$O$21:$P$26,MATCH(COUNT(P512:U512),Inputs!$O$21:$O$26,0),2))","v":20},1,null,null,{"$f":"IF(D512=\"\",\"\",IF(D512=\"-\",\"\",IF(D512>AVERAGE($D$2:$D$1000),1,0)))","v":1},1,1,1,1,1,1]
[{"$f":"'SIP Returns'!B514","v":0},null,{"$f":"'SIP Returns'!D514","v":0},{"$f":"'SIP Returns'!E514","v":0},{"$f":"'SIP Returns'!F514","v":0},{"$f":"'SIP Returns'!G514","v":0},{"$f":"'SIP Returns'!H514","v":0},{"$f":"'SIP Returns'!I514","v":0},{"$f":"'SIP Returns'!J514","v":0},1,10,8,4,1,1,{"$f":"IF(J513=\"\",\"\",IF(J513>Inputs!$D$9,0,1))","v":1},{"$f":"IF(K513=\"\",\"\",IF(K513>Inputs!$D$9,0,1))","v":1},{"$f":"IF(L513=\"\",\"\",IF(L513>Inputs!$D$9,0,1))","v":1},{"$f":"IF(M513=\"\",\"\",IF(M513>Inputs!$D$9,0,1))","v":1},{"$f":"IF(N513=\"\",\"\",IF(N513>Inputs!$D$9,0,1))","v":1},{"$f":"IF(O513=\"\",\"\",IF(O513>Inputs!$D$9,0,1))","v":1},{"$f":"IF(COUNT(P513:U513)=0,\"\",INDEX(Inputs!$O$21:$P$26,MATCH(COUNT(P513:U513),Inputs!$O$21:$O$26,0),2))","v":20},1,null,null,{"$f":"IF(D513=\"\",\"\",IF(D513=\"-\",\"\",IF(D513>AVERAGE($D$2:$D$1000),1,0)))","v":1},1,1,1,1,1,1]
[{"$f":"'SIP Returns'!B515","v":0},null,{"$f":"'SIP Returns'!D515","v":0},{"$f":"'SIP Returns'!E515","v":0},{"$f":"'SIP Returns'!F515","v":0},{"$f":"'SIP Returns'!G515","v":0},{"$f":"'SIP Returns'!H515","v":0},{"$f":"'SIP Returns'!I515","v":0},{"$f":"'SIP Returns'!J515","v":0},{"$f":"IF($A514=\"\",\"\",IF(ISERROR(RANK(D514,$D$2:$D$1000,0)),\"\",RANK(D514,$D$2:$D$1000,0)))","v":1},{"$f":"IF($A514=\"\",\"\",IF(ISERROR(RANK(E514,$E$2:$E$1000,0)),\"\",RANK(E514,$E$2:$E$1000,0)))","v":10},{"$f":"IF($A514=\"\",\"\",IF(ISERROR(RANK(F514,$F$2:$F$1000,0)),\"\",RANK(F514,$F$2:$F$1000,0)))","v":8},{"$f":"IF($A514=\"\",\"\",IF(ISERROR(RANK(G514,$G$2:$G$1000,0)),\"\",RANK(G514,$G$2:$G$1000,0)))","v":4},{"$f":"IF($A514=\"\",\"\",IF(ISERROR(RANK(H514,$H$2:$H$1000,0)),\"\",RANK(H514,$H$2:$H$1000,0)))","v":1},{"$f":"IF($A514=\"\",\"\",IF(ISERROR(RANK(I514,$I$2:$I$1000,0)),\"\",RANK(I514,$I$2:$I$1000,0)))","v":1},{"$f":"IF(J514=\"\",\"\",IF(J514>Inputs!$D$9,0,1))","v":1},{"$f":"IF(K514=\"\",\"\",IF(K514>Inputs!$D$9,0,1))","v":1},{"$f":"IF(L514=\"\",\"\",IF(L514>Inputs!$D$9,0,1))","v":1},{"$f":"IF(M514=\"\",\"\",IF(M514>Inputs!$D$9,0,1))","v":1},{"$f":"IF(N514=\"\",\"\",IF(N514>Inputs!$D$9,0,1))","v":1},{"$f":"IF(O514=\"\",\"\",IF(O514>Inputs!$D$9,0,1))","v":1},{"$f":"IF(COUNT(P514:U514)=0,\"\",INDEX(Inputs!$O$21:$P$26,MATCH(COUNT(P514:U514),Inputs!$O$21:$O$26,0),2))","v":20},1,null,null,{"$f":"IF(D514=\"\",\"\",IF(D514=\"-\",\"\",IF(D514>AVERAGE($D$2:$D$1000),1,0)))","v":1},1,1,1,1,1,{"$f":"IF(COUNT(Z514:AE514)=0,\"\",SUM(Z514:AE514)/COUNT(Z514:AE514))","v":1}]
[{"$f":"'SIP Returns'!B516","v":0},null,{"$f":"'SIP Returns'!D516","v":0},{"$f":"'SIP Returns'!E516","v":0},{"$f":"'SIP Returns'!F516","v":0},{"$f":"'SIP Returns'!G516","v":0},{"$f":"'SIP Returns'!H516","v":0},{"$f":"'SIP Returns'!I516","v":0},{"$f":"'SIP Returns'!J516","v":0},1,10,8,4,1,1,{"$f":"IF(J515=\"\",\"\",IF(J515>Inputs!$D$9,0,1))","v":1},{"$f":"IF(K515=\"\",\"\",IF(K515>Inputs!$D$9,0,1))","v":1},{"$f":"IF(L515=\"\",\"\",IF(L515>Inputs!$D$9,0,1))","v":1},{"$f":"IF(M515=\"\",\"\",IF(M515>Inputs!$D$9,0,1))","v":1},{"$f":"IF(N515=\"\",\"\",IF(N515>Inputs!$D$9,0,1))","v":1},{"$f":"IF(O515=\"\",\"\",IF(O515>Inputs!$D$9,0,1))","v":1},{"$f":"IF(COUNT(P515:U515)=0,\"\",INDEX(Inputs!$O$21:$P$26,MATCH(COUNT(P515:U515),Inputs!$O$21:$O$26,0),2))","v":20},{"$f":"IF(COUNT(P515:U515)=0,\"\",SUM(P515:U515)/COUNT(P515:U515))","v":1},null,null,{"$f":"IF(D515=\"\",\"\",IF(D515=\"-\",\"\",IF(D515>AVERAGE($D$2:$D$1000),1,0)))","v":1},1,1,1,1,1,1]
[{"$f":"'SIP Returns'!B517","v":0},null,{"$f":"'SIP Returns'!D517","v":0},{"$f":"'SIP Returns'!E517","v":0},{"$f":"'SIP Returns'!F517","v":0},{"$f":"'SIP Returns'!G517","v":0},{"$f":"'SIP Returns'!H517","v":0},{"$f":"'SIP Returns'!I517","v":0},{"$f":"'SIP Returns'!J517","v":0},1,10,8,4,1,1,{"$f":"IF(J516=\"\",\"\",IF(J516>Inputs!$D$9,0,1))","v":1},{"$f":"IF(K516=\"\",\"\",IF(K516>Inputs!$D$9,0,1))","v":1},{"$f":"IF(L516=\"\",\"\",IF(L516>Inputs!$D$9,0,1))","v":1},{"$f":"IF(M516=\"\",\"\",IF(M516>Inputs!$D$9,0,1))","v":1},{"$f":"IF(N516=\"\",\"\",IF(N516>Inputs!$D$9,0,1))","v":1},{"$f":"IF(O516=\"\",\"\",IF(O516>Inputs!$D$9,0,1))","v":1},{"$f":"IF(COUNT(P516:U516)=0,\"\",INDEX(Inputs!$O$21:$P$26,MATCH(COUNT(P516:U516),Inputs!$O$21:$O$26,0),2))","v":20},1,null,null,{"$f":"IF(D516=\"\",\"\",IF(D516=\"-\",\"\",IF(D516>AVERAGE($D$2:$D$1000),1,0)))","v":1},1,1,1,1,1,1]
[{"$f":"'SIP Returns'!B518","v":0},null,{"$f":"'SIP Returns'!D518","v":0},{"$f":"'SIP Returns'!E518","v":0},{"$f":"'SIP Returns'!F518","v":0},{"$f":"'SIP Returns'!G518","v":0},{"$f":"'SIP Returns'!H518","v":0},{"$f":"'SIP Returns'!I518","v":0},{"$f":"'SIP Returns'!J518","v":0},1,10,8,4,1,1,{"$f":"IF(J517=\"\",\"\",IF(J517>Inputs!$D$9,0,1))","v":1},{"$f":"IF(K517=\"\",\"\",IF(K517>Inputs!$D$9,0,1))","v":1},{"$f":"IF(L517=\"\",\"\",IF(L517>Inputs!$D$9,0,1))","v":1},{"$f":"IF(M517=\"\",\"\",IF(M517>Inputs!$D$9,0,1))","v":1},{"$f":"IF(N517=\"\",\"\",IF(N517>Inputs!$D$9,0,1))","v":1},{"$f":"IF(O517=\"\",\"\",IF(O517>Inputs!$D$9,0,1))","v":1},{"$f":"IF(COUNT(P517:U517)=0,\"\",INDEX(Inputs!$O$21:$P$26,MATCH(COUNT(P517:U517),Inputs!$O$21:$O$26,0),2))","v":20},1,null,null,{"$f":"IF(D517=\"\",\"\",IF(D517=\"-\",\"\",IF(D517>AVERAGE($D$2:$D$1000),1,0)))","v":1},1,1,1,1,1,1]
[{"$f":"'SIP Returns'!B519","v":0},null,{"$f":"'SIP Returns'!D519","v":0},{"$f":"'SIP Returns'!E519","v":0},{"$f":"'SIP Returns'!F519","v":0},{"$f":"'SIP Returns'!G519","v":0},{"$f":"'SIP Returns'!H519","v":0},{"$f":"'SIP Returns'!I519","v":0},{"$f":"'SIP Returns'!J519","v":0},1,10,8,4,1,1,{"$f":"IF(J518=\"\",\"\",IF(J518>Inputs!$D$9,0,1))","v":1},{"$f":"IF(K518=\"\",\"\",IF(K518>Inputs!$D$9,0,1))","v":1},{"$f":"IF(L518=\"\",\"\",IF(L518>Inputs!$D$9,0,1))","v":1},{"$f":"IF(M518=\"\",\"\",IF(M518>Inputs!$D$9,0,1))","v":1},{"$f":"IF(N518=\"\",\"\",IF(N518>Inputs!$D$9,0,1))","v":1},{"$f":"IF(O518=\"\",\"\",IF(O518>Inputs!$D$9,0,1))","v":1},{"$f":"IF(COUNT(P518:U518)=0,\"\",INDEX(Inputs!$O$21:$P$26,MATCH(COUNT(P518:U518),Inputs!$O$21:$O$26,0),2))","v":20},1,null,null,{"$f":"IF(D518=\"\",\"\",IF(D518=\"-\",\"\",IF(D518>AVERAGE($D$2:$D$1000),1,0)))","v":1},1,1,1,1,1,1]
[{"$f":"'SIP Returns'!B520","v":0},null,{"$f":"'SIP Returns'!D520","v":0},{"$f":"'SIP Returns'!E520","v":0},{"$f":"'SIP Returns'!F520","v":0},{"$f":"'SIP Returns'!G520","v":0},{"$f":"'SIP Returns'!H520","v":0},{"$f":"'SIP Returns'!I520","v":0},{"$f":"'SIP Returns'!J520","v":0},1,10,8,4,1,1,{"$f":"IF(J519=\"\",\"\",IF(J519>Inputs!$D$9,0,1))","v":1},{"$f":"IF(K519=\"\",\"\",IF(K519>Inputs!$D$9,0,1))","v":1},{"$f":"IF(L519=\"\",\"\",IF(L519>Inputs!$D$9,0,1))","v":1},{"$f":"IF(M519=\"\",\"\",IF(M519>Inputs!$D$9,0,1))","v":1},{"$f":"IF(N519=\"\",\"\",IF(N519>Inputs!$D$9,0,1))","v":1},{"$f":"IF(O519=\"\",\"\",IF(O519>Inputs!$D$9,0,1))","v":1},{"$f":"IF(COUNT(P519:U519)=0,\"\",INDEX(Inputs!$O$21:$P$26,MATCH(COUNT(P519:U519),Inputs!$O$21:$O$26,0),2))","v":20},1,null,null,{"$f":"IF(D519=\"\",\"\",IF(D519=\"-\",\"\",IF(D519>AVERAGE($D$2:$D$1000),1,0)))","v":1},1,1,1,1,1,1]
[{"$f":"'SIP Returns'!B521","v":0},null,{"$f":"'SIP Returns'!D521","v":0},{"$f":"'SIP Returns'!E521","v":0},{"$f":"'SIP Returns'!F521","v":0},{"$f":"'SIP Returns'!G521","v":0},{"$f":"'SIP Returns'!H521","v":0},{"$f":"'SIP Returns'!I521","v":0},{"$f":"'SIP Returns'!J521","v":0},1,10,8,4,1,1,{"$f":"IF(J520=\"\",\"\",IF(J520>Inputs!$D$9,0,1))","v":1},{"$f":"IF(K520=\"\",\"\",IF(K520>Inputs!$D$9,0,1))","v":1},{"$f":"IF(L520=\"\",\"\",IF(L520>Inputs!$D$9,0,1))","v":1},{"$f":"IF(M520=\"\",\"\",IF(M520>Inputs!$D$9,0,1))","v":1},{"$f":"IF(N520=\"\",\"\",IF(N520>Inputs!$D$9,0,1))","v":1},{"$f":"IF(O520=\"\",\"\",IF(O520>Inputs!$D$9,0,1))","v":1},{"$f":"IF(COUNT(P520:U520)=0,\"\",INDEX(Inputs!$O$21:$P$26,MATCH(COUNT(P520:U520),Inputs!$O$21:$O$26,0),2))","v":20},1,null,null,{"$f":"IF(D520=\"\",\"\",IF(D520=\"-\",\"\",IF(D520>AVERAGE($D$2:$D$1000),1,0)))","v":1},1,1,1,1,1,1]
[{"$f":"'SIP Returns'!B522","v":0},null,{"$f":"'SIP Returns'!D522","v":0},{"$f":"'SIP Returns'!E522","v":0},{"$f":"'SIP Returns'!F522","v":0},{"$f":"'SIP Returns'!G522","v":0},{"$f":"'SIP Returns'!H522","v":0},{"$f":"'SIP Returns'!I522","v":0},{"$f":"'SIP Returns'!J522","v":0},1,10,8,4,1,1,{"$f":"IF(J521=\"\",\"\",IF(J521>Inputs!$D$9,0,1))","v":1},{"$f":"IF(K521=\"\",\"\",IF(K521>Inputs!$D$9,0,1))","v":1},{"$f":"IF(L521=\"\",\"\",IF(L521>Inputs!$D$9,0,1))","v":1},{"$f":"IF(M521=\"\",\"\",IF(M521>Inputs!$D$9,0,1))","v":1},{"$f":"IF(N521=\"\",\"\",IF(N521>Inputs!$D$9,0,1))","v":1},{"$f":"IF(O521=\"\",\"\",IF(O521>Inputs!$D$9,0,1))","v":1},{"$f":"IF(COUNT(P521:U521)=0,\"\",INDEX(Inputs!$O$21:$P$26,MATCH(COUNT(P521:U521),Inputs!$O$21:$O$26,0),2))","v":20},1,null,null,{"$f":"IF(D521=\"\",\"\",IF(D521=\"-\",\"\",IF(D521>AVERAGE($D$2:$D$1000),1,0)))","v":1},1,1,1,1,1,1]
[{"$f":"'SIP Returns'!B523","v":0},null,{"$f":"'SIP Returns'!D523","v":0},{"$f":"'SIP Returns'!E523","v":0},{"$f":"'SIP Returns'!F523","v":0},{"$f":"'SIP Returns'!G523","v":0},{"$f":"'SIP Returns'!H523","v":0},{"$f":"'SIP Returns'!I523","v":0},{"$f":"'SIP Returns'!J523","v":0},1,10,8,4,1,1,{"$f":"IF(J522=\"\",\"\",IF(J522>Inputs!$D$9,0,1))","v":1},{"$f":"IF(K522=\"\",\"\",IF(K522>Inputs!$D$9,0,1))","v":1},{"$f":"IF(L522=\"\",\"\",IF(L522>Inputs!$D$9,0,1))","v":1},{"$f":"IF(M522=\"\",\"\",IF(M522>Inputs!$D$9,0,1))","v":1},{"$f":"IF(N522=\"\",\"\",IF(N522>Inputs!$D$9,0,1))","v":1},{"$f":"IF(O522=\"\",\"\",IF(O522>Inputs!$D$9,0,1))","v":1},{"$f":"IF(COUNT(P522:U522)=0,\"\",INDEX(Inputs!$O$21:$P$26,MATCH(COUNT(P522:U522),Inputs!$O$21:$O$26,0),2))","v":20},1,null,null,{"$f":"IF(D522=\"\",\"\",IF(D522=\"-\",\"\",IF(D522>AVERAGE($D$2:$D$1000),1,0)))","v":1},1,1,1,1,1,1]
[{"$f":"'SIP Returns'!B524","v":0},null,{"$f":"'SIP Returns'!D524","v":0},{"$f":"'SIP Returns'!E524","v":0},{"$f":"'SIP Returns'!F524","v":0},{"$f":"'SIP Returns'!G524","v":0},{"$f":"'SIP Returns'!H524","v":0},{"$f":"'SIP Returns'!I524","v":0},{"$f":"'SIP Returns'!J524","v":0},1,10,8,4,1,1,{"$f":"IF(J523=\"\",\"\",IF(J523>Inputs!$D$9,0,1))","v":1},{"$f":"IF(K523=\"\",\"\",IF(K523>Inputs!$D$9,0,1))","v":1},{"$f":"IF(L523=\"\",\"\",IF(L523>Inputs!$D$9,0,1))","v":1},{"$f":"IF(M523=\"\",\"\",IF(M523>Inputs!$D$9,0,1))","v":1},{"$f":"IF(N523=\"\",\"\",IF(N523>Inputs!$D$9,0,1))","v":1},{"$f":"IF(O523=\"\",\"\",IF(O523>Inputs!$D$9,0,1))","v":1},{"$f":"IF(COUNT(P523:U523)=0,\"\",INDEX(Inputs!$O$21:$P$26,MATCH(COUNT(P523:U523),Inputs!$O$21:$O$26,0),2))","v":20},1,null,null,{"$f":"IF(D523=\"\",\"\",IF(D523=\"-\",\"\",IF(D523>AVERAGE($D$2:$D$1000),1,0)))","v":1},1,1,1,1,1,1]
[{"$f":"'SIP Returns'!B525","v":0},null,{"$f":"'SIP Returns'!D525","v":0},{"$f":"'SIP Returns'!E525","v":0},{"$f":"'SIP Returns'!F525","v":0},{"$f":"'SIP Returns'!G525","v":0},{"$f":"'SIP Returns'!H525","v":0},{"$f":"'SIP Returns'!I525","v":0},{"$f":"'SIP Returns'!J525","v":0},1,10,8,4,1,1,{"$f":"IF(J524=\"\",\"\",IF(J524>Inputs!$D$9,0,1))","v":1},{"$f":"IF(K524=\"\",\"\",IF(K524>Inputs!$D$9,0,1))","v":1},{"$f":"IF(L524=\"\",\"\",IF(L524>Inputs!$D$9,0,1))","v":1},{"$f":"IF(M524=\"\",\"\",IF(M524>Inputs!$D$9,0,1))","v":1},{"$f":"IF(N524=\"\",\"\",IF(N524>Inputs!$D$9,0,1))","v":1},{"$f":"IF(O524=\"\",\"\",IF(O524>Inputs!$D$9,0,1))","v":1},{"$f":"IF(COUNT(P524:U524)=0,\"\",INDEX(Inputs!$O$21:$P$26,MATCH(COUNT(P524:U524),Inputs!$O$21:$O$26,0),2))","v":20},1,null,null,{"$f":"IF(D524=\"\",\"\",IF(D524=\"-\",\"\",IF(D524>AVERAGE($D$2:$D$1000),1,0)))","v":1},1,1,1,1,1,1]
[{"$f":"'SIP Returns'!B526","v":0},null,{"$f":"'SIP Returns'!D526","v":0},{"$f":"'SIP Returns'!E526","v":0},{"$f":"'SIP Returns'!F526","v":0},{"$f":"'SIP Returns'!G526","v":0},{"$f":"'SIP Returns'!H526","v":0},{"$f":"'SIP Returns'!I526","v":0},{"$f":"'SIP Returns'!J526","v":0},1,10,8,4,1,1,{"$f":"IF(J525=\"\",\"\",IF(J525>Inputs!$D$9,0,1))","v":1},{"$f":"IF(K525=\"\",\"\",IF(K525>Inputs!$D$9,0,1))","v":1},{"$f":"IF(L525=\"\",\"\",IF(L525>Inputs!$D$9,0,1))","v":1},{"$f":"IF(M525=\"\",\"\",IF(M525>Inputs!$D$9,0,1))","v":1},{"$f":"IF(N525=\"\",\"\",IF(N525>Inputs!$D$9,0,1))","v":1},{"$f":"IF(O525=\"\",\"\",IF(O525>Inputs!$D$9,0,1))","v":1},{"$f":"IF(COUNT(P525:U525)=0,\"\",INDEX(Inputs!$O$21:$P$26,MATCH(COUNT(P525:U525),Inputs!$O$21:$O$26,0),2))","v":20},1,null,null,{"$f":"IF(D525=\"\",\"\",IF(D525=\"-\",\"\",IF(D525>AVERAGE($D$2:$D$1000),1,0)))","v":1},1,1,1,1,1,1]
[{"$f":"'SIP Returns'!B527","v":0},null,{"$f":"'SIP Returns'!D527","v":0},{"$f":"'SIP Returns'!E527","v":0},{"$f":"'SIP Returns'!F527","v":0},{"$f":"'SIP Returns'!G527","v":0},{"$f":"'SIP Returns'!H527","v":0},{"$f":"'SIP Returns'!I527","v":0},{"$f":"'SIP Returns'!J527","v":0},1,10,8,4,1,1,{"$f":"IF(J526=\"\",\"\",IF(J526>Inputs!$D$9,0,1))","v":1},{"$f":"IF(K526=\"\",\"\",IF(K526>Inputs!$D$9,0,1))","v":1},{"$f":"IF(L526=\"\",\"\",IF(L526>Inputs!$D$9,0,1))","v":1},{"$f":"IF(M526=\"\",\"\",IF(M526>Inputs!$D$9,0,1))","v":1},{"$f":"IF(N526=\"\",\"\",IF(N526>Inputs!$D$9,0,1))","v":1},{"$f":"IF(O526=\"\",\"\",IF(O526>Inputs!$D$9,0,1))","v":1},{"$f":"IF(COUNT(P526:U526)=0,\"\",INDEX(Inputs!$O$21:$P$26,MATCH(COUNT(P526:U526),Inputs!$O$21:$O$26,0),2))","v":20},1,null,null,{"$f":"IF(D526=\"\",\"\",IF(D526=\"-\",\"\",IF(D526>AVERAGE($D$2:$D$1000),1,0)))","v":1},1,1,1,1,1,1]
[{"$f":"'SIP Returns'!B528","v":0},null,{"$f":"'SIP Returns'!D528","v":0},{"$f":"'SIP Returns'!E528","v":0},{"$f":"'SIP Returns'!F528","v":0},{"$f":"'SIP Returns'!G528","v":0},{"$f":"'SIP Returns'!H528","v":0},{"$f":"'SIP Returns'!I528","v":0},{"$f":"'SIP Returns'!J528","v":0},1,10,8,4,1,1,{"$f":"IF(J527=\"\",\"\",IF(J527>Inputs!$D$9,0,1))","v":1},{"$f":"IF(K527=\"\",\"\",IF(K527>Inputs!$D$9,0,1))","v":1},{"$f":"IF(L527=\"\",\"\",IF(L527>Inputs!$D$9,0,1))","v":1},{"$f":"IF(M527=\"\",\"\",IF(M527>Inputs!$D$9,0,1))","v":1},{"$f":"IF(N527=\"\",\"\",IF(N527>Inputs!$D$9,0,1))","v":1},{"$f":"IF(O527=\"\",\"\",IF(O527>Inputs!$D$9,0,1))","v":1},{"$f":"IF(COUNT(P527:U527)=0,\"\",INDEX(Inputs!$O$21:$P$26,MATCH(COUNT(P527:U527),Inputs!$O$21:$O$26,0),2))","v":20},1,null,null,{"$f":"IF(D527=\"\",\"\",IF(D527=\"-\",\"\",IF(D527>AVERAGE($D$2:$D$1000),1,0)))","v":1},1,1,1,1,1,1]
[{"$f":"'SIP Returns'!B529","v":0},null,{"$f":"'SIP Returns'!D529","v":0},{"$f":"'SIP Returns'!E529","v":0},{"$f":"'SIP Returns'!F529","v":0},{"$f":"'SIP Returns'!G529","v":0},{"$f":"'SIP Returns'!H529","v":0},{"$f":"'SIP Returns'!I529","v":0},{"$f":"'SIP Returns'!J529","v":0},1,10,8,4,1,1,{"$f":"IF(J528=\"\",\"\",IF(J528>Inputs!$D$9,0,1))","v":1},{"$f":"IF(K528=\"\",\"\",IF(K528>Inputs!$D$9,0,1))","v":1},{"$f":"IF(L528=\"\",\"\",IF(L528>Inputs!$D$9,0,1))","v":1},{"$f":"IF(M528=\"\",\"\",IF(M528>Inputs!$D$9,0,1))","v":1},{"$f":"IF(N528=\"\",\"\",IF(N528>Inputs!$D$9,0,1))","v":1},{"$f":"IF(O528=\"\",\"\",IF(O528>Inputs!$D$9,0,1))","v":1},{"$f":"IF(COUNT(P528:U528)=0,\"\",INDEX(Inputs!$O$21:$P$26,MATCH(COUNT(P528:U528),Inputs!$O$21:$O$26,0),2))","v":20},1,null,null,{"$f":"IF(D528=\"\",\"\",IF(D528=\"-\",\"\",IF(D528>AVERAGE($D$2:$D$1000),1,0)))","v":1},1,1,1,1,1,1]
[{"$f":"'SIP Returns'!B530","v":0},null,{"$f":"'SIP Returns'!D530","v":0},{"$f":"'SIP Returns'!E530","v":0},{"$f":"'SIP Returns'!F530","v":0},{"$f":"'SIP Returns'!G530","v":0},{"$f":"'SIP Returns'!H530","v":0},{"$f":"'SIP Returns'!I530","v":0},{"$f":"'SIP Returns'!J530","v":0},1,10,8,4,1,1,{"$f":"IF(J529=\"\",\"\",IF(J529>Inputs!$D$9,0,1))","v":1},{"$f":"IF(K529=\"\",\"\",IF(K529>Inputs!$D$9,0,1))","v":1},{"$f":"IF(L529=\"\",\"\",IF(L529>Inputs!$D$9,0,1))","v":1},{"$f":"IF(M529=\"\",\"\",IF(M529>Inputs!$D$9,0,1))","v":1},{"$f":"IF(N529=\"\",\"\",IF(N529>Inputs!$D$9,0,1))","v":1},{"$f":"IF(O529=\"\",\"\",IF(O529>Inputs!$D$9,0,1))","v":1},{"$f":"IF(COUNT(P529:U529)=0,\"\",INDEX(Inputs!$O$21:$P$26,MATCH(COUNT(P529:U529),Inputs!$O$21:$O$26,0),2))","v":20},1,null,null,{"$f":"IF(D529=\"\",\"\",IF(D529=\"-\",\"\",IF(D529>AVERAGE($D$2:$D$1000),1,0)))","v":1},1,1,1,1,1,1]
[{"$f":"'SIP Returns'!B531","v":0},null,{"$f":"'SIP Returns'!D531","v":0},{"$f":"'SIP Returns'!E531","v":0},{"$f":"'SIP Returns'!F531","v":0},{"$f":"'SIP Returns'!G531","v":0},{"$f":"'SIP Returns'!H531","v":0},{"$f":"'SIP Returns'!I531","v":0},{"$f":"'SIP Returns'!J531","v":0},1,10,8,4,1,1,{"$f":"IF(J530=\"\",\"\",IF(J530>Inputs!$D$9,0,1))","v":1},{"$f":"IF(K530=\"\",\"\",IF(K530>Inputs!$D$9,0,1))","v":1},{"$f":"IF(L530=\"\",\"\",IF(L530>Inputs!$D$9,0,1))","v":1},{"$f":"IF(M530=\"\",\"\",IF(M530>Inputs!$D$9,0,1))","v":1},{"$f":"IF(N530=\"\",\"\",IF(N530>Inputs!$D$9,0,1))","v":1},{"$f":"IF(O530=\"\",\"\",IF(O530>Inputs!$D$9,0,1))","v":1},{"$f":"IF(COUNT(P530:U530)=0,\"\",INDEX(Inputs!$O$21:$P$26,MATCH(COUNT(P530:U530),Inputs!$O$21:$O$26,0),2))","v":20},1,null,null,{"$f":"IF(D530=\"\",\"\",IF(D530=\"-\",\"\",IF(D530>AVERAGE($D$2:$D$1000),1,0)))","v":1},1,1,1,1,1,1]
[{"$f":"'SIP Returns'!B532","v":0},null,{"$f":"'SIP Returns'!D532","v":0},{"$f":"'SIP Returns'!E532","v":0},{"$f":"'SIP Returns'!F532","v":0},{"$f":"'SIP Returns'!G532","v":0},{"$f":"'SIP Returns'!H532","v":0},{"$f":"'SIP Returns'!I532","v":0},{"$f":"'SIP Returns'!J532","v":0},1,10,8,4,1,1,{"$f":"IF(J531=\"\",\"\",IF(J531>Inputs!$D$9,0,1))","v":1},{"$f":"IF(K531=\"\",\"\",IF(K531>Inputs!$D$9,0,1))","v":1},{"$f":"IF(L531=\"\",\"\",IF(L531>Inputs!$D$9,0,1))","v":1},{"$f":"IF(M531=\"\",\"\",IF(M531>Inputs!$D$9,0,1))","v":1},{"$f":"IF(N531=\"\",\"\",IF(N531>Inputs!$D$9,0,1))","v":1},{"$f":"IF(O531=\"\",\"\",IF(O531>Inputs!$D$9,0,1))","v":1},{"$f":"IF(COUNT(P531:U531)=0,\"\",INDEX(Inputs!$O$21:$P$26,MATCH(COUNT(P531:U531),Inputs!$O$21:$O$26,0),2))","v":20},1,null,null,{"$f":"IF(D531=\"\",\"\",IF(D531=\"-\",\"\",IF(D531>AVERAGE($D$2:$D$1000),1,0)))","v":1},1,1,1,1,1,1]
[{"$f":"'SIP Returns'!B533","v":0},null,{"$f":"'SIP Returns'!D533","v":0},{"$f":"'SIP Returns'!E533","v":0},{"$f":"'SIP Returns'!F533","v":0},{"$f":"'SIP Returns'!G533","v":0},{"$f":"'SIP Returns'!H533","v":0},{"$f":"'SIP Returns'!I533","v":0},{"$f":"'SIP Returns'!J533","v":0},1,10,8,4,1,1,{"$f":"IF(J532=\"\",\"\",IF(J532>Inputs!$D$9,0,1))","v":1},{"$f":"IF(K532=\"\",\"\",IF(K532>Inputs!$D$9,0,1))","v":1},{"$f":"IF(L532=\"\",\"\",IF(L532>Inputs!$D$9,0,1))","v":1},{"$f":"IF(M532=\"\",\"\",IF(M532>Inputs!$D$9,0,1))","v":1},{"$f":"IF(N532=\"\",\"\",IF(N532>Inputs!$D$9,0,1))","v":1},{"$f":"IF(O532=\"\",\"\",IF(O532>Inputs!$D$9,0,1))","v":1},{"$f":"IF(COUNT(P532:U532)=0,\"\",INDEX(Inputs!$O$21:$P$26,MATCH(COUNT(P532:U532),Inputs!$O$21:$O$26,0),2))","v":20},1,null,null,{"$f":"IF(D532=\"\",\"\",IF(D532=\"-\",\"\",IF(D532>AVERAGE($D$2:$D$1000),1,0)))","v":1},1,1,1,1,1,1]
[{"$f":"'SIP Returns'!B534","v":0},null,{"$f":"'SIP Returns'!D534","v":0},{"$f":"'SIP Returns'!E534","v":0},{"$f":"'SIP Returns'!F534","v":0},{"$f":"'SIP Returns'!G534","v":0},{"$f":"'SIP Returns'!H534","v":0},{"$f":"'SIP Returns'!I534","v":0},{"$f":"'SIP Returns'!J534","v":0},1,10,8,4,1,1,{"$f":"IF(J533=\"\",\"\",IF(J533>Inputs!$D$9,0,1))","v":1},{"$f":"IF(K533=\"\",\"\",IF(K533>Inputs!$D$9,0,1))","v":1},{"$f":"IF(L533=\"\",\"\",IF(L533>Inputs!$D$9,0,1))","v":1},{"$f":"IF(M533=\"\",\"\",IF(M533>Inputs!$D$9,0,1))","v":1},{"$f":"IF(N533=\"\",\"\",IF(N533>Inputs!$D$9,0,1))","v":1},{"$f":"IF(O533=\"\",\"\",IF(O533>Inputs!$D$9,0,1))","v":1},{"$f":"IF(COUNT(P533:U533)=0,\"\",INDEX(Inputs!$O$21:$P$26,MATCH(COUNT(P533:U533),Inputs!$O$21:$O$26,0),2))","v":20},1,null,null,{"$f":"IF(D533=\"\",\"\",IF(D533=\"-\",\"\",IF(D533>AVERAGE($D$2:$D$1000),1,0)))","v":1},1,1,1,1,1,1]
[{"$f":"'SIP Returns'!B535","v":0},null,{"$f":"'SIP Returns'!D535","v":0},{"$f":"'SIP Returns'!E535","v":0},{"$f":"'SIP Returns'!F535","v":0},{"$f":"'SIP Returns'!G535","v":0},{"$f":"'SIP Returns'!H535","v":0},{"$f":"'SIP Returns'!I535","v":0},{"$f":"'SIP Returns'!J535","v":0},1,10,8,4,1,1,{"$f":"IF(J534=\"\",\"\",IF(J534>Inputs!$D$9,0,1))","v":1},{"$f":"IF(K534=\"\",\"\",IF(K534>Inputs!$D$9,0,1))","v":1},{"$f":"IF(L534=\"\",\"\",IF(L534>Inputs!$D$9,0,1))","v":1},{"$f":"IF(M534=\"\",\"\",IF(M534>Inputs!$D$9,0,1))","v":1},{"$f":"IF(N534=\"\",\"\",IF(N534>Inputs!$D$9,0,1))","v":1},{"$f":"IF(O534=\"\",\"\",IF(O534>Inputs!$D$9,0,1))","v":1},{"$f":"IF(COUNT(P534:U534)=0,\"\",INDEX(Inputs!$O$21:$P$26,MATCH(COUNT(P534:U534),Inputs!$O$21:$O$26,0),2))","v":20},1,null,null,{"$f":"IF(D534=\"\",\"\",IF(D534=\"-\",\"\",IF(D534>AVERAGE($D$2:$D$1000),1,0)))","v":1},1,1,1,1,1,1]
[{"$f":"'SIP Returns'!B536","v":0},null,{"$f":"'SIP Returns'!D536","v":0},{"$f":"'SIP Returns'!E536","v":0},{"$f":"'SIP Returns'!F536","v":0},{"$f":"'SIP Returns'!G536","v":0},{"$f":"'SIP Returns'!H536","v":0},{"$f":"'SIP Returns'!I536","v":0},{"$f":"'SIP Returns'!J536","v":0},1,10,8,4,1,1,{"$f":"IF(J535=\"\",\"\",IF(J535>Inputs!$D$9,0,1))","v":1},{"$f":"IF(K535=\"\",\"\",IF(K535>Inputs!$D$9,0,1))","v":1},{"$f":"IF(L535=\"\",\"\",IF(L535>Inputs!$D$9,0,1))","v":1},{"$f":"IF(M535=\"\",\"\",IF(M535>Inputs!$D$9,0,1))","v":1},{"$f":"IF(N535=\"\",\"\",IF(N535>Inputs!$D$9,0,1))","v":1},{"$f":"IF(O535=\"\",\"\",IF(O535>Inputs!$D$9,0,1))","v":1},{"$f":"IF(COUNT(P535:U535)=0,\"\",INDEX(Inputs!$O$21:$P$26,MATCH(COUNT(P535:U535),Inputs!$O$21:$O$26,0),2))","v":20},1,null,null,{"$f":"IF(D535=\"\",\"\",IF(D535=\"-\",\"\",IF(D535>AVERAGE($D$2:$D$1000),1,0)))","v":1},1,1,1,1,1,1]
[{"$f":"'SIP Returns'!B537","v":0},null,{"$f":"'SIP Returns'!D537","v":0},{"$f":"'SIP Returns'!E537","v":0},{"$f":"'SIP Returns'!F537","v":0},{"$f":"'SIP Returns'!G537","v":0},{"$f":"'SIP Returns'!H537","v":0},{"$f":"'SIP Returns'!I537","v":0},{"$f":"'SIP Returns'!J537","v":0},1,10,8,4,1,1,{"$f":"IF(J536=\"\",\"\",IF(J536>Inputs!$D$9,0,1))","v":1},{"$f":"IF(K536=\"\",\"\",IF(K536>Inputs!$D$9,0,1))","v":1},{"$f":"IF(L536=\"\",\"\",IF(L536>Inputs!$D$9,0,1))","v":1},{"$f":"IF(M536=\"\",\"\",IF(M536>Inputs!$D$9,0,1))","v":1},{"$f":"IF(N536=\"\",\"\",IF(N536>Inputs!$D$9,0,1))","v":1},{"$f":"IF(O536=\"\",\"\",IF(O536>Inputs!$D$9,0,1))","v":1},{"$f":"IF(COUNT(P536:U536)=0,\"\",INDEX(Inputs!$O$21:$P$26,MATCH(COUNT(P536:U536),Inputs!$O$21:$O$26,0),2))","v":20},1,null,null,{"$f":"IF(D536=\"\",\"\",IF(D536=\"-\",\"\",IF(D536>AVERAGE($D$2:$D$1000),1,0)))","v":1},1,1,1,1,1,1]
[{"$f":"'SIP Returns'!B538","v":0},null,{"$f":"'SIP Returns'!D538","v":0},{"$f":"'SIP Returns'!E538","v":0},{"$f":"'SIP Returns'!F538","v":0},{"$f":"'SIP Returns'!G538","v":0},{"$f":"'SIP Returns'!H538","v":0},{"$f":"'SIP Returns'!I538","v":0},{"$f":"'SIP Returns'!J538","v":0},1,10,8,4,1,1,{"$f":"IF(J537=\"\",\"\",IF(J537>Inputs!$D$9,0,1))","v":1},{"$f":"IF(K537=\"\",\"\",IF(K537>Inputs!$D$9,0,1))","v":1},{"$f":"IF(L537=\"\",\"\",IF(L537>Inputs!$D$9,0,1))","v":1},{"$f":"IF(M537=\"\",\"\",IF(M537>Inputs!$D$9,0,1))","v":1},{"$f":"IF(N537=\"\",\"\",IF(N537>Inputs!$D$9,0,1))","v":1},{"$f":"IF(O537=\"\",\"\",IF(O537>Inputs!$D$9,0,1))","v":1},{"$f":"IF(COUNT(P537:U537)=0,\"\",INDEX(Inputs!$O$21:$P$26,MATCH(COUNT(P537:U537),Inputs!$O$21:$O$26,0),2))","v":20},1,null,null,{"$f":"IF(D537=\"\",\"\",IF(D537=\"-\",\"\",IF(D537>AVERAGE($D$2:$D$1000),1,0)))","v":1},1,1,1,1,1,1]
[{"$f":"'SIP Returns'!B539","v":0},null,{"$f":"'SIP Returns'!D539","v":0},{"$f":"'SIP Returns'!E539","v":0},{"$f":"'SIP Returns'!F539","v":0},{"$f":"'SIP Returns'!G539","v":0},{"$f":"'SIP Returns'!H539","v":0},{"$f":"'SIP Returns'!I539","v":0},{"$f":"'SIP Returns'!J539","v":0},1,10,8,4,1,1,{"$f":"IF(J538=\"\",\"\",IF(J538>Inputs!$D$9,0,1))","v":1},{"$f":"IF(K538=\"\",\"\",IF(K538>Inputs!$D$9,0,1))","v":1},{"$f":"IF(L538=\"\",\"\",IF(L538>Inputs!$D$9,0,1))","v":1},{"$f":"IF(M538=\"\",\"\",IF(M538>Inputs!$D$9,0,1))","v":1},{"$f":"IF(N538=\"\",\"\",IF(N538>Inputs!$D$9,0,1))","v":1},{"$f":"IF(O538=\"\",\"\",IF(O538>Inputs!$D$9,0,1))","v":1},{"$f":"IF(COUNT(P538:U538)=0,\"\",INDEX(Inputs!$O$21:$P$26,MATCH(COUNT(P538:U538),Inputs!$O$21:$O$26,0),2))","v":20},1,null,null,{"$f":"IF(D538=\"\",\"\",IF(D538=\"-\",\"\",IF(D538>AVERAGE($D$2:$D$1000),1,0)))","v":1},1,1,1,1,1,1]
[{"$f":"'SIP Returns'!B540","v":0},null,{"$f":"'SIP Returns'!D540","v":0},{"$f":"'SIP Returns'!E540","v":0},{"$f":"'SIP Returns'!F540","v":0},{"$f":"'SIP Returns'!G540","v":0},{"$f":"'SIP Returns'!H540","v":0},{"$f":"'SIP Returns'!I540","v":0},{"$f":"'SIP Returns'!J540","v":0},1,10,8,4,1,1,{"$f":"IF(J539=\"\",\"\",IF(J539>Inputs!$D$9,0,1))","v":1},{"$f":"IF(K539=\"\",\"\",IF(K539>Inputs!$D$9,0,1))","v":1},{"$f":"IF(L539=\"\",\"\",IF(L539>Inputs!$D$9,0,1))","v":1},{"$f":"IF(M539=\"\",\"\",IF(M539>Inputs!$D$9,0,1))","v":1},{"$f":"IF(N539=\"\",\"\",IF(N539>Inputs!$D$9,0,1))","v":1},{"$f":"IF(O539=\"\",\"\",IF(O539>Inputs!$D$9,0,1))","v":1},{"$f":"IF(COUNT(P539:U539)=0,\"\",INDEX(Inputs!$O$21:$P$26,MATCH(COUNT(P539:U539),Inputs!$O$21:$O$26,0),2))","v":20},1,null,null,{"$f":"IF(D539=\"\",\"\",IF(D539=\"-\",\"\",IF(D539>AVERAGE($D$2:$D$1000),1,0)))","v":1},1,1,1,1,1,1]
[{"$f":"'SIP Returns'!B541","v":0},null,{"$f":"'SIP Returns'!D541","v":0},{"$f":"'SIP Returns'!E541","v":0},{"$f":"'SIP Returns'!F541","v":0},{"$f":"'SIP Returns'!G541","v":0},{"$f":"'SIP Returns'!H541","v":0},{"$f":"'SIP Returns'!I541","v":0},{"$f":"'SIP Returns'!J541","v":0},1,10,8,4,1,1,{"$f":"IF(J540=\"\",\"\",IF(J540>Inputs!$D$9,0,1))","v":1},{"$f":"IF(K540=\"\",\"\",IF(K540>Inputs!$D$9,0,1))","v":1},{"$f":"IF(L540=\"\",\"\",IF(L540>Inputs!$D$9,0,1))","v":1},{"$f":"IF(M540=\"\",\"\",IF(M540>Inputs!$D$9,0,1))","v":1},{"$f":"IF(N540=\"\",\"\",IF(N540>Inputs!$D$9,0,1))","v":1},{"$f":"IF(O540=\"\",\"\",IF(O540>Inputs!$D$9,0,1))","v":1},{"$f":"IF(COUNT(P540:U540)=0,\"\",INDEX(Inputs!$O$21:$P$26,MATCH(COUNT(P540:U540),Inputs!$O$21:$O$26,0),2))","v":20},1,null,null,{"$f":"IF(D540=\"\",\"\",IF(D540=\"-\",\"\",IF(D540>AVERAGE($D$2:$D$1000),1,0)))","v":1},1,1,1,1,1,1]
[{"$f":"'SIP Returns'!B542","v":0},null,{"$f":"'SIP Returns'!D542","v":0},{"$f":"'SIP Returns'!E542","v":0},{"$f":"'SIP Returns'!F542","v":0},{"$f":"'SIP Returns'!G542","v":0},{"$f":"'SIP Returns'!H542","v":0},{"$f":"'SIP Returns'!I542","v":0},{"$f":"'SIP Returns'!J542","v":0},1,10,8,4,1,1,{"$f":"IF(J541=\"\",\"\",IF(J541>Inputs!$D$9,0,1))","v":1},{"$f":"IF(K541=\"\",\"\",IF(K541>Inputs!$D$9,0,1))","v":1},{"$f":"IF(L541=\"\",\"\",IF(L541>Inputs!$D$9,0,1))","v":1},{"$f":"IF(M541=\"\",\"\",IF(M541>Inputs!$D$9,0,1))","v":1},{"$f":"IF(N541=\"\",\"\",IF(N541>Inputs!$D$9,0,1))","v":1},{"$f":"IF(O541=\"\",\"\",IF(O541>Inputs!$D$9,0,1))","v":1},{"$f":"IF(COUNT(P541:U541)=0,\"\",INDEX(Inputs!$O$21:$P$26,MATCH(COUNT(P541:U541),Inputs!$O$21:$O$26,0),2))","v":20},1,null,null,{"$f":"IF(D541=\"\",\"\",IF(D541=\"-\",\"\",IF(D541>AVERAGE($D$2:$D$1000),1,0)))","v":1},1,1,1,1,1,1]
[{"$f":"'SIP Returns'!B543","v":0},null,{"$f":"'SIP Returns'!D543","v":0},{"$f":"'SIP Returns'!E543","v":0},{"$f":"'SIP Returns'!F543","v":0},{"$f":"'SIP Returns'!G543","v":0},{"$f":"'SIP Returns'!H543","v":0},{"$f":"'SIP Returns'!I543","v":0},{"$f":"'SIP Returns'!J543","v":0},1,10,8,4,1,1,{"$f":"IF(J542=\"\",\"\",IF(J542>Inputs!$D$9,0,1))","v":1},{"$f":"IF(K542=\"\",\"\",IF(K542>Inputs!$D$9,0,1))","v":1},{"$f":"IF(L542=\"\",\"\",IF(L542>Inputs!$D$9,0,1))","v":1},{"$f":"IF(M542=\"\",\"\",IF(M542>Inputs!$D$9,0,1))","v":1},{"$f":"IF(N542=\"\",\"\",IF(N542>Inputs!$D$9,0,1))","v":1},{"$f":"IF(O542=\"\",\"\",IF(O542>Inputs!$D$9,0,1))","v":1},{"$f":"IF(COUNT(P542:U542)=0,\"\",INDEX(Inputs!$O$21:$P$26,MATCH(COUNT(P542:U542),Inputs!$O$21:$O$26,0),2))","v":20},1,null,null,{"$f":"IF(D542=\"\",\"\",IF(D542=\"-\",\"\",IF(D542>AVERAGE($D$2:$D$1000),1,0)))","v":1},1,1,1,1,1,1]
[{"$f":"'SIP Returns'!B544","v":0},null,{"$f":"'SIP Returns'!D544","v":0},{"$f":"'SIP Returns'!E544","v":0},{"$f":"'SIP Returns'!F544","v":0},{"$f":"'SIP Returns'!G544","v":0},{"$f":"'SIP Returns'!H544","v":0},{"$f":"'SIP Returns'!I544","v":0},{"$f":"'SIP Returns'!J544","v":0},1,10,8,4,1,1,{"$f":"IF(J543=\"\",\"\",IF(J543>Inputs!$D$9,0,1))","v":1},{"$f":"IF(K543=\"\",\"\",IF(K543>Inputs!$D$9,0,1))","v":1},{"$f":"IF(L543=\"\",\"\",IF(L543>Inputs!$D$9,0,1))","v":1},{"$f":"IF(M543=\"\",\"\",IF(M543>Inputs!$D$9,0,1))","v":1},{"$f":"IF(N543=\"\",\"\",IF(N543>Inputs!$D$9,0,1))","v":1},{"$f":"IF(O543=\"\",\"\",IF(O543>Inputs!$D$9,0,1))","v":1},{"$f":"IF(COUNT(P543:U543)=0,\"\",INDEX(Inputs!$O$21:$P$26,MATCH(COUNT(P543:U543),Inputs!$O$21:$O$26,0),2))","v":20},1,null,null,{"$f":"IF(D543=\"\",\"\",IF(D543=\"-\",\"\",IF(D543>AVERAGE($D$2:$D$1000),1,0)))","v":1},1,1,1,1,1,1]
[{"$f":"'SIP Returns'!B545","v":0},null,{"$f":"'SIP Returns'!D545","v":0},{"$f":"'SIP Returns'!E545","v":0},{"$f":"'SIP Returns'!F545","v":0},{"$f":"'SIP Returns'!G545","v":0},{"$f":"'SIP Returns'!H545","v":0},{"$f":"'SIP Returns'!I545","v":0},{"$f":"'SIP Returns'!J545","v":0},1,10,8,4,1,1,{"$f":"IF(J544=\"\",\"\",IF(J544>Inputs!$D$9,0,1))","v":1},{"$f":"IF(K544=\"\",\"\",IF(K544>Inputs!$D$9,0,1))","v":1},{"$f":"IF(L544=\"\",\"\",IF(L544>Inputs!$D$9,0,1))","v":1},{"$f":"IF(M544=\"\",\"\",IF(M544>Inputs!$D$9,0,1))","v":1},{"$f":"IF(N544=\"\",\"\",IF(N544>Inputs!$D$9,0,1))","v":1},{"$f":"IF(O544=\"\",\"\",IF(O544>Inputs!$D$9,0,1))","v":1},{"$f":"IF(COUNT(P544:U544)=0,\"\",INDEX(Inputs!$O$21:$P$26,MATCH(COUNT(P544:U544),Inputs!$O$21:$O$26,0),2))","v":20},1,null,null,{"$f":"IF(D544=\"\",\"\",IF(D544=\"-\",\"\",IF(D544>AVERAGE($D$2:$D$1000),1,0)))","v":1},1,1,1,1,1,1]
[{"$f":"'SIP Returns'!B546","v":0},null,{"$f":"'SIP Returns'!D546","v":0},{"$f":"'SIP Returns'!E546","v":0},{"$f":"'SIP Returns'!F546","v":0},{"$f":"'SIP Returns'!G546","v":0},{"$f":"'SIP Returns'!H546","v":0},{"$f":"'SIP Returns'!I546","v":0},{"$f":"'SIP Returns'!J546","v":0},1,10,8,4,1,1,{"$f":"IF(J545=\"\",\"\",IF(J545>Inputs!$D$9,0,1))","v":1},{"$f":"IF(K545=\"\",\"\",IF(K545>Inputs!$D$9,0,1))","v":1},{"$f":"IF(L545=\"\",\"\",IF(L545>Inputs!$D$9,0,1))","v":1},{"$f":"IF(M545=\"\",\"\",IF(M545>Inputs!$D$9,0,1))","v":1},{"$f":"IF(N545=\"\",\"\",IF(N545>Inputs!$D$9,0,1))","v":1},{"$f":"IF(O545=\"\",\"\",IF(O545>Inputs!$D$9,0,1))","v":1},{"$f":"IF(COUNT(P545:U545)=0,\"\",INDEX(Inputs!$O$21:$P$26,MATCH(COUNT(P545:U545),Inputs!$O$21:$O$26,0),2))","v":20},1,null,null,{"$f":"IF(D545=\"\",\"\",IF(D545=\"-\",\"\",IF(D545>AVERAGE($D$2:$D$1000),1,0)))","v":1},1,1,1,1,1,1]
[{"$f":"'SIP Returns'!B547","v":0},null,{"$f":"'SIP Returns'!D547","v":0},{"$f":"'SIP Returns'!E547","v":0},{"$f":"'SIP Returns'!F547","v":0},{"$f":"'SIP Returns'!G547","v":0},{"$f":"'SIP Returns'!H547","v":0},{"$f":"'SIP Returns'!I547","v":0},{"$f":"'SIP Returns'!J547","v":0},1,10,8,4,1,1,{"$f":"IF(J546=\"\",\"\",IF(J546>Inputs!$D$9,0,1))","v":1},{"$f":"IF(K546=\"\",\"\",IF(K546>Inputs!$D$9,0,1))","v":1},{"$f":"IF(L546=\"\",\"\",IF(L546>Inputs!$D$9,0,1))","v":1},{"$f":"IF(M546=\"\",\"\",IF(M546>Inputs!$D$9,0,1))","v":1},{"$f":"IF(N546=\"\",\"\",IF(N546>Inputs!$D$9,0,1))","v":1},{"$f":"IF(O546=\"\",\"\",IF(O546>Inputs!$D$9,0,1))","v":1},{"$f":"IF(COUNT(P546:U546)=0,\"\",INDEX(Inputs!$O$21:$P$26,MATCH(COUNT(P546:U546),Inputs!$O$21:$O$26,0),2))","v":20},1,null,null,{"$f":"IF(D546=\"\",\"\",IF(D546=\"-\",\"\",IF(D546>AVERAGE($D$2:$D$1000),1,0)))","v":1},1,1,1,1,1,1]
[{"$f":"'SIP Returns'!B548","v":0},null,{"$f":"'SIP Returns'!D548","v":0},{"$f":"'SIP Returns'!E548","v":0},{"$f":"'SIP Returns'!F548","v":0},{"$f":"'SIP Returns'!G548","v":0},{"$f":"'SIP Returns'!H548","v":0},{"$f":"'SIP Returns'!I548","v":0},{"$f":"'SIP Returns'!J548","v":0},1,10,8,4,1,1,{"$f":"IF(J547=\"\",\"\",IF(J547>Inputs!$D$9,0,1))","v":1},{"$f":"IF(K547=\"\",\"\",IF(K547>Inputs!$D$9,0,1))","v":1},{"$f":"IF(L547=\"\",\"\",IF(L547>Inputs!$D$9,0,1))","v":1},{"$f":"IF(M547=\"\",\"\",IF(M547>Inputs!$D$9,0,1))","v":1},{"$f":"IF(N547=\"\",\"\",IF(N547>Inputs!$D$9,0,1))","v":1},{"$f":"IF(O547=\"\",\"\",IF(O547>Inputs!$D$9,0,1))","v":1},{"$f":"IF(COUNT(P547:U547)=0,\"\",INDEX(Inputs!$O$21:$P$26,MATCH(COUNT(P547:U547),Inputs!$O$21:$O$26,0),2))","v":20},1,null,null,{"$f":"IF(D547=\"\",\"\",IF(D547=\"-\",\"\",IF(D547>AVERAGE($D$2:$D$1000),1,0)))","v":1},1,1,1,1,1,1]
[{"$f":"'SIP Returns'!B549","v":0},null,{"$f":"'SIP Returns'!D549","v":0},{"$f":"'SIP Returns'!E549","v":0},{"$f":"'SIP Returns'!F549","v":0},{"$f":"'SIP Returns'!G549","v":0},{"$f":"'SIP Returns'!H549","v":0},{"$f":"'SIP Returns'!I549","v":0},{"$f":"'SIP Returns'!J549","v":0},1,10,8,4,1,1,{"$f":"IF(J548=\"\",\"\",IF(J548>Inputs!$D$9,0,1))","v":1},{"$f":"IF(K548=\"\",\"\",IF(K548>Inputs!$D$9,0,1))","v":1},{"$f":"IF(L548=\"\",\"\",IF(L548>Inputs!$D$9,0,1))","v":1},{"$f":"IF(M548=\"\",\"\",IF(M548>Inputs!$D$9,0,1))","v":1},{"$f":"IF(N548=\"\",\"\",IF(N548>Inputs!$D$9,0,1))","v":1},{"$f":"IF(O548=\"\",\"\",IF(O548>Inputs!$D$9,0,1))","v":1},{"$f":"IF(COUNT(P548:U548)=0,\"\",INDEX(Inputs!$O$21:$P$26,MATCH(COUNT(P548:U548),Inputs!$O$21:$O$26,0),2))","v":20},1,null,null,{"$f":"IF(D548=\"\",\"\",IF(D548=\"-\",\"\",IF(D548>AVERAGE($D$2:$D$1000),1,0)))","v":1},1,1,1,1,1,1]
[{"$f":"'SIP Returns'!B550","v":0},null,{"$f":"'SIP Returns'!D550","v":0},{"$f":"'SIP Returns'!E550","v":0},{"$f":"'SIP Returns'!F550","v":0},{"$f":"'SIP Returns'!G550","v":0},{"$f":"'SIP Returns'!H550","v":0},{"$f":"'SIP Returns'!I550","v":0},{"$f":"'SIP Returns'!J550","v":0},1,10,8,4,1,1,{"$f":"IF(J549=\"\",\"\",IF(J549>Inputs!$D$9,0,1))","v":1},{"$f":"IF(K549=\"\",\"\",IF(K549>Inputs!$D$9,0,1))","v":1},{"$f":"IF(L549=\"\",\"\",IF(L549>Inputs!$D$9,0,1))","v":1},{"$f":"IF(M549=\"\",\"\",IF(M549>Inputs!$D$9,0,1))","v":1},{"$f":"IF(N549=\"\",\"\",IF(N549>Inputs!$D$9,0,1))","v":1},{"$f":"IF(O549=\"\",\"\",IF(O549>Inputs!$D$9,0,1))","v":1},{"$f":"IF(COUNT(P549:U549)=0,\"\",INDEX(Inputs!$O$21:$P$26,MATCH(COUNT(P549:U549),Inputs!$O$21:$O$26,0),2))","v":20},1,null,null,{"$f":"IF(D549=\"\",\"\",IF(D549=\"-\",\"\",IF(D549>AVERAGE($D$2:$D$1000),1,0)))","v":1},1,1,1,1,1,1]
[{"$f":"'SIP Returns'!B551","v":0},null,{"$f":"'SIP Returns'!D551","v":0},{"$f":"'SIP Returns'!E551","v":0},{"$f":"'SIP Returns'!F551","v":0},{"$f":"'SIP Returns'!G551","v":0},{"$f":"'SIP Returns'!H551","v":0},{"$f":"'SIP Returns'!I551","v":0},{"$f":"'SIP Returns'!J551","v":0},1,10,8,4,1,1,{"$f":"IF(J550=\"\",\"\",IF(J550>Inputs!$D$9,0,1))","v":1},{"$f":"IF(K550=\"\",\"\",IF(K550>Inputs!$D$9,0,1))","v":1},{"$f":"IF(L550=\"\",\"\",IF(L550>Inputs!$D$9,0,1))","v":1},{"$f":"IF(M550=\"\",\"\",IF(M550>Inputs!$D$9,0,1))","v":1},{"$f":"IF(N550=\"\",\"\",IF(N550>Inputs!$D$9,0,1))","v":1},{"$f":"IF(O550=\"\",\"\",IF(O550>Inputs!$D$9,0,1))","v":1},{"$f":"IF(COUNT(P550:U550)=0,\"\",INDEX(Inputs!$O$21:$P$26,MATCH(COUNT(P550:U550),Inputs!$O$21:$O$26,0),2))","v":20},1,null,null,{"$f":"IF(D550=\"\",\"\",IF(D550=\"-\",\"\",IF(D550>AVERAGE($D$2:$D$1000),1,0)))","v":1},1,1,1,1,1,1]
[{"$f":"'SIP Returns'!B552","v":0},null,{"$f":"'SIP Returns'!D552","v":0},{"$f":"'SIP Returns'!E552","v":0},{"$f":"'SIP Returns'!F552","v":0},{"$f":"'SIP Returns'!G552","v":0},{"$f":"'SIP Returns'!H552","v":0},{"$f":"'SIP Returns'!I552","v":0},{"$f":"'SIP Returns'!J552","v":0},1,10,8,4,1,1,{"$f":"IF(J551=\"\",\"\",IF(J551>Inputs!$D$9,0,1))","v":1},{"$f":"IF(K551=\"\",\"\",IF(K551>Inputs!$D$9,0,1))","v":1},{"$f":"IF(L551=\"\",\"\",IF(L551>Inputs!$D$9,0,1))","v":1},{"$f":"IF(M551=\"\",\"\",IF(M551>Inputs!$D$9,0,1))","v":1},{"$f":"IF(N551=\"\",\"\",IF(N551>Inputs!$D$9,0,1))","v":1},{"$f":"IF(O551=\"\",\"\",IF(O551>Inputs!$D$9,0,1))","v":1},{"$f":"IF(COUNT(P551:U551)=0,\"\",INDEX(Inputs!$O$21:$P$26,MATCH(COUNT(P551:U551),Inputs!$O$21:$O$26,0),2))","v":20},1,null,null,{"$f":"IF(D551=\"\",\"\",IF(D551=\"-\",\"\",IF(D551>AVERAGE($D$2:$D$1000),1,0)))","v":1},1,1,1,1,1,1]
[{"$f":"'SIP Returns'!B553","v":0},null,{"$f":"'SIP Returns'!D553","v":0},{"$f":"'SIP Returns'!E553","v":0},{"$f":"'SIP Returns'!F553","v":0},{"$f":"'SIP Returns'!G553","v":0},{"$f":"'SIP Returns'!H553","v":0},{"$f":"'SIP Returns'!I553","v":0},{"$f":"'SIP Returns'!J553","v":0},1,10,8,4,1,1,{"$f":"IF(J552=\"\",\"\",IF(J552>Inputs!$D$9,0,1))","v":1},{"$f":"IF(K552=\"\",\"\",IF(K552>Inputs!$D$9,0,1))","v":1},{"$f":"IF(L552=\"\",\"\",IF(L552>Inputs!$D$9,0,1))","v":1},{"$f":"IF(M552=\"\",\"\",IF(M552>Inputs!$D$9,0,1))","v":1},{"$f":"IF(N552=\"\",\"\",IF(N552>Inputs!$D$9,0,1))","v":1},{"$f":"IF(O552=\"\",\"\",IF(O552>Inputs!$D$9,0,1))","v":1},{"$f":"IF(COUNT(P552:U552)=0,\"\",INDEX(Inputs!$O$21:$P$26,MATCH(COUNT(P552:U552),Inputs!$O$21:$O$26,0),2))","v":20},1,null,null,{"$f":"IF(D552=\"\",\"\",IF(D552=\"-\",\"\",IF(D552>AVERAGE($D$2:$D$1000),1,0)))","v":1},1,1,1,1,1,1]
[{"$f":"'SIP Returns'!B554","v":0},null,{"$f":"'SIP Returns'!D554","v":0},{"$f":"'SIP Returns'!E554","v":0},{"$f":"'SIP Returns'!F554","v":0},{"$f":"'SIP Returns'!G554","v":0},{"$f":"'SIP Returns'!H554","v":0},{"$f":"'SIP Returns'!I554","v":0},{"$f":"'SIP Returns'!J554","v":0},1,10,8,4,1,1,{"$f":"IF(J553=\"\",\"\",IF(J553>Inputs!$D$9,0,1))","v":1},{"$f":"IF(K553=\"\",\"\",IF(K553>Inputs!$D$9,0,1))","v":1},{"$f":"IF(L553=\"\",\"\",IF(L553>Inputs!$D$9,0,1))","v":1},{"$f":"IF(M553=\"\",\"\",IF(M553>Inputs!$D$9,0,1))","v":1},{"$f":"IF(N553=\"\",\"\",IF(N553>Inputs!$D$9,0,1))","v":1},{"$f":"IF(O553=\"\",\"\",IF(O553>Inputs!$D$9,0,1))","v":1},{"$f":"IF(COUNT(P553:U553)=0,\"\",INDEX(Inputs!$O$21:$P$26,MATCH(COUNT(P553:U553),Inputs!$O$21:$O$26,0),2))","v":20},1,null,null,{"$f":"IF(D553=\"\",\"\",IF(D553=\"-\",\"\",IF(D553>AVERAGE($D$2:$D$1000),1,0)))","v":1},1,1,1,1,1,1]
[{"$f":"'SIP Returns'!B555","v":0},null,{"$f":"'SIP Returns'!D555","v":0},{"$f":"'SIP Returns'!E555","v":0},{"$f":"'SIP Returns'!F555","v":0},{"$f":"'SIP Returns'!G555","v":0},{"$f":"'SIP Returns'!H555","v":0},{"$f":"'SIP Returns'!I555","v":0},{"$f":"'SIP Returns'!J555","v":0},1,10,8,4,1,1,{"$f":"IF(J554=\"\",\"\",IF(J554>Inputs!$D$9,0,1))","v":1},{"$f":"IF(K554=\"\",\"\",IF(K554>Inputs!$D$9,0,1))","v":1},{"$f":"IF(L554=\"\",\"\",IF(L554>Inputs!$D$9,0,1))","v":1},{"$f":"IF(M554=\"\",\"\",IF(M554>Inputs!$D$9,0,1))","v":1},{"$f":"IF(N554=\"\",\"\",IF(N554>Inputs!$D$9,0,1))","v":1},{"$f":"IF(O554=\"\",\"\",IF(O554>Inputs!$D$9,0,1))","v":1},{"$f":"IF(COUNT(P554:U554)=0,\"\",INDEX(Inputs!$O$21:$P$26,MATCH(COUNT(P554:U554),Inputs!$O$21:$O$26,0),2))","v":20},1,null,null,{"$f":"IF(D554=\"\",\"\",IF(D554=\"-\",\"\",IF(D554>AVERAGE($D$2:$D$1000),1,0)))","v":1},1,1,1,1,1,1]
[{"$f":"'SIP Returns'!B556","v":0},null,{"$f":"'SIP Returns'!D556","v":0},{"$f":"'SIP Returns'!E556","v":0},{"$f":"'SIP Returns'!F556","v":0},{"$f":"'SIP Returns'!G556","v":0},{"$f":"'SIP Returns'!H556","v":0},{"$f":"'SIP Returns'!I556","v":0},{"$f":"'SIP Returns'!J556","v":0},1,10,8,4,1,1,{"$f":"IF(J555=\"\",\"\",IF(J555>Inputs!$D$9,0,1))","v":1},{"$f":"IF(K555=\"\",\"\",IF(K555>Inputs!$D$9,0,1))","v":1},{"$f":"IF(L555=\"\",\"\",IF(L555>Inputs!$D$9,0,1))","v":1},{"$f":"IF(M555=\"\",\"\",IF(M555>Inputs!$D$9,0,1))","v":1},{"$f":"IF(N555=\"\",\"\",IF(N555>Inputs!$D$9,0,1))","v":1},{"$f":"IF(O555=\"\",\"\",IF(O555>Inputs!$D$9,0,1))","v":1},{"$f":"IF(COUNT(P555:U555)=0,\"\",INDEX(Inputs!$O$21:$P$26,MATCH(COUNT(P555:U555),Inputs!$O$21:$O$26,0),2))","v":20},1,null,null,{"$f":"IF(D555=\"\",\"\",IF(D555=\"-\",\"\",IF(D555>AVERAGE($D$2:$D$1000),1,0)))","v":1},1,1,1,1,1,1]
[{"$f":"'SIP Returns'!B557","v":0},null,{"$f":"'SIP Returns'!D557","v":0},{"$f":"'SIP Returns'!E557","v":0},{"$f":"'SIP Returns'!F557","v":0},{"$f":"'SIP Returns'!G557","v":0},{"$f":"'SIP Returns'!H557","v":0},{"$f":"'SIP Returns'!I557","v":0},{"$f":"'SIP Returns'!J557","v":0},1,10,8,4,1,1,{"$f":"IF(J556=\"\",\"\",IF(J556>Inputs!$D$9,0,1))","v":1},{"$f":"IF(K556=\"\",\"\",IF(K556>Inputs!$D$9,0,1))","v":1},{"$f":"IF(L556=\"\",\"\",IF(L556>Inputs!$D$9,0,1))","v":1},{"$f":"IF(M556=\"\",\"\",IF(M556>Inputs!$D$9,0,1))","v":1},{"$f":"IF(N556=\"\",\"\",IF(N556>Inputs!$D$9,0,1))","v":1},{"$f":"IF(O556=\"\",\"\",IF(O556>Inputs!$D$9,0,1))","v":1},{"$f":"IF(COUNT(P556:U556)=0,\"\",INDEX(Inputs!$O$21:$P$26,MATCH(COUNT(P556:U556),Inputs!$O$21:$O$26,0),2))","v":20},1,null,null,{"$f":"IF(D556=\"\",\"\",IF(D556=\"-\",\"\",IF(D556>AVERAGE($D$2:$D$1000),1,0)))","v":1},1,1,1,1,1,1]
[{"$f":"'SIP Returns'!B558","v":0},null,{"$f":"'SIP Returns'!D558","v":0},{"$f":"'SIP Returns'!E558","v":0},{"$f":"'SIP Returns'!F558","v":0},{"$f":"'SIP Returns'!G558","v":0},{"$f":"'SIP Returns'!H558","v":0},{"$f":"'SIP Returns'!I558","v":0},{"$f":"'SIP Returns'!J558","v":0},1,10,8,4,1,1,{"$f":"IF(J557=\"\",\"\",IF(J557>Inputs!$D$9,0,1))","v":1},{"$f":"IF(K557=\"\",\"\",IF(K557>Inputs!$D$9,0,1))","v":1},{"$f":"IF(L557=\"\",\"\",IF(L557>Inputs!$D$9,0,1))","v":1},{"$f":"IF(M557=\"\",\"\",IF(M557>Inputs!$D$9,0,1))","v":1},{"$f":"IF(N557=\"\",\"\",IF(N557>Inputs!$D$9,0,1))","v":1},{"$f":"IF(O557=\"\",\"\",IF(O557>Inputs!$D$9,0,1))","v":1},{"$f":"IF(COUNT(P557:U557)=0,\"\",INDEX(Inputs!$O$21:$P$26,MATCH(COUNT(P557:U557),Inputs!$O$21:$O$26,0),2))","v":20},1,null,null,{"$f":"IF(D557=\"\",\"\",IF(D557=\"-\",\"\",IF(D557>AVERAGE($D$2:$D$1000),1,0)))","v":1},1,1,1,1,1,1]
[{"$f":"'SIP Returns'!B559","v":0},null,{"$f":"'SIP Returns'!D559","v":0},{"$f":"'SIP Returns'!E559","v":0},{"$f":"'SIP Returns'!F559","v":0},{"$f":"'SIP Returns'!G559","v":0},{"$f":"'SIP Returns'!H559","v":0},{"$f":"'SIP Returns'!I559","v":0},{"$f":"'SIP Returns'!J559","v":0},1,10,8,4,1,1,{"$f":"IF(J558=\"\",\"\",IF(J558>Inputs!$D$9,0,1))","v":1},{"$f":"IF(K558=\"\",\"\",IF(K558>Inputs!$D$9,0,1))","v":1},{"$f":"IF(L558=\"\",\"\",IF(L558>Inputs!$D$9,0,1))","v":1},{"$f":"IF(M558=\"\",\"\",IF(M558>Inputs!$D$9,0,1))","v":1},{"$f":"IF(N558=\"\",\"\",IF(N558>Inputs!$D$9,0,1))","v":1},{"$f":"IF(O558=\"\",\"\",IF(O558>Inputs!$D$9,0,1))","v":1},{"$f":"IF(COUNT(P558:U558)=0,\"\",INDEX(Inputs!$O$21:$P$26,MATCH(COUNT(P558:U558),Inputs!$O$21:$O$26,0),2))","v":20},1,null,null,{"$f":"IF(D558=\"\",\"\",IF(D558=\"-\",\"\",IF(D558>AVERAGE($D$2:$D$1000),1,0)))","v":1},1,1,1,1,1,1]
[{"$f":"'SIP Returns'!B560","v":0},null,{"$f":"'SIP Returns'!D560","v":0},{"$f":"'SIP Returns'!E560","v":0},{"$f":"'SIP Returns'!F560","v":0},{"$f":"'SIP Returns'!G560","v":0},{"$f":"'SIP Returns'!H560","v":0},{"$f":"'SIP Returns'!I560","v":0},{"$f":"'SIP Returns'!J560","v":0},1,10,8,4,1,1,{"$f":"IF(J559=\"\",\"\",IF(J559>Inputs!$D$9,0,1))","v":1},{"$f":"IF(K559=\"\",\"\",IF(K559>Inputs!$D$9,0,1))","v":1},{"$f":"IF(L559=\"\",\"\",IF(L559>Inputs!$D$9,0,1))","v":1},{"$f":"IF(M559=\"\",\"\",IF(M559>Inputs!$D$9,0,1))","v":1},{"$f":"IF(N559=\"\",\"\",IF(N559>Inputs!$D$9,0,1))","v":1},{"$f":"IF(O559=\"\",\"\",IF(O559>Inputs!$D$9,0,1))","v":1},{"$f":"IF(COUNT(P559:U559)=0,\"\",INDEX(Inputs!$O$21:$P$26,MATCH(COUNT(P559:U559),Inputs!$O$21:$O$26,0),2))","v":20},1,null,null,{"$f":"IF(D559=\"\",\"\",IF(D559=\"-\",\"\",IF(D559>AVERAGE($D$2:$D$1000),1,0)))","v":1},1,1,1,1,1,1]
[{"$f":"'SIP Returns'!B561","v":0},null,{"$f":"'SIP Returns'!D561","v":0},{"$f":"'SIP Returns'!E561","v":0},{"$f":"'SIP Returns'!F561","v":0},{"$f":"'SIP Returns'!G561","v":0},{"$f":"'SIP Returns'!H561","v":0},{"$f":"'SIP Returns'!I561","v":0},{"$f":"'SIP Returns'!J561","v":0},1,10,8,4,1,1,{"$f":"IF(J560=\"\",\"\",IF(J560>Inputs!$D$9,0,1))","v":1},{"$f":"IF(K560=\"\",\"\",IF(K560>Inputs!$D$9,0,1))","v":1},{"$f":"IF(L560=\"\",\"\",IF(L560>Inputs!$D$9,0,1))","v":1},{"$f":"IF(M560=\"\",\"\",IF(M560>Inputs!$D$9,0,1))","v":1},{"$f":"IF(N560=\"\",\"\",IF(N560>Inputs!$D$9,0,1))","v":1},{"$f":"IF(O560=\"\",\"\",IF(O560>Inputs!$D$9,0,1))","v":1},{"$f":"IF(COUNT(P560:U560)=0,\"\",INDEX(Inputs!$O$21:$P$26,MATCH(COUNT(P560:U560),Inputs!$O$21:$O$26,0),2))","v":20},1,null,null,{"$f":"IF(D560=\"\",\"\",IF(D560=\"-\",\"\",IF(D560>AVERAGE($D$2:$D$1000),1,0)))","v":1},1,1,1,1,1,1]
[{"$f":"'SIP Returns'!B562","v":0},null,{"$f":"'SIP Returns'!D562","v":0},{"$f":"'SIP Returns'!E562","v":0},{"$f":"'SIP Returns'!F562","v":0},{"$f":"'SIP Returns'!G562","v":0},{"$f":"'SIP Returns'!H562","v":0},{"$f":"'SIP Returns'!I562","v":0},{"$f":"'SIP Returns'!J562","v":0},1,10,8,4,1,1,{"$f":"IF(J561=\"\",\"\",IF(J561>Inputs!$D$9,0,1))","v":1},{"$f":"IF(K561=\"\",\"\",IF(K561>Inputs!$D$9,0,1))","v":1},{"$f":"IF(L561=\"\",\"\",IF(L561>Inputs!$D$9,0,1))","v":1},{"$f":"IF(M561=\"\",\"\",IF(M561>Inputs!$D$9,0,1))","v":1},{"$f":"IF(N561=\"\",\"\",IF(N561>Inputs!$D$9,0,1))","v":1},{"$f":"IF(O561=\"\",\"\",IF(O561>Inputs!$D$9,0,1))","v":1},{"$f":"IF(COUNT(P561:U561)=0,\"\",INDEX(Inputs!$O$21:$P$26,MATCH(COUNT(P561:U561),Inputs!$O$21:$O$26,0),2))","v":20},1,null,null,{"$f":"IF(D561=\"\",\"\",IF(D561=\"-\",\"\",IF(D561>AVERAGE($D$2:$D$1000),1,0)))","v":1},1,1,1,1,1,1]
[{"$f":"'SIP Returns'!B563","v":0},null,{"$f":"'SIP Returns'!D563","v":0},{"$f":"'SIP Returns'!E563","v":0},{"$f":"'SIP Returns'!F563","v":0},{"$f":"'SIP Returns'!G563","v":0},{"$f":"'SIP Returns'!H563","v":0},{"$f":"'SIP Returns'!I563","v":0},{"$f":"'SIP Returns'!J563","v":0},1,10,8,4,1,1,{"$f":"IF(J562=\"\",\"\",IF(J562>Inputs!$D$9,0,1))","v":1},{"$f":"IF(K562=\"\",\"\",IF(K562>Inputs!$D$9,0,1))","v":1},{"$f":"IF(L562=\"\",\"\",IF(L562>Inputs!$D$9,0,1))","v":1},{"$f":"IF(M562=\"\",\"\",IF(M562>Inputs!$D$9,0,1))","v":1},{"$f":"IF(N562=\"\",\"\",IF(N562>Inputs!$D$9,0,1))","v":1},{"$f":"IF(O562=\"\",\"\",IF(O562>Inputs!$D$9,0,1))","v":1},{"$f":"IF(COUNT(P562:U562)=0,\"\",INDEX(Inputs!$O$21:$P$26,MATCH(COUNT(P562:U562),Inputs!$O$21:$O$26,0),2))","v":20},1,null,null,{"$f":"IF(D562=\"\",\"\",IF(D562=\"-\",\"\",IF(D562>AVERAGE($D$2:$D$1000),1,0)))","v":1},1,1,1,1,1,1]
[{"$f":"'SIP Returns'!B564","v":0},null,{"$f":"'SIP Returns'!D564","v":0},{"$f":"'SIP Returns'!E564","v":0},{"$f":"'SIP Returns'!F564","v":0},{"$f":"'SIP Returns'!G564","v":0},{"$f":"'SIP Returns'!H564","v":0},{"$f":"'SIP Returns'!I564","v":0},{"$f":"'SIP Returns'!J564","v":0},1,10,8,4,1,1,{"$f":"IF(J563=\"\",\"\",IF(J563>Inputs!$D$9,0,1))","v":1},{"$f":"IF(K563=\"\",\"\",IF(K563>Inputs!$D$9,0,1))","v":1},{"$f":"IF(L563=\"\",\"\",IF(L563>Inputs!$D$9,0,1))","v":1},{"$f":"IF(M563=\"\",\"\",IF(M563>Inputs!$D$9,0,1))","v":1},{"$f":"IF(N563=\"\",\"\",IF(N563>Inputs!$D$9,0,1))","v":1},{"$f":"IF(O563=\"\",\"\",IF(O563>Inputs!$D$9,0,1))","v":1},{"$f":"IF(COUNT(P563:U563)=0,\"\",INDEX(Inputs!$O$21:$P$26,MATCH(COUNT(P563:U563),Inputs!$O$21:$O$26,0),2))","v":20},1,null,null,{"$f":"IF(D563=\"\",\"\",IF(D563=\"-\",\"\",IF(D563>AVERAGE($D$2:$D$1000),1,0)))","v":1},1,1,1,1,1,1]
[{"$f":"'SIP Returns'!B565","v":0},null,{"$f":"'SIP Returns'!D565","v":0},{"$f":"'SIP Returns'!E565","v":0},{"$f":"'SIP Returns'!F565","v":0},{"$f":"'SIP Returns'!G565","v":0},{"$f":"'SIP Returns'!H565","v":0},{"$f":"'SIP Returns'!I565","v":0},{"$f":"'SIP Returns'!J565","v":0},1,10,8,4,1,1,{"$f":"IF(J564=\"\",\"\",IF(J564>Inputs!$D$9,0,1))","v":1},{"$f":"IF(K564=\"\",\"\",IF(K564>Inputs!$D$9,0,1))","v":1},{"$f":"IF(L564=\"\",\"\",IF(L564>Inputs!$D$9,0,1))","v":1},{"$f":"IF(M564=\"\",\"\",IF(M564>Inputs!$D$9,0,1))","v":1},{"$f":"IF(N564=\"\",\"\",IF(N564>Inputs!$D$9,0,1))","v":1},{"$f":"IF(O564=\"\",\"\",IF(O564>Inputs!$D$9,0,1))","v":1},{"$f":"IF(COUNT(P564:U564)=0,\"\",INDEX(Inputs!$O$21:$P$26,MATCH(COUNT(P564:U564),Inputs!$O$21:$O$26,0),2))","v":20},1,null,null,{"$f":"IF(D564=\"\",\"\",IF(D564=\"-\",\"\",IF(D564>AVERAGE($D$2:$D$1000),1,0)))","v":1},1,1,1,1,1,1]
[{"$f":"'SIP Returns'!B566","v":0},null,{"$f":"'SIP Returns'!D566","v":0},{"$f":"'SIP Returns'!E566","v":0},{"$f":"'SIP Returns'!F566","v":0},{"$f":"'SIP Returns'!G566","v":0},{"$f":"'SIP Returns'!H566","v":0},{"$f":"'SIP Returns'!I566","v":0},{"$f":"'SIP Returns'!J566","v":0},1,10,8,4,1,1,{"$f":"IF(J565=\"\",\"\",IF(J565>Inputs!$D$9,0,1))","v":1},{"$f":"IF(K565=\"\",\"\",IF(K565>Inputs!$D$9,0,1))","v":1},{"$f":"IF(L565=\"\",\"\",IF(L565>Inputs!$D$9,0,1))","v":1},{"$f":"IF(M565=\"\",\"\",IF(M565>Inputs!$D$9,0,1))","v":1},{"$f":"IF(N565=\"\",\"\",IF(N565>Inputs!$D$9,0,1))","v":1},{"$f":"IF(O565=\"\",\"\",IF(O565>Inputs!$D$9,0,1))","v":1},{"$f":"IF(COUNT(P565:U565)=0,\"\",INDEX(Inputs!$O$21:$P$26,MATCH(COUNT(P565:U565),Inputs!$O$21:$O$26,0),2))","v":20},1,null,null,{"$f":"IF(D565=\"\",\"\",IF(D565=\"-\",\"\",IF(D565>AVERAGE($D$2:$D$1000),1,0)))","v":1},1,1,1,1,1,1]
[{"$f":"'SIP Returns'!B567","v":0},null,{"$f":"'SIP Returns'!D567","v":0},{"$f":"'SIP Returns'!E567","v":0},{"$f":"'SIP Returns'!F567","v":0},{"$f":"'SIP Returns'!G567","v":0},{"$f":"'SIP Returns'!H567","v":0},{"$f":"'SIP Returns'!I567","v":0},{"$f":"'SIP Returns'!J567","v":0},1,10,8,4,1,1,{"$f":"IF(J566=\"\",\"\",IF(J566>Inputs!$D$9,0,1))","v":1},{"$f":"IF(K566=\"\",\"\",IF(K566>Inputs!$D$9,0,1))","v":1},{"$f":"IF(L566=\"\",\"\",IF(L566>Inputs!$D$9,0,1))","v":1},{"$f":"IF(M566=\"\",\"\",IF(M566>Inputs!$D$9,0,1))","v":1},{"$f":"IF(N566=\"\",\"\",IF(N566>Inputs!$D$9,0,1))","v":1},{"$f":"IF(O566=\"\",\"\",IF(O566>Inputs!$D$9,0,1))","v":1},{"$f":"IF(COUNT(P566:U566)=0,\"\",INDEX(Inputs!$O$21:$P$26,MATCH(COUNT(P566:U566),Inputs!$O$21:$O$26,0),2))","v":20},1,null,null,{"$f":"IF(D566=\"\",\"\",IF(D566=\"-\",\"\",IF(D566>AVERAGE($D$2:$D$1000),1,0)))","v":1},1,1,1,1,1,1]
[{"$f":"'SIP Returns'!B568","v":0},null,{"$f":"'SIP Returns'!D568","v":0},{"$f":"'SIP Returns'!E568","v":0},{"$f":"'SIP Returns'!F568","v":0},{"$f":"'SIP Returns'!G568","v":0},{"$f":"'SIP Returns'!H568","v":0},{"$f":"'SIP Returns'!I568","v":0},{"$f":"'SIP Returns'!J568","v":0},1,10,8,4,1,1,{"$f":"IF(J567=\"\",\"\",IF(J567>Inputs!$D$9,0,1))","v":1},{"$f":"IF(K567=\"\",\"\",IF(K567>Inputs!$D$9,0,1))","v":1},{"$f":"IF(L567=\"\",\"\",IF(L567>Inputs!$D$9,0,1))","v":1},{"$f":"IF(M567=\"\",\"\",IF(M567>Inputs!$D$9,0,1))","v":1},{"$f":"IF(N567=\"\",\"\",IF(N567>Inputs!$D$9,0,1))","v":1},{"$f":"IF(O567=\"\",\"\",IF(O567>Inputs!$D$9,0,1))","v":1},{"$f":"IF(COUNT(P567:U567)=0,\"\",INDEX(Inputs!$O$21:$P$26,MATCH(COUNT(P567:U567),Inputs!$O$21:$O$26,0),2))","v":20},1,null,null,{"$f":"IF(D567=\"\",\"\",IF(D567=\"-\",\"\",IF(D567>AVERAGE($D$2:$D$1000),1,0)))","v":1},1,1,1,1,1,1]
[{"$f":"'SIP Returns'!B569","v":0},null,{"$f":"'SIP Returns'!D569","v":0},{"$f":"'SIP Returns'!E569","v":0},{"$f":"'SIP Returns'!F569","v":0},{"$f":"'SIP Returns'!G569","v":0},{"$f":"'SIP Returns'!H569","v":0},{"$f":"'SIP Returns'!I569","v":0},{"$f":"'SIP Returns'!J569","v":0},1,10,8,4,1,1,{"$f":"IF(J568=\"\",\"\",IF(J568>Inputs!$D$9,0,1))","v":1},{"$f":"IF(K568=\"\",\"\",IF(K568>Inputs!$D$9,0,1))","v":1},{"$f":"IF(L568=\"\",\"\",IF(L568>Inputs!$D$9,0,1))","v":1},{"$f":"IF(M568=\"\",\"\",IF(M568>Inputs!$D$9,0,1))","v":1},{"$f":"IF(N568=\"\",\"\",IF(N568>Inputs!$D$9,0,1))","v":1},{"$f":"IF(O568=\"\",\"\",IF(O568>Inputs!$D$9,0,1))","v":1},{"$f":"IF(COUNT(P568:U568)=0,\"\",INDEX(Inputs!$O$21:$P$26,MATCH(COUNT(P568:U568),Inputs!$O$21:$O$26,0),2))","v":20},1,null,null,{"$f":"IF(D568=\"\",\"\",IF(D568=\"-\",\"\",IF(D568>AVERAGE($D$2:$D$1000),1,0)))","v":1},1,1,1,1,1,1]
[{"$f":"'SIP Returns'!B570","v":0},null,{"$f":"'SIP Returns'!D570","v":0},{"$f":"'SIP Returns'!E570","v":0},{"$f":"'SIP Returns'!F570","v":0},{"$f":"'SIP Returns'!G570","v":0},{"$f":"'SIP Returns'!H570","v":0},{"$f":"'SIP Returns'!I570","v":0},{"$f":"'SIP Returns'!J570","v":0},1,10,8,4,1,1,{"$f":"IF(J569=\"\",\"\",IF(J569>Inputs!$D$9,0,1))","v":1},{"$f":"IF(K569=\"\",\"\",IF(K569>Inputs!$D$9,0,1))","v":1},{"$f":"IF(L569=\"\",\"\",IF(L569>Inputs!$D$9,0,1))","v":1},{"$f":"IF(M569=\"\",\"\",IF(M569>Inputs!$D$9,0,1))","v":1},{"$f":"IF(N569=\"\",\"\",IF(N569>Inputs!$D$9,0,1))","v":1},{"$f":"IF(O569=\"\",\"\",IF(O569>Inputs!$D$9,0,1))","v":1},{"$f":"IF(COUNT(P569:U569)=0,\"\",INDEX(Inputs!$O$21:$P$26,MATCH(COUNT(P569:U569),Inputs!$O$21:$O$26,0),2))","v":20},1,null,null,{"$f":"IF(D569=\"\",\"\",IF(D569=\"-\",\"\",IF(D569>AVERAGE($D$2:$D$1000),1,0)))","v":1},1,1,1,1,1,1]
[{"$f":"'SIP Returns'!B571","v":0},null,{"$f":"'SIP Returns'!D571","v":0},{"$f":"'SIP Returns'!E571","v":0},{"$f":"'SIP Returns'!F571","v":0},{"$f":"'SIP Returns'!G571","v":0},{"$f":"'SIP Returns'!H571","v":0},{"$f":"'SIP Returns'!I571","v":0},{"$f":"'SIP Returns'!J571","v":0},1,10,8,4,1,1,{"$f":"IF(J570=\"\",\"\",IF(J570>Inputs!$D$9,0,1))","v":1},{"$f":"IF(K570=\"\",\"\",IF(K570>Inputs!$D$9,0,1))","v":1},{"$f":"IF(L570=\"\",\"\",IF(L570>Inputs!$D$9,0,1))","v":1},{"$f":"IF(M570=\"\",\"\",IF(M570>Inputs!$D$9,0,1))","v":1},{"$f":"IF(N570=\"\",\"\",IF(N570>Inputs!$D$9,0,1))","v":1},{"$f":"IF(O570=\"\",\"\",IF(O570>Inputs!$D$9,0,1))","v":1},{"$f":"IF(COUNT(P570:U570)=0,\"\",INDEX(Inputs!$O$21:$P$26,MATCH(COUNT(P570:U570),Inputs!$O$21:$O$26,0),2))","v":20},1,null,null,{"$f":"IF(D570=\"\",\"\",IF(D570=\"-\",\"\",IF(D570>AVERAGE($D$2:$D$1000),1,0)))","v":1},1,1,1,1,1,1]
[{"$f":"'SIP Returns'!B572","v":0},null,{"$f":"'SIP Returns'!D572","v":0},{"$f":"'SIP Returns'!E572","v":0},{"$f":"'SIP Returns'!F572","v":0},{"$f":"'SIP Returns'!G572","v":0},{"$f":"'SIP Returns'!H572","v":0},{"$f":"'SIP Returns'!I572","v":0},{"$f":"'SIP Returns'!J572","v":0},1,10,8,4,1,1,{"$f":"IF(J571=\"\",\"\",IF(J571>Inputs!$D$9,0,1))","v":1},{"$f":"IF(K571=\"\",\"\",IF(K571>Inputs!$D$9,0,1))","v":1},{"$f":"IF(L571=\"\",\"\",IF(L571>Inputs!$D$9,0,1))","v":1},{"$f":"IF(M571=\"\",\"\",IF(M571>Inputs!$D$9,0,1))","v":1},{"$f":"IF(N571=\"\",\"\",IF(N571>Inputs!$D$9,0,1))","v":1},{"$f":"IF(O571=\"\",\"\",IF(O571>Inputs!$D$9,0,1))","v":1},{"$f":"IF(COUNT(P571:U571)=0,\"\",INDEX(Inputs!$O$21:$P$26,MATCH(COUNT(P571:U571),Inputs!$O$21:$O$26,0),2))","v":20},1,null,null,{"$f":"IF(D571=\"\",\"\",IF(D571=\"-\",\"\",IF(D571>AVERAGE($D$2:$D$1000),1,0)))","v":1},1,1,1,1,1,1]
[{"$f":"'SIP Returns'!B573","v":0},null,{"$f":"'SIP Returns'!D573","v":0},{"$f":"'SIP Returns'!E573","v":0},{"$f":"'SIP Returns'!F573","v":0},{"$f":"'SIP Returns'!G573","v":0},{"$f":"'SIP Returns'!H573","v":0},{"$f":"'SIP Returns'!I573","v":0},{"$f":"'SIP Returns'!J573","v":0},1,10,8,4,1,1,{"$f":"IF(J572=\"\",\"\",IF(J572>Inputs!$D$9,0,1))","v":1},{"$f":"IF(K572=\"\",\"\",IF(K572>Inputs!$D$9,0,1))","v":1},{"$f":"IF(L572=\"\",\"\",IF(L572>Inputs!$D$9,0,1))","v":1},{"$f":"IF(M572=\"\",\"\",IF(M572>Inputs!$D$9,0,1))","v":1},{"$f":"IF(N572=\"\",\"\",IF(N572>Inputs!$D$9,0,1))","v":1},{"$f":"IF(O572=\"\",\"\",IF(O572>Inputs!$D$9,0,1))","v":1},{"$f":"IF(COUNT(P572:U572)=0,\"\",INDEX(Inputs!$O$21:$P$26,MATCH(COUNT(P572:U572),Inputs!$O$21:$O$26,0),2))","v":20},1,null,null,{"$f":"IF(D572=\"\",\"\",IF(D572=\"-\",\"\",IF(D572>AVERAGE($D$2:$D$1000),1,0)))","v":1},1,1,1,1,1,1]
[{"$f":"'SIP Returns'!B574","v":0},null,{"$f":"'SIP Returns'!D574","v":0},{"$f":"'SIP Returns'!E574","v":0},{"$f":"'SIP Returns'!F574","v":0},{"$f":"'SIP Returns'!G574","v":0},{"$f":"'SIP Returns'!H574","v":0},{"$f":"'SIP Returns'!I574","v":0},{"$f":"'SIP Returns'!J574","v":0},1,10,8,4,1,1,{"$f":"IF(J573=\"\",\"\",IF(J573>Inputs!$D$9,0,1))","v":1},{"$f":"IF(K573=\"\",\"\",IF(K573>Inputs!$D$9,0,1))","v":1},{"$f":"IF(L573=\"\",\"\",IF(L573>Inputs!$D$9,0,1))","v":1},{"$f":"IF(M573=\"\",\"\",IF(M573>Inputs!$D$9,0,1))","v":1},{"$f":"IF(N573=\"\",\"\",IF(N573>Inputs!$D$9,0,1))","v":1},{"$f":"IF(O573=\"\",\"\",IF(O573>Inputs!$D$9,0,1))","v":1},{"$f":"IF(COUNT(P573:U573)=0,\"\",INDEX(Inputs!$O$21:$P$26,MATCH(COUNT(P573:U573),Inputs!$O$21:$O$26,0),2))","v":20},1,null,null,{"$f":"IF(D573=\"\",\"\",IF(D573=\"-\",\"\",IF(D573>AVERAGE($D$2:$D$1000),1,0)))","v":1},1,1,1,1,1,1]
[{"$f":"'SIP Returns'!B575","v":0},null,{"$f":"'SIP Returns'!D575","v":0},{"$f":"'SIP Returns'!E575","v":0},{"$f":"'SIP Returns'!F575","v":0},{"$f":"'SIP Returns'!G575","v":0},{"$f":"'SIP Returns'!H575","v":0},{"$f":"'SIP Returns'!I575","v":0},{"$f":"'SIP Returns'!J575","v":0},1,10,8,4,1,1,{"$f":"IF(J574=\"\",\"\",IF(J574>Inputs!$D$9,0,1))","v":1},{"$f":"IF(K574=\"\",\"\",IF(K574>Inputs!$D$9,0,1))","v":1},{"$f":"IF(L574=\"\",\"\",IF(L574>Inputs!$D$9,0,1))","v":1},{"$f":"IF(M574=\"\",\"\",IF(M574>Inputs!$D$9,0,1))","v":1},{"$f":"IF(N574=\"\",\"\",IF(N574>Inputs!$D$9,0,1))","v":1},{"$f":"IF(O574=\"\",\"\",IF(O574>Inputs!$D$9,0,1))","v":1},{"$f":"IF(COUNT(P574:U574)=0,\"\",INDEX(Inputs!$O$21:$P$26,MATCH(COUNT(P574:U574),Inputs!$O$21:$O$26,0),2))","v":20},1,null,null,{"$f":"IF(D574=\"\",\"\",IF(D574=\"-\",\"\",IF(D574>AVERAGE($D$2:$D$1000),1,0)))","v":1},1,1,1,1,1,1]
[{"$f":"'SIP Returns'!B576","v":0},null,{"$f":"'SIP Returns'!D576","v":0},{"$f":"'SIP Returns'!E576","v":0},{"$f":"'SIP Returns'!F576","v":0},{"$f":"'SIP Returns'!G576","v":0},{"$f":"'SIP Returns'!H576","v":0},{"$f":"'SIP Returns'!I576","v":0},{"$f":"'SIP Returns'!J576","v":0},1,10,8,4,1,1,{"$f":"IF(J575=\"\",\"\",IF(J575>Inputs!$D$9,0,1))","v":1},{"$f":"IF(K575=\"\",\"\",IF(K575>Inputs!$D$9,0,1))","v":1},{"$f":"IF(L575=\"\",\"\",IF(L575>Inputs!$D$9,0,1))","v":1},{"$f":"IF(M575=\"\",\"\",IF(M575>Inputs!$D$9,0,1))","v":1},{"$f":"IF(N575=\"\",\"\",IF(N575>Inputs!$D$9,0,1))","v":1},{"$f":"IF(O575=\"\",\"\",IF(O575>Inputs!$D$9,0,1))","v":1},{"$f":"IF(COUNT(P575:U575)=0,\"\",INDEX(Inputs!$O$21:$P$26,MATCH(COUNT(P575:U575),Inputs!$O$21:$O$26,0),2))","v":20},1,null,null,{"$f":"IF(D575=\"\",\"\",IF(D575=\"-\",\"\",IF(D575>AVERAGE($D$2:$D$1000),1,0)))","v":1},1,1,1,1,1,1]
[{"$f":"'SIP Returns'!B577","v":0},null,{"$f":"'SIP Returns'!D577","v":0},{"$f":"'SIP Returns'!E577","v":0},{"$f":"'SIP Returns'!F577","v":0},{"$f":"'SIP Returns'!G577","v":0},{"$f":"'SIP Returns'!H577","v":0},{"$f":"'SIP Returns'!I577","v":0},{"$f":"'SIP Returns'!J577","v":0},1,10,8,4,1,1,{"$f":"IF(J576=\"\",\"\",IF(J576>Inputs!$D$9,0,1))","v":1},{"$f":"IF(K576=\"\",\"\",IF(K576>Inputs!$D$9,0,1))","v":1},{"$f":"IF(L576=\"\",\"\",IF(L576>Inputs!$D$9,0,1))","v":1},{"$f":"IF(M576=\"\",\"\",IF(M576>Inputs!$D$9,0,1))","v":1},{"$f":"IF(N576=\"\",\"\",IF(N576>Inputs!$D$9,0,1))","v":1},{"$f":"IF(O576=\"\",\"\",IF(O576>Inputs!$D$9,0,1))","v":1},{"$f":"IF(COUNT(P576:U576)=0,\"\",INDEX(Inputs!$O$21:$P$26,MATCH(COUNT(P576:U576),Inputs!$O$21:$O$26,0),2))","v":20},1,null,null,{"$f":"IF(D576=\"\",\"\",IF(D576=\"-\",\"\",IF(D576>AVERAGE($D$2:$D$1000),1,0)))","v":1},1,1,1,1,1,1]
[{"$f":"'SIP Returns'!B578","v":0},null,{"$f":"'SIP Returns'!D578","v":0},{"$f":"'SIP Returns'!E578","v":0},{"$f":"'SIP Returns'!F578","v":0},{"$f":"'SIP Returns'!G578","v":0},{"$f":"'SIP Returns'!H578","v":0},{"$f":"'SIP Returns'!I578","v":0},{"$f":"'SIP Returns'!J578","v":0},1,10,8,4,1,1,{"$f":"IF(J577=\"\",\"\",IF(J577>Inputs!$D$9,0,1))","v":1},{"$f":"IF(K577=\"\",\"\",IF(K577>Inputs!$D$9,0,1))","v":1},{"$f":"IF(L577=\"\",\"\",IF(L577>Inputs!$D$9,0,1))","v":1},{"$f":"IF(M577=\"\",\"\",IF(M577>Inputs!$D$9,0,1))","v":1},{"$f":"IF(N577=\"\",\"\",IF(N577>Inputs!$D$9,0,1))","v":1},{"$f":"IF(O577=\"\",\"\",IF(O577>Inputs!$D$9,0,1))","v":1},{"$f":"IF(COUNT(P577:U577)=0,\"\",INDEX(Inputs!$O$21:$P$26,MATCH(COUNT(P577:U577),Inputs!$O$21:$O$26,0),2))","v":20},1,null,null,{"$f":"IF(D577=\"\",\"\",IF(D577=\"-\",\"\",IF(D577>AVERAGE($D$2:$D$1000),1,0)))","v":1},1,1,1,1,1,1]
[{"$f":"'SIP Returns'!B579","v":0},null,{"$f":"'SIP Returns'!D579","v":0},{"$f":"'SIP Returns'!E579","v":0},{"$f":"'SIP Returns'!F579","v":0},{"$f":"'SIP Returns'!G579","v":0},{"$f":"'SIP Returns'!H579","v":0},{"$f":"'SIP Returns'!I579","v":0},{"$f":"'SIP Returns'!J579","v":0},{"$f":"IF($A578=\"\",\"\",IF(ISERROR(RANK(D578,$D$2:$D$1000,0)),\"\",RANK(D578,$D$2:$D$1000,0)))","v":1},{"$f":"IF($A578=\"\",\"\",IF(ISERROR(RANK(E578,$E$2:$E$1000,0)),\"\",RANK(E578,$E$2:$E$1000,0)))","v":10},{"$f":"IF($A578=\"\",\"\",IF(ISERROR(RANK(F578,$F$2:$F$1000,0)),\"\",RANK(F578,$F$2:$F$1000,0)))","v":8},{"$f":"IF($A578=\"\",\"\",IF(ISERROR(RANK(G578,$G$2:$G$1000,0)),\"\",RANK(G578,$G$2:$G$1000,0)))","v":4},{"$f":"IF($A578=\"\",\"\",IF(ISERROR(RANK(H578,$H$2:$H$1000,0)),\"\",RANK(H578,$H$2:$H$1000,0)))","v":1},{"$f":"IF($A578=\"\",\"\",IF(ISERROR(RANK(I578,$I$2:$I$1000,0)),\"\",RANK(I578,$I$2:$I$1000,0)))","v":1},{"$f":"IF(J578=\"\",\"\",IF(J578>Inputs!$D$9,0,1))","v":1},{"$f":"IF(K578=\"\",\"\",IF(K578>Inputs!$D$9,0,1))","v":1},{"$f":"IF(L578=\"\",\"\",IF(L578>Inputs!$D$9,0,1))","v":1},{"$f":"IF(M578=\"\",\"\",IF(M578>Inputs!$D$9,0,1))","v":1},{"$f":"IF(N578=\"\",\"\",IF(N578>Inputs!$D$9,0,1))","v":1},{"$f":"IF(O578=\"\",\"\",IF(O578>Inputs!$D$9,0,1))","v":1},{"$f":"IF(COUNT(P578:U578)=0,\"\",INDEX(Inputs!$O$21:$P$26,MATCH(COUNT(P578:U578),Inputs!$O$21:$O$26,0),2))","v":20},1,null,null,{"$f":"IF(D578=\"\",\"\",IF(D578=\"-\",\"\",IF(D578>AVERAGE($D$2:$D$1000),1,0)))","v":1},1,1,1,1,1,{"$f":"IF(COUNT(Z578:AE578)=0,\"\",SUM(Z578:AE578)/COUNT(Z578:AE578))","v":1}]
[{"$f":"'SIP Returns'!B580","v":0},null,{"$f":"'SIP Returns'!D580","v":0},{"$f":"'SIP Returns'!E580","v":0},{"$f":"'SIP Returns'!F580","v":0},{"$f":"'SIP Returns'!G580","v":0},{"$f":"'SIP Returns'!H580","v":0},{"$f":"'SIP Returns'!I580","v":0},{"$f":"'SIP Returns'!J580","v":0},1,10,8,4,1,1,{"$f":"IF(J579=\"\",\"\",IF(J579>Inputs!$D$9,0,1))","v":1},{"$f":"IF(K579=\"\",\"\",IF(K579>Inputs!$D$9,0,1))","v":1},{"$f":"IF(L579=\"\",\"\",IF(L579>Inputs!$D$9,0,1))","v":1},{"$f":"IF(M579=\"\",\"\",IF(M579>Inputs!$D$9,0,1))","v":1},{"$f":"IF(N579=\"\",\"\",IF(N579>Inputs!$D$9,0,1))","v":1},{"$f":"IF(O579=\"\",\"\",IF(O579>Inputs!$D$9,0,1))","v":1},{"$f":"IF(COUNT(P579:U579)=0,\"\",INDEX(Inputs!$O$21:$P$26,MATCH(COUNT(P579:U579),Inputs!$O$21:$O$26,0),2))","v":20},{"$f":"IF(COUNT(P579:U579)=0,\"\",SUM(P579:U579)/COUNT(P579:U579))","v":1},null,null,{"$f":"IF(D579=\"\",\"\",IF(D579=\"-\",\"\",IF(D579>AVERAGE($D$2:$D$1000),1,0)))","v":1},1,1,1,1,1,1]
[{"$f":"'SIP Returns'!B581","v":0},null,{"$f":"'SIP Returns'!D581","v":0},{"$f":"'SIP Returns'!E581","v":0},{"$f":"'SIP Returns'!F581","v":0},{"$f":"'SIP Returns'!G581","v":0},{"$f":"'SIP Returns'!H581","v":0},{"$f":"'SIP Returns'!I581","v":0},{"$f":"'SIP Returns'!J581","v":0},1,10,8,4,1,1,{"$f":"IF(J580=\"\",\"\",IF(J580>Inputs!$D$9,0,1))","v":1},{"$f":"IF(K580=\"\",\"\",IF(K580>Inputs!$D$9,0,1))","v":1},{"$f":"IF(L580=\"\",\"\",IF(L580>Inputs!$D$9,0,1))","v":1},{"$f":"IF(M580=\"\",\"\",IF(M580>Inputs!$D$9,0,1))","v":1},{"$f":"IF(N580=\"\",\"\",IF(N580>Inputs!$D$9,0,1))","v":1},{"$f":"IF(O580=\"\",\"\",IF(O580>Inputs!$D$9,0,1))","v":1},{"$f":"IF(COUNT(P580:U580)=0,\"\",INDEX(Inputs!$O$21:$P$26,MATCH(COUNT(P580:U580),Inputs!$O$21:$O$26,0),2))","v":20},1,null,null,{"$f":"IF(D580=\"\",\"\",IF(D580=\"-\",\"\",IF(D580>AVERAGE($D$2:$D$1000),1,0)))","v":1},1,1,1,1,1,1]
[{"$f":"'SIP Returns'!B582","v":0},null,{"$f":"'SIP Returns'!D582","v":0},{"$f":"'SIP Returns'!E582","v":0},{"$f":"'SIP Returns'!F582","v":0},{"$f":"'SIP Returns'!G582","v":0},{"$f":"'SIP Returns'!H582","v":0},{"$f":"'SIP Returns'!I582","v":0},{"$f":"'SIP Returns'!J582","v":0},1,10,8,4,1,1,{"$f":"IF(J581=\"\",\"\",IF(J581>Inputs!$D$9,0,1))","v":1},{"$f":"IF(K581=\"\",\"\",IF(K581>Inputs!$D$9,0,1))","v":1},{"$f":"IF(L581=\"\",\"\",IF(L581>Inputs!$D$9,0,1))","v":1},{"$f":"IF(M581=\"\",\"\",IF(M581>Inputs!$D$9,0,1))","v":1},{"$f":"IF(N581=\"\",\"\",IF(N581>Inputs!$D$9,0,1))","v":1},{"$f":"IF(O581=\"\",\"\",IF(O581>Inputs!$D$9,0,1))","v":1},{"$f":"IF(COUNT(P581:U581)=0,\"\",INDEX(Inputs!$O$21:$P$26,MATCH(COUNT(P581:U581),Inputs!$O$21:$O$26,0),2))","v":20},1,null,null,{"$f":"IF(D581=\"\",\"\",IF(D581=\"-\",\"\",IF(D581>AVERAGE($D$2:$D$1000),1,0)))","v":1},1,1,1,1,1,1]
[{"$f":"'SIP Returns'!B583","v":0},null,{"$f":"'SIP Returns'!D583","v":0},{"$f":"'SIP Returns'!E583","v":0},{"$f":"'SIP Returns'!F583","v":0},{"$f":"'SIP Returns'!G583","v":0},{"$f":"'SIP Returns'!H583","v":0},{"$f":"'SIP Returns'!I583","v":0},{"$f":"'SIP Returns'!J583","v":0},1,10,8,4,1,1,{"$f":"IF(J582=\"\",\"\",IF(J582>Inputs!$D$9,0,1))","v":1},{"$f":"IF(K582=\"\",\"\",IF(K582>Inputs!$D$9,0,1))","v":1},{"$f":"IF(L582=\"\",\"\",IF(L582>Inputs!$D$9,0,1))","v":1},{"$f":"IF(M582=\"\",\"\",IF(M582>Inputs!$D$9,0,1))","v":1},{"$f":"IF(N582=\"\",\"\",IF(N582>Inputs!$D$9,0,1))","v":1},{"$f":"IF(O582=\"\",\"\",IF(O582>Inputs!$D$9,0,1))","v":1},{"$f":"IF(COUNT(P582:U582)=0,\"\",INDEX(Inputs!$O$21:$P$26,MATCH(COUNT(P582:U582),Inputs!$O$21:$O$26,0),2))","v":20},1,null,null,{"$f":"IF(D582=\"\",\"\",IF(D582=\"-\",\"\",IF(D582>AVERAGE($D$2:$D$1000),1,0)))","v":1},1,1,1,1,1,1]
[{"$f":"'SIP Returns'!B584","v":0},null,{"$f":"'SIP Returns'!D584","v":0},{"$f":"'SIP Returns'!E584","v":0},{"$f":"'SIP Returns'!F584","v":0},{"$f":"'SIP Returns'!G584","v":0},{"$f":"'SIP Returns'!H584","v":0},{"$f":"'SIP Returns'!I584","v":0},{"$f":"'SIP Returns'!J584","v":0},1,10,8,4,1,1,{"$f":"IF(J583=\"\",\"\",IF(J583>Inputs!$D$9,0,1))","v":1},{"$f":"IF(K583=\"\",\"\",IF(K583>Inputs!$D$9,0,1))","v":1},{"$f":"IF(L583=\"\",\"\",IF(L583>Inputs!$D$9,0,1))","v":1},{"$f":"IF(M583=\"\",\"\",IF(M583>Inputs!$D$9,0,1))","v":1},{"$f":"IF(N583=\"\",\"\",IF(N583>Inputs!$D$9,0,1))","v":1},{"$f":"IF(O583=\"\",\"\",IF(O583>Inputs!$D$9,0,1))","v":1},{"$f":"IF(COUNT(P583:U583)=0,\"\",INDEX(Inputs!$O$21:$P$26,MATCH(COUNT(P583:U583),Inputs!$O$21:$O$26,0),2))","v":20},1,null,null,{"$f":"IF(D583=\"\",\"\",IF(D583=\"-\",\"\",IF(D583>AVERAGE($D$2:$D$1000),1,0)))","v":1},1,1,1,1,1,1]
[{"$f":"'SIP Returns'!B585","v":0},null,{"$f":"'SIP Returns'!D585","v":0},{"$f":"'SIP Returns'!E585","v":0},{"$f":"'SIP Returns'!F585","v":0},{"$f":"'SIP Returns'!G585","v":0},{"$f":"'SIP Returns'!H585","v":0},{"$f":"'SIP Returns'!I585","v":0},{"$f":"'SIP Returns'!J585","v":0},1,10,8,4,1,1,{"$f":"IF(J584=\"\",\"\",IF(J584>Inputs!$D$9,0,1))","v":1},{"$f":"IF(K584=\"\",\"\",IF(K584>Inputs!$D$9,0,1))","v":1},{"$f":"IF(L584=\"\",\"\",IF(L584>Inputs!$D$9,0,1))","v":1},{"$f":"IF(M584=\"\",\"\",IF(M584>Inputs!$D$9,0,1))","v":1},{"$f":"IF(N584=\"\",\"\",IF(N584>Inputs!$D$9,0,1))","v":1},{"$f":"IF(O584=\"\",\"\",IF(O584>Inputs!$D$9,0,1))","v":1},{"$f":"IF(COUNT(P584:U584)=0,\"\",INDEX(Inputs!$O$21:$P$26,MATCH(COUNT(P584:U584),Inputs!$O$21:$O$26,0),2))","v":20},1,null,null,{"$f":"IF(D584=\"\",\"\",IF(D584=\"-\",\"\",IF(D584>AVERAGE($D$2:$D$1000),1,0)))","v":1},1,1,1,1,1,1]
[{"$f":"'SIP Returns'!B586","v":0},null,{"$f":"'SIP Returns'!D586","v":0},{"$f":"'SIP Returns'!E586","v":0},{"$f":"'SIP Returns'!F586","v":0},{"$f":"'SIP Returns'!G586","v":0},{"$f":"'SIP Returns'!H586","v":0},{"$f":"'SIP Returns'!I586","v":0},{"$f":"'SIP Returns'!J586","v":0},1,10,8,4,1,1,{"$f":"IF(J585=\"\",\"\",IF(J585>Inputs!$D$9,0,1))","v":1},{"$f":"IF(K585=\"\",\"\",IF(K585>Inputs!$D$9,0,1))","v":1},{"$f":"IF(L585=\"\",\"\",IF(L585>Inputs!$D$9,0,1))","v":1},{"$f":"IF(M585=\"\",\"\",IF(M585>Inputs!$D$9,0,1))","v":1},{"$f":"IF(N585=\"\",\"\",IF(N585>Inputs!$D$9,0,1))","v":1},{"$f":"IF(O585=\"\",\"\",IF(O585>Inputs!$D$9,0,1))","v":1},{"$f":"IF(COUNT(P585:U585)=0,\"\",INDEX(Inputs!$O$21:$P$26,MATCH(COUNT(P585:U585),Inputs!$O$21:$O$26,0),2))","v":20},1,null,null,{"$f":"IF(D585=\"\",\"\",IF(D585=\"-\",\"\",IF(D585>AVERAGE($D$2:$D$1000),1,0)))","v":1},1,1,1,1,1,1]
[{"$f":"'SIP Returns'!B587","v":0},null,{"$f":"'SIP Returns'!D587","v":0},{"$f":"'SIP Returns'!E587","v":0},{"$f":"'SIP Returns'!F587","v":0},{"$f":"'SIP Returns'!G587","v":0},{"$f":"'SIP Returns'!H587","v":0},{"$f":"'SIP Returns'!I587","v":0},{"$f":"'SIP Returns'!J587","v":0},1,10,8,4,1,1,{"$f":"IF(J586=\"\",\"\",IF(J586>Inputs!$D$9,0,1))","v":1},{"$f":"IF(K586=\"\",\"\",IF(K586>Inputs!$D$9,0,1))","v":1},{"$f":"IF(L586=\"\",\"\",IF(L586>Inputs!$D$9,0,1))","v":1},{"$f":"IF(M586=\"\",\"\",IF(M586>Inputs!$D$9,0,1))","v":1},{"$f":"IF(N586=\"\",\"\",IF(N586>Inputs!$D$9,0,1))","v":1},{"$f":"IF(O586=\"\",\"\",IF(O586>Inputs!$D$9,0,1))","v":1},{"$f":"IF(COUNT(P586:U586)=0,\"\",INDEX(Inputs!$O$21:$P$26,MATCH(COUNT(P586:U586),Inputs!$O$21:$O$26,0),2))","v":20},1,null,null,{"$f":"IF(D586=\"\",\"\",IF(D586=\"-\",\"\",IF(D586>AVERAGE($D$2:$D$1000),1,0)))","v":1},1,1,1,1,1,1]
[{"$f":"'SIP Returns'!B588","v":0},null,{"$f":"'SIP Returns'!D588","v":0},{"$f":"'SIP Returns'!E588","v":0},{"$f":"'SIP Returns'!F588","v":0},{"$f":"'SIP Returns'!G588","v":0},{"$f":"'SIP Returns'!H588","v":0},{"$f":"'SIP Returns'!I588","v":0},{"$f":"'SIP Returns'!J588","v":0},1,10,8,4,1,1,{"$f":"IF(J587=\"\",\"\",IF(J587>Inputs!$D$9,0,1))","v":1},{"$f":"IF(K587=\"\",\"\",IF(K587>Inputs!$D$9,0,1))","v":1},{"$f":"IF(L587=\"\",\"\",IF(L587>Inputs!$D$9,0,1))","v":1},{"$f":"IF(M587=\"\",\"\",IF(M587>Inputs!$D$9,0,1))","v":1},{"$f":"IF(N587=\"\",\"\",IF(N587>Inputs!$D$9,0,1))","v":1},{"$f":"IF(O587=\"\",\"\",IF(O587>Inputs!$D$9,0,1))","v":1},{"$f":"IF(COUNT(P587:U587)=0,\"\",INDEX(Inputs!$O$21:$P$26,MATCH(COUNT(P587:U587),Inputs!$O$21:$O$26,0),2))","v":20},1,null,null,{"$f":"IF(D587=\"\",\"\",IF(D587=\"-\",\"\",IF(D587>AVERAGE($D$2:$D$1000),1,0)))","v":1},1,1,1,1,1,1]
[{"$f":"'SIP Returns'!B589","v":0},null,{"$f":"'SIP Returns'!D589","v":0},{"$f":"'SIP Returns'!E589","v":0},{"$f":"'SIP Returns'!F589","v":0},{"$f":"'SIP Returns'!G589","v":0},{"$f":"'SIP Returns'!H589","v":0},{"$f":"'SIP Returns'!I589","v":0},{"$f":"'SIP Returns'!J589","v":0},1,10,8,4,1,1,{"$f":"IF(J588=\"\",\"\",IF(J588>Inputs!$D$9,0,1))","v":1},{"$f":"IF(K588=\"\",\"\",IF(K588>Inputs!$D$9,0,1))","v":1},{"$f":"IF(L588=\"\",\"\",IF(L588>Inputs!$D$9,0,1))","v":1},{"$f":"IF(M588=\"\",\"\",IF(M588>Inputs!$D$9,0,1))","v":1},{"$f":"IF(N588=\"\",\"\",IF(N588>Inputs!$D$9,0,1))","v":1},{"$f":"IF(O588=\"\",\"\",IF(O588>Inputs!$D$9,0,1))","v":1},{"$f":"IF(COUNT(P588:U588)=0,\"\",INDEX(Inputs!$O$21:$P$26,MATCH(COUNT(P588:U588),Inputs!$O$21:$O$26,0),2))","v":20},1,null,null,{"$f":"IF(D588=\"\",\"\",IF(D588=\"-\",\"\",IF(D588>AVERAGE($D$2:$D$1000),1,0)))","v":1},1,1,1,1,1,1]
[{"$f":"'SIP Returns'!B590","v":0},null,{"$f":"'SIP Returns'!D590","v":0},{"$f":"'SIP Returns'!E590","v":0},{"$f":"'SIP Returns'!F590","v":0},{"$f":"'SIP Returns'!G590","v":0},{"$f":"'SIP Returns'!H590","v":0},{"$f":"'SIP Returns'!I590","v":0},{"$f":"'SIP Returns'!J590","v":0},1,10,8,4,1,1,{"$f":"IF(J589=\"\",\"\",IF(J589>Inputs!$D$9,0,1))","v":1},{"$f":"IF(K589=\"\",\"\",IF(K589>Inputs!$D$9,0,1))","v":1},{"$f":"IF(L589=\"\",\"\",IF(L589>Inputs!$D$9,0,1))","v":1},{"$f":"IF(M589=\"\",\"\",IF(M589>Inputs!$D$9,0,1))","v":1},{"$f":"IF(N589=\"\",\"\",IF(N589>Inputs!$D$9,0,1))","v":1},{"$f":"IF(O589=\"\",\"\",IF(O589>Inputs!$D$9,0,1))","v":1},{"$f":"IF(COUNT(P589:U589)=0,\"\",INDEX(Inputs!$O$21:$P$26,MATCH(COUNT(P589:U589),Inputs!$O$21:$O$26,0),2))","v":20},1,null,null,{"$f":"IF(D589=\"\",\"\",IF(D589=\"-\",\"\",IF(D589>AVERAGE($D$2:$D$1000),1,0)))","v":1},1,1,1,1,1,1]
[{"$f":"'SIP Returns'!B591","v":0},null,{"$f":"'SIP Returns'!D591","v":0},{"$f":"'SIP Returns'!E591","v":0},{"$f":"'SIP Returns'!F591","v":0},{"$f":"'SIP Returns'!G591","v":0},{"$f":"'SIP Returns'!H591","v":0},{"$f":"'SIP Returns'!I591","v":0},{"$f":"'SIP Returns'!J591","v":0},1,10,8,4,1,1,{"$f":"IF(J590=\"\",\"\",IF(J590>Inputs!$D$9,0,1))","v":1},{"$f":"IF(K590=\"\",\"\",IF(K590>Inputs!$D$9,0,1))","v":1},{"$f":"IF(L590=\"\",\"\",IF(L590>Inputs!$D$9,0,1))","v":1},{"$f":"IF(M590=\"\",\"\",IF(M590>Inputs!$D$9,0,1))","v":1},{"$f":"IF(N590=\"\",\"\",IF(N590>Inputs!$D$9,0,1))","v":1},{"$f":"IF(O590=\"\",\"\",IF(O590>Inputs!$D$9,0,1))","v":1},{"$f":"IF(COUNT(P590:U590)=0,\"\",INDEX(Inputs!$O$21:$P$26,MATCH(COUNT(P590:U590),Inputs!$O$21:$O$26,0),2))","v":20},1,null,null,{"$f":"IF(D590=\"\",\"\",IF(D590=\"-\",\"\",IF(D590>AVERAGE($D$2:$D$1000),1,0)))","v":1},1,1,1,1,1,1]
[{"$f":"'SIP Returns'!B592","v":0},null,{"$f":"'SIP Returns'!D592","v":0},{"$f":"'SIP Returns'!E592","v":0},{"$f":"'SIP Returns'!F592","v":0},{"$f":"'SIP Returns'!G592","v":0},{"$f":"'SIP Returns'!H592","v":0},{"$f":"'SIP Returns'!I592","v":0},{"$f":"'SIP Returns'!J592","v":0},1,10,8,4,1,1,{"$f":"IF(J591=\"\",\"\",IF(J591>Inputs!$D$9,0,1))","v":1},{"$f":"IF(K591=\"\",\"\",IF(K591>Inputs!$D$9,0,1))","v":1},{"$f":"IF(L591=\"\",\"\",IF(L591>Inputs!$D$9,0,1))","v":1},{"$f":"IF(M591=\"\",\"\",IF(M591>Inputs!$D$9,0,1))","v":1},{"$f":"IF(N591=\"\",\"\",IF(N591>Inputs!$D$9,0,1))","v":1},{"$f":"IF(O591=\"\",\"\",IF(O591>Inputs!$D$9,0,1))","v":1},{"$f":"IF(COUNT(P591:U591)=0,\"\",INDEX(Inputs!$O$21:$P$26,MATCH(COUNT(P591:U591),Inputs!$O$21:$O$26,0),2))","v":20},1,null,null,{"$f":"IF(D591=\"\",\"\",IF(D591=\"-\",\"\",IF(D591>AVERAGE($D$2:$D$1000),1,0)))","v":1},1,1,1,1,1,1]
[{"$f":"'SIP Returns'!B593","v":0},null,{"$f":"'SIP Returns'!D593","v":0},{"$f":"'SIP Returns'!E593","v":0},{"$f":"'SIP Returns'!F593","v":0},{"$f":"'SIP Returns'!G593","v":0},{"$f":"'SIP Returns'!H593","v":0},{"$f":"'SIP Returns'!I593","v":0},{"$f":"'SIP Returns'!J593","v":0},1,10,8,4,1,1,{"$f":"IF(J592=\"\",\"\",IF(J592>Inputs!$D$9,0,1))","v":1},{"$f":"IF(K592=\"\",\"\",IF(K592>Inputs!$D$9,0,1))","v":1},{"$f":"IF(L592=\"\",\"\",IF(L592>Inputs!$D$9,0,1))","v":1},{"$f":"IF(M592=\"\",\"\",IF(M592>Inputs!$D$9,0,1))","v":1},{"$f":"IF(N592=\"\",\"\",IF(N592>Inputs!$D$9,0,1))","v":1},{"$f":"IF(O592=\"\",\"\",IF(O592>Inputs!$D$9,0,1))","v":1},{"$f":"IF(COUNT(P592:U592)=0,\"\",INDEX(Inputs!$O$21:$P$26,MATCH(COUNT(P592:U592),Inputs!$O$21:$O$26,0),2))","v":20},1,null,null,{"$f":"IF(D592=\"\",\"\",IF(D592=\"-\",\"\",IF(D592>AVERAGE($D$2:$D$1000),1,0)))","v":1},1,1,1,1,1,1]
[{"$f":"'SIP Returns'!B594","v":0},null,{"$f":"'SIP Returns'!D594","v":0},{"$f":"'SIP Returns'!E594","v":0},{"$f":"'SIP Returns'!F594","v":0},{"$f":"'SIP Returns'!G594","v":0},{"$f":"'SIP Returns'!H594","v":0},{"$f":"'SIP Returns'!I594","v":0},{"$f":"'SIP Returns'!J594","v":0},1,10,8,4,1,1,{"$f":"IF(J593=\"\",\"\",IF(J593>Inputs!$D$9,0,1))","v":1},{"$f":"IF(K593=\"\",\"\",IF(K593>Inputs!$D$9,0,1))","v":1},{"$f":"IF(L593=\"\",\"\",IF(L593>Inputs!$D$9,0,1))","v":1},{"$f":"IF(M593=\"\",\"\",IF(M593>Inputs!$D$9,0,1))","v":1},{"$f":"IF(N593=\"\",\"\",IF(N593>Inputs!$D$9,0,1))","v":1},{"$f":"IF(O593=\"\",\"\",IF(O593>Inputs!$D$9,0,1))","v":1},{"$f":"IF(COUNT(P593:U593)=0,\"\",INDEX(Inputs!$O$21:$P$26,MATCH(COUNT(P593:U593),Inputs!$O$21:$O$26,0),2))","v":20},1,null,null,{"$f":"IF(D593=\"\",\"\",IF(D593=\"-\",\"\",IF(D593>AVERAGE($D$2:$D$1000),1,0)))","v":1},1,1,1,1,1,1]
[{"$f":"'SIP Returns'!B595","v":0},null,{"$f":"'SIP Returns'!D595","v":0},{"$f":"'SIP Returns'!E595","v":0},{"$f":"'SIP Returns'!F595","v":0},{"$f":"'SIP Returns'!G595","v":0},{"$f":"'SIP Returns'!H595","v":0},{"$f":"'SIP Returns'!I595","v":0},{"$f":"'SIP Returns'!J595","v":0},1,10,8,4,1,1,{"$f":"IF(J594=\"\",\"\",IF(J594>Inputs!$D$9,0,1))","v":1},{"$f":"IF(K594=\"\",\"\",IF(K594>Inputs!$D$9,0,1))","v":1},{"$f":"IF(L594=\"\",\"\",IF(L594>Inputs!$D$9,0,1))","v":1},{"$f":"IF(M594=\"\",\"\",IF(M594>Inputs!$D$9,0,1))","v":1},{"$f":"IF(N594=\"\",\"\",IF(N594>Inputs!$D$9,0,1))","v":1},{"$f":"IF(O594=\"\",\"\",IF(O594>Inputs!$D$9,0,1))","v":1},{"$f":"IF(COUNT(P594:U594)=0,\"\",INDEX(Inputs!$O$21:$P$26,MATCH(COUNT(P594:U594),Inputs!$O$21:$O$26,0),2))","v":20},1,null,null,{"$f":"IF(D594=\"\",\"\",IF(D594=\"-\",\"\",IF(D594>AVERAGE($D$2:$D$1000),1,0)))","v":1},1,1,1,1,1,1]
[{"$f":"'SIP Returns'!B596","v":0},null,{"$f":"'SIP Returns'!D596","v":0},{"$f":"'SIP Returns'!E596","v":0},{"$f":"'SIP Returns'!F596","v":0},{"$f":"'SIP Returns'!G596","v":0},{"$f":"'SIP Returns'!H596","v":0},{"$f":"'SIP Returns'!I596","v":0},{"$f":"'SIP Returns'!J596","v":0},1,10,8,4,1,1,{"$f":"IF(J595=\"\",\"\",IF(J595>Inputs!$D$9,0,1))","v":1},{"$f":"IF(K595=\"\",\"\",IF(K595>Inputs!$D$9,0,1))","v":1},{"$f":"IF(L595=\"\",\"\",IF(L595>Inputs!$D$9,0,1))","v":1},{"$f":"IF(M595=\"\",\"\",IF(M595>Inputs!$D$9,0,1))","v":1},{"$f":"IF(N595=\"\",\"\",IF(N595>Inputs!$D$9,0,1))","v":1},{"$f":"IF(O595=\"\",\"\",IF(O595>Inputs!$D$9,0,1))","v":1},{"$f":"IF(COUNT(P595:U595)=0,\"\",INDEX(Inputs!$O$21:$P$26,MATCH(COUNT(P595:U595),Inputs!$O$21:$O$26,0),2))","v":20},1,null,null,{"$f":"IF(D595=\"\",\"\",IF(D595=\"-\",\"\",IF(D595>AVERAGE($D$2:$D$1000),1,0)))","v":1},1,1,1,1,1,1]
[{"$f":"'SIP Returns'!B597","v":0},null,{"$f":"'SIP Returns'!D597","v":0},{"$f":"'SIP Returns'!E597","v":0},{"$f":"'SIP Returns'!F597","v":0},{"$f":"'SIP Returns'!G597","v":0},{"$f":"'SIP Returns'!H597","v":0},{"$f":"'SIP Returns'!I597","v":0},{"$f":"'SIP Returns'!J597","v":0},1,10,8,4,1,1,{"$f":"IF(J596=\"\",\"\",IF(J596>Inputs!$D$9,0,1))","v":1},{"$f":"IF(K596=\"\",\"\",IF(K596>Inputs!$D$9,0,1))","v":1},{"$f":"IF(L596=\"\",\"\",IF(L596>Inputs!$D$9,0,1))","v":1},{"$f":"IF(M596=\"\",\"\",IF(M596>Inputs!$D$9,0,1))","v":1},{"$f":"IF(N596=\"\",\"\",IF(N596>Inputs!$D$9,0,1))","v":1},{"$f":"IF(O596=\"\",\"\",IF(O596>Inputs!$D$9,0,1))","v":1},{"$f":"IF(COUNT(P596:U596)=0,\"\",INDEX(Inputs!$O$21:$P$26,MATCH(COUNT(P596:U596),Inputs!$O$21:$O$26,0),2))","v":20},1,null,null,{"$f":"IF(D596=\"\",\"\",IF(D596=\"-\",\"\",IF(D596>AVERAGE($D$2:$D$1000),1,0)))","v":1},1,1,1,1,1,1]
[{"$f":"'SIP Returns'!B598","v":0},null,{"$f":"'SIP Returns'!D598","v":0},{"$f":"'SIP Returns'!E598","v":0},{"$f":"'SIP Returns'!F598","v":0},{"$f":"'SIP Returns'!G598","v":0},{"$f":"'SIP Returns'!H598","v":0},{"$f":"'SIP Returns'!I598","v":0},{"$f":"'SIP Returns'!J598","v":0},1,10,8,4,1,1,{"$f":"IF(J597=\"\",\"\",IF(J597>Inputs!$D$9,0,1))","v":1},{"$f":"IF(K597=\"\",\"\",IF(K597>Inputs!$D$9,0,1))","v":1},{"$f":"IF(L597=\"\",\"\",IF(L597>Inputs!$D$9,0,1))","v":1},{"$f":"IF(M597=\"\",\"\",IF(M597>Inputs!$D$9,0,1))","v":1},{"$f":"IF(N597=\"\",\"\",IF(N597>Inputs!$D$9,0,1))","v":1},{"$f":"IF(O597=\"\",\"\",IF(O597>Inputs!$D$9,0,1))","v":1},{"$f":"IF(COUNT(P597:U597)=0,\"\",INDEX(Inputs!$O$21:$P$26,MATCH(COUNT(P597:U597),Inputs!$O$21:$O$26,0),2))","v":20},1,null,null,{"$f":"IF(D597=\"\",\"\",IF(D597=\"-\",\"\",IF(D597>AVERAGE($D$2:$D$1000),1,0)))","v":1},1,1,1,1,1,1]
[{"$f":"'SIP Returns'!B599","v":0},null,{"$f":"'SIP Returns'!D599","v":0},{"$f":"'SIP Returns'!E599","v":0},{"$f":"'SIP Returns'!F599","v":0},{"$f":"'SIP Returns'!G599","v":0},{"$f":"'SIP Returns'!H599","v":0},{"$f":"'SIP Returns'!I599","v":0},{"$f":"'SIP Returns'!J599","v":0},1,10,8,4,1,1,{"$f":"IF(J598=\"\",\"\",IF(J598>Inputs!$D$9,0,1))","v":1},{"$f":"IF(K598=\"\",\"\",IF(K598>Inputs!$D$9,0,1))","v":1},{"$f":"IF(L598=\"\",\"\",IF(L598>Inputs!$D$9,0,1))","v":1},{"$f":"IF(M598=\"\",\"\",IF(M598>Inputs!$D$9,0,1))","v":1},{"$f":"IF(N598=\"\",\"\",IF(N598>Inputs!$D$9,0,1))","v":1},{"$f":"IF(O598=\"\",\"\",IF(O598>Inputs!$D$9,0,1))","v":1},{"$f":"IF(COUNT(P598:U598)=0,\"\",INDEX(Inputs!$O$21:$P$26,MATCH(COUNT(P598:U598),Inputs!$O$21:$O$26,0),2))","v":20},1,null,null,{"$f":"IF(D598=\"\",\"\",IF(D598=\"-\",\"\",IF(D598>AVERAGE($D$2:$D$1000),1,0)))","v":1},1,1,1,1,1,1]
[{"$f":"'SIP Returns'!B600","v":0},null,{"$f":"'SIP Returns'!D600","v":0},{"$f":"'SIP Returns'!E600","v":0},{"$f":"'SIP Returns'!F600","v":0},{"$f":"'SIP Returns'!G600","v":0},{"$f":"'SIP Returns'!H600","v":0},{"$f":"'SIP Returns'!I600","v":0},{"$f":"'SIP Returns'!J600","v":0},1,10,8,4,1,1,{"$f":"IF(J599=\"\",\"\",IF(J599>Inputs!$D$9,0,1))","v":1},{"$f":"IF(K599=\"\",\"\",IF(K599>Inputs!$D$9,0,1))","v":1},{"$f":"IF(L599=\"\",\"\",IF(L599>Inputs!$D$9,0,1))","v":1},{"$f":"IF(M599=\"\",\"\",IF(M599>Inputs!$D$9,0,1))","v":1},{"$f":"IF(N599=\"\",\"\",IF(N599>Inputs!$D$9,0,1))","v":1},{"$f":"IF(O599=\"\",\"\",IF(O599>Inputs!$D$9,0,1))","v":1},{"$f":"IF(COUNT(P599:U599)=0,\"\",INDEX(Inputs!$O$21:$P$26,MATCH(COUNT(P599:U599),Inputs!$O$21:$O$26,0),2))","v":20},1,null,null,{"$f":"IF(D599=\"\",\"\",IF(D599=\"-\",\"\",IF(D599>AVERAGE($D$2:$D$1000),1,0)))","v":1},1,1,1,1,1,1]
[{"$f":"'SIP Returns'!B601","v":0},null,{"$f":"'SIP Returns'!D601","v":0},{"$f":"'SIP Returns'!E601","v":0},{"$f":"'SIP Returns'!F601","v":0},{"$f":"'SIP Returns'!G601","v":0},{"$f":"'SIP Returns'!H601","v":0},{"$f":"'SIP Returns'!I601","v":0},{"$f":"'SIP Returns'!J601","v":0},1,10,8,4,1,1,{"$f":"IF(J600=\"\",\"\",IF(J600>Inputs!$D$9,0,1))","v":1},{"$f":"IF(K600=\"\",\"\",IF(K600>Inputs!$D$9,0,1))","v":1},{"$f":"IF(L600=\"\",\"\",IF(L600>Inputs!$D$9,0,1))","v":1},{"$f":"IF(M600=\"\",\"\",IF(M600>Inputs!$D$9,0,1))","v":1},{"$f":"IF(N600=\"\",\"\",IF(N600>Inputs!$D$9,0,1))","v":1},{"$f":"IF(O600=\"\",\"\",IF(O600>Inputs!$D$9,0,1))","v":1},{"$f":"IF(COUNT(P600:U600)=0,\"\",INDEX(Inputs!$O$21:$P$26,MATCH(COUNT(P600:U600),Inputs!$O$21:$O$26,0),2))","v":20},1,null,null,{"$f":"IF(D600=\"\",\"\",IF(D600=\"-\",\"\",IF(D600>AVERAGE($D$2:$D$1000),1,0)))","v":1},1,1,1,1,1,1]
[{"$f":"'SIP Returns'!B602","v":0},null,{"$f":"'SIP Returns'!D602","v":0},{"$f":"'SIP Returns'!E602","v":0},{"$f":"'SIP Returns'!F602","v":0},{"$f":"'SIP Returns'!G602","v":0},{"$f":"'SIP Returns'!H602","v":0},{"$f":"'SIP Returns'!I602","v":0},{"$f":"'SIP Returns'!J602","v":0},1,10,8,4,1,1,{"$f":"IF(J601=\"\",\"\",IF(J601>Inputs!$D$9,0,1))","v":1},{"$f":"IF(K601=\"\",\"\",IF(K601>Inputs!$D$9,0,1))","v":1},{"$f":"IF(L601=\"\",\"\",IF(L601>Inputs!$D$9,0,1))","v":1},{"$f":"IF(M601=\"\",\"\",IF(M601>Inputs!$D$9,0,1))","v":1},{"$f":"IF(N601=\"\",\"\",IF(N601>Inputs!$D$9,0,1))","v":1},{"$f":"IF(O601=\"\",\"\",IF(O601>Inputs!$D$9,0,1))","v":1},{"$f":"IF(COUNT(P601:U601)=0,\"\",INDEX(Inputs!$O$21:$P$26,MATCH(COUNT(P601:U601),Inputs!$O$21:$O$26,0),2))","v":20},1,null,null,{"$f":"IF(D601=\"\",\"\",IF(D601=\"-\",\"\",IF(D601>AVERAGE($D$2:$D$1000),1,0)))","v":1},1,1,1,1,1,1]
[{"$f":"'SIP Returns'!B603","v":0},null,{"$f":"'SIP Returns'!D603","v":0},{"$f":"'SIP Returns'!E603","v":0},{"$f":"'SIP Returns'!F603","v":0},{"$f":"'SIP Returns'!G603","v":0},{"$f":"'SIP Returns'!H603","v":0},{"$f":"'SIP Returns'!I603","v":0},{"$f":"'SIP Returns'!J603","v":0},1,10,8,4,1,1,{"$f":"IF(J602=\"\",\"\",IF(J602>Inputs!$D$9,0,1))","v":1},{"$f":"IF(K602=\"\",\"\",IF(K602>Inputs!$D$9,0,1))","v":1},{"$f":"IF(L602=\"\",\"\",IF(L602>Inputs!$D$9,0,1))","v":1},{"$f":"IF(M602=\"\",\"\",IF(M602>Inputs!$D$9,0,1))","v":1},{"$f":"IF(N602=\"\",\"\",IF(N602>Inputs!$D$9,0,1))","v":1},{"$f":"IF(O602=\"\",\"\",IF(O602>Inputs!$D$9,0,1))","v":1},{"$f":"IF(COUNT(P602:U602)=0,\"\",INDEX(Inputs!$O$21:$P$26,MATCH(COUNT(P602:U602),Inputs!$O$21:$O$26,0),2))","v":20},1,null,null,{"$f":"IF(D602=\"\",\"\",IF(D602=\"-\",\"\",IF(D602>AVERAGE($D$2:$D$1000),1,0)))","v":1},1,1,1,1,1,1]
[{"$f":"'SIP Returns'!B604","v":0},null,{"$f":"'SIP Returns'!D604","v":0},{"$f":"'SIP Returns'!E604","v":0},{"$f":"'SIP Returns'!F604","v":0},{"$f":"'SIP Returns'!G604","v":0},{"$f":"'SIP Returns'!H604","v":0},{"$f":"'SIP Returns'!I604","v":0},{"$f":"'SIP Returns'!J604","v":0},1,10,8,4,1,1,{"$f":"IF(J603=\"\",\"\",IF(J603>Inputs!$D$9,0,1))","v":1},{"$f":"IF(K603=\"\",\"\",IF(K603>Inputs!$D$9,0,1))","v":1},{"$f":"IF(L603=\"\",\"\",IF(L603>Inputs!$D$9,0,1))","v":1},{"$f":"IF(M603=\"\",\"\",IF(M603>Inputs!$D$9,0,1))","v":1},{"$f":"IF(N603=\"\",\"\",IF(N603>Inputs!$D$9,0,1))","v":1},{"$f":"IF(O603=\"\",\"\",IF(O603>Inputs!$D$9,0,1))","v":1},{"$f":"IF(COUNT(P603:U603)=0,\"\",INDEX(Inputs!$O$21:$P$26,MATCH(COUNT(P603:U603),Inputs!$O$21:$O$26,0),2))","v":20},1,null,null,{"$f":"IF(D603=\"\",\"\",IF(D603=\"-\",\"\",IF(D603>AVERAGE($D$2:$D$1000),1,0)))","v":1},1,1,1,1,1,1]
[{"$f":"'SIP Returns'!B605","v":0},null,{"$f":"'SIP Returns'!D605","v":0},{"$f":"'SIP Returns'!E605","v":0},{"$f":"'SIP Returns'!F605","v":0},{"$f":"'SIP Returns'!G605","v":0},{"$f":"'SIP Returns'!H605","v":0},{"$f":"'SIP Returns'!I605","v":0},{"$f":"'SIP Returns'!J605","v":0},1,10,8,4,1,1,{"$f":"IF(J604=\"\",\"\",IF(J604>Inputs!$D$9,0,1))","v":1},{"$f":"IF(K604=\"\",\"\",IF(K604>Inputs!$D$9,0,1))","v":1},{"$f":"IF(L604=\"\",\"\",IF(L604>Inputs!$D$9,0,1))","v":1},{"$f":"IF(M604=\"\",\"\",IF(M604>Inputs!$D$9,0,1))","v":1},{"$f":"IF(N604=\"\",\"\",IF(N604>Inputs!$D$9,0,1))","v":1},{"$f":"IF(O604=\"\",\"\",IF(O604>Inputs!$D$9,0,1))","v":1},{"$f":"IF(COUNT(P604:U604)=0,\"\",INDEX(Inputs!$O$21:$P$26,MATCH(COUNT(P604:U604),Inputs!$O$21:$O$26,0),2))","v":20},1,null,null,{"$f":"IF(D604=\"\",\"\",IF(D604=\"-\",\"\",IF(D604>AVERAGE($D$2:$D$1000),1,0)))","v":1},1,1,1,1,1,1]
[{"$f":"'SIP Returns'!B606","v":0},null,{"$f":"'SIP Returns'!D606","v":0},{"$f":"'SIP Returns'!E606","v":0},{"$f":"'SIP Returns'!F606","v":0},{"$f":"'SIP Returns'!G606","v":0},{"$f":"'SIP Returns'!H606","v":0},{"$f":"'SIP Returns'!I606","v":0},{"$f":"'SIP Returns'!J606","v":0},1,10,8,4,1,1,{"$f":"IF(J605=\"\",\"\",IF(J605>Inputs!$D$9,0,1))","v":1},{"$f":"IF(K605=\"\",\"\",IF(K605>Inputs!$D$9,0,1))","v":1},{"$f":"IF(L605=\"\",\"\",IF(L605>Inputs!$D$9,0,1))","v":1},{"$f":"IF(M605=\"\",\"\",IF(M605>Inputs!$D$9,0,1))","v":1},{"$f":"IF(N605=\"\",\"\",IF(N605>Inputs!$D$9,0,1))","v":1},{"$f":"IF(O605=\"\",\"\",IF(O605>Inputs!$D$9,0,1))","v":1},{"$f":"IF(COUNT(P605:U605)=0,\"\",INDEX(Inputs!$O$21:$P$26,MATCH(COUNT(P605:U605),Inputs!$O$21:$O$26,0),2))","v":20},1,null,null,{"$f":"IF(D605=\"\",\"\",IF(D605=\"-\",\"\",IF(D605>AVERAGE($D$2:$D$1000),1,0)))","v":1},1,1,1,1,1,1]
[{"$f":"'SIP Returns'!B607","v":0},null,{"$f":"'SIP Returns'!D607","v":0},{"$f":"'SIP Returns'!E607","v":0},{"$f":"'SIP Returns'!F607","v":0},{"$f":"'SIP Returns'!G607","v":0},{"$f":"'SIP Returns'!H607","v":0},{"$f":"'SIP Returns'!I607","v":0},{"$f":"'SIP Returns'!J607","v":0},1,10,8,4,1,1,{"$f":"IF(J606=\"\",\"\",IF(J606>Inputs!$D$9,0,1))","v":1},{"$f":"IF(K606=\"\",\"\",IF(K606>Inputs!$D$9,0,1))","v":1},{"$f":"IF(L606=\"\",\"\",IF(L606>Inputs!$D$9,0,1))","v":1},{"$f":"IF(M606=\"\",\"\",IF(M606>Inputs!$D$9,0,1))","v":1},{"$f":"IF(N606=\"\",\"\",IF(N606>Inputs!$D$9,0,1))","v":1},{"$f":"IF(O606=\"\",\"\",IF(O606>Inputs!$D$9,0,1))","v":1},{"$f":"IF(COUNT(P606:U606)=0,\"\",INDEX(Inputs!$O$21:$P$26,MATCH(COUNT(P606:U606),Inputs!$O$21:$O$26,0),2))","v":20},1,null,null,{"$f":"IF(D606=\"\",\"\",IF(D606=\"-\",\"\",IF(D606>AVERAGE($D$2:$D$1000),1,0)))","v":1},1,1,1,1,1,1]
[{"$f":"'SIP Returns'!B608","v":0},null,{"$f":"'SIP Returns'!D608","v":0},{"$f":"'SIP Returns'!E608","v":0},{"$f":"'SIP Returns'!F608","v":0},{"$f":"'SIP Returns'!G608","v":0},{"$f":"'SIP Returns'!H608","v":0},{"$f":"'SIP Returns'!I608","v":0},{"$f":"'SIP Returns'!J608","v":0},1,10,8,4,1,1,{"$f":"IF(J607=\"\",\"\",IF(J607>Inputs!$D$9,0,1))","v":1},{"$f":"IF(K607=\"\",\"\",IF(K607>Inputs!$D$9,0,1))","v":1},{"$f":"IF(L607=\"\",\"\",IF(L607>Inputs!$D$9,0,1))","v":1},{"$f":"IF(M607=\"\",\"\",IF(M607>Inputs!$D$9,0,1))","v":1},{"$f":"IF(N607=\"\",\"\",IF(N607>Inputs!$D$9,0,1))","v":1},{"$f":"IF(O607=\"\",\"\",IF(O607>Inputs!$D$9,0,1))","v":1},{"$f":"IF(COUNT(P607:U607)=0,\"\",INDEX(Inputs!$O$21:$P$26,MATCH(COUNT(P607:U607),Inputs!$O$21:$O$26,0),2))","v":20},1,null,null,{"$f":"IF(D607=\"\",\"\",IF(D607=\"-\",\"\",IF(D607>AVERAGE($D$2:$D$1000),1,0)))","v":1},1,1,1,1,1,1]
[{"$f":"'SIP Returns'!B609","v":0},null,{"$f":"'SIP Returns'!D609","v":0},{"$f":"'SIP Returns'!E609","v":0},{"$f":"'SIP Returns'!F609","v":0},{"$f":"'SIP Returns'!G609","v":0},{"$f":"'SIP Returns'!H609","v":0},{"$f":"'SIP Returns'!I609","v":0},{"$f":"'SIP Returns'!J609","v":0},1,10,8,4,1,1,{"$f":"IF(J608=\"\",\"\",IF(J608>Inputs!$D$9,0,1))","v":1},{"$f":"IF(K608=\"\",\"\",IF(K608>Inputs!$D$9,0,1))","v":1},{"$f":"IF(L608=\"\",\"\",IF(L608>Inputs!$D$9,0,1))","v":1},{"$f":"IF(M608=\"\",\"\",IF(M608>Inputs!$D$9,0,1))","v":1},{"$f":"IF(N608=\"\",\"\",IF(N608>Inputs!$D$9,0,1))","v":1},{"$f":"IF(O608=\"\",\"\",IF(O608>Inputs!$D$9,0,1))","v":1},{"$f":"IF(COUNT(P608:U608)=0,\"\",INDEX(Inputs!$O$21:$P$26,MATCH(COUNT(P608:U608),Inputs!$O$21:$O$26,0),2))","v":20},1,null,null,{"$f":"IF(D608=\"\",\"\",IF(D608=\"-\",\"\",IF(D608>AVERAGE($D$2:$D$1000),1,0)))","v":1},1,1,1,1,1,1]
[{"$f":"'SIP Returns'!B610","v":0},null,{"$f":"'SIP Returns'!D610","v":0},{"$f":"'SIP Returns'!E610","v":0},{"$f":"'SIP Returns'!F610","v":0},{"$f":"'SIP Returns'!G610","v":0},{"$f":"'SIP Returns'!H610","v":0},{"$f":"'SIP Returns'!I610","v":0},{"$f":"'SIP Returns'!J610","v":0},1,10,8,4,1,1,{"$f":"IF(J609=\"\",\"\",IF(J609>Inputs!$D$9,0,1))","v":1},{"$f":"IF(K609=\"\",\"\",IF(K609>Inputs!$D$9,0,1))","v":1},{"$f":"IF(L609=\"\",\"\",IF(L609>Inputs!$D$9,0,1))","v":1},{"$f":"IF(M609=\"\",\"\",IF(M609>Inputs!$D$9,0,1))","v":1},{"$f":"IF(N609=\"\",\"\",IF(N609>Inputs!$D$9,0,1))","v":1},{"$f":"IF(O609=\"\",\"\",IF(O609>Inputs!$D$9,0,1))","v":1},{"$f":"IF(COUNT(P609:U609)=0,\"\",INDEX(Inputs!$O$21:$P$26,MATCH(COUNT(P609:U609),Inputs!$O$21:$O$26,0),2))","v":20},1,null,null,{"$f":"IF(D609=\"\",\"\",IF(D609=\"-\",\"\",IF(D609>AVERAGE($D$2:$D$1000),1,0)))","v":1},1,1,1,1,1,1]
[{"$f":"'SIP Returns'!B611","v":0},null,{"$f":"'SIP Returns'!D611","v":0},{"$f":"'SIP Returns'!E611","v":0},{"$f":"'SIP Returns'!F611","v":0},{"$f":"'SIP Returns'!G611","v":0},{"$f":"'SIP Returns'!H611","v":0},{"$f":"'SIP Returns'!I611","v":0},{"$f":"'SIP Returns'!J611","v":0},1,10,8,4,1,1,{"$f":"IF(J610=\"\",\"\",IF(J610>Inputs!$D$9,0,1))","v":1},{"$f":"IF(K610=\"\",\"\",IF(K610>Inputs!$D$9,0,1))","v":1},{"$f":"IF(L610=\"\",\"\",IF(L610>Inputs!$D$9,0,1))","v":1},{"$f":"IF(M610=\"\",\"\",IF(M610>Inputs!$D$9,0,1))","v":1},{"$f":"IF(N610=\"\",\"\",IF(N610>Inputs!$D$9,0,1))","v":1},{"$f":"IF(O610=\"\",\"\",IF(O610>Inputs!$D$9,0,1))","v":1},{"$f":"IF(COUNT(P610:U610)=0,\"\",INDEX(Inputs!$O$21:$P$26,MATCH(COUNT(P610:U610),Inputs!$O$21:$O$26,0),2))","v":20},1,null,null,{"$f":"IF(D610=\"\",\"\",IF(D610=\"-\",\"\",IF(D610>AVERAGE($D$2:$D$1000),1,0)))","v":1},1,1,1,1,1,1]
[{"$f":"'SIP Returns'!B612","v":0},null,{"$f":"'SIP Returns'!D612","v":0},{"$f":"'SIP Returns'!E612","v":0},{"$f":"'SIP Returns'!F612","v":0},{"$f":"'SIP Returns'!G612","v":0},{"$f":"'SIP Returns'!H612","v":0},{"$f":"'SIP Returns'!I612","v":0},{"$f":"'SIP Returns'!J612","v":0},1,10,8,4,1,1,{"$f":"IF(J611=\"\",\"\",IF(J611>Inputs!$D$9,0,1))","v":1},{"$f":"IF(K611=\"\",\"\",IF(K611>Inputs!$D$9,0,1))","v":1},{"$f":"IF(L611=\"\",\"\",IF(L611>Inputs!$D$9,0,1))","v":1},{"$f":"IF(M611=\"\",\"\",IF(M611>Inputs!$D$9,0,1))","v":1},{"$f":"IF(N611=\"\",\"\",IF(N611>Inputs!$D$9,0,1))","v":1},{"$f":"IF(O611=\"\",\"\",IF(O611>Inputs!$D$9,0,1))","v":1},{"$f":"IF(COUNT(P611:U611)=0,\"\",INDEX(Inputs!$O$21:$P$26,MATCH(COUNT(P611:U611),Inputs!$O$21:$O$26,0),2))","v":20},1,null,null,{"$f":"IF(D611=\"\",\"\",IF(D611=\"-\",\"\",IF(D611>AVERAGE($D$2:$D$1000),1,0)))","v":1},1,1,1,1,1,1]
[{"$f":"'SIP Returns'!B613","v":0},null,{"$f":"'SIP Returns'!D613","v":0},{"$f":"'SIP Returns'!E613","v":0},{"$f":"'SIP Returns'!F613","v":0},{"$f":"'SIP Returns'!G613","v":0},{"$f":"'SIP Returns'!H613","v":0},{"$f":"'SIP Returns'!I613","v":0},{"$f":"'SIP Returns'!J613","v":0},1,10,8,4,1,1,{"$f":"IF(J612=\"\",\"\",IF(J612>Inputs!$D$9,0,1))","v":1},{"$f":"IF(K612=\"\",\"\",IF(K612>Inputs!$D$9,0,1))","v":1},{"$f":"IF(L612=\"\",\"\",IF(L612>Inputs!$D$9,0,1))","v":1},{"$f":"IF(M612=\"\",\"\",IF(M612>Inputs!$D$9,0,1))","v":1},{"$f":"IF(N612=\"\",\"\",IF(N612>Inputs!$D$9,0,1))","v":1},{"$f":"IF(O612=\"\",\"\",IF(O612>Inputs!$D$9,0,1))","v":1},{"$f":"IF(COUNT(P612:U612)=0,\"\",INDEX(Inputs!$O$21:$P$26,MATCH(COUNT(P612:U612),Inputs!$O$21:$O$26,0),2))","v":20},1,null,null,{"$f":"IF(D612=\"\",\"\",IF(D612=\"-\",\"\",IF(D612>AVERAGE($D$2:$D$1000),1,0)))","v":1},1,1,1,1,1,1]
[{"$f":"'SIP Returns'!B614","v":0},null,{"$f":"'SIP Returns'!D614","v":0},{"$f":"'SIP Returns'!E614","v":0},{"$f":"'SIP Returns'!F614","v":0},{"$f":"'SIP Returns'!G614","v":0},{"$f":"'SIP Returns'!H614","v":0},{"$f":"'SIP Returns'!I614","v":0},{"$f":"'SIP Returns'!J614","v":0},1,10,8,4,1,1,{"$f":"IF(J613=\"\",\"\",IF(J613>Inputs!$D$9,0,1))","v":1},{"$f":"IF(K613=\"\",\"\",IF(K613>Inputs!$D$9,0,1))","v":1},{"$f":"IF(L613=\"\",\"\",IF(L613>Inputs!$D$9,0,1))","v":1},{"$f":"IF(M613=\"\",\"\",IF(M613>Inputs!$D$9,0,1))","v":1},{"$f":"IF(N613=\"\",\"\",IF(N613>Inputs!$D$9,0,1))","v":1},{"$f":"IF(O613=\"\",\"\",IF(O613>Inputs!$D$9,0,1))","v":1},{"$f":"IF(COUNT(P613:U613)=0,\"\",INDEX(Inputs!$O$21:$P$26,MATCH(COUNT(P613:U613),Inputs!$O$21:$O$26,0),2))","v":20},1,null,null,{"$f":"IF(D613=\"\",\"\",IF(D613=\"-\",\"\",IF(D613>AVERAGE($D$2:$D$1000),1,0)))","v":1},1,1,1,1,1,1]
[{"$f":"'SIP Returns'!B615","v":0},null,{"$f":"'SIP Returns'!D615","v":0},{"$f":"'SIP Returns'!E615","v":0},{"$f":"'SIP Returns'!F615","v":0},{"$f":"'SIP Returns'!G615","v":0},{"$f":"'SIP Returns'!H615","v":0},{"$f":"'SIP Returns'!I615","v":0},{"$f":"'SIP Returns'!J615","v":0},1,10,8,4,1,1,{"$f":"IF(J614=\"\",\"\",IF(J614>Inputs!$D$9,0,1))","v":1},{"$f":"IF(K614=\"\",\"\",IF(K614>Inputs!$D$9,0,1))","v":1},{"$f":"IF(L614=\"\",\"\",IF(L614>Inputs!$D$9,0,1))","v":1},{"$f":"IF(M614=\"\",\"\",IF(M614>Inputs!$D$9,0,1))","v":1},{"$f":"IF(N614=\"\",\"\",IF(N614>Inputs!$D$9,0,1))","v":1},{"$f":"IF(O614=\"\",\"\",IF(O614>Inputs!$D$9,0,1))","v":1},{"$f":"IF(COUNT(P614:U614)=0,\"\",INDEX(Inputs!$O$21:$P$26,MATCH(COUNT(P614:U614),Inputs!$O$21:$O$26,0),2))","v":20},1,null,null,{"$f":"IF(D614=\"\",\"\",IF(D614=\"-\",\"\",IF(D614>AVERAGE($D$2:$D$1000),1,0)))","v":1},1,1,1,1,1,1]
[{"$f":"'SIP Returns'!B616","v":0},null,{"$f":"'SIP Returns'!D616","v":0},{"$f":"'SIP Returns'!E616","v":0},{"$f":"'SIP Returns'!F616","v":0},{"$f":"'SIP Returns'!G616","v":0},{"$f":"'SIP Returns'!H616","v":0},{"$f":"'SIP Returns'!I616","v":0},{"$f":"'SIP Returns'!J616","v":0},1,10,8,4,1,1,{"$f":"IF(J615=\"\",\"\",IF(J615>Inputs!$D$9,0,1))","v":1},{"$f":"IF(K615=\"\",\"\",IF(K615>Inputs!$D$9,0,1))","v":1},{"$f":"IF(L615=\"\",\"\",IF(L615>Inputs!$D$9,0,1))","v":1},{"$f":"IF(M615=\"\",\"\",IF(M615>Inputs!$D$9,0,1))","v":1},{"$f":"IF(N615=\"\",\"\",IF(N615>Inputs!$D$9,0,1))","v":1},{"$f":"IF(O615=\"\",\"\",IF(O615>Inputs!$D$9,0,1))","v":1},{"$f":"IF(COUNT(P615:U615)=0,\"\",INDEX(Inputs!$O$21:$P$26,MATCH(COUNT(P615:U615),Inputs!$O$21:$O$26,0),2))","v":20},1,null,null,{"$f":"IF(D615=\"\",\"\",IF(D615=\"-\",\"\",IF(D615>AVERAGE($D$2:$D$1000),1,0)))","v":1},1,1,1,1,1,1]
[{"$f":"'SIP Returns'!B617","v":0},null,{"$f":"'SIP Returns'!D617","v":0},{"$f":"'SIP Returns'!E617","v":0},{"$f":"'SIP Returns'!F617","v":0},{"$f":"'SIP Returns'!G617","v":0},{"$f":"'SIP Returns'!H617","v":0},{"$f":"'SIP Returns'!I617","v":0},{"$f":"'SIP Returns'!J617","v":0},1,10,8,4,1,1,{"$f":"IF(J616=\"\",\"\",IF(J616>Inputs!$D$9,0,1))","v":1},{"$f":"IF(K616=\"\",\"\",IF(K616>Inputs!$D$9,0,1))","v":1},{"$f":"IF(L616=\"\",\"\",IF(L616>Inputs!$D$9,0,1))","v":1},{"$f":"IF(M616=\"\",\"\",IF(M616>Inputs!$D$9,0,1))","v":1},{"$f":"IF(N616=\"\",\"\",IF(N616>Inputs!$D$9,0,1))","v":1},{"$f":"IF(O616=\"\",\"\",IF(O616>Inputs!$D$9,0,1))","v":1},{"$f":"IF(COUNT(P616:U616)=0,\"\",INDEX(Inputs!$O$21:$P$26,MATCH(COUNT(P616:U616),Inputs!$O$21:$O$26,0),2))","v":20},1,null,null,{"$f":"IF(D616=\"\",\"\",IF(D616=\"-\",\"\",IF(D616>AVERAGE($D$2:$D$1000),1,0)))","v":1},1,1,1,1,1,1]
[{"$f":"'SIP Returns'!B618","v":0},null,{"$f":"'SIP Returns'!D618","v":0},{"$f":"'SIP Returns'!E618","v":0},{"$f":"'SIP Returns'!F618","v":0},{"$f":"'SIP Returns'!G618","v":0},{"$f":"'SIP Returns'!H618","v":0},{"$f":"'SIP Returns'!I618","v":0},{"$f":"'SIP Returns'!J618","v":0},1,10,8,4,1,1,{"$f":"IF(J617=\"\",\"\",IF(J617>Inputs!$D$9,0,1))","v":1},{"$f":"IF(K617=\"\",\"\",IF(K617>Inputs!$D$9,0,1))","v":1},{"$f":"IF(L617=\"\",\"\",IF(L617>Inputs!$D$9,0,1))","v":1},{"$f":"IF(M617=\"\",\"\",IF(M617>Inputs!$D$9,0,1))","v":1},{"$f":"IF(N617=\"\",\"\",IF(N617>Inputs!$D$9,0,1))","v":1},{"$f":"IF(O617=\"\",\"\",IF(O617>Inputs!$D$9,0,1))","v":1},{"$f":"IF(COUNT(P617:U617)=0,\"\",INDEX(Inputs!$O$21:$P$26,MATCH(COUNT(P617:U617),Inputs!$O$21:$O$26,0),2))","v":20},1,null,null,{"$f":"IF(D617=\"\",\"\",IF(D617=\"-\",\"\",IF(D617>AVERAGE($D$2:$D$1000),1,0)))","v":1},1,1,1,1,1,1]
[{"$f":"'SIP Returns'!B619","v":0},null,{"$f":"'SIP Returns'!D619","v":0},{"$f":"'SIP Returns'!E619","v":0},{"$f":"'SIP Returns'!F619","v":0},{"$f":"'SIP Returns'!G619","v":0},{"$f":"'SIP Returns'!H619","v":0},{"$f":"'SIP Returns'!I619","v":0},{"$f":"'SIP Returns'!J619","v":0},1,10,8,4,1,1,{"$f":"IF(J618=\"\",\"\",IF(J618>Inputs!$D$9,0,1))","v":1},{"$f":"IF(K618=\"\",\"\",IF(K618>Inputs!$D$9,0,1))","v":1},{"$f":"IF(L618=\"\",\"\",IF(L618>Inputs!$D$9,0,1))","v":1},{"$f":"IF(M618=\"\",\"\",IF(M618>Inputs!$D$9,0,1))","v":1},{"$f":"IF(N618=\"\",\"\",IF(N618>Inputs!$D$9,0,1))","v":1},{"$f":"IF(O618=\"\",\"\",IF(O618>Inputs!$D$9,0,1))","v":1},{"$f":"IF(COUNT(P618:U618)=0,\"\",INDEX(Inputs!$O$21:$P$26,MATCH(COUNT(P618:U618),Inputs!$O$21:$O$26,0),2))","v":20},1,null,null,{"$f":"IF(D618=\"\",\"\",IF(D618=\"-\",\"\",IF(D618>AVERAGE($D$2:$D$1000),1,0)))","v":1},1,1,1,1,1,1]
[{"$f":"'SIP Returns'!B620","v":0},null,{"$f":"'SIP Returns'!D620","v":0},{"$f":"'SIP Returns'!E620","v":0},{"$f":"'SIP Returns'!F620","v":0},{"$f":"'SIP Returns'!G620","v":0},{"$f":"'SIP Returns'!H620","v":0},{"$f":"'SIP Returns'!I620","v":0},{"$f":"'SIP Returns'!J620","v":0},1,10,8,4,1,1,{"$f":"IF(J619=\"\",\"\",IF(J619>Inputs!$D$9,0,1))","v":1},{"$f":"IF(K619=\"\",\"\",IF(K619>Inputs!$D$9,0,1))","v":1},{"$f":"IF(L619=\"\",\"\",IF(L619>Inputs!$D$9,0,1))","v":1},{"$f":"IF(M619=\"\",\"\",IF(M619>Inputs!$D$9,0,1))","v":1},{"$f":"IF(N619=\"\",\"\",IF(N619>Inputs!$D$9,0,1))","v":1},{"$f":"IF(O619=\"\",\"\",IF(O619>Inputs!$D$9,0,1))","v":1},{"$f":"IF(COUNT(P619:U619)=0,\"\",INDEX(Inputs!$O$21:$P$26,MATCH(COUNT(P619:U619),Inputs!$O$21:$O$26,0),2))","v":20},1,null,null,{"$f":"IF(D619=\"\",\"\",IF(D619=\"-\",\"\",IF(D619>AVERAGE($D$2:$D$1000),1,0)))","v":1},1,1,1,1,1,1]
[{"$f":"'SIP Returns'!B621","v":0},null,{"$f":"'SIP Returns'!D621","v":0},{"$f":"'SIP Returns'!E621","v":0},{"$f":"'SIP Returns'!F621","v":0},{"$f":"'SIP Returns'!G621","v":0},{"$f":"'SIP Returns'!H621","v":0},{"$f":"'SIP Returns'!I621","v":0},{"$f":"'SIP Returns'!J621","v":0},1,10,8,4,1,1,{"$f":"IF(J620=\"\",\"\",IF(J620>Inputs!$D$9,0,1))","v":1},{"$f":"IF(K620=\"\",\"\",IF(K620>Inputs!$D$9,0,1))","v":1},{"$f":"IF(L620=\"\",\"\",IF(L620>Inputs!$D$9,0,1))","v":1},{"$f":"IF(M620=\"\",\"\",IF(M620>Inputs!$D$9,0,1))","v":1},{"$f":"IF(N620=\"\",\"\",IF(N620>Inputs!$D$9,0,1))","v":1},{"$f":"IF(O620=\"\",\"\",IF(O620>Inputs!$D$9,0,1))","v":1},{"$f":"IF(COUNT(P620:U620)=0,\"\",INDEX(Inputs!$O$21:$P$26,MATCH(COUNT(P620:U620),Inputs!$O$21:$O$26,0),2))","v":20},1,null,null,{"$f":"IF(D620=\"\",\"\",IF(D620=\"-\",\"\",IF(D620>AVERAGE($D$2:$D$1000),1,0)))","v":1},1,1,1,1,1,1]
[{"$f":"'SIP Returns'!B622","v":0},null,{"$f":"'SIP Returns'!D622","v":0},{"$f":"'SIP Returns'!E622","v":0},{"$f":"'SIP Returns'!F622","v":0},{"$f":"'SIP Returns'!G622","v":0},{"$f":"'SIP Returns'!H622","v":0},{"$f":"'SIP Returns'!I622","v":0},{"$f":"'SIP Returns'!J622","v":0},1,10,8,4,1,1,{"$f":"IF(J621=\"\",\"\",IF(J621>Inputs!$D$9,0,1))","v":1},{"$f":"IF(K621=\"\",\"\",IF(K621>Inputs!$D$9,0,1))","v":1},{"$f":"IF(L621=\"\",\"\",IF(L621>Inputs!$D$9,0,1))","v":1},{"$f":"IF(M621=\"\",\"\",IF(M621>Inputs!$D$9,0,1))","v":1},{"$f":"IF(N621=\"\",\"\",IF(N621>Inputs!$D$9,0,1))","v":1},{"$f":"IF(O621=\"\",\"\",IF(O621>Inputs!$D$9,0,1))","v":1},{"$f":"IF(COUNT(P621:U621)=0,\"\",INDEX(Inputs!$O$21:$P$26,MATCH(COUNT(P621:U621),Inputs!$O$21:$O$26,0),2))","v":20},1,null,null,{"$f":"IF(D621=\"\",\"\",IF(D621=\"-\",\"\",IF(D621>AVERAGE($D$2:$D$1000),1,0)))","v":1},1,1,1,1,1,1]
[{"$f":"'SIP Returns'!B623","v":0},null,{"$f":"'SIP Returns'!D623","v":0},{"$f":"'SIP Returns'!E623","v":0},{"$f":"'SIP Returns'!F623","v":0},{"$f":"'SIP Returns'!G623","v":0},{"$f":"'SIP Returns'!H623","v":0},{"$f":"'SIP Returns'!I623","v":0},{"$f":"'SIP Returns'!J623","v":0},1,10,8,4,1,1,{"$f":"IF(J622=\"\",\"\",IF(J622>Inputs!$D$9,0,1))","v":1},{"$f":"IF(K622=\"\",\"\",IF(K622>Inputs!$D$9,0,1))","v":1},{"$f":"IF(L622=\"\",\"\",IF(L622>Inputs!$D$9,0,1))","v":1},{"$f":"IF(M622=\"\",\"\",IF(M622>Inputs!$D$9,0,1))","v":1},{"$f":"IF(N622=\"\",\"\",IF(N622>Inputs!$D$9,0,1))","v":1},{"$f":"IF(O622=\"\",\"\",IF(O622>Inputs!$D$9,0,1))","v":1},{"$f":"IF(COUNT(P622:U622)=0,\"\",INDEX(Inputs!$O$21:$P$26,MATCH(COUNT(P622:U622),Inputs!$O$21:$O$26,0),2))","v":20},1,null,null,{"$f":"IF(D622=\"\",\"\",IF(D622=\"-\",\"\",IF(D622>AVERAGE($D$2:$D$1000),1,0)))","v":1},1,1,1,1,1,1]
[{"$f":"'SIP Returns'!B624","v":0},null,{"$f":"'SIP Returns'!D624","v":0},{"$f":"'SIP Returns'!E624","v":0},{"$f":"'SIP Returns'!F624","v":0},{"$f":"'SIP Returns'!G624","v":0},{"$f":"'SIP Returns'!H624","v":0},{"$f":"'SIP Returns'!I624","v":0},{"$f":"'SIP Returns'!J624","v":0},1,10,8,4,1,1,{"$f":"IF(J623=\"\",\"\",IF(J623>Inputs!$D$9,0,1))","v":1},{"$f":"IF(K623=\"\",\"\",IF(K623>Inputs!$D$9,0,1))","v":1},{"$f":"IF(L623=\"\",\"\",IF(L623>Inputs!$D$9,0,1))","v":1},{"$f":"IF(M623=\"\",\"\",IF(M623>Inputs!$D$9,0,1))","v":1},{"$f":"IF(N623=\"\",\"\",IF(N623>Inputs!$D$9,0,1))","v":1},{"$f":"IF(O623=\"\",\"\",IF(O623>Inputs!$D$9,0,1))","v":1},{"$f":"IF(COUNT(P623:U623)=0,\"\",INDEX(Inputs!$O$21:$P$26,MATCH(COUNT(P623:U623),Inputs!$O$21:$O$26,0),2))","v":20},1,null,null,{"$f":"IF(D623=\"\",\"\",IF(D623=\"-\",\"\",IF(D623>AVERAGE($D$2:$D$1000),1,0)))","v":1},1,1,1,1,1,1]
[{"$f":"'SIP Returns'!B625","v":0},null,{"$f":"'SIP Returns'!D625","v":0},{"$f":"'SIP Returns'!E625","v":0},{"$f":"'SIP Returns'!F625","v":0},{"$f":"'SIP Returns'!G625","v":0},{"$f":"'SIP Returns'!H625","v":0},{"$f":"'SIP Returns'!I625","v":0},{"$f":"'SIP Returns'!J625","v":0},1,10,8,4,1,1,{"$f":"IF(J624=\"\",\"\",IF(J624>Inputs!$D$9,0,1))","v":1},{"$f":"IF(K624=\"\",\"\",IF(K624>Inputs!$D$9,0,1))","v":1},{"$f":"IF(L624=\"\",\"\",IF(L624>Inputs!$D$9,0,1))","v":1},{"$f":"IF(M624=\"\",\"\",IF(M624>Inputs!$D$9,0,1))","v":1},{"$f":"IF(N624=\"\",\"\",IF(N624>Inputs!$D$9,0,1))","v":1},{"$f":"IF(O624=\"\",\"\",IF(O624>Inputs!$D$9,0,1))","v":1},{"$f":"IF(COUNT(P624:U624)=0,\"\",INDEX(Inputs!$O$21:$P$26,MATCH(COUNT(P624:U624),Inputs!$O$21:$O$26,0),2))","v":20},1,null,null,{"$f":"IF(D624=\"\",\"\",IF(D624=\"-\",\"\",IF(D624>AVERAGE($D$2:$D$1000),1,0)))","v":1},1,1,1,1,1,1]
[{"$f":"'SIP Returns'!B626","v":0},null,{"$f":"'SIP Returns'!D626","v":0},{"$f":"'SIP Returns'!E626","v":0},{"$f":"'SIP Returns'!F626","v":0},{"$f":"'SIP Returns'!G626","v":0},{"$f":"'SIP Returns'!H626","v":0},{"$f":"'SIP Returns'!I626","v":0},{"$f":"'SIP Returns'!J626","v":0},1,10,8,4,1,1,{"$f":"IF(J625=\"\",\"\",IF(J625>Inputs!$D$9,0,1))","v":1},{"$f":"IF(K625=\"\",\"\",IF(K625>Inputs!$D$9,0,1))","v":1},{"$f":"IF(L625=\"\",\"\",IF(L625>Inputs!$D$9,0,1))","v":1},{"$f":"IF(M625=\"\",\"\",IF(M625>Inputs!$D$9,0,1))","v":1},{"$f":"IF(N625=\"\",\"\",IF(N625>Inputs!$D$9,0,1))","v":1},{"$f":"IF(O625=\"\",\"\",IF(O625>Inputs!$D$9,0,1))","v":1},{"$f":"IF(COUNT(P625:U625)=0,\"\",INDEX(Inputs!$O$21:$P$26,MATCH(COUNT(P625:U625),Inputs!$O$21:$O$26,0),2))","v":20},1,null,null,{"$f":"IF(D625=\"\",\"\",IF(D625=\"-\",\"\",IF(D625>AVERAGE($D$2:$D$1000),1,0)))","v":1},1,1,1,1,1,1]
[{"$f":"'SIP Returns'!B627","v":0},null,{"$f":"'SIP Returns'!D627","v":0},{"$f":"'SIP Returns'!E627","v":0},{"$f":"'SIP Returns'!F627","v":0},{"$f":"'SIP Returns'!G627","v":0},{"$f":"'SIP Returns'!H627","v":0},{"$f":"'SIP Returns'!I627","v":0},{"$f":"'SIP Returns'!J627","v":0},1,10,8,4,1,1,{"$f":"IF(J626=\"\",\"\",IF(J626>Inputs!$D$9,0,1))","v":1},{"$f":"IF(K626=\"\",\"\",IF(K626>Inputs!$D$9,0,1))","v":1},{"$f":"IF(L626=\"\",\"\",IF(L626>Inputs!$D$9,0,1))","v":1},{"$f":"IF(M626=\"\",\"\",IF(M626>Inputs!$D$9,0,1))","v":1},{"$f":"IF(N626=\"\",\"\",IF(N626>Inputs!$D$9,0,1))","v":1},{"$f":"IF(O626=\"\",\"\",IF(O626>Inputs!$D$9,0,1))","v":1},{"$f":"IF(COUNT(P626:U626)=0,\"\",INDEX(Inputs!$O$21:$P$26,MATCH(COUNT(P626:U626),Inputs!$O$21:$O$26,0),2))","v":20},1,null,null,{"$f":"IF(D626=\"\",\"\",IF(D626=\"-\",\"\",IF(D626>AVERAGE($D$2:$D$1000),1,0)))","v":1},1,1,1,1,1,1]
[{"$f":"'SIP Returns'!B628","v":0},null,{"$f":"'SIP Returns'!D628","v":0},{"$f":"'SIP Returns'!E628","v":0},{"$f":"'SIP Returns'!F628","v":0},{"$f":"'SIP Returns'!G628","v":0},{"$f":"'SIP Returns'!H628","v":0},{"$f":"'SIP Returns'!I628","v":0},{"$f":"'SIP Returns'!J628","v":0},1,10,8,4,1,1,{"$f":"IF(J627=\"\",\"\",IF(J627>Inputs!$D$9,0,1))","v":1},{"$f":"IF(K627=\"\",\"\",IF(K627>Inputs!$D$9,0,1))","v":1},{"$f":"IF(L627=\"\",\"\",IF(L627>Inputs!$D$9,0,1))","v":1},{"$f":"IF(M627=\"\",\"\",IF(M627>Inputs!$D$9,0,1))","v":1},{"$f":"IF(N627=\"\",\"\",IF(N627>Inputs!$D$9,0,1))","v":1},{"$f":"IF(O627=\"\",\"\",IF(O627>Inputs!$D$9,0,1))","v":1},{"$f":"IF(COUNT(P627:U627)=0,\"\",INDEX(Inputs!$O$21:$P$26,MATCH(COUNT(P627:U627),Inputs!$O$21:$O$26,0),2))","v":20},1,null,null,{"$f":"IF(D627=\"\",\"\",IF(D627=\"-\",\"\",IF(D627>AVERAGE($D$2:$D$1000),1,0)))","v":1},1,1,1,1,1,1]
[{"$f":"'SIP Returns'!B629","v":0},null,{"$f":"'SIP Returns'!D629","v":0},{"$f":"'SIP Returns'!E629","v":0},{"$f":"'SIP Returns'!F629","v":0},{"$f":"'SIP Returns'!G629","v":0},{"$f":"'SIP Returns'!H629","v":0},{"$f":"'SIP Returns'!I629","v":0},{"$f":"'SIP Returns'!J629","v":0},1,10,8,4,1,1,{"$f":"IF(J628=\"\",\"\",IF(J628>Inputs!$D$9,0,1))","v":1},{"$f":"IF(K628=\"\",\"\",IF(K628>Inputs!$D$9,0,1))","v":1},{"$f":"IF(L628=\"\",\"\",IF(L628>Inputs!$D$9,0,1))","v":1},{"$f":"IF(M628=\"\",\"\",IF(M628>Inputs!$D$9,0,1))","v":1},{"$f":"IF(N628=\"\",\"\",IF(N628>Inputs!$D$9,0,1))","v":1},{"$f":"IF(O628=\"\",\"\",IF(O628>Inputs!$D$9,0,1))","v":1},{"$f":"IF(COUNT(P628:U628)=0,\"\",INDEX(Inputs!$O$21:$P$26,MATCH(COUNT(P628:U628),Inputs!$O$21:$O$26,0),2))","v":20},1,null,null,{"$f":"IF(D628=\"\",\"\",IF(D628=\"-\",\"\",IF(D628>AVERAGE($D$2:$D$1000),1,0)))","v":1},1,1,1,1,1,1]
[{"$f":"'SIP Returns'!B630","v":0},null,{"$f":"'SIP Returns'!D630","v":0},{"$f":"'SIP Returns'!E630","v":0},{"$f":"'SIP Returns'!F630","v":0},{"$f":"'SIP Returns'!G630","v":0},{"$f":"'SIP Returns'!H630","v":0},{"$f":"'SIP Returns'!I630","v":0},{"$f":"'SIP Returns'!J630","v":0},1,10,8,4,1,1,{"$f":"IF(J629=\"\",\"\",IF(J629>Inputs!$D$9,0,1))","v":1},{"$f":"IF(K629=\"\",\"\",IF(K629>Inputs!$D$9,0,1))","v":1},{"$f":"IF(L629=\"\",\"\",IF(L629>Inputs!$D$9,0,1))","v":1},{"$f":"IF(M629=\"\",\"\",IF(M629>Inputs!$D$9,0,1))","v":1},{"$f":"IF(N629=\"\",\"\",IF(N629>Inputs!$D$9,0,1))","v":1},{"$f":"IF(O629=\"\",\"\",IF(O629>Inputs!$D$9,0,1))","v":1},{"$f":"IF(COUNT(P629:U629)=0,\"\",INDEX(Inputs!$O$21:$P$26,MATCH(COUNT(P629:U629),Inputs!$O$21:$O$26,0),2))","v":20},1,null,null,{"$f":"IF(D629=\"\",\"\",IF(D629=\"-\",\"\",IF(D629>AVERAGE($D$2:$D$1000),1,0)))","v":1},1,1,1,1,1,1]
[{"$f":"'SIP Returns'!B631","v":0},null,{"$f":"'SIP Returns'!D631","v":0},{"$f":"'SIP Returns'!E631","v":0},{"$f":"'SIP Returns'!F631","v":0},{"$f":"'SIP Returns'!G631","v":0},{"$f":"'SIP Returns'!H631","v":0},{"$f":"'SIP Returns'!I631","v":0},{"$f":"'SIP Returns'!J631","v":0},1,10,8,4,1,1,{"$f":"IF(J630=\"\",\"\",IF(J630>Inputs!$D$9,0,1))","v":1},{"$f":"IF(K630=\"\",\"\",IF(K630>Inputs!$D$9,0,1))","v":1},{"$f":"IF(L630=\"\",\"\",IF(L630>Inputs!$D$9,0,1))","v":1},{"$f":"IF(M630=\"\",\"\",IF(M630>Inputs!$D$9,0,1))","v":1},{"$f":"IF(N630=\"\",\"\",IF(N630>Inputs!$D$9,0,1))","v":1},{"$f":"IF(O630=\"\",\"\",IF(O630>Inputs!$D$9,0,1))","v":1},{"$f":"IF(COUNT(P630:U630)=0,\"\",INDEX(Inputs!$O$21:$P$26,MATCH(COUNT(P630:U630),Inputs!$O$21:$O$26,0),2))","v":20},1,null,null,{"$f":"IF(D630=\"\",\"\",IF(D630=\"-\",\"\",IF(D630>AVERAGE($D$2:$D$1000),1,0)))","v":1},1,1,1,1,1,1]
[{"$f":"'SIP Returns'!B632","v":0},null,{"$f":"'SIP Returns'!D632","v":0},{"$f":"'SIP Returns'!E632","v":0},{"$f":"'SIP Returns'!F632","v":0},{"$f":"'SIP Returns'!G632","v":0},{"$f":"'SIP Returns'!H632","v":0},{"$f":"'SIP Returns'!I632","v":0},{"$f":"'SIP Returns'!J632","v":0},1,10,8,4,1,1,{"$f":"IF(J631=\"\",\"\",IF(J631>Inputs!$D$9,0,1))","v":1},{"$f":"IF(K631=\"\",\"\",IF(K631>Inputs!$D$9,0,1))","v":1},{"$f":"IF(L631=\"\",\"\",IF(L631>Inputs!$D$9,0,1))","v":1},{"$f":"IF(M631=\"\",\"\",IF(M631>Inputs!$D$9,0,1))","v":1},{"$f":"IF(N631=\"\",\"\",IF(N631>Inputs!$D$9,0,1))","v":1},{"$f":"IF(O631=\"\",\"\",IF(O631>Inputs!$D$9,0,1))","v":1},{"$f":"IF(COUNT(P631:U631)=0,\"\",INDEX(Inputs!$O$21:$P$26,MATCH(COUNT(P631:U631),Inputs!$O$21:$O$26,0),2))","v":20},1,null,null,{"$f":"IF(D631=\"\",\"\",IF(D631=\"-\",\"\",IF(D631>AVERAGE($D$2:$D$1000),1,0)))","v":1},1,1,1,1,1,1]
[{"$f":"'SIP Returns'!B633","v":0},null,{"$f":"'SIP Returns'!D633","v":0},{"$f":"'SIP Returns'!E633","v":0},{"$f":"'SIP Returns'!F633","v":0},{"$f":"'SIP Returns'!G633","v":0},{"$f":"'SIP Returns'!H633","v":0},{"$f":"'SIP Returns'!I633","v":0},{"$f":"'SIP Returns'!J633","v":0},1,10,8,4,1,1,{"$f":"IF(J632=\"\",\"\",IF(J632>Inputs!$D$9,0,1))","v":1},{"$f":"IF(K632=\"\",\"\",IF(K632>Inputs!$D$9,0,1))","v":1},{"$f":"IF(L632=\"\",\"\",IF(L632>Inputs!$D$9,0,1))","v":1},{"$f":"IF(M632=\"\",\"\",IF(M632>Inputs!$D$9,0,1))","v":1},{"$f":"IF(N632=\"\",\"\",IF(N632>Inputs!$D$9,0,1))","v":1},{"$f":"IF(O632=\"\",\"\",IF(O632>Inputs!$D$9,0,1))","v":1},{"$f":"IF(COUNT(P632:U632)=0,\"\",INDEX(Inputs!$O$21:$P$26,MATCH(COUNT(P632:U632),Inputs!$O$21:$O$26,0),2))","v":20},1,null,null,{"$f":"IF(D632=\"\",\"\",IF(D632=\"-\",\"\",IF(D632>AVERAGE($D$2:$D$1000),1,0)))","v":1},1,1,1,1,1,1]
[{"$f":"'SIP Returns'!B634","v":0},null,{"$f":"'SIP Returns'!D634","v":0},{"$f":"'SIP Returns'!E634","v":0},{"$f":"'SIP Returns'!F634","v":0},{"$f":"'SIP Returns'!G634","v":0},{"$f":"'SIP Returns'!H634","v":0},{"$f":"'SIP Returns'!I634","v":0},{"$f":"'SIP Returns'!J634","v":0},1,10,8,4,1,1,{"$f":"IF(J633=\"\",\"\",IF(J633>Inputs!$D$9,0,1))","v":1},{"$f":"IF(K633=\"\",\"\",IF(K633>Inputs!$D$9,0,1))","v":1},{"$f":"IF(L633=\"\",\"\",IF(L633>Inputs!$D$9,0,1))","v":1},{"$f":"IF(M633=\"\",\"\",IF(M633>Inputs!$D$9,0,1))","v":1},{"$f":"IF(N633=\"\",\"\",IF(N633>Inputs!$D$9,0,1))","v":1},{"$f":"IF(O633=\"\",\"\",IF(O633>Inputs!$D$9,0,1))","v":1},{"$f":"IF(COUNT(P633:U633)=0,\"\",INDEX(Inputs!$O$21:$P$26,MATCH(COUNT(P633:U633),Inputs!$O$21:$O$26,0),2))","v":20},1,null,null,{"$f":"IF(D633=\"\",\"\",IF(D633=\"-\",\"\",IF(D633>AVERAGE($D$2:$D$1000),1,0)))","v":1},1,1,1,1,1,1]
[{"$f":"'SIP Returns'!B635","v":0},null,{"$f":"'SIP Returns'!D635","v":0},{"$f":"'SIP Returns'!E635","v":0},{"$f":"'SIP Returns'!F635","v":0},{"$f":"'SIP Returns'!G635","v":0},{"$f":"'SIP Returns'!H635","v":0},{"$f":"'SIP Returns'!I635","v":0},{"$f":"'SIP Returns'!J635","v":0},1,10,8,4,1,1,{"$f":"IF(J634=\"\",\"\",IF(J634>Inputs!$D$9,0,1))","v":1},{"$f":"IF(K634=\"\",\"\",IF(K634>Inputs!$D$9,0,1))","v":1},{"$f":"IF(L634=\"\",\"\",IF(L634>Inputs!$D$9,0,1))","v":1},{"$f":"IF(M634=\"\",\"\",IF(M634>Inputs!$D$9,0,1))","v":1},{"$f":"IF(N634=\"\",\"\",IF(N634>Inputs!$D$9,0,1))","v":1},{"$f":"IF(O634=\"\",\"\",IF(O634>Inputs!$D$9,0,1))","v":1},{"$f":"IF(COUNT(P634:U634)=0,\"\",INDEX(Inputs!$O$21:$P$26,MATCH(COUNT(P634:U634),Inputs!$O$21:$O$26,0),2))","v":20},1,null,null,{"$f":"IF(D634=\"\",\"\",IF(D634=\"-\",\"\",IF(D634>AVERAGE($D$2:$D$1000),1,0)))","v":1},1,1,1,1,1,1]
[{"$f":"'SIP Returns'!B636","v":0},null,{"$f":"'SIP Returns'!D636","v":0},{"$f":"'SIP Returns'!E636","v":0},{"$f":"'SIP Returns'!F636","v":0},{"$f":"'SIP Returns'!G636","v":0},{"$f":"'SIP Returns'!H636","v":0},{"$f":"'SIP Returns'!I636","v":0},{"$f":"'SIP Returns'!J636","v":0},1,10,8,4,1,1,{"$f":"IF(J635=\"\",\"\",IF(J635>Inputs!$D$9,0,1))","v":1},{"$f":"IF(K635=\"\",\"\",IF(K635>Inputs!$D$9,0,1))","v":1},{"$f":"IF(L635=\"\",\"\",IF(L635>Inputs!$D$9,0,1))","v":1},{"$f":"IF(M635=\"\",\"\",IF(M635>Inputs!$D$9,0,1))","v":1},{"$f":"IF(N635=\"\",\"\",IF(N635>Inputs!$D$9,0,1))","v":1},{"$f":"IF(O635=\"\",\"\",IF(O635>Inputs!$D$9,0,1))","v":1},{"$f":"IF(COUNT(P635:U635)=0,\"\",INDEX(Inputs!$O$21:$P$26,MATCH(COUNT(P635:U635),Inputs!$O$21:$O$26,0),2))","v":20},1,null,null,{"$f":"IF(D635=\"\",\"\",IF(D635=\"-\",\"\",IF(D635>AVERAGE($D$2:$D$1000),1,0)))","v":1},1,1,1,1,1,1]
[{"$f":"'SIP Returns'!B637","v":0},null,{"$f":"'SIP Returns'!D637","v":0},{"$f":"'SIP Returns'!E637","v":0},{"$f":"'SIP Returns'!F637","v":0},{"$f":"'SIP Returns'!G637","v":0},{"$f":"'SIP Returns'!H637","v":0},{"$f":"'SIP Returns'!I637","v":0},{"$f":"'SIP Returns'!J637","v":0},1,10,8,4,1,1,{"$f":"IF(J636=\"\",\"\",IF(J636>Inputs!$D$9,0,1))","v":1},{"$f":"IF(K636=\"\",\"\",IF(K636>Inputs!$D$9,0,1))","v":1},{"$f":"IF(L636=\"\",\"\",IF(L636>Inputs!$D$9,0,1))","v":1},{"$f":"IF(M636=\"\",\"\",IF(M636>Inputs!$D$9,0,1))","v":1},{"$f":"IF(N636=\"\",\"\",IF(N636>Inputs!$D$9,0,1))","v":1},{"$f":"IF(O636=\"\",\"\",IF(O636>Inputs!$D$9,0,1))","v":1},{"$f":"IF(COUNT(P636:U636)=0,\"\",INDEX(Inputs!$O$21:$P$26,MATCH(COUNT(P636:U636),Inputs!$O$21:$O$26,0),2))","v":20},1,null,null,{"$f":"IF(D636=\"\",\"\",IF(D636=\"-\",\"\",IF(D636>AVERAGE($D$2:$D$1000),1,0)))","v":1},1,1,1,1,1,1]
[{"$f":"'SIP Returns'!B638","v":0},null,{"$f":"'SIP Returns'!D638","v":0},{"$f":"'SIP Returns'!E638","v":0},{"$f":"'SIP Returns'!F638","v":0},{"$f":"'SIP Returns'!G638","v":0},{"$f":"'SIP Returns'!H638","v":0},{"$f":"'SIP Returns'!I638","v":0},{"$f":"'SIP Returns'!J638","v":0},1,10,8,4,1,1,{"$f":"IF(J637=\"\",\"\",IF(J637>Inputs!$D$9,0,1))","v":1},{"$f":"IF(K637=\"\",\"\",IF(K637>Inputs!$D$9,0,1))","v":1},{"$f":"IF(L637=\"\",\"\",IF(L637>Inputs!$D$9,0,1))","v":1},{"$f":"IF(M637=\"\",\"\",IF(M637>Inputs!$D$9,0,1))","v":1},{"$f":"IF(N637=\"\",\"\",IF(N637>Inputs!$D$9,0,1))","v":1},{"$f":"IF(O637=\"\",\"\",IF(O637>Inputs!$D$9,0,1))","v":1},{"$f":"IF(COUNT(P637:U637)=0,\"\",INDEX(Inputs!$O$21:$P$26,MATCH(COUNT(P637:U637),Inputs!$O$21:$O$26,0),2))","v":20},1,null,null,{"$f":"IF(D637=\"\",\"\",IF(D637=\"-\",\"\",IF(D637>AVERAGE($D$2:$D$1000),1,0)))","v":1},1,1,1,1,1,1]
[{"$f":"'SIP Returns'!B639","v":0},null,{"$f":"'SIP Returns'!D639","v":0},{"$f":"'SIP Returns'!E639","v":0},{"$f":"'SIP Returns'!F639","v":0},{"$f":"'SIP Returns'!G639","v":0},{"$f":"'SIP Returns'!H639","v":0},{"$f":"'SIP Returns'!I639","v":0},{"$f":"'SIP Returns'!J639","v":0},1,10,8,4,1,1,{"$f":"IF(J638=\"\",\"\",IF(J638>Inputs!$D$9,0,1))","v":1},{"$f":"IF(K638=\"\",\"\",IF(K638>Inputs!$D$9,0,1))","v":1},{"$f":"IF(L638=\"\",\"\",IF(L638>Inputs!$D$9,0,1))","v":1},{"$f":"IF(M638=\"\",\"\",IF(M638>Inputs!$D$9,0,1))","v":1},{"$f":"IF(N638=\"\",\"\",IF(N638>Inputs!$D$9,0,1))","v":1},{"$f":"IF(O638=\"\",\"\",IF(O638>Inputs!$D$9,0,1))","v":1},{"$f":"IF(COUNT(P638:U638)=0,\"\",INDEX(Inputs!$O$21:$P$26,MATCH(COUNT(P638:U638),Inputs!$O$21:$O$26,0),2))","v":20},1,null,null,{"$f":"IF(D638=\"\",\"\",IF(D638=\"-\",\"\",IF(D638>AVERAGE($D$2:$D$1000),1,0)))","v":1},1,1,1,1,1,1]
[{"$f":"'SIP Returns'!B640","v":0},null,{"$f":"'SIP Returns'!D640","v":0},{"$f":"'SIP Returns'!E640","v":0},{"$f":"'SIP Returns'!F640","v":0},{"$f":"'SIP Returns'!G640","v":0},{"$f":"'SIP Returns'!H640","v":0},{"$f":"'SIP Returns'!I640","v":0},{"$f":"'SIP Returns'!J640","v":0},1,10,8,4,1,1,{"$f":"IF(J639=\"\",\"\",IF(J639>Inputs!$D$9,0,1))","v":1},{"$f":"IF(K639=\"\",\"\",IF(K639>Inputs!$D$9,0,1))","v":1},{"$f":"IF(L639=\"\",\"\",IF(L639>Inputs!$D$9,0,1))","v":1},{"$f":"IF(M639=\"\",\"\",IF(M639>Inputs!$D$9,0,1))","v":1},{"$f":"IF(N639=\"\",\"\",IF(N639>Inputs!$D$9,0,1))","v":1},{"$f":"IF(O639=\"\",\"\",IF(O639>Inputs!$D$9,0,1))","v":1},{"$f":"IF(COUNT(P639:U639)=0,\"\",INDEX(Inputs!$O$21:$P$26,MATCH(COUNT(P639:U639),Inputs!$O$21:$O$26,0),2))","v":20},1,null,null,{"$f":"IF(D639=\"\",\"\",IF(D639=\"-\",\"\",IF(D639>AVERAGE($D$2:$D$1000),1,0)))","v":1},1,1,1,1,1,1]
[{"$f":"'SIP Returns'!B641","v":0},null,{"$f":"'SIP Returns'!D641","v":0},{"$f":"'SIP Returns'!E641","v":0},{"$f":"'SIP Returns'!F641","v":0},{"$f":"'SIP Returns'!G641","v":0},{"$f":"'SIP Returns'!H641","v":0},{"$f":"'SIP Returns'!I641","v":0},{"$f":"'SIP Returns'!J641","v":0},1,10,8,4,1,1,{"$f":"IF(J640=\"\",\"\",IF(J640>Inputs!$D$9,0,1))","v":1},{"$f":"IF(K640=\"\",\"\",IF(K640>Inputs!$D$9,0,1))","v":1},{"$f":"IF(L640=\"\",\"\",IF(L640>Inputs!$D$9,0,1))","v":1},{"$f":"IF(M640=\"\",\"\",IF(M640>Inputs!$D$9,0,1))","v":1},{"$f":"IF(N640=\"\",\"\",IF(N640>Inputs!$D$9,0,1))","v":1},{"$f":"IF(O640=\"\",\"\",IF(O640>Inputs!$D$9,0,1))","v":1},{"$f":"IF(COUNT(P640:U640)=0,\"\",INDEX(Inputs!$O$21:$P$26,MATCH(COUNT(P640:U640),Inputs!$O$21:$O$26,0),2))","v":20},1,null,null,{"$f":"IF(D640=\"\",\"\",IF(D640=\"-\",\"\",IF(D640>AVERAGE($D$2:$D$1000),1,0)))","v":1},1,1,1,1,1,1]
[{"$f":"'SIP Returns'!B642","v":0},null,{"$f":"'SIP Returns'!D642","v":0},{"$f":"'SIP Returns'!E642","v":0},{"$f":"'SIP Returns'!F642","v":0},{"$f":"'SIP Returns'!G642","v":0},{"$f":"'SIP Returns'!H642","v":0},{"$f":"'SIP Returns'!I642","v":0},{"$f":"'SIP Returns'!J642","v":0},1,10,8,4,1,1,{"$f":"IF(J641=\"\",\"\",IF(J641>Inputs!$D$9,0,1))","v":1},{"$f":"IF(K641=\"\",\"\",IF(K641>Inputs!$D$9,0,1))","v":1},{"$f":"IF(L641=\"\",\"\",IF(L641>Inputs!$D$9,0,1))","v":1},{"$f":"IF(M641=\"\",\"\",IF(M641>Inputs!$D$9,0,1))","v":1},{"$f":"IF(N641=\"\",\"\",IF(N641>Inputs!$D$9,0,1))","v":1},{"$f":"IF(O641=\"\",\"\",IF(O641>Inputs!$D$9,0,1))","v":1},{"$f":"IF(COUNT(P641:U641)=0,\"\",INDEX(Inputs!$O$21:$P$26,MATCH(COUNT(P641:U641),Inputs!$O$21:$O$26,0),2))","v":20},1,null,null,{"$f":"IF(D641=\"\",\"\",IF(D641=\"-\",\"\",IF(D641>AVERAGE($D$2:$D$1000),1,0)))","v":1},1,1,1,1,1,1]
[{"$f":"'SIP Returns'!B643","v":0},null,{"$f":"'SIP Returns'!D643","v":0},{"$f":"'SIP Returns'!E643","v":0},{"$f":"'SIP Returns'!F643","v":0},{"$f":"'SIP Returns'!G643","v":0},{"$f":"'SIP Returns'!H643","v":0},{"$f":"'SIP Returns'!I643","v":0},{"$f":"'SIP Returns'!J643","v":0},{"$f":"IF($A642=\"\",\"\",IF(ISERROR(RANK(D642,$D$2:$D$1000,0)),\"\",RANK(D642,$D$2:$D$1000,0)))","v":1},{"$f":"IF($A642=\"\",\"\",IF(ISERROR(RANK(E642,$E$2:$E$1000,0)),\"\",RANK(E642,$E$2:$E$1000,0)))","v":10},{"$f":"IF($A642=\"\",\"\",IF(ISERROR(RANK(F642,$F$2:$F$1000,0)),\"\",RANK(F642,$F$2:$F$1000,0)))","v":8},{"$f":"IF($A642=\"\",\"\",IF(ISERROR(RANK(G642,$G$2:$G$1000,0)),\"\",RANK(G642,$G$2:$G$1000,0)))","v":4},{"$f":"IF($A642=\"\",\"\",IF(ISERROR(RANK(H642,$H$2:$H$1000,0)),\"\",RANK(H642,$H$2:$H$1000,0)))","v":1},{"$f":"IF($A642=\"\",\"\",IF(ISERROR(RANK(I642,$I$2:$I$1000,0)),\"\",RANK(I642,$I$2:$I$1000,0)))","v":1},{"$f":"IF(J642=\"\",\"\",IF(J642>Inputs!$D$9,0,1))","v":1},{"$f":"IF(K642=\"\",\"\",IF(K642>Inputs!$D$9,0,1))","v":1},{"$f":"IF(L642=\"\",\"\",IF(L642>Inputs!$D$9,0,1))","v":1},{"$f":"IF(M642=\"\",\"\",IF(M642>Inputs!$D$9,0,1))","v":1},{"$f":"IF(N642=\"\",\"\",IF(N642>Inputs!$D$9,0,1))","v":1},{"$f":"IF(O642=\"\",\"\",IF(O642>Inputs!$D$9,0,1))","v":1},{"$f":"IF(COUNT(P642:U642)=0,\"\",INDEX(Inputs!$O$21:$P$26,MATCH(COUNT(P642:U642),Inputs!$O$21:$O$26,0),2))","v":20},1,null,null,{"$f":"IF(D642=\"\",\"\",IF(D642=\"-\",\"\",IF(D642>AVERAGE($D$2:$D$1000),1,0)))","v":1},1,1,1,1,1,{"$f":"IF(COUNT(Z642:AE642)=0,\"\",SUM(Z642:AE642)/COUNT(Z642:AE642))","v":1}]
[{"$f":"'SIP Returns'!B644","v":0},null,{"$f":"'SIP Returns'!D644","v":0},{"$f":"'SIP Returns'!E644","v":0},{"$f":"'SIP Returns'!F644","v":0},{"$f":"'SIP Returns'!G644","v":0},{"$f":"'SIP Returns'!H644","v":0},{"$f":"'SIP Returns'!I644","v":0},{"$f":"'SIP Returns'!J644","v":0},1,10,8,4,1,1,{"$f":"IF(J643=\"\",\"\",IF(J643>Inputs!$D$9,0,1))","v":1},{"$f":"IF(K643=\"\",\"\",IF(K643>Inputs!$D$9,0,1))","v":1},{"$f":"IF(L643=\"\",\"\",IF(L643>Inputs!$D$9,0,1))","v":1},{"$f":"IF(M643=\"\",\"\",IF(M643>Inputs!$D$9,0,1))","v":1},{"$f":"IF(N643=\"\",\"\",IF(N643>Inputs!$D$9,0,1))","v":1},{"$f":"IF(O643=\"\",\"\",IF(O643>Inputs!$D$9,0,1))","v":1},{"$f":"IF(COUNT(P643:U643)=0,\"\",INDEX(Inputs!$O$21:$P$26,MATCH(COUNT(P643:U643),Inputs!$O$21:$O$26,0),2))","v":20},{"$f":"IF(COUNT(P643:U643)=0,\"\",SUM(P643:U643)/COUNT(P643:U643))","v":1},null,null,{"$f":"IF(D643=\"\",\"\",IF(D643=\"-\",\"\",IF(D643>AVERAGE($D$2:$D$1000),1,0)))","v":1},1,1,1,1,1,1]
[{"$f":"'SIP Returns'!B645","v":0},null,{"$f":"'SIP Returns'!D645","v":0},{"$f":"'SIP Returns'!E645","v":0},{"$f":"'SIP Returns'!F645","v":0},{"$f":"'SIP Returns'!G645","v":0},{"$f":"'SIP Returns'!H645","v":0},{"$f":"'SIP Returns'!I645","v":0},{"$f":"'SIP Returns'!J645","v":0},1,10,8,4,1,1,{"$f":"IF(J644=\"\",\"\",IF(J644>Inputs!$D$9,0,1))","v":1},{"$f":"IF(K644=\"\",\"\",IF(K644>Inputs!$D$9,0,1))","v":1},{"$f":"IF(L644=\"\",\"\",IF(L644>Inputs!$D$9,0,1))","v":1},{"$f":"IF(M644=\"\",\"\",IF(M644>Inputs!$D$9,0,1))","v":1},{"$f":"IF(N644=\"\",\"\",IF(N644>Inputs!$D$9,0,1))","v":1},{"$f":"IF(O644=\"\",\"\",IF(O644>Inputs!$D$9,0,1))","v":1},{"$f":"IF(COUNT(P644:U644)=0,\"\",INDEX(Inputs!$O$21:$P$26,MATCH(COUNT(P644:U644),Inputs!$O$21:$O$26,0),2))","v":20},1,null,null,{"$f":"IF(D644=\"\",\"\",IF(D644=\"-\",\"\",IF(D644>AVERAGE($D$2:$D$1000),1,0)))","v":1},1,1,1,1,1,1]
[{"$f":"'SIP Returns'!B646","v":0},null,{"$f":"'SIP Returns'!D646","v":0},{"$f":"'SIP Returns'!E646","v":0},{"$f":"'SIP Returns'!F646","v":0},{"$f":"'SIP Returns'!G646","v":0},{"$f":"'SIP Returns'!H646","v":0},{"$f":"'SIP Returns'!I646","v":0},{"$f":"'SIP Returns'!J646","v":0},1,10,8,4,1,1,{"$f":"IF(J645=\"\",\"\",IF(J645>Inputs!$D$9,0,1))","v":1},{"$f":"IF(K645=\"\",\"\",IF(K645>Inputs!$D$9,0,1))","v":1},{"$f":"IF(L645=\"\",\"\",IF(L645>Inputs!$D$9,0,1))","v":1},{"$f":"IF(M645=\"\",\"\",IF(M645>Inputs!$D$9,0,1))","v":1},{"$f":"IF(N645=\"\",\"\",IF(N645>Inputs!$D$9,0,1))","v":1},{"$f":"IF(O645=\"\",\"\",IF(O645>Inputs!$D$9,0,1))","v":1},{"$f":"IF(COUNT(P645:U645)=0,\"\",INDEX(Inputs!$O$21:$P$26,MATCH(COUNT(P645:U645),Inputs!$O$21:$O$26,0),2))","v":20},1,null,null,{"$f":"IF(D645=\"\",\"\",IF(D645=\"-\",\"\",IF(D645>AVERAGE($D$2:$D$1000),1,0)))","v":1},1,1,1,1,1,1]
[{"$f":"'SIP Returns'!B647","v":0},null,{"$f":"'SIP Returns'!D647","v":0},{"$f":"'SIP Returns'!E647","v":0},{"$f":"'SIP Returns'!F647","v":0},{"$f":"'SIP Returns'!G647","v":0},{"$f":"'SIP Returns'!H647","v":0},{"$f":"'SIP Returns'!I647","v":0},{"$f":"'SIP Returns'!J647","v":0},1,10,8,4,1,1,{"$f":"IF(J646=\"\",\"\",IF(J646>Inputs!$D$9,0,1))","v":1},{"$f":"IF(K646=\"\",\"\",IF(K646>Inputs!$D$9,0,1))","v":1},{"$f":"IF(L646=\"\",\"\",IF(L646>Inputs!$D$9,0,1))","v":1},{"$f":"IF(M646=\"\",\"\",IF(M646>Inputs!$D$9,0,1))","v":1},{"$f":"IF(N646=\"\",\"\",IF(N646>Inputs!$D$9,0,1))","v":1},{"$f":"IF(O646=\"\",\"\",IF(O646>Inputs!$D$9,0,1))","v":1},{"$f":"IF(COUNT(P646:U646)=0,\"\",INDEX(Inputs!$O$21:$P$26,MATCH(COUNT(P646:U646),Inputs!$O$21:$O$26,0),2))","v":20},1,null,null,{"$f":"IF(D646=\"\",\"\",IF(D646=\"-\",\"\",IF(D646>AVERAGE($D$2:$D$1000),1,0)))","v":1},1,1,1,1,1,1]
[{"$f":"'SIP Returns'!B648","v":0},null,{"$f":"'SIP Returns'!D648","v":0},{"$f":"'SIP Returns'!E648","v":0},{"$f":"'SIP Returns'!F648","v":0},{"$f":"'SIP Returns'!G648","v":0},{"$f":"'SIP Returns'!H648","v":0},{"$f":"'SIP Returns'!I648","v":0},{"$f":"'SIP Returns'!J648","v":0},1,10,8,4,1,1,{"$f":"IF(J647=\"\",\"\",IF(J647>Inputs!$D$9,0,1))","v":1},{"$f":"IF(K647=\"\",\"\",IF(K647>Inputs!$D$9,0,1))","v":1},{"$f":"IF(L647=\"\",\"\",IF(L647>Inputs!$D$9,0,1))","v":1},{"$f":"IF(M647=\"\",\"\",IF(M647>Inputs!$D$9,0,1))","v":1},{"$f":"IF(N647=\"\",\"\",IF(N647>Inputs!$D$9,0,1))","v":1},{"$f":"IF(O647=\"\",\"\",IF(O647>Inputs!$D$9,0,1))","v":1},{"$f":"IF(COUNT(P647:U647)=0,\"\",INDEX(Inputs!$O$21:$P$26,MATCH(COUNT(P647:U647),Inputs!$O$21:$O$26,0),2))","v":20},1,null,null,{"$f":"IF(D647=\"\",\"\",IF(D647=\"-\",\"\",IF(D647>AVERAGE($D$2:$D$1000),1,0)))","v":1},1,1,1,1,1,1]
[{"$f":"'SIP Returns'!B649","v":0},null,{"$f":"'SIP Returns'!D649","v":0},{"$f":"'SIP Returns'!E649","v":0},{"$f":"'SIP Returns'!F649","v":0},{"$f":"'SIP Returns'!G649","v":0},{"$f":"'SIP Returns'!H649","v":0},{"$f":"'SIP Returns'!I649","v":0},{"$f":"'SIP Returns'!J649","v":0},1,10,8,4,1,1,{"$f":"IF(J648=\"\",\"\",IF(J648>Inputs!$D$9,0,1))","v":1},{"$f":"IF(K648=\"\",\"\",IF(K648>Inputs!$D$9,0,1))","v":1},{"$f":"IF(L648=\"\",\"\",IF(L648>Inputs!$D$9,0,1))","v":1},{"$f":"IF(M648=\"\",\"\",IF(M648>Inputs!$D$9,0,1))","v":1},{"$f":"IF(N648=\"\",\"\",IF(N648>Inputs!$D$9,0,1))","v":1},{"$f":"IF(O648=\"\",\"\",IF(O648>Inputs!$D$9,0,1))","v":1},{"$f":"IF(COUNT(P648:U648)=0,\"\",INDEX(Inputs!$O$21:$P$26,MATCH(COUNT(P648:U648),Inputs!$O$21:$O$26,0),2))","v":20},1,null,null,{"$f":"IF(D648=\"\",\"\",IF(D648=\"-\",\"\",IF(D648>AVERAGE($D$2:$D$1000),1,0)))","v":1},1,1,1,1,1,1]
[{"$f":"'SIP Returns'!B650","v":0},null,{"$f":"'SIP Returns'!D650","v":0},{"$f":"'SIP Returns'!E650","v":0},{"$f":"'SIP Returns'!F650","v":0},{"$f":"'SIP Returns'!G650","v":0},{"$f":"'SIP Returns'!H650","v":0},{"$f":"'SIP Returns'!I650","v":0},{"$f":"'SIP Returns'!J650","v":0},1,10,8,4,1,1,{"$f":"IF(J649=\"\",\"\",IF(J649>Inputs!$D$9,0,1))","v":1},{"$f":"IF(K649=\"\",\"\",IF(K649>Inputs!$D$9,0,1))","v":1},{"$f":"IF(L649=\"\",\"\",IF(L649>Inputs!$D$9,0,1))","v":1},{"$f":"IF(M649=\"\",\"\",IF(M649>Inputs!$D$9,0,1))","v":1},{"$f":"IF(N649=\"\",\"\",IF(N649>Inputs!$D$9,0,1))","v":1},{"$f":"IF(O649=\"\",\"\",IF(O649>Inputs!$D$9,0,1))","v":1},{"$f":"IF(COUNT(P649:U649)=0,\"\",INDEX(Inputs!$O$21:$P$26,MATCH(COUNT(P649:U649),Inputs!$O$21:$O$26,0),2))","v":20},1,null,null,{"$f":"IF(D649=\"\",\"\",IF(D649=\"-\",\"\",IF(D649>AVERAGE($D$2:$D$1000),1,0)))","v":1},1,1,1,1,1,1]
[{"$f":"'SIP Returns'!B651","v":0},null,{"$f":"'SIP Returns'!D651","v":0},{"$f":"'SIP Returns'!E651","v":0},{"$f":"'SIP Returns'!F651","v":0},{"$f":"'SIP Returns'!G651","v":0},{"$f":"'SIP Returns'!H651","v":0},{"$f":"'SIP Returns'!I651","v":0},{"$f":"'SIP Returns'!J651","v":0},1,10,8,4,1,1,{"$f":"IF(J650=\"\",\"\",IF(J650>Inputs!$D$9,0,1))","v":1},{"$f":"IF(K650=\"\",\"\",IF(K650>Inputs!$D$9,0,1))","v":1},{"$f":"IF(L650=\"\",\"\",IF(L650>Inputs!$D$9,0,1))","v":1},{"$f":"IF(M650=\"\",\"\",IF(M650>Inputs!$D$9,0,1))","v":1},{"$f":"IF(N650=\"\",\"\",IF(N650>Inputs!$D$9,0,1))","v":1},{"$f":"IF(O650=\"\",\"\",IF(O650>Inputs!$D$9,0,1))","v":1},{"$f":"IF(COUNT(P650:U650)=0,\"\",INDEX(Inputs!$O$21:$P$26,MATCH(COUNT(P650:U650),Inputs!$O$21:$O$26,0),2))","v":20},1,null,null,{"$f":"IF(D650=\"\",\"\",IF(D650=\"-\",\"\",IF(D650>AVERAGE($D$2:$D$1000),1,0)))","v":1},1,1,1,1,1,1]
[{"$f":"'SIP Returns'!B652","v":0},null,{"$f":"'SIP Returns'!D652","v":0},{"$f":"'SIP Returns'!E652","v":0},{"$f":"'SIP Returns'!F652","v":0},{"$f":"'SIP Returns'!G652","v":0},{"$f":"'SIP Returns'!H652","v":0},{"$f":"'SIP Returns'!I652","v":0},{"$f":"'SIP Returns'!J652","v":0},1,10,8,4,1,1,{"$f":"IF(J651=\"\",\"\",IF(J651>Inputs!$D$9,0,1))","v":1},{"$f":"IF(K651=\"\",\"\",IF(K651>Inputs!$D$9,0,1))","v":1},{"$f":"IF(L651=\"\",\"\",IF(L651>Inputs!$D$9,0,1))","v":1},{"$f":"IF(M651=\"\",\"\",IF(M651>Inputs!$D$9,0,1))","v":1},{"$f":"IF(N651=\"\",\"\",IF(N651>Inputs!$D$9,0,1))","v":1},{"$f":"IF(O651=\"\",\"\",IF(O651>Inputs!$D$9,0,1))","v":1},{"$f":"IF(COUNT(P651:U651)=0,\"\",INDEX(Inputs!$O$21:$P$26,MATCH(COUNT(P651:U651),Inputs!$O$21:$O$26,0),2))","v":20},1,null,null,{"$f":"IF(D651=\"\",\"\",IF(D651=\"-\",\"\",IF(D651>AVERAGE($D$2:$D$1000),1,0)))","v":1},1,1,1,1,1,1]
[{"$f":"'SIP Returns'!B653","v":0},null,{"$f":"'SIP Returns'!D653","v":0},{"$f":"'SIP Returns'!E653","v":0},{"$f":"'SIP Returns'!F653","v":0},{"$f":"'SIP Returns'!G653","v":0},{"$f":"'SIP Returns'!H653","v":0},{"$f":"'SIP Returns'!I653","v":0},{"$f":"'SIP Returns'!J653","v":0},1,10,8,4,1,1,{"$f":"IF(J652=\"\",\"\",IF(J652>Inputs!$D$9,0,1))","v":1},{"$f":"IF(K652=\"\",\"\",IF(K652>Inputs!$D$9,0,1))","v":1},{"$f":"IF(L652=\"\",\"\",IF(L652>Inputs!$D$9,0,1))","v":1},{"$f":"IF(M652=\"\",\"\",IF(M652>Inputs!$D$9,0,1))","v":1},{"$f":"IF(N652=\"\",\"\",IF(N652>Inputs!$D$9,0,1))","v":1},{"$f":"IF(O652=\"\",\"\",IF(O652>Inputs!$D$9,0,1))","v":1},{"$f":"IF(COUNT(P652:U652)=0,\"\",INDEX(Inputs!$O$21:$P$26,MATCH(COUNT(P652:U652),Inputs!$O$21:$O$26,0),2))","v":20},1,null,null,{"$f":"IF(D652=\"\",\"\",IF(D652=\"-\",\"\",IF(D652>AVERAGE($D$2:$D$1000),1,0)))","v":1},1,1,1,1,1,1]
[{"$f":"'SIP Returns'!B654","v":0},null,{"$f":"'SIP Returns'!D654","v":0},{"$f":"'SIP Returns'!E654","v":0},{"$f":"'SIP Returns'!F654","v":0},{"$f":"'SIP Returns'!G654","v":0},{"$f":"'SIP Returns'!H654","v":0},{"$f":"'SIP Returns'!I654","v":0},{"$f":"'SIP Returns'!J654","v":0},1,10,8,4,1,1,{"$f":"IF(J653=\"\",\"\",IF(J653>Inputs!$D$9,0,1))","v":1},{"$f":"IF(K653=\"\",\"\",IF(K653>Inputs!$D$9,0,1))","v":1},{"$f":"IF(L653=\"\",\"\",IF(L653>Inputs!$D$9,0,1))","v":1},{"$f":"IF(M653=\"\",\"\",IF(M653>Inputs!$D$9,0,1))","v":1},{"$f":"IF(N653=\"\",\"\",IF(N653>Inputs!$D$9,0,1))","v":1},{"$f":"IF(O653=\"\",\"\",IF(O653>Inputs!$D$9,0,1))","v":1},{"$f":"IF(COUNT(P653:U653)=0,\"\",INDEX(Inputs!$O$21:$P$26,MATCH(COUNT(P653:U653),Inputs!$O$21:$O$26,0),2))","v":20},1,null,null,{"$f":"IF(D653=\"\",\"\",IF(D653=\"-\",\"\",IF(D653>AVERAGE($D$2:$D$1000),1,0)))","v":1},1,1,1,1,1,1]
[{"$f":"'SIP Returns'!B655","v":0},null,{"$f":"'SIP Returns'!D655","v":0},{"$f":"'SIP Returns'!E655","v":0},{"$f":"'SIP Returns'!F655","v":0},{"$f":"'SIP Returns'!G655","v":0},{"$f":"'SIP Returns'!H655","v":0},{"$f":"'SIP Returns'!I655","v":0},{"$f":"'SIP Returns'!J655","v":0},1,10,8,4,1,1,{"$f":"IF(J654=\"\",\"\",IF(J654>Inputs!$D$9,0,1))","v":1},{"$f":"IF(K654=\"\",\"\",IF(K654>Inputs!$D$9,0,1))","v":1},{"$f":"IF(L654=\"\",\"\",IF(L654>Inputs!$D$9,0,1))","v":1},{"$f":"IF(M654=\"\",\"\",IF(M654>Inputs!$D$9,0,1))","v":1},{"$f":"IF(N654=\"\",\"\",IF(N654>Inputs!$D$9,0,1))","v":1},{"$f":"IF(O654=\"\",\"\",IF(O654>Inputs!$D$9,0,1))","v":1},{"$f":"IF(COUNT(P654:U654)=0,\"\",INDEX(Inputs!$O$21:$P$26,MATCH(COUNT(P654:U654),Inputs!$O$21:$O$26,0),2))","v":20},1,null,null,{"$f":"IF(D654=\"\",\"\",IF(D654=\"-\",\"\",IF(D654>AVERAGE($D$2:$D$1000),1,0)))","v":1},1,1,1,1,1,1]
[{"$f":"'SIP Returns'!B656","v":0},null,{"$f":"'SIP Returns'!D656","v":0},{"$f":"'SIP Returns'!E656","v":0},{"$f":"'SIP Returns'!F656","v":0},{"$f":"'SIP Returns'!G656","v":0},{"$f":"'SIP Returns'!H656","v":0},{"$f":"'SIP Returns'!I656","v":0},{"$f":"'SIP Returns'!J656","v":0},1,10,8,4,1,1,{"$f":"IF(J655=\"\",\"\",IF(J655>Inputs!$D$9,0,1))","v":1},{"$f":"IF(K655=\"\",\"\",IF(K655>Inputs!$D$9,0,1))","v":1},{"$f":"IF(L655=\"\",\"\",IF(L655>Inputs!$D$9,0,1))","v":1},{"$f":"IF(M655=\"\",\"\",IF(M655>Inputs!$D$9,0,1))","v":1},{"$f":"IF(N655=\"\",\"\",IF(N655>Inputs!$D$9,0,1))","v":1},{"$f":"IF(O655=\"\",\"\",IF(O655>Inputs!$D$9,0,1))","v":1},{"$f":"IF(COUNT(P655:U655)=0,\"\",INDEX(Inputs!$O$21:$P$26,MATCH(COUNT(P655:U655),Inputs!$O$21:$O$26,0),2))","v":20},1,null,null,{"$f":"IF(D655=\"\",\"\",IF(D655=\"-\",\"\",IF(D655>AVERAGE($D$2:$D$1000),1,0)))","v":1},1,1,1,1,1,1]
[{"$f":"'SIP Returns'!B657","v":0},null,{"$f":"'SIP Returns'!D657","v":0},{"$f":"'SIP Returns'!E657","v":0},{"$f":"'SIP Returns'!F657","v":0},{"$f":"'SIP Returns'!G657","v":0},{"$f":"'SIP Returns'!H657","v":0},{"$f":"'SIP Returns'!I657","v":0},{"$f":"'SIP Returns'!J657","v":0},1,10,8,4,1,1,{"$f":"IF(J656=\"\",\"\",IF(J656>Inputs!$D$9,0,1))","v":1},{"$f":"IF(K656=\"\",\"\",IF(K656>Inputs!$D$9,0,1))","v":1},{"$f":"IF(L656=\"\",\"\",IF(L656>Inputs!$D$9,0,1))","v":1},{"$f":"IF(M656=\"\",\"\",IF(M656>Inputs!$D$9,0,1))","v":1},{"$f":"IF(N656=\"\",\"\",IF(N656>Inputs!$D$9,0,1))","v":1},{"$f":"IF(O656=\"\",\"\",IF(O656>Inputs!$D$9,0,1))","v":1},{"$f":"IF(COUNT(P656:U656)=0,\"\",INDEX(Inputs!$O$21:$P$26,MATCH(COUNT(P656:U656),Inputs!$O$21:$O$26,0),2))","v":20},1,null,null,{"$f":"IF(D656=\"\",\"\",IF(D656=\"-\",\"\",IF(D656>AVERAGE($D$2:$D$1000),1,0)))","v":1},1,1,1,1,1,1]
[{"$f":"'SIP Returns'!B658","v":0},null,{"$f":"'SIP Returns'!D658","v":0},{"$f":"'SIP Returns'!E658","v":0},{"$f":"'SIP Returns'!F658","v":0},{"$f":"'SIP Returns'!G658","v":0},{"$f":"'SIP Returns'!H658","v":0},{"$f":"'SIP Returns'!I658","v":0},{"$f":"'SIP Returns'!J658","v":0},1,10,8,4,1,1,{"$f":"IF(J657=\"\",\"\",IF(J657>Inputs!$D$9,0,1))","v":1},{"$f":"IF(K657=\"\",\"\",IF(K657>Inputs!$D$9,0,1))","v":1},{"$f":"IF(L657=\"\",\"\",IF(L657>Inputs!$D$9,0,1))","v":1},{"$f":"IF(M657=\"\",\"\",IF(M657>Inputs!$D$9,0,1))","v":1},{"$f":"IF(N657=\"\",\"\",IF(N657>Inputs!$D$9,0,1))","v":1},{"$f":"IF(O657=\"\",\"\",IF(O657>Inputs!$D$9,0,1))","v":1},{"$f":"IF(COUNT(P657:U657)=0,\"\",INDEX(Inputs!$O$21:$P$26,MATCH(COUNT(P657:U657),Inputs!$O$21:$O$26,0),2))","v":20},1,null,null,{"$f":"IF(D657=\"\",\"\",IF(D657=\"-\",\"\",IF(D657>AVERAGE($D$2:$D$1000),1,0)))","v":1},1,1,1,1,1,1]
[{"$f":"'SIP Returns'!B659","v":0},null,{"$f":"'SIP Returns'!D659","v":0},{"$f":"'SIP Returns'!E659","v":0},{"$f":"'SIP Returns'!F659","v":0},{"$f":"'SIP Returns'!G659","v":0},{"$f":"'SIP Returns'!H659","v":0},{"$f":"'SIP Returns'!I659","v":0},{"$f":"'SIP Returns'!J659","v":0},1,10,8,4,1,1,{"$f":"IF(J658=\"\",\"\",IF(J658>Inputs!$D$9,0,1))","v":1},{"$f":"IF(K658=\"\",\"\",IF(K658>Inputs!$D$9,0,1))","v":1},{"$f":"IF(L658=\"\",\"\",IF(L658>Inputs!$D$9,0,1))","v":1},{"$f":"IF(M658=\"\",\"\",IF(M658>Inputs!$D$9,0,1))","v":1},{"$f":"IF(N658=\"\",\"\",IF(N658>Inputs!$D$9,0,1))","v":1},{"$f":"IF(O658=\"\",\"\",IF(O658>Inputs!$D$9,0,1))","v":1},{"$f":"IF(COUNT(P658:U658)=0,\"\",INDEX(Inputs!$O$21:$P$26,MATCH(COUNT(P658:U658),Inputs!$O$21:$O$26,0),2))","v":20},1,null,null,{"$f":"IF(D658=\"\",\"\",IF(D658=\"-\",\"\",IF(D658>AVERAGE($D$2:$D$1000),1,0)))","v":1},1,1,1,1,1,1]
[{"$f":"'SIP Returns'!B660","v":0},null,{"$f":"'SIP Returns'!D660","v":0},{"$f":"'SIP Returns'!E660","v":0},{"$f":"'SIP Returns'!F660","v":0},{"$f":"'SIP Returns'!G660","v":0},{"$f":"'SIP Returns'!H660","v":0},{"$f":"'SIP Returns'!I660","v":0},{"$f":"'SIP Returns'!J660","v":0},1,10,8,4,1,1,{"$f":"IF(J659=\"\",\"\",IF(J659>Inputs!$D$9,0,1))","v":1},{"$f":"IF(K659=\"\",\"\",IF(K659>Inputs!$D$9,0,1))","v":1},{"$f":"IF(L659=\"\",\"\",IF(L659>Inputs!$D$9,0,1))","v":1},{"$f":"IF(M659=\"\",\"\",IF(M659>Inputs!$D$9,0,1))","v":1},{"$f":"IF(N659=\"\",\"\",IF(N659>Inputs!$D$9,0,1))","v":1},{"$f":"IF(O659=\"\",\"\",IF(O659>Inputs!$D$9,0,1))","v":1},{"$f":"IF(COUNT(P659:U659)=0,\"\",INDEX(Inputs!$O$21:$P$26,MATCH(COUNT(P659:U659),Inputs!$O$21:$O$26,0),2))","v":20},1,null,null,{"$f":"IF(D659=\"\",\"\",IF(D659=\"-\",\"\",IF(D659>AVERAGE($D$2:$D$1000),1,0)))","v":1},1,1,1,1,1,1]
[{"$f":"'SIP Returns'!B661","v":0},null,{"$f":"'SIP Returns'!D661","v":0},{"$f":"'SIP Returns'!E661","v":0},{"$f":"'SIP Returns'!F661","v":0},{"$f":"'SIP Returns'!G661","v":0},{"$f":"'SIP Returns'!H661","v":0},{"$f":"'SIP Returns'!I661","v":0},{"$f":"'SIP Returns'!J661","v":0},1,10,8,4,1,1,{"$f":"IF(J660=\"\",\"\",IF(J660>Inputs!$D$9,0,1))","v":1},{"$f":"IF(K660=\"\",\"\",IF(K660>Inputs!$D$9,0,1))","v":1},{"$f":"IF(L660=\"\",\"\",IF(L660>Inputs!$D$9,0,1))","v":1},{"$f":"IF(M660=\"\",\"\",IF(M660>Inputs!$D$9,0,1))","v":1},{"$f":"IF(N660=\"\",\"\",IF(N660>Inputs!$D$9,0,1))","v":1},{"$f":"IF(O660=\"\",\"\",IF(O660>Inputs!$D$9,0,1))","v":1},{"$f":"IF(COUNT(P660:U660)=0,\"\",INDEX(Inputs!$O$21:$P$26,MATCH(COUNT(P660:U660),Inputs!$O$21:$O$26,0),2))","v":20},1,null,null,{"$f":"IF(D660=\"\",\"\",IF(D660=\"-\",\"\",IF(D660>AVERAGE($D$2:$D$1000),1,0)))","v":1},1,1,1,1,1,1]
[{"$f":"'SIP Returns'!B662","v":0},null,{"$f":"'SIP Returns'!D662","v":0},{"$f":"'SIP Returns'!E662","v":0},{"$f":"'SIP Returns'!F662","v":0},{"$f":"'SIP Returns'!G662","v":0},{"$f":"'SIP Returns'!H662","v":0},{"$f":"'SIP Returns'!I662","v":0},{"$f":"'SIP Returns'!J662","v":0},1,10,8,4,1,1,{"$f":"IF(J661=\"\",\"\",IF(J661>Inputs!$D$9,0,1))","v":1},{"$f":"IF(K661=\"\",\"\",IF(K661>Inputs!$D$9,0,1))","v":1},{"$f":"IF(L661=\"\",\"\",IF(L661>Inputs!$D$9,0,1))","v":1},{"$f":"IF(M661=\"\",\"\",IF(M661>Inputs!$D$9,0,1))","v":1},{"$f":"IF(N661=\"\",\"\",IF(N661>Inputs!$D$9,0,1))","v":1},{"$f":"IF(O661=\"\",\"\",IF(O661>Inputs!$D$9,0,1))","v":1},{"$f":"IF(COUNT(P661:U661)=0,\"\",INDEX(Inputs!$O$21:$P$26,MATCH(COUNT(P661:U661),Inputs!$O$21:$O$26,0),2))","v":20},1,null,null,{"$f":"IF(D661=\"\",\"\",IF(D661=\"-\",\"\",IF(D661>AVERAGE($D$2:$D$1000),1,0)))","v":1},1,1,1,1,1,1]
[{"$f":"'SIP Returns'!B663","v":0},null,{"$f":"'SIP Returns'!D663","v":0},{"$f":"'SIP Returns'!E663","v":0},{"$f":"'SIP Returns'!F663","v":0},{"$f":"'SIP Returns'!G663","v":0},{"$f":"'SIP Returns'!H663","v":0},{"$f":"'SIP Returns'!I663","v":0},{"$f":"'SIP Returns'!J663","v":0},1,10,8,4,1,1,{"$f":"IF(J662=\"\",\"\",IF(J662>Inputs!$D$9,0,1))","v":1},{"$f":"IF(K662=\"\",\"\",IF(K662>Inputs!$D$9,0,1))","v":1},{"$f":"IF(L662=\"\",\"\",IF(L662>Inputs!$D$9,0,1))","v":1},{"$f":"IF(M662=\"\",\"\",IF(M662>Inputs!$D$9,0,1))","v":1},{"$f":"IF(N662=\"\",\"\",IF(N662>Inputs!$D$9,0,1))","v":1},{"$f":"IF(O662=\"\",\"\",IF(O662>Inputs!$D$9,0,1))","v":1},{"$f":"IF(COUNT(P662:U662)=0,\"\",INDEX(Inputs!$O$21:$P$26,MATCH(COUNT(P662:U662),Inputs!$O$21:$O$26,0),2))","v":20},1,null,null,{"$f":"IF(D662=\"\",\"\",IF(D662=\"-\",\"\",IF(D662>AVERAGE($D$2:$D$1000),1,0)))","v":1},1,1,1,1,1,1]
[{"$f":"'SIP Returns'!B664","v":0},null,{"$f":"'SIP Returns'!D664","v":0},{"$f":"'SIP Returns'!E664","v":0},{"$f":"'SIP Returns'!F664","v":0},{"$f":"'SIP Returns'!G664","v":0},{"$f":"'SIP Returns'!H664","v":0},{"$f":"'SIP Returns'!I664","v":0},{"$f":"'SIP Returns'!J664","v":0},1,10,8,4,1,1,{"$f":"IF(J663=\"\",\"\",IF(J663>Inputs!$D$9,0,1))","v":1},{"$f":"IF(K663=\"\",\"\",IF(K663>Inputs!$D$9,0,1))","v":1},{"$f":"IF(L663=\"\",\"\",IF(L663>Inputs!$D$9,0,1))","v":1},{"$f":"IF(M663=\"\",\"\",IF(M663>Inputs!$D$9,0,1))","v":1},{"$f":"IF(N663=\"\",\"\",IF(N663>Inputs!$D$9,0,1))","v":1},{"$f":"IF(O663=\"\",\"\",IF(O663>Inputs!$D$9,0,1))","v":1},{"$f":"IF(COUNT(P663:U663)=0,\"\",INDEX(Inputs!$O$21:$P$26,MATCH(COUNT(P663:U663),Inputs!$O$21:$O$26,0),2))","v":20},1,null,null,{"$f":"IF(D663=\"\",\"\",IF(D663=\"-\",\"\",IF(D663>AVERAGE($D$2:$D$1000),1,0)))","v":1},1,1,1,1,1,1]
[{"$f":"'SIP Returns'!B665","v":0},null,{"$f":"'SIP Returns'!D665","v":0},{"$f":"'SIP Returns'!E665","v":0},{"$f":"'SIP Returns'!F665","v":0},{"$f":"'SIP Returns'!G665","v":0},{"$f":"'SIP Returns'!H665","v":0},{"$f":"'SIP Returns'!I665","v":0},{"$f":"'SIP Returns'!J665","v":0},1,10,8,4,1,1,{"$f":"IF(J664=\"\",\"\",IF(J664>Inputs!$D$9,0,1))","v":1},{"$f":"IF(K664=\"\",\"\",IF(K664>Inputs!$D$9,0,1))","v":1},{"$f":"IF(L664=\"\",\"\",IF(L664>Inputs!$D$9,0,1))","v":1},{"$f":"IF(M664=\"\",\"\",IF(M664>Inputs!$D$9,0,1))","v":1},{"$f":"IF(N664=\"\",\"\",IF(N664>Inputs!$D$9,0,1))","v":1},{"$f":"IF(O664=\"\",\"\",IF(O664>Inputs!$D$9,0,1))","v":1},{"$f":"IF(COUNT(P664:U664)=0,\"\",INDEX(Inputs!$O$21:$P$26,MATCH(COUNT(P664:U664),Inputs!$O$21:$O$26,0),2))","v":20},1,null,null,{"$f":"IF(D664=\"\",\"\",IF(D664=\"-\",\"\",IF(D664>AVERAGE($D$2:$D$1000),1,0)))","v":1},1,1,1,1,1,1]
[{"$f":"'SIP Returns'!B666","v":0},null,{"$f":"'SIP Returns'!D666","v":0},{"$f":"'SIP Returns'!E666","v":0},{"$f":"'SIP Returns'!F666","v":0},{"$f":"'SIP Returns'!G666","v":0},{"$f":"'SIP Returns'!H666","v":0},{"$f":"'SIP Returns'!I666","v":0},{"$f":"'SIP Returns'!J666","v":0},1,10,8,4,1,1,{"$f":"IF(J665=\"\",\"\",IF(J665>Inputs!$D$9,0,1))","v":1},{"$f":"IF(K665=\"\",\"\",IF(K665>Inputs!$D$9,0,1))","v":1},{"$f":"IF(L665=\"\",\"\",IF(L665>Inputs!$D$9,0,1))","v":1},{"$f":"IF(M665=\"\",\"\",IF(M665>Inputs!$D$9,0,1))","v":1},{"$f":"IF(N665=\"\",\"\",IF(N665>Inputs!$D$9,0,1))","v":1},{"$f":"IF(O665=\"\",\"\",IF(O665>Inputs!$D$9,0,1))","v":1},{"$f":"IF(COUNT(P665:U665)=0,\"\",INDEX(Inputs!$O$21:$P$26,MATCH(COUNT(P665:U665),Inputs!$O$21:$O$26,0),2))","v":20},1,null,null,{"$f":"IF(D665=\"\",\"\",IF(D665=\"-\",\"\",IF(D665>AVERAGE($D$2:$D$1000),1,0)))","v":1},1,1,1,1,1,1]
[{"$f":"'SIP Returns'!B667","v":0},null,{"$f":"'SIP Returns'!D667","v":0},{"$f":"'SIP Returns'!E667","v":0},{"$f":"'SIP Returns'!F667","v":0},{"$f":"'SIP Returns'!G667","v":0},{"$f":"'SIP Returns'!H667","v":0},{"$f":"'SIP Returns'!I667","v":0},{"$f":"'SIP Returns'!J667","v":0},1,10,8,4,1,1,{"$f":"IF(J666=\"\",\"\",IF(J666>Inputs!$D$9,0,1))","v":1},{"$f":"IF(K666=\"\",\"\",IF(K666>Inputs!$D$9,0,1))","v":1},{"$f":"IF(L666=\"\",\"\",IF(L666>Inputs!$D$9,0,1))","v":1},{"$f":"IF(M666=\"\",\"\",IF(M666>Inputs!$D$9,0,1))","v":1},{"$f":"IF(N666=\"\",\"\",IF(N666>Inputs!$D$9,0,1))","v":1},{"$f":"IF(O666=\"\",\"\",IF(O666>Inputs!$D$9,0,1))","v":1},{"$f":"IF(COUNT(P666:U666)=0,\"\",INDEX(Inputs!$O$21:$P$26,MATCH(COUNT(P666:U666),Inputs!$O$21:$O$26,0),2))","v":20},1,null,null,{"$f":"IF(D666=\"\",\"\",IF(D666=\"-\",\"\",IF(D666>AVERAGE($D$2:$D$1000),1,0)))","v":1},1,1,1,1,1,1]
[{"$f":"'SIP Returns'!B668","v":0},null,{"$f":"'SIP Returns'!D668","v":0},{"$f":"'SIP Returns'!E668","v":0},{"$f":"'SIP Returns'!F668","v":0},{"$f":"'SIP Returns'!G668","v":0},{"$f":"'SIP Returns'!H668","v":0},{"$f":"'SIP Returns'!I668","v":0},{"$f":"'SIP Returns'!J668","v":0},1,10,8,4,1,1,{"$f":"IF(J667=\"\",\"\",IF(J667>Inputs!$D$9,0,1))","v":1},{"$f":"IF(K667=\"\",\"\",IF(K667>Inputs!$D$9,0,1))","v":1},{"$f":"IF(L667=\"\",\"\",IF(L667>Inputs!$D$9,0,1))","v":1},{"$f":"IF(M667=\"\",\"\",IF(M667>Inputs!$D$9,0,1))","v":1},{"$f":"IF(N667=\"\",\"\",IF(N667>Inputs!$D$9,0,1))","v":1},{"$f":"IF(O667=\"\",\"\",IF(O667>Inputs!$D$9,0,1))","v":1},{"$f":"IF(COUNT(P667:U667)=0,\"\",INDEX(Inputs!$O$21:$P$26,MATCH(COUNT(P667:U667),Inputs!$O$21:$O$26,0),2))","v":20},1,null,null,{"$f":"IF(D667=\"\",\"\",IF(D667=\"-\",\"\",IF(D667>AVERAGE($D$2:$D$1000),1,0)))","v":1},1,1,1,1,1,1]
[{"$f":"'SIP Returns'!B669","v":0},null,{"$f":"'SIP Returns'!D669","v":0},{"$f":"'SIP Returns'!E669","v":0},{"$f":"'SIP Returns'!F669","v":0},{"$f":"'SIP Returns'!G669","v":0},{"$f":"'SIP Returns'!H669","v":0},{"$f":"'SIP Returns'!I669","v":0},{"$f":"'SIP Returns'!J669","v":0},1,10,8,4,1,1,{"$f":"IF(J668=\"\",\"\",IF(J668>Inputs!$D$9,0,1))","v":1},{"$f":"IF(K668=\"\",\"\",IF(K668>Inputs!$D$9,0,1))","v":1},{"$f":"IF(L668=\"\",\"\",IF(L668>Inputs!$D$9,0,1))","v":1},{"$f":"IF(M668=\"\",\"\",IF(M668>Inputs!$D$9,0,1))","v":1},{"$f":"IF(N668=\"\",\"\",IF(N668>Inputs!$D$9,0,1))","v":1},{"$f":"IF(O668=\"\",\"\",IF(O668>Inputs!$D$9,0,1))","v":1},{"$f":"IF(COUNT(P668:U668)=0,\"\",INDEX(Inputs!$O$21:$P$26,MATCH(COUNT(P668:U668),Inputs!$O$21:$O$26,0),2))","v":20},1,null,null,{"$f":"IF(D668=\"\",\"\",IF(D668=\"-\",\"\",IF(D668>AVERAGE($D$2:$D$1000),1,0)))","v":1},1,1,1,1,1,1]
[{"$f":"'SIP Returns'!B670","v":0},null,{"$f":"'SIP Returns'!D670","v":0},{"$f":"'SIP Returns'!E670","v":0},{"$f":"'SIP Returns'!F670","v":0},{"$f":"'SIP Returns'!G670","v":0},{"$f":"'SIP Returns'!H670","v":0},{"$f":"'SIP Returns'!I670","v":0},{"$f":"'SIP Returns'!J670","v":0},1,10,8,4,1,1,{"$f":"IF(J669=\"\",\"\",IF(J669>Inputs!$D$9,0,1))","v":1},{"$f":"IF(K669=\"\",\"\",IF(K669>Inputs!$D$9,0,1))","v":1},{"$f":"IF(L669=\"\",\"\",IF(L669>Inputs!$D$9,0,1))","v":1},{"$f":"IF(M669=\"\",\"\",IF(M669>Inputs!$D$9,0,1))","v":1},{"$f":"IF(N669=\"\",\"\",IF(N669>Inputs!$D$9,0,1))","v":1},{"$f":"IF(O669=\"\",\"\",IF(O669>Inputs!$D$9,0,1))","v":1},{"$f":"IF(COUNT(P669:U669)=0,\"\",INDEX(Inputs!$O$21:$P$26,MATCH(COUNT(P669:U669),Inputs!$O$21:$O$26,0),2))","v":20},1,null,null,{"$f":"IF(D669=\"\",\"\",IF(D669=\"-\",\"\",IF(D669>AVERAGE($D$2:$D$1000),1,0)))","v":1},1,1,1,1,1,1]
[{"$f":"'SIP Returns'!B671","v":0},null,{"$f":"'SIP Returns'!D671","v":0},{"$f":"'SIP Returns'!E671","v":0},{"$f":"'SIP Returns'!F671","v":0},{"$f":"'SIP Returns'!G671","v":0},{"$f":"'SIP Returns'!H671","v":0},{"$f":"'SIP Returns'!I671","v":0},{"$f":"'SIP Returns'!J671","v":0},1,10,8,4,1,1,{"$f":"IF(J670=\"\",\"\",IF(J670>Inputs!$D$9,0,1))","v":1},{"$f":"IF(K670=\"\",\"\",IF(K670>Inputs!$D$9,0,1))","v":1},{"$f":"IF(L670=\"\",\"\",IF(L670>Inputs!$D$9,0,1))","v":1},{"$f":"IF(M670=\"\",\"\",IF(M670>Inputs!$D$9,0,1))","v":1},{"$f":"IF(N670=\"\",\"\",IF(N670>Inputs!$D$9,0,1))","v":1},{"$f":"IF(O670=\"\",\"\",IF(O670>Inputs!$D$9,0,1))","v":1},{"$f":"IF(COUNT(P670:U670)=0,\"\",INDEX(Inputs!$O$21:$P$26,MATCH(COUNT(P670:U670),Inputs!$O$21:$O$26,0),2))","v":20},1,null,null,{"$f":"IF(D670=\"\",\"\",IF(D670=\"-\",\"\",IF(D670>AVERAGE($D$2:$D$1000),1,0)))","v":1},1,1,1,1,1,1]
[{"$f":"'SIP Returns'!B672","v":0},null,{"$f":"'SIP Returns'!D672","v":0},{"$f":"'SIP Returns'!E672","v":0},{"$f":"'SIP Returns'!F672","v":0},{"$f":"'SIP Returns'!G672","v":0},{"$f":"'SIP Returns'!H672","v":0},{"$f":"'SIP Returns'!I672","v":0},{"$f":"'SIP Returns'!J672","v":0},1,10,8,4,1,1,{"$f":"IF(J671=\"\",\"\",IF(J671>Inputs!$D$9,0,1))","v":1},{"$f":"IF(K671=\"\",\"\",IF(K671>Inputs!$D$9,0,1))","v":1},{"$f":"IF(L671=\"\",\"\",IF(L671>Inputs!$D$9,0,1))","v":1},{"$f":"IF(M671=\"\",\"\",IF(M671>Inputs!$D$9,0,1))","v":1},{"$f":"IF(N671=\"\",\"\",IF(N671>Inputs!$D$9,0,1))","v":1},{"$f":"IF(O671=\"\",\"\",IF(O671>Inputs!$D$9,0,1))","v":1},{"$f":"IF(COUNT(P671:U671)=0,\"\",INDEX(Inputs!$O$21:$P$26,MATCH(COUNT(P671:U671),Inputs!$O$21:$O$26,0),2))","v":20},1,null,null,{"$f":"IF(D671=\"\",\"\",IF(D671=\"-\",\"\",IF(D671>AVERAGE($D$2:$D$1000),1,0)))","v":1},1,1,1,1,1,1]
[{"$f":"'SIP Returns'!B673","v":0},null,{"$f":"'SIP Returns'!D673","v":0},{"$f":"'SIP Returns'!E673","v":0},{"$f":"'SIP Returns'!F673","v":0},{"$f":"'SIP Returns'!G673","v":0},{"$f":"'SIP Returns'!H673","v":0},{"$f":"'SIP Returns'!I673","v":0},{"$f":"'SIP Returns'!J673","v":0},1,10,8,4,1,1,{"$f":"IF(J672=\"\",\"\",IF(J672>Inputs!$D$9,0,1))","v":1},{"$f":"IF(K672=\"\",\"\",IF(K672>Inputs!$D$9,0,1))","v":1},{"$f":"IF(L672=\"\",\"\",IF(L672>Inputs!$D$9,0,1))","v":1},{"$f":"IF(M672=\"\",\"\",IF(M672>Inputs!$D$9,0,1))","v":1},{"$f":"IF(N672=\"\",\"\",IF(N672>Inputs!$D$9,0,1))","v":1},{"$f":"IF(O672=\"\",\"\",IF(O672>Inputs!$D$9,0,1))","v":1},{"$f":"IF(COUNT(P672:U672)=0,\"\",INDEX(Inputs!$O$21:$P$26,MATCH(COUNT(P672:U672),Inputs!$O$21:$O$26,0),2))","v":20},1,null,null,{"$f":"IF(D672=\"\",\"\",IF(D672=\"-\",\"\",IF(D672>AVERAGE($D$2:$D$1000),1,0)))","v":1},1,1,1,1,1,1]
[{"$f":"'SIP Returns'!B674","v":0},null,{"$f":"'SIP Returns'!D674","v":0},{"$f":"'SIP Returns'!E674","v":0},{"$f":"'SIP Returns'!F674","v":0},{"$f":"'SIP Returns'!G674","v":0},{"$f":"'SIP Returns'!H674","v":0},{"$f":"'SIP Returns'!I674","v":0},{"$f":"'SIP Returns'!J674","v":0},1,10,8,4,1,1,{"$f":"IF(J673=\"\",\"\",IF(J673>Inputs!$D$9,0,1))","v":1},{"$f":"IF(K673=\"\",\"\",IF(K673>Inputs!$D$9,0,1))","v":1},{"$f":"IF(L673=\"\",\"\",IF(L673>Inputs!$D$9,0,1))","v":1},{"$f":"IF(M673=\"\",\"\",IF(M673>Inputs!$D$9,0,1))","v":1},{"$f":"IF(N673=\"\",\"\",IF(N673>Inputs!$D$9,0,1))","v":1},{"$f":"IF(O673=\"\",\"\",IF(O673>Inputs!$D$9,0,1))","v":1},{"$f":"IF(COUNT(P673:U673)=0,\"\",INDEX(Inputs!$O$21:$P$26,MATCH(COUNT(P673:U673),Inputs!$O$21:$O$26,0),2))","v":20},1,null,null,{"$f":"IF(D673=\"\",\"\",IF(D673=\"-\",\"\",IF(D673>AVERAGE($D$2:$D$1000),1,0)))","v":1},1,1,1,1,1,1]
[{"$f":"'SIP Returns'!B675","v":0},null,{"$f":"'SIP Returns'!D675","v":0},{"$f":"'SIP Returns'!E675","v":0},{"$f":"'SIP Returns'!F675","v":0},{"$f":"'SIP Returns'!G675","v":0},{"$f":"'SIP Returns'!H675","v":0},{"$f":"'SIP Returns'!I675","v":0},{"$f":"'SIP Returns'!J675","v":0},1,10,8,4,1,1,{"$f":"IF(J674=\"\",\"\",IF(J674>Inputs!$D$9,0,1))","v":1},{"$f":"IF(K674=\"\",\"\",IF(K674>Inputs!$D$9,0,1))","v":1},{"$f":"IF(L674=\"\",\"\",IF(L674>Inputs!$D$9,0,1))","v":1},{"$f":"IF(M674=\"\",\"\",IF(M674>Inputs!$D$9,0,1))","v":1},{"$f":"IF(N674=\"\",\"\",IF(N674>Inputs!$D$9,0,1))","v":1},{"$f":"IF(O674=\"\",\"\",IF(O674>Inputs!$D$9,0,1))","v":1},{"$f":"IF(COUNT(P674:U674)=0,\"\",INDEX(Inputs!$O$21:$P$26,MATCH(COUNT(P674:U674),Inputs!$O$21:$O$26,0),2))","v":20},1,null,null,{"$f":"IF(D674=\"\",\"\",IF(D674=\"-\",\"\",IF(D674>AVERAGE($D$2:$D$1000),1,0)))","v":1},1,1,1,1,1,1]
[{"$f":"'SIP Returns'!B676","v":0},null,{"$f":"'SIP Returns'!D676","v":0},{"$f":"'SIP Returns'!E676","v":0},{"$f":"'SIP Returns'!F676","v":0},{"$f":"'SIP Returns'!G676","v":0},{"$f":"'SIP Returns'!H676","v":0},{"$f":"'SIP Returns'!I676","v":0},{"$f":"'SIP Returns'!J676","v":0},1,10,8,4,1,1,{"$f":"IF(J675=\"\",\"\",IF(J675>Inputs!$D$9,0,1))","v":1},{"$f":"IF(K675=\"\",\"\",IF(K675>Inputs!$D$9,0,1))","v":1},{"$f":"IF(L675=\"\",\"\",IF(L675>Inputs!$D$9,0,1))","v":1},{"$f":"IF(M675=\"\",\"\",IF(M675>Inputs!$D$9,0,1))","v":1},{"$f":"IF(N675=\"\",\"\",IF(N675>Inputs!$D$9,0,1))","v":1},{"$f":"IF(O675=\"\",\"\",IF(O675>Inputs!$D$9,0,1))","v":1},{"$f":"IF(COUNT(P675:U675)=0,\"\",INDEX(Inputs!$O$21:$P$26,MATCH(COUNT(P675:U675),Inputs!$O$21:$O$26,0),2))","v":20},1,null,null,{"$f":"IF(D675=\"\",\"\",IF(D675=\"-\",\"\",IF(D675>AVERAGE($D$2:$D$1000),1,0)))","v":1},1,1,1,1,1,1]
[{"$f":"'SIP Returns'!B677","v":0},null,{"$f":"'SIP Returns'!D677","v":0},{"$f":"'SIP Returns'!E677","v":0},{"$f":"'SIP Returns'!F677","v":0},{"$f":"'SIP Returns'!G677","v":0},{"$f":"'SIP Returns'!H677","v":0},{"$f":"'SIP Returns'!I677","v":0},{"$f":"'SIP Returns'!J677","v":0},1,10,8,4,1,1,{"$f":"IF(J676=\"\",\"\",IF(J676>Inputs!$D$9,0,1))","v":1},{"$f":"IF(K676=\"\",\"\",IF(K676>Inputs!$D$9,0,1))","v":1},{"$f":"IF(L676=\"\",\"\",IF(L676>Inputs!$D$9,0,1))","v":1},{"$f":"IF(M676=\"\",\"\",IF(M676>Inputs!$D$9,0,1))","v":1},{"$f":"IF(N676=\"\",\"\",IF(N676>Inputs!$D$9,0,1))","v":1},{"$f":"IF(O676=\"\",\"\",IF(O676>Inputs!$D$9,0,1))","v":1},{"$f":"IF(COUNT(P676:U676)=0,\"\",INDEX(Inputs!$O$21:$P$26,MATCH(COUNT(P676:U676),Inputs!$O$21:$O$26,0),2))","v":20},1,null,null,{"$f":"IF(D676=\"\",\"\",IF(D676=\"-\",\"\",IF(D676>AVERAGE($D$2:$D$1000),1,0)))","v":1},1,1,1,1,1,1]
[{"$f":"'SIP Returns'!B678","v":0},null,{"$f":"'SIP Returns'!D678","v":0},{"$f":"'SIP Returns'!E678","v":0},{"$f":"'SIP Returns'!F678","v":0},{"$f":"'SIP Returns'!G678","v":0},{"$f":"'SIP Returns'!H678","v":0},{"$f":"'SIP Returns'!I678","v":0},{"$f":"'SIP Returns'!J678","v":0},1,10,8,4,1,1,{"$f":"IF(J677=\"\",\"\",IF(J677>Inputs!$D$9,0,1))","v":1},{"$f":"IF(K677=\"\",\"\",IF(K677>Inputs!$D$9,0,1))","v":1},{"$f":"IF(L677=\"\",\"\",IF(L677>Inputs!$D$9,0,1))","v":1},{"$f":"IF(M677=\"\",\"\",IF(M677>Inputs!$D$9,0,1))","v":1},{"$f":"IF(N677=\"\",\"\",IF(N677>Inputs!$D$9,0,1))","v":1},{"$f":"IF(O677=\"\",\"\",IF(O677>Inputs!$D$9,0,1))","v":1},{"$f":"IF(COUNT(P677:U677)=0,\"\",INDEX(Inputs!$O$21:$P$26,MATCH(COUNT(P677:U677),Inputs!$O$21:$O$26,0),2))","v":20},1,null,null,{"$f":"IF(D677=\"\",\"\",IF(D677=\"-\",\"\",IF(D677>AVERAGE($D$2:$D$1000),1,0)))","v":1},1,1,1,1,1,1]
[{"$f":"'SIP Returns'!B679","v":0},null,{"$f":"'SIP Returns'!D679","v":0},{"$f":"'SIP Returns'!E679","v":0},{"$f":"'SIP Returns'!F679","v":0},{"$f":"'SIP Returns'!G679","v":0},{"$f":"'SIP Returns'!H679","v":0},{"$f":"'SIP Returns'!I679","v":0},{"$f":"'SIP Returns'!J679","v":0},1,10,8,4,1,1,{"$f":"IF(J678=\"\",\"\",IF(J678>Inputs!$D$9,0,1))","v":1},{"$f":"IF(K678=\"\",\"\",IF(K678>Inputs!$D$9,0,1))","v":1},{"$f":"IF(L678=\"\",\"\",IF(L678>Inputs!$D$9,0,1))","v":1},{"$f":"IF(M678=\"\",\"\",IF(M678>Inputs!$D$9,0,1))","v":1},{"$f":"IF(N678=\"\",\"\",IF(N678>Inputs!$D$9,0,1))","v":1},{"$f":"IF(O678=\"\",\"\",IF(O678>Inputs!$D$9,0,1))","v":1},{"$f":"IF(COUNT(P678:U678)=0,\"\",INDEX(Inputs!$O$21:$P$26,MATCH(COUNT(P678:U678),Inputs!$O$21:$O$26,0),2))","v":20},1,null,null,{"$f":"IF(D678=\"\",\"\",IF(D678=\"-\",\"\",IF(D678>AVERAGE($D$2:$D$1000),1,0)))","v":1},1,1,1,1,1,1]
[{"$f":"'SIP Returns'!B680","v":0},null,{"$f":"'SIP Returns'!D680","v":0},{"$f":"'SIP Returns'!E680","v":0},{"$f":"'SIP Returns'!F680","v":0},{"$f":"'SIP Returns'!G680","v":0},{"$f":"'SIP Returns'!H680","v":0},{"$f":"'SIP Returns'!I680","v":0},{"$f":"'SIP Returns'!J680","v":0},1,10,8,4,1,1,{"$f":"IF(J679=\"\",\"\",IF(J679>Inputs!$D$9,0,1))","v":1},{"$f":"IF(K679=\"\",\"\",IF(K679>Inputs!$D$9,0,1))","v":1},{"$f":"IF(L679=\"\",\"\",IF(L679>Inputs!$D$9,0,1))","v":1},{"$f":"IF(M679=\"\",\"\",IF(M679>Inputs!$D$9,0,1))","v":1},{"$f":"IF(N679=\"\",\"\",IF(N679>Inputs!$D$9,0,1))","v":1},{"$f":"IF(O679=\"\",\"\",IF(O679>Inputs!$D$9,0,1))","v":1},{"$f":"IF(COUNT(P679:U679)=0,\"\",INDEX(Inputs!$O$21:$P$26,MATCH(COUNT(P679:U679),Inputs!$O$21:$O$26,0),2))","v":20},1,null,null,{"$f":"IF(D679=\"\",\"\",IF(D679=\"-\",\"\",IF(D679>AVERAGE($D$2:$D$1000),1,0)))","v":1},1,1,1,1,1,1]
[{"$f":"'SIP Returns'!B681","v":0},null,{"$f":"'SIP Returns'!D681","v":0},{"$f":"'SIP Returns'!E681","v":0},{"$f":"'SIP Returns'!F681","v":0},{"$f":"'SIP Returns'!G681","v":0},{"$f":"'SIP Returns'!H681","v":0},{"$f":"'SIP Returns'!I681","v":0},{"$f":"'SIP Returns'!J681","v":0},1,10,8,4,1,1,{"$f":"IF(J680=\"\",\"\",IF(J680>Inputs!$D$9,0,1))","v":1},{"$f":"IF(K680=\"\",\"\",IF(K680>Inputs!$D$9,0,1))","v":1},{"$f":"IF(L680=\"\",\"\",IF(L680>Inputs!$D$9,0,1))","v":1},{"$f":"IF(M680=\"\",\"\",IF(M680>Inputs!$D$9,0,1))","v":1},{"$f":"IF(N680=\"\",\"\",IF(N680>Inputs!$D$9,0,1))","v":1},{"$f":"IF(O680=\"\",\"\",IF(O680>Inputs!$D$9,0,1))","v":1},{"$f":"IF(COUNT(P680:U680)=0,\"\",INDEX(Inputs!$O$21:$P$26,MATCH(COUNT(P680:U680),Inputs!$O$21:$O$26,0),2))","v":20},1,null,null,{"$f":"IF(D680=\"\",\"\",IF(D680=\"-\",\"\",IF(D680>AVERAGE($D$2:$D$1000),1,0)))","v":1},1,1,1,1,1,1]
[{"$f":"'SIP Returns'!B682","v":0},null,{"$f":"'SIP Returns'!D682","v":0},{"$f":"'SIP Returns'!E682","v":0},{"$f":"'SIP Returns'!F682","v":0},{"$f":"'SIP Returns'!G682","v":0},{"$f":"'SIP Returns'!H682","v":0},{"$f":"'SIP Returns'!I682","v":0},{"$f":"'SIP Returns'!J682","v":0},1,10,8,4,1,1,{"$f":"IF(J681=\"\",\"\",IF(J681>Inputs!$D$9,0,1))","v":1},{"$f":"IF(K681=\"\",\"\",IF(K681>Inputs!$D$9,0,1))","v":1},{"$f":"IF(L681=\"\",\"\",IF(L681>Inputs!$D$9,0,1))","v":1},{"$f":"IF(M681=\"\",\"\",IF(M681>Inputs!$D$9,0,1))","v":1},{"$f":"IF(N681=\"\",\"\",IF(N681>Inputs!$D$9,0,1))","v":1},{"$f":"IF(O681=\"\",\"\",IF(O681>Inputs!$D$9,0,1))","v":1},{"$f":"IF(COUNT(P681:U681)=0,\"\",INDEX(Inputs!$O$21:$P$26,MATCH(COUNT(P681:U681),Inputs!$O$21:$O$26,0),2))","v":20},1,null,null,{"$f":"IF(D681=\"\",\"\",IF(D681=\"-\",\"\",IF(D681>AVERAGE($D$2:$D$1000),1,0)))","v":1},1,1,1,1,1,1]
[{"$f":"'SIP Returns'!B683","v":0},null,{"$f":"'SIP Returns'!D683","v":0},{"$f":"'SIP Returns'!E683","v":0},{"$f":"'SIP Returns'!F683","v":0},{"$f":"'SIP Returns'!G683","v":0},{"$f":"'SIP Returns'!H683","v":0},{"$f":"'SIP Returns'!I683","v":0},{"$f":"'SIP Returns'!J683","v":0},1,10,8,4,1,1,{"$f":"IF(J682=\"\",\"\",IF(J682>Inputs!$D$9,0,1))","v":1},{"$f":"IF(K682=\"\",\"\",IF(K682>Inputs!$D$9,0,1))","v":1},{"$f":"IF(L682=\"\",\"\",IF(L682>Inputs!$D$9,0,1))","v":1},{"$f":"IF(M682=\"\",\"\",IF(M682>Inputs!$D$9,0,1))","v":1},{"$f":"IF(N682=\"\",\"\",IF(N682>Inputs!$D$9,0,1))","v":1},{"$f":"IF(O682=\"\",\"\",IF(O682>Inputs!$D$9,0,1))","v":1},{"$f":"IF(COUNT(P682:U682)=0,\"\",INDEX(Inputs!$O$21:$P$26,MATCH(COUNT(P682:U682),Inputs!$O$21:$O$26,0),2))","v":20},1,null,null,{"$f":"IF(D682=\"\",\"\",IF(D682=\"-\",\"\",IF(D682>AVERAGE($D$2:$D$1000),1,0)))","v":1},1,1,1,1,1,1]
[{"$f":"'SIP Returns'!B684","v":0},null,{"$f":"'SIP Returns'!D684","v":0},{"$f":"'SIP Returns'!E684","v":0},{"$f":"'SIP Returns'!F684","v":0},{"$f":"'SIP Returns'!G684","v":0},{"$f":"'SIP Returns'!H684","v":0},{"$f":"'SIP Returns'!I684","v":0},{"$f":"'SIP Returns'!J684","v":0},1,10,8,4,1,1,{"$f":"IF(J683=\"\",\"\",IF(J683>Inputs!$D$9,0,1))","v":1},{"$f":"IF(K683=\"\",\"\",IF(K683>Inputs!$D$9,0,1))","v":1},{"$f":"IF(L683=\"\",\"\",IF(L683>Inputs!$D$9,0,1))","v":1},{"$f":"IF(M683=\"\",\"\",IF(M683>Inputs!$D$9,0,1))","v":1},{"$f":"IF(N683=\"\",\"\",IF(N683>Inputs!$D$9,0,1))","v":1},{"$f":"IF(O683=\"\",\"\",IF(O683>Inputs!$D$9,0,1))","v":1},{"$f":"IF(COUNT(P683:U683)=0,\"\",INDEX(Inputs!$O$21:$P$26,MATCH(COUNT(P683:U683),Inputs!$O$21:$O$26,0),2))","v":20},1,null,null,{"$f":"IF(D683=\"\",\"\",IF(D683=\"-\",\"\",IF(D683>AVERAGE($D$2:$D$1000),1,0)))","v":1},1,1,1,1,1,1]
[{"$f":"'SIP Returns'!B685","v":0},null,{"$f":"'SIP Returns'!D685","v":0},{"$f":"'SIP Returns'!E685","v":0},{"$f":"'SIP Returns'!F685","v":0},{"$f":"'SIP Returns'!G685","v":0},{"$f":"'SIP Returns'!H685","v":0},{"$f":"'SIP Returns'!I685","v":0},{"$f":"'SIP Returns'!J685","v":0},1,10,8,4,1,1,{"$f":"IF(J684=\"\",\"\",IF(J684>Inputs!$D$9,0,1))","v":1},{"$f":"IF(K684=\"\",\"\",IF(K684>Inputs!$D$9,0,1))","v":1},{"$f":"IF(L684=\"\",\"\",IF(L684>Inputs!$D$9,0,1))","v":1},{"$f":"IF(M684=\"\",\"\",IF(M684>Inputs!$D$9,0,1))","v":1},{"$f":"IF(N684=\"\",\"\",IF(N684>Inputs!$D$9,0,1))","v":1},{"$f":"IF(O684=\"\",\"\",IF(O684>Inputs!$D$9,0,1))","v":1},{"$f":"IF(COUNT(P684:U684)=0,\"\",INDEX(Inputs!$O$21:$P$26,MATCH(COUNT(P684:U684),Inputs!$O$21:$O$26,0),2))","v":20},1,null,null,{"$f":"IF(D684=\"\",\"\",IF(D684=\"-\",\"\",IF(D684>AVERAGE($D$2:$D$1000),1,0)))","v":1},1,1,1,1,1,1]
[{"$f":"'SIP Returns'!B686","v":0},null,{"$f":"'SIP Returns'!D686","v":0},{"$f":"'SIP Returns'!E686","v":0},{"$f":"'SIP Returns'!F686","v":0},{"$f":"'SIP Returns'!G686","v":0},{"$f":"'SIP Returns'!H686","v":0},{"$f":"'SIP Returns'!I686","v":0},{"$f":"'SIP Returns'!J686","v":0},1,10,8,4,1,1,{"$f":"IF(J685=\"\",\"\",IF(J685>Inputs!$D$9,0,1))","v":1},{"$f":"IF(K685=\"\",\"\",IF(K685>Inputs!$D$9,0,1))","v":1},{"$f":"IF(L685=\"\",\"\",IF(L685>Inputs!$D$9,0,1))","v":1},{"$f":"IF(M685=\"\",\"\",IF(M685>Inputs!$D$9,0,1))","v":1},{"$f":"IF(N685=\"\",\"\",IF(N685>Inputs!$D$9,0,1))","v":1},{"$f":"IF(O685=\"\",\"\",IF(O685>Inputs!$D$9,0,1))","v":1},{"$f":"IF(COUNT(P685:U685)=0,\"\",INDEX(Inputs!$O$21:$P$26,MATCH(COUNT(P685:U685),Inputs!$O$21:$O$26,0),2))","v":20},1,null,null,{"$f":"IF(D685=\"\",\"\",IF(D685=\"-\",\"\",IF(D685>AVERAGE($D$2:$D$1000),1,0)))","v":1},1,1,1,1,1,1]
[{"$f":"'SIP Returns'!B687","v":0},null,{"$f":"'SIP Returns'!D687","v":0},{"$f":"'SIP Returns'!E687","v":0},{"$f":"'SIP Returns'!F687","v":0},{"$f":"'SIP Returns'!G687","v":0},{"$f":"'SIP Returns'!H687","v":0},{"$f":"'SIP Returns'!I687","v":0},{"$f":"'SIP Returns'!J687","v":0},1,10,8,4,1,1,{"$f":"IF(J686=\"\",\"\",IF(J686>Inputs!$D$9,0,1))","v":1},{"$f":"IF(K686=\"\",\"\",IF(K686>Inputs!$D$9,0,1))","v":1},{"$f":"IF(L686=\"\",\"\",IF(L686>Inputs!$D$9,0,1))","v":1},{"$f":"IF(M686=\"\",\"\",IF(M686>Inputs!$D$9,0,1))","v":1},{"$f":"IF(N686=\"\",\"\",IF(N686>Inputs!$D$9,0,1))","v":1},{"$f":"IF(O686=\"\",\"\",IF(O686>Inputs!$D$9,0,1))","v":1},{"$f":"IF(COUNT(P686:U686)=0,\"\",INDEX(Inputs!$O$21:$P$26,MATCH(COUNT(P686:U686),Inputs!$O$21:$O$26,0),2))","v":20},1,null,null,{"$f":"IF(D686=\"\",\"\",IF(D686=\"-\",\"\",IF(D686>AVERAGE($D$2:$D$1000),1,0)))","v":1},1,1,1,1,1,1]
[{"$f":"'SIP Returns'!B688","v":0},null,{"$f":"'SIP Returns'!D688","v":0},{"$f":"'SIP Returns'!E688","v":0},{"$f":"'SIP Returns'!F688","v":0},{"$f":"'SIP Returns'!G688","v":0},{"$f":"'SIP Returns'!H688","v":0},{"$f":"'SIP Returns'!I688","v":0},{"$f":"'SIP Returns'!J688","v":0},1,10,8,4,1,1,{"$f":"IF(J687=\"\",\"\",IF(J687>Inputs!$D$9,0,1))","v":1},{"$f":"IF(K687=\"\",\"\",IF(K687>Inputs!$D$9,0,1))","v":1},{"$f":"IF(L687=\"\",\"\",IF(L687>Inputs!$D$9,0,1))","v":1},{"$f":"IF(M687=\"\",\"\",IF(M687>Inputs!$D$9,0,1))","v":1},{"$f":"IF(N687=\"\",\"\",IF(N687>Inputs!$D$9,0,1))","v":1},{"$f":"IF(O687=\"\",\"\",IF(O687>Inputs!$D$9,0,1))","v":1},{"$f":"IF(COUNT(P687:U687)=0,\"\",INDEX(Inputs!$O$21:$P$26,MATCH(COUNT(P687:U687),Inputs!$O$21:$O$26,0),2))","v":20},1,null,null,{"$f":"IF(D687=\"\",\"\",IF(D687=\"-\",\"\",IF(D687>AVERAGE($D$2:$D$1000),1,0)))","v":1},1,1,1,1,1,1]
[{"$f":"'SIP Returns'!B689","v":0},null,{"$f":"'SIP Returns'!D689","v":0},{"$f":"'SIP Returns'!E689","v":0},{"$f":"'SIP Returns'!F689","v":0},{"$f":"'SIP Returns'!G689","v":0},{"$f":"'SIP Returns'!H689","v":0},{"$f":"'SIP Returns'!I689","v":0},{"$f":"'SIP Returns'!J689","v":0},1,10,8,4,1,1,{"$f":"IF(J688=\"\",\"\",IF(J688>Inputs!$D$9,0,1))","v":1},{"$f":"IF(K688=\"\",\"\",IF(K688>Inputs!$D$9,0,1))","v":1},{"$f":"IF(L688=\"\",\"\",IF(L688>Inputs!$D$9,0,1))","v":1},{"$f":"IF(M688=\"\",\"\",IF(M688>Inputs!$D$9,0,1))","v":1},{"$f":"IF(N688=\"\",\"\",IF(N688>Inputs!$D$9,0,1))","v":1},{"$f":"IF(O688=\"\",\"\",IF(O688>Inputs!$D$9,0,1))","v":1},{"$f":"IF(COUNT(P688:U688)=0,\"\",INDEX(Inputs!$O$21:$P$26,MATCH(COUNT(P688:U688),Inputs!$O$21:$O$26,0),2))","v":20},1,null,null,{"$f":"IF(D688=\"\",\"\",IF(D688=\"-\",\"\",IF(D688>AVERAGE($D$2:$D$1000),1,0)))","v":1},1,1,1,1,1,1]
[{"$f":"'SIP Returns'!B690","v":0},null,{"$f":"'SIP Returns'!D690","v":0},{"$f":"'SIP Returns'!E690","v":0},{"$f":"'SIP Returns'!F690","v":0},{"$f":"'SIP Returns'!G690","v":0},{"$f":"'SIP Returns'!H690","v":0},{"$f":"'SIP Returns'!I690","v":0},{"$f":"'SIP Returns'!J690","v":0},1,10,8,4,1,1,{"$f":"IF(J689=\"\",\"\",IF(J689>Inputs!$D$9,0,1))","v":1},{"$f":"IF(K689=\"\",\"\",IF(K689>Inputs!$D$9,0,1))","v":1},{"$f":"IF(L689=\"\",\"\",IF(L689>Inputs!$D$9,0,1))","v":1},{"$f":"IF(M689=\"\",\"\",IF(M689>Inputs!$D$9,0,1))","v":1},{"$f":"IF(N689=\"\",\"\",IF(N689>Inputs!$D$9,0,1))","v":1},{"$f":"IF(O689=\"\",\"\",IF(O689>Inputs!$D$9,0,1))","v":1},{"$f":"IF(COUNT(P689:U689)=0,\"\",INDEX(Inputs!$O$21:$P$26,MATCH(COUNT(P689:U689),Inputs!$O$21:$O$26,0),2))","v":20},1,null,null,{"$f":"IF(D689=\"\",\"\",IF(D689=\"-\",\"\",IF(D689>AVERAGE($D$2:$D$1000),1,0)))","v":1},1,1,1,1,1,1]
[{"$f":"'SIP Returns'!B691","v":0},null,{"$f":"'SIP Returns'!D691","v":0},{"$f":"'SIP Returns'!E691","v":0},{"$f":"'SIP Returns'!F691","v":0},{"$f":"'SIP Returns'!G691","v":0},{"$f":"'SIP Returns'!H691","v":0},{"$f":"'SIP Returns'!I691","v":0},{"$f":"'SIP Returns'!J691","v":0},1,10,8,4,1,1,{"$f":"IF(J690=\"\",\"\",IF(J690>Inputs!$D$9,0,1))","v":1},{"$f":"IF(K690=\"\",\"\",IF(K690>Inputs!$D$9,0,1))","v":1},{"$f":"IF(L690=\"\",\"\",IF(L690>Inputs!$D$9,0,1))","v":1},{"$f":"IF(M690=\"\",\"\",IF(M690>Inputs!$D$9,0,1))","v":1},{"$f":"IF(N690=\"\",\"\",IF(N690>Inputs!$D$9,0,1))","v":1},{"$f":"IF(O690=\"\",\"\",IF(O690>Inputs!$D$9,0,1))","v":1},{"$f":"IF(COUNT(P690:U690)=0,\"\",INDEX(Inputs!$O$21:$P$26,MATCH(COUNT(P690:U690),Inputs!$O$21:$O$26,0),2))","v":20},1,null,null,{"$f":"IF(D690=\"\",\"\",IF(D690=\"-\",\"\",IF(D690>AVERAGE($D$2:$D$1000),1,0)))","v":1},1,1,1,1,1,1]
[{"$f":"'SIP Returns'!B692","v":0},null,{"$f":"'SIP Returns'!D692","v":0},{"$f":"'SIP Returns'!E692","v":0},{"$f":"'SIP Returns'!F692","v":0},{"$f":"'SIP Returns'!G692","v":0},{"$f":"'SIP Returns'!H692","v":0},{"$f":"'SIP Returns'!I692","v":0},{"$f":"'SIP Returns'!J692","v":0},1,10,8,4,1,1,{"$f":"IF(J691=\"\",\"\",IF(J691>Inputs!$D$9,0,1))","v":1},{"$f":"IF(K691=\"\",\"\",IF(K691>Inputs!$D$9,0,1))","v":1},{"$f":"IF(L691=\"\",\"\",IF(L691>Inputs!$D$9,0,1))","v":1},{"$f":"IF(M691=\"\",\"\",IF(M691>Inputs!$D$9,0,1))","v":1},{"$f":"IF(N691=\"\",\"\",IF(N691>Inputs!$D$9,0,1))","v":1},{"$f":"IF(O691=\"\",\"\",IF(O691>Inputs!$D$9,0,1))","v":1},{"$f":"IF(COUNT(P691:U691)=0,\"\",INDEX(Inputs!$O$21:$P$26,MATCH(COUNT(P691:U691),Inputs!$O$21:$O$26,0),2))","v":20},1,null,null,{"$f":"IF(D691=\"\",\"\",IF(D691=\"-\",\"\",IF(D691>AVERAGE($D$2:$D$1000),1,0)))","v":1},1,1,1,1,1,1]
[{"$f":"'SIP Returns'!B693","v":0},null,{"$f":"'SIP Returns'!D693","v":0},{"$f":"'SIP Returns'!E693","v":0},{"$f":"'SIP Returns'!F693","v":0},{"$f":"'SIP Returns'!G693","v":0},{"$f":"'SIP Returns'!H693","v":0},{"$f":"'SIP Returns'!I693","v":0},{"$f":"'SIP Returns'!J693","v":0},1,10,8,4,1,1,{"$f":"IF(J692=\"\",\"\",IF(J692>Inputs!$D$9,0,1))","v":1},{"$f":"IF(K692=\"\",\"\",IF(K692>Inputs!$D$9,0,1))","v":1},{"$f":"IF(L692=\"\",\"\",IF(L692>Inputs!$D$9,0,1))","v":1},{"$f":"IF(M692=\"\",\"\",IF(M692>Inputs!$D$9,0,1))","v":1},{"$f":"IF(N692=\"\",\"\",IF(N692>Inputs!$D$9,0,1))","v":1},{"$f":"IF(O692=\"\",\"\",IF(O692>Inputs!$D$9,0,1))","v":1},{"$f":"IF(COUNT(P692:U692)=0,\"\",INDEX(Inputs!$O$21:$P$26,MATCH(COUNT(P692:U692),Inputs!$O$21:$O$26,0),2))","v":20},1,null,null,{"$f":"IF(D692=\"\",\"\",IF(D692=\"-\",\"\",IF(D692>AVERAGE($D$2:$D$1000),1,0)))","v":1},1,1,1,1,1,1]
[{"$f":"'SIP Returns'!B694","v":0},null,{"$f":"'SIP Returns'!D694","v":0},{"$f":"'SIP Returns'!E694","v":0},{"$f":"'SIP Returns'!F694","v":0},{"$f":"'SIP Returns'!G694","v":0},{"$f":"'SIP Returns'!H694","v":0},{"$f":"'SIP Returns'!I694","v":0},{"$f":"'SIP Returns'!J694","v":0},1,10,8,4,1,1,{"$f":"IF(J693=\"\",\"\",IF(J693>Inputs!$D$9,0,1))","v":1},{"$f":"IF(K693=\"\",\"\",IF(K693>Inputs!$D$9,0,1))","v":1},{"$f":"IF(L693=\"\",\"\",IF(L693>Inputs!$D$9,0,1))","v":1},{"$f":"IF(M693=\"\",\"\",IF(M693>Inputs!$D$9,0,1))","v":1},{"$f":"IF(N693=\"\",\"\",IF(N693>Inputs!$D$9,0,1))","v":1},{"$f":"IF(O693=\"\",\"\",IF(O693>Inputs!$D$9,0,1))","v":1},{"$f":"IF(COUNT(P693:U693)=0,\"\",INDEX(Inputs!$O$21:$P$26,MATCH(COUNT(P693:U693),Inputs!$O$21:$O$26,0),2))","v":20},1,null,null,{"$f":"IF(D693=\"\",\"\",IF(D693=\"-\",\"\",IF(D693>AVERAGE($D$2:$D$1000),1,0)))","v":1},1,1,1,1,1,1]
[{"$f":"'SIP Returns'!B695","v":0},null,{"$f":"'SIP Returns'!D695","v":0},{"$f":"'SIP Returns'!E695","v":0},{"$f":"'SIP Returns'!F695","v":0},{"$f":"'SIP Returns'!G695","v":0},{"$f":"'SIP Returns'!H695","v":0},{"$f":"'SIP Returns'!I695","v":0},{"$f":"'SIP Returns'!J695","v":0},1,10,8,4,1,1,{"$f":"IF(J694=\"\",\"\",IF(J694>Inputs!$D$9,0,1))","v":1},{"$f":"IF(K694=\"\",\"\",IF(K694>Inputs!$D$9,0,1))","v":1},{"$f":"IF(L694=\"\",\"\",IF(L694>Inputs!$D$9,0,1))","v":1},{"$f":"IF(M694=\"\",\"\",IF(M694>Inputs!$D$9,0,1))","v":1},{"$f":"IF(N694=\"\",\"\",IF(N694>Inputs!$D$9,0,1))","v":1},{"$f":"IF(O694=\"\",\"\",IF(O694>Inputs!$D$9,0,1))","v":1},{"$f":"IF(COUNT(P694:U694)=0,\"\",INDEX(Inputs!$O$21:$P$26,MATCH(COUNT(P694:U694),Inputs!$O$21:$O$26,0),2))","v":20},1,null,null,{"$f":"IF(D694=\"\",\"\",IF(D694=\"-\",\"\",IF(D694>AVERAGE($D$2:$D$1000),1,0)))","v":1},1,1,1,1,1,1]
[{"$f":"'SIP Returns'!B696","v":0},null,{"$f":"'SIP Returns'!D696","v":0},{"$f":"'SIP Returns'!E696","v":0},{"$f":"'SIP Returns'!F696","v":0},{"$f":"'SIP Returns'!G696","v":0},{"$f":"'SIP Returns'!H696","v":0},{"$f":"'SIP Returns'!I696","v":0},{"$f":"'SIP Returns'!J696","v":0},1,10,8,4,1,1,{"$f":"IF(J695=\"\",\"\",IF(J695>Inputs!$D$9,0,1))","v":1},{"$f":"IF(K695=\"\",\"\",IF(K695>Inputs!$D$9,0,1))","v":1},{"$f":"IF(L695=\"\",\"\",IF(L695>Inputs!$D$9,0,1))","v":1},{"$f":"IF(M695=\"\",\"\",IF(M695>Inputs!$D$9,0,1))","v":1},{"$f":"IF(N695=\"\",\"\",IF(N695>Inputs!$D$9,0,1))","v":1},{"$f":"IF(O695=\"\",\"\",IF(O695>Inputs!$D$9,0,1))","v":1},{"$f":"IF(COUNT(P695:U695)=0,\"\",INDEX(Inputs!$O$21:$P$26,MATCH(COUNT(P695:U695),Inputs!$O$21:$O$26,0),2))","v":20},1,null,null,{"$f":"IF(D695=\"\",\"\",IF(D695=\"-\",\"\",IF(D695>AVERAGE($D$2:$D$1000),1,0)))","v":1},1,1,1,1,1,1]
[{"$f":"'SIP Returns'!B697","v":0},null,{"$f":"'SIP Returns'!D697","v":0},{"$f":"'SIP Returns'!E697","v":0},{"$f":"'SIP Returns'!F697","v":0},{"$f":"'SIP Returns'!G697","v":0},{"$f":"'SIP Returns'!H697","v":0},{"$f":"'SIP Returns'!I697","v":0},{"$f":"'SIP Returns'!J697","v":0},1,10,8,4,1,1,{"$f":"IF(J696=\"\",\"\",IF(J696>Inputs!$D$9,0,1))","v":1},{"$f":"IF(K696=\"\",\"\",IF(K696>Inputs!$D$9,0,1))","v":1},{"$f":"IF(L696=\"\",\"\",IF(L696>Inputs!$D$9,0,1))","v":1},{"$f":"IF(M696=\"\",\"\",IF(M696>Inputs!$D$9,0,1))","v":1},{"$f":"IF(N696=\"\",\"\",IF(N696>Inputs!$D$9,0,1))","v":1},{"$f":"IF(O696=\"\",\"\",IF(O696>Inputs!$D$9,0,1))","v":1},{"$f":"IF(COUNT(P696:U696)=0,\"\",INDEX(Inputs!$O$21:$P$26,MATCH(COUNT(P696:U696),Inputs!$O$21:$O$26,0),2))","v":20},1,null,null,{"$f":"IF(D696=\"\",\"\",IF(D696=\"-\",\"\",IF(D696>AVERAGE($D$2:$D$1000),1,0)))","v":1},1,1,1,1,1,1]
[{"$f":"'SIP Returns'!B698","v":0},null,{"$f":"'SIP Returns'!D698","v":0},{"$f":"'SIP Returns'!E698","v":0},{"$f":"'SIP Returns'!F698","v":0},{"$f":"'SIP Returns'!G698","v":0},{"$f":"'SIP Returns'!H698","v":0},{"$f":"'SIP Returns'!I698","v":0},{"$f":"'SIP Returns'!J698","v":0},1,10,8,4,1,1,{"$f":"IF(J697=\"\",\"\",IF(J697>Inputs!$D$9,0,1))","v":1},{"$f":"IF(K697=\"\",\"\",IF(K697>Inputs!$D$9,0,1))","v":1},{"$f":"IF(L697=\"\",\"\",IF(L697>Inputs!$D$9,0,1))","v":1},{"$f":"IF(M697=\"\",\"\",IF(M697>Inputs!$D$9,0,1))","v":1},{"$f":"IF(N697=\"\",\"\",IF(N697>Inputs!$D$9,0,1))","v":1},{"$f":"IF(O697=\"\",\"\",IF(O697>Inputs!$D$9,0,1))","v":1},{"$f":"IF(COUNT(P697:U697)=0,\"\",INDEX(Inputs!$O$21:$P$26,MATCH(COUNT(P697:U697),Inputs!$O$21:$O$26,0),2))","v":20},1,null,null,{"$f":"IF(D697=\"\",\"\",IF(D697=\"-\",\"\",IF(D697>AVERAGE($D$2:$D$1000),1,0)))","v":1},1,1,1,1,1,1]
[{"$f":"'SIP Returns'!B699","v":0},null,{"$f":"'SIP Returns'!D699","v":0},{"$f":"'SIP Returns'!E699","v":0},{"$f":"'SIP Returns'!F699","v":0},{"$f":"'SIP Returns'!G699","v":0},{"$f":"'SIP Returns'!H699","v":0},{"$f":"'SIP Returns'!I699","v":0},{"$f":"'SIP Returns'!J699","v":0},1,10,8,4,1,1,{"$f":"IF(J698=\"\",\"\",IF(J698>Inputs!$D$9,0,1))","v":1},{"$f":"IF(K698=\"\",\"\",IF(K698>Inputs!$D$9,0,1))","v":1},{"$f":"IF(L698=\"\",\"\",IF(L698>Inputs!$D$9,0,1))","v":1},{"$f":"IF(M698=\"\",\"\",IF(M698>Inputs!$D$9,0,1))","v":1},{"$f":"IF(N698=\"\",\"\",IF(N698>Inputs!$D$9,0,1))","v":1},{"$f":"IF(O698=\"\",\"\",IF(O698>Inputs!$D$9,0,1))","v":1},{"$f":"IF(COUNT(P698:U698)=0,\"\",INDEX(Inputs!$O$21:$P$26,MATCH(COUNT(P698:U698),Inputs!$O$21:$O$26,0),2))","v":20},1,null,null,{"$f":"IF(D698=\"\",\"\",IF(D698=\"-\",\"\",IF(D698>AVERAGE($D$2:$D$1000),1,0)))","v":1},1,1,1,1,1,1]
[{"$f":"'SIP Returns'!B700","v":0},null,{"$f":"'SIP Returns'!D700","v":0},{"$f":"'SIP Returns'!E700","v":0},{"$f":"'SIP Returns'!F700","v":0},{"$f":"'SIP Returns'!G700","v":0},{"$f":"'SIP Returns'!H700","v":0},{"$f":"'SIP Returns'!I700","v":0},{"$f":"'SIP Returns'!J700","v":0},1,10,8,4,1,1,{"$f":"IF(J699=\"\",\"\",IF(J699>Inputs!$D$9,0,1))","v":1},{"$f":"IF(K699=\"\",\"\",IF(K699>Inputs!$D$9,0,1))","v":1},{"$f":"IF(L699=\"\",\"\",IF(L699>Inputs!$D$9,0,1))","v":1},{"$f":"IF(M699=\"\",\"\",IF(M699>Inputs!$D$9,0,1))","v":1},{"$f":"IF(N699=\"\",\"\",IF(N699>Inputs!$D$9,0,1))","v":1},{"$f":"IF(O699=\"\",\"\",IF(O699>Inputs!$D$9,0,1))","v":1},{"$f":"IF(COUNT(P699:U699)=0,\"\",INDEX(Inputs!$O$21:$P$26,MATCH(COUNT(P699:U699),Inputs!$O$21:$O$26,0),2))","v":20},1,null,null,{"$f":"IF(D699=\"\",\"\",IF(D699=\"-\",\"\",IF(D699>AVERAGE($D$2:$D$1000),1,0)))","v":1},1,1,1,1,1,1]
[{"$f":"'SIP Returns'!B701","v":0},null,{"$f":"'SIP Returns'!D701","v":0},{"$f":"'SIP Returns'!E701","v":0},{"$f":"'SIP Returns'!F701","v":0},{"$f":"'SIP Returns'!G701","v":0},{"$f":"'SIP Returns'!H701","v":0},{"$f":"'SIP Returns'!I701","v":0},{"$f":"'SIP Returns'!J701","v":0},1,10,8,4,1,1,{"$f":"IF(J700=\"\",\"\",IF(J700>Inputs!$D$9,0,1))","v":1},{"$f":"IF(K700=\"\",\"\",IF(K700>Inputs!$D$9,0,1))","v":1},{"$f":"IF(L700=\"\",\"\",IF(L700>Inputs!$D$9,0,1))","v":1},{"$f":"IF(M700=\"\",\"\",IF(M700>Inputs!$D$9,0,1))","v":1},{"$f":"IF(N700=\"\",\"\",IF(N700>Inputs!$D$9,0,1))","v":1},{"$f":"IF(O700=\"\",\"\",IF(O700>Inputs!$D$9,0,1))","v":1},{"$f":"IF(COUNT(P700:U700)=0,\"\",INDEX(Inputs!$O$21:$P$26,MATCH(COUNT(P700:U700),Inputs!$O$21:$O$26,0),2))","v":20},1,null,null,{"$f":"IF(D700=\"\",\"\",IF(D700=\"-\",\"\",IF(D700>AVERAGE($D$2:$D$1000),1,0)))","v":1},1,1,1,1,1,1]
[{"$f":"'SIP Returns'!B702","v":0},null,{"$f":"'SIP Returns'!D702","v":0},{"$f":"'SIP Returns'!E702","v":0},{"$f":"'SIP Returns'!F702","v":0},{"$f":"'SIP Returns'!G702","v":0},{"$f":"'SIP Returns'!H702","v":0},{"$f":"'SIP Returns'!I702","v":0},{"$f":"'SIP Returns'!J702","v":0},1,10,8,4,1,1,{"$f":"IF(J701=\"\",\"\",IF(J701>Inputs!$D$9,0,1))","v":1},{"$f":"IF(K701=\"\",\"\",IF(K701>Inputs!$D$9,0,1))","v":1},{"$f":"IF(L701=\"\",\"\",IF(L701>Inputs!$D$9,0,1))","v":1},{"$f":"IF(M701=\"\",\"\",IF(M701>Inputs!$D$9,0,1))","v":1},{"$f":"IF(N701=\"\",\"\",IF(N701>Inputs!$D$9,0,1))","v":1},{"$f":"IF(O701=\"\",\"\",IF(O701>Inputs!$D$9,0,1))","v":1},{"$f":"IF(COUNT(P701:U701)=0,\"\",INDEX(Inputs!$O$21:$P$26,MATCH(COUNT(P701:U701),Inputs!$O$21:$O$26,0),2))","v":20},1,null,null,{"$f":"IF(D701=\"\",\"\",IF(D701=\"-\",\"\",IF(D701>AVERAGE($D$2:$D$1000),1,0)))","v":1},1,1,1,1,1,1]
[{"$f":"'SIP Returns'!B703","v":0},null,{"$f":"'SIP Returns'!D703","v":0},{"$f":"'SIP Returns'!E703","v":0},{"$f":"'SIP Returns'!F703","v":0},{"$f":"'SIP Returns'!G703","v":0},{"$f":"'SIP Returns'!H703","v":0},{"$f":"'SIP Returns'!I703","v":0},{"$f":"'SIP Returns'!J703","v":0},1,10,8,4,1,1,{"$f":"IF(J702=\"\",\"\",IF(J702>Inputs!$D$9,0,1))","v":1},{"$f":"IF(K702=\"\",\"\",IF(K702>Inputs!$D$9,0,1))","v":1},{"$f":"IF(L702=\"\",\"\",IF(L702>Inputs!$D$9,0,1))","v":1},{"$f":"IF(M702=\"\",\"\",IF(M702>Inputs!$D$9,0,1))","v":1},{"$f":"IF(N702=\"\",\"\",IF(N702>Inputs!$D$9,0,1))","v":1},{"$f":"IF(O702=\"\",\"\",IF(O702>Inputs!$D$9,0,1))","v":1},{"$f":"IF(COUNT(P702:U702)=0,\"\",INDEX(Inputs!$O$21:$P$26,MATCH(COUNT(P702:U702),Inputs!$O$21:$O$26,0),2))","v":20},1,null,null,{"$f":"IF(D702=\"\",\"\",IF(D702=\"-\",\"\",IF(D702>AVERAGE($D$2:$D$1000),1,0)))","v":1},1,1,1,1,1,1]
[{"$f":"'SIP Returns'!B704","v":0},null,{"$f":"'SIP Returns'!D704","v":0},{"$f":"'SIP Returns'!E704","v":0},{"$f":"'SIP Returns'!F704","v":0},{"$f":"'SIP Returns'!G704","v":0},{"$f":"'SIP Returns'!H704","v":0},{"$f":"'SIP Returns'!I704","v":0},{"$f":"'SIP Returns'!J704","v":0},1,10,8,4,1,1,{"$f":"IF(J703=\"\",\"\",IF(J703>Inputs!$D$9,0,1))","v":1},{"$f":"IF(K703=\"\",\"\",IF(K703>Inputs!$D$9,0,1))","v":1},{"$f":"IF(L703=\"\",\"\",IF(L703>Inputs!$D$9,0,1))","v":1},{"$f":"IF(M703=\"\",\"\",IF(M703>Inputs!$D$9,0,1))","v":1},{"$f":"IF(N703=\"\",\"\",IF(N703>Inputs!$D$9,0,1))","v":1},{"$f":"IF(O703=\"\",\"\",IF(O703>Inputs!$D$9,0,1))","v":1},{"$f":"IF(COUNT(P703:U703)=0,\"\",INDEX(Inputs!$O$21:$P$26,MATCH(COUNT(P703:U703),Inputs!$O$21:$O$26,0),2))","v":20},1,null,null,{"$f":"IF(D703=\"\",\"\",IF(D703=\"-\",\"\",IF(D703>AVERAGE($D$2:$D$1000),1,0)))","v":1},1,1,1,1,1,1]
[{"$f":"'SIP Returns'!B705","v":0},null,{"$f":"'SIP Returns'!D705","v":0},{"$f":"'SIP Returns'!E705","v":0},{"$f":"'SIP Returns'!F705","v":0},{"$f":"'SIP Returns'!G705","v":0},{"$f":"'SIP Returns'!H705","v":0},{"$f":"'SIP Returns'!I705","v":0},{"$f":"'SIP Returns'!J705","v":0},1,10,8,4,1,1,{"$f":"IF(J704=\"\",\"\",IF(J704>Inputs!$D$9,0,1))","v":1},{"$f":"IF(K704=\"\",\"\",IF(K704>Inputs!$D$9,0,1))","v":1},{"$f":"IF(L704=\"\",\"\",IF(L704>Inputs!$D$9,0,1))","v":1},{"$f":"IF(M704=\"\",\"\",IF(M704>Inputs!$D$9,0,1))","v":1},{"$f":"IF(N704=\"\",\"\",IF(N704>Inputs!$D$9,0,1))","v":1},{"$f":"IF(O704=\"\",\"\",IF(O704>Inputs!$D$9,0,1))","v":1},{"$f":"IF(COUNT(P704:U704)=0,\"\",INDEX(Inputs!$O$21:$P$26,MATCH(COUNT(P704:U704),Inputs!$O$21:$O$26,0),2))","v":20},1,null,null,{"$f":"IF(D704=\"\",\"\",IF(D704=\"-\",\"\",IF(D704>AVERAGE($D$2:$D$1000),1,0)))","v":1},1,1,1,1,1,1]
[{"$f":"'SIP Returns'!B706","v":0},null,{"$f":"'SIP Returns'!D706","v":0},{"$f":"'SIP Returns'!E706","v":0},{"$f":"'SIP Returns'!F706","v":0},{"$f":"'SIP Returns'!G706","v":0},{"$f":"'SIP Returns'!H706","v":0},{"$f":"'SIP Returns'!I706","v":0},{"$f":"'SIP Returns'!J706","v":0},1,10,8,4,1,1,{"$f":"IF(J705=\"\",\"\",IF(J705>Inputs!$D$9,0,1))","v":1},{"$f":"IF(K705=\"\",\"\",IF(K705>Inputs!$D$9,0,1))","v":1},{"$f":"IF(L705=\"\",\"\",IF(L705>Inputs!$D$9,0,1))","v":1},{"$f":"IF(M705=\"\",\"\",IF(M705>Inputs!$D$9,0,1))","v":1},{"$f":"IF(N705=\"\",\"\",IF(N705>Inputs!$D$9,0,1))","v":1},{"$f":"IF(O705=\"\",\"\",IF(O705>Inputs!$D$9,0,1))","v":1},{"$f":"IF(COUNT(P705:U705)=0,\"\",INDEX(Inputs!$O$21:$P$26,MATCH(COUNT(P705:U705),Inputs!$O$21:$O$26,0),2))","v":20},1,null,null,{"$f":"IF(D705=\"\",\"\",IF(D705=\"-\",\"\",IF(D705>AVERAGE($D$2:$D$1000),1,0)))","v":1},1,1,1,1,1,1]
[{"$f":"'SIP Returns'!B707","v":0},null,{"$f":"'SIP Returns'!D707","v":0},{"$f":"'SIP Returns'!E707","v":0},{"$f":"'SIP Returns'!F707","v":0},{"$f":"'SIP Returns'!G707","v":0},{"$f":"'SIP Returns'!H707","v":0},{"$f":"'SIP Returns'!I707","v":0},{"$f":"'SIP Returns'!J707","v":0},{"$f":"IF($A706=\"\",\"\",IF(ISERROR(RANK(D706,$D$2:$D$1000,0)),\"\",RANK(D706,$D$2:$D$1000,0)))","v":1},{"$f":"IF($A706=\"\",\"\",IF(ISERROR(RANK(E706,$E$2:$E$1000,0)),\"\",RANK(E706,$E$2:$E$1000,0)))","v":10},{"$f":"IF($A706=\"\",\"\",IF(ISERROR(RANK(F706,$F$2:$F$1000,0)),\"\",RANK(F706,$F$2:$F$1000,0)))","v":8},{"$f":"IF($A706=\"\",\"\",IF(ISERROR(RANK(G706,$G$2:$G$1000,0)),\"\",RANK(G706,$G$2:$G$1000,0)))","v":4},{"$f":"IF($A706=\"\",\"\",IF(ISERROR(RANK(H706,$H$2:$H$1000,0)),\"\",RANK(H706,$H$2:$H$1000,0)))","v":1},{"$f":"IF($A706=\"\",\"\",IF(ISERROR(RANK(I706,$I$2:$I$1000,0)),\"\",RANK(I706,$I$2:$I$1000,0)))","v":1},{"$f":"IF(J706=\"\",\"\",IF(J706>Inputs!$D$9,0,1))","v":1},{"$f":"IF(K706=\"\",\"\",IF(K706>Inputs!$D$9,0,1))","v":1},{"$f":"IF(L706=\"\",\"\",IF(L706>Inputs!$D$9,0,1))","v":1},{"$f":"IF(M706=\"\",\"\",IF(M706>Inputs!$D$9,0,1))","v":1},{"$f":"IF(N706=\"\",\"\",IF(N706>Inputs!$D$9,0,1))","v":1},{"$f":"IF(O706=\"\",\"\",IF(O706>Inputs!$D$9,0,1))","v":1},{"$f":"IF(COUNT(P706:U706)=0,\"\",INDEX(Inputs!$O$21:$P$26,MATCH(COUNT(P706:U706),Inputs!$O$21:$O$26,0),2))","v":20},1,null,null,{"$f":"IF(D706=\"\",\"\",IF(D706=\"-\",\"\",IF(D706>AVERAGE($D$2:$D$1000),1,0)))","v":1},1,1,1,1,1,{"$f":"IF(COUNT(Z706:AE706)=0,\"\",SUM(Z706:AE706)/COUNT(Z706:AE706))","v":1}]
[{"$f":"'SIP Returns'!B708","v":0},null,{"$f":"'SIP Returns'!D708","v":0},{"$f":"'SIP Returns'!E708","v":0},{"$f":"'SIP Returns'!F708","v":0},{"$f":"'SIP Returns'!G708","v":0},{"$f":"'SIP Returns'!H708","v":0},{"$f":"'SIP Returns'!I708","v":0},{"$f":"'SIP Returns'!J708","v":0},1,10,8,4,1,1,{"$f":"IF(J707=\"\",\"\",IF(J707>Inputs!$D$9,0,1))","v":1},{"$f":"IF(K707=\"\",\"\",IF(K707>Inputs!$D$9,0,1))","v":1},{"$f":"IF(L707=\"\",\"\",IF(L707>Inputs!$D$9,0,1))","v":1},{"$f":"IF(M707=\"\",\"\",IF(M707>Inputs!$D$9,0,1))","v":1},{"$f":"IF(N707=\"\",\"\",IF(N707>Inputs!$D$9,0,1))","v":1},{"$f":"IF(O707=\"\",\"\",IF(O707>Inputs!$D$9,0,1))","v":1},{"$f":"IF(COUNT(P707:U707)=0,\"\",INDEX(Inputs!$O$21:$P$26,MATCH(COUNT(P707:U707),Inputs!$O$21:$O$26,0),2))","v":20},{"$f":"IF(COUNT(P707:U707)=0,\"\",SUM(P707:U707)/COUNT(P707:U707))","v":1},null,null,{"$f":"IF(D707=\"\",\"\",IF(D707=\"-\",\"\",IF(D707>AVERAGE($D$2:$D$1000),1,0)))","v":1},1,1,1,1,1,1]
[{"$f":"'SIP Returns'!B709","v":0},null,{"$f":"'SIP Returns'!D709","v":0},{"$f":"'SIP Returns'!E709","v":0},{"$f":"'SIP Returns'!F709","v":0},{"$f":"'SIP Returns'!G709","v":0},{"$f":"'SIP Returns'!H709","v":0},{"$f":"'SIP Returns'!I709","v":0},{"$f":"'SIP Returns'!J709","v":0},1,10,8,4,1,1,{"$f":"IF(J708=\"\",\"\",IF(J708>Inputs!$D$9,0,1))","v":1},{"$f":"IF(K708=\"\",\"\",IF(K708>Inputs!$D$9,0,1))","v":1},{"$f":"IF(L708=\"\",\"\",IF(L708>Inputs!$D$9,0,1))","v":1},{"$f":"IF(M708=\"\",\"\",IF(M708>Inputs!$D$9,0,1))","v":1},{"$f":"IF(N708=\"\",\"\",IF(N708>Inputs!$D$9,0,1))","v":1},{"$f":"IF(O708=\"\",\"\",IF(O708>Inputs!$D$9,0,1))","v":1},{"$f":"IF(COUNT(P708:U708)=0,\"\",INDEX(Inputs!$O$21:$P$26,MATCH(COUNT(P708:U708),Inputs!$O$21:$O$26,0),2))","v":20},1,null,null,{"$f":"IF(D708=\"\",\"\",IF(D708=\"-\",\"\",IF(D708>AVERAGE($D$2:$D$1000),1,0)))","v":1},1,1,1,1,1,1]
[{"$f":"'SIP Returns'!B710","v":0},null,{"$f":"'SIP Returns'!D710","v":0},{"$f":"'SIP Returns'!E710","v":0},{"$f":"'SIP Returns'!F710","v":0},{"$f":"'SIP Returns'!G710","v":0},{"$f":"'SIP Returns'!H710","v":0},{"$f":"'SIP Returns'!I710","v":0},{"$f":"'SIP Returns'!J710","v":0},1,10,8,4,1,1,{"$f":"IF(J709=\"\",\"\",IF(J709>Inputs!$D$9,0,1))","v":1},{"$f":"IF(K709=\"\",\"\",IF(K709>Inputs!$D$9,0,1))","v":1},{"$f":"IF(L709=\"\",\"\",IF(L709>Inputs!$D$9,0,1))","v":1},{"$f":"IF(M709=\"\",\"\",IF(M709>Inputs!$D$9,0,1))","v":1},{"$f":"IF(N709=\"\",\"\",IF(N709>Inputs!$D$9,0,1))","v":1},{"$f":"IF(O709=\"\",\"\",IF(O709>Inputs!$D$9,0,1))","v":1},{"$f":"IF(COUNT(P709:U709)=0,\"\",INDEX(Inputs!$O$21:$P$26,MATCH(COUNT(P709:U709),Inputs!$O$21:$O$26,0),2))","v":20},1,null,null,{"$f":"IF(D709=\"\",\"\",IF(D709=\"-\",\"\",IF(D709>AVERAGE($D$2:$D$1000),1,0)))","v":1},1,1,1,1,1,1]
[{"$f":"'SIP Returns'!B711","v":0},null,{"$f":"'SIP Returns'!D711","v":0},{"$f":"'SIP Returns'!E711","v":0},{"$f":"'SIP Returns'!F711","v":0},{"$f":"'SIP Returns'!G711","v":0},{"$f":"'SIP Returns'!H711","v":0},{"$f":"'SIP Returns'!I711","v":0},{"$f":"'SIP Returns'!J711","v":0},1,10,8,4,1,1,{"$f":"IF(J710=\"\",\"\",IF(J710>Inputs!$D$9,0,1))","v":1},{"$f":"IF(K710=\"\",\"\",IF(K710>Inputs!$D$9,0,1))","v":1},{"$f":"IF(L710=\"\",\"\",IF(L710>Inputs!$D$9,0,1))","v":1},{"$f":"IF(M710=\"\",\"\",IF(M710>Inputs!$D$9,0,1))","v":1},{"$f":"IF(N710=\"\",\"\",IF(N710>Inputs!$D$9,0,1))","v":1},{"$f":"IF(O710=\"\",\"\",IF(O710>Inputs!$D$9,0,1))","v":1},{"$f":"IF(COUNT(P710:U710)=0,\"\",INDEX(Inputs!$O$21:$P$26,MATCH(COUNT(P710:U710),Inputs!$O$21:$O$26,0),2))","v":20},1,null,null,{"$f":"IF(D710=\"\",\"\",IF(D710=\"-\",\"\",IF(D710>AVERAGE($D$2:$D$1000),1,0)))","v":1},1,1,1,1,1,1]
[{"$f":"'SIP Returns'!B712","v":0},null,{"$f":"'SIP Returns'!D712","v":0},{"$f":"'SIP Returns'!E712","v":0},{"$f":"'SIP Returns'!F712","v":0},{"$f":"'SIP Returns'!G712","v":0},{"$f":"'SIP Returns'!H712","v":0},{"$f":"'SIP Returns'!I712","v":0},{"$f":"'SIP Returns'!J712","v":0},1,10,8,4,1,1,{"$f":"IF(J711=\"\",\"\",IF(J711>Inputs!$D$9,0,1))","v":1},{"$f":"IF(K711=\"\",\"\",IF(K711>Inputs!$D$9,0,1))","v":1},{"$f":"IF(L711=\"\",\"\",IF(L711>Inputs!$D$9,0,1))","v":1},{"$f":"IF(M711=\"\",\"\",IF(M711>Inputs!$D$9,0,1))","v":1},{"$f":"IF(N711=\"\",\"\",IF(N711>Inputs!$D$9,0,1))","v":1},{"$f":"IF(O711=\"\",\"\",IF(O711>Inputs!$D$9,0,1))","v":1},{"$f":"IF(COUNT(P711:U711)=0,\"\",INDEX(Inputs!$O$21:$P$26,MATCH(COUNT(P711:U711),Inputs!$O$21:$O$26,0),2))","v":20},1,null,null,{"$f":"IF(D711=\"\",\"\",IF(D711=\"-\",\"\",IF(D711>AVERAGE($D$2:$D$1000),1,0)))","v":1},1,1,1,1,1,1]
[{"$f":"'SIP Returns'!B713","v":0},null,{"$f":"'SIP Returns'!D713","v":0},{"$f":"'SIP Returns'!E713","v":0},{"$f":"'SIP Returns'!F713","v":0},{"$f":"'SIP Returns'!G713","v":0},{"$f":"'SIP Returns'!H713","v":0},{"$f":"'SIP Returns'!I713","v":0},{"$f":"'SIP Returns'!J713","v":0},1,10,8,4,1,1,{"$f":"IF(J712=\"\",\"\",IF(J712>Inputs!$D$9,0,1))","v":1},{"$f":"IF(K712=\"\",\"\",IF(K712>Inputs!$D$9,0,1))","v":1},{"$f":"IF(L712=\"\",\"\",IF(L712>Inputs!$D$9,0,1))","v":1},{"$f":"IF(M712=\"\",\"\",IF(M712>Inputs!$D$9,0,1))","v":1},{"$f":"IF(N712=\"\",\"\",IF(N712>Inputs!$D$9,0,1))","v":1},{"$f":"IF(O712=\"\",\"\",IF(O712>Inputs!$D$9,0,1))","v":1},{"$f":"IF(COUNT(P712:U712)=0,\"\",INDEX(Inputs!$O$21:$P$26,MATCH(COUNT(P712:U712),Inputs!$O$21:$O$26,0),2))","v":20},1,null,null,{"$f":"IF(D712=\"\",\"\",IF(D712=\"-\",\"\",IF(D712>AVERAGE($D$2:$D$1000),1,0)))","v":1},1,1,1,1,1,1]
[{"$f":"'SIP Returns'!B714","v":0},null,{"$f":"'SIP Returns'!D714","v":0},{"$f":"'SIP Returns'!E714","v":0},{"$f":"'SIP Returns'!F714","v":0},{"$f":"'SIP Returns'!G714","v":0},{"$f":"'SIP Returns'!H714","v":0},{"$f":"'SIP Returns'!I714","v":0},{"$f":"'SIP Returns'!J714","v":0},1,10,8,4,1,1,{"$f":"IF(J713=\"\",\"\",IF(J713>Inputs!$D$9,0,1))","v":1},{"$f":"IF(K713=\"\",\"\",IF(K713>Inputs!$D$9,0,1))","v":1},{"$f":"IF(L713=\"\",\"\",IF(L713>Inputs!$D$9,0,1))","v":1},{"$f":"IF(M713=\"\",\"\",IF(M713>Inputs!$D$9,0,1))","v":1},{"$f":"IF(N713=\"\",\"\",IF(N713>Inputs!$D$9,0,1))","v":1},{"$f":"IF(O713=\"\",\"\",IF(O713>Inputs!$D$9,0,1))","v":1},{"$f":"IF(COUNT(P713:U713)=0,\"\",INDEX(Inputs!$O$21:$P$26,MATCH(COUNT(P713:U713),Inputs!$O$21:$O$26,0),2))","v":20},1,null,null,{"$f":"IF(D713=\"\",\"\",IF(D713=\"-\",\"\",IF(D713>AVERAGE($D$2:$D$1000),1,0)))","v":1},1,1,1,1,1,1]
[{"$f":"'SIP Returns'!B715","v":0},null,{"$f":"'SIP Returns'!D715","v":0},{"$f":"'SIP Returns'!E715","v":0},{"$f":"'SIP Returns'!F715","v":0},{"$f":"'SIP Returns'!G715","v":0},{"$f":"'SIP Returns'!H715","v":0},{"$f":"'SIP Returns'!I715","v":0},{"$f":"'SIP Returns'!J715","v":0},1,10,8,4,1,1,{"$f":"IF(J714=\"\",\"\",IF(J714>Inputs!$D$9,0,1))","v":1},{"$f":"IF(K714=\"\",\"\",IF(K714>Inputs!$D$9,0,1))","v":1},{"$f":"IF(L714=\"\",\"\",IF(L714>Inputs!$D$9,0,1))","v":1},{"$f":"IF(M714=\"\",\"\",IF(M714>Inputs!$D$9,0,1))","v":1},{"$f":"IF(N714=\"\",\"\",IF(N714>Inputs!$D$9,0,1))","v":1},{"$f":"IF(O714=\"\",\"\",IF(O714>Inputs!$D$9,0,1))","v":1},{"$f":"IF(COUNT(P714:U714)=0,\"\",INDEX(Inputs!$O$21:$P$26,MATCH(COUNT(P714:U714),Inputs!$O$21:$O$26,0),2))","v":20},1,null,null,{"$f":"IF(D714=\"\",\"\",IF(D714=\"-\",\"\",IF(D714>AVERAGE($D$2:$D$1000),1,0)))","v":1},1,1,1,1,1,1]
[{"$f":"'SIP Returns'!B716","v":0},null,{"$f":"'SIP Returns'!D716","v":0},{"$f":"'SIP Returns'!E716","v":0},{"$f":"'SIP Returns'!F716","v":0},{"$f":"'SIP Returns'!G716","v":0},{"$f":"'SIP Returns'!H716","v":0},{"$f":"'SIP Returns'!I716","v":0},{"$f":"'SIP Returns'!J716","v":0},1,10,8,4,1,1,{"$f":"IF(J715=\"\",\"\",IF(J715>Inputs!$D$9,0,1))","v":1},{"$f":"IF(K715=\"\",\"\",IF(K715>Inputs!$D$9,0,1))","v":1},{"$f":"IF(L715=\"\",\"\",IF(L715>Inputs!$D$9,0,1))","v":1},{"$f":"IF(M715=\"\",\"\",IF(M715>Inputs!$D$9,0,1))","v":1},{"$f":"IF(N715=\"\",\"\",IF(N715>Inputs!$D$9,0,1))","v":1},{"$f":"IF(O715=\"\",\"\",IF(O715>Inputs!$D$9,0,1))","v":1},{"$f":"IF(COUNT(P715:U715)=0,\"\",INDEX(Inputs!$O$21:$P$26,MATCH(COUNT(P715:U715),Inputs!$O$21:$O$26,0),2))","v":20},1,null,null,{"$f":"IF(D715=\"\",\"\",IF(D715=\"-\",\"\",IF(D715>AVERAGE($D$2:$D$1000),1,0)))","v":1},1,1,1,1,1,1]
[{"$f":"'SIP Returns'!B717","v":0},null,{"$f":"'SIP Returns'!D717","v":0},{"$f":"'SIP Returns'!E717","v":0},{"$f":"'SIP Returns'!F717","v":0},{"$f":"'SIP Returns'!G717","v":0},{"$f":"'SIP Returns'!H717","v":0},{"$f":"'SIP Returns'!I717","v":0},{"$f":"'SIP Returns'!J717","v":0},1,10,8,4,1,1,{"$f":"IF(J716=\"\",\"\",IF(J716>Inputs!$D$9,0,1))","v":1},{"$f":"IF(K716=\"\",\"\",IF(K716>Inputs!$D$9,0,1))","v":1},{"$f":"IF(L716=\"\",\"\",IF(L716>Inputs!$D$9,0,1))","v":1},{"$f":"IF(M716=\"\",\"\",IF(M716>Inputs!$D$9,0,1))","v":1},{"$f":"IF(N716=\"\",\"\",IF(N716>Inputs!$D$9,0,1))","v":1},{"$f":"IF(O716=\"\",\"\",IF(O716>Inputs!$D$9,0,1))","v":1},{"$f":"IF(COUNT(P716:U716)=0,\"\",INDEX(Inputs!$O$21:$P$26,MATCH(COUNT(P716:U716),Inputs!$O$21:$O$26,0),2))","v":20},1,null,null,{"$f":"IF(D716=\"\",\"\",IF(D716=\"-\",\"\",IF(D716>AVERAGE($D$2:$D$1000),1,0)))","v":1},1,1,1,1,1,1]
[{"$f":"'SIP Returns'!B718","v":0},null,{"$f":"'SIP Returns'!D718","v":0},{"$f":"'SIP Returns'!E718","v":0},{"$f":"'SIP Returns'!F718","v":0},{"$f":"'SIP Returns'!G718","v":0},{"$f":"'SIP Returns'!H718","v":0},{"$f":"'SIP Returns'!I718","v":0},{"$f":"'SIP Returns'!J718","v":0},1,10,8,4,1,1,{"$f":"IF(J717=\"\",\"\",IF(J717>Inputs!$D$9,0,1))","v":1},{"$f":"IF(K717=\"\",\"\",IF(K717>Inputs!$D$9,0,1))","v":1},{"$f":"IF(L717=\"\",\"\",IF(L717>Inputs!$D$9,0,1))","v":1},{"$f":"IF(M717=\"\",\"\",IF(M717>Inputs!$D$9,0,1))","v":1},{"$f":"IF(N717=\"\",\"\",IF(N717>Inputs!$D$9,0,1))","v":1},{"$f":"IF(O717=\"\",\"\",IF(O717>Inputs!$D$9,0,1))","v":1},{"$f":"IF(COUNT(P717:U717)=0,\"\",INDEX(Inputs!$O$21:$P$26,MATCH(COUNT(P717:U717),Inputs!$O$21:$O$26,0),2))","v":20},1,null,null,{"$f":"IF(D717=\"\",\"\",IF(D717=\"-\",\"\",IF(D717>AVERAGE($D$2:$D$1000),1,0)))","v":1},1,1,1,1,1,1]
[{"$f":"'SIP Returns'!B719","v":0},null,{"$f":"'SIP Returns'!D719","v":0},{"$f":"'SIP Returns'!E719","v":0},{"$f":"'SIP Returns'!F719","v":0},{"$f":"'SIP Returns'!G719","v":0},{"$f":"'SIP Returns'!H719","v":0},{"$f":"'SIP Returns'!I719","v":0},{"$f":"'SIP Returns'!J719","v":0},1,10,8,4,1,1,{"$f":"IF(J718=\"\",\"\",IF(J718>Inputs!$D$9,0,1))","v":1},{"$f":"IF(K718=\"\",\"\",IF(K718>Inputs!$D$9,0,1))","v":1},{"$f":"IF(L718=\"\",\"\",IF(L718>Inputs!$D$9,0,1))","v":1},{"$f":"IF(M718=\"\",\"\",IF(M718>Inputs!$D$9,0,1))","v":1},{"$f":"IF(N718=\"\",\"\",IF(N718>Inputs!$D$9,0,1))","v":1},{"$f":"IF(O718=\"\",\"\",IF(O718>Inputs!$D$9,0,1))","v":1},{"$f":"IF(COUNT(P718:U718)=0,\"\",INDEX(Inputs!$O$21:$P$26,MATCH(COUNT(P718:U718),Inputs!$O$21:$O$26,0),2))","v":20},1,null,null,{"$f":"IF(D718=\"\",\"\",IF(D718=\"-\",\"\",IF(D718>AVERAGE($D$2:$D$1000),1,0)))","v":1},1,1,1,1,1,1]
[{"$f":"'SIP Returns'!B720","v":0},null,{"$f":"'SIP Returns'!D720","v":0},{"$f":"'SIP Returns'!E720","v":0},{"$f":"'SIP Returns'!F720","v":0},{"$f":"'SIP Returns'!G720","v":0},{"$f":"'SIP Returns'!H720","v":0},{"$f":"'SIP Returns'!I720","v":0},{"$f":"'SIP Returns'!J720","v":0},1,10,8,4,1,1,{"$f":"IF(J719=\"\",\"\",IF(J719>Inputs!$D$9,0,1))","v":1},{"$f":"IF(K719=\"\",\"\",IF(K719>Inputs!$D$9,0,1))","v":1},{"$f":"IF(L719=\"\",\"\",IF(L719>Inputs!$D$9,0,1))","v":1},{"$f":"IF(M719=\"\",\"\",IF(M719>Inputs!$D$9,0,1))","v":1},{"$f":"IF(N719=\"\",\"\",IF(N719>Inputs!$D$9,0,1))","v":1},{"$f":"IF(O719=\"\",\"\",IF(O719>Inputs!$D$9,0,1))","v":1},{"$f":"IF(COUNT(P719:U719)=0,\"\",INDEX(Inputs!$O$21:$P$26,MATCH(COUNT(P719:U719),Inputs!$O$21:$O$26,0),2))","v":20},1,null,null,{"$f":"IF(D719=\"\",\"\",IF(D719=\"-\",\"\",IF(D719>AVERAGE($D$2:$D$1000),1,0)))","v":1},1,1,1,1,1,1]
[{"$f":"'SIP Returns'!B721","v":0},null,{"$f":"'SIP Returns'!D721","v":0},{"$f":"'SIP Returns'!E721","v":0},{"$f":"'SIP Returns'!F721","v":0},{"$f":"'SIP Returns'!G721","v":0},{"$f":"'SIP Returns'!H721","v":0},{"$f":"'SIP Returns'!I721","v":0},{"$f":"'SIP Returns'!J721","v":0},1,10,8,4,1,1,{"$f":"IF(J720=\"\",\"\",IF(J720>Inputs!$D$9,0,1))","v":1},{"$f":"IF(K720=\"\",\"\",IF(K720>Inputs!$D$9,0,1))","v":1},{"$f":"IF(L720=\"\",\"\",IF(L720>Inputs!$D$9,0,1))","v":1},{"$f":"IF(M720=\"\",\"\",IF(M720>Inputs!$D$9,0,1))","v":1},{"$f":"IF(N720=\"\",\"\",IF(N720>Inputs!$D$9,0,1))","v":1},{"$f":"IF(O720=\"\",\"\",IF(O720>Inputs!$D$9,0,1))","v":1},{"$f":"IF(COUNT(P720:U720)=0,\"\",INDEX(Inputs!$O$21:$P$26,MATCH(COUNT(P720:U720),Inputs!$O$21:$O$26,0),2))","v":20},1,null,null,{"$f":"IF(D720=\"\",\"\",IF(D720=\"-\",\"\",IF(D720>AVERAGE($D$2:$D$1000),1,0)))","v":1},1,1,1,1,1,1]
[{"$f":"'SIP Returns'!B722","v":0},null,{"$f":"'SIP Returns'!D722","v":0},{"$f":"'SIP Returns'!E722","v":0},{"$f":"'SIP Returns'!F722","v":0},{"$f":"'SIP Returns'!G722","v":0},{"$f":"'SIP Returns'!H722","v":0},{"$f":"'SIP Returns'!I722","v":0},{"$f":"'SIP Returns'!J722","v":0},1,10,8,4,1,1,{"$f":"IF(J721=\"\",\"\",IF(J721>Inputs!$D$9,0,1))","v":1},{"$f":"IF(K721=\"\",\"\",IF(K721>Inputs!$D$9,0,1))","v":1},{"$f":"IF(L721=\"\",\"\",IF(L721>Inputs!$D$9,0,1))","v":1},{"$f":"IF(M721=\"\",\"\",IF(M721>Inputs!$D$9,0,1))","v":1},{"$f":"IF(N721=\"\",\"\",IF(N721>Inputs!$D$9,0,1))","v":1},{"$f":"IF(O721=\"\",\"\",IF(O721>Inputs!$D$9,0,1))","v":1},{"$f":"IF(COUNT(P721:U721)=0,\"\",INDEX(Inputs!$O$21:$P$26,MATCH(COUNT(P721:U721),Inputs!$O$21:$O$26,0),2))","v":20},1,null,null,{"$f":"IF(D721=\"\",\"\",IF(D721=\"-\",\"\",IF(D721>AVERAGE($D$2:$D$1000),1,0)))","v":1},1,1,1,1,1,1]
[{"$f":"'SIP Returns'!B723","v":0},null,{"$f":"'SIP Returns'!D723","v":0},{"$f":"'SIP Returns'!E723","v":0},{"$f":"'SIP Returns'!F723","v":0},{"$f":"'SIP Returns'!G723","v":0},{"$f":"'SIP Returns'!H723","v":0},{"$f":"'SIP Returns'!I723","v":0},{"$f":"'SIP Returns'!J723","v":0},1,10,8,4,1,1,{"$f":"IF(J722=\"\",\"\",IF(J722>Inputs!$D$9,0,1))","v":1},{"$f":"IF(K722=\"\",\"\",IF(K722>Inputs!$D$9,0,1))","v":1},{"$f":"IF(L722=\"\",\"\",IF(L722>Inputs!$D$9,0,1))","v":1},{"$f":"IF(M722=\"\",\"\",IF(M722>Inputs!$D$9,0,1))","v":1},{"$f":"IF(N722=\"\",\"\",IF(N722>Inputs!$D$9,0,1))","v":1},{"$f":"IF(O722=\"\",\"\",IF(O722>Inputs!$D$9,0,1))","v":1},{"$f":"IF(COUNT(P722:U722)=0,\"\",INDEX(Inputs!$O$21:$P$26,MATCH(COUNT(P722:U722),Inputs!$O$21:$O$26,0),2))","v":20},1,null,null,{"$f":"IF(D722=\"\",\"\",IF(D722=\"-\",\"\",IF(D722>AVERAGE($D$2:$D$1000),1,0)))","v":1},1,1,1,1,1,1]
[{"$f":"'SIP Returns'!B724","v":0},null,{"$f":"'SIP Returns'!D724","v":0},{"$f":"'SIP Returns'!E724","v":0},{"$f":"'SIP Returns'!F724","v":0},{"$f":"'SIP Returns'!G724","v":0},{"$f":"'SIP Returns'!H724","v":0},{"$f":"'SIP Returns'!I724","v":0},{"$f":"'SIP Returns'!J724","v":0},1,10,8,4,1,1,{"$f":"IF(J723=\"\",\"\",IF(J723>Inputs!$D$9,0,1))","v":1},{"$f":"IF(K723=\"\",\"\",IF(K723>Inputs!$D$9,0,1))","v":1},{"$f":"IF(L723=\"\",\"\",IF(L723>Inputs!$D$9,0,1))","v":1},{"$f":"IF(M723=\"\",\"\",IF(M723>Inputs!$D$9,0,1))","v":1},{"$f":"IF(N723=\"\",\"\",IF(N723>Inputs!$D$9,0,1))","v":1},{"$f":"IF(O723=\"\",\"\",IF(O723>Inputs!$D$9,0,1))","v":1},{"$f":"IF(COUNT(P723:U723)=0,\"\",INDEX(Inputs!$O$21:$P$26,MATCH(COUNT(P723:U723),Inputs!$O$21:$O$26,0),2))","v":20},1,null,null,{"$f":"IF(D723=\"\",\"\",IF(D723=\"-\",\"\",IF(D723>AVERAGE($D$2:$D$1000),1,0)))","v":1},1,1,1,1,1,1]
[{"$f":"'SIP Returns'!B725","v":0},null,{"$f":"'SIP Returns'!D725","v":0},{"$f":"'SIP Returns'!E725","v":0},{"$f":"'SIP Returns'!F725","v":0},{"$f":"'SIP Returns'!G725","v":0},{"$f":"'SIP Returns'!H725","v":0},{"$f":"'SIP Returns'!I725","v":0},{"$f":"'SIP Returns'!J725","v":0},1,10,8,4,1,1,{"$f":"IF(J724=\"\",\"\",IF(J724>Inputs!$D$9,0,1))","v":1},{"$f":"IF(K724=\"\",\"\",IF(K724>Inputs!$D$9,0,1))","v":1},{"$f":"IF(L724=\"\",\"\",IF(L724>Inputs!$D$9,0,1))","v":1},{"$f":"IF(M724=\"\",\"\",IF(M724>Inputs!$D$9,0,1))","v":1},{"$f":"IF(N724=\"\",\"\",IF(N724>Inputs!$D$9,0,1))","v":1},{"$f":"IF(O724=\"\",\"\",IF(O724>Inputs!$D$9,0,1))","v":1},{"$f":"IF(COUNT(P724:U724)=0,\"\",INDEX(Inputs!$O$21:$P$26,MATCH(COUNT(P724:U724),Inputs!$O$21:$O$26,0),2))","v":20},1,null,null,{"$f":"IF(D724=\"\",\"\",IF(D724=\"-\",\"\",IF(D724>AVERAGE($D$2:$D$1000),1,0)))","v":1},1,1,1,1,1,1]
[{"$f":"'SIP Returns'!B726","v":0},null,{"$f":"'SIP Returns'!D726","v":0},{"$f":"'SIP Returns'!E726","v":0},{"$f":"'SIP Returns'!F726","v":0},{"$f":"'SIP Returns'!G726","v":0},{"$f":"'SIP Returns'!H726","v":0},{"$f":"'SIP Returns'!I726","v":0},{"$f":"'SIP Returns'!J726","v":0},1,10,8,4,1,1,{"$f":"IF(J725=\"\",\"\",IF(J725>Inputs!$D$9,0,1))","v":1},{"$f":"IF(K725=\"\",\"\",IF(K725>Inputs!$D$9,0,1))","v":1},{"$f":"IF(L725=\"\",\"\",IF(L725>Inputs!$D$9,0,1))","v":1},{"$f":"IF(M725=\"\",\"\",IF(M725>Inputs!$D$9,0,1))","v":1},{"$f":"IF(N725=\"\",\"\",IF(N725>Inputs!$D$9,0,1))","v":1},{"$f":"IF(O725=\"\",\"\",IF(O725>Inputs!$D$9,0,1))","v":1},{"$f":"IF(COUNT(P725:U725)=0,\"\",INDEX(Inputs!$O$21:$P$26,MATCH(COUNT(P725:U725),Inputs!$O$21:$O$26,0),2))","v":20},1,null,null,{"$f":"IF(D725=\"\",\"\",IF(D725=\"-\",\"\",IF(D725>AVERAGE($D$2:$D$1000),1,0)))","v":1},1,1,1,1,1,1]
[{"$f":"'SIP Returns'!B727","v":0},null,{"$f":"'SIP Returns'!D727","v":0},{"$f":"'SIP Returns'!E727","v":0},{"$f":"'SIP Returns'!F727","v":0},{"$f":"'SIP Returns'!G727","v":0},{"$f":"'SIP Returns'!H727","v":0},{"$f":"'SIP Returns'!I727","v":0},{"$f":"'SIP Returns'!J727","v":0},1,10,8,4,1,1,{"$f":"IF(J726=\"\",\"\",IF(J726>Inputs!$D$9,0,1))","v":1},{"$f":"IF(K726=\"\",\"\",IF(K726>Inputs!$D$9,0,1))","v":1},{"$f":"IF(L726=\"\",\"\",IF(L726>Inputs!$D$9,0,1))","v":1},{"$f":"IF(M726=\"\",\"\",IF(M726>Inputs!$D$9,0,1))","v":1},{"$f":"IF(N726=\"\",\"\",IF(N726>Inputs!$D$9,0,1))","v":1},{"$f":"IF(O726=\"\",\"\",IF(O726>Inputs!$D$9,0,1))","v":1},{"$f":"IF(COUNT(P726:U726)=0,\"\",INDEX(Inputs!$O$21:$P$26,MATCH(COUNT(P726:U726),Inputs!$O$21:$O$26,0),2))","v":20},1,null,null,{"$f":"IF(D726=\"\",\"\",IF(D726=\"-\",\"\",IF(D726>AVERAGE($D$2:$D$1000),1,0)))","v":1},1,1,1,1,1,1]
[{"$f":"'SIP Returns'!B728","v":0},null,{"$f":"'SIP Returns'!D728","v":0},{"$f":"'SIP Returns'!E728","v":0},{"$f":"'SIP Returns'!F728","v":0},{"$f":"'SIP Returns'!G728","v":0},{"$f":"'SIP Returns'!H728","v":0},{"$f":"'SIP Returns'!I728","v":0},{"$f":"'SIP Returns'!J728","v":0},1,10,8,4,1,1,{"$f":"IF(J727=\"\",\"\",IF(J727>Inputs!$D$9,0,1))","v":1},{"$f":"IF(K727=\"\",\"\",IF(K727>Inputs!$D$9,0,1))","v":1},{"$f":"IF(L727=\"\",\"\",IF(L727>Inputs!$D$9,0,1))","v":1},{"$f":"IF(M727=\"\",\"\",IF(M727>Inputs!$D$9,0,1))","v":1},{"$f":"IF(N727=\"\",\"\",IF(N727>Inputs!$D$9,0,1))","v":1},{"$f":"IF(O727=\"\",\"\",IF(O727>Inputs!$D$9,0,1))","v":1},{"$f":"IF(COUNT(P727:U727)=0,\"\",INDEX(Inputs!$O$21:$P$26,MATCH(COUNT(P727:U727),Inputs!$O$21:$O$26,0),2))","v":20},1,null,null,{"$f":"IF(D727=\"\",\"\",IF(D727=\"-\",\"\",IF(D727>AVERAGE($D$2:$D$1000),1,0)))","v":1},1,1,1,1,1,1]
[{"$f":"'SIP Returns'!B729","v":0},null,{"$f":"'SIP Returns'!D729","v":0},{"$f":"'SIP Returns'!E729","v":0},{"$f":"'SIP Returns'!F729","v":0},{"$f":"'SIP Returns'!G729","v":0},{"$f":"'SIP Returns'!H729","v":0},{"$f":"'SIP Returns'!I729","v":0},{"$f":"'SIP Returns'!J729","v":0},1,10,8,4,1,1,{"$f":"IF(J728=\"\",\"\",IF(J728>Inputs!$D$9,0,1))","v":1},{"$f":"IF(K728=\"\",\"\",IF(K728>Inputs!$D$9,0,1))","v":1},{"$f":"IF(L728=\"\",\"\",IF(L728>Inputs!$D$9,0,1))","v":1},{"$f":"IF(M728=\"\",\"\",IF(M728>Inputs!$D$9,0,1))","v":1},{"$f":"IF(N728=\"\",\"\",IF(N728>Inputs!$D$9,0,1))","v":1},{"$f":"IF(O728=\"\",\"\",IF(O728>Inputs!$D$9,0,1))","v":1},{"$f":"IF(COUNT(P728:U728)=0,\"\",INDEX(Inputs!$O$21:$P$26,MATCH(COUNT(P728:U728),Inputs!$O$21:$O$26,0),2))","v":20},1,null,null,{"$f":"IF(D728=\"\",\"\",IF(D728=\"-\",\"\",IF(D728>AVERAGE($D$2:$D$1000),1,0)))","v":1},1,1,1,1,1,1]
[{"$f":"'SIP Returns'!B730","v":0},null,{"$f":"'SIP Returns'!D730","v":0},{"$f":"'SIP Returns'!E730","v":0},{"$f":"'SIP Returns'!F730","v":0},{"$f":"'SIP Returns'!G730","v":0},{"$f":"'SIP Returns'!H730","v":0},{"$f":"'SIP Returns'!I730","v":0},{"$f":"'SIP Returns'!J730","v":0},1,10,8,4,1,1,{"$f":"IF(J729=\"\",\"\",IF(J729>Inputs!$D$9,0,1))","v":1},{"$f":"IF(K729=\"\",\"\",IF(K729>Inputs!$D$9,0,1))","v":1},{"$f":"IF(L729=\"\",\"\",IF(L729>Inputs!$D$9,0,1))","v":1},{"$f":"IF(M729=\"\",\"\",IF(M729>Inputs!$D$9,0,1))","v":1},{"$f":"IF(N729=\"\",\"\",IF(N729>Inputs!$D$9,0,1))","v":1},{"$f":"IF(O729=\"\",\"\",IF(O729>Inputs!$D$9,0,1))","v":1},{"$f":"IF(COUNT(P729:U729)=0,\"\",INDEX(Inputs!$O$21:$P$26,MATCH(COUNT(P729:U729),Inputs!$O$21:$O$26,0),2))","v":20},1,null,null,{"$f":"IF(D729=\"\",\"\",IF(D729=\"-\",\"\",IF(D729>AVERAGE($D$2:$D$1000),1,0)))","v":1},1,1,1,1,1,1]
[{"$f":"'SIP Returns'!B731","v":0},null,{"$f":"'SIP Returns'!D731","v":0},{"$f":"'SIP Returns'!E731","v":0},{"$f":"'SIP Returns'!F731","v":0},{"$f":"'SIP Returns'!G731","v":0},{"$f":"'SIP Returns'!H731","v":0},{"$f":"'SIP Returns'!I731","v":0},{"$f":"'SIP Returns'!J731","v":0},1,10,8,4,1,1,{"$f":"IF(J730=\"\",\"\",IF(J730>Inputs!$D$9,0,1))","v":1},{"$f":"IF(K730=\"\",\"\",IF(K730>Inputs!$D$9,0,1))","v":1},{"$f":"IF(L730=\"\",\"\",IF(L730>Inputs!$D$9,0,1))","v":1},{"$f":"IF(M730=\"\",\"\",IF(M730>Inputs!$D$9,0,1))","v":1},{"$f":"IF(N730=\"\",\"\",IF(N730>Inputs!$D$9,0,1))","v":1},{"$f":"IF(O730=\"\",\"\",IF(O730>Inputs!$D$9,0,1))","v":1},{"$f":"IF(COUNT(P730:U730)=0,\"\",INDEX(Inputs!$O$21:$P$26,MATCH(COUNT(P730:U730),Inputs!$O$21:$O$26,0),2))","v":20},1,null,null,{"$f":"IF(D730=\"\",\"\",IF(D730=\"-\",\"\",IF(D730>AVERAGE($D$2:$D$1000),1,0)))","v":1},1,1,1,1,1,1]
[{"$f":"'SIP Returns'!B732","v":0},null,{"$f":"'SIP Returns'!D732","v":0},{"$f":"'SIP Returns'!E732","v":0},{"$f":"'SIP Returns'!F732","v":0},{"$f":"'SIP Returns'!G732","v":0},{"$f":"'SIP Returns'!H732","v":0},{"$f":"'SIP Returns'!I732","v":0},{"$f":"'SIP Returns'!J732","v":0},1,10,8,4,1,1,{"$f":"IF(J731=\"\",\"\",IF(J731>Inputs!$D$9,0,1))","v":1},{"$f":"IF(K731=\"\",\"\",IF(K731>Inputs!$D$9,0,1))","v":1},{"$f":"IF(L731=\"\",\"\",IF(L731>Inputs!$D$9,0,1))","v":1},{"$f":"IF(M731=\"\",\"\",IF(M731>Inputs!$D$9,0,1))","v":1},{"$f":"IF(N731=\"\",\"\",IF(N731>Inputs!$D$9,0,1))","v":1},{"$f":"IF(O731=\"\",\"\",IF(O731>Inputs!$D$9,0,1))","v":1},{"$f":"IF(COUNT(P731:U731)=0,\"\",INDEX(Inputs!$O$21:$P$26,MATCH(COUNT(P731:U731),Inputs!$O$21:$O$26,0),2))","v":20},1,null,null,{"$f":"IF(D731=\"\",\"\",IF(D731=\"-\",\"\",IF(D731>AVERAGE($D$2:$D$1000),1,0)))","v":1},1,1,1,1,1,1]
[{"$f":"'SIP Returns'!B733","v":0},null,{"$f":"'SIP Returns'!D733","v":0},{"$f":"'SIP Returns'!E733","v":0},{"$f":"'SIP Returns'!F733","v":0},{"$f":"'SIP Returns'!G733","v":0},{"$f":"'SIP Returns'!H733","v":0},{"$f":"'SIP Returns'!I733","v":0},{"$f":"'SIP Returns'!J733","v":0},1,10,8,4,1,1,{"$f":"IF(J732=\"\",\"\",IF(J732>Inputs!$D$9,0,1))","v":1},{"$f":"IF(K732=\"\",\"\",IF(K732>Inputs!$D$9,0,1))","v":1},{"$f":"IF(L732=\"\",\"\",IF(L732>Inputs!$D$9,0,1))","v":1},{"$f":"IF(M732=\"\",\"\",IF(M732>Inputs!$D$9,0,1))","v":1},{"$f":"IF(N732=\"\",\"\",IF(N732>Inputs!$D$9,0,1))","v":1},{"$f":"IF(O732=\"\",\"\",IF(O732>Inputs!$D$9,0,1))","v":1},{"$f":"IF(COUNT(P732:U732)=0,\"\",INDEX(Inputs!$O$21:$P$26,MATCH(COUNT(P732:U732),Inputs!$O$21:$O$26,0),2))","v":20},1,null,null,{"$f":"IF(D732=\"\",\"\",IF(D732=\"-\",\"\",IF(D732>AVERAGE($D$2:$D$1000),1,0)))","v":1},1,1,1,1,1,1]
[{"$f":"'SIP Returns'!B734","v":0},null,{"$f":"'SIP Returns'!D734","v":0},{"$f":"'SIP Returns'!E734","v":0},{"$f":"'SIP Returns'!F734","v":0},{"$f":"'SIP Returns'!G734","v":0},{"$f":"'SIP Returns'!H734","v":0},{"$f":"'SIP Returns'!I734","v":0},{"$f":"'SIP Returns'!J734","v":0},1,10,8,4,1,1,{"$f":"IF(J733=\"\",\"\",IF(J733>Inputs!$D$9,0,1))","v":1},{"$f":"IF(K733=\"\",\"\",IF(K733>Inputs!$D$9,0,1))","v":1},{"$f":"IF(L733=\"\",\"\",IF(L733>Inputs!$D$9,0,1))","v":1},{"$f":"IF(M733=\"\",\"\",IF(M733>Inputs!$D$9,0,1))","v":1},{"$f":"IF(N733=\"\",\"\",IF(N733>Inputs!$D$9,0,1))","v":1},{"$f":"IF(O733=\"\",\"\",IF(O733>Inputs!$D$9,0,1))","v":1},{"$f":"IF(COUNT(P733:U733)=0,\"\",INDEX(Inputs!$O$21:$P$26,MATCH(COUNT(P733:U733),Inputs!$O$21:$O$26,0),2))","v":20},1,null,null,{"$f":"IF(D733=\"\",\"\",IF(D733=\"-\",\"\",IF(D733>AVERAGE($D$2:$D$1000),1,0)))","v":1},1,1,1,1,1,1]
[{"$f":"'SIP Returns'!B735","v":0},null,{"$f":"'SIP Returns'!D735","v":0},{"$f":"'SIP Returns'!E735","v":0},{"$f":"'SIP Returns'!F735","v":0},{"$f":"'SIP Returns'!G735","v":0},{"$f":"'SIP Returns'!H735","v":0},{"$f":"'SIP Returns'!I735","v":0},{"$f":"'SIP Returns'!J735","v":0},1,10,8,4,1,1,{"$f":"IF(J734=\"\",\"\",IF(J734>Inputs!$D$9,0,1))","v":1},{"$f":"IF(K734=\"\",\"\",IF(K734>Inputs!$D$9,0,1))","v":1},{"$f":"IF(L734=\"\",\"\",IF(L734>Inputs!$D$9,0,1))","v":1},{"$f":"IF(M734=\"\",\"\",IF(M734>Inputs!$D$9,0,1))","v":1},{"$f":"IF(N734=\"\",\"\",IF(N734>Inputs!$D$9,0,1))","v":1},{"$f":"IF(O734=\"\",\"\",IF(O734>Inputs!$D$9,0,1))","v":1},{"$f":"IF(COUNT(P734:U734)=0,\"\",INDEX(Inputs!$O$21:$P$26,MATCH(COUNT(P734:U734),Inputs!$O$21:$O$26,0),2))","v":20},1,null,null,{"$f":"IF(D734=\"\",\"\",IF(D734=\"-\",\"\",IF(D734>AVERAGE($D$2:$D$1000),1,0)))","v":1},1,1,1,1,1,1]
[{"$f":"'SIP Returns'!B736","v":0},null,{"$f":"'SIP Returns'!D736","v":0},{"$f":"'SIP Returns'!E736","v":0},{"$f":"'SIP Returns'!F736","v":0},{"$f":"'SIP Returns'!G736","v":0},{"$f":"'SIP Returns'!H736","v":0},{"$f":"'SIP Returns'!I736","v":0},{"$f":"'SIP Returns'!J736","v":0},1,10,8,4,1,1,{"$f":"IF(J735=\"\",\"\",IF(J735>Inputs!$D$9,0,1))","v":1},{"$f":"IF(K735=\"\",\"\",IF(K735>Inputs!$D$9,0,1))","v":1},{"$f":"IF(L735=\"\",\"\",IF(L735>Inputs!$D$9,0,1))","v":1},{"$f":"IF(M735=\"\",\"\",IF(M735>Inputs!$D$9,0,1))","v":1},{"$f":"IF(N735=\"\",\"\",IF(N735>Inputs!$D$9,0,1))","v":1},{"$f":"IF(O735=\"\",\"\",IF(O735>Inputs!$D$9,0,1))","v":1},{"$f":"IF(COUNT(P735:U735)=0,\"\",INDEX(Inputs!$O$21:$P$26,MATCH(COUNT(P735:U735),Inputs!$O$21:$O$26,0),2))","v":20},1,null,null,{"$f":"IF(D735=\"\",\"\",IF(D735=\"-\",\"\",IF(D735>AVERAGE($D$2:$D$1000),1,0)))","v":1},1,1,1,1,1,1]
[{"$f":"'SIP Returns'!B737","v":0},null,{"$f":"'SIP Returns'!D737","v":0},{"$f":"'SIP Returns'!E737","v":0},{"$f":"'SIP Returns'!F737","v":0},{"$f":"'SIP Returns'!G737","v":0},{"$f":"'SIP Returns'!H737","v":0},{"$f":"'SIP Returns'!I737","v":0},{"$f":"'SIP Returns'!J737","v":0},1,10,8,4,1,1,{"$f":"IF(J736=\"\",\"\",IF(J736>Inputs!$D$9,0,1))","v":1},{"$f":"IF(K736=\"\",\"\",IF(K736>Inputs!$D$9,0,1))","v":1},{"$f":"IF(L736=\"\",\"\",IF(L736>Inputs!$D$9,0,1))","v":1},{"$f":"IF(M736=\"\",\"\",IF(M736>Inputs!$D$9,0,1))","v":1},{"$f":"IF(N736=\"\",\"\",IF(N736>Inputs!$D$9,0,1))","v":1},{"$f":"IF(O736=\"\",\"\",IF(O736>Inputs!$D$9,0,1))","v":1},{"$f":"IF(COUNT(P736:U736)=0,\"\",INDEX(Inputs!$O$21:$P$26,MATCH(COUNT(P736:U736),Inputs!$O$21:$O$26,0),2))","v":20},1,null,null,{"$f":"IF(D736=\"\",\"\",IF(D736=\"-\",\"\",IF(D736>AVERAGE($D$2:$D$1000),1,0)))","v":1},1,1,1,1,1,1]
[{"$f":"'SIP Returns'!B738","v":0},null,{"$f":"'SIP Returns'!D738","v":0},{"$f":"'SIP Returns'!E738","v":0},{"$f":"'SIP Returns'!F738","v":0},{"$f":"'SIP Returns'!G738","v":0},{"$f":"'SIP Returns'!H738","v":0},{"$f":"'SIP Returns'!I738","v":0},{"$f":"'SIP Returns'!J738","v":0},1,10,8,4,1,1,{"$f":"IF(J737=\"\",\"\",IF(J737>Inputs!$D$9,0,1))","v":1},{"$f":"IF(K737=\"\",\"\",IF(K737>Inputs!$D$9,0,1))","v":1},{"$f":"IF(L737=\"\",\"\",IF(L737>Inputs!$D$9,0,1))","v":1},{"$f":"IF(M737=\"\",\"\",IF(M737>Inputs!$D$9,0,1))","v":1},{"$f":"IF(N737=\"\",\"\",IF(N737>Inputs!$D$9,0,1))","v":1},{"$f":"IF(O737=\"\",\"\",IF(O737>Inputs!$D$9,0,1))","v":1},{"$f":"IF(COUNT(P737:U737)=0,\"\",INDEX(Inputs!$O$21:$P$26,MATCH(COUNT(P737:U737),Inputs!$O$21:$O$26,0),2))","v":20},1,null,null,{"$f":"IF(D737=\"\",\"\",IF(D737=\"-\",\"\",IF(D737>AVERAGE($D$2:$D$1000),1,0)))","v":1},1,1,1,1,1,1]
[{"$f":"'SIP Returns'!B739","v":0},null,{"$f":"'SIP Returns'!D739","v":0},{"$f":"'SIP Returns'!E739","v":0},{"$f":"'SIP Returns'!F739","v":0},{"$f":"'SIP Returns'!G739","v":0},{"$f":"'SIP Returns'!H739","v":0},{"$f":"'SIP Returns'!I739","v":0},{"$f":"'SIP Returns'!J739","v":0},1,10,8,4,1,1,{"$f":"IF(J738=\"\",\"\",IF(J738>Inputs!$D$9,0,1))","v":1},{"$f":"IF(K738=\"\",\"\",IF(K738>Inputs!$D$9,0,1))","v":1},{"$f":"IF(L738=\"\",\"\",IF(L738>Inputs!$D$9,0,1))","v":1},{"$f":"IF(M738=\"\",\"\",IF(M738>Inputs!$D$9,0,1))","v":1},{"$f":"IF(N738=\"\",\"\",IF(N738>Inputs!$D$9,0,1))","v":1},{"$f":"IF(O738=\"\",\"\",IF(O738>Inputs!$D$9,0,1))","v":1},{"$f":"IF(COUNT(P738:U738)=0,\"\",INDEX(Inputs!$O$21:$P$26,MATCH(COUNT(P738:U738),Inputs!$O$21:$O$26,0),2))","v":20},1,null,null,{"$f":"IF(D738=\"\",\"\",IF(D738=\"-\",\"\",IF(D738>AVERAGE($D$2:$D$1000),1,0)))","v":1},1,1,1,1,1,1]
[{"$f":"'SIP Returns'!B740","v":0},null,{"$f":"'SIP Returns'!D740","v":0},{"$f":"'SIP Returns'!E740","v":0},{"$f":"'SIP Returns'!F740","v":0},{"$f":"'SIP Returns'!G740","v":0},{"$f":"'SIP Returns'!H740","v":0},{"$f":"'SIP Returns'!I740","v":0},{"$f":"'SIP Returns'!J740","v":0},1,10,8,4,1,1,{"$f":"IF(J739=\"\",\"\",IF(J739>Inputs!$D$9,0,1))","v":1},{"$f":"IF(K739=\"\",\"\",IF(K739>Inputs!$D$9,0,1))","v":1},{"$f":"IF(L739=\"\",\"\",IF(L739>Inputs!$D$9,0,1))","v":1},{"$f":"IF(M739=\"\",\"\",IF(M739>Inputs!$D$9,0,1))","v":1},{"$f":"IF(N739=\"\",\"\",IF(N739>Inputs!$D$9,0,1))","v":1},{"$f":"IF(O739=\"\",\"\",IF(O739>Inputs!$D$9,0,1))","v":1},{"$f":"IF(COUNT(P739:U739)=0,\"\",INDEX(Inputs!$O$21:$P$26,MATCH(COUNT(P739:U739),Inputs!$O$21:$O$26,0),2))","v":20},1,null,null,{"$f":"IF(D739=\"\",\"\",IF(D739=\"-\",\"\",IF(D739>AVERAGE($D$2:$D$1000),1,0)))","v":1},1,1,1,1,1,1]
[{"$f":"'SIP Returns'!B741","v":0},null,{"$f":"'SIP Returns'!D741","v":0},{"$f":"'SIP Returns'!E741","v":0},{"$f":"'SIP Returns'!F741","v":0},{"$f":"'SIP Returns'!G741","v":0},{"$f":"'SIP Returns'!H741","v":0},{"$f":"'SIP Returns'!I741","v":0},{"$f":"'SIP Returns'!J741","v":0},1,10,8,4,1,1,{"$f":"IF(J740=\"\",\"\",IF(J740>Inputs!$D$9,0,1))","v":1},{"$f":"IF(K740=\"\",\"\",IF(K740>Inputs!$D$9,0,1))","v":1},{"$f":"IF(L740=\"\",\"\",IF(L740>Inputs!$D$9,0,1))","v":1},{"$f":"IF(M740=\"\",\"\",IF(M740>Inputs!$D$9,0,1))","v":1},{"$f":"IF(N740=\"\",\"\",IF(N740>Inputs!$D$9,0,1))","v":1},{"$f":"IF(O740=\"\",\"\",IF(O740>Inputs!$D$9,0,1))","v":1},{"$f":"IF(COUNT(P740:U740)=0,\"\",INDEX(Inputs!$O$21:$P$26,MATCH(COUNT(P740:U740),Inputs!$O$21:$O$26,0),2))","v":20},1,null,null,{"$f":"IF(D740=\"\",\"\",IF(D740=\"-\",\"\",IF(D740>AVERAGE($D$2:$D$1000),1,0)))","v":1},1,1,1,1,1,1]
[{"$f":"'SIP Returns'!B742","v":0},null,{"$f":"'SIP Returns'!D742","v":0},{"$f":"'SIP Returns'!E742","v":0},{"$f":"'SIP Returns'!F742","v":0},{"$f":"'SIP Returns'!G742","v":0},{"$f":"'SIP Returns'!H742","v":0},{"$f":"'SIP Returns'!I742","v":0},{"$f":"'SIP Returns'!J742","v":0},1,10,8,4,1,1,{"$f":"IF(J741=\"\",\"\",IF(J741>Inputs!$D$9,0,1))","v":1},{"$f":"IF(K741=\"\",\"\",IF(K741>Inputs!$D$9,0,1))","v":1},{"$f":"IF(L741=\"\",\"\",IF(L741>Inputs!$D$9,0,1))","v":1},{"$f":"IF(M741=\"\",\"\",IF(M741>Inputs!$D$9,0,1))","v":1},{"$f":"IF(N741=\"\",\"\",IF(N741>Inputs!$D$9,0,1))","v":1},{"$f":"IF(O741=\"\",\"\",IF(O741>Inputs!$D$9,0,1))","v":1},{"$f":"IF(COUNT(P741:U741)=0,\"\",INDEX(Inputs!$O$21:$P$26,MATCH(COUNT(P741:U741),Inputs!$O$21:$O$26,0),2))","v":20},1,null,null,{"$f":"IF(D741=\"\",\"\",IF(D741=\"-\",\"\",IF(D741>AVERAGE($D$2:$D$1000),1,0)))","v":1},1,1,1,1,1,1]
[{"$f":"'SIP Returns'!B743","v":0},null,{"$f":"'SIP Returns'!D743","v":0},{"$f":"'SIP Returns'!E743","v":0},{"$f":"'SIP Returns'!F743","v":0},{"$f":"'SIP Returns'!G743","v":0},{"$f":"'SIP Returns'!H743","v":0},{"$f":"'SIP Returns'!I743","v":0},{"$f":"'SIP Returns'!J743","v":0},1,10,8,4,1,1,{"$f":"IF(J742=\"\",\"\",IF(J742>Inputs!$D$9,0,1))","v":1},{"$f":"IF(K742=\"\",\"\",IF(K742>Inputs!$D$9,0,1))","v":1},{"$f":"IF(L742=\"\",\"\",IF(L742>Inputs!$D$9,0,1))","v":1},{"$f":"IF(M742=\"\",\"\",IF(M742>Inputs!$D$9,0,1))","v":1},{"$f":"IF(N742=\"\",\"\",IF(N742>Inputs!$D$9,0,1))","v":1},{"$f":"IF(O742=\"\",\"\",IF(O742>Inputs!$D$9,0,1))","v":1},{"$f":"IF(COUNT(P742:U742)=0,\"\",INDEX(Inputs!$O$21:$P$26,MATCH(COUNT(P742:U742),Inputs!$O$21:$O$26,0),2))","v":20},1,null,null,{"$f":"IF(D742=\"\",\"\",IF(D742=\"-\",\"\",IF(D742>AVERAGE($D$2:$D$1000),1,0)))","v":1},1,1,1,1,1,1]
[{"$f":"'SIP Returns'!B744","v":0},null,{"$f":"'SIP Returns'!D744","v":0},{"$f":"'SIP Returns'!E744","v":0},{"$f":"'SIP Returns'!F744","v":0},{"$f":"'SIP Returns'!G744","v":0},{"$f":"'SIP Returns'!H744","v":0},{"$f":"'SIP Returns'!I744","v":0},{"$f":"'SIP Returns'!J744","v":0},1,10,8,4,1,1,{"$f":"IF(J743=\"\",\"\",IF(J743>Inputs!$D$9,0,1))","v":1},{"$f":"IF(K743=\"\",\"\",IF(K743>Inputs!$D$9,0,1))","v":1},{"$f":"IF(L743=\"\",\"\",IF(L743>Inputs!$D$9,0,1))","v":1},{"$f":"IF(M743=\"\",\"\",IF(M743>Inputs!$D$9,0,1))","v":1},{"$f":"IF(N743=\"\",\"\",IF(N743>Inputs!$D$9,0,1))","v":1},{"$f":"IF(O743=\"\",\"\",IF(O743>Inputs!$D$9,0,1))","v":1},{"$f":"IF(COUNT(P743:U743)=0,\"\",INDEX(Inputs!$O$21:$P$26,MATCH(COUNT(P743:U743),Inputs!$O$21:$O$26,0),2))","v":20},1,null,null,{"$f":"IF(D743=\"\",\"\",IF(D743=\"-\",\"\",IF(D743>AVERAGE($D$2:$D$1000),1,0)))","v":1},1,1,1,1,1,1]
[{"$f":"'SIP Returns'!B745","v":0},null,{"$f":"'SIP Returns'!D745","v":0},{"$f":"'SIP Returns'!E745","v":0},{"$f":"'SIP Returns'!F745","v":0},{"$f":"'SIP Returns'!G745","v":0},{"$f":"'SIP Returns'!H745","v":0},{"$f":"'SIP Returns'!I745","v":0},{"$f":"'SIP Returns'!J745","v":0},1,10,8,4,1,1,{"$f":"IF(J744=\"\",\"\",IF(J744>Inputs!$D$9,0,1))","v":1},{"$f":"IF(K744=\"\",\"\",IF(K744>Inputs!$D$9,0,1))","v":1},{"$f":"IF(L744=\"\",\"\",IF(L744>Inputs!$D$9,0,1))","v":1},{"$f":"IF(M744=\"\",\"\",IF(M744>Inputs!$D$9,0,1))","v":1},{"$f":"IF(N744=\"\",\"\",IF(N744>Inputs!$D$9,0,1))","v":1},{"$f":"IF(O744=\"\",\"\",IF(O744>Inputs!$D$9,0,1))","v":1},{"$f":"IF(COUNT(P744:U744)=0,\"\",INDEX(Inputs!$O$21:$P$26,MATCH(COUNT(P744:U744),Inputs!$O$21:$O$26,0),2))","v":20},1,null,null,{"$f":"IF(D744=\"\",\"\",IF(D744=\"-\",\"\",IF(D744>AVERAGE($D$2:$D$1000),1,0)))","v":1},1,1,1,1,1,1]
[{"$f":"'SIP Returns'!B746","v":0},null,{"$f":"'SIP Returns'!D746","v":0},{"$f":"'SIP Returns'!E746","v":0},{"$f":"'SIP Returns'!F746","v":0},{"$f":"'SIP Returns'!G746","v":0},{"$f":"'SIP Returns'!H746","v":0},{"$f":"'SIP Returns'!I746","v":0},{"$f":"'SIP Returns'!J746","v":0},1,10,8,4,1,1,{"$f":"IF(J745=\"\",\"\",IF(J745>Inputs!$D$9,0,1))","v":1},{"$f":"IF(K745=\"\",\"\",IF(K745>Inputs!$D$9,0,1))","v":1},{"$f":"IF(L745=\"\",\"\",IF(L745>Inputs!$D$9,0,1))","v":1},{"$f":"IF(M745=\"\",\"\",IF(M745>Inputs!$D$9,0,1))","v":1},{"$f":"IF(N745=\"\",\"\",IF(N745>Inputs!$D$9,0,1))","v":1},{"$f":"IF(O745=\"\",\"\",IF(O745>Inputs!$D$9,0,1))","v":1},{"$f":"IF(COUNT(P745:U745)=0,\"\",INDEX(Inputs!$O$21:$P$26,MATCH(COUNT(P745:U745),Inputs!$O$21:$O$26,0),2))","v":20},1,null,null,{"$f":"IF(D745=\"\",\"\",IF(D745=\"-\",\"\",IF(D745>AVERAGE($D$2:$D$1000),1,0)))","v":1},1,1,1,1,1,1]
[{"$f":"'SIP Returns'!B747","v":0},null,{"$f":"'SIP Returns'!D747","v":0},{"$f":"'SIP Returns'!E747","v":0},{"$f":"'SIP Returns'!F747","v":0},{"$f":"'SIP Returns'!G747","v":0},{"$f":"'SIP Returns'!H747","v":0},{"$f":"'SIP Returns'!I747","v":0},{"$f":"'SIP Returns'!J747","v":0},1,10,8,4,1,1,{"$f":"IF(J746=\"\",\"\",IF(J746>Inputs!$D$9,0,1))","v":1},{"$f":"IF(K746=\"\",\"\",IF(K746>Inputs!$D$9,0,1))","v":1},{"$f":"IF(L746=\"\",\"\",IF(L746>Inputs!$D$9,0,1))","v":1},{"$f":"IF(M746=\"\",\"\",IF(M746>Inputs!$D$9,0,1))","v":1},{"$f":"IF(N746=\"\",\"\",IF(N746>Inputs!$D$9,0,1))","v":1},{"$f":"IF(O746=\"\",\"\",IF(O746>Inputs!$D$9,0,1))","v":1},{"$f":"IF(COUNT(P746:U746)=0,\"\",INDEX(Inputs!$O$21:$P$26,MATCH(COUNT(P746:U746),Inputs!$O$21:$O$26,0),2))","v":20},1,null,null,{"$f":"IF(D746=\"\",\"\",IF(D746=\"-\",\"\",IF(D746>AVERAGE($D$2:$D$1000),1,0)))","v":1},1,1,1,1,1,1]
[{"$f":"'SIP Returns'!B748","v":0},null,{"$f":"'SIP Returns'!D748","v":0},{"$f":"'SIP Returns'!E748","v":0},{"$f":"'SIP Returns'!F748","v":0},{"$f":"'SIP Returns'!G748","v":0},{"$f":"'SIP Returns'!H748","v":0},{"$f":"'SIP Returns'!I748","v":0},{"$f":"'SIP Returns'!J748","v":0},1,10,8,4,1,1,{"$f":"IF(J747=\"\",\"\",IF(J747>Inputs!$D$9,0,1))","v":1},{"$f":"IF(K747=\"\",\"\",IF(K747>Inputs!$D$9,0,1))","v":1},{"$f":"IF(L747=\"\",\"\",IF(L747>Inputs!$D$9,0,1))","v":1},{"$f":"IF(M747=\"\",\"\",IF(M747>Inputs!$D$9,0,1))","v":1},{"$f":"IF(N747=\"\",\"\",IF(N747>Inputs!$D$9,0,1))","v":1},{"$f":"IF(O747=\"\",\"\",IF(O747>Inputs!$D$9,0,1))","v":1},{"$f":"IF(COUNT(P747:U747)=0,\"\",INDEX(Inputs!$O$21:$P$26,MATCH(COUNT(P747:U747),Inputs!$O$21:$O$26,0),2))","v":20},1,null,null,{"$f":"IF(D747=\"\",\"\",IF(D747=\"-\",\"\",IF(D747>AVERAGE($D$2:$D$1000),1,0)))","v":1},1,1,1,1,1,1]
[{"$f":"'SIP Returns'!B749","v":0},null,{"$f":"'SIP Returns'!D749","v":0},{"$f":"'SIP Returns'!E749","v":0},{"$f":"'SIP Returns'!F749","v":0},{"$f":"'SIP Returns'!G749","v":0},{"$f":"'SIP Returns'!H749","v":0},{"$f":"'SIP Returns'!I749","v":0},{"$f":"'SIP Returns'!J749","v":0},1,10,8,4,1,1,{"$f":"IF(J748=\"\",\"\",IF(J748>Inputs!$D$9,0,1))","v":1},{"$f":"IF(K748=\"\",\"\",IF(K748>Inputs!$D$9,0,1))","v":1},{"$f":"IF(L748=\"\",\"\",IF(L748>Inputs!$D$9,0,1))","v":1},{"$f":"IF(M748=\"\",\"\",IF(M748>Inputs!$D$9,0,1))","v":1},{"$f":"IF(N748=\"\",\"\",IF(N748>Inputs!$D$9,0,1))","v":1},{"$f":"IF(O748=\"\",\"\",IF(O748>Inputs!$D$9,0,1))","v":1},{"$f":"IF(COUNT(P748:U748)=0,\"\",INDEX(Inputs!$O$21:$P$26,MATCH(COUNT(P748:U748),Inputs!$O$21:$O$26,0),2))","v":20},1,null,null,{"$f":"IF(D748=\"\",\"\",IF(D748=\"-\",\"\",IF(D748>AVERAGE($D$2:$D$1000),1,0)))","v":1},1,1,1,1,1,1]
[{"$f":"'SIP Returns'!B750","v":0},null,{"$f":"'SIP Returns'!D750","v":0},{"$f":"'SIP Returns'!E750","v":0},{"$f":"'SIP Returns'!F750","v":0},{"$f":"'SIP Returns'!G750","v":0},{"$f":"'SIP Returns'!H750","v":0},{"$f":"'SIP Returns'!I750","v":0},{"$f":"'SIP Returns'!J750","v":0},1,10,8,4,1,1,{"$f":"IF(J749=\"\",\"\",IF(J749>Inputs!$D$9,0,1))","v":1},{"$f":"IF(K749=\"\",\"\",IF(K749>Inputs!$D$9,0,1))","v":1},{"$f":"IF(L749=\"\",\"\",IF(L749>Inputs!$D$9,0,1))","v":1},{"$f":"IF(M749=\"\",\"\",IF(M749>Inputs!$D$9,0,1))","v":1},{"$f":"IF(N749=\"\",\"\",IF(N749>Inputs!$D$9,0,1))","v":1},{"$f":"IF(O749=\"\",\"\",IF(O749>Inputs!$D$9,0,1))","v":1},{"$f":"IF(COUNT(P749:U749)=0,\"\",INDEX(Inputs!$O$21:$P$26,MATCH(COUNT(P749:U749),Inputs!$O$21:$O$26,0),2))","v":20},1,null,null,{"$f":"IF(D749=\"\",\"\",IF(D749=\"-\",\"\",IF(D749>AVERAGE($D$2:$D$1000),1,0)))","v":1},1,1,1,1,1,1]
[{"$f":"'SIP Returns'!B751","v":0},null,{"$f":"'SIP Returns'!D751","v":0},{"$f":"'SIP Returns'!E751","v":0},{"$f":"'SIP Returns'!F751","v":0},{"$f":"'SIP Returns'!G751","v":0},{"$f":"'SIP Returns'!H751","v":0},{"$f":"'SIP Returns'!I751","v":0},{"$f":"'SIP Returns'!J751","v":0},1,10,8,4,1,1,{"$f":"IF(J750=\"\",\"\",IF(J750>Inputs!$D$9,0,1))","v":1},{"$f":"IF(K750=\"\",\"\",IF(K750>Inputs!$D$9,0,1))","v":1},{"$f":"IF(L750=\"\",\"\",IF(L750>Inputs!$D$9,0,1))","v":1},{"$f":"IF(M750=\"\",\"\",IF(M750>Inputs!$D$9,0,1))","v":1},{"$f":"IF(N750=\"\",\"\",IF(N750>Inputs!$D$9,0,1))","v":1},{"$f":"IF(O750=\"\",\"\",IF(O750>Inputs!$D$9,0,1))","v":1},{"$f":"IF(COUNT(P750:U750)=0,\"\",INDEX(Inputs!$O$21:$P$26,MATCH(COUNT(P750:U750),Inputs!$O$21:$O$26,0),2))","v":20},1,null,null,{"$f":"IF(D750=\"\",\"\",IF(D750=\"-\",\"\",IF(D750>AVERAGE($D$2:$D$1000),1,0)))","v":1},1,1,1,1,1,1]
[{"$f":"'SIP Returns'!B752","v":0},null,{"$f":"'SIP Returns'!D752","v":0},{"$f":"'SIP Returns'!E752","v":0},{"$f":"'SIP Returns'!F752","v":0},{"$f":"'SIP Returns'!G752","v":0},{"$f":"'SIP Returns'!H752","v":0},{"$f":"'SIP Returns'!I752","v":0},{"$f":"'SIP Returns'!J752","v":0},1,10,8,4,1,1,{"$f":"IF(J751=\"\",\"\",IF(J751>Inputs!$D$9,0,1))","v":1},{"$f":"IF(K751=\"\",\"\",IF(K751>Inputs!$D$9,0,1))","v":1},{"$f":"IF(L751=\"\",\"\",IF(L751>Inputs!$D$9,0,1))","v":1},{"$f":"IF(M751=\"\",\"\",IF(M751>Inputs!$D$9,0,1))","v":1},{"$f":"IF(N751=\"\",\"\",IF(N751>Inputs!$D$9,0,1))","v":1},{"$f":"IF(O751=\"\",\"\",IF(O751>Inputs!$D$9,0,1))","v":1},{"$f":"IF(COUNT(P751:U751)=0,\"\",INDEX(Inputs!$O$21:$P$26,MATCH(COUNT(P751:U751),Inputs!$O$21:$O$26,0),2))","v":20},1,null,null,{"$f":"IF(D751=\"\",\"\",IF(D751=\"-\",\"\",IF(D751>AVERAGE($D$2:$D$1000),1,0)))","v":1},1,1,1,1,1,1]
[{"$f":"'SIP Returns'!B753","v":0},null,{"$f":"'SIP Returns'!D753","v":0},{"$f":"'SIP Returns'!E753","v":0},{"$f":"'SIP Returns'!F753","v":0},{"$f":"'SIP Returns'!G753","v":0},{"$f":"'SIP Returns'!H753","v":0},{"$f":"'SIP Returns'!I753","v":0},{"$f":"'SIP Returns'!J753","v":0},1,10,8,4,1,1,{"$f":"IF(J752=\"\",\"\",IF(J752>Inputs!$D$9,0,1))","v":1},{"$f":"IF(K752=\"\",\"\",IF(K752>Inputs!$D$9,0,1))","v":1},{"$f":"IF(L752=\"\",\"\",IF(L752>Inputs!$D$9,0,1))","v":1},{"$f":"IF(M752=\"\",\"\",IF(M752>Inputs!$D$9,0,1))","v":1},{"$f":"IF(N752=\"\",\"\",IF(N752>Inputs!$D$9,0,1))","v":1},{"$f":"IF(O752=\"\",\"\",IF(O752>Inputs!$D$9,0,1))","v":1},{"$f":"IF(COUNT(P752:U752)=0,\"\",INDEX(Inputs!$O$21:$P$26,MATCH(COUNT(P752:U752),Inputs!$O$21:$O$26,0),2))","v":20},1,null,null,{"$f":"IF(D752=\"\",\"\",IF(D752=\"-\",\"\",IF(D752>AVERAGE($D$2:$D$1000),1,0)))","v":1},1,1,1,1,1,1]
[{"$f":"'SIP Returns'!B754","v":0},null,{"$f":"'SIP Returns'!D754","v":0},{"$f":"'SIP Returns'!E754","v":0},{"$f":"'SIP Returns'!F754","v":0},{"$f":"'SIP Returns'!G754","v":0},{"$f":"'SIP Returns'!H754","v":0},{"$f":"'SIP Returns'!I754","v":0},{"$f":"'SIP Returns'!J754","v":0},1,10,8,4,1,1,{"$f":"IF(J753=\"\",\"\",IF(J753>Inputs!$D$9,0,1))","v":1},{"$f":"IF(K753=\"\",\"\",IF(K753>Inputs!$D$9,0,1))","v":1},{"$f":"IF(L753=\"\",\"\",IF(L753>Inputs!$D$9,0,1))","v":1},{"$f":"IF(M753=\"\",\"\",IF(M753>Inputs!$D$9,0,1))","v":1},{"$f":"IF(N753=\"\",\"\",IF(N753>Inputs!$D$9,0,1))","v":1},{"$f":"IF(O753=\"\",\"\",IF(O753>Inputs!$D$9,0,1))","v":1},{"$f":"IF(COUNT(P753:U753)=0,\"\",INDEX(Inputs!$O$21:$P$26,MATCH(COUNT(P753:U753),Inputs!$O$21:$O$26,0),2))","v":20},1,null,null,{"$f":"IF(D753=\"\",\"\",IF(D753=\"-\",\"\",IF(D753>AVERAGE($D$2:$D$1000),1,0)))","v":1},1,1,1,1,1,1]
[{"$f":"'SIP Returns'!B755","v":0},null,{"$f":"'SIP Returns'!D755","v":0},{"$f":"'SIP Returns'!E755","v":0},{"$f":"'SIP Returns'!F755","v":0},{"$f":"'SIP Returns'!G755","v":0},{"$f":"'SIP Returns'!H755","v":0},{"$f":"'SIP Returns'!I755","v":0},{"$f":"'SIP Returns'!J755","v":0},1,10,8,4,1,1,{"$f":"IF(J754=\"\",\"\",IF(J754>Inputs!$D$9,0,1))","v":1},{"$f":"IF(K754=\"\",\"\",IF(K754>Inputs!$D$9,0,1))","v":1},{"$f":"IF(L754=\"\",\"\",IF(L754>Inputs!$D$9,0,1))","v":1},{"$f":"IF(M754=\"\",\"\",IF(M754>Inputs!$D$9,0,1))","v":1},{"$f":"IF(N754=\"\",\"\",IF(N754>Inputs!$D$9,0,1))","v":1},{"$f":"IF(O754=\"\",\"\",IF(O754>Inputs!$D$9,0,1))","v":1},{"$f":"IF(COUNT(P754:U754)=0,\"\",INDEX(Inputs!$O$21:$P$26,MATCH(COUNT(P754:U754),Inputs!$O$21:$O$26,0),2))","v":20},1,null,null,{"$f":"IF(D754=\"\",\"\",IF(D754=\"-\",\"\",IF(D754>AVERAGE($D$2:$D$1000),1,0)))","v":1},1,1,1,1,1,1]
[{"$f":"'SIP Returns'!B756","v":0},null,{"$f":"'SIP Returns'!D756","v":0},{"$f":"'SIP Returns'!E756","v":0},{"$f":"'SIP Returns'!F756","v":0},{"$f":"'SIP Returns'!G756","v":0},{"$f":"'SIP Returns'!H756","v":0},{"$f":"'SIP Returns'!I756","v":0},{"$f":"'SIP Returns'!J756","v":0},1,10,8,4,1,1,{"$f":"IF(J755=\"\",\"\",IF(J755>Inputs!$D$9,0,1))","v":1},{"$f":"IF(K755=\"\",\"\",IF(K755>Inputs!$D$9,0,1))","v":1},{"$f":"IF(L755=\"\",\"\",IF(L755>Inputs!$D$9,0,1))","v":1},{"$f":"IF(M755=\"\",\"\",IF(M755>Inputs!$D$9,0,1))","v":1},{"$f":"IF(N755=\"\",\"\",IF(N755>Inputs!$D$9,0,1))","v":1},{"$f":"IF(O755=\"\",\"\",IF(O755>Inputs!$D$9,0,1))","v":1},{"$f":"IF(COUNT(P755:U755)=0,\"\",INDEX(Inputs!$O$21:$P$26,MATCH(COUNT(P755:U755),Inputs!$O$21:$O$26,0),2))","v":20},1,null,null,{"$f":"IF(D755=\"\",\"\",IF(D755=\"-\",\"\",IF(D755>AVERAGE($D$2:$D$1000),1,0)))","v":1},1,1,1,1,1,1]
[{"$f":"'SIP Returns'!B757","v":0},null,{"$f":"'SIP Returns'!D757","v":0},{"$f":"'SIP Returns'!E757","v":0},{"$f":"'SIP Returns'!F757","v":0},{"$f":"'SIP Returns'!G757","v":0},{"$f":"'SIP Returns'!H757","v":0},{"$f":"'SIP Returns'!I757","v":0},{"$f":"'SIP Returns'!J757","v":0},1,10,8,4,1,1,{"$f":"IF(J756=\"\",\"\",IF(J756>Inputs!$D$9,0,1))","v":1},{"$f":"IF(K756=\"\",\"\",IF(K756>Inputs!$D$9,0,1))","v":1},{"$f":"IF(L756=\"\",\"\",IF(L756>Inputs!$D$9,0,1))","v":1},{"$f":"IF(M756=\"\",\"\",IF(M756>Inputs!$D$9,0,1))","v":1},{"$f":"IF(N756=\"\",\"\",IF(N756>Inputs!$D$9,0,1))","v":1},{"$f":"IF(O756=\"\",\"\",IF(O756>Inputs!$D$9,0,1))","v":1},{"$f":"IF(COUNT(P756:U756)=0,\"\",INDEX(Inputs!$O$21:$P$26,MATCH(COUNT(P756:U756),Inputs!$O$21:$O$26,0),2))","v":20},1,null,null,{"$f":"IF(D756=\"\",\"\",IF(D756=\"-\",\"\",IF(D756>AVERAGE($D$2:$D$1000),1,0)))","v":1},1,1,1,1,1,1]
[{"$f":"'SIP Returns'!B758","v":0},null,{"$f":"'SIP Returns'!D758","v":0},{"$f":"'SIP Returns'!E758","v":0},{"$f":"'SIP Returns'!F758","v":0},{"$f":"'SIP Returns'!G758","v":0},{"$f":"'SIP Returns'!H758","v":0},{"$f":"'SIP Returns'!I758","v":0},{"$f":"'SIP Returns'!J758","v":0},1,10,8,4,1,1,{"$f":"IF(J757=\"\",\"\",IF(J757>Inputs!$D$9,0,1))","v":1},{"$f":"IF(K757=\"\",\"\",IF(K757>Inputs!$D$9,0,1))","v":1},{"$f":"IF(L757=\"\",\"\",IF(L757>Inputs!$D$9,0,1))","v":1},{"$f":"IF(M757=\"\",\"\",IF(M757>Inputs!$D$9,0,1))","v":1},{"$f":"IF(N757=\"\",\"\",IF(N757>Inputs!$D$9,0,1))","v":1},{"$f":"IF(O757=\"\",\"\",IF(O757>Inputs!$D$9,0,1))","v":1},{"$f":"IF(COUNT(P757:U757)=0,\"\",INDEX(Inputs!$O$21:$P$26,MATCH(COUNT(P757:U757),Inputs!$O$21:$O$26,0),2))","v":20},1,null,null,{"$f":"IF(D757=\"\",\"\",IF(D757=\"-\",\"\",IF(D757>AVERAGE($D$2:$D$1000),1,0)))","v":1},1,1,1,1,1,1]
[{"$f":"'SIP Returns'!B759","v":0},null,{"$f":"'SIP Returns'!D759","v":0},{"$f":"'SIP Returns'!E759","v":0},{"$f":"'SIP Returns'!F759","v":0},{"$f":"'SIP Returns'!G759","v":0},{"$f":"'SIP Returns'!H759","v":0},{"$f":"'SIP Returns'!I759","v":0},{"$f":"'SIP Returns'!J759","v":0},1,10,8,4,1,1,{"$f":"IF(J758=\"\",\"\",IF(J758>Inputs!$D$9,0,1))","v":1},{"$f":"IF(K758=\"\",\"\",IF(K758>Inputs!$D$9,0,1))","v":1},{"$f":"IF(L758=\"\",\"\",IF(L758>Inputs!$D$9,0,1))","v":1},{"$f":"IF(M758=\"\",\"\",IF(M758>Inputs!$D$9,0,1))","v":1},{"$f":"IF(N758=\"\",\"\",IF(N758>Inputs!$D$9,0,1))","v":1},{"$f":"IF(O758=\"\",\"\",IF(O758>Inputs!$D$9,0,1))","v":1},{"$f":"IF(COUNT(P758:U758)=0,\"\",INDEX(Inputs!$O$21:$P$26,MATCH(COUNT(P758:U758),Inputs!$O$21:$O$26,0),2))","v":20},1,null,null,{"$f":"IF(D758=\"\",\"\",IF(D758=\"-\",\"\",IF(D758>AVERAGE($D$2:$D$1000),1,0)))","v":1},1,1,1,1,1,1]
[{"$f":"'SIP Returns'!B760","v":0},null,{"$f":"'SIP Returns'!D760","v":0},{"$f":"'SIP Returns'!E760","v":0},{"$f":"'SIP Returns'!F760","v":0},{"$f":"'SIP Returns'!G760","v":0},{"$f":"'SIP Returns'!H760","v":0},{"$f":"'SIP Returns'!I760","v":0},{"$f":"'SIP Returns'!J760","v":0},1,10,8,4,1,1,{"$f":"IF(J759=\"\",\"\",IF(J759>Inputs!$D$9,0,1))","v":1},{"$f":"IF(K759=\"\",\"\",IF(K759>Inputs!$D$9,0,1))","v":1},{"$f":"IF(L759=\"\",\"\",IF(L759>Inputs!$D$9,0,1))","v":1},{"$f":"IF(M759=\"\",\"\",IF(M759>Inputs!$D$9,0,1))","v":1},{"$f":"IF(N759=\"\",\"\",IF(N759>Inputs!$D$9,0,1))","v":1},{"$f":"IF(O759=\"\",\"\",IF(O759>Inputs!$D$9,0,1))","v":1},{"$f":"IF(COUNT(P759:U759)=0,\"\",INDEX(Inputs!$O$21:$P$26,MATCH(COUNT(P759:U759),Inputs!$O$21:$O$26,0),2))","v":20},1,null,null,{"$f":"IF(D759=\"\",\"\",IF(D759=\"-\",\"\",IF(D759>AVERAGE($D$2:$D$1000),1,0)))","v":1},1,1,1,1,1,1]
[{"$f":"'SIP Returns'!B761","v":0},null,{"$f":"'SIP Returns'!D761","v":0},{"$f":"'SIP Returns'!E761","v":0},{"$f":"'SIP Returns'!F761","v":0},{"$f":"'SIP Returns'!G761","v":0},{"$f":"'SIP Returns'!H761","v":0},{"$f":"'SIP Returns'!I761","v":0},{"$f":"'SIP Returns'!J761","v":0},1,10,8,4,1,1,{"$f":"IF(J760=\"\",\"\",IF(J760>Inputs!$D$9,0,1))","v":1},{"$f":"IF(K760=\"\",\"\",IF(K760>Inputs!$D$9,0,1))","v":1},{"$f":"IF(L760=\"\",\"\",IF(L760>Inputs!$D$9,0,1))","v":1},{"$f":"IF(M760=\"\",\"\",IF(M760>Inputs!$D$9,0,1))","v":1},{"$f":"IF(N760=\"\",\"\",IF(N760>Inputs!$D$9,0,1))","v":1},{"$f":"IF(O760=\"\",\"\",IF(O760>Inputs!$D$9,0,1))","v":1},{"$f":"IF(COUNT(P760:U760)=0,\"\",INDEX(Inputs!$O$21:$P$26,MATCH(COUNT(P760:U760),Inputs!$O$21:$O$26,0),2))","v":20},1,null,null,{"$f":"IF(D760=\"\",\"\",IF(D760=\"-\",\"\",IF(D760>AVERAGE($D$2:$D$1000),1,0)))","v":1},1,1,1,1,1,1]
[{"$f":"'SIP Returns'!B762","v":0},null,{"$f":"'SIP Returns'!D762","v":0},{"$f":"'SIP Returns'!E762","v":0},{"$f":"'SIP Returns'!F762","v":0},{"$f":"'SIP Returns'!G762","v":0},{"$f":"'SIP Returns'!H762","v":0},{"$f":"'SIP Returns'!I762","v":0},{"$f":"'SIP Returns'!J762","v":0},1,10,8,4,1,1,{"$f":"IF(J761=\"\",\"\",IF(J761>Inputs!$D$9,0,1))","v":1},{"$f":"IF(K761=\"\",\"\",IF(K761>Inputs!$D$9,0,1))","v":1},{"$f":"IF(L761=\"\",\"\",IF(L761>Inputs!$D$9,0,1))","v":1},{"$f":"IF(M761=\"\",\"\",IF(M761>Inputs!$D$9,0,1))","v":1},{"$f":"IF(N761=\"\",\"\",IF(N761>Inputs!$D$9,0,1))","v":1},{"$f":"IF(O761=\"\",\"\",IF(O761>Inputs!$D$9,0,1))","v":1},{"$f":"IF(COUNT(P761:U761)=0,\"\",INDEX(Inputs!$O$21:$P$26,MATCH(COUNT(P761:U761),Inputs!$O$21:$O$26,0),2))","v":20},1,null,null,{"$f":"IF(D761=\"\",\"\",IF(D761=\"-\",\"\",IF(D761>AVERAGE($D$2:$D$1000),1,0)))","v":1},1,1,1,1,1,1]
[{"$f":"'SIP Returns'!B763","v":0},null,{"$f":"'SIP Returns'!D763","v":0},{"$f":"'SIP Returns'!E763","v":0},{"$f":"'SIP Returns'!F763","v":0},{"$f":"'SIP Returns'!G763","v":0},{"$f":"'SIP Returns'!H763","v":0},{"$f":"'SIP Returns'!I763","v":0},{"$f":"'SIP Returns'!J763","v":0},1,10,8,4,1,1,{"$f":"IF(J762=\"\",\"\",IF(J762>Inputs!$D$9,0,1))","v":1},{"$f":"IF(K762=\"\",\"\",IF(K762>Inputs!$D$9,0,1))","v":1},{"$f":"IF(L762=\"\",\"\",IF(L762>Inputs!$D$9,0,1))","v":1},{"$f":"IF(M762=\"\",\"\",IF(M762>Inputs!$D$9,0,1))","v":1},{"$f":"IF(N762=\"\",\"\",IF(N762>Inputs!$D$9,0,1))","v":1},{"$f":"IF(O762=\"\",\"\",IF(O762>Inputs!$D$9,0,1))","v":1},{"$f":"IF(COUNT(P762:U762)=0,\"\",INDEX(Inputs!$O$21:$P$26,MATCH(COUNT(P762:U762),Inputs!$O$21:$O$26,0),2))","v":20},1,null,null,{"$f":"IF(D762=\"\",\"\",IF(D762=\"-\",\"\",IF(D762>AVERAGE($D$2:$D$1000),1,0)))","v":1},1,1,1,1,1,1]
[{"$f":"'SIP Returns'!B764","v":0},null,{"$f":"'SIP Returns'!D764","v":0},{"$f":"'SIP Returns'!E764","v":0},{"$f":"'SIP Returns'!F764","v":0},{"$f":"'SIP Returns'!G764","v":0},{"$f":"'SIP Returns'!H764","v":0},{"$f":"'SIP Returns'!I764","v":0},{"$f":"'SIP Returns'!J764","v":0},1,10,8,4,1,1,{"$f":"IF(J763=\"\",\"\",IF(J763>Inputs!$D$9,0,1))","v":1},{"$f":"IF(K763=\"\",\"\",IF(K763>Inputs!$D$9,0,1))","v":1},{"$f":"IF(L763=\"\",\"\",IF(L763>Inputs!$D$9,0,1))","v":1},{"$f":"IF(M763=\"\",\"\",IF(M763>Inputs!$D$9,0,1))","v":1},{"$f":"IF(N763=\"\",\"\",IF(N763>Inputs!$D$9,0,1))","v":1},{"$f":"IF(O763=\"\",\"\",IF(O763>Inputs!$D$9,0,1))","v":1},{"$f":"IF(COUNT(P763:U763)=0,\"\",INDEX(Inputs!$O$21:$P$26,MATCH(COUNT(P763:U763),Inputs!$O$21:$O$26,0),2))","v":20},1,null,null,{"$f":"IF(D763=\"\",\"\",IF(D763=\"-\",\"\",IF(D763>AVERAGE($D$2:$D$1000),1,0)))","v":1},1,1,1,1,1,1]
[{"$f":"'SIP Returns'!B765","v":0},null,{"$f":"'SIP Returns'!D765","v":0},{"$f":"'SIP Returns'!E765","v":0},{"$f":"'SIP Returns'!F765","v":0},{"$f":"'SIP Returns'!G765","v":0},{"$f":"'SIP Returns'!H765","v":0},{"$f":"'SIP Returns'!I765","v":0},{"$f":"'SIP Returns'!J765","v":0},1,10,8,4,1,1,{"$f":"IF(J764=\"\",\"\",IF(J764>Inputs!$D$9,0,1))","v":1},{"$f":"IF(K764=\"\",\"\",IF(K764>Inputs!$D$9,0,1))","v":1},{"$f":"IF(L764=\"\",\"\",IF(L764>Inputs!$D$9,0,1))","v":1},{"$f":"IF(M764=\"\",\"\",IF(M764>Inputs!$D$9,0,1))","v":1},{"$f":"IF(N764=\"\",\"\",IF(N764>Inputs!$D$9,0,1))","v":1},{"$f":"IF(O764=\"\",\"\",IF(O764>Inputs!$D$9,0,1))","v":1},{"$f":"IF(COUNT(P764:U764)=0,\"\",INDEX(Inputs!$O$21:$P$26,MATCH(COUNT(P764:U764),Inputs!$O$21:$O$26,0),2))","v":20},1,null,null,{"$f":"IF(D764=\"\",\"\",IF(D764=\"-\",\"\",IF(D764>AVERAGE($D$2:$D$1000),1,0)))","v":1},1,1,1,1,1,1]
[{"$f":"'SIP Returns'!B766","v":0},null,{"$f":"'SIP Returns'!D766","v":0},{"$f":"'SIP Returns'!E766","v":0},{"$f":"'SIP Returns'!F766","v":0},{"$f":"'SIP Returns'!G766","v":0},{"$f":"'SIP Returns'!H766","v":0},{"$f":"'SIP Returns'!I766","v":0},{"$f":"'SIP Returns'!J766","v":0},1,10,8,4,1,1,{"$f":"IF(J765=\"\",\"\",IF(J765>Inputs!$D$9,0,1))","v":1},{"$f":"IF(K765=\"\",\"\",IF(K765>Inputs!$D$9,0,1))","v":1},{"$f":"IF(L765=\"\",\"\",IF(L765>Inputs!$D$9,0,1))","v":1},{"$f":"IF(M765=\"\",\"\",IF(M765>Inputs!$D$9,0,1))","v":1},{"$f":"IF(N765=\"\",\"\",IF(N765>Inputs!$D$9,0,1))","v":1},{"$f":"IF(O765=\"\",\"\",IF(O765>Inputs!$D$9,0,1))","v":1},{"$f":"IF(COUNT(P765:U765)=0,\"\",INDEX(Inputs!$O$21:$P$26,MATCH(COUNT(P765:U765),Inputs!$O$21:$O$26,0),2))","v":20},1,null,null,{"$f":"IF(D765=\"\",\"\",IF(D765=\"-\",\"\",IF(D765>AVERAGE($D$2:$D$1000),1,0)))","v":1},1,1,1,1,1,1]
[{"$f":"'SIP Returns'!B767","v":0},null,{"$f":"'SIP Returns'!D767","v":0},{"$f":"'SIP Returns'!E767","v":0},{"$f":"'SIP Returns'!F767","v":0},{"$f":"'SIP Returns'!G767","v":0},{"$f":"'SIP Returns'!H767","v":0},{"$f":"'SIP Returns'!I767","v":0},{"$f":"'SIP Returns'!J767","v":0},1,10,8,4,1,1,{"$f":"IF(J766=\"\",\"\",IF(J766>Inputs!$D$9,0,1))","v":1},{"$f":"IF(K766=\"\",\"\",IF(K766>Inputs!$D$9,0,1))","v":1},{"$f":"IF(L766=\"\",\"\",IF(L766>Inputs!$D$9,0,1))","v":1},{"$f":"IF(M766=\"\",\"\",IF(M766>Inputs!$D$9,0,1))","v":1},{"$f":"IF(N766=\"\",\"\",IF(N766>Inputs!$D$9,0,1))","v":1},{"$f":"IF(O766=\"\",\"\",IF(O766>Inputs!$D$9,0,1))","v":1},{"$f":"IF(COUNT(P766:U766)=0,\"\",INDEX(Inputs!$O$21:$P$26,MATCH(COUNT(P766:U766),Inputs!$O$21:$O$26,0),2))","v":20},1,null,null,{"$f":"IF(D766=\"\",\"\",IF(D766=\"-\",\"\",IF(D766>AVERAGE($D$2:$D$1000),1,0)))","v":1},1,1,1,1,1,1]
[{"$f":"'SIP Returns'!B768","v":0},null,{"$f":"'SIP Returns'!D768","v":0},{"$f":"'SIP Returns'!E768","v":0},{"$f":"'SIP Returns'!F768","v":0},{"$f":"'SIP Returns'!G768","v":0},{"$f":"'SIP Returns'!H768","v":0},{"$f":"'SIP Returns'!I768","v":0},{"$f":"'SIP Returns'!J768","v":0},1,10,8,4,1,1,{"$f":"IF(J767=\"\",\"\",IF(J767>Inputs!$D$9,0,1))","v":1},{"$f":"IF(K767=\"\",\"\",IF(K767>Inputs!$D$9,0,1))","v":1},{"$f":"IF(L767=\"\",\"\",IF(L767>Inputs!$D$9,0,1))","v":1},{"$f":"IF(M767=\"\",\"\",IF(M767>Inputs!$D$9,0,1))","v":1},{"$f":"IF(N767=\"\",\"\",IF(N767>Inputs!$D$9,0,1))","v":1},{"$f":"IF(O767=\"\",\"\",IF(O767>Inputs!$D$9,0,1))","v":1},{"$f":"IF(COUNT(P767:U767)=0,\"\",INDEX(Inputs!$O$21:$P$26,MATCH(COUNT(P767:U767),Inputs!$O$21:$O$26,0),2))","v":20},1,null,null,{"$f":"IF(D767=\"\",\"\",IF(D767=\"-\",\"\",IF(D767>AVERAGE($D$2:$D$1000),1,0)))","v":1},1,1,1,1,1,1]
[{"$f":"'SIP Returns'!B769","v":0},null,{"$f":"'SIP Returns'!D769","v":0},{"$f":"'SIP Returns'!E769","v":0},{"$f":"'SIP Returns'!F769","v":0},{"$f":"'SIP Returns'!G769","v":0},{"$f":"'SIP Returns'!H769","v":0},{"$f":"'SIP Returns'!I769","v":0},{"$f":"'SIP Returns'!J769","v":0},1,10,8,4,1,1,{"$f":"IF(J768=\"\",\"\",IF(J768>Inputs!$D$9,0,1))","v":1},{"$f":"IF(K768=\"\",\"\",IF(K768>Inputs!$D$9,0,1))","v":1},{"$f":"IF(L768=\"\",\"\",IF(L768>Inputs!$D$9,0,1))","v":1},{"$f":"IF(M768=\"\",\"\",IF(M768>Inputs!$D$9,0,1))","v":1},{"$f":"IF(N768=\"\",\"\",IF(N768>Inputs!$D$9,0,1))","v":1},{"$f":"IF(O768=\"\",\"\",IF(O768>Inputs!$D$9,0,1))","v":1},{"$f":"IF(COUNT(P768:U768)=0,\"\",INDEX(Inputs!$O$21:$P$26,MATCH(COUNT(P768:U768),Inputs!$O$21:$O$26,0),2))","v":20},1,null,null,{"$f":"IF(D768=\"\",\"\",IF(D768=\"-\",\"\",IF(D768>AVERAGE($D$2:$D$1000),1,0)))","v":1},1,1,1,1,1,1]
[{"$f":"'SIP Returns'!B770","v":0},null,{"$f":"'SIP Returns'!D770","v":0},{"$f":"'SIP Returns'!E770","v":0},{"$f":"'SIP Returns'!F770","v":0},{"$f":"'SIP Returns'!G770","v":0},{"$f":"'SIP Returns'!H770","v":0},{"$f":"'SIP Returns'!I770","v":0},{"$f":"'SIP Returns'!J770","v":0},1,10,8,4,1,1,{"$f":"IF(J769=\"\",\"\",IF(J769>Inputs!$D$9,0,1))","v":1},{"$f":"IF(K769=\"\",\"\",IF(K769>Inputs!$D$9,0,1))","v":1},{"$f":"IF(L769=\"\",\"\",IF(L769>Inputs!$D$9,0,1))","v":1},{"$f":"IF(M769=\"\",\"\",IF(M769>Inputs!$D$9,0,1))","v":1},{"$f":"IF(N769=\"\",\"\",IF(N769>Inputs!$D$9,0,1))","v":1},{"$f":"IF(O769=\"\",\"\",IF(O769>Inputs!$D$9,0,1))","v":1},{"$f":"IF(COUNT(P769:U769)=0,\"\",INDEX(Inputs!$O$21:$P$26,MATCH(COUNT(P769:U769),Inputs!$O$21:$O$26,0),2))","v":20},1,null,null,{"$f":"IF(D769=\"\",\"\",IF(D769=\"-\",\"\",IF(D769>AVERAGE($D$2:$D$1000),1,0)))","v":1},1,1,1,1,1,1]
[{"$f":"'SIP Returns'!B771","v":0},null,{"$f":"'SIP Returns'!D771","v":0},{"$f":"'SIP Returns'!E771","v":0},{"$f":"'SIP Returns'!F771","v":0},{"$f":"'SIP Returns'!G771","v":0},{"$f":"'SIP Returns'!H771","v":0},{"$f":"'SIP Returns'!I771","v":0},{"$f":"'SIP Returns'!J771","v":0},{"$f":"IF($A770=\"\",\"\",IF(ISERROR(RANK(D770,$D$2:$D$1000,0)),\"\",RANK(D770,$D$2:$D$1000,0)))","v":1},{"$f":"IF($A770=\"\",\"\",IF(ISERROR(RANK(E770,$E$2:$E$1000,0)),\"\",RANK(E770,$E$2:$E$1000,0)))","v":10},{"$f":"IF($A770=\"\",\"\",IF(ISERROR(RANK(F770,$F$2:$F$1000,0)),\"\",RANK(F770,$F$2:$F$1000,0)))","v":8},{"$f":"IF($A770=\"\",\"\",IF(ISERROR(RANK(G770,$G$2:$G$1000,0)),\"\",RANK(G770,$G$2:$G$1000,0)))","v":4},{"$f":"IF($A770=\"\",\"\",IF(ISERROR(RANK(H770,$H$2:$H$1000,0)),\"\",RANK(H770,$H$2:$H$1000,0)))","v":1},{"$f":"IF($A770=\"\",\"\",IF(ISERROR(RANK(I770,$I$2:$I$1000,0)),\"\",RANK(I770,$I$2:$I$1000,0)))","v":1},{"$f":"IF(J770=\"\",\"\",IF(J770>Inputs!$D$9,0,1))","v":1},{"$f":"IF(K770=\"\",\"\",IF(K770>Inputs!$D$9,0,1))","v":1},{"$f":"IF(L770=\"\",\"\",IF(L770>Inputs!$D$9,0,1))","v":1},{"$f":"IF(M770=\"\",\"\",IF(M770>Inputs!$D$9,0,1))","v":1},{"$f":"IF(N770=\"\",\"\",IF(N770>Inputs!$D$9,0,1))","v":1},{"$f":"IF(O770=\"\",\"\",IF(O770>Inputs!$D$9,0,1))","v":1},{"$f":"IF(COUNT(P770:U770)=0,\"\",INDEX(Inputs!$O$21:$P$26,MATCH(COUNT(P770:U770),Inputs!$O$21:$O$26,0),2))","v":20},1,null,null,{"$f":"IF(D770=\"\",\"\",IF(D770=\"-\",\"\",IF(D770>AVERAGE($D$2:$D$1000),1,0)))","v":1},1,1,1,1,1,{"$f":"IF(COUNT(Z770:AE770)=0,\"\",SUM(Z770:AE770)/COUNT(Z770:AE770))","v":1}]
[{"$f":"'SIP Returns'!B772","v":0},null,{"$f":"'SIP Returns'!D772","v":0},{"$f":"'SIP Returns'!E772","v":0},{"$f":"'SIP Returns'!F772","v":0},{"$f":"'SIP Returns'!G772","v":0},{"$f":"'SIP Returns'!H772","v":0},{"$f":"'SIP Returns'!I772","v":0},{"$f":"'SIP Returns'!J772","v":0},1,10,8,4,1,1,{"$f":"IF(J771=\"\",\"\",IF(J771>Inputs!$D$9,0,1))","v":1},{"$f":"IF(K771=\"\",\"\",IF(K771>Inputs!$D$9,0,1))","v":1},{"$f":"IF(L771=\"\",\"\",IF(L771>Inputs!$D$9,0,1))","v":1},{"$f":"IF(M771=\"\",\"\",IF(M771>Inputs!$D$9,0,1))","v":1},{"$f":"IF(N771=\"\",\"\",IF(N771>Inputs!$D$9,0,1))","v":1},{"$f":"IF(O771=\"\",\"\",IF(O771>Inputs!$D$9,0,1))","v":1},{"$f":"IF(COUNT(P771:U771)=0,\"\",INDEX(Inputs!$O$21:$P$26,MATCH(COUNT(P771:U771),Inputs!$O$21:$O$26,0),2))","v":20},{"$f":"IF(COUNT(P771:U771)=0,\"\",SUM(P771:U771)/COUNT(P771:U771))","v":1},null,null,{"$f":"IF(D771=\"\",\"\",IF(D771=\"-\",\"\",IF(D771>AVERAGE($D$2:$D$1000),1,0)))","v":1},1,1,1,1,1,1]
[{"$f":"'SIP Returns'!B773","v":0},null,{"$f":"'SIP Returns'!D773","v":0},{"$f":"'SIP Returns'!E773","v":0},{"$f":"'SIP Returns'!F773","v":0},{"$f":"'SIP Returns'!G773","v":0},{"$f":"'SIP Returns'!H773","v":0},{"$f":"'SIP Returns'!I773","v":0},{"$f":"'SIP Returns'!J773","v":0},1,10,8,4,1,1,{"$f":"IF(J772=\"\",\"\",IF(J772>Inputs!$D$9,0,1))","v":1},{"$f":"IF(K772=\"\",\"\",IF(K772>Inputs!$D$9,0,1))","v":1},{"$f":"IF(L772=\"\",\"\",IF(L772>Inputs!$D$9,0,1))","v":1},{"$f":"IF(M772=\"\",\"\",IF(M772>Inputs!$D$9,0,1))","v":1},{"$f":"IF(N772=\"\",\"\",IF(N772>Inputs!$D$9,0,1))","v":1},{"$f":"IF(O772=\"\",\"\",IF(O772>Inputs!$D$9,0,1))","v":1},{"$f":"IF(COUNT(P772:U772)=0,\"\",INDEX(Inputs!$O$21:$P$26,MATCH(COUNT(P772:U772),Inputs!$O$21:$O$26,0),2))","v":20},1,null,null,{"$f":"IF(D772=\"\",\"\",IF(D772=\"-\",\"\",IF(D772>AVERAGE($D$2:$D$1000),1,0)))","v":1},1,1,1,1,1,1]
[{"$f":"'SIP Returns'!B774","v":0},null,{"$f":"'SIP Returns'!D774","v":0},{"$f":"'SIP Returns'!E774","v":0},{"$f":"'SIP Returns'!F774","v":0},{"$f":"'SIP Returns'!G774","v":0},{"$f":"'SIP Returns'!H774","v":0},{"$f":"'SIP Returns'!I774","v":0},{"$f":"'SIP Returns'!J774","v":0},1,10,8,4,1,1,{"$f":"IF(J773=\"\",\"\",IF(J773>Inputs!$D$9,0,1))","v":1},{"$f":"IF(K773=\"\",\"\",IF(K773>Inputs!$D$9,0,1))","v":1},{"$f":"IF(L773=\"\",\"\",IF(L773>Inputs!$D$9,0,1))","v":1},{"$f":"IF(M773=\"\",\"\",IF(M773>Inputs!$D$9,0,1))","v":1},{"$f":"IF(N773=\"\",\"\",IF(N773>Inputs!$D$9,0,1))","v":1},{"$f":"IF(O773=\"\",\"\",IF(O773>Inputs!$D$9,0,1))","v":1},{"$f":"IF(COUNT(P773:U773)=0,\"\",INDEX(Inputs!$O$21:$P$26,MATCH(COUNT(P773:U773),Inputs!$O$21:$O$26,0),2))","v":20},1,null,null,{"$f":"IF(D773=\"\",\"\",IF(D773=\"-\",\"\",IF(D773>AVERAGE($D$2:$D$1000),1,0)))","v":1},1,1,1,1,1,1]
[{"$f":"'SIP Returns'!B775","v":0},null,{"$f":"'SIP Returns'!D775","v":0},{"$f":"'SIP Returns'!E775","v":0},{"$f":"'SIP Returns'!F775","v":0},{"$f":"'SIP Returns'!G775","v":0},{"$f":"'SIP Returns'!H775","v":0},{"$f":"'SIP Returns'!I775","v":0},{"$f":"'SIP Returns'!J775","v":0},1,10,8,4,1,1,{"$f":"IF(J774=\"\",\"\",IF(J774>Inputs!$D$9,0,1))","v":1},{"$f":"IF(K774=\"\",\"\",IF(K774>Inputs!$D$9,0,1))","v":1},{"$f":"IF(L774=\"\",\"\",IF(L774>Inputs!$D$9,0,1))","v":1},{"$f":"IF(M774=\"\",\"\",IF(M774>Inputs!$D$9,0,1))","v":1},{"$f":"IF(N774=\"\",\"\",IF(N774>Inputs!$D$9,0,1))","v":1},{"$f":"IF(O774=\"\",\"\",IF(O774>Inputs!$D$9,0,1))","v":1},{"$f":"IF(COUNT(P774:U774)=0,\"\",INDEX(Inputs!$O$21:$P$26,MATCH(COUNT(P774:U774),Inputs!$O$21:$O$26,0),2))","v":20},1,null,null,{"$f":"IF(D774=\"\",\"\",IF(D774=\"-\",\"\",IF(D774>AVERAGE($D$2:$D$1000),1,0)))","v":1},1,1,1,1,1,1]
[{"$f":"'SIP Returns'!B776","v":0},null,{"$f":"'SIP Returns'!D776","v":0},{"$f":"'SIP Returns'!E776","v":0},{"$f":"'SIP Returns'!F776","v":0},{"$f":"'SIP Returns'!G776","v":0},{"$f":"'SIP Returns'!H776","v":0},{"$f":"'SIP Returns'!I776","v":0},{"$f":"'SIP Returns'!J776","v":0},1,10,8,4,1,1,{"$f":"IF(J775=\"\",\"\",IF(J775>Inputs!$D$9,0,1))","v":1},{"$f":"IF(K775=\"\",\"\",IF(K775>Inputs!$D$9,0,1))","v":1},{"$f":"IF(L775=\"\",\"\",IF(L775>Inputs!$D$9,0,1))","v":1},{"$f":"IF(M775=\"\",\"\",IF(M775>Inputs!$D$9,0,1))","v":1},{"$f":"IF(N775=\"\",\"\",IF(N775>Inputs!$D$9,0,1))","v":1},{"$f":"IF(O775=\"\",\"\",IF(O775>Inputs!$D$9,0,1))","v":1},{"$f":"IF(COUNT(P775:U775)=0,\"\",INDEX(Inputs!$O$21:$P$26,MATCH(COUNT(P775:U775),Inputs!$O$21:$O$26,0),2))","v":20},1,null,null,{"$f":"IF(D775=\"\",\"\",IF(D775=\"-\",\"\",IF(D775>AVERAGE($D$2:$D$1000),1,0)))","v":1},1,1,1,1,1,1]
[{"$f":"'SIP Returns'!B777","v":0},null,{"$f":"'SIP Returns'!D777","v":0},{"$f":"'SIP Returns'!E777","v":0},{"$f":"'SIP Returns'!F777","v":0},{"$f":"'SIP Returns'!G777","v":0},{"$f":"'SIP Returns'!H777","v":0},{"$f":"'SIP Returns'!I777","v":0},{"$f":"'SIP Returns'!J777","v":0},1,10,8,4,1,1,{"$f":"IF(J776=\"\",\"\",IF(J776>Inputs!$D$9,0,1))","v":1},{"$f":"IF(K776=\"\",\"\",IF(K776>Inputs!$D$9,0,1))","v":1},{"$f":"IF(L776=\"\",\"\",IF(L776>Inputs!$D$9,0,1))","v":1},{"$f":"IF(M776=\"\",\"\",IF(M776>Inputs!$D$9,0,1))","v":1},{"$f":"IF(N776=\"\",\"\",IF(N776>Inputs!$D$9,0,1))","v":1},{"$f":"IF(O776=\"\",\"\",IF(O776>Inputs!$D$9,0,1))","v":1},{"$f":"IF(COUNT(P776:U776)=0,\"\",INDEX(Inputs!$O$21:$P$26,MATCH(COUNT(P776:U776),Inputs!$O$21:$O$26,0),2))","v":20},1,null,null,{"$f":"IF(D776=\"\",\"\",IF(D776=\"-\",\"\",IF(D776>AVERAGE($D$2:$D$1000),1,0)))","v":1},1,1,1,1,1,1]
[{"$f":"'SIP Returns'!B778","v":0},null,{"$f":"'SIP Returns'!D778","v":0},{"$f":"'SIP Returns'!E778","v":0},{"$f":"'SIP Returns'!F778","v":0},{"$f":"'SIP Returns'!G778","v":0},{"$f":"'SIP Returns'!H778","v":0},{"$f":"'SIP Returns'!I778","v":0},{"$f":"'SIP Returns'!J778","v":0},1,10,8,4,1,1,{"$f":"IF(J777=\"\",\"\",IF(J777>Inputs!$D$9,0,1))","v":1},{"$f":"IF(K777=\"\",\"\",IF(K777>Inputs!$D$9,0,1))","v":1},{"$f":"IF(L777=\"\",\"\",IF(L777>Inputs!$D$9,0,1))","v":1},{"$f":"IF(M777=\"\",\"\",IF(M777>Inputs!$D$9,0,1))","v":1},{"$f":"IF(N777=\"\",\"\",IF(N777>Inputs!$D$9,0,1))","v":1},{"$f":"IF(O777=\"\",\"\",IF(O777>Inputs!$D$9,0,1))","v":1},{"$f":"IF(COUNT(P777:U777)=0,\"\",INDEX(Inputs!$O$21:$P$26,MATCH(COUNT(P777:U777),Inputs!$O$21:$O$26,0),2))","v":20},1,null,null,{"$f":"IF(D777=\"\",\"\",IF(D777=\"-\",\"\",IF(D777>AVERAGE($D$2:$D$1000),1,0)))","v":1},1,1,1,1,1,1]
[{"$f":"'SIP Returns'!B779","v":0},null,{"$f":"'SIP Returns'!D779","v":0},{"$f":"'SIP Returns'!E779","v":0},{"$f":"'SIP Returns'!F779","v":0},{"$f":"'SIP Returns'!G779","v":0},{"$f":"'SIP Returns'!H779","v":0},{"$f":"'SIP Returns'!I779","v":0},{"$f":"'SIP Returns'!J779","v":0},1,10,8,4,1,1,{"$f":"IF(J778=\"\",\"\",IF(J778>Inputs!$D$9,0,1))","v":1},{"$f":"IF(K778=\"\",\"\",IF(K778>Inputs!$D$9,0,1))","v":1},{"$f":"IF(L778=\"\",\"\",IF(L778>Inputs!$D$9,0,1))","v":1},{"$f":"IF(M778=\"\",\"\",IF(M778>Inputs!$D$9,0,1))","v":1},{"$f":"IF(N778=\"\",\"\",IF(N778>Inputs!$D$9,0,1))","v":1},{"$f":"IF(O778=\"\",\"\",IF(O778>Inputs!$D$9,0,1))","v":1},{"$f":"IF(COUNT(P778:U778)=0,\"\",INDEX(Inputs!$O$21:$P$26,MATCH(COUNT(P778:U778),Inputs!$O$21:$O$26,0),2))","v":20},1,null,null,{"$f":"IF(D778=\"\",\"\",IF(D778=\"-\",\"\",IF(D778>AVERAGE($D$2:$D$1000),1,0)))","v":1},1,1,1,1,1,1]
[{"$f":"'SIP Returns'!B780","v":0},null,{"$f":"'SIP Returns'!D780","v":0},{"$f":"'SIP Returns'!E780","v":0},{"$f":"'SIP Returns'!F780","v":0},{"$f":"'SIP Returns'!G780","v":0},{"$f":"'SIP Returns'!H780","v":0},{"$f":"'SIP Returns'!I780","v":0},{"$f":"'SIP Returns'!J780","v":0},1,10,8,4,1,1,{"$f":"IF(J779=\"\",\"\",IF(J779>Inputs!$D$9,0,1))","v":1},{"$f":"IF(K779=\"\",\"\",IF(K779>Inputs!$D$9,0,1))","v":1},{"$f":"IF(L779=\"\",\"\",IF(L779>Inputs!$D$9,0,1))","v":1},{"$f":"IF(M779=\"\",\"\",IF(M779>Inputs!$D$9,0,1))","v":1},{"$f":"IF(N779=\"\",\"\",IF(N779>Inputs!$D$9,0,1))","v":1},{"$f":"IF(O779=\"\",\"\",IF(O779>Inputs!$D$9,0,1))","v":1},{"$f":"IF(COUNT(P779:U779)=0,\"\",INDEX(Inputs!$O$21:$P$26,MATCH(COUNT(P779:U779),Inputs!$O$21:$O$26,0),2))","v":20},1,null,null,{"$f":"IF(D779=\"\",\"\",IF(D779=\"-\",\"\",IF(D779>AVERAGE($D$2:$D$1000),1,0)))","v":1},1,1,1,1,1,1]
[{"$f":"'SIP Returns'!B781","v":0},null,{"$f":"'SIP Returns'!D781","v":0},{"$f":"'SIP Returns'!E781","v":0},{"$f":"'SIP Returns'!F781","v":0},{"$f":"'SIP Returns'!G781","v":0},{"$f":"'SIP Returns'!H781","v":0},{"$f":"'SIP Returns'!I781","v":0},{"$f":"'SIP Returns'!J781","v":0},1,10,8,4,1,1,{"$f":"IF(J780=\"\",\"\",IF(J780>Inputs!$D$9,0,1))","v":1},{"$f":"IF(K780=\"\",\"\",IF(K780>Inputs!$D$9,0,1))","v":1},{"$f":"IF(L780=\"\",\"\",IF(L780>Inputs!$D$9,0,1))","v":1},{"$f":"IF(M780=\"\",\"\",IF(M780>Inputs!$D$9,0,1))","v":1},{"$f":"IF(N780=\"\",\"\",IF(N780>Inputs!$D$9,0,1))","v":1},{"$f":"IF(O780=\"\",\"\",IF(O780>Inputs!$D$9,0,1))","v":1},{"$f":"IF(COUNT(P780:U780)=0,\"\",INDEX(Inputs!$O$21:$P$26,MATCH(COUNT(P780:U780),Inputs!$O$21:$O$26,0),2))","v":20},1,null,null,{"$f":"IF(D780=\"\",\"\",IF(D780=\"-\",\"\",IF(D780>AVERAGE($D$2:$D$1000),1,0)))","v":1},1,1,1,1,1,1]
[{"$f":"'SIP Returns'!B782","v":0},null,{"$f":"'SIP Returns'!D782","v":0},{"$f":"'SIP Returns'!E782","v":0},{"$f":"'SIP Returns'!F782","v":0},{"$f":"'SIP Returns'!G782","v":0},{"$f":"'SIP Returns'!H782","v":0},{"$f":"'SIP Returns'!I782","v":0},{"$f":"'SIP Returns'!J782","v":0},1,10,8,4,1,1,{"$f":"IF(J781=\"\",\"\",IF(J781>Inputs!$D$9,0,1))","v":1},{"$f":"IF(K781=\"\",\"\",IF(K781>Inputs!$D$9,0,1))","v":1},{"$f":"IF(L781=\"\",\"\",IF(L781>Inputs!$D$9,0,1))","v":1},{"$f":"IF(M781=\"\",\"\",IF(M781>Inputs!$D$9,0,1))","v":1},{"$f":"IF(N781=\"\",\"\",IF(N781>Inputs!$D$9,0,1))","v":1},{"$f":"IF(O781=\"\",\"\",IF(O781>Inputs!$D$9,0,1))","v":1},{"$f":"IF(COUNT(P781:U781)=0,\"\",INDEX(Inputs!$O$21:$P$26,MATCH(COUNT(P781:U781),Inputs!$O$21:$O$26,0),2))","v":20},1,null,null,{"$f":"IF(D781=\"\",\"\",IF(D781=\"-\",\"\",IF(D781>AVERAGE($D$2:$D$1000),1,0)))","v":1},1,1,1,1,1,1]
[{"$f":"'SIP Returns'!B783","v":0},null,{"$f":"'SIP Returns'!D783","v":0},{"$f":"'SIP Returns'!E783","v":0},{"$f":"'SIP Returns'!F783","v":0},{"$f":"'SIP Returns'!G783","v":0},{"$f":"'SIP Returns'!H783","v":0},{"$f":"'SIP Returns'!I783","v":0},{"$f":"'SIP Returns'!J783","v":0},1,10,8,4,1,1,{"$f":"IF(J782=\"\",\"\",IF(J782>Inputs!$D$9,0,1))","v":1},{"$f":"IF(K782=\"\",\"\",IF(K782>Inputs!$D$9,0,1))","v":1},{"$f":"IF(L782=\"\",\"\",IF(L782>Inputs!$D$9,0,1))","v":1},{"$f":"IF(M782=\"\",\"\",IF(M782>Inputs!$D$9,0,1))","v":1},{"$f":"IF(N782=\"\",\"\",IF(N782>Inputs!$D$9,0,1))","v":1},{"$f":"IF(O782=\"\",\"\",IF(O782>Inputs!$D$9,0,1))","v":1},{"$f":"IF(COUNT(P782:U782)=0,\"\",INDEX(Inputs!$O$21:$P$26,MATCH(COUNT(P782:U782),Inputs!$O$21:$O$26,0),2))","v":20},1,null,null,{"$f":"IF(D782=\"\",\"\",IF(D782=\"-\",\"\",IF(D782>AVERAGE($D$2:$D$1000),1,0)))","v":1},1,1,1,1,1,1]
[{"$f":"'SIP Returns'!B784","v":0},null,{"$f":"'SIP Returns'!D784","v":0},{"$f":"'SIP Returns'!E784","v":0},{"$f":"'SIP Returns'!F784","v":0},{"$f":"'SIP Returns'!G784","v":0},{"$f":"'SIP Returns'!H784","v":0},{"$f":"'SIP Returns'!I784","v":0},{"$f":"'SIP Returns'!J784","v":0},1,10,8,4,1,1,{"$f":"IF(J783=\"\",\"\",IF(J783>Inputs!$D$9,0,1))","v":1},{"$f":"IF(K783=\"\",\"\",IF(K783>Inputs!$D$9,0,1))","v":1},{"$f":"IF(L783=\"\",\"\",IF(L783>Inputs!$D$9,0,1))","v":1},{"$f":"IF(M783=\"\",\"\",IF(M783>Inputs!$D$9,0,1))","v":1},{"$f":"IF(N783=\"\",\"\",IF(N783>Inputs!$D$9,0,1))","v":1},{"$f":"IF(O783=\"\",\"\",IF(O783>Inputs!$D$9,0,1))","v":1},{"$f":"IF(COUNT(P783:U783)=0,\"\",INDEX(Inputs!$O$21:$P$26,MATCH(COUNT(P783:U783),Inputs!$O$21:$O$26,0),2))","v":20},1,null,null,{"$f":"IF(D783=\"\",\"\",IF(D783=\"-\",\"\",IF(D783>AVERAGE($D$2:$D$1000),1,0)))","v":1},1,1,1,1,1,1]
[{"$f":"'SIP Returns'!B785","v":0},null,{"$f":"'SIP Returns'!D785","v":0},{"$f":"'SIP Returns'!E785","v":0},{"$f":"'SIP Returns'!F785","v":0},{"$f":"'SIP Returns'!G785","v":0},{"$f":"'SIP Returns'!H785","v":0},{"$f":"'SIP Returns'!I785","v":0},{"$f":"'SIP Returns'!J785","v":0},1,10,8,4,1,1,{"$f":"IF(J784=\"\",\"\",IF(J784>Inputs!$D$9,0,1))","v":1},{"$f":"IF(K784=\"\",\"\",IF(K784>Inputs!$D$9,0,1))","v":1},{"$f":"IF(L784=\"\",\"\",IF(L784>Inputs!$D$9,0,1))","v":1},{"$f":"IF(M784=\"\",\"\",IF(M784>Inputs!$D$9,0,1))","v":1},{"$f":"IF(N784=\"\",\"\",IF(N784>Inputs!$D$9,0,1))","v":1},{"$f":"IF(O784=\"\",\"\",IF(O784>Inputs!$D$9,0,1))","v":1},{"$f":"IF(COUNT(P784:U784)=0,\"\",INDEX(Inputs!$O$21:$P$26,MATCH(COUNT(P784:U784),Inputs!$O$21:$O$26,0),2))","v":20},1,null,null,{"$f":"IF(D784=\"\",\"\",IF(D784=\"-\",\"\",IF(D784>AVERAGE($D$2:$D$1000),1,0)))","v":1},1,1,1,1,1,1]
[{"$f":"'SIP Returns'!B786","v":0},null,{"$f":"'SIP Returns'!D786","v":0},{"$f":"'SIP Returns'!E786","v":0},{"$f":"'SIP Returns'!F786","v":0},{"$f":"'SIP Returns'!G786","v":0},{"$f":"'SIP Returns'!H786","v":0},{"$f":"'SIP Returns'!I786","v":0},{"$f":"'SIP Returns'!J786","v":0},1,10,8,4,1,1,{"$f":"IF(J785=\"\",\"\",IF(J785>Inputs!$D$9,0,1))","v":1},{"$f":"IF(K785=\"\",\"\",IF(K785>Inputs!$D$9,0,1))","v":1},{"$f":"IF(L785=\"\",\"\",IF(L785>Inputs!$D$9,0,1))","v":1},{"$f":"IF(M785=\"\",\"\",IF(M785>Inputs!$D$9,0,1))","v":1},{"$f":"IF(N785=\"\",\"\",IF(N785>Inputs!$D$9,0,1))","v":1},{"$f":"IF(O785=\"\",\"\",IF(O785>Inputs!$D$9,0,1))","v":1},{"$f":"IF(COUNT(P785:U785)=0,\"\",INDEX(Inputs!$O$21:$P$26,MATCH(COUNT(P785:U785),Inputs!$O$21:$O$26,0),2))","v":20},1,null,null,{"$f":"IF(D785=\"\",\"\",IF(D785=\"-\",\"\",IF(D785>AVERAGE($D$2:$D$1000),1,0)))","v":1},1,1,1,1,1,1]
[{"$f":"'SIP Returns'!B787","v":0},null,{"$f":"'SIP Returns'!D787","v":0},{"$f":"'SIP Returns'!E787","v":0},{"$f":"'SIP Returns'!F787","v":0},{"$f":"'SIP Returns'!G787","v":0},{"$f":"'SIP Returns'!H787","v":0},{"$f":"'SIP Returns'!I787","v":0},{"$f":"'SIP Returns'!J787","v":0},1,10,8,4,1,1,{"$f":"IF(J786=\"\",\"\",IF(J786>Inputs!$D$9,0,1))","v":1},{"$f":"IF(K786=\"\",\"\",IF(K786>Inputs!$D$9,0,1))","v":1},{"$f":"IF(L786=\"\",\"\",IF(L786>Inputs!$D$9,0,1))","v":1},{"$f":"IF(M786=\"\",\"\",IF(M786>Inputs!$D$9,0,1))","v":1},{"$f":"IF(N786=\"\",\"\",IF(N786>Inputs!$D$9,0,1))","v":1},{"$f":"IF(O786=\"\",\"\",IF(O786>Inputs!$D$9,0,1))","v":1},{"$f":"IF(COUNT(P786:U786)=0,\"\",INDEX(Inputs!$O$21:$P$26,MATCH(COUNT(P786:U786),Inputs!$O$21:$O$26,0),2))","v":20},1,null,null,{"$f":"IF(D786=\"\",\"\",IF(D786=\"-\",\"\",IF(D786>AVERAGE($D$2:$D$1000),1,0)))","v":1},1,1,1,1,1,1]
[{"$f":"'SIP Returns'!B788","v":0},null,{"$f":"'SIP Returns'!D788","v":0},{"$f":"'SIP Returns'!E788","v":0},{"$f":"'SIP Returns'!F788","v":0},{"$f":"'SIP Returns'!G788","v":0},{"$f":"'SIP Returns'!H788","v":0},{"$f":"'SIP Returns'!I788","v":0},{"$f":"'SIP Returns'!J788","v":0},1,10,8,4,1,1,{"$f":"IF(J787=\"\",\"\",IF(J787>Inputs!$D$9,0,1))","v":1},{"$f":"IF(K787=\"\",\"\",IF(K787>Inputs!$D$9,0,1))","v":1},{"$f":"IF(L787=\"\",\"\",IF(L787>Inputs!$D$9,0,1))","v":1},{"$f":"IF(M787=\"\",\"\",IF(M787>Inputs!$D$9,0,1))","v":1},{"$f":"IF(N787=\"\",\"\",IF(N787>Inputs!$D$9,0,1))","v":1},{"$f":"IF(O787=\"\",\"\",IF(O787>Inputs!$D$9,0,1))","v":1},{"$f":"IF(COUNT(P787:U787)=0,\"\",INDEX(Inputs!$O$21:$P$26,MATCH(COUNT(P787:U787),Inputs!$O$21:$O$26,0),2))","v":20},1,null,null,{"$f":"IF(D787=\"\",\"\",IF(D787=\"-\",\"\",IF(D787>AVERAGE($D$2:$D$1000),1,0)))","v":1},1,1,1,1,1,1]
[{"$f":"'SIP Returns'!B789","v":0},null,{"$f":"'SIP Returns'!D789","v":0},{"$f":"'SIP Returns'!E789","v":0},{"$f":"'SIP Returns'!F789","v":0},{"$f":"'SIP Returns'!G789","v":0},{"$f":"'SIP Returns'!H789","v":0},{"$f":"'SIP Returns'!I789","v":0},{"$f":"'SIP Returns'!J789","v":0},1,10,8,4,1,1,{"$f":"IF(J788=\"\",\"\",IF(J788>Inputs!$D$9,0,1))","v":1},{"$f":"IF(K788=\"\",\"\",IF(K788>Inputs!$D$9,0,1))","v":1},{"$f":"IF(L788=\"\",\"\",IF(L788>Inputs!$D$9,0,1))","v":1},{"$f":"IF(M788=\"\",\"\",IF(M788>Inputs!$D$9,0,1))","v":1},{"$f":"IF(N788=\"\",\"\",IF(N788>Inputs!$D$9,0,1))","v":1},{"$f":"IF(O788=\"\",\"\",IF(O788>Inputs!$D$9,0,1))","v":1},{"$f":"IF(COUNT(P788:U788)=0,\"\",INDEX(Inputs!$O$21:$P$26,MATCH(COUNT(P788:U788),Inputs!$O$21:$O$26,0),2))","v":20},1,null,null,{"$f":"IF(D788=\"\",\"\",IF(D788=\"-\",\"\",IF(D788>AVERAGE($D$2:$D$1000),1,0)))","v":1},1,1,1,1,1,1]
[{"$f":"'SIP Returns'!B790","v":0},null,{"$f":"'SIP Returns'!D790","v":0},{"$f":"'SIP Returns'!E790","v":0},{"$f":"'SIP Returns'!F790","v":0},{"$f":"'SIP Returns'!G790","v":0},{"$f":"'SIP Returns'!H790","v":0},{"$f":"'SIP Returns'!I790","v":0},{"$f":"'SIP Returns'!J790","v":0},1,10,8,4,1,1,{"$f":"IF(J789=\"\",\"\",IF(J789>Inputs!$D$9,0,1))","v":1},{"$f":"IF(K789=\"\",\"\",IF(K789>Inputs!$D$9,0,1))","v":1},{"$f":"IF(L789=\"\",\"\",IF(L789>Inputs!$D$9,0,1))","v":1},{"$f":"IF(M789=\"\",\"\",IF(M789>Inputs!$D$9,0,1))","v":1},{"$f":"IF(N789=\"\",\"\",IF(N789>Inputs!$D$9,0,1))","v":1},{"$f":"IF(O789=\"\",\"\",IF(O789>Inputs!$D$9,0,1))","v":1},{"$f":"IF(COUNT(P789:U789)=0,\"\",INDEX(Inputs!$O$21:$P$26,MATCH(COUNT(P789:U789),Inputs!$O$21:$O$26,0),2))","v":20},1,null,null,{"$f":"IF(D789=\"\",\"\",IF(D789=\"-\",\"\",IF(D789>AVERAGE($D$2:$D$1000),1,0)))","v":1},1,1,1,1,1,1]
[{"$f":"'SIP Returns'!B791","v":0},null,{"$f":"'SIP Returns'!D791","v":0},{"$f":"'SIP Returns'!E791","v":0},{"$f":"'SIP Returns'!F791","v":0},{"$f":"'SIP Returns'!G791","v":0},{"$f":"'SIP Returns'!H791","v":0},{"$f":"'SIP Returns'!I791","v":0},{"$f":"'SIP Returns'!J791","v":0},1,10,8,4,1,1,{"$f":"IF(J790=\"\",\"\",IF(J790>Inputs!$D$9,0,1))","v":1},{"$f":"IF(K790=\"\",\"\",IF(K790>Inputs!$D$9,0,1))","v":1},{"$f":"IF(L790=\"\",\"\",IF(L790>Inputs!$D$9,0,1))","v":1},{"$f":"IF(M790=\"\",\"\",IF(M790>Inputs!$D$9,0,1))","v":1},{"$f":"IF(N790=\"\",\"\",IF(N790>Inputs!$D$9,0,1))","v":1},{"$f":"IF(O790=\"\",\"\",IF(O790>Inputs!$D$9,0,1))","v":1},{"$f":"IF(COUNT(P790:U790)=0,\"\",INDEX(Inputs!$O$21:$P$26,MATCH(COUNT(P790:U790),Inputs!$O$21:$O$26,0),2))","v":20},1,null,null,{"$f":"IF(D790=\"\",\"\",IF(D790=\"-\",\"\",IF(D790>AVERAGE($D$2:$D$1000),1,0)))","v":1},1,1,1,1,1,1]
[{"$f":"'SIP Returns'!B792","v":0},null,{"$f":"'SIP Returns'!D792","v":0},{"$f":"'SIP Returns'!E792","v":0},{"$f":"'SIP Returns'!F792","v":0},{"$f":"'SIP Returns'!G792","v":0},{"$f":"'SIP Returns'!H792","v":0},{"$f":"'SIP Returns'!I792","v":0},{"$f":"'SIP Returns'!J792","v":0},1,10,8,4,1,1,{"$f":"IF(J791=\"\",\"\",IF(J791>Inputs!$D$9,0,1))","v":1},{"$f":"IF(K791=\"\",\"\",IF(K791>Inputs!$D$9,0,1))","v":1},{"$f":"IF(L791=\"\",\"\",IF(L791>Inputs!$D$9,0,1))","v":1},{"$f":"IF(M791=\"\",\"\",IF(M791>Inputs!$D$9,0,1))","v":1},{"$f":"IF(N791=\"\",\"\",IF(N791>Inputs!$D$9,0,1))","v":1},{"$f":"IF(O791=\"\",\"\",IF(O791>Inputs!$D$9,0,1))","v":1},{"$f":"IF(COUNT(P791:U791)=0,\"\",INDEX(Inputs!$O$21:$P$26,MATCH(COUNT(P791:U791),Inputs!$O$21:$O$26,0),2))","v":20},1,null,null,{"$f":"IF(D791=\"\",\"\",IF(D791=\"-\",\"\",IF(D791>AVERAGE($D$2:$D$1000),1,0)))","v":1},1,1,1,1,1,1]
[{"$f":"'SIP Returns'!B793","v":0},null,{"$f":"'SIP Returns'!D793","v":0},{"$f":"'SIP Returns'!E793","v":0},{"$f":"'SIP Returns'!F793","v":0},{"$f":"'SIP Returns'!G793","v":0},{"$f":"'SIP Returns'!H793","v":0},{"$f":"'SIP Returns'!I793","v":0},{"$f":"'SIP Returns'!J793","v":0},1,10,8,4,1,1,{"$f":"IF(J792=\"\",\"\",IF(J792>Inputs!$D$9,0,1))","v":1},{"$f":"IF(K792=\"\",\"\",IF(K792>Inputs!$D$9,0,1))","v":1},{"$f":"IF(L792=\"\",\"\",IF(L792>Inputs!$D$9,0,1))","v":1},{"$f":"IF(M792=\"\",\"\",IF(M792>Inputs!$D$9,0,1))","v":1},{"$f":"IF(N792=\"\",\"\",IF(N792>Inputs!$D$9,0,1))","v":1},{"$f":"IF(O792=\"\",\"\",IF(O792>Inputs!$D$9,0,1))","v":1},{"$f":"IF(COUNT(P792:U792)=0,\"\",INDEX(Inputs!$O$21:$P$26,MATCH(COUNT(P792:U792),Inputs!$O$21:$O$26,0),2))","v":20},1,null,null,{"$f":"IF(D792=\"\",\"\",IF(D792=\"-\",\"\",IF(D792>AVERAGE($D$2:$D$1000),1,0)))","v":1},1,1,1,1,1,1]
[{"$f":"'SIP Returns'!B794","v":0},null,{"$f":"'SIP Returns'!D794","v":0},{"$f":"'SIP Returns'!E794","v":0},{"$f":"'SIP Returns'!F794","v":0},{"$f":"'SIP Returns'!G794","v":0},{"$f":"'SIP Returns'!H794","v":0},{"$f":"'SIP Returns'!I794","v":0},{"$f":"'SIP Returns'!J794","v":0},1,10,8,4,1,1,{"$f":"IF(J793=\"\",\"\",IF(J793>Inputs!$D$9,0,1))","v":1},{"$f":"IF(K793=\"\",\"\",IF(K793>Inputs!$D$9,0,1))","v":1},{"$f":"IF(L793=\"\",\"\",IF(L793>Inputs!$D$9,0,1))","v":1},{"$f":"IF(M793=\"\",\"\",IF(M793>Inputs!$D$9,0,1))","v":1},{"$f":"IF(N793=\"\",\"\",IF(N793>Inputs!$D$9,0,1))","v":1},{"$f":"IF(O793=\"\",\"\",IF(O793>Inputs!$D$9,0,1))","v":1},{"$f":"IF(COUNT(P793:U793)=0,\"\",INDEX(Inputs!$O$21:$P$26,MATCH(COUNT(P793:U793),Inputs!$O$21:$O$26,0),2))","v":20},1,null,null,{"$f":"IF(D793=\"\",\"\",IF(D793=\"-\",\"\",IF(D793>AVERAGE($D$2:$D$1000),1,0)))","v":1},1,1,1,1,1,1]
[{"$f":"'SIP Returns'!B795","v":0},null,{"$f":"'SIP Returns'!D795","v":0},{"$f":"'SIP Returns'!E795","v":0},{"$f":"'SIP Returns'!F795","v":0},{"$f":"'SIP Returns'!G795","v":0},{"$f":"'SIP Returns'!H795","v":0},{"$f":"'SIP Returns'!I795","v":0},{"$f":"'SIP Returns'!J795","v":0},1,10,8,4,1,1,{"$f":"IF(J794=\"\",\"\",IF(J794>Inputs!$D$9,0,1))","v":1},{"$f":"IF(K794=\"\",\"\",IF(K794>Inputs!$D$9,0,1))","v":1},{"$f":"IF(L794=\"\",\"\",IF(L794>Inputs!$D$9,0,1))","v":1},{"$f":"IF(M794=\"\",\"\",IF(M794>Inputs!$D$9,0,1))","v":1},{"$f":"IF(N794=\"\",\"\",IF(N794>Inputs!$D$9,0,1))","v":1},{"$f":"IF(O794=\"\",\"\",IF(O794>Inputs!$D$9,0,1))","v":1},{"$f":"IF(COUNT(P794:U794)=0,\"\",INDEX(Inputs!$O$21:$P$26,MATCH(COUNT(P794:U794),Inputs!$O$21:$O$26,0),2))","v":20},1,null,null,{"$f":"IF(D794=\"\",\"\",IF(D794=\"-\",\"\",IF(D794>AVERAGE($D$2:$D$1000),1,0)))","v":1},1,1,1,1,1,1]
[{"$f":"'SIP Returns'!B796","v":0},null,{"$f":"'SIP Returns'!D796","v":0},{"$f":"'SIP Returns'!E796","v":0},{"$f":"'SIP Returns'!F796","v":0},{"$f":"'SIP Returns'!G796","v":0},{"$f":"'SIP Returns'!H796","v":0},{"$f":"'SIP Returns'!I796","v":0},{"$f":"'SIP Returns'!J796","v":0},1,10,8,4,1,1,{"$f":"IF(J795=\"\",\"\",IF(J795>Inputs!$D$9,0,1))","v":1},{"$f":"IF(K795=\"\",\"\",IF(K795>Inputs!$D$9,0,1))","v":1},{"$f":"IF(L795=\"\",\"\",IF(L795>Inputs!$D$9,0,1))","v":1},{"$f":"IF(M795=\"\",\"\",IF(M795>Inputs!$D$9,0,1))","v":1},{"$f":"IF(N795=\"\",\"\",IF(N795>Inputs!$D$9,0,1))","v":1},{"$f":"IF(O795=\"\",\"\",IF(O795>Inputs!$D$9,0,1))","v":1},{"$f":"IF(COUNT(P795:U795)=0,\"\",INDEX(Inputs!$O$21:$P$26,MATCH(COUNT(P795:U795),Inputs!$O$21:$O$26,0),2))","v":20},1,null,null,{"$f":"IF(D795=\"\",\"\",IF(D795=\"-\",\"\",IF(D795>AVERAGE($D$2:$D$1000),1,0)))","v":1},1,1,1,1,1,1]
[{"$f":"'SIP Returns'!B797","v":0},null,{"$f":"'SIP Returns'!D797","v":0},{"$f":"'SIP Returns'!E797","v":0},{"$f":"'SIP Returns'!F797","v":0},{"$f":"'SIP Returns'!G797","v":0},{"$f":"'SIP Returns'!H797","v":0},{"$f":"'SIP Returns'!I797","v":0},{"$f":"'SIP Returns'!J797","v":0},1,10,8,4,1,1,{"$f":"IF(J796=\"\",\"\",IF(J796>Inputs!$D$9,0,1))","v":1},{"$f":"IF(K796=\"\",\"\",IF(K796>Inputs!$D$9,0,1))","v":1},{"$f":"IF(L796=\"\",\"\",IF(L796>Inputs!$D$9,0,1))","v":1},{"$f":"IF(M796=\"\",\"\",IF(M796>Inputs!$D$9,0,1))","v":1},{"$f":"IF(N796=\"\",\"\",IF(N796>Inputs!$D$9,0,1))","v":1},{"$f":"IF(O796=\"\",\"\",IF(O796>Inputs!$D$9,0,1))","v":1},{"$f":"IF(COUNT(P796:U796)=0,\"\",INDEX(Inputs!$O$21:$P$26,MATCH(COUNT(P796:U796),Inputs!$O$21:$O$26,0),2))","v":20},1,null,null,{"$f":"IF(D796=\"\",\"\",IF(D796=\"-\",\"\",IF(D796>AVERAGE($D$2:$D$1000),1,0)))","v":1},1,1,1,1,1,1]
[{"$f":"'SIP Returns'!B798","v":0},null,{"$f":"'SIP Returns'!D798","v":0},{"$f":"'SIP Returns'!E798","v":0},{"$f":"'SIP Returns'!F798","v":0},{"$f":"'SIP Returns'!G798","v":0},{"$f":"'SIP Returns'!H798","v":0},{"$f":"'SIP Returns'!I798","v":0},{"$f":"'SIP Returns'!J798","v":0},1,10,8,4,1,1,{"$f":"IF(J797=\"\",\"\",IF(J797>Inputs!$D$9,0,1))","v":1},{"$f":"IF(K797=\"\",\"\",IF(K797>Inputs!$D$9,0,1))","v":1},{"$f":"IF(L797=\"\",\"\",IF(L797>Inputs!$D$9,0,1))","v":1},{"$f":"IF(M797=\"\",\"\",IF(M797>Inputs!$D$9,0,1))","v":1},{"$f":"IF(N797=\"\",\"\",IF(N797>Inputs!$D$9,0,1))","v":1},{"$f":"IF(O797=\"\",\"\",IF(O797>Inputs!$D$9,0,1))","v":1},{"$f":"IF(COUNT(P797:U797)=0,\"\",INDEX(Inputs!$O$21:$P$26,MATCH(COUNT(P797:U797),Inputs!$O$21:$O$26,0),2))","v":20},1,null,null,{"$f":"IF(D797=\"\",\"\",IF(D797=\"-\",\"\",IF(D797>AVERAGE($D$2:$D$1000),1,0)))","v":1},1,1,1,1,1,1]
[{"$f":"'SIP Returns'!B799","v":0},null,{"$f":"'SIP Returns'!D799","v":0},{"$f":"'SIP Returns'!E799","v":0},{"$f":"'SIP Returns'!F799","v":0},{"$f":"'SIP Returns'!G799","v":0},{"$f":"'SIP Returns'!H799","v":0},{"$f":"'SIP Returns'!I799","v":0},{"$f":"'SIP Returns'!J799","v":0},1,10,8,4,1,1,{"$f":"IF(J798=\"\",\"\",IF(J798>Inputs!$D$9,0,1))","v":1},{"$f":"IF(K798=\"\",\"\",IF(K798>Inputs!$D$9,0,1))","v":1},{"$f":"IF(L798=\"\",\"\",IF(L798>Inputs!$D$9,0,1))","v":1},{"$f":"IF(M798=\"\",\"\",IF(M798>Inputs!$D$9,0,1))","v":1},{"$f":"IF(N798=\"\",\"\",IF(N798>Inputs!$D$9,0,1))","v":1},{"$f":"IF(O798=\"\",\"\",IF(O798>Inputs!$D$9,0,1))","v":1},{"$f":"IF(COUNT(P798:U798)=0,\"\",INDEX(Inputs!$O$21:$P$26,MATCH(COUNT(P798:U798),Inputs!$O$21:$O$26,0),2))","v":20},1,null,null,{"$f":"IF(D798=\"\",\"\",IF(D798=\"-\",\"\",IF(D798>AVERAGE($D$2:$D$1000),1,0)))","v":1},1,1,1,1,1,1]
[{"$f":"'SIP Returns'!B800","v":0},null,{"$f":"'SIP Returns'!D800","v":0},{"$f":"'SIP Returns'!E800","v":0},{"$f":"'SIP Returns'!F800","v":0},{"$f":"'SIP Returns'!G800","v":0},{"$f":"'SIP Returns'!H800","v":0},{"$f":"'SIP Returns'!I800","v":0},{"$f":"'SIP Returns'!J800","v":0},1,10,8,4,1,1,{"$f":"IF(J799=\"\",\"\",IF(J799>Inputs!$D$9,0,1))","v":1},{"$f":"IF(K799=\"\",\"\",IF(K799>Inputs!$D$9,0,1))","v":1},{"$f":"IF(L799=\"\",\"\",IF(L799>Inputs!$D$9,0,1))","v":1},{"$f":"IF(M799=\"\",\"\",IF(M799>Inputs!$D$9,0,1))","v":1},{"$f":"IF(N799=\"\",\"\",IF(N799>Inputs!$D$9,0,1))","v":1},{"$f":"IF(O799=\"\",\"\",IF(O799>Inputs!$D$9,0,1))","v":1},{"$f":"IF(COUNT(P799:U799)=0,\"\",INDEX(Inputs!$O$21:$P$26,MATCH(COUNT(P799:U799),Inputs!$O$21:$O$26,0),2))","v":20},1,null,null,{"$f":"IF(D799=\"\",\"\",IF(D799=\"-\",\"\",IF(D799>AVERAGE($D$2:$D$1000),1,0)))","v":1},1,1,1,1,1,1]
[{"$f":"'SIP Returns'!B801","v":0},null,{"$f":"'SIP Returns'!D801","v":0},{"$f":"'SIP Returns'!E801","v":0},{"$f":"'SIP Returns'!F801","v":0},{"$f":"'SIP Returns'!G801","v":0},{"$f":"'SIP Returns'!H801","v":0},{"$f":"'SIP Returns'!I801","v":0},{"$f":"'SIP Returns'!J801","v":0},1,10,8,4,1,1,{"$f":"IF(J800=\"\",\"\",IF(J800>Inputs!$D$9,0,1))","v":1},{"$f":"IF(K800=\"\",\"\",IF(K800>Inputs!$D$9,0,1))","v":1},{"$f":"IF(L800=\"\",\"\",IF(L800>Inputs!$D$9,0,1))","v":1},{"$f":"IF(M800=\"\",\"\",IF(M800>Inputs!$D$9,0,1))","v":1},{"$f":"IF(N800=\"\",\"\",IF(N800>Inputs!$D$9,0,1))","v":1},{"$f":"IF(O800=\"\",\"\",IF(O800>Inputs!$D$9,0,1))","v":1},{"$f":"IF(COUNT(P800:U800)=0,\"\",INDEX(Inputs!$O$21:$P$26,MATCH(COUNT(P800:U800),Inputs!$O$21:$O$26,0),2))","v":20},1,null,null,{"$f":"IF(D800=\"\",\"\",IF(D800=\"-\",\"\",IF(D800>AVERAGE($D$2:$D$1000),1,0)))","v":1},1,1,1,1,1,1]
[{"$f":"'SIP Returns'!B802","v":0},null,{"$f":"'SIP Returns'!D802","v":0},{"$f":"'SIP Returns'!E802","v":0},{"$f":"'SIP Returns'!F802","v":0},{"$f":"'SIP Returns'!G802","v":0},{"$f":"'SIP Returns'!H802","v":0},{"$f":"'SIP Returns'!I802","v":0},{"$f":"'SIP Returns'!J802","v":0},1,10,8,4,1,1,{"$f":"IF(J801=\"\",\"\",IF(J801>Inputs!$D$9,0,1))","v":1},{"$f":"IF(K801=\"\",\"\",IF(K801>Inputs!$D$9,0,1))","v":1},{"$f":"IF(L801=\"\",\"\",IF(L801>Inputs!$D$9,0,1))","v":1},{"$f":"IF(M801=\"\",\"\",IF(M801>Inputs!$D$9,0,1))","v":1},{"$f":"IF(N801=\"\",\"\",IF(N801>Inputs!$D$9,0,1))","v":1},{"$f":"IF(O801=\"\",\"\",IF(O801>Inputs!$D$9,0,1))","v":1},{"$f":"IF(COUNT(P801:U801)=0,\"\",INDEX(Inputs!$O$21:$P$26,MATCH(COUNT(P801:U801),Inputs!$O$21:$O$26,0),2))","v":20},1,null,null,{"$f":"IF(D801=\"\",\"\",IF(D801=\"-\",\"\",IF(D801>AVERAGE($D$2:$D$1000),1,0)))","v":1},1,1,1,1,1,1]
[{"$f":"'SIP Returns'!B803","v":0},null,{"$f":"'SIP Returns'!D803","v":0},{"$f":"'SIP Returns'!E803","v":0},{"$f":"'SIP Returns'!F803","v":0},{"$f":"'SIP Returns'!G803","v":0},{"$f":"'SIP Returns'!H803","v":0},{"$f":"'SIP Returns'!I803","v":0},{"$f":"'SIP Returns'!J803","v":0},1,10,8,4,1,1,{"$f":"IF(J802=\"\",\"\",IF(J802>Inputs!$D$9,0,1))","v":1},{"$f":"IF(K802=\"\",\"\",IF(K802>Inputs!$D$9,0,1))","v":1},{"$f":"IF(L802=\"\",\"\",IF(L802>Inputs!$D$9,0,1))","v":1},{"$f":"IF(M802=\"\",\"\",IF(M802>Inputs!$D$9,0,1))","v":1},{"$f":"IF(N802=\"\",\"\",IF(N802>Inputs!$D$9,0,1))","v":1},{"$f":"IF(O802=\"\",\"\",IF(O802>Inputs!$D$9,0,1))","v":1},{"$f":"IF(COUNT(P802:U802)=0,\"\",INDEX(Inputs!$O$21:$P$26,MATCH(COUNT(P802:U802),Inputs!$O$21:$O$26,0),2))","v":20},1,null,null,{"$f":"IF(D802=\"\",\"\",IF(D802=\"-\",\"\",IF(D802>AVERAGE($D$2:$D$1000),1,0)))","v":1},1,1,1,1,1,1]
[{"$f":"'SIP Returns'!B804","v":0},null,{"$f":"'SIP Returns'!D804","v":0},{"$f":"'SIP Returns'!E804","v":0},{"$f":"'SIP Returns'!F804","v":0},{"$f":"'SIP Returns'!G804","v":0},{"$f":"'SIP Returns'!H804","v":0},{"$f":"'SIP Returns'!I804","v":0},{"$f":"'SIP Returns'!J804","v":0},1,10,8,4,1,1,{"$f":"IF(J803=\"\",\"\",IF(J803>Inputs!$D$9,0,1))","v":1},{"$f":"IF(K803=\"\",\"\",IF(K803>Inputs!$D$9,0,1))","v":1},{"$f":"IF(L803=\"\",\"\",IF(L803>Inputs!$D$9,0,1))","v":1},{"$f":"IF(M803=\"\",\"\",IF(M803>Inputs!$D$9,0,1))","v":1},{"$f":"IF(N803=\"\",\"\",IF(N803>Inputs!$D$9,0,1))","v":1},{"$f":"IF(O803=\"\",\"\",IF(O803>Inputs!$D$9,0,1))","v":1},{"$f":"IF(COUNT(P803:U803)=0,\"\",INDEX(Inputs!$O$21:$P$26,MATCH(COUNT(P803:U803),Inputs!$O$21:$O$26,0),2))","v":20},1,null,null,{"$f":"IF(D803=\"\",\"\",IF(D803=\"-\",\"\",IF(D803>AVERAGE($D$2:$D$1000),1,0)))","v":1},1,1,1,1,1,1]
[{"$f":"'SIP Returns'!B805","v":0},null,{"$f":"'SIP Returns'!D805","v":0},{"$f":"'SIP Returns'!E805","v":0},{"$f":"'SIP Returns'!F805","v":0},{"$f":"'SIP Returns'!G805","v":0},{"$f":"'SIP Returns'!H805","v":0},{"$f":"'SIP Returns'!I805","v":0},{"$f":"'SIP Returns'!J805","v":0},1,10,8,4,1,1,{"$f":"IF(J804=\"\",\"\",IF(J804>Inputs!$D$9,0,1))","v":1},{"$f":"IF(K804=\"\",\"\",IF(K804>Inputs!$D$9,0,1))","v":1},{"$f":"IF(L804=\"\",\"\",IF(L804>Inputs!$D$9,0,1))","v":1},{"$f":"IF(M804=\"\",\"\",IF(M804>Inputs!$D$9,0,1))","v":1},{"$f":"IF(N804=\"\",\"\",IF(N804>Inputs!$D$9,0,1))","v":1},{"$f":"IF(O804=\"\",\"\",IF(O804>Inputs!$D$9,0,1))","v":1},{"$f":"IF(COUNT(P804:U804)=0,\"\",INDEX(Inputs!$O$21:$P$26,MATCH(COUNT(P804:U804),Inputs!$O$21:$O$26,0),2))","v":20},1,null,null,{"$f":"IF(D804=\"\",\"\",IF(D804=\"-\",\"\",IF(D804>AVERAGE($D$2:$D$1000),1,0)))","v":1},1,1,1,1,1,1]
[{"$f":"'SIP Returns'!B806","v":0},null,{"$f":"'SIP Returns'!D806","v":0},{"$f":"'SIP Returns'!E806","v":0},{"$f":"'SIP Returns'!F806","v":0},{"$f":"'SIP Returns'!G806","v":0},{"$f":"'SIP Returns'!H806","v":0},{"$f":"'SIP Returns'!I806","v":0},{"$f":"'SIP Returns'!J806","v":0},1,10,8,4,1,1,{"$f":"IF(J805=\"\",\"\",IF(J805>Inputs!$D$9,0,1))","v":1},{"$f":"IF(K805=\"\",\"\",IF(K805>Inputs!$D$9,0,1))","v":1},{"$f":"IF(L805=\"\",\"\",IF(L805>Inputs!$D$9,0,1))","v":1},{"$f":"IF(M805=\"\",\"\",IF(M805>Inputs!$D$9,0,1))","v":1},{"$f":"IF(N805=\"\",\"\",IF(N805>Inputs!$D$9,0,1))","v":1},{"$f":"IF(O805=\"\",\"\",IF(O805>Inputs!$D$9,0,1))","v":1},{"$f":"IF(COUNT(P805:U805)=0,\"\",INDEX(Inputs!$O$21:$P$26,MATCH(COUNT(P805:U805),Inputs!$O$21:$O$26,0),2))","v":20},1,null,null,{"$f":"IF(D805=\"\",\"\",IF(D805=\"-\",\"\",IF(D805>AVERAGE($D$2:$D$1000),1,0)))","v":1},1,1,1,1,1,1]
[{"$f":"'SIP Returns'!B807","v":0},null,{"$f":"'SIP Returns'!D807","v":0},{"$f":"'SIP Returns'!E807","v":0},{"$f":"'SIP Returns'!F807","v":0},{"$f":"'SIP Returns'!G807","v":0},{"$f":"'SIP Returns'!H807","v":0},{"$f":"'SIP Returns'!I807","v":0},{"$f":"'SIP Returns'!J807","v":0},1,10,8,4,1,1,{"$f":"IF(J806=\"\",\"\",IF(J806>Inputs!$D$9,0,1))","v":1},{"$f":"IF(K806=\"\",\"\",IF(K806>Inputs!$D$9,0,1))","v":1},{"$f":"IF(L806=\"\",\"\",IF(L806>Inputs!$D$9,0,1))","v":1},{"$f":"IF(M806=\"\",\"\",IF(M806>Inputs!$D$9,0,1))","v":1},{"$f":"IF(N806=\"\",\"\",IF(N806>Inputs!$D$9,0,1))","v":1},{"$f":"IF(O806=\"\",\"\",IF(O806>Inputs!$D$9,0,1))","v":1},{"$f":"IF(COUNT(P806:U806)=0,\"\",INDEX(Inputs!$O$21:$P$26,MATCH(COUNT(P806:U806),Inputs!$O$21:$O$26,0),2))","v":20},1,null,null,{"$f":"IF(D806=\"\",\"\",IF(D806=\"-\",\"\",IF(D806>AVERAGE($D$2:$D$1000),1,0)))","v":1},1,1,1,1,1,1]
[{"$f":"'SIP Returns'!B808","v":0},null,{"$f":"'SIP Returns'!D808","v":0},{"$f":"'SIP Returns'!E808","v":0},{"$f":"'SIP Returns'!F808","v":0},{"$f":"'SIP Returns'!G808","v":0},{"$f":"'SIP Returns'!H808","v":0},{"$f":"'SIP Returns'!I808","v":0},{"$f":"'SIP Returns'!J808","v":0},1,10,8,4,1,1,{"$f":"IF(J807=\"\",\"\",IF(J807>Inputs!$D$9,0,1))","v":1},{"$f":"IF(K807=\"\",\"\",IF(K807>Inputs!$D$9,0,1))","v":1},{"$f":"IF(L807=\"\",\"\",IF(L807>Inputs!$D$9,0,1))","v":1},{"$f":"IF(M807=\"\",\"\",IF(M807>Inputs!$D$9,0,1))","v":1},{"$f":"IF(N807=\"\",\"\",IF(N807>Inputs!$D$9,0,1))","v":1},{"$f":"IF(O807=\"\",\"\",IF(O807>Inputs!$D$9,0,1))","v":1},{"$f":"IF(COUNT(P807:U807)=0,\"\",INDEX(Inputs!$O$21:$P$26,MATCH(COUNT(P807:U807),Inputs!$O$21:$O$26,0),2))","v":20},1,null,null,{"$f":"IF(D807=\"\",\"\",IF(D807=\"-\",\"\",IF(D807>AVERAGE($D$2:$D$1000),1,0)))","v":1},1,1,1,1,1,1]
[{"$f":"'SIP Returns'!B809","v":0},null,{"$f":"'SIP Returns'!D809","v":0},{"$f":"'SIP Returns'!E809","v":0},{"$f":"'SIP Returns'!F809","v":0},{"$f":"'SIP Returns'!G809","v":0},{"$f":"'SIP Returns'!H809","v":0},{"$f":"'SIP Returns'!I809","v":0},{"$f":"'SIP Returns'!J809","v":0},1,10,8,4,1,1,{"$f":"IF(J808=\"\",\"\",IF(J808>Inputs!$D$9,0,1))","v":1},{"$f":"IF(K808=\"\",\"\",IF(K808>Inputs!$D$9,0,1))","v":1},{"$f":"IF(L808=\"\",\"\",IF(L808>Inputs!$D$9,0,1))","v":1},{"$f":"IF(M808=\"\",\"\",IF(M808>Inputs!$D$9,0,1))","v":1},{"$f":"IF(N808=\"\",\"\",IF(N808>Inputs!$D$9,0,1))","v":1},{"$f":"IF(O808=\"\",\"\",IF(O808>Inputs!$D$9,0,1))","v":1},{"$f":"IF(COUNT(P808:U808)=0,\"\",INDEX(Inputs!$O$21:$P$26,MATCH(COUNT(P808:U808),Inputs!$O$21:$O$26,0),2))","v":20},1,null,null,{"$f":"IF(D808=\"\",\"\",IF(D808=\"-\",\"\",IF(D808>AVERAGE($D$2:$D$1000),1,0)))","v":1},1,1,1,1,1,1]
[{"$f":"'SIP Returns'!B810","v":0},null,{"$f":"'SIP Returns'!D810","v":0},{"$f":"'SIP Returns'!E810","v":0},{"$f":"'SIP Returns'!F810","v":0},{"$f":"'SIP Returns'!G810","v":0},{"$f":"'SIP Returns'!H810","v":0},{"$f":"'SIP Returns'!I810","v":0},{"$f":"'SIP Returns'!J810","v":0},1,10,8,4,1,1,{"$f":"IF(J809=\"\",\"\",IF(J809>Inputs!$D$9,0,1))","v":1},{"$f":"IF(K809=\"\",\"\",IF(K809>Inputs!$D$9,0,1))","v":1},{"$f":"IF(L809=\"\",\"\",IF(L809>Inputs!$D$9,0,1))","v":1},{"$f":"IF(M809=\"\",\"\",IF(M809>Inputs!$D$9,0,1))","v":1},{"$f":"IF(N809=\"\",\"\",IF(N809>Inputs!$D$9,0,1))","v":1},{"$f":"IF(O809=\"\",\"\",IF(O809>Inputs!$D$9,0,1))","v":1},{"$f":"IF(COUNT(P809:U809)=0,\"\",INDEX(Inputs!$O$21:$P$26,MATCH(COUNT(P809:U809),Inputs!$O$21:$O$26,0),2))","v":20},1,null,null,{"$f":"IF(D809=\"\",\"\",IF(D809=\"-\",\"\",IF(D809>AVERAGE($D$2:$D$1000),1,0)))","v":1},1,1,1,1,1,1]
[{"$f":"'SIP Returns'!B811","v":0},null,{"$f":"'SIP Returns'!D811","v":0},{"$f":"'SIP Returns'!E811","v":0},{"$f":"'SIP Returns'!F811","v":0},{"$f":"'SIP Returns'!G811","v":0},{"$f":"'SIP Returns'!H811","v":0},{"$f":"'SIP Returns'!I811","v":0},{"$f":"'SIP Returns'!J811","v":0},1,10,8,4,1,1,{"$f":"IF(J810=\"\",\"\",IF(J810>Inputs!$D$9,0,1))","v":1},{"$f":"IF(K810=\"\",\"\",IF(K810>Inputs!$D$9,0,1))","v":1},{"$f":"IF(L810=\"\",\"\",IF(L810>Inputs!$D$9,0,1))","v":1},{"$f":"IF(M810=\"\",\"\",IF(M810>Inputs!$D$9,0,1))","v":1},{"$f":"IF(N810=\"\",\"\",IF(N810>Inputs!$D$9,0,1))","v":1},{"$f":"IF(O810=\"\",\"\",IF(O810>Inputs!$D$9,0,1))","v":1},{"$f":"IF(COUNT(P810:U810)=0,\"\",INDEX(Inputs!$O$21:$P$26,MATCH(COUNT(P810:U810),Inputs!$O$21:$O$26,0),2))","v":20},1,null,null,{"$f":"IF(D810=\"\",\"\",IF(D810=\"-\",\"\",IF(D810>AVERAGE($D$2:$D$1000),1,0)))","v":1},1,1,1,1,1,1]
[{"$f":"'SIP Returns'!B812","v":0},null,{"$f":"'SIP Returns'!D812","v":0},{"$f":"'SIP Returns'!E812","v":0},{"$f":"'SIP Returns'!F812","v":0},{"$f":"'SIP Returns'!G812","v":0},{"$f":"'SIP Returns'!H812","v":0},{"$f":"'SIP Returns'!I812","v":0},{"$f":"'SIP Returns'!J812","v":0},1,10,8,4,1,1,{"$f":"IF(J811=\"\",\"\",IF(J811>Inputs!$D$9,0,1))","v":1},{"$f":"IF(K811=\"\",\"\",IF(K811>Inputs!$D$9,0,1))","v":1},{"$f":"IF(L811=\"\",\"\",IF(L811>Inputs!$D$9,0,1))","v":1},{"$f":"IF(M811=\"\",\"\",IF(M811>Inputs!$D$9,0,1))","v":1},{"$f":"IF(N811=\"\",\"\",IF(N811>Inputs!$D$9,0,1))","v":1},{"$f":"IF(O811=\"\",\"\",IF(O811>Inputs!$D$9,0,1))","v":1},{"$f":"IF(COUNT(P811:U811)=0,\"\",INDEX(Inputs!$O$21:$P$26,MATCH(COUNT(P811:U811),Inputs!$O$21:$O$26,0),2))","v":20},1,null,null,{"$f":"IF(D811=\"\",\"\",IF(D811=\"-\",\"\",IF(D811>AVERAGE($D$2:$D$1000),1,0)))","v":1},1,1,1,1,1,1]
[{"$f":"'SIP Returns'!B813","v":0},null,{"$f":"'SIP Returns'!D813","v":0},{"$f":"'SIP Returns'!E813","v":0},{"$f":"'SIP Returns'!F813","v":0},{"$f":"'SIP Returns'!G813","v":0},{"$f":"'SIP Returns'!H813","v":0},{"$f":"'SIP Returns'!I813","v":0},{"$f":"'SIP Returns'!J813","v":0},1,10,8,4,1,1,{"$f":"IF(J812=\"\",\"\",IF(J812>Inputs!$D$9,0,1))","v":1},{"$f":"IF(K812=\"\",\"\",IF(K812>Inputs!$D$9,0,1))","v":1},{"$f":"IF(L812=\"\",\"\",IF(L812>Inputs!$D$9,0,1))","v":1},{"$f":"IF(M812=\"\",\"\",IF(M812>Inputs!$D$9,0,1))","v":1},{"$f":"IF(N812=\"\",\"\",IF(N812>Inputs!$D$9,0,1))","v":1},{"$f":"IF(O812=\"\",\"\",IF(O812>Inputs!$D$9,0,1))","v":1},{"$f":"IF(COUNT(P812:U812)=0,\"\",INDEX(Inputs!$O$21:$P$26,MATCH(COUNT(P812:U812),Inputs!$O$21:$O$26,0),2))","v":20},1,null,null,{"$f":"IF(D812=\"\",\"\",IF(D812=\"-\",\"\",IF(D812>AVERAGE($D$2:$D$1000),1,0)))","v":1},1,1,1,1,1,1]
[{"$f":"'SIP Returns'!B814","v":0},null,{"$f":"'SIP Returns'!D814","v":0},{"$f":"'SIP Returns'!E814","v":0},{"$f":"'SIP Returns'!F814","v":0},{"$f":"'SIP Returns'!G814","v":0},{"$f":"'SIP Returns'!H814","v":0},{"$f":"'SIP Returns'!I814","v":0},{"$f":"'SIP Returns'!J814","v":0},1,10,8,4,1,1,{"$f":"IF(J813=\"\",\"\",IF(J813>Inputs!$D$9,0,1))","v":1},{"$f":"IF(K813=\"\",\"\",IF(K813>Inputs!$D$9,0,1))","v":1},{"$f":"IF(L813=\"\",\"\",IF(L813>Inputs!$D$9,0,1))","v":1},{"$f":"IF(M813=\"\",\"\",IF(M813>Inputs!$D$9,0,1))","v":1},{"$f":"IF(N813=\"\",\"\",IF(N813>Inputs!$D$9,0,1))","v":1},{"$f":"IF(O813=\"\",\"\",IF(O813>Inputs!$D$9,0,1))","v":1},{"$f":"IF(COUNT(P813:U813)=0,\"\",INDEX(Inputs!$O$21:$P$26,MATCH(COUNT(P813:U813),Inputs!$O$21:$O$26,0),2))","v":20},1,null,null,{"$f":"IF(D813=\"\",\"\",IF(D813=\"-\",\"\",IF(D813>AVERAGE($D$2:$D$1000),1,0)))","v":1},1,1,1,1,1,1]
[{"$f":"'SIP Returns'!B815","v":0},null,{"$f":"'SIP Returns'!D815","v":0},{"$f":"'SIP Returns'!E815","v":0},{"$f":"'SIP Returns'!F815","v":0},{"$f":"'SIP Returns'!G815","v":0},{"$f":"'SIP Returns'!H815","v":0},{"$f":"'SIP Returns'!I815","v":0},{"$f":"'SIP Returns'!J815","v":0},1,10,8,4,1,1,{"$f":"IF(J814=\"\",\"\",IF(J814>Inputs!$D$9,0,1))","v":1},{"$f":"IF(K814=\"\",\"\",IF(K814>Inputs!$D$9,0,1))","v":1},{"$f":"IF(L814=\"\",\"\",IF(L814>Inputs!$D$9,0,1))","v":1},{"$f":"IF(M814=\"\",\"\",IF(M814>Inputs!$D$9,0,1))","v":1},{"$f":"IF(N814=\"\",\"\",IF(N814>Inputs!$D$9,0,1))","v":1},{"$f":"IF(O814=\"\",\"\",IF(O814>Inputs!$D$9,0,1))","v":1},{"$f":"IF(COUNT(P814:U814)=0,\"\",INDEX(Inputs!$O$21:$P$26,MATCH(COUNT(P814:U814),Inputs!$O$21:$O$26,0),2))","v":20},1,null,null,{"$f":"IF(D814=\"\",\"\",IF(D814=\"-\",\"\",IF(D814>AVERAGE($D$2:$D$1000),1,0)))","v":1},1,1,1,1,1,1]
[{"$f":"'SIP Returns'!B816","v":0},null,{"$f":"'SIP Returns'!D816","v":0},{"$f":"'SIP Returns'!E816","v":0},{"$f":"'SIP Returns'!F816","v":0},{"$f":"'SIP Returns'!G816","v":0},{"$f":"'SIP Returns'!H816","v":0},{"$f":"'SIP Returns'!I816","v":0},{"$f":"'SIP Returns'!J816","v":0},1,10,8,4,1,1,{"$f":"IF(J815=\"\",\"\",IF(J815>Inputs!$D$9,0,1))","v":1},{"$f":"IF(K815=\"\",\"\",IF(K815>Inputs!$D$9,0,1))","v":1},{"$f":"IF(L815=\"\",\"\",IF(L815>Inputs!$D$9,0,1))","v":1},{"$f":"IF(M815=\"\",\"\",IF(M815>Inputs!$D$9,0,1))","v":1},{"$f":"IF(N815=\"\",\"\",IF(N815>Inputs!$D$9,0,1))","v":1},{"$f":"IF(O815=\"\",\"\",IF(O815>Inputs!$D$9,0,1))","v":1},{"$f":"IF(COUNT(P815:U815)=0,\"\",INDEX(Inputs!$O$21:$P$26,MATCH(COUNT(P815:U815),Inputs!$O$21:$O$26,0),2))","v":20},1,null,null,{"$f":"IF(D815=\"\",\"\",IF(D815=\"-\",\"\",IF(D815>AVERAGE($D$2:$D$1000),1,0)))","v":1},1,1,1,1,1,1]
[{"$f":"'SIP Returns'!B817","v":0},null,{"$f":"'SIP Returns'!D817","v":0},{"$f":"'SIP Returns'!E817","v":0},{"$f":"'SIP Returns'!F817","v":0},{"$f":"'SIP Returns'!G817","v":0},{"$f":"'SIP Returns'!H817","v":0},{"$f":"'SIP Returns'!I817","v":0},{"$f":"'SIP Returns'!J817","v":0},1,10,8,4,1,1,{"$f":"IF(J816=\"\",\"\",IF(J816>Inputs!$D$9,0,1))","v":1},{"$f":"IF(K816=\"\",\"\",IF(K816>Inputs!$D$9,0,1))","v":1},{"$f":"IF(L816=\"\",\"\",IF(L816>Inputs!$D$9,0,1))","v":1},{"$f":"IF(M816=\"\",\"\",IF(M816>Inputs!$D$9,0,1))","v":1},{"$f":"IF(N816=\"\",\"\",IF(N816>Inputs!$D$9,0,1))","v":1},{"$f":"IF(O816=\"\",\"\",IF(O816>Inputs!$D$9,0,1))","v":1},{"$f":"IF(COUNT(P816:U816)=0,\"\",INDEX(Inputs!$O$21:$P$26,MATCH(COUNT(P816:U816),Inputs!$O$21:$O$26,0),2))","v":20},1,null,null,{"$f":"IF(D816=\"\",\"\",IF(D816=\"-\",\"\",IF(D816>AVERAGE($D$2:$D$1000),1,0)))","v":1},1,1,1,1,1,1]
[{"$f":"'SIP Returns'!B818","v":0},null,{"$f":"'SIP Returns'!D818","v":0},{"$f":"'SIP Returns'!E818","v":0},{"$f":"'SIP Returns'!F818","v":0},{"$f":"'SIP Returns'!G818","v":0},{"$f":"'SIP Returns'!H818","v":0},{"$f":"'SIP Returns'!I818","v":0},{"$f":"'SIP Returns'!J818","v":0},1,10,8,4,1,1,{"$f":"IF(J817=\"\",\"\",IF(J817>Inputs!$D$9,0,1))","v":1},{"$f":"IF(K817=\"\",\"\",IF(K817>Inputs!$D$9,0,1))","v":1},{"$f":"IF(L817=\"\",\"\",IF(L817>Inputs!$D$9,0,1))","v":1},{"$f":"IF(M817=\"\",\"\",IF(M817>Inputs!$D$9,0,1))","v":1},{"$f":"IF(N817=\"\",\"\",IF(N817>Inputs!$D$9,0,1))","v":1},{"$f":"IF(O817=\"\",\"\",IF(O817>Inputs!$D$9,0,1))","v":1},{"$f":"IF(COUNT(P817:U817)=0,\"\",INDEX(Inputs!$O$21:$P$26,MATCH(COUNT(P817:U817),Inputs!$O$21:$O$26,0),2))","v":20},1,null,null,{"$f":"IF(D817=\"\",\"\",IF(D817=\"-\",\"\",IF(D817>AVERAGE($D$2:$D$1000),1,0)))","v":1},1,1,1,1,1,1]
[{"$f":"'SIP Returns'!B819","v":0},null,{"$f":"'SIP Returns'!D819","v":0},{"$f":"'SIP Returns'!E819","v":0},{"$f":"'SIP Returns'!F819","v":0},{"$f":"'SIP Returns'!G819","v":0},{"$f":"'SIP Returns'!H819","v":0},{"$f":"'SIP Returns'!I819","v":0},{"$f":"'SIP Returns'!J819","v":0},1,10,8,4,1,1,{"$f":"IF(J818=\"\",\"\",IF(J818>Inputs!$D$9,0,1))","v":1},{"$f":"IF(K818=\"\",\"\",IF(K818>Inputs!$D$9,0,1))","v":1},{"$f":"IF(L818=\"\",\"\",IF(L818>Inputs!$D$9,0,1))","v":1},{"$f":"IF(M818=\"\",\"\",IF(M818>Inputs!$D$9,0,1))","v":1},{"$f":"IF(N818=\"\",\"\",IF(N818>Inputs!$D$9,0,1))","v":1},{"$f":"IF(O818=\"\",\"\",IF(O818>Inputs!$D$9,0,1))","v":1},{"$f":"IF(COUNT(P818:U818)=0,\"\",INDEX(Inputs!$O$21:$P$26,MATCH(COUNT(P818:U818),Inputs!$O$21:$O$26,0),2))","v":20},1,null,null,{"$f":"IF(D818=\"\",\"\",IF(D818=\"-\",\"\",IF(D818>AVERAGE($D$2:$D$1000),1,0)))","v":1},1,1,1,1,1,1]
[{"$f":"'SIP Returns'!B820","v":0},null,{"$f":"'SIP Returns'!D820","v":0},{"$f":"'SIP Returns'!E820","v":0},{"$f":"'SIP Returns'!F820","v":0},{"$f":"'SIP Returns'!G820","v":0},{"$f":"'SIP Returns'!H820","v":0},{"$f":"'SIP Returns'!I820","v":0},{"$f":"'SIP Returns'!J820","v":0},1,10,8,4,1,1,{"$f":"IF(J819=\"\",\"\",IF(J819>Inputs!$D$9,0,1))","v":1},{"$f":"IF(K819=\"\",\"\",IF(K819>Inputs!$D$9,0,1))","v":1},{"$f":"IF(L819=\"\",\"\",IF(L819>Inputs!$D$9,0,1))","v":1},{"$f":"IF(M819=\"\",\"\",IF(M819>Inputs!$D$9,0,1))","v":1},{"$f":"IF(N819=\"\",\"\",IF(N819>Inputs!$D$9,0,1))","v":1},{"$f":"IF(O819=\"\",\"\",IF(O819>Inputs!$D$9,0,1))","v":1},{"$f":"IF(COUNT(P819:U819)=0,\"\",INDEX(Inputs!$O$21:$P$26,MATCH(COUNT(P819:U819),Inputs!$O$21:$O$26,0),2))","v":20},1,null,null,{"$f":"IF(D819=\"\",\"\",IF(D819=\"-\",\"\",IF(D819>AVERAGE($D$2:$D$1000),1,0)))","v":1},1,1,1,1,1,1]
[{"$f":"'SIP Returns'!B821","v":0},null,{"$f":"'SIP Returns'!D821","v":0},{"$f":"'SIP Returns'!E821","v":0},{"$f":"'SIP Returns'!F821","v":0},{"$f":"'SIP Returns'!G821","v":0},{"$f":"'SIP Returns'!H821","v":0},{"$f":"'SIP Returns'!I821","v":0},{"$f":"'SIP Returns'!J821","v":0},1,10,8,4,1,1,{"$f":"IF(J820=\"\",\"\",IF(J820>Inputs!$D$9,0,1))","v":1},{"$f":"IF(K820=\"\",\"\",IF(K820>Inputs!$D$9,0,1))","v":1},{"$f":"IF(L820=\"\",\"\",IF(L820>Inputs!$D$9,0,1))","v":1},{"$f":"IF(M820=\"\",\"\",IF(M820>Inputs!$D$9,0,1))","v":1},{"$f":"IF(N820=\"\",\"\",IF(N820>Inputs!$D$9,0,1))","v":1},{"$f":"IF(O820=\"\",\"\",IF(O820>Inputs!$D$9,0,1))","v":1},{"$f":"IF(COUNT(P820:U820)=0,\"\",INDEX(Inputs!$O$21:$P$26,MATCH(COUNT(P820:U820),Inputs!$O$21:$O$26,0),2))","v":20},1,null,null,{"$f":"IF(D820=\"\",\"\",IF(D820=\"-\",\"\",IF(D820>AVERAGE($D$2:$D$1000),1,0)))","v":1},1,1,1,1,1,1]
[{"$f":"'SIP Returns'!B822","v":0},null,{"$f":"'SIP Returns'!D822","v":0},{"$f":"'SIP Returns'!E822","v":0},{"$f":"'SIP Returns'!F822","v":0},{"$f":"'SIP Returns'!G822","v":0},{"$f":"'SIP Returns'!H822","v":0},{"$f":"'SIP Returns'!I822","v":0},{"$f":"'SIP Returns'!J822","v":0},1,10,8,4,1,1,{"$f":"IF(J821=\"\",\"\",IF(J821>Inputs!$D$9,0,1))","v":1},{"$f":"IF(K821=\"\",\"\",IF(K821>Inputs!$D$9,0,1))","v":1},{"$f":"IF(L821=\"\",\"\",IF(L821>Inputs!$D$9,0,1))","v":1},{"$f":"IF(M821=\"\",\"\",IF(M821>Inputs!$D$9,0,1))","v":1},{"$f":"IF(N821=\"\",\"\",IF(N821>Inputs!$D$9,0,1))","v":1},{"$f":"IF(O821=\"\",\"\",IF(O821>Inputs!$D$9,0,1))","v":1},{"$f":"IF(COUNT(P821:U821)=0,\"\",INDEX(Inputs!$O$21:$P$26,MATCH(COUNT(P821:U821),Inputs!$O$21:$O$26,0),2))","v":20},1,null,null,{"$f":"IF(D821=\"\",\"\",IF(D821=\"-\",\"\",IF(D821>AVERAGE($D$2:$D$1000),1,0)))","v":1},1,1,1,1,1,1]
[{"$f":"'SIP Returns'!B823","v":0},null,{"$f":"'SIP Returns'!D823","v":0},{"$f":"'SIP Returns'!E823","v":0},{"$f":"'SIP Returns'!F823","v":0},{"$f":"'SIP Returns'!G823","v":0},{"$f":"'SIP Returns'!H823","v":0},{"$f":"'SIP Returns'!I823","v":0},{"$f":"'SIP Returns'!J823","v":0},1,10,8,4,1,1,{"$f":"IF(J822=\"\",\"\",IF(J822>Inputs!$D$9,0,1))","v":1},{"$f":"IF(K822=\"\",\"\",IF(K822>Inputs!$D$9,0,1))","v":1},{"$f":"IF(L822=\"\",\"\",IF(L822>Inputs!$D$9,0,1))","v":1},{"$f":"IF(M822=\"\",\"\",IF(M822>Inputs!$D$9,0,1))","v":1},{"$f":"IF(N822=\"\",\"\",IF(N822>Inputs!$D$9,0,1))","v":1},{"$f":"IF(O822=\"\",\"\",IF(O822>Inputs!$D$9,0,1))","v":1},{"$f":"IF(COUNT(P822:U822)=0,\"\",INDEX(Inputs!$O$21:$P$26,MATCH(COUNT(P822:U822),Inputs!$O$21:$O$26,0),2))","v":20},1,null,null,{"$f":"IF(D822=\"\",\"\",IF(D822=\"-\",\"\",IF(D822>AVERAGE($D$2:$D$1000),1,0)))","v":1},1,1,1,1,1,1]
[{"$f":"'SIP Returns'!B824","v":0},null,{"$f":"'SIP Returns'!D824","v":0},{"$f":"'SIP Returns'!E824","v":0},{"$f":"'SIP Returns'!F824","v":0},{"$f":"'SIP Returns'!G824","v":0},{"$f":"'SIP Returns'!H824","v":0},{"$f":"'SIP Returns'!I824","v":0},{"$f":"'SIP Returns'!J824","v":0},1,10,8,4,1,1,{"$f":"IF(J823=\"\",\"\",IF(J823>Inputs!$D$9,0,1))","v":1},{"$f":"IF(K823=\"\",\"\",IF(K823>Inputs!$D$9,0,1))","v":1},{"$f":"IF(L823=\"\",\"\",IF(L823>Inputs!$D$9,0,1))","v":1},{"$f":"IF(M823=\"\",\"\",IF(M823>Inputs!$D$9,0,1))","v":1},{"$f":"IF(N823=\"\",\"\",IF(N823>Inputs!$D$9,0,1))","v":1},{"$f":"IF(O823=\"\",\"\",IF(O823>Inputs!$D$9,0,1))","v":1},{"$f":"IF(COUNT(P823:U823)=0,\"\",INDEX(Inputs!$O$21:$P$26,MATCH(COUNT(P823:U823),Inputs!$O$21:$O$26,0),2))","v":20},1,null,null,{"$f":"IF(D823=\"\",\"\",IF(D823=\"-\",\"\",IF(D823>AVERAGE($D$2:$D$1000),1,0)))","v":1},1,1,1,1,1,1]
[{"$f":"'SIP Returns'!B825","v":0},null,{"$f":"'SIP Returns'!D825","v":0},{"$f":"'SIP Returns'!E825","v":0},{"$f":"'SIP Returns'!F825","v":0},{"$f":"'SIP Returns'!G825","v":0},{"$f":"'SIP Returns'!H825","v":0},{"$f":"'SIP Returns'!I825","v":0},{"$f":"'SIP Returns'!J825","v":0},1,10,8,4,1,1,{"$f":"IF(J824=\"\",\"\",IF(J824>Inputs!$D$9,0,1))","v":1},{"$f":"IF(K824=\"\",\"\",IF(K824>Inputs!$D$9,0,1))","v":1},{"$f":"IF(L824=\"\",\"\",IF(L824>Inputs!$D$9,0,1))","v":1},{"$f":"IF(M824=\"\",\"\",IF(M824>Inputs!$D$9,0,1))","v":1},{"$f":"IF(N824=\"\",\"\",IF(N824>Inputs!$D$9,0,1))","v":1},{"$f":"IF(O824=\"\",\"\",IF(O824>Inputs!$D$9,0,1))","v":1},{"$f":"IF(COUNT(P824:U824)=0,\"\",INDEX(Inputs!$O$21:$P$26,MATCH(COUNT(P824:U824),Inputs!$O$21:$O$26,0),2))","v":20},1,null,null,{"$f":"IF(D824=\"\",\"\",IF(D824=\"-\",\"\",IF(D824>AVERAGE($D$2:$D$1000),1,0)))","v":1},1,1,1,1,1,1]
[{"$f":"'SIP Returns'!B826","v":0},null,{"$f":"'SIP Returns'!D826","v":0},{"$f":"'SIP Returns'!E826","v":0},{"$f":"'SIP Returns'!F826","v":0},{"$f":"'SIP Returns'!G826","v":0},{"$f":"'SIP Returns'!H826","v":0},{"$f":"'SIP Returns'!I826","v":0},{"$f":"'SIP Returns'!J826","v":0},1,10,8,4,1,1,{"$f":"IF(J825=\"\",\"\",IF(J825>Inputs!$D$9,0,1))","v":1},{"$f":"IF(K825=\"\",\"\",IF(K825>Inputs!$D$9,0,1))","v":1},{"$f":"IF(L825=\"\",\"\",IF(L825>Inputs!$D$9,0,1))","v":1},{"$f":"IF(M825=\"\",\"\",IF(M825>Inputs!$D$9,0,1))","v":1},{"$f":"IF(N825=\"\",\"\",IF(N825>Inputs!$D$9,0,1))","v":1},{"$f":"IF(O825=\"\",\"\",IF(O825>Inputs!$D$9,0,1))","v":1},{"$f":"IF(COUNT(P825:U825)=0,\"\",INDEX(Inputs!$O$21:$P$26,MATCH(COUNT(P825:U825),Inputs!$O$21:$O$26,0),2))","v":20},1,null,null,{"$f":"IF(D825=\"\",\"\",IF(D825=\"-\",\"\",IF(D825>AVERAGE($D$2:$D$1000),1,0)))","v":1},1,1,1,1,1,1]
[{"$f":"'SIP Returns'!B827","v":0},null,{"$f":"'SIP Returns'!D827","v":0},{"$f":"'SIP Returns'!E827","v":0},{"$f":"'SIP Returns'!F827","v":0},{"$f":"'SIP Returns'!G827","v":0},{"$f":"'SIP Returns'!H827","v":0},{"$f":"'SIP Returns'!I827","v":0},{"$f":"'SIP Returns'!J827","v":0},1,10,8,4,1,1,{"$f":"IF(J826=\"\",\"\",IF(J826>Inputs!$D$9,0,1))","v":1},{"$f":"IF(K826=\"\",\"\",IF(K826>Inputs!$D$9,0,1))","v":1},{"$f":"IF(L826=\"\",\"\",IF(L826>Inputs!$D$9,0,1))","v":1},{"$f":"IF(M826=\"\",\"\",IF(M826>Inputs!$D$9,0,1))","v":1},{"$f":"IF(N826=\"\",\"\",IF(N826>Inputs!$D$9,0,1))","v":1},{"$f":"IF(O826=\"\",\"\",IF(O826>Inputs!$D$9,0,1))","v":1},{"$f":"IF(COUNT(P826:U826)=0,\"\",INDEX(Inputs!$O$21:$P$26,MATCH(COUNT(P826:U826),Inputs!$O$21:$O$26,0),2))","v":20},1,null,null,{"$f":"IF(D826=\"\",\"\",IF(D826=\"-\",\"\",IF(D826>AVERAGE($D$2:$D$1000),1,0)))","v":1},1,1,1,1,1,1]
[{"$f":"'SIP Returns'!B828","v":0},null,{"$f":"'SIP Returns'!D828","v":0},{"$f":"'SIP Returns'!E828","v":0},{"$f":"'SIP Returns'!F828","v":0},{"$f":"'SIP Returns'!G828","v":0},{"$f":"'SIP Returns'!H828","v":0},{"$f":"'SIP Returns'!I828","v":0},{"$f":"'SIP Returns'!J828","v":0},1,10,8,4,1,1,{"$f":"IF(J827=\"\",\"\",IF(J827>Inputs!$D$9,0,1))","v":1},{"$f":"IF(K827=\"\",\"\",IF(K827>Inputs!$D$9,0,1))","v":1},{"$f":"IF(L827=\"\",\"\",IF(L827>Inputs!$D$9,0,1))","v":1},{"$f":"IF(M827=\"\",\"\",IF(M827>Inputs!$D$9,0,1))","v":1},{"$f":"IF(N827=\"\",\"\",IF(N827>Inputs!$D$9,0,1))","v":1},{"$f":"IF(O827=\"\",\"\",IF(O827>Inputs!$D$9,0,1))","v":1},{"$f":"IF(COUNT(P827:U827)=0,\"\",INDEX(Inputs!$O$21:$P$26,MATCH(COUNT(P827:U827),Inputs!$O$21:$O$26,0),2))","v":20},1,null,null,{"$f":"IF(D827=\"\",\"\",IF(D827=\"-\",\"\",IF(D827>AVERAGE($D$2:$D$1000),1,0)))","v":1},1,1,1,1,1,1]
[{"$f":"'SIP Returns'!B829","v":0},null,{"$f":"'SIP Returns'!D829","v":0},{"$f":"'SIP Returns'!E829","v":0},{"$f":"'SIP Returns'!F829","v":0},{"$f":"'SIP Returns'!G829","v":0},{"$f":"'SIP Returns'!H829","v":0},{"$f":"'SIP Returns'!I829","v":0},{"$f":"'SIP Returns'!J829","v":0},1,10,8,4,1,1,{"$f":"IF(J828=\"\",\"\",IF(J828>Inputs!$D$9,0,1))","v":1},{"$f":"IF(K828=\"\",\"\",IF(K828>Inputs!$D$9,0,1))","v":1},{"$f":"IF(L828=\"\",\"\",IF(L828>Inputs!$D$9,0,1))","v":1},{"$f":"IF(M828=\"\",\"\",IF(M828>Inputs!$D$9,0,1))","v":1},{"$f":"IF(N828=\"\",\"\",IF(N828>Inputs!$D$9,0,1))","v":1},{"$f":"IF(O828=\"\",\"\",IF(O828>Inputs!$D$9,0,1))","v":1},{"$f":"IF(COUNT(P828:U828)=0,\"\",INDEX(Inputs!$O$21:$P$26,MATCH(COUNT(P828:U828),Inputs!$O$21:$O$26,0),2))","v":20},1,null,null,{"$f":"IF(D828=\"\",\"\",IF(D828=\"-\",\"\",IF(D828>AVERAGE($D$2:$D$1000),1,0)))","v":1},1,1,1,1,1,1]
[{"$f":"'SIP Returns'!B830","v":0},null,{"$f":"'SIP Returns'!D830","v":0},{"$f":"'SIP Returns'!E830","v":0},{"$f":"'SIP Returns'!F830","v":0},{"$f":"'SIP Returns'!G830","v":0},{"$f":"'SIP Returns'!H830","v":0},{"$f":"'SIP Returns'!I830","v":0},{"$f":"'SIP Returns'!J830","v":0},1,10,8,4,1,1,{"$f":"IF(J829=\"\",\"\",IF(J829>Inputs!$D$9,0,1))","v":1},{"$f":"IF(K829=\"\",\"\",IF(K829>Inputs!$D$9,0,1))","v":1},{"$f":"IF(L829=\"\",\"\",IF(L829>Inputs!$D$9,0,1))","v":1},{"$f":"IF(M829=\"\",\"\",IF(M829>Inputs!$D$9,0,1))","v":1},{"$f":"IF(N829=\"\",\"\",IF(N829>Inputs!$D$9,0,1))","v":1},{"$f":"IF(O829=\"\",\"\",IF(O829>Inputs!$D$9,0,1))","v":1},{"$f":"IF(COUNT(P829:U829)=0,\"\",INDEX(Inputs!$O$21:$P$26,MATCH(COUNT(P829:U829),Inputs!$O$21:$O$26,0),2))","v":20},1,null,null,{"$f":"IF(D829=\"\",\"\",IF(D829=\"-\",\"\",IF(D829>AVERAGE($D$2:$D$1000),1,0)))","v":1},1,1,1,1,1,1]
[{"$f":"'SIP Returns'!B831","v":0},null,{"$f":"'SIP Returns'!D831","v":0},{"$f":"'SIP Returns'!E831","v":0},{"$f":"'SIP Returns'!F831","v":0},{"$f":"'SIP Returns'!G831","v":0},{"$f":"'SIP Returns'!H831","v":0},{"$f":"'SIP Returns'!I831","v":0},{"$f":"'SIP Returns'!J831","v":0},1,10,8,4,1,1,{"$f":"IF(J830=\"\",\"\",IF(J830>Inputs!$D$9,0,1))","v":1},{"$f":"IF(K830=\"\",\"\",IF(K830>Inputs!$D$9,0,1))","v":1},{"$f":"IF(L830=\"\",\"\",IF(L830>Inputs!$D$9,0,1))","v":1},{"$f":"IF(M830=\"\",\"\",IF(M830>Inputs!$D$9,0,1))","v":1},{"$f":"IF(N830=\"\",\"\",IF(N830>Inputs!$D$9,0,1))","v":1},{"$f":"IF(O830=\"\",\"\",IF(O830>Inputs!$D$9,0,1))","v":1},{"$f":"IF(COUNT(P830:U830)=0,\"\",INDEX(Inputs!$O$21:$P$26,MATCH(COUNT(P830:U830),Inputs!$O$21:$O$26,0),2))","v":20},1,null,null,{"$f":"IF(D830=\"\",\"\",IF(D830=\"-\",\"\",IF(D830>AVERAGE($D$2:$D$1000),1,0)))","v":1},1,1,1,1,1,1]
[{"$f":"'SIP Returns'!B832","v":0},null,{"$f":"'SIP Returns'!D832","v":0},{"$f":"'SIP Returns'!E832","v":0},{"$f":"'SIP Returns'!F832","v":0},{"$f":"'SIP Returns'!G832","v":0},{"$f":"'SIP Returns'!H832","v":0},{"$f":"'SIP Returns'!I832","v":0},{"$f":"'SIP Returns'!J832","v":0},1,10,8,4,1,1,{"$f":"IF(J831=\"\",\"\",IF(J831>Inputs!$D$9,0,1))","v":1},{"$f":"IF(K831=\"\",\"\",IF(K831>Inputs!$D$9,0,1))","v":1},{"$f":"IF(L831=\"\",\"\",IF(L831>Inputs!$D$9,0,1))","v":1},{"$f":"IF(M831=\"\",\"\",IF(M831>Inputs!$D$9,0,1))","v":1},{"$f":"IF(N831=\"\",\"\",IF(N831>Inputs!$D$9,0,1))","v":1},{"$f":"IF(O831=\"\",\"\",IF(O831>Inputs!$D$9,0,1))","v":1},{"$f":"IF(COUNT(P831:U831)=0,\"\",INDEX(Inputs!$O$21:$P$26,MATCH(COUNT(P831:U831),Inputs!$O$21:$O$26,0),2))","v":20},1,null,null,{"$f":"IF(D831=\"\",\"\",IF(D831=\"-\",\"\",IF(D831>AVERAGE($D$2:$D$1000),1,0)))","v":1},1,1,1,1,1,1]
[{"$f":"'SIP Returns'!B833","v":0},null,{"$f":"'SIP Returns'!D833","v":0},{"$f":"'SIP Returns'!E833","v":0},{"$f":"'SIP Returns'!F833","v":0},{"$f":"'SIP Returns'!G833","v":0},{"$f":"'SIP Returns'!H833","v":0},{"$f":"'SIP Returns'!I833","v":0},{"$f":"'SIP Returns'!J833","v":0},1,10,8,4,1,1,{"$f":"IF(J832=\"\",\"\",IF(J832>Inputs!$D$9,0,1))","v":1},{"$f":"IF(K832=\"\",\"\",IF(K832>Inputs!$D$9,0,1))","v":1},{"$f":"IF(L832=\"\",\"\",IF(L832>Inputs!$D$9,0,1))","v":1},{"$f":"IF(M832=\"\",\"\",IF(M832>Inputs!$D$9,0,1))","v":1},{"$f":"IF(N832=\"\",\"\",IF(N832>Inputs!$D$9,0,1))","v":1},{"$f":"IF(O832=\"\",\"\",IF(O832>Inputs!$D$9,0,1))","v":1},{"$f":"IF(COUNT(P832:U832)=0,\"\",INDEX(Inputs!$O$21:$P$26,MATCH(COUNT(P832:U832),Inputs!$O$21:$O$26,0),2))","v":20},1,null,null,{"$f":"IF(D832=\"\",\"\",IF(D832=\"-\",\"\",IF(D832>AVERAGE($D$2:$D$1000),1,0)))","v":1},1,1,1,1,1,1]
[{"$f":"'SIP Returns'!B834","v":0},null,{"$f":"'SIP Returns'!D834","v":0},{"$f":"'SIP Returns'!E834","v":0},{"$f":"'SIP Returns'!F834","v":0},{"$f":"'SIP Returns'!G834","v":0},{"$f":"'SIP Returns'!H834","v":0},{"$f":"'SIP Returns'!I834","v":0},{"$f":"'SIP Returns'!J834","v":0},1,10,8,4,1,1,{"$f":"IF(J833=\"\",\"\",IF(J833>Inputs!$D$9,0,1))","v":1},{"$f":"IF(K833=\"\",\"\",IF(K833>Inputs!$D$9,0,1))","v":1},{"$f":"IF(L833=\"\",\"\",IF(L833>Inputs!$D$9,0,1))","v":1},{"$f":"IF(M833=\"\",\"\",IF(M833>Inputs!$D$9,0,1))","v":1},{"$f":"IF(N833=\"\",\"\",IF(N833>Inputs!$D$9,0,1))","v":1},{"$f":"IF(O833=\"\",\"\",IF(O833>Inputs!$D$9,0,1))","v":1},{"$f":"IF(COUNT(P833:U833)=0,\"\",INDEX(Inputs!$O$21:$P$26,MATCH(COUNT(P833:U833),Inputs!$O$21:$O$26,0),2))","v":20},1,null,null,{"$f":"IF(D833=\"\",\"\",IF(D833=\"-\",\"\",IF(D833>AVERAGE($D$2:$D$1000),1,0)))","v":1},1,1,1,1,1,1]
[{"$f":"'SIP Returns'!B835","v":0},null,{"$f":"'SIP Returns'!D835","v":0},{"$f":"'SIP Returns'!E835","v":0},{"$f":"'SIP Returns'!F835","v":0},{"$f":"'SIP Returns'!G835","v":0},{"$f":"'SIP Returns'!H835","v":0},{"$f":"'SIP Returns'!I835","v":0},{"$f":"'SIP Returns'!J835","v":0},{"$f":"IF($A834=\"\",\"\",IF(ISERROR(RANK(D834,$D$2:$D$1000,0)),\"\",RANK(D834,$D$2:$D$1000,0)))","v":1},{"$f":"IF($A834=\"\",\"\",IF(ISERROR(RANK(E834,$E$2:$E$1000,0)),\"\",RANK(E834,$E$2:$E$1000,0)))","v":10},{"$f":"IF($A834=\"\",\"\",IF(ISERROR(RANK(F834,$F$2:$F$1000,0)),\"\",RANK(F834,$F$2:$F$1000,0)))","v":8},{"$f":"IF($A834=\"\",\"\",IF(ISERROR(RANK(G834,$G$2:$G$1000,0)),\"\",RANK(G834,$G$2:$G$1000,0)))","v":4},{"$f":"IF($A834=\"\",\"\",IF(ISERROR(RANK(H834,$H$2:$H$1000,0)),\"\",RANK(H834,$H$2:$H$1000,0)))","v":1},{"$f":"IF($A834=\"\",\"\",IF(ISERROR(RANK(I834,$I$2:$I$1000,0)),\"\",RANK(I834,$I$2:$I$1000,0)))","v":1},{"$f":"IF(J834=\"\",\"\",IF(J834>Inputs!$D$9,0,1))","v":1},{"$f":"IF(K834=\"\",\"\",IF(K834>Inputs!$D$9,0,1))","v":1},{"$f":"IF(L834=\"\",\"\",IF(L834>Inputs!$D$9,0,1))","v":1},{"$f":"IF(M834=\"\",\"\",IF(M834>Inputs!$D$9,0,1))","v":1},{"$f":"IF(N834=\"\",\"\",IF(N834>Inputs!$D$9,0,1))","v":1},{"$f":"IF(O834=\"\",\"\",IF(O834>Inputs!$D$9,0,1))","v":1},{"$f":"IF(COUNT(P834:U834)=0,\"\",INDEX(Inputs!$O$21:$P$26,MATCH(COUNT(P834:U834),Inputs!$O$21:$O$26,0),2))","v":20},1,null,null,{"$f":"IF(D834=\"\",\"\",IF(D834=\"-\",\"\",IF(D834>AVERAGE($D$2:$D$1000),1,0)))","v":1},1,1,1,1,1,{"$f":"IF(COUNT(Z834:AE834)=0,\"\",SUM(Z834:AE834)/COUNT(Z834:AE834))","v":1}]
[{"$f":"'SIP Returns'!B836","v":0},null,{"$f":"'SIP Returns'!D836","v":0},{"$f":"'SIP Returns'!E836","v":0},{"$f":"'SIP Returns'!F836","v":0},{"$f":"'SIP Returns'!G836","v":0},{"$f":"'SIP Returns'!H836","v":0},{"$f":"'SIP Returns'!I836","v":0},{"$f":"'SIP Returns'!J836","v":0},1,10,8,4,1,1,{"$f":"IF(J835=\"\",\"\",IF(J835>Inputs!$D$9,0,1))","v":1},{"$f":"IF(K835=\"\",\"\",IF(K835>Inputs!$D$9,0,1))","v":1},{"$f":"IF(L835=\"\",\"\",IF(L835>Inputs!$D$9,0,1))","v":1},{"$f":"IF(M835=\"\",\"\",IF(M835>Inputs!$D$9,0,1))","v":1},{"$f":"IF(N835=\"\",\"\",IF(N835>Inputs!$D$9,0,1))","v":1},{"$f":"IF(O835=\"\",\"\",IF(O835>Inputs!$D$9,0,1))","v":1},{"$f":"IF(COUNT(P835:U835)=0,\"\",INDEX(Inputs!$O$21:$P$26,MATCH(COUNT(P835:U835),Inputs!$O$21:$O$26,0),2))","v":20},{"$f":"IF(COUNT(P835:U835)=0,\"\",SUM(P835:U835)/COUNT(P835:U835))","v":1},null,null,{"$f":"IF(D835=\"\",\"\",IF(D835=\"-\",\"\",IF(D835>AVERAGE($D$2:$D$1000),1,0)))","v":1},1,1,1,1,1,1]
[{"$f":"'SIP Returns'!B837","v":0},null,{"$f":"'SIP Returns'!D837","v":0},{"$f":"'SIP Returns'!E837","v":0},{"$f":"'SIP Returns'!F837","v":0},{"$f":"'SIP Returns'!G837","v":0},{"$f":"'SIP Returns'!H837","v":0},{"$f":"'SIP Returns'!I837","v":0},{"$f":"'SIP Returns'!J837","v":0},1,10,8,4,1,1,{"$f":"IF(J836=\"\",\"\",IF(J836>Inputs!$D$9,0,1))","v":1},{"$f":"IF(K836=\"\",\"\",IF(K836>Inputs!$D$9,0,1))","v":1},{"$f":"IF(L836=\"\",\"\",IF(L836>Inputs!$D$9,0,1))","v":1},{"$f":"IF(M836=\"\",\"\",IF(M836>Inputs!$D$9,0,1))","v":1},{"$f":"IF(N836=\"\",\"\",IF(N836>Inputs!$D$9,0,1))","v":1},{"$f":"IF(O836=\"\",\"\",IF(O836>Inputs!$D$9,0,1))","v":1},{"$f":"IF(COUNT(P836:U836)=0,\"\",INDEX(Inputs!$O$21:$P$26,MATCH(COUNT(P836:U836),Inputs!$O$21:$O$26,0),2))","v":20},1,null,null,{"$f":"IF(D836=\"\",\"\",IF(D836=\"-\",\"\",IF(D836>AVERAGE($D$2:$D$1000),1,0)))","v":1},1,1,1,1,1,1]
[{"$f":"'SIP Returns'!B838","v":0},null,{"$f":"'SIP Returns'!D838","v":0},{"$f":"'SIP Returns'!E838","v":0},{"$f":"'SIP Returns'!F838","v":0},{"$f":"'SIP Returns'!G838","v":0},{"$f":"'SIP Returns'!H838","v":0},{"$f":"'SIP Returns'!I838","v":0},{"$f":"'SIP Returns'!J838","v":0},1,10,8,4,1,1,{"$f":"IF(J837=\"\",\"\",IF(J837>Inputs!$D$9,0,1))","v":1},{"$f":"IF(K837=\"\",\"\",IF(K837>Inputs!$D$9,0,1))","v":1},{"$f":"IF(L837=\"\",\"\",IF(L837>Inputs!$D$9,0,1))","v":1},{"$f":"IF(M837=\"\",\"\",IF(M837>Inputs!$D$9,0,1))","v":1},{"$f":"IF(N837=\"\",\"\",IF(N837>Inputs!$D$9,0,1))","v":1},{"$f":"IF(O837=\"\",\"\",IF(O837>Inputs!$D$9,0,1))","v":1},{"$f":"IF(COUNT(P837:U837)=0,\"\",INDEX(Inputs!$O$21:$P$26,MATCH(COUNT(P837:U837),Inputs!$O$21:$O$26,0),2))","v":20},1,null,null,{"$f":"IF(D837=\"\",\"\",IF(D837=\"-\",\"\",IF(D837>AVERAGE($D$2:$D$1000),1,0)))","v":1},1,1,1,1,1,1]
[{"$f":"'SIP Returns'!B839","v":0},null,{"$f":"'SIP Returns'!D839","v":0},{"$f":"'SIP Returns'!E839","v":0},{"$f":"'SIP Returns'!F839","v":0},{"$f":"'SIP Returns'!G839","v":0},{"$f":"'SIP Returns'!H839","v":0},{"$f":"'SIP Returns'!I839","v":0},{"$f":"'SIP Returns'!J839","v":0},1,10,8,4,1,1,{"$f":"IF(J838=\"\",\"\",IF(J838>Inputs!$D$9,0,1))","v":1},{"$f":"IF(K838=\"\",\"\",IF(K838>Inputs!$D$9,0,1))","v":1},{"$f":"IF(L838=\"\",\"\",IF(L838>Inputs!$D$9,0,1))","v":1},{"$f":"IF(M838=\"\",\"\",IF(M838>Inputs!$D$9,0,1))","v":1},{"$f":"IF(N838=\"\",\"\",IF(N838>Inputs!$D$9,0,1))","v":1},{"$f":"IF(O838=\"\",\"\",IF(O838>Inputs!$D$9,0,1))","v":1},{"$f":"IF(COUNT(P838:U838)=0,\"\",INDEX(Inputs!$O$21:$P$26,MATCH(COUNT(P838:U838),Inputs!$O$21:$O$26,0),2))","v":20},1,null,null,{"$f":"IF(D838=\"\",\"\",IF(D838=\"-\",\"\",IF(D838>AVERAGE($D$2:$D$1000),1,0)))","v":1},1,1,1,1,1,1]
[{"$f":"'SIP Returns'!B840","v":0},null,{"$f":"'SIP Returns'!D840","v":0},{"$f":"'SIP Returns'!E840","v":0},{"$f":"'SIP Returns'!F840","v":0},{"$f":"'SIP Returns'!G840","v":0},{"$f":"'SIP Returns'!H840","v":0},{"$f":"'SIP Returns'!I840","v":0},{"$f":"'SIP Returns'!J840","v":0},1,10,8,4,1,1,{"$f":"IF(J839=\"\",\"\",IF(J839>Inputs!$D$9,0,1))","v":1},{"$f":"IF(K839=\"\",\"\",IF(K839>Inputs!$D$9,0,1))","v":1},{"$f":"IF(L839=\"\",\"\",IF(L839>Inputs!$D$9,0,1))","v":1},{"$f":"IF(M839=\"\",\"\",IF(M839>Inputs!$D$9,0,1))","v":1},{"$f":"IF(N839=\"\",\"\",IF(N839>Inputs!$D$9,0,1))","v":1},{"$f":"IF(O839=\"\",\"\",IF(O839>Inputs!$D$9,0,1))","v":1},{"$f":"IF(COUNT(P839:U839)=0,\"\",INDEX(Inputs!$O$21:$P$26,MATCH(COUNT(P839:U839),Inputs!$O$21:$O$26,0),2))","v":20},1,null,null,{"$f":"IF(D839=\"\",\"\",IF(D839=\"-\",\"\",IF(D839>AVERAGE($D$2:$D$1000),1,0)))","v":1},1,1,1,1,1,1]
[{"$f":"'SIP Returns'!B841","v":0},null,{"$f":"'SIP Returns'!D841","v":0},{"$f":"'SIP Returns'!E841","v":0},{"$f":"'SIP Returns'!F841","v":0},{"$f":"'SIP Returns'!G841","v":0},{"$f":"'SIP Returns'!H841","v":0},{"$f":"'SIP Returns'!I841","v":0},{"$f":"'SIP Returns'!J841","v":0},1,10,8,4,1,1,{"$f":"IF(J840=\"\",\"\",IF(J840>Inputs!$D$9,0,1))","v":1},{"$f":"IF(K840=\"\",\"\",IF(K840>Inputs!$D$9,0,1))","v":1},{"$f":"IF(L840=\"\",\"\",IF(L840>Inputs!$D$9,0,1))","v":1},{"$f":"IF(M840=\"\",\"\",IF(M840>Inputs!$D$9,0,1))","v":1},{"$f":"IF(N840=\"\",\"\",IF(N840>Inputs!$D$9,0,1))","v":1},{"$f":"IF(O840=\"\",\"\",IF(O840>Inputs!$D$9,0,1))","v":1},{"$f":"IF(COUNT(P840:U840)=0,\"\",INDEX(Inputs!$O$21:$P$26,MATCH(COUNT(P840:U840),Inputs!$O$21:$O$26,0),2))","v":20},1,null,null,{"$f":"IF(D840=\"\",\"\",IF(D840=\"-\",\"\",IF(D840>AVERAGE($D$2:$D$1000),1,0)))","v":1},1,1,1,1,1,1]
[{"$f":"'SIP Returns'!B842","v":0},null,{"$f":"'SIP Returns'!D842","v":0},{"$f":"'SIP Returns'!E842","v":0},{"$f":"'SIP Returns'!F842","v":0},{"$f":"'SIP Returns'!G842","v":0},{"$f":"'SIP Returns'!H842","v":0},{"$f":"'SIP Returns'!I842","v":0},{"$f":"'SIP Returns'!J842","v":0},1,10,8,4,1,1,{"$f":"IF(J841=\"\",\"\",IF(J841>Inputs!$D$9,0,1))","v":1},{"$f":"IF(K841=\"\",\"\",IF(K841>Inputs!$D$9,0,1))","v":1},{"$f":"IF(L841=\"\",\"\",IF(L841>Inputs!$D$9,0,1))","v":1},{"$f":"IF(M841=\"\",\"\",IF(M841>Inputs!$D$9,0,1))","v":1},{"$f":"IF(N841=\"\",\"\",IF(N841>Inputs!$D$9,0,1))","v":1},{"$f":"IF(O841=\"\",\"\",IF(O841>Inputs!$D$9,0,1))","v":1},{"$f":"IF(COUNT(P841:U841)=0,\"\",INDEX(Inputs!$O$21:$P$26,MATCH(COUNT(P841:U841),Inputs!$O$21:$O$26,0),2))","v":20},1,null,null,{"$f":"IF(D841=\"\",\"\",IF(D841=\"-\",\"\",IF(D841>AVERAGE($D$2:$D$1000),1,0)))","v":1},1,1,1,1,1,1]
[{"$f":"'SIP Returns'!B843","v":0},null,{"$f":"'SIP Returns'!D843","v":0},{"$f":"'SIP Returns'!E843","v":0},{"$f":"'SIP Returns'!F843","v":0},{"$f":"'SIP Returns'!G843","v":0},{"$f":"'SIP Returns'!H843","v":0},{"$f":"'SIP Returns'!I843","v":0},{"$f":"'SIP Returns'!J843","v":0},1,10,8,4,1,1,{"$f":"IF(J842=\"\",\"\",IF(J842>Inputs!$D$9,0,1))","v":1},{"$f":"IF(K842=\"\",\"\",IF(K842>Inputs!$D$9,0,1))","v":1},{"$f":"IF(L842=\"\",\"\",IF(L842>Inputs!$D$9,0,1))","v":1},{"$f":"IF(M842=\"\",\"\",IF(M842>Inputs!$D$9,0,1))","v":1},{"$f":"IF(N842=\"\",\"\",IF(N842>Inputs!$D$9,0,1))","v":1},{"$f":"IF(O842=\"\",\"\",IF(O842>Inputs!$D$9,0,1))","v":1},{"$f":"IF(COUNT(P842:U842)=0,\"\",INDEX(Inputs!$O$21:$P$26,MATCH(COUNT(P842:U842),Inputs!$O$21:$O$26,0),2))","v":20},1,null,null,{"$f":"IF(D842=\"\",\"\",IF(D842=\"-\",\"\",IF(D842>AVERAGE($D$2:$D$1000),1,0)))","v":1},1,1,1,1,1,1]
[{"$f":"'SIP Returns'!B844","v":0},null,{"$f":"'SIP Returns'!D844","v":0},{"$f":"'SIP Returns'!E844","v":0},{"$f":"'SIP Returns'!F844","v":0},{"$f":"'SIP Returns'!G844","v":0},{"$f":"'SIP Returns'!H844","v":0},{"$f":"'SIP Returns'!I844","v":0},{"$f":"'SIP Returns'!J844","v":0},1,10,8,4,1,1,{"$f":"IF(J843=\"\",\"\",IF(J843>Inputs!$D$9,0,1))","v":1},{"$f":"IF(K843=\"\",\"\",IF(K843>Inputs!$D$9,0,1))","v":1},{"$f":"IF(L843=\"\",\"\",IF(L843>Inputs!$D$9,0,1))","v":1},{"$f":"IF(M843=\"\",\"\",IF(M843>Inputs!$D$9,0,1))","v":1},{"$f":"IF(N843=\"\",\"\",IF(N843>Inputs!$D$9,0,1))","v":1},{"$f":"IF(O843=\"\",\"\",IF(O843>Inputs!$D$9,0,1))","v":1},{"$f":"IF(COUNT(P843:U843)=0,\"\",INDEX(Inputs!$O$21:$P$26,MATCH(COUNT(P843:U843),Inputs!$O$21:$O$26,0),2))","v":20},1,null,null,{"$f":"IF(D843=\"\",\"\",IF(D843=\"-\",\"\",IF(D843>AVERAGE($D$2:$D$1000),1,0)))","v":1},1,1,1,1,1,1]
[{"$f":"'SIP Returns'!B845","v":0},null,{"$f":"'SIP Returns'!D845","v":0},{"$f":"'SIP Returns'!E845","v":0},{"$f":"'SIP Returns'!F845","v":0},{"$f":"'SIP Returns'!G845","v":0},{"$f":"'SIP Returns'!H845","v":0},{"$f":"'SIP Returns'!I845","v":0},{"$f":"'SIP Returns'!J845","v":0},1,10,8,4,1,1,{"$f":"IF(J844=\"\",\"\",IF(J844>Inputs!$D$9,0,1))","v":1},{"$f":"IF(K844=\"\",\"\",IF(K844>Inputs!$D$9,0,1))","v":1},{"$f":"IF(L844=\"\",\"\",IF(L844>Inputs!$D$9,0,1))","v":1},{"$f":"IF(M844=\"\",\"\",IF(M844>Inputs!$D$9,0,1))","v":1},{"$f":"IF(N844=\"\",\"\",IF(N844>Inputs!$D$9,0,1))","v":1},{"$f":"IF(O844=\"\",\"\",IF(O844>Inputs!$D$9,0,1))","v":1},{"$f":"IF(COUNT(P844:U844)=0,\"\",INDEX(Inputs!$O$21:$P$26,MATCH(COUNT(P844:U844),Inputs!$O$21:$O$26,0),2))","v":20},1,null,null,{"$f":"IF(D844=\"\",\"\",IF(D844=\"-\",\"\",IF(D844>AVERAGE($D$2:$D$1000),1,0)))","v":1},1,1,1,1,1,1]
[{"$f":"'SIP Returns'!B846","v":0},null,{"$f":"'SIP Returns'!D846","v":0},{"$f":"'SIP Returns'!E846","v":0},{"$f":"'SIP Returns'!F846","v":0},{"$f":"'SIP Returns'!G846","v":0},{"$f":"'SIP Returns'!H846","v":0},{"$f":"'SIP Returns'!I846","v":0},{"$f":"'SIP Returns'!J846","v":0},1,10,8,4,1,1,{"$f":"IF(J845=\"\",\"\",IF(J845>Inputs!$D$9,0,1))","v":1},{"$f":"IF(K845=\"\",\"\",IF(K845>Inputs!$D$9,0,1))","v":1},{"$f":"IF(L845=\"\",\"\",IF(L845>Inputs!$D$9,0,1))","v":1},{"$f":"IF(M845=\"\",\"\",IF(M845>Inputs!$D$9,0,1))","v":1},{"$f":"IF(N845=\"\",\"\",IF(N845>Inputs!$D$9,0,1))","v":1},{"$f":"IF(O845=\"\",\"\",IF(O845>Inputs!$D$9,0,1))","v":1},{"$f":"IF(COUNT(P845:U845)=0,\"\",INDEX(Inputs!$O$21:$P$26,MATCH(COUNT(P845:U845),Inputs!$O$21:$O$26,0),2))","v":20},1,null,null,{"$f":"IF(D845=\"\",\"\",IF(D845=\"-\",\"\",IF(D845>AVERAGE($D$2:$D$1000),1,0)))","v":1},1,1,1,1,1,1]
[{"$f":"'SIP Returns'!B847","v":0},null,{"$f":"'SIP Returns'!D847","v":0},{"$f":"'SIP Returns'!E847","v":0},{"$f":"'SIP Returns'!F847","v":0},{"$f":"'SIP Returns'!G847","v":0},{"$f":"'SIP Returns'!H847","v":0},{"$f":"'SIP Returns'!I847","v":0},{"$f":"'SIP Returns'!J847","v":0},1,10,8,4,1,1,{"$f":"IF(J846=\"\",\"\",IF(J846>Inputs!$D$9,0,1))","v":1},{"$f":"IF(K846=\"\",\"\",IF(K846>Inputs!$D$9,0,1))","v":1},{"$f":"IF(L846=\"\",\"\",IF(L846>Inputs!$D$9,0,1))","v":1},{"$f":"IF(M846=\"\",\"\",IF(M846>Inputs!$D$9,0,1))","v":1},{"$f":"IF(N846=\"\",\"\",IF(N846>Inputs!$D$9,0,1))","v":1},{"$f":"IF(O846=\"\",\"\",IF(O846>Inputs!$D$9,0,1))","v":1},{"$f":"IF(COUNT(P846:U846)=0,\"\",INDEX(Inputs!$O$21:$P$26,MATCH(COUNT(P846:U846),Inputs!$O$21:$O$26,0),2))","v":20},1,null,null,{"$f":"IF(D846=\"\",\"\",IF(D846=\"-\",\"\",IF(D846>AVERAGE($D$2:$D$1000),1,0)))","v":1},1,1,1,1,1,1]
[{"$f":"'SIP Returns'!B848","v":0},null,{"$f":"'SIP Returns'!D848","v":0},{"$f":"'SIP Returns'!E848","v":0},{"$f":"'SIP Returns'!F848","v":0},{"$f":"'SIP Returns'!G848","v":0},{"$f":"'SIP Returns'!H848","v":0},{"$f":"'SIP Returns'!I848","v":0},{"$f":"'SIP Returns'!J848","v":0},1,10,8,4,1,1,{"$f":"IF(J847=\"\",\"\",IF(J847>Inputs!$D$9,0,1))","v":1},{"$f":"IF(K847=\"\",\"\",IF(K847>Inputs!$D$9,0,1))","v":1},{"$f":"IF(L847=\"\",\"\",IF(L847>Inputs!$D$9,0,1))","v":1},{"$f":"IF(M847=\"\",\"\",IF(M847>Inputs!$D$9,0,1))","v":1},{"$f":"IF(N847=\"\",\"\",IF(N847>Inputs!$D$9,0,1))","v":1},{"$f":"IF(O847=\"\",\"\",IF(O847>Inputs!$D$9,0,1))","v":1},{"$f":"IF(COUNT(P847:U847)=0,\"\",INDEX(Inputs!$O$21:$P$26,MATCH(COUNT(P847:U847),Inputs!$O$21:$O$26,0),2))","v":20},1,null,null,{"$f":"IF(D847=\"\",\"\",IF(D847=\"-\",\"\",IF(D847>AVERAGE($D$2:$D$1000),1,0)))","v":1},1,1,1,1,1,1]
[{"$f":"'SIP Returns'!B849","v":0},null,{"$f":"'SIP Returns'!D849","v":0},{"$f":"'SIP Returns'!E849","v":0},{"$f":"'SIP Returns'!F849","v":0},{"$f":"'SIP Returns'!G849","v":0},{"$f":"'SIP Returns'!H849","v":0},{"$f":"'SIP Returns'!I849","v":0},{"$f":"'SIP Returns'!J849","v":0},1,10,8,4,1,1,{"$f":"IF(J848=\"\",\"\",IF(J848>Inputs!$D$9,0,1))","v":1},{"$f":"IF(K848=\"\",\"\",IF(K848>Inputs!$D$9,0,1))","v":1},{"$f":"IF(L848=\"\",\"\",IF(L848>Inputs!$D$9,0,1))","v":1},{"$f":"IF(M848=\"\",\"\",IF(M848>Inputs!$D$9,0,1))","v":1},{"$f":"IF(N848=\"\",\"\",IF(N848>Inputs!$D$9,0,1))","v":1},{"$f":"IF(O848=\"\",\"\",IF(O848>Inputs!$D$9,0,1))","v":1},{"$f":"IF(COUNT(P848:U848)=0,\"\",INDEX(Inputs!$O$21:$P$26,MATCH(COUNT(P848:U848),Inputs!$O$21:$O$26,0),2))","v":20},1,null,null,{"$f":"IF(D848=\"\",\"\",IF(D848=\"-\",\"\",IF(D848>AVERAGE($D$2:$D$1000),1,0)))","v":1},1,1,1,1,1,1]
[{"$f":"'SIP Returns'!B850","v":0},null,{"$f":"'SIP Returns'!D850","v":0},{"$f":"'SIP Returns'!E850","v":0},{"$f":"'SIP Returns'!F850","v":0},{"$f":"'SIP Returns'!G850","v":0},{"$f":"'SIP Returns'!H850","v":0},{"$f":"'SIP Returns'!I850","v":0},{"$f":"'SIP Returns'!J850","v":0},1,10,8,4,1,1,{"$f":"IF(J849=\"\",\"\",IF(J849>Inputs!$D$9,0,1))","v":1},{"$f":"IF(K849=\"\",\"\",IF(K849>Inputs!$D$9,0,1))","v":1},{"$f":"IF(L849=\"\",\"\",IF(L849>Inputs!$D$9,0,1))","v":1},{"$f":"IF(M849=\"\",\"\",IF(M849>Inputs!$D$9,0,1))","v":1},{"$f":"IF(N849=\"\",\"\",IF(N849>Inputs!$D$9,0,1))","v":1},{"$f":"IF(O849=\"\",\"\",IF(O849>Inputs!$D$9,0,1))","v":1},{"$f":"IF(COUNT(P849:U849)=0,\"\",INDEX(Inputs!$O$21:$P$26,MATCH(COUNT(P849:U849),Inputs!$O$21:$O$26,0),2))","v":20},1,null,null,{"$f":"IF(D849=\"\",\"\",IF(D849=\"-\",\"\",IF(D849>AVERAGE($D$2:$D$1000),1,0)))","v":1},1,1,1,1,1,1]
[{"$f":"'SIP Returns'!B851","v":0},null,{"$f":"'SIP Returns'!D851","v":0},{"$f":"'SIP Returns'!E851","v":0},{"$f":"'SIP Returns'!F851","v":0},{"$f":"'SIP Returns'!G851","v":0},{"$f":"'SIP Returns'!H851","v":0},{"$f":"'SIP Returns'!I851","v":0},{"$f":"'SIP Returns'!J851","v":0},1,10,8,4,1,1,{"$f":"IF(J850=\"\",\"\",IF(J850>Inputs!$D$9,0,1))","v":1},{"$f":"IF(K850=\"\",\"\",IF(K850>Inputs!$D$9,0,1))","v":1},{"$f":"IF(L850=\"\",\"\",IF(L850>Inputs!$D$9,0,1))","v":1},{"$f":"IF(M850=\"\",\"\",IF(M850>Inputs!$D$9,0,1))","v":1},{"$f":"IF(N850=\"\",\"\",IF(N850>Inputs!$D$9,0,1))","v":1},{"$f":"IF(O850=\"\",\"\",IF(O850>Inputs!$D$9,0,1))","v":1},{"$f":"IF(COUNT(P850:U850)=0,\"\",INDEX(Inputs!$O$21:$P$26,MATCH(COUNT(P850:U850),Inputs!$O$21:$O$26,0),2))","v":20},1,null,null,{"$f":"IF(D850=\"\",\"\",IF(D850=\"-\",\"\",IF(D850>AVERAGE($D$2:$D$1000),1,0)))","v":1},1,1,1,1,1,1]
[{"$f":"'SIP Returns'!B852","v":0},null,{"$f":"'SIP Returns'!D852","v":0},{"$f":"'SIP Returns'!E852","v":0},{"$f":"'SIP Returns'!F852","v":0},{"$f":"'SIP Returns'!G852","v":0},{"$f":"'SIP Returns'!H852","v":0},{"$f":"'SIP Returns'!I852","v":0},{"$f":"'SIP Returns'!J852","v":0},1,10,8,4,1,1,{"$f":"IF(J851=\"\",\"\",IF(J851>Inputs!$D$9,0,1))","v":1},{"$f":"IF(K851=\"\",\"\",IF(K851>Inputs!$D$9,0,1))","v":1},{"$f":"IF(L851=\"\",\"\",IF(L851>Inputs!$D$9,0,1))","v":1},{"$f":"IF(M851=\"\",\"\",IF(M851>Inputs!$D$9,0,1))","v":1},{"$f":"IF(N851=\"\",\"\",IF(N851>Inputs!$D$9,0,1))","v":1},{"$f":"IF(O851=\"\",\"\",IF(O851>Inputs!$D$9,0,1))","v":1},{"$f":"IF(COUNT(P851:U851)=0,\"\",INDEX(Inputs!$O$21:$P$26,MATCH(COUNT(P851:U851),Inputs!$O$21:$O$26,0),2))","v":20},1,null,null,{"$f":"IF(D851=\"\",\"\",IF(D851=\"-\",\"\",IF(D851>AVERAGE($D$2:$D$1000),1,0)))","v":1},1,1,1,1,1,1]
[{"$f":"'SIP Returns'!B853","v":0},null,{"$f":"'SIP Returns'!D853","v":0},{"$f":"'SIP Returns'!E853","v":0},{"$f":"'SIP Returns'!F853","v":0},{"$f":"'SIP Returns'!G853","v":0},{"$f":"'SIP Returns'!H853","v":0},{"$f":"'SIP Returns'!I853","v":0},{"$f":"'SIP Returns'!J853","v":0},1,10,8,4,1,1,{"$f":"IF(J852=\"\",\"\",IF(J852>Inputs!$D$9,0,1))","v":1},{"$f":"IF(K852=\"\",\"\",IF(K852>Inputs!$D$9,0,1))","v":1},{"$f":"IF(L852=\"\",\"\",IF(L852>Inputs!$D$9,0,1))","v":1},{"$f":"IF(M852=\"\",\"\",IF(M852>Inputs!$D$9,0,1))","v":1},{"$f":"IF(N852=\"\",\"\",IF(N852>Inputs!$D$9,0,1))","v":1},{"$f":"IF(O852=\"\",\"\",IF(O852>Inputs!$D$9,0,1))","v":1},{"$f":"IF(COUNT(P852:U852)=0,\"\",INDEX(Inputs!$O$21:$P$26,MATCH(COUNT(P852:U852),Inputs!$O$21:$O$26,0),2))","v":20},1,null,null,{"$f":"IF(D852=\"\",\"\",IF(D852=\"-\",\"\",IF(D852>AVERAGE($D$2:$D$1000),1,0)))","v":1},1,1,1,1,1,1]
[{"$f":"'SIP Returns'!B854","v":0},null,{"$f":"'SIP Returns'!D854","v":0},{"$f":"'SIP Returns'!E854","v":0},{"$f":"'SIP Returns'!F854","v":0},{"$f":"'SIP Returns'!G854","v":0},{"$f":"'SIP Returns'!H854","v":0},{"$f":"'SIP Returns'!I854","v":0},{"$f":"'SIP Returns'!J854","v":0},1,10,8,4,1,1,{"$f":"IF(J853=\"\",\"\",IF(J853>Inputs!$D$9,0,1))","v":1},{"$f":"IF(K853=\"\",\"\",IF(K853>Inputs!$D$9,0,1))","v":1},{"$f":"IF(L853=\"\",\"\",IF(L853>Inputs!$D$9,0,1))","v":1},{"$f":"IF(M853=\"\",\"\",IF(M853>Inputs!$D$9,0,1))","v":1},{"$f":"IF(N853=\"\",\"\",IF(N853>Inputs!$D$9,0,1))","v":1},{"$f":"IF(O853=\"\",\"\",IF(O853>Inputs!$D$9,0,1))","v":1},{"$f":"IF(COUNT(P853:U853)=0,\"\",INDEX(Inputs!$O$21:$P$26,MATCH(COUNT(P853:U853),Inputs!$O$21:$O$26,0),2))","v":20},1,null,null,{"$f":"IF(D853=\"\",\"\",IF(D853=\"-\",\"\",IF(D853>AVERAGE($D$2:$D$1000),1,0)))","v":1},1,1,1,1,1,1]
[{"$f":"'SIP Returns'!B855","v":0},null,{"$f":"'SIP Returns'!D855","v":0},{"$f":"'SIP Returns'!E855","v":0},{"$f":"'SIP Returns'!F855","v":0},{"$f":"'SIP Returns'!G855","v":0},{"$f":"'SIP Returns'!H855","v":0},{"$f":"'SIP Returns'!I855","v":0},{"$f":"'SIP Returns'!J855","v":0},1,10,8,4,1,1,{"$f":"IF(J854=\"\",\"\",IF(J854>Inputs!$D$9,0,1))","v":1},{"$f":"IF(K854=\"\",\"\",IF(K854>Inputs!$D$9,0,1))","v":1},{"$f":"IF(L854=\"\",\"\",IF(L854>Inputs!$D$9,0,1))","v":1},{"$f":"IF(M854=\"\",\"\",IF(M854>Inputs!$D$9,0,1))","v":1},{"$f":"IF(N854=\"\",\"\",IF(N854>Inputs!$D$9,0,1))","v":1},{"$f":"IF(O854=\"\",\"\",IF(O854>Inputs!$D$9,0,1))","v":1},{"$f":"IF(COUNT(P854:U854)=0,\"\",INDEX(Inputs!$O$21:$P$26,MATCH(COUNT(P854:U854),Inputs!$O$21:$O$26,0),2))","v":20},1,null,null,{"$f":"IF(D854=\"\",\"\",IF(D854=\"-\",\"\",IF(D854>AVERAGE($D$2:$D$1000),1,0)))","v":1},1,1,1,1,1,1]
[{"$f":"'SIP Returns'!B856","v":0},null,{"$f":"'SIP Returns'!D856","v":0},{"$f":"'SIP Returns'!E856","v":0},{"$f":"'SIP Returns'!F856","v":0},{"$f":"'SIP Returns'!G856","v":0},{"$f":"'SIP Returns'!H856","v":0},{"$f":"'SIP Returns'!I856","v":0},{"$f":"'SIP Returns'!J856","v":0},1,10,8,4,1,1,{"$f":"IF(J855=\"\",\"\",IF(J855>Inputs!$D$9,0,1))","v":1},{"$f":"IF(K855=\"\",\"\",IF(K855>Inputs!$D$9,0,1))","v":1},{"$f":"IF(L855=\"\",\"\",IF(L855>Inputs!$D$9,0,1))","v":1},{"$f":"IF(M855=\"\",\"\",IF(M855>Inputs!$D$9,0,1))","v":1},{"$f":"IF(N855=\"\",\"\",IF(N855>Inputs!$D$9,0,1))","v":1},{"$f":"IF(O855=\"\",\"\",IF(O855>Inputs!$D$9,0,1))","v":1},{"$f":"IF(COUNT(P855:U855)=0,\"\",INDEX(Inputs!$O$21:$P$26,MATCH(COUNT(P855:U855),Inputs!$O$21:$O$26,0),2))","v":20},1,null,null,{"$f":"IF(D855=\"\",\"\",IF(D855=\"-\",\"\",IF(D855>AVERAGE($D$2:$D$1000),1,0)))","v":1},1,1,1,1,1,1]
[{"$f":"'SIP Returns'!B857","v":0},null,{"$f":"'SIP Returns'!D857","v":0},{"$f":"'SIP Returns'!E857","v":0},{"$f":"'SIP Returns'!F857","v":0},{"$f":"'SIP Returns'!G857","v":0},{"$f":"'SIP Returns'!H857","v":0},{"$f":"'SIP Returns'!I857","v":0},{"$f":"'SIP Returns'!J857","v":0},1,10,8,4,1,1,{"$f":"IF(J856=\"\",\"\",IF(J856>Inputs!$D$9,0,1))","v":1},{"$f":"IF(K856=\"\",\"\",IF(K856>Inputs!$D$9,0,1))","v":1},{"$f":"IF(L856=\"\",\"\",IF(L856>Inputs!$D$9,0,1))","v":1},{"$f":"IF(M856=\"\",\"\",IF(M856>Inputs!$D$9,0,1))","v":1},{"$f":"IF(N856=\"\",\"\",IF(N856>Inputs!$D$9,0,1))","v":1},{"$f":"IF(O856=\"\",\"\",IF(O856>Inputs!$D$9,0,1))","v":1},{"$f":"IF(COUNT(P856:U856)=0,\"\",INDEX(Inputs!$O$21:$P$26,MATCH(COUNT(P856:U856),Inputs!$O$21:$O$26,0),2))","v":20},1,null,null,{"$f":"IF(D856=\"\",\"\",IF(D856=\"-\",\"\",IF(D856>AVERAGE($D$2:$D$1000),1,0)))","v":1},1,1,1,1,1,1]
[{"$f":"'SIP Returns'!B858","v":0},null,{"$f":"'SIP Returns'!D858","v":0},{"$f":"'SIP Returns'!E858","v":0},{"$f":"'SIP Returns'!F858","v":0},{"$f":"'SIP Returns'!G858","v":0},{"$f":"'SIP Returns'!H858","v":0},{"$f":"'SIP Returns'!I858","v":0},{"$f":"'SIP Returns'!J858","v":0},1,10,8,4,1,1,{"$f":"IF(J857=\"\",\"\",IF(J857>Inputs!$D$9,0,1))","v":1},{"$f":"IF(K857=\"\",\"\",IF(K857>Inputs!$D$9,0,1))","v":1},{"$f":"IF(L857=\"\",\"\",IF(L857>Inputs!$D$9,0,1))","v":1},{"$f":"IF(M857=\"\",\"\",IF(M857>Inputs!$D$9,0,1))","v":1},{"$f":"IF(N857=\"\",\"\",IF(N857>Inputs!$D$9,0,1))","v":1},{"$f":"IF(O857=\"\",\"\",IF(O857>Inputs!$D$9,0,1))","v":1},{"$f":"IF(COUNT(P857:U857)=0,\"\",INDEX(Inputs!$O$21:$P$26,MATCH(COUNT(P857:U857),Inputs!$O$21:$O$26,0),2))","v":20},1,null,null,{"$f":"IF(D857=\"\",\"\",IF(D857=\"-\",\"\",IF(D857>AVERAGE($D$2:$D$1000),1,0)))","v":1},1,1,1,1,1,1]
[{"$f":"'SIP Returns'!B859","v":0},null,{"$f":"'SIP Returns'!D859","v":0},{"$f":"'SIP Returns'!E859","v":0},{"$f":"'SIP Returns'!F859","v":0},{"$f":"'SIP Returns'!G859","v":0},{"$f":"'SIP Returns'!H859","v":0},{"$f":"'SIP Returns'!I859","v":0},{"$f":"'SIP Returns'!J859","v":0},1,10,8,4,1,1,{"$f":"IF(J858=\"\",\"\",IF(J858>Inputs!$D$9,0,1))","v":1},{"$f":"IF(K858=\"\",\"\",IF(K858>Inputs!$D$9,0,1))","v":1},{"$f":"IF(L858=\"\",\"\",IF(L858>Inputs!$D$9,0,1))","v":1},{"$f":"IF(M858=\"\",\"\",IF(M858>Inputs!$D$9,0,1))","v":1},{"$f":"IF(N858=\"\",\"\",IF(N858>Inputs!$D$9,0,1))","v":1},{"$f":"IF(O858=\"\",\"\",IF(O858>Inputs!$D$9,0,1))","v":1},{"$f":"IF(COUNT(P858:U858)=0,\"\",INDEX(Inputs!$O$21:$P$26,MATCH(COUNT(P858:U858),Inputs!$O$21:$O$26,0),2))","v":20},1,null,null,{"$f":"IF(D858=\"\",\"\",IF(D858=\"-\",\"\",IF(D858>AVERAGE($D$2:$D$1000),1,0)))","v":1},1,1,1,1,1,1]
[{"$f":"'SIP Returns'!B860","v":0},null,{"$f":"'SIP Returns'!D860","v":0},{"$f":"'SIP Returns'!E860","v":0},{"$f":"'SIP Returns'!F860","v":0},{"$f":"'SIP Returns'!G860","v":0},{"$f":"'SIP Returns'!H860","v":0},{"$f":"'SIP Returns'!I860","v":0},{"$f":"'SIP Returns'!J860","v":0},1,10,8,4,1,1,{"$f":"IF(J859=\"\",\"\",IF(J859>Inputs!$D$9,0,1))","v":1},{"$f":"IF(K859=\"\",\"\",IF(K859>Inputs!$D$9,0,1))","v":1},{"$f":"IF(L859=\"\",\"\",IF(L859>Inputs!$D$9,0,1))","v":1},{"$f":"IF(M859=\"\",\"\",IF(M859>Inputs!$D$9,0,1))","v":1},{"$f":"IF(N859=\"\",\"\",IF(N859>Inputs!$D$9,0,1))","v":1},{"$f":"IF(O859=\"\",\"\",IF(O859>Inputs!$D$9,0,1))","v":1},{"$f":"IF(COUNT(P859:U859)=0,\"\",INDEX(Inputs!$O$21:$P$26,MATCH(COUNT(P859:U859),Inputs!$O$21:$O$26,0),2))","v":20},1,null,null,{"$f":"IF(D859=\"\",\"\",IF(D859=\"-\",\"\",IF(D859>AVERAGE($D$2:$D$1000),1,0)))","v":1},1,1,1,1,1,1]
[{"$f":"'SIP Returns'!B861","v":0},null,{"$f":"'SIP Returns'!D861","v":0},{"$f":"'SIP Returns'!E861","v":0},{"$f":"'SIP Returns'!F861","v":0},{"$f":"'SIP Returns'!G861","v":0},{"$f":"'SIP Returns'!H861","v":0},{"$f":"'SIP Returns'!I861","v":0},{"$f":"'SIP Returns'!J861","v":0},1,10,8,4,1,1,{"$f":"IF(J860=\"\",\"\",IF(J860>Inputs!$D$9,0,1))","v":1},{"$f":"IF(K860=\"\",\"\",IF(K860>Inputs!$D$9,0,1))","v":1},{"$f":"IF(L860=\"\",\"\",IF(L860>Inputs!$D$9,0,1))","v":1},{"$f":"IF(M860=\"\",\"\",IF(M860>Inputs!$D$9,0,1))","v":1},{"$f":"IF(N860=\"\",\"\",IF(N860>Inputs!$D$9,0,1))","v":1},{"$f":"IF(O860=\"\",\"\",IF(O860>Inputs!$D$9,0,1))","v":1},{"$f":"IF(COUNT(P860:U860)=0,\"\",INDEX(Inputs!$O$21:$P$26,MATCH(COUNT(P860:U860),Inputs!$O$21:$O$26,0),2))","v":20},1,null,null,{"$f":"IF(D860=\"\",\"\",IF(D860=\"-\",\"\",IF(D860>AVERAGE($D$2:$D$1000),1,0)))","v":1},1,1,1,1,1,1]
[{"$f":"'SIP Returns'!B862","v":0},null,{"$f":"'SIP Returns'!D862","v":0},{"$f":"'SIP Returns'!E862","v":0},{"$f":"'SIP Returns'!F862","v":0},{"$f":"'SIP Returns'!G862","v":0},{"$f":"'SIP Returns'!H862","v":0},{"$f":"'SIP Returns'!I862","v":0},{"$f":"'SIP Returns'!J862","v":0},1,10,8,4,1,1,{"$f":"IF(J861=\"\",\"\",IF(J861>Inputs!$D$9,0,1))","v":1},{"$f":"IF(K861=\"\",\"\",IF(K861>Inputs!$D$9,0,1))","v":1},{"$f":"IF(L861=\"\",\"\",IF(L861>Inputs!$D$9,0,1))","v":1},{"$f":"IF(M861=\"\",\"\",IF(M861>Inputs!$D$9,0,1))","v":1},{"$f":"IF(N861=\"\",\"\",IF(N861>Inputs!$D$9,0,1))","v":1},{"$f":"IF(O861=\"\",\"\",IF(O861>Inputs!$D$9,0,1))","v":1},{"$f":"IF(COUNT(P861:U861)=0,\"\",INDEX(Inputs!$O$21:$P$26,MATCH(COUNT(P861:U861),Inputs!$O$21:$O$26,0),2))","v":20},1,null,null,{"$f":"IF(D861=\"\",\"\",IF(D861=\"-\",\"\",IF(D861>AVERAGE($D$2:$D$1000),1,0)))","v":1},1,1,1,1,1,1]
[{"$f":"'SIP Returns'!B863","v":0},null,{"$f":"'SIP Returns'!D863","v":0},{"$f":"'SIP Returns'!E863","v":0},{"$f":"'SIP Returns'!F863","v":0},{"$f":"'SIP Returns'!G863","v":0},{"$f":"'SIP Returns'!H863","v":0},{"$f":"'SIP Returns'!I863","v":0},{"$f":"'SIP Returns'!J863","v":0},1,10,8,4,1,1,{"$f":"IF(J862=\"\",\"\",IF(J862>Inputs!$D$9,0,1))","v":1},{"$f":"IF(K862=\"\",\"\",IF(K862>Inputs!$D$9,0,1))","v":1},{"$f":"IF(L862=\"\",\"\",IF(L862>Inputs!$D$9,0,1))","v":1},{"$f":"IF(M862=\"\",\"\",IF(M862>Inputs!$D$9,0,1))","v":1},{"$f":"IF(N862=\"\",\"\",IF(N862>Inputs!$D$9,0,1))","v":1},{"$f":"IF(O862=\"\",\"\",IF(O862>Inputs!$D$9,0,1))","v":1},{"$f":"IF(COUNT(P862:U862)=0,\"\",INDEX(Inputs!$O$21:$P$26,MATCH(COUNT(P862:U862),Inputs!$O$21:$O$26,0),2))","v":20},1,null,null,{"$f":"IF(D862=\"\",\"\",IF(D862=\"-\",\"\",IF(D862>AVERAGE($D$2:$D$1000),1,0)))","v":1},1,1,1,1,1,1]
[{"$f":"'SIP Returns'!B864","v":0},null,{"$f":"'SIP Returns'!D864","v":0},{"$f":"'SIP Returns'!E864","v":0},{"$f":"'SIP Returns'!F864","v":0},{"$f":"'SIP Returns'!G864","v":0},{"$f":"'SIP Returns'!H864","v":0},{"$f":"'SIP Returns'!I864","v":0},{"$f":"'SIP Returns'!J864","v":0},1,10,8,4,1,1,{"$f":"IF(J863=\"\",\"\",IF(J863>Inputs!$D$9,0,1))","v":1},{"$f":"IF(K863=\"\",\"\",IF(K863>Inputs!$D$9,0,1))","v":1},{"$f":"IF(L863=\"\",\"\",IF(L863>Inputs!$D$9,0,1))","v":1},{"$f":"IF(M863=\"\",\"\",IF(M863>Inputs!$D$9,0,1))","v":1},{"$f":"IF(N863=\"\",\"\",IF(N863>Inputs!$D$9,0,1))","v":1},{"$f":"IF(O863=\"\",\"\",IF(O863>Inputs!$D$9,0,1))","v":1},{"$f":"IF(COUNT(P863:U863)=0,\"\",INDEX(Inputs!$O$21:$P$26,MATCH(COUNT(P863:U863),Inputs!$O$21:$O$26,0),2))","v":20},1,null,null,{"$f":"IF(D863=\"\",\"\",IF(D863=\"-\",\"\",IF(D863>AVERAGE($D$2:$D$1000),1,0)))","v":1},1,1,1,1,1,1]
[{"$f":"'SIP Returns'!B865","v":0},null,{"$f":"'SIP Returns'!D865","v":0},{"$f":"'SIP Returns'!E865","v":0},{"$f":"'SIP Returns'!F865","v":0},{"$f":"'SIP Returns'!G865","v":0},{"$f":"'SIP Returns'!H865","v":0},{"$f":"'SIP Returns'!I865","v":0},{"$f":"'SIP Returns'!J865","v":0},1,10,8,4,1,1,{"$f":"IF(J864=\"\",\"\",IF(J864>Inputs!$D$9,0,1))","v":1},{"$f":"IF(K864=\"\",\"\",IF(K864>Inputs!$D$9,0,1))","v":1},{"$f":"IF(L864=\"\",\"\",IF(L864>Inputs!$D$9,0,1))","v":1},{"$f":"IF(M864=\"\",\"\",IF(M864>Inputs!$D$9,0,1))","v":1},{"$f":"IF(N864=\"\",\"\",IF(N864>Inputs!$D$9,0,1))","v":1},{"$f":"IF(O864=\"\",\"\",IF(O864>Inputs!$D$9,0,1))","v":1},{"$f":"IF(COUNT(P864:U864)=0,\"\",INDEX(Inputs!$O$21:$P$26,MATCH(COUNT(P864:U864),Inputs!$O$21:$O$26,0),2))","v":20},1,null,null,{"$f":"IF(D864=\"\",\"\",IF(D864=\"-\",\"\",IF(D864>AVERAGE($D$2:$D$1000),1,0)))","v":1},1,1,1,1,1,1]
[{"$f":"'SIP Returns'!B866","v":0},null,{"$f":"'SIP Returns'!D866","v":0},{"$f":"'SIP Returns'!E866","v":0},{"$f":"'SIP Returns'!F866","v":0},{"$f":"'SIP Returns'!G866","v":0},{"$f":"'SIP Returns'!H866","v":0},{"$f":"'SIP Returns'!I866","v":0},{"$f":"'SIP Returns'!J866","v":0},1,10,8,4,1,1,{"$f":"IF(J865=\"\",\"\",IF(J865>Inputs!$D$9,0,1))","v":1},{"$f":"IF(K865=\"\",\"\",IF(K865>Inputs!$D$9,0,1))","v":1},{"$f":"IF(L865=\"\",\"\",IF(L865>Inputs!$D$9,0,1))","v":1},{"$f":"IF(M865=\"\",\"\",IF(M865>Inputs!$D$9,0,1))","v":1},{"$f":"IF(N865=\"\",\"\",IF(N865>Inputs!$D$9,0,1))","v":1},{"$f":"IF(O865=\"\",\"\",IF(O865>Inputs!$D$9,0,1))","v":1},{"$f":"IF(COUNT(P865:U865)=0,\"\",INDEX(Inputs!$O$21:$P$26,MATCH(COUNT(P865:U865),Inputs!$O$21:$O$26,0),2))","v":20},1,null,null,{"$f":"IF(D865=\"\",\"\",IF(D865=\"-\",\"\",IF(D865>AVERAGE($D$2:$D$1000),1,0)))","v":1},1,1,1,1,1,1]
[{"$f":"'SIP Returns'!B867","v":0},null,{"$f":"'SIP Returns'!D867","v":0},{"$f":"'SIP Returns'!E867","v":0},{"$f":"'SIP Returns'!F867","v":0},{"$f":"'SIP Returns'!G867","v":0},{"$f":"'SIP Returns'!H867","v":0},{"$f":"'SIP Returns'!I867","v":0},{"$f":"'SIP Returns'!J867","v":0},1,10,8,4,1,1,{"$f":"IF(J866=\"\",\"\",IF(J866>Inputs!$D$9,0,1))","v":1},{"$f":"IF(K866=\"\",\"\",IF(K866>Inputs!$D$9,0,1))","v":1},{"$f":"IF(L866=\"\",\"\",IF(L866>Inputs!$D$9,0,1))","v":1},{"$f":"IF(M866=\"\",\"\",IF(M866>Inputs!$D$9,0,1))","v":1},{"$f":"IF(N866=\"\",\"\",IF(N866>Inputs!$D$9,0,1))","v":1},{"$f":"IF(O866=\"\",\"\",IF(O866>Inputs!$D$9,0,1))","v":1},{"$f":"IF(COUNT(P866:U866)=0,\"\",INDEX(Inputs!$O$21:$P$26,MATCH(COUNT(P866:U866),Inputs!$O$21:$O$26,0),2))","v":20},1,null,null,{"$f":"IF(D866=\"\",\"\",IF(D866=\"-\",\"\",IF(D866>AVERAGE($D$2:$D$1000),1,0)))","v":1},1,1,1,1,1,1]
[{"$f":"'SIP Returns'!B868","v":0},null,{"$f":"'SIP Returns'!D868","v":0},{"$f":"'SIP Returns'!E868","v":0},{"$f":"'SIP Returns'!F868","v":0},{"$f":"'SIP Returns'!G868","v":0},{"$f":"'SIP Returns'!H868","v":0},{"$f":"'SIP Returns'!I868","v":0},{"$f":"'SIP Returns'!J868","v":0},1,10,8,4,1,1,{"$f":"IF(J867=\"\",\"\",IF(J867>Inputs!$D$9,0,1))","v":1},{"$f":"IF(K867=\"\",\"\",IF(K867>Inputs!$D$9,0,1))","v":1},{"$f":"IF(L867=\"\",\"\",IF(L867>Inputs!$D$9,0,1))","v":1},{"$f":"IF(M867=\"\",\"\",IF(M867>Inputs!$D$9,0,1))","v":1},{"$f":"IF(N867=\"\",\"\",IF(N867>Inputs!$D$9,0,1))","v":1},{"$f":"IF(O867=\"\",\"\",IF(O867>Inputs!$D$9,0,1))","v":1},{"$f":"IF(COUNT(P867:U867)=0,\"\",INDEX(Inputs!$O$21:$P$26,MATCH(COUNT(P867:U867),Inputs!$O$21:$O$26,0),2))","v":20},1,null,null,{"$f":"IF(D867=\"\",\"\",IF(D867=\"-\",\"\",IF(D867>AVERAGE($D$2:$D$1000),1,0)))","v":1},1,1,1,1,1,1]
[{"$f":"'SIP Returns'!B869","v":0},null,{"$f":"'SIP Returns'!D869","v":0},{"$f":"'SIP Returns'!E869","v":0},{"$f":"'SIP Returns'!F869","v":0},{"$f":"'SIP Returns'!G869","v":0},{"$f":"'SIP Returns'!H869","v":0},{"$f":"'SIP Returns'!I869","v":0},{"$f":"'SIP Returns'!J869","v":0},1,10,8,4,1,1,{"$f":"IF(J868=\"\",\"\",IF(J868>Inputs!$D$9,0,1))","v":1},{"$f":"IF(K868=\"\",\"\",IF(K868>Inputs!$D$9,0,1))","v":1},{"$f":"IF(L868=\"\",\"\",IF(L868>Inputs!$D$9,0,1))","v":1},{"$f":"IF(M868=\"\",\"\",IF(M868>Inputs!$D$9,0,1))","v":1},{"$f":"IF(N868=\"\",\"\",IF(N868>Inputs!$D$9,0,1))","v":1},{"$f":"IF(O868=\"\",\"\",IF(O868>Inputs!$D$9,0,1))","v":1},{"$f":"IF(COUNT(P868:U868)=0,\"\",INDEX(Inputs!$O$21:$P$26,MATCH(COUNT(P868:U868),Inputs!$O$21:$O$26,0),2))","v":20},1,null,null,{"$f":"IF(D868=\"\",\"\",IF(D868=\"-\",\"\",IF(D868>AVERAGE($D$2:$D$1000),1,0)))","v":1},1,1,1,1,1,1]
[{"$f":"'SIP Returns'!B870","v":0},null,{"$f":"'SIP Returns'!D870","v":0},{"$f":"'SIP Returns'!E870","v":0},{"$f":"'SIP Returns'!F870","v":0},{"$f":"'SIP Returns'!G870","v":0},{"$f":"'SIP Returns'!H870","v":0},{"$f":"'SIP Returns'!I870","v":0},{"$f":"'SIP Returns'!J870","v":0},1,10,8,4,1,1,{"$f":"IF(J869=\"\",\"\",IF(J869>Inputs!$D$9,0,1))","v":1},{"$f":"IF(K869=\"\",\"\",IF(K869>Inputs!$D$9,0,1))","v":1},{"$f":"IF(L869=\"\",\"\",IF(L869>Inputs!$D$9,0,1))","v":1},{"$f":"IF(M869=\"\",\"\",IF(M869>Inputs!$D$9,0,1))","v":1},{"$f":"IF(N869=\"\",\"\",IF(N869>Inputs!$D$9,0,1))","v":1},{"$f":"IF(O869=\"\",\"\",IF(O869>Inputs!$D$9,0,1))","v":1},{"$f":"IF(COUNT(P869:U869)=0,\"\",INDEX(Inputs!$O$21:$P$26,MATCH(COUNT(P869:U869),Inputs!$O$21:$O$26,0),2))","v":20},1,null,null,{"$f":"IF(D869=\"\",\"\",IF(D869=\"-\",\"\",IF(D869>AVERAGE($D$2:$D$1000),1,0)))","v":1},1,1,1,1,1,1]
[{"$f":"'SIP Returns'!B871","v":0},null,{"$f":"'SIP Returns'!D871","v":0},{"$f":"'SIP Returns'!E871","v":0},{"$f":"'SIP Returns'!F871","v":0},{"$f":"'SIP Returns'!G871","v":0},{"$f":"'SIP Returns'!H871","v":0},{"$f":"'SIP Returns'!I871","v":0},{"$f":"'SIP Returns'!J871","v":0},1,10,8,4,1,1,{"$f":"IF(J870=\"\",\"\",IF(J870>Inputs!$D$9,0,1))","v":1},{"$f":"IF(K870=\"\",\"\",IF(K870>Inputs!$D$9,0,1))","v":1},{"$f":"IF(L870=\"\",\"\",IF(L870>Inputs!$D$9,0,1))","v":1},{"$f":"IF(M870=\"\",\"\",IF(M870>Inputs!$D$9,0,1))","v":1},{"$f":"IF(N870=\"\",\"\",IF(N870>Inputs!$D$9,0,1))","v":1},{"$f":"IF(O870=\"\",\"\",IF(O870>Inputs!$D$9,0,1))","v":1},{"$f":"IF(COUNT(P870:U870)=0,\"\",INDEX(Inputs!$O$21:$P$26,MATCH(COUNT(P870:U870),Inputs!$O$21:$O$26,0),2))","v":20},1,null,null,{"$f":"IF(D870=\"\",\"\",IF(D870=\"-\",\"\",IF(D870>AVERAGE($D$2:$D$1000),1,0)))","v":1},1,1,1,1,1,1]
[{"$f":"'SIP Returns'!B872","v":0},null,{"$f":"'SIP Returns'!D872","v":0},{"$f":"'SIP Returns'!E872","v":0},{"$f":"'SIP Returns'!F872","v":0},{"$f":"'SIP Returns'!G872","v":0},{"$f":"'SIP Returns'!H872","v":0},{"$f":"'SIP Returns'!I872","v":0},{"$f":"'SIP Returns'!J872","v":0},1,10,8,4,1,1,{"$f":"IF(J871=\"\",\"\",IF(J871>Inputs!$D$9,0,1))","v":1},{"$f":"IF(K871=\"\",\"\",IF(K871>Inputs!$D$9,0,1))","v":1},{"$f":"IF(L871=\"\",\"\",IF(L871>Inputs!$D$9,0,1))","v":1},{"$f":"IF(M871=\"\",\"\",IF(M871>Inputs!$D$9,0,1))","v":1},{"$f":"IF(N871=\"\",\"\",IF(N871>Inputs!$D$9,0,1))","v":1},{"$f":"IF(O871=\"\",\"\",IF(O871>Inputs!$D$9,0,1))","v":1},{"$f":"IF(COUNT(P871:U871)=0,\"\",INDEX(Inputs!$O$21:$P$26,MATCH(COUNT(P871:U871),Inputs!$O$21:$O$26,0),2))","v":20},1,null,null,{"$f":"IF(D871=\"\",\"\",IF(D871=\"-\",\"\",IF(D871>AVERAGE($D$2:$D$1000),1,0)))","v":1},1,1,1,1,1,1]
[{"$f":"'SIP Returns'!B873","v":0},null,{"$f":"'SIP Returns'!D873","v":0},{"$f":"'SIP Returns'!E873","v":0},{"$f":"'SIP Returns'!F873","v":0},{"$f":"'SIP Returns'!G873","v":0},{"$f":"'SIP Returns'!H873","v":0},{"$f":"'SIP Returns'!I873","v":0},{"$f":"'SIP Returns'!J873","v":0},1,10,8,4,1,1,{"$f":"IF(J872=\"\",\"\",IF(J872>Inputs!$D$9,0,1))","v":1},{"$f":"IF(K872=\"\",\"\",IF(K872>Inputs!$D$9,0,1))","v":1},{"$f":"IF(L872=\"\",\"\",IF(L872>Inputs!$D$9,0,1))","v":1},{"$f":"IF(M872=\"\",\"\",IF(M872>Inputs!$D$9,0,1))","v":1},{"$f":"IF(N872=\"\",\"\",IF(N872>Inputs!$D$9,0,1))","v":1},{"$f":"IF(O872=\"\",\"\",IF(O872>Inputs!$D$9,0,1))","v":1},{"$f":"IF(COUNT(P872:U872)=0,\"\",INDEX(Inputs!$O$21:$P$26,MATCH(COUNT(P872:U872),Inputs!$O$21:$O$26,0),2))","v":20},1,null,null,{"$f":"IF(D872=\"\",\"\",IF(D872=\"-\",\"\",IF(D872>AVERAGE($D$2:$D$1000),1,0)))","v":1},1,1,1,1,1,1]
[{"$f":"'SIP Returns'!B874","v":0},null,{"$f":"'SIP Returns'!D874","v":0},{"$f":"'SIP Returns'!E874","v":0},{"$f":"'SIP Returns'!F874","v":0},{"$f":"'SIP Returns'!G874","v":0},{"$f":"'SIP Returns'!H874","v":0},{"$f":"'SIP Returns'!I874","v":0},{"$f":"'SIP Returns'!J874","v":0},1,10,8,4,1,1,{"$f":"IF(J873=\"\",\"\",IF(J873>Inputs!$D$9,0,1))","v":1},{"$f":"IF(K873=\"\",\"\",IF(K873>Inputs!$D$9,0,1))","v":1},{"$f":"IF(L873=\"\",\"\",IF(L873>Inputs!$D$9,0,1))","v":1},{"$f":"IF(M873=\"\",\"\",IF(M873>Inputs!$D$9,0,1))","v":1},{"$f":"IF(N873=\"\",\"\",IF(N873>Inputs!$D$9,0,1))","v":1},{"$f":"IF(O873=\"\",\"\",IF(O873>Inputs!$D$9,0,1))","v":1},{"$f":"IF(COUNT(P873:U873)=0,\"\",INDEX(Inputs!$O$21:$P$26,MATCH(COUNT(P873:U873),Inputs!$O$21:$O$26,0),2))","v":20},1,null,null,{"$f":"IF(D873=\"\",\"\",IF(D873=\"-\",\"\",IF(D873>AVERAGE($D$2:$D$1000),1,0)))","v":1},1,1,1,1,1,1]
[{"$f":"'SIP Returns'!B875","v":0},null,{"$f":"'SIP Returns'!D875","v":0},{"$f":"'SIP Returns'!E875","v":0},{"$f":"'SIP Returns'!F875","v":0},{"$f":"'SIP Returns'!G875","v":0},{"$f":"'SIP Returns'!H875","v":0},{"$f":"'SIP Returns'!I875","v":0},{"$f":"'SIP Returns'!J875","v":0},1,10,8,4,1,1,{"$f":"IF(J874=\"\",\"\",IF(J874>Inputs!$D$9,0,1))","v":1},{"$f":"IF(K874=\"\",\"\",IF(K874>Inputs!$D$9,0,1))","v":1},{"$f":"IF(L874=\"\",\"\",IF(L874>Inputs!$D$9,0,1))","v":1},{"$f":"IF(M874=\"\",\"\",IF(M874>Inputs!$D$9,0,1))","v":1},{"$f":"IF(N874=\"\",\"\",IF(N874>Inputs!$D$9,0,1))","v":1},{"$f":"IF(O874=\"\",\"\",IF(O874>Inputs!$D$9,0,1))","v":1},{"$f":"IF(COUNT(P874:U874)=0,\"\",INDEX(Inputs!$O$21:$P$26,MATCH(COUNT(P874:U874),Inputs!$O$21:$O$26,0),2))","v":20},1,null,null,{"$f":"IF(D874=\"\",\"\",IF(D874=\"-\",\"\",IF(D874>AVERAGE($D$2:$D$1000),1,0)))","v":1},1,1,1,1,1,1]
[{"$f":"'SIP Returns'!B876","v":0},null,{"$f":"'SIP Returns'!D876","v":0},{"$f":"'SIP Returns'!E876","v":0},{"$f":"'SIP Returns'!F876","v":0},{"$f":"'SIP Returns'!G876","v":0},{"$f":"'SIP Returns'!H876","v":0},{"$f":"'SIP Returns'!I876","v":0},{"$f":"'SIP Returns'!J876","v":0},1,10,8,4,1,1,{"$f":"IF(J875=\"\",\"\",IF(J875>Inputs!$D$9,0,1))","v":1},{"$f":"IF(K875=\"\",\"\",IF(K875>Inputs!$D$9,0,1))","v":1},{"$f":"IF(L875=\"\",\"\",IF(L875>Inputs!$D$9,0,1))","v":1},{"$f":"IF(M875=\"\",\"\",IF(M875>Inputs!$D$9,0,1))","v":1},{"$f":"IF(N875=\"\",\"\",IF(N875>Inputs!$D$9,0,1))","v":1},{"$f":"IF(O875=\"\",\"\",IF(O875>Inputs!$D$9,0,1))","v":1},{"$f":"IF(COUNT(P875:U875)=0,\"\",INDEX(Inputs!$O$21:$P$26,MATCH(COUNT(P875:U875),Inputs!$O$21:$O$26,0),2))","v":20},1,null,null,{"$f":"IF(D875=\"\",\"\",IF(D875=\"-\",\"\",IF(D875>AVERAGE($D$2:$D$1000),1,0)))","v":1},1,1,1,1,1,1]
[{"$f":"'SIP Returns'!B877","v":0},null,{"$f":"'SIP Returns'!D877","v":0},{"$f":"'SIP Returns'!E877","v":0},{"$f":"'SIP Returns'!F877","v":0},{"$f":"'SIP Returns'!G877","v":0},{"$f":"'SIP Returns'!H877","v":0},{"$f":"'SIP Returns'!I877","v":0},{"$f":"'SIP Returns'!J877","v":0},1,10,8,4,1,1,{"$f":"IF(J876=\"\",\"\",IF(J876>Inputs!$D$9,0,1))","v":1},{"$f":"IF(K876=\"\",\"\",IF(K876>Inputs!$D$9,0,1))","v":1},{"$f":"IF(L876=\"\",\"\",IF(L876>Inputs!$D$9,0,1))","v":1},{"$f":"IF(M876=\"\",\"\",IF(M876>Inputs!$D$9,0,1))","v":1},{"$f":"IF(N876=\"\",\"\",IF(N876>Inputs!$D$9,0,1))","v":1},{"$f":"IF(O876=\"\",\"\",IF(O876>Inputs!$D$9,0,1))","v":1},{"$f":"IF(COUNT(P876:U876)=0,\"\",INDEX(Inputs!$O$21:$P$26,MATCH(COUNT(P876:U876),Inputs!$O$21:$O$26,0),2))","v":20},1,null,null,{"$f":"IF(D876=\"\",\"\",IF(D876=\"-\",\"\",IF(D876>AVERAGE($D$2:$D$1000),1,0)))","v":1},1,1,1,1,1,1]
[{"$f":"'SIP Returns'!B878","v":0},null,{"$f":"'SIP Returns'!D878","v":0},{"$f":"'SIP Returns'!E878","v":0},{"$f":"'SIP Returns'!F878","v":0},{"$f":"'SIP Returns'!G878","v":0},{"$f":"'SIP Returns'!H878","v":0},{"$f":"'SIP Returns'!I878","v":0},{"$f":"'SIP Returns'!J878","v":0},1,10,8,4,1,1,{"$f":"IF(J877=\"\",\"\",IF(J877>Inputs!$D$9,0,1))","v":1},{"$f":"IF(K877=\"\",\"\",IF(K877>Inputs!$D$9,0,1))","v":1},{"$f":"IF(L877=\"\",\"\",IF(L877>Inputs!$D$9,0,1))","v":1},{"$f":"IF(M877=\"\",\"\",IF(M877>Inputs!$D$9,0,1))","v":1},{"$f":"IF(N877=\"\",\"\",IF(N877>Inputs!$D$9,0,1))","v":1},{"$f":"IF(O877=\"\",\"\",IF(O877>Inputs!$D$9,0,1))","v":1},{"$f":"IF(COUNT(P877:U877)=0,\"\",INDEX(Inputs!$O$21:$P$26,MATCH(COUNT(P877:U877),Inputs!$O$21:$O$26,0),2))","v":20},1,null,null,{"$f":"IF(D877=\"\",\"\",IF(D877=\"-\",\"\",IF(D877>AVERAGE($D$2:$D$1000),1,0)))","v":1},1,1,1,1,1,1]
[{"$f":"'SIP Returns'!B879","v":0},null,{"$f":"'SIP Returns'!D879","v":0},{"$f":"'SIP Returns'!E879","v":0},{"$f":"'SIP Returns'!F879","v":0},{"$f":"'SIP Returns'!G879","v":0},{"$f":"'SIP Returns'!H879","v":0},{"$f":"'SIP Returns'!I879","v":0},{"$f":"'SIP Returns'!J879","v":0},1,10,8,4,1,1,{"$f":"IF(J878=\"\",\"\",IF(J878>Inputs!$D$9,0,1))","v":1},{"$f":"IF(K878=\"\",\"\",IF(K878>Inputs!$D$9,0,1))","v":1},{"$f":"IF(L878=\"\",\"\",IF(L878>Inputs!$D$9,0,1))","v":1},{"$f":"IF(M878=\"\",\"\",IF(M878>Inputs!$D$9,0,1))","v":1},{"$f":"IF(N878=\"\",\"\",IF(N878>Inputs!$D$9,0,1))","v":1},{"$f":"IF(O878=\"\",\"\",IF(O878>Inputs!$D$9,0,1))","v":1},{"$f":"IF(COUNT(P878:U878)=0,\"\",INDEX(Inputs!$O$21:$P$26,MATCH(COUNT(P878:U878),Inputs!$O$21:$O$26,0),2))","v":20},1,null,null,{"$f":"IF(D878=\"\",\"\",IF(D878=\"-\",\"\",IF(D878>AVERAGE($D$2:$D$1000),1,0)))","v":1},1,1,1,1,1,1]
[{"$f":"'SIP Returns'!B880","v":0},null,{"$f":"'SIP Returns'!D880","v":0},{"$f":"'SIP Returns'!E880","v":0},{"$f":"'SIP Returns'!F880","v":0},{"$f":"'SIP Returns'!G880","v":0},{"$f":"'SIP Returns'!H880","v":0},{"$f":"'SIP Returns'!I880","v":0},{"$f":"'SIP Returns'!J880","v":0},1,10,8,4,1,1,{"$f":"IF(J879=\"\",\"\",IF(J879>Inputs!$D$9,0,1))","v":1},{"$f":"IF(K879=\"\",\"\",IF(K879>Inputs!$D$9,0,1))","v":1},{"$f":"IF(L879=\"\",\"\",IF(L879>Inputs!$D$9,0,1))","v":1},{"$f":"IF(M879=\"\",\"\",IF(M879>Inputs!$D$9,0,1))","v":1},{"$f":"IF(N879=\"\",\"\",IF(N879>Inputs!$D$9,0,1))","v":1},{"$f":"IF(O879=\"\",\"\",IF(O879>Inputs!$D$9,0,1))","v":1},{"$f":"IF(COUNT(P879:U879)=0,\"\",INDEX(Inputs!$O$21:$P$26,MATCH(COUNT(P879:U879),Inputs!$O$21:$O$26,0),2))","v":20},1,null,null,{"$f":"IF(D879=\"\",\"\",IF(D879=\"-\",\"\",IF(D879>AVERAGE($D$2:$D$1000),1,0)))","v":1},1,1,1,1,1,1]
[{"$f":"'SIP Returns'!B881","v":0},null,{"$f":"'SIP Returns'!D881","v":0},{"$f":"'SIP Returns'!E881","v":0},{"$f":"'SIP Returns'!F881","v":0},{"$f":"'SIP Returns'!G881","v":0},{"$f":"'SIP Returns'!H881","v":0},{"$f":"'SIP Returns'!I881","v":0},{"$f":"'SIP Returns'!J881","v":0},1,10,8,4,1,1,{"$f":"IF(J880=\"\",\"\",IF(J880>Inputs!$D$9,0,1))","v":1},{"$f":"IF(K880=\"\",\"\",IF(K880>Inputs!$D$9,0,1))","v":1},{"$f":"IF(L880=\"\",\"\",IF(L880>Inputs!$D$9,0,1))","v":1},{"$f":"IF(M880=\"\",\"\",IF(M880>Inputs!$D$9,0,1))","v":1},{"$f":"IF(N880=\"\",\"\",IF(N880>Inputs!$D$9,0,1))","v":1},{"$f":"IF(O880=\"\",\"\",IF(O880>Inputs!$D$9,0,1))","v":1},{"$f":"IF(COUNT(P880:U880)=0,\"\",INDEX(Inputs!$O$21:$P$26,MATCH(COUNT(P880:U880),Inputs!$O$21:$O$26,0),2))","v":20},1,null,null,{"$f":"IF(D880=\"\",\"\",IF(D880=\"-\",\"\",IF(D880>AVERAGE($D$2:$D$1000),1,0)))","v":1},1,1,1,1,1,1]
[{"$f":"'SIP Returns'!B882","v":0},null,{"$f":"'SIP Returns'!D882","v":0},{"$f":"'SIP Returns'!E882","v":0},{"$f":"'SIP Returns'!F882","v":0},{"$f":"'SIP Returns'!G882","v":0},{"$f":"'SIP Returns'!H882","v":0},{"$f":"'SIP Returns'!I882","v":0},{"$f":"'SIP Returns'!J882","v":0},1,10,8,4,1,1,{"$f":"IF(J881=\"\",\"\",IF(J881>Inputs!$D$9,0,1))","v":1},{"$f":"IF(K881=\"\",\"\",IF(K881>Inputs!$D$9,0,1))","v":1},{"$f":"IF(L881=\"\",\"\",IF(L881>Inputs!$D$9,0,1))","v":1},{"$f":"IF(M881=\"\",\"\",IF(M881>Inputs!$D$9,0,1))","v":1},{"$f":"IF(N881=\"\",\"\",IF(N881>Inputs!$D$9,0,1))","v":1},{"$f":"IF(O881=\"\",\"\",IF(O881>Inputs!$D$9,0,1))","v":1},{"$f":"IF(COUNT(P881:U881)=0,\"\",INDEX(Inputs!$O$21:$P$26,MATCH(COUNT(P881:U881),Inputs!$O$21:$O$26,0),2))","v":20},1,null,null,{"$f":"IF(D881=\"\",\"\",IF(D881=\"-\",\"\",IF(D881>AVERAGE($D$2:$D$1000),1,0)))","v":1},1,1,1,1,1,1]
[{"$f":"'SIP Returns'!B883","v":0},null,{"$f":"'SIP Returns'!D883","v":0},{"$f":"'SIP Returns'!E883","v":0},{"$f":"'SIP Returns'!F883","v":0},{"$f":"'SIP Returns'!G883","v":0},{"$f":"'SIP Returns'!H883","v":0},{"$f":"'SIP Returns'!I883","v":0},{"$f":"'SIP Returns'!J883","v":0},1,10,8,4,1,1,{"$f":"IF(J882=\"\",\"\",IF(J882>Inputs!$D$9,0,1))","v":1},{"$f":"IF(K882=\"\",\"\",IF(K882>Inputs!$D$9,0,1))","v":1},{"$f":"IF(L882=\"\",\"\",IF(L882>Inputs!$D$9,0,1))","v":1},{"$f":"IF(M882=\"\",\"\",IF(M882>Inputs!$D$9,0,1))","v":1},{"$f":"IF(N882=\"\",\"\",IF(N882>Inputs!$D$9,0,1))","v":1},{"$f":"IF(O882=\"\",\"\",IF(O882>Inputs!$D$9,0,1))","v":1},{"$f":"IF(COUNT(P882:U882)=0,\"\",INDEX(Inputs!$O$21:$P$26,MATCH(COUNT(P882:U882),Inputs!$O$21:$O$26,0),2))","v":20},1,null,null,{"$f":"IF(D882=\"\",\"\",IF(D882=\"-\",\"\",IF(D882>AVERAGE($D$2:$D$1000),1,0)))","v":1},1,1,1,1,1,1]
[{"$f":"'SIP Returns'!B884","v":0},null,{"$f":"'SIP Returns'!D884","v":0},{"$f":"'SIP Returns'!E884","v":0},{"$f":"'SIP Returns'!F884","v":0},{"$f":"'SIP Returns'!G884","v":0},{"$f":"'SIP Returns'!H884","v":0},{"$f":"'SIP Returns'!I884","v":0},{"$f":"'SIP Returns'!J884","v":0},1,10,8,4,1,1,{"$f":"IF(J883=\"\",\"\",IF(J883>Inputs!$D$9,0,1))","v":1},{"$f":"IF(K883=\"\",\"\",IF(K883>Inputs!$D$9,0,1))","v":1},{"$f":"IF(L883=\"\",\"\",IF(L883>Inputs!$D$9,0,1))","v":1},{"$f":"IF(M883=\"\",\"\",IF(M883>Inputs!$D$9,0,1))","v":1},{"$f":"IF(N883=\"\",\"\",IF(N883>Inputs!$D$9,0,1))","v":1},{"$f":"IF(O883=\"\",\"\",IF(O883>Inputs!$D$9,0,1))","v":1},{"$f":"IF(COUNT(P883:U883)=0,\"\",INDEX(Inputs!$O$21:$P$26,MATCH(COUNT(P883:U883),Inputs!$O$21:$O$26,0),2))","v":20},1,null,null,{"$f":"IF(D883=\"\",\"\",IF(D883=\"-\",\"\",IF(D883>AVERAGE($D$2:$D$1000),1,0)))","v":1},1,1,1,1,1,1]
[{"$f":"'SIP Returns'!B885","v":0},null,{"$f":"'SIP Returns'!D885","v":0},{"$f":"'SIP Returns'!E885","v":0},{"$f":"'SIP Returns'!F885","v":0},{"$f":"'SIP Returns'!G885","v":0},{"$f":"'SIP Returns'!H885","v":0},{"$f":"'SIP Returns'!I885","v":0},{"$f":"'SIP Returns'!J885","v":0},1,10,8,4,1,1,{"$f":"IF(J884=\"\",\"\",IF(J884>Inputs!$D$9,0,1))","v":1},{"$f":"IF(K884=\"\",\"\",IF(K884>Inputs!$D$9,0,1))","v":1},{"$f":"IF(L884=\"\",\"\",IF(L884>Inputs!$D$9,0,1))","v":1},{"$f":"IF(M884=\"\",\"\",IF(M884>Inputs!$D$9,0,1))","v":1},{"$f":"IF(N884=\"\",\"\",IF(N884>Inputs!$D$9,0,1))","v":1},{"$f":"IF(O884=\"\",\"\",IF(O884>Inputs!$D$9,0,1))","v":1},{"$f":"IF(COUNT(P884:U884)=0,\"\",INDEX(Inputs!$O$21:$P$26,MATCH(COUNT(P884:U884),Inputs!$O$21:$O$26,0),2))","v":20},1,null,null,{"$f":"IF(D884=\"\",\"\",IF(D884=\"-\",\"\",IF(D884>AVERAGE($D$2:$D$1000),1,0)))","v":1},1,1,1,1,1,1]
[{"$f":"'SIP Returns'!B886","v":0},null,{"$f":"'SIP Returns'!D886","v":0},{"$f":"'SIP Returns'!E886","v":0},{"$f":"'SIP Returns'!F886","v":0},{"$f":"'SIP Returns'!G886","v":0},{"$f":"'SIP Returns'!H886","v":0},{"$f":"'SIP Returns'!I886","v":0},{"$f":"'SIP Returns'!J886","v":0},1,10,8,4,1,1,{"$f":"IF(J885=\"\",\"\",IF(J885>Inputs!$D$9,0,1))","v":1},{"$f":"IF(K885=\"\",\"\",IF(K885>Inputs!$D$9,0,1))","v":1},{"$f":"IF(L885=\"\",\"\",IF(L885>Inputs!$D$9,0,1))","v":1},{"$f":"IF(M885=\"\",\"\",IF(M885>Inputs!$D$9,0,1))","v":1},{"$f":"IF(N885=\"\",\"\",IF(N885>Inputs!$D$9,0,1))","v":1},{"$f":"IF(O885=\"\",\"\",IF(O885>Inputs!$D$9,0,1))","v":1},{"$f":"IF(COUNT(P885:U885)=0,\"\",INDEX(Inputs!$O$21:$P$26,MATCH(COUNT(P885:U885),Inputs!$O$21:$O$26,0),2))","v":20},1,null,null,{"$f":"IF(D885=\"\",\"\",IF(D885=\"-\",\"\",IF(D885>AVERAGE($D$2:$D$1000),1,0)))","v":1},1,1,1,1,1,1]
[{"$f":"'SIP Returns'!B887","v":0},null,{"$f":"'SIP Returns'!D887","v":0},{"$f":"'SIP Returns'!E887","v":0},{"$f":"'SIP Returns'!F887","v":0},{"$f":"'SIP Returns'!G887","v":0},{"$f":"'SIP Returns'!H887","v":0},{"$f":"'SIP Returns'!I887","v":0},{"$f":"'SIP Returns'!J887","v":0},1,10,8,4,1,1,{"$f":"IF(J886=\"\",\"\",IF(J886>Inputs!$D$9,0,1))","v":1},{"$f":"IF(K886=\"\",\"\",IF(K886>Inputs!$D$9,0,1))","v":1},{"$f":"IF(L886=\"\",\"\",IF(L886>Inputs!$D$9,0,1))","v":1},{"$f":"IF(M886=\"\",\"\",IF(M886>Inputs!$D$9,0,1))","v":1},{"$f":"IF(N886=\"\",\"\",IF(N886>Inputs!$D$9,0,1))","v":1},{"$f":"IF(O886=\"\",\"\",IF(O886>Inputs!$D$9,0,1))","v":1},{"$f":"IF(COUNT(P886:U886)=0,\"\",INDEX(Inputs!$O$21:$P$26,MATCH(COUNT(P886:U886),Inputs!$O$21:$O$26,0),2))","v":20},1,null,null,{"$f":"IF(D886=\"\",\"\",IF(D886=\"-\",\"\",IF(D886>AVERAGE($D$2:$D$1000),1,0)))","v":1},1,1,1,1,1,1]
[{"$f":"'SIP Returns'!B888","v":0},null,{"$f":"'SIP Returns'!D888","v":0},{"$f":"'SIP Returns'!E888","v":0},{"$f":"'SIP Returns'!F888","v":0},{"$f":"'SIP Returns'!G888","v":0},{"$f":"'SIP Returns'!H888","v":0},{"$f":"'SIP Returns'!I888","v":0},{"$f":"'SIP Returns'!J888","v":0},1,10,8,4,1,1,{"$f":"IF(J887=\"\",\"\",IF(J887>Inputs!$D$9,0,1))","v":1},{"$f":"IF(K887=\"\",\"\",IF(K887>Inputs!$D$9,0,1))","v":1},{"$f":"IF(L887=\"\",\"\",IF(L887>Inputs!$D$9,0,1))","v":1},{"$f":"IF(M887=\"\",\"\",IF(M887>Inputs!$D$9,0,1))","v":1},{"$f":"IF(N887=\"\",\"\",IF(N887>Inputs!$D$9,0,1))","v":1},{"$f":"IF(O887=\"\",\"\",IF(O887>Inputs!$D$9,0,1))","v":1},{"$f":"IF(COUNT(P887:U887)=0,\"\",INDEX(Inputs!$O$21:$P$26,MATCH(COUNT(P887:U887),Inputs!$O$21:$O$26,0),2))","v":20},1,null,null,{"$f":"IF(D887=\"\",\"\",IF(D887=\"-\",\"\",IF(D887>AVERAGE($D$2:$D$1000),1,0)))","v":1},1,1,1,1,1,1]
[{"$f":"'SIP Returns'!B889","v":0},null,{"$f":"'SIP Returns'!D889","v":0},{"$f":"'SIP Returns'!E889","v":0},{"$f":"'SIP Returns'!F889","v":0},{"$f":"'SIP Returns'!G889","v":0},{"$f":"'SIP Returns'!H889","v":0},{"$f":"'SIP Returns'!I889","v":0},{"$f":"'SIP Returns'!J889","v":0},1,10,8,4,1,1,{"$f":"IF(J888=\"\",\"\",IF(J888>Inputs!$D$9,0,1))","v":1},{"$f":"IF(K888=\"\",\"\",IF(K888>Inputs!$D$9,0,1))","v":1},{"$f":"IF(L888=\"\",\"\",IF(L888>Inputs!$D$9,0,1))","v":1},{"$f":"IF(M888=\"\",\"\",IF(M888>Inputs!$D$9,0,1))","v":1},{"$f":"IF(N888=\"\",\"\",IF(N888>Inputs!$D$9,0,1))","v":1},{"$f":"IF(O888=\"\",\"\",IF(O888>Inputs!$D$9,0,1))","v":1},{"$f":"IF(COUNT(P888:U888)=0,\"\",INDEX(Inputs!$O$21:$P$26,MATCH(COUNT(P888:U888),Inputs!$O$21:$O$26,0),2))","v":20},1,null,null,{"$f":"IF(D888=\"\",\"\",IF(D888=\"-\",\"\",IF(D888>AVERAGE($D$2:$D$1000),1,0)))","v":1},1,1,1,1,1,1]
[{"$f":"'SIP Returns'!B890","v":0},null,{"$f":"'SIP Returns'!D890","v":0},{"$f":"'SIP Returns'!E890","v":0},{"$f":"'SIP Returns'!F890","v":0},{"$f":"'SIP Returns'!G890","v":0},{"$f":"'SIP Returns'!H890","v":0},{"$f":"'SIP Returns'!I890","v":0},{"$f":"'SIP Returns'!J890","v":0},1,10,8,4,1,1,{"$f":"IF(J889=\"\",\"\",IF(J889>Inputs!$D$9,0,1))","v":1},{"$f":"IF(K889=\"\",\"\",IF(K889>Inputs!$D$9,0,1))","v":1},{"$f":"IF(L889=\"\",\"\",IF(L889>Inputs!$D$9,0,1))","v":1},{"$f":"IF(M889=\"\",\"\",IF(M889>Inputs!$D$9,0,1))","v":1},{"$f":"IF(N889=\"\",\"\",IF(N889>Inputs!$D$9,0,1))","v":1},{"$f":"IF(O889=\"\",\"\",IF(O889>Inputs!$D$9,0,1))","v":1},{"$f":"IF(COUNT(P889:U889)=0,\"\",INDEX(Inputs!$O$21:$P$26,MATCH(COUNT(P889:U889),Inputs!$O$21:$O$26,0),2))","v":20},1,null,null,{"$f":"IF(D889=\"\",\"\",IF(D889=\"-\",\"\",IF(D889>AVERAGE($D$2:$D$1000),1,0)))","v":1},1,1,1,1,1,1]
[{"$f":"'SIP Returns'!B891","v":0},null,{"$f":"'SIP Returns'!D891","v":0},{"$f":"'SIP Returns'!E891","v":0},{"$f":"'SIP Returns'!F891","v":0},{"$f":"'SIP Returns'!G891","v":0},{"$f":"'SIP Returns'!H891","v":0},{"$f":"'SIP Returns'!I891","v":0},{"$f":"'SIP Returns'!J891","v":0},1,10,8,4,1,1,{"$f":"IF(J890=\"\",\"\",IF(J890>Inputs!$D$9,0,1))","v":1},{"$f":"IF(K890=\"\",\"\",IF(K890>Inputs!$D$9,0,1))","v":1},{"$f":"IF(L890=\"\",\"\",IF(L890>Inputs!$D$9,0,1))","v":1},{"$f":"IF(M890=\"\",\"\",IF(M890>Inputs!$D$9,0,1))","v":1},{"$f":"IF(N890=\"\",\"\",IF(N890>Inputs!$D$9,0,1))","v":1},{"$f":"IF(O890=\"\",\"\",IF(O890>Inputs!$D$9,0,1))","v":1},{"$f":"IF(COUNT(P890:U890)=0,\"\",INDEX(Inputs!$O$21:$P$26,MATCH(COUNT(P890:U890),Inputs!$O$21:$O$26,0),2))","v":20},1,null,null,{"$f":"IF(D890=\"\",\"\",IF(D890=\"-\",\"\",IF(D890>AVERAGE($D$2:$D$1000),1,0)))","v":1},1,1,1,1,1,1]
[{"$f":"'SIP Returns'!B892","v":0},null,{"$f":"'SIP Returns'!D892","v":0},{"$f":"'SIP Returns'!E892","v":0},{"$f":"'SIP Returns'!F892","v":0},{"$f":"'SIP Returns'!G892","v":0},{"$f":"'SIP Returns'!H892","v":0},{"$f":"'SIP Returns'!I892","v":0},{"$f":"'SIP Returns'!J892","v":0},1,10,8,4,1,1,{"$f":"IF(J891=\"\",\"\",IF(J891>Inputs!$D$9,0,1))","v":1},{"$f":"IF(K891=\"\",\"\",IF(K891>Inputs!$D$9,0,1))","v":1},{"$f":"IF(L891=\"\",\"\",IF(L891>Inputs!$D$9,0,1))","v":1},{"$f":"IF(M891=\"\",\"\",IF(M891>Inputs!$D$9,0,1))","v":1},{"$f":"IF(N891=\"\",\"\",IF(N891>Inputs!$D$9,0,1))","v":1},{"$f":"IF(O891=\"\",\"\",IF(O891>Inputs!$D$9,0,1))","v":1},{"$f":"IF(COUNT(P891:U891)=0,\"\",INDEX(Inputs!$O$21:$P$26,MATCH(COUNT(P891:U891),Inputs!$O$21:$O$26,0),2))","v":20},1,null,null,{"$f":"IF(D891=\"\",\"\",IF(D891=\"-\",\"\",IF(D891>AVERAGE($D$2:$D$1000),1,0)))","v":1},1,1,1,1,1,1]
[{"$f":"'SIP Returns'!B893","v":0},null,{"$f":"'SIP Returns'!D893","v":0},{"$f":"'SIP Returns'!E893","v":0},{"$f":"'SIP Returns'!F893","v":0},{"$f":"'SIP Returns'!G893","v":0},{"$f":"'SIP Returns'!H893","v":0},{"$f":"'SIP Returns'!I893","v":0},{"$f":"'SIP Returns'!J893","v":0},1,10,8,4,1,1,{"$f":"IF(J892=\"\",\"\",IF(J892>Inputs!$D$9,0,1))","v":1},{"$f":"IF(K892=\"\",\"\",IF(K892>Inputs!$D$9,0,1))","v":1},{"$f":"IF(L892=\"\",\"\",IF(L892>Inputs!$D$9,0,1))","v":1},{"$f":"IF(M892=\"\",\"\",IF(M892>Inputs!$D$9,0,1))","v":1},{"$f":"IF(N892=\"\",\"\",IF(N892>Inputs!$D$9,0,1))","v":1},{"$f":"IF(O892=\"\",\"\",IF(O892>Inputs!$D$9,0,1))","v":1},{"$f":"IF(COUNT(P892:U892)=0,\"\",INDEX(Inputs!$O$21:$P$26,MATCH(COUNT(P892:U892),Inputs!$O$21:$O$26,0),2))","v":20},1,null,null,{"$f":"IF(D892=\"\",\"\",IF(D892=\"-\",\"\",IF(D892>AVERAGE($D$2:$D$1000),1,0)))","v":1},1,1,1,1,1,1]
[{"$f":"'SIP Returns'!B894","v":0},null,{"$f":"'SIP Returns'!D894","v":0},{"$f":"'SIP Returns'!E894","v":0},{"$f":"'SIP Returns'!F894","v":0},{"$f":"'SIP Returns'!G894","v":0},{"$f":"'SIP Returns'!H894","v":0},{"$f":"'SIP Returns'!I894","v":0},{"$f":"'SIP Returns'!J894","v":0},1,10,8,4,1,1,{"$f":"IF(J893=\"\",\"\",IF(J893>Inputs!$D$9,0,1))","v":1},{"$f":"IF(K893=\"\",\"\",IF(K893>Inputs!$D$9,0,1))","v":1},{"$f":"IF(L893=\"\",\"\",IF(L893>Inputs!$D$9,0,1))","v":1},{"$f":"IF(M893=\"\",\"\",IF(M893>Inputs!$D$9,0,1))","v":1},{"$f":"IF(N893=\"\",\"\",IF(N893>Inputs!$D$9,0,1))","v":1},{"$f":"IF(O893=\"\",\"\",IF(O893>Inputs!$D$9,0,1))","v":1},{"$f":"IF(COUNT(P893:U893)=0,\"\",INDEX(Inputs!$O$21:$P$26,MATCH(COUNT(P893:U893),Inputs!$O$21:$O$26,0),2))","v":20},1,null,null,{"$f":"IF(D893=\"\",\"\",IF(D893=\"-\",\"\",IF(D893>AVERAGE($D$2:$D$1000),1,0)))","v":1},1,1,1,1,1,1]
[{"$f":"'SIP Returns'!B895","v":0},null,{"$f":"'SIP Returns'!D895","v":0},{"$f":"'SIP Returns'!E895","v":0},{"$f":"'SIP Returns'!F895","v":0},{"$f":"'SIP Returns'!G895","v":0},{"$f":"'SIP Returns'!H895","v":0},{"$f":"'SIP Returns'!I895","v":0},{"$f":"'SIP Returns'!J895","v":0},1,10,8,4,1,1,{"$f":"IF(J894=\"\",\"\",IF(J894>Inputs!$D$9,0,1))","v":1},{"$f":"IF(K894=\"\",\"\",IF(K894>Inputs!$D$9,0,1))","v":1},{"$f":"IF(L894=\"\",\"\",IF(L894>Inputs!$D$9,0,1))","v":1},{"$f":"IF(M894=\"\",\"\",IF(M894>Inputs!$D$9,0,1))","v":1},{"$f":"IF(N894=\"\",\"\",IF(N894>Inputs!$D$9,0,1))","v":1},{"$f":"IF(O894=\"\",\"\",IF(O894>Inputs!$D$9,0,1))","v":1},{"$f":"IF(COUNT(P894:U894)=0,\"\",INDEX(Inputs!$O$21:$P$26,MATCH(COUNT(P894:U894),Inputs!$O$21:$O$26,0),2))","v":20},1,null,null,{"$f":"IF(D894=\"\",\"\",IF(D894=\"-\",\"\",IF(D894>AVERAGE($D$2:$D$1000),1,0)))","v":1},1,1,1,1,1,1]
[{"$f":"'SIP Returns'!B896","v":0},null,{"$f":"'SIP Returns'!D896","v":0},{"$f":"'SIP Returns'!E896","v":0},{"$f":"'SIP Returns'!F896","v":0},{"$f":"'SIP Returns'!G896","v":0},{"$f":"'SIP Returns'!H896","v":0},{"$f":"'SIP Returns'!I896","v":0},{"$f":"'SIP Returns'!J896","v":0},1,10,8,4,1,1,{"$f":"IF(J895=\"\",\"\",IF(J895>Inputs!$D$9,0,1))","v":1},{"$f":"IF(K895=\"\",\"\",IF(K895>Inputs!$D$9,0,1))","v":1},{"$f":"IF(L895=\"\",\"\",IF(L895>Inputs!$D$9,0,1))","v":1},{"$f":"IF(M895=\"\",\"\",IF(M895>Inputs!$D$9,0,1))","v":1},{"$f":"IF(N895=\"\",\"\",IF(N895>Inputs!$D$9,0,1))","v":1},{"$f":"IF(O895=\"\",\"\",IF(O895>Inputs!$D$9,0,1))","v":1},{"$f":"IF(COUNT(P895:U895)=0,\"\",INDEX(Inputs!$O$21:$P$26,MATCH(COUNT(P895:U895),Inputs!$O$21:$O$26,0),2))","v":20},1,null,null,{"$f":"IF(D895=\"\",\"\",IF(D895=\"-\",\"\",IF(D895>AVERAGE($D$2:$D$1000),1,0)))","v":1},1,1,1,1,1,1]
[{"$f":"'SIP Returns'!B897","v":0},null,{"$f":"'SIP Returns'!D897","v":0},{"$f":"'SIP Returns'!E897","v":0},{"$f":"'SIP Returns'!F897","v":0},{"$f":"'SIP Returns'!G897","v":0},{"$f":"'SIP Returns'!H897","v":0},{"$f":"'SIP Returns'!I897","v":0},{"$f":"'SIP Returns'!J897","v":0},1,10,8,4,1,1,{"$f":"IF(J896=\"\",\"\",IF(J896>Inputs!$D$9,0,1))","v":1},{"$f":"IF(K896=\"\",\"\",IF(K896>Inputs!$D$9,0,1))","v":1},{"$f":"IF(L896=\"\",\"\",IF(L896>Inputs!$D$9,0,1))","v":1},{"$f":"IF(M896=\"\",\"\",IF(M896>Inputs!$D$9,0,1))","v":1},{"$f":"IF(N896=\"\",\"\",IF(N896>Inputs!$D$9,0,1))","v":1},{"$f":"IF(O896=\"\",\"\",IF(O896>Inputs!$D$9,0,1))","v":1},{"$f":"IF(COUNT(P896:U896)=0,\"\",INDEX(Inputs!$O$21:$P$26,MATCH(COUNT(P896:U896),Inputs!$O$21:$O$26,0),2))","v":20},1,null,null,{"$f":"IF(D896=\"\",\"\",IF(D896=\"-\",\"\",IF(D896>AVERAGE($D$2:$D$1000),1,0)))","v":1},1,1,1,1,1,1]
[{"$f":"'SIP Returns'!B898","v":0},null,{"$f":"'SIP Returns'!D898","v":0},{"$f":"'SIP Returns'!E898","v":0},{"$f":"'SIP Returns'!F898","v":0},{"$f":"'SIP Returns'!G898","v":0},{"$f":"'SIP Returns'!H898","v":0},{"$f":"'SIP Returns'!I898","v":0},{"$f":"'SIP Returns'!J898","v":0},1,10,8,4,1,1,{"$f":"IF(J897=\"\",\"\",IF(J897>Inputs!$D$9,0,1))","v":1},{"$f":"IF(K897=\"\",\"\",IF(K897>Inputs!$D$9,0,1))","v":1},{"$f":"IF(L897=\"\",\"\",IF(L897>Inputs!$D$9,0,1))","v":1},{"$f":"IF(M897=\"\",\"\",IF(M897>Inputs!$D$9,0,1))","v":1},{"$f":"IF(N897=\"\",\"\",IF(N897>Inputs!$D$9,0,1))","v":1},{"$f":"IF(O897=\"\",\"\",IF(O897>Inputs!$D$9,0,1))","v":1},{"$f":"IF(COUNT(P897:U897)=0,\"\",INDEX(Inputs!$O$21:$P$26,MATCH(COUNT(P897:U897),Inputs!$O$21:$O$26,0),2))","v":20},1,null,null,{"$f":"IF(D897=\"\",\"\",IF(D897=\"-\",\"\",IF(D897>AVERAGE($D$2:$D$1000),1,0)))","v":1},1,1,1,1,1,1]
[{"$f":"'SIP Returns'!B899","v":0},null,{"$f":"'SIP Returns'!D899","v":0},{"$f":"'SIP Returns'!E899","v":0},{"$f":"'SIP Returns'!F899","v":0},{"$f":"'SIP Returns'!G899","v":0},{"$f":"'SIP Returns'!H899","v":0},{"$f":"'SIP Returns'!I899","v":0},{"$f":"'SIP Returns'!J899","v":0},{"$f":"IF($A898=\"\",\"\",IF(ISERROR(RANK(D898,$D$2:$D$1000,0)),\"\",RANK(D898,$D$2:$D$1000,0)))","v":1},{"$f":"IF($A898=\"\",\"\",IF(ISERROR(RANK(E898,$E$2:$E$1000,0)),\"\",RANK(E898,$E$2:$E$1000,0)))","v":10},{"$f":"IF($A898=\"\",\"\",IF(ISERROR(RANK(F898,$F$2:$F$1000,0)),\"\",RANK(F898,$F$2:$F$1000,0)))","v":8},{"$f":"IF($A898=\"\",\"\",IF(ISERROR(RANK(G898,$G$2:$G$1000,0)),\"\",RANK(G898,$G$2:$G$1000,0)))","v":4},{"$f":"IF($A898=\"\",\"\",IF(ISERROR(RANK(H898,$H$2:$H$1000,0)),\"\",RANK(H898,$H$2:$H$1000,0)))","v":1},{"$f":"IF($A898=\"\",\"\",IF(ISERROR(RANK(I898,$I$2:$I$1000,0)),\"\",RANK(I898,$I$2:$I$1000,0)))","v":1},{"$f":"IF(J898=\"\",\"\",IF(J898>Inputs!$D$9,0,1))","v":1},{"$f":"IF(K898=\"\",\"\",IF(K898>Inputs!$D$9,0,1))","v":1},{"$f":"IF(L898=\"\",\"\",IF(L898>Inputs!$D$9,0,1))","v":1},{"$f":"IF(M898=\"\",\"\",IF(M898>Inputs!$D$9,0,1))","v":1},{"$f":"IF(N898=\"\",\"\",IF(N898>Inputs!$D$9,0,1))","v":1},{"$f":"IF(O898=\"\",\"\",IF(O898>Inputs!$D$9,0,1))","v":1},{"$f":"IF(COUNT(P898:U898)=0,\"\",INDEX(Inputs!$O$21:$P$26,MATCH(COUNT(P898:U898),Inputs!$O$21:$O$26,0),2))","v":20},1,null,null,{"$f":"IF(D898=\"\",\"\",IF(D898=\"-\",\"\",IF(D898>AVERAGE($D$2:$D$1000),1,0)))","v":1},1,1,1,1,1,{"$f":"IF(COUNT(Z898:AE898)=0,\"\",SUM(Z898:AE898)/COUNT(Z898:AE898))","v":1}]
[{"$f":"'SIP Returns'!B900","v":0},null,{"$f":"'SIP Returns'!D900","v":0},{"$f":"'SIP Returns'!E900","v":0},{"$f":"'SIP Returns'!F900","v":0},{"$f":"'SIP Returns'!G900","v":0},{"$f":"'SIP Returns'!H900","v":0},{"$f":"'SIP Returns'!I900","v":0},{"$f":"'SIP Returns'!J900","v":0},1,10,8,4,1,1,{"$f":"IF(J899=\"\",\"\",IF(J899>Inputs!$D$9,0,1))","v":1},{"$f":"IF(K899=\"\",\"\",IF(K899>Inputs!$D$9,0,1))","v":1},{"$f":"IF(L899=\"\",\"\",IF(L899>Inputs!$D$9,0,1))","v":1},{"$f":"IF(M899=\"\",\"\",IF(M899>Inputs!$D$9,0,1))","v":1},{"$f":"IF(N899=\"\",\"\",IF(N899>Inputs!$D$9,0,1))","v":1},{"$f":"IF(O899=\"\",\"\",IF(O899>Inputs!$D$9,0,1))","v":1},{"$f":"IF(COUNT(P899:U899)=0,\"\",INDEX(Inputs!$O$21:$P$26,MATCH(COUNT(P899:U899),Inputs!$O$21:$O$26,0),2))","v":20},{"$f":"IF(COUNT(P899:U899)=0,\"\",SUM(P899:U899)/COUNT(P899:U899))","v":1},null,null,{"$f":"IF(D899=\"\",\"\",IF(D899=\"-\",\"\",IF(D899>AVERAGE($D$2:$D$1000),1,0)))","v":1},1,1,1,1,1,1]
[{"$f":"'SIP Returns'!B901","v":0},null,{"$f":"'SIP Returns'!D901","v":0},{"$f":"'SIP Returns'!E901","v":0},{"$f":"'SIP Returns'!F901","v":0},{"$f":"'SIP Returns'!G901","v":0},{"$f":"'SIP Returns'!H901","v":0},{"$f":"'SIP Returns'!I901","v":0},{"$f":"'SIP Returns'!J901","v":0},1,10,8,4,1,1,{"$f":"IF(J900=\"\",\"\",IF(J900>Inputs!$D$9,0,1))","v":1},{"$f":"IF(K900=\"\",\"\",IF(K900>Inputs!$D$9,0,1))","v":1},{"$f":"IF(L900=\"\",\"\",IF(L900>Inputs!$D$9,0,1))","v":1},{"$f":"IF(M900=\"\",\"\",IF(M900>Inputs!$D$9,0,1))","v":1},{"$f":"IF(N900=\"\",\"\",IF(N900>Inputs!$D$9,0,1))","v":1},{"$f":"IF(O900=\"\",\"\",IF(O900>Inputs!$D$9,0,1))","v":1},{"$f":"IF(COUNT(P900:U900)=0,\"\",INDEX(Inputs!$O$21:$P$26,MATCH(COUNT(P900:U900),Inputs!$O$21:$O$26,0),2))","v":20},1,null,null,{"$f":"IF(D900=\"\",\"\",IF(D900=\"-\",\"\",IF(D900>AVERAGE($D$2:$D$1000),1,0)))","v":1},1,1,1,1,1,1]
[{"$f":"'SIP Returns'!B902","v":0},null,{"$f":"'SIP Returns'!D902","v":0},{"$f":"'SIP Returns'!E902","v":0},{"$f":"'SIP Returns'!F902","v":0},{"$f":"'SIP Returns'!G902","v":0},{"$f":"'SIP Returns'!H902","v":0},{"$f":"'SIP Returns'!I902","v":0},{"$f":"'SIP Returns'!J902","v":0},1,10,8,4,1,1,{"$f":"IF(J901=\"\",\"\",IF(J901>Inputs!$D$9,0,1))","v":1},{"$f":"IF(K901=\"\",\"\",IF(K901>Inputs!$D$9,0,1))","v":1},{"$f":"IF(L901=\"\",\"\",IF(L901>Inputs!$D$9,0,1))","v":1},{"$f":"IF(M901=\"\",\"\",IF(M901>Inputs!$D$9,0,1))","v":1},{"$f":"IF(N901=\"\",\"\",IF(N901>Inputs!$D$9,0,1))","v":1},{"$f":"IF(O901=\"\",\"\",IF(O901>Inputs!$D$9,0,1))","v":1},{"$f":"IF(COUNT(P901:U901)=0,\"\",INDEX(Inputs!$O$21:$P$26,MATCH(COUNT(P901:U901),Inputs!$O$21:$O$26,0),2))","v":20},1,null,null,{"$f":"IF(D901=\"\",\"\",IF(D901=\"-\",\"\",IF(D901>AVERAGE($D$2:$D$1000),1,0)))","v":1},1,1,1,1,1,1]
[{"$f":"'SIP Returns'!B903","v":0},null,{"$f":"'SIP Returns'!D903","v":0},{"$f":"'SIP Returns'!E903","v":0},{"$f":"'SIP Returns'!F903","v":0},{"$f":"'SIP Returns'!G903","v":0},{"$f":"'SIP Returns'!H903","v":0},{"$f":"'SIP Returns'!I903","v":0},{"$f":"'SIP Returns'!J903","v":0},1,10,8,4,1,1,{"$f":"IF(J902=\"\",\"\",IF(J902>Inputs!$D$9,0,1))","v":1},{"$f":"IF(K902=\"\",\"\",IF(K902>Inputs!$D$9,0,1))","v":1},{"$f":"IF(L902=\"\",\"\",IF(L902>Inputs!$D$9,0,1))","v":1},{"$f":"IF(M902=\"\",\"\",IF(M902>Inputs!$D$9,0,1))","v":1},{"$f":"IF(N902=\"\",\"\",IF(N902>Inputs!$D$9,0,1))","v":1},{"$f":"IF(O902=\"\",\"\",IF(O902>Inputs!$D$9,0,1))","v":1},{"$f":"IF(COUNT(P902:U902)=0,\"\",INDEX(Inputs!$O$21:$P$26,MATCH(COUNT(P902:U902),Inputs!$O$21:$O$26,0),2))","v":20},1,null,null,{"$f":"IF(D902=\"\",\"\",IF(D902=\"-\",\"\",IF(D902>AVERAGE($D$2:$D$1000),1,0)))","v":1},1,1,1,1,1,1]
[{"$f":"'SIP Returns'!B904","v":0},null,{"$f":"'SIP Returns'!D904","v":0},{"$f":"'SIP Returns'!E904","v":0},{"$f":"'SIP Returns'!F904","v":0},{"$f":"'SIP Returns'!G904","v":0},{"$f":"'SIP Returns'!H904","v":0},{"$f":"'SIP Returns'!I904","v":0},{"$f":"'SIP Returns'!J904","v":0},1,10,8,4,1,1,{"$f":"IF(J903=\"\",\"\",IF(J903>Inputs!$D$9,0,1))","v":1},{"$f":"IF(K903=\"\",\"\",IF(K903>Inputs!$D$9,0,1))","v":1},{"$f":"IF(L903=\"\",\"\",IF(L903>Inputs!$D$9,0,1))","v":1},{"$f":"IF(M903=\"\",\"\",IF(M903>Inputs!$D$9,0,1))","v":1},{"$f":"IF(N903=\"\",\"\",IF(N903>Inputs!$D$9,0,1))","v":1},{"$f":"IF(O903=\"\",\"\",IF(O903>Inputs!$D$9,0,1))","v":1},{"$f":"IF(COUNT(P903:U903)=0,\"\",INDEX(Inputs!$O$21:$P$26,MATCH(COUNT(P903:U903),Inputs!$O$21:$O$26,0),2))","v":20},1,null,null,{"$f":"IF(D903=\"\",\"\",IF(D903=\"-\",\"\",IF(D903>AVERAGE($D$2:$D$1000),1,0)))","v":1},1,1,1,1,1,1]
[{"$f":"'SIP Returns'!B905","v":0},null,{"$f":"'SIP Returns'!D905","v":0},{"$f":"'SIP Returns'!E905","v":0},{"$f":"'SIP Returns'!F905","v":0},{"$f":"'SIP Returns'!G905","v":0},{"$f":"'SIP Returns'!H905","v":0},{"$f":"'SIP Returns'!I905","v":0},{"$f":"'SIP Returns'!J905","v":0},1,10,8,4,1,1,{"$f":"IF(J904=\"\",\"\",IF(J904>Inputs!$D$9,0,1))","v":1},{"$f":"IF(K904=\"\",\"\",IF(K904>Inputs!$D$9,0,1))","v":1},{"$f":"IF(L904=\"\",\"\",IF(L904>Inputs!$D$9,0,1))","v":1},{"$f":"IF(M904=\"\",\"\",IF(M904>Inputs!$D$9,0,1))","v":1},{"$f":"IF(N904=\"\",\"\",IF(N904>Inputs!$D$9,0,1))","v":1},{"$f":"IF(O904=\"\",\"\",IF(O904>Inputs!$D$9,0,1))","v":1},{"$f":"IF(COUNT(P904:U904)=0,\"\",INDEX(Inputs!$O$21:$P$26,MATCH(COUNT(P904:U904),Inputs!$O$21:$O$26,0),2))","v":20},1,null,null,{"$f":"IF(D904=\"\",\"\",IF(D904=\"-\",\"\",IF(D904>AVERAGE($D$2:$D$1000),1,0)))","v":1},1,1,1,1,1,1]
[{"$f":"'SIP Returns'!B906","v":0},null,{"$f":"'SIP Returns'!D906","v":0},{"$f":"'SIP Returns'!E906","v":0},{"$f":"'SIP Returns'!F906","v":0},{"$f":"'SIP Returns'!G906","v":0},{"$f":"'SIP Returns'!H906","v":0},{"$f":"'SIP Returns'!I906","v":0},{"$f":"'SIP Returns'!J906","v":0},1,10,8,4,1,1,{"$f":"IF(J905=\"\",\"\",IF(J905>Inputs!$D$9,0,1))","v":1},{"$f":"IF(K905=\"\",\"\",IF(K905>Inputs!$D$9,0,1))","v":1},{"$f":"IF(L905=\"\",\"\",IF(L905>Inputs!$D$9,0,1))","v":1},{"$f":"IF(M905=\"\",\"\",IF(M905>Inputs!$D$9,0,1))","v":1},{"$f":"IF(N905=\"\",\"\",IF(N905>Inputs!$D$9,0,1))","v":1},{"$f":"IF(O905=\"\",\"\",IF(O905>Inputs!$D$9,0,1))","v":1},{"$f":"IF(COUNT(P905:U905)=0,\"\",INDEX(Inputs!$O$21:$P$26,MATCH(COUNT(P905:U905),Inputs!$O$21:$O$26,0),2))","v":20},1,null,null,{"$f":"IF(D905=\"\",\"\",IF(D905=\"-\",\"\",IF(D905>AVERAGE($D$2:$D$1000),1,0)))","v":1},1,1,1,1,1,1]
[{"$f":"'SIP Returns'!B907","v":0},null,{"$f":"'SIP Returns'!D907","v":0},{"$f":"'SIP Returns'!E907","v":0},{"$f":"'SIP Returns'!F907","v":0},{"$f":"'SIP Returns'!G907","v":0},{"$f":"'SIP Returns'!H907","v":0},{"$f":"'SIP Returns'!I907","v":0},{"$f":"'SIP Returns'!J907","v":0},1,10,8,4,1,1,{"$f":"IF(J906=\"\",\"\",IF(J906>Inputs!$D$9,0,1))","v":1},{"$f":"IF(K906=\"\",\"\",IF(K906>Inputs!$D$9,0,1))","v":1},{"$f":"IF(L906=\"\",\"\",IF(L906>Inputs!$D$9,0,1))","v":1},{"$f":"IF(M906=\"\",\"\",IF(M906>Inputs!$D$9,0,1))","v":1},{"$f":"IF(N906=\"\",\"\",IF(N906>Inputs!$D$9,0,1))","v":1},{"$f":"IF(O906=\"\",\"\",IF(O906>Inputs!$D$9,0,1))","v":1},{"$f":"IF(COUNT(P906:U906)=0,\"\",INDEX(Inputs!$O$21:$P$26,MATCH(COUNT(P906:U906),Inputs!$O$21:$O$26,0),2))","v":20},1,null,null,{"$f":"IF(D906=\"\",\"\",IF(D906=\"-\",\"\",IF(D906>AVERAGE($D$2:$D$1000),1,0)))","v":1},1,1,1,1,1,1]
[{"$f":"'SIP Returns'!B908","v":0},null,{"$f":"'SIP Returns'!D908","v":0},{"$f":"'SIP Returns'!E908","v":0},{"$f":"'SIP Returns'!F908","v":0},{"$f":"'SIP Returns'!G908","v":0},{"$f":"'SIP Returns'!H908","v":0},{"$f":"'SIP Returns'!I908","v":0},{"$f":"'SIP Returns'!J908","v":0},1,10,8,4,1,1,{"$f":"IF(J907=\"\",\"\",IF(J907>Inputs!$D$9,0,1))","v":1},{"$f":"IF(K907=\"\",\"\",IF(K907>Inputs!$D$9,0,1))","v":1},{"$f":"IF(L907=\"\",\"\",IF(L907>Inputs!$D$9,0,1))","v":1},{"$f":"IF(M907=\"\",\"\",IF(M907>Inputs!$D$9,0,1))","v":1},{"$f":"IF(N907=\"\",\"\",IF(N907>Inputs!$D$9,0,1))","v":1},{"$f":"IF(O907=\"\",\"\",IF(O907>Inputs!$D$9,0,1))","v":1},{"$f":"IF(COUNT(P907:U907)=0,\"\",INDEX(Inputs!$O$21:$P$26,MATCH(COUNT(P907:U907),Inputs!$O$21:$O$26,0),2))","v":20},1,null,null,{"$f":"IF(D907=\"\",\"\",IF(D907=\"-\",\"\",IF(D907>AVERAGE($D$2:$D$1000),1,0)))","v":1},1,1,1,1,1,1]
[{"$f":"'SIP Returns'!B909","v":0},null,{"$f":"'SIP Returns'!D909","v":0},{"$f":"'SIP Returns'!E909","v":0},{"$f":"'SIP Returns'!F909","v":0},{"$f":"'SIP Returns'!G909","v":0},{"$f":"'SIP Returns'!H909","v":0},{"$f":"'SIP Returns'!I909","v":0},{"$f":"'SIP Returns'!J909","v":0},1,10,8,4,1,1,{"$f":"IF(J908=\"\",\"\",IF(J908>Inputs!$D$9,0,1))","v":1},{"$f":"IF(K908=\"\",\"\",IF(K908>Inputs!$D$9,0,1))","v":1},{"$f":"IF(L908=\"\",\"\",IF(L908>Inputs!$D$9,0,1))","v":1},{"$f":"IF(M908=\"\",\"\",IF(M908>Inputs!$D$9,0,1))","v":1},{"$f":"IF(N908=\"\",\"\",IF(N908>Inputs!$D$9,0,1))","v":1},{"$f":"IF(O908=\"\",\"\",IF(O908>Inputs!$D$9,0,1))","v":1},{"$f":"IF(COUNT(P908:U908)=0,\"\",INDEX(Inputs!$O$21:$P$26,MATCH(COUNT(P908:U908),Inputs!$O$21:$O$26,0),2))","v":20},1,null,null,{"$f":"IF(D908=\"\",\"\",IF(D908=\"-\",\"\",IF(D908>AVERAGE($D$2:$D$1000),1,0)))","v":1},1,1,1,1,1,1]
[{"$f":"'SIP Returns'!B910","v":0},null,{"$f":"'SIP Returns'!D910","v":0},{"$f":"'SIP Returns'!E910","v":0},{"$f":"'SIP Returns'!F910","v":0},{"$f":"'SIP Returns'!G910","v":0},{"$f":"'SIP Returns'!H910","v":0},{"$f":"'SIP Returns'!I910","v":0},{"$f":"'SIP Returns'!J910","v":0},1,10,8,4,1,1,{"$f":"IF(J909=\"\",\"\",IF(J909>Inputs!$D$9,0,1))","v":1},{"$f":"IF(K909=\"\",\"\",IF(K909>Inputs!$D$9,0,1))","v":1},{"$f":"IF(L909=\"\",\"\",IF(L909>Inputs!$D$9,0,1))","v":1},{"$f":"IF(M909=\"\",\"\",IF(M909>Inputs!$D$9,0,1))","v":1},{"$f":"IF(N909=\"\",\"\",IF(N909>Inputs!$D$9,0,1))","v":1},{"$f":"IF(O909=\"\",\"\",IF(O909>Inputs!$D$9,0,1))","v":1},{"$f":"IF(COUNT(P909:U909)=0,\"\",INDEX(Inputs!$O$21:$P$26,MATCH(COUNT(P909:U909),Inputs!$O$21:$O$26,0),2))","v":20},1,null,null,{"$f":"IF(D909=\"\",\"\",IF(D909=\"-\",\"\",IF(D909>AVERAGE($D$2:$D$1000),1,0)))","v":1},1,1,1,1,1,1]
[{"$f":"'SIP Returns'!B911","v":0},null,{"$f":"'SIP Returns'!D911","v":0},{"$f":"'SIP Returns'!E911","v":0},{"$f":"'SIP Returns'!F911","v":0},{"$f":"'SIP Returns'!G911","v":0},{"$f":"'SIP Returns'!H911","v":0},{"$f":"'SIP Returns'!I911","v":0},{"$f":"'SIP Returns'!J911","v":0},1,10,8,4,1,1,{"$f":"IF(J910=\"\",\"\",IF(J910>Inputs!$D$9,0,1))","v":1},{"$f":"IF(K910=\"\",\"\",IF(K910>Inputs!$D$9,0,1))","v":1},{"$f":"IF(L910=\"\",\"\",IF(L910>Inputs!$D$9,0,1))","v":1},{"$f":"IF(M910=\"\",\"\",IF(M910>Inputs!$D$9,0,1))","v":1},{"$f":"IF(N910=\"\",\"\",IF(N910>Inputs!$D$9,0,1))","v":1},{"$f":"IF(O910=\"\",\"\",IF(O910>Inputs!$D$9,0,1))","v":1},{"$f":"IF(COUNT(P910:U910)=0,\"\",INDEX(Inputs!$O$21:$P$26,MATCH(COUNT(P910:U910),Inputs!$O$21:$O$26,0),2))","v":20},1,null,null,{"$f":"IF(D910=\"\",\"\",IF(D910=\"-\",\"\",IF(D910>AVERAGE($D$2:$D$1000),1,0)))","v":1},1,1,1,1,1,1]
[{"$f":"'SIP Returns'!B912","v":0},null,{"$f":"'SIP Returns'!D912","v":0},{"$f":"'SIP Returns'!E912","v":0},{"$f":"'SIP Returns'!F912","v":0},{"$f":"'SIP Returns'!G912","v":0},{"$f":"'SIP Returns'!H912","v":0},{"$f":"'SIP Returns'!I912","v":0},{"$f":"'SIP Returns'!J912","v":0},1,10,8,4,1,1,{"$f":"IF(J911=\"\",\"\",IF(J911>Inputs!$D$9,0,1))","v":1},{"$f":"IF(K911=\"\",\"\",IF(K911>Inputs!$D$9,0,1))","v":1},{"$f":"IF(L911=\"\",\"\",IF(L911>Inputs!$D$9,0,1))","v":1},{"$f":"IF(M911=\"\",\"\",IF(M911>Inputs!$D$9,0,1))","v":1},{"$f":"IF(N911=\"\",\"\",IF(N911>Inputs!$D$9,0,1))","v":1},{"$f":"IF(O911=\"\",\"\",IF(O911>Inputs!$D$9,0,1))","v":1},{"$f":"IF(COUNT(P911:U911)=0,\"\",INDEX(Inputs!$O$21:$P$26,MATCH(COUNT(P911:U911),Inputs!$O$21:$O$26,0),2))","v":20},1,null,null,{"$f":"IF(D911=\"\",\"\",IF(D911=\"-\",\"\",IF(D911>AVERAGE($D$2:$D$1000),1,0)))","v":1},1,1,1,1,1,1]
[{"$f":"'SIP Returns'!B913","v":0},null,{"$f":"'SIP Returns'!D913","v":0},{"$f":"'SIP Returns'!E913","v":0},{"$f":"'SIP Returns'!F913","v":0},{"$f":"'SIP Returns'!G913","v":0},{"$f":"'SIP Returns'!H913","v":0},{"$f":"'SIP Returns'!I913","v":0},{"$f":"'SIP Returns'!J913","v":0},1,10,8,4,1,1,{"$f":"IF(J912=\"\",\"\",IF(J912>Inputs!$D$9,0,1))","v":1},{"$f":"IF(K912=\"\",\"\",IF(K912>Inputs!$D$9,0,1))","v":1},{"$f":"IF(L912=\"\",\"\",IF(L912>Inputs!$D$9,0,1))","v":1},{"$f":"IF(M912=\"\",\"\",IF(M912>Inputs!$D$9,0,1))","v":1},{"$f":"IF(N912=\"\",\"\",IF(N912>Inputs!$D$9,0,1))","v":1},{"$f":"IF(O912=\"\",\"\",IF(O912>Inputs!$D$9,0,1))","v":1},{"$f":"IF(COUNT(P912:U912)=0,\"\",INDEX(Inputs!$O$21:$P$26,MATCH(COUNT(P912:U912),Inputs!$O$21:$O$26,0),2))","v":20},1,null,null,{"$f":"IF(D912=\"\",\"\",IF(D912=\"-\",\"\",IF(D912>AVERAGE($D$2:$D$1000),1,0)))","v":1},1,1,1,1,1,1]
[{"$f":"'SIP Returns'!B914","v":0},null,{"$f":"'SIP Returns'!D914","v":0},{"$f":"'SIP Returns'!E914","v":0},{"$f":"'SIP Returns'!F914","v":0},{"$f":"'SIP Returns'!G914","v":0},{"$f":"'SIP Returns'!H914","v":0},{"$f":"'SIP Returns'!I914","v":0},{"$f":"'SIP Returns'!J914","v":0},1,10,8,4,1,1,{"$f":"IF(J913=\"\",\"\",IF(J913>Inputs!$D$9,0,1))","v":1},{"$f":"IF(K913=\"\",\"\",IF(K913>Inputs!$D$9,0,1))","v":1},{"$f":"IF(L913=\"\",\"\",IF(L913>Inputs!$D$9,0,1))","v":1},{"$f":"IF(M913=\"\",\"\",IF(M913>Inputs!$D$9,0,1))","v":1},{"$f":"IF(N913=\"\",\"\",IF(N913>Inputs!$D$9,0,1))","v":1},{"$f":"IF(O913=\"\",\"\",IF(O913>Inputs!$D$9,0,1))","v":1},{"$f":"IF(COUNT(P913:U913)=0,\"\",INDEX(Inputs!$O$21:$P$26,MATCH(COUNT(P913:U913),Inputs!$O$21:$O$26,0),2))","v":20},1,null,null,{"$f":"IF(D913=\"\",\"\",IF(D913=\"-\",\"\",IF(D913>AVERAGE($D$2:$D$1000),1,0)))","v":1},1,1,1,1,1,1]
[{"$f":"'SIP Returns'!B915","v":0},null,{"$f":"'SIP Returns'!D915","v":0},{"$f":"'SIP Returns'!E915","v":0},{"$f":"'SIP Returns'!F915","v":0},{"$f":"'SIP Returns'!G915","v":0},{"$f":"'SIP Returns'!H915","v":0},{"$f":"'SIP Returns'!I915","v":0},{"$f":"'SIP Returns'!J915","v":0},1,10,8,4,1,1,{"$f":"IF(J914=\"\",\"\",IF(J914>Inputs!$D$9,0,1))","v":1},{"$f":"IF(K914=\"\",\"\",IF(K914>Inputs!$D$9,0,1))","v":1},{"$f":"IF(L914=\"\",\"\",IF(L914>Inputs!$D$9,0,1))","v":1},{"$f":"IF(M914=\"\",\"\",IF(M914>Inputs!$D$9,0,1))","v":1},{"$f":"IF(N914=\"\",\"\",IF(N914>Inputs!$D$9,0,1))","v":1},{"$f":"IF(O914=\"\",\"\",IF(O914>Inputs!$D$9,0,1))","v":1},{"$f":"IF(COUNT(P914:U914)=0,\"\",INDEX(Inputs!$O$21:$P$26,MATCH(COUNT(P914:U914),Inputs!$O$21:$O$26,0),2))","v":20},1,null,null,{"$f":"IF(D914=\"\",\"\",IF(D914=\"-\",\"\",IF(D914>AVERAGE($D$2:$D$1000),1,0)))","v":1},1,1,1,1,1,1]
[{"$f":"'SIP Returns'!B916","v":0},null,{"$f":"'SIP Returns'!D916","v":0},{"$f":"'SIP Returns'!E916","v":0},{"$f":"'SIP Returns'!F916","v":0},{"$f":"'SIP Returns'!G916","v":0},{"$f":"'SIP Returns'!H916","v":0},{"$f":"'SIP Returns'!I916","v":0},{"$f":"'SIP Returns'!J916","v":0},1,10,8,4,1,1,{"$f":"IF(J915=\"\",\"\",IF(J915>Inputs!$D$9,0,1))","v":1},{"$f":"IF(K915=\"\",\"\",IF(K915>Inputs!$D$9,0,1))","v":1},{"$f":"IF(L915=\"\",\"\",IF(L915>Inputs!$D$9,0,1))","v":1},{"$f":"IF(M915=\"\",\"\",IF(M915>Inputs!$D$9,0,1))","v":1},{"$f":"IF(N915=\"\",\"\",IF(N915>Inputs!$D$9,0,1))","v":1},{"$f":"IF(O915=\"\",\"\",IF(O915>Inputs!$D$9,0,1))","v":1},{"$f":"IF(COUNT(P915:U915)=0,\"\",INDEX(Inputs!$O$21:$P$26,MATCH(COUNT(P915:U915),Inputs!$O$21:$O$26,0),2))","v":20},1,null,null,{"$f":"IF(D915=\"\",\"\",IF(D915=\"-\",\"\",IF(D915>AVERAGE($D$2:$D$1000),1,0)))","v":1},1,1,1,1,1,1]
[{"$f":"'SIP Returns'!B917","v":0},null,{"$f":"'SIP Returns'!D917","v":0},{"$f":"'SIP Returns'!E917","v":0},{"$f":"'SIP Returns'!F917","v":0},{"$f":"'SIP Returns'!G917","v":0},{"$f":"'SIP Returns'!H917","v":0},{"$f":"'SIP Returns'!I917","v":0},{"$f":"'SIP Returns'!J917","v":0},1,10,8,4,1,1,{"$f":"IF(J916=\"\",\"\",IF(J916>Inputs!$D$9,0,1))","v":1},{"$f":"IF(K916=\"\",\"\",IF(K916>Inputs!$D$9,0,1))","v":1},{"$f":"IF(L916=\"\",\"\",IF(L916>Inputs!$D$9,0,1))","v":1},{"$f":"IF(M916=\"\",\"\",IF(M916>Inputs!$D$9,0,1))","v":1},{"$f":"IF(N916=\"\",\"\",IF(N916>Inputs!$D$9,0,1))","v":1},{"$f":"IF(O916=\"\",\"\",IF(O916>Inputs!$D$9,0,1))","v":1},{"$f":"IF(COUNT(P916:U916)=0,\"\",INDEX(Inputs!$O$21:$P$26,MATCH(COUNT(P916:U916),Inputs!$O$21:$O$26,0),2))","v":20},1,null,null,{"$f":"IF(D916=\"\",\"\",IF(D916=\"-\",\"\",IF(D916>AVERAGE($D$2:$D$1000),1,0)))","v":1},1,1,1,1,1,1]
[{"$f":"'SIP Returns'!B918","v":0},null,{"$f":"'SIP Returns'!D918","v":0},{"$f":"'SIP Returns'!E918","v":0},{"$f":"'SIP Returns'!F918","v":0},{"$f":"'SIP Returns'!G918","v":0},{"$f":"'SIP Returns'!H918","v":0},{"$f":"'SIP Returns'!I918","v":0},{"$f":"'SIP Returns'!J918","v":0},1,10,8,4,1,1,{"$f":"IF(J917=\"\",\"\",IF(J917>Inputs!$D$9,0,1))","v":1},{"$f":"IF(K917=\"\",\"\",IF(K917>Inputs!$D$9,0,1))","v":1},{"$f":"IF(L917=\"\",\"\",IF(L917>Inputs!$D$9,0,1))","v":1},{"$f":"IF(M917=\"\",\"\",IF(M917>Inputs!$D$9,0,1))","v":1},{"$f":"IF(N917=\"\",\"\",IF(N917>Inputs!$D$9,0,1))","v":1},{"$f":"IF(O917=\"\",\"\",IF(O917>Inputs!$D$9,0,1))","v":1},{"$f":"IF(COUNT(P917:U917)=0,\"\",INDEX(Inputs!$O$21:$P$26,MATCH(COUNT(P917:U917),Inputs!$O$21:$O$26,0),2))","v":20},1,null,null,{"$f":"IF(D917=\"\",\"\",IF(D917=\"-\",\"\",IF(D917>AVERAGE($D$2:$D$1000),1,0)))","v":1},1,1,1,1,1,1]
[{"$f":"'SIP Returns'!B919","v":0},null,{"$f":"'SIP Returns'!D919","v":0},{"$f":"'SIP Returns'!E919","v":0},{"$f":"'SIP Returns'!F919","v":0},{"$f":"'SIP Returns'!G919","v":0},{"$f":"'SIP Returns'!H919","v":0},{"$f":"'SIP Returns'!I919","v":0},{"$f":"'SIP Returns'!J919","v":0},1,10,8,4,1,1,{"$f":"IF(J918=\"\",\"\",IF(J918>Inputs!$D$9,0,1))","v":1},{"$f":"IF(K918=\"\",\"\",IF(K918>Inputs!$D$9,0,1))","v":1},{"$f":"IF(L918=\"\",\"\",IF(L918>Inputs!$D$9,0,1))","v":1},{"$f":"IF(M918=\"\",\"\",IF(M918>Inputs!$D$9,0,1))","v":1},{"$f":"IF(N918=\"\",\"\",IF(N918>Inputs!$D$9,0,1))","v":1},{"$f":"IF(O918=\"\",\"\",IF(O918>Inputs!$D$9,0,1))","v":1},{"$f":"IF(COUNT(P918:U918)=0,\"\",INDEX(Inputs!$O$21:$P$26,MATCH(COUNT(P918:U918),Inputs!$O$21:$O$26,0),2))","v":20},1,null,null,{"$f":"IF(D918=\"\",\"\",IF(D918=\"-\",\"\",IF(D918>AVERAGE($D$2:$D$1000),1,0)))","v":1},1,1,1,1,1,1]
[{"$f":"'SIP Returns'!B920","v":0},null,{"$f":"'SIP Returns'!D920","v":0},{"$f":"'SIP Returns'!E920","v":0},{"$f":"'SIP Returns'!F920","v":0},{"$f":"'SIP Returns'!G920","v":0},{"$f":"'SIP Returns'!H920","v":0},{"$f":"'SIP Returns'!I920","v":0},{"$f":"'SIP Returns'!J920","v":0},1,10,8,4,1,1,{"$f":"IF(J919=\"\",\"\",IF(J919>Inputs!$D$9,0,1))","v":1},{"$f":"IF(K919=\"\",\"\",IF(K919>Inputs!$D$9,0,1))","v":1},{"$f":"IF(L919=\"\",\"\",IF(L919>Inputs!$D$9,0,1))","v":1},{"$f":"IF(M919=\"\",\"\",IF(M919>Inputs!$D$9,0,1))","v":1},{"$f":"IF(N919=\"\",\"\",IF(N919>Inputs!$D$9,0,1))","v":1},{"$f":"IF(O919=\"\",\"\",IF(O919>Inputs!$D$9,0,1))","v":1},{"$f":"IF(COUNT(P919:U919)=0,\"\",INDEX(Inputs!$O$21:$P$26,MATCH(COUNT(P919:U919),Inputs!$O$21:$O$26,0),2))","v":20},1,null,null,{"$f":"IF(D919=\"\",\"\",IF(D919=\"-\",\"\",IF(D919>AVERAGE($D$2:$D$1000),1,0)))","v":1},1,1,1,1,1,1]
[{"$f":"'SIP Returns'!B921","v":0},null,{"$f":"'SIP Returns'!D921","v":0},{"$f":"'SIP Returns'!E921","v":0},{"$f":"'SIP Returns'!F921","v":0},{"$f":"'SIP Returns'!G921","v":0},{"$f":"'SIP Returns'!H921","v":0},{"$f":"'SIP Returns'!I921","v":0},{"$f":"'SIP Returns'!J921","v":0},1,10,8,4,1,1,{"$f":"IF(J920=\"\",\"\",IF(J920>Inputs!$D$9,0,1))","v":1},{"$f":"IF(K920=\"\",\"\",IF(K920>Inputs!$D$9,0,1))","v":1},{"$f":"IF(L920=\"\",\"\",IF(L920>Inputs!$D$9,0,1))","v":1},{"$f":"IF(M920=\"\",\"\",IF(M920>Inputs!$D$9,0,1))","v":1},{"$f":"IF(N920=\"\",\"\",IF(N920>Inputs!$D$9,0,1))","v":1},{"$f":"IF(O920=\"\",\"\",IF(O920>Inputs!$D$9,0,1))","v":1},{"$f":"IF(COUNT(P920:U920)=0,\"\",INDEX(Inputs!$O$21:$P$26,MATCH(COUNT(P920:U920),Inputs!$O$21:$O$26,0),2))","v":20},1,null,null,{"$f":"IF(D920=\"\",\"\",IF(D920=\"-\",\"\",IF(D920>AVERAGE($D$2:$D$1000),1,0)))","v":1},1,1,1,1,1,1]
[{"$f":"'SIP Returns'!B922","v":0},null,{"$f":"'SIP Returns'!D922","v":0},{"$f":"'SIP Returns'!E922","v":0},{"$f":"'SIP Returns'!F922","v":0},{"$f":"'SIP Returns'!G922","v":0},{"$f":"'SIP Returns'!H922","v":0},{"$f":"'SIP Returns'!I922","v":0},{"$f":"'SIP Returns'!J922","v":0},1,10,8,4,1,1,{"$f":"IF(J921=\"\",\"\",IF(J921>Inputs!$D$9,0,1))","v":1},{"$f":"IF(K921=\"\",\"\",IF(K921>Inputs!$D$9,0,1))","v":1},{"$f":"IF(L921=\"\",\"\",IF(L921>Inputs!$D$9,0,1))","v":1},{"$f":"IF(M921=\"\",\"\",IF(M921>Inputs!$D$9,0,1))","v":1},{"$f":"IF(N921=\"\",\"\",IF(N921>Inputs!$D$9,0,1))","v":1},{"$f":"IF(O921=\"\",\"\",IF(O921>Inputs!$D$9,0,1))","v":1},{"$f":"IF(COUNT(P921:U921)=0,\"\",INDEX(Inputs!$O$21:$P$26,MATCH(COUNT(P921:U921),Inputs!$O$21:$O$26,0),2))","v":20},1,null,null,{"$f":"IF(D921=\"\",\"\",IF(D921=\"-\",\"\",IF(D921>AVERAGE($D$2:$D$1000),1,0)))","v":1},1,1,1,1,1,1]
[{"$f":"'SIP Returns'!B923","v":0},null,{"$f":"'SIP Returns'!D923","v":0},{"$f":"'SIP Returns'!E923","v":0},{"$f":"'SIP Returns'!F923","v":0},{"$f":"'SIP Returns'!G923","v":0},{"$f":"'SIP Returns'!H923","v":0},{"$f":"'SIP Returns'!I923","v":0},{"$f":"'SIP Returns'!J923","v":0},1,10,8,4,1,1,{"$f":"IF(J922=\"\",\"\",IF(J922>Inputs!$D$9,0,1))","v":1},{"$f":"IF(K922=\"\",\"\",IF(K922>Inputs!$D$9,0,1))","v":1},{"$f":"IF(L922=\"\",\"\",IF(L922>Inputs!$D$9,0,1))","v":1},{"$f":"IF(M922=\"\",\"\",IF(M922>Inputs!$D$9,0,1))","v":1},{"$f":"IF(N922=\"\",\"\",IF(N922>Inputs!$D$9,0,1))","v":1},{"$f":"IF(O922=\"\",\"\",IF(O922>Inputs!$D$9,0,1))","v":1},{"$f":"IF(COUNT(P922:U922)=0,\"\",INDEX(Inputs!$O$21:$P$26,MATCH(COUNT(P922:U922),Inputs!$O$21:$O$26,0),2))","v":20},1,null,null,{"$f":"IF(D922=\"\",\"\",IF(D922=\"-\",\"\",IF(D922>AVERAGE($D$2:$D$1000),1,0)))","v":1},1,1,1,1,1,1]
[{"$f":"'SIP Returns'!B924","v":0},null,{"$f":"'SIP Returns'!D924","v":0},{"$f":"'SIP Returns'!E924","v":0},{"$f":"'SIP Returns'!F924","v":0},{"$f":"'SIP Returns'!G924","v":0},{"$f":"'SIP Returns'!H924","v":0},{"$f":"'SIP Returns'!I924","v":0},{"$f":"'SIP Returns'!J924","v":0},1,10,8,4,1,1,{"$f":"IF(J923=\"\",\"\",IF(J923>Inputs!$D$9,0,1))","v":1},{"$f":"IF(K923=\"\",\"\",IF(K923>Inputs!$D$9,0,1))","v":1},{"$f":"IF(L923=\"\",\"\",IF(L923>Inputs!$D$9,0,1))","v":1},{"$f":"IF(M923=\"\",\"\",IF(M923>Inputs!$D$9,0,1))","v":1},{"$f":"IF(N923=\"\",\"\",IF(N923>Inputs!$D$9,0,1))","v":1},{"$f":"IF(O923=\"\",\"\",IF(O923>Inputs!$D$9,0,1))","v":1},{"$f":"IF(COUNT(P923:U923)=0,\"\",INDEX(Inputs!$O$21:$P$26,MATCH(COUNT(P923:U923),Inputs!$O$21:$O$26,0),2))","v":20},1,null,null,{"$f":"IF(D923=\"\",\"\",IF(D923=\"-\",\"\",IF(D923>AVERAGE($D$2:$D$1000),1,0)))","v":1},1,1,1,1,1,1]
[{"$f":"'SIP Returns'!B925","v":0},null,{"$f":"'SIP Returns'!D925","v":0},{"$f":"'SIP Returns'!E925","v":0},{"$f":"'SIP Returns'!F925","v":0},{"$f":"'SIP Returns'!G925","v":0},{"$f":"'SIP Returns'!H925","v":0},{"$f":"'SIP Returns'!I925","v":0},{"$f":"'SIP Returns'!J925","v":0},1,10,8,4,1,1,{"$f":"IF(J924=\"\",\"\",IF(J924>Inputs!$D$9,0,1))","v":1},{"$f":"IF(K924=\"\",\"\",IF(K924>Inputs!$D$9,0,1))","v":1},{"$f":"IF(L924=\"\",\"\",IF(L924>Inputs!$D$9,0,1))","v":1},{"$f":"IF(M924=\"\",\"\",IF(M924>Inputs!$D$9,0,1))","v":1},{"$f":"IF(N924=\"\",\"\",IF(N924>Inputs!$D$9,0,1))","v":1},{"$f":"IF(O924=\"\",\"\",IF(O924>Inputs!$D$9,0,1))","v":1},{"$f":"IF(COUNT(P924:U924)=0,\"\",INDEX(Inputs!$O$21:$P$26,MATCH(COUNT(P924:U924),Inputs!$O$21:$O$26,0),2))","v":20},1,null,null,{"$f":"IF(D924=\"\",\"\",IF(D924=\"-\",\"\",IF(D924>AVERAGE($D$2:$D$1000),1,0)))","v":1},1,1,1,1,1,1]
[{"$f":"'SIP Returns'!B926","v":0},null,{"$f":"'SIP Returns'!D926","v":0},{"$f":"'SIP Returns'!E926","v":0},{"$f":"'SIP Returns'!F926","v":0},{"$f":"'SIP Returns'!G926","v":0},{"$f":"'SIP Returns'!H926","v":0},{"$f":"'SIP Returns'!I926","v":0},{"$f":"'SIP Returns'!J926","v":0},1,10,8,4,1,1,{"$f":"IF(J925=\"\",\"\",IF(J925>Inputs!$D$9,0,1))","v":1},{"$f":"IF(K925=\"\",\"\",IF(K925>Inputs!$D$9,0,1))","v":1},{"$f":"IF(L925=\"\",\"\",IF(L925>Inputs!$D$9,0,1))","v":1},{"$f":"IF(M925=\"\",\"\",IF(M925>Inputs!$D$9,0,1))","v":1},{"$f":"IF(N925=\"\",\"\",IF(N925>Inputs!$D$9,0,1))","v":1},{"$f":"IF(O925=\"\",\"\",IF(O925>Inputs!$D$9,0,1))","v":1},{"$f":"IF(COUNT(P925:U925)=0,\"\",INDEX(Inputs!$O$21:$P$26,MATCH(COUNT(P925:U925),Inputs!$O$21:$O$26,0),2))","v":20},1,null,null,{"$f":"IF(D925=\"\",\"\",IF(D925=\"-\",\"\",IF(D925>AVERAGE($D$2:$D$1000),1,0)))","v":1},1,1,1,1,1,1]
[{"$f":"'SIP Returns'!B927","v":0},null,{"$f":"'SIP Returns'!D927","v":0},{"$f":"'SIP Returns'!E927","v":0},{"$f":"'SIP Returns'!F927","v":0},{"$f":"'SIP Returns'!G927","v":0},{"$f":"'SIP Returns'!H927","v":0},{"$f":"'SIP Returns'!I927","v":0},{"$f":"'SIP Returns'!J927","v":0},1,10,8,4,1,1,{"$f":"IF(J926=\"\",\"\",IF(J926>Inputs!$D$9,0,1))","v":1},{"$f":"IF(K926=\"\",\"\",IF(K926>Inputs!$D$9,0,1))","v":1},{"$f":"IF(L926=\"\",\"\",IF(L926>Inputs!$D$9,0,1))","v":1},{"$f":"IF(M926=\"\",\"\",IF(M926>Inputs!$D$9,0,1))","v":1},{"$f":"IF(N926=\"\",\"\",IF(N926>Inputs!$D$9,0,1))","v":1},{"$f":"IF(O926=\"\",\"\",IF(O926>Inputs!$D$9,0,1))","v":1},{"$f":"IF(COUNT(P926:U926)=0,\"\",INDEX(Inputs!$O$21:$P$26,MATCH(COUNT(P926:U926),Inputs!$O$21:$O$26,0),2))","v":20},1,null,null,{"$f":"IF(D926=\"\",\"\",IF(D926=\"-\",\"\",IF(D926>AVERAGE($D$2:$D$1000),1,0)))","v":1},1,1,1,1,1,1]
[{"$f":"'SIP Returns'!B928","v":0},null,{"$f":"'SIP Returns'!D928","v":0},{"$f":"'SIP Returns'!E928","v":0},{"$f":"'SIP Returns'!F928","v":0},{"$f":"'SIP Returns'!G928","v":0},{"$f":"'SIP Returns'!H928","v":0},{"$f":"'SIP Returns'!I928","v":0},{"$f":"'SIP Returns'!J928","v":0},1,10,8,4,1,1,{"$f":"IF(J927=\"\",\"\",IF(J927>Inputs!$D$9,0,1))","v":1},{"$f":"IF(K927=\"\",\"\",IF(K927>Inputs!$D$9,0,1))","v":1},{"$f":"IF(L927=\"\",\"\",IF(L927>Inputs!$D$9,0,1))","v":1},{"$f":"IF(M927=\"\",\"\",IF(M927>Inputs!$D$9,0,1))","v":1},{"$f":"IF(N927=\"\",\"\",IF(N927>Inputs!$D$9,0,1))","v":1},{"$f":"IF(O927=\"\",\"\",IF(O927>Inputs!$D$9,0,1))","v":1},{"$f":"IF(COUNT(P927:U927)=0,\"\",INDEX(Inputs!$O$21:$P$26,MATCH(COUNT(P927:U927),Inputs!$O$21:$O$26,0),2))","v":20},1,null,null,{"$f":"IF(D927=\"\",\"\",IF(D927=\"-\",\"\",IF(D927>AVERAGE($D$2:$D$1000),1,0)))","v":1},1,1,1,1,1,1]
[{"$f":"'SIP Returns'!B929","v":0},null,{"$f":"'SIP Returns'!D929","v":0},{"$f":"'SIP Returns'!E929","v":0},{"$f":"'SIP Returns'!F929","v":0},{"$f":"'SIP Returns'!G929","v":0},{"$f":"'SIP Returns'!H929","v":0},{"$f":"'SIP Returns'!I929","v":0},{"$f":"'SIP Returns'!J929","v":0},1,10,8,4,1,1,{"$f":"IF(J928=\"\",\"\",IF(J928>Inputs!$D$9,0,1))","v":1},{"$f":"IF(K928=\"\",\"\",IF(K928>Inputs!$D$9,0,1))","v":1},{"$f":"IF(L928=\"\",\"\",IF(L928>Inputs!$D$9,0,1))","v":1},{"$f":"IF(M928=\"\",\"\",IF(M928>Inputs!$D$9,0,1))","v":1},{"$f":"IF(N928=\"\",\"\",IF(N928>Inputs!$D$9,0,1))","v":1},{"$f":"IF(O928=\"\",\"\",IF(O928>Inputs!$D$9,0,1))","v":1},{"$f":"IF(COUNT(P928:U928)=0,\"\",INDEX(Inputs!$O$21:$P$26,MATCH(COUNT(P928:U928),Inputs!$O$21:$O$26,0),2))","v":20},1,null,null,{"$f":"IF(D928=\"\",\"\",IF(D928=\"-\",\"\",IF(D928>AVERAGE($D$2:$D$1000),1,0)))","v":1},1,1,1,1,1,1]
[{"$f":"'SIP Returns'!B930","v":0},null,{"$f":"'SIP Returns'!D930","v":0},{"$f":"'SIP Returns'!E930","v":0},{"$f":"'SIP Returns'!F930","v":0},{"$f":"'SIP Returns'!G930","v":0},{"$f":"'SIP Returns'!H930","v":0},{"$f":"'SIP Returns'!I930","v":0},{"$f":"'SIP Returns'!J930","v":0},1,10,8,4,1,1,{"$f":"IF(J929=\"\",\"\",IF(J929>Inputs!$D$9,0,1))","v":1},{"$f":"IF(K929=\"\",\"\",IF(K929>Inputs!$D$9,0,1))","v":1},{"$f":"IF(L929=\"\",\"\",IF(L929>Inputs!$D$9,0,1))","v":1},{"$f":"IF(M929=\"\",\"\",IF(M929>Inputs!$D$9,0,1))","v":1},{"$f":"IF(N929=\"\",\"\",IF(N929>Inputs!$D$9,0,1))","v":1},{"$f":"IF(O929=\"\",\"\",IF(O929>Inputs!$D$9,0,1))","v":1},{"$f":"IF(COUNT(P929:U929)=0,\"\",INDEX(Inputs!$O$21:$P$26,MATCH(COUNT(P929:U929),Inputs!$O$21:$O$26,0),2))","v":20},1,null,null,{"$f":"IF(D929=\"\",\"\",IF(D929=\"-\",\"\",IF(D929>AVERAGE($D$2:$D$1000),1,0)))","v":1},1,1,1,1,1,1]
[{"$f":"'SIP Returns'!B931","v":0},null,{"$f":"'SIP Returns'!D931","v":0},{"$f":"'SIP Returns'!E931","v":0},{"$f":"'SIP Returns'!F931","v":0},{"$f":"'SIP Returns'!G931","v":0},{"$f":"'SIP Returns'!H931","v":0},{"$f":"'SIP Returns'!I931","v":0},{"$f":"'SIP Returns'!J931","v":0},1,10,8,4,1,1,{"$f":"IF(J930=\"\",\"\",IF(J930>Inputs!$D$9,0,1))","v":1},{"$f":"IF(K930=\"\",\"\",IF(K930>Inputs!$D$9,0,1))","v":1},{"$f":"IF(L930=\"\",\"\",IF(L930>Inputs!$D$9,0,1))","v":1},{"$f":"IF(M930=\"\",\"\",IF(M930>Inputs!$D$9,0,1))","v":1},{"$f":"IF(N930=\"\",\"\",IF(N930>Inputs!$D$9,0,1))","v":1},{"$f":"IF(O930=\"\",\"\",IF(O930>Inputs!$D$9,0,1))","v":1},{"$f":"IF(COUNT(P930:U930)=0,\"\",INDEX(Inputs!$O$21:$P$26,MATCH(COUNT(P930:U930),Inputs!$O$21:$O$26,0),2))","v":20},1,null,null,{"$f":"IF(D930=\"\",\"\",IF(D930=\"-\",\"\",IF(D930>AVERAGE($D$2:$D$1000),1,0)))","v":1},1,1,1,1,1,1]
[{"$f":"'SIP Returns'!B932","v":0},null,{"$f":"'SIP Returns'!D932","v":0},{"$f":"'SIP Returns'!E932","v":0},{"$f":"'SIP Returns'!F932","v":0},{"$f":"'SIP Returns'!G932","v":0},{"$f":"'SIP Returns'!H932","v":0},{"$f":"'SIP Returns'!I932","v":0},{"$f":"'SIP Returns'!J932","v":0},1,10,8,4,1,1,{"$f":"IF(J931=\"\",\"\",IF(J931>Inputs!$D$9,0,1))","v":1},{"$f":"IF(K931=\"\",\"\",IF(K931>Inputs!$D$9,0,1))","v":1},{"$f":"IF(L931=\"\",\"\",IF(L931>Inputs!$D$9,0,1))","v":1},{"$f":"IF(M931=\"\",\"\",IF(M931>Inputs!$D$9,0,1))","v":1},{"$f":"IF(N931=\"\",\"\",IF(N931>Inputs!$D$9,0,1))","v":1},{"$f":"IF(O931=\"\",\"\",IF(O931>Inputs!$D$9,0,1))","v":1},{"$f":"IF(COUNT(P931:U931)=0,\"\",INDEX(Inputs!$O$21:$P$26,MATCH(COUNT(P931:U931),Inputs!$O$21:$O$26,0),2))","v":20},1,null,null,{"$f":"IF(D931=\"\",\"\",IF(D931=\"-\",\"\",IF(D931>AVERAGE($D$2:$D$1000),1,0)))","v":1},1,1,1,1,1,1]
[{"$f":"'SIP Returns'!B933","v":0},null,{"$f":"'SIP Returns'!D933","v":0},{"$f":"'SIP Returns'!E933","v":0},{"$f":"'SIP Returns'!F933","v":0},{"$f":"'SIP Returns'!G933","v":0},{"$f":"'SIP Returns'!H933","v":0},{"$f":"'SIP Returns'!I933","v":0},{"$f":"'SIP Returns'!J933","v":0},1,10,8,4,1,1,{"$f":"IF(J932=\"\",\"\",IF(J932>Inputs!$D$9,0,1))","v":1},{"$f":"IF(K932=\"\",\"\",IF(K932>Inputs!$D$9,0,1))","v":1},{"$f":"IF(L932=\"\",\"\",IF(L932>Inputs!$D$9,0,1))","v":1},{"$f":"IF(M932=\"\",\"\",IF(M932>Inputs!$D$9,0,1))","v":1},{"$f":"IF(N932=\"\",\"\",IF(N932>Inputs!$D$9,0,1))","v":1},{"$f":"IF(O932=\"\",\"\",IF(O932>Inputs!$D$9,0,1))","v":1},{"$f":"IF(COUNT(P932:U932)=0,\"\",INDEX(Inputs!$O$21:$P$26,MATCH(COUNT(P932:U932),Inputs!$O$21:$O$26,0),2))","v":20},1,null,null,{"$f":"IF(D932=\"\",\"\",IF(D932=\"-\",\"\",IF(D932>AVERAGE($D$2:$D$1000),1,0)))","v":1},1,1,1,1,1,1]
[{"$f":"'SIP Returns'!B934","v":0},null,{"$f":"'SIP Returns'!D934","v":0},{"$f":"'SIP Returns'!E934","v":0},{"$f":"'SIP Returns'!F934","v":0},{"$f":"'SIP Returns'!G934","v":0},{"$f":"'SIP Returns'!H934","v":0},{"$f":"'SIP Returns'!I934","v":0},{"$f":"'SIP Returns'!J934","v":0},1,10,8,4,1,1,{"$f":"IF(J933=\"\",\"\",IF(J933>Inputs!$D$9,0,1))","v":1},{"$f":"IF(K933=\"\",\"\",IF(K933>Inputs!$D$9,0,1))","v":1},{"$f":"IF(L933=\"\",\"\",IF(L933>Inputs!$D$9,0,1))","v":1},{"$f":"IF(M933=\"\",\"\",IF(M933>Inputs!$D$9,0,1))","v":1},{"$f":"IF(N933=\"\",\"\",IF(N933>Inputs!$D$9,0,1))","v":1},{"$f":"IF(O933=\"\",\"\",IF(O933>Inputs!$D$9,0,1))","v":1},{"$f":"IF(COUNT(P933:U933)=0,\"\",INDEX(Inputs!$O$21:$P$26,MATCH(COUNT(P933:U933),Inputs!$O$21:$O$26,0),2))","v":20},1,null,null,{"$f":"IF(D933=\"\",\"\",IF(D933=\"-\",\"\",IF(D933>AVERAGE($D$2:$D$1000),1,0)))","v":1},1,1,1,1,1,1]
[{"$f":"'SIP Returns'!B935","v":0},null,{"$f":"'SIP Returns'!D935","v":0},{"$f":"'SIP Returns'!E935","v":0},{"$f":"'SIP Returns'!F935","v":0},{"$f":"'SIP Returns'!G935","v":0},{"$f":"'SIP Returns'!H935","v":0},{"$f":"'SIP Returns'!I935","v":0},{"$f":"'SIP Returns'!J935","v":0},1,10,8,4,1,1,{"$f":"IF(J934=\"\",\"\",IF(J934>Inputs!$D$9,0,1))","v":1},{"$f":"IF(K934=\"\",\"\",IF(K934>Inputs!$D$9,0,1))","v":1},{"$f":"IF(L934=\"\",\"\",IF(L934>Inputs!$D$9,0,1))","v":1},{"$f":"IF(M934=\"\",\"\",IF(M934>Inputs!$D$9,0,1))","v":1},{"$f":"IF(N934=\"\",\"\",IF(N934>Inputs!$D$9,0,1))","v":1},{"$f":"IF(O934=\"\",\"\",IF(O934>Inputs!$D$9,0,1))","v":1},{"$f":"IF(COUNT(P934:U934)=0,\"\",INDEX(Inputs!$O$21:$P$26,MATCH(COUNT(P934:U934),Inputs!$O$21:$O$26,0),2))","v":20},1,null,null,{"$f":"IF(D934=\"\",\"\",IF(D934=\"-\",\"\",IF(D934>AVERAGE($D$2:$D$1000),1,0)))","v":1},1,1,1,1,1,1]
[{"$f":"'SIP Returns'!B936","v":0},null,{"$f":"'SIP Returns'!D936","v":0},{"$f":"'SIP Returns'!E936","v":0},{"$f":"'SIP Returns'!F936","v":0},{"$f":"'SIP Returns'!G936","v":0},{"$f":"'SIP Returns'!H936","v":0},{"$f":"'SIP Returns'!I936","v":0},{"$f":"'SIP Returns'!J936","v":0},1,10,8,4,1,1,{"$f":"IF(J935=\"\",\"\",IF(J935>Inputs!$D$9,0,1))","v":1},{"$f":"IF(K935=\"\",\"\",IF(K935>Inputs!$D$9,0,1))","v":1},{"$f":"IF(L935=\"\",\"\",IF(L935>Inputs!$D$9,0,1))","v":1},{"$f":"IF(M935=\"\",\"\",IF(M935>Inputs!$D$9,0,1))","v":1},{"$f":"IF(N935=\"\",\"\",IF(N935>Inputs!$D$9,0,1))","v":1},{"$f":"IF(O935=\"\",\"\",IF(O935>Inputs!$D$9,0,1))","v":1},{"$f":"IF(COUNT(P935:U935)=0,\"\",INDEX(Inputs!$O$21:$P$26,MATCH(COUNT(P935:U935),Inputs!$O$21:$O$26,0),2))","v":20},1,null,null,{"$f":"IF(D935=\"\",\"\",IF(D935=\"-\",\"\",IF(D935>AVERAGE($D$2:$D$1000),1,0)))","v":1},1,1,1,1,1,1]
[{"$f":"'SIP Returns'!B937","v":0},null,{"$f":"'SIP Returns'!D937","v":0},{"$f":"'SIP Returns'!E937","v":0},{"$f":"'SIP Returns'!F937","v":0},{"$f":"'SIP Returns'!G937","v":0},{"$f":"'SIP Returns'!H937","v":0},{"$f":"'SIP Returns'!I937","v":0},{"$f":"'SIP Returns'!J937","v":0},1,10,8,4,1,1,{"$f":"IF(J936=\"\",\"\",IF(J936>Inputs!$D$9,0,1))","v":1},{"$f":"IF(K936=\"\",\"\",IF(K936>Inputs!$D$9,0,1))","v":1},{"$f":"IF(L936=\"\",\"\",IF(L936>Inputs!$D$9,0,1))","v":1},{"$f":"IF(M936=\"\",\"\",IF(M936>Inputs!$D$9,0,1))","v":1},{"$f":"IF(N936=\"\",\"\",IF(N936>Inputs!$D$9,0,1))","v":1},{"$f":"IF(O936=\"\",\"\",IF(O936>Inputs!$D$9,0,1))","v":1},{"$f":"IF(COUNT(P936:U936)=0,\"\",INDEX(Inputs!$O$21:$P$26,MATCH(COUNT(P936:U936),Inputs!$O$21:$O$26,0),2))","v":20},1,null,null,{"$f":"IF(D936=\"\",\"\",IF(D936=\"-\",\"\",IF(D936>AVERAGE($D$2:$D$1000),1,0)))","v":1},1,1,1,1,1,1]
[{"$f":"'SIP Returns'!B938","v":0},null,{"$f":"'SIP Returns'!D938","v":0},{"$f":"'SIP Returns'!E938","v":0},{"$f":"'SIP Returns'!F938","v":0},{"$f":"'SIP Returns'!G938","v":0},{"$f":"'SIP Returns'!H938","v":0},{"$f":"'SIP Returns'!I938","v":0},{"$f":"'SIP Returns'!J938","v":0},1,10,8,4,1,1,{"$f":"IF(J937=\"\",\"\",IF(J937>Inputs!$D$9,0,1))","v":1},{"$f":"IF(K937=\"\",\"\",IF(K937>Inputs!$D$9,0,1))","v":1},{"$f":"IF(L937=\"\",\"\",IF(L937>Inputs!$D$9,0,1))","v":1},{"$f":"IF(M937=\"\",\"\",IF(M937>Inputs!$D$9,0,1))","v":1},{"$f":"IF(N937=\"\",\"\",IF(N937>Inputs!$D$9,0,1))","v":1},{"$f":"IF(O937=\"\",\"\",IF(O937>Inputs!$D$9,0,1))","v":1},{"$f":"IF(COUNT(P937:U937)=0,\"\",INDEX(Inputs!$O$21:$P$26,MATCH(COUNT(P937:U937),Inputs!$O$21:$O$26,0),2))","v":20},1,null,null,{"$f":"IF(D937=\"\",\"\",IF(D937=\"-\",\"\",IF(D937>AVERAGE($D$2:$D$1000),1,0)))","v":1},1,1,1,1,1,1]
[{"$f":"'SIP Returns'!B939","v":0},null,{"$f":"'SIP Returns'!D939","v":0},{"$f":"'SIP Returns'!E939","v":0},{"$f":"'SIP Returns'!F939","v":0},{"$f":"'SIP Returns'!G939","v":0},{"$f":"'SIP Returns'!H939","v":0},{"$f":"'SIP Returns'!I939","v":0},{"$f":"'SIP Returns'!J939","v":0},1,10,8,4,1,1,{"$f":"IF(J938=\"\",\"\",IF(J938>Inputs!$D$9,0,1))","v":1},{"$f":"IF(K938=\"\",\"\",IF(K938>Inputs!$D$9,0,1))","v":1},{"$f":"IF(L938=\"\",\"\",IF(L938>Inputs!$D$9,0,1))","v":1},{"$f":"IF(M938=\"\",\"\",IF(M938>Inputs!$D$9,0,1))","v":1},{"$f":"IF(N938=\"\",\"\",IF(N938>Inputs!$D$9,0,1))","v":1},{"$f":"IF(O938=\"\",\"\",IF(O938>Inputs!$D$9,0,1))","v":1},{"$f":"IF(COUNT(P938:U938)=0,\"\",INDEX(Inputs!$O$21:$P$26,MATCH(COUNT(P938:U938),Inputs!$O$21:$O$26,0),2))","v":20},1,null,null,{"$f":"IF(D938=\"\",\"\",IF(D938=\"-\",\"\",IF(D938>AVERAGE($D$2:$D$1000),1,0)))","v":1},1,1,1,1,1,1]
[{"$f":"'SIP Returns'!B940","v":0},null,{"$f":"'SIP Returns'!D940","v":0},{"$f":"'SIP Returns'!E940","v":0},{"$f":"'SIP Returns'!F940","v":0},{"$f":"'SIP Returns'!G940","v":0},{"$f":"'SIP Returns'!H940","v":0},{"$f":"'SIP Returns'!I940","v":0},{"$f":"'SIP Returns'!J940","v":0},1,10,8,4,1,1,{"$f":"IF(J939=\"\",\"\",IF(J939>Inputs!$D$9,0,1))","v":1},{"$f":"IF(K939=\"\",\"\",IF(K939>Inputs!$D$9,0,1))","v":1},{"$f":"IF(L939=\"\",\"\",IF(L939>Inputs!$D$9,0,1))","v":1},{"$f":"IF(M939=\"\",\"\",IF(M939>Inputs!$D$9,0,1))","v":1},{"$f":"IF(N939=\"\",\"\",IF(N939>Inputs!$D$9,0,1))","v":1},{"$f":"IF(O939=\"\",\"\",IF(O939>Inputs!$D$9,0,1))","v":1},{"$f":"IF(COUNT(P939:U939)=0,\"\",INDEX(Inputs!$O$21:$P$26,MATCH(COUNT(P939:U939),Inputs!$O$21:$O$26,0),2))","v":20},1,null,null,{"$f":"IF(D939=\"\",\"\",IF(D939=\"-\",\"\",IF(D939>AVERAGE($D$2:$D$1000),1,0)))","v":1},1,1,1,1,1,1]
[{"$f":"'SIP Returns'!B941","v":0},null,{"$f":"'SIP Returns'!D941","v":0},{"$f":"'SIP Returns'!E941","v":0},{"$f":"'SIP Returns'!F941","v":0},{"$f":"'SIP Returns'!G941","v":0},{"$f":"'SIP Returns'!H941","v":0},{"$f":"'SIP Returns'!I941","v":0},{"$f":"'SIP Returns'!J941","v":0},1,10,8,4,1,1,{"$f":"IF(J940=\"\",\"\",IF(J940>Inputs!$D$9,0,1))","v":1},{"$f":"IF(K940=\"\",\"\",IF(K940>Inputs!$D$9,0,1))","v":1},{"$f":"IF(L940=\"\",\"\",IF(L940>Inputs!$D$9,0,1))","v":1},{"$f":"IF(M940=\"\",\"\",IF(M940>Inputs!$D$9,0,1))","v":1},{"$f":"IF(N940=\"\",\"\",IF(N940>Inputs!$D$9,0,1))","v":1},{"$f":"IF(O940=\"\",\"\",IF(O940>Inputs!$D$9,0,1))","v":1},{"$f":"IF(COUNT(P940:U940)=0,\"\",INDEX(Inputs!$O$21:$P$26,MATCH(COUNT(P940:U940),Inputs!$O$21:$O$26,0),2))","v":20},1,null,null,{"$f":"IF(D940=\"\",\"\",IF(D940=\"-\",\"\",IF(D940>AVERAGE($D$2:$D$1000),1,0)))","v":1},1,1,1,1,1,1]
[{"$f":"'SIP Returns'!B942","v":0},null,{"$f":"'SIP Returns'!D942","v":0},{"$f":"'SIP Returns'!E942","v":0},{"$f":"'SIP Returns'!F942","v":0},{"$f":"'SIP Returns'!G942","v":0},{"$f":"'SIP Returns'!H942","v":0},{"$f":"'SIP Returns'!I942","v":0},{"$f":"'SIP Returns'!J942","v":0},1,10,8,4,1,1,{"$f":"IF(J941=\"\",\"\",IF(J941>Inputs!$D$9,0,1))","v":1},{"$f":"IF(K941=\"\",\"\",IF(K941>Inputs!$D$9,0,1))","v":1},{"$f":"IF(L941=\"\",\"\",IF(L941>Inputs!$D$9,0,1))","v":1},{"$f":"IF(M941=\"\",\"\",IF(M941>Inputs!$D$9,0,1))","v":1},{"$f":"IF(N941=\"\",\"\",IF(N941>Inputs!$D$9,0,1))","v":1},{"$f":"IF(O941=\"\",\"\",IF(O941>Inputs!$D$9,0,1))","v":1},{"$f":"IF(COUNT(P941:U941)=0,\"\",INDEX(Inputs!$O$21:$P$26,MATCH(COUNT(P941:U941),Inputs!$O$21:$O$26,0),2))","v":20},1,null,null,{"$f":"IF(D941=\"\",\"\",IF(D941=\"-\",\"\",IF(D941>AVERAGE($D$2:$D$1000),1,0)))","v":1},1,1,1,1,1,1]
[{"$f":"'SIP Returns'!B943","v":0},null,{"$f":"'SIP Returns'!D943","v":0},{"$f":"'SIP Returns'!E943","v":0},{"$f":"'SIP Returns'!F943","v":0},{"$f":"'SIP Returns'!G943","v":0},{"$f":"'SIP Returns'!H943","v":0},{"$f":"'SIP Returns'!I943","v":0},{"$f":"'SIP Returns'!J943","v":0},1,10,8,4,1,1,{"$f":"IF(J942=\"\",\"\",IF(J942>Inputs!$D$9,0,1))","v":1},{"$f":"IF(K942=\"\",\"\",IF(K942>Inputs!$D$9,0,1))","v":1},{"$f":"IF(L942=\"\",\"\",IF(L942>Inputs!$D$9,0,1))","v":1},{"$f":"IF(M942=\"\",\"\",IF(M942>Inputs!$D$9,0,1))","v":1},{"$f":"IF(N942=\"\",\"\",IF(N942>Inputs!$D$9,0,1))","v":1},{"$f":"IF(O942=\"\",\"\",IF(O942>Inputs!$D$9,0,1))","v":1},{"$f":"IF(COUNT(P942:U942)=0,\"\",INDEX(Inputs!$O$21:$P$26,MATCH(COUNT(P942:U942),Inputs!$O$21:$O$26,0),2))","v":20},1,null,null,{"$f":"IF(D942=\"\",\"\",IF(D942=\"-\",\"\",IF(D942>AVERAGE($D$2:$D$1000),1,0)))","v":1},1,1,1,1,1,1]
[{"$f":"'SIP Returns'!B944","v":0},null,{"$f":"'SIP Returns'!D944","v":0},{"$f":"'SIP Returns'!E944","v":0},{"$f":"'SIP Returns'!F944","v":0},{"$f":"'SIP Returns'!G944","v":0},{"$f":"'SIP Returns'!H944","v":0},{"$f":"'SIP Returns'!I944","v":0},{"$f":"'SIP Returns'!J944","v":0},1,10,8,4,1,1,{"$f":"IF(J943=\"\",\"\",IF(J943>Inputs!$D$9,0,1))","v":1},{"$f":"IF(K943=\"\",\"\",IF(K943>Inputs!$D$9,0,1))","v":1},{"$f":"IF(L943=\"\",\"\",IF(L943>Inputs!$D$9,0,1))","v":1},{"$f":"IF(M943=\"\",\"\",IF(M943>Inputs!$D$9,0,1))","v":1},{"$f":"IF(N943=\"\",\"\",IF(N943>Inputs!$D$9,0,1))","v":1},{"$f":"IF(O943=\"\",\"\",IF(O943>Inputs!$D$9,0,1))","v":1},{"$f":"IF(COUNT(P943:U943)=0,\"\",INDEX(Inputs!$O$21:$P$26,MATCH(COUNT(P943:U943),Inputs!$O$21:$O$26,0),2))","v":20},1,null,null,{"$f":"IF(D943=\"\",\"\",IF(D943=\"-\",\"\",IF(D943>AVERAGE($D$2:$D$1000),1,0)))","v":1},1,1,1,1,1,1]
[{"$f":"'SIP Returns'!B945","v":0},null,{"$f":"'SIP Returns'!D945","v":0},{"$f":"'SIP Returns'!E945","v":0},{"$f":"'SIP Returns'!F945","v":0},{"$f":"'SIP Returns'!G945","v":0},{"$f":"'SIP Returns'!H945","v":0},{"$f":"'SIP Returns'!I945","v":0},{"$f":"'SIP Returns'!J945","v":0},1,10,8,4,1,1,{"$f":"IF(J944=\"\",\"\",IF(J944>Inputs!$D$9,0,1))","v":1},{"$f":"IF(K944=\"\",\"\",IF(K944>Inputs!$D$9,0,1))","v":1},{"$f":"IF(L944=\"\",\"\",IF(L944>Inputs!$D$9,0,1))","v":1},{"$f":"IF(M944=\"\",\"\",IF(M944>Inputs!$D$9,0,1))","v":1},{"$f":"IF(N944=\"\",\"\",IF(N944>Inputs!$D$9,0,1))","v":1},{"$f":"IF(O944=\"\",\"\",IF(O944>Inputs!$D$9,0,1))","v":1},{"$f":"IF(COUNT(P944:U944)=0,\"\",INDEX(Inputs!$O$21:$P$26,MATCH(COUNT(P944:U944),Inputs!$O$21:$O$26,0),2))","v":20},1,null,null,{"$f":"IF(D944=\"\",\"\",IF(D944=\"-\",\"\",IF(D944>AVERAGE($D$2:$D$1000),1,0)))","v":1},1,1,1,1,1,1]
[{"$f":"'SIP Returns'!B946","v":0},null,{"$f":"'SIP Returns'!D946","v":0},{"$f":"'SIP Returns'!E946","v":0},{"$f":"'SIP Returns'!F946","v":0},{"$f":"'SIP Returns'!G946","v":0},{"$f":"'SIP Returns'!H946","v":0},{"$f":"'SIP Returns'!I946","v":0},{"$f":"'SIP Returns'!J946","v":0},1,10,8,4,1,1,{"$f":"IF(J945=\"\",\"\",IF(J945>Inputs!$D$9,0,1))","v":1},{"$f":"IF(K945=\"\",\"\",IF(K945>Inputs!$D$9,0,1))","v":1},{"$f":"IF(L945=\"\",\"\",IF(L945>Inputs!$D$9,0,1))","v":1},{"$f":"IF(M945=\"\",\"\",IF(M945>Inputs!$D$9,0,1))","v":1},{"$f":"IF(N945=\"\",\"\",IF(N945>Inputs!$D$9,0,1))","v":1},{"$f":"IF(O945=\"\",\"\",IF(O945>Inputs!$D$9,0,1))","v":1},{"$f":"IF(COUNT(P945:U945)=0,\"\",INDEX(Inputs!$O$21:$P$26,MATCH(COUNT(P945:U945),Inputs!$O$21:$O$26,0),2))","v":20},1,null,null,{"$f":"IF(D945=\"\",\"\",IF(D945=\"-\",\"\",IF(D945>AVERAGE($D$2:$D$1000),1,0)))","v":1},1,1,1,1,1,1]
[{"$f":"'SIP Returns'!B947","v":0},null,{"$f":"'SIP Returns'!D947","v":0},{"$f":"'SIP Returns'!E947","v":0},{"$f":"'SIP Returns'!F947","v":0},{"$f":"'SIP Returns'!G947","v":0},{"$f":"'SIP Returns'!H947","v":0},{"$f":"'SIP Returns'!I947","v":0},{"$f":"'SIP Returns'!J947","v":0},1,10,8,4,1,1,{"$f":"IF(J946=\"\",\"\",IF(J946>Inputs!$D$9,0,1))","v":1},{"$f":"IF(K946=\"\",\"\",IF(K946>Inputs!$D$9,0,1))","v":1},{"$f":"IF(L946=\"\",\"\",IF(L946>Inputs!$D$9,0,1))","v":1},{"$f":"IF(M946=\"\",\"\",IF(M946>Inputs!$D$9,0,1))","v":1},{"$f":"IF(N946=\"\",\"\",IF(N946>Inputs!$D$9,0,1))","v":1},{"$f":"IF(O946=\"\",\"\",IF(O946>Inputs!$D$9,0,1))","v":1},{"$f":"IF(COUNT(P946:U946)=0,\"\",INDEX(Inputs!$O$21:$P$26,MATCH(COUNT(P946:U946),Inputs!$O$21:$O$26,0),2))","v":20},1,null,null,{"$f":"IF(D946=\"\",\"\",IF(D946=\"-\",\"\",IF(D946>AVERAGE($D$2:$D$1000),1,0)))","v":1},1,1,1,1,1,1]
[{"$f":"'SIP Returns'!B948","v":0},null,{"$f":"'SIP Returns'!D948","v":0},{"$f":"'SIP Returns'!E948","v":0},{"$f":"'SIP Returns'!F948","v":0},{"$f":"'SIP Returns'!G948","v":0},{"$f":"'SIP Returns'!H948","v":0},{"$f":"'SIP Returns'!I948","v":0},{"$f":"'SIP Returns'!J948","v":0},1,10,8,4,1,1,{"$f":"IF(J947=\"\",\"\",IF(J947>Inputs!$D$9,0,1))","v":1},{"$f":"IF(K947=\"\",\"\",IF(K947>Inputs!$D$9,0,1))","v":1},{"$f":"IF(L947=\"\",\"\",IF(L947>Inputs!$D$9,0,1))","v":1},{"$f":"IF(M947=\"\",\"\",IF(M947>Inputs!$D$9,0,1))","v":1},{"$f":"IF(N947=\"\",\"\",IF(N947>Inputs!$D$9,0,1))","v":1},{"$f":"IF(O947=\"\",\"\",IF(O947>Inputs!$D$9,0,1))","v":1},{"$f":"IF(COUNT(P947:U947)=0,\"\",INDEX(Inputs!$O$21:$P$26,MATCH(COUNT(P947:U947),Inputs!$O$21:$O$26,0),2))","v":20},1,null,null,{"$f":"IF(D947=\"\",\"\",IF(D947=\"-\",\"\",IF(D947>AVERAGE($D$2:$D$1000),1,0)))","v":1},1,1,1,1,1,1]
[{"$f":"'SIP Returns'!B949","v":0},null,{"$f":"'SIP Returns'!D949","v":0},{"$f":"'SIP Returns'!E949","v":0},{"$f":"'SIP Returns'!F949","v":0},{"$f":"'SIP Returns'!G949","v":0},{"$f":"'SIP Returns'!H949","v":0},{"$f":"'SIP Returns'!I949","v":0},{"$f":"'SIP Returns'!J949","v":0},1,10,8,4,1,1,{"$f":"IF(J948=\"\",\"\",IF(J948>Inputs!$D$9,0,1))","v":1},{"$f":"IF(K948=\"\",\"\",IF(K948>Inputs!$D$9,0,1))","v":1},{"$f":"IF(L948=\"\",\"\",IF(L948>Inputs!$D$9,0,1))","v":1},{"$f":"IF(M948=\"\",\"\",IF(M948>Inputs!$D$9,0,1))","v":1},{"$f":"IF(N948=\"\",\"\",IF(N948>Inputs!$D$9,0,1))","v":1},{"$f":"IF(O948=\"\",\"\",IF(O948>Inputs!$D$9,0,1))","v":1},{"$f":"IF(COUNT(P948:U948)=0,\"\",INDEX(Inputs!$O$21:$P$26,MATCH(COUNT(P948:U948),Inputs!$O$21:$O$26,0),2))","v":20},1,null,null,{"$f":"IF(D948=\"\",\"\",IF(D948=\"-\",\"\",IF(D948>AVERAGE($D$2:$D$1000),1,0)))","v":1},1,1,1,1,1,1]
[{"$f":"'SIP Returns'!B950","v":0},null,{"$f":"'SIP Returns'!D950","v":0},{"$f":"'SIP Returns'!E950","v":0},{"$f":"'SIP Returns'!F950","v":0},{"$f":"'SIP Returns'!G950","v":0},{"$f":"'SIP Returns'!H950","v":0},{"$f":"'SIP Returns'!I950","v":0},{"$f":"'SIP Returns'!J950","v":0},1,10,8,4,1,1,{"$f":"IF(J949=\"\",\"\",IF(J949>Inputs!$D$9,0,1))","v":1},{"$f":"IF(K949=\"\",\"\",IF(K949>Inputs!$D$9,0,1))","v":1},{"$f":"IF(L949=\"\",\"\",IF(L949>Inputs!$D$9,0,1))","v":1},{"$f":"IF(M949=\"\",\"\",IF(M949>Inputs!$D$9,0,1))","v":1},{"$f":"IF(N949=\"\",\"\",IF(N949>Inputs!$D$9,0,1))","v":1},{"$f":"IF(O949=\"\",\"\",IF(O949>Inputs!$D$9,0,1))","v":1},{"$f":"IF(COUNT(P949:U949)=0,\"\",INDEX(Inputs!$O$21:$P$26,MATCH(COUNT(P949:U949),Inputs!$O$21:$O$26,0),2))","v":20},1,null,null,{"$f":"IF(D949=\"\",\"\",IF(D949=\"-\",\"\",IF(D949>AVERAGE($D$2:$D$1000),1,0)))","v":1},1,1,1,1,1,1]
[{"$f":"'SIP Returns'!B951","v":0},null,{"$f":"'SIP Returns'!D951","v":0},{"$f":"'SIP Returns'!E951","v":0},{"$f":"'SIP Returns'!F951","v":0},{"$f":"'SIP Returns'!G951","v":0},{"$f":"'SIP Returns'!H951","v":0},{"$f":"'SIP Returns'!I951","v":0},{"$f":"'SIP Returns'!J951","v":0},1,10,8,4,1,1,{"$f":"IF(J950=\"\",\"\",IF(J950>Inputs!$D$9,0,1))","v":1},{"$f":"IF(K950=\"\",\"\",IF(K950>Inputs!$D$9,0,1))","v":1},{"$f":"IF(L950=\"\",\"\",IF(L950>Inputs!$D$9,0,1))","v":1},{"$f":"IF(M950=\"\",\"\",IF(M950>Inputs!$D$9,0,1))","v":1},{"$f":"IF(N950=\"\",\"\",IF(N950>Inputs!$D$9,0,1))","v":1},{"$f":"IF(O950=\"\",\"\",IF(O950>Inputs!$D$9,0,1))","v":1},{"$f":"IF(COUNT(P950:U950)=0,\"\",INDEX(Inputs!$O$21:$P$26,MATCH(COUNT(P950:U950),Inputs!$O$21:$O$26,0),2))","v":20},1,null,null,{"$f":"IF(D950=\"\",\"\",IF(D950=\"-\",\"\",IF(D950>AVERAGE($D$2:$D$1000),1,0)))","v":1},1,1,1,1,1,1]
[{"$f":"'SIP Returns'!B952","v":0},null,{"$f":"'SIP Returns'!D952","v":0},{"$f":"'SIP Returns'!E952","v":0},{"$f":"'SIP Returns'!F952","v":0},{"$f":"'SIP Returns'!G952","v":0},{"$f":"'SIP Returns'!H952","v":0},{"$f":"'SIP Returns'!I952","v":0},{"$f":"'SIP Returns'!J952","v":0},1,10,8,4,1,1,{"$f":"IF(J951=\"\",\"\",IF(J951>Inputs!$D$9,0,1))","v":1},{"$f":"IF(K951=\"\",\"\",IF(K951>Inputs!$D$9,0,1))","v":1},{"$f":"IF(L951=\"\",\"\",IF(L951>Inputs!$D$9,0,1))","v":1},{"$f":"IF(M951=\"\",\"\",IF(M951>Inputs!$D$9,0,1))","v":1},{"$f":"IF(N951=\"\",\"\",IF(N951>Inputs!$D$9,0,1))","v":1},{"$f":"IF(O951=\"\",\"\",IF(O951>Inputs!$D$9,0,1))","v":1},{"$f":"IF(COUNT(P951:U951)=0,\"\",INDEX(Inputs!$O$21:$P$26,MATCH(COUNT(P951:U951),Inputs!$O$21:$O$26,0),2))","v":20},1,null,null,{"$f":"IF(D951=\"\",\"\",IF(D951=\"-\",\"\",IF(D951>AVERAGE($D$2:$D$1000),1,0)))","v":1},1,1,1,1,1,1]
[{"$f":"'SIP Returns'!B953","v":0},null,{"$f":"'SIP Returns'!D953","v":0},{"$f":"'SIP Returns'!E953","v":0},{"$f":"'SIP Returns'!F953","v":0},{"$f":"'SIP Returns'!G953","v":0},{"$f":"'SIP Returns'!H953","v":0},{"$f":"'SIP Returns'!I953","v":0},{"$f":"'SIP Returns'!J953","v":0},1,10,8,4,1,1,{"$f":"IF(J952=\"\",\"\",IF(J952>Inputs!$D$9,0,1))","v":1},{"$f":"IF(K952=\"\",\"\",IF(K952>Inputs!$D$9,0,1))","v":1},{"$f":"IF(L952=\"\",\"\",IF(L952>Inputs!$D$9,0,1))","v":1},{"$f":"IF(M952=\"\",\"\",IF(M952>Inputs!$D$9,0,1))","v":1},{"$f":"IF(N952=\"\",\"\",IF(N952>Inputs!$D$9,0,1))","v":1},{"$f":"IF(O952=\"\",\"\",IF(O952>Inputs!$D$9,0,1))","v":1},{"$f":"IF(COUNT(P952:U952)=0,\"\",INDEX(Inputs!$O$21:$P$26,MATCH(COUNT(P952:U952),Inputs!$O$21:$O$26,0),2))","v":20},1,null,null,{"$f":"IF(D952=\"\",\"\",IF(D952=\"-\",\"\",IF(D952>AVERAGE($D$2:$D$1000),1,0)))","v":1},1,1,1,1,1,1]
[{"$f":"'SIP Returns'!B954","v":0},null,{"$f":"'SIP Returns'!D954","v":0},{"$f":"'SIP Returns'!E954","v":0},{"$f":"'SIP Returns'!F954","v":0},{"$f":"'SIP Returns'!G954","v":0},{"$f":"'SIP Returns'!H954","v":0},{"$f":"'SIP Returns'!I954","v":0},{"$f":"'SIP Returns'!J954","v":0},1,10,8,4,1,1,{"$f":"IF(J953=\"\",\"\",IF(J953>Inputs!$D$9,0,1))","v":1},{"$f":"IF(K953=\"\",\"\",IF(K953>Inputs!$D$9,0,1))","v":1},{"$f":"IF(L953=\"\",\"\",IF(L953>Inputs!$D$9,0,1))","v":1},{"$f":"IF(M953=\"\",\"\",IF(M953>Inputs!$D$9,0,1))","v":1},{"$f":"IF(N953=\"\",\"\",IF(N953>Inputs!$D$9,0,1))","v":1},{"$f":"IF(O953=\"\",\"\",IF(O953>Inputs!$D$9,0,1))","v":1},{"$f":"IF(COUNT(P953:U953)=0,\"\",INDEX(Inputs!$O$21:$P$26,MATCH(COUNT(P953:U953),Inputs!$O$21:$O$26,0),2))","v":20},1,null,null,{"$f":"IF(D953=\"\",\"\",IF(D953=\"-\",\"\",IF(D953>AVERAGE($D$2:$D$1000),1,0)))","v":1},1,1,1,1,1,1]
[{"$f":"'SIP Returns'!B955","v":0},null,{"$f":"'SIP Returns'!D955","v":0},{"$f":"'SIP Returns'!E955","v":0},{"$f":"'SIP Returns'!F955","v":0},{"$f":"'SIP Returns'!G955","v":0},{"$f":"'SIP Returns'!H955","v":0},{"$f":"'SIP Returns'!I955","v":0},{"$f":"'SIP Returns'!J955","v":0},1,10,8,4,1,1,{"$f":"IF(J954=\"\",\"\",IF(J954>Inputs!$D$9,0,1))","v":1},{"$f":"IF(K954=\"\",\"\",IF(K954>Inputs!$D$9,0,1))","v":1},{"$f":"IF(L954=\"\",\"\",IF(L954>Inputs!$D$9,0,1))","v":1},{"$f":"IF(M954=\"\",\"\",IF(M954>Inputs!$D$9,0,1))","v":1},{"$f":"IF(N954=\"\",\"\",IF(N954>Inputs!$D$9,0,1))","v":1},{"$f":"IF(O954=\"\",\"\",IF(O954>Inputs!$D$9,0,1))","v":1},{"$f":"IF(COUNT(P954:U954)=0,\"\",INDEX(Inputs!$O$21:$P$26,MATCH(COUNT(P954:U954),Inputs!$O$21:$O$26,0),2))","v":20},1,null,null,{"$f":"IF(D954=\"\",\"\",IF(D954=\"-\",\"\",IF(D954>AVERAGE($D$2:$D$1000),1,0)))","v":1},1,1,1,1,1,1]
[{"$f":"'SIP Returns'!B956","v":0},null,{"$f":"'SIP Returns'!D956","v":0},{"$f":"'SIP Returns'!E956","v":0},{"$f":"'SIP Returns'!F956","v":0},{"$f":"'SIP Returns'!G956","v":0},{"$f":"'SIP Returns'!H956","v":0},{"$f":"'SIP Returns'!I956","v":0},{"$f":"'SIP Returns'!J956","v":0},1,10,8,4,1,1,{"$f":"IF(J955=\"\",\"\",IF(J955>Inputs!$D$9,0,1))","v":1},{"$f":"IF(K955=\"\",\"\",IF(K955>Inputs!$D$9,0,1))","v":1},{"$f":"IF(L955=\"\",\"\",IF(L955>Inputs!$D$9,0,1))","v":1},{"$f":"IF(M955=\"\",\"\",IF(M955>Inputs!$D$9,0,1))","v":1},{"$f":"IF(N955=\"\",\"\",IF(N955>Inputs!$D$9,0,1))","v":1},{"$f":"IF(O955=\"\",\"\",IF(O955>Inputs!$D$9,0,1))","v":1},{"$f":"IF(COUNT(P955:U955)=0,\"\",INDEX(Inputs!$O$21:$P$26,MATCH(COUNT(P955:U955),Inputs!$O$21:$O$26,0),2))","v":20},1,null,null,{"$f":"IF(D955=\"\",\"\",IF(D955=\"-\",\"\",IF(D955>AVERAGE($D$2:$D$1000),1,0)))","v":1},1,1,1,1,1,1]
[{"$f":"'SIP Returns'!B957","v":0},null,{"$f":"'SIP Returns'!D957","v":0},{"$f":"'SIP Returns'!E957","v":0},{"$f":"'SIP Returns'!F957","v":0},{"$f":"'SIP Returns'!G957","v":0},{"$f":"'SIP Returns'!H957","v":0},{"$f":"'SIP Returns'!I957","v":0},{"$f":"'SIP Returns'!J957","v":0},1,10,8,4,1,1,{"$f":"IF(J956=\"\",\"\",IF(J956>Inputs!$D$9,0,1))","v":1},{"$f":"IF(K956=\"\",\"\",IF(K956>Inputs!$D$9,0,1))","v":1},{"$f":"IF(L956=\"\",\"\",IF(L956>Inputs!$D$9,0,1))","v":1},{"$f":"IF(M956=\"\",\"\",IF(M956>Inputs!$D$9,0,1))","v":1},{"$f":"IF(N956=\"\",\"\",IF(N956>Inputs!$D$9,0,1))","v":1},{"$f":"IF(O956=\"\",\"\",IF(O956>Inputs!$D$9,0,1))","v":1},{"$f":"IF(COUNT(P956:U956)=0,\"\",INDEX(Inputs!$O$21:$P$26,MATCH(COUNT(P956:U956),Inputs!$O$21:$O$26,0),2))","v":20},1,null,null,{"$f":"IF(D956=\"\",\"\",IF(D956=\"-\",\"\",IF(D956>AVERAGE($D$2:$D$1000),1,0)))","v":1},1,1,1,1,1,1]
[{"$f":"'SIP Returns'!B958","v":0},null,{"$f":"'SIP Returns'!D958","v":0},{"$f":"'SIP Returns'!E958","v":0},{"$f":"'SIP Returns'!F958","v":0},{"$f":"'SIP Returns'!G958","v":0},{"$f":"'SIP Returns'!H958","v":0},{"$f":"'SIP Returns'!I958","v":0},{"$f":"'SIP Returns'!J958","v":0},1,10,8,4,1,1,{"$f":"IF(J957=\"\",\"\",IF(J957>Inputs!$D$9,0,1))","v":1},{"$f":"IF(K957=\"\",\"\",IF(K957>Inputs!$D$9,0,1))","v":1},{"$f":"IF(L957=\"\",\"\",IF(L957>Inputs!$D$9,0,1))","v":1},{"$f":"IF(M957=\"\",\"\",IF(M957>Inputs!$D$9,0,1))","v":1},{"$f":"IF(N957=\"\",\"\",IF(N957>Inputs!$D$9,0,1))","v":1},{"$f":"IF(O957=\"\",\"\",IF(O957>Inputs!$D$9,0,1))","v":1},{"$f":"IF(COUNT(P957:U957)=0,\"\",INDEX(Inputs!$O$21:$P$26,MATCH(COUNT(P957:U957),Inputs!$O$21:$O$26,0),2))","v":20},1,null,null,{"$f":"IF(D957=\"\",\"\",IF(D957=\"-\",\"\",IF(D957>AVERAGE($D$2:$D$1000),1,0)))","v":1},1,1,1,1,1,1]
[{"$f":"'SIP Returns'!B959","v":0},null,{"$f":"'SIP Returns'!D959","v":0},{"$f":"'SIP Returns'!E959","v":0},{"$f":"'SIP Returns'!F959","v":0},{"$f":"'SIP Returns'!G959","v":0},{"$f":"'SIP Returns'!H959","v":0},{"$f":"'SIP Returns'!I959","v":0},{"$f":"'SIP Returns'!J959","v":0},1,10,8,4,1,1,{"$f":"IF(J958=\"\",\"\",IF(J958>Inputs!$D$9,0,1))","v":1},{"$f":"IF(K958=\"\",\"\",IF(K958>Inputs!$D$9,0,1))","v":1},{"$f":"IF(L958=\"\",\"\",IF(L958>Inputs!$D$9,0,1))","v":1},{"$f":"IF(M958=\"\",\"\",IF(M958>Inputs!$D$9,0,1))","v":1},{"$f":"IF(N958=\"\",\"\",IF(N958>Inputs!$D$9,0,1))","v":1},{"$f":"IF(O958=\"\",\"\",IF(O958>Inputs!$D$9,0,1))","v":1},{"$f":"IF(COUNT(P958:U958)=0,\"\",INDEX(Inputs!$O$21:$P$26,MATCH(COUNT(P958:U958),Inputs!$O$21:$O$26,0),2))","v":20},1,null,null,{"$f":"IF(D958=\"\",\"\",IF(D958=\"-\",\"\",IF(D958>AVERAGE($D$2:$D$1000),1,0)))","v":1},1,1,1,1,1,1]
[{"$f":"'SIP Returns'!B960","v":0},null,{"$f":"'SIP Returns'!D960","v":0},{"$f":"'SIP Returns'!E960","v":0},{"$f":"'SIP Returns'!F960","v":0},{"$f":"'SIP Returns'!G960","v":0},{"$f":"'SIP Returns'!H960","v":0},{"$f":"'SIP Returns'!I960","v":0},{"$f":"'SIP Returns'!J960","v":0},1,10,8,4,1,1,{"$f":"IF(J959=\"\",\"\",IF(J959>Inputs!$D$9,0,1))","v":1},{"$f":"IF(K959=\"\",\"\",IF(K959>Inputs!$D$9,0,1))","v":1},{"$f":"IF(L959=\"\",\"\",IF(L959>Inputs!$D$9,0,1))","v":1},{"$f":"IF(M959=\"\",\"\",IF(M959>Inputs!$D$9,0,1))","v":1},{"$f":"IF(N959=\"\",\"\",IF(N959>Inputs!$D$9,0,1))","v":1},{"$f":"IF(O959=\"\",\"\",IF(O959>Inputs!$D$9,0,1))","v":1},{"$f":"IF(COUNT(P959:U959)=0,\"\",INDEX(Inputs!$O$21:$P$26,MATCH(COUNT(P959:U959),Inputs!$O$21:$O$26,0),2))","v":20},1,null,null,{"$f":"IF(D959=\"\",\"\",IF(D959=\"-\",\"\",IF(D959>AVERAGE($D$2:$D$1000),1,0)))","v":1},1,1,1,1,1,1]
[{"$f":"'SIP Returns'!B961","v":0},null,{"$f":"'SIP Returns'!D961","v":0},{"$f":"'SIP Returns'!E961","v":0},{"$f":"'SIP Returns'!F961","v":0},{"$f":"'SIP Returns'!G961","v":0},{"$f":"'SIP Returns'!H961","v":0},{"$f":"'SIP Returns'!I961","v":0},{"$f":"'SIP Returns'!J961","v":0},1,10,8,4,1,1,{"$f":"IF(J960=\"\",\"\",IF(J960>Inputs!$D$9,0,1))","v":1},{"$f":"IF(K960=\"\",\"\",IF(K960>Inputs!$D$9,0,1))","v":1},{"$f":"IF(L960=\"\",\"\",IF(L960>Inputs!$D$9,0,1))","v":1},{"$f":"IF(M960=\"\",\"\",IF(M960>Inputs!$D$9,0,1))","v":1},{"$f":"IF(N960=\"\",\"\",IF(N960>Inputs!$D$9,0,1))","v":1},{"$f":"IF(O960=\"\",\"\",IF(O960>Inputs!$D$9,0,1))","v":1},{"$f":"IF(COUNT(P960:U960)=0,\"\",INDEX(Inputs!$O$21:$P$26,MATCH(COUNT(P960:U960),Inputs!$O$21:$O$26,0),2))","v":20},1,null,null,{"$f":"IF(D960=\"\",\"\",IF(D960=\"-\",\"\",IF(D960>AVERAGE($D$2:$D$1000),1,0)))","v":1},1,1,1,1,1,1]
[{"$f":"'SIP Returns'!B962","v":0},null,{"$f":"'SIP Returns'!D962","v":0},{"$f":"'SIP Returns'!E962","v":0},{"$f":"'SIP Returns'!F962","v":0},{"$f":"'SIP Returns'!G962","v":0},{"$f":"'SIP Returns'!H962","v":0},{"$f":"'SIP Returns'!I962","v":0},{"$f":"'SIP Returns'!J962","v":0},1,10,8,4,1,1,{"$f":"IF(J961=\"\",\"\",IF(J961>Inputs!$D$9,0,1))","v":1},{"$f":"IF(K961=\"\",\"\",IF(K961>Inputs!$D$9,0,1))","v":1},{"$f":"IF(L961=\"\",\"\",IF(L961>Inputs!$D$9,0,1))","v":1},{"$f":"IF(M961=\"\",\"\",IF(M961>Inputs!$D$9,0,1))","v":1},{"$f":"IF(N961=\"\",\"\",IF(N961>Inputs!$D$9,0,1))","v":1},{"$f":"IF(O961=\"\",\"\",IF(O961>Inputs!$D$9,0,1))","v":1},{"$f":"IF(COUNT(P961:U961)=0,\"\",INDEX(Inputs!$O$21:$P$26,MATCH(COUNT(P961:U961),Inputs!$O$21:$O$26,0),2))","v":20},1,null,null,{"$f":"IF(D961=\"\",\"\",IF(D961=\"-\",\"\",IF(D961>AVERAGE($D$2:$D$1000),1,0)))","v":1},1,1,1,1,1,1]
[{"$f":"'SIP Returns'!B963","v":0},null,{"$f":"'SIP Returns'!D963","v":0},{"$f":"'SIP Returns'!E963","v":0},{"$f":"'SIP Returns'!F963","v":0},{"$f":"'SIP Returns'!G963","v":0},{"$f":"'SIP Returns'!H963","v":0},{"$f":"'SIP Returns'!I963","v":0},{"$f":"'SIP Returns'!J963","v":0},{"$f":"IF($A962=\"\",\"\",IF(ISERROR(RANK(D962,$D$2:$D$1000,0)),\"\",RANK(D962,$D$2:$D$1000,0)))","v":1},{"$f":"IF($A962=\"\",\"\",IF(ISERROR(RANK(E962,$E$2:$E$1000,0)),\"\",RANK(E962,$E$2:$E$1000,0)))","v":10},{"$f":"IF($A962=\"\",\"\",IF(ISERROR(RANK(F962,$F$2:$F$1000,0)),\"\",RANK(F962,$F$2:$F$1000,0)))","v":8},{"$f":"IF($A962=\"\",\"\",IF(ISERROR(RANK(G962,$G$2:$G$1000,0)),\"\",RANK(G962,$G$2:$G$1000,0)))","v":4},{"$f":"IF($A962=\"\",\"\",IF(ISERROR(RANK(H962,$H$2:$H$1000,0)),\"\",RANK(H962,$H$2:$H$1000,0)))","v":1},{"$f":"IF($A962=\"\",\"\",IF(ISERROR(RANK(I962,$I$2:$I$1000,0)),\"\",RANK(I962,$I$2:$I$1000,0)))","v":1},{"$f":"IF(J962=\"\",\"\",IF(J962>Inputs!$D$9,0,1))","v":1},{"$f":"IF(K962=\"\",\"\",IF(K962>Inputs!$D$9,0,1))","v":1},{"$f":"IF(L962=\"\",\"\",IF(L962>Inputs!$D$9,0,1))","v":1},{"$f":"IF(M962=\"\",\"\",IF(M962>Inputs!$D$9,0,1))","v":1},{"$f":"IF(N962=\"\",\"\",IF(N962>Inputs!$D$9,0,1))","v":1},{"$f":"IF(O962=\"\",\"\",IF(O962>Inputs!$D$9,0,1))","v":1},{"$f":"IF(COUNT(P962:U962)=0,\"\",INDEX(Inputs!$O$21:$P$26,MATCH(COUNT(P962:U962),Inputs!$O$21:$O$26,0),2))","v":20},1,null,null,{"$f":"IF(D962=\"\",\"\",IF(D962=\"-\",\"\",IF(D962>AVERAGE($D$2:$D$1000),1,0)))","v":1},1,1,1,1,1,{"$f":"IF(COUNT(Z962:AE962)=0,\"\",SUM(Z962:AE962)/COUNT(Z962:AE962))","v":1}]
[{"$f":"'SIP Returns'!B964","v":0},null,{"$f":"'SIP Returns'!D964","v":0},{"$f":"'SIP Returns'!E964","v":0},{"$f":"'SIP Returns'!F964","v":0},{"$f":"'SIP Returns'!G964","v":0},{"$f":"'SIP Returns'!H964","v":0},{"$f":"'SIP Returns'!I964","v":0},{"$f":"'SIP Returns'!J964","v":0},1,10,8,4,1,1,{"$f":"IF(J963=\"\",\"\",IF(J963>Inputs!$D$9,0,1))","v":1},{"$f":"IF(K963=\"\",\"\",IF(K963>Inputs!$D$9,0,1))","v":1},{"$f":"IF(L963=\"\",\"\",IF(L963>Inputs!$D$9,0,1))","v":1},{"$f":"IF(M963=\"\",\"\",IF(M963>Inputs!$D$9,0,1))","v":1},{"$f":"IF(N963=\"\",\"\",IF(N963>Inputs!$D$9,0,1))","v":1},{"$f":"IF(O963=\"\",\"\",IF(O963>Inputs!$D$9,0,1))","v":1},{"$f":"IF(COUNT(P963:U963)=0,\"\",INDEX(Inputs!$O$21:$P$26,MATCH(COUNT(P963:U963),Inputs!$O$21:$O$26,0),2))","v":20},{"$f":"IF(COUNT(P963:U963)=0,\"\",SUM(P963:U963)/COUNT(P963:U963))","v":1},null,null,{"$f":"IF(D963=\"\",\"\",IF(D963=\"-\",\"\",IF(D963>AVERAGE($D$2:$D$1000),1,0)))","v":1},1,1,1,1,1,1]
[{"$f":"'SIP Returns'!B965","v":0},null,{"$f":"'SIP Returns'!D965","v":0},{"$f":"'SIP Returns'!E965","v":0},{"$f":"'SIP Returns'!F965","v":0},{"$f":"'SIP Returns'!G965","v":0},{"$f":"'SIP Returns'!H965","v":0},{"$f":"'SIP Returns'!I965","v":0},{"$f":"'SIP Returns'!J965","v":0},1,10,8,4,1,1,{"$f":"IF(J964=\"\",\"\",IF(J964>Inputs!$D$9,0,1))","v":1},{"$f":"IF(K964=\"\",\"\",IF(K964>Inputs!$D$9,0,1))","v":1},{"$f":"IF(L964=\"\",\"\",IF(L964>Inputs!$D$9,0,1))","v":1},{"$f":"IF(M964=\"\",\"\",IF(M964>Inputs!$D$9,0,1))","v":1},{"$f":"IF(N964=\"\",\"\",IF(N964>Inputs!$D$9,0,1))","v":1},{"$f":"IF(O964=\"\",\"\",IF(O964>Inputs!$D$9,0,1))","v":1},{"$f":"IF(COUNT(P964:U964)=0,\"\",INDEX(Inputs!$O$21:$P$26,MATCH(COUNT(P964:U964),Inputs!$O$21:$O$26,0),2))","v":20},1,null,null,{"$f":"IF(D964=\"\",\"\",IF(D964=\"-\",\"\",IF(D964>AVERAGE($D$2:$D$1000),1,0)))","v":1},1,1,1,1,1,1]
[{"$f":"'SIP Returns'!B966","v":0},null,{"$f":"'SIP Returns'!D966","v":0},{"$f":"'SIP Returns'!E966","v":0},{"$f":"'SIP Returns'!F966","v":0},{"$f":"'SIP Returns'!G966","v":0},{"$f":"'SIP Returns'!H966","v":0},{"$f":"'SIP Returns'!I966","v":0},{"$f":"'SIP Returns'!J966","v":0},1,10,8,4,1,1,{"$f":"IF(J965=\"\",\"\",IF(J965>Inputs!$D$9,0,1))","v":1},{"$f":"IF(K965=\"\",\"\",IF(K965>Inputs!$D$9,0,1))","v":1},{"$f":"IF(L965=\"\",\"\",IF(L965>Inputs!$D$9,0,1))","v":1},{"$f":"IF(M965=\"\",\"\",IF(M965>Inputs!$D$9,0,1))","v":1},{"$f":"IF(N965=\"\",\"\",IF(N965>Inputs!$D$9,0,1))","v":1},{"$f":"IF(O965=\"\",\"\",IF(O965>Inputs!$D$9,0,1))","v":1},{"$f":"IF(COUNT(P965:U965)=0,\"\",INDEX(Inputs!$O$21:$P$26,MATCH(COUNT(P965:U965),Inputs!$O$21:$O$26,0),2))","v":20},1,null,null,{"$f":"IF(D965=\"\",\"\",IF(D965=\"-\",\"\",IF(D965>AVERAGE($D$2:$D$1000),1,0)))","v":1},1,1,1,1,1,1]
[{"$f":"'SIP Returns'!B967","v":0},null,{"$f":"'SIP Returns'!D967","v":0},{"$f":"'SIP Returns'!E967","v":0},{"$f":"'SIP Returns'!F967","v":0},{"$f":"'SIP Returns'!G967","v":0},{"$f":"'SIP Returns'!H967","v":0},{"$f":"'SIP Returns'!I967","v":0},{"$f":"'SIP Returns'!J967","v":0},1,10,8,4,1,1,{"$f":"IF(J966=\"\",\"\",IF(J966>Inputs!$D$9,0,1))","v":1},{"$f":"IF(K966=\"\",\"\",IF(K966>Inputs!$D$9,0,1))","v":1},{"$f":"IF(L966=\"\",\"\",IF(L966>Inputs!$D$9,0,1))","v":1},{"$f":"IF(M966=\"\",\"\",IF(M966>Inputs!$D$9,0,1))","v":1},{"$f":"IF(N966=\"\",\"\",IF(N966>Inputs!$D$9,0,1))","v":1},{"$f":"IF(O966=\"\",\"\",IF(O966>Inputs!$D$9,0,1))","v":1},{"$f":"IF(COUNT(P966:U966)=0,\"\",INDEX(Inputs!$O$21:$P$26,MATCH(COUNT(P966:U966),Inputs!$O$21:$O$26,0),2))","v":20},1,null,null,{"$f":"IF(D966=\"\",\"\",IF(D966=\"-\",\"\",IF(D966>AVERAGE($D$2:$D$1000),1,0)))","v":1},1,1,1,1,1,1]
[{"$f":"'SIP Returns'!B968","v":0},null,{"$f":"'SIP Returns'!D968","v":0},{"$f":"'SIP Returns'!E968","v":0},{"$f":"'SIP Returns'!F968","v":0},{"$f":"'SIP Returns'!G968","v":0},{"$f":"'SIP Returns'!H968","v":0},{"$f":"'SIP Returns'!I968","v":0},{"$f":"'SIP Returns'!J968","v":0},1,10,8,4,1,1,{"$f":"IF(J967=\"\",\"\",IF(J967>Inputs!$D$9,0,1))","v":1},{"$f":"IF(K967=\"\",\"\",IF(K967>Inputs!$D$9,0,1))","v":1},{"$f":"IF(L967=\"\",\"\",IF(L967>Inputs!$D$9,0,1))","v":1},{"$f":"IF(M967=\"\",\"\",IF(M967>Inputs!$D$9,0,1))","v":1},{"$f":"IF(N967=\"\",\"\",IF(N967>Inputs!$D$9,0,1))","v":1},{"$f":"IF(O967=\"\",\"\",IF(O967>Inputs!$D$9,0,1))","v":1},{"$f":"IF(COUNT(P967:U967)=0,\"\",INDEX(Inputs!$O$21:$P$26,MATCH(COUNT(P967:U967),Inputs!$O$21:$O$26,0),2))","v":20},1,null,null,{"$f":"IF(D967=\"\",\"\",IF(D967=\"-\",\"\",IF(D967>AVERAGE($D$2:$D$1000),1,0)))","v":1},1,1,1,1,1,1]
[{"$f":"'SIP Returns'!B969","v":0},null,{"$f":"'SIP Returns'!D969","v":0},{"$f":"'SIP Returns'!E969","v":0},{"$f":"'SIP Returns'!F969","v":0},{"$f":"'SIP Returns'!G969","v":0},{"$f":"'SIP Returns'!H969","v":0},{"$f":"'SIP Returns'!I969","v":0},{"$f":"'SIP Returns'!J969","v":0},1,10,8,4,1,1,{"$f":"IF(J968=\"\",\"\",IF(J968>Inputs!$D$9,0,1))","v":1},{"$f":"IF(K968=\"\",\"\",IF(K968>Inputs!$D$9,0,1))","v":1},{"$f":"IF(L968=\"\",\"\",IF(L968>Inputs!$D$9,0,1))","v":1},{"$f":"IF(M968=\"\",\"\",IF(M968>Inputs!$D$9,0,1))","v":1},{"$f":"IF(N968=\"\",\"\",IF(N968>Inputs!$D$9,0,1))","v":1},{"$f":"IF(O968=\"\",\"\",IF(O968>Inputs!$D$9,0,1))","v":1},{"$f":"IF(COUNT(P968:U968)=0,\"\",INDEX(Inputs!$O$21:$P$26,MATCH(COUNT(P968:U968),Inputs!$O$21:$O$26,0),2))","v":20},1,null,null,{"$f":"IF(D968=\"\",\"\",IF(D968=\"-\",\"\",IF(D968>AVERAGE($D$2:$D$1000),1,0)))","v":1},1,1,1,1,1,1]
[{"$f":"'SIP Returns'!B970","v":0},null,{"$f":"'SIP Returns'!D970","v":0},{"$f":"'SIP Returns'!E970","v":0},{"$f":"'SIP Returns'!F970","v":0},{"$f":"'SIP Returns'!G970","v":0},{"$f":"'SIP Returns'!H970","v":0},{"$f":"'SIP Returns'!I970","v":0},{"$f":"'SIP Returns'!J970","v":0},1,10,8,4,1,1,{"$f":"IF(J969=\"\",\"\",IF(J969>Inputs!$D$9,0,1))","v":1},{"$f":"IF(K969=\"\",\"\",IF(K969>Inputs!$D$9,0,1))","v":1},{"$f":"IF(L969=\"\",\"\",IF(L969>Inputs!$D$9,0,1))","v":1},{"$f":"IF(M969=\"\",\"\",IF(M969>Inputs!$D$9,0,1))","v":1},{"$f":"IF(N969=\"\",\"\",IF(N969>Inputs!$D$9,0,1))","v":1},{"$f":"IF(O969=\"\",\"\",IF(O969>Inputs!$D$9,0,1))","v":1},{"$f":"IF(COUNT(P969:U969)=0,\"\",INDEX(Inputs!$O$21:$P$26,MATCH(COUNT(P969:U969),Inputs!$O$21:$O$26,0),2))","v":20},1,null,null,{"$f":"IF(D969=\"\",\"\",IF(D969=\"-\",\"\",IF(D969>AVERAGE($D$2:$D$1000),1,0)))","v":1},1,1,1,1,1,1]
[{"$f":"'SIP Returns'!B971","v":0},null,{"$f":"'SIP Returns'!D971","v":0},{"$f":"'SIP Returns'!E971","v":0},{"$f":"'SIP Returns'!F971","v":0},{"$f":"'SIP Returns'!G971","v":0},{"$f":"'SIP Returns'!H971","v":0},{"$f":"'SIP Returns'!I971","v":0},{"$f":"'SIP Returns'!J971","v":0},1,10,8,4,1,1,{"$f":"IF(J970=\"\",\"\",IF(J970>Inputs!$D$9,0,1))","v":1},{"$f":"IF(K970=\"\",\"\",IF(K970>Inputs!$D$9,0,1))","v":1},{"$f":"IF(L970=\"\",\"\",IF(L970>Inputs!$D$9,0,1))","v":1},{"$f":"IF(M970=\"\",\"\",IF(M970>Inputs!$D$9,0,1))","v":1},{"$f":"IF(N970=\"\",\"\",IF(N970>Inputs!$D$9,0,1))","v":1},{"$f":"IF(O970=\"\",\"\",IF(O970>Inputs!$D$9,0,1))","v":1},{"$f":"IF(COUNT(P970:U970)=0,\"\",INDEX(Inputs!$O$21:$P$26,MATCH(COUNT(P970:U970),Inputs!$O$21:$O$26,0),2))","v":20},1,null,null,{"$f":"IF(D970=\"\",\"\",IF(D970=\"-\",\"\",IF(D970>AVERAGE($D$2:$D$1000),1,0)))","v":1},1,1,1,1,1,1]
[{"$f":"'SIP Returns'!B972","v":0},null,{"$f":"'SIP Returns'!D972","v":0},{"$f":"'SIP Returns'!E972","v":0},{"$f":"'SIP Returns'!F972","v":0},{"$f":"'SIP Returns'!G972","v":0},{"$f":"'SIP Returns'!H972","v":0},{"$f":"'SIP Returns'!I972","v":0},{"$f":"'SIP Returns'!J972","v":0},1,10,8,4,1,1,{"$f":"IF(J971=\"\",\"\",IF(J971>Inputs!$D$9,0,1))","v":1},{"$f":"IF(K971=\"\",\"\",IF(K971>Inputs!$D$9,0,1))","v":1},{"$f":"IF(L971=\"\",\"\",IF(L971>Inputs!$D$9,0,1))","v":1},{"$f":"IF(M971=\"\",\"\",IF(M971>Inputs!$D$9,0,1))","v":1},{"$f":"IF(N971=\"\",\"\",IF(N971>Inputs!$D$9,0,1))","v":1},{"$f":"IF(O971=\"\",\"\",IF(O971>Inputs!$D$9,0,1))","v":1},{"$f":"IF(COUNT(P971:U971)=0,\"\",INDEX(Inputs!$O$21:$P$26,MATCH(COUNT(P971:U971),Inputs!$O$21:$O$26,0),2))","v":20},1,null,null,{"$f":"IF(D971=\"\",\"\",IF(D971=\"-\",\"\",IF(D971>AVERAGE($D$2:$D$1000),1,0)))","v":1},1,1,1,1,1,1]
[{"$f":"'SIP Returns'!B973","v":0},null,{"$f":"'SIP Returns'!D973","v":0},{"$f":"'SIP Returns'!E973","v":0},{"$f":"'SIP Returns'!F973","v":0},{"$f":"'SIP Returns'!G973","v":0},{"$f":"'SIP Returns'!H973","v":0},{"$f":"'SIP Returns'!I973","v":0},{"$f":"'SIP Returns'!J973","v":0},1,10,8,4,1,1,{"$f":"IF(J972=\"\",\"\",IF(J972>Inputs!$D$9,0,1))","v":1},{"$f":"IF(K972=\"\",\"\",IF(K972>Inputs!$D$9,0,1))","v":1},{"$f":"IF(L972=\"\",\"\",IF(L972>Inputs!$D$9,0,1))","v":1},{"$f":"IF(M972=\"\",\"\",IF(M972>Inputs!$D$9,0,1))","v":1},{"$f":"IF(N972=\"\",\"\",IF(N972>Inputs!$D$9,0,1))","v":1},{"$f":"IF(O972=\"\",\"\",IF(O972>Inputs!$D$9,0,1))","v":1},{"$f":"IF(COUNT(P972:U972)=0,\"\",INDEX(Inputs!$O$21:$P$26,MATCH(COUNT(P972:U972),Inputs!$O$21:$O$26,0),2))","v":20},1,null,null,{"$f":"IF(D972=\"\",\"\",IF(D972=\"-\",\"\",IF(D972>AVERAGE($D$2:$D$1000),1,0)))","v":1},1,1,1,1,1,1]
[{"$f":"'SIP Returns'!B974","v":0},null,{"$f":"'SIP Returns'!D974","v":0},{"$f":"'SIP Returns'!E974","v":0},{"$f":"'SIP Returns'!F974","v":0},{"$f":"'SIP Returns'!G974","v":0},{"$f":"'SIP Returns'!H974","v":0},{"$f":"'SIP Returns'!I974","v":0},{"$f":"'SIP Returns'!J974","v":0},1,10,8,4,1,1,{"$f":"IF(J973=\"\",\"\",IF(J973>Inputs!$D$9,0,1))","v":1},{"$f":"IF(K973=\"\",\"\",IF(K973>Inputs!$D$9,0,1))","v":1},{"$f":"IF(L973=\"\",\"\",IF(L973>Inputs!$D$9,0,1))","v":1},{"$f":"IF(M973=\"\",\"\",IF(M973>Inputs!$D$9,0,1))","v":1},{"$f":"IF(N973=\"\",\"\",IF(N973>Inputs!$D$9,0,1))","v":1},{"$f":"IF(O973=\"\",\"\",IF(O973>Inputs!$D$9,0,1))","v":1},{"$f":"IF(COUNT(P973:U973)=0,\"\",INDEX(Inputs!$O$21:$P$26,MATCH(COUNT(P973:U973),Inputs!$O$21:$O$26,0),2))","v":20},1,null,null,{"$f":"IF(D973=\"\",\"\",IF(D973=\"-\",\"\",IF(D973>AVERAGE($D$2:$D$1000),1,0)))","v":1},1,1,1,1,1,1]
[{"$f":"'SIP Returns'!B975","v":0},null,{"$f":"'SIP Returns'!D975","v":0},{"$f":"'SIP Returns'!E975","v":0},{"$f":"'SIP Returns'!F975","v":0},{"$f":"'SIP Returns'!G975","v":0},{"$f":"'SIP Returns'!H975","v":0},{"$f":"'SIP Returns'!I975","v":0},{"$f":"'SIP Returns'!J975","v":0},1,10,8,4,1,1,{"$f":"IF(J974=\"\",\"\",IF(J974>Inputs!$D$9,0,1))","v":1},{"$f":"IF(K974=\"\",\"\",IF(K974>Inputs!$D$9,0,1))","v":1},{"$f":"IF(L974=\"\",\"\",IF(L974>Inputs!$D$9,0,1))","v":1},{"$f":"IF(M974=\"\",\"\",IF(M974>Inputs!$D$9,0,1))","v":1},{"$f":"IF(N974=\"\",\"\",IF(N974>Inputs!$D$9,0,1))","v":1},{"$f":"IF(O974=\"\",\"\",IF(O974>Inputs!$D$9,0,1))","v":1},{"$f":"IF(COUNT(P974:U974)=0,\"\",INDEX(Inputs!$O$21:$P$26,MATCH(COUNT(P974:U974),Inputs!$O$21:$O$26,0),2))","v":20},1,null,null,{"$f":"IF(D974=\"\",\"\",IF(D974=\"-\",\"\",IF(D974>AVERAGE($D$2:$D$1000),1,0)))","v":1},1,1,1,1,1,1]
[{"$f":"'SIP Returns'!B976","v":0},null,{"$f":"'SIP Returns'!D976","v":0},{"$f":"'SIP Returns'!E976","v":0},{"$f":"'SIP Returns'!F976","v":0},{"$f":"'SIP Returns'!G976","v":0},{"$f":"'SIP Returns'!H976","v":0},{"$f":"'SIP Returns'!I976","v":0},{"$f":"'SIP Returns'!J976","v":0},1,10,8,4,1,1,{"$f":"IF(J975=\"\",\"\",IF(J975>Inputs!$D$9,0,1))","v":1},{"$f":"IF(K975=\"\",\"\",IF(K975>Inputs!$D$9,0,1))","v":1},{"$f":"IF(L975=\"\",\"\",IF(L975>Inputs!$D$9,0,1))","v":1},{"$f":"IF(M975=\"\",\"\",IF(M975>Inputs!$D$9,0,1))","v":1},{"$f":"IF(N975=\"\",\"\",IF(N975>Inputs!$D$9,0,1))","v":1},{"$f":"IF(O975=\"\",\"\",IF(O975>Inputs!$D$9,0,1))","v":1},{"$f":"IF(COUNT(P975:U975)=0,\"\",INDEX(Inputs!$O$21:$P$26,MATCH(COUNT(P975:U975),Inputs!$O$21:$O$26,0),2))","v":20},1,null,null,{"$f":"IF(D975=\"\",\"\",IF(D975=\"-\",\"\",IF(D975>AVERAGE($D$2:$D$1000),1,0)))","v":1},1,1,1,1,1,1]
[{"$f":"'SIP Returns'!B977","v":0},null,{"$f":"'SIP Returns'!D977","v":0},{"$f":"'SIP Returns'!E977","v":0},{"$f":"'SIP Returns'!F977","v":0},{"$f":"'SIP Returns'!G977","v":0},{"$f":"'SIP Returns'!H977","v":0},{"$f":"'SIP Returns'!I977","v":0},{"$f":"'SIP Returns'!J977","v":0},1,10,8,4,1,1,{"$f":"IF(J976=\"\",\"\",IF(J976>Inputs!$D$9,0,1))","v":1},{"$f":"IF(K976=\"\",\"\",IF(K976>Inputs!$D$9,0,1))","v":1},{"$f":"IF(L976=\"\",\"\",IF(L976>Inputs!$D$9,0,1))","v":1},{"$f":"IF(M976=\"\",\"\",IF(M976>Inputs!$D$9,0,1))","v":1},{"$f":"IF(N976=\"\",\"\",IF(N976>Inputs!$D$9,0,1))","v":1},{"$f":"IF(O976=\"\",\"\",IF(O976>Inputs!$D$9,0,1))","v":1},{"$f":"IF(COUNT(P976:U976)=0,\"\",INDEX(Inputs!$O$21:$P$26,MATCH(COUNT(P976:U976),Inputs!$O$21:$O$26,0),2))","v":20},1,null,null,{"$f":"IF(D976=\"\",\"\",IF(D976=\"-\",\"\",IF(D976>AVERAGE($D$2:$D$1000),1,0)))","v":1},1,1,1,1,1,1]
[{"$f":"'SIP Returns'!B978","v":0},null,{"$f":"'SIP Returns'!D978","v":0},{"$f":"'SIP Returns'!E978","v":0},{"$f":"'SIP Returns'!F978","v":0},{"$f":"'SIP Returns'!G978","v":0},{"$f":"'SIP Returns'!H978","v":0},{"$f":"'SIP Returns'!I978","v":0},{"$f":"'SIP Returns'!J978","v":0},1,10,8,4,1,1,{"$f":"IF(J977=\"\",\"\",IF(J977>Inputs!$D$9,0,1))","v":1},{"$f":"IF(K977=\"\",\"\",IF(K977>Inputs!$D$9,0,1))","v":1},{"$f":"IF(L977=\"\",\"\",IF(L977>Inputs!$D$9,0,1))","v":1},{"$f":"IF(M977=\"\",\"\",IF(M977>Inputs!$D$9,0,1))","v":1},{"$f":"IF(N977=\"\",\"\",IF(N977>Inputs!$D$9,0,1))","v":1},{"$f":"IF(O977=\"\",\"\",IF(O977>Inputs!$D$9,0,1))","v":1},{"$f":"IF(COUNT(P977:U977)=0,\"\",INDEX(Inputs!$O$21:$P$26,MATCH(COUNT(P977:U977),Inputs!$O$21:$O$26,0),2))","v":20},1,null,null,{"$f":"IF(D977=\"\",\"\",IF(D977=\"-\",\"\",IF(D977>AVERAGE($D$2:$D$1000),1,0)))","v":1},1,1,1,1,1,1]
[{"$f":"'SIP Returns'!B979","v":0},null,{"$f":"'SIP Returns'!D979","v":0},{"$f":"'SIP Returns'!E979","v":0},{"$f":"'SIP Returns'!F979","v":0},{"$f":"'SIP Returns'!G979","v":0},{"$f":"'SIP Returns'!H979","v":0},{"$f":"'SIP Returns'!I979","v":0},{"$f":"'SIP Returns'!J979","v":0},1,10,8,4,1,1,{"$f":"IF(J978=\"\",\"\",IF(J978>Inputs!$D$9,0,1))","v":1},{"$f":"IF(K978=\"\",\"\",IF(K978>Inputs!$D$9,0,1))","v":1},{"$f":"IF(L978=\"\",\"\",IF(L978>Inputs!$D$9,0,1))","v":1},{"$f":"IF(M978=\"\",\"\",IF(M978>Inputs!$D$9,0,1))","v":1},{"$f":"IF(N978=\"\",\"\",IF(N978>Inputs!$D$9,0,1))","v":1},{"$f":"IF(O978=\"\",\"\",IF(O978>Inputs!$D$9,0,1))","v":1},{"$f":"IF(COUNT(P978:U978)=0,\"\",INDEX(Inputs!$O$21:$P$26,MATCH(COUNT(P978:U978),Inputs!$O$21:$O$26,0),2))","v":20},1,null,null,{"$f":"IF(D978=\"\",\"\",IF(D978=\"-\",\"\",IF(D978>AVERAGE($D$2:$D$1000),1,0)))","v":1},1,1,1,1,1,1]
[{"$f":"'SIP Returns'!B980","v":0},null,{"$f":"'SIP Returns'!D980","v":0},{"$f":"'SIP Returns'!E980","v":0},{"$f":"'SIP Returns'!F980","v":0},{"$f":"'SIP Returns'!G980","v":0},{"$f":"'SIP Returns'!H980","v":0},{"$f":"'SIP Returns'!I980","v":0},{"$f":"'SIP Returns'!J980","v":0},1,10,8,4,1,1,{"$f":"IF(J979=\"\",\"\",IF(J979>Inputs!$D$9,0,1))","v":1},{"$f":"IF(K979=\"\",\"\",IF(K979>Inputs!$D$9,0,1))","v":1},{"$f":"IF(L979=\"\",\"\",IF(L979>Inputs!$D$9,0,1))","v":1},{"$f":"IF(M979=\"\",\"\",IF(M979>Inputs!$D$9,0,1))","v":1},{"$f":"IF(N979=\"\",\"\",IF(N979>Inputs!$D$9,0,1))","v":1},{"$f":"IF(O979=\"\",\"\",IF(O979>Inputs!$D$9,0,1))","v":1},{"$f":"IF(COUNT(P979:U979)=0,\"\",INDEX(Inputs!$O$21:$P$26,MATCH(COUNT(P979:U979),Inputs!$O$21:$O$26,0),2))","v":20},1,null,null,{"$f":"IF(D979=\"\",\"\",IF(D979=\"-\",\"\",IF(D979>AVERAGE($D$2:$D$1000),1,0)))","v":1},1,1,1,1,1,1]
[{"$f":"'SIP Returns'!B981","v":0},null,{"$f":"'SIP Returns'!D981","v":0},{"$f":"'SIP Returns'!E981","v":0},{"$f":"'SIP Returns'!F981","v":0},{"$f":"'SIP Returns'!G981","v":0},{"$f":"'SIP Returns'!H981","v":0},{"$f":"'SIP Returns'!I981","v":0},{"$f":"'SIP Returns'!J981","v":0},1,10,8,4,1,1,{"$f":"IF(J980=\"\",\"\",IF(J980>Inputs!$D$9,0,1))","v":1},{"$f":"IF(K980=\"\",\"\",IF(K980>Inputs!$D$9,0,1))","v":1},{"$f":"IF(L980=\"\",\"\",IF(L980>Inputs!$D$9,0,1))","v":1},{"$f":"IF(M980=\"\",\"\",IF(M980>Inputs!$D$9,0,1))","v":1},{"$f":"IF(N980=\"\",\"\",IF(N980>Inputs!$D$9,0,1))","v":1},{"$f":"IF(O980=\"\",\"\",IF(O980>Inputs!$D$9,0,1))","v":1},{"$f":"IF(COUNT(P980:U980)=0,\"\",INDEX(Inputs!$O$21:$P$26,MATCH(COUNT(P980:U980),Inputs!$O$21:$O$26,0),2))","v":20},1,null,null,{"$f":"IF(D980=\"\",\"\",IF(D980=\"-\",\"\",IF(D980>AVERAGE($D$2:$D$1000),1,0)))","v":1},1,1,1,1,1,1]
[{"$f":"'SIP Returns'!B982","v":0},null,{"$f":"'SIP Returns'!D982","v":0},{"$f":"'SIP Returns'!E982","v":0},{"$f":"'SIP Returns'!F982","v":0},{"$f":"'SIP Returns'!G982","v":0},{"$f":"'SIP Returns'!H982","v":0},{"$f":"'SIP Returns'!I982","v":0},{"$f":"'SIP Returns'!J982","v":0},1,10,8,4,1,1,{"$f":"IF(J981=\"\",\"\",IF(J981>Inputs!$D$9,0,1))","v":1},{"$f":"IF(K981=\"\",\"\",IF(K981>Inputs!$D$9,0,1))","v":1},{"$f":"IF(L981=\"\",\"\",IF(L981>Inputs!$D$9,0,1))","v":1},{"$f":"IF(M981=\"\",\"\",IF(M981>Inputs!$D$9,0,1))","v":1},{"$f":"IF(N981=\"\",\"\",IF(N981>Inputs!$D$9,0,1))","v":1},{"$f":"IF(O981=\"\",\"\",IF(O981>Inputs!$D$9,0,1))","v":1},{"$f":"IF(COUNT(P981:U981)=0,\"\",INDEX(Inputs!$O$21:$P$26,MATCH(COUNT(P981:U981),Inputs!$O$21:$O$26,0),2))","v":20},1,null,null,{"$f":"IF(D981=\"\",\"\",IF(D981=\"-\",\"\",IF(D981>AVERAGE($D$2:$D$1000),1,0)))","v":1},1,1,1,1,1,1]
[{"$f":"'SIP Returns'!B983","v":0},null,{"$f":"'SIP Returns'!D983","v":0},{"$f":"'SIP Returns'!E983","v":0},{"$f":"'SIP Returns'!F983","v":0},{"$f":"'SIP Returns'!G983","v":0},{"$f":"'SIP Returns'!H983","v":0},{"$f":"'SIP Returns'!I983","v":0},{"$f":"'SIP Returns'!J983","v":0},1,10,8,4,1,1,{"$f":"IF(J982=\"\",\"\",IF(J982>Inputs!$D$9,0,1))","v":1},{"$f":"IF(K982=\"\",\"\",IF(K982>Inputs!$D$9,0,1))","v":1},{"$f":"IF(L982=\"\",\"\",IF(L982>Inputs!$D$9,0,1))","v":1},{"$f":"IF(M982=\"\",\"\",IF(M982>Inputs!$D$9,0,1))","v":1},{"$f":"IF(N982=\"\",\"\",IF(N982>Inputs!$D$9,0,1))","v":1},{"$f":"IF(O982=\"\",\"\",IF(O982>Inputs!$D$9,0,1))","v":1},{"$f":"IF(COUNT(P982:U982)=0,\"\",INDEX(Inputs!$O$21:$P$26,MATCH(COUNT(P982:U982),Inputs!$O$21:$O$26,0),2))","v":20},1,null,null,{"$f":"IF(D982=\"\",\"\",IF(D982=\"-\",\"\",IF(D982>AVERAGE($D$2:$D$1000),1,0)))","v":1},1,1,1,1,1,1]
[{"$f":"'SIP Returns'!B984","v":0},null,{"$f":"'SIP Returns'!D984","v":0},{"$f":"'SIP Returns'!E984","v":0},{"$f":"'SIP Returns'!F984","v":0},{"$f":"'SIP Returns'!G984","v":0},{"$f":"'SIP Returns'!H984","v":0},{"$f":"'SIP Returns'!I984","v":0},{"$f":"'SIP Returns'!J984","v":0},1,10,8,4,1,1,{"$f":"IF(J983=\"\",\"\",IF(J983>Inputs!$D$9,0,1))","v":1},{"$f":"IF(K983=\"\",\"\",IF(K983>Inputs!$D$9,0,1))","v":1},{"$f":"IF(L983=\"\",\"\",IF(L983>Inputs!$D$9,0,1))","v":1},{"$f":"IF(M983=\"\",\"\",IF(M983>Inputs!$D$9,0,1))","v":1},{"$f":"IF(N983=\"\",\"\",IF(N983>Inputs!$D$9,0,1))","v":1},{"$f":"IF(O983=\"\",\"\",IF(O983>Inputs!$D$9,0,1))","v":1},{"$f":"IF(COUNT(P983:U983)=0,\"\",INDEX(Inputs!$O$21:$P$26,MATCH(COUNT(P983:U983),Inputs!$O$21:$O$26,0),2))","v":20},1,null,null,{"$f":"IF(D983=\"\",\"\",IF(D983=\"-\",\"\",IF(D983>AVERAGE($D$2:$D$1000),1,0)))","v":1},1,1,1,1,1,1]
[{"$f":"'SIP Returns'!B985","v":0},null,{"$f":"'SIP Returns'!D985","v":0},{"$f":"'SIP Returns'!E985","v":0},{"$f":"'SIP Returns'!F985","v":0},{"$f":"'SIP Returns'!G985","v":0},{"$f":"'SIP Returns'!H985","v":0},{"$f":"'SIP Returns'!I985","v":0},{"$f":"'SIP Returns'!J985","v":0},1,10,8,4,1,1,{"$f":"IF(J984=\"\",\"\",IF(J984>Inputs!$D$9,0,1))","v":1},{"$f":"IF(K984=\"\",\"\",IF(K984>Inputs!$D$9,0,1))","v":1},{"$f":"IF(L984=\"\",\"\",IF(L984>Inputs!$D$9,0,1))","v":1},{"$f":"IF(M984=\"\",\"\",IF(M984>Inputs!$D$9,0,1))","v":1},{"$f":"IF(N984=\"\",\"\",IF(N984>Inputs!$D$9,0,1))","v":1},{"$f":"IF(O984=\"\",\"\",IF(O984>Inputs!$D$9,0,1))","v":1},{"$f":"IF(COUNT(P984:U984)=0,\"\",INDEX(Inputs!$O$21:$P$26,MATCH(COUNT(P984:U984),Inputs!$O$21:$O$26,0),2))","v":20},1,null,null,{"$f":"IF(D984=\"\",\"\",IF(D984=\"-\",\"\",IF(D984>AVERAGE($D$2:$D$1000),1,0)))","v":1},1,1,1,1,1,1]
[{"$f":"'SIP Returns'!B986","v":0},null,{"$f":"'SIP Returns'!D986","v":0},{"$f":"'SIP Returns'!E986","v":0},{"$f":"'SIP Returns'!F986","v":0},{"$f":"'SIP Returns'!G986","v":0},{"$f":"'SIP Returns'!H986","v":0},{"$f":"'SIP Returns'!I986","v":0},{"$f":"'SIP Returns'!J986","v":0},1,10,8,4,1,1,{"$f":"IF(J985=\"\",\"\",IF(J985>Inputs!$D$9,0,1))","v":1},{"$f":"IF(K985=\"\",\"\",IF(K985>Inputs!$D$9,0,1))","v":1},{"$f":"IF(L985=\"\",\"\",IF(L985>Inputs!$D$9,0,1))","v":1},{"$f":"IF(M985=\"\",\"\",IF(M985>Inputs!$D$9,0,1))","v":1},{"$f":"IF(N985=\"\",\"\",IF(N985>Inputs!$D$9,0,1))","v":1},{"$f":"IF(O985=\"\",\"\",IF(O985>Inputs!$D$9,0,1))","v":1},{"$f":"IF(COUNT(P985:U985)=0,\"\",INDEX(Inputs!$O$21:$P$26,MATCH(COUNT(P985:U985),Inputs!$O$21:$O$26,0),2))","v":20},1,null,null,{"$f":"IF(D985=\"\",\"\",IF(D985=\"-\",\"\",IF(D985>AVERAGE($D$2:$D$1000),1,0)))","v":1},1,1,1,1,1,1]
[{"$f":"'SIP Returns'!B987","v":0},null,{"$f":"'SIP Returns'!D987","v":0},{"$f":"'SIP Returns'!E987","v":0},{"$f":"'SIP Returns'!F987","v":0},{"$f":"'SIP Returns'!G987","v":0},{"$f":"'SIP Returns'!H987","v":0},{"$f":"'SIP Returns'!I987","v":0},{"$f":"'SIP Returns'!J987","v":0},1,10,8,4,1,1,{"$f":"IF(J986=\"\",\"\",IF(J986>Inputs!$D$9,0,1))","v":1},{"$f":"IF(K986=\"\",\"\",IF(K986>Inputs!$D$9,0,1))","v":1},{"$f":"IF(L986=\"\",\"\",IF(L986>Inputs!$D$9,0,1))","v":1},{"$f":"IF(M986=\"\",\"\",IF(M986>Inputs!$D$9,0,1))","v":1},{"$f":"IF(N986=\"\",\"\",IF(N986>Inputs!$D$9,0,1))","v":1},{"$f":"IF(O986=\"\",\"\",IF(O986>Inputs!$D$9,0,1))","v":1},{"$f":"IF(COUNT(P986:U986)=0,\"\",INDEX(Inputs!$O$21:$P$26,MATCH(COUNT(P986:U986),Inputs!$O$21:$O$26,0),2))","v":20},1,null,null,{"$f":"IF(D986=\"\",\"\",IF(D986=\"-\",\"\",IF(D986>AVERAGE($D$2:$D$1000),1,0)))","v":1},1,1,1,1,1,1]
[{"$f":"'SIP Returns'!B988","v":0},null,{"$f":"'SIP Returns'!D988","v":0},{"$f":"'SIP Returns'!E988","v":0},{"$f":"'SIP Returns'!F988","v":0},{"$f":"'SIP Returns'!G988","v":0},{"$f":"'SIP Returns'!H988","v":0},{"$f":"'SIP Returns'!I988","v":0},{"$f":"'SIP Returns'!J988","v":0},1,10,8,4,1,1,{"$f":"IF(J987=\"\",\"\",IF(J987>Inputs!$D$9,0,1))","v":1},{"$f":"IF(K987=\"\",\"\",IF(K987>Inputs!$D$9,0,1))","v":1},{"$f":"IF(L987=\"\",\"\",IF(L987>Inputs!$D$9,0,1))","v":1},{"$f":"IF(M987=\"\",\"\",IF(M987>Inputs!$D$9,0,1))","v":1},{"$f":"IF(N987=\"\",\"\",IF(N987>Inputs!$D$9,0,1))","v":1},{"$f":"IF(O987=\"\",\"\",IF(O987>Inputs!$D$9,0,1))","v":1},{"$f":"IF(COUNT(P987:U987)=0,\"\",INDEX(Inputs!$O$21:$P$26,MATCH(COUNT(P987:U987),Inputs!$O$21:$O$26,0),2))","v":20},1,null,null,{"$f":"IF(D987=\"\",\"\",IF(D987=\"-\",\"\",IF(D987>AVERAGE($D$2:$D$1000),1,0)))","v":1},1,1,1,1,1,1]
[{"$f":"'SIP Returns'!B989","v":0},null,{"$f":"'SIP Returns'!D989","v":0},{"$f":"'SIP Returns'!E989","v":0},{"$f":"'SIP Returns'!F989","v":0},{"$f":"'SIP Returns'!G989","v":0},{"$f":"'SIP Returns'!H989","v":0},{"$f":"'SIP Returns'!I989","v":0},{"$f":"'SIP Returns'!J989","v":0},1,10,8,4,1,1,{"$f":"IF(J988=\"\",\"\",IF(J988>Inputs!$D$9,0,1))","v":1},{"$f":"IF(K988=\"\",\"\",IF(K988>Inputs!$D$9,0,1))","v":1},{"$f":"IF(L988=\"\",\"\",IF(L988>Inputs!$D$9,0,1))","v":1},{"$f":"IF(M988=\"\",\"\",IF(M988>Inputs!$D$9,0,1))","v":1},{"$f":"IF(N988=\"\",\"\",IF(N988>Inputs!$D$9,0,1))","v":1},{"$f":"IF(O988=\"\",\"\",IF(O988>Inputs!$D$9,0,1))","v":1},{"$f":"IF(COUNT(P988:U988)=0,\"\",INDEX(Inputs!$O$21:$P$26,MATCH(COUNT(P988:U988),Inputs!$O$21:$O$26,0),2))","v":20},1,null,null,{"$f":"IF(D988=\"\",\"\",IF(D988=\"-\",\"\",IF(D988>AVERAGE($D$2:$D$1000),1,0)))","v":1},1,1,1,1,1,1]
[{"$f":"'SIP Returns'!B990","v":0},null,{"$f":"'SIP Returns'!D990","v":0},{"$f":"'SIP Returns'!E990","v":0},{"$f":"'SIP Returns'!F990","v":0},{"$f":"'SIP Returns'!G990","v":0},{"$f":"'SIP Returns'!H990","v":0},{"$f":"'SIP Returns'!I990","v":0},{"$f":"'SIP Returns'!J990","v":0},1,10,8,4,1,1,{"$f":"IF(J989=\"\",\"\",IF(J989>Inputs!$D$9,0,1))","v":1},{"$f":"IF(K989=\"\",\"\",IF(K989>Inputs!$D$9,0,1))","v":1},{"$f":"IF(L989=\"\",\"\",IF(L989>Inputs!$D$9,0,1))","v":1},{"$f":"IF(M989=\"\",\"\",IF(M989>Inputs!$D$9,0,1))","v":1},{"$f":"IF(N989=\"\",\"\",IF(N989>Inputs!$D$9,0,1))","v":1},{"$f":"IF(O989=\"\",\"\",IF(O989>Inputs!$D$9,0,1))","v":1},{"$f":"IF(COUNT(P989:U989)=0,\"\",INDEX(Inputs!$O$21:$P$26,MATCH(COUNT(P989:U989),Inputs!$O$21:$O$26,0),2))","v":20},1,null,null,{"$f":"IF(D989=\"\",\"\",IF(D989=\"-\",\"\",IF(D989>AVERAGE($D$2:$D$1000),1,0)))","v":1},1,1,1,1,1,1]
[{"$f":"'SIP Returns'!B991","v":0},null,{"$f":"'SIP Returns'!D991","v":0},{"$f":"'SIP Returns'!E991","v":0},{"$f":"'SIP Returns'!F991","v":0},{"$f":"'SIP Returns'!G991","v":0},{"$f":"'SIP Returns'!H991","v":0},{"$f":"'SIP Returns'!I991","v":0},{"$f":"'SIP Returns'!J991","v":0},1,10,8,4,1,1,{"$f":"IF(J990=\"\",\"\",IF(J990>Inputs!$D$9,0,1))","v":1},{"$f":"IF(K990=\"\",\"\",IF(K990>Inputs!$D$9,0,1))","v":1},{"$f":"IF(L990=\"\",\"\",IF(L990>Inputs!$D$9,0,1))","v":1},{"$f":"IF(M990=\"\",\"\",IF(M990>Inputs!$D$9,0,1))","v":1},{"$f":"IF(N990=\"\",\"\",IF(N990>Inputs!$D$9,0,1))","v":1},{"$f":"IF(O990=\"\",\"\",IF(O990>Inputs!$D$9,0,1))","v":1},{"$f":"IF(COUNT(P990:U990)=0,\"\",INDEX(Inputs!$O$21:$P$26,MATCH(COUNT(P990:U990),Inputs!$O$21:$O$26,0),2))","v":20},1,null,null,{"$f":"IF(D990=\"\",\"\",IF(D990=\"-\",\"\",IF(D990>AVERAGE($D$2:$D$1000),1,0)))","v":1},1,1,1,1,1,1]
[{"$f":"'SIP Returns'!B992","v":0},null,{"$f":"'SIP Returns'!D992","v":0},{"$f":"'SIP Returns'!E992","v":0},{"$f":"'SIP Returns'!F992","v":0},{"$f":"'SIP Returns'!G992","v":0},{"$f":"'SIP Returns'!H992","v":0},{"$f":"'SIP Returns'!I992","v":0},{"$f":"'SIP Returns'!J992","v":0},1,10,8,4,1,1,{"$f":"IF(J991=\"\",\"\",IF(J991>Inputs!$D$9,0,1))","v":1},{"$f":"IF(K991=\"\",\"\",IF(K991>Inputs!$D$9,0,1))","v":1},{"$f":"IF(L991=\"\",\"\",IF(L991>Inputs!$D$9,0,1))","v":1},{"$f":"IF(M991=\"\",\"\",IF(M991>Inputs!$D$9,0,1))","v":1},{"$f":"IF(N991=\"\",\"\",IF(N991>Inputs!$D$9,0,1))","v":1},{"$f":"IF(O991=\"\",\"\",IF(O991>Inputs!$D$9,0,1))","v":1},{"$f":"IF(COUNT(P991:U991)=0,\"\",INDEX(Inputs!$O$21:$P$26,MATCH(COUNT(P991:U991),Inputs!$O$21:$O$26,0),2))","v":20},1,null,null,{"$f":"IF(D991=\"\",\"\",IF(D991=\"-\",\"\",IF(D991>AVERAGE($D$2:$D$1000),1,0)))","v":1},1,1,1,1,1,1]
[{"$f":"'SIP Returns'!B993","v":0},null,{"$f":"'SIP Returns'!D993","v":0},{"$f":"'SIP Returns'!E993","v":0},{"$f":"'SIP Returns'!F993","v":0},{"$f":"'SIP Returns'!G993","v":0},{"$f":"'SIP Returns'!H993","v":0},{"$f":"'SIP Returns'!I993","v":0},{"$f":"'SIP Returns'!J993","v":0},1,10,8,4,1,1,{"$f":"IF(J992=\"\",\"\",IF(J992>Inputs!$D$9,0,1))","v":1},{"$f":"IF(K992=\"\",\"\",IF(K992>Inputs!$D$9,0,1))","v":1},{"$f":"IF(L992=\"\",\"\",IF(L992>Inputs!$D$9,0,1))","v":1},{"$f":"IF(M992=\"\",\"\",IF(M992>Inputs!$D$9,0,1))","v":1},{"$f":"IF(N992=\"\",\"\",IF(N992>Inputs!$D$9,0,1))","v":1},{"$f":"IF(O992=\"\",\"\",IF(O992>Inputs!$D$9,0,1))","v":1},{"$f":"IF(COUNT(P992:U992)=0,\"\",INDEX(Inputs!$O$21:$P$26,MATCH(COUNT(P992:U992),Inputs!$O$21:$O$26,0),2))","v":20},1,null,null,{"$f":"IF(D992=\"\",\"\",IF(D992=\"-\",\"\",IF(D992>AVERAGE($D$2:$D$1000),1,0)))","v":1},1,1,1,1,1,1]
[{"$f":"'SIP Returns'!B994","v":0},null,{"$f":"'SIP Returns'!D994","v":0},{"$f":"'SIP Returns'!E994","v":0},{"$f":"'SIP Returns'!F994","v":0},{"$f":"'SIP Returns'!G994","v":0},{"$f":"'SIP Returns'!H994","v":0},{"$f":"'SIP Returns'!I994","v":0},{"$f":"'SIP Returns'!J994","v":0},1,10,8,4,1,1,{"$f":"IF(J993=\"\",\"\",IF(J993>Inputs!$D$9,0,1))","v":1},{"$f":"IF(K993=\"\",\"\",IF(K993>Inputs!$D$9,0,1))","v":1},{"$f":"IF(L993=\"\",\"\",IF(L993>Inputs!$D$9,0,1))","v":1},{"$f":"IF(M993=\"\",\"\",IF(M993>Inputs!$D$9,0,1))","v":1},{"$f":"IF(N993=\"\",\"\",IF(N993>Inputs!$D$9,0,1))","v":1},{"$f":"IF(O993=\"\",\"\",IF(O993>Inputs!$D$9,0,1))","v":1},{"$f":"IF(COUNT(P993:U993)=0,\"\",INDEX(Inputs!$O$21:$P$26,MATCH(COUNT(P993:U993),Inputs!$O$21:$O$26,0),2))","v":20},1,null,null,{"$f":"IF(D993=\"\",\"\",IF(D993=\"-\",\"\",IF(D993>AVERAGE($D$2:$D$1000),1,0)))","v":1},1,1,1,1,1,1]
[{"$f":"'SIP Returns'!B995","v":0},null,{"$f":"'SIP Returns'!D995","v":0},{"$f":"'SIP Returns'!E995","v":0},{"$f":"'SIP Returns'!F995","v":0},{"$f":"'SIP Returns'!G995","v":0},{"$f":"'SIP Returns'!H995","v":0},{"$f":"'SIP Returns'!I995","v":0},{"$f":"'SIP Returns'!J995","v":0},1,10,8,4,1,1,{"$f":"IF(J994=\"\",\"\",IF(J994>Inputs!$D$9,0,1))","v":1},{"$f":"IF(K994=\"\",\"\",IF(K994>Inputs!$D$9,0,1))","v":1},{"$f":"IF(L994=\"\",\"\",IF(L994>Inputs!$D$9,0,1))","v":1},{"$f":"IF(M994=\"\",\"\",IF(M994>Inputs!$D$9,0,1))","v":1},{"$f":"IF(N994=\"\",\"\",IF(N994>Inputs!$D$9,0,1))","v":1},{"$f":"IF(O994=\"\",\"\",IF(O994>Inputs!$D$9,0,1))","v":1},{"$f":"IF(COUNT(P994:U994)=0,\"\",INDEX(Inputs!$O$21:$P$26,MATCH(COUNT(P994:U994),Inputs!$O$21:$O$26,0),2))","v":20},1,null,null,{"$f":"IF(D994=\"\",\"\",IF(D994=\"-\",\"\",IF(D994>AVERAGE($D$2:$D$1000),1,0)))","v":1},1,1,1,1,1,1]
[{"$f":"'SIP Returns'!B996","v":0},null,{"$f":"'SIP Returns'!D996","v":0},{"$f":"'SIP Returns'!E996","v":0},{"$f":"'SIP Returns'!F996","v":0},{"$f":"'SIP Returns'!G996","v":0},{"$f":"'SIP Returns'!H996","v":0},{"$f":"'SIP Returns'!I996","v":0},{"$f":"'SIP Returns'!J996","v":0},1,10,8,4,1,1,{"$f":"IF(J995=\"\",\"\",IF(J995>Inputs!$D$9,0,1))","v":1},{"$f":"IF(K995=\"\",\"\",IF(K995>Inputs!$D$9,0,1))","v":1},{"$f":"IF(L995=\"\",\"\",IF(L995>Inputs!$D$9,0,1))","v":1},{"$f":"IF(M995=\"\",\"\",IF(M995>Inputs!$D$9,0,1))","v":1},{"$f":"IF(N995=\"\",\"\",IF(N995>Inputs!$D$9,0,1))","v":1},{"$f":"IF(O995=\"\",\"\",IF(O995>Inputs!$D$9,0,1))","v":1},{"$f":"IF(COUNT(P995:U995)=0,\"\",INDEX(Inputs!$O$21:$P$26,MATCH(COUNT(P995:U995),Inputs!$O$21:$O$26,0),2))","v":20},1,null,null,{"$f":"IF(D995=\"\",\"\",IF(D995=\"-\",\"\",IF(D995>AVERAGE($D$2:$D$1000),1,0)))","v":1},1,1,1,1,1,1]
[{"$f":"'SIP Returns'!B997","v":0},null,{"$f":"'SIP Returns'!D997","v":0},{"$f":"'SIP Returns'!E997","v":0},{"$f":"'SIP Returns'!F997","v":0},{"$f":"'SIP Returns'!G997","v":0},{"$f":"'SIP Returns'!H997","v":0},{"$f":"'SIP Returns'!I997","v":0},{"$f":"'SIP Returns'!J997","v":0},1,10,8,4,1,1,{"$f":"IF(J996=\"\",\"\",IF(J996>Inputs!$D$9,0,1))","v":1},{"$f":"IF(K996=\"\",\"\",IF(K996>Inputs!$D$9,0,1))","v":1},{"$f":"IF(L996=\"\",\"\",IF(L996>Inputs!$D$9,0,1))","v":1},{"$f":"IF(M996=\"\",\"\",IF(M996>Inputs!$D$9,0,1))","v":1},{"$f":"IF(N996=\"\",\"\",IF(N996>Inputs!$D$9,0,1))","v":1},{"$f":"IF(O996=\"\",\"\",IF(O996>Inputs!$D$9,0,1))","v":1},{"$f":"IF(COUNT(P996:U996)=0,\"\",INDEX(Inputs!$O$21:$P$26,MATCH(COUNT(P996:U996),Inputs!$O$21:$O$26,0),2))","v":20},1,null,null,{"$f":"IF(D996=\"\",\"\",IF(D996=\"-\",\"\",IF(D996>AVERAGE($D$2:$D$1000),1,0)))","v":1},1,1,1,1,1,1]
[{"$f":"'SIP Returns'!B998","v":0},null,{"$f":"'SIP Returns'!D998","v":0},{"$f":"'SIP Returns'!E998","v":0},{"$f":"'SIP Returns'!F998","v":0},{"$f":"'SIP Returns'!G998","v":0},{"$f":"'SIP Returns'!H998","v":0},{"$f":"'SIP Returns'!I998","v":0},{"$f":"'SIP Returns'!J998","v":0},1,10,8,4,1,1,{"$f":"IF(J997=\"\",\"\",IF(J997>Inputs!$D$9,0,1))","v":1},{"$f":"IF(K997=\"\",\"\",IF(K997>Inputs!$D$9,0,1))","v":1},{"$f":"IF(L997=\"\",\"\",IF(L997>Inputs!$D$9,0,1))","v":1},{"$f":"IF(M997=\"\",\"\",IF(M997>Inputs!$D$9,0,1))","v":1},{"$f":"IF(N997=\"\",\"\",IF(N997>Inputs!$D$9,0,1))","v":1},{"$f":"IF(O997=\"\",\"\",IF(O997>Inputs!$D$9,0,1))","v":1},{"$f":"IF(COUNT(P997:U997)=0,\"\",INDEX(Inputs!$O$21:$P$26,MATCH(COUNT(P997:U997),Inputs!$O$21:$O$26,0),2))","v":20},1,null,null,{"$f":"IF(D997=\"\",\"\",IF(D997=\"-\",\"\",IF(D997>AVERAGE($D$2:$D$1000),1,0)))","v":1},1,1,1,1,1,1]
[{"$f":"'SIP Returns'!B999","v":0},null,{"$f":"'SIP Returns'!D999","v":0},{"$f":"'SIP Returns'!E999","v":0},{"$f":"'SIP Returns'!F999","v":0},{"$f":"'SIP Returns'!G999","v":0},{"$f":"'SIP Returns'!H999","v":0},{"$f":"'SIP Returns'!I999","v":0},{"$f":"'SIP Returns'!J999","v":0},1,10,8,4,1,1,{"$f":"IF(J998=\"\",\"\",IF(J998>Inputs!$D$9,0,1))","v":1},{"$f":"IF(K998=\"\",\"\",IF(K998>Inputs!$D$9,0,1))","v":1},{"$f":"IF(L998=\"\",\"\",IF(L998>Inputs!$D$9,0,1))","v":1},{"$f":"IF(M998=\"\",\"\",IF(M998>Inputs!$D$9,0,1))","v":1},{"$f":"IF(N998=\"\",\"\",IF(N998>Inputs!$D$9,0,1))","v":1},{"$f":"IF(O998=\"\",\"\",IF(O998>Inputs!$D$9,0,1))","v":1},{"$f":"IF(COUNT(P998:U998)=0,\"\",INDEX(Inputs!$O$21:$P$26,MATCH(COUNT(P998:U998),Inputs!$O$21:$O$26,0),2))","v":20},1,null,null,{"$f":"IF(D998=\"\",\"\",IF(D998=\"-\",\"\",IF(D998>AVERAGE($D$2:$D$1000),1,0)))","v":1},1,1,1,1,1,1]
[{"$f":"'SIP Returns'!B1000","v":0},null,{"$f":"'SIP Returns'!D1000","v":0},{"$f":"'SIP Returns'!E1000","v":0},{"$f":"'SIP Returns'!F1000","v":0},{"$f":"'SIP Returns'!G1000","v":0},{"$f":"'SIP Returns'!H1000","v":0},{"$f":"'SIP Returns'!I1000","v":0},{"$f":"'SIP Returns'!J1000","v":0},1,10,8,4,1,1,{"$f":"IF(J999=\"\",\"\",IF(J999>Inputs!$D$9,0,1))","v":1},{"$f":"IF(K999=\"\",\"\",IF(K999>Inputs!$D$9,0,1))","v":1},{"$f":"IF(L999=\"\",\"\",IF(L999>Inputs!$D$9,0,1))","v":1},{"$f":"IF(M999=\"\",\"\",IF(M999>Inputs!$D$9,0,1))","v":1},{"$f":"IF(N999=\"\",\"\",IF(N999>Inputs!$D$9,0,1))","v":1},{"$f":"IF(O999=\"\",\"\",IF(O999>Inputs!$D$9,0,1))","v":1},{"$f":"IF(COUNT(P999:U999)=0,\"\",INDEX(Inputs!$O$21:$P$26,MATCH(COUNT(P999:U999),Inputs!$O$21:$O$26,0),2))","v":20},1,null,null,{"$f":"IF(D999=\"\",\"\",IF(D999=\"-\",\"\",IF(D999>AVERAGE($D$2:$D$1000),1,0)))","v":1},1,1,1,1,1,1]
[{"$f":"'SIP Returns'!B1001","v":0},null,{"$f":"'SIP Returns'!D1001","v":0},{"$f":"'SIP Returns'!E1001","v":0},{"$f":"'SIP Returns'!F1001","v":0},{"$f":"'SIP Returns'!G1001","v":0},{"$f":"'SIP Returns'!H1001","v":0},{"$f":"'SIP Returns'!I1001","v":0},{"$f":"'SIP Returns'!J1001","v":0},1,10,8,4,1,1,{"$f":"IF(J1000=\"\",\"\",IF(J1000>Inputs!$D$9,0,1))","v":1},{"$f":"IF(K1000=\"\",\"\",IF(K1000>Inputs!$D$9,0,1))","v":1},{"$f":"IF(L1000=\"\",\"\",IF(L1000>Inputs!$D$9,0,1))","v":1},{"$f":"IF(M1000=\"\",\"\",IF(M1000>Inputs!$D$9,0,1))","v":1},{"$f":"IF(N1000=\"\",\"\",IF(N1000>Inputs!$D$9,0,1))","v":1},{"$f":"IF(O1000=\"\",\"\",IF(O1000>Inputs!$D$9,0,1))","v":1},{"$f":"IF(COUNT(P1000:U1000)=0,\"\",INDEX(Inputs!$O$21:$P$26,MATCH(COUNT(P1000:U1000),Inputs!$O$21:$O$26,0),2))","v":20},1,null,null,{"$f":"IF(D1000=\"\",\"\",IF(D1000=\"-\",\"\",IF(D1000>AVERAGE($D$2:$D$1000),1,0)))","v":1},1,1,1,1,1,1]

{"sheet":"temp","index":3,"n_rows":42,"n_cols":20,"rows_kept":42,"cut":false,"hidden":false,"merged":[]}
[null,"Fund","Rating","Category","1-Year","3-Year","5-Year","10-Year","15-Year","20-Year",null,"Fund","Rating","Category","1-Year","3-Year","5-Year","10-Year","15-Year","20-Year"]
[null,null,null,null,"Return","Return","Return","Return","Return","Return",null,null,null,null,"Return","Return","Return","Return","Return","Return"]
["PDF","Baroda Pioneer Banking and Financial Services Fund",null,"EQ-BANK ",-26.62,4.32,"-","-","-","-","PDF",null,null,"EQ-TP ",-7.6,23.74,23.3,"-","-","-"]
["PDF","Birla Sun Life Banking & Financial Services Fund - Regular Plan","Unrated","EQ-BANK ",-14.75,"-","-","-","-","-","PDF","Baroda Pioneer ELSS 96 Fund",null,"EQ-TP ",-16.399999999999999,10.39,11.45,9.0299999999999994,13.76,"-"]
["PDF","Edelweiss Exchange Traded Scheme-Nifty Bank","Unrated","EQ-BANK ","-","-","-","-","-","-","PDF","Birla Sun Life Tax Plan",null,"EQ-TP ",-9.0399999999999991,19.61,18.52,13.33,19.899999999999999,"-"]
["PDF","Goldman Sachs Banking BeES Fund",null,"EQ-BANK ",-25.61,7.06,9.4600000000000009,12.24,"-","-","PDF","Birla Sun Life Tax Relief 96",null,"EQ-TP ",-8.7100000000000009,20.6,19.07,13.65,18.28,"-"]
["PDF","Goldman Sachs PSU Bank BeES Fund",null,"EQ-BANK ",-52.66,-16.62,-11.28,"-","-","-","PDF","Birla Sun Life Tax Savings Fund",null,"EQ-TP ",-9.59,16.239999999999998,14.42,10.81,"-","-"]
["PDF","ICICI Prudential Banking and Financial Services Fund - Regular Plan | Invest Now",null,"EQ-BANK ",-23.72,11.65,14.79,"-","-","-","PDF","BNP Paribas Long Term Equity Fund",null,"EQ-TP ",-14.4,16.059999999999999,17.260000000000002,12.53,"-","-"]
["PDF","Kotak Banking ETF Fund Regular","Unrated","EQ-BANK ",-25.41,"-","-","-","-","-","PDF","BOI AXA Tax Advantage Fund - Regular Plan",null,"EQ-TP ",-15.36,11.84,12.83,"-","-","-"]
["PDF","Kotak PSU Bank ETF",null,"EQ-BANK ",-52.74,-16.73,-11.49,"-","-","-","PDF","Canara Robeco Equity Tax Saver Fund - Regular Plan | Invest Online",null,"EQ-TP ",-14.76,11.01,12.57,"-","-","-"]
["PDF","LIC Nomura MF Banking & Financial Services Fund - Regular Plan","Unrated","EQ-BANK ","-","-","-","-","-","-","PDF","DHFL Pramerica Tax Savings Fund - Regular Plan","Unrated","EQ-TP ","-","-","-","-","-","-"]
["PDF","R*Shares Banking ETF",null,"EQ-BANK ",-25.39,7.8,10.44,"-","-","-","PDF","DSP BlackRock Tax Saver Fund",null,"EQ-TP ",-9.27,16.559999999999999,16.95,"-","-","-"]
["PDF","Reliance Banking Fund",null,"EQ-BANK ",-24.15,9.8699999999999992,11.41,15.57,"-","-","PDF","DWS Tax Saving Fund",null,"EQ-TP ",-11.3,12.44,13.17,"-","-","-"]
["PDF","Religare Invesco Banking Fund",null,"EQ-BANK ",-19.61,10.47,11.67,"-","-","-","PDF","Edelweiss ELSS Fund",null,"EQ-TP ",-12.85,13.97,14.88,"-","-","-"]
["PDF","SBI Banking & Financial Services Fund - Regular Plan | Invest Online","Unrated","EQ-BANK ","-","-","-","-","-","-","PDF","Escorts Tax Plan","Unrated","EQ-TP ",2.16,22.75,14.69,6.88,11.51,"-"]
["PDF","SBI ETF Nifty Bank Fund | Invest Online","Unrated","EQ-BANK ","-","-","-","-","-","-","PDF","Franklin India Taxshield Fund | Invest Online Now",null,"EQ-TP ",-11.56,17.34,17.12,15.09,20.43,"-"]
["PDF","Sundaram Financial Services Opportunities Fund - Regular Plan",null,"EQ-BANK ",-26.48,5.75,6.94,"-","-","-","PDF","HDFC Long Term Advantage Fund",null,"EQ-TP ",-13.89,9.73,12,11.76,20.2,"-"]
["PDF","Tata Banking and Financial Services Fund - Regular Plan","Unrated","EQ-BANK ","-","-","-","-","-","-","PDF","HDFC Taxsaver Fund",null,"EQ-TP ",-22.02,8.7200000000000006,10.67,11.4,20.54,"-"]
["PDF","Taurus Banking & Financial Services Fund - Regular Plan",null,"EQ-BANK ",-28.83,1.32,"-","-","-","-","PDF","HSBC Tax Saver Equity Fund",null,"EQ-TP ",-14.92,12.32,14.22,"-","-","-"]
["PDF","UTI Banking Sector Fund - Regular Plan",null,"EQ-BANK ",-25.89,5.39,7.55,11.42,"-","-","PDF","ICICI Prudential Long Term Equity Fund (Tax Saving) - Regular Plan | Invest Now",null,"EQ-TP ",-7.62,16.989999999999998,17.13,14.97,22.11,"-"]
[null,null,null,null,null,null,null,null,null,null,"PDF","IDBI Equity Advantage Fund - Regular Plan","Unrated","EQ-TP ",-14.28,"-","-","-","-","-"]
[null,null,null,null,null,null,null,null,null,null,"PDF","IDFC Tax Advantage (ELSS) Fund - Regular Plan",null,"EQ-TP ",-14.46,15.5,16.649999999999999,"-","-","-"]
[null,null,null,null,null,null,null,null,null,null,"PDF","JM Tax Gain Fund",null,"EQ-TP ",-16.239999999999998,13.38,13.57,"-","-","-"]
[null,null,null,null,null,null,null,null,null,null,"PDF","JP Morgan India Tax Advantage Fund",null,"EQ-TP ",-12.89,13.01,12.95,"-","-","-"]
[null,null,null,null,null,null,null,null,null,null,"PDF","Kotak Tax Saver Regular Plan",null,"EQ-TP ",-18.14,13.14,12.56,9.9499999999999993,"-","-"]
[null,null,null,null,null,null,null,null,null,null,"PDF","L&T Tax Advantage Fund | Invest Online",null,"EQ-TP ",-13.54,12.4,12.95,"-","-","-"]
[null,null,null,null,null,null,null,null,null,null,"PDF","L&T Tax Saver Fund",null,"EQ-TP ",-8.4600000000000009,15.88,14.42,10.25,"-","-"]
[null,null,null,null,null,null,null,null,null,null,"PDF","LIC Nomura MF Tax Plan",null,"EQ-TP ",-21.73,9.8000000000000007,11.34,8.3800000000000008,11.33,"-"]
[null,null,null,null,null,null,null,null,null,null,"PDF","Mirae Asset Tax Saver Fund - Regular Plan | Invest Online","Unrated","EQ-TP ","-","-","-","-","-","-"]
[null,null,null,null,null,null,null,null,null,null,"PDF","Motilal Oswal MOSt Focused Long Term Fund - Regular Plan","Unrated","EQ-TP ",-8.14,"-","-","-","-","-"]
[null,null,null,null,null,null,null,null,null,null,"PDF","Peerless Long Term Advantage Fund - Regular Plan","Unrated","EQ-TP ","-","-","-","-","-","-"]
[null,null,null,null,null,null,null,null,null,null,"PDF","Principal Personal Tax Saver Fund | Invest Online",null,"EQ-TP ",-14.45,10.14,11.5,9.61,15.15,"-"]
[null,null,null,null,null,null,null,null,null,null,"PDF","Principal Tax Savings Fund | Invest Online",null,"EQ-TP ",-14.11,13.3,15.41,10.52,16.61,"-"]
[null,null,null,null,null,null,null,null,null,null,"PDF","Quantum Tax Saving Fund | Invest Online, Paperless",null,"EQ-TP ",-4.84,11.89,13.27,"-","-","-"]
[null,null,null,null,null,null,null,null,null,null,"PDF","Reliance Tax Saver Fund",null,"EQ-TP ",-17.989999999999998,19.32,18.95,15.52,"-","-"]
[null,null,null,null,null,null,null,null,null,null,"PDF","Religare Invesco Tax Plan",null,"EQ-TP ",-10.38,18.260000000000002,17.87,"-","-","-"]
[null,null,null,null,null,null,null,null,null,null,"PDF","SBI Magnum Taxgain Scheme | Invest Online",null,"EQ-TP ",-16.760000000000002,13.01,14.42,11.95,22.46,"-"]
[null,null,null,null,null,null,null,null,null,null,"PDF","Sundaram Taxsaver",null,"EQ-TP ",-12.63,12.49,12.84,11.27,19.510000000000002,"-"]
[null,null,null,null,null,null,null,null,null,null,"PDF","Tata India Tax Savings Fund",null,"EQ-TP ",-4.7300000000000004,19.149999999999999,17.73,13.66,18.649999999999999,"-"]
[null,null,null,null,null,null,null,null,null,null,"PDF","Taurus Tax Shield Fund - Regular Plan",null,"EQ-TP ",-14.97,8.52,9.57,10.8,15.58,"-"]
[null,null,null,null,null,null,null,null,null,null,"PDF","Union KBC Tax Saver Fund",null,"EQ-TP ",-17.239999999999998,8.48,"-","-","-","-"]
[null,null,null,null,null,null,null,null,null,null,"PDF","UTI Long Term Equity Fund",null,"EQ-TP ",-12.37,11.21,12.04,9.75,14.48,"-"]