{"text_format":"1","workbook":"xlsx","n_sheets":12,"sheets":["Inputs","Results-1","Results-2","Shortlist","shortlist-categorry average","Evaluate","Downside protection","shortlist-3","temp","T2","Annual Returns","Analysis"],"not_rendered":{"charts":2,"images":0,"macros":1,"external_links":0,"defined_names":58,"comments":0,"pivot_tables":0},"unopened":[],"bounds":{"document_bytes":16777216,"sheet_cells":100000,"rows_first":2000,"rows_last":500,"rows_between":2000,"halvings":0,"cell_chars":16384,"cell_head_chars":4096},"cells_cut":0,"cells_raw":0,"read":"whole","date_system":"1900"}

{"sheet":"Inputs","index":0,"n_rows":29,"n_cols":12,"rows_kept":29,"cut":false,"hidden":false,"merged":[[2,4,2,6],[0,0,0,6],[2,0,2,3]]}
["Freefincal Mutual Fund Screener 5.0",null,null,null,null,null,null,null,0,"All Equity funds","equityAll&exc=susp%2Cdir%2Cclose&rettab=ann",{"$f":"INDEX(J1:K29,MATCH(E3,J1:J29,0),2)","v":"9&exc=susp%2Cdir%2Cclose&rettab=ann"}]
[null,null,null,null,null,null,null,null,null,"All Equity except sector funds","equityExcSec&exc=susp%2Cdir%2Cclose&rettab=ann"]
["Choose the category you wish to analyze",null,null,null,"Equity: Multi-Cap",null,null,null,null,"All Debt funds","debtsAll&exc=susp%2Cdir%2Cclose&rettab=ann"]
[null,null,null,null,null,null,null,null,null,"All Hybrid funds","hybridAll&exc=susp%2Cdir%2Cclose&rettab=ann"]
[null,null,null,null,null,null,null,null,null,"Debt FMP","7&exc=susp%2Cdir%2Cclose&rettab=ann"]
[null,null,null,null,null,null,null,null,null,"Debt: Gilt Medium and Long Term","6&exc=susp%2Cdir%2Cclose&rettab=ann"]
[null,null,null,null,null,null,null,null,null,"Debt: Gilt Short term","5&exc=susp%2Cdir%2Cclose&rettab=ann"]
[null,null,null,null,null,null,null,null,null,"Debt: Income","4&exc=susp%2Cdir%2Cclose&rettab=ann"]
["Reference rank for grading funds",null,null,15,"Funds below this rank will be graded higher",null,null,null,null,"Debt: Liquid","1&exc=susp%2Cdir%2Cclose&rettab=ann"]
["For greater clarity, see \"How to interpret results\" section in the Shortlist sheet.",null,null,null,null,null,null,null,null,"Debt Short Term","3&exc=susp%2Cdir%2Cclose&rettab=ann"]
[null,null,null,null,null,null,null,null,null,"Debt Ultra Short Term","2&exc=susp%2Cdir%2Cclose&rettab=ann"]
[null,null,null,null,null,null,null,null,null,"Equity: Large Cap","8&exc=susp%2Cdir%2Cclose&rettab=ann"]
[null,null,null,null,null,null,null,null,null,"Equity: Multi-Cap","9&exc=susp%2Cdir%2Cclose&rettab=ann"]
[null,null,null,null,null,null,null,null,null,"Equity: Mid Cap","10&exc=susp%2Cdir%2Cclose&rettab=ann"]
[null,null,null,null,null,null,null,null,null,"Equity: Small cap","11&exc=susp%2Cdir%2Cclose&rettab=ann"]
[null,null,null,null,null,null,null,null,null,"Equity; Tax Planning","18&exc=susp%2Cdir%2Cclose&rettab=ann"]
[null,null,null,null,null,null,null,null,null,"Hybrid: Equity oriented","23&exc=susp%2Cdir%2Cclose&rettab=ann"]
[null,null,null,null,null,null,null,null,null,"Equity: Others","13&exc=susp%2Cdir%2Cclose&rettab=ann"]
[null,null,null,null,null,null,null,null,null,"Equity: Pharma","17&exc=susp%2Cdir%2Cclose&rettab=ann"]
[null,null,null,null,null,null,null,null,null,"Equity: technology","19&exc=susp%2Cdir%2Cclose&rettab=ann"]
[null,null,null,null,null,null,null,null,null,"Equity: Banking","12&exc=susp%2Cdir%2Cclose&rettab=ann"]
[null,null,null,null,null,null,null,null,null,"Equity: FMCG","15&exc=susp%2Cdir%2Cclose&rettab=ann"]
[null,null,null,null,null,null,null,null,null,"Equity: Infrastructure","20&exc=susp%2Cdir%2Cclose&rettab=ann"]
[null,null,null,null,null,null,null,null,null,"Equity: International","21&exc=susp%2Cdir%2Cclose&rettab=ann"]
[null,null,null,null,null,null,null,null,null,"Hybrid: Arbitrage","26&exc=susp%2Cdir%2Cclose&rettab=ann"]
[null,null,null,null,null,null,null,null,null,"Hybrid Asset allocation","27&exc=susp%2Cdir%2Cclose&rettab=ann"]
[null,null,null,null,null,null,null,null,null,"Hybrid: Debt oriented agressive","24&exc=susp%2Cdir%2Cclose&rettab=ann"]
[null,null,null,null,null,null,null,null,null,"Hybrid: Dent oriented conservative","25&exc=susp%2Cdir%2Cclose&rettab=ann"]
[null,null,null,null,null,null,null,null,null,"Hybrid: Others","29&exc=susp%2Cdir%2Cclose&rettab=ann"]

{"sheet":"Results-1","index":1,"n_rows":1000,"n_cols":13,"rows_kept":1000,"cut":false,"hidden":false,"merged":[]}
["Fund  |  Rating","12-year %","11-year %","10-year %","9-year %","8-year %","7-year %","6-year %","5-year %","4-year %","3-year %","2-year %","1-year %"]
["LIC MF Equity Fund  |",9.9851885636501603E-2,9.8538784830156878E-2,8.5909374928178073E-2,6.5648563495770862E-2,1.038226637287254E-2,0.14255989407435088,7.0332371571296681E-2,5.3284690710187155E-2,0.15458494620249041,0.11429732693413652,0.14453361243783491,-7.7300000000000035E-2]
["Taurus Bonanza Fund - Regular Plan  |",0.12201192105528214,0.12712269618868666,8.8047556836784224E-2,6.0681708525191613E-2,5.7810178833912484E-3,0.15547753338923576,7.3886480673724053E-2,5.9721979614637322E-2,0.14978636741963514,0.11990497274379663,0.19486365330944766,3.1500000000000083E-2]
["Principal Growth Fund  |",0.14224334039457687,0.12048194765525322,9.6415552599589116E-2,7.4918856344107443E-2,2.82813406480662E-2,0.19315159849285002,0.11424600461987033,0.10893208704269219,0.24818048823165184,0.18461070282103287,0.23887988118299841,2.7600000000000069E-2]
["Franklin India Life Stage Fund of Funds 20s  |",0.1542435710104173,0.15038951179255378,0.1330136266515205,0.1154184861206653,8.729870146818941E-2,0.18376439248736887,0.11306574175346218,0.10042148717967869,0.17047487516236326,0.14140578430873085,0.1984116529807276,3.3900000000000041E-2]
["Birla Sun Life Advantage Fund  |",0.15726426970577889,0.14714863529897015,0.12181357289584516,9.9532395618636693E-2,5.1994647662501281E-2,0.20091959622033451,0.11519553012682948,0.10940591158527146,0.23620445966809456,0.21623554403148937,0.29529409015867913,4.7700000000000076E-2]
["Goldman Sachs Nifty Junior BeES Fund  |",0.157562572695779,0.1476104483977807,0.13764450391078165,0.12222615039274753,6.1508470429306961E-2,0.23523558462169625,0.11647091960190048,0.1045000076024456,0.24515919460593216,0.173362477866287,0.23960968857136633,7.0599999999999996E-2]
["Templeton India Growth Fund  |",0.16063507696832335,0.15732295788738826,0.13972173410583566,0.12263433837038162,7.1448628678822068E-2,0.19814858197629825,9.5829070454877208E-2,7.2607368313980736E-2,0.19154801622247164,0.14044823747675284,0.22157511025724475,4.9999999999994493E-4]
["Birla Sun Life Dividend Yield Plus Fund  |",0.16097354628033655,0.14985557046790188,0.13536784167397053,0.13883896202624824,9.4151901329612597E-2,0.20537637169700274,0.11759204962292369,8.4554981704200616E-2,0.16597390699678605,0.12620695354860367,0.21350463534343356,-5.5000000000000049E-2]
["ICICI Prudential Top 100 Fund  |",0.16215725605952369,0.16479811557690471,0.13606424586107591,0.1075845383694074,7.1465263311820015E-2,0.18719537080161608,0.11326282810892341,0.10123527045648628,0.19406078723170261,0.15239984449295529,0.17219854973464299,-6.3999999999999613E-3]
["Reliance Vision Fund  |",0.16349347555239735,0.16039743436922782,0.12840522014422739,9.6728830450104164E-2,4.8952362134693672E-2,0.17261251050661186,8.9640815611157221E-2,7.7467829527842369E-2,0.1940013884876981,0.16068471398095596,0.2524073259127797,-2.2299999999999986E-2]
["Canara Robeco Equity Diversified Fund - Regular Plan  |",0.16701468870140812,0.16620125440699507,0.14754384754273753,0.13045017005515414,7.9554819750427219E-2,0.207951201664619,0.11722052276675643,0.10013713198247465,0.17640781849776999,0.13405359131966188,0.18246254908982218,7.9999999999991189E-4]
["UTI Equity Fund  |",0.16782269887181211,0.16289717535693904,0.14133845701119996,0.13176777094121772,9.5392359674006721E-2,0.21007391641918849,0.12729693449609969,0.11247905170523698,0.2046593395828642,0.16787824241750249,0.21694501108308106,9.100000000000108E-3]
["ICICI Prudential Multicap Fund  |",0.17055867287742732,0.16580897704774333,0.13807311240560916,0.10458914310675271,6.3243915246766313E-2,0.20343168145970747,0.12092026016064694,0.10248951722201838,0.22390831936362487,0.18010998705514458,0.24271660486210611,3.0799999999999939E-2]
["Taurus Starshare Fund - Regular Plan  |",0.17422066926023172,0.16018376722821603,0.12137287455801538,8.6634561356416562E-2,1.5060578521634671E-2,0.18757748802124508,0.10259687393417316,7.7940659575544746E-2,0.16330277437271379,0.11891887001019508,0.16951423249142206,-1.3299999999999979E-2]
["HDFC Growth Fund  |",0.1743952837825189,0.16721113800972787,0.14641435674743142,0.11761547063372912,6.3346984587726363E-2,0.17876611391791997,0.10336308190837551,7.1561637601922801E-2,0.15729751269940762,0.11956444221807927,0.19298556152201596,-3.7000000000000366E-3]
["Tata Equity Opportunities Fund - Regular Plan  |",0.17721241086124029,0.16675651629449861,0.13692468830306748,0.11275479458324922,5.0508080233006236E-2,0.2098535044002634,0.117218075007544,0.1210814478139528,0.23158980589680112,0.19827360052985799,0.25816961495658464,6.5700000000000092E-2]
["Tata Ethical Fund - Regular Plan  |",0.17999031456590808,0.17757393441520697,0.14937938223987013,0.1155621522936805,6.0688068223005986E-2,0.2430838143165186,0.141622050485539,0.13072555721326307,0.22027323023195633,0.20833509131115258,0.23134351015466037,7.1600000000000108E-2]
["DSP BlackRock Opportunities Fund  |",0.1820708002122633,0.17159294046974494,0.14308901783856354,0.11416872879078444,6.5015076047803433E-2,0.20487727914076492,0.12032347165587987,9.7457732175964873E-2,0.20727534392813851,0.17980012883040075,0.24199380030658757,6.0899999999999954E-2]
["ICICI Prudential Dynamic Fund  |",0.18985029010750187,0.1928825374107157,0.15944935284213657,0.12001354561420419,8.8450202272127187E-2,0.19928261550183923,0.1208767599944196,0.10338207629040541,0.19693364454842732,0.16270055077998391,0.16240094201613586,-1.4100000000000001E-2]
["Birla Sun Life Equity Fund  |",0.19372638394096175,0.17344079217412722,0.14175657622119164,0.11369185058038811,5.6411948086603658E-2,0.19964801887368733,0.11187722193272176,0.10602618245502526,0.23729948347852758,0.19967560363387227,0.26964039396988326,2.9300000000000104E-2]
["HDFC Capital Builder Fund  |",0.19634933255328701,0.17364056790080995,0.14704376459044832,0.13964833552667333,8.5160369890058485E-2,0.23013870055343233,0.14126711953599536,0.11461454718977571,0.22515039296592398,0.20607685424557642,0.26077315564696257,4.610000000000003E-2]
["HDFC Equity Fund  |",0.19663708424685544,0.1897311434595339,0.15306810141263982,0.13224333886035744,8.9882828073674093E-2,0.21710560920412547,0.11529482040972994,8.2933216713740876E-2,0.1940038539118607,0.14856312967440699,0.20806914951090461,-5.0899999999999945E-2]
["DSP BlackRock Equity Fund  |",0.19902155764310536,0.19013200251825513,0.16066096326698687,0.13051027688135242,7.4076428636275393E-2,0.1970214388242153,0.1076760917699866,9.0390920304568523E-2,0.19293657088224969,0.14971412543784446,0.23234654217066719,-7.3999999999999622E-3]
["Franklin India Prima Plus Fund  |",0.19964406853931238,0.19331661635655273,0.16820666252892669,0.13674354855279569,9.3613551484551305E-2,0.21518325041038944,0.14559882424848403,0.13600443871765511,0.22659006770662171,0.19986199295074636,0.27928652771769613,4.3800000000000061E-2]
["SBI Contra Fund  |",0.20731846384592623,0.17384605913450768,0.13048559116008573,9.5132607526757118E-2,3.9734663678349769E-2,0.16514912361288281,7.340038480825517E-2,6.8995220915306854E-2,0.18103897056936602,0.13168351530657607,0.2145662394451775,-9.000000000000119E-4]
["SBI Magnum Multiplier Fund  |",0.21059132590731289,0.2016539699719746,0.16062532698808751,0.12810559390826537,7.5790545180305813E-2,0.21912992124594721,0.13477758302804288,0.12345977778574335,0.24601363841290369,0.22092973435578989,0.28308855890776297,0.11050000000000004]
["Axis Equity Fund  |","","","","","","","",0.10001935956644514,0.2008673998094801,0.16439011408419191,0.17942129877325863,-1.2399999999999967E-2]
["Axis Focused 25 Fund  |","","","","","","","","","",0.15120508149617695,0.20072946578319617,3.9099999999999913E-2]
["Birla Sun Life India Reforms Fund  |","","","","","","","",4.5836707547221689E-2,0.16488347901591127,0.11700159404132626,0.24703378462654335,-2.1399999999999975E-2]
["Birla Sun Life Special Situations Fund  |","","","","","",0.18428710568241979,0.10712160389626368,0.10466239760914209,0.22310890742246747,0.21172704058004688,0.32135681025224971,7.8699999999999992E-2]
["BNP Paribas Dividend Yield Fund  |","","",0.12150955629712645,0.14000313999843006,9.8773162420336957E-2,0.22324709558918809,0.14589669118048487,0.1320337228740176,0.22336114426967324,0.19004828578498967,0.26356382505989773,6.6599999999999993E-2]
["BNP Paribas Equity Fund  |","",0.16220725245981438,0.12967322565150541,0.10499635927826101,4.8384130855689156E-2,0.18888301895107662,0.13533258377561785,0.1264323075174516,0.21882074737229051,0.19137810372767006,0.24749717434549723,5.5800000000000072E-2]
["BOI AXA Equity Fund - Regular Plan  |","","","","","",0.1452065900621049,6.7820350292739473E-2,7.250546297574334E-2,0.16377835623728565,0.13710851751720798,0.17403683076809817,-2.3199999999999998E-2]
["Edelweiss Diversified Growth Equity Top 100 Fund  |","","","","","","",0.11176269902551317,0.10241569388334337,0.18918373208004891,0.15506700374020421,0.17775169284531289,7.7000000000000401E-3]
["Edelweiss Prudent Advantage Fund","","","","","","",8.7815924920844335E-2,6.8618821124656115E-2,0.16377223609238833,0.15018646118228163,0.18950798231874022,2.2199999999999998E-2]
["Franklin India Flexi Cap Fund  |","","",0.15053225921001046,0.12402248807543947,8.5064057039625718E-2,0.21781407885390469,0.13206404964980978,0.1170714352386697,0.22299894887634886,0.19393655207463323,0.26077611017975744,1.9600000000000062E-2]
["Franklin India High Growth Companies Fund  |","","","","",9.3157714069463937E-2,0.25322910226241513,0.16058385508527229,0.16313739499982183,0.29786654139747903,0.25794348623936836,0.35002126649916132,1.4899999999999913E-2]
["Franklin India Opportunities Fund  |","",0.15337256803991028,0.12494581853723052,8.4742797611068621E-2,3.8428526378952776E-2,0.18194364933964557,0.10850570268372128,0.10130915673303287,0.20563552583126365,0.18333206700933502,0.27368496889929572,2.2999999999999909E-2]
["Goldman Sachs CNX 500 Fund  |","","","","","","",7.3287772180409938E-2,6.0458523959765254E-2,0.16526253908279798,0.11864459873291522,0.16375603113367365,-1.1800000000000033E-2]
["HDFC Premier Multi-Cap Fund  |","","",0.1179824638780933,9.9891109322981064E-2,5.8910342963637508E-2,0.18815207223790509,9.440691608599705E-2,6.7769427905592483E-2,0.15720849321164732,0.14487880349687354,0.22568329106666063,-1.21E-2]
["HSBC India Opportunities Fund  |","",0.14910594707689917,0.12367659994328473,8.6814595955833518E-2,4.3052989216758375E-2,0.17451603547873584,0.11546249715828449,0.10725913665088194,0.19601203200962392,0.17841359257760425,0.23093391374191974,-2.1000000000000019E-2]
["ICICI Prudential Indo Asia Equity Fund  |","","","","",7.9830640147049214E-2,0.20746355634872682,0.12875912230146169,0.11999867180527612,0.20013759022287281,0.18079103676825614,0.23011332811249541,4.4999999999999485E-3]
["ICICI Prudential Nifty Next 50 Index Fund  |","","","","","","","",0.10020015843021235,0.23541566915575829,0.17156929275608079,0.23494970747800092,6.1900000000000066E-2]
["ICICI Prudential Value Discovery Fund  |","",0.21913587442662452,0.18370053405198061,0.17275739902532616,0.14743762588344556,0.30978253758874574,0.18876908461353459,0.17184999273871204,0.3046727466510617,0.25663143735149152,0.35356028310526311,5.4400000000000004E-2]
["IDBI India Top 100 Equity Fund  |","","","","","","","","","",0.15881568691584413,0.20465696362076446,3.2000000000000028E-2]
["IDBI Nifty Junior Index Fund  |","","","","","","","",9.6971134980348817E-2,0.2364161879253881,0.1654791529209978,0.22918589318296356,5.8200000000000029E-2]
["IDFC Classic Equity Fund - Regular Plan  |","","",0.10001789437505515,8.0791477676192214E-2,2.3415215678975088E-2,0.15022088014425461,8.085153125719291E-2,6.86838150409248E-2,0.17467827954541404,0.11526289432709724,0.16327598617009209,5.2100000000000035E-2]
["IIFL India Growth Fund - Regular Plan","","","","","","","","","","","",1.8199999999999994E-2]
["Indiabulls Bluechip Fund  |","","","","","","","","","",0.1136830075180324,0.15273676093026545,3.2399999999999984E-2]
["Invesco India Contra Fund  |","","","","",9.9313424118815163E-2,0.22665683632383504,0.12626246970474964,0.12567588129472873,0.23407209527254325,0.21061680031477858,0.30196387046645801,4.0200000000000014E-2]
["JM Core 11 Fund  |","","","","","",9.643934017721234E-2,2.9741719665579147E-2,5.198142396354366E-2,0.21011768480173587,0.13500972725877824,0.21517244866726615,-2.3900000000000032E-2]
["JM Multi Strategy Fund  |","","","","","",0.13838909664508336,5.2225629398143347E-2,5.1871113889402798E-2,0.19122287301388674,0.14814468499504874,0.23154821261694836,-2.7499999999999969E-2]
["Kotak Opportunities Regular Plan  |","",0.18194469037608951,0.1475939019087269,0.12368632398181423,5.1583393303666458E-2,0.19397416856817196,0.11488415875930591,0.10136690834684048,0.20387403243054214,0.17301741982499408,0.24440092012180714,3.2699999999999951E-2]
["Kotak Select Focus Fund Regular Plan  |","","","","","","",0.13586659232514298,0.12336362942530466,0.23177453446737872,0.19932099308046936,0.27492333887179288,2.9600000000000071E-2]
["L&T Equity Fund  |","","",0.15312573608675373,0.1248875907985505,8.0424301170229695E-2,0.2072818062753623,0.12323375675813542,9.6137428849566886E-2,0.18951391403770512,0.16696769562509273,0.22762283703098318,2.8999999999999027E-3]
["L&T India Special Situations Fund  |","","","",0.11703671759783463,8.1094635114005165E-2,0.21448918233189951,0.13601737608455311,0.1191765181413218,0.22718473691830776,0.17451327674120032,0.23802341657983184,1.4899999999999913E-2]
["Mirae Asset Great Consumer Fund - Regular Plan  |","","","","","","","","",0.21896105884395412,0.1764023148010001,0.21701364002216517,3.8000000000000034E-2]
["Mirae Asset India Opportunities Fund - Regular Plan  |","","","","","",0.25090164516690017,0.1480349564562895,0.1320885895761954,0.2333619169113883,0.20189275656722816,0.26236504229165036,4.2499999999999982E-2]
["Motilal Oswal MOSt Focused Multicap 35 Fund - Regular Plan","","","","","","","","","","","",0.14599999999999991]
["Peerless Equity Fund  |","","","","","","","","",0.16541330238681851,0.1248189444787402,0.16844085002194276,5.2300000000000013E-2]
["PPFAS Long Term Value Fund - Regular Plan","","","","","","","","","","",0.25605297658976145,8.9399999999999924E-2]
["Principal Dividend Yield Fund  |","",0.1090508138257642,8.7524265766348863E-2,9.3252743520101378E-2,4.037669676661948E-2,0.17348541174470244,9.4252651008538191E-2,6.6060299124800492E-2,0.17127477038936756,9.8609755322912385E-2,0.18328725591041506,-3.3900000000000041E-2]
["Quantum Equity FoF Fund  |","","","","","","",0.12212193793640624,0.10714518734742562,0.21501574287242198,0.17962116198740796,0.25612984201474953,4.7299999999999898E-2]
["SBI Magnum Multicap Fund  |","","",0.11704209858030978,8.7091024282810015E-2,4.8085035870031767E-2,0.19249351160574002,0.11256215964759297,0.11557897831850372,0.25654031673410538,0.21686439068843311,0.3087461098318498,9.8100000000000076E-2]
["Sundaram Equity Multiplier Fund  |","","","","",2.9987368794371916E-2,0.16136587478930009,9.2285642573615378E-2,8.8267498652984111E-2,0.18758341833221115,0.14321221498498149,0.24109325999297893,3.4599999999999964E-2]
["Tata Dividend Yield Fund - Regular Plan  |","",0.16561047870841206,0.14694626417722279,0.14652993902638456,8.6917692441261796E-2,0.22625697334648076,0.14150823302086435,0.1082136779758951,0.19101801344480096,0.16491171057539811,0.22062377496098273,4.6000000000000041E-2]
["Tata Retirement Savings Fund - Progressive Plan - Regular Plan  |","","","","","","","","",0.18357015366538931,0.17256796615132197,0.26054864245692633,7.8300000000000036E-2]
["Taurus Ethical Fund - Regular Plan  |","","","","","","",0.11960327006460836,9.6540562294020749E-2,0.17493298309750793,0.19062041532001928,0.2122036338833504,3.0100000000000016E-2]
["Templeton India Equity Income Fund  |","","","",0.12019516572916156,7.4012802502887221E-2,0.20659281542511709,0.10527703249586096,7.9916118990576379E-2,0.17774017668484388,0.12225618420533269,0.16736523847508855,-1.6000000000000014E-2]
["Union KBC Equity Fund  |","","","","","","","","",0.1577716219832439,0.11325209314524987,0.13771124192388995,-7.5899999999999967E-2]
["UTI Dividend Yield Fund  |","","",0.13590095037052308,0.12831616823859648,7.1519340843146928E-2,0.17692359135538083,9.070294717828209E-2,6.2611530819300709E-2,0.13215873791516319,0.10319286329747412,0.1575594498771975,-5.1300000000000012E-2]
["UTI Multi Cap Fund - Regular Plan","","","","","","","","","","","",-3.0999999999999917E-3]
["UTI Top 100 Fund  |","","","","","","",9.8344295182395403E-2,9.2294424590275037E-2,0.16708015917186603,0.14792028500449095,0.19317220048071859,4.6999999999999265E-3]
[null,"","","","","","","","","","","",""]
[null,"","","","","","","","","","","",""]
[null,"","","","","","","","","","","",""]
[null,"","","","","","","","","","","",""]
[null,"","","","","","","","","","","",""]
[null,"","","","","","","","","","","",""]
[null,"","","","","","","","","","","",""]
[null,"","","","","","","","","","","",""]
[null,"","","","","","","","","","","",""]
[null,"","","","","","","","","","","",""]
[null,"","","","","","","","","","","",""]
[null,"","","","","","","","","","","",""]
[null,"","","","","","","","","","","",""]
[null,"","","","","","","","","","","",""]
[null,"","","","","","","","","","","",""]
[null,"","","","","","","","","","","",""]
[null,"","","","","","","","","","","",""]
[null,"","","","","","","","","","","",""]
[null,"","","","","","","","","","","",""]
[null,"","","","","","","","","","","",""]
[null,"","","","","","","","","","","",""]
[null,"","","","","","","","","","","",""]
[null,"","","","","","","","","","","",""]
[null,"","","","","","","","","","","",""]
[null,"","","","","","","","","","","",""]
[null,"","","","","","","","","","","",""]
[null,"","","","","","","","","","","",""]
[null,"","","","","","","","","","","",""]
[null,"","","","","","","","","","","",""]
[null,"","","","","","","","","","","",""]
[null,"","","","","","","","","","","",""]
[null,"","","","","","","","","","","",""]
[null,"","","","","","","","","","","",""]
[null,"","","","","","","","","","","",""]
[null,"","","","","","","","","","","",""]
[null,"","","","","","","","","","","",""]
[null,"","","","","","","","","","","",""]
[null,"","","","","","","","","","","",""]
[null,"","","","","","","","","","","",""]
[null,"","","","","","","","","","","",""]
[null,"","","","","","","","","","","",""]
[null,"","","","","","","","","","","",""]
[null,"","","","","","","","","","","",""]
[null,"","","","","","","","","","","",""]
[null,"","","","","","","","","","","",""]
[null,"","","","","","","","","","","",""]
[null,"","","","","","","","","","","",""]
[null,"","","","","","","","","","","",""]
[null,"","","","","","","","","","","",""]
[null,"","","","","","","","","","","",""]
[null,"","","","","","","","","","","",""]
[null,"","","","","","","","","","","",""]
[null,"","","","","","","","","","","",""]
[null,"","","","","","","","","","","",""]
[null,"","","","","","","","","","","",""]
[null,"","","","","","","","","","","",""]
[null,"","","","","","","","","","","",""]
[null,"","","","","","","","","","","",""]
[null,"","","","","","","","","","","",""]
[null,"","","","","","","","","","","",""]
[null,"","","","","","","","","","","",""]
[null,"","","","","","","","","","","",""]
[null,"","","","","","","","","","","",""]
[null,"","","","","","","","","","","",""]
[null,"","","","","","","","","","","",""]
[null,"","","","","","","","","","","",""]
[null,"","","","","","","","","","","",""]
[null,"","","","","","","","","","","",""]
[null,"","","","","","","","","","","",""]
[null,"","","","","","","","","","","",""]
[null,"","","","","","","","","","","",""]
[null,"","","","","","","","","","","",""]
[null,"","","","","","","","","","","",""]
[null,"","","","","","","","","","","",""]
[null,"","","","","","","","","","","",""]
[null,"","","","","","","","","","","",""]
[null,"","","","","","","","","","","",""]
[null,"","","","","","","","","","","",""]
[null,"","","","","","","","","","","",""]
[null,"","","","","","","","","","","",""]
[null,"","","","","","","","","","","",""]
[null,"","","","","","","","","","","",""]
[null,"","","","","","","","","","","",""]
[null,"","","","","","","","","","","",""]
[null,"","","","","","","","","","","",""]
[null,"","","","","","","","","","","",""]
[null,"","","","","","","","","","","",""]
[null,"","","","","","","","","","","",""]
[null,"","","","","","","","","","","",""]
[null,"","","","","","","","","","","",""]
[null,"","","","","","","","","","","",""]
[null,"","","","","","","","","","","",""]
[null,"","","","","","","","","","","",""]
[null,"","","","","","","","","","","",""]
[null,"","","","","","","","","","","",""]
[null,"","","","","","","","","","","",""]
[null,"","","","","","","","","","","",""]
[null,"","","","","","","","","","","",""]
[null,"","","","","","","","","","","",""]
[null,"","","","","","","","","","","",""]
[null,"","","","","","","","","","","",""]
[null,"","","","","","","","","","","",""]
[null,"","","","","","","","","","","",""]
[null,"","","","","","","","","","","",""]
[null,"","","","","","","","","","","",""]
[null,"","","","","","","","","","","",""]
[null,"","","","","","","","","","","",""]
[null,"","","","","","","","","","","",""]
[null,"","","","","","","","","","","",""]
[null,"","","","","","","","","","","",""]
[null,"","","","","","","","","","","",""]
[null,"","","","","","","","","","","",""]
[null,"","","","","","","","","","","",""]
[null,"","","","","","","","","","","",""]
[null,"","","","","","","","","","","",""]
[null,"","","","","","","","","","","",""]
[null,"","","","","","","","","","","",""]
[null,"","","","","","","","","","","",""]
[null,"","","","","","","","","","","",""]
[null,"","","","","","","","","","","",""]
[null,"","","","","","","","","","","",""]
[null,"","","","","","","","","","","",""]
[null,"","","","","","","","","","","",""]
[null,"","","","","","","","","","","",""]
[null,"","","","","","","","","","","",""]
[null,"","","","","","","","","","","",""]
[null,"","","","","","","","","","","",""]
[null,"","","","","","","","","","","",""]
[null,"","","","","","","","","","","",""]
[null,"","","","","","","","","","","",""]
[null,"","","","","","","","","","","",""]
[null,"","","","","","","","","","","",""]
[null,"","","","","","","","","","","",""]
[null,"","","","","","","","","","","",""]
[null,"","","","","","","","","","","",""]
[null,"","","","","","","","","","","",""]
[null,"","","","","","","","","","","",""]
[null,"","","","","","","","","","","",""]
[null,"","","","","","","","","","","",""]
[null,"","","","","","","","","","","",""]
[null,"","","","","","","","","","","",""]
[null,"","","","","","","","","","","",""]
[null,"","","","","","","","","","","",""]
[null,"","","","","","","","","","","",""]
[null,"","","","","","","","","","","",""]
[null,"","","","","","","","","","","",""]
[null,"","","","","","","","","","","",""]
[null,"","","","","","","","","","","",""]
[null,"","","","","","","","","","","",""]
[null,"","","","","","","","","","","",""]
[null,"","","","","","","","","","","",""]
[null,"","","","","","","","","","","",""]
[null,"","","","","","","","","","","",""]
[null,"","","","","","","","","","","",""]
[null,"","","","","","","","","","","",""]
[null,"","","","","","","","","","","",""]
[null,"","","","","","","","","","","",""]
[null,"","","","","","","","","","","",""]
[null,"","","","","","","","","","","",""]
[null,"","","","","","","","","","","",""]
[null,"","","","","","","","","","","",""]
[null,"","","","","","","","","","","",""]
[null,"","","","","","","","","","","",""]
[null,"","","","","","","","","","","",""]
[null,"","","","","","","","","","","",""]
[null,"","","","","","","","","","","",""]
[null,"","","","","","","","","","","",""]
[null,"","","","","","","","","","","",""]
[null,"","","","","","","","","","","",""]
[null,"","","","","","","","","","","",""]
[null,"","","","","","","","","","","",""]
[null,"","","","","","","","","","","",""]
[null,"","","","","","","","","","","",""]
[null,"","","","","","","","","","","",""]
[null,"","","","","","","","","","","",""]
[null,"","","","","","","","","","","",""]
[null,"","","","","","","","","","","",""]
[null,"","","","","","","","","","","",""]
[null,"","","","","","","","","","","",""]
[null,"","","","","","","","","","","",""]
[null,"","","","","","","","","","","",""]
[null,"","","","","","","","","","","",""]
[null,"","","","","","","","","","","",""]
[null,"","","","","","","","","","","",""]
[null,"","","","","","","","","","","",""]
[null,"","","","","","","","","","","",""]
[null,"","","","","","","","","","","",""]
[null,"","","","","","","","","","","",""]
[null,"","","","","","","","","","","",""]
[null,"","","","","","","","","","","",""]
[null,"","","","","","","","","","","",""]
[null,"","","","","","","","","","","",""]
[null,"","","","","","","","","","","",""]
[null,"","","","","","","","","","","",""]
[null,"","","","","","","","","","","",""]
[null,"","","","","","","","","","","",""]
[null,"","","","","","","","","","","",""]
[null,"","","","","","","","","","","",""]
[null,"","","","","","","","","","","",""]
[null,"","","","","","","","","","","",""]
[null,"","","","","","","","","","","",""]
[null,"","","","","","","","","","","",""]
[null,"","","","","","","","","","","",""]
[null,"","","","","","","","","","","",""]
[null,"","","","","","","","","","","",""]
[null,"","","","","","","","","","","",""]
[null,"","","","","","","","","","","",""]
[null,"","","","","","","","","","","",""]
[null,"","","","","","","","","","","",""]
[null,"","","","","","","","","","","",""]
[null,"","","","","","","","","","","",""]
[null,"","","","","","","","","","","",""]
[null,"","","","","","","","","","","",""]
[null,"","","","","","","","","","","",""]
[null,"","","","","","","","","","","",""]
[null,"","","","","","","","","","","",""]
[null,"","","","","","","","","","","",""]
[null,"","","","","","","","","","","",""]
[null,"","","","","","","","","","","",""]
[null,"","","","","","","","","","","",""]
[null,"","","","","","","","","","","",""]
[null,"","","","","","","","","","","",""]
[null,"","","","","","","","","","","",""]
[null,"","","","","","","","","","","",""]
[null,"","","","","","","","","","","",""]
[null,"","","","","","","","","","","",""]
[null,"","","","","","","","","","","",""]
[null,"","","","","","","","","","","",""]
[null,"","","","","","","","","","","",""]
[null,"","","","","","","","","","","",""]
[null,"","","","","","","","","","","",""]
[null,"","","","","","","","","","","",""]
[null,"","","","","","","","","","","",""]
[null,"","","","","","","","","","","",""]
[null,"","","","","","","","","","","",""]
[null,"","","","","","","","","","","",""]
[null,"","","","","","","","","","","",""]
[null,"","","","","","","","","","","",""]
[null,"","","","","","","","","","","",""]
[null,"","","","","","","","","","","",""]
[null,"","","","","","","","","","","",""]
[null,"","","","","","","","","","","",""]
[null,"","","","","","","","","","","",""]
[null,"","","","","","","","","","","",""]
[null,"","","","","","","","","","","",""]
[null,"","","","","","","","","","","",""]
[null,"","","","","","","","","","","",""]
[null,"","","","","","","","","","","",""]
[null,"","","","","","","","","","","",""]
[null,"","","","","","","","","","","",""]
[null,"","","","","","","","","","","",""]
[null,"","","","","","","","","","","",""]
[null,"","","","","","","","","","","",""]
[null,"","","","","","","","","","","",""]
[null,"","","","","","","","","","","",""]
[null,"","","","","","","","","","","",""]
[null,"","","","","","","","","","","",""]
[null,"","","","","","","","","","","",""]
[null,"","","","","","","","","","","",""]
[null,"","","","","","","","","","","",""]
[null,"","","","","","","","","","","",""]
[null,"","","","","","","","","","","",""]
[null,"","","","","","","","","","","",""]
[null,"","","","","","","","","","","",""]
[null,"","","","","","","","","","","",""]
[null,"","","","","","","","","","","",""]
[null,"","","","","","","","","","","",""]
[null,"","","","","","","","","","","",""]
[null,"","","","","","","","","","","",""]
[null,"","","","","","","","","","","",""]
[null,"","","","","","","","","","","",""]
[null,"","","","","","","","","","","",""]
[null,"","","","","","","","","","","",""]
[null,"","","","","","","","","","","",""]
[null,"","","","","","","","","","","",""]
[null,"","","","","","","","","","","",""]
[null,"","","","","","","","","","","",""]
[null,"","","","","","","","","","","",""]
[null,"","","","","","","","","","","",""]
[null,"","","","","","","","","","","",""]
[null,"","","","","","","","","","","",""]
[null,"","","","","","","","","","","",""]
[null,"","","","","","","","","","","",""]
[null,"","","","","","","","","","","",""]
[null,"","","","","","","","","","","",""]
[null,"","","","","","","","","","","",""]
[null,"","","","","","","","","","","",""]
[null,"","","","","","","","","","","",""]
[null,"","","","","","","","","","","",""]
[null,"","","","","","","","","","","",""]
[null,"","","","","","","","","","","",""]
[null,"","","","","","","","","","","",""]
[null,"","","","","","","","","","","",""]
[null,"","","","","","","","","","","",""]
[null,"","","","","","","","","","","",""]
[null,"","","","","","","","","","","",""]
[null,"","","","","","","","","","","",""]
[null,"","","","","","","","","","","",""]
[null,"","","","","","","","","","","",""]
[null,"","","","","","","","","","","",""]
[null,"","","","","","","","","","","",""]
[null,"","","","","","","","","","","",""]
[null,"","","","","","","","","","","",""]
[null,"","","","","","","","","","","",""]
[null,"","","","","","","","","","","",""]
[null,"","","","","","","","","","","",""]
[null,"","","","","","","","","","","",""]
[null,"","","","","","","","","","","",""]
[null,"","","","","","","","","","","",""]
[null,"","","","","","","","","","","",""]
[null,"","","","","","","","","","","",""]
[null,"","","","","","","","","","","",""]
[null,"","","","","","","","","","","",""]
[null,"","","","","","","","","","","",""]
[null,"","","","","","","","","","","",""]
[null,"","","","","","","","","","","",""]
[null,"","","","","","","","","","","",""]
[null,"","","","","","","","","","","",""]
[null,"","","","","","","","","","","",""]
[null,"","","","","","","","","","","",""]
[null,"","","","","","","","","","","",""]
[null,"","","","","","","","","","","",""]
[null,"","","","","","","","","","","",""]
[null,"","","","","","","","","","","",""]
[null,"","","","","","","","","","","",""]
[null,"","","","","","","","","","","",""]
[null,"","","","","","","","","","","",""]
[null,"","","","","","","","","","","",""]
[null,"","","","","","","","","","","",""]
[null,"","","","","","","","","","","",""]
[null,"","","","","","","","","","","",""]
[null,"","","","","","","","","","","",""]
[null,"","","","","","","","","","","",""]
[null,"","","","","","","","","","","",""]
[null,"","","","","","","","","","","",""]
[null,"","","","","","","","","","","",""]
[null,"","","","","","","","","","","",""]
[null,"","","","","","","","","","","",""]
[null,"","","","","","","","","","","",""]
[null,"","","","","","","","","","","",""]
[null,"","","","","","","","","","","",""]
[null,"","","","","","","","","","","",""]
[null,"","","","","","","","","","","",""]
[null,"","","","","","","","","","","",""]
[null,"","","","","","","","","","","",""]
[null,"","","","","","","","","","","",""]
[null,"","","","","","","","","","","",""]
[null,"","","","","","","","","","","",""]
[null,"","","","","","","","","","","",""]
[null,"","","","","","","","","","","",""]
[null,"","","","","","","","","","","",""]
[null,"","","","","","","","","","","",""]
[null,"","","","","","","","","","","",""]
[null,"","","","","","","","","","","",""]
[null,"","","","","","","","","","","",""]
[null,"","","","","","","","","","","",""]
[null,"","","","","","","","","","","",""]
[null,"","","","","","","","","","","",""]
[null,"","","","","","","","","","","",""]
[null,"","","","","","","","","","","",""]
[null,"","","","","","","","","","","",""]
[null,"","","","","","","","","","","",""]
[null,"","","","","","","","","","","",""]
[null,"","","","","","","","","","","",""]
[null,"","","","","","","","","","","",""]
[null,"","","","","","","","","","","",""]
[null,"","","","","","","","","","","",""]
[null,"","","","","","","","","","","",""]
[null,"","","","","","","","","","","",""]
[null,"","","","","","","","","","","",""]
[null,"","","","","","","","","","","",""]
[null,"","","","","","","","","","","",""]
[null,"","","","","","","","","","","",""]
[null,"","","","","","","","","","","",""]
[null,"","","","","","","","","","","",""]
[null,"","","","","","","","","","","",""]
[null,"","","","","","","","","","","",""]
[null,"","","","","","","","","","","",""]
[null,"","","","","","","","","","","",""]
[null,"","","","","","","","","","","",""]
[null,"","","","","","","","","","","",""]
[null,"","","","","","","","","","","",""]
[null,"","","","","","","","","","","",""]
[null,"","","","","","","","","","","",""]
[null,"","","","","","","","","","","",""]
[null,"","","","","","","","","","","",""]
[null,"","","","","","","","","","","",""]
[null,"","","","","","","","","","","",""]
[null,"","","","","","","","","","","",""]
[null,"","","","","","","","","","","",""]
[null,"","","","","","","","","","","",""]
[null,"","","","","","","","","","","",""]
[null,"","","","","","","","","","","",""]
[null,"","","","","","","","","","","",""]
[null,"","","","","","","","","","","",""]
[null,"","","","","","","","","","","",""]
[null,"","","","","","","","","","","",""]
[null,"","","","","","","","","","","",""]
[null,"","","","","","","","","","","",""]
[null,"","","","","","","","","","","",""]
[null,"","","","","","","","","","","",""]
[null,"","","","","","","","","","","",""]
[null,"","","","","","","","","","","",""]
[null,"","","","","","","","","","","",""]
[null,"","","","","","","","","","","",""]
[null,"","","","","","","","","","","",""]
[null,"","","","","","","","","","","",""]
[null,"","","","","","","","","","","",""]
[null,"","","","","","","","","","","",""]
[null,"","","","","","","","","","","",""]
[null,"","","","","","","","","","","",""]
[null,"","","","","","","","","","","",""]
[null,"","","","","","","","","","","",""]
[null,"","","","","","","","","","","",""]
[null,"","","","","","","","","","","",""]
[null,"","","","","","","","","","","",""]
[null,"","","","","","","","","","","",""]
[null,"","","","","","","","","","","",""]
[null,"","","","","","","","","","","",""]
[null,"","","","","","","","","","","",""]
[null,"","","","","","","","","","","",""]
[null,"","","","","","","","","","","",""]
[null,"","","","","","","","","","","",""]
[null,"","","","","","","","","","","",""]
[null,"","","","","","","","","","","",""]
[null,"","","","","","","","","","","",""]
[null,"","","","","","","","","","","",""]
[null,"","","","","","","","","","","",""]
[null,"","","","","","","","","","","",""]
[null,"","","","","","","","","","","",""]
[null,"","","","","","","","","","","",""]
[null,"","","","","","","","","","","",""]
[null,"","","","","","","","","","","",""]
[null,"","","","","","","","","","","",""]
[null,"","","","","","","","","","","",""]
[null,"","","","","","","","","","","",""]
[null,"","","","","","","","","","","",""]
[null,"","","","","","","","","","","",""]
[null,"","","","","","","","","","","",""]
[null,"","","","","","","","","","","",""]
[null,"","","","","","","","","","","",""]
[null,"","","","","","","","","","","",""]
[null,"","","","","","","","","","","",""]
[null,"","","","","","","","","","","",""]
[null,"","","","","","","","","","","",""]
[null,"","","","","","","","","","","",""]
[null,"","","","","","","","","","","",""]
[null,"","","","","","","","","","","",""]
[null,"","","","","","","","","","","",""]
[null,"","","","","","","","","","","",""]
[null,"","","","","","","","","","","",""]
[null,"","","","","","","","","","","",""]
[null,"","","","","","","","","","","",""]
[null,"","","","","","","","","","","",""]
[null,"","","","","","","","","","","",""]
[null,"","","","","","","","","","","",""]
[null,"","","","","","","","","","","",""]
[null,"","","","","","","","","","","",""]
[null,"","","","","","","","","","","",""]
[null,"","","","","","","","","","","",""]
[null,"","","","","","","","","","","",""]
[null,"","","","","","","","","","","",""]
[null,"","","","","","","","","","","",""]
[null,"","","","","","","","","","","",""]
[null,"","","","","","","","","","","",""]
[null,"","","","","","","","","","","",""]
[null,"","","","","","","","","","","",""]
[null,"","","","","","","","","","","",""]
[null,"","","","","","","","","","","",""]
[null,"","","","","","","","","","","",""]
[null,"","","","","","","","","","","",""]
[null,"","","","","","","","","","","",""]
[null,"","","","","","","","","","","",""]
[null,"","","","","","","","","","","",""]
[null,"","","","","","","","","","","",""]
[null,"","","","","","","","","","","",""]
[null,"","","","","","","","","","","",""]
[null,"","","","","","","","","","","",""]
[null,"","","","","","","","","","","",""]
[null,"","","","","","","","","","","",""]
[null,"","","","","","","","","","","",""]
[null,"","","","","","","","","","","",""]
[null,"","","","","","","","","","","",""]
[null,"","","","","","","","","","","",""]
[null,"","","","","","","","","","","",""]
[null,"","","","","","","","","","","",""]
[null,"","","","","","","","","","","",""]
[null,"","","","","","","","","","","",""]
[null,"","","","","","","","","","","",""]
[null,"","","","","","","","","","","",""]
[null,"","","","","","","","","","","",""]
[null,"","","","","","","","","","","",""]
[null,"","","","","","","","","","","",""]
[null,"","","","","","","","","","","",""]
[null,"","","","","","","","","","","",""]
[null,"","","","","","","","","","","",""]
[null,"","","","","","","","","","","",""]
[null,"","","","","","","","","","","",""]
[null,"","","","","","","","","","","",""]
[null,"","","","","","","","","","","",""]
[null,"","","","","","","","","","","",""]
[null,"","","","","","","","","","","",""]
[null,"","","","","","","","","","","",""]
[null,"","","","","","","","","","","",""]
[null,"","","","","","","","","","","",""]
[null,"","","","","","","","","","","",""]
[null,"","","","","","","","","","","",""]
[null,"","","","","","","","","","","",""]
[null,"","","","","","","","","","","",""]
[null,"","","","","","","","","","","",""]
[null,"","","","","","","","","","","",""]
[null,"","","","","","","","","","","",""]
[null,"","","","","","","","","","","",""]
[null,"","","","","","","","","","","",""]
[null,"","","","","","","","","","","",""]
[null,"","","","","","","","","","","",""]
[null,"","","","","","","","","","","",""]
[null,"","","","","","","","","","","",""]
[null,"","","","","","","","","","","",""]
[null,"","","","","","","","","","","",""]
[null,"","","","","","","","","","","",""]
[null,"","","","","","","","","","","",""]
[null,"","","","","","","","","","","",""]
[null,"","","","","","","","","","","",""]
[null,"","","","","","","","","","","",""]
[null,"","","","","","","","","","","",""]
[null,"","","","","","","","","","","",""]
[null,"","","","","","","","","","","",""]
[null,"","","","","","","","","","","",""]
[null,"","","","","","","","","","","",""]
[null,"","","","","","","","","","","",""]
[null,"","","","","","","","","","","",""]
[null,"","","","","","","","","","","",""]
[null,"","","","","","","","","","","",""]
[null,"","","","","","","","","","","",""]
[null,"","","","","","","","","","","",""]
[null,"","","","","","","","","","","",""]
[null,"","","","","","","","","","","",""]
[null,"","","","","","","","","","","",""]
[null,"","","","","","","","","","","",""]
[null,"","","","","","","","","","","",""]
[null,"","","","","","","","","","","",""]
[null,"","","","","","","","","","","",""]
[null,"","","","","","","","","","","",""]
[null,"","","","","","","","","","","",""]
[null,"","","","","","","","","","","",""]
[null,"","","","","","","","","","","",""]
[null,"","","","","","","","","","","",""]
[null,"","","","","","","","","","","",""]
[null,"","","","","","","","","","","",""]
[null,"","","","","","","","","","","",""]
[null,"","","","","","","","","","","",""]
[null,"","","","","","","","","","","",""]
[null,"","","","","","","","","","","",""]
[null,"","","","","","","","","","","",""]
[null,"","","","","","","","","","","",""]
[null,"","","","","","","","","","","",""]
[null,"","","","","","","","","","","",""]
[null,"","","","","","","","","","","",""]
[null,"","","","","","","","","","","",""]
[null,"","","","","","","","","","","",""]
[null,"","","","","","","","","","","",""]
[null,"","","","","","","","","","","",""]
[null,"","","","","","","","","","","",""]
[null,"","","","","","","","","","","",""]
[null,"","","","","","","","","","","",""]
[null,"","","","","","","","","","","",""]
[null,"","","","","","","","","","","",""]
[null,"","","","","","","","","","","",""]
[null,"","","","","","","","","","","",""]
[null,"","","","","","","","","","","",""]
[null,"","","","","","","","","","","",""]
[null,"","","","","","","","","","","",""]
[null,"","","","","","","","","","","",""]
[null,"","","","","","","","","","","",""]
[null,"","","","","","","","","","","",""]
[null,"","","","","","","","","","","",""]
[null,"","","","","","","","","","","",""]
[null,"","","","","","","","","","","",""]
[null,"","","","","","","","","","","",""]
[null,"","","","","","","","","","","",""]
[null,"","","","","","","","","","","",""]
[null,"","","","","","","","","","","",""]
[null,"","","","","","","","","","","",""]
[null,"","","","","","","","","","","",""]
[null,"","","","","","","","","","","",""]
[null,"","","","","","","","","","","",""]
[null,"","","","","","","","","","","",""]
[null,"","","","","","","","","","","",""]
[null,"","","","","","","","","","","",""]
[null,"","","","","","","","","","","",""]
[null,"","","","","","","","","","","",""]
[null,"","","","","","","","","","","",""]
[null,"","","","","","","","","","","",""]
[null,"","","","","","","","","","","",""]
[null,"","","","","","","","","","","",""]
[null,"","","","","","","","","","","",""]
[null,"","","","","","","","","","","",""]
[null,"","","","","","","","","","","",""]
[null,"","","","","","","","","","","",""]
[null,"","","","","","","","","","","",""]
[null,"","","","","","","","","","","",""]
[null,"","","","","","","","","","","",""]
[null,"","","","","","","","","","","",""]
[null,"","","","","","","","","","","",""]
[null,"","","","","","","","","","","",""]
[null,"","","","","","","","","","","",""]
[null,"","","","","","","","","","","",""]
[null,"","","","","","","","","","","",""]
[null,"","","","","","","","","","","",""]
[null,"","","","","","","","","","","",""]
[null,"","","","","","","","","","","",""]
[null,"","","","","","","","","","","",""]
[null,"","","","","","","","","","","",""]
[null,"","","","","","","","","","","",""]
[null,"","","","","","","","","","","",""]
[null,"","","","","","","","","","","",""]
[null,"","","","","","","","","","","",""]
[null,"","","","","","","","","","","",""]
[null,"","","","","","","","","","","",""]
[null,"","","","","","","","","","","",""]
[null,"","","","","","","","","","","",""]
[null,"","","","","","","","","","","",""]
[null,"","","","","","","","","","","",""]
[null,"","","","","","","","","","","",""]
[null,"","","","","","","","","","","",""]
[null,"","","","","","","","","","","",""]
[null,"","","","","","","","","","","",""]
[null,"","","","","","","","","","","",""]
[null,"","","","","","","","","","","",""]
[null,"","","","","","","","","","","",""]
[null,"","","","","","","","","","","",""]
[null,"","","","","","","","","","","",""]
[null,"","","","","","","","","","","",""]
[null,"","","","","","","","","","","",""]
[null,"","","","","","","","","","","",""]
[null,"","","","","","","","","","","",""]
[null,"","","","","","","","","","","",""]
[null,"","","","","","","","","","","",""]
[null,"","","","","","","","","","","",""]
[null,"","","","","","","","","","","",""]
[null,"","","","","","","","","","","",""]
[null,"","","","","","","","","","","",""]
[null,"","","","","","","","","","","",""]
[null,"","","","","","","","","","","",""]
[null,"","","","","","","","","","","",""]
[null,"","","","","","","","","","","",""]
[null,"","","","","","","","","","","",""]
[null,"","","","","","","","","","","",""]
[null,"","","","","","","","","","","",""]
[null,"","","","","","","","","","","",""]
[null,"","","","","","","","","","","",""]
[null,"","","","","","","","","","","",""]
[null,"","","","","","","","","","","",""]
[null,"","","","","","","","","","","",""]
[null,"","","","","","","","","","","",""]
[null,"","","","","","","","","","","",""]
[null,"","","","","","","","","","","",""]
[null,"","","","","","","","","","","",""]
[null,"","","","","","","","","","","",""]
[null,"","","","","","","","","","","",""]
[null,"","","","","","","","","","","",""]
[null,"","","","","","","","","","","",""]
[null,"","","","","","","","","","","",""]
[null,"","","","","","","","","","","",""]
[null,"","","","","","","","","","","",""]
[null,"","","","","","","","","","","",""]
[null,"","","","","","","","","","","",""]
[null,"","","","","","","","","","","",""]
[null,"","","","","","","","","","","",""]
[null,"","","","","","","","","","","",""]
[null,"","","","","","","","","","","",""]
[null,"","","","","","","","","","","",""]
[null,"","","","","","","","","","","",""]
[null,"","","","","","","","","","","",""]
[null,"","","","","","","","","","","",""]
[null,"","","","","","","","","","","",""]
[null,"","","","","","","","","","","",""]
[null,"","","","","","","","","","","",""]
[null,"","","","","","","","","","","",""]
[null,"","","","","","","","","","","",""]
[null,"","","","","","","","","","","",""]
[null,"","","","","","","","","","","",""]
[null,"","","","","","","","","","","",""]
[null,"","","","","","","","","","","",""]
[null,"","","","","","","","","","","",""]
[null,"","","","","","","","","","","",""]
[null,"","","","","","","","","","","",""]
[null,"","","","","","","","","","","",""]
[null,"","","","","","","","","","","",""]
[null,"","","","","","","","","","","",""]
[null,"","","","","","","","","","","",""]
[null,"","","","","","","","","","","",""]
[null,"","","","","","","","","","","",""]
[null,"","","","","","","","","","","",""]
[null,"","","","","","","","","","","",""]
[null,"","","","","","","","","","","",""]
[null,"","","","","","","","","","","",""]
[null,"","","","","","","","","","","",""]
[null,"","","","","","","","","","","",""]
[null,"","","","","","","","","","","",""]
[null,"","","","","","","","","","","",""]
[null,"","","","","","","","","","","",""]
[null,"","","","","","","","","","","",""]
[null,"","","","","","","","","","","",""]
[null,"","","","","","","","","","","",""]
[null,"","","","","","","","","","","",""]
[null,"","","","","","","","","","","",""]
[null,"","","","","","","","","","","",""]
[null,"","","","","","","","","","","",""]
[null,"","","","","","","","","","","",""]
[null,"","","","","","","","","","","",""]
[null,"","","","","","","","","","","",""]
[null,"","","","","","","","","","","",""]
[null,"","","","","","","","","","","",""]
[null,"","","","","","","","","","","",""]
[null,"","","","","","","","","","","",""]
[null,"","","","","","","","","","","",""]
[null,"","","","","","","","","","","",""]
[null,"","","","","","","","","","","",""]
[null,"","","","","","","","","","","",""]
[null,"","","","","","","","","","","",""]
[null,"","","","","","","","","","","",""]
[null,"","","","","","","","","","","",""]
[null,"","","","","","","","","","","",""]
[null,"","","","","","","","","","","",""]
[null,"","","","","","","","","","","",""]
[null,"","","","","","","","","","","",""]
[null,"","","","","","","","","","","",""]
[null,"","","","","","","","","","","",""]
[null,"","","","","","","","","","","",""]
[null,"","","","","","","","","","","",""]
[null,"","","","","","","","","","","",""]
[null,"","","","","","","","","","","",""]
[null,"","","","","","","","","","","",""]
[null,"","","","","","","","","","","",""]
[null,"","","","","","","","","","","",""]
[null,"","","","","","","","","","","",""]
[null,"","","","","","","","","","","",""]
[null,"","","","","","","","","","","",""]
[null,"","","","","","","","","","","",""]
[null,"","","","","","","","","","","",""]
[null,"","","","","","","","","","","",""]
[null,"","","","","","","","","","","",""]
[null,"","","","","","","","","","","",""]
[null,"","","","","","","","","","","",""]
[null,"","","","","","","","","","","",""]
[null,"","","","","","","","","","","",""]
[null,"","","","","","","","","","","",""]
[null,"","","","","","","","","","","",""]
[null,"","","","","","","","","","","",""]
[null,"","","","","","","","","","","",""]
[null,"","","","","","","","","","","",""]
[null,"","","","","","","","","","","",""]
[null,"","","","","","","","","","","",""]
[null,"","","","","","","","","","","",""]
[null,"","","","","","","","","","","",""]
[null,"","","","","","","","","","","",""]
[null,"","","","","","","","","","","",""]
[null,"","","","","","","","","","","",""]
[null,"","","","","","","","","","","",""]
[null,"","","","","","","","","","","",""]
[null,"","","","","","","","","","","",""]
[null,"","","","","","","","","","","",""]
[null,"","","","","","","","","","","",""]
[null,"","","","","","","","","","","",""]
[null,"","","","","","","","","","","",""]
[null,"","","","","","","","","","","",""]
[null,"","","","","","","","","","","",""]
[null,"","","","","","","","","","","",""]
[null,"","","","","","","","","","","",""]
[null,"","","","","","","","","","","",""]
[null,"","","","","","","","","","","",""]
[null,"","","","","","","","","","","",""]
[null,"","","","","","","","","","","",""]
[null,"","","","","","","","","","","",""]
[null,"","","","","","","","","","","",""]
[null,"","","","","","","","","","","",""]
[null,"","","","","","","","","","","",""]
[null,"","","","","","","","","","","",""]
[null,"","","","","","","","","","","",""]
[null,"","","","","","","","","","","",""]
[null,"","","","","","","","","","","",""]
[null,"","","","","","","","","","","",""]
[null,"","","","","","","","","","","",""]
[null,"","","","","","","","","","","",""]
[null,"","","","","","","","","","","",""]
[null,"","","","","","","","","","","",""]
[null,"","","","","","","","","","","",""]
[null,"","","","","","","","","","","",""]
[null,"","","","","","","","","","","",""]
[null,"","","","","","","","","","","",""]
[null,"","","","","","","","","","","",""]
[null,"","","","","","","","","","","",""]
[null,"","","","","","","","","","","",""]
[null,"","","","","","","","","","","",""]
[null,"","","","","","","","","","","",""]
[null,"","","","","","","","","","","",""]
[null,"","","","","","","","","","","",""]
[null,"","","","","","","","","","","",""]
[null,"","","","","","","","","","","",""]
[null,"","","","","","","","","","","",""]
[null,"","","","","","","","","","","",""]
[null,"","","","","","","","","","","",""]
[null,"","","","","","","","","","","",""]
[null,"","","","","","","","","","","",""]
[null,"","","","","","","","","","","",""]
[null,"","","","","","","","","","","",""]
[null,"","","","","","","","","","","",""]
[null,"","","","","","","","","","","",""]
[null,"","","","","","","","","","","",""]
[null,"","","","","","","","","","","",""]
[null,"","","","","","","","","","","",""]
[null,"","","","","","","","","","","",""]
[null,"","","","","","","","","","","",""]
[null,"","","","","","","","","","","",""]
[null,"","","","","","","","","","","",""]
[null,"","","","","","","","","","","",""]
[null,"","","","","","","","","","","",""]
[null,"","","","","","","","","","","",""]
[null,"","","","","","","","","","","",""]
[null,"","","","","","","","","","","",""]
[null,"","","","","","","","","","","",""]
[null,"","","","","","","","","","","",""]
[null,"","","","","","","","","","","",""]
[null,"","","","","","","","","","","",""]
[null,"","","","","","","","","","","",""]
[null,"","","","","","","","","","","",""]
[null,"","","","","","","","","","","",""]
[null,"","","","","","","","","","","",""]
[null,"","","","","","","","","","","",""]
[null,"","","","","","","","","","","",""]
[null,"","","","","","","","","","","",""]
[null,"","","","","","","","","","","",""]
[null,"","","","","","","","","","","",""]
[null,"","","","","","","","","","","",""]
[null,"","","","","","","","","","","",""]
[null,"","","","","","","","","","","",""]
[null,"","","","","","","","","","","",""]
[null,"","","","","","","","","","","",""]
[null,"","","","","","","","","","","",""]
[null,"","","","","","","","","","","",""]
[null,"","","","","","","","","","","",""]
[null,"","","","","","","","","","","",""]
[null,"","","","","","","","","","","",""]
[null,"","","","","","","","","","","",""]
[null,"","","","","","","","","","","",""]
[null,"","","","","","","","","","","",""]
[null,"","","","","","","","","","","",""]
[null,"","","","","","","","","","","",""]
[null,"","","","","","","","","","","",""]
[null,"","","","","","","","","","","",""]
[null,"","","","","","","","","","","",""]
[null,"","","","","","","","","","","",""]
[null,"","","","","","","","","","","",""]
[null,"","","","","","","","","","","",""]
[null,"","","","","","","","","","","",""]
[null,"","","","","","","","","","","",""]
[null,"","","","","","","","","","","",""]
[null,"","","","","","","","","","","",""]
[null,"","","","","","","","","","","",""]
[null,"","","","","","","","","","","",""]
[null,"","","","","","","","","","","",""]
[null,"","","","","","","","","","","",""]
[null,"","","","","","","","","","","",""]
[null,"","","","","","","","","","","",""]
[null,"","","","","","","","","","","",""]
[null,"","","","","","","","","","","",""]
[null,"","","","","","","","","","","",""]
[null,"","","","","","","","","","","",""]
[null,"","","","","","","","","","","",""]
[null,"","","","","","","","","","","",""]
[null,"","","","","","","","","","","",""]
[null,"","","","","","","","","","","",""]
[null,"","","","","","","","","","","",""]
[null,"","","","","","","","","","","",""]
[null,"","","","","","","","","","","",""]
[null,"","","","","","","","","","","",""]
[null,"","","","","","","","","","","",""]
[null,"","","","","","","","","","","",""]
[null,"","","","","","","","","","","",""]
[null,"","","","","","","","","","","",""]
[null,"","","","","","","","","","","",""]
[null,"","","","","","","","","","","",""]
[null,"","","","","","","","","","","",""]
[null,"","","","","","","","","","","",""]
[null,"","","","","","","","","","","",""]
[null,"","","","","","","","","","","",""]
[null,"","","","","","","","","","","",""]
[null,"","","","","","","","","","","",""]
[null,"","","","","","","","","","","",""]
[null,"","","","","","","","","","","",""]
[null,"","","","","","","","","","","",""]
[null,"","","","","","","","","","","",""]
[null,"","","","","","","","","","","",""]
[null,"","","","","","","","","","","",""]
[null,"","","","","","","","","","","",""]
[null,"","","","","","","","","","","",""]
[null,"","","","","","","","","","","",""]
[null,"","","","","","","","","","","",""]
[null,"","","","","","","","","","","",""]
[null,"","","","","","","","","","","",""]
[null,"","","","","","","","","","","",""]
[null,"","","","","","","","","","","",""]
[null,"","","","","","","","","","","",""]
[null,"","","","","","","","","","","",""]
[null,"","","","","","","","","","","",""]
[null,"","","","","","","","","","","",""]
[null,"","","","","","","","","","","",""]
[null,"","","","","","","","","","","",""]
[null,"","","","","","","","","","","",""]
[null,"","","","","","","","","","","",""]
[null,"","","","","","","","","","","",""]
[null,"","","","","","","","","","","",""]
[null,"","","","","","","","","","","",""]
[null,"","","","","","","","","","","",""]
[null,"","","","","","","","","","","",""]
[null,"","","","","","","","","","","",""]
[null,"","","","","","","","","","","",""]
[null,"","","","","","","","","","","",""]
[null,"","","","","","","","","","","",""]
[null,"","","","","","","","","","","",""]
[null,"","","","","","","","","","","",""]
[null,"","","","","","","","","","","",""]
[null,"","","","","","","","","","","",""]
[null,"","","","","","","","","","","",""]

{"sheet":"Results-2","index":2,"n_rows":1000,"n_cols":13,"rows_kept":1000,"cut":false,"hidden":false,"merged":[]}
["Fund  |  Rating","12-year rank","11-year rank","10-year rank","9-year rank","8-year rank","7-year rank","6-year rank","5-year rank","4-year rank","3-year rank","2-year rank","1-year rank"]
["ICICI Prudential Value Discovery Fund  |","",1,1,1,1,1,1,1,1,2,1,15]
["Franklin India High Growth Companies Fund  |","","","","",7,2,2,2,2,1,2,42]
["Mirae Asset India Opportunities Fund - Regular Plan  |","","","","","",3,3,4,12,10,13,23]
["BNP Paribas Dividend Yield Fund  |","","",32,3,3,9,4,5,19,18,12,9]
["Franklin India Prima Plus Fund  |",3,3,2,6,6,13,5,3,16,11,8,22]
["Tata Ethical Fund - Regular Plan  |",10,8,9,22,28,4,6,6,22,8,33,7]
["Tata Dividend Yield Fund - Regular Plan  |","",17,13,2,11,8,7,20,41,35,40,21]
["HDFC Capital Builder Fund  |",6,10,12,4,12,6,8,16,17,9,15,20]
["L&T India Special Situations Fund  |","","","",21,14,14,9,13,15,27,29,42]
["Kotak Select Focus Fund Regular Plan  |","","","","","","",10,10,13,13,9,35]
["BNP Paribas Equity Fund  |","",20,27,28,35,32,11,7,24,16,21,14]
["SBI Magnum Multiplier Fund  |",1,2,4,12,18,10,12,9,5,3,7,2]
["Franklin India Flexi Cap Fund  |","","",8,14,13,11,13,14,21,15,14,40]
["ICICI Prudential Indo Asia Equity Fund  |","","","","",16,18,14,12,32,21,35,47]
["UTI Equity Fund  |",15,19,17,8,4,15,15,17,29,32,42,44]
["Invesco India Contra Fund  |","","","","",2,7,16,8,11,7,5,24]
["L&T Equity Fund  |","","",6,13,15,19,17,39,42,33,37,48]
["Quantum Equity FoF Fund  |","","","","","","",18,22,25,24,18,19]
["ICICI Prudential Multicap Fund  |",14,16,19,29,26,23,19,27,18,22,24,33]
["ICICI Prudential Dynamic Fund  |",8,4,5,19,9,26,20,26,33,37,66,60]
["DSP BlackRock Opportunities Fund  |",9,12,15,24,24,22,21,36,27,23,25,12]
["Taurus Ethical Fund - Regular Plan  |","","","","","","",22,38,49,17,46,34]
["Birla Sun Life Dividend Yield Plus Fund  |",19,26,24,5,5,21,23,43,54,56,45,71]
["Canara Robeco Equity Diversified Fund - Regular Plan  |",16,15,11,10,17,17,24,34,48,54,56,49]
["Tata Equity Opportunities Fund - Regular Plan  |",11,14,21,26,33,16,25,11,14,14,17,10]
["Goldman Sachs Nifty Junior BeES Fund  |",21,28,20,17,27,5,26,25,6,28,27,8]
["HSBC India Opportunities Fund  |","",27,30,36,37,41,27,21,34,25,34,62]
["HDFC Equity Fund  |",5,6,7,7,8,12,28,44,36,45,47,69]
["Birla Sun Life Advantage Fund  |",22,29,31,31,31,24,29,18,9,5,6,18]
["Kotak Opportunities Regular Plan  |","",7,10,15,32,29,30,29,30,29,23,29]
["Principal Growth Fund  |",24,31,37,40,42,30,31,19,4,19,28,37]
["ICICI Prudential Top 100 Fund  |",18,18,22,27,22,35,32,31,35,41,60,54]
["Franklin India Life Stage Fund of Funds 20s  |",23,25,25,23,10,37,33,32,52,50,50,28]
["SBI Magnum Multicap Fund  |","","",35,35,36,31,34,15,3,4,4,3]
["Birla Sun Life Equity Fund  |",7,11,16,25,30,25,35,23,7,12,11,36]
["Edelweiss Diversified Growth Equity Top 100 Fund  |","","","","","","",36,28,43,40,58,45]
["Franklin India Opportunities Fund  |","",24,29,38,40,38,37,30,28,20,10,38]
["DSP BlackRock Equity Fund  |",4,5,3,9,19,28,38,41,38,44,31,55]
["Birla Sun Life Special Situations Fund  |","","","","","",36,39,24,20,6,3,5]
["Templeton India Equity Income Fund  |","","","",18,20,20,40,45,47,58,63,61]
["HDFC Growth Fund  |",12,13,14,20,25,39,41,50,62,60,53,53]
["Taurus Starshare Fund - Regular Plan  |",13,22,33,37,44,34,42,46,60,61,61,59]
["UTI Top 100 Fund  |","","","","","","",43,40,53,47,52,46]
["Templeton India Growth Fund  |",20,23,18,16,23,27,44,48,39,51,39,50]
["HDFC Premier Multi-Cap Fund  |","","",34,30,29,33,45,54,63,48,38,57]
["Principal Dividend Yield Fund  |","",32,39,34,38,42,46,55,51,69,55,68]
["Sundaram Equity Multiplier Fund  |","","","","",41,45,47,42,44,49,26,27]
["UTI Dividend Yield Fund  |","","",23,11,21,40,48,56,66,68,67,70]
["Reliance Vision Fund  |",17,21,28,32,34,43,49,47,37,38,20,64]
["Edelweiss Prudent Advantage Fund","","","","","","",50,53,59,43,54,39]
["IDFC Classic Equity Fund - Regular Plan  |","","",36,39,43,47,51,52,50,64,65,17]
["Taurus Bonanza Fund - Regular Plan  |",25,30,38,42,46,46,52,58,65,59,51,32]
["SBI Contra Fund  |",2,9,26,33,39,44,53,51,46,55,44,51]
["Goldman Sachs CNX 500 Fund  |","","","","","","",54,57,56,62,64,56]
["LIC MF Equity Fund  |",26,33,40,41,45,49,55,59,64,65,69,73]
["BOI AXA Equity Fund - Regular Plan  |","","","","","",48,56,49,58,52,59,65]
["JM Multi Strategy Fund  |","","","","","",50,57,61,40,46,32,67]
["JM Core 11 Fund  |","","","","","",51,58,60,26,53,43,66]
["Axis Equity Fund  |","","","","","","","",35,31,36,57,58]
["Axis Focused 25 Fund  |","","","","","","","","","",42,49,25]
["Birla Sun Life India Reforms Fund  |","","","","","","","",62,57,63,22,63]
["ICICI Prudential Nifty Next 50 Index Fund  |","","","","","","","",33,10,31,30,11]
["IDBI India Top 100 Equity Fund  |","","","","","","","","","",39,48,31]
["IDBI Nifty Junior Index Fund  |","","","","","","","",37,8,34,36,13]
["IIFL India Growth Fund - Regular Plan","","","","","","","","","","","",41]
["Indiabulls Bluechip Fund  |","","","","","","","","","",66,68,30]
["Mirae Asset Great Consumer Fund - Regular Plan  |","","","","","","","","",23,26,41,26]
["Motilal Oswal MOSt Focused Multicap 35 Fund - Regular Plan","","","","","","","","","","","",1]
["Peerless Equity Fund  |","","","","","","","","",55,57,62,16]
["PPFAS Long Term Value Fund - Regular Plan","","","","","","","","","","",19,4]
["Tata Retirement Savings Fund - Progressive Plan - Regular Plan  |","","","","","","","","",45,30,16,6]
["Union KBC Equity Fund  |","","","","","","","","",61,67,70,72]
["UTI Multi Cap Fund - Regular Plan","","","","","","","","","","","",52]
[null,"","","","","","","","","","","",""]
[null,"","","","","","","","","","","",""]
[null,"","","","","","","","","","","",""]
[null,"","","","","","","","","","","",""]
[null,"","","","","","","","","","","",""]
[null,"","","","","","","","","","","",""]
[null,"","","","","","","","","","","",""]
[null,"","","","","","","","","","","",""]
[null,"","","","","","","","","","","",""]
[null,"","","","","","","","","","","",""]
[null,"","","","","","","","","","","",""]
[null,"","","","","","","","","","","",""]
[null,"","","","","","","","","","","",""]
[null,"","","","","","","","","","","",""]
[null,"","","","","","","","","","","",""]
[null,"","","","","","","","","","","",""]
[null,"","","","","","","","","","","",""]
[null,"","","","","","","","","","","",""]
[null,"","","","","","","","","","","",""]
[null,"","","","","","","","","","","",""]
[null,"","","","","","","","","","","",""]
[null,"","","","","","","","","","","",""]
[null,"","","","","","","","","","","",""]
[null,"","","","","","","","","","","",""]
[null,"","","","","","","","","","","",""]
[null,"","","","","","","","","","","",""]
[null,"","","","","","","","","","","",""]
[null,"","","","","","","","","","","",""]
[null,"","","","","","","","","","","",""]
[null,"","","","","","","","","","","",""]
[null,"","","","","","","","","","","",""]
[null,"","","","","","","","","","","",""]
[null,"","","","","","","","","","","",""]
[null,"","","","","","","","","","","",""]
[null,"","","","","","","","","","","",""]
[null,"","","","","","","","","","","",""]
[null,"","","","","","","","","","","",""]
[null,"","","","","","","","","","","",""]
[null,"","","","","","","","","","","",""]
[null,"","","","","","","","","","","",""]
[null,"","","","","","","","","","","",""]
[null,"","","","","","","","","","","",""]
[null,"","","","","","","","","","","",""]
[null,"","","","","","","","","","","",""]
[null,"","","","","","","","","","","",""]
[null,"","","","","","","","","","","",""]
[null,"","","","","","","","","","","",""]
[null,"","","","","","","","","","","",""]
[null,"","","","","","","","","","","",""]
[null,"","","","","","","","","","","",""]
[null,"","","","","","","","","","","",""]
[null,"","","","","","","","","","","",""]
[null,"","","","","","","","","","","",""]
[null,"","","","","","","","","","","",""]
[null,"","","","","","","","","","","",""]
[null,"","","","","","","","","","","",""]
[null,"","","","","","","","","","","",""]
[null,"","","","","","","","","","","",""]
[null,"","","","","","","","","","","",""]
[null,"","","","","","","","","","","",""]
[null,"","","","","","","","","","","",""]
[null,"","","","","","","","","","","",""]
[null,"","","","","","","","","","","",""]
[null,"","","","","","","","","","","",""]
[null,"","","","","","","","","","","",""]
[null,"","","","","","","","","","","",""]
[null,"","","","","","","","","","","",""]
[null,"","","","","","","","","","","",""]
[null,"","","","","","","","","","","",""]
[null,"","","","","","","","","","","",""]
[null,"","","","","","","","","","","",""]
[null,"","","","","","","","","","","",""]
[null,"","","","","","","","","","","",""]
[null,"","","","","","","","","","","",""]
[null,"","","","","","","","","","","",""]
[null,"","","","","","","","","","","",""]
[null,"","","","","","","","","","","",""]
[null,"","","","","","","","","","","",""]
[null,"","","","","","","","","","","",""]
[null,"","","","","","","","","","","",""]
[null,"","","","","","","","","","","",""]
[null,"","","","","","","","","","","",""]
[null,"","","","","","","","","","","",""]
[null,"","","","","","","","","","","",""]
[null,"","","","","","","","","","","",""]
[null,"","","","","","","","","","","",""]
[null,"","","","","","","","","","","",""]
[null,"","","","","","","","","","","",""]
[null,"","","","","","","","","","","",""]
[null,"","","","","","","","","","","",""]
[null,"","","","","","","","","","","",""]
[null,"","","","","","","","","","","",""]
[null,"","","","","","","","","","","",""]
[null,"","","","","","","","","","","",""]
[null,"","","","","","","","","","","",""]
[null,"","","","","","","","","","","",""]
[null,"","","","","","","","","","","",""]
[null,"","","","","","","","","","","",""]
[null,"","","","","","","","","","","",""]
[null,"","","","","","","","","","","",""]
[null,"","","","","","","","","","","",""]
[null,"","","","","","","","","","","",""]
[null,"","","","","","","","","","","",""]
[null,"","","","","","","","","","","",""]
[null,"","","","","","","","","","","",""]
[null,"","","","","","","","","","","",""]
[null,"","","","","","","","","","","",""]
[null,"","","","","","","","","","","",""]
[null,"","","","","","","","","","","",""]
[null,"","","","","","","","","","","",""]
[null,"","","","","","","","","","","",""]
[null,"","","","","","","","","","","",""]
[null,"","","","","","","","","","","",""]
[null,"","","","","","","","","","","",""]
[null,"","","","","","","","","","","",""]
[null,"","","","","","","","","","","",""]
[null,"","","","","","","","","","","",""]
[null,"","","","","","","","","","","",""]
[null,"","","","","","","","","","","",""]
[null,"","","","","","","","","","","",""]
[null,"","","","","","","","","","","",""]
[null,"","","","","","","","","","","",""]
[null,"","","","","","","","","","","",""]
[null,"","","","","","","","","","","",""]
[null,"","","","","","","","","","","",""]
[null,"","","","","","","","","","","",""]
[null,"","","","","","","","","","","",""]
[null,"","","","","","","","","","","",""]
[null,"","","","","","","","","","","",""]
[null,"","","","","","","","","","","",""]
[null,"","","","","","","","","","","",""]
[null,"","","","","","","","","","","",""]
[null,"","","","","","","","","","","",""]
[null,"","","","","","","","","","","",""]
[null,"","","","","","","","","","","",""]
[null,"","","","","","","","","","","",""]
[null,"","","","","","","","","","","",""]
[null,"","","","","","","","","","","",""]
[null,"","","","","","","","","","","",""]
[null,"","","","","","","","","","","",""]
[null,"","","","","","","","","","","",""]
[null,"","","","","","","","","","","",""]
[null,"","","","","","","","","","","",""]
[null,"","","","","","","","","","","",""]
[null,"","","","","","","","","","","",""]
[null,"","","","","","","","","","","",""]
[null,"","","","","","","","","","","",""]
[null,"","","","","","","","","","","",""]
[null,"","","","","","","","","","","",""]
[null,"","","","","","","","","","","",""]
[null,"","","","","","","","","","","",""]
[null,"","","","","","","","","","","",""]
[null,"","","","","","","","","","","",""]
[null,"","","","","","","","","","","",""]
[null,"","","","","","","","","","","",""]
[null,"","","","","","","","","","","",""]
[null,"","","","","","","","","","","",""]
[null,"","","","","","","","","","","",""]
[null,"","","","","","","","","","","",""]
[null,"","","","","","","","","","","",""]
[null,"","","","","","","","","","","",""]
[null,"","","","","","","","","","","",""]
[null,"","","","","","","","","","","",""]
[null,"","","","","","","","","","","",""]
[null,"","","","","","","","","","","",""]
[null,"","","","","","","","","","","",""]
[null,"","","","","","","","","","","",""]
[null,"","","","","","","","","","","",""]
[null,"","","","","","","","","","","",""]
[null,"","","","","","","","","","","",""]
[null,"","","","","","","","","","","",""]
[null,"","","","","","","","","","","",""]
[null,"","","","","","","","","","","",""]
[null,"","","","","","","","","","","",""]
[null,"","","","","","","","","","","",""]
[null,"","","","","","","","","","","",""]
[null,"","","","","","","","","","","",""]
[null,"","","","","","","","","","","",""]
[null,"","","","","","","","","","","",""]
[null,"","","","","","","","","","","",""]
[null,"","","","","","","","","","","",""]
[null,"","","","","","","","","","","",""]
[null,"","","","","","","","","","","",""]
[null,"","","","","","","","","","","",""]
[null,"","","","","","","","","","","",""]
[null,"","","","","","","","","","","",""]
[null,"","","","","","","","","","","",""]
[null,"","","","","","","","","","","",""]
[null,"","","","","","","","","","","",""]
[null,"","","","","","","","","","","",""]
[null,"","","","","","","","","","","",""]
[null,"","","","","","","","","","","",""]
[null,"","","","","","","","","","","",""]
[null,"","","","","","","","","","","",""]
[null,"","","","","","","","","","","",""]
[null,"","","","","","","","","","","",""]
[null,"","","","","","","","","","","",""]
[null,"","","","","","","","","","","",""]
[null,"","","","","","","","","","","",""]
[null,"","","","","","","","","","","",""]
[null,"","","","","","","","","","","",""]
[null,"","","","","","","","","","","",""]
[null,"","","","","","","","","","","",""]
[null,"","","","","","","","","","","",""]
[null,"","","","","","","","","","","",""]
[null,"","","","","","","","","","","",""]
[null,"","","","","","","","","","","",""]
[null,"","","","","","","","","","","",""]
[null,"","","","","","","","","","","",""]
[null,"","","","","","","","","","","",""]
[null,"","","","","","","","","","","",""]
[null,"","","","","","","","","","","",""]
[null,"","","","","","","","","","","",""]
[null,"","","","","","","","","","","",""]
[null,"","","","","","","","","","","",""]
[null,"","","","","","","","","","","",""]
[null,"","","","","","","","","","","",""]
[null,"","","","","","","","","","","",""]
[null,"","","","","","","","","","","",""]
[null,"","","","","","","","","","","",""]
[null,"","","","","","","","","","","",""]
[null,"","","","","","","","","","","",""]
[null,"","","","","","","","","","","",""]
[null,"","","","","","","","","","","",""]
[null,"","","","","","","","","","","",""]
[null,"","","","","","","","","","","",""]
[null,"","","","","","","","","","","",""]
[null,"","","","","","","","","","","",""]
[null,"","","","","","","","","","","",""]
[null,"","","","","","","","","","","",""]
[null,"","","","","","","","","","","",""]
[null,"","","","","","","","","","","",""]
[null,"","","","","","","","","","","",""]
[null,"","","","","","","","","","","",""]
[null,"","","","","","","","","","","",""]
[null,"","","","","","","","","","","",""]
[null,"","","","","","","","","","","",""]
[null,"","","","","","","","","","","",""]
[null,"","","","","","","","","","","",""]
[null,"","","","","","","","","","","",""]
[null,"","","","","","","","","","","",""]
[null,"","","","","","","","","","","",""]
[null,"","","","","","","","","","","",""]
[null,"","","","","","","","","","","",""]
[null,"","","","","","","","","","","",""]
[null,"","","","","","","","","","","",""]
[null,"","","","","","","","","","","",""]
[null,"","","","","","","","","","","",""]
[null,"","","","","","","","","","","",""]
[null,"","","","","","","","","","","",""]
[null,"","","","","","","","","","","",""]
[null,"","","","","","","","","","","",""]
[null,"","","","","","","","","","","",""]
[null,"","","","","","","","","","","",""]
[null,"","","","","","","","","","","",""]
[null,"","","","","","","","","","","",""]
[null,"","","","","","","","","","","",""]
[null,"","","","","","","","","","","",""]
[null,"","","","","","","","","","","",""]
[null,"","","","","","","","","","","",""]
[null,"","","","","","","","","","","",""]
[null,"","","","","","","","","","","",""]
[null,"","","","","","","","","","","",""]
[null,"","","","","","","","","","","",""]
[null,"","","","","","","","","","","",""]
[null,"","","","","","","","","","","",""]
[null,"","","","","","","","","","","",""]
[null,"","","","","","","","","","","",""]
[null,"","","","","","","","","","","",""]
[null,"","","","","","","","","","","",""]
[null,"","","","","","","","","","","",""]
[null,"","","","","","","","","","","",""]
[null,"","","","","","","","","","","",""]
[null,"","","","","","","","","","","",""]
[null,"","","","","","","","","","","",""]
[null,"","","","","","","","","","","",""]
[null,"","","","","","","","","","","",""]
[null,"","","","","","","","","","","",""]
[null,"","","","","","","","","","","",""]
[null,"","","","","","","","","","","",""]
[null,"","","","","","","","","","","",""]
[null,"","","","","","","","","","","",""]
[null,"","","","","","","","","","","",""]
[null,"","","","","","","","","","","",""]
[null,"","","","","","","","","","","",""]
[null,"","","","","","","","","","","",""]
[null,"","","","","","","","","","","",""]
[null,"","","","","","","","","","","",""]
[null,"","","","","","","","","","","",""]
[null,"","","","","","","","","","","",""]
[null,"","","","","","","","","","","",""]
[null,"","","","","","","","","","","",""]
[null,"","","","","","","","","","","",""]
[null,"","","","","","","","","","","",""]
[null,"","","","","","","","","","","",""]
[null,"","","","","","","","","","","",""]
[null,"","","","","","","","","","","",""]
[null,"","","","","","","","","","","",""]
[null,"","","","","","","","","","","",""]
[null,"","","","","","","","","","","",""]
[null,"","","","","","","","","","","",""]
[null,"","","","","","","","","","","",""]
[null,"","","","","","","","","","","",""]
[null,"","","","","","","","","","","",""]
[null,"","","","","","","","","","","",""]
[null,"","","","","","","","","","","",""]
[null,"","","","","","","","","","","",""]
[null,"","","","","","","","","","","",""]
[null,"","","","","","","","","","","",""]
[null,"","","","","","","","","","","",""]
[null,"","","","","","","","","","","",""]
[null,"","","","","","","","","","","",""]
[null,"","","","","","","","","","","",""]
[null,"","","","","","","","","","","",""]
[null,"","","","","","","","","","","",""]
[null,"","","","","","","","","","","",""]
[null,"","","","","","","","","","","",""]
[null,"","","","","","","","","","","",""]
[null,"","","","","","","","","","","",""]
[null,"","","","","","","","","","","",""]
[null,"","","","","","","","","","","",""]
[null,"","","","","","","","","","","",""]
[null,"","","","","","","","","","","",""]
[null,"","","","","","","","","","","",""]
[null,"","","","","","","","","","","",""]
[null,"","","","","","","","","","","",""]
[null,"","","","","","","","","","","",""]
[null,"","","","","","","","","","","",""]
[null,"","","","","","","","","","","",""]
[null,"","","","","","","","","","","",""]
[null,"","","","","","","","","","","",""]
[null,"","","","","","","","","","","",""]
[null,"","","","","","","","","","","",""]
[null,"","","","","","","","","","","",""]
[null,"","","","","","","","","","","",""]
[null,"","","","","","","","","","","",""]
[null,"","","","","","","","","","","",""]
[null,"","","","","","","","","","","",""]
[null,"","","","","","","","","","","",""]
[null,"","","","","","","","","","","",""]
[null,"","","","","","","","","","","",""]
[null,"","","","","","","","","","","",""]
[null,"","","","","","","","","","","",""]
[null,"","","","","","","","","","","",""]
[null,"","","","","","","","","","","",""]
[null,"","","","","","","","","","","",""]
[null,"","","","","","","","","","","",""]
[null,"","","","","","","","","","","",""]
[null,"","","","","","","","","","","",""]
[null,"","","","","","","","","","","",""]
[null,"","","","","","","","","","","",""]
[null,"","","","","","","","","","","",""]
[null,"","","","","","","","","","","",""]
[null,"","","","","","","","","","","",""]
[null,"","","","","","","","","","","",""]
[null,"","","","","","","","","","","",""]
[null,"","","","","","","","","","","",""]
[null,"","","","","","","","","","","",""]
[null,"","","","","","","","","","","",""]
[null,"","","","","","","","","","","",""]
[null,"","","","","","","","","","","",""]
[null,"","","","","","","","","","","",""]
[null,"","","","","","","","","","","",""]
[null,"","","","","","","","","","","",""]
[null,"","","","","","","","","","","",""]
[null,"","","","","","","","","","","",""]
[null,"","","","","","","","","","","",""]
[null,"","","","","","","","","","","",""]
[null,"","","","","","","","","","","",""]
[null,"","","","","","","","","","","",""]
[null,"","","","","","","","","","","",""]
[null,"","","","","","","","","","","",""]
[null,"","","","","","","","","","","",""]
[null,"","","","","","","","","","","",""]
[null,"","","","","","","","","","","",""]
[null,"","","","","","","","","","","",""]
[null,"","","","","","","","","","","",""]
[null,"","","","","","","","","","","",""]
[null,"","","","","","","","","","","",""]
[null,"","","","","","","","","","","",""]
[null,"","","","","","","","","","","",""]
[null,"","","","","","","","","","","",""]
[null,"","","","","","","","","","","",""]
[null,"","","","","","","","","","","",""]
[null,"","","","","","","","","","","",""]
[null,"","","","","","","","","","","",""]
[null,"","","","","","","","","","","",""]
[null,"","","","","","","","","","","",""]
[null,"","","","","","","","","","","",""]
[null,"","","","","","","","","","","",""]
[null,"","","","","","","","","","","",""]
[null,"","","","","","","","","","","",""]
[null,"","","","","","","","","","","",""]
[null,"","","","","","","","","","","",""]
[null,"","","","","","","","","","","",""]
[null,"","","","","","","","","","","",""]
[null,"","","","","","","","","","","",""]
[null,"","","","","","","","","","","",""]
[null,"","","","","","","","","","","",""]
[null,"","","","","","","","","","","",""]
[null,"","","","","","","","","","","",""]
[null,"","","","","","","","","","","",""]
[null,"","","","","","","","","","","",""]
[null,"","","","","","","","","","","",""]
[null,"","","","","","","","","","","",""]
[null,"","","","","","","","","","","",""]
[null,"","","","","","","","","","","",""]
[null,"","","","","","","","","","","",""]
[null,"","","","","","","","","","","",""]
[null,"","","","","","","","","","","",""]
[null,"","","","","","","","","","","",""]
[null,"","","","","","","","","","","",""]
[null,"","","","","","","","","","","",""]
[null,"","","","","","","","","","","",""]
[null,"","","","","","","","","","","",""]
[null,"","","","","","","","","","","",""]
[null,"","","","","","","","","","","",""]
[null,"","","","","","","","","","","",""]
[null,"","","","","","","","","","","",""]
[null,"","","","","","","","","","","",""]
[null,"","","","","","","","","","","",""]
[null,"","","","","","","","","","","",""]
[null,"","","","","","","","","","","",""]
[null,"","","","","","","","","","","",""]
[null,"","","","","","","","","","","",""]
[null,"","","","","","","","","","","",""]
[null,"","","","","","","","","","","",""]
[null,"","","","","","","","","","","",""]
[null,"","","","","","","","","","","",""]
[null,"","","","","","","","","","","",""]
[null,"","","","","","","","","","","",""]
[null,"","","","","","","","","","","",""]
[null,"","","","","","","","","","","",""]
[null,"","","","","","","","","","","",""]
[null,"","","","","","","","","","","",""]
[null,"","","","","","","","","","","",""]
[null,"","","","","","","","","","","",""]
[null,"","","","","","","","","","","",""]
[null,"","","","","","","","","","","",""]
[null,"","","","","","","","","","","",""]
[null,"","","","","","","","","","","",""]
[null,"","","","","","","","","","","",""]
[null,"","","","","","","","","","","",""]
[null,"","","","","","","","","","","",""]
[null,"","","","","","","","","","","",""]
[null,"","","","","","","","","","","",""]
[null,"","","","","","","","","","","",""]
[null,"","","","","","","","","","","",""]
[null,"","","","","","","","","","","",""]
[null,"","","","","","","","","","","",""]
[null,"","","","","","","","","","","",""]
[null,"","","","","","","","","","","",""]
[null,"","","","","","","","","","","",""]
[null,"","","","","","","","","","","",""]
[null,"","","","","","","","","","","",""]
[null,"","","","","","","","","","","",""]
[null,"","","","","","","","","","","",""]
[null,"","","","","","","","","","","",""]
[null,"","","","","","","","","","","",""]
[null,"","","","","","","","","","","",""]
[null,"","","","","","","","","","","",""]
[null,"","","","","","","","","","","",""]
[null,"","","","","","","","","","","",""]
[null,"","","","","","","","","","","",""]
[null,"","","","","","","","","","","",""]
[null,"","","","","","","","","","","",""]
[null,"","","","","","","","","","","",""]
[null,"","","","","","","","","","","",""]
[null,"","","","","","","","","","","",""]
[null,"","","","","","","","","","","",""]
[null,"","","","","","","","","","","",""]
[null,"","","","","","","","","","","",""]
[null,"","","","","","","","","","","",""]
[null,"","","","","","","","","","","",""]
[null,"","","","","","","","","","","",""]
[null,"","","","","","","","","","","",""]
[null,"","","","","","","","","","","",""]
[null,"","","","","","","","","","","",""]
[null,"","","","","","","","","","","",""]
[null,"","","","","","","","","","","",""]
[null,"","","","","","","","","","","",""]
[null,"","","","","","","","","","","",""]
[null,"","","","","","","","","","","",""]
[null,"","","","","","","","","","","",""]
[null,"","","","","","","","","","","",""]
[null,"","","","","","","","","","","",""]
[null,"","","","","","","","","","","",""]
[null,"","","","","","","","","","","",""]
[null,"","","","","","","","","","","",""]
[null,"","","","","","","","","","","",""]
[null,"","","","","","","","","","","",""]
[null,"","","","","","","","","","","",""]
[null,"","","","","","","","","","","",""]
[null,"","","","","","","","","","","",""]
[null,"","","","","","","","","","","",""]
[null,"","","","","","","","","","","",""]
[null,"","","","","","","","","","","",""]
[null,"","","","","","","","","","","",""]
[null,"","","","","","","","","","","",""]
[null,"","","","","","","","","","","",""]
[null,"","","","","","","","","","","",""]
[null,"","","","","","","","","","","",""]
[null,"","","","","","","","","","","",""]
[null,"","","","","","","","","","","",""]
[null,"","","","","","","","","","","",""]
[null,"","","","","","","","","","","",""]
[null,"","","","","","","","","","","",""]
[null,"","","","","","","","","","","",""]
[null,"","","","","","","","","","","",""]
[null,"","","","","","","","","","","",""]
[null,"","","","","","","","","","","",""]
[null,"","","","","","","","","","","",""]
[null,"","","","","","","","","","","",""]
[null,"","","","","","","","","","","",""]
[null,"","","","","","","","","","","",""]
[null,"","","","","","","","","","","",""]
[null,"","","","","","","","","","","",""]
[null,"","","","","","","","","","","",""]
[null,"","","","","","","","","","","",""]
[null,"","","","","","","","","","","",""]
[null,"","","","","","","","","","","",""]
[null,"","","","","","","","","","","",""]
[null,"","","","","","","","","","","",""]
[null,"","","","","","","","","","","",""]
[null,"","","","","","","","","","","",""]
[null,"","","","","","","","","","","",""]
[null,"","","","","","","","","","","",""]
[null,"","","","","","","","","","","",""]
[null,"","","","","","","","","","","",""]
[null,"","","","","","","","","","","",""]
[null,"","","","","","","","","","","",""]
[null,"","","","","","","","","","","",""]
[null,"","","","","","","","","","","",""]
[null,"","","","","","","","","","","",""]
[null,"","","","","","","","","","","",""]
[null,"","","","","","","","","","","",""]
[null,"","","","","","","","","","","",""]
[null,"","","","","","","","","","","",""]
[null,"","","","","","","","","","","",""]
[null,"","","","","","","","","","","",""]
[null,"","","","","","","","","","","",""]
[null,"","","","","","","","","","","",""]
[null,"","","","","","","","","","","",""]
[null,"","","","","","","","","","","",""]
[null,"","","","","","","","","","","",""]
[null,"","","","","","","","","","","",""]
[null,"","","","","","","","","","","",""]
[null,"","","","","","","","","","","",""]
[null,"","","","","","","","","","","",""]
[null,"","","","","","","","","","","",""]
[null,"","","","","","","","","","","",""]
[null,"","","","","","","","","","","",""]
[null,"","","","","","","","","","","",""]
[null,"","","","","","","","","","","",""]
[null,"","","","","","","","","","","",""]
[null,"","","","","","","","","","","",""]
[null,"","","","","","","","","","","",""]
[null,"","","","","","","","","","","",""]
[null,"","","","","","","","","","","",""]
[null,"","","","","","","","","","","",""]
[null,"","","","","","","","","","","",""]
[null,"","","","","","","","","","","",""]
[null,"","","","","","","","","","","",""]
[null,"","","","","","","","","","","",""]
[null,"","","","","","","","","","","",""]
[null,"","","","","","","","","","","",""]
[null,"","","","","","","","","","","",""]
[null,"","","","","","","","","","","",""]
[null,"","","","","","","","","","","",""]
[null,"","","","","","","","","","","",""]
[null,"","","","","","","","","","","",""]
[null,"","","","","","","","","","","",""]
[null,"","","","","","","","","","","",""]
[null,"","","","","","","","","","","",""]
[null,"","","","","","","","","","","",""]
[null,"","","","","","","","","","","",""]
[null,"","","","","","","","","","","",""]
[null,"","","","","","","","","","","",""]
[null,"","","","","","","","","","","",""]
[null,"","","","","","","","","","","",""]
[null,"","","","","","","","","","","",""]
[null,"","","","","","","","","","","",""]
[null,"","","","","","","","","","","",""]
[null,"","","","","","","","","","","",""]
[null,"","","","","","","","","","","",""]
[null,"","","","","","","","","","","",""]
[null,"","","","","","","","","","","",""]
[null,"","","","","","","","","","","",""]
[null,"","","","","","","","","","","",""]
[null,"","","","","","","","","","","",""]
[null,"","","","","","","","","","","",""]
[null,"","","","","","","","","","","",""]
[null,"","","","","","","","","","","",""]
[null,"","","","","","","","","","","",""]
[null,"","","","","","","","","","","",""]
[null,"","","","","","","","","","","",""]
[null,"","","","","","","","","","","",""]
[null,"","","","","","","","","","","",""]
[null,"","","","","","","","","","","",""]
[null,"","","","","","","","","","","",""]
[null,"","","","","","","","","","","",""]
[null,"","","","","","","","","","","",""]
[null,"","","","","","","","","","","",""]
[null,"","","","","","","","","","","",""]
[null,"","","","","","","","","","","",""]
[null,"","","","","","","","","","","",""]
[null,"","","","","","","","","","","",""]
[null,"","","","","","","","","","","",""]
[null,"","","","","","","","","","","",""]
[null,"","","","","","","","","","","",""]
[null,"","","","","","","","","","","",""]
[null,"","","","","","","","","","","",""]
[null,"","","","","","","","","","","",""]
[null,"","","","","","","","","","","",""]
[null,"","","","","","","","","","","",""]
[null,"","","","","","","","","","","",""]
[null,"","","","","","","","","","","",""]
[null,"","","","","","","","","","","",""]
[null,"","","","","","","","","","","",""]
[null,"","","","","","","","","","","",""]
[null,"","","","","","","","","","","",""]
[null,"","","","","","","","","","","",""]
[null,"","","","","","","","","","","",""]
[null,"","","","","","","","","","","",""]
[null,"","","","","","","","","","","",""]
[null,"","","","","","","","","","","",""]
[null,"","","","","","","","","","","",""]
[null,"","","","","","","","","","","",""]
[null,"","","","","","","","","","","",""]
[null,"","","","","","","","","","","",""]
[null,"","","","","","","","","","","",""]
[null,"","","","","","","","","","","",""]
[null,"","","","","","","","","","","",""]
[null,"","","","","","","","","","","",""]
[null,"","","","","","","","","","","",""]
[null,"","","","","","","","","","","",""]
[null,"","","","","","","","","","","",""]
[null,"","","","","","","","","","","",""]
[null,"","","","","","","","","","","",""]
[null,"","","","","","","","","","","",""]
[null,"","","","","","","","","","","",""]
[null,"","","","","","","","","","","",""]
[null,"","","","","","","","","","","",""]
[null,"","","","","","","","","","","",""]
[null,"","","","","","","","","","","",""]
[null,"","","","","","","","","","","",""]
[null,"","","","","","","","","","","",""]
[null,"","","","","","","","","","","",""]
[null,"","","","","","","","","","","",""]
[null,"","","","","","","","","","","",""]
[null,"","","","","","","","","","","",""]
[null,"","","","","","","","","","","",""]
[null,"","","","","","","","","","","",""]
[null,"","","","","","","","","","","",""]
[null,"","","","","","","","","","","",""]
[null,"","","","","","","","","","","",""]
[null,"","","","","","","","","","","",""]
[null,"","","","","","","","","","","",""]
[null,"","","","","","","","","","","",""]
[null,"","","","","","","","","","","",""]
[null,"","","","","","","","","","","",""]
[null,"","","","","","","","","","","",""]
[null,"","","","","","","","","","","",""]
[null,"","","","","","","","","","","",""]
[null,"","","","","","","","","","","",""]
[null,"","","","","","","","","","","",""]
[null,"","","","","","","","","","","",""]
[null,"","","","","","","","","","","",""]
[null,"","","","","","","","","","","",""]
[null,"","","","","","","","","","","",""]
[null,"","","","","","","","","","","",""]
[null,"","","","","","","","","","","",""]
[null,"","","","","","","","","","","",""]
[null,"","","","","","","","","","","",""]
[null,"","","","","","","","","","","",""]
[null,"","","","","","","","","","","",""]
[null,"","","","","","","","","","","",""]
[null,"","","","","","","","","","","",""]
[null,"","","","","","","","","","","",""]
[null,"","","","","","","","","","","",""]
[null,"","","","","","","","","","","",""]
[null,"","","","","","","","","","","",""]
[null,"","","","","","","","","","","",""]
[null,"","","","","","","","","","","",""]
[null,"","","","","","","","","","","",""]
[null,"","","","","","","","","","","",""]
[null,"","","","","","","","","","","",""]
[null,"","","","","","","","","","","",""]
[null,"","","","","","","","","","","",""]
[null,"","","","","","","","","","","",""]
[null,"","","","","","","","","","","",""]
[null,"","","","","","","","","","","",""]
[null,"","","","","","","","","","","",""]
[null,"","","","","","","","","","","",""]
[null,"","","","","","","","","","","",""]
[null,"","","","","","","","","","","",""]
[null,"","","","","","","","","","","",""]
[null,"","","","","","","","","","","",""]
[null,"","","","","","","","","","","",""]
[null,"","","","","","","","","","","",""]
[null,"","","","","","","","","","","",""]
[null,"","","","","","","","","","","",""]
[null,"","","","","","","","","","","",""]
[null,"","","","","","","","","","","",""]
[null,"","","","","","","","","","","",""]
[null,"","","","","","","","","","","",""]
[null,"","","","","","","","","","","",""]
[null,"","","","","","","","","","","",""]
[null,"","","","","","","","","","","",""]
[null,"","","","","","","","","","","",""]
[null,"","","","","","","","","","","",""]
[null,"","","","","","","","","","","",""]
[null,"","","","","","","","","","","",""]
[null,"","","","","","","","","","","",""]
[null,"","","","","","","","","","","",""]
[null,"","","","","","","","","","","",""]
[null,"","","","","","","","","","","",""]
[null,"","","","","","","","","","","",""]
[null,"","","","","","","","","","","",""]
[null,"","","","","","","","","","","",""]
[null,"","","","","","","","","","","",""]
[null,"","","","","","","","","","","",""]
[null,"","","","","","","","","","","",""]
[null,"","","","","","","","","","","",""]
[null,"","","","","","","","","","","",""]
[null,"","","","","","","","","","","",""]
[null,"","","","","","","","","","","",""]
[null,"","","","","","","","","","","",""]
[null,"","","","","","","","","","","",""]
[null,"","","","","","","","","","","",""]
[null,"","","","","","","","","","","",""]
[null,"","","","","","","","","","","",""]
[null,"","","","","","","","","","","",""]
[null,"","","","","","","","","","","",""]
[null,"","","","","","","","","","","",""]
[null,"","","","","","","","","","","",""]
[null,"","","","","","","","","","","",""]
[null,"","","","","","","","","","","",""]
[null,"","","","","","","","","","","",""]
[null,"","","","","","","","","","","",""]
[null,"","","","","","","","","","","",""]
[null,"","","","","","","","","","","",""]
[null,"","","","","","","","","","","",""]
[null,"","","","","","","","","","","",""]
[null,"","","","","","","","","","","",""]
[null,"","","","","","","","","","","",""]
[null,"","","","","","","","","","","",""]
[null,"","","","","","","","","","","",""]
[null,"","","","","","","","","","","",""]
[null,"","","","","","","","","","","",""]
[null,"","","","","","","","","","","",""]
[null,"","","","","","","","","","","",""]
[null,"","","","","","","","","","","",""]
[null,"","","","","","","","","","","",""]
[null,"","","","","","","","","","","",""]
[null,"","","","","","","","","","","",""]
[null,"","","","","","","","","","","",""]
[null,"","","","","","","","","","","",""]
[null,"","","","","","","","","","","",""]
[null,"","","","","","","","","","","",""]
[null,"","","","","","","","","","","",""]
[null,"","","","","","","","","","","",""]
[null,"","","","","","","","","","","",""]
[null,"","","","","","","","","","","",""]
[null,"","","","","","","","","","","",""]
[null,"","","","","","","","","","","",""]
[null,"","","","","","","","","","","",""]
[null,"","","","","","","","","","","",""]
[null,"","","","","","","","","","","",""]
[null,"","","","","","","","","","","",""]
[null,"","","","","","","","","","","",""]
[null,"","","","","","","","","","","",""]
[null,"","","","","","","","","","","",""]
[null,"","","","","","","","","","","",""]
[null,"","","","","","","","","","","",""]
[null,"","","","","","","","","","","",""]
[null,"","","","","","","","","","","",""]
[null,"","","","","","","","","","","",""]
[null,"","","","","","","","","","","",""]
[null,"","","","","","","","","","","",""]
[null,"","","","","","","","","","","",""]
[null,"","","","","","","","","","","",""]
[null,"","","","","","","","","","","",""]
[null,"","","","","","","","","","","",""]
[null,"","","","","","","","","","","",""]
[null,"","","","","","","","","","","",""]
[null,"","","","","","","","","","","",""]
[null,"","","","","","","","","","","",""]
[null,"","","","","","","","","","","",""]
[null,"","","","","","","","","","","",""]
[null,"","","","","","","","","","","",""]
[null,"","","","","","","","","","","",""]
[null,"","","","","","","","","","","",""]
[null,"","","","","","","","","","","",""]
[null,"","","","","","","","","","","",""]
[null,"","","","","","","","","","","",""]
[null,"","","","","","","","","","","",""]
[null,"","","","","","","","","","","",""]
[null,"","","","","","","","","","","",""]
[null,"","","","","","","","","","","",""]
[null,"","","","","","","","","","","",""]
[null,"","","","","","","","","","","",""]
[null,"","","","","","","","","","","",""]
[null,"","","","","","","","","","","",""]
[null,"","","","","","","","","","","",""]
[null,"","","","","","","","","","","",""]
[null,"","","","","","","","","","","",""]
[null,"","","","","","","","","","","",""]
[null,"","","","","","","","","","","",""]
[null,"","","","","","","","","","","",""]
[null,"","","","","","","","","","","",""]
[null,"","","","","","","","","","","",""]
[null,"","","","","","","","","","","",""]
[null,"","","","","","","","","","","",""]
[null,"","","","","","","","","","","",""]
[null,"","","","","","","","","","","",""]
[null,"","","","","","","","","","","",""]
[null,"","","","","","","","","","","",""]
[null,"","","","","","","","","","","",""]
[null,"","","","","","","","","","","",""]
[null,"","","","","","","","","","","",""]
[null,"","","","","","","","","","","",""]
[null,"","","","","","","","","","","",""]
[null,"","","","","","","","","","","",""]
[null,"","","","","","","","","","","",""]
[null,"","","","","","","","","","","",""]
[null,"","","","","","","","","","","",""]
[null,"","","","","","","","","","","",""]
[null,"","","","","","","","","","","",""]
[null,"","","","","","","","","","","",""]
[null,"","","","","","","","","","","",""]
[null,"","","","","","","","","","","",""]
[null,"","","","","","","","","","","",""]
[null,"","","","","","","","","","","",""]
[null,"","","","","","","","","","","",""]
[null,"","","","","","","","","","","",""]
[null,"","","","","","","","","","","",""]
[null,"","","","","","","","","","","",""]
[null,"","","","","","","","","","","",""]
[null,"","","","","","","","","","","",""]
[null,"","","","","","","","","","","",""]
[null,"","","","","","","","","","","",""]
[null,"","","","","","","","","","","",""]
[null,"","","","","","","","","","","",""]
[null,"","","","","","","","","","","",""]
[null,"","","","","","","","","","","",""]
[null,"","","","","","","","","","","",""]
[null,"","","","","","","","","","","",""]
[null,"","","","","","","","","","","",""]
[null,"","","","","","","","","","","",""]
[null,"","","","","","","","","","","",""]
[null,"","","","","","","","","","","",""]
[null,"","","","","","","","","","","",""]
[null,"","","","","","","","","","","",""]
[null,"","","","","","","","","","","",""]
[null,"","","","","","","","","","","",""]
[null,"","","","","","","","","","","",""]
[null,"","","","","","","","","","","",""]
[null,"","","","","","","","","","","",""]
[null,"","","","","","","","","","","",""]
[null,"","","","","","","","","","","",""]
[null,"","","","","","","","","","","",""]
[null,"","","","","","","","","","","",""]
[null,"","","","","","","","","","","",""]
[null,"","","","","","","","","","","",""]
[null,"","","","","","","","","","","",""]
[null,"","","","","","","","","","","",""]
[null,"","","","","","","","","","","",""]
[null,"","","","","","","","","","","",""]
[null,"","","","","","","","","","","",""]
[null,"","","","","","","","","","","",""]
[null,"","","","","","","","","","","",""]
[null,"","","","","","","","","","","",""]
[null,"","","","","","","","","","","",""]
[null,"","","","","","","","","","","",""]
[null,"","","","","","","","","","","",""]
[null,"","","","","","","","","","","",""]
[null,"","","","","","","","","","","",""]
[null,"","","","","","","","","","","",""]
[null,"","","","","","","","","","","",""]
[null,"","","","","","","","","","","",""]
[null,"","","","","","","","","","","",""]
[null,"","","","","","","","","","","",""]
[null,"","","","","","","","","","","",""]
[null,"","","","","","","","","","","",""]
[null,"","","","","","","","","","","",""]
[null,"","","","","","","","","","","",""]
[null,"","","","","","","","","","","",""]
[null,"","","","","","","","","","","",""]
[null,"","","","","","","","","","","",""]
[null,"","","","","","","","","","","",""]
[null,"","","","","","","","","","","",""]
[null,"","","","","","","","","","","",""]
[null,"","","","","","","","","","","",""]
[null,"","","","","","","","","","","",""]
[null,"","","","","","","","","","","",""]
[null,"","","","","","","","","","","",""]
[null,"","","","","","","","","","","",""]
[null,"","","","","","","","","","","",""]
[null,"","","","","","","","","","","",""]
[null,"","","","","","","","","","","",""]
[null,"","","","","","","","","","","",""]
[null,"","","","","","","","","","","",""]
[null,"","","","","","","","","","","",""]
[null,"","","","","","","","","","","",""]
[null,"","","","","","","","","","","",""]
[null,"","","","","","","","","","","",""]
[null,"","","","","","","","","","","",""]
[null,"","","","","","","","","","","",""]
[null,"","","","","","","","","","","",""]
[null,"","","","","","","","","","","",""]
[null,"","","","","","","","","","","",""]
[null,"","","","","","","","","","","",""]
[null,"","","","","","","","","","","",""]
[null,"","","","","","","","","","","",""]
[null,"","","","","","","","","","","",""]
[null,"","","","","","","","","","","",""]
[null,"","","","","","","","","","","",""]
[null,"","","","","","","","","","","",""]
[null,"","","","","","","","","","","",""]
[null,"","","","","","","","","","","",""]
[null,"","","","","","","","","","","",""]
[null,"","","","","","","","","","","",""]
[null,"","","","","","","","","","","",""]
[null,"","","","","","","","","","","",""]
[null,"","","","","","","","","","","",""]

{"sheet":"Shortlist","index":3,"n_rows":1000,"n_cols":11,"rows_kept":1000,"cut":false,"hidden":false,"merged":[[2,5,2,10],[0,4,0,10],[6,6,6,10]]}
["Fund  |  Rating","Consistency score","Fund age (years)",null,"How to interpret results"]
["ICICI Prudential Value Discovery Fund  |",1,11,null,"In the inputs sheet, the reference rank for grading funds is",null,null,null,null,null,{"$f":"Inputs!D9","v":15}]
["Motilal Oswal MOSt Focused Multicap 35 Fund - Regular Plan",1,1,null,"Therefore,",{"$f":"A2","v":"ICICI Prudential Value Discovery Fund  |"}]
["SBI Magnum Multiplier Fund  |",0.91666666666666663,12,null,"has secured a return rank which is below ",null,null,null,{"$f":"K2","v":15}]
["Franklin India High Growth Companies Fund  |",0.875,8,null,{"$f":"B2","v":1},"of the times in the last 12 years or less (for younger funds)"]
["Mirae Asset India Opportunities Fund - Regular Plan  |",0.8571428571428571,7,null,"We have considered 1,2,3,4,5,6,7,8,9,10,11,12 year returns computed from"]
["Franklin India Prima Plus Fund  |",0.83333333333333337,12,null,"annual returns."]
["Kotak Select Focus Fund Regular Plan  |",0.83333333333333337,6]
["Franklin India Flexi Cap Fund  |",0.8,10,null,"You can shortlist funds with say, a consistency score of above 50%"]
["HDFC Capital Builder Fund  |",0.75,12,null,"and age of at least a few years"]
["Invesco India Contra Fund  |",0.75,8]
["BNP Paribas Dividend Yield Fund  |",0.7,10,null,"Please remember that this is a crude way to shortlist funds"]
["Tata Ethical Fund - Regular Plan  |",0.66666666666666663,12,null,"Funds which make this shortlist are not guaranteed to perform well "]
["L&T India Special Situations Fund  |",0.55555555555555558,9,null,"in future. We also do not know if the risk that they have taken is justified or not"]
["HDFC Equity Fund  |",0.5,12]
["PPFAS Long Term Value Fund - Regular Plan",0.5,2,null,"There could well be gems which are outside shortlist."]
["SBI Magnum Multicap Fund  |",0.5,10]
["Tata Equity Opportunities Fund - Regular Plan  |",0.5,12,null,"Suggest that you use shortlist with a wider net with a reference rank of 15."]
["Tata Dividend Yield Fund - Regular Plan  |",0.45454545454545453,11]
["Birla Sun Life Special Situations Fund  |",0.42857142857142855,7]
["Birla Sun Life Equity Fund  |",0.41666666666666669,12]
["UTI Equity Fund  |",0.41666666666666669,12]
["ICICI Prudential Nifty Next 50 Index Fund  |",0.4,5]
["IDBI Nifty Junior Index Fund  |",0.4,5]
["DSP BlackRock Equity Fund  |",0.33333333333333331,12]
["DSP BlackRock Opportunities Fund  |",0.33333333333333331,12]
["ICICI Prudential Dynamic Fund  |",0.33333333333333331,12]
["L&T Equity Fund  |",0.3,10]
["BNP Paribas Equity Fund  |",0.27272727272727271,11]
["Kotak Opportunities Regular Plan  |",0.27272727272727271,11]
["Birla Sun Life Advantage Fund  |",0.25,12]
["Canara Robeco Equity Diversified Fund - Regular Plan  |",0.25,12]
["Goldman Sachs Nifty Junior BeES Fund  |",0.25,12]
["HDFC Growth Fund  |",0.25,12]
["ICICI Prudential Indo Asia Equity Fund  |",0.25,8]
["Tata Retirement Savings Fund - Progressive Plan - Regular Plan  |",0.25,4]
["Birla Sun Life Dividend Yield Plus Fund  |",0.16666666666666666,12]
["SBI Contra Fund  |",0.16666666666666666,12]
["UTI Dividend Yield Fund  |",0.1,10]
["Franklin India Opportunities Fund  |",9.0909090909090912E-2,11]
["Franklin India Life Stage Fund of Funds 20s  |",8.3333333333333329E-2,12]
["ICICI Prudential Multicap Fund  |",8.3333333333333329E-2,12]
["Principal Growth Fund  |",8.3333333333333329E-2,12]
["Taurus Starshare Fund - Regular Plan  |",8.3333333333333329E-2,12]
["Axis Equity Fund  |",0,5]
["Axis Focused 25 Fund  |",0,3]
["Birla Sun Life India Reforms Fund  |",0,5]
["BOI AXA Equity Fund - Regular Plan  |",0,7]
["Edelweiss Diversified Growth Equity Top 100 Fund  |",0,6]
["Edelweiss Prudent Advantage Fund",0,6]
["Goldman Sachs CNX 500 Fund  |",0,6]
["HDFC Premier Multi-Cap Fund  |",0,10]
["HSBC India Opportunities Fund  |",0,11]
["ICICI Prudential Top 100 Fund  |",0,12]
["IDBI India Top 100 Equity Fund  |",0,3]
["IDFC Classic Equity Fund - Regular Plan  |",0,10]
["IIFL India Growth Fund - Regular Plan",0,1]
["Indiabulls Bluechip Fund  |",0,3]
["JM Core 11 Fund  |",0,7]
["JM Multi Strategy Fund  |",0,7]
["LIC MF Equity Fund  |",0,12]
["Mirae Asset Great Consumer Fund - Regular Plan  |",0,4]
["Peerless Equity Fund  |",0,4]
["Principal Dividend Yield Fund  |",0,11]
["Quantum Equity FoF Fund  |",0,6]
["Reliance Vision Fund  |",0,12]
["Sundaram Equity Multiplier Fund  |",0,8]
["Taurus Bonanza Fund - Regular Plan  |",0,12]
["Taurus Ethical Fund - Regular Plan  |",0,6]
["Templeton India Equity Income Fund  |",0,9]
["Templeton India Growth Fund  |",0,12]
["Union KBC Equity Fund  |",0,4]
["UTI Multi Cap Fund - Regular Plan",0,1]
["UTI Top 100 Fund  |",0,6]
[null,"",0]
[null,"",0]
[null,"",0,null,null,null,"Tata Pure Equity Fund - Plan A  |"]
[null,"",0,null,null,null,"Taurus Nifty Index Fund - Regular Plan"]
[null,"",0,null,null,null,"UTI Equity Fund  |"]
[null,"",0,null,null,null,"UTI Leadership Equity Fund  |"]
[null,"",0,null,null,null,"UTI Mastershare Fund  |"]
[null,"",0,null,null,null,"UTI Nifty Index Fund  |"]
[null,"",0,null,null,null,"UTI Opportunities Fund  |"]
[null,"",0,null,null,null,"UTI Top 100 Fund  |"]
[null,"",0]
[null,"",0]
[null,"",0]
[null,"",0]
[null,"",0]
[null,"",0]
[null,"",0]
[null,"",0]
[null,"",0]
[null,"",0]
[null,"",0]
[null,"",0]
[null,"",0]
[null,"",0]
[null,"",0]
[null,"",0]
[null,"",0]
[null,"",0]
[null,"",0]
[null,"",0]
[null,"",0]
[null,"",0]
[null,"",0]
[null,"",0]
[null,"",0]
[null,"",0]
[null,"",0]
[null,"",0]
[null,"",0]
[null,"",0]
[null,"",0]
[null,"",0]
[null,"",0]
[null,"",0]
[null,"",0]
[null,"",0]
[null,"",0]
[null,"",0]
[null,"",0]
[null,"",0]
[null,"",0]
[null,"",0]
[null,"",0]
[null,"",0]
[null,"",0]
[null,"",0]
[null,"",0]
[null,"",0]
[null,"",0]
[null,"",0]
[null,"",0]
[null,"",0]
[null,"",0]
[null,"",0]
[null,"",0]
[null,"",0]
[null,"",0]
[null,"",0]
[null,"",0]
[null,"",0]
[null,"",0]
[null,"",0]
[null,"",0]
[null,"",0]
[null,"",0]
[null,"",0]
[null,"",0]
[null,"",0]
[null,"",0]
[null,"",0]
[null,"",0]
[null,"",0]
[null,"",0]
[null,"",0]
[null,"",0]
[null,"",0]
[null,"",0]
[null,"",0]
[null,"",0]
[null,"",0]
[null,"",0]
[null,"",0]
[null,"",0]
[null,"",0]
[null,"",0]
[null,"",0]
[null,"",0]
[null,"",0]
[null,"",0]
[null,"",0]
[null,"",0]
[null,"",0]
[null,"",0]
[null,"",0]
[null,"",0]
[null,"",0]
[null,"",0]
[null,"",0]
[null,"",0]
[null,"",0]
[null,"",0]
[null,"",0]
[null,"",0]
[null,"",0]
[null,"",0]
[null,"",0]
[null,"",0]
[null,"",0]
[null,"",0]
[null,"",0]
[null,"",0]
[null,"",0]
[null,"",0]
[null,"",0]
[null,"",0]
[null,"",0]
[null,"",0]
[null,"",0]
[null,"",0]
[null,"",0]
[null,"",0]
[null,"",0]
[null,"",0]
[null,"",0]
[null,"",0]
[null,"",0]
[null,"",0]
[null,"",0]
[null,"",0]
[null,"",0]
[null,"",0]
[null,"",0]
[null,"",0]
[null,"",0]
[null,"",0]
[null,"",0]
[null,"",0]
[null,"",0]
[null,"",0]
[null,"",0]
[null,"",0]
[null,"",0]
[null,"",0]
[null,"",0]
[null,"",0]
[null,"",0]
[null,"",0]
[null,"",0]
[null,"",0]
[null,"",0]
[null,"",0]
[null,"",0]
[null,"",0]
[null,"",0]
[null,"",0]
[null,"",0]
[null,"",0]
[null,"",0]
[null,"",0]
[null,"",0]
[null,"",0]
[null,"",0]
[null,"",0]
[null,"",0]
[null,"",0]
[null,"",0]
[null,"",0]
[null,"",0]
[null,"",0]
[null,"",0]
[null,"",0]
[null,"",0]
[null,"",0]
[null,"",0]
[null,"",0]
[null,"",0]
[null,"",0]
[null,"",0]
[null,"",0]
[null,"",0]
[null,"",0]
[null,"",0]
[null,"",0]
[null,"",0]
[null,"",0]
[null,"",0]
[null,"",0]
[null,"",0]
[null,"",0]
[null,"",0]
[null,"",0]
[null,"",0]
[null,"",0]
[null,"",0]
[null,"",0]
[null,"",0]
[null,"",0]
[null,"",0]
[null,"",0]
[null,"",0]
[null,"",0]
[null,"",0]
[null,"",0]
[null,"",0]
[null,"",0]
[null,"",0]
[null,"",0]
[null,"",0]
[null,"",0]
[null,"",0]
[null,"",0]
[null,"",0]
[null,"",0]
[null,"",0]
[null,"",0]
[null,"",0]
[null,"",0]
[null,"",0]
[null,"",0]
[null,"",0]
[null,"",0]
[null,"",0]
[null,"",0]
[null,"",0]
[null,"",0]
[null,"",0]
[null,"",0]
[null,"",0]
[null,"",0]
[null,"",0]
[null,"",0]
[null,"",0]
[null,"",0]
[null,"",0]
[null,"",0]
[null,"",0]
[null,"",0]
[null,"",0]
[null,"",0]
[null,"",0]
[null,"",0]
[null,"",0]
[null,"",0]
[null,"",0]
[null,"",0]
[null,"",0]
[null,"",0]
[null,"",0]
[null,"",0]
[null,"",0]
[null,"",0]
[null,"",0]
[null,"",0]
[null,"",0]
[null,"",0]
[null,"",0]
[null,"",0]
[null,"",0]
[null,"",0]
[null,"",0]
[null,"",0]
[null,"",0]
[null,"",0]
[null,"",0]
[null,"",0]
[null,"",0]
[null,"",0]
[null,"",0]
[null,"",0]
[null,"",0]
[null,"",0]
[null,"",0]
[null,"",0]
[null,"",0]
[null,"",0]
[null,"",0]
[null,"",0]
[null,"",0]
[null,"",0]
[null,"",0]
[null,"",0]
[null,"",0]
[null,"",0]
[null,"",0]
[null,"",0]
[null,"",0]
[null,"",0]
[null,"",0]
[null,"",0]
[null,"",0]
[null,"",0]
[null,"",0]
[null,"",0]
[null,"",0]
[null,"",0]
[null,"",0]
[null,"",0]
[null,"",0]
[null,"",0]
[null,"",0]
[null,"",0]
[null,"",0]
[null,"",0]
[null,"",0]
[null,"",0]
[null,"",0]
[null,"",0]
[null,"",0]
[null,"",0]
[null,"",0]
[null,"",0]
[null,"",0]
[null,"",0]
[null,"",0]
[null,"",0]
[null,"",0]
[null,"",0]
[null,"",0]
[null,"",0]
[null,"",0]
[null,"",0]
[null,"",0]
[null,"",0]
[null,"",0]
[null,"",0]
[null,"",0]
[null,"",0]
[null,"",0]
[null,"",0]
[null,"",0]
[null,"",0]
[null,"",0]
[null,"",0]
[null,"",0]
[null,"",0]
[null,"",0]
[null,"",0]
[null,"",0]
[null,"",0]
[null,"",0]
[null,"",0]
[null,"",0]
[null,"",0]
[null,"",0]
[null,"",0]
[null,"",0]
[null,"",0]
[null,"",0]
[null,"",0]
[null,"",0]
[null,"",0]
[null,"",0]
[null,"",0]
[null,"",0]
[null,"",0]
[null,"",0]
[null,"",0]
[null,"",0]
[null,"",0]
[null,"",0]
[null,"",0]
[null,"",0]
[null,"",0]
[null,"",0]
[null,"",0]
[null,"",0]
[null,"",0]
[null,"",0]
[null,"",0]
[null,"",0]
[null,"",0]
[null,"",0]
[null,"",0]
[null,"",0]
[null,"",0]
[null,"",0]
[null,"",0]
[null,"",0]
[null,"",0]
[null,"",0]
[null,"",0]
[null,"",0]
[null,"",0]
[null,"",0]
[null,"",0]
[null,"",0]
[null,"",0]
[null,"",0]
[null,"",0]
[null,"",0]
[null,"",0]
[null,"",0]
[null,"",0]
[null,"",0]
[null,"",0]
[null,"",0]
[null,"",0]
[null,"",0]
[null,"",0]
[null,"",0]
[null,"",0]
[null,"",0]
[null,"",0]
[null,"",0]
[null,"",0]
[null,"",0]
[null,"",0]
[null,"",0]
[null,"",0]
[null,"",0]
[null,"",0]
[null,"",0]
[null,"",0]
[null,"",0]
[null,"",0]
[null,"",0]
[null,"",0]
[null,"",0]
[null,"",0]
[null,"",0]
[null,"",0]
[null,"",0]
[null,"",0]
[null,"",0]
[null,"",0]
[null,"",0]
[null,"",0]
[null,"",0]
[null,"",0]
[null,"",0]
[null,"",0]
[null,"",0]
[null,"",0]
[null,"",0]
[null,"",0]
[null,"",0]
[null,"",0]
[null,"",0]
[null,"",0]
[null,"",0]
[null,"",0]
[null,"",0]
[null,"",0]
[null,"",0]
[null,"",0]
[null,"",0]
[null,"",0]
[null,"",0]
[null,"",0]
[null,"",0]
[null,"",0]
[null,"",0]
[null,"",0]
[null,"",0]
[null,"",0]
[null,"",0]
[null,"",0]
[null,"",0]
[null,"",0]
[null,"",0]
[null,"",0]
[null,"",0]
[null,"",0]
[null,"",0]
[null,"",0]
[null,"",0]
[null,"",0]
[null,"",0]
[null,"",0]
[null,"",0]
[null,"",0]
[null,"",0]
[null,"",0]
[null,"",0]
[null,"",0]
[null,"",0]
[null,"",0]
[null,"",0]
[null,"",0]
[null,"",0]
[null,"",0]
[null,"",0]
[null,"",0]
[null,"",0]
[null,"",0]
[null,"",0]
[null,"",0]
[null,"",0]
[null,"",0]
[null,"",0]
[null,"",0]
[null,"",0]
[null,"",0]
[null,"",0]
[null,"",0]
[null,"",0]
[null,"",0]
[null,"",0]
[null,"",0]
[null,"",0]
[null,"",0]
[null,"",0]
[null,"",0]
[null,"",0]
[null,"",0]
[null,"",0]
[null,"",0]
[null,"",0]
[null,"",0]
[null,"",0]
[null,"",0]
[null,"",0]
[null,"",0]
[null,"",0]
[null,"",0]
[null,"",0]
[null,"",0]
[null,"",0]
[null,"",0]
[null,"",0]
[null,"",0]
[null,"",0]
[null,"",0]
[null,"",0]
[null,"",0]
[null,"",0]
[null,"",0]
[null,"",0]
[null,"",0]
[null,"",0]
[null,"",0]
[null,"",0]
[null,"",0]
[null,"",0]
[null,"",0]
[null,"",0]
[null,"",0]
[null,"",0]
[null,"",0]
[null,"",0]
[null,"",0]
[null,"",0]
[null,"",0]
[null,"",0]
[null,"",0]
[null,"",0]
[null,"",0]
[null,"",0]
[null,"",0]
[null,"",0]
[null,"",0]
[null,"",0]
[null,"",0]
[null,"",0]
[null,"",0]
[null,"",0]
[null,"",0]
[null,"",0]
[null,"",0]
[null,"",0]
[null,"",0]
[null,"",0]
[null,"",0]
[null,"",0]
[null,"",0]
[null,"",0]
[null,"",0]
[null,"",0]
[null,"",0]
[null,"",0]
[null,"",0]
[null,"",0]
[null,"",0]
[null,"",0]
[null,"",0]
[null,"",0]
[null,"",0]
[null,"",0]
[null,"",0]
[null,"",0]
[null,"",0]
[null,"",0]
[null,"",0]
[null,"",0]
[null,"",0]
[null,"",0]
[null,"",0]
[null,"",0]
[null,"",0]
[null,"",0]
[null,"",0]
[null,"",0]
[null,"",0]
[null,"",0]
[null,"",0]
[null,"",0]
[null,"",0]
[null,"",0]
[null,"",0]
[null,"",0]
[null,"",0]
[null,"",0]
[null,"",0]
[null,"",0]
[null,"",0]
[null,"",0]
[null,"",0]
[null,"",0]
[null,"",0]
[null,"",0]
[null,"",0]
[null,"",0]
[null,"",0]
[null,"",0]
[null,"",0]
[null,"",0]
[null,"",0]
[null,"",0]
[null,"",0]
[null,"",0]
[null,"",0]
[null,"",0]
[null,"",0]
[null,"",0]
[null,"",0]
[null,"",0]
[null,"",0]
[null,"",0]
[null,"",0]
[null,"",0]
[null,"",0]
[null,"",0]
[null,"",0]
[null,"",0]
[null,"",0]
[null,"",0]
[null,"",0]
[null,"",0]
[null,"",0]
[null,"",0]
[null,"",0]
[null,"",0]
[null,"",0]
[null,"",0]
[null,"",0]
[null,"",0]
[null,"",0]
[null,"",0]
[null,"",0]
[null,"",0]
[null,"",0]
[null,"",0]
[null,"",0]
[null,"",0]
[null,"",0]
[null,"",0]
[null,"",0]
[null,"",0]
[null,"",0]
[null,"",0]
[null,"",0]
[null,"",0]
[null,"",0]
[null,"",0]
[null,"",0]
[null,"",0]
[null,"",0]
[null,"",0]
[null,"",0]
[null,"",0]
[null,"",0]
[null,"",0]
[null,"",0]
[null,"",0]
[null,"",0]
[null,"",0]
[null,"",0]
[null,"",0]
[null,"",0]
[null,"",0]
[null,"",0]
[null,"",0]
[null,"",0]
[null,"",0]
[null,"",0]
[null,"",0]
[null,"",0]
[null,"",0]
[null,"",0]
[null,"",0]
[null,"",0]
[null,"",0]
[null,"",0]
[null,"",0]
[null,"",0]
[null,"",0]
[null,"",0]
[null,"",0]
[null,"",0]
[null,"",0]
[null,"",0]
[null,"",0]
[null,"",0]
[null,"",0]
[null,"",0]
[null,"",0]
[null,"",0]
[null,"",0]
[null,"",0]
[null,"",0]
[null,"",0]
[null,"",0]
[null,"",0]
[null,"",0]
[null,"",0]
[null,"",0]
[null,"",0]
[null,"",0]
[null,"",0]
[null,"",0]
[null,"",0]
[null,"",0]
[null,"",0]
[null,"",0]
[null,"",0]
[null,"",0]
[null,"",0]
[null,"",0]
[null,"",0]
[null,"",0]
[null,"",0]
[null,"",0]
[null,"",0]
[null,"",0]
[null,"",0]
[null,"",0]
[null,"",0]
[null,"",0]
[null,"",0]
[null,"",0]
[null,"",0]
[null,"",0]
[null,"",0]
[null,"",0]
[null,"",0]
[null,"",0]
[null,"",0]
[null,"",0]
[null,"",0]
[null,"",0]
[null,"",0]
[null,"",0]
[null,"",0]
[null,"",0]
[null,"",0]
[null,"",0]
[null,"",0]
[null,"",0]
[null,"",0]
[null,"",0]
[null,"",0]
[null,"",0]
[null,"",0]
[null,"",0]
[null,"",0]
[null,"",0]
[null,"",0]
[null,"",0]
[null,"",0]
[null,"",0]
[null,"",0]
[null,"",0]
[null,"",0]
[null,"",0]
[null,"",0]
[null,"",0]
[null,"",0]
[null,"",0]
[null,"",0]
[null,"",0]
[null,"",0]
[null,"",0]
[null,"",0]
[null,"",0]
[null,"",0]
[null,"",0]
[null,"",0]
[null,"",0]
[null,"",0]
[null,"",0]
[null,"",0]
[null,"",0]
[null,"",0]
[null,"",0]
[null,"",0]
[null,"",0]
[null,"",0]
[null,"",0]
[null,"",0]
[null,"",0]
[null,"",0]
[null,"",0]
[null,"",0]
[null,"",0]
[null,"",0]
[null,"",0]
[null,"",0]
[null,"",0]
[null,"",0]
[null,"",0]
[null,"",0]
[null,"",0]
[null,"",0]
[null,"",0]
[null,"",0]
[null,"",0]
[null,"",0]
[null,"",0]
[null,"",0]
[null,"",0]
[null,"",0]
[null,"",0]
[null,"",0]
[null,"",0]
[null,"",0]
[null,"",0]
[null,"",0]
[null,"",0]
[null,"",0]
[null,"",0]
[null,"",0]
[null,"",0]
[null,"",0]
[null,"",0]
[null,"",0]
[null,"",0]
[null,"",0]
[null,"",0]
[null,"",0]
[null,"",0]
[null,"",0]
[null,"",0]
[null,"",0]
[null,"",0]
[null,"",0]
[null,"",0]
[null,"",0]
[null,"",0]
[null,"",0]
[null,"",0]
[null,"",0]
[null,"",0]
[null,"",0]
[null,"",0]
[null,"",0]
[null,"",0]
[null,"",0]
[null,"",0]
[null,"",0]
[null,"",0]
[null,"",0]
[null,"",0]
[null,"",0]
[null,"",0]
[null,"",0]
[null,"",0]
[null,"",0]
[null,"",0]
[null,"",0]
[null,"",0]
[null,"",0]
[null,"",0]
[null,"",0]
[null,"",0]
[null,"",0]
[null,"",0]
[null,"",0]
[null,"",0]
[null,"",0]
[null,"",0]
[null,"",0]
[null,"",0]
[null,"",0]
[null,"",0]
[null,"",0]
[null,"",0]
[null,"",0]
[null,"",0]
[null,"",0]
[null,"",0]
[null,"",0]
[null,"",0]
[null,"",0]
[null,"",0]
[null,"",0]
[null,"",0]
[null,"",0]
[null,"",0]
[null,"",0]
[null,"",0]
[null,"",0]
[null,"",0]
[null,"",0]
[null,"",0]
[null,"",0]
[null,"",0]
[null,"",0]
[null,"",0]
[null,"",0]
[null,"",0]
[null,"",0]
[null,"",0]
[null,"",0]
[null,"",0]
[null,"",0]
[null,"",0]

{"sheet":"shortlist-categorry average","index":4,"n_rows":1048576,"n_cols":5,"rows_kept":4500,"cut":true,"hidden":false,"merged":[],"bounds":{"rows_first":2000,"rows_last":500,"rows_between":2000,"halvings":0}}
["Fund  |  Rating","Consistency score","Fund age (years)"]
["Franklin India Prima Plus Fund  |",1,12,null,"Here the consistency score refers to conistency in beating category average "]
["HDFC Capital Builder Fund  |",1,12,null,"over 1,2,3,4,5,6,7,8,9,10,11,12 years "]
["ICICI Prudential Nifty Next 50 Index Fund  |",1,5]
["ICICI Prudential Value Discovery Fund  |",1,11]
["Invesco India Contra Fund  |",1,8]
["Kotak Select Focus Fund Regular Plan  |",1,6]
["Mirae Asset India Opportunities Fund - Regular Plan  |",1,7]
["Motilal Oswal MOSt Focused Multicap 35 Fund - Regular Plan",1,1]
["PPFAS Long Term Value Fund - Regular Plan",1,2]
["Quantum Equity FoF Fund  |",1,6]
["SBI Magnum Multiplier Fund  |",1,12]
["Tata Ethical Fund - Regular Plan  |",0.91666666666666663,12]
["BNP Paribas Dividend Yield Fund  |",0.9,10]
["Franklin India Flexi Cap Fund  |",0.9,10]
["L&T India Special Situations Fund  |",0.88888888888888884,9]
["Franklin India High Growth Companies Fund  |",0.875,8]
["Birla Sun Life Equity Fund  |",0.83333333333333337,12]
["DSP BlackRock Opportunities Fund  |",0.83333333333333337,12]
["Tata Equity Opportunities Fund - Regular Plan  |",0.83333333333333337,12]
["Kotak Opportunities Regular Plan  |",0.81818181818181823,11]
["Tata Dividend Yield Fund - Regular Plan  |",0.81818181818181823,11]
["IDBI Nifty Junior Index Fund  |",0.8,5]
["Goldman Sachs Nifty Junior BeES Fund  |",0.75,12]
["ICICI Prudential Indo Asia Equity Fund  |",0.75,8]
["ICICI Prudential Multicap Fund  |",0.75,12]
["Mirae Asset Great Consumer Fund - Regular Plan  |",0.75,4]
["Tata Retirement Savings Fund - Progressive Plan - Regular Plan  |",0.75,4]
["Birla Sun Life Special Situations Fund  |",0.7142857142857143,7]
["L&T Equity Fund  |",0.7,10]
["ICICI Prudential Dynamic Fund  |",0.66666666666666663,12]
["UTI Equity Fund  |",0.66666666666666663,12]
["SBI Magnum Multicap Fund  |",0.6,10]
["Birla Sun Life Advantage Fund  |",0.58333333333333337,12]
["Canara Robeco Equity Diversified Fund - Regular Plan  |",0.58333333333333337,12]
["HDFC Equity Fund  |",0.58333333333333337,12]
["BNP Paribas Equity Fund  |",0.54545454545454541,11]
["DSP BlackRock Equity Fund  |",0.5,12]
["Principal Growth Fund  |",0.5,12]
["Taurus Ethical Fund - Regular Plan  |",0.5,6]
["Franklin India Opportunities Fund  |",0.45454545454545453,11]
["Birla Sun Life Dividend Yield Plus Fund  |",0.41666666666666669,12]
["Franklin India Life Stage Fund of Funds 20s  |",0.41666666666666669,12]
["ICICI Prudential Top 100 Fund  |",0.41666666666666669,12]
["Axis Equity Fund  |",0.4,5]
["HSBC India Opportunities Fund  |",0.36363636363636365,11]
["Axis Focused 25 Fund  |",0.33333333333333331,3]
["HDFC Growth Fund  |",0.33333333333333331,12]
["IDBI India Top 100 Equity Fund  |",0.33333333333333331,3]
["Indiabulls Bluechip Fund  |",0.33333333333333331,3]
["Templeton India Equity Income Fund  |",0.33333333333333331,9]
["Templeton India Growth Fund  |",0.33333333333333331,12]
["UTI Dividend Yield Fund  |",0.3,10]
["Peerless Equity Fund  |",0.25,4]
["Sundaram Equity Multiplier Fund  |",0.25,8]
["Birla Sun Life India Reforms Fund  |",0.2,5]
["Edelweiss Diversified Growth Equity Top 100 Fund  |",0.16666666666666666,6]
["Edelweiss Prudent Advantage Fund",0.16666666666666666,6]
["SBI Contra Fund  |",0.16666666666666666,12]
["JM Core 11 Fund  |",0.14285714285714285,7]
["JM Multi Strategy Fund  |",0.14285714285714285,7]
["IDFC Classic Equity Fund - Regular Plan  |",0.1,10]
["Reliance Vision Fund  |",8.3333333333333329E-2,12]
["Taurus Bonanza Fund - Regular Plan  |",8.3333333333333329E-2,12]
["Taurus Starshare Fund - Regular Plan  |",8.3333333333333329E-2,12]
["BOI AXA Equity Fund - Regular Plan  |",0,7]
["Goldman Sachs CNX 500 Fund  |",0,6]
["HDFC Premier Multi-Cap Fund  |",0,10]
["IIFL India Growth Fund - Regular Plan",0,1]
["LIC MF Equity Fund  |",0,12]
["Principal Dividend Yield Fund  |",0,11]
["Union KBC Equity Fund  |",0,4]
["UTI Multi Cap Fund - Regular Plan",0,1]
["UTI Top 100 Fund  |",0,6]
[null,"",""]
[null,"",""]
[null,"",""]
[null,"",""]
[null,"",""]
[null,"",""]
[null,"",""]
[null,"",""]
[null,"",""]
[null,"",""]
[null,"",""]
["Reliance Equity Opportunities Fund  |","",""]
["Reliance Growth Fund  |","",""]
["Reliance Regular Savings Fund - Equity Option  |","",""]
["Religare Invesco Mid Cap Fund  |","",""]
["Religare Invesco Mid N Small Cap Fund  |","",""]
["SBI Emerging Businesses Fund  |","",""]
["SBI Magnum Global Fund  |","",""]
["Sundaram Select Midcap Fund - Regular Plan  |","",""]
["Tata Equity PE Fund - Regular Plan  |","",""]
["Taurus Discovery Fund - Regular Plan  |","",""]
["UTI Mid Cap Fund  |","",""]
["Fund  |  Rating","",""]
["Birla Sun Life Advantage Fund  |","",""]
["Birla Sun Life Mid Cap Fund  |","",""]
["Birla Sun Life Pure Value Fund  |","",""]
["BNP Paribas Midcap Fund  |","",""]
["DSP BlackRock Small and Mid Cap Fund - Regular Plan  |","",""]
["Edelweiss Emerging Leaders Fund  |","",""]
["Escorts Growth Fund  |","",""]
["Escorts Leading Sectors Fund","",""]
["Franklin India Prima Fund  |","",""]
["Goldman Sachs India Equity Fund","",""]
["HDFC Mid-Cap Opportunities Fund  |","",""]
["ICICI Prudential Midcap Fund - Regular Plan  |","",""]
["IDFC Premier Equity Fund - Regular Plan  |","",""]
["IDFC Sterling Equity Fund - Regular Plan  |","",""]
["JP Morgan India Mid and Small Cap Fund  |","",""]
["Kotak Mid-Cap Regular Plan  |","",""]
["L&T India Value Fund  |","",""]
["Mirae Asset Emerging Bluechip Fund - Regular Plan  |","",""]
["Motilal Oswal MOSt Shares M100 ETF Fund  |","",""]
["Principal Emerging Bluechip Fund  |","",""]
["Reliance Equity Opportunities Fund  |","",""]
["Reliance Growth Fund  |","",""]
["Reliance Regular Savings Fund - Equity Option  |","",""]
["Religare Invesco Mid Cap Fund  |","",""]
["Religare Invesco Mid N Small Cap Fund  |","",""]
["SBI Emerging Businesses Fund  |","",""]
["SBI Magnum Global Fund  |","",""]
["Sundaram Select Midcap Fund - Regular Plan  |","",""]
["Tata Equity PE Fund - Regular Plan  |","",""]
["Taurus Discovery Fund - Regular Plan  |","",""]
["UTI Mid Cap Fund  |","",""]
["Fund  |  Rating","",""]
["Birla Sun Life Advantage Fund  |","",""]
["Birla Sun Life Mid Cap Fund  |","",""]
["Birla Sun Life Pure Value Fund  |","",""]
["BNP Paribas Midcap Fund  |","",""]
["DSP BlackRock Small and Mid Cap Fund - Regular Plan  |","",""]
["Edelweiss Emerging Leaders Fund  |","",""]
["Escorts Growth Fund  |","",""]
["Escorts Leading Sectors Fund","",""]
["Franklin India Prima Fund  |","",""]
["Goldman Sachs India Equity Fund","",""]
["HDFC Mid-Cap Opportunities Fund  |","",""]
["ICICI Prudential Midcap Fund - Regular Plan  |","",""]
["IDFC Premier Equity Fund - Regular Plan  |","",""]
["IDFC Sterling Equity Fund - Regular Plan  |","",""]
["JP Morgan India Mid and Small Cap Fund  |","",""]
["Kotak Mid-Cap Regular Plan  |","",""]
["L&T India Value Fund  |","",""]
["Mirae Asset Emerging Bluechip Fund - Regular Plan  |","",""]
["Motilal Oswal MOSt Shares M100 ETF Fund  |","",""]
["Principal Emerging Bluechip Fund  |","",""]
["Reliance Equity Opportunities Fund  |","",""]
["Reliance Growth Fund  |","",""]
["Reliance Regular Savings Fund - Equity Option  |","",""]
["Religare Invesco Mid Cap Fund  |","",""]
["Religare Invesco Mid N Small Cap Fund  |","",""]
["SBI Emerging Businesses Fund  |","",""]
["SBI Magnum Global Fund  |","",""]
["Sundaram Select Midcap Fund - Regular Plan  |","",""]
["Tata Equity PE Fund - Regular Plan  |","",""]
["Taurus Discovery Fund - Regular Plan  |","",""]
["UTI Mid Cap Fund  |","",""]
["Fund  |  Rating","",""]
["Birla Sun Life Advantage Fund  |","",""]
["Birla Sun Life Mid Cap Fund  |","",""]
["Birla Sun Life Pure Value Fund  |","",""]
["BNP Paribas Midcap Fund  |","",""]
["DSP BlackRock Small and Mid Cap Fund - Regular Plan  |","",""]
["Edelweiss Emerging Leaders Fund  |","",""]
["Escorts Growth Fund  |","",""]
["Escorts Leading Sectors Fund","",""]
["Franklin India Prima Fund  |","",""]
["Goldman Sachs India Equity Fund","",""]
["HDFC Mid-Cap Opportunities Fund  |","",""]
["ICICI Prudential Midcap Fund - Regular Plan  |","",""]
["IDFC Premier Equity Fund - Regular Plan  |","",""]
["IDFC Sterling Equity Fund - Regular Plan  |","",""]
["JP Morgan India Mid and Small Cap Fund  |","",""]
["Kotak Mid-Cap Regular Plan  |","",""]
["L&T India Value Fund  |","",""]
["Mirae Asset Emerging Bluechip Fund - Regular Plan  |","",""]
["Motilal Oswal MOSt Shares M100 ETF Fund  |","",""]
["Principal Emerging Bluechip Fund  |","",""]
["Reliance Equity Opportunities Fund  |","",""]
["Reliance Growth Fund  |","",""]
["Reliance Regular Savings Fund - Equity Option  |","",""]
["Religare Invesco Mid Cap Fund  |","",""]
["Religare Invesco Mid N Small Cap Fund  |","",""]
["SBI Emerging Businesses Fund  |","",""]
["SBI Magnum Global Fund  |","",""]
["Sundaram Select Midcap Fund - Regular Plan  |","",""]
["Tata Equity PE Fund - Regular Plan  |","",""]
["Taurus Discovery Fund - Regular Plan  |","",""]
["UTI Mid Cap Fund  |","",""]
["Fund  |  Rating","",""]
["Birla Sun Life Advantage Fund  |","",""]
["Birla Sun Life Mid Cap Fund  |","",""]
["Birla Sun Life Pure Value Fund  |","",""]
["BNP Paribas Midcap Fund  |","",""]
["DSP BlackRock Small and Mid Cap Fund - Regular Plan  |","",""]
["Edelweiss Emerging Leaders Fund  |","",""]
["Escorts Growth Fund  |","",""]
["Escorts Leading Sectors Fund","",""]
["Franklin India Prima Fund  |","",""]
["Goldman Sachs India Equity Fund","",""]
["HDFC Mid-Cap Opportunities Fund  |","",""]
["ICICI Prudential Midcap Fund - Regular Plan  |","",""]
["IDFC Premier Equity Fund - Regular Plan  |","",""]
["IDFC Sterling Equity Fund - Regular Plan  |","",""]
["JP Morgan India Mid and Small Cap Fund  |","",""]
["Kotak Mid-Cap Regular Plan  |","",""]
["L&T India Value Fund  |","",""]
["Mirae Asset Emerging Bluechip Fund - Regular Plan  |","",""]
["Motilal Oswal MOSt Shares M100 ETF Fund  |","",""]
["Principal Emerging Bluechip Fund  |","",""]
["Reliance Equity Opportunities Fund  |","",""]
["Reliance Growth Fund  |","",""]
["Reliance Regular Savings Fund - Equity Option  |","",""]
["Religare Invesco Mid Cap Fund  |","",""]
["Religare Invesco Mid N Small Cap Fund  |","",""]
["SBI Emerging Businesses Fund  |","",""]
["SBI Magnum Global Fund  |","",""]
["Sundaram Select Midcap Fund - Regular Plan  |","",""]
["Tata Equity PE Fund - Regular Plan  |","",""]
["Taurus Discovery Fund - Regular Plan  |","",""]
["UTI Mid Cap Fund  |","",""]
["Fund  |  Rating","",""]
["Birla Sun Life Advantage Fund  |","",""]
["Birla Sun Life Mid Cap Fund  |","",""]
["Birla Sun Life Pure Value Fund  |","",""]
["BNP Paribas Midcap Fund  |","",""]
["DSP BlackRock Small and Mid Cap Fund - Regular Plan  |","",""]
["Edelweiss Emerging Leaders Fund  |","",""]
["Escorts Growth Fund  |","",""]
["Escorts Leading Sectors Fund","",""]
["Franklin India Prima Fund  |","",""]
["Goldman Sachs India Equity Fund","",""]
["HDFC Mid-Cap Opportunities Fund  |","",""]
["ICICI Prudential Midcap Fund - Regular Plan  |","",""]
["IDFC Premier Equity Fund - Regular Plan  |","",""]
["IDFC Sterling Equity Fund - Regular Plan  |","",""]
["JP Morgan India Mid and Small Cap Fund  |","",""]
["Kotak Mid-Cap Regular Plan  |","",""]
["L&T India Value Fund  |","",""]
["Mirae Asset Emerging Bluechip Fund - Regular Plan  |","",""]
["Motilal Oswal MOSt Shares M100 ETF Fund  |","",""]
["Principal Emerging Bluechip Fund  |","",""]
["Reliance Equity Opportunities Fund  |","",""]
["Reliance Growth Fund  |","",""]
["Reliance Regular Savings Fund - Equity Option  |","",""]
["Religare Invesco Mid Cap Fund  |","",""]
["Religare Invesco Mid N Small Cap Fund  |","",""]
["SBI Emerging Businesses Fund  |","",""]
["SBI Magnum Global Fund  |","",""]
["Sundaram Select Midcap Fund - Regular Plan  |","",""]
["Tata Equity PE Fund - Regular Plan  |","",""]
["Taurus Discovery Fund - Regular Plan  |","",""]
["UTI Mid Cap Fund  |","",""]
["Fund  |  Rating","",""]
["Birla Sun Life Advantage Fund  |","",""]
["Birla Sun Life Mid Cap Fund  |","",""]
["Birla Sun Life Pure Value Fund  |","",""]
["BNP Paribas Midcap Fund  |","",""]
["DSP BlackRock Small and Mid Cap Fund - Regular Plan  |","",""]
["Edelweiss Emerging Leaders Fund  |","",""]
["Escorts Growth Fund  |","",""]
["Escorts Leading Sectors Fund","",""]
["Franklin India Prima Fund  |","",""]
["Goldman Sachs India Equity Fund","",""]
["HDFC Mid-Cap Opportunities Fund  |","",""]
["ICICI Prudential Midcap Fund - Regular Plan  |","",""]
["IDFC Premier Equity Fund - Regular Plan  |","",""]
["IDFC Sterling Equity Fund - Regular Plan  |","",""]
["JP Morgan India Mid and Small Cap Fund  |","",""]
["Kotak Mid-Cap Regular Plan  |","",""]
["L&T India Value Fund  |","",""]
["Mirae Asset Emerging Bluechip Fund - Regular Plan  |","",""]
["Motilal Oswal MOSt Shares M100 ETF Fund  |","",""]
["Principal Emerging Bluechip Fund  |","",""]
["Reliance Equity Opportunities Fund  |","",""]
["Reliance Growth Fund  |","",""]
["Reliance Regular Savings Fund - Equity Option  |","",""]
["Religare Invesco Mid Cap Fund  |","",""]
["Religare Invesco Mid N Small Cap Fund  |","",""]
["SBI Emerging Businesses Fund  |","",""]
["SBI Magnum Global Fund  |","",""]
["Sundaram Select Midcap Fund - Regular Plan  |","",""]
["Tata Equity PE Fund - Regular Plan  |","",""]
["Taurus Discovery Fund - Regular Plan  |","",""]
["UTI Mid Cap Fund  |","",""]
["Fund  |  Rating","",""]
["Birla Sun Life Advantage Fund  |","",""]
["Birla Sun Life Mid Cap Fund  |","",""]
["Birla Sun Life Pure Value Fund  |","",""]
["BNP Paribas Midcap Fund  |","",""]
["DSP BlackRock Small and Mid Cap Fund - Regular Plan  |","",""]
["Edelweiss Emerging Leaders Fund  |","",""]
["Escorts Growth Fund  |","",""]
["Escorts Leading Sectors Fund","",""]
["Franklin India Prima Fund  |","",""]
["Goldman Sachs India Equity Fund","",""]
["HDFC Mid-Cap Opportunities Fund  |","",""]
["ICICI Prudential Midcap Fund - Regular Plan  |","",""]
["IDFC Premier Equity Fund - Regular Plan  |","",""]
["IDFC Sterling Equity Fund - Regular Plan  |","",""]
["JP Morgan India Mid and Small Cap Fund  |","",""]
["Kotak Mid-Cap Regular Plan  |","",""]
["L&T India Value Fund  |","",""]
["Mirae Asset Emerging Bluechip Fund - Regular Plan  |","",""]
["Motilal Oswal MOSt Shares M100 ETF Fund  |","",""]
["Principal Emerging Bluechip Fund  |","",""]
["Reliance Equity Opportunities Fund  |","",""]
["Reliance Growth Fund  |","",""]
["Reliance Regular Savings Fund - Equity Option  |","",""]
["Religare Invesco Mid Cap Fund  |","",""]
["Religare Invesco Mid N Small Cap Fund  |","",""]
["SBI Emerging Businesses Fund  |","",""]
["SBI Magnum Global Fund  |","",""]
["Sundaram Select Midcap Fund - Regular Plan  |","",""]
["Tata Equity PE Fund - Regular Plan  |","",""]
["Taurus Discovery Fund - Regular Plan  |","",""]
["UTI Mid Cap Fund  |","",""]
["Fund  |  Rating","",""]
["Birla Sun Life Advantage Fund  |","",""]
["Birla Sun Life Mid Cap Fund  |","",""]
["Birla Sun Life Pure Value Fund  |","",""]
["BNP Paribas Midcap Fund  |","",""]
["DSP BlackRock Small and Mid Cap Fund - Regular Plan  |","",""]
["Edelweiss Emerging Leaders Fund  |","",""]
["Escorts Growth Fund  |","",""]
["Escorts Leading Sectors Fund","",""]
["Franklin India Prima Fund  |","",""]
["Goldman Sachs India Equity Fund","",""]
["HDFC Mid-Cap Opportunities Fund  |","",""]
["ICICI Prudential Midcap Fund - Regular Plan  |","",""]
["IDFC Premier Equity Fund - Regular Plan  |","",""]
["IDFC Sterling Equity Fund - Regular Plan  |","",""]
["JP Morgan India Mid and Small Cap Fund  |","",""]
["Kotak Mid-Cap Regular Plan  |","",""]
["L&T India Value Fund  |","",""]
["Mirae Asset Emerging Bluechip Fund - Regular Plan  |","",""]
["Motilal Oswal MOSt Shares M100 ETF Fund  |","",""]
["Principal Emerging Bluechip Fund  |","",""]
["Reliance Equity Opportunities Fund  |","",""]
["Reliance Growth Fund  |","",""]
["Reliance Regular Savings Fund - Equity Option  |","",""]
["Religare Invesco Mid Cap Fund  |","",""]
["Religare Invesco Mid N Small Cap Fund  |","",""]
["SBI Emerging Businesses Fund  |","",""]
["SBI Magnum Global Fund  |","",""]
["Sundaram Select Midcap Fund - Regular Plan  |","",""]
["Tata Equity PE Fund - Regular Plan  |","",""]
["Taurus Discovery Fund - Regular Plan  |","",""]
["UTI Mid Cap Fund  |","",""]
["Fund  |  Rating","",""]
["Birla Sun Life Advantage Fund  |","",""]
["Birla Sun Life Mid Cap Fund  |","",""]
["Birla Sun Life Pure Value Fund  |","",""]
["BNP Paribas Midcap Fund  |","",""]
["DSP BlackRock Small and Mid Cap Fund - Regular Plan  |","",""]
["Edelweiss Emerging Leaders Fund  |","",""]
["Escorts Growth Fund  |","",""]
["Escorts Leading Sectors Fund","",""]
["Franklin India Prima Fund  |","",""]
["Goldman Sachs India Equity Fund","",""]
["HDFC Mid-Cap Opportunities Fund  |","",""]
["ICICI Prudential Midcap Fund - Regular Plan  |","",""]
["IDFC Premier Equity Fund - Regular Plan  |","",""]
["IDFC Sterling Equity Fund - Regular Plan  |","",""]
["JP Morgan India Mid and Small Cap Fund  |","",""]
["Kotak Mid-Cap Regular Plan  |","",""]
["L&T India Value Fund  |","",""]
["Mirae Asset Emerging Bluechip Fund - Regular Plan  |","",""]
["Motilal Oswal MOSt Shares M100 ETF Fund  |","",""]
["Principal Emerging Bluechip Fund  |","",""]
["Reliance Equity Opportunities Fund  |","",""]
["Reliance Growth Fund  |","",""]
["Reliance Regular Savings Fund - Equity Option  |","",""]
["Religare Invesco Mid Cap Fund  |","",""]
["Religare Invesco Mid N Small Cap Fund  |","",""]
["SBI Emerging Businesses Fund  |","",""]
["SBI Magnum Global Fund  |","",""]
["Sundaram Select Midcap Fund - Regular Plan  |","",""]
["Tata Equity PE Fund - Regular Plan  |","",""]
["Taurus Discovery Fund - Regular Plan  |","",""]
["UTI Mid Cap Fund  |","",""]
["Fund  |  Rating","",""]
["Birla Sun Life Advantage Fund  |","",""]
["Birla Sun Life Mid Cap Fund  |","",""]
["Birla Sun Life Pure Value Fund  |","",""]
["BNP Paribas Midcap Fund  |","",""]
["DSP BlackRock Small and Mid Cap Fund - Regular Plan  |","",""]
["Edelweiss Emerging Leaders Fund  |","",""]
["Escorts Growth Fund  |","",""]
["Escorts Leading Sectors Fund","",""]
["Franklin India Prima Fund  |","",""]
["Goldman Sachs India Equity Fund","",""]
["HDFC Mid-Cap Opportunities Fund  |","",""]
["ICICI Prudential Midcap Fund - Regular Plan  |","",""]
["IDFC Premier Equity Fund - Regular Plan  |","",""]
["IDFC Sterling Equity Fund - Regular Plan  |","",""]
["JP Morgan India Mid and Small Cap Fund  |","",""]
["Kotak Mid-Cap Regular Plan  |","",""]
["L&T India Value Fund  |","",""]
["Mirae Asset Emerging Bluechip Fund - Regular Plan  |","",""]
["Motilal Oswal MOSt Shares M100 ETF Fund  |","",""]
["Principal Emerging Bluechip Fund  |","",""]
["Reliance Equity Opportunities Fund  |","",""]
["Reliance Growth Fund  |","",""]
["Reliance Regular Savings Fund - Equity Option  |","",""]
["Religare Invesco Mid Cap Fund  |","",""]
["Religare Invesco Mid N Small Cap Fund  |","",""]
["SBI Emerging Businesses Fund  |","",""]
["SBI Magnum Global Fund  |","",""]
["Sundaram Select Midcap Fund - Regular Plan  |","",""]
["Tata Equity PE Fund - Regular Plan  |","",""]
["Taurus Discovery Fund - Regular Plan  |","",""]
["UTI Mid Cap Fund  |","",""]
["Fund  |  Rating","",""]
["Birla Sun Life Advantage Fund  |","",""]
["Birla Sun Life Mid Cap Fund  |","",""]
["Birla Sun Life Pure Value Fund  |","",""]
["BNP Paribas Midcap Fund  |","",""]
["DSP BlackRock Small and Mid Cap Fund - Regular Plan  |","",""]
["Edelweiss Emerging Leaders Fund  |","",""]
["Escorts Growth Fund  |","",""]
["Escorts Leading Sectors Fund","",""]
["Franklin India Prima Fund  |","",""]
["Goldman Sachs India Equity Fund","",""]
["HDFC Mid-Cap Opportunities Fund  |","",""]
["ICICI Prudential Midcap Fund - Regular Plan  |","",""]
["IDFC Premier Equity Fund - Regular Plan  |","",""]
["IDFC Sterling Equity Fund - Regular Plan  |","",""]
["JP Morgan India Mid and Small Cap Fund  |","",""]
["Kotak Mid-Cap Regular Plan  |","",""]
["L&T India Value Fund  |","",""]
["Mirae Asset Emerging Bluechip Fund - Regular Plan  |","",""]
["Motilal Oswal MOSt Shares M100 ETF Fund  |","",""]
["Principal Emerging Bluechip Fund  |","",""]
["Reliance Equity Opportunities Fund  |","",""]
["Reliance Growth Fund  |","",""]
["Reliance Regular Savings Fund - Equity Option  |","",""]
["Religare Invesco Mid Cap Fund  |","",""]
["Religare Invesco Mid N Small Cap Fund  |","",""]
["SBI Emerging Businesses Fund  |","",""]
["SBI Magnum Global Fund  |","",""]
["Sundaram Select Midcap Fund - Regular Plan  |","",""]
["Tata Equity PE Fund - Regular Plan  |","",""]
["Taurus Discovery Fund - Regular Plan  |","",""]
["UTI Mid Cap Fund  |","",""]
["Fund  |  Rating","",""]
["Birla Sun Life Advantage Fund  |","",""]
["Birla Sun Life Mid Cap Fund  |","",""]
["Birla Sun Life Pure Value Fund  |","",""]
["BNP Paribas Midcap Fund  |","",""]
["DSP BlackRock Small and Mid Cap Fund - Regular Plan  |","",""]
["Edelweiss Emerging Leaders Fund  |","",""]
["Escorts Growth Fund  |","",""]
["Escorts Leading Sectors Fund","",""]
["Franklin India Prima Fund  |","",""]
["Goldman Sachs India Equity Fund","",""]
["HDFC Mid-Cap Opportunities Fund  |","",""]
["ICICI Prudential Midcap Fund - Regular Plan  |","",""]
["IDFC Premier Equity Fund - Regular Plan  |","",""]
["IDFC Sterling Equity Fund - Regular Plan  |","",""]
["JP Morgan India Mid and Small Cap Fund  |","",""]
["Kotak Mid-Cap Regular Plan  |","",""]
["L&T India Value Fund  |","",""]
["Mirae Asset Emerging Bluechip Fund - Regular Plan  |","",""]
["Motilal Oswal MOSt Shares M100 ETF Fund  |","",""]
["Principal Emerging Bluechip Fund  |","",""]
["Reliance Equity Opportunities Fund  |","",""]
["Reliance Growth Fund  |","",""]
["Reliance Regular Savings Fund - Equity Option  |","",""]
["Religare Invesco Mid Cap Fund  |","",""]
["Religare Invesco Mid N Small Cap Fund  |","",""]
["SBI Emerging Businesses Fund  |","",""]
["SBI Magnum Global Fund  |","",""]
["Sundaram Select Midcap Fund - Regular Plan  |","",""]
["Tata Equity PE Fund - Regular Plan  |","",""]
["Taurus Discovery Fund - Regular Plan  |","",""]
["UTI Mid Cap Fund  |","",""]
["Fund  |  Rating","",""]
["Birla Sun Life Advantage Fund  |","",""]
["Birla Sun Life Mid Cap Fund  |","",""]
["Birla Sun Life Pure Value Fund  |","",""]
["BNP Paribas Midcap Fund  |","",""]
["DSP BlackRock Small and Mid Cap Fund - Regular Plan  |","",""]
["Edelweiss Emerging Leaders Fund  |","",""]
["Escorts Growth Fund  |","",""]
["Escorts Leading Sectors Fund","",""]
["Franklin India Prima Fund  |","",""]
["Goldman Sachs India Equity Fund","",""]
["HDFC Mid-Cap Opportunities Fund  |","",""]
["ICICI Prudential Midcap Fund - Regular Plan  |","",""]
["IDFC Premier Equity Fund - Regular Plan  |","",""]
["IDFC Sterling Equity Fund - Regular Plan  |","",""]
["JP Morgan India Mid and Small Cap Fund  |","",""]
["Kotak Mid-Cap Regular Plan  |","",""]
["L&T India Value Fund  |","",""]
["Mirae Asset Emerging Bluechip Fund - Regular Plan  |","",""]
["Motilal Oswal MOSt Shares M100 ETF Fund  |","",""]
["Principal Emerging Bluechip Fund  |","",""]
["Reliance Equity Opportunities Fund  |","",""]
["Reliance Growth Fund  |","",""]
["Reliance Regular Savings Fund - Equity Option  |","",""]
["Religare Invesco Mid Cap Fund  |","",""]
["Religare Invesco Mid N Small Cap Fund  |","",""]
["SBI Emerging Businesses Fund  |","",""]
["SBI Magnum Global Fund  |","",""]
["Sundaram Select Midcap Fund - Regular Plan  |","",""]
["Tata Equity PE Fund - Regular Plan  |","",""]
["Taurus Discovery Fund - Regular Plan  |","",""]
["UTI Mid Cap Fund  |","",""]
["Fund  |  Rating","",""]
["Birla Sun Life Advantage Fund  |","",""]
["Birla Sun Life Mid Cap Fund  |","",""]
["Birla Sun Life Pure Value Fund  |","",""]
["BNP Paribas Midcap Fund  |","",""]
["DSP BlackRock Small and Mid Cap Fund - Regular Plan  |","",""]
["Edelweiss Emerging Leaders Fund  |","",""]
["Escorts Growth Fund  |","",""]
["Escorts Leading Sectors Fund","",""]
["Franklin India Prima Fund  |","",""]
["Goldman Sachs India Equity Fund","",""]
["HDFC Mid-Cap Opportunities Fund  |","",""]
["ICICI Prudential Midcap Fund - Regular Plan  |","",""]
["IDFC Premier Equity Fund - Regular Plan  |","",""]
["IDFC Sterling Equity Fund - Regular Plan  |","",""]
["JP Morgan India Mid and Small Cap Fund  |","",""]
["Kotak Mid-Cap Regular Plan  |","",""]
["L&T India Value Fund  |","",""]
["Mirae Asset Emerging Bluechip Fund - Regular Plan  |","",""]
["Motilal Oswal MOSt Shares M100 ETF Fund  |","",""]
["Principal Emerging Bluechip Fund  |","",""]
["Reliance Equity Opportunities Fund  |","",""]
["Reliance Growth Fund  |","",""]
["Reliance Regular Savings Fund - Equity Option  |","",""]
["Religare Invesco Mid Cap Fund  |","",""]
["Religare Invesco Mid N Small Cap Fund  |","",""]
["SBI Emerging Businesses Fund  |","",""]
["SBI Magnum Global Fund  |","",""]
["Sundaram Select Midcap Fund - Regular Plan  |","",""]
["Tata Equity PE Fund - Regular Plan  |","",""]
["Taurus Discovery Fund - Regular Plan  |","",""]
["UTI Mid Cap Fund  |","",""]
["Fund  |  Rating","",""]
["Birla Sun Life Advantage Fund  |","",""]
["Birla Sun Life Mid Cap Fund  |","",""]
["Birla Sun Life Pure Value Fund  |","",""]
["BNP Paribas Midcap Fund  |","",""]
["DSP BlackRock Small and Mid Cap Fund - Regular Plan  |","",""]
["Edelweiss Emerging Leaders Fund  |","",""]
["Escorts Growth Fund  |","",""]
["Escorts Leading Sectors Fund","",""]
["Franklin India Prima Fund  |","",""]
["Goldman Sachs India Equity Fund","",""]
["HDFC Mid-Cap Opportunities Fund  |","",""]
["ICICI Prudential Midcap Fund - Regular Plan  |","",""]
["IDFC Premier Equity Fund - Regular Plan  |","",""]
["IDFC Sterling Equity Fund - Regular Plan  |","",""]
["JP Morgan India Mid and Small Cap Fund  |","",""]
["Kotak Mid-Cap Regular Plan  |","",""]
["L&T India Value Fund  |","",""]
["Mirae Asset Emerging Bluechip Fund - Regular Plan  |","",""]
["Motilal Oswal MOSt Shares M100 ETF Fund  |","",""]
["Principal Emerging Bluechip Fund  |","",""]
["Reliance Equity Opportunities Fund  |","",""]
["Reliance Growth Fund  |","",""]
["Reliance Regular Savings Fund - Equity Option  |","",""]
["Religare Invesco Mid Cap Fund  |","",""]
["Religare Invesco Mid N Small Cap Fund  |","",""]
["SBI Emerging Businesses Fund  |","",""]
["SBI Magnum Global Fund  |","",""]
["Sundaram Select Midcap Fund - Regular Plan  |","",""]
["Tata Equity PE Fund - Regular Plan  |","",""]
["Taurus Discovery Fund - Regular Plan  |","",""]
["UTI Mid Cap Fund  |","",""]
["Fund  |  Rating","",""]
["Birla Sun Life Advantage Fund  |","",""]
["Birla Sun Life Mid Cap Fund  |","",""]
["Birla Sun Life Pure Value Fund  |","",""]
["BNP Paribas Midcap Fund  |","",""]
["DSP BlackRock Small and Mid Cap Fund - Regular Plan  |","",""]
["Edelweiss Emerging Leaders Fund  |","",""]
["Escorts Growth Fund  |","",""]
["Escorts Leading Sectors Fund","",""]
["Franklin India Prima Fund  |","",""]
["Goldman Sachs India Equity Fund","",""]
["HDFC Mid-Cap Opportunities Fund  |","",""]
["ICICI Prudential Midcap Fund - Regular Plan  |","",""]
["IDFC Premier Equity Fund - Regular Plan  |","",""]
["IDFC Sterling Equity Fund - Regular Plan  |","",""]
["JP Morgan India Mid and Small Cap Fund  |","",""]
["Kotak Mid-Cap Regular Plan  |","",""]
["L&T India Value Fund  |","",""]
["Mirae Asset Emerging Bluechip Fund - Regular Plan  |","",""]
["Motilal Oswal MOSt Shares M100 ETF Fund  |","",""]
["Principal Emerging Bluechip Fund  |","",""]
["Reliance Equity Opportunities Fund  |","",""]
["Reliance Growth Fund  |","",""]
["Reliance Regular Savings Fund - Equity Option  |","",""]
["Religare Invesco Mid Cap Fund  |","",""]
["Religare Invesco Mid N Small Cap Fund  |","",""]
["SBI Emerging Businesses Fund  |","",""]
["SBI Magnum Global Fund  |","",""]
["Sundaram Select Midcap Fund - Regular Plan  |","",""]
["Tata Equity PE Fund - Regular Plan  |","",""]
["Taurus Discovery Fund - Regular Plan  |","",""]
["UTI Mid Cap Fund  |","",""]
["Fund  |  Rating","",""]
["Birla Sun Life Advantage Fund  |","",""]
["Birla Sun Life Mid Cap Fund  |","",""]
["Birla Sun Life Pure Value Fund  |","",""]
["BNP Paribas Midcap Fund  |","",""]
["DSP BlackRock Small and Mid Cap Fund - Regular Plan  |","",""]
["Edelweiss Emerging Leaders Fund  |","",""]
["Escorts Growth Fund  |","",""]
["Escorts Leading Sectors Fund","",""]
["Franklin India Prima Fund  |","",""]
["Goldman Sachs India Equity Fund","",""]
["HDFC Mid-Cap Opportunities Fund  |","",""]
["ICICI Prudential Midcap Fund - Regular Plan  |","",""]
["IDFC Premier Equity Fund - Regular Plan  |","",""]
["IDFC Sterling Equity Fund - Regular Plan  |","",""]
["JP Morgan India Mid and Small Cap Fund  |","",""]
["Kotak Mid-Cap Regular Plan  |","",""]
["L&T India Value Fund  |","",""]
["Mirae Asset Emerging Bluechip Fund - Regular Plan  |","",""]
["Motilal Oswal MOSt Shares M100 ETF Fund  |","",""]
["Principal Emerging Bluechip Fund  |","",""]
["Reliance Equity Opportunities Fund  |","",""]
["Reliance Growth Fund  |","",""]
["Reliance Regular Savings Fund - Equity Option  |","",""]
["Religare Invesco Mid Cap Fund  |","",""]
["Religare Invesco Mid N Small Cap Fund  |","",""]
["SBI Emerging Businesses Fund  |","",""]
["SBI Magnum Global Fund  |","",""]
["Sundaram Select Midcap Fund - Regular Plan  |","",""]
["Tata Equity PE Fund - Regular Plan  |","",""]
["Taurus Discovery Fund - Regular Plan  |","",""]
["UTI Mid Cap Fund  |","",""]
["Fund  |  Rating","",""]
["Birla Sun Life Advantage Fund  |","",""]
["Birla Sun Life Mid Cap Fund  |","",""]
["Birla Sun Life Pure Value Fund  |","",""]
["BNP Paribas Midcap Fund  |","",""]
["DSP BlackRock Small and Mid Cap Fund - Regular Plan  |","",""]
["Edelweiss Emerging Leaders Fund  |","",""]
["Escorts Growth Fund  |","",""]
["Escorts Leading Sectors Fund","",""]
["Franklin India Prima Fund  |","",""]
["Goldman Sachs India Equity Fund","",""]
["HDFC Mid-Cap Opportunities Fund  |","",""]
["ICICI Prudential Midcap Fund - Regular Plan  |","",""]
["IDFC Premier Equity Fund - Regular Plan  |","",""]
["IDFC Sterling Equity Fund - Regular Plan  |","",""]
["JP Morgan India Mid and Small Cap Fund  |","",""]
["Kotak Mid-Cap Regular Plan  |","",""]
["L&T India Value Fund  |","",""]
["Mirae Asset Emerging Bluechip Fund - Regular Plan  |","",""]
["Motilal Oswal MOSt Shares M100 ETF Fund  |","",""]
["Principal Emerging Bluechip Fund  |","",""]
["Reliance Equity Opportunities Fund  |","",""]
["Reliance Growth Fund  |","",""]
["Reliance Regular Savings Fund - Equity Option  |","",""]
["Religare Invesco Mid Cap Fund  |","",""]
["Religare Invesco Mid N Small Cap Fund  |","",""]
["SBI Emerging Businesses Fund  |","",""]
["SBI Magnum Global Fund  |","",""]
["Sundaram Select Midcap Fund - Regular Plan  |","",""]
["Tata Equity PE Fund - Regular Plan  |","",""]
["Taurus Discovery Fund - Regular Plan  |","",""]
["UTI Mid Cap Fund  |","",""]
["Fund  |  Rating","",""]
["Birla Sun Life Advantage Fund  |","",""]
["Birla Sun Life Mid Cap Fund  |","",""]
["Birla Sun Life Pure Value Fund  |","",""]
["BNP Paribas Midcap Fund  |","",""]
["DSP BlackRock Small and Mid Cap Fund - Regular Plan  |","",""]
["Edelweiss Emerging Leaders Fund  |","",""]
["Escorts Growth Fund  |","",""]
["Escorts Leading Sectors Fund","",""]
["Franklin India Prima Fund  |","",""]
["Goldman Sachs India Equity Fund","",""]
["HDFC Mid-Cap Opportunities Fund  |","",""]
["ICICI Prudential Midcap Fund - Regular Plan  |","",""]
["IDFC Premier Equity Fund - Regular Plan  |","",""]
["IDFC Sterling Equity Fund - Regular Plan  |","",""]
["JP Morgan India Mid and Small Cap Fund  |","",""]
["Kotak Mid-Cap Regular Plan  |","",""]
["L&T India Value Fund  |","",""]
["Mirae Asset Emerging Bluechip Fund - Regular Plan  |","",""]
["Motilal Oswal MOSt Shares M100 ETF Fund  |","",""]
["Principal Emerging Bluechip Fund  |","",""]
["Reliance Equity Opportunities Fund  |","",""]
["Reliance Growth Fund  |","",""]
["Reliance Regular Savings Fund - Equity Option  |","",""]
["Religare Invesco Mid Cap Fund  |","",""]
["Religare Invesco Mid N Small Cap Fund  |","",""]
["SBI Emerging Businesses Fund  |","",""]
["SBI Magnum Global Fund  |","",""]
["Sundaram Select Midcap Fund - Regular Plan  |","",""]
["Tata Equity PE Fund - Regular Plan  |","",""]
["Taurus Discovery Fund - Regular Plan  |","",""]
["UTI Mid Cap Fund  |","",""]
["Fund  |  Rating","",""]
["Birla Sun Life Advantage Fund  |","",""]
["Birla Sun Life Mid Cap Fund  |","",""]
["Birla Sun Life Pure Value Fund  |","",""]
["BNP Paribas Midcap Fund  |","",""]
["DSP BlackRock Small and Mid Cap Fund - Regular Plan  |","",""]
["Edelweiss Emerging Leaders Fund  |","",""]
["Escorts Growth Fund  |","",""]
["Escorts Leading Sectors Fund","",""]
["Franklin India Prima Fund  |","",""]
["Goldman Sachs India Equity Fund","",""]
["HDFC Mid-Cap Opportunities Fund  |","",""]
["ICICI Prudential Midcap Fund - Regular Plan  |","",""]
["IDFC Premier Equity Fund - Regular Plan  |","",""]
["IDFC Sterling Equity Fund - Regular Plan  |","",""]
["JP Morgan India Mid and Small Cap Fund  |","",""]
["Kotak Mid-Cap Regular Plan  |","",""]
["L&T India Value Fund  |","",""]
["Mirae Asset Emerging Bluechip Fund - Regular Plan  |","",""]
["Motilal Oswal MOSt Shares M100 ETF Fund  |","",""]
["Principal Emerging Bluechip Fund  |","",""]
["Reliance Equity Opportunities Fund  |","",""]
["Reliance Growth Fund  |","",""]
["Reliance Regular Savings Fund - Equity Option  |","",""]
["Religare Invesco Mid Cap Fund  |","",""]
["Religare Invesco Mid N Small Cap Fund  |","",""]
["SBI Emerging Businesses Fund  |","",""]
["SBI Magnum Global Fund  |","",""]
["Sundaram Select Midcap Fund - Regular Plan  |","",""]
["Tata Equity PE Fund - Regular Plan  |","",""]
["Taurus Discovery Fund - Regular Plan  |","",""]
["UTI Mid Cap Fund  |","",""]
["Fund  |  Rating","",""]
["Birla Sun Life Advantage Fund  |","",""]
["Birla Sun Life Mid Cap Fund  |","",""]
["Birla Sun Life Pure Value Fund  |","",""]
["BNP Paribas Midcap Fund  |","",""]
["DSP BlackRock Small and Mid Cap Fund - Regular Plan  |","",""]
["Edelweiss Emerging Leaders Fund  |","",""]
["Escorts Growth Fund  |","",""]
["Escorts Leading Sectors Fund","",""]
["Franklin India Prima Fund  |","",""]
["Goldman Sachs India Equity Fund","",""]
["HDFC Mid-Cap Opportunities Fund  |","",""]
["ICICI Prudential Midcap Fund - Regular Plan  |","",""]
["IDFC Premier Equity Fund - Regular Plan  |","",""]
["IDFC Sterling Equity Fund - Regular Plan  |","",""]
["JP Morgan India Mid and Small Cap Fund  |","",""]
["Kotak Mid-Cap Regular Plan  |","",""]
["L&T India Value Fund  |","",""]
["Mirae Asset Emerging Bluechip Fund - Regular Plan  |","",""]
["Motilal Oswal MOSt Shares M100 ETF Fund  |","",""]
["Principal Emerging Bluechip Fund  |","",""]
["Reliance Equity Opportunities Fund  |","",""]
["Reliance Growth Fund  |","",""]
["Reliance Regular Savings Fund - Equity Option  |","",""]
["Religare Invesco Mid Cap Fund  |","",""]
["Religare Invesco Mid N Small Cap Fund  |","",""]
["SBI Emerging Businesses Fund  |","",""]
["SBI Magnum Global Fund  |","",""]
["Sundaram Select Midcap Fund - Regular Plan  |","",""]
["Tata Equity PE Fund - Regular Plan  |","",""]
["Taurus Discovery Fund - Regular Plan  |","",""]
["UTI Mid Cap Fund  |","",""]
["Fund  |  Rating","",""]
["Birla Sun Life Advantage Fund  |","",""]
["Birla Sun Life Mid Cap Fund  |","",""]
["Birla Sun Life Pure Value Fund  |","",""]
["BNP Paribas Midcap Fund  |","",""]
["DSP BlackRock Small and Mid Cap Fund - Regular Plan  |","",""]
["Edelweiss Emerging Leaders Fund  |","",""]
["Escorts Growth Fund  |","",""]
["Escorts Leading Sectors Fund","",""]
["Franklin India Prima Fund  |","",""]
["Goldman Sachs India Equity Fund","",""]
["HDFC Mid-Cap Opportunities Fund  |","",""]
["ICICI Prudential Midcap Fund - Regular Plan  |","",""]
["IDFC Premier Equity Fund - Regular Plan  |","",""]
["IDFC Sterling Equity Fund - Regular Plan  |","",""]
["JP Morgan India Mid and Small Cap Fund  |","",""]
["Kotak Mid-Cap Regular Plan  |","",""]
["L&T India Value Fund  |","",""]
["Mirae Asset Emerging Bluechip Fund - Regular Plan  |","",""]
["Motilal Oswal MOSt Shares M100 ETF Fund  |","",""]
["Principal Emerging Bluechip Fund  |","",""]
["Reliance Equity Opportunities Fund  |","",""]
["Reliance Growth Fund  |","",""]
["Reliance Regular Savings Fund - Equity Option  |","",""]
["Religare Invesco Mid Cap Fund  |","",""]
["Religare Invesco Mid N Small Cap Fund  |","",""]
["SBI Emerging Businesses Fund  |","",""]
["SBI Magnum Global Fund  |","",""]
["Sundaram Select Midcap Fund - Regular Plan  |","",""]
["Tata Equity PE Fund - Regular Plan  |","",""]
["Taurus Discovery Fund - Regular Plan  |","",""]
["UTI Mid Cap Fund  |","",""]
["Fund  |  Rating","",""]
["Birla Sun Life Advantage Fund  |","",""]
["Birla Sun Life Mid Cap Fund  |","",""]
["Birla Sun Life Pure Value Fund  |","",""]
["BNP Paribas Midcap Fund  |","",""]
["DSP BlackRock Small and Mid Cap Fund - Regular Plan  |","",""]
["Edelweiss Emerging Leaders Fund  |","",""]
["Escorts Growth Fund  |","",""]
["Escorts Leading Sectors Fund","",""]
["Franklin India Prima Fund  |","",""]
["Goldman Sachs India Equity Fund","",""]
["HDFC Mid-Cap Opportunities Fund  |","",""]
["ICICI Prudential Midcap Fund - Regular Plan  |","",""]
["IDFC Premier Equity Fund - Regular Plan  |","",""]
["IDFC Sterling Equity Fund - Regular Plan  |","",""]
["JP Morgan India Mid and Small Cap Fund  |","",""]
["Kotak Mid-Cap Regular Plan  |","",""]
["L&T India Value Fund  |","",""]
["Mirae Asset Emerging Bluechip Fund - Regular Plan  |","",""]
["Motilal Oswal MOSt Shares M100 ETF Fund  |","",""]
["Principal Emerging Bluechip Fund  |","",""]
["Reliance Equity Opportunities Fund  |","",""]
["Reliance Growth Fund  |","",""]
["Reliance Regular Savings Fund - Equity Option  |","",""]
["Religare Invesco Mid Cap Fund  |","",""]
["Religare Invesco Mid N Small Cap Fund  |","",""]
["SBI Emerging Businesses Fund  |","",""]
["SBI Magnum Global Fund  |","",""]
["Sundaram Select Midcap Fund - Regular Plan  |","",""]
["Tata Equity PE Fund - Regular Plan  |","",""]
["Taurus Discovery Fund - Regular Plan  |","",""]
["UTI Mid Cap Fund  |","",""]
["Fund  |  Rating","",""]
["Birla Sun Life Advantage Fund  |","",""]
["Birla Sun Life Mid Cap Fund  |","",""]
["Birla Sun Life Pure Value Fund  |","",""]
["BNP Paribas Midcap Fund  |","",""]
["DSP BlackRock Small and Mid Cap Fund - Regular Plan  |","",""]
["Edelweiss Emerging Leaders Fund  |","",""]
["Escorts Growth Fund  |","",""]
["Escorts Leading Sectors Fund","",""]
["Franklin India Prima Fund  |","",""]
["Goldman Sachs India Equity Fund","",""]
["HDFC Mid-Cap Opportunities Fund  |","",""]
["ICICI Prudential Midcap Fund - Regular Plan  |","",""]
["IDFC Premier Equity Fund - Regular Plan  |","",""]
["IDFC Sterling Equity Fund - Regular Plan  |","",""]
["JP Morgan India Mid and Small Cap Fund  |","",""]
["Kotak Mid-Cap Regular Plan  |","",""]
["L&T India Value Fund  |","",""]
["Mirae Asset Emerging Bluechip Fund - Regular Plan  |","",""]
["Motilal Oswal MOSt Shares M100 ETF Fund  |","",""]
["Principal Emerging Bluechip Fund  |","",""]
["Reliance Equity Opportunities Fund  |","",""]
["Reliance Growth Fund  |","",""]
["Reliance Regular Savings Fund - Equity Option  |","",""]
["Religare Invesco Mid Cap Fund  |","",""]
["Religare Invesco Mid N Small Cap Fund  |","",""]
["SBI Emerging Businesses Fund  |","",""]
["SBI Magnum Global Fund  |","",""]
["Sundaram Select Midcap Fund - Regular Plan  |","",""]
["Tata Equity PE Fund - Regular Plan  |","",""]
["Taurus Discovery Fund - Regular Plan  |","",""]
["UTI Mid Cap Fund  |","",""]
["Fund  |  Rating","",""]
["Birla Sun Life Advantage Fund  |","",""]
["Birla Sun Life Mid Cap Fund  |","",""]
["Birla Sun Life Pure Value Fund  |","",""]
["BNP Paribas Midcap Fund  |","",""]
["DSP BlackRock Small and Mid Cap Fund - Regular Plan  |","",""]
["Edelweiss Emerging Leaders Fund  |","",""]
["Escorts Growth Fund  |","",""]
["Escorts Leading Sectors Fund","",""]
["Franklin India Prima Fund  |","",""]
["Goldman Sachs India Equity Fund","",""]
["HDFC Mid-Cap Opportunities Fund  |","",""]
["ICICI Prudential Midcap Fund - Regular Plan  |","",""]
["IDFC Premier Equity Fund - Regular Plan  |","",""]
["IDFC Sterling Equity Fund - Regular Plan  |","",""]
["JP Morgan India Mid and Small Cap Fund  |","",""]
["Kotak Mid-Cap Regular Plan  |","",""]
["L&T India Value Fund  |","",""]
["Mirae Asset Emerging Bluechip Fund - Regular Plan  |","",""]
["Motilal Oswal MOSt Shares M100 ETF Fund  |","",""]
["Principal Emerging Bluechip Fund  |","",""]
["Reliance Equity Opportunities Fund  |","",""]
["Reliance Growth Fund  |","",""]
["Reliance Regular Savings Fund - Equity Option  |","",""]
["Religare Invesco Mid Cap Fund  |","",""]
["Religare Invesco Mid N Small Cap Fund  |","",""]
["SBI Emerging Businesses Fund  |","",""]
["SBI Magnum Global Fund  |","",""]
["Sundaram Select Midcap Fund - Regular Plan  |","",""]
["Tata Equity PE Fund - Regular Plan  |","",""]
["Taurus Discovery Fund - Regular Plan  |","",""]
["UTI Mid Cap Fund  |","",""]
["Fund  |  Rating","",""]
["Birla Sun Life Advantage Fund  |","",""]
["Birla Sun Life Mid Cap Fund  |","",""]
["Birla Sun Life Pure Value Fund  |","",""]
["BNP Paribas Midcap Fund  |","",""]
["DSP BlackRock Small and Mid Cap Fund - Regular Plan  |","",""]
["Edelweiss Emerging Leaders Fund  |","",""]
["Escorts Growth Fund  |","",""]
["Escorts Leading Sectors Fund","",""]
["Franklin India Prima Fund  |","",""]
["Goldman Sachs India Equity Fund","",""]
["HDFC Mid-Cap Opportunities Fund  |","",""]
["ICICI Prudential Midcap Fund - Regular Plan  |","",""]
["IDFC Premier Equity Fund - Regular Plan  |","",""]
["IDFC Sterling Equity Fund - Regular Plan  |","",""]
["JP Morgan India Mid and Small Cap Fund  |","",""]
["Kotak Mid-Cap Regular Plan  |","",""]
["L&T India Value Fund  |","",""]
["Mirae Asset Emerging Bluechip Fund - Regular Plan  |","",""]
["Motilal Oswal MOSt Shares M100 ETF Fund  |","",""]
["Principal Emerging Bluechip Fund  |","",""]
["Reliance Equity Opportunities Fund  |","",""]
["Reliance Growth Fund  |","",""]
["Reliance Regular Savings Fund - Equity Option  |","",""]
["Religare Invesco Mid Cap Fund  |","",""]
["Religare Invesco Mid N Small Cap Fund  |","",""]
["SBI Emerging Businesses Fund  |","",""]
["SBI Magnum Global Fund  |","",""]
["Sundaram Select Midcap Fund - Regular Plan  |","",""]
["Tata Equity PE Fund - Regular Plan  |","",""]
["Taurus Discovery Fund - Regular Plan  |","",""]
["UTI Mid Cap Fund  |","",""]
["Fund  |  Rating","",""]
["Birla Sun Life Advantage Fund  |","",""]
["Birla Sun Life Mid Cap Fund  |","",""]
["Birla Sun Life Pure Value Fund  |","",""]
["BNP Paribas Midcap Fund  |","",""]
["DSP BlackRock Small and Mid Cap Fund - Regular Plan  |","",""]
["Edelweiss Emerging Leaders Fund  |","",""]
["Escorts Growth Fund  |","",""]
["Escorts Leading Sectors Fund","",""]
["Franklin India Prima Fund  |","",""]
["Goldman Sachs India Equity Fund","",""]
["HDFC Mid-Cap Opportunities Fund  |","",""]
["ICICI Prudential Midcap Fund - Regular Plan  |","",""]
["IDFC Premier Equity Fund - Regular Plan  |","",""]
["IDFC Sterling Equity Fund - Regular Plan  |","",""]
["JP Morgan India Mid and Small Cap Fund  |","",""]
["Kotak Mid-Cap Regular Plan  |","",""]
["L&T India Value Fund  |","",""]
["Mirae Asset Emerging Bluechip Fund - Regular Plan  |","",""]
["Motilal Oswal MOSt Shares M100 ETF Fund  |","",""]
["Principal Emerging Bluechip Fund  |","",""]
["Reliance Equity Opportunities Fund  |","",""]
["Reliance Growth Fund  |","",""]
["Reliance Regular Savings Fund - Equity Option  |","",""]
["Religare Invesco Mid Cap Fund  |","",""]
["Religare Invesco Mid N Small Cap Fund  |","",""]
["SBI Emerging Businesses Fund  |","",""]
["SBI Magnum Global Fund  |","",""]
["Sundaram Select Midcap Fund - Regular Plan  |","",""]
["Tata Equity PE Fund - Regular Plan  |","",""]
["Taurus Discovery Fund - Regular Plan  |","",""]
["UTI Mid Cap Fund  |","",""]
["Fund  |  Rating","",""]
["Birla Sun Life Advantage Fund  |","",""]
["Birla Sun Life Mid Cap Fund  |","",""]
["Birla Sun Life Pure Value Fund  |","",""]
["BNP Paribas Midcap Fund  |","",""]
["DSP BlackRock Small and Mid Cap Fund - Regular Plan  |","",""]
["Edelweiss Emerging Leaders Fund  |","",""]
["Escorts Growth Fund  |","",""]
["Escorts Leading Sectors Fund","",""]
["Franklin India Prima Fund  |","",""]
["Goldman Sachs India Equity Fund","",""]
["HDFC Mid-Cap Opportunities Fund  |","",""]
["ICICI Prudential Midcap Fund - Regular Plan  |","",""]
["IDFC Premier Equity Fund - Regular Plan  |","",""]
["IDFC Sterling Equity Fund - Regular Plan  |","",""]
["JP Morgan India Mid and Small Cap Fund  |","",""]
["Kotak Mid-Cap Regular Plan  |","",""]
["L&T India Value Fund  |","",""]
["Mirae Asset Emerging Bluechip Fund - Regular Plan  |","",""]
["Motilal Oswal MOSt Shares M100 ETF Fund  |","",""]
["Principal Emerging Bluechip Fund  |","",""]
["Reliance Equity Opportunities Fund  |","",""]
["Reliance Growth Fund  |","",""]
["Reliance Regular Savings Fund - Equity Option  |","",""]
["Religare Invesco Mid Cap Fund  |","",""]
["Religare Invesco Mid N Small Cap Fund  |","",""]
["SBI Emerging Businesses Fund  |","",""]
["SBI Magnum Global Fund  |","",""]
["Sundaram Select Midcap Fund - Regular Plan  |","",""]
["Tata Equity PE Fund - Regular Plan  |","",""]
["Taurus Discovery Fund - Regular Plan  |","",""]
["UTI Mid Cap Fund  |","",""]
["Fund  |  Rating","",""]
["Birla Sun Life Advantage Fund  |","",""]
["Birla Sun Life Mid Cap Fund  |","",""]
["Birla Sun Life Pure Value Fund  |","",""]
["BNP Paribas Midcap Fund  |","",""]
["DSP BlackRock Small and Mid Cap Fund - Regular Plan  |","",""]
["Edelweiss Emerging Leaders Fund  |","",""]
["Escorts Growth Fund  |","",""]
["Escorts Leading Sectors Fund"]
["Franklin India Prima Fund  |"]
["Goldman Sachs India Equity Fund"]
["HDFC Mid-Cap Opportunities Fund  |"]
["ICICI Prudential Midcap Fund - Regular Plan  |"]
["IDFC Premier Equity Fund - Regular Plan  |"]
["IDFC Sterling Equity Fund - Regular Plan  |"]
["JP Morgan India Mid and Small Cap Fund  |"]
["Kotak Mid-Cap Regular Plan  |"]
["L&T India Value Fund  |"]
["Mirae Asset Emerging Bluechip Fund - Regular Plan  |"]
["Motilal Oswal MOSt Shares M100 ETF Fund  |"]
["Principal Emerging Bluechip Fund  |"]
["Reliance Equity Opportunities Fund  |"]
["Reliance Growth Fund  |"]
["Reliance Regular Savings Fund - Equity Option  |"]
["Religare Invesco Mid Cap Fund  |"]
["Religare Invesco Mid N Small Cap Fund  |"]
["SBI Emerging Businesses Fund  |"]
["SBI Magnum Global Fund  |"]
["Sundaram Select Midcap Fund - Regular Plan  |"]
["Tata Equity PE Fund - Regular Plan  |"]
["Taurus Discovery Fund - Regular Plan  |"]
["UTI Mid Cap Fund  |"]
["Fund  |  Rating"]
["Birla Sun Life Advantage Fund  |"]
["Birla Sun Life Mid Cap Fund  |"]
["Birla Sun Life Pure Value Fund  |"]
["BNP Paribas Midcap Fund  |"]
["DSP BlackRock Small and Mid Cap Fund - Regular Plan  |"]
["Edelweiss Emerging Leaders Fund  |"]
["Escorts Growth Fund  |"]
["Escorts Leading Sectors Fund"]
["Franklin India Prima Fund  |"]
["Goldman Sachs India Equity Fund"]
["HDFC Mid-Cap Opportunities Fund  |"]
["ICICI Prudential Midcap Fund - Regular Plan  |"]
["IDFC Premier Equity Fund - Regular Plan  |"]
["IDFC Sterling Equity Fund - Regular Plan  |"]
["JP Morgan India Mid and Small Cap Fund  |"]
["Kotak Mid-Cap Regular Plan  |"]
["L&T India Value Fund  |"]
["Mirae Asset Emerging Bluechip Fund - Regular Plan  |"]
["Motilal Oswal MOSt Shares M100 ETF Fund  |"]
["Principal Emerging Bluechip Fund  |"]
["Reliance Equity Opportunities Fund  |"]
["Reliance Growth Fund  |"]
["Reliance Regular Savings Fund - Equity Option  |"]
["Religare Invesco Mid Cap Fund  |"]
["Religare Invesco Mid N Small Cap Fund  |"]
["SBI Emerging Businesses Fund  |"]
["SBI Magnum Global Fund  |"]
["Sundaram Select Midcap Fund - Regular Plan  |"]
["Tata Equity PE Fund - Regular Plan  |"]
["Taurus Discovery Fund - Regular Plan  |"]
["UTI Mid Cap Fund  |"]
["Fund  |  Rating"]
["Birla Sun Life Advantage Fund  |"]
["Birla Sun Life Mid Cap Fund  |"]
["Birla Sun Life Pure Value Fund  |"]
["BNP Paribas Midcap Fund  |"]
["DSP BlackRock Small and Mid Cap Fund - Regular Plan  |"]
["Edelweiss Emerging Leaders Fund  |"]
["Escorts Growth Fund  |"]
["Escorts Leading Sectors Fund"]
["Franklin India Prima Fund  |"]
["Goldman Sachs India Equity Fund"]
["HDFC Mid-Cap Opportunities Fund  |"]
["ICICI Prudential Midcap Fund - Regular Plan  |"]
["IDFC Premier Equity Fund - Regular Plan  |"]
["IDFC Sterling Equity Fund - Regular Plan  |"]
["JP Morgan India Mid and Small Cap Fund  |"]
["Kotak Mid-Cap Regular Plan  |"]
["L&T India Value Fund  |"]
["Mirae Asset Emerging Bluechip Fund - Regular Plan  |"]
["Motilal Oswal MOSt Shares M100 ETF Fund  |"]
["Principal Emerging Bluechip Fund  |"]
["Reliance Equity Opportunities Fund  |"]
["Reliance Growth Fund  |"]
["Reliance Regular Savings Fund - Equity Option  |"]
["Religare Invesco Mid Cap Fund  |"]
["Religare Invesco Mid N Small Cap Fund  |"]
["SBI Emerging Businesses Fund  |"]
["SBI Magnum Global Fund  |"]
["Sundaram Select Midcap Fund - Regular Plan  |"]
["Tata Equity PE Fund - Regular Plan  |"]
["Taurus Discovery Fund - Regular Plan  |"]
["UTI Mid Cap Fund  |"]
["Fund  |  Rating"]
["Birla Sun Life Advantage Fund  |"]
["Birla Sun Life Mid Cap Fund  |"]
["Birla Sun Life Pure Value Fund  |"]
["BNP Paribas Midcap Fund  |"]
["DSP BlackRock Small and Mid Cap Fund - Regular Plan  |"]
["Edelweiss Emerging Leaders Fund  |"]
["Escorts Growth Fund  |"]
["Escorts Leading Sectors Fund"]
["Franklin India Prima Fund  |"]
["Goldman Sachs India Equity Fund"]
["HDFC Mid-Cap Opportunities Fund  |"]
["ICICI Prudential Midcap Fund - Regular Plan  |"]
["IDFC Premier Equity Fund - Regular Plan  |"]
["IDFC Sterling Equity Fund - Regular Plan  |"]
["JP Morgan India Mid and Small Cap Fund  |"]
["Kotak Mid-Cap Regular Plan  |"]
["L&T India Value Fund  |"]
["Mirae Asset Emerging Bluechip Fund - Regular Plan  |"]
["Motilal Oswal MOSt Shares M100 ETF Fund  |"]
["Principal Emerging Bluechip Fund  |"]
["Reliance Equity Opportunities Fund  |"]
["Reliance Growth Fund  |"]
["Reliance Regular Savings Fund - Equity Option  |"]
["Religare Invesco Mid Cap Fund  |"]
["Religare Invesco Mid N Small Cap Fund  |"]
["SBI Emerging Businesses Fund  |"]
["SBI Magnum Global Fund  |"]
["Sundaram Select Midcap Fund - Regular Plan  |"]
["Tata Equity PE Fund - Regular Plan  |"]
["Taurus Discovery Fund - Regular Plan  |"]
["UTI Mid Cap Fund  |"]
["Fund  |  Rating"]
["Birla Sun Life Advantage Fund  |"]
["Birla Sun Life Mid Cap Fund  |"]
["Birla Sun Life Pure Value Fund  |"]
["BNP Paribas Midcap Fund  |"]
["DSP BlackRock Small and Mid Cap Fund - Regular Plan  |"]
["Edelweiss Emerging Leaders Fund  |"]
["Escorts Growth Fund  |"]
["Escorts Leading Sectors Fund"]
["Franklin India Prima Fund  |"]
["Goldman Sachs India Equity Fund"]
["HDFC Mid-Cap Opportunities Fund  |"]
["ICICI Prudential Midcap Fund - Regular Plan  |"]
["IDFC Premier Equity Fund - Regular Plan  |"]
["IDFC Sterling Equity Fund - Regular Plan  |"]
["JP Morgan India Mid and Small Cap Fund  |"]
["Kotak Mid-Cap Regular Plan  |"]
["L&T India Value Fund  |"]
["Mirae Asset Emerging Bluechip Fund - Regular Plan  |"]
["Motilal Oswal MOSt Shares M100 ETF Fund  |"]
["Principal Emerging Bluechip Fund  |"]
["Reliance Equity Opportunities Fund  |"]
["Reliance Growth Fund  |"]
["Reliance Regular Savings Fund - Equity Option  |"]
["Religare Invesco Mid Cap Fund  |"]
["Religare Invesco Mid N Small Cap Fund  |"]
["SBI Emerging Businesses Fund  |"]
["SBI Magnum Global Fund  |"]
["Sundaram Select Midcap Fund - Regular Plan  |"]
["Tata Equity PE Fund - Regular Plan  |"]
["Taurus Discovery Fund - Regular Plan  |"]
["UTI Mid Cap Fund  |"]
["Fund  |  Rating"]
["Birla Sun Life Advantage Fund  |"]
["Birla Sun Life Mid Cap Fund  |"]
["Birla Sun Life Pure Value Fund  |"]
["BNP Paribas Midcap Fund  |"]
["DSP BlackRock Small and Mid Cap Fund - Regular Plan  |"]
["Edelweiss Emerging Leaders Fund  |"]
["Escorts Growth Fund  |"]
["Escorts Leading Sectors Fund"]
["Franklin India Prima Fund  |"]
["Goldman Sachs India Equity Fund"]
["HDFC Mid-Cap Opportunities Fund  |"]
["ICICI Prudential Midcap Fund - Regular Plan  |"]
["IDFC Premier Equity Fund - Regular Plan  |"]
["IDFC Sterling Equity Fund - Regular Plan  |"]
["JP Morgan India Mid and Small Cap Fund  |"]
["Kotak Mid-Cap Regular Plan  |"]
["L&T India Value Fund  |"]
["Mirae Asset Emerging Bluechip Fund - Regular Plan  |"]
["Motilal Oswal MOSt Shares M100 ETF Fund  |"]
["Principal Emerging Bluechip Fund  |"]
["Reliance Equity Opportunities Fund  |"]
["Reliance Growth Fund  |"]
["Reliance Regular Savings Fund - Equity Option  |"]
["Religare Invesco Mid Cap Fund  |"]
["Religare Invesco Mid N Small Cap Fund  |"]
["SBI Emerging Businesses Fund  |"]
["SBI Magnum Global Fund  |"]
["Sundaram Select Midcap Fund - Regular Plan  |"]
["Tata Equity PE Fund - Regular Plan  |"]
["Taurus Discovery Fund - Regular Plan  |"]
["UTI Mid Cap Fund  |"]
["Fund  |  Rating"]
["Birla Sun Life Advantage Fund  |"]
["Birla Sun Life Mid Cap Fund  |"]
["Birla Sun Life Pure Value Fund  |"]
["BNP Paribas Midcap Fund  |"]
["DSP BlackRock Small and Mid Cap Fund - Regular Plan  |"]
["Edelweiss Emerging Leaders Fund  |"]
["Escorts Growth Fund  |"]
["Escorts Leading Sectors Fund"]
["Franklin India Prima Fund  |"]
["Goldman Sachs India Equity Fund"]
["HDFC Mid-Cap Opportunities Fund  |"]
["ICICI Prudential Midcap Fund - Regular Plan  |"]
["IDFC Premier Equity Fund - Regular Plan  |"]
["IDFC Sterling Equity Fund - Regular Plan  |"]
["JP Morgan India Mid and Small Cap Fund  |"]
["Kotak Mid-Cap Regular Plan  |"]
["L&T India Value Fund  |"]
["Mirae Asset Emerging Bluechip Fund - Regular Plan  |"]
["Motilal Oswal MOSt Shares M100 ETF Fund  |"]
["Principal Emerging Bluechip Fund  |"]
["Reliance Equity Opportunities Fund  |"]
["Reliance Growth Fund  |"]
["Reliance Regular Savings Fund - Equity Option  |"]
["Religare Invesco Mid Cap Fund  |"]
["Religare Invesco Mid N Small Cap Fund  |"]
["SBI Emerging Businesses Fund  |"]
["SBI Magnum Global Fund  |"]
["Sundaram Select Midcap Fund - Regular Plan  |"]
["Tata Equity PE Fund - Regular Plan  |"]
["Taurus Discovery Fund - Regular Plan  |"]
["UTI Mid Cap Fund  |"]
["Fund  |  Rating"]
["Birla Sun Life Advantage Fund  |"]
["Birla Sun Life Mid Cap Fund  |"]
["Birla Sun Life Pure Value Fund  |"]
["BNP Paribas Midcap Fund  |"]
["DSP BlackRock Small and Mid Cap Fund - Regular Plan  |"]
["Edelweiss Emerging Leaders Fund  |"]
["Escorts Growth Fund  |"]
["Escorts Leading Sectors Fund"]
["Franklin India Prima Fund  |"]
["Goldman Sachs India Equity Fund"]
["HDFC Mid-Cap Opportunities Fund  |"]
["ICICI Prudential Midcap Fund - Regular Plan  |"]
["IDFC Premier Equity Fund - Regular Plan  |"]
["IDFC Sterling Equity Fund - Regular Plan  |"]
["JP Morgan India Mid and Small Cap Fund  |"]
["Kotak Mid-Cap Regular Plan  |"]
["L&T India Value Fund  |"]
["Mirae Asset Emerging Bluechip Fund - Regular Plan  |"]
["Motilal Oswal MOSt Shares M100 ETF Fund  |"]
["Principal Emerging Bluechip Fund  |"]
["Reliance Equity Opportunities Fund  |"]
["Reliance Growth Fund  |"]
["Reliance Regular Savings Fund - Equity Option  |"]
["Religare Invesco Mid Cap Fund  |"]
["Religare Invesco Mid N Small Cap Fund  |"]
["SBI Emerging Businesses Fund  |"]
["SBI Magnum Global Fund  |"]
["Sundaram Select Midcap Fund - Regular Plan  |"]
["Tata Equity PE Fund - Regular Plan  |"]
["Taurus Discovery Fund - Regular Plan  |"]
["UTI Mid Cap Fund  |"]
["Fund  |  Rating"]
["Birla Sun Life Advantage Fund  |"]
["Birla Sun Life Mid Cap Fund  |"]
["Birla Sun Life Pure Value Fund  |"]
["BNP Paribas Midcap Fund  |"]
["DSP BlackRock Small and Mid Cap Fund - Regular Plan  |"]
["Edelweiss Emerging Leaders Fund  |"]
["Escorts Growth Fund  |"]
["Escorts Leading Sectors Fund"]
["Franklin India Prima Fund  |"]
["Goldman Sachs India Equity Fund"]
["HDFC Mid-Cap Opportunities Fund  |"]
["ICICI Prudential Midcap Fund - Regular Plan  |"]
["IDFC Premier Equity Fund - Regular Plan  |"]
["IDFC Sterling Equity Fund - Regular Plan  |"]
["JP Morgan India Mid and Small Cap Fund  |"]
["Kotak Mid-Cap Regular Plan  |"]
["L&T India Value Fund  |"]
["Mirae Asset Emerging Bluechip Fund - Regular Plan  |"]
["Motilal Oswal MOSt Shares M100 ETF Fund  |"]
["Principal Emerging Bluechip Fund  |"]
["Reliance Equity Opportunities Fund  |"]
["Reliance Growth Fund  |"]
["Reliance Regular Savings Fund - Equity Option  |"]
["Religare Invesco Mid Cap Fund  |"]
["Religare Invesco Mid N Small Cap Fund  |"]
["SBI Emerging Businesses Fund  |"]
["SBI Magnum Global Fund  |"]
["Sundaram Select Midcap Fund - Regular Plan  |"]
["Tata Equity PE Fund - Regular Plan  |"]
["Taurus Discovery Fund - Regular Plan  |"]
["UTI Mid Cap Fund  |"]
["Fund  |  Rating"]
["Birla Sun Life Advantage Fund  |"]
["Birla Sun Life Mid Cap Fund  |"]
["Birla Sun Life Pure Value Fund  |"]
["BNP Paribas Midcap Fund  |"]
["DSP BlackRock Small and Mid Cap Fund - Regular Plan  |"]
["Edelweiss Emerging Leaders Fund  |"]
["Escorts Growth Fund  |"]
["Escorts Leading Sectors Fund"]
["Franklin India Prima Fund  |"]
["Goldman Sachs India Equity Fund"]
["HDFC Mid-Cap Opportunities Fund  |"]
["ICICI Prudential Midcap Fund - Regular Plan  |"]
["IDFC Premier Equity Fund - Regular Plan  |"]
["IDFC Sterling Equity Fund - Regular Plan  |"]
["JP Morgan India Mid and Small Cap Fund  |"]
["Kotak Mid-Cap Regular Plan  |"]
["L&T India Value Fund  |"]
["Mirae Asset Emerging Bluechip Fund - Regular Plan  |"]
["Motilal Oswal MOSt Shares M100 ETF Fund  |"]
["Principal Emerging Bluechip Fund  |"]
["Reliance Equity Opportunities Fund  |"]
["Reliance Growth Fund  |"]
["Reliance Regular Savings Fund - Equity Option  |"]
["Religare Invesco Mid Cap Fund  |"]
["Religare Invesco Mid N Small Cap Fund  |"]
["SBI Emerging Businesses Fund  |"]
["SBI Magnum Global Fund  |"]
["Sundaram Select Midcap Fund - Regular Plan  |"]
["Tata Equity PE Fund - Regular Plan  |"]
["Taurus Discovery Fund - Regular Plan  |"]
["UTI Mid Cap Fund  |"]
["Fund  |  Rating"]
["Birla Sun Life Advantage Fund  |"]
["Birla Sun Life Mid Cap Fund  |"]
["Birla Sun Life Pure Value Fund  |"]
["BNP Paribas Midcap Fund  |"]
["DSP BlackRock Small and Mid Cap Fund - Regular Plan  |"]
["Edelweiss Emerging Leaders Fund  |"]
["Escorts Growth Fund  |"]
["Escorts Leading Sectors Fund"]
["Franklin India Prima Fund  |"]
["Goldman Sachs India Equity Fund"]
["HDFC Mid-Cap Opportunities Fund  |"]
["ICICI Prudential Midcap Fund - Regular Plan  |"]
["IDFC Premier Equity Fund - Regular Plan  |"]
["IDFC Sterling Equity Fund - Regular Plan  |"]
["JP Morgan India Mid and Small Cap Fund  |"]
["Kotak Mid-Cap Regular Plan  |"]
["L&T India Value Fund  |"]
["Mirae Asset Emerging Bluechip Fund - Regular Plan  |"]
["Motilal Oswal MOSt Shares M100 ETF Fund  |"]
["Principal Emerging Bluechip Fund  |"]
["Reliance Equity Opportunities Fund  |"]
["Reliance Growth Fund  |"]
["Reliance Regular Savings Fund - Equity Option  |"]
["Religare Invesco Mid Cap Fund  |"]
["Religare Invesco Mid N Small Cap Fund  |"]
["SBI Emerging Businesses Fund  |"]
["SBI Magnum Global Fund  |"]
["Sundaram Select Midcap Fund - Regular Plan  |"]
["Tata Equity PE Fund - Regular Plan  |"]
["Taurus Discovery Fund - Regular Plan  |"]
["UTI Mid Cap Fund  |"]
["Fund  |  Rating"]
["Birla Sun Life Advantage Fund  |"]
["Birla Sun Life Mid Cap Fund  |"]
["Birla Sun Life Pure Value Fund  |"]
["BNP Paribas Midcap Fund  |"]
["DSP BlackRock Small and Mid Cap Fund - Regular Plan  |"]
["Edelweiss Emerging Leaders Fund  |"]
["Escorts Growth Fund  |"]
["Escorts Leading Sectors Fund"]
["Franklin India Prima Fund  |"]
["Goldman Sachs India Equity Fund"]
["HDFC Mid-Cap Opportunities Fund  |"]
["ICICI Prudential Midcap Fund - Regular Plan  |"]
["IDFC Premier Equity Fund - Regular Plan  |"]
["IDFC Sterling Equity Fund - Regular Plan  |"]
["JP Morgan India Mid and Small Cap Fund  |"]
["Kotak Mid-Cap Regular Plan  |"]
["L&T India Value Fund  |"]
["Mirae Asset Emerging Bluechip Fund - Regular Plan  |"]
["Motilal Oswal MOSt Shares M100 ETF Fund  |"]
["Principal Emerging Bluechip Fund  |"]
["Reliance Equity Opportunities Fund  |"]
["Reliance Growth Fund  |"]
["Reliance Regular Savings Fund - Equity Option  |"]
["Religare Invesco Mid Cap Fund  |"]
["Religare Invesco Mid N Small Cap Fund  |"]
["SBI Emerging Businesses Fund  |"]
["SBI Magnum Global Fund  |"]
["Sundaram Select Midcap Fund - Regular Plan  |"]
["Tata Equity PE Fund - Regular Plan  |"]
["Taurus Discovery Fund - Regular Plan  |"]
["UTI Mid Cap Fund  |"]
["Fund  |  Rating"]
["Birla Sun Life Advantage Fund  |"]
["Birla Sun Life Mid Cap Fund  |"]
["Birla Sun Life Pure Value Fund  |"]
["BNP Paribas Midcap Fund  |"]
["DSP BlackRock Small and Mid Cap Fund - Regular Plan  |"]
["Edelweiss Emerging Leaders Fund  |"]
["Escorts Growth Fund  |"]
["Escorts Leading Sectors Fund"]
["Franklin India Prima Fund  |"]
["Goldman Sachs India Equity Fund"]
["HDFC Mid-Cap Opportunities Fund  |"]
["ICICI Prudential Midcap Fund - Regular Plan  |"]
["IDFC Premier Equity Fund - Regular Plan  |"]
["IDFC Sterling Equity Fund - Regular Plan  |"]
["JP Morgan India Mid and Small Cap Fund  |"]
["Kotak Mid-Cap Regular Plan  |"]
["L&T India Value Fund  |"]
["Mirae Asset Emerging Bluechip Fund - Regular Plan  |"]
["Motilal Oswal MOSt Shares M100 ETF Fund  |"]
["Principal Emerging Bluechip Fund  |"]
["Reliance Equity Opportunities Fund  |"]
["Reliance Growth Fund  |"]
["Reliance Regular Savings Fund - Equity Option  |"]
["Religare Invesco Mid Cap Fund  |"]
["Religare Invesco Mid N Small Cap Fund  |"]
["SBI Emerging Businesses Fund  |"]
["SBI Magnum Global Fund  |"]
["Sundaram Select Midcap Fund - Regular Plan  |"]
["Tata Equity PE Fund - Regular Plan  |"]
["Taurus Discovery Fund - Regular Plan  |"]
["UTI Mid Cap Fund  |"]
["Fund  |  Rating"]
["Birla Sun Life Advantage Fund  |"]
["Birla Sun Life Mid Cap Fund  |"]
["Birla Sun Life Pure Value Fund  |"]
["BNP Paribas Midcap Fund  |"]
["DSP BlackRock Small and Mid Cap Fund - Regular Plan  |"]
["Edelweiss Emerging Leaders Fund  |"]
["Escorts Growth Fund  |"]
["Escorts Leading Sectors Fund"]
["Franklin India Prima Fund  |"]
["Goldman Sachs India Equity Fund"]
["HDFC Mid-Cap Opportunities Fund  |"]
["ICICI Prudential Midcap Fund - Regular Plan  |"]
["IDFC Premier Equity Fund - Regular Plan  |"]
["IDFC Sterling Equity Fund - Regular Plan  |"]
["JP Morgan India Mid and Small Cap Fund  |"]
["Kotak Mid-Cap Regular Plan  |"]
["L&T India Value Fund  |"]
["Mirae Asset Emerging Bluechip Fund - Regular Plan  |"]
["Motilal Oswal MOSt Shares M100 ETF Fund  |"]
["Principal Emerging Bluechip Fund  |"]
["Reliance Equity Opportunities Fund  |"]
["Reliance Growth Fund  |"]
["Reliance Regular Savings Fund - Equity Option  |"]
["Religare Invesco Mid Cap Fund  |"]
["Religare Invesco Mid N Small Cap Fund  |"]
["SBI Emerging Businesses Fund  |"]
["SBI Magnum Global Fund  |"]
["Sundaram Select Midcap Fund - Regular Plan  |"]
["Tata Equity PE Fund - Regular Plan  |"]
["Taurus Discovery Fund - Regular Plan  |"]
["UTI Mid Cap Fund  |"]
["Fund  |  Rating"]
["Birla Sun Life Advantage Fund  |"]
["Birla Sun Life Mid Cap Fund  |"]
["Birla Sun Life Pure Value Fund  |"]
["BNP Paribas Midcap Fund  |"]
["DSP BlackRock Small and Mid Cap Fund - Regular Plan  |"]
["Edelweiss Emerging Leaders Fund  |"]
["Escorts Growth Fund  |"]
["Escorts Leading Sectors Fund"]
["Franklin India Prima Fund  |"]
["Goldman Sachs India Equity Fund"]
["HDFC Mid-Cap Opportunities Fund  |"]
["ICICI Prudential Midcap Fund - Regular Plan  |"]
["IDFC Premier Equity Fund - Regular Plan  |"]
["IDFC Sterling Equity Fund - Regular Plan  |"]
["JP Morgan India Mid and Small Cap Fund  |"]
["Kotak Mid-Cap Regular Plan  |"]
["L&T India Value Fund  |"]
["Mirae Asset Emerging Bluechip Fund - Regular Plan  |"]
["Motilal Oswal MOSt Shares M100 ETF Fund  |"]
["Principal Emerging Bluechip Fund  |"]
["Reliance Equity Opportunities Fund  |"]
["Reliance Growth Fund  |"]
["Reliance Regular Savings Fund - Equity Option  |"]
["Religare Invesco Mid Cap Fund  |"]
["Religare Invesco Mid N Small Cap Fund  |"]
["SBI Emerging Businesses Fund  |"]
["SBI Magnum Global Fund  |"]
["Sundaram Select Midcap Fund - Regular Plan  |"]
["Tata Equity PE Fund - Regular Plan  |"]
["Taurus Discovery Fund - Regular Plan  |"]
["UTI Mid Cap Fund  |"]
["Fund  |  Rating"]
["Birla Sun Life Advantage Fund  |"]
["Birla Sun Life Mid Cap Fund  |"]
["Birla Sun Life Pure Value Fund  |"]
["BNP Paribas Midcap Fund  |"]
["DSP BlackRock Small and Mid Cap Fund - Regular Plan  |"]
["Edelweiss Emerging Leaders Fund  |"]
["Escorts Growth Fund  |"]
["Escorts Leading Sectors Fund"]
["Franklin India Prima Fund  |"]
["Goldman Sachs India Equity Fund"]
["HDFC Mid-Cap Opportunities Fund  |"]
["ICICI Prudential Midcap Fund - Regular Plan  |"]
["IDFC Premier Equity Fund - Regular Plan  |"]
["IDFC Sterling Equity Fund - Regular Plan  |"]
["JP Morgan India Mid and Small Cap Fund  |"]
["Kotak Mid-Cap Regular Plan  |"]
["L&T India Value Fund  |"]
["Mirae Asset Emerging Bluechip Fund - Regular Plan  |"]
["Motilal Oswal MOSt Shares M100 ETF Fund  |"]
["Principal Emerging Bluechip Fund  |"]
["Reliance Equity Opportunities Fund  |"]
["Reliance Growth Fund  |"]
["Reliance Regular Savings Fund - Equity Option  |"]
["Religare Invesco Mid Cap Fund  |"]
["Religare Invesco Mid N Small Cap Fund  |"]
["SBI Emerging Businesses Fund  |"]
["SBI Magnum Global Fund  |"]
["Sundaram Select Midcap Fund - Regular Plan  |"]
["Tata Equity PE Fund - Regular Plan  |"]
["Taurus Discovery Fund - Regular Plan  |"]
["UTI Mid Cap Fund  |"]
["Fund  |  Rating"]
["Birla Sun Life Advantage Fund  |"]
["Birla Sun Life Mid Cap Fund  |"]
["Birla Sun Life Pure Value Fund  |"]
["BNP Paribas Midcap Fund  |"]
["DSP BlackRock Small and Mid Cap Fund - Regular Plan  |"]
["Edelweiss Emerging Leaders Fund  |"]
["Escorts Growth Fund  |"]
["Escorts Leading Sectors Fund"]
["Franklin India Prima Fund  |"]
["Goldman Sachs India Equity Fund"]
["HDFC Mid-Cap Opportunities Fund  |"]
["ICICI Prudential Midcap Fund - Regular Plan  |"]
["IDFC Premier Equity Fund - Regular Plan  |"]
["IDFC Sterling Equity Fund - Regular Plan  |"]
["JP Morgan India Mid and Small Cap Fund  |"]
["Kotak Mid-Cap Regular Plan  |"]
["L&T India Value Fund  |"]
["Mirae Asset Emerging Bluechip Fund - Regular Plan  |"]
["Motilal Oswal MOSt Shares M100 ETF Fund  |"]
["Principal Emerging Bluechip Fund  |"]
["Reliance Equity Opportunities Fund  |"]
["Reliance Growth Fund  |"]
["Reliance Regular Savings Fund - Equity Option  |"]
["Religare Invesco Mid Cap Fund  |"]
["Religare Invesco Mid N Small Cap Fund  |"]
["SBI Emerging Businesses Fund  |"]
["SBI Magnum Global Fund  |"]
["Sundaram Select Midcap Fund - Regular Plan  |"]
["Tata Equity PE Fund - Regular Plan  |"]
["Taurus Discovery Fund - Regular Plan  |"]
["UTI Mid Cap Fund  |"]
["Fund  |  Rating"]
["Birla Sun Life Advantage Fund  |"]
["Birla Sun Life Mid Cap Fund  |"]
["Birla Sun Life Pure Value Fund  |"]
["BNP Paribas Midcap Fund  |"]
["DSP BlackRock Small and Mid Cap Fund - Regular Plan  |"]
["Edelweiss Emerging Leaders Fund  |"]
["Escorts Growth Fund  |"]
["Escorts Leading Sectors Fund"]
["Franklin India Prima Fund  |"]
["Goldman Sachs India Equity Fund"]
["HDFC Mid-Cap Opportunities Fund  |"]
["ICICI Prudential Midcap Fund - Regular Plan  |"]
["IDFC Premier Equity Fund - Regular Plan  |"]
["IDFC Sterling Equity Fund - Regular Plan  |"]
["JP Morgan India Mid and Small Cap Fund  |"]
["Kotak Mid-Cap Regular Plan  |"]
["L&T India Value Fund  |"]
["Mirae Asset Emerging Bluechip Fund - Regular Plan  |"]
["Motilal Oswal MOSt Shares M100 ETF Fund  |"]
["Principal Emerging Bluechip Fund  |"]
["Reliance Equity Opportunities Fund  |"]
["Reliance Growth Fund  |"]
["Reliance Regular Savings Fund - Equity Option  |"]
["Religare Invesco Mid Cap Fund  |"]
["Religare Invesco Mid N Small Cap Fund  |"]
["SBI Emerging Businesses Fund  |"]
["SBI Magnum Global Fund  |"]
["Sundaram Select Midcap Fund - Regular Plan  |"]
["Tata Equity PE Fund - Regular Plan  |"]
["Taurus Discovery Fund - Regular Plan  |"]
["UTI Mid Cap Fund  |"]
["Fund  |  Rating"]
["Birla Sun Life Advantage Fund  |"]
["Birla Sun Life Mid Cap Fund  |"]
["Birla Sun Life Pure Value Fund  |"]
["BNP Paribas Midcap Fund  |"]
["DSP BlackRock Small and Mid Cap Fund - Regular Plan  |"]
["Edelweiss Emerging Leaders Fund  |"]
["Escorts Growth Fund  |"]
["Escorts Leading Sectors Fund"]
["Franklin India Prima Fund  |"]
["Goldman Sachs India Equity Fund"]
["HDFC Mid-Cap Opportunities Fund  |"]
["ICICI Prudential Midcap Fund - Regular Plan  |"]
["IDFC Premier Equity Fund - Regular Plan  |"]
["IDFC Sterling Equity Fund - Regular Plan  |"]
["JP Morgan India Mid and Small Cap Fund  |"]
["Kotak Mid-Cap Regular Plan  |"]
["L&T India Value Fund  |"]
["Mirae Asset Emerging Bluechip Fund - Regular Plan  |"]
["Motilal Oswal MOSt Shares M100 ETF Fund  |"]
["Principal Emerging Bluechip Fund  |"]
["Reliance Equity Opportunities Fund  |"]
["Reliance Growth Fund  |"]
["Reliance Regular Savings Fund - Equity Option  |"]
["Religare Invesco Mid Cap Fund  |"]
["Religare Invesco Mid N Small Cap Fund  |"]
["SBI Emerging Businesses Fund  |"]
["SBI Magnum Global Fund  |"]
["Sundaram Select Midcap Fund - Regular Plan  |"]
["Tata Equity PE Fund - Regular Plan  |"]
["Taurus Discovery Fund - Regular Plan  |"]
["UTI Mid Cap Fund  |"]
["Fund  |  Rating"]
["Birla Sun Life Advantage Fund  |"]
["Birla Sun Life Mid Cap Fund  |"]
["Birla Sun Life Pure Value Fund  |"]
["BNP Paribas Midcap Fund  |"]
["DSP BlackRock Small and Mid Cap Fund - Regular Plan  |"]
["Edelweiss Emerging Leaders Fund  |"]
["Escorts Growth Fund  |"]
["Escorts Leading Sectors Fund"]
["Franklin India Prima Fund  |"]
["Goldman Sachs India Equity Fund"]
["HDFC Mid-Cap Opportunities Fund  |"]
["ICICI Prudential Midcap Fund - Regular Plan  |"]
["IDFC Premier Equity Fund - Regular Plan  |"]
["IDFC Sterling Equity Fund - Regular Plan  |"]
["JP Morgan India Mid and Small Cap Fund  |"]
["Kotak Mid-Cap Regular Plan  |"]
["L&T India Value Fund  |"]
["Mirae Asset Emerging Bluechip Fund - Regular Plan  |"]
["Motilal Oswal MOSt Shares M100 ETF Fund  |"]
["Principal Emerging Bluechip Fund  |"]
["Reliance Equity Opportunities Fund  |"]
["Reliance Growth Fund  |"]
["Reliance Regular Savings Fund - Equity Option  |"]
["Religare Invesco Mid Cap Fund  |"]
["Religare Invesco Mid N Small Cap Fund  |"]
["SBI Emerging Businesses Fund  |"]
["SBI Magnum Global Fund  |"]
["Sundaram Select Midcap Fund - Regular Plan  |"]
["Tata Equity PE Fund - Regular Plan  |"]
["Taurus Discovery Fund - Regular Plan  |"]
["UTI Mid Cap Fund  |"]
["Fund  |  Rating"]
["Birla Sun Life Advantage Fund  |"]
["Birla Sun Life Mid Cap Fund  |"]
["Birla Sun Life Pure Value Fund  |"]
["BNP Paribas Midcap Fund  |"]
["DSP BlackRock Small and Mid Cap Fund - Regular Plan  |"]
["Edelweiss Emerging Leaders Fund  |"]
["Escorts Growth Fund  |"]
["Escorts Leading Sectors Fund"]
["Franklin India Prima Fund  |"]
["Goldman Sachs India Equity Fund"]
["HDFC Mid-Cap Opportunities Fund  |"]
["ICICI Prudential Midcap Fund - Regular Plan  |"]
["IDFC Premier Equity Fund - Regular Plan  |"]
["IDFC Sterling Equity Fund - Regular Plan  |"]
["JP Morgan India Mid and Small Cap Fund  |"]
["Kotak Mid-Cap Regular Plan  |"]
["L&T India Value Fund  |"]
["Mirae Asset Emerging Bluechip Fund - Regular Plan  |"]
["Motilal Oswal MOSt Shares M100 ETF Fund  |"]
["Principal Emerging Bluechip Fund  |"]
["Reliance Equity Opportunities Fund  |"]
["Reliance Growth Fund  |"]
["Reliance Regular Savings Fund - Equity Option  |"]
["Religare Invesco Mid Cap Fund  |"]
["Religare Invesco Mid N Small Cap Fund  |"]
["SBI Emerging Businesses Fund  |"]
["SBI Magnum Global Fund  |"]
["Sundaram Select Midcap Fund - Regular Plan  |"]
["Tata Equity PE Fund - Regular Plan  |"]
["Taurus Discovery Fund - Regular Plan  |"]
["UTI Mid Cap Fund  |"]
["Fund  |  Rating"]
["Birla Sun Life Advantage Fund  |"]
["Birla Sun Life Mid Cap Fund  |"]
["Birla Sun Life Pure Value Fund  |"]
["BNP Paribas Midcap Fund  |"]
["DSP BlackRock Small and Mid Cap Fund - Regular Plan  |"]
["Edelweiss Emerging Leaders Fund  |"]
["Escorts Growth Fund  |"]
["Escorts Leading Sectors Fund"]
["Franklin India Prima Fund  |"]
["Goldman Sachs India Equity Fund"]
["HDFC Mid-Cap Opportunities Fund  |"]
["ICICI Prudential Midcap Fund - Regular Plan  |"]
["IDFC Premier Equity Fund - Regular Plan  |"]
["IDFC Sterling Equity Fund - Regular Plan  |"]
["JP Morgan India Mid and Small Cap Fund  |"]
["Kotak Mid-Cap Regular Plan  |"]
["L&T India Value Fund  |"]
["Mirae Asset Emerging Bluechip Fund - Regular Plan  |"]
["Motilal Oswal MOSt Shares M100 ETF Fund  |"]
["Principal Emerging Bluechip Fund  |"]
["Reliance Equity Opportunities Fund  |"]
["Reliance Growth Fund  |"]
["Reliance Regular Savings Fund - Equity Option  |"]
["Religare Invesco Mid Cap Fund  |"]
["Religare Invesco Mid N Small Cap Fund  |"]
["SBI Emerging Businesses Fund  |"]
["SBI Magnum Global Fund  |"]
["Sundaram Select Midcap Fund - Regular Plan  |"]
["Tata Equity PE Fund - Regular Plan  |"]
["Taurus Discovery Fund - Regular Plan  |"]
["UTI Mid Cap Fund  |"]
["Fund  |  Rating"]
["Birla Sun Life Advantage Fund  |"]
["Birla Sun Life Mid Cap Fund  |"]
["Birla Sun Life Pure Value Fund  |"]
["BNP Paribas Midcap Fund  |"]
["DSP BlackRock Small and Mid Cap Fund - Regular Plan  |"]
["Edelweiss Emerging Leaders Fund  |"]
["Escorts Growth Fund  |"]
["Escorts Leading Sectors Fund"]
["Franklin India Prima Fund  |"]
["Goldman Sachs India Equity Fund"]
["HDFC Mid-Cap Opportunities Fund  |"]
["ICICI Prudential Midcap Fund - Regular Plan  |"]
["IDFC Premier Equity Fund - Regular Plan  |"]
["IDFC Sterling Equity Fund - Regular Plan  |"]
["JP Morgan India Mid and Small Cap Fund  |"]
["Kotak Mid-Cap Regular Plan  |"]
["L&T India Value Fund  |"]
["Mirae Asset Emerging Bluechip Fund - Regular Plan  |"]
["Motilal Oswal MOSt Shares M100 ETF Fund  |"]
["Principal Emerging Bluechip Fund  |"]
["Reliance Equity Opportunities Fund  |"]
["Reliance Growth Fund  |"]
["Reliance Regular Savings Fund - Equity Option  |"]
["Religare Invesco Mid Cap Fund  |"]
["Religare Invesco Mid N Small Cap Fund  |"]
["SBI Emerging Businesses Fund  |"]
["SBI Magnum Global Fund  |"]
["Sundaram Select Midcap Fund - Regular Plan  |"]
["Tata Equity PE Fund - Regular Plan  |"]
["Taurus Discovery Fund - Regular Plan  |"]
["UTI Mid Cap Fund  |"]
["Fund  |  Rating"]
["Birla Sun Life Advantage Fund  |"]
["Birla Sun Life Mid Cap Fund  |"]
["Birla Sun Life Pure Value Fund  |"]
["BNP Paribas Midcap Fund  |"]
["DSP BlackRock Small and Mid Cap Fund - Regular Plan  |"]
["Edelweiss Emerging Leaders Fund  |"]
["Escorts Growth Fund  |"]
["Escorts Leading Sectors Fund"]
["Franklin India Prima Fund  |"]
["Goldman Sachs India Equity Fund"]
["HDFC Mid-Cap Opportunities Fund  |"]
["ICICI Prudential Midcap Fund - Regular Plan  |"]
["IDFC Premier Equity Fund - Regular Plan  |"]
["IDFC Sterling Equity Fund - Regular Plan  |"]
["JP Morgan India Mid and Small Cap Fund  |"]
["Kotak Mid-Cap Regular Plan  |"]
["L&T India Value Fund  |"]
["Mirae Asset Emerging Bluechip Fund - Regular Plan  |"]
["Motilal Oswal MOSt Shares M100 ETF Fund  |"]
["Principal Emerging Bluechip Fund  |"]
["Reliance Equity Opportunities Fund  |"]
["Reliance Growth Fund  |"]
["Reliance Regular Savings Fund - Equity Option  |"]
["Religare Invesco Mid Cap Fund  |"]
["Religare Invesco Mid N Small Cap Fund  |"]
["SBI Emerging Businesses Fund  |"]
["SBI Magnum Global Fund  |"]
["Sundaram Select Midcap Fund - Regular Plan  |"]
["Tata Equity PE Fund - Regular Plan  |"]
["Taurus Discovery Fund - Regular Plan  |"]
["UTI Mid Cap Fund  |"]
["Fund  |  Rating"]
["Birla Sun Life Advantage Fund  |"]
["Birla Sun Life Mid Cap Fund  |"]
["Birla Sun Life Pure Value Fund  |"]
["BNP Paribas Midcap Fund  |"]
["DSP BlackRock Small and Mid Cap Fund - Regular Plan  |"]
["Edelweiss Emerging Leaders Fund  |"]
["Escorts Growth Fund  |"]
["Escorts Leading Sectors Fund"]
["Franklin India Prima Fund  |"]
["Goldman Sachs India Equity Fund"]
["HDFC Mid-Cap Opportunities Fund  |"]
["ICICI Prudential Midcap Fund - Regular Plan  |"]
["IDFC Premier Equity Fund - Regular Plan  |"]
["IDFC Sterling Equity Fund - Regular Plan  |"]
["JP Morgan India Mid and Small Cap Fund  |"]
["Kotak Mid-Cap Regular Plan  |"]
["L&T India Value Fund  |"]
["Mirae Asset Emerging Bluechip Fund - Regular Plan  |"]
["Motilal Oswal MOSt Shares M100 ETF Fund  |"]
["Principal Emerging Bluechip Fund  |"]
["Reliance Equity Opportunities Fund  |"]
["Reliance Growth Fund  |"]
["Reliance Regular Savings Fund - Equity Option  |"]
["Religare Invesco Mid Cap Fund  |"]
["Religare Invesco Mid N Small Cap Fund  |"]
["SBI Emerging Businesses Fund  |"]
["SBI Magnum Global Fund  |"]
["Sundaram Select Midcap Fund - Regular Plan  |"]
["Tata Equity PE Fund - Regular Plan  |"]
["Taurus Discovery Fund - Regular Plan  |"]
["UTI Mid Cap Fund  |"]
["Fund  |  Rating"]
["Birla Sun Life Advantage Fund  |"]
["Birla Sun Life Mid Cap Fund  |"]
["Birla Sun Life Pure Value Fund  |"]
["BNP Paribas Midcap Fund  |"]
["DSP BlackRock Small and Mid Cap Fund - Regular Plan  |"]
["Edelweiss Emerging Leaders Fund  |"]
["Escorts Growth Fund  |"]
["Escorts Leading Sectors Fund"]
["Franklin India Prima Fund  |"]
["Goldman Sachs India Equity Fund"]
["HDFC Mid-Cap Opportunities Fund  |"]
["ICICI Prudential Midcap Fund - Regular Plan  |"]
["IDFC Premier Equity Fund - Regular Plan  |"]
["IDFC Sterling Equity Fund - Regular Plan  |"]
["JP Morgan India Mid and Small Cap Fund  |"]
["Kotak Mid-Cap Regular Plan  |"]
["L&T India Value Fund  |"]
["Mirae Asset Emerging Bluechip Fund - Regular Plan  |"]
["Motilal Oswal MOSt Shares M100 ETF Fund  |"]
["Principal Emerging Bluechip Fund  |"]
["Reliance Equity Opportunities Fund  |"]
["Reliance Growth Fund  |"]
["Reliance Regular Savings Fund - Equity Option  |"]
["Religare Invesco Mid Cap Fund  |"]
["Religare Invesco Mid N Small Cap Fund  |"]
["SBI Emerging Businesses Fund  |"]
["SBI Magnum Global Fund  |"]
["Sundaram Select Midcap Fund - Regular Plan  |"]
["Tata Equity PE Fund - Regular Plan  |"]
["Taurus Discovery Fund - Regular Plan  |"]
["UTI Mid Cap Fund  |"]
["Fund  |  Rating"]
["Birla Sun Life Advantage Fund  |"]
["Birla Sun Life Mid Cap Fund  |"]
["Birla Sun Life Pure Value Fund  |"]
["BNP Paribas Midcap Fund  |"]
["DSP BlackRock Small and Mid Cap Fund - Regular Plan  |"]
["Edelweiss Emerging Leaders Fund  |"]
["Escorts Growth Fund  |"]
["Escorts Leading Sectors Fund"]
["Franklin India Prima Fund  |"]
["Goldman Sachs India Equity Fund"]
["HDFC Mid-Cap Opportunities Fund  |"]
["ICICI Prudential Midcap Fund - Regular Plan  |"]
["IDFC Premier Equity Fund - Regular Plan  |"]
["IDFC Sterling Equity Fund - Regular Plan  |"]
["JP Morgan India Mid and Small Cap Fund  |"]
["Kotak Mid-Cap Regular Plan  |"]
["L&T India Value Fund  |"]
["Mirae Asset Emerging Bluechip Fund - Regular Plan  |"]
["Motilal Oswal MOSt Shares M100 ETF Fund  |"]
["Principal Emerging Bluechip Fund  |"]
["Reliance Equity Opportunities Fund  |"]
["Reliance Growth Fund  |"]
["Reliance Regular Savings Fund - Equity Option  |"]
["Religare Invesco Mid Cap Fund  |"]
["Religare Invesco Mid N Small Cap Fund  |"]
["SBI Emerging Businesses Fund  |"]
["SBI Magnum Global Fund  |"]
["Sundaram Select Midcap Fund - Regular Plan  |"]
["Tata Equity PE Fund - Regular Plan  |"]
["Taurus Discovery Fund - Regular Plan  |"]
["UTI Mid Cap Fund  |"]
["Fund  |  Rating"]
["Birla Sun Life Advantage Fund  |"]
["Birla Sun Life Mid Cap Fund  |"]
["Birla Sun Life Pure Value Fund  |"]
["BNP Paribas Midcap Fund  |"]
["DSP BlackRock Small and Mid Cap Fund - Regular Plan  |"]
["Edelweiss Emerging Leaders Fund  |"]
["Escorts Growth Fund  |"]
["Escorts Leading Sectors Fund"]
["Franklin India Prima Fund  |"]
["Goldman Sachs India Equity Fund"]
["HDFC Mid-Cap Opportunities Fund  |"]
["ICICI Prudential Midcap Fund - Regular Plan  |"]
["IDFC Premier Equity Fund - Regular Plan  |"]
["IDFC Sterling Equity Fund - Regular Plan  |"]
["JP Morgan India Mid and Small Cap Fund  |"]
["Kotak Mid-Cap Regular Plan  |"]
["L&T India Value Fund  |"]
["Mirae Asset Emerging Bluechip Fund - Regular Plan  |"]
["Motilal Oswal MOSt Shares M100 ETF Fund  |"]
["Principal Emerging Bluechip Fund  |"]
["Reliance Equity Opportunities Fund  |"]
["Reliance Growth Fund  |"]
["Reliance Regular Savings Fund - Equity Option  |"]
["Religare Invesco Mid Cap Fund  |"]
["Religare Invesco Mid N Small Cap Fund  |"]
["SBI Emerging Businesses Fund  |"]
["SBI Magnum Global Fund  |"]
["Sundaram Select Midcap Fund - Regular Plan  |"]
["Tata Equity PE Fund - Regular Plan  |"]
["Taurus Discovery Fund - Regular Plan  |"]
["UTI Mid Cap Fund  |"]
["Fund  |  Rating"]
["Birla Sun Life Advantage Fund  |"]
["Birla Sun Life Mid Cap Fund  |"]
["Birla Sun Life Pure Value Fund  |"]
["BNP Paribas Midcap Fund  |"]
["DSP BlackRock Small and Mid Cap Fund - Regular Plan  |"]
["Edelweiss Emerging Leaders Fund  |"]
["Escorts Growth Fund  |"]
["Escorts Leading Sectors Fund"]
["Franklin India Prima Fund  |"]
["Goldman Sachs India Equity Fund"]
["HDFC Mid-Cap Opportunities Fund  |"]
["ICICI Prudential Midcap Fund - Regular Plan  |"]
["IDFC Premier Equity Fund - Regular Plan  |"]
["IDFC Sterling Equity Fund - Regular Plan  |"]
["JP Morgan India Mid and Small Cap Fund  |"]
["Kotak Mid-Cap Regular Plan  |"]
["L&T India Value Fund  |"]
["Mirae Asset Emerging Bluechip Fund - Regular Plan  |"]
["Motilal Oswal MOSt Shares M100 ETF Fund  |"]
["Principal Emerging Bluechip Fund  |"]
["Reliance Equity Opportunities Fund  |"]
["Reliance Growth Fund  |"]
["Reliance Regular Savings Fund - Equity Option  |"]
["Religare Invesco Mid Cap Fund  |"]
["Religare Invesco Mid N Small Cap Fund  |"]
["SBI Emerging Businesses Fund  |"]
["SBI Magnum Global Fund  |"]
["Sundaram Select Midcap Fund - Regular Plan  |"]
["Tata Equity PE Fund - Regular Plan  |"]
["Taurus Discovery Fund - Regular Plan  |"]
["UTI Mid Cap Fund  |"]
["Fund  |  Rating"]
["Birla Sun Life Advantage Fund  |"]
["Birla Sun Life Mid Cap Fund  |"]
["Birla Sun Life Pure Value Fund  |"]
["BNP Paribas Midcap Fund  |"]
["DSP BlackRock Small and Mid Cap Fund - Regular Plan  |"]
["Edelweiss Emerging Leaders Fund  |"]
["Escorts Growth Fund  |"]
["Escorts Leading Sectors Fund"]
["Franklin India Prima Fund  |"]
["Goldman Sachs India Equity Fund"]
["HDFC Mid-Cap Opportunities Fund  |"]
["ICICI Prudential Midcap Fund - Regular Plan  |"]
["IDFC Premier Equity Fund - Regular Plan  |"]
["IDFC Sterling Equity Fund - Regular Plan  |"]
["JP Morgan India Mid and Small Cap Fund  |"]
["Kotak Mid-Cap Regular Plan  |"]
["L&T India Value Fund  |"]
["Mirae Asset Emerging Bluechip Fund - Regular Plan  |"]
["Motilal Oswal MOSt Shares M100 ETF Fund  |"]
["Principal Emerging Bluechip Fund  |"]
["Reliance Equity Opportunities Fund  |"]
["Reliance Growth Fund  |"]
["Reliance Regular Savings Fund - Equity Option  |"]
["Religare Invesco Mid Cap Fund  |"]
["Religare Invesco Mid N Small Cap Fund  |"]
["SBI Emerging Businesses Fund  |"]
["SBI Magnum Global Fund  |"]
["Sundaram Select Midcap Fund - Regular Plan  |"]
["Tata Equity PE Fund - Regular Plan  |"]
["Taurus Discovery Fund - Regular Plan  |"]
["UTI Mid Cap Fund  |"]
["Fund  |  Rating"]
["Birla Sun Life Advantage Fund  |"]
["Birla Sun Life Mid Cap Fund  |"]
["Birla Sun Life Pure Value Fund  |"]
["BNP Paribas Midcap Fund  |"]
["DSP BlackRock Small and Mid Cap Fund - Regular Plan  |"]
["Edelweiss Emerging Leaders Fund  |"]
["Escorts Growth Fund  |"]
["Escorts Leading Sectors Fund"]
["Franklin India Prima Fund  |"]
["Goldman Sachs India Equity Fund"]
["HDFC Mid-Cap Opportunities Fund  |"]
["ICICI Prudential Midcap Fund - Regular Plan  |"]
["IDFC Premier Equity Fund - Regular Plan  |"]
["IDFC Sterling Equity Fund - Regular Plan  |"]
["JP Morgan India Mid and Small Cap Fund  |"]
["Kotak Mid-Cap Regular Plan  |"]
["L&T India Value Fund  |"]
["Mirae Asset Emerging Bluechip Fund - Regular Plan  |"]
["Motilal Oswal MOSt Shares M100 ETF Fund  |"]
["Principal Emerging Bluechip Fund  |"]
["Reliance Equity Opportunities Fund  |"]
["Reliance Growth Fund  |"]
["Reliance Regular Savings Fund - Equity Option  |"]
["Religare Invesco Mid Cap Fund  |"]
["Religare Invesco Mid N Small Cap Fund  |"]
["SBI Emerging Businesses Fund  |"]
["SBI Magnum Global Fund  |"]
["Sundaram Select Midcap Fund - Regular Plan  |"]
["Tata Equity PE Fund - Regular Plan  |"]
["Taurus Discovery Fund - Regular Plan  |"]
["UTI Mid Cap Fund  |"]
["Fund  |  Rating"]
["Birla Sun Life Advantage Fund  |"]
["Birla Sun Life Mid Cap Fund  |"]
["Birla Sun Life Pure Value Fund  |"]
["BNP Paribas Midcap Fund  |"]
["DSP BlackRock Small and Mid Cap Fund - Regular Plan  |"]
["Edelweiss Emerging Leaders Fund  |"]
["Escorts Growth Fund  |"]
["Escorts Leading Sectors Fund"]
["Franklin India Prima Fund  |"]
["Goldman Sachs India Equity Fund"]
["HDFC Mid-Cap Opportunities Fund  |"]
["ICICI Prudential Midcap Fund - Regular Plan  |"]
["IDFC Premier Equity Fund - Regular Plan  |"]
["IDFC Sterling Equity Fund - Regular Plan  |"]
["JP Morgan India Mid and Small Cap Fund  |"]
["ICICI Prudential Midcap Fund - Regular Plan  |"]
["JP Morgan India Mid and Small Cap Fund  |"]
["ICICI Prudential Midcap Fund - Regular Plan  |"]
["SBI Emerging Businesses Fund  |"]
["Reliance Regular Savings Fund - Equity Option  |"]
["UTI Mid Cap Fund  |"]
["Birla Sun Life Mid Cap Fund  |"]
["UTI Mid Cap Fund  |"]
["Birla Sun Life Mid Cap Fund  |"]
["Goldman Sachs India Equity Fund"]
["Escorts Growth Fund  |"]
["Goldman Sachs India Equity Fund"]
["Mirae Asset Emerging Bluechip Fund - Regular Plan  |"]
["SBI Emerging Businesses Fund  |"]
["Tata Equity PE Fund - Regular Plan  |"]
["SBI Emerging Businesses Fund  |"]
["Tata Equity PE Fund - Regular Plan  |"]
["DSP BlackRock Small and Mid Cap Fund - Regular Plan  |"]
["Birla Sun Life Mid Cap Fund  |"]
["DSP BlackRock Small and Mid Cap Fund - Regular Plan  |"]
["IDFC Premier Equity Fund - Regular Plan  |"]
["Kotak Mid-Cap Regular Plan  |"]
["Religare Invesco Mid Cap Fund  |"]
["Reliance Equity Opportunities Fund  |"]
["Religare Invesco Mid Cap Fund  |"]
["Fund  |  Rating"]
["L&T India Value Fund  |"]
["Birla Sun Life Advantage Fund  |"]
["Franklin India Prima Fund  |"]
["ICICI Prudential Midcap Fund - Regular Plan  |"]
["Franklin India Prima Fund  |"]
["L&T India Value Fund  |"]
["Principal Emerging Bluechip Fund  |"]
["Sundaram Select Midcap Fund - Regular Plan  |"]
["Religare Invesco Mid N Small Cap Fund  |"]
["Sundaram Select Midcap Fund - Regular Plan  |"]
["BNP Paribas Midcap Fund  |"]
["Escorts Growth Fund  |"]
["BNP Paribas Midcap Fund  |"]
["ICICI Prudential Midcap Fund - Regular Plan  |"]
["JP Morgan India Mid and Small Cap Fund  |"]
["Reliance Regular Savings Fund - Equity Option  |"]
["SBI Emerging Businesses Fund  |"]
["Reliance Regular Savings Fund - Equity Option  |"]
["UTI Mid Cap Fund  |"]
["Birla Sun Life Mid Cap Fund  |"]
["UTI Mid Cap Fund  |"]
["Escorts Growth Fund  |"]
["Goldman Sachs India Equity Fund"]
["Mirae Asset Emerging Bluechip Fund - Regular Plan  |"]
["Reliance Equity Opportunities Fund  |"]
["Mirae Asset Emerging Bluechip Fund - Regular Plan  |"]
["IDFC Sterling Equity Fund - Regular Plan  |"]
["Taurus Discovery Fund - Regular Plan  |"]
["SBI Magnum Global Fund  |"]
["Taurus Discovery Fund - Regular Plan  |"]
["Edelweiss Emerging Leaders Fund  |"]
["Birla Sun Life Pure Value Fund  |"]
["Edelweiss Emerging Leaders Fund  |"]
["IDFC Sterling Equity Fund - Regular Plan  |"]
["Reliance Growth Fund  |"]
["Religare Invesco Mid N Small Cap Fund  |"]
["Reliance Growth Fund  |"]
["Religare Invesco Mid N Small Cap Fund  |"]
["Birla Sun Life Advantage Fund  |"]
["Taurus Discovery Fund - Regular Plan  |"]
["Birla Sun Life Advantage Fund  |"]
["Franklin India Prima Fund  |"]
["L&T India Value Fund  |"]
["Principal Emerging Bluechip Fund  |"]
["L&T India Value Fund  |"]
["Principal Emerging Bluechip Fund  |"]
["Sundaram Select Midcap Fund - Regular Plan  |"]
["Religare Invesco Mid N Small Cap Fund  |"]
["Sundaram Select Midcap Fund - Regular Plan  |"]
["BNP Paribas Midcap Fund  |"]
["Escorts Growth Fund  |"]
["BNP Paribas Midcap Fund  |"]
["HDFC Mid-Cap Opportunities Fund  |"]
["Kotak Mid-Cap Regular Plan  |"]
["Religare Invesco Mid Cap Fund  |"]
["Reliance Equity Opportunities Fund  |"]
["Religare Invesco Mid Cap Fund  |"]
["Fund  |  Rating"]
["Birla Sun Life Pure Value Fund  |"]
["Fund  |  Rating"]
["Escorts Leading Sectors Fund"]
["HDFC Mid-Cap Opportunities Fund  |"]
["Motilal Oswal MOSt Shares M100 ETF Fund  |"]
["Kotak Mid-Cap Regular Plan  |"]
["Motilal Oswal MOSt Shares M100 ETF Fund  |"]
["SBI Magnum Global Fund  |"]
["Taurus Discovery Fund - Regular Plan  |"]
["SBI Magnum Global Fund  |"]
["Birla Sun Life Pure Value Fund  |"]
["Edelweiss Emerging Leaders Fund  |"]
["IDFC Sterling Equity Fund - Regular Plan  |"]
["L&T India Value Fund  |"]
["IDFC Sterling Equity Fund - Regular Plan  |"]
["Reliance Growth Fund  |"]
["Religare Invesco Mid N Small Cap Fund  |"]
["Reliance Growth Fund  |"]
["Taurus Discovery Fund - Regular Plan  |"]
["Birla Sun Life Advantage Fund  |"]
["Taurus Discovery Fund - Regular Plan  |"]
["Escorts Leading Sectors Fund"]
["Goldman Sachs India Equity Fund"]
["Mirae Asset Emerging Bluechip Fund - Regular Plan  |"]
["Reliance Equity Opportunities Fund  |"]
["Mirae Asset Emerging Bluechip Fund - Regular Plan  |"]
["Reliance Equity Opportunities Fund  |"]
["Tata Equity PE Fund - Regular Plan  |"]
["SBI Emerging Businesses Fund  |"]
["Tata Equity PE Fund - Regular Plan  |"]
["DSP BlackRock Small and Mid Cap Fund - Regular Plan  |"]
["IDFC Premier Equity Fund - Regular Plan  |"]
["Kotak Mid-Cap Regular Plan  |"]
["IDFC Premier Equity Fund - Regular Plan  |"]
["Kotak Mid-Cap Regular Plan  |"]
["Religare Invesco Mid Cap Fund  |"]
["Reliance Equity Opportunities Fund  |"]
["Religare Invesco Mid Cap Fund  |"]
["Fund  |  Rating"]
["Tata Equity PE Fund - Regular Plan  |"]
["HDFC Mid-Cap Opportunities Fund  |"]
["Escorts Leading Sectors Fund"]
["HDFC Mid-Cap Opportunities Fund  |"]
["Motilal Oswal MOSt Shares M100 ETF Fund  |"]
["Kotak Mid-Cap Regular Plan  |"]
["Motilal Oswal MOSt Shares M100 ETF Fund  |"]
["SBI Magnum Global Fund  |"]
["DSP BlackRock Small and Mid Cap Fund - Regular Plan  |"]
["Sundaram Select Midcap Fund - Regular Plan  |"]
["BNP Paribas Midcap Fund  |"]
["Escorts Growth Fund  |"]
["JP Morgan India Mid and Small Cap Fund  |"]
["ICICI Prudential Midcap Fund - Regular Plan  |"]
["JP Morgan India Mid and Small Cap Fund  |"]
["Reliance Regular Savings Fund - Equity Option  |"]
["SBI Emerging Businesses Fund  |"]
["Reliance Regular Savings Fund - Equity Option  |"]
["UTI Mid Cap Fund  |"]
["Birla Sun Life Mid Cap Fund  |"]
["Goldman Sachs India Equity Fund"]
["IDFC Premier Equity Fund - Regular Plan  |"]
["Goldman Sachs India Equity Fund"]
["Mirae Asset Emerging Bluechip Fund - Regular Plan  |"]
["Reliance Equity Opportunities Fund  |"]
["Mirae Asset Emerging Bluechip Fund - Regular Plan  |"]
["SBI Emerging Businesses Fund  |"]
["Tata Equity PE Fund - Regular Plan  |"]
["SBI Emerging Businesses Fund  |"]
["Tata Equity PE Fund - Regular Plan  |"]
["DSP BlackRock Small and Mid Cap Fund - Regular Plan  |"]
["IDFC Premier Equity Fund - Regular Plan  |"]
["Kotak Mid-Cap Regular Plan  |"]
["IDFC Premier Equity Fund - Regular Plan  |"]
["Goldman Sachs India Equity Fund"]
["Religare Invesco Mid N Small Cap Fund  |"]
["Reliance Growth Fund  |"]
["Religare Invesco Mid N Small Cap Fund  |"]
["Birla Sun Life Advantage Fund  |"]
["Franklin India Prima Fund  |"]
["ICICI Prudential Midcap Fund - Regular Plan  |"]
["Franklin India Prima Fund  |"]
["ICICI Prudential Midcap Fund - Regular Plan  |"]
["Principal Emerging Bluechip Fund  |"]
["L&T India Value Fund  |"]
["Principal Emerging Bluechip Fund  |"]
["Sundaram Select Midcap Fund - Regular Plan  |"]
["BNP Paribas Midcap Fund  |"]
["Escorts Growth Fund  |"]
["BNP Paribas Midcap Fund  |"]
["Escorts Growth Fund  |"]
["JP Morgan India Mid and Small Cap Fund  |"]
["ICICI Prudential Midcap Fund - Regular Plan  |"]
["JP Morgan India Mid and Small Cap Fund  |"]
["Reliance Regular Savings Fund - Equity Option  |"]
["Principal Emerging Bluechip Fund  |"]
["Reliance Regular Savings Fund - Equity Option  |"]
["UTI Mid Cap Fund  |"]
["Birla Sun Life Mid Cap Fund  |"]
["Goldman Sachs India Equity Fund"]
["Escorts Growth Fund  |"]
["Escorts Growth Fund  |"]
["Motilal Oswal MOSt Shares M100 ETF Fund  |"]
["Reliance Growth Fund  |"]
["Motilal Oswal MOSt Shares M100 ETF Fund  |"]
["SBI Magnum Global Fund  |"]
["Taurus Discovery Fund - Regular Plan  |"]
["Edelweiss Emerging Leaders Fund  |"]
["Birla Sun Life Pure Value Fund  |"]
["Edelweiss Emerging Leaders Fund  |"]
["IDFC Sterling Equity Fund - Regular Plan  |"]
["L&T India Value Fund  |"]
["IDFC Sterling Equity Fund - Regular Plan  |"]
["Reliance Growth Fund  |"]
["Religare Invesco Mid N Small Cap Fund  |"]
["Birla Sun Life Advantage Fund  |"]
["BNP Paribas Midcap Fund  |"]
["Birla Sun Life Advantage Fund  |"]
["Franklin India Prima Fund  |"]
["ICICI Prudential Midcap Fund - Regular Plan  |"]
["Franklin India Prima Fund  |"]
["L&T India Value Fund  |"]
["Principal Emerging Bluechip Fund  |"]
["L&T India Value Fund  |"]
["Principal Emerging Bluechip Fund  |"]
["Sundaram Select Midcap Fund - Regular Plan  |"]
["BNP Paribas Midcap Fund  |"]
["BNP Paribas Midcap Fund  |"]
["DSP BlackRock Small and Mid Cap Fund - Regular Plan  |"]
["IDFC Premier Equity Fund - Regular Plan  |"]
["Kotak Mid-Cap Regular Plan  |"]
["IDFC Premier Equity Fund - Regular Plan  |"]
["Kotak Mid-Cap Regular Plan  |"]
["Religare Invesco Mid Cap Fund  |"]
["Fund  |  Rating"]
["Birla Sun Life Pure Value Fund  |"]
["Fund  |  Rating"]
["Birla Sun Life Pure Value Fund  |"]
["HDFC Mid-Cap Opportunities Fund  |"]
["Escorts Leading Sectors Fund"]
["HDFC Mid-Cap Opportunities Fund  |"]
["Motilal Oswal MOSt Shares M100 ETF Fund  |"]
["Kotak Mid-Cap Regular Plan  |"]
["Motilal Oswal MOSt Shares M100 ETF Fund  |"]
["SBI Magnum Global Fund  |"]
["Taurus Discovery Fund - Regular Plan  |"]
["Edelweiss Emerging Leaders Fund  |"]
["Birla Sun Life Pure Value Fund  |"]
["Edelweiss Emerging Leaders Fund  |"]
["IDFC Sterling Equity Fund - Regular Plan  |"]
["HDFC Mid-Cap Opportunities Fund  |"]
["IDFC Sterling Equity Fund - Regular Plan  |"]
["Reliance Growth Fund  |"]
["Birla Sun Life Advantage Fund  |"]
["Birla Sun Life Mid Cap Fund  |"]
["UTI Mid Cap Fund  |"]
["Birla Sun Life Mid Cap Fund  |"]
["Goldman Sachs India Equity Fund"]
["IDFC Premier Equity Fund - Regular Plan  |"]
["Goldman Sachs India Equity Fund"]
["Mirae Asset Emerging Bluechip Fund - Regular Plan  |"]
["Reliance Equity Opportunities Fund  |"]
["Tata Equity PE Fund - Regular Plan  |"]
["SBI Emerging Businesses Fund  |"]
["Tata Equity PE Fund - Regular Plan  |"]
["DSP BlackRock Small and Mid Cap Fund - Regular Plan  |"]
["Escorts Leading Sectors Fund"]
["DSP BlackRock Small and Mid Cap Fund - Regular Plan  |"]
["IDFC Premier Equity Fund - Regular Plan  |"]
["Kotak Mid-Cap Regular Plan  |"]
["IDFC Premier Equity Fund - Regular Plan  |"]
["Kotak Mid-Cap Regular Plan  |"]
["Religare Invesco Mid Cap Fund  |"]
["Fund  |  Rating"]
["Birla Sun Life Pure Value Fund  |"]
["Fund  |  Rating"]
["Escorts Leading Sectors Fund"]
["HDFC Mid-Cap Opportunities Fund  |"]
["Escorts Leading Sectors Fund"]
["HDFC Mid-Cap Opportunities Fund  |"]
["Edelweiss Emerging Leaders Fund  |"]
["Sundaram Select Midcap Fund - Regular Plan  |"]
["UTI Mid Cap Fund  |"]
["Sundaram Select Midcap Fund - Regular Plan  |"]
["BNP Paribas Midcap Fund  |"]
["Escorts Growth Fund  |"]
["BNP Paribas Midcap Fund  |"]
["Escorts Growth Fund  |"]
["JP Morgan India Mid and Small Cap Fund  |"]
["ICICI Prudential Midcap Fund - Regular Plan  |"]
["SBI Emerging Businesses Fund  |"]
["Reliance Regular Savings Fund - Equity Option  |"]
["SBI Emerging Businesses Fund  |"]
["Birla Sun Life Mid Cap Fund  |"]
["UTI Mid Cap Fund  |"]
["Birla Sun Life Mid Cap Fund  |"]
["Goldman Sachs India Equity Fund"]
["Escorts Growth Fund  |"]
["Goldman Sachs India Equity Fund"]
["Mirae Asset Emerging Bluechip Fund - Regular Plan  |"]
["Reliance Equity Opportunities Fund  |"]
["Tata Equity PE Fund - Regular Plan  |"]
["SBI Emerging Businesses Fund  |"]
["Tata Equity PE Fund - Regular Plan  |"]
["DSP BlackRock Small and Mid Cap Fund - Regular Plan  |"]
["Escorts Leading Sectors Fund"]
["Birla Sun Life Pure Value Fund  |"]
["IDFC Sterling Equity Fund - Regular Plan  |"]
["L&T India Value Fund  |"]
["Religare Invesco Mid N Small Cap Fund  |"]
["Reliance Growth Fund  |"]
["Religare Invesco Mid N Small Cap Fund  |"]
["Birla Sun Life Advantage Fund  |"]
["BNP Paribas Midcap Fund  |"]
["Birla Sun Life Advantage Fund  |"]
["Franklin India Prima Fund  |"]
["ICICI Prudential Midcap Fund - Regular Plan  |"]
["Franklin India Prima Fund  |"]
["L&T India Value Fund  |"]
["Principal Emerging Bluechip Fund  |"]
["Sundaram Select Midcap Fund - Regular Plan  |"]
["UTI Mid Cap Fund  |"]
["Sundaram Select Midcap Fund - Regular Plan  |"]
["BNP Paribas Midcap Fund  |"]
["Escorts Growth Fund  |"]
["BNP Paribas Midcap Fund  |"]
["Escorts Growth Fund  |"]
["JP Morgan India Mid and Small Cap Fund  |"]
["Reliance Regular Savings Fund - Equity Option  |"]
["SBI Emerging Businesses Fund  |"]
["Reliance Regular Savings Fund - Equity Option  |"]
["UTI Mid Cap Fund  |"]
["Fund  |  Rating"]
["Fund  |  Rating"]
["Birla Sun Life Pure Value Fund  |"]
["HDFC Mid-Cap Opportunities Fund  |"]
["Motilal Oswal MOSt Shares M100 ETF Fund  |"]
["Reliance Growth Fund  |"]
["Motilal Oswal MOSt Shares M100 ETF Fund  |"]
["SBI Magnum Global Fund  |"]
["Taurus Discovery Fund - Regular Plan  |"]
["SBI Magnum Global Fund  |"]
["Taurus Discovery Fund - Regular Plan  |"]
["Edelweiss Emerging Leaders Fund  |"]
["Birla Sun Life Pure Value Fund  |"]
["Edelweiss Emerging Leaders Fund  |"]
["IDFC Sterling Equity Fund - Regular Plan  |"]
["L&T India Value Fund  |"]
["Religare Invesco Mid N Small Cap Fund  |"]
["Reliance Growth Fund  |"]
["Religare Invesco Mid N Small Cap Fund  |"]
["Birla Sun Life Advantage Fund  |"]
["Taurus Discovery Fund - Regular Plan  |"]
["Birla Sun Life Advantage Fund  |"]
["Franklin India Prima Fund  |"]
["ICICI Prudential Midcap Fund - Regular Plan  |"]
["Principal Emerging Bluechip Fund  |"]
["L&T India Value Fund  |"]
["Principal Emerging Bluechip Fund  |"]
["DSP BlackRock Small and Mid Cap Fund - Regular Plan  |"]
["Fund  |  Rating"]
["Tata Equity PE Fund - Regular Plan  |"]
["DSP BlackRock Small and Mid Cap Fund - Regular Plan  |"]
["Escorts Leading Sectors Fund"]
["Kotak Mid-Cap Regular Plan  |"]
["IDFC Premier Equity Fund - Regular Plan  |"]
["Kotak Mid-Cap Regular Plan  |"]
["Religare Invesco Mid Cap Fund  |"]
["SBI Magnum Global Fund  |"]
["Religare Invesco Mid Cap Fund  |"]
["Fund  |  Rating"]
["Birla Sun Life Pure Value Fund  |"]
["Fund  |  Rating"]
["Escorts Leading Sectors Fund"]
["HDFC Mid-Cap Opportunities Fund  |"]
["Motilal Oswal MOSt Shares M100 ETF Fund  |"]
["Reliance Growth Fund  |"]
["Motilal Oswal MOSt Shares M100 ETF Fund  |"]
["SBI Magnum Global Fund  |"]
["Taurus Discovery Fund - Regular Plan  |"]
["SBI Magnum Global Fund  |"]
["Taurus Discovery Fund - Regular Plan  |"]
["Edelweiss Emerging Leaders Fund  |"]
["IDFC Sterling Equity Fund - Regular Plan  |"]
["L&T India Value Fund  |"]
["Birla Sun Life Mid Cap Fund  |"]
["Reliance Regular Savings Fund - Equity Option  |"]
["SBI Emerging Businesses Fund  |"]
["Reliance Regular Savings Fund - Equity Option  |"]
["SBI Emerging Businesses Fund  |"]
["Birla Sun Life Mid Cap Fund  |"]
["UTI Mid Cap Fund  |"]
["Birla Sun Life Mid Cap Fund  |"]
["Goldman Sachs India Equity Fund"]
["IDFC Premier Equity Fund - Regular Plan  |"]
["Reliance Equity Opportunities Fund  |"]
["Mirae Asset Emerging Bluechip Fund - Regular Plan  |"]
["Reliance Equity Opportunities Fund  |"]
["Tata Equity PE Fund - Regular Plan  |"]
["SBI Emerging Businesses Fund  |"]
["Tata Equity PE Fund - Regular Plan  |"]
["DSP BlackRock Small and Mid Cap Fund - Regular Plan  |"]
["Escorts Leading Sectors Fund"]
["Kotak Mid-Cap Regular Plan  |"]
["IDFC Premier Equity Fund - Regular Plan  |"]
["Kotak Mid-Cap Regular Plan  |"]
["Religare Invesco Mid Cap Fund  |"]
["Reliance Equity Opportunities Fund  |"]
["Religare Invesco Mid Cap Fund  |"]
["Fund  |  Rating"]
["Birla Sun Life Pure Value Fund  |"]
["UTI Mid Cap Fund  |"]
["Franklin India Prima Fund  |"]
["ICICI Prudential Midcap Fund - Regular Plan  |"]
["Principal Emerging Bluechip Fund  |"]
["Reliance Regular Savings Fund - Equity Option  |"]
["Principal Emerging Bluechip Fund  |"]
["Sundaram Select Midcap Fund - Regular Plan  |"]
["UTI Mid Cap Fund  |"]
["Sundaram Select Midcap Fund - Regular Plan  |"]
["BNP Paribas Midcap Fund  |"]
["Escorts Growth Fund  |"]
["JP Morgan India Mid and Small Cap Fund  |"]
["Mirae Asset Emerging Bluechip Fund - Regular Plan  |"]
["JP Morgan India Mid and Small Cap Fund  |"]
["Reliance Regular Savings Fund - Equity Option  |"]
["SBI Emerging Businesses Fund  |"]
["Reliance Regular Savings Fund - Equity Option  |"]
["UTI Mid Cap Fund  |"]
["Birla Sun Life Mid Cap Fund  |"]
["Goldman Sachs India Equity Fund"]
["IDFC Premier Equity Fund - Regular Plan  |"]
["Goldman Sachs India Equity Fund"]
["Mirae Asset Emerging Bluechip Fund - Regular Plan  |"]
["Reliance Equity Opportunities Fund  |"]
["Mirae Asset Emerging Bluechip Fund - Regular Plan  |"]
["Reliance Equity Opportunities Fund  |"]
["Tata Equity PE Fund - Regular Plan  |"]
["BNP Paribas Midcap Fund  |"]
["Franklin India Prima Fund  |"]
["Edelweiss Emerging Leaders Fund  |"]
["IDFC Sterling Equity Fund - Regular Plan  |"]
["L&T India Value Fund  |"]
["IDFC Sterling Equity Fund - Regular Plan  |"]
["L&T India Value Fund  |"]
["Religare Invesco Mid N Small Cap Fund  |"]
["Reliance Growth Fund  |"]
["Religare Invesco Mid N Small Cap Fund  |"]
["Birla Sun Life Advantage Fund  |"]
["BNP Paribas Midcap Fund  |"]
["ICICI Prudential Midcap Fund - Regular Plan  |"]
["Franklin India Prima Fund  |"]
["ICICI Prudential Midcap Fund - Regular Plan  |"]
["Principal Emerging Bluechip Fund  |"]
["L&T India Value Fund  |"]
["Principal Emerging Bluechip Fund  |"]
["Sundaram Select Midcap Fund - Regular Plan  |"]
["UTI Mid Cap Fund  |"]
["Escorts Growth Fund  |"]
["BNP Paribas Midcap Fund  |"]
["Escorts Growth Fund  |"]
["JP Morgan India Mid and Small Cap Fund  |"]
["ICICI Prudential Midcap Fund - Regular Plan  |"]
["JP Morgan India Mid and Small Cap Fund  |"]
["Birla Sun Life Advantage Fund  |"]
["SBI Magnum Global Fund  |"]
["Religare Invesco Mid Cap Fund  |"]
["Fund  |  Rating"]
["Birla Sun Life Pure Value Fund  |"]
["HDFC Mid-Cap Opportunities Fund  |"]
["IDFC Sterling Equity Fund - Regular Plan  |"]
["HDFC Mid-Cap Opportunities Fund  |"]
["Motilal Oswal MOSt Shares M100 ETF Fund  |"]
["Reliance Growth Fund  |"]
["Motilal Oswal MOSt Shares M100 ETF Fund  |"]
["SBI Magnum Global Fund  |"]
["Taurus Discovery Fund - Regular Plan  |"]
["Edelweiss Emerging Leaders Fund  |"]
["Franklin India Prima Fund  |"]
["Edelweiss Emerging Leaders Fund  |"]
["IDFC Sterling Equity Fund - Regular Plan  |"]
["L&T India Value Fund  |"]
["IDFC Sterling Equity Fund - Regular Plan  |"]
["Reliance Growth Fund  |"]
["Religare Invesco Mid N Small Cap Fund  |"]
["Birla Sun Life Advantage Fund  |"]
["BNP Paribas Midcap Fund  |"]
["Birla Sun Life Advantage Fund  |"]
["Franklin India Prima Fund  |"]
["ICICI Prudential Midcap Fund - Regular Plan  |"]
["Taurus Discovery Fund - Regular Plan  |"]
["IDFC Premier Equity Fund - Regular Plan  |"]
["Reliance Equity Opportunities Fund  |"]
["Mirae Asset Emerging Bluechip Fund - Regular Plan  |"]
["Reliance Equity Opportunities Fund  |"]
["Tata Equity PE Fund - Regular Plan  |"]
["DSP BlackRock Small and Mid Cap Fund - Regular Plan  |"]
["Escorts Leading Sectors Fund"]
["DSP BlackRock Small and Mid Cap Fund - Regular Plan  |"]
["Escorts Leading Sectors Fund"]
["Kotak Mid-Cap Regular Plan  |"]
["IDFC Premier Equity Fund - Regular Plan  |"]
["Kotak Mid-Cap Regular Plan  |"]
["Religare Invesco Mid Cap Fund  |"]
["SBI Magnum Global Fund  |"]
["Birla Sun Life Pure Value Fund  |"]
["Fund  |  Rating"]
["Birla Sun Life Pure Value Fund  |"]
["HDFC Mid-Cap Opportunities Fund  |"]
["Escorts Leading Sectors Fund"]
["HDFC Mid-Cap Opportunities Fund  |"]
["Motilal Oswal MOSt Shares M100 ETF Fund  |"]
["Reliance Growth Fund  |"]
["Motilal Oswal MOSt Shares M100 ETF Fund  |"]
["SBI Magnum Global Fund  |"]
["Taurus Discovery Fund - Regular Plan  |"]
["SBI Magnum Global Fund  |"]
["BNP Paribas Midcap Fund  |"]
["Escorts Growth Fund  |"]
["JP Morgan India Mid and Small Cap Fund  |"]
["Mirae Asset Emerging Bluechip Fund - Regular Plan  |"]
["JP Morgan India Mid and Small Cap Fund  |"]
["Reliance Regular Savings Fund - Equity Option  |"]
["SBI Emerging Businesses Fund  |"]
["Birla Sun Life Mid Cap Fund  |"]
["DSP BlackRock Small and Mid Cap Fund - Regular Plan  |"]
["Birla Sun Life Mid Cap Fund  |"]
["Goldman Sachs India Equity Fund"]
["IDFC Premier Equity Fund - Regular Plan  |"]
["Goldman Sachs India Equity Fund"]
["Mirae Asset Emerging Bluechip Fund - Regular Plan  |"]
["Reliance Equity Opportunities Fund  |"]
["Tata Equity PE Fund - Regular Plan  |"]
["Fund  |  Rating"]
["Tata Equity PE Fund - Regular Plan  |"]
["DSP BlackRock Small and Mid Cap Fund - Regular Plan  |"]
["Escorts Leading Sectors Fund"]
["DSP BlackRock Small and Mid Cap Fund - Regular Plan  |"]
["Escorts Leading Sectors Fund"]
["Kotak Mid-Cap Regular Plan  |"]
["IDFC Premier Equity Fund - Regular Plan  |"]
["Kotak Mid-Cap Regular Plan  |"]
["Religare Invesco Mid Cap Fund  |"]
["ICICI Prudential Midcap Fund - Regular Plan  |"]
["BNP Paribas Midcap Fund  |"]
["Birla Sun Life Advantage Fund  |"]
["BNP Paribas Midcap Fund  |"]
["ICICI Prudential Midcap Fund - Regular Plan  |"]
["Franklin India Prima Fund  |"]
["ICICI Prudential Midcap Fund - Regular Plan  |"]
["Principal Emerging Bluechip Fund  |"]
["Sundaram Select Midcap Fund - Regular Plan  |"]
["UTI Mid Cap Fund  |"]
["Sundaram Select Midcap Fund - Regular Plan  |"]
["UTI Mid Cap Fund  |"]
["Escorts Growth Fund  |"]
["BNP Paribas Midcap Fund  |"]
["Escorts Growth Fund  |"]
["JP Morgan India Mid and Small Cap Fund  |"]
["Mirae Asset Emerging Bluechip Fund - Regular Plan  |"]
["SBI Emerging Businesses Fund  |"]
["Reliance Regular Savings Fund - Equity Option  |"]
["SBI Emerging Businesses Fund  |"]
["Birla Sun Life Mid Cap Fund  |"]
["UTI Mid Cap Fund  |"]
["Birla Sun Life Mid Cap Fund  |"]
["Goldman Sachs India Equity Fund"]
["IDFC Premier Equity Fund - Regular Plan  |"]
["Goldman Sachs India Equity Fund"]
["Tata Equity PE Fund - Regular Plan  |"]
["Reliance Growth Fund  |"]
["Taurus Discovery Fund - Regular Plan  |"]
["SBI Magnum Global Fund  |"]
["Taurus Discovery Fund - Regular Plan  |"]
["Edelweiss Emerging Leaders Fund  |"]
["Franklin India Prima Fund  |"]
["Edelweiss Emerging Leaders Fund  |"]
["IDFC Sterling Equity Fund - Regular Plan  |"]
["L&T India Value Fund  |"]
["Religare Invesco Mid N Small Cap Fund  |"]
["Sundaram Select Midcap Fund - Regular Plan  |"]
["Religare Invesco Mid N Small Cap Fund  |"]
["Birla Sun Life Advantage Fund  |"]
["BNP Paribas Midcap Fund  |"]
["Birla Sun Life Advantage Fund  |"]
["Franklin India Prima Fund  |"]
["ICICI Prudential Midcap Fund - Regular Plan  |"]
["Franklin India Prima Fund  |"]
["Reliance Regular Savings Fund - Equity Option  |"]
["Principal Emerging Bluechip Fund  |"]
["Sundaram Select Midcap Fund - Regular Plan  |"]
["UTI Mid Cap Fund  |"]
["Sundaram Select Midcap Fund - Regular Plan  |"]
["UTI Mid Cap Fund  |"]
["Escorts Growth Fund  |"]
["SBI Emerging Businesses Fund  |"]
["Escorts Leading Sectors Fund"]
["Kotak Mid-Cap Regular Plan  |"]
["Religare Invesco Mid Cap Fund  |"]
["SBI Magnum Global Fund  |"]
["Religare Invesco Mid Cap Fund  |"]
["SBI Magnum Global Fund  |"]
["Birla Sun Life Pure Value Fund  |"]
["Fund  |  Rating"]
["Birla Sun Life Pure Value Fund  |"]
["HDFC Mid-Cap Opportunities Fund  |"]
["Motilal Oswal MOSt Shares M100 ETF Fund  |"]
["Reliance Growth Fund  |"]
["Motilal Oswal MOSt Shares M100 ETF Fund  |"]
["Reliance Growth Fund  |"]
["Taurus Discovery Fund - Regular Plan  |"]
["SBI Magnum Global Fund  |"]
["Taurus Discovery Fund - Regular Plan  |"]
["Edelweiss Emerging Leaders Fund  |"]
["Franklin India Prima Fund  |"]
["Edelweiss Emerging Leaders Fund  |"]
["IDFC Sterling Equity Fund - Regular Plan  |"]
["L&T India Value Fund  |"]
["Religare Invesco Mid N Small Cap Fund  |"]
["Reliance Growth Fund  |"]
["Religare Invesco Mid N Small Cap Fund  |"]
["Birla Sun Life Advantage Fund  |"]
["Reliance Regular Savings Fund - Equity Option  |"]
["Birla Sun Life Mid Cap Fund  |"]
["Goldman Sachs India Equity Fund"]
["IDFC Premier Equity Fund - Regular Plan  |"]
["Reliance Equity Opportunities Fund  |"]
["Mirae Asset Emerging Bluechip Fund - Regular Plan  |"]
["Reliance Equity Opportunities Fund  |"]
["Tata Equity PE Fund - Regular Plan  |"]
["Fund  |  Rating"]
["Tata Equity PE Fund - Regular Plan  |"]
["DSP BlackRock Small and Mid Cap Fund - Regular Plan  |"]
["Escorts Leading Sectors Fund"]
["Kotak Mid-Cap Regular Plan  |"]
["Motilal Oswal MOSt Shares M100 ETF Fund  |"]
["Kotak Mid-Cap Regular Plan  |"]
["Religare Invesco Mid Cap Fund  |"]
["SBI Magnum Global Fund  |"]
["Religare Invesco Mid Cap Fund  |"]
["Fund  |  Rating"]
["Birla Sun Life Pure Value Fund  |"]
["Fund  |  Rating"]
["Birla Sun Life Pure Value Fund  |"]
["HDFC Mid-Cap Opportunities Fund  |"]
["Motilal Oswal MOSt Shares M100 ETF Fund  |"]
["Reliance Growth Fund  |"]
["Motilal Oswal MOSt Shares M100 ETF Fund  |"]
["Principal Emerging Bluechip Fund  |"]
["UTI Mid Cap Fund  |"]
["Sundaram Select Midcap Fund - Regular Plan  |"]
["UTI Mid Cap Fund  |"]
["Escorts Growth Fund  |"]
["JP Morgan India Mid and Small Cap Fund  |"]
["Mirae Asset Emerging Bluechip Fund - Regular Plan  |"]
["JP Morgan India Mid and Small Cap Fund  |"]
["Mirae Asset Emerging Bluechip Fund - Regular Plan  |"]
["SBI Emerging Businesses Fund  |"]
["Reliance Regular Savings Fund - Equity Option  |"]
["SBI Emerging Businesses Fund  |"]
["Birla Sun Life Mid Cap Fund  |"]
["UTI Mid Cap Fund  |"]
["Birla Sun Life Mid Cap Fund  |"]
["Goldman Sachs India Equity Fund"]
["IDFC Premier Equity Fund - Regular Plan  |"]
["Reliance Equity Opportunities Fund  |"]
["Mirae Asset Emerging Bluechip Fund - Regular Plan  |"]
["Reliance Equity Opportunities Fund  |"]
["Tata Equity PE Fund - Regular Plan  |"]
["Fund  |  Rating"]
["Tata Equity PE Fund - Regular Plan  |"]
["DSP BlackRock Small and Mid Cap Fund - Regular Plan  |"]
["Escorts Leading Sectors Fund"]
["Kotak Mid-Cap Regular Plan  |"]
["DSP BlackRock Small and Mid Cap Fund - Regular Plan  |"]
["L&T India Value Fund  |"]
["Religare Invesco Mid N Small Cap Fund  |"]
["Sundaram Select Midcap Fund - Regular Plan  |"]
["Religare Invesco Mid N Small Cap Fund  |"]
["Birla Sun Life Advantage Fund  |"]
["BNP Paribas Midcap Fund  |"]
["ICICI Prudential Midcap Fund - Regular Plan  |"]
["JP Morgan India Mid and Small Cap Fund  |"]
["ICICI Prudential Midcap Fund - Regular Plan  |"]
["Principal Emerging Bluechip Fund  |"]
["Reliance Regular Savings Fund - Equity Option  |"]
["Principal Emerging Bluechip Fund  |"]
["Sundaram Select Midcap Fund - Regular Plan  |"]
["UTI Mid Cap Fund  |"]
["Sundaram Select Midcap Fund - Regular Plan  |"]
["UTI Mid Cap Fund  |"]
["Escorts Growth Fund  |"]
["JP Morgan India Mid and Small Cap Fund  |"]
["Mirae Asset Emerging Bluechip Fund - Regular Plan  |"]
["JP Morgan India Mid and Small Cap Fund  |"]
["Reliance Regular Savings Fund - Equity Option  |"]
["SBI Emerging Businesses Fund  |"]
["Reliance Regular Savings Fund - Equity Option  |"]
["SBI Emerging Businesses Fund  |"]
["Birla Sun Life Mid Cap Fund  |"]
["Goldman Sachs India Equity Fund"]
["Reliance Growth Fund  |"]
["HDFC Mid-Cap Opportunities Fund  |"]
["IDFC Sterling Equity Fund - Regular Plan  |"]
["Reliance Growth Fund  |"]
["Motilal Oswal MOSt Shares M100 ETF Fund  |"]
["Reliance Growth Fund  |"]
["Taurus Discovery Fund - Regular Plan  |"]
["SBI Magnum Global Fund  |"]
["Franklin India Prima Fund  |"]
["Edelweiss Emerging Leaders Fund  |"]
["Franklin India Prima Fund  |"]
["L&T India Value Fund  |"]
["IDFC Sterling Equity Fund - Regular Plan  |"]
["L&T India Value Fund  |"]
["Religare Invesco Mid N Small Cap Fund  |"]
["Reliance Growth Fund  |"]
["Religare Invesco Mid N Small Cap Fund  |"]
["Birla Sun Life Advantage Fund  |"]
["BNP Paribas Midcap Fund  |"]
["ICICI Prudential Midcap Fund - Regular Plan  |"]
["Franklin India Prima Fund  |"]
["ICICI Prudential Midcap Fund - Regular Plan  |"]
["Principal Emerging Bluechip Fund  |"]
["Reliance Regular Savings Fund - Equity Option  |"]
["Principal Emerging Bluechip Fund  |"]
["Sundaram Select Midcap Fund - Regular Plan  |"]
["Motilal Oswal MOSt Shares M100 ETF Fund  |"]
["Escorts Leading Sectors Fund"]
["DSP BlackRock Small and Mid Cap Fund - Regular Plan  |"]
["Escorts Leading Sectors Fund"]
["Kotak Mid-Cap Regular Plan  |"]
["Motilal Oswal MOSt Shares M100 ETF Fund  |"]
["Kotak Mid-Cap Regular Plan  |"]
["Religare Invesco Mid Cap Fund  |"]
["SBI Magnum Global Fund  |"]
["Religare Invesco Mid Cap Fund  |"]
["SBI Magnum Global Fund  |"]
["Birla Sun Life Pure Value Fund  |"]
["HDFC Mid-Cap Opportunities Fund  |"]
["IDFC Sterling Equity Fund - Regular Plan  |"]
["HDFC Mid-Cap Opportunities Fund  |"]
["Motilal Oswal MOSt Shares M100 ETF Fund  |"]
["Reliance Growth Fund  |"]
["Motilal Oswal MOSt Shares M100 ETF Fund  |"]
["Reliance Growth Fund  |"]
["Taurus Discovery Fund - Regular Plan  |"]
["Edelweiss Emerging Leaders Fund  |"]
["Franklin India Prima Fund  |"]
["Edelweiss Emerging Leaders Fund  |"]
["IDFC Sterling Equity Fund - Regular Plan  |"]
["L&T India Value Fund  |"]
["IDFC Sterling Equity Fund - Regular Plan  |"]
["Kotak Mid-Cap Regular Plan  |"]
["SBI Emerging Businesses Fund  |"]
["Birla Sun Life Mid Cap Fund  |"]
["DSP BlackRock Small and Mid Cap Fund - Regular Plan  |"]
["Birla Sun Life Mid Cap Fund  |"]
["DSP BlackRock Small and Mid Cap Fund - Regular Plan  |"]
["IDFC Premier Equity Fund - Regular Plan  |"]
["Goldman Sachs India Equity Fund"]
["IDFC Premier Equity Fund - Regular Plan  |"]
["Reliance Equity Opportunities Fund  |"]
["Mirae Asset Emerging Bluechip Fund - Regular Plan  |"]
["Reliance Equity Opportunities Fund  |"]
["Tata Equity PE Fund - Regular Plan  |"]
["Fund  |  Rating"]
["Escorts Leading Sectors Fund"]
["DSP BlackRock Small and Mid Cap Fund - Regular Plan  |"]
["Escorts Leading Sectors Fund"]
["Kotak Mid-Cap Regular Plan  |"]
["Motilal Oswal MOSt Shares M100 ETF Fund  |"]
["Kotak Mid-Cap Regular Plan  |"]
["Religare Invesco Mid Cap Fund  |"]
["SBI Magnum Global Fund  |"]
["Birla Sun Life Pure Value Fund  |"]
["Fund  |  Rating"]
["Birla Sun Life Pure Value Fund  |"]
["HDFC Mid-Cap Opportunities Fund  |"]
["IDFC Sterling Equity Fund - Regular Plan  |"]
["Birla Sun Life Advantage Fund  |"]
["Principal Emerging Bluechip Fund  |"]
["Reliance Regular Savings Fund - Equity Option  |"]
["UTI Mid Cap Fund  |"]
["Sundaram Select Midcap Fund - Regular Plan  |"]
["UTI Mid Cap Fund  |"]
["Escorts Growth Fund  |"]
["Goldman Sachs India Equity Fund"]
["Escorts Growth Fund  |"]
["JP Morgan India Mid and Small Cap Fund  |"]
["Mirae Asset Emerging Bluechip Fund - Regular Plan  |"]
["JP Morgan India Mid and Small Cap Fund  |"]
["Mirae Asset Emerging Bluechip Fund - Regular Plan  |"]
["SBI Emerging Businesses Fund  |"]
["Birla Sun Life Mid Cap Fund  |"]
["DSP BlackRock Small and Mid Cap Fund - Regular Plan  |"]
["Birla Sun Life Mid Cap Fund  |"]
["Goldman Sachs India Equity Fund"]
["IDFC Premier Equity Fund - Regular Plan  |"]
["Goldman Sachs India Equity Fund"]
["IDFC Premier Equity Fund - Regular Plan  |"]
["Reliance Equity Opportunities Fund  |"]
["Tata Equity PE Fund - Regular Plan  |"]
["Fund  |  Rating"]
["Tata Equity PE Fund - Regular Plan  |"]
["DSP BlackRock Small and Mid Cap Fund - Regular Plan  |"]
["Taurus Discovery Fund - Regular Plan  |"]
["Edelweiss Emerging Leaders Fund  |"]
["Franklin India Prima Fund  |"]
["L&T India Value Fund  |"]
["IDFC Sterling Equity Fund - Regular Plan  |"]
["L&T India Value Fund  |"]
["Religare Invesco Mid N Small Cap Fund  |"]
["Sundaram Select Midcap Fund - Regular Plan  |"]
["BNP Paribas Midcap Fund  |"]
["Birla Sun Life Advantage Fund  |"]
["BNP Paribas Midcap Fund  |"]
["ICICI Prudential Midcap Fund - Regular Plan  |"]
["Franklin India Prima Fund  |"]
["ICICI Prudential Midcap Fund - Regular Plan  |"]
["Principal Emerging Bluechip Fund  |"]
["Reliance Regular Savings Fund - Equity Option  |"]
["UTI Mid Cap Fund  |"]
["Sundaram Select Midcap Fund - Regular Plan  |"]
["UTI Mid Cap Fund  |"]
["Escorts Growth Fund  |"]
["Goldman Sachs India Equity Fund"]
["Escorts Growth Fund  |"]
["JP Morgan India Mid and Small Cap Fund  |"]
["Mirae Asset Emerging Bluechip Fund - Regular Plan  |"]
["SBI Emerging Businesses Fund  |"]
["Reliance Regular Savings Fund - Equity Option  |"]
["SBI Magnum Global Fund  |"]
["Birla Sun Life Pure Value Fund  |"]
["Edelweiss Emerging Leaders Fund  |"]
["Birla Sun Life Pure Value Fund  |"]
["HDFC Mid-Cap Opportunities Fund  |"]
["IDFC Sterling Equity Fund - Regular Plan  |"]
["HDFC Mid-Cap Opportunities Fund  |"]
["Motilal Oswal MOSt Shares M100 ETF Fund  |"]
["Reliance Growth Fund  |"]
["Taurus Discovery Fund - Regular Plan  |"]
["Birla Sun Life Advantage Fund  |"]
["Taurus Discovery Fund - Regular Plan  |"]
["Edelweiss Emerging Leaders Fund  |"]
["Franklin India Prima Fund  |"]
["Edelweiss Emerging Leaders Fund  |"]
["Franklin India Prima Fund  |"]
["L&T India Value Fund  |"]
["Religare Invesco Mid N Small Cap Fund  |"]
["Sundaram Select Midcap Fund - Regular Plan  |"]
["Religare Invesco Mid N Small Cap Fund  |"]
["Birla Sun Life Advantage Fund  |"]
["BNP Paribas Midcap Fund  |"]
["Birla Sun Life Advantage Fund  |"]
["BNP Paribas Midcap Fund  |"]
["ICICI Prudential Midcap Fund - Regular Plan  |"]
["Franklin India Prima Fund  |"]
["Reliance Regular Savings Fund - Equity Option  |"]
["Fund  |  Rating"]
["Tata Equity PE Fund - Regular Plan  |"]
["Fund  |  Rating"]
["Tata Equity PE Fund - Regular Plan  |"]
["Fund  |  Rating"]
["Escorts Leading Sectors Fund"]
["DSP BlackRock Small and Mid Cap Fund - Regular Plan  |"]
["Escorts Leading Sectors Fund"]
["Kotak Mid-Cap Regular Plan  |"]
["Motilal Oswal MOSt Shares M100 ETF Fund  |"]
["SBI Magnum Global Fund  |"]
["Religare Invesco Mid Cap Fund  |"]
["SBI Magnum Global Fund  |"]
["Birla Sun Life Pure Value Fund  |"]
["Fund  |  Rating"]
["Birla Sun Life Pure Value Fund  |"]
["HDFC Mid-Cap Opportunities Fund  |"]
["IDFC Sterling Equity Fund - Regular Plan  |"]
["Reliance Growth Fund  |"]
["Motilal Oswal MOSt Shares M100 ETF Fund  |"]
["Reliance Growth Fund  |"]
["Taurus Discovery Fund - Regular Plan  |"]
["Birla Sun Life Advantage Fund  |"]
["Taurus Discovery Fund - Regular Plan  |"]
["Edelweiss Emerging Leaders Fund  |"]
["Franklin India Prima Fund  |"]
["Tata Equity PE Fund - Regular Plan  |"]
["JP Morgan India Mid and Small Cap Fund  |"]
["Mirae Asset Emerging Bluechip Fund - Regular Plan  |"]
["SBI Emerging Businesses Fund  |"]
["Tata Equity PE Fund - Regular Plan  |"]
["SBI Emerging Businesses Fund  |"]
["Birla Sun Life Mid Cap Fund  |"]
["DSP BlackRock Small and Mid Cap Fund - Regular Plan  |"]
["Birla Sun Life Mid Cap Fund  |"]
["Goldman Sachs India Equity Fund"]
["IDFC Premier Equity Fund - Regular Plan  |"]
["Reliance Equity Opportunities Fund  |"]
["Religare Invesco Mid Cap Fund  |"]
["Reliance Equity Opportunities Fund  |"]
["Tata Equity PE Fund - Regular Plan  |"]
["Fund  |  Rating"]
["Tata Equity PE Fund - Regular Plan  |"]
["Fund  |  Rating"]
["Escorts Leading Sectors Fund"]
["Kotak Mid-Cap Regular Plan  |"]
["Motilal Oswal MOSt Shares M100 ETF Fund  |"]
["Kotak Mid-Cap Regular Plan  |"]
["Religare Invesco Mid Cap Fund  |"]
["SBI Magnum Global Fund  |"]
["Religare Invesco Mid Cap Fund  |"]
["SBI Magnum Global Fund  |"]
["SBI Emerging Businesses Fund  |"]
["Birla Sun Life Advantage Fund  |"]
["BNP Paribas Midcap Fund  |"]
["ICICI Prudential Midcap Fund - Regular Plan  |"]
["JP Morgan India Mid and Small Cap Fund  |"]
["Reliance Regular Savings Fund - Equity Option  |"]
["Principal Emerging Bluechip Fund  |"]
["Reliance Regular Savings Fund - Equity Option  |"]
["UTI Mid Cap Fund  |"]
["Sundaram Select Midcap Fund - Regular Plan  |"]
["UTI Mid Cap Fund  |"]
["Escorts Growth Fund  |"]
["Goldman Sachs India Equity Fund"]
["Mirae Asset Emerging Bluechip Fund - Regular Plan  |"]
["JP Morgan India Mid and Small Cap Fund  |"]
["Mirae Asset Emerging Bluechip Fund - Regular Plan  |"]
["SBI Emerging Businesses Fund  |"]
["Reliance Regular Savings Fund - Equity Option  |"]
["SBI Emerging Businesses Fund  |"]
["Birla Sun Life Mid Cap Fund  |"]
["DSP BlackRock Small and Mid Cap Fund - Regular Plan  |"]
["IDFC Premier Equity Fund - Regular Plan  |"]
["Goldman Sachs India Equity Fund"]
["IDFC Premier Equity Fund - Regular Plan  |"]
["Reliance Equity Opportunities Fund  |"]
["Religare Invesco Mid Cap Fund  |"]
["Reliance Equity Opportunities Fund  |"]
["UTI Mid Cap Fund  |"]
["Birla Sun Life Advantage Fund  |"]
["Taurus Discovery Fund - Regular Plan  |"]
["Edelweiss Emerging Leaders Fund  |"]
["Franklin India Prima Fund  |"]
["L&T India Value Fund  |"]
["Principal Emerging Bluechip Fund  |"]
["L&T India Value Fund  |"]
["Religare Invesco Mid N Small Cap Fund  |"]
["Sundaram Select Midcap Fund - Regular Plan  |"]
["Religare Invesco Mid N Small Cap Fund  |"]
["Birla Sun Life Advantage Fund  |"]
["BNP Paribas Midcap Fund  |"]
["ICICI Prudential Midcap Fund - Regular Plan  |"]
["JP Morgan India Mid and Small Cap Fund  |"]
["ICICI Prudential Midcap Fund - Regular Plan  |"]
["Principal Emerging Bluechip Fund  |"]
["Reliance Regular Savings Fund - Equity Option  |"]
["Principal Emerging Bluechip Fund  |"]
["Reliance Regular Savings Fund - Equity Option  |"]
["UTI Mid Cap Fund  |"]
["Sundaram Select Midcap Fund - Regular Plan  |"]
["UTI Mid Cap Fund  |"]
["Escorts Growth Fund  |"]
["JP Morgan India Mid and Small Cap Fund  |"]
["Mirae Asset Emerging Bluechip Fund - Regular Plan  |"]
["Sundaram Select Midcap Fund - Regular Plan  |"]
["Motilal Oswal MOSt Shares M100 ETF Fund  |"]
["SBI Magnum Global Fund  |"]
["Religare Invesco Mid Cap Fund  |"]
["SBI Magnum Global Fund  |"]
["Birla Sun Life Pure Value Fund  |"]
["Edelweiss Emerging Leaders Fund  |"]
["IDFC Sterling Equity Fund - Regular Plan  |"]
["HDFC Mid-Cap Opportunities Fund  |"]
["IDFC Sterling Equity Fund - Regular Plan  |"]
["Reliance Growth Fund  |"]
["Motilal Oswal MOSt Shares M100 ETF Fund  |"]
["Reliance Growth Fund  |"]
["Taurus Discovery Fund - Regular Plan  |"]
["Birla Sun Life Advantage Fund  |"]
["Franklin India Prima Fund  |"]
["Edelweiss Emerging Leaders Fund  |"]
["Franklin India Prima Fund  |"]
["L&T India Value Fund  |"]
["IDFC Sterling Equity Fund - Regular Plan  |"]
["L&T India Value Fund  |"]
["Religare Invesco Mid N Small Cap Fund  |"]
["Sundaram Select Midcap Fund - Regular Plan  |"]
["Religare Invesco Mid N Small Cap Fund  |"]
["Birla Sun Life Advantage Fund  |"]
["BNP Paribas Midcap Fund  |"]
["Religare Invesco Mid N Small Cap Fund  |"]
["Kotak Mid-Cap Regular Plan  |"]
["IDFC Premier Equity Fund - Regular Plan  |"]
["Reliance Equity Opportunities Fund  |"]
["Religare Invesco Mid Cap Fund  |"]
["Reliance Equity Opportunities Fund  |"]
["Tata Equity PE Fund - Regular Plan  |"]
["Fund  |  Rating"]
["Escorts Leading Sectors Fund"]
["HDFC Mid-Cap Opportunities Fund  |"]
["Escorts Leading Sectors Fund"]
["Kotak Mid-Cap Regular Plan  |"]
["Motilal Oswal MOSt Shares M100 ETF Fund  |"]
["Kotak Mid-Cap Regular Plan  |"]
["Motilal Oswal MOSt Shares M100 ETF Fund  |"]
["SBI Magnum Global Fund  |"]
["Religare Invesco Mid Cap Fund  |"]
["Edelweiss Emerging Leaders Fund  |"]
["Birla Sun Life Pure Value Fund  |"]
["HDFC Mid-Cap Opportunities Fund  |"]
["IDFC Sterling Equity Fund - Regular Plan  |"]
["HDFC Mid-Cap Opportunities Fund  |"]
["IDFC Sterling Equity Fund - Regular Plan  |"]
["Reliance Growth Fund  |"]
["Motilal Oswal MOSt Shares M100 ETF Fund  |"]
["Reliance Growth Fund  |"]
["Reliance Growth Fund  |"]
["Escorts Growth Fund  |"]
["Goldman Sachs India Equity Fund"]
["Escorts Growth Fund  |"]
["Goldman Sachs India Equity Fund"]
["Mirae Asset Emerging Bluechip Fund - Regular Plan  |"]
["JP Morgan India Mid and Small Cap Fund  |"]
["Mirae Asset Emerging Bluechip Fund - Regular Plan  |"]
["SBI Emerging Businesses Fund  |"]
["Tata Equity PE Fund - Regular Plan  |"]
["DSP BlackRock Small and Mid Cap Fund - Regular Plan  |"]
["Birla Sun Life Mid Cap Fund  |"]
["DSP BlackRock Small and Mid Cap Fund - Regular Plan  |"]
["IDFC Premier Equity Fund - Regular Plan  |"]
["Goldman Sachs India Equity Fund"]
["IDFC Premier Equity Fund - Regular Plan  |"]
["Reliance Equity Opportunities Fund  |"]
["Religare Invesco Mid Cap Fund  |"]
["Reliance Equity Opportunities Fund  |"]
["Tata Equity PE Fund - Regular Plan  |"]
["Fund  |  Rating"]
["Escorts Leading Sectors Fund"]
["DSP BlackRock Small and Mid Cap Fund - Regular Plan  |"]
["Escorts Leading Sectors Fund"]
["Kotak Mid-Cap Regular Plan  |"]
["Motilal Oswal MOSt Shares M100 ETF Fund  |"]
["Kotak Mid-Cap Regular Plan  |"]
["SBI Magnum Global Fund  |"]
["Sundaram Select Midcap Fund - Regular Plan  |"]
["BNP Paribas Midcap Fund  |"]
["Escorts Growth Fund  |"]
["BNP Paribas Midcap Fund  |"]
["ICICI Prudential Midcap Fund - Regular Plan  |"]
["JP Morgan India Mid and Small Cap Fund  |"]
["ICICI Prudential Midcap Fund - Regular Plan  |"]
["Principal Emerging Bluechip Fund  |"]
["Reliance Regular Savings Fund - Equity Option  |"]
["UTI Mid Cap Fund  |"]
["Birla Sun Life Mid Cap Fund  |"]
["UTI Mid Cap Fund  |"]
["Escorts Growth Fund  |"]
["Goldman Sachs India Equity Fund"]
["Escorts Growth Fund  |"]
["Goldman Sachs India Equity Fund"]
["Mirae Asset Emerging Bluechip Fund - Regular Plan  |"]
["JP Morgan India Mid and Small Cap Fund  |"]
["Mirae Asset Emerging Bluechip Fund - Regular Plan  |"]
["SBI Emerging Businesses Fund  |"]
["Birla Sun Life Mid Cap Fund  |"]
["DSP BlackRock Small and Mid Cap Fund - Regular Plan  |"]
["Birla Sun Life Mid Cap Fund  |"]
["DSP BlackRock Small and Mid Cap Fund - Regular Plan  |"]
["IDFC Premier Equity Fund - Regular Plan  |"]
["Religare Invesco Mid Cap Fund  |"]
["IDFC Sterling Equity Fund - Regular Plan  |"]
["Reliance Growth Fund  |"]
["Taurus Discovery Fund - Regular Plan  |"]
["Birla Sun Life Advantage Fund  |"]
["Taurus Discovery Fund - Regular Plan  |"]
["Birla Sun Life Advantage Fund  |"]
["Franklin India Prima Fund  |"]
["Edelweiss Emerging Leaders Fund  |"]
["Franklin India Prima Fund  |"]
["L&T India Value Fund  |"]
["Principal Emerging Bluechip Fund  |"]
["L&T India Value Fund  |"]
["Religare Invesco Mid N Small Cap Fund  |"]
["Sundaram Select Midcap Fund - Regular Plan  |"]
["BNP Paribas Midcap Fund  |"]
["Birla Sun Life Advantage Fund  |"]
["BNP Paribas Midcap Fund  |"]
["ICICI Prudential Midcap Fund - Regular Plan  |"]
["JP Morgan India Mid and Small Cap Fund  |"]
["ICICI Prudential Midcap Fund - Regular Plan  |"]
["Principal Emerging Bluechip Fund  |"]
["Reliance Regular Savings Fund - Equity Option  |"]
["UTI Mid Cap Fund  |"]
["Sundaram Select Midcap Fund - Regular Plan  |"]
["UTI Mid Cap Fund  |"]
["Reliance Equity Opportunities Fund  |"]
["HDFC Mid-Cap Opportunities Fund  |"]
["Escorts Leading Sectors Fund"]
["Kotak Mid-Cap Regular Plan  |"]
["Motilal Oswal MOSt Shares M100 ETF Fund  |"]
["SBI Magnum Global Fund  |"]
["Taurus Discovery Fund - Regular Plan  |"]
["SBI Magnum Global Fund  |"]
["Birla Sun Life Pure Value Fund  |"]
["Edelweiss Emerging Leaders Fund  |"]
["Birla Sun Life Pure Value Fund  |"]
["HDFC Mid-Cap Opportunities Fund  |"]
["IDFC Sterling Equity Fund - Regular Plan  |"]
["HDFC Mid-Cap Opportunities Fund  |"]
["IDFC Sterling Equity Fund - Regular Plan  |"]
["Reliance Growth Fund  |"]
["Taurus Discovery Fund - Regular Plan  |"]
["Birla Sun Life Advantage Fund  |"]
["Taurus Discovery Fund - Regular Plan  |"]
["Birla Sun Life Advantage Fund  |"]
["Franklin India Prima Fund  |"]
["Edelweiss Emerging Leaders Fund  |"]
["Franklin India Prima Fund  |"]
["L&T India Value Fund  |"]
["Religare Invesco Mid N Small Cap Fund  |"]
["Sundaram Select Midcap Fund - Regular Plan  |"]
["Religare Invesco Mid N Small Cap Fund  |"]
["Mirae Asset Emerging Bluechip Fund - Regular Plan  |"]
["DSP BlackRock Small and Mid Cap Fund - Regular Plan  |"]
["Birla Sun Life Mid Cap Fund  |"]
["DSP BlackRock Small and Mid Cap Fund - Regular Plan  |"]
["IDFC Premier Equity Fund - Regular Plan  |"]
["Reliance Equity Opportunities Fund  |"]
["Religare Invesco Mid Cap Fund  |"]
["Reliance Equity Opportunities Fund  |"]
["Religare Invesco Mid Cap Fund  |"]
["Fund  |  Rating"]
["Tata Equity PE Fund - Regular Plan  |"]
["Fund  |  Rating"]
["Escorts Leading Sectors Fund"]
["HDFC Mid-Cap Opportunities Fund  |"]
["Escorts Leading Sectors Fund"]
["Kotak Mid-Cap Regular Plan  |"]
["Motilal Oswal MOSt Shares M100 ETF Fund  |"]
["SBI Magnum Global Fund  |"]
["Religare Invesco Mid Cap Fund  |"]
["SBI Magnum Global Fund  |"]
["Birla Sun Life Pure Value Fund  |"]
["Edelweiss Emerging Leaders Fund  |"]
["Birla Sun Life Pure Value Fund  |"]
["HDFC Mid-Cap Opportunities Fund  |"]
["IDFC Sterling Equity Fund - Regular Plan  |"]
["Reliance Growth Fund  |"]
["JP Morgan India Mid and Small Cap Fund  |"]
["Reliance Regular Savings Fund - Equity Option  |"]
["UTI Mid Cap Fund  |"]
["Birla Sun Life Mid Cap Fund  |"]
["UTI Mid Cap Fund  |"]
["Escorts Growth Fund  |"]
["Goldman Sachs India Equity Fund"]
["Escorts Growth Fund  |"]
["Reliance Equity Opportunities Fund  |"]
["Mirae Asset Emerging Bluechip Fund - Regular Plan  |"]
["SBI Emerging Businesses Fund  |"]
["Tata Equity PE Fund - Regular Plan  |"]
["SBI Emerging Businesses Fund  |"]
["Birla Sun Life Mid Cap Fund  |"]
["DSP BlackRock Small and Mid Cap Fund - Regular Plan  |"]
["Birla Sun Life Mid Cap Fund  |"]
["DSP BlackRock Small and Mid Cap Fund - Regular Plan  |"]
["IDFC Premier Equity Fund - Regular Plan  |"]
["Reliance Equity Opportunities Fund  |"]
["Religare Invesco Mid Cap Fund  |"]
["Reliance Equity Opportunities Fund  |"]
["Religare Invesco Mid Cap Fund  |"]
["Fund  |  Rating"]
["Tata Equity PE Fund - Regular Plan  |"]
["Fund  |  Rating"]
["Escorts Leading Sectors Fund"]
["Principal Emerging Bluechip Fund  |"]
["Principal Emerging Bluechip Fund  |"]
["L&T India Value Fund  |"]
["Principal Emerging Bluechip Fund  |"]
["Sundaram Select Midcap Fund - Regular Plan  |"]
["Religare Invesco Mid N Small Cap Fund  |"]
["Sundaram Select Midcap Fund - Regular Plan  |"]
["BNP Paribas Midcap Fund  |"]
["Birla Sun Life Advantage Fund  |"]
["BNP Paribas Midcap Fund  |"]
["ICICI Prudential Midcap Fund - Regular Plan  |"]
["JP Morgan India Mid and Small Cap Fund  |"]
["Reliance Regular Savings Fund - Equity Option  |"]
["Principal Emerging Bluechip Fund  |"]
["Reliance Regular Savings Fund - Equity Option  |"]
["UTI Mid Cap Fund  |"]
["Birla Sun Life Mid Cap Fund  |"]
["UTI Mid Cap Fund  |"]
["Escorts Growth Fund  |"]
["Goldman Sachs India Equity Fund"]
["Mirae Asset Emerging Bluechip Fund - Regular Plan  |"]
["JP Morgan India Mid and Small Cap Fund  |"]
["Mirae Asset Emerging Bluechip Fund - Regular Plan  |"]
["SBI Emerging Businesses Fund  |"]
["Tata Equity PE Fund - Regular Plan  |"]
["SBI Emerging Businesses Fund  |"]
["Birla Sun Life Mid Cap Fund  |"]
["L&T India Value Fund  |"]
["IDFC Sterling Equity Fund - Regular Plan  |"]
["L&T India Value Fund  |"]
["IDFC Sterling Equity Fund - Regular Plan  |"]
["Reliance Growth Fund  |"]
["Religare Invesco Mid N Small Cap Fund  |"]
["Reliance Growth Fund  |"]
["Taurus Discovery Fund - Regular Plan  |"]
["Birla Sun Life Advantage Fund  |"]
["Taurus Discovery Fund - Regular Plan  |"]
["Birla Sun Life Advantage Fund  |"]
["Franklin India Prima Fund  |"]
["L&T India Value Fund  |"]
["Principal Emerging Bluechip Fund  |"]
["L&T India Value Fund  |"]
["Religare Invesco Mid N Small Cap Fund  |"]
["Sundaram Select Midcap Fund - Regular Plan  |"]
["Religare Invesco Mid N Small Cap Fund  |"]
["Sundaram Select Midcap Fund - Regular Plan  |"]
["BNP Paribas Midcap Fund  |"]
["ICICI Prudential Midcap Fund - Regular Plan  |"]
["JP Morgan India Mid and Small Cap Fund  |"]
["ICICI Prudential Midcap Fund - Regular Plan  |"]
["JP Morgan India Mid and Small Cap Fund  |"]
["Reliance Regular Savings Fund - Equity Option  |"]
["Principal Emerging Bluechip Fund  |"]
["IDFC Sterling Equity Fund - Regular Plan  |"]
["Fund  |  Rating"]
["Tata Equity PE Fund - Regular Plan  |"]
["Fund  |  Rating"]
["Escorts Leading Sectors Fund"]
["HDFC Mid-Cap Opportunities Fund  |"]
["Motilal Oswal MOSt Shares M100 ETF Fund  |"]
["Kotak Mid-Cap Regular Plan  |"]
["Motilal Oswal MOSt Shares M100 ETF Fund  |"]
["SBI Magnum Global Fund  |"]
["Religare Invesco Mid Cap Fund  |"]
["SBI Magnum Global Fund  |"]
["Birla Sun Life Pure Value Fund  |"]
["Edelweiss Emerging Leaders Fund  |"]
["IDFC Sterling Equity Fund - Regular Plan  |"]
["HDFC Mid-Cap Opportunities Fund  |"]
["IDFC Sterling Equity Fund - Regular Plan  |"]
["Reliance Growth Fund  |"]
["Religare Invesco Mid N Small Cap Fund  |"]
["Reliance Growth Fund  |"]
["Taurus Discovery Fund - Regular Plan  |"]
["Birla Sun Life Advantage Fund  |"]
["Franklin India Prima Fund  |"]
["Edelweiss Emerging Leaders Fund  |"]
["Franklin India Prima Fund  |"]
["L&T India Value Fund  |"]
["HDFC Mid-Cap Opportunities Fund  |"]
["Mirae Asset Emerging Bluechip Fund - Regular Plan  |"]
["SBI Emerging Businesses Fund  |"]
["Tata Equity PE Fund - Regular Plan  |"]
["SBI Emerging Businesses Fund  |"]
["Tata Equity PE Fund - Regular Plan  |"]
["DSP BlackRock Small and Mid Cap Fund - Regular Plan  |"]
["IDFC Premier Equity Fund - Regular Plan  |"]
["Kotak Mid-Cap Regular Plan  |"]
["IDFC Premier Equity Fund - Regular Plan  |"]
["Reliance Equity Opportunities Fund  |"]
["Religare Invesco Mid Cap Fund  |"]
["Reliance Equity Opportunities Fund  |"]
["Religare Invesco Mid Cap Fund  |"]
["Fund  |  Rating"]
["Escorts Leading Sectors Fund"]
["HDFC Mid-Cap Opportunities Fund  |"]
["Escorts Leading Sectors Fund"]
["Kotak Mid-Cap Regular Plan  |"]
["Motilal Oswal MOSt Shares M100 ETF Fund  |"]
["Kotak Mid-Cap Regular Plan  |"]
["Motilal Oswal MOSt Shares M100 ETF Fund  |"]
["SBI Magnum Global Fund  |"]
["Religare Invesco Mid Cap Fund  |"]
["Edelweiss Emerging Leaders Fund  |"]
["Birla Sun Life Pure Value Fund  |"]
["Edelweiss Emerging Leaders Fund  |"]
["Kotak Mid-Cap Regular Plan  |"]
["ICICI Prudential Midcap Fund - Regular Plan  |"]
["JP Morgan India Mid and Small Cap Fund  |"]
["Reliance Regular Savings Fund - Equity Option  |"]
["Principal Emerging Bluechip Fund  |"]
["Reliance Regular Savings Fund - Equity Option  |"]
["UTI Mid Cap Fund  |"]
["Birla Sun Life Mid Cap Fund  |"]
["Goldman Sachs India Equity Fund"]
["Escorts Growth Fund  |"]
["Goldman Sachs India Equity Fund"]
["Mirae Asset Emerging Bluechip Fund - Regular Plan  |"]
["Reliance Equity Opportunities Fund  |"]
["Mirae Asset Emerging Bluechip Fund - Regular Plan  |"]
["SBI Emerging Businesses Fund  |"]
["Tata Equity PE Fund - Regular Plan  |"]
["DSP BlackRock Small and Mid Cap Fund - Regular Plan  |"]
["Birla Sun Life Mid Cap Fund  |"]
["DSP BlackRock Small and Mid Cap Fund - Regular Plan  |"]
["IDFC Premier Equity Fund - Regular Plan  |"]
["Kotak Mid-Cap Regular Plan  |"]
["IDFC Premier Equity Fund - Regular Plan  |"]
["Reliance Equity Opportunities Fund  |"]
["Religare Invesco Mid Cap Fund  |"]
["Reliance Equity Opportunities Fund  |"]
["Tata Equity PE Fund - Regular Plan  |"]
["IDFC Premier Equity Fund - Regular Plan  |"]
["Franklin India Prima Fund  |"]
["ICICI Prudential Midcap Fund - Regular Plan  |"]
["Franklin India Prima Fund  |"]
["L&T India Value Fund  |"]
["Principal Emerging Bluechip Fund  |"]
["L&T India Value Fund  |"]
["Principal Emerging Bluechip Fund  |"]
["Sundaram Select Midcap Fund - Regular Plan  |"]
["BNP Paribas Midcap Fund  |"]
["Escorts Growth Fund  |"]
["BNP Paribas Midcap Fund  |"]
["ICICI Prudential Midcap Fund - Regular Plan  |"]
["JP Morgan India Mid and Small Cap Fund  |"]
["ICICI Prudential Midcap Fund - Regular Plan  |"]
["JP Morgan India Mid and Small Cap Fund  |"]
["Reliance Regular Savings Fund - Equity Option  |"]
["UTI Mid Cap Fund  |"]
["Birla Sun Life Mid Cap Fund  |"]
["UTI Mid Cap Fund  |"]
["Escorts Growth Fund  |"]
["Goldman Sachs India Equity Fund"]
["Escorts Growth Fund  |"]
["Goldman Sachs India Equity Fund"]
["Mirae Asset Emerging Bluechip Fund - Regular Plan  |"]
["JP Morgan India Mid and Small Cap Fund  |"]
["Goldman Sachs India Equity Fund"]
["SBI Magnum Global Fund  |"]
["Taurus Discovery Fund - Regular Plan  |"]
["Edelweiss Emerging Leaders Fund  |"]
["Birla Sun Life Pure Value Fund  |"]
["Edelweiss Emerging Leaders Fund  |"]
["IDFC Sterling Equity Fund - Regular Plan  |"]
["HDFC Mid-Cap Opportunities Fund  |"]
["IDFC Sterling Equity Fund - Regular Plan  |"]
["Reliance Growth Fund  |"]
["Religare Invesco Mid N Small Cap Fund  |"]
["Birla Sun Life Advantage Fund  |"]
["Taurus Discovery Fund - Regular Plan  |"]
["Birla Sun Life Advantage Fund  |"]
["Franklin India Prima Fund  |"]
["ICICI Prudential Midcap Fund - Regular Plan  |"]
["Franklin India Prima Fund  |"]
["L&T India Value Fund  |"]
["Principal Emerging Bluechip Fund  |"]
["Sundaram Select Midcap Fund - Regular Plan  |"]
["Religare Invesco Mid N Small Cap Fund  |"]
["Sundaram Select Midcap Fund - Regular Plan  |"]
["BNP Paribas Midcap Fund  |"]
["Escorts Growth Fund  |"]
["BNP Paribas Midcap Fund  |"]
["ICICI Prudential Midcap Fund - Regular Plan  |"]
["JP Morgan India Mid and Small Cap Fund  |"]
["SBI Magnum Global Fund  |"]
["Reliance Equity Opportunities Fund  |"]
["Religare Invesco Mid Cap Fund  |"]
["Fund  |  Rating"]
["Birla Sun Life Pure Value Fund  |"]
["Fund  |  Rating"]
["Escorts Leading Sectors Fund"]
["HDFC Mid-Cap Opportunities Fund  |"]
["Escorts Leading Sectors Fund"]
["HDFC Mid-Cap Opportunities Fund  |"]
["Motilal Oswal MOSt Shares M100 ETF Fund  |"]
["SBI Magnum Global Fund  |"]
["Taurus Discovery Fund - Regular Plan  |"]
["SBI Magnum Global Fund  |"]
["Birla Sun Life Pure Value Fund  |"]
["Edelweiss Emerging Leaders Fund  |"]
["Birla Sun Life Pure Value Fund  |"]
["Edelweiss Emerging Leaders Fund  |"]
["IDFC Sterling Equity Fund - Regular Plan  |"]
["HDFC Mid-Cap Opportunities Fund  |"]
["IDFC Sterling Equity Fund - Regular Plan  |"]
["Reliance Growth Fund  |"]
["Religare Invesco Mid N Small Cap Fund  |"]
["Birla Sun Life Advantage Fund  |"]
["Taurus Discovery Fund - Regular Plan  |"]
["Birla Sun Life Advantage Fund  |"]
["ICICI Prudential Midcap Fund - Regular Plan  |"]
["Escorts Growth Fund  |"]
["Goldman Sachs India Equity Fund"]
["Mirae Asset Emerging Bluechip Fund - Regular Plan  |"]
["Reliance Equity Opportunities Fund  |"]
["Tata Equity PE Fund - Regular Plan  |"]
["SBI Emerging Businesses Fund  |"]
["Tata Equity PE Fund - Regular Plan  |"]
["DSP BlackRock Small and Mid Cap Fund - Regular Plan  |"]
["Birla Sun Life Mid Cap Fund  |"]
["DSP BlackRock Small and Mid Cap Fund - Regular Plan  |"]
["IDFC Premier Equity Fund - Regular Plan  |"]
["Kotak Mid-Cap Regular Plan  |"]
["Religare Invesco Mid Cap Fund  |"]
["Reliance Equity Opportunities Fund  |"]
["Religare Invesco Mid Cap Fund  |"]
["Fund  |  Rating"]
["Birla Sun Life Pure Value Fund  |"]
["Fund  |  Rating"]
["Escorts Leading Sectors Fund"]
["HDFC Mid-Cap Opportunities Fund  |"]
["Escorts Leading Sectors Fund"]
["Kotak Mid-Cap Regular Plan  |"]
["Motilal Oswal MOSt Shares M100 ETF Fund  |"]
["SBI Magnum Global Fund  |"]
["Taurus Discovery Fund - Regular Plan  |"]
["Franklin India Prima Fund  |"]
["BNP Paribas Midcap Fund  |"]
["Escorts Growth Fund  |"]
["BNP Paribas Midcap Fund  |"]
["ICICI Prudential Midcap Fund - Regular Plan  |"]
["JP Morgan India Mid and Small Cap Fund  |"]
["Reliance Regular Savings Fund - Equity Option  |"]
["SBI Emerging Businesses Fund  |"]
["Reliance Regular Savings Fund - Equity Option  |"]
["UTI Mid Cap Fund  |"]
["Birla Sun Life Mid Cap Fund  |"]
["UTI Mid Cap Fund  |"]
["Birla Sun Life Mid Cap Fund  |"]
["Goldman Sachs India Equity Fund"]
["Escorts Growth Fund  |"]
["Reliance Equity Opportunities Fund  |"]
["Mirae Asset Emerging Bluechip Fund - Regular Plan  |"]
["SBI Emerging Businesses Fund  |"]
["Tata Equity PE Fund - Regular Plan  |"]
["SBI Emerging Businesses Fund  |"]
["Tata Equity PE Fund - Regular Plan  |"]
["DSP BlackRock Small and Mid Cap Fund - Regular Plan  |"]
["Birla Sun Life Mid Cap Fund  |"]
["DSP BlackRock Small and Mid Cap Fund - Regular Plan  |"]
["IDFC Premier Equity Fund - Regular Plan  |"]
["Kotak Mid-Cap Regular Plan  |"]
["Religare Invesco Mid Cap Fund  |"]
["SBI Emerging Businesses Fund  |"]
["Religare Invesco Mid N Small Cap Fund  |"]
["Birla Sun Life Advantage Fund  |"]
["Taurus Discovery Fund - Regular Plan  |"]
["Birla Sun Life Advantage Fund  |"]
["Franklin India Prima Fund  |"]
["ICICI Prudential Midcap Fund - Regular Plan  |"]
["Principal Emerging Bluechip Fund  |"]
["L&T India Value Fund  |"]
["Principal Emerging Bluechip Fund  |"]
["Sundaram Select Midcap Fund - Regular Plan  |"]
["Religare Invesco Mid N Small Cap Fund  |"]
["Sundaram Select Midcap Fund - Regular Plan  |"]
["BNP Paribas Midcap Fund  |"]
["Escorts Growth Fund  |"]
["BNP Paribas Midcap Fund  |"]
["ICICI Prudential Midcap Fund - Regular Plan  |"]
["JP Morgan India Mid and Small Cap Fund  |"]
["Reliance Regular Savings Fund - Equity Option  |"]
["SBI Emerging Businesses Fund  |"]
["Reliance Regular Savings Fund - Equity Option  |"]
["UTI Mid Cap Fund  |"]
["Birla Sun Life Mid Cap Fund  |"]
["UTI Mid Cap Fund  |"]
["Escorts Growth Fund  |"]
["Goldman Sachs India Equity Fund"]
["Reliance Regular Savings Fund - Equity Option  |"]
["Reliance Growth Fund  |"]
["Motilal Oswal MOSt Shares M100 ETF Fund  |"]
["SBI Magnum Global Fund  |"]
["Taurus Discovery Fund - Regular Plan  |"]
["SBI Magnum Global Fund  |"]
["Birla Sun Life Pure Value Fund  |"]
["Edelweiss Emerging Leaders Fund  |"]
["IDFC Sterling Equity Fund - Regular Plan  |"]
["L&T India Value Fund  |"]
["IDFC Sterling Equity Fund - Regular Plan  |"]
["Reliance Growth Fund  |"]
["Religare Invesco Mid N Small Cap Fund  |"]
["Reliance Growth Fund  |"]
["Religare Invesco Mid N Small Cap Fund  |"]
["Birla Sun Life Advantage Fund  |"]
["Taurus Discovery Fund - Regular Plan  |"]
["Birla Sun Life Advantage Fund  |"]
["Franklin India Prima Fund  |"]
["L&T India Value Fund  |"]
["Principal Emerging Bluechip Fund  |"]
["L&T India Value Fund  |"]
["Principal Emerging Bluechip Fund  |"]
["Sundaram Select Midcap Fund - Regular Plan  |"]
["Religare Invesco Mid N Small Cap Fund  |"]
["Sundaram Select Midcap Fund - Regular Plan  |"]
["Principal Emerging Bluechip Fund  |"]
["Escorts Leading Sectors Fund"]
["Kotak Mid-Cap Regular Plan  |"]
["IDFC Premier Equity Fund - Regular Plan  |"]
["Kotak Mid-Cap Regular Plan  |"]
["Religare Invesco Mid Cap Fund  |"]
["Reliance Equity Opportunities Fund  |"]
["Religare Invesco Mid Cap Fund  |"]
["Fund  |  Rating"]
["Birla Sun Life Pure Value Fund  |"]
["HDFC Mid-Cap Opportunities Fund  |"]
["Escorts Leading Sectors Fund"]
["HDFC Mid-Cap Opportunities Fund  |"]
["Motilal Oswal MOSt Shares M100 ETF Fund  |"]
["Kotak Mid-Cap Regular Plan  |"]
["Motilal Oswal MOSt Shares M100 ETF Fund  |"]
["SBI Magnum Global Fund  |"]
["Taurus Discovery Fund - Regular Plan  |"]
["SBI Magnum Global Fund  |"]
["Birla Sun Life Pure Value Fund  |"]
["Edelweiss Emerging Leaders Fund  |"]
["IDFC Sterling Equity Fund - Regular Plan  |"]
["L&T India Value Fund  |"]
["IDFC Sterling Equity Fund - Regular Plan  |"]
["Reliance Growth Fund  |"]
["Religare Invesco Mid N Small Cap Fund  |"]
["L&T India Value Fund  |"]
["UTI Mid Cap Fund  |"]
["Birla Sun Life Mid Cap Fund  |"]
["Goldman Sachs India Equity Fund"]
["IDFC Premier Equity Fund - Regular Plan  |"]
["Goldman Sachs India Equity Fund"]
["Mirae Asset Emerging Bluechip Fund - Regular Plan  |"]
["Reliance Equity Opportunities Fund  |"]
["Mirae Asset Emerging Bluechip Fund - Regular Plan  |"]
["Reliance Equity Opportunities Fund  |"]
["Tata Equity PE Fund - Regular Plan  |"]
["SBI Emerging Businesses Fund  |"]
["Tata Equity PE Fund - Regular Plan  |"]
["DSP BlackRock Small and Mid Cap Fund - Regular Plan  |"]
["IDFC Premier Equity Fund - Regular Plan  |"]
["Kotak Mid-Cap Regular Plan  |"]
["IDFC Premier Equity Fund - Regular Plan  |"]
["Kotak Mid-Cap Regular Plan  |"]
["Religare Invesco Mid Cap Fund  |"]
["Reliance Equity Opportunities Fund  |"]
["Religare Invesco Mid Cap Fund  |"]
["Fund  |  Rating"]
["Escorts Leading Sectors Fund"]
["HDFC Mid-Cap Opportunities Fund  |"]
["Escorts Leading Sectors Fund"]
["HDFC Mid-Cap Opportunities Fund  |"]
["Motilal Oswal MOSt Shares M100 ETF Fund  |"]
["Reliance Growth Fund  |"]
["Principal Emerging Bluechip Fund  |"]
["Sundaram Select Midcap Fund - Regular Plan  |"]
["UTI Mid Cap Fund  |"]
["Escorts Growth Fund  |"]
["BNP Paribas Midcap Fund  |"]
["Escorts Growth Fund  |"]
["JP Morgan India Mid and Small Cap Fund  |"]
["ICICI Prudential Midcap Fund - Regular Plan  |"]
["JP Morgan India Mid and Small Cap Fund  |"]
["Reliance Regular Savings Fund - Equity Option  |"]
["SBI Emerging Businesses Fund  |"]
["Reliance Regular Savings Fund - Equity Option  |"]
["UTI Mid Cap Fund  |"]
["Birla Sun Life Mid Cap Fund  |"]
["Goldman Sachs India Equity Fund"]
["Escorts Growth Fund  |"]
["Goldman Sachs India Equity Fund"]
["Mirae Asset Emerging Bluechip Fund - Regular Plan  |"]
["Reliance Equity Opportunities Fund  |"]
["Mirae Asset Emerging Bluechip Fund - Regular Plan  |"]
["SBI Emerging Businesses Fund  |"]
["Tata Equity PE Fund - Regular Plan  |"]
["DSP BlackRock Small and Mid Cap Fund - Regular Plan  |"]
["Escorts Leading Sectors Fund"]
["DSP BlackRock Small and Mid Cap Fund - Regular Plan  |"]
["Motilal Oswal MOSt Shares M100 ETF Fund  |"]
["L&T India Value Fund  |"]
["IDFC Sterling Equity Fund - Regular Plan  |"]
["Reliance Growth Fund  |"]
["Religare Invesco Mid N Small Cap Fund  |"]
["Reliance Growth Fund  |"]
["BNP Paribas Midcap Fund  |"]
["Birla Sun Life Advantage Fund  |"]
["Franklin India Prima Fund  |"]
["ICICI Prudential Midcap Fund - Regular Plan  |"]
["Franklin India Prima Fund  |"]
["ICICI Prudential Midcap Fund - Regular Plan  |"]
["Principal Emerging Bluechip Fund  |"]
["L&T India Value Fund  |"]
["Principal Emerging Bluechip Fund  |"]
["Sundaram Select Midcap Fund - Regular Plan  |"]
["BNP Paribas Midcap Fund  |"]
["Escorts Growth Fund  |"]
["BNP Paribas Midcap Fund  |"]
["Escorts Growth Fund  |"]
["JP Morgan India Mid and Small Cap Fund  |"]
["ICICI Prudential Midcap Fund - Regular Plan  |"]
["JP Morgan India Mid and Small Cap Fund  |"]
["Reliance Regular Savings Fund - Equity Option  |"]
["UTI Mid Cap Fund  |"]
["Birla Sun Life Mid Cap Fund  |"]
["Kotak Mid-Cap Regular Plan  |"]
["Birla Sun Life Pure Value Fund  |"]
["HDFC Mid-Cap Opportunities Fund  |"]
["Escorts Leading Sectors Fund"]
["HDFC Mid-Cap Opportunities Fund  |"]
["Motilal Oswal MOSt Shares M100 ETF Fund  |"]
["Reliance Growth Fund  |"]
["Motilal Oswal MOSt Shares M100 ETF Fund  |"]
["SBI Magnum Global Fund  |"]
["Taurus Discovery Fund - Regular Plan  |"]
["Edelweiss Emerging Leaders Fund  |"]
["Birla Sun Life Pure Value Fund  |"]
["Edelweiss Emerging Leaders Fund  |"]
["IDFC Sterling Equity Fund - Regular Plan  |"]
["L&T India Value Fund  |"]
["IDFC Sterling Equity Fund - Regular Plan  |"]
["Reliance Growth Fund  |"]
["Religare Invesco Mid N Small Cap Fund  |"]
["Birla Sun Life Advantage Fund  |"]
["Taurus Discovery Fund - Regular Plan  |"]
["Birla Sun Life Advantage Fund  |"]
["Franklin India Prima Fund  |"]
["ICICI Prudential Midcap Fund - Regular Plan  |"]
["Franklin India Prima Fund  |"]
["L&T India Value Fund  |"]
["Principal Emerging Bluechip Fund  |"]
["Sundaram Select Midcap Fund - Regular Plan  |"]
["IDFC Premier Equity Fund - Regular Plan  |"]
["Tata Equity PE Fund - Regular Plan  |"]
["DSP BlackRock Small and Mid Cap Fund - Regular Plan  |"]
["Escorts Leading Sectors Fund"]
["DSP BlackRock Small and Mid Cap Fund - Regular Plan  |"]
["IDFC Premier Equity Fund - Regular Plan  |"]
["Kotak Mid-Cap Regular Plan  |"]
["IDFC Premier Equity Fund - Regular Plan  |"]
["Kotak Mid-Cap Regular Plan  |"]
["Religare Invesco Mid Cap Fund  |"]
["Fund  |  Rating"]
["Birla Sun Life Pure Value Fund  |"]
["Fund  |  Rating"]
["Birla Sun Life Pure Value Fund  |"]
["HDFC Mid-Cap Opportunities Fund  |"]
["Escorts Leading Sectors Fund"]
["HDFC Mid-Cap Opportunities Fund  |"]
["Motilal Oswal MOSt Shares M100 ETF Fund  |"]
["SBI Magnum Global Fund  |"]
["Taurus Discovery Fund - Regular Plan  |"]
["SBI Magnum Global Fund  |"]
["Taurus Discovery Fund - Regular Plan  |"]
["Edelweiss Emerging Leaders Fund  |"]
["Birla Sun Life Pure Value Fund  |"]
["Edelweiss Emerging Leaders Fund  |"]
["IDFC Sterling Equity Fund - Regular Plan  |"]
["Mirae Asset Emerging Bluechip Fund - Regular Plan  |"]
["JP Morgan India Mid and Small Cap Fund  |"]
["Reliance Regular Savings Fund - Equity Option  |"]
["SBI Emerging Businesses Fund  |"]
["Birla Sun Life Mid Cap Fund  |"]
["UTI Mid Cap Fund  |"]
["Birla Sun Life Mid Cap Fund  |"]
["Goldman Sachs India Equity Fund"]
["IDFC Premier Equity Fund - Regular Plan  |"]
["Goldman Sachs India Equity Fund"]
["Mirae Asset Emerging Bluechip Fund - Regular Plan  |"]
["Reliance Equity Opportunities Fund  |"]
["Tata Equity PE Fund - Regular Plan  |"]
["SBI Emerging Businesses Fund  |"]
["Tata Equity PE Fund - Regular Plan  |"]
["DSP BlackRock Small and Mid Cap Fund - Regular Plan  |"]
["Escorts Leading Sectors Fund"]
["DSP BlackRock Small and Mid Cap Fund - Regular Plan  |"]
["IDFC Premier Equity Fund - Regular Plan  |"]
["Kotak Mid-Cap Regular Plan  |"]
["Religare Invesco Mid Cap Fund  |"]
["SBI Magnum Global Fund  |"]
["Religare Invesco Mid Cap Fund  |"]
["Fund  |  Rating"]
["Birla Sun Life Pure Value Fund  |"]
["Fund  |  Rating"]
["JP Morgan India Mid and Small Cap Fund  |"]
["ICICI Prudential Midcap Fund - Regular Plan  |"]
["Franklin India Prima Fund  |"]
["ICICI Prudential Midcap Fund - Regular Plan  |"]
["Principal Emerging Bluechip Fund  |"]
["Sundaram Select Midcap Fund - Regular Plan  |"]
["UTI Mid Cap Fund  |"]
["Sundaram Select Midcap Fund - Regular Plan  |"]
["BNP Paribas Midcap Fund  |"]
["Escorts Growth Fund  |"]
["BNP Paribas Midcap Fund  |"]
["Escorts Growth Fund  |"]
["JP Morgan India Mid and Small Cap Fund  |"]
["Reliance Regular Savings Fund - Equity Option  |"]
["SBI Emerging Businesses Fund  |"]
["Reliance Regular Savings Fund - Equity Option  |"]
["SBI Emerging Businesses Fund  |"]
["Birla Sun Life Mid Cap Fund  |"]
["UTI Mid Cap Fund  |"]
["Birla Sun Life Mid Cap Fund  |"]
["Goldman Sachs India Equity Fund"]
["Mirae Asset Emerging Bluechip Fund - Regular Plan  |"]
["Reliance Equity Opportunities Fund  |"]
["Mirae Asset Emerging Bluechip Fund - Regular Plan  |"]
["Reliance Equity Opportunities Fund  |"]
["Tata Equity PE Fund - Regular Plan  |"]
["SBI Emerging Businesses Fund  |"]
["ICICI Prudential Midcap Fund - Regular Plan  |"]
["Edelweiss Emerging Leaders Fund  |"]
["Birla Sun Life Pure Value Fund  |"]
["Edelweiss Emerging Leaders Fund  |"]
["IDFC Sterling Equity Fund - Regular Plan  |"]
["L&T India Value Fund  |"]
["Religare Invesco Mid N Small Cap Fund  |"]
["Reliance Growth Fund  |"]
["Religare Invesco Mid N Small Cap Fund  |"]
["Birla Sun Life Advantage Fund  |"]
["BNP Paribas Midcap Fund  |"]
["Birla Sun Life Advantage Fund  |"]
["Franklin India Prima Fund  |"]
["ICICI Prudential Midcap Fund - Regular Plan  |"]
["Principal Emerging Bluechip Fund  |"]
["L&T India Value Fund  |"]
["Principal Emerging Bluechip Fund  |"]
["Sundaram Select Midcap Fund - Regular Plan  |"]
["UTI Mid Cap Fund  |"]
["Sundaram Select Midcap Fund - Regular Plan  |"]
["BNP Paribas Midcap Fund  |"]
["Escorts Growth Fund  |"]
["BNP Paribas Midcap Fund  |"]
["Mirae Asset Emerging Bluechip Fund - Regular Plan  |"]
["JP Morgan India Mid and Small Cap Fund  |"]
["Reliance Regular Savings Fund - Equity Option  |"]
["Franklin India Prima Fund  |"]
["Religare Invesco Mid Cap Fund  |"]
["Fund  |  Rating"]
["Birla Sun Life Pure Value Fund  |"]
["Fund  |  Rating"]
["Birla Sun Life Pure Value Fund  |"]
["HDFC Mid-Cap Opportunities Fund  |"]
["Motilal Oswal MOSt Shares M100 ETF Fund  |"]
["Reliance Growth Fund  |"]
["Motilal Oswal MOSt Shares M100 ETF Fund  |"]
["SBI Magnum Global Fund  |"]
["Taurus Discovery Fund - Regular Plan  |"]
["SBI Magnum Global Fund  |"]
["Taurus Discovery Fund - Regular Plan  |"]
["Edelweiss Emerging Leaders Fund  |"]
["IDFC Sterling Equity Fund - Regular Plan  |"]
["L&T India Value Fund  |"]
["IDFC Sterling Equity Fund - Regular Plan  |"]
["L&T India Value Fund  |"]
["Religare Invesco Mid N Small Cap Fund  |"]
["Reliance Growth Fund  |"]
["Religare Invesco Mid N Small Cap Fund  |"]
["Birla Sun Life Advantage Fund  |"]
["Taurus Discovery Fund - Regular Plan  |"]
["Birla Sun Life Advantage Fund  |"]
["Franklin India Prima Fund  |"]
["Edelweiss Emerging Leaders Fund  |"]
["Reliance Equity Opportunities Fund  |"]
["Mirae Asset Emerging Bluechip Fund - Regular Plan  |"]
["Reliance Equity Opportunities Fund  |"]
["Tata Equity PE Fund - Regular Plan  |"]
["Fund  |  Rating"]
["Tata Equity PE Fund - Regular Plan  |"]
["DSP BlackRock Small and Mid Cap Fund - Regular Plan  |"]
["Escorts Leading Sectors Fund"]
["Kotak Mid-Cap Regular Plan  |"]
["IDFC Premier Equity Fund - Regular Plan  |"]
["Kotak Mid-Cap Regular Plan  |"]
["Religare Invesco Mid Cap Fund  |"]
["SBI Magnum Global Fund  |"]
["Religare Invesco Mid Cap Fund  |"]
["Fund  |  Rating"]
["Birla Sun Life Pure Value Fund  |"]
["HDFC Mid-Cap Opportunities Fund  |"]
["Escorts Leading Sectors Fund"]
["HDFC Mid-Cap Opportunities Fund  |"]
["Motilal Oswal MOSt Shares M100 ETF Fund  |"]
["Reliance Growth Fund  |"]
["Motilal Oswal MOSt Shares M100 ETF Fund  |"]
["SBI Magnum Global Fund  |"]
["Taurus Discovery Fund - Regular Plan  |"]
["SBI Magnum Global Fund  |"]
["Taurus Discovery Fund - Regular Plan  |"]
["HDFC Mid-Cap Opportunities Fund  |"]
["JP Morgan India Mid and Small Cap Fund  |"]
["Mirae Asset Emerging Bluechip Fund - Regular Plan  |"]
["JP Morgan India Mid and Small Cap Fund  |"]
["Reliance Regular Savings Fund - Equity Option  |"]
["SBI Emerging Businesses Fund  |"]
["Reliance Regular Savings Fund - Equity Option  |"]
["SBI Emerging Businesses Fund  |"]
["Birla Sun Life Mid Cap Fund  |"]
["Goldman Sachs India Equity Fund"]
["IDFC Premier Equity Fund - Regular Plan  |"]
["Goldman Sachs India Equity Fund"]
["Mirae Asset Emerging Bluechip Fund - Regular Plan  |"]
["Reliance Equity Opportunities Fund  |"]
["Mirae Asset Emerging Bluechip Fund - Regular Plan  |"]
["Reliance Equity Opportunities Fund  |"]
["Tata Equity PE Fund - Regular Plan  |"]
["SBI Emerging Businesses Fund  |"]
["Tata Equity PE Fund - Regular Plan  |"]
["DSP BlackRock Small and Mid Cap Fund - Regular Plan  |"]
["Escorts Leading Sectors Fund"]
["Kotak Mid-Cap Regular Plan  |"]
["IDFC Premier Equity Fund - Regular Plan  |"]
["Kotak Mid-Cap Regular Plan  |"]
["Religare Invesco Mid Cap Fund  |"]
["Reliance Equity Opportunities Fund  |"]
["Escorts Leading Sectors Fund"]
["Birla Sun Life Advantage Fund  |"]
["BNP Paribas Midcap Fund  |"]
["ICICI Prudential Midcap Fund - Regular Plan  |"]
["Franklin India Prima Fund  |"]
["ICICI Prudential Midcap Fund - Regular Plan  |"]
["Principal Emerging Bluechip Fund  |"]
["Reliance Regular Savings Fund - Equity Option  |"]
["Principal Emerging Bluechip Fund  |"]
["Sundaram Select Midcap Fund - Regular Plan  |"]
["UTI Mid Cap Fund  |"]
["Escorts Growth Fund  |"]
["BNP Paribas Midcap Fund  |"]
["Escorts Growth Fund  |"]
["JP Morgan India Mid and Small Cap Fund  |"]
["Mirae Asset Emerging Bluechip Fund - Regular Plan  |"]
["JP Morgan India Mid and Small Cap Fund  |"]
["Reliance Regular Savings Fund - Equity Option  |"]
["SBI Emerging Businesses Fund  |"]
["Reliance Regular Savings Fund - Equity Option  |"]
["UTI Mid Cap Fund  |"]
["Birla Sun Life Mid Cap Fund  |"]
["Goldman Sachs India Equity Fund"]
["IDFC Premier Equity Fund - Regular Plan  |"]
["Goldman Sachs India Equity Fund"]
["Mirae Asset Emerging Bluechip Fund - Regular Plan  |"]
["DSP BlackRock Small and Mid Cap Fund - Regular Plan  |"]
["Motilal Oswal MOSt Shares M100 ETF Fund  |"]
["Reliance Growth Fund  |"]
["Taurus Discovery Fund - Regular Plan  |"]
["Edelweiss Emerging Leaders Fund  |"]
["Franklin India Prima Fund  |"]
["Edelweiss Emerging Leaders Fund  |"]
["IDFC Sterling Equity Fund - Regular Plan  |"]
["L&T India Value Fund  |"]
["IDFC Sterling Equity Fund - Regular Plan  |"]
["L&T India Value Fund  |"]
["Religare Invesco Mid N Small Cap Fund  |"]
["Reliance Growth Fund  |"]
["BNP Paribas Midcap Fund  |"]
["Birla Sun Life Advantage Fund  |"]
["Franklin India Prima Fund  |"]
["ICICI Prudential Midcap Fund - Regular Plan  |"]
["Franklin India Prima Fund  |"]
["ICICI Prudential Midcap Fund - Regular Plan  |"]
["Principal Emerging Bluechip Fund  |"]
["L&T India Value Fund  |"]
["Principal Emerging Bluechip Fund  |"]
["Sundaram Select Midcap Fund - Regular Plan  |"]
["UTI Mid Cap Fund  |"]
["Escorts Growth Fund  |"]
["BNP Paribas Midcap Fund  |"]
["Escorts Growth Fund  |"]
["Goldman Sachs India Equity Fund"]
["IDFC Premier Equity Fund - Regular Plan  |"]
["Kotak Mid-Cap Regular Plan  |"]
["Religare Invesco Mid Cap Fund  |"]
["SBI Magnum Global Fund  |"]
["Birla Sun Life Pure Value Fund  |"]
["Fund  |  Rating"]
["Birla Sun Life Pure Value Fund  |"]
["HDFC Mid-Cap Opportunities Fund  |"]
["IDFC Sterling Equity Fund - Regular Plan  |"]
["HDFC Mid-Cap Opportunities Fund  |"]
["Motilal Oswal MOSt Shares M100 ETF Fund  |"]
["Reliance Growth Fund  |"]
["Motilal Oswal MOSt Shares M100 ETF Fund  |"]
["SBI Magnum Global Fund  |"]
["Taurus Discovery Fund - Regular Plan  |"]
["Edelweiss Emerging Leaders Fund  |"]
["Franklin India Prima Fund  |"]
["Edelweiss Emerging Leaders Fund  |"]
["IDFC Sterling Equity Fund - Regular Plan  |"]
["L&T India Value Fund  |"]
["IDFC Sterling Equity Fund - Regular Plan  |"]
["Reliance Growth Fund  |"]
["Religare Invesco Mid N Small Cap Fund  |"]
["Birla Sun Life Advantage Fund  |"]
["BNP Paribas Midcap Fund  |"]
["Escorts Growth Fund  |"]
["Goldman Sachs India Equity Fund"]
["IDFC Premier Equity Fund - Regular Plan  |"]
["Goldman Sachs India Equity Fund"]
["IDFC Premier Equity Fund - Regular Plan  |"]
["Reliance Equity Opportunities Fund  |"]
["Tata Equity PE Fund - Regular Plan  |"]
["Fund  |  Rating"]
["Tata Equity PE Fund - Regular Plan  |"]
["DSP BlackRock Small and Mid Cap Fund - Regular Plan  |"]
["Escorts Leading Sectors Fund"]
["DSP BlackRock Small and Mid Cap Fund - Regular Plan  |"]
["Escorts Leading Sectors Fund"]
["Kotak Mid-Cap Regular Plan  |"]
["IDFC Premier Equity Fund - Regular Plan  |"]
["Kotak Mid-Cap Regular Plan  |"]
["Religare Invesco Mid Cap Fund  |"]
["SBI Magnum Global Fund  |"]
["Birla Sun Life Pure Value Fund  |"]
["Fund  |  Rating"]
["Birla Sun Life Pure Value Fund  |"]
["HDFC Mid-Cap Opportunities Fund  |"]
["Escorts Leading Sectors Fund"]
["HDFC Mid-Cap Opportunities Fund  |"]
["Motilal Oswal MOSt Shares M100 ETF Fund  |"]
["Reliance Growth Fund  |"]
["BNP Paribas Midcap Fund  |"]
["Sundaram Select Midcap Fund - Regular Plan  |"]
["UTI Mid Cap Fund  |"]
["Escorts Growth Fund  |"]
["BNP Paribas Midcap Fund  |"]
["Escorts Growth Fund  |"]
["JP Morgan India Mid and Small Cap Fund  |"]
["Mirae Asset Emerging Bluechip Fund - Regular Plan  |"]
["SBI Emerging Businesses Fund  |"]
["Reliance Regular Savings Fund - Equity Option  |"]
["SBI Emerging Businesses Fund  |"]
["Birla Sun Life Mid Cap Fund  |"]
["DSP BlackRock Small and Mid Cap Fund - Regular Plan  |"]
["Birla Sun Life Mid Cap Fund  |"]
["Goldman Sachs India Equity Fund"]
["IDFC Premier Equity Fund - Regular Plan  |"]
["Goldman Sachs India Equity Fund"]
["Mirae Asset Emerging Bluechip Fund - Regular Plan  |"]
["Reliance Equity Opportunities Fund  |"]
["Tata Equity PE Fund - Regular Plan  |"]
["Fund  |  Rating"]
["Tata Equity PE Fund - Regular Plan  |"]
["DSP BlackRock Small and Mid Cap Fund - Regular Plan  |"]
["Escorts Leading Sectors Fund"]
["DSP BlackRock Small and Mid Cap Fund - Regular Plan  |"]
["IDFC Premier Equity Fund - Regular Plan  |"]
["Kotak Mid-Cap Regular Plan  |"]
["Franklin India Prima Fund  |"]
["Sundaram Select Midcap Fund - Regular Plan  |"]
["Religare Invesco Mid N Small Cap Fund  |"]
["Birla Sun Life Advantage Fund  |"]
["BNP Paribas Midcap Fund  |"]
["Birla Sun Life Advantage Fund  |"]
["BNP Paribas Midcap Fund  |"]
["ICICI Prudential Midcap Fund - Regular Plan  |"]
["Franklin India Prima Fund  |"]
["ICICI Prudential Midcap Fund - Regular Plan  |"]
["Principal Emerging Bluechip Fund  |"]
["Sundaram Select Midcap Fund - Regular Plan  |"]
["UTI Mid Cap Fund  |"]
["Sundaram Select Midcap Fund - Regular Plan  |"]
["UTI Mid Cap Fund  |"]
["Escorts Growth Fund  |"]
["BNP Paribas Midcap Fund  |"]
["Escorts Growth Fund  |"]
["JP Morgan India Mid and Small Cap Fund  |"]
["Mirae Asset Emerging Bluechip Fund - Regular Plan  |"]
["SBI Emerging Businesses Fund  |"]
["Reliance Regular Savings Fund - Equity Option  |"]
["SBI Emerging Businesses Fund  |"]
["Birla Sun Life Mid Cap Fund  |"]
["UTI Mid Cap Fund  |"]
["Birla Sun Life Mid Cap Fund  |"]
["Edelweiss Emerging Leaders Fund  |"]
["IDFC Sterling Equity Fund - Regular Plan  |"]
["Reliance Growth Fund  |"]
["Motilal Oswal MOSt Shares M100 ETF Fund  |"]
["Reliance Growth Fund  |"]
["Taurus Discovery Fund - Regular Plan  |"]
["SBI Magnum Global Fund  |"]
["Taurus Discovery Fund - Regular Plan  |"]
["Edelweiss Emerging Leaders Fund  |"]
["Franklin India Prima Fund  |"]
["Edelweiss Emerging Leaders Fund  |"]
["IDFC Sterling Equity Fund - Regular Plan  |"]
["L&T India Value Fund  |"]
["Religare Invesco Mid N Small Cap Fund  |"]
["Sundaram Select Midcap Fund - Regular Plan  |"]
["Religare Invesco Mid N Small Cap Fund  |"]
["Birla Sun Life Advantage Fund  |"]
["BNP Paribas Midcap Fund  |"]
["Birla Sun Life Advantage Fund  |"]
["Franklin India Prima Fund  |"]
["ICICI Prudential Midcap Fund - Regular Plan  |"]
["Principal Emerging Bluechip Fund  |"]
["Reliance Regular Savings Fund - Equity Option  |"]
["Principal Emerging Bluechip Fund  |"]
["Sundaram Select Midcap Fund - Regular Plan  |"]
["UTI Mid Cap Fund  |"]
["Birla Sun Life Pure Value Fund  |"]
["Fund  |  Rating"]
["Escorts Leading Sectors Fund"]
["DSP BlackRock Small and Mid Cap Fund - Regular Plan  |"]
["Motilal Oswal MOSt Shares M100 ETF Fund  |"]
["Kotak Mid-Cap Regular Plan  |"]
["Religare Invesco Mid Cap Fund  |"]
["SBI Magnum Global Fund  |"]
["Religare Invesco Mid Cap Fund  |"]
["SBI Magnum Global Fund  |"]
["Birla Sun Life Pure Value Fund  |"]
["Fund  |  Rating"]
["Birla Sun Life Pure Value Fund  |"]
["HDFC Mid-Cap Opportunities Fund  |"]
["Motilal Oswal MOSt Shares M100 ETF Fund  |"]
["Reliance Growth Fund  |"]
["Motilal Oswal MOSt Shares M100 ETF Fund  |"]
["Reliance Growth Fund  |"]
["Taurus Discovery Fund - Regular Plan  |"]
["SBI Magnum Global Fund  |"]
["Taurus Discovery Fund - Regular Plan  |"]
["Edelweiss Emerging Leaders Fund  |"]
["Franklin India Prima Fund  |"]
["L&T India Value Fund  |"]
["IDFC Sterling Equity Fund - Regular Plan  |"]
["L&T India Value Fund  |"]
["Fund  |  Rating"]
["ICICI Prudential Midcap Fund - Regular Plan  |"]
["IDFC Premier Equity Fund - Regular Plan  |"]
["IDFC Sterling Equity Fund - Regular Plan  |"]
["JP Morgan India Mid and Small Cap Fund  |"]
["Kotak Mid-Cap Regular Plan  |"]
["L&T India Value Fund  |"]
["Mirae Asset Emerging Bluechip Fund - Regular Plan  |"]
["Motilal Oswal MOSt Shares M100 ETF Fund  |"]
["Principal Emerging Bluechip Fund  |"]
["Reliance Equity Opportunities Fund  |"]
["Reliance Growth Fund  |"]
["Reliance Regular Savings Fund - Equity Option  |"]
["Religare Invesco Mid Cap Fund  |"]
["Religare Invesco Mid N Small Cap Fund  |"]
["SBI Emerging Businesses Fund  |"]
["SBI Magnum Global Fund  |"]
["Sundaram Select Midcap Fund - Regular Plan  |"]
["Tata Equity PE Fund - Regular Plan  |"]
["Taurus Discovery Fund - Regular Plan  |"]
["UTI Mid Cap Fund  |"]
["Fund  |  Rating"]
["Birla Sun Life Advantage Fund  |"]
["Birla Sun Life Mid Cap Fund  |"]
["Birla Sun Life Pure Value Fund  |"]
["BNP Paribas Midcap Fund  |"]
["DSP BlackRock Small and Mid Cap Fund - Regular Plan  |"]
["Edelweiss Emerging Leaders Fund  |"]
["Escorts Growth Fund  |"]
["Escorts Leading Sectors Fund"]
["Franklin India Prima Fund  |"]
["Goldman Sachs India Equity Fund"]
["HDFC Mid-Cap Opportunities Fund  |"]
["ICICI Prudential Midcap Fund - Regular Plan  |"]
["IDFC Premier Equity Fund - Regular Plan  |"]
["IDFC Sterling Equity Fund - Regular Plan  |"]
["JP Morgan India Mid and Small Cap Fund  |"]
["Kotak Mid-Cap Regular Plan  |"]
["L&T India Value Fund  |"]
["Mirae Asset Emerging Bluechip Fund - Regular Plan  |"]
["Motilal Oswal MOSt Shares M100 ETF Fund  |"]
["Principal Emerging Bluechip Fund  |"]
["Reliance Equity Opportunities Fund  |"]
["Reliance Growth Fund  |"]
["Reliance Regular Savings Fund - Equity Option  |"]
["Religare Invesco Mid Cap Fund  |"]
["Religare Invesco Mid N Small Cap Fund  |"]
["SBI Emerging Businesses Fund  |"]
["SBI Magnum Global Fund  |"]
["Sundaram Select Midcap Fund - Regular Plan  |"]
["Tata Equity PE Fund - Regular Plan  |"]
["Taurus Discovery Fund - Regular Plan  |"]
["UTI Mid Cap Fund  |"]
["Fund  |  Rating"]
["Birla Sun Life Advantage Fund  |"]
["Birla Sun Life Mid Cap Fund  |"]
["Birla Sun Life Pure Value Fund  |"]
["BNP Paribas Midcap Fund  |"]
["DSP BlackRock Small and Mid Cap Fund - Regular Plan  |"]
["Edelweiss Emerging Leaders Fund  |"]
["Escorts Growth Fund  |"]
["Escorts Leading Sectors Fund"]
["Franklin India Prima Fund  |"]
["Goldman Sachs India Equity Fund"]
["HDFC Mid-Cap Opportunities Fund  |"]
["ICICI Prudential Midcap Fund - Regular Plan  |"]
["IDFC Premier Equity Fund - Regular Plan  |"]
["IDFC Sterling Equity Fund - Regular Plan  |"]
["JP Morgan India Mid and Small Cap Fund  |"]
["Kotak Mid-Cap Regular Plan  |"]
["L&T India Value Fund  |"]
["Mirae Asset Emerging Bluechip Fund - Regular Plan  |"]
["Motilal Oswal MOSt Shares M100 ETF Fund  |"]
["Principal Emerging Bluechip Fund  |"]
["Reliance Equity Opportunities Fund  |"]
["Reliance Growth Fund  |"]
["Reliance Regular Savings Fund - Equity Option  |"]
["Religare Invesco Mid Cap Fund  |"]
["Religare Invesco Mid N Small Cap Fund  |"]
["SBI Emerging Businesses Fund  |"]
["SBI Magnum Global Fund  |"]
["Sundaram Select Midcap Fund - Regular Plan  |"]
["Tata Equity PE Fund - Regular Plan  |"]
["Taurus Discovery Fund - Regular Plan  |"]
["UTI Mid Cap Fund  |"]
["Fund  |  Rating"]
["Birla Sun Life Advantage Fund  |"]
["Birla Sun Life Mid Cap Fund  |"]
["Birla Sun Life Pure Value Fund  |"]
["BNP Paribas Midcap Fund  |"]
["DSP BlackRock Small and Mid Cap Fund - Regular Plan  |"]
["Edelweiss Emerging Leaders Fund  |"]
["Escorts Growth Fund  |"]
["Escorts Leading Sectors Fund"]
["Franklin India Prima Fund  |"]
["Goldman Sachs India Equity Fund"]
["HDFC Mid-Cap Opportunities Fund  |"]
["ICICI Prudential Midcap Fund - Regular Plan  |"]
["IDFC Premier Equity Fund - Regular Plan  |"]
["IDFC Sterling Equity Fund - Regular Plan  |"]
["JP Morgan India Mid and Small Cap Fund  |"]
["Kotak Mid-Cap Regular Plan  |"]
["L&T India Value Fund  |"]
["Mirae Asset Emerging Bluechip Fund - Regular Plan  |"]
["Motilal Oswal MOSt Shares M100 ETF Fund  |"]
["Principal Emerging Bluechip Fund  |"]
["Reliance Equity Opportunities Fund  |"]
["Reliance Growth Fund  |"]
["Reliance Regular Savings Fund - Equity Option  |"]
["Religare Invesco Mid Cap Fund  |"]
["Religare Invesco Mid N Small Cap Fund  |"]
["SBI Emerging Businesses Fund  |"]
["SBI Magnum Global Fund  |"]
["Sundaram Select Midcap Fund - Regular Plan  |"]
["Tata Equity PE Fund - Regular Plan  |"]
["Taurus Discovery Fund - Regular Plan  |"]
["UTI Mid Cap Fund  |"]
["Fund  |  Rating"]
["Birla Sun Life Advantage Fund  |"]
["Birla Sun Life Mid Cap Fund  |"]
["Birla Sun Life Pure Value Fund  |"]
["BNP Paribas Midcap Fund  |"]
["DSP BlackRock Small and Mid Cap Fund - Regular Plan  |"]
["Edelweiss Emerging Leaders Fund  |"]
["Escorts Growth Fund  |"]
["Escorts Leading Sectors Fund"]
["Franklin India Prima Fund  |"]
["Goldman Sachs India Equity Fund"]
["HDFC Mid-Cap Opportunities Fund  |"]
["ICICI Prudential Midcap Fund - Regular Plan  |"]
["IDFC Premier Equity Fund - Regular Plan  |"]
["IDFC Sterling Equity Fund - Regular Plan  |"]
["JP Morgan India Mid and Small Cap Fund  |"]
["Kotak Mid-Cap Regular Plan  |"]
["L&T India Value Fund  |"]
["Mirae Asset Emerging Bluechip Fund - Regular Plan  |"]
["Motilal Oswal MOSt Shares M100 ETF Fund  |"]
["Principal Emerging Bluechip Fund  |"]
["Reliance Equity Opportunities Fund  |"]
["Reliance Growth Fund  |"]
["Reliance Regular Savings Fund - Equity Option  |"]
["Religare Invesco Mid Cap Fund  |"]
["Religare Invesco Mid N Small Cap Fund  |"]
["SBI Emerging Businesses Fund  |"]
["SBI Magnum Global Fund  |"]
["Sundaram Select Midcap Fund - Regular Plan  |"]
["Tata Equity PE Fund - Regular Plan  |"]
["Taurus Discovery Fund - Regular Plan  |"]
["UTI Mid Cap Fund  |"]
["Fund  |  Rating"]
["Birla Sun Life Advantage Fund  |"]
["Birla Sun Life Mid Cap Fund  |"]
["Birla Sun Life Pure Value Fund  |"]
["BNP Paribas Midcap Fund  |"]
["DSP BlackRock Small and Mid Cap Fund - Regular Plan  |"]
["Edelweiss Emerging Leaders Fund  |"]
["Escorts Growth Fund  |"]
["Escorts Leading Sectors Fund"]
["Franklin India Prima Fund  |"]
["Goldman Sachs India Equity Fund"]
["HDFC Mid-Cap Opportunities Fund  |"]
["ICICI Prudential Midcap Fund - Regular Plan  |"]
["IDFC Premier Equity Fund - Regular Plan  |"]
["IDFC Sterling Equity Fund - Regular Plan  |"]
["JP Morgan India Mid and Small Cap Fund  |"]
["Kotak Mid-Cap Regular Plan  |"]
["L&T India Value Fund  |"]
["Mirae Asset Emerging Bluechip Fund - Regular Plan  |"]
["Motilal Oswal MOSt Shares M100 ETF Fund  |"]
["Principal Emerging Bluechip Fund  |"]
["Reliance Equity Opportunities Fund  |"]
["Reliance Growth Fund  |"]
["Reliance Regular Savings Fund - Equity Option  |"]
["Religare Invesco Mid Cap Fund  |"]
["Religare Invesco Mid N Small Cap Fund  |"]
["SBI Emerging Businesses Fund  |"]
["SBI Magnum Global Fund  |"]
["Sundaram Select Midcap Fund - Regular Plan  |"]
["Tata Equity PE Fund - Regular Plan  |"]
["Taurus Discovery Fund - Regular Plan  |"]
["UTI Mid Cap Fund  |"]
["Fund  |  Rating"]
["Birla Sun Life Advantage Fund  |"]
["Birla Sun Life Mid Cap Fund  |"]
["Birla Sun Life Pure Value Fund  |"]
["BNP Paribas Midcap Fund  |"]
["DSP BlackRock Small and Mid Cap Fund - Regular Plan  |"]
["Edelweiss Emerging Leaders Fund  |"]
["Escorts Growth Fund  |"]
["Escorts Leading Sectors Fund"]
["Franklin India Prima Fund  |"]
["Goldman Sachs India Equity Fund"]
["HDFC Mid-Cap Opportunities Fund  |"]
["ICICI Prudential Midcap Fund - Regular Plan  |"]
["IDFC Premier Equity Fund - Regular Plan  |"]
["IDFC Sterling Equity Fund - Regular Plan  |"]
["JP Morgan India Mid and Small Cap Fund  |"]
["Kotak Mid-Cap Regular Plan  |"]
["L&T India Value Fund  |"]
["Mirae Asset Emerging Bluechip Fund - Regular Plan  |"]
["Motilal Oswal MOSt Shares M100 ETF Fund  |"]
["Principal Emerging Bluechip Fund  |"]
["Reliance Equity Opportunities Fund  |"]
["Reliance Growth Fund  |"]
["Reliance Regular Savings Fund - Equity Option  |"]
["Religare Invesco Mid Cap Fund  |"]
["Religare Invesco Mid N Small Cap Fund  |"]
["SBI Emerging Businesses Fund  |"]
["SBI Magnum Global Fund  |"]
["Sundaram Select Midcap Fund - Regular Plan  |"]
["Tata Equity PE Fund - Regular Plan  |"]
["Taurus Discovery Fund - Regular Plan  |"]
["UTI Mid Cap Fund  |"]
["Fund  |  Rating"]
["Birla Sun Life Advantage Fund  |"]
["Birla Sun Life Mid Cap Fund  |"]
["Birla Sun Life Pure Value Fund  |"]
["BNP Paribas Midcap Fund  |"]
["DSP BlackRock Small and Mid Cap Fund - Regular Plan  |"]
["Edelweiss Emerging Leaders Fund  |"]
["Escorts Growth Fund  |"]
["Escorts Leading Sectors Fund"]
["Franklin India Prima Fund  |"]
["Goldman Sachs India Equity Fund"]
["HDFC Mid-Cap Opportunities Fund  |"]
["ICICI Prudential Midcap Fund - Regular Plan  |"]
["IDFC Premier Equity Fund - Regular Plan  |"]
["IDFC Sterling Equity Fund - Regular Plan  |"]
["JP Morgan India Mid and Small Cap Fund  |"]
["Kotak Mid-Cap Regular Plan  |"]
["L&T India Value Fund  |"]
["Mirae Asset Emerging Bluechip Fund - Regular Plan  |"]
["Motilal Oswal MOSt Shares M100 ETF Fund  |"]
["Principal Emerging Bluechip Fund  |"]
["Reliance Equity Opportunities Fund  |"]
["Reliance Growth Fund  |"]
["Reliance Regular Savings Fund - Equity Option  |"]
["Religare Invesco Mid Cap Fund  |"]
["Religare Invesco Mid N Small Cap Fund  |"]
["SBI Emerging Businesses Fund  |"]
["SBI Magnum Global Fund  |"]
["Sundaram Select Midcap Fund - Regular Plan  |"]
["Tata Equity PE Fund - Regular Plan  |"]
["Taurus Discovery Fund - Regular Plan  |"]
["UTI Mid Cap Fund  |"]
["Fund  |  Rating"]
["Birla Sun Life Advantage Fund  |"]
["Birla Sun Life Mid Cap Fund  |"]
["Birla Sun Life Pure Value Fund  |"]
["BNP Paribas Midcap Fund  |"]
["DSP BlackRock Small and Mid Cap Fund - Regular Plan  |"]
["Edelweiss Emerging Leaders Fund  |"]
["Escorts Growth Fund  |"]
["Escorts Leading Sectors Fund"]
["Franklin India Prima Fund  |"]
["Goldman Sachs India Equity Fund"]
["HDFC Mid-Cap Opportunities Fund  |"]
["ICICI Prudential Midcap Fund - Regular Plan  |"]
["IDFC Premier Equity Fund - Regular Plan  |"]
["IDFC Sterling Equity Fund - Regular Plan  |"]
["JP Morgan India Mid and Small Cap Fund  |"]
["Kotak Mid-Cap Regular Plan  |"]
["L&T India Value Fund  |"]
["Mirae Asset Emerging Bluechip Fund - Regular Plan  |"]
["Motilal Oswal MOSt Shares M100 ETF Fund  |"]
["Principal Emerging Bluechip Fund  |"]
["Reliance Equity Opportunities Fund  |"]
["Reliance Growth Fund  |"]
["Reliance Regular Savings Fund - Equity Option  |"]
["Religare Invesco Mid Cap Fund  |"]
["Religare Invesco Mid N Small Cap Fund  |"]
["SBI Emerging Businesses Fund  |"]
["SBI Magnum Global Fund  |"]
["Sundaram Select Midcap Fund - Regular Plan  |"]
["Tata Equity PE Fund - Regular Plan  |"]
["Taurus Discovery Fund - Regular Plan  |"]
["UTI Mid Cap Fund  |"]
["Fund  |  Rating"]
["Birla Sun Life Advantage Fund  |"]
["Birla Sun Life Mid Cap Fund  |"]
["Birla Sun Life Pure Value Fund  |"]
["BNP Paribas Midcap Fund  |"]
["DSP BlackRock Small and Mid Cap Fund - Regular Plan  |"]
["Edelweiss Emerging Leaders Fund  |"]
["Escorts Growth Fund  |"]
["Escorts Leading Sectors Fund"]
["Franklin India Prima Fund  |"]
["Goldman Sachs India Equity Fund"]
["HDFC Mid-Cap Opportunities Fund  |"]
["ICICI Prudential Midcap Fund - Regular Plan  |"]
["IDFC Premier Equity Fund - Regular Plan  |"]
["IDFC Sterling Equity Fund - Regular Plan  |"]
["JP Morgan India Mid and Small Cap Fund  |"]
["Kotak Mid-Cap Regular Plan  |"]
["L&T India Value Fund  |"]
["Mirae Asset Emerging Bluechip Fund - Regular Plan  |"]
["Motilal Oswal MOSt Shares M100 ETF Fund  |"]
["Principal Emerging Bluechip Fund  |"]
["Reliance Equity Opportunities Fund  |"]
["Reliance Growth Fund  |"]
["Reliance Regular Savings Fund - Equity Option  |"]
["Religare Invesco Mid Cap Fund  |"]
["Religare Invesco Mid N Small Cap Fund  |"]
["SBI Emerging Businesses Fund  |"]
["SBI Magnum Global Fund  |"]
["Sundaram Select Midcap Fund - Regular Plan  |"]
["Tata Equity PE Fund - Regular Plan  |"]
["Taurus Discovery Fund - Regular Plan  |"]
["UTI Mid Cap Fund  |"]
["Fund  |  Rating"]
["Birla Sun Life Advantage Fund  |"]
["Birla Sun Life Mid Cap Fund  |"]
["Birla Sun Life Pure Value Fund  |"]
["BNP Paribas Midcap Fund  |"]
["DSP BlackRock Small and Mid Cap Fund - Regular Plan  |"]
["Edelweiss Emerging Leaders Fund  |"]
["Escorts Growth Fund  |"]
["Escorts Leading Sectors Fund"]
["Franklin India Prima Fund  |"]
["Goldman Sachs India Equity Fund"]
["HDFC Mid-Cap Opportunities Fund  |"]
["ICICI Prudential Midcap Fund - Regular Plan  |"]
["IDFC Premier Equity Fund - Regular Plan  |"]
["IDFC Sterling Equity Fund - Regular Plan  |"]
["JP Morgan India Mid and Small Cap Fund  |"]
["Kotak Mid-Cap Regular Plan  |"]
["L&T India Value Fund  |"]
["Mirae Asset Emerging Bluechip Fund - Regular Plan  |"]
["Motilal Oswal MOSt Shares M100 ETF Fund  |"]
["Principal Emerging Bluechip Fund  |"]
["Reliance Equity Opportunities Fund  |"]
["Reliance Growth Fund  |"]
["Reliance Regular Savings Fund - Equity Option  |"]
["Religare Invesco Mid Cap Fund  |"]
["Religare Invesco Mid N Small Cap Fund  |"]
["SBI Emerging Businesses Fund  |"]
["SBI Magnum Global Fund  |"]
["Sundaram Select Midcap Fund - Regular Plan  |"]
["Tata Equity PE Fund - Regular Plan  |"]
["Taurus Discovery Fund - Regular Plan  |"]
["UTI Mid Cap Fund  |"]
["Fund  |  Rating"]
["Birla Sun Life Advantage Fund  |"]
["Birla Sun Life Mid Cap Fund  |"]
["Birla Sun Life Pure Value Fund  |"]
["BNP Paribas Midcap Fund  |"]
["DSP BlackRock Small and Mid Cap Fund - Regular Plan  |"]
["Edelweiss Emerging Leaders Fund  |"]
["Escorts Growth Fund  |"]
["Escorts Leading Sectors Fund"]
["Franklin India Prima Fund  |"]
["Goldman Sachs India Equity Fund"]
["HDFC Mid-Cap Opportunities Fund  |"]
["ICICI Prudential Midcap Fund - Regular Plan  |"]
["IDFC Premier Equity Fund - Regular Plan  |"]
["IDFC Sterling Equity Fund - Regular Plan  |"]
["JP Morgan India Mid and Small Cap Fund  |"]
["Kotak Mid-Cap Regular Plan  |"]
["L&T India Value Fund  |"]
["Mirae Asset Emerging Bluechip Fund - Regular Plan  |"]
["Motilal Oswal MOSt Shares M100 ETF Fund  |"]
["Principal Emerging Bluechip Fund  |"]
["Reliance Equity Opportunities Fund  |"]
["Reliance Growth Fund  |"]
["Reliance Regular Savings Fund - Equity Option  |"]
["Religare Invesco Mid Cap Fund  |"]
["Religare Invesco Mid N Small Cap Fund  |"]
["SBI Emerging Businesses Fund  |"]
["SBI Magnum Global Fund  |"]
["Sundaram Select Midcap Fund - Regular Plan  |"]
["Tata Equity PE Fund - Regular Plan  |"]
["Taurus Discovery Fund - Regular Plan  |"]
["UTI Mid Cap Fund  |"]
["Fund  |  Rating"]
["Birla Sun Life Advantage Fund  |"]
["Birla Sun Life Mid Cap Fund  |"]
["Birla Sun Life Pure Value Fund  |"]
["BNP Paribas Midcap Fund  |"]
["DSP BlackRock Small and Mid Cap Fund - Regular Plan  |"]
["Edelweiss Emerging Leaders Fund  |"]
["Escorts Growth Fund  |"]
["Escorts Leading Sectors Fund"]
["Franklin India Prima Fund  |"]
["Goldman Sachs India Equity Fund"]
["HDFC Mid-Cap Opportunities Fund  |"]
["ICICI Prudential Midcap Fund - Regular Plan  |"]
["IDFC Premier Equity Fund - Regular Plan  |"]
["IDFC Sterling Equity Fund - Regular Plan  |"]
["JP Morgan India Mid and Small Cap Fund  |"]
["Kotak Mid-Cap Regular Plan  |"]
["L&T India Value Fund  |"]
["Mirae Asset Emerging Bluechip Fund - Regular Plan  |"]
["Motilal Oswal MOSt Shares M100 ETF Fund  |"]
["Principal Emerging Bluechip Fund  |"]
["Reliance Equity Opportunities Fund  |"]
["Reliance Growth Fund  |"]
["Reliance Regular Savings Fund - Equity Option  |"]
["Religare Invesco Mid Cap Fund  |"]
["Religare Invesco Mid N Small Cap Fund  |"]
["SBI Emerging Businesses Fund  |"]
["SBI Magnum Global Fund  |"]
["Sundaram Select Midcap Fund - Regular Plan  |"]
["Tata Equity PE Fund - Regular Plan  |"]
["Taurus Discovery Fund - Regular Plan  |"]
["UTI Mid Cap Fund  |"]
["Fund  |  Rating"]
["Birla Sun Life Advantage Fund  |"]
["Birla Sun Life Mid Cap Fund  |"]
["Birla Sun Life Pure Value Fund  |"]
["BNP Paribas Midcap Fund  |"]
["DSP BlackRock Small and Mid Cap Fund - Regular Plan  |"]
["Edelweiss Emerging Leaders Fund  |"]
["Escorts Growth Fund  |"]
["Escorts Leading Sectors Fund"]
["Franklin India Prima Fund  |"]
["Goldman Sachs India Equity Fund"]
["HDFC Mid-Cap Opportunities Fund  |"]
["ICICI Prudential Midcap Fund - Regular Plan  |"]
["IDFC Premier Equity Fund - Regular Plan  |"]
["IDFC Sterling Equity Fund - Regular Plan  |"]
["JP Morgan India Mid and Small Cap Fund  |"]
["Kotak Mid-Cap Regular Plan  |"]
["L&T India Value Fund  |"]
["Mirae Asset Emerging Bluechip Fund - Regular Plan  |"]
["Motilal Oswal MOSt Shares M100 ETF Fund  |"]
["Principal Emerging Bluechip Fund  |"]
["Reliance Equity Opportunities Fund  |"]
["Reliance Growth Fund  |"]
["Reliance Regular Savings Fund - Equity Option  |"]
["Religare Invesco Mid Cap Fund  |"]
["Religare Invesco Mid N Small Cap Fund  |"]
["SBI Emerging Businesses Fund  |"]
["SBI Magnum Global Fund  |"]
["Sundaram Select Midcap Fund - Regular Plan  |"]
["Tata Equity PE Fund - Regular Plan  |"]
["Taurus Discovery Fund - Regular Plan  |"]
["UTI Mid Cap Fund  |"]
["Fund  |  Rating"]
["Birla Sun Life Advantage Fund  |"]
["Birla Sun Life Mid Cap Fund  |"]
["Birla Sun Life Pure Value Fund  |"]
["BNP Paribas Midcap Fund  |"]
["DSP BlackRock Small and Mid Cap Fund - Regular Plan  |"]
["Edelweiss Emerging Leaders Fund  |"]
["Escorts Growth Fund  |"]
["Escorts Leading Sectors Fund"]
["Franklin India Prima Fund  |"]
["Goldman Sachs India Equity Fund"]
["HDFC Mid-Cap Opportunities Fund  |"]
["ICICI Prudential Midcap Fund - Regular Plan  |"]
["IDFC Premier Equity Fund - Regular Plan  |"]
["IDFC Sterling Equity Fund - Regular Plan  |"]
["JP Morgan India Mid and Small Cap Fund  |"]
["Kotak Mid-Cap Regular Plan  |"]
["L&T India Value Fund  |"]
["Mirae Asset Emerging Bluechip Fund - Regular Plan  |"]
["Motilal Oswal MOSt Shares M100 ETF Fund  |"]
["Principal Emerging Bluechip Fund  |"]
["Reliance Equity Opportunities Fund  |"]
["Reliance Growth Fund  |"]
["Reliance Regular Savings Fund - Equity Option  |"]
["Religare Invesco Mid Cap Fund  |"]
["Religare Invesco Mid N Small Cap Fund  |"]
["SBI Emerging Businesses Fund  |"]
["SBI Magnum Global Fund  |"]
["Sundaram Select Midcap Fund - Regular Plan  |"]
["Tata Equity PE Fund - Regular Plan  |"]
["Taurus Discovery Fund - Regular Plan  |"]
["UTI Mid Cap Fund  |"]
["Fund  |  Rating"]
["Birla Sun Life Advantage Fund  |"]
["Birla Sun Life Mid Cap Fund  |"]
["Birla Sun Life Pure Value Fund  |"]
["BNP Paribas Midcap Fund  |"]
["DSP BlackRock Small and Mid Cap Fund - Regular Plan  |"]
["Edelweiss Emerging Leaders Fund  |"]
["Escorts Growth Fund  |"]
["Escorts Leading Sectors Fund"]
["Franklin India Prima Fund  |"]
["Goldman Sachs India Equity Fund"]
["HDFC Mid-Cap Opportunities Fund  |"]
["ICICI Prudential Midcap Fund - Regular Plan  |"]
["IDFC Premier Equity Fund - Regular Plan  |"]
["IDFC Sterling Equity Fund - Regular Plan  |"]
["JP Morgan India Mid and Small Cap Fund  |"]
["Kotak Mid-Cap Regular Plan  |"]
["L&T India Value Fund  |"]
["Mirae Asset Emerging Bluechip Fund - Regular Plan  |"]
["Motilal Oswal MOSt Shares M100 ETF Fund  |"]
["Principal Emerging Bluechip Fund  |"]
["Reliance Equity Opportunities Fund  |"]
["Reliance Growth Fund  |"]
["Reliance Regular Savings Fund - Equity Option  |"]
["Religare Invesco Mid Cap Fund  |"]
["Religare Invesco Mid N Small Cap Fund  |"]
["SBI Emerging Businesses Fund  |"]
["SBI Magnum Global Fund  |"]
["Sundaram Select Midcap Fund - Regular Plan  |"]
["Tata Equity PE Fund - Regular Plan  |"]
["Taurus Discovery Fund - Regular Plan  |"]
["UTI Mid Cap Fund  |"]

{"sheet":"Evaluate","index":5,"n_rows":61,"n_cols":28,"rows_kept":61,"cut":false,"hidden":false,"merged":[]}
[null,"Common funds chosen from the top 15 in both shortlists","12-year %","11-year %","10-year %","9-year %","8-year %","7-year %","6-year %","5-year %","4-year %","3-year %","2-year %","1-year %",null,"Select funds from drop-down list","12-year %","11-year %","10-year %","9-year %","8-year %","7-year %","6-year %","5-year %","4-year %","3-year %","2-year %","1-year %"]
["JP Morgan India Mid and Small Cap Fund  |","Franklin India Prima Plus Fund  |",{"$f":"IF($B2=\"\",\"\",INDEX(Analysis!$A$2:$Z$1000,MATCH(Evaluate!$B2,Analysis!$A$2:$A$1000,0),15))","v":0.19964406853931238},{"$f":"IF($B2=\"\",\"\",INDEX(Analysis!$A$2:$Z$1000,MATCH(Evaluate!$B2,Analysis!$A$2:$A$1000,0),16))","v":0.19331661635655273},{"$f":"IF($B2=\"\",\"\",INDEX(Analysis!$A$2:$Z$1000,MATCH(Evaluate!$B2,Analysis!$A$2:$A$1000,0),17))","v":0.16820666252892669},{"$f":"IF($B2=\"\",\"\",INDEX(Analysis!$A$2:$Z$1000,MATCH(Evaluate!$B2,Analysis!$A$2:$A$1000,0),18))","v":0.13674354855279569},{"$f":"IF($B2=\"\",\"\",INDEX(Analysis!$A$2:$Z$1000,MATCH(Evaluate!$B2,Analysis!$A$2:$A$1000,0),19))","v":9.3613551484551305E-2},{"$f":"IF($B2=\"\",\"\",INDEX(Analysis!$A$2:$Z$1000,MATCH(Evaluate!$B2,Analysis!$A$2:$A$1000,0),20))","v":0.21518325041038944},{"$f":"IF($B2=\"\",\"\",INDEX(Analysis!$A$2:$Z$1000,MATCH(Evaluate!$B2,Analysis!$A$2:$A$1000,0),21))","v":0.14559882424848403},{"$f":"IF($B2=\"\",\"\",INDEX(Analysis!$A$2:$Z$1000,MATCH(Evaluate!$B2,Analysis!$A$2:$A$1000,0),22))","v":0.13600443871765511},{"$f":"IF($B2=\"\",\"\",INDEX(Analysis!$A$2:$Z$1000,MATCH(Evaluate!$B2,Analysis!$A$2:$A$1000,0),23))","v":0.22659006770662171},{"$f":"IF($B2=\"\",\"\",INDEX(Analysis!$A$2:$Z$1000,MATCH(Evaluate!$B2,Analysis!$A$2:$A$1000,0),24))","v":0.19986199295074636},{"$f":"IF($B2=\"\",\"\",INDEX(Analysis!$A$2:$Z$1000,MATCH(Evaluate!$B2,Analysis!$A$2:$A$1000,0),25))","v":0.27928652771769613},{"$f":"IF($B2=\"\",\"\",INDEX(Analysis!$A$2:$Z$1000,MATCH(Evaluate!$B2,Analysis!$A$2:$A$1000,0),26))","v":4.3800000000000061E-2},null,"Average",{"$f":"C33","v":0.15258863462135225},{"$f":"D33","v":0.15492287461554829},0.12812083183372378,0.10815826078805564,6.10876498694864E-2,0.19972958089089596,0.11114468767390913,9.5994023977817061E-2,0.20327571824142501,0.16623512858319958,0.22648984453044899,2.8331073699299939E-2]
["L&T India Value Fund  |","HDFC Capital Builder Fund  |",{"$f":"IF($B3=\"\",\"\",INDEX(Analysis!$A$2:$Z$1000,MATCH(Evaluate!$B3,Analysis!$A$2:$A$1000,0),15))","v":0.19634933255328701},{"$f":"IF($B3=\"\",\"\",INDEX(Analysis!$A$2:$Z$1000,MATCH(Evaluate!$B3,Analysis!$A$2:$A$1000,0),16))","v":0.17364056790080995},{"$f":"IF($B3=\"\",\"\",INDEX(Analysis!$A$2:$Z$1000,MATCH(Evaluate!$B3,Analysis!$A$2:$A$1000,0),17))","v":0.14704376459044832},{"$f":"IF($B3=\"\",\"\",INDEX(Analysis!$A$2:$Z$1000,MATCH(Evaluate!$B3,Analysis!$A$2:$A$1000,0),18))","v":0.13964833552667333},{"$f":"IF($B3=\"\",\"\",INDEX(Analysis!$A$2:$Z$1000,MATCH(Evaluate!$B3,Analysis!$A$2:$A$1000,0),19))","v":8.5160369890058485E-2},{"$f":"IF($B3=\"\",\"\",INDEX(Analysis!$A$2:$Z$1000,MATCH(Evaluate!$B3,Analysis!$A$2:$A$1000,0),20))","v":0.23013870055343233},{"$f":"IF($B3=\"\",\"\",INDEX(Analysis!$A$2:$Z$1000,MATCH(Evaluate!$B3,Analysis!$A$2:$A$1000,0),21))","v":0.14126711953599536},{"$f":"IF($B3=\"\",\"\",INDEX(Analysis!$A$2:$Z$1000,MATCH(Evaluate!$B3,Analysis!$A$2:$A$1000,0),22))","v":0.11461454718977571},{"$f":"IF($B3=\"\",\"\",INDEX(Analysis!$A$2:$Z$1000,MATCH(Evaluate!$B3,Analysis!$A$2:$A$1000,0),23))","v":0.22515039296592398},{"$f":"IF($B3=\"\",\"\",INDEX(Analysis!$A$2:$Z$1000,MATCH(Evaluate!$B3,Analysis!$A$2:$A$1000,0),24))","v":0.20607685424557642},{"$f":"IF($B3=\"\",\"\",INDEX(Analysis!$A$2:$Z$1000,MATCH(Evaluate!$B3,Analysis!$A$2:$A$1000,0),25))","v":0.26077315564696257},{"$f":"IF($B3=\"\",\"\",INDEX(Analysis!$A$2:$Z$1000,MATCH(Evaluate!$B3,Analysis!$A$2:$A$1000,0),26))","v":4.610000000000003E-2},null,"Franklin India Bluechip Fund  |",{"$f":"INDEX($B$2:$N$31,MATCH($P3,$B$2:$B$31,0),Q$33)","v":{"$error":"#N/A"}},{"$f":"INDEX($B$2:$N$31,MATCH($P3,$B$2:$B$31,0),R$33)","v":{"$error":"#N/A"}},{"$error":"#N/A"},{"$error":"#N/A"},{"$error":"#N/A"},{"$error":"#N/A"},{"$error":"#N/A"},{"$error":"#N/A"},{"$error":"#N/A"},{"$error":"#N/A"},{"$error":"#N/A"},{"$error":"#N/A"}]
["Mirae Asset Emerging Bluechip Fund - Regular Plan  |","",{"$f":"IF($B4=\"\",\"\",INDEX(Analysis!$A$2:$Z$1000,MATCH(Evaluate!$B4,Analysis!$A$2:$A$1000,0),15))","v":""},{"$f":"IF($B4=\"\",\"\",INDEX(Analysis!$A$2:$Z$1000,MATCH(Evaluate!$B4,Analysis!$A$2:$A$1000,0),16))","v":""},{"$f":"IF($B4=\"\",\"\",INDEX(Analysis!$A$2:$Z$1000,MATCH(Evaluate!$B4,Analysis!$A$2:$A$1000,0),17))","v":""},{"$f":"IF($B4=\"\",\"\",INDEX(Analysis!$A$2:$Z$1000,MATCH(Evaluate!$B4,Analysis!$A$2:$A$1000,0),18))","v":""},{"$f":"IF($B4=\"\",\"\",INDEX(Analysis!$A$2:$Z$1000,MATCH(Evaluate!$B4,Analysis!$A$2:$A$1000,0),19))","v":""},{"$f":"IF($B4=\"\",\"\",INDEX(Analysis!$A$2:$Z$1000,MATCH(Evaluate!$B4,Analysis!$A$2:$A$1000,0),20))","v":""},{"$f":"IF($B4=\"\",\"\",INDEX(Analysis!$A$2:$Z$1000,MATCH(Evaluate!$B4,Analysis!$A$2:$A$1000,0),21))","v":""},{"$f":"IF($B4=\"\",\"\",INDEX(Analysis!$A$2:$Z$1000,MATCH(Evaluate!$B4,Analysis!$A$2:$A$1000,0),22))","v":""},{"$f":"IF($B4=\"\",\"\",INDEX(Analysis!$A$2:$Z$1000,MATCH(Evaluate!$B4,Analysis!$A$2:$A$1000,0),23))","v":""},{"$f":"IF($B4=\"\",\"\",INDEX(Analysis!$A$2:$Z$1000,MATCH(Evaluate!$B4,Analysis!$A$2:$A$1000,0),24))","v":""},{"$f":"IF($B4=\"\",\"\",INDEX(Analysis!$A$2:$Z$1000,MATCH(Evaluate!$B4,Analysis!$A$2:$A$1000,0),25))","v":""},{"$f":"IF($B4=\"\",\"\",INDEX(Analysis!$A$2:$Z$1000,MATCH(Evaluate!$B4,Analysis!$A$2:$A$1000,0),26))","v":""},null,"ICICI Prudential Focused Bluechip Equity Fund  |",{"$f":"INDEX($B$2:$N$31,MATCH($P4,$B$2:$B$31,0),Q$33)","v":{"$error":"#N/A"}},{"$error":"#N/A"},{"$error":"#N/A"},{"$error":"#N/A"},{"$error":"#N/A"},{"$error":"#N/A"},{"$error":"#N/A"},{"$error":"#N/A"},{"$error":"#N/A"},{"$error":"#N/A"},{"$error":"#N/A"},{"$error":"#N/A"}]
["Motilal Oswal MOSt Focused Midcap 30 Fund - Regular Plan","ICICI Prudential Value Discovery Fund  |",{"$f":"IF($B5=\"\",\"\",INDEX(Analysis!$A$2:$Z$1000,MATCH(Evaluate!$B5,Analysis!$A$2:$A$1000,0),15))","v":""},{"$f":"IF($B5=\"\",\"\",INDEX(Analysis!$A$2:$Z$1000,MATCH(Evaluate!$B5,Analysis!$A$2:$A$1000,0),16))","v":0.21913587442662452},{"$f":"IF($B5=\"\",\"\",INDEX(Analysis!$A$2:$Z$1000,MATCH(Evaluate!$B5,Analysis!$A$2:$A$1000,0),17))","v":0.18370053405198061},{"$f":"IF($B5=\"\",\"\",INDEX(Analysis!$A$2:$Z$1000,MATCH(Evaluate!$B5,Analysis!$A$2:$A$1000,0),18))","v":0.17275739902532616},{"$f":"IF($B5=\"\",\"\",INDEX(Analysis!$A$2:$Z$1000,MATCH(Evaluate!$B5,Analysis!$A$2:$A$1000,0),19))","v":0.14743762588344556},{"$f":"IF($B5=\"\",\"\",INDEX(Analysis!$A$2:$Z$1000,MATCH(Evaluate!$B5,Analysis!$A$2:$A$1000,0),20))","v":0.30978253758874574},{"$f":"IF($B5=\"\",\"\",INDEX(Analysis!$A$2:$Z$1000,MATCH(Evaluate!$B5,Analysis!$A$2:$A$1000,0),21))","v":0.18876908461353459},{"$f":"IF($B5=\"\",\"\",INDEX(Analysis!$A$2:$Z$1000,MATCH(Evaluate!$B5,Analysis!$A$2:$A$1000,0),22))","v":0.17184999273871204},{"$f":"IF($B5=\"\",\"\",INDEX(Analysis!$A$2:$Z$1000,MATCH(Evaluate!$B5,Analysis!$A$2:$A$1000,0),23))","v":0.3046727466510617},{"$f":"IF($B5=\"\",\"\",INDEX(Analysis!$A$2:$Z$1000,MATCH(Evaluate!$B5,Analysis!$A$2:$A$1000,0),24))","v":0.25663143735149152},{"$f":"IF($B5=\"\",\"\",INDEX(Analysis!$A$2:$Z$1000,MATCH(Evaluate!$B5,Analysis!$A$2:$A$1000,0),25))","v":0.35356028310526311},{"$f":"IF($B5=\"\",\"\",INDEX(Analysis!$A$2:$Z$1000,MATCH(Evaluate!$B5,Analysis!$A$2:$A$1000,0),26))","v":5.4400000000000004E-2},null,"","","","","","","","","","","","",""]
["Franklin India Prima Fund  |","Invesco India Contra Fund  |",{"$f":"IF($B6=\"\",\"\",INDEX(Analysis!$A$2:$Z$1000,MATCH(Evaluate!$B6,Analysis!$A$2:$A$1000,0),15))","v":""},{"$f":"IF($B6=\"\",\"\",INDEX(Analysis!$A$2:$Z$1000,MATCH(Evaluate!$B6,Analysis!$A$2:$A$1000,0),16))","v":""},{"$f":"IF($B6=\"\",\"\",INDEX(Analysis!$A$2:$Z$1000,MATCH(Evaluate!$B6,Analysis!$A$2:$A$1000,0),17))","v":""},{"$f":"IF($B6=\"\",\"\",INDEX(Analysis!$A$2:$Z$1000,MATCH(Evaluate!$B6,Analysis!$A$2:$A$1000,0),18))","v":""},{"$f":"IF($B6=\"\",\"\",INDEX(Analysis!$A$2:$Z$1000,MATCH(Evaluate!$B6,Analysis!$A$2:$A$1000,0),19))","v":9.9313424118815163E-2},{"$f":"IF($B6=\"\",\"\",INDEX(Analysis!$A$2:$Z$1000,MATCH(Evaluate!$B6,Analysis!$A$2:$A$1000,0),20))","v":0.22665683632383504},{"$f":"IF($B6=\"\",\"\",INDEX(Analysis!$A$2:$Z$1000,MATCH(Evaluate!$B6,Analysis!$A$2:$A$1000,0),21))","v":0.12626246970474964},{"$f":"IF($B6=\"\",\"\",INDEX(Analysis!$A$2:$Z$1000,MATCH(Evaluate!$B6,Analysis!$A$2:$A$1000,0),22))","v":0.12567588129472873},{"$f":"IF($B6=\"\",\"\",INDEX(Analysis!$A$2:$Z$1000,MATCH(Evaluate!$B6,Analysis!$A$2:$A$1000,0),23))","v":0.23407209527254325},{"$f":"IF($B6=\"\",\"\",INDEX(Analysis!$A$2:$Z$1000,MATCH(Evaluate!$B6,Analysis!$A$2:$A$1000,0),24))","v":0.21061680031477858},{"$f":"IF($B6=\"\",\"\",INDEX(Analysis!$A$2:$Z$1000,MATCH(Evaluate!$B6,Analysis!$A$2:$A$1000,0),25))","v":0.30196387046645801},{"$f":"IF($B6=\"\",\"\",INDEX(Analysis!$A$2:$Z$1000,MATCH(Evaluate!$B6,Analysis!$A$2:$A$1000,0),26))","v":4.0200000000000014E-2},null,"","","","","","","","","","","","",""]
["Sundaram Select Midcap Fund - Regular Plan  |","Kotak Select Focus Fund Regular Plan  |",{"$f":"IF($B7=\"\",\"\",INDEX(Analysis!$A$2:$Z$1000,MATCH(Evaluate!$B7,Analysis!$A$2:$A$1000,0),15))","v":""},{"$f":"IF($B7=\"\",\"\",INDEX(Analysis!$A$2:$Z$1000,MATCH(Evaluate!$B7,Analysis!$A$2:$A$1000,0),16))","v":""},{"$f":"IF($B7=\"\",\"\",INDEX(Analysis!$A$2:$Z$1000,MATCH(Evaluate!$B7,Analysis!$A$2:$A$1000,0),17))","v":""},{"$f":"IF($B7=\"\",\"\",INDEX(Analysis!$A$2:$Z$1000,MATCH(Evaluate!$B7,Analysis!$A$2:$A$1000,0),18))","v":""},{"$f":"IF($B7=\"\",\"\",INDEX(Analysis!$A$2:$Z$1000,MATCH(Evaluate!$B7,Analysis!$A$2:$A$1000,0),19))","v":""},{"$f":"IF($B7=\"\",\"\",INDEX(Analysis!$A$2:$Z$1000,MATCH(Evaluate!$B7,Analysis!$A$2:$A$1000,0),20))","v":""},{"$f":"IF($B7=\"\",\"\",INDEX(Analysis!$A$2:$Z$1000,MATCH(Evaluate!$B7,Analysis!$A$2:$A$1000,0),21))","v":0.13586659232514298},{"$f":"IF($B7=\"\",\"\",INDEX(Analysis!$A$2:$Z$1000,MATCH(Evaluate!$B7,Analysis!$A$2:$A$1000,0),22))","v":0.12336362942530466},{"$f":"IF($B7=\"\",\"\",INDEX(Analysis!$A$2:$Z$1000,MATCH(Evaluate!$B7,Analysis!$A$2:$A$1000,0),23))","v":0.23177453446737872},{"$f":"IF($B7=\"\",\"\",INDEX(Analysis!$A$2:$Z$1000,MATCH(Evaluate!$B7,Analysis!$A$2:$A$1000,0),24))","v":0.19932099308046936},{"$f":"IF($B7=\"\",\"\",INDEX(Analysis!$A$2:$Z$1000,MATCH(Evaluate!$B7,Analysis!$A$2:$A$1000,0),25))","v":0.27492333887179288},{"$f":"IF($B7=\"\",\"\",INDEX(Analysis!$A$2:$Z$1000,MATCH(Evaluate!$B7,Analysis!$A$2:$A$1000,0),26))","v":2.9600000000000071E-2},null,"","","","","","","","","","","","",""]
["Tata Midcap Growth Fund - Regular Plan  |","Mirae Asset India Opportunities Fund - Regular Plan  |",{"$f":"IF($B8=\"\",\"\",INDEX(Analysis!$A$2:$Z$1000,MATCH(Evaluate!$B8,Analysis!$A$2:$A$1000,0),15))","v":""},{"$f":"IF($B8=\"\",\"\",INDEX(Analysis!$A$2:$Z$1000,MATCH(Evaluate!$B8,Analysis!$A$2:$A$1000,0),16))","v":""},{"$f":"IF($B8=\"\",\"\",INDEX(Analysis!$A$2:$Z$1000,MATCH(Evaluate!$B8,Analysis!$A$2:$A$1000,0),17))","v":""},{"$f":"IF($B8=\"\",\"\",INDEX(Analysis!$A$2:$Z$1000,MATCH(Evaluate!$B8,Analysis!$A$2:$A$1000,0),18))","v":""},{"$f":"IF($B8=\"\",\"\",INDEX(Analysis!$A$2:$Z$1000,MATCH(Evaluate!$B8,Analysis!$A$2:$A$1000,0),19))","v":""},{"$f":"IF($B8=\"\",\"\",INDEX(Analysis!$A$2:$Z$1000,MATCH(Evaluate!$B8,Analysis!$A$2:$A$1000,0),20))","v":0.25090164516690017},{"$f":"IF($B8=\"\",\"\",INDEX(Analysis!$A$2:$Z$1000,MATCH(Evaluate!$B8,Analysis!$A$2:$A$1000,0),21))","v":0.1480349564562895},{"$f":"IF($B8=\"\",\"\",INDEX(Analysis!$A$2:$Z$1000,MATCH(Evaluate!$B8,Analysis!$A$2:$A$1000,0),22))","v":0.1320885895761954},{"$f":"IF($B8=\"\",\"\",INDEX(Analysis!$A$2:$Z$1000,MATCH(Evaluate!$B8,Analysis!$A$2:$A$1000,0),23))","v":0.2333619169113883},{"$f":"IF($B8=\"\",\"\",INDEX(Analysis!$A$2:$Z$1000,MATCH(Evaluate!$B8,Analysis!$A$2:$A$1000,0),24))","v":0.20189275656722816},{"$f":"IF($B8=\"\",\"\",INDEX(Analysis!$A$2:$Z$1000,MATCH(Evaluate!$B8,Analysis!$A$2:$A$1000,0),25))","v":0.26236504229165036},{"$f":"IF($B8=\"\",\"\",INDEX(Analysis!$A$2:$Z$1000,MATCH(Evaluate!$B8,Analysis!$A$2:$A$1000,0),26))","v":4.2499999999999982E-2},null,"Choose Index"]
["UTI Mid Cap Fund  |","Motilal Oswal MOSt Focused Multicap 35 Fund - Regular Plan",{"$f":"IF($B9=\"\",\"\",INDEX(Analysis!$A$2:$Z$1000,MATCH(Evaluate!$B9,Analysis!$A$2:$A$1000,0),15))","v":""},{"$f":"IF($B9=\"\",\"\",INDEX(Analysis!$A$2:$Z$1000,MATCH(Evaluate!$B9,Analysis!$A$2:$A$1000,0),16))","v":""},{"$f":"IF($B9=\"\",\"\",INDEX(Analysis!$A$2:$Z$1000,MATCH(Evaluate!$B9,Analysis!$A$2:$A$1000,0),17))","v":""},{"$f":"IF($B9=\"\",\"\",INDEX(Analysis!$A$2:$Z$1000,MATCH(Evaluate!$B9,Analysis!$A$2:$A$1000,0),18))","v":""},{"$f":"IF($B9=\"\",\"\",INDEX(Analysis!$A$2:$Z$1000,MATCH(Evaluate!$B9,Analysis!$A$2:$A$1000,0),19))","v":""},{"$f":"IF($B9=\"\",\"\",INDEX(Analysis!$A$2:$Z$1000,MATCH(Evaluate!$B9,Analysis!$A$2:$A$1000,0),20))","v":""},{"$f":"IF($B9=\"\",\"\",INDEX(Analysis!$A$2:$Z$1000,MATCH(Evaluate!$B9,Analysis!$A$2:$A$1000,0),21))","v":""},{"$f":"IF($B9=\"\",\"\",INDEX(Analysis!$A$2:$Z$1000,MATCH(Evaluate!$B9,Analysis!$A$2:$A$1000,0),22))","v":""},{"$f":"IF($B9=\"\",\"\",INDEX(Analysis!$A$2:$Z$1000,MATCH(Evaluate!$B9,Analysis!$A$2:$A$1000,0),23))","v":""},{"$f":"IF($B9=\"\",\"\",INDEX(Analysis!$A$2:$Z$1000,MATCH(Evaluate!$B9,Analysis!$A$2:$A$1000,0),24))","v":""},{"$f":"IF($B9=\"\",\"\",INDEX(Analysis!$A$2:$Z$1000,MATCH(Evaluate!$B9,Analysis!$A$2:$A$1000,0),25))","v":""},{"$f":"IF($B9=\"\",\"\",INDEX(Analysis!$A$2:$Z$1000,MATCH(Evaluate!$B9,Analysis!$A$2:$A$1000,0),26))","v":0.14599999999999991},null,"BSE 100",{"$f":"INDEX($B$1:$N$27,MATCH($P$9,$B$1:$B$27,0),Q$33)","v":0.13101252822477671},{"$f":"INDEX($B$1:$N$27,MATCH($P$9,$B$1:$B$27,0),R$33)","v":0.12851588654915513},{"$f":"INDEX($B$1:$N$27,MATCH($P$9,$B$1:$B$27,0),S$33)","v":0.10617031616722716},7.7041908337992515E-2,2.5572782822832041E-2,0.15515987523269992,6.9115468583820894E-2,5.2043251340919028E-2,0.14903883871343071,0.10429257365611933,0.12995028940052911,-3.2218855882827468E-2]
["Invesco India Mid Cap Fund  |","PPFAS Long Term Value Fund - Regular Plan",{"$f":"IF($B10=\"\",\"\",INDEX(Analysis!$A$2:$Z$1000,MATCH(Evaluate!$B10,Analysis!$A$2:$A$1000,0),15))","v":""},{"$f":"IF($B10=\"\",\"\",INDEX(Analysis!$A$2:$Z$1000,MATCH(Evaluate!$B10,Analysis!$A$2:$A$1000,0),16))","v":""},{"$f":"IF($B10=\"\",\"\",INDEX(Analysis!$A$2:$Z$1000,MATCH(Evaluate!$B10,Analysis!$A$2:$A$1000,0),17))","v":""},{"$f":"IF($B10=\"\",\"\",INDEX(Analysis!$A$2:$Z$1000,MATCH(Evaluate!$B10,Analysis!$A$2:$A$1000,0),18))","v":""},{"$f":"IF($B10=\"\",\"\",INDEX(Analysis!$A$2:$Z$1000,MATCH(Evaluate!$B10,Analysis!$A$2:$A$1000,0),19))","v":""},{"$f":"IF($B10=\"\",\"\",INDEX(Analysis!$A$2:$Z$1000,MATCH(Evaluate!$B10,Analysis!$A$2:$A$1000,0),20))","v":""},{"$f":"IF($B10=\"\",\"\",INDEX(Analysis!$A$2:$Z$1000,MATCH(Evaluate!$B10,Analysis!$A$2:$A$1000,0),21))","v":""},{"$f":"IF($B10=\"\",\"\",INDEX(Analysis!$A$2:$Z$1000,MATCH(Evaluate!$B10,Analysis!$A$2:$A$1000,0),22))","v":""},{"$f":"IF($B10=\"\",\"\",INDEX(Analysis!$A$2:$Z$1000,MATCH(Evaluate!$B10,Analysis!$A$2:$A$1000,0),23))","v":""},{"$f":"IF($B10=\"\",\"\",INDEX(Analysis!$A$2:$Z$1000,MATCH(Evaluate!$B10,Analysis!$A$2:$A$1000,0),24))","v":""},{"$f":"IF($B10=\"\",\"\",INDEX(Analysis!$A$2:$Z$1000,MATCH(Evaluate!$B10,Analysis!$A$2:$A$1000,0),25))","v":0.25605297658976145},{"$f":"IF($B10=\"\",\"\",INDEX(Analysis!$A$2:$Z$1000,MATCH(Evaluate!$B10,Analysis!$A$2:$A$1000,0),26))","v":8.9399999999999924E-2}]
["Birla Sun Life Pure Value Fund  |","",{"$f":"IF($B11=\"\",\"\",INDEX(Analysis!$A$2:$Z$1000,MATCH(Evaluate!$B11,Analysis!$A$2:$A$1000,0),15))","v":""},{"$f":"IF($B11=\"\",\"\",INDEX(Analysis!$A$2:$Z$1000,MATCH(Evaluate!$B11,Analysis!$A$2:$A$1000,0),16))","v":""},{"$f":"IF($B11=\"\",\"\",INDEX(Analysis!$A$2:$Z$1000,MATCH(Evaluate!$B11,Analysis!$A$2:$A$1000,0),17))","v":""},{"$f":"IF($B11=\"\",\"\",INDEX(Analysis!$A$2:$Z$1000,MATCH(Evaluate!$B11,Analysis!$A$2:$A$1000,0),18))","v":""},{"$f":"IF($B11=\"\",\"\",INDEX(Analysis!$A$2:$Z$1000,MATCH(Evaluate!$B11,Analysis!$A$2:$A$1000,0),19))","v":""},{"$f":"IF($B11=\"\",\"\",INDEX(Analysis!$A$2:$Z$1000,MATCH(Evaluate!$B11,Analysis!$A$2:$A$1000,0),20))","v":""},{"$f":"IF($B11=\"\",\"\",INDEX(Analysis!$A$2:$Z$1000,MATCH(Evaluate!$B11,Analysis!$A$2:$A$1000,0),21))","v":""},{"$f":"IF($B11=\"\",\"\",INDEX(Analysis!$A$2:$Z$1000,MATCH(Evaluate!$B11,Analysis!$A$2:$A$1000,0),22))","v":""},{"$f":"IF($B11=\"\",\"\",INDEX(Analysis!$A$2:$Z$1000,MATCH(Evaluate!$B11,Analysis!$A$2:$A$1000,0),23))","v":""},{"$f":"IF($B11=\"\",\"\",INDEX(Analysis!$A$2:$Z$1000,MATCH(Evaluate!$B11,Analysis!$A$2:$A$1000,0),24))","v":""},{"$f":"IF($B11=\"\",\"\",INDEX(Analysis!$A$2:$Z$1000,MATCH(Evaluate!$B11,Analysis!$A$2:$A$1000,0),25))","v":""},{"$f":"IF($B11=\"\",\"\",INDEX(Analysis!$A$2:$Z$1000,MATCH(Evaluate!$B11,Analysis!$A$2:$A$1000,0),26))","v":""}]
["SBI Magnum Global Fund  |","SBI Magnum Multiplier Fund  |",{"$f":"IF($B12=\"\",\"\",INDEX(Analysis!$A$2:$Z$1000,MATCH(Evaluate!$B12,Analysis!$A$2:$A$1000,0),15))","v":0.21059132590731289},{"$f":"IF($B12=\"\",\"\",INDEX(Analysis!$A$2:$Z$1000,MATCH(Evaluate!$B12,Analysis!$A$2:$A$1000,0),16))","v":0.2016539699719746},{"$f":"IF($B12=\"\",\"\",INDEX(Analysis!$A$2:$Z$1000,MATCH(Evaluate!$B12,Analysis!$A$2:$A$1000,0),17))","v":0.16062532698808751},{"$f":"IF($B12=\"\",\"\",INDEX(Analysis!$A$2:$Z$1000,MATCH(Evaluate!$B12,Analysis!$A$2:$A$1000,0),18))","v":0.12810559390826537},{"$f":"IF($B12=\"\",\"\",INDEX(Analysis!$A$2:$Z$1000,MATCH(Evaluate!$B12,Analysis!$A$2:$A$1000,0),19))","v":7.5790545180305813E-2},{"$f":"IF($B12=\"\",\"\",INDEX(Analysis!$A$2:$Z$1000,MATCH(Evaluate!$B12,Analysis!$A$2:$A$1000,0),20))","v":0.21912992124594721},{"$f":"IF($B12=\"\",\"\",INDEX(Analysis!$A$2:$Z$1000,MATCH(Evaluate!$B12,Analysis!$A$2:$A$1000,0),21))","v":0.13477758302804288},{"$f":"IF($B12=\"\",\"\",INDEX(Analysis!$A$2:$Z$1000,MATCH(Evaluate!$B12,Analysis!$A$2:$A$1000,0),22))","v":0.12345977778574335},{"$f":"IF($B12=\"\",\"\",INDEX(Analysis!$A$2:$Z$1000,MATCH(Evaluate!$B12,Analysis!$A$2:$A$1000,0),23))","v":0.24601363841290369},{"$f":"IF($B12=\"\",\"\",INDEX(Analysis!$A$2:$Z$1000,MATCH(Evaluate!$B12,Analysis!$A$2:$A$1000,0),24))","v":0.22092973435578989},{"$f":"IF($B12=\"\",\"\",INDEX(Analysis!$A$2:$Z$1000,MATCH(Evaluate!$B12,Analysis!$A$2:$A$1000,0),25))","v":0.28308855890776297},{"$f":"IF($B12=\"\",\"\",INDEX(Analysis!$A$2:$Z$1000,MATCH(Evaluate!$B12,Analysis!$A$2:$A$1000,0),26))","v":0.11050000000000004}]
["BNP Paribas Midcap Fund  |","Tata Ethical Fund - Regular Plan  |",{"$f":"IF($B13=\"\",\"\",INDEX(Analysis!$A$2:$Z$1000,MATCH(Evaluate!$B13,Analysis!$A$2:$A$1000,0),15))","v":0.17999031456590808},{"$f":"IF($B13=\"\",\"\",INDEX(Analysis!$A$2:$Z$1000,MATCH(Evaluate!$B13,Analysis!$A$2:$A$1000,0),16))","v":0.17757393441520697},{"$f":"IF($B13=\"\",\"\",INDEX(Analysis!$A$2:$Z$1000,MATCH(Evaluate!$B13,Analysis!$A$2:$A$1000,0),17))","v":0.14937938223987013},{"$f":"IF($B13=\"\",\"\",INDEX(Analysis!$A$2:$Z$1000,MATCH(Evaluate!$B13,Analysis!$A$2:$A$1000,0),18))","v":0.1155621522936805},{"$f":"IF($B13=\"\",\"\",INDEX(Analysis!$A$2:$Z$1000,MATCH(Evaluate!$B13,Analysis!$A$2:$A$1000,0),19))","v":6.0688068223005986E-2},{"$f":"IF($B13=\"\",\"\",INDEX(Analysis!$A$2:$Z$1000,MATCH(Evaluate!$B13,Analysis!$A$2:$A$1000,0),20))","v":0.2430838143165186},{"$f":"IF($B13=\"\",\"\",INDEX(Analysis!$A$2:$Z$1000,MATCH(Evaluate!$B13,Analysis!$A$2:$A$1000,0),21))","v":0.141622050485539},{"$f":"IF($B13=\"\",\"\",INDEX(Analysis!$A$2:$Z$1000,MATCH(Evaluate!$B13,Analysis!$A$2:$A$1000,0),22))","v":0.13072555721326307},{"$f":"IF($B13=\"\",\"\",INDEX(Analysis!$A$2:$Z$1000,MATCH(Evaluate!$B13,Analysis!$A$2:$A$1000,0),23))","v":0.22027323023195633},{"$f":"IF($B13=\"\",\"\",INDEX(Analysis!$A$2:$Z$1000,MATCH(Evaluate!$B13,Analysis!$A$2:$A$1000,0),24))","v":0.20833509131115258},{"$f":"IF($B13=\"\",\"\",INDEX(Analysis!$A$2:$Z$1000,MATCH(Evaluate!$B13,Analysis!$A$2:$A$1000,0),25))","v":0.23134351015466037},{"$f":"IF($B13=\"\",\"\",INDEX(Analysis!$A$2:$Z$1000,MATCH(Evaluate!$B13,Analysis!$A$2:$A$1000,0),26))","v":7.1600000000000108E-2}]
["HDFC Mid-Cap Opportunities Fund  |","BNP Paribas Dividend Yield Fund  |",{"$f":"IF($B14=\"\",\"\",INDEX(Analysis!$A$2:$Z$1000,MATCH(Evaluate!$B14,Analysis!$A$2:$A$1000,0),15))","v":""},{"$f":"IF($B14=\"\",\"\",INDEX(Analysis!$A$2:$Z$1000,MATCH(Evaluate!$B14,Analysis!$A$2:$A$1000,0),16))","v":""},{"$f":"IF($B14=\"\",\"\",INDEX(Analysis!$A$2:$Z$1000,MATCH(Evaluate!$B14,Analysis!$A$2:$A$1000,0),17))","v":0.12150955629712645},{"$f":"IF($B14=\"\",\"\",INDEX(Analysis!$A$2:$Z$1000,MATCH(Evaluate!$B14,Analysis!$A$2:$A$1000,0),18))","v":0.14000313999843006},{"$f":"IF($B14=\"\",\"\",INDEX(Analysis!$A$2:$Z$1000,MATCH(Evaluate!$B14,Analysis!$A$2:$A$1000,0),19))","v":9.8773162420336957E-2},{"$f":"IF($B14=\"\",\"\",INDEX(Analysis!$A$2:$Z$1000,MATCH(Evaluate!$B14,Analysis!$A$2:$A$1000,0),20))","v":0.22324709558918809},{"$f":"IF($B14=\"\",\"\",INDEX(Analysis!$A$2:$Z$1000,MATCH(Evaluate!$B14,Analysis!$A$2:$A$1000,0),21))","v":0.14589669118048487},{"$f":"IF($B14=\"\",\"\",INDEX(Analysis!$A$2:$Z$1000,MATCH(Evaluate!$B14,Analysis!$A$2:$A$1000,0),22))","v":0.1320337228740176},{"$f":"IF($B14=\"\",\"\",INDEX(Analysis!$A$2:$Z$1000,MATCH(Evaluate!$B14,Analysis!$A$2:$A$1000,0),23))","v":0.22336114426967324},{"$f":"IF($B14=\"\",\"\",INDEX(Analysis!$A$2:$Z$1000,MATCH(Evaluate!$B14,Analysis!$A$2:$A$1000,0),24))","v":0.19004828578498967},{"$f":"IF($B14=\"\",\"\",INDEX(Analysis!$A$2:$Z$1000,MATCH(Evaluate!$B14,Analysis!$A$2:$A$1000,0),25))","v":0.26356382505989773},{"$f":"IF($B14=\"\",\"\",INDEX(Analysis!$A$2:$Z$1000,MATCH(Evaluate!$B14,Analysis!$A$2:$A$1000,0),26))","v":6.6599999999999993E-2}]
["Invesco India Mid N Small Cap Fund  |","Franklin India Flexi Cap Fund  |",{"$f":"IF($B15=\"\",\"\",INDEX(Analysis!$A$2:$Z$1000,MATCH(Evaluate!$B15,Analysis!$A$2:$A$1000,0),15))","v":""},{"$f":"IF($B15=\"\",\"\",INDEX(Analysis!$A$2:$Z$1000,MATCH(Evaluate!$B15,Analysis!$A$2:$A$1000,0),16))","v":""},{"$f":"IF($B15=\"\",\"\",INDEX(Analysis!$A$2:$Z$1000,MATCH(Evaluate!$B15,Analysis!$A$2:$A$1000,0),17))","v":0.15053225921001046},{"$f":"IF($B15=\"\",\"\",INDEX(Analysis!$A$2:$Z$1000,MATCH(Evaluate!$B15,Analysis!$A$2:$A$1000,0),18))","v":0.12402248807543947},{"$f":"IF($B15=\"\",\"\",INDEX(Analysis!$A$2:$Z$1000,MATCH(Evaluate!$B15,Analysis!$A$2:$A$1000,0),19))","v":8.5064057039625718E-2},{"$f":"IF($B15=\"\",\"\",INDEX(Analysis!$A$2:$Z$1000,MATCH(Evaluate!$B15,Analysis!$A$2:$A$1000,0),20))","v":0.21781407885390469},{"$f":"IF($B15=\"\",\"\",INDEX(Analysis!$A$2:$Z$1000,MATCH(Evaluate!$B15,Analysis!$A$2:$A$1000,0),21))","v":0.13206404964980978},{"$f":"IF($B15=\"\",\"\",INDEX(Analysis!$A$2:$Z$1000,MATCH(Evaluate!$B15,Analysis!$A$2:$A$1000,0),22))","v":0.1170714352386697},{"$f":"IF($B15=\"\",\"\",INDEX(Analysis!$A$2:$Z$1000,MATCH(Evaluate!$B15,Analysis!$A$2:$A$1000,0),23))","v":0.22299894887634886},{"$f":"IF($B15=\"\",\"\",INDEX(Analysis!$A$2:$Z$1000,MATCH(Evaluate!$B15,Analysis!$A$2:$A$1000,0),24))","v":0.19393655207463323},{"$f":"IF($B15=\"\",\"\",INDEX(Analysis!$A$2:$Z$1000,MATCH(Evaluate!$B15,Analysis!$A$2:$A$1000,0),25))","v":0.26077611017975744},{"$f":"IF($B15=\"\",\"\",INDEX(Analysis!$A$2:$Z$1000,MATCH(Evaluate!$B15,Analysis!$A$2:$A$1000,0),26))","v":1.9600000000000062E-2}]
["IDFC Premier Equity Fund - Regular Plan  |","L&T India Special Situations Fund  |",{"$f":"IF($B16=\"\",\"\",INDEX(Analysis!$A$2:$Z$1000,MATCH(Evaluate!$B16,Analysis!$A$2:$A$1000,0),15))","v":""},{"$f":"IF($B16=\"\",\"\",INDEX(Analysis!$A$2:$Z$1000,MATCH(Evaluate!$B16,Analysis!$A$2:$A$1000,0),16))","v":""},{"$f":"IF($B16=\"\",\"\",INDEX(Analysis!$A$2:$Z$1000,MATCH(Evaluate!$B16,Analysis!$A$2:$A$1000,0),17))","v":""},{"$f":"IF($B16=\"\",\"\",INDEX(Analysis!$A$2:$Z$1000,MATCH(Evaluate!$B16,Analysis!$A$2:$A$1000,0),18))","v":0.11703671759783463},{"$f":"IF($B16=\"\",\"\",INDEX(Analysis!$A$2:$Z$1000,MATCH(Evaluate!$B16,Analysis!$A$2:$A$1000,0),19))","v":8.1094635114005165E-2},{"$f":"IF($B16=\"\",\"\",INDEX(Analysis!$A$2:$Z$1000,MATCH(Evaluate!$B16,Analysis!$A$2:$A$1000,0),20))","v":0.21448918233189951},{"$f":"IF($B16=\"\",\"\",INDEX(Analysis!$A$2:$Z$1000,MATCH(Evaluate!$B16,Analysis!$A$2:$A$1000,0),21))","v":0.13601737608455311},{"$f":"IF($B16=\"\",\"\",INDEX(Analysis!$A$2:$Z$1000,MATCH(Evaluate!$B16,Analysis!$A$2:$A$1000,0),22))","v":0.1191765181413218},{"$f":"IF($B16=\"\",\"\",INDEX(Analysis!$A$2:$Z$1000,MATCH(Evaluate!$B16,Analysis!$A$2:$A$1000,0),23))","v":0.22718473691830776},{"$f":"IF($B16=\"\",\"\",INDEX(Analysis!$A$2:$Z$1000,MATCH(Evaluate!$B16,Analysis!$A$2:$A$1000,0),24))","v":0.17451327674120032},{"$f":"IF($B16=\"\",\"\",INDEX(Analysis!$A$2:$Z$1000,MATCH(Evaluate!$B16,Analysis!$A$2:$A$1000,0),25))","v":0.23802341657983184},{"$f":"IF($B16=\"\",\"\",INDEX(Analysis!$A$2:$Z$1000,MATCH(Evaluate!$B16,Analysis!$A$2:$A$1000,0),26))","v":1.4899999999999913E-2}]
["JP Morgan India Mid and Small Cap Fund  |","Sensex",0.12902122350259382,0.12944735274202257,0.10402199337534745,7.0006021649563044E-2,2.8611359117655111E-2,0.14877340803336492,6.625545265236199E-2,4.5971791298416775E-2,0.13687814352838967,0.10133510186053063,0.10963168185503802,-4.9779576850130125E-2]
["L&T India Value Fund  |","BSE 100",0.13101252822477671,0.12851588654915513,0.10617031616722716,7.7041908337992515E-2,2.5572782822832041E-2,0.15515987523269992,6.9115468583820894E-2,5.2043251340919028E-2,0.14903883871343071,0.10429257365611933,0.12995028940052911,-3.2218855882827468E-2]
["Mirae Asset Emerging Bluechip Fund - Regular Plan  |","BSE 200",0.12842831575090297,0.12632218667467088,0.10757827782259222,7.9734732263968766E-2,2.7546544024190656E-2,0.16216556531025184,7.3247604051852377E-2,5.6073129646772246E-2,0.15917740791242108,0.11422475611667449,0.1537887381696037,-1.4524595234135296E-2]
["Motilal Oswal MOSt Focused Midcap 30 Fund - Regular Plan","BSE 500",0.13034208058936958,0.12681454807506998,0.10583472639984848,7.8457485241967273E-2,2.4153440448407837E-2,0.16432141721638316,7.3898670247223741E-2,5.6732666677101085E-2,0.16178607100543174,0.11684056099738815,0.16396550632410523,-8.0064925070312265E-3]
["Sundaram Select Midcap Fund - Regular Plan  |","CNX 500",0.1272584679363078,0.12343795770771115,0.10280097723633586,7.9485899369352575E-2,2.5864024174027556E-2,0.16251746250958399,7.3267827054945389E-2,6.0834431195762706E-2,0.16686507711228149,0.1212110740492276,0.1685882340664735,-6.3316389857557276E-3]
["HDFC Mid-Cap Opportunities Fund  |","Nifty",0.12585633241868699,0.12763798673106153,0.10640455849072983,7.8000806867285055E-2,3.0351281081971049E-2,0.14840063749419596,7.0014741800986879E-2,4.9367428286135384E-2,0.1418269369416425,0.10129464312393299,0.12164257290918679,-3.9460642104245158E-2]
["Invesco India Mid Cap Fund  |","Nifty Midcap 50","","","","",3.0141461674755288E-2,0.14445294675357601,4.2796219149475512E-2,3.1278610035656129E-2,0.18153416595323457,0.12853544280447782,0.21653426106496165,1.6337826979733849E-2]
["Birla Sun Life Pure Value Fund  |","Cnx 100","","",8.1506167660494011E-2,8.3844980213770626E-2,3.481614827908075E-2,0.160881765510694,7.7233434205745688E-2,5.713004710605718E-2,0.156672690050776,0.11187372045274557,0.13895693505459494,-2.2903068032920526E-2]
["Invesco India Mid N Small Cap Fund  |","CNX Midcap Index",0.11998099084641645,0.13157761383571964,0.12649797444683153,0.11008096368654519,4.5585216673684759E-2,0.19776189648551301,0.10088753841914455,8.4385033774133644E-2,0.21628158092678462,0.16293092382483954,0.28750790072344112,6.4988234545916956E-2]
["SBI Magnum Global Fund  |","BSE Small Cap","","","","","","","","","","","",-7.183147617709662E-3]
["Tata Midcap Growth Fund - Regular Plan  |","BSE Mid cap","","","","","","","","","","","",3.8277244723028403E-3]
["UTI Mid Cap Fund  |"]
["BNP Paribas Midcap Fund  |"]
["DSP BlackRock Small and Mid Cap Fund - Regular Plan  |"]
["Principal Emerging Bluechip Fund  |"]
[null,null,{"$f":"IF($B32=\"\",\"\",INDEX(Analysis!$A$2:$Z$1000,MATCH(Evaluate!$B32,Analysis!$A$2:$A$1000,0),15))","v":""}]
[null,null,{"$f":"SUM(C2:C31)/COUNT(C2:C31)","v":0.15258863462135225},{"$f":"SUM(D2:D31)/COUNT(D2:D31)","v":0.15492287461554829},0.12812083183372378,0.10815826078805564,6.10876498694864E-2,0.19972958089089596,0.11114468767390913,9.5994023977817061E-2,0.20327571824142501,0.16623512858319958,0.22648984453044899,2.8331073699299939E-2,null,null,2,{"$f":"Q33+1","v":3},{"$f":"R33+1","v":4},5,6,7,8,9,10,11,12,13]
[null,null,{"$f":"IF($B34=\"\",\"\",INDEX(Analysis!$A$2:$Z$1000,MATCH(Evaluate!$B34,Analysis!$A$2:$A$1000,0),15))","v":""}]
[null,null,{"$f":"IF($B35=\"\",\"\",INDEX(Analysis!$A$2:$Z$1000,MATCH(Evaluate!$B35,Analysis!$A$2:$A$1000,0),15))","v":""}]
[null,null,{"$f":"IF($B36=\"\",\"\",INDEX(Analysis!$A$2:$Z$1000,MATCH(Evaluate!$B36,Analysis!$A$2:$A$1000,0),15))","v":""}]
[null,null,{"$f":"IF($B37=\"\",\"\",INDEX(Analysis!$A$2:$Z$1000,MATCH(Evaluate!$B37,Analysis!$A$2:$A$1000,0),15))","v":""}]
[null,null,{"$f":"IF($B38=\"\",\"\",INDEX(Analysis!$A$2:$Z$1000,MATCH(Evaluate!$B38,Analysis!$A$2:$A$1000,0),15))","v":""}]
[null,null,{"$f":"IF($B39=\"\",\"\",INDEX(Analysis!$A$2:$Z$1000,MATCH(Evaluate!$B39,Analysis!$A$2:$A$1000,0),15))","v":""}]
[null,null,{"$f":"IF($B40=\"\",\"\",INDEX(Analysis!$A$2:$Z$1000,MATCH(Evaluate!$B40,Analysis!$A$2:$A$1000,0),15))","v":""}]
[null,null,{"$f":"IF($B41=\"\",\"\",INDEX(Analysis!$A$2:$Z$1000,MATCH(Evaluate!$B41,Analysis!$A$2:$A$1000,0),15))","v":""}]
[null,null,{"$f":"IF($B42=\"\",\"\",INDEX(Analysis!$A$2:$Z$1000,MATCH(Evaluate!$B42,Analysis!$A$2:$A$1000,0),15))","v":""}]
[null,null,{"$f":"IF($B43=\"\",\"\",INDEX(Analysis!$A$2:$Z$1000,MATCH(Evaluate!$B43,Analysis!$A$2:$A$1000,0),15))","v":""}]
[null,null,{"$f":"IF($B44=\"\",\"\",INDEX(Analysis!$A$2:$Z$1000,MATCH(Evaluate!$B44,Analysis!$A$2:$A$1000,0),15))","v":""}]
[null,null,{"$f":"IF($B45=\"\",\"\",INDEX(Analysis!$A$2:$Z$1000,MATCH(Evaluate!$B45,Analysis!$A$2:$A$1000,0),15))","v":""}]
[null,null,{"$f":"IF($B46=\"\",\"\",INDEX(Analysis!$A$2:$Z$1000,MATCH(Evaluate!$B46,Analysis!$A$2:$A$1000,0),15))","v":""}]
[null,null,{"$f":"IF($B47=\"\",\"\",INDEX(Analysis!$A$2:$Z$1000,MATCH(Evaluate!$B47,Analysis!$A$2:$A$1000,0),15))","v":""}]
[null,null,{"$f":"IF($B48=\"\",\"\",INDEX(Analysis!$A$2:$Z$1000,MATCH(Evaluate!$B48,Analysis!$A$2:$A$1000,0),15))","v":""}]
[null,null,{"$f":"IF($B49=\"\",\"\",INDEX(Analysis!$A$2:$Z$1000,MATCH(Evaluate!$B49,Analysis!$A$2:$A$1000,0),15))","v":""}]
[]
[]
[]
[]
[]
[]
[]
[]
[]
[]
[]
[null,null,15]

{"sheet":"Downside protection","index":6,"n_rows":37,"n_cols":30,"rows_kept":37,"cut":false,"hidden":false,"merged":[]}
["Select common funds* from drop-down list * from results-1 and results-2",2,{"$f":"B1+1","v":3},{"$f":"C1+1","v":4},5,6,7,8,9,10,11,12,13,null,null,null,null,1,{"$f":"R1+1","v":2},{"$f":"S1+1","v":3},4,5,6,7,8,9,10,11,12]
["Year",{"$f":"Analysis!C1","v":2004},{"$f":"Analysis!D1","v":2005},{"$f":"Analysis!E1","v":2006},{"$f":"Analysis!F1","v":2007},{"$f":"Analysis!G1","v":2008},{"$f":"Analysis!H1","v":2009},{"$f":"Analysis!I1","v":2010},{"$f":"Analysis!J1","v":2011},{"$f":"Analysis!K1","v":2012},{"$f":"Analysis!L1","v":2013},{"$f":"Analysis!M1","v":2014},{"$f":"Analysis!N1","v":2015},null,null,null,{"$f":"Evaluate!B1","v":"Common funds chosen from the top 15 in both shortlists"},{"$f":"Analysis!C1","v":2004},{"$f":"Analysis!D1","v":2005},{"$f":"Analysis!E1","v":2006},{"$f":"Analysis!F1","v":2007},{"$f":"Analysis!G1","v":2008},{"$f":"Analysis!H1","v":2009},{"$f":"Analysis!I1","v":2010},{"$f":"Analysis!J1","v":2011},{"$f":"Analysis!K1","v":2012},{"$f":"Analysis!L1","v":2013},{"$f":"Analysis!M1","v":2014},{"$f":"Analysis!N1","v":2015}]
["Franklin India Bluechip Fund  |",{"$f":"INDEX($Q$3:$AC$25,MATCH($A3,$Q$3:$Q$25,0),$B$1)","v":{"$error":"#N/A"}},{"$f":"INDEX($Q$3:$AC$25,MATCH($A3,$Q$3:$Q$25,0),$C$1)","v":{"$error":"#N/A"}},{"$f":"INDEX($Q$3:$AC$25,MATCH($A3,$Q$3:$Q$25,0),$D$1)","v":{"$error":"#N/A"}},{"$f":"INDEX($Q$3:$AC$25,MATCH($A3,$Q$3:$Q$25,0),$E$1)","v":{"$error":"#N/A"}},{"$f":"INDEX($Q$3:$AC$25,MATCH($A3,$Q$3:$Q$25,0),$F$1)","v":{"$error":"#N/A"}},{"$f":"INDEX($Q$3:$AC$25,MATCH($A3,$Q$3:$Q$25,0),$G$1)","v":{"$error":"#N/A"}},{"$f":"INDEX($Q$3:$AC$25,MATCH($A3,$Q$3:$Q$25,0),$H$1)","v":{"$error":"#N/A"}},{"$f":"INDEX($Q$3:$AC$25,MATCH($A3,$Q$3:$Q$25,0),$I$1)","v":{"$error":"#N/A"}},{"$f":"INDEX($Q$3:$AC$25,MATCH($A3,$Q$3:$Q$25,0),$J$1)","v":{"$error":"#N/A"}},{"$f":"INDEX($Q$3:$AC$25,MATCH($A3,$Q$3:$Q$25,0),$K$1)","v":{"$error":"#N/A"}},{"$f":"INDEX($Q$3:$AC$25,MATCH($A3,$Q$3:$Q$25,0),$L$1)","v":{"$error":"#N/A"}},{"$f":"INDEX($Q$3:$AC$25,MATCH($A3,$Q$3:$Q$25,0),$M$1)","v":{"$error":"#N/A"}},null,null,null,{"$f":"IF(Evaluate!B2=\"\",\"\",Evaluate!B2)","v":"Franklin India Prima Plus Fund  |"},{"$f":"IF($Q3=\"\",\"\",INDEX(Analysis!$A$2:$Z$1000,MATCH(Evaluate!$B2,Analysis!$A$2:$A$1000,0),$R$1+2))","v":27.15},{"$f":"IF($Q3=\"\",\"\",INDEX(Analysis!$A$2:$Z$1000,MATCH(Evaluate!$B2,Analysis!$A$2:$A$1000,0),$S$1+2))","v":47.61},{"$f":"IF($Q3=\"\",\"\",INDEX(Analysis!$A$2:$Z$1000,MATCH(Evaluate!$B2,Analysis!$A$2:$A$1000,0),$T$1+2))","v":49.36},{"$f":"IF($Q3=\"\",\"\",INDEX(Analysis!$A$2:$Z$1000,MATCH(Evaluate!$B2,Analysis!$A$2:$A$1000,0),$U$1+2))","v":54.9},{"$f":"IF($Q3=\"\",\"\",INDEX(Analysis!$A$2:$Z$1000,MATCH(Evaluate!$B2,Analysis!$A$2:$A$1000,0),$V$1+2))","v":-47.71},{"$f":"IF($Q3=\"\",\"\",INDEX(Analysis!$A$2:$Z$1000,MATCH(Evaluate!$B2,Analysis!$A$2:$A$1000,0),$W$1+2))","v":73.099999999999994},{"$f":"IF($Q3=\"\",\"\",INDEX(Analysis!$A$2:$Z$1000,MATCH(Evaluate!$B2,Analysis!$A$2:$A$1000,0),$X$1+2))","v":19.48},{"$f":"IF($Q3=\"\",\"\",INDEX(Analysis!$A$2:$Z$1000,MATCH(Evaluate!$B2,Analysis!$A$2:$A$1000,0),$Y$1+2))","v":-16.420000000000002},{"$f":"IF($Q3=\"\",\"\",INDEX(Analysis!$A$2:$Z$1000,MATCH(Evaluate!$B2,Analysis!$A$2:$A$1000,0),$Z$1+2))","v":31.04},{"$f":"IF($Q3=\"\",\"\",INDEX(Analysis!$A$2:$Z$1000,MATCH(Evaluate!$B2,Analysis!$A$2:$A$1000,0),$AA$1+2))","v":5.55},{"$f":"IF($Q3=\"\",\"\",INDEX(Analysis!$A$2:$Z$1000,MATCH(Evaluate!$B2,Analysis!$A$2:$A$1000,0),$AB$1+2))","v":56.79},{"$f":"IF($Q3=\"\",\"\",INDEX(Analysis!$A$2:$Z$1000,MATCH(Evaluate!$B2,Analysis!$A$2:$A$1000,0),$AC$1+2))","v":4.38}]
["Franklin India Bluechip Fund  |",{"$f":"INDEX($Q$3:$AC$25,MATCH($A4,$Q$3:$Q$25,0),$B$1)","v":{"$error":"#N/A"}},{"$f":"INDEX($Q$3:$AC$25,MATCH($A4,$Q$3:$Q$25,0),$C$1)","v":{"$error":"#N/A"}},{"$f":"INDEX($Q$3:$AC$25,MATCH($A4,$Q$3:$Q$25,0),$D$1)","v":{"$error":"#N/A"}},{"$f":"INDEX($Q$3:$AC$25,MATCH($A4,$Q$3:$Q$25,0),$E$1)","v":{"$error":"#N/A"}},{"$f":"INDEX($Q$3:$AC$25,MATCH($A4,$Q$3:$Q$25,0),$F$1)","v":{"$error":"#N/A"}},{"$f":"INDEX($Q$3:$AC$25,MATCH($A4,$Q$3:$Q$25,0),$G$1)","v":{"$error":"#N/A"}},{"$f":"INDEX($Q$3:$AC$25,MATCH($A4,$Q$3:$Q$25,0),$H$1)","v":{"$error":"#N/A"}},{"$f":"INDEX($Q$3:$AC$25,MATCH($A4,$Q$3:$Q$25,0),$I$1)","v":{"$error":"#N/A"}},{"$f":"INDEX($Q$3:$AC$25,MATCH($A4,$Q$3:$Q$25,0),$J$1)","v":{"$error":"#N/A"}},{"$f":"INDEX($Q$3:$AC$25,MATCH($A4,$Q$3:$Q$25,0),$K$1)","v":{"$error":"#N/A"}},{"$f":"INDEX($Q$3:$AC$25,MATCH($A4,$Q$3:$Q$25,0),$L$1)","v":{"$error":"#N/A"}},{"$f":"INDEX($Q$3:$AC$25,MATCH($A4,$Q$3:$Q$25,0),$M$1)","v":{"$error":"#N/A"}},null,null,null,{"$f":"IF(Evaluate!B3=\"\",\"\",Evaluate!B3)","v":"HDFC Capital Builder Fund  |"},{"$f":"IF($Q4=\"\",\"\",INDEX(Analysis!$A$2:$Z$1000,MATCH(Evaluate!$B3,Analysis!$A$2:$A$1000,0),$R$1+2))","v":47.71},{"$f":"IF($Q4=\"\",\"\",INDEX(Analysis!$A$2:$Z$1000,MATCH(Evaluate!$B3,Analysis!$A$2:$A$1000,0),$S$1+2))","v":47.6},{"$f":"IF($Q4=\"\",\"\",INDEX(Analysis!$A$2:$Z$1000,MATCH(Evaluate!$B3,Analysis!$A$2:$A$1000,0),$T$1+2))","v":21.58},{"$f":"IF($Q4=\"\",\"\",INDEX(Analysis!$A$2:$Z$1000,MATCH(Evaluate!$B3,Analysis!$A$2:$A$1000,0),$U$1+2))","v":68.650000000000006},{"$f":"IF($Q4=\"\",\"\",INDEX(Analysis!$A$2:$Z$1000,MATCH(Evaluate!$B3,Analysis!$A$2:$A$1000,0),$V$1+2))","v":-54.89},{"$f":"IF($Q4=\"\",\"\",INDEX(Analysis!$A$2:$Z$1000,MATCH(Evaluate!$B3,Analysis!$A$2:$A$1000,0),$W$1+2))","v":92.91},{"$f":"IF($Q4=\"\",\"\",INDEX(Analysis!$A$2:$Z$1000,MATCH(Evaluate!$B3,Analysis!$A$2:$A$1000,0),$X$1+2))","v":28.44},{"$f":"IF($Q4=\"\",\"\",INDEX(Analysis!$A$2:$Z$1000,MATCH(Evaluate!$B3,Analysis!$A$2:$A$1000,0),$Y$1+2))","v":-23.64},{"$f":"IF($Q4=\"\",\"\",INDEX(Analysis!$A$2:$Z$1000,MATCH(Evaluate!$B3,Analysis!$A$2:$A$1000,0),$Z$1+2))","v":28.42},{"$f":"IF($Q4=\"\",\"\",INDEX(Analysis!$A$2:$Z$1000,MATCH(Evaluate!$B3,Analysis!$A$2:$A$1000,0),$AA$1+2))","v":10.37},{"$f":"IF($Q4=\"\",\"\",INDEX(Analysis!$A$2:$Z$1000,MATCH(Evaluate!$B3,Analysis!$A$2:$A$1000,0),$AB$1+2))","v":51.95},{"$f":"IF($Q4=\"\",\"\",INDEX(Analysis!$A$2:$Z$1000,MATCH(Evaluate!$B3,Analysis!$A$2:$A$1000,0),$AC$1+2))","v":4.6100000000000003}]
["",{"$f":"INDEX($Q$3:$AC$25,MATCH($A5,$Q$3:$Q$25,0),$B$1)","v":""},"","","","","","","","","","",{"$f":"INDEX($Q$3:$AC$25,MATCH($A5,$Q$3:$Q$25,0),$M$1)","v":""},null,null,null,{"$f":"IF(Evaluate!B4=\"\",\"\",Evaluate!B4)","v":""},{"$f":"IF($Q5=\"\",\"\",INDEX(Analysis!$A$2:$Z$1000,MATCH(Evaluate!$B4,Analysis!$A$2:$A$1000,0),$R$1+2))","v":""},{"$f":"IF($Q5=\"\",\"\",INDEX(Analysis!$A$2:$Z$1000,MATCH(Evaluate!$B4,Analysis!$A$2:$A$1000,0),$S$1+2))","v":""},{"$f":"IF($Q5=\"\",\"\",INDEX(Analysis!$A$2:$Z$1000,MATCH(Evaluate!$B4,Analysis!$A$2:$A$1000,0),$T$1+2))","v":""},{"$f":"IF($Q5=\"\",\"\",INDEX(Analysis!$A$2:$Z$1000,MATCH(Evaluate!$B4,Analysis!$A$2:$A$1000,0),$U$1+2))","v":""},{"$f":"IF($Q5=\"\",\"\",INDEX(Analysis!$A$2:$Z$1000,MATCH(Evaluate!$B4,Analysis!$A$2:$A$1000,0),$V$1+2))","v":""},{"$f":"IF($Q5=\"\",\"\",INDEX(Analysis!$A$2:$Z$1000,MATCH(Evaluate!$B4,Analysis!$A$2:$A$1000,0),$W$1+2))","v":""},{"$f":"IF($Q5=\"\",\"\",INDEX(Analysis!$A$2:$Z$1000,MATCH(Evaluate!$B4,Analysis!$A$2:$A$1000,0),$X$1+2))","v":""},{"$f":"IF($Q5=\"\",\"\",INDEX(Analysis!$A$2:$Z$1000,MATCH(Evaluate!$B4,Analysis!$A$2:$A$1000,0),$Y$1+2))","v":""},{"$f":"IF($Q5=\"\",\"\",INDEX(Analysis!$A$2:$Z$1000,MATCH(Evaluate!$B4,Analysis!$A$2:$A$1000,0),$Z$1+2))","v":""},{"$f":"IF($Q5=\"\",\"\",INDEX(Analysis!$A$2:$Z$1000,MATCH(Evaluate!$B4,Analysis!$A$2:$A$1000,0),$AA$1+2))","v":""},{"$f":"IF($Q5=\"\",\"\",INDEX(Analysis!$A$2:$Z$1000,MATCH(Evaluate!$B4,Analysis!$A$2:$A$1000,0),$AB$1+2))","v":""},{"$f":"IF($Q5=\"\",\"\",INDEX(Analysis!$A$2:$Z$1000,MATCH(Evaluate!$B4,Analysis!$A$2:$A$1000,0),$AC$1+2))","v":""}]
["",{"$f":"INDEX($Q$3:$AC$25,MATCH($A6,$Q$3:$Q$25,0),$B$1)","v":""},"","","","","","","","","","",{"$f":"INDEX($Q$3:$AC$25,MATCH($A6,$Q$3:$Q$25,0),$M$1)","v":""},null,null,null,{"$f":"IF(Evaluate!B5=\"\",\"\",Evaluate!B5)","v":"ICICI Prudential Value Discovery Fund  |"},{"$f":"IF($Q6=\"\",\"\",INDEX(Analysis!$A$2:$Z$1000,MATCH(Evaluate!$B5,Analysis!$A$2:$A$1000,0),$R$1+2))","v":"-"},{"$f":"IF($Q6=\"\",\"\",INDEX(Analysis!$A$2:$Z$1000,MATCH(Evaluate!$B5,Analysis!$A$2:$A$1000,0),$S$1+2))","v":63.74},{"$f":"IF($Q6=\"\",\"\",INDEX(Analysis!$A$2:$Z$1000,MATCH(Evaluate!$B5,Analysis!$A$2:$A$1000,0),$T$1+2))","v":28.69},{"$f":"IF($Q6=\"\",\"\",INDEX(Analysis!$A$2:$Z$1000,MATCH(Evaluate!$B5,Analysis!$A$2:$A$1000,0),$U$1+2))","v":39.65},{"$f":"IF($Q6=\"\",\"\",INDEX(Analysis!$A$2:$Z$1000,MATCH(Evaluate!$B5,Analysis!$A$2:$A$1000,0),$V$1+2))","v":-54.56},{"$f":"IF($Q6=\"\",\"\",INDEX(Analysis!$A$2:$Z$1000,MATCH(Evaluate!$B5,Analysis!$A$2:$A$1000,0),$W$1+2))","v":134.32},{"$f":"IF($Q6=\"\",\"\",INDEX(Analysis!$A$2:$Z$1000,MATCH(Evaluate!$B5,Analysis!$A$2:$A$1000,0),$X$1+2))","v":27.71},{"$f":"IF($Q6=\"\",\"\",INDEX(Analysis!$A$2:$Z$1000,MATCH(Evaluate!$B5,Analysis!$A$2:$A$1000,0),$Y$1+2))","v":-23.73},{"$f":"IF($Q6=\"\",\"\",INDEX(Analysis!$A$2:$Z$1000,MATCH(Evaluate!$B5,Analysis!$A$2:$A$1000,0),$Z$1+2))","v":46.01},{"$f":"IF($Q6=\"\",\"\",INDEX(Analysis!$A$2:$Z$1000,MATCH(Evaluate!$B5,Analysis!$A$2:$A$1000,0),$AA$1+2))","v":8.31},{"$f":"IF($Q6=\"\",\"\",INDEX(Analysis!$A$2:$Z$1000,MATCH(Evaluate!$B5,Analysis!$A$2:$A$1000,0),$AB$1+2))","v":73.760000000000005},{"$f":"IF($Q6=\"\",\"\",INDEX(Analysis!$A$2:$Z$1000,MATCH(Evaluate!$B5,Analysis!$A$2:$A$1000,0),$AC$1+2))","v":5.44}]
["",{"$f":"INDEX($Q$3:$AC$25,MATCH($A7,$Q$3:$Q$25,0),$B$1)","v":""},"","","","","","","","","","",{"$f":"INDEX($Q$3:$AC$25,MATCH($A7,$Q$3:$Q$25,0),$M$1)","v":""},null,null,null,{"$f":"IF(Evaluate!B6=\"\",\"\",Evaluate!B6)","v":"Invesco India Contra Fund  |"},{"$f":"IF($Q7=\"\",\"\",INDEX(Analysis!$A$2:$Z$1000,MATCH(Evaluate!$B6,Analysis!$A$2:$A$1000,0),$R$1+2))","v":"-"},{"$f":"IF($Q7=\"\",\"\",INDEX(Analysis!$A$2:$Z$1000,MATCH(Evaluate!$B6,Analysis!$A$2:$A$1000,0),$S$1+2))","v":"-"},{"$f":"IF($Q7=\"\",\"\",INDEX(Analysis!$A$2:$Z$1000,MATCH(Evaluate!$B6,Analysis!$A$2:$A$1000,0),$T$1+2))","v":"-"},{"$f":"IF($Q7=\"\",\"\",INDEX(Analysis!$A$2:$Z$1000,MATCH(Evaluate!$B6,Analysis!$A$2:$A$1000,0),$U$1+2))","v":"-"},{"$f":"IF($Q7=\"\",\"\",INDEX(Analysis!$A$2:$Z$1000,MATCH(Evaluate!$B6,Analysis!$A$2:$A$1000,0),$V$1+2))","v":-48.96},{"$f":"IF($Q7=\"\",\"\",INDEX(Analysis!$A$2:$Z$1000,MATCH(Evaluate!$B6,Analysis!$A$2:$A$1000,0),$W$1+2))","v":104.75},{"$f":"IF($Q7=\"\",\"\",INDEX(Analysis!$A$2:$Z$1000,MATCH(Evaluate!$B6,Analysis!$A$2:$A$1000,0),$X$1+2))","v":12.92},{"$f":"IF($Q7=\"\",\"\",INDEX(Analysis!$A$2:$Z$1000,MATCH(Evaluate!$B6,Analysis!$A$2:$A$1000,0),$Y$1+2))","v":-22.07},{"$f":"IF($Q7=\"\",\"\",INDEX(Analysis!$A$2:$Z$1000,MATCH(Evaluate!$B6,Analysis!$A$2:$A$1000,0),$Z$1+2))","v":30.72},{"$f":"IF($Q7=\"\",\"\",INDEX(Analysis!$A$2:$Z$1000,MATCH(Evaluate!$B6,Analysis!$A$2:$A$1000,0),$AA$1+2))","v":4.67},{"$f":"IF($Q7=\"\",\"\",INDEX(Analysis!$A$2:$Z$1000,MATCH(Evaluate!$B6,Analysis!$A$2:$A$1000,0),$AB$1+2))","v":62.96},{"$f":"IF($Q7=\"\",\"\",INDEX(Analysis!$A$2:$Z$1000,MATCH(Evaluate!$B6,Analysis!$A$2:$A$1000,0),$AC$1+2))","v":4.0199999999999996}]
["Select index to compare",null,null,null,null,null,null,null,null,null,null,null,null,null,null,null,{"$f":"IF(Evaluate!B7=\"\",\"\",Evaluate!B7)","v":"Kotak Select Focus Fund Regular Plan  |"},{"$f":"IF($Q8=\"\",\"\",INDEX(Analysis!$A$2:$Z$1000,MATCH(Evaluate!$B7,Analysis!$A$2:$A$1000,0),$R$1+2))","v":"-"},{"$f":"IF($Q8=\"\",\"\",INDEX(Analysis!$A$2:$Z$1000,MATCH(Evaluate!$B7,Analysis!$A$2:$A$1000,0),$S$1+2))","v":"-"},{"$f":"IF($Q8=\"\",\"\",INDEX(Analysis!$A$2:$Z$1000,MATCH(Evaluate!$B7,Analysis!$A$2:$A$1000,0),$T$1+2))","v":"-"},{"$f":"IF($Q8=\"\",\"\",INDEX(Analysis!$A$2:$Z$1000,MATCH(Evaluate!$B7,Analysis!$A$2:$A$1000,0),$U$1+2))","v":"-"},{"$f":"IF($Q8=\"\",\"\",INDEX(Analysis!$A$2:$Z$1000,MATCH(Evaluate!$B7,Analysis!$A$2:$A$1000,0),$V$1+2))","v":"-"},{"$f":"IF($Q8=\"\",\"\",INDEX(Analysis!$A$2:$Z$1000,MATCH(Evaluate!$B7,Analysis!$A$2:$A$1000,0),$W$1+2))","v":"-"},{"$f":"IF($Q8=\"\",\"\",INDEX(Analysis!$A$2:$Z$1000,MATCH(Evaluate!$B7,Analysis!$A$2:$A$1000,0),$X$1+2))","v":20.05},{"$f":"IF($Q8=\"\",\"\",INDEX(Analysis!$A$2:$Z$1000,MATCH(Evaluate!$B7,Analysis!$A$2:$A$1000,0),$Y$1+2))","v":-22.29},{"$f":"IF($Q8=\"\",\"\",INDEX(Analysis!$A$2:$Z$1000,MATCH(Evaluate!$B7,Analysis!$A$2:$A$1000,0),$Z$1+2))","v":33.450000000000003},{"$f":"IF($Q8=\"\",\"\",INDEX(Analysis!$A$2:$Z$1000,MATCH(Evaluate!$B7,Analysis!$A$2:$A$1000,0),$AA$1+2))","v":6.13},{"$f":"IF($Q8=\"\",\"\",INDEX(Analysis!$A$2:$Z$1000,MATCH(Evaluate!$B7,Analysis!$A$2:$A$1000,0),$AB$1+2))","v":57.87},{"$f":"IF($Q8=\"\",\"\",INDEX(Analysis!$A$2:$Z$1000,MATCH(Evaluate!$B7,Analysis!$A$2:$A$1000,0),$AC$1+2))","v":2.96}]
["BSE 100",{"$f":"INDEX($Q$27:$AD$37,MATCH($A$9,$Q$27:$Q$37,0),B1+1)","v":15.884283131319886},{"$f":"INDEX($Q$27:$AD$37,MATCH($A$9,$Q$27:$Q$37,0),C1+1)","v":37.836567063926154},{"$f":"INDEX($Q$27:$AD$37,MATCH($A$9,$Q$27:$Q$37,0),D1+1)","v":40.645739349676525},59.353470465512089,-55.410025061111497,83.800626261793894,15.872320755176016,-26.068564335740795,29.445327764804752,5.4711737709072228,31.929379310344828,-3.2218855882827477,null,null,null,{"$f":"IF(Evaluate!B8=\"\",\"\",Evaluate!B8)","v":"Mirae Asset India Opportunities Fund - Regular Plan  |"},{"$f":"IF($Q9=\"\",\"\",INDEX(Analysis!$A$2:$Z$1000,MATCH(Evaluate!$B8,Analysis!$A$2:$A$1000,0),$R$1+2))","v":"-"},{"$f":"IF($Q9=\"\",\"\",INDEX(Analysis!$A$2:$Z$1000,MATCH(Evaluate!$B8,Analysis!$A$2:$A$1000,0),$S$1+2))","v":"-"},{"$f":"IF($Q9=\"\",\"\",INDEX(Analysis!$A$2:$Z$1000,MATCH(Evaluate!$B8,Analysis!$A$2:$A$1000,0),$T$1+2))","v":"-"},{"$f":"IF($Q9=\"\",\"\",INDEX(Analysis!$A$2:$Z$1000,MATCH(Evaluate!$B8,Analysis!$A$2:$A$1000,0),$U$1+2))","v":"-"},{"$f":"IF($Q9=\"\",\"\",INDEX(Analysis!$A$2:$Z$1000,MATCH(Evaluate!$B8,Analysis!$A$2:$A$1000,0),$V$1+2))","v":"-"},{"$f":"IF($Q9=\"\",\"\",INDEX(Analysis!$A$2:$Z$1000,MATCH(Evaluate!$B8,Analysis!$A$2:$A$1000,0),$W$1+2))","v":109.33},{"$f":"IF($Q9=\"\",\"\",INDEX(Analysis!$A$2:$Z$1000,MATCH(Evaluate!$B8,Analysis!$A$2:$A$1000,0),$X$1+2))","v":23.12},{"$f":"IF($Q9=\"\",\"\",INDEX(Analysis!$A$2:$Z$1000,MATCH(Evaluate!$B8,Analysis!$A$2:$A$1000,0),$Y$1+2))","v":-19.64},{"$f":"IF($Q9=\"\",\"\",INDEX(Analysis!$A$2:$Z$1000,MATCH(Evaluate!$B8,Analysis!$A$2:$A$1000,0),$Z$1+2))","v":33.28},{"$f":"IF($Q9=\"\",\"\",INDEX(Analysis!$A$2:$Z$1000,MATCH(Evaluate!$B8,Analysis!$A$2:$A$1000,0),$AA$1+2))","v":8.9499999999999993},{"$f":"IF($Q9=\"\",\"\",INDEX(Analysis!$A$2:$Z$1000,MATCH(Evaluate!$B8,Analysis!$A$2:$A$1000,0),$AB$1+2))","v":52.86},{"$f":"IF($Q9=\"\",\"\",INDEX(Analysis!$A$2:$Z$1000,MATCH(Evaluate!$B8,Analysis!$A$2:$A$1000,0),$AC$1+2))","v":4.25}]
[null,null,null,null,null,null,null,null,null,null,null,null,null,null,null,null,{"$f":"IF(Evaluate!B9=\"\",\"\",Evaluate!B9)","v":"Motilal Oswal MOSt Focused Multicap 35 Fund - Regular Plan"},{"$f":"IF($Q10=\"\",\"\",INDEX(Analysis!$A$2:$Z$1000,MATCH(Evaluate!$B9,Analysis!$A$2:$A$1000,0),$R$1+2))","v":"-"},{"$f":"IF($Q10=\"\",\"\",INDEX(Analysis!$A$2:$Z$1000,MATCH(Evaluate!$B9,Analysis!$A$2:$A$1000,0),$S$1+2))","v":"-"},{"$f":"IF($Q10=\"\",\"\",INDEX(Analysis!$A$2:$Z$1000,MATCH(Evaluate!$B9,Analysis!$A$2:$A$1000,0),$T$1+2))","v":"-"},{"$f":"IF($Q10=\"\",\"\",INDEX(Analysis!$A$2:$Z$1000,MATCH(Evaluate!$B9,Analysis!$A$2:$A$1000,0),$U$1+2))","v":"-"},{"$f":"IF($Q10=\"\",\"\",INDEX(Analysis!$A$2:$Z$1000,MATCH(Evaluate!$B9,Analysis!$A$2:$A$1000,0),$V$1+2))","v":"-"},{"$f":"IF($Q10=\"\",\"\",INDEX(Analysis!$A$2:$Z$1000,MATCH(Evaluate!$B9,Analysis!$A$2:$A$1000,0),$W$1+2))","v":"-"},{"$f":"IF($Q10=\"\",\"\",INDEX(Analysis!$A$2:$Z$1000,MATCH(Evaluate!$B9,Analysis!$A$2:$A$1000,0),$X$1+2))","v":"-"},{"$f":"IF($Q10=\"\",\"\",INDEX(Analysis!$A$2:$Z$1000,MATCH(Evaluate!$B9,Analysis!$A$2:$A$1000,0),$Y$1+2))","v":"-"},{"$f":"IF($Q10=\"\",\"\",INDEX(Analysis!$A$2:$Z$1000,MATCH(Evaluate!$B9,Analysis!$A$2:$A$1000,0),$Z$1+2))","v":"-"},{"$f":"IF($Q10=\"\",\"\",INDEX(Analysis!$A$2:$Z$1000,MATCH(Evaluate!$B9,Analysis!$A$2:$A$1000,0),$AA$1+2))","v":"-"},{"$f":"IF($Q10=\"\",\"\",INDEX(Analysis!$A$2:$Z$1000,MATCH(Evaluate!$B9,Analysis!$A$2:$A$1000,0),$AB$1+2))","v":"-"},{"$f":"IF($Q10=\"\",\"\",INDEX(Analysis!$A$2:$Z$1000,MATCH(Evaluate!$B9,Analysis!$A$2:$A$1000,0),$AC$1+2))","v":14.6}]
[null,null,null,null,null,null,null,null,null,null,null,null,null,null,null,null,{"$f":"IF(Evaluate!B10=\"\",\"\",Evaluate!B10)","v":"PPFAS Long Term Value Fund - Regular Plan"},{"$f":"IF($Q11=\"\",\"\",INDEX(Analysis!$A$2:$Z$1000,MATCH(Evaluate!$B10,Analysis!$A$2:$A$1000,0),$R$1+2))","v":"-"},{"$f":"IF($Q11=\"\",\"\",INDEX(Analysis!$A$2:$Z$1000,MATCH(Evaluate!$B10,Analysis!$A$2:$A$1000,0),$S$1+2))","v":"-"},{"$f":"IF($Q11=\"\",\"\",INDEX(Analysis!$A$2:$Z$1000,MATCH(Evaluate!$B10,Analysis!$A$2:$A$1000,0),$T$1+2))","v":"-"},{"$f":"IF($Q11=\"\",\"\",INDEX(Analysis!$A$2:$Z$1000,MATCH(Evaluate!$B10,Analysis!$A$2:$A$1000,0),$U$1+2))","v":"-"},{"$f":"IF($Q11=\"\",\"\",INDEX(Analysis!$A$2:$Z$1000,MATCH(Evaluate!$B10,Analysis!$A$2:$A$1000,0),$V$1+2))","v":"-"},{"$f":"IF($Q11=\"\",\"\",INDEX(Analysis!$A$2:$Z$1000,MATCH(Evaluate!$B10,Analysis!$A$2:$A$1000,0),$W$1+2))","v":"-"},{"$f":"IF($Q11=\"\",\"\",INDEX(Analysis!$A$2:$Z$1000,MATCH(Evaluate!$B10,Analysis!$A$2:$A$1000,0),$X$1+2))","v":"-"},{"$f":"IF($Q11=\"\",\"\",INDEX(Analysis!$A$2:$Z$1000,MATCH(Evaluate!$B10,Analysis!$A$2:$A$1000,0),$Y$1+2))","v":"-"},{"$f":"IF($Q11=\"\",\"\",INDEX(Analysis!$A$2:$Z$1000,MATCH(Evaluate!$B10,Analysis!$A$2:$A$1000,0),$Z$1+2))","v":"-"},{"$f":"IF($Q11=\"\",\"\",INDEX(Analysis!$A$2:$Z$1000,MATCH(Evaluate!$B10,Analysis!$A$2:$A$1000,0),$AA$1+2))","v":"-"},{"$f":"IF($Q11=\"\",\"\",INDEX(Analysis!$A$2:$Z$1000,MATCH(Evaluate!$B10,Analysis!$A$2:$A$1000,0),$AB$1+2))","v":44.82},{"$f":"IF($Q11=\"\",\"\",INDEX(Analysis!$A$2:$Z$1000,MATCH(Evaluate!$B10,Analysis!$A$2:$A$1000,0),$AC$1+2))","v":8.94}]
[null,null,null,null,null,null,null,null,null,null,null,null,null,null,null,null,{"$f":"IF(Evaluate!B11=\"\",\"\",Evaluate!B11)","v":""},{"$f":"IF($Q12=\"\",\"\",INDEX(Analysis!$A$2:$Z$1000,MATCH(Evaluate!$B11,Analysis!$A$2:$A$1000,0),$R$1+2))","v":""},{"$f":"IF($Q12=\"\",\"\",INDEX(Analysis!$A$2:$Z$1000,MATCH(Evaluate!$B11,Analysis!$A$2:$A$1000,0),$S$1+2))","v":""},{"$f":"IF($Q12=\"\",\"\",INDEX(Analysis!$A$2:$Z$1000,MATCH(Evaluate!$B11,Analysis!$A$2:$A$1000,0),$T$1+2))","v":""},{"$f":"IF($Q12=\"\",\"\",INDEX(Analysis!$A$2:$Z$1000,MATCH(Evaluate!$B11,Analysis!$A$2:$A$1000,0),$U$1+2))","v":""},{"$f":"IF($Q12=\"\",\"\",INDEX(Analysis!$A$2:$Z$1000,MATCH(Evaluate!$B11,Analysis!$A$2:$A$1000,0),$V$1+2))","v":""},{"$f":"IF($Q12=\"\",\"\",INDEX(Analysis!$A$2:$Z$1000,MATCH(Evaluate!$B11,Analysis!$A$2:$A$1000,0),$W$1+2))","v":""},{"$f":"IF($Q12=\"\",\"\",INDEX(Analysis!$A$2:$Z$1000,MATCH(Evaluate!$B11,Analysis!$A$2:$A$1000,0),$X$1+2))","v":""},{"$f":"IF($Q12=\"\",\"\",INDEX(Analysis!$A$2:$Z$1000,MATCH(Evaluate!$B11,Analysis!$A$2:$A$1000,0),$Y$1+2))","v":""},{"$f":"IF($Q12=\"\",\"\",INDEX(Analysis!$A$2:$Z$1000,MATCH(Evaluate!$B11,Analysis!$A$2:$A$1000,0),$Z$1+2))","v":""},{"$f":"IF($Q12=\"\",\"\",INDEX(Analysis!$A$2:$Z$1000,MATCH(Evaluate!$B11,Analysis!$A$2:$A$1000,0),$AA$1+2))","v":""},{"$f":"IF($Q12=\"\",\"\",INDEX(Analysis!$A$2:$Z$1000,MATCH(Evaluate!$B11,Analysis!$A$2:$A$1000,0),$AB$1+2))","v":""},{"$f":"IF($Q12=\"\",\"\",INDEX(Analysis!$A$2:$Z$1000,MATCH(Evaluate!$B11,Analysis!$A$2:$A$1000,0),$AC$1+2))","v":""}]
[null,null,null,null,null,null,null,null,null,null,null,null,null,null,null,null,{"$f":"IF(Evaluate!B12=\"\",\"\",Evaluate!B12)","v":"SBI Magnum Multiplier Fund  |"},{"$f":"IF($Q13=\"\",\"\",INDEX(Analysis!$A$2:$Z$1000,MATCH(Evaluate!$B12,Analysis!$A$2:$A$1000,0),$R$1+2))","v":31.34},{"$f":"IF($Q13=\"\",\"\",INDEX(Analysis!$A$2:$Z$1000,MATCH(Evaluate!$B12,Analysis!$A$2:$A$1000,0),$S$1+2))","v":70.08},{"$f":"IF($Q13=\"\",\"\",INDEX(Analysis!$A$2:$Z$1000,MATCH(Evaluate!$B12,Analysis!$A$2:$A$1000,0),$T$1+2))","v":49.89},{"$f":"IF($Q13=\"\",\"\",INDEX(Analysis!$A$2:$Z$1000,MATCH(Evaluate!$B12,Analysis!$A$2:$A$1000,0),$U$1+2))","v":64.94},{"$f":"IF($Q13=\"\",\"\",INDEX(Analysis!$A$2:$Z$1000,MATCH(Evaluate!$B12,Analysis!$A$2:$A$1000,0),$V$1+2))","v":-55.18},{"$f":"IF($Q13=\"\",\"\",INDEX(Analysis!$A$2:$Z$1000,MATCH(Evaluate!$B12,Analysis!$A$2:$A$1000,0),$W$1+2))","v":87.45},{"$f":"IF($Q13=\"\",\"\",INDEX(Analysis!$A$2:$Z$1000,MATCH(Evaluate!$B12,Analysis!$A$2:$A$1000,0),$X$1+2))","v":19.309999999999999},{"$f":"IF($Q13=\"\",\"\",INDEX(Analysis!$A$2:$Z$1000,MATCH(Evaluate!$B12,Analysis!$A$2:$A$1000,0),$Y$1+2))","v":-25.75},{"$f":"IF($Q13=\"\",\"\",INDEX(Analysis!$A$2:$Z$1000,MATCH(Evaluate!$B12,Analysis!$A$2:$A$1000,0),$Z$1+2))","v":32.44},{"$f":"IF($Q13=\"\",\"\",INDEX(Analysis!$A$2:$Z$1000,MATCH(Evaluate!$B12,Analysis!$A$2:$A$1000,0),$AA$1+2))","v":10.55},{"$f":"IF($Q13=\"\",\"\",INDEX(Analysis!$A$2:$Z$1000,MATCH(Evaluate!$B12,Analysis!$A$2:$A$1000,0),$AB$1+2))","v":48.25},{"$f":"IF($Q13=\"\",\"\",INDEX(Analysis!$A$2:$Z$1000,MATCH(Evaluate!$B12,Analysis!$A$2:$A$1000,0),$AC$1+2))","v":11.05}]
[null,null,null,null,null,null,null,null,null,null,null,null,null,null,null,null,{"$f":"IF(Evaluate!B13=\"\",\"\",Evaluate!B13)","v":"Tata Ethical Fund - Regular Plan  |"},{"$f":"IF($Q14=\"\",\"\",INDEX(Analysis!$A$2:$Z$1000,MATCH(Evaluate!$B13,Analysis!$A$2:$A$1000,0),$R$1+2))","v":20.69},{"$f":"IF($Q14=\"\",\"\",INDEX(Analysis!$A$2:$Z$1000,MATCH(Evaluate!$B13,Analysis!$A$2:$A$1000,0),$S$1+2))","v":50.05},{"$f":"IF($Q14=\"\",\"\",INDEX(Analysis!$A$2:$Z$1000,MATCH(Evaluate!$B13,Analysis!$A$2:$A$1000,0),$T$1+2))","v":50.38},{"$f":"IF($Q14=\"\",\"\",INDEX(Analysis!$A$2:$Z$1000,MATCH(Evaluate!$B13,Analysis!$A$2:$A$1000,0),$U$1+2))","v":67.010000000000005},{"$f":"IF($Q14=\"\",\"\",INDEX(Analysis!$A$2:$Z$1000,MATCH(Evaluate!$B13,Analysis!$A$2:$A$1000,0),$V$1+2))","v":-65.069999999999993},{"$f":"IF($Q14=\"\",\"\",INDEX(Analysis!$A$2:$Z$1000,MATCH(Evaluate!$B13,Analysis!$A$2:$A$1000,0),$W$1+2))","v":107.19},{"$f":"IF($Q14=\"\",\"\",INDEX(Analysis!$A$2:$Z$1000,MATCH(Evaluate!$B13,Analysis!$A$2:$A$1000,0),$X$1+2))","v":19.77},{"$f":"IF($Q14=\"\",\"\",INDEX(Analysis!$A$2:$Z$1000,MATCH(Evaluate!$B13,Analysis!$A$2:$A$1000,0),$Y$1+2))","v":-16.64},{"$f":"IF($Q14=\"\",\"\",INDEX(Analysis!$A$2:$Z$1000,MATCH(Evaluate!$B13,Analysis!$A$2:$A$1000,0),$Z$1+2))","v":25.68},{"$f":"IF($Q14=\"\",\"\",INDEX(Analysis!$A$2:$Z$1000,MATCH(Evaluate!$B13,Analysis!$A$2:$A$1000,0),$AA$1+2))","v":16.36},{"$f":"IF($Q14=\"\",\"\",INDEX(Analysis!$A$2:$Z$1000,MATCH(Evaluate!$B13,Analysis!$A$2:$A$1000,0),$AB$1+2))","v":41.49},{"$f":"IF($Q14=\"\",\"\",INDEX(Analysis!$A$2:$Z$1000,MATCH(Evaluate!$B13,Analysis!$A$2:$A$1000,0),$AC$1+2))","v":7.16}]
[null,null,null,null,null,null,null,null,null,null,null,null,null,null,null,null,{"$f":"IF(Evaluate!B14=\"\",\"\",Evaluate!B14)","v":"BNP Paribas Dividend Yield Fund  |"},{"$f":"IF($Q15=\"\",\"\",INDEX(Analysis!$A$2:$Z$1000,MATCH(Evaluate!$B14,Analysis!$A$2:$A$1000,0),$R$1+2))","v":"-"},{"$f":"IF($Q15=\"\",\"\",INDEX(Analysis!$A$2:$Z$1000,MATCH(Evaluate!$B14,Analysis!$A$2:$A$1000,0),$S$1+2))","v":"-"},{"$f":"IF($Q15=\"\",\"\",INDEX(Analysis!$A$2:$Z$1000,MATCH(Evaluate!$B14,Analysis!$A$2:$A$1000,0),$T$1+2))","v":-3.2},{"$f":"IF($Q15=\"\",\"\",INDEX(Analysis!$A$2:$Z$1000,MATCH(Evaluate!$B14,Analysis!$A$2:$A$1000,0),$U$1+2))","v":53.07},{"$f":"IF($Q15=\"\",\"\",INDEX(Analysis!$A$2:$Z$1000,MATCH(Evaluate!$B14,Analysis!$A$2:$A$1000,0),$V$1+2))","v":-48.16},{"$f":"IF($Q15=\"\",\"\",INDEX(Analysis!$A$2:$Z$1000,MATCH(Evaluate!$B14,Analysis!$A$2:$A$1000,0),$W$1+2))","v":81.02},{"$f":"IF($Q15=\"\",\"\",INDEX(Analysis!$A$2:$Z$1000,MATCH(Evaluate!$B14,Analysis!$A$2:$A$1000,0),$X$1+2))","v":21.78},{"$f":"IF($Q15=\"\",\"\",INDEX(Analysis!$A$2:$Z$1000,MATCH(Evaluate!$B14,Analysis!$A$2:$A$1000,0),$Y$1+2))","v":-17},{"$f":"IF($Q15=\"\",\"\",INDEX(Analysis!$A$2:$Z$1000,MATCH(Evaluate!$B14,Analysis!$A$2:$A$1000,0),$Z$1+2))","v":32.9},{"$f":"IF($Q15=\"\",\"\",INDEX(Analysis!$A$2:$Z$1000,MATCH(Evaluate!$B14,Analysis!$A$2:$A$1000,0),$AA$1+2))","v":5.56},{"$f":"IF($Q15=\"\",\"\",INDEX(Analysis!$A$2:$Z$1000,MATCH(Evaluate!$B14,Analysis!$A$2:$A$1000,0),$AB$1+2))","v":49.69},{"$f":"IF($Q15=\"\",\"\",INDEX(Analysis!$A$2:$Z$1000,MATCH(Evaluate!$B14,Analysis!$A$2:$A$1000,0),$AC$1+2))","v":6.66}]
[null,null,null,null,null,null,null,null,null,null,null,null,null,null,null,null,{"$f":"IF(Evaluate!B15=\"\",\"\",Evaluate!B15)","v":"Franklin India Flexi Cap Fund  |"},{"$f":"IF($Q16=\"\",\"\",INDEX(Analysis!$A$2:$Z$1000,MATCH(Evaluate!$B15,Analysis!$A$2:$A$1000,0),$R$1+2))","v":"-"},{"$f":"IF($Q16=\"\",\"\",INDEX(Analysis!$A$2:$Z$1000,MATCH(Evaluate!$B15,Analysis!$A$2:$A$1000,0),$S$1+2))","v":"-"},{"$f":"IF($Q16=\"\",\"\",INDEX(Analysis!$A$2:$Z$1000,MATCH(Evaluate!$B15,Analysis!$A$2:$A$1000,0),$T$1+2))","v":41.91},{"$f":"IF($Q16=\"\",\"\",INDEX(Analysis!$A$2:$Z$1000,MATCH(Evaluate!$B15,Analysis!$A$2:$A$1000,0),$U$1+2))","v":49.05},{"$f":"IF($Q16=\"\",\"\",INDEX(Analysis!$A$2:$Z$1000,MATCH(Evaluate!$B15,Analysis!$A$2:$A$1000,0),$V$1+2))","v":-51.63},{"$f":"IF($Q16=\"\",\"\",INDEX(Analysis!$A$2:$Z$1000,MATCH(Evaluate!$B15,Analysis!$A$2:$A$1000,0),$W$1+2))","v":88.73},{"$f":"IF($Q16=\"\",\"\",INDEX(Analysis!$A$2:$Z$1000,MATCH(Evaluate!$B15,Analysis!$A$2:$A$1000,0),$X$1+2))","v":21.01},{"$f":"IF($Q16=\"\",\"\",INDEX(Analysis!$A$2:$Z$1000,MATCH(Evaluate!$B15,Analysis!$A$2:$A$1000,0),$Y$1+2))","v":-22.25},{"$f":"IF($Q16=\"\",\"\",INDEX(Analysis!$A$2:$Z$1000,MATCH(Evaluate!$B15,Analysis!$A$2:$A$1000,0),$Z$1+2))","v":31.45},{"$f":"IF($Q16=\"\",\"\",INDEX(Analysis!$A$2:$Z$1000,MATCH(Evaluate!$B15,Analysis!$A$2:$A$1000,0),$AA$1+2))","v":7.07},{"$f":"IF($Q16=\"\",\"\",INDEX(Analysis!$A$2:$Z$1000,MATCH(Evaluate!$B15,Analysis!$A$2:$A$1000,0),$AB$1+2))","v":55.9},{"$f":"IF($Q16=\"\",\"\",INDEX(Analysis!$A$2:$Z$1000,MATCH(Evaluate!$B15,Analysis!$A$2:$A$1000,0),$AC$1+2))","v":1.96}]
[null,null,null,null,null,null,null,null,null,null,null,null,null,null,null,null,{"$f":"IF(Evaluate!B16=\"\",\"\",Evaluate!B16)","v":"L&T India Special Situations Fund  |"},{"$f":"IF($Q17=\"\",\"\",INDEX(Analysis!$A$2:$Z$1000,MATCH(Evaluate!$B16,Analysis!$A$2:$A$1000,0),$R$1+2))","v":"-"},{"$f":"IF($Q17=\"\",\"\",INDEX(Analysis!$A$2:$Z$1000,MATCH(Evaluate!$B16,Analysis!$A$2:$A$1000,0),$S$1+2))","v":"-"},{"$f":"IF($Q17=\"\",\"\",INDEX(Analysis!$A$2:$Z$1000,MATCH(Evaluate!$B16,Analysis!$A$2:$A$1000,0),$T$1+2))","v":"-"},{"$f":"IF($Q17=\"\",\"\",INDEX(Analysis!$A$2:$Z$1000,MATCH(Evaluate!$B16,Analysis!$A$2:$A$1000,0),$U$1+2))","v":45.11},{"$f":"IF($Q17=\"\",\"\",INDEX(Analysis!$A$2:$Z$1000,MATCH(Evaluate!$B16,Analysis!$A$2:$A$1000,0),$V$1+2))","v":-52.12},{"$f":"IF($Q17=\"\",\"\",INDEX(Analysis!$A$2:$Z$1000,MATCH(Evaluate!$B16,Analysis!$A$2:$A$1000,0),$W$1+2))","v":81.319999999999993},{"$f":"IF($Q17=\"\",\"\",INDEX(Analysis!$A$2:$Z$1000,MATCH(Evaluate!$B16,Analysis!$A$2:$A$1000,0),$X$1+2))","v":22.41},{"$f":"IF($Q17=\"\",\"\",INDEX(Analysis!$A$2:$Z$1000,MATCH(Evaluate!$B16,Analysis!$A$2:$A$1000,0),$Y$1+2))","v":-22.58},{"$f":"IF($Q17=\"\",\"\",INDEX(Analysis!$A$2:$Z$1000,MATCH(Evaluate!$B16,Analysis!$A$2:$A$1000,0),$Z$1+2))","v":39.979999999999997},{"$f":"IF($Q17=\"\",\"\",INDEX(Analysis!$A$2:$Z$1000,MATCH(Evaluate!$B16,Analysis!$A$2:$A$1000,0),$AA$1+2))","v":5.71},{"$f":"IF($Q17=\"\",\"\",INDEX(Analysis!$A$2:$Z$1000,MATCH(Evaluate!$B16,Analysis!$A$2:$A$1000,0),$AB$1+2))","v":51.02},{"$f":"IF($Q17=\"\",\"\",INDEX(Analysis!$A$2:$Z$1000,MATCH(Evaluate!$B16,Analysis!$A$2:$A$1000,0),$AC$1+2))","v":1.49}]
[]
[]
[]
[]
[]
[]
[]
[]
[null,null,null,null,null,null,null,null,null,null,null,null,null,null,null,null,"Year",2003,2004,2005,2006,2007,2008,2009,2010,2011,2012,2013,2014,2015]
[null,null,null,null,null,null,null,null,null,null,null,null,null,null,null,null,"Sensex",72.553747949820476,12.434439964035636,41.823650228099666,46.31917890069397,46.711942706596957,-52.535390673777037,79.668948773474767,17.37287141348731,-25.054736269379553,25.053895576796936,8.4927575595294513,29.57861559056818,-4.9779576850130072]
[null,null,null,null,null,null,null,null,null,null,null,null,null,null,null,null,"BSE 100",84.338532460954866,15.884283131319886,37.836567063926154,40.645739349676525,59.353470465512089,-55.410025061111497,83.800626261793894,15.872320755176016,-26.068564335740795,29.445327764804752,5.4711737709072228,31.929379310344828,-3.2218855882827477]
[null,null,null,null,null,null,null,null,null,null,null,null,null,null,null,null,"BSE 200",94.105727095417805,15.185728948770262,33.212424759680182,39.280607008866241,60.487651635977002,-56.595375787620981,87.359818505246324,16.340145362050663,-27.2437459708486,30.521249448171162,3.9120276268729715,35.08489870868847,-1.4524595234135351]
[null,null,null,null,null,null,null,null,null,null,null,null,null,null,null,null,"BSE 500",100.75845627847393,16.988143989292958,35.97988221639514,38.571837954795818,63.044831289682321,-58.273685920116947,89.116915422885583,16.400316987797137,-27.66957723349287,30.776926619668021,2.8237204072840472,36.575057163056421,-0.8006492507031211]
[null,null,null,null,null,null,null,null,null,null,null,null,null,null,null,null,"CNX 500",97.60629718046323,17.015138254076309,35.228616205218437,33.665294201164237,62.268553592533095,-57.25138957423632,87.73607406925565,13.765513112753549,-27.530466310806727,31.528671251109131,3.2141207106556382,37.430003246226249,-0.63316389857557132]
[null,null,null,null,null,null,null,null,null,null,null,null,null,null,null,null,"Nifty",71.886430138990505,10.644294945090014,36.37259615384616,39.819514946418494,54.770879294043496,-51.779850898276777,75.515472614990045,17.950739295122006,-25.142251252539474,27.259600879272458,6.1699493907522402,30.976627976849372,-3.9460642104245109]
[null,null,null,null,null,null,null,null,null,null,null,null,null,null,null,null,"Nifty Midcap 50",null,null,null,null,null,-50.683829444891387,99.981077808053286,10.234271679576796,-40.145761149703858,35.593705293276109,-2.8826283159714863,45.616503593384692,1.6337826979733843]
[null,null,null,null,null,null,null,null,null,null,null,null,null,null,null,null,"Cnx 100",null,null,null,6.0682662688381495,56.963602154025814,-53.720394220522259,81.826417507460562,18.36324409139943,-26.243523956214112,30.219351965259992,5.9624009599754926,32.762969309237661,-2.2903068032920477]
[null,null,null,null,null,null,null,null,null,null,null,null,null,null,null,null,"CNX Midcap Index",null,null,18.365099409708964,28.561891928644716,79.191094836485448,-59.609240267498492,98.6715669896425,18.724448078495509,-31.485726776936389,39.147293162966484,-5.1227797957000636,55.652104000197902,6.4988234545917063]
[null,null,null,null,null,null,null,null,null,null,null,null,null,null,null,null,"BSE Small Cap",null,null,null,null,null,null,null,null,null,null,null,null,-0.71831476177096998]
[null,null,null,null,null,null,null,null,null,null,null,null,null,null,null,null,"BSE Mid cap",null,null,null,null,null,null,null,null,null,null,null,null,0.38277244723028037]

{"sheet":"shortlist-3","index":7,"n_rows":1000,"n_cols":16,"rows_kept":1000,"cut":false,"hidden":false,"merged":[]}
["No of times the funds annual return was above category average","Years for which annual return data is available","Fund",null,null,"This is a shortlist of funds whose annual return (not CAGR)",null,null,null,null,null,null,null,null,null,{"$f":"COUNTA(C2:C167)+1","v":74}]
[10,12,"SBI Magnum Multiplier Fund  |",null,null," has consistently beat the category average annual return over the past 12 years"]
[10,12,"Tata Equity Opportunities Fund - Regular Plan  |"]
[9,12,"Birla Sun Life Equity Fund  |"]
[9,12,"DSP BlackRock Equity Fund  |"]
[9,12,"Franklin India Prima Plus Fund  |"]
[9,12,"HDFC Capital Builder Fund  |"]
[8,12,"DSP BlackRock Opportunities Fund  |"]
[8,12,"Tata Ethical Fund - Regular Plan  |"]
[7,10,"BNP Paribas Dividend Yield Fund  |"]
[7,10,"Franklin India Flexi Cap Fund  |"]
[7,12,"HDFC Equity Fund  |"]
[7,12,"ICICI Prudential Multicap Fund  |"]
[7,11,"ICICI Prudential Value Discovery Fund  |"]
[7,11,"Kotak Opportunities Regular Plan  |"]
[7,10,"L&T Equity Fund  |"]
[7,7,"Mirae Asset India Opportunities Fund - Regular Plan  |"]
[7,12,"SBI Contra Fund  |"]
[7,11,"Tata Dividend Yield Fund - Regular Plan  |"]
[6,12,"Birla Sun Life Dividend Yield Plus Fund  |"]
[6,11,"BNP Paribas Equity Fund  |"]
[6,12,"Goldman Sachs Nifty Junior BeES Fund  |"]
[6,12,"ICICI Prudential Dynamic Fund  |"]
[6,12,"ICICI Prudential Top 100 Fund  |"]
[6,6,"Kotak Select Focus Fund Regular Plan  |"]
[6,9,"L&T India Special Situations Fund  |"]
[6,12,"Taurus Starshare Fund - Regular Plan  |"]
[6,12,"Templeton India Growth Fund  |"]
[5,12,"Birla Sun Life Advantage Fund  |"]
[5,12,"Canara Robeco Equity Diversified Fund - Regular Plan  |"]
[5,11,"Franklin India Opportunities Fund  |"]
[5,12,"HDFC Growth Fund  |"]
[5,10,"HDFC Premier Multi-Cap Fund  |"]
[5,8,"Invesco India Contra Fund  |"]
[5,12,"Principal Growth Fund  |"]
[5,10,"SBI Magnum Multicap Fund  |"]
[5,12,"Taurus Bonanza Fund - Regular Plan  |"]
[5,12,"UTI Equity Fund  |"]
[4,8,"Franklin India High Growth Companies Fund  |"]
[4,11,"HSBC India Opportunities Fund  |"]
[4,8,"ICICI Prudential Indo Asia Equity Fund  |"]
[4,6,"Quantum Equity FoF Fund  |"]
[4,12,"Reliance Vision Fund  |"]
[4,8,"Sundaram Equity Multiplier Fund  |"]
[4,6,"Taurus Ethical Fund - Regular Plan  |"]
[4,9,"Templeton India Equity Income Fund  |"]
[4,10,"UTI Dividend Yield Fund  |"]
[3,6,"Edelweiss Prudent Advantage Fund"]
[3,12,"Franklin India Life Stage Fund of Funds 20s  |"]
[3,5,"ICICI Prudential Nifty Next 50 Index Fund  |"]
[3,10,"IDFC Classic Equity Fund - Regular Plan  |"]
[3,4,"Mirae Asset Great Consumer Fund - Regular Plan  |"]
[3,11,"Principal Dividend Yield Fund  |"]
[2,5,"Axis Equity Fund  |"]
[2,3,"Axis Focused 25 Fund  |"]
[2,5,"Birla Sun Life India Reforms Fund  |"]
[2,7,"Birla Sun Life Special Situations Fund  |"]
[2,7,"BOI AXA Equity Fund - Regular Plan  |"]
[2,6,"Edelweiss Diversified Growth Equity Top 100 Fund  |"]
[2,3,"IDBI India Top 100 Equity Fund  |"]
[2,5,"IDBI Nifty Junior Index Fund  |"]
[2,7,"JM Core 11 Fund  |"]
[2,7,"JM Multi Strategy Fund  |"]
[2,12,"LIC MF Equity Fund  |"]
[2,6,"UTI Top 100 Fund  |"]
[1,3,"Indiabulls Bluechip Fund  |"]
[1,1,"Motilal Oswal MOSt Focused Multicap 35 Fund - Regular Plan"]
[1,4,"Peerless Equity Fund  |"]
[1,2,"PPFAS Long Term Value Fund - Regular Plan"]
[1,4,"Tata Retirement Savings Fund - Progressive Plan - Regular Plan  |"]
[1,4,"Union KBC Equity Fund  |"]
[0,6,"Goldman Sachs CNX 500 Fund  |"]
[0,1,"IIFL India Growth Fund - Regular Plan"]
[0,1,"UTI Multi Cap Fund - Regular Plan"]
["",""]
["",""]
["",""]
["",""]
["",""]
["",""]
["",""]
["",""]
["",""]
["",""]
["",""]
["",""]
["",""]
["",""]
["",""]
["",""]
["",""]
["",""]
["",""]
["",""]
["",""]
["",""]
["",""]
["",""]
["",""]
["",""]
["",""]
["",""]
["",""]
["",""]
["",""]
["",""]
["",""]
["",""]
["",""]
["",""]
["",""]
["",""]
["",""]
["",""]
["",""]
["",""]
["",""]
["",""]
["",""]
["",""]
["",""]
["",""]
["",""]
["",""]
["",""]
["",""]
["",""]
["",""]
["",""]
["",""]
["",""]
["",""]
["",""]
["",""]
["",""]
["",""]
["",""]
["",""]
["",""]
["",""]
["",""]
["",""]
["",""]
["",""]
["",""]
["",""]
["",""]
["",""]
["",""]
["",""]
["",""]
["",""]
["",""]
["",""]
["",""]
["",""]
["",""]
["",""]
["",""]
["",""]
["",""]
["",""]
["",""]
["",""]
["",""]
["",""]
["",""]
["",""]
["",""]
["",""]
["",""]
["",""]
["",""]
["",""]
["",""]
["",""]
["",""]
["",""]
["",""]
["",""]
["",""]
["",""]
["",""]
["",""]
["",""]
["",""]
["",""]
["",""]
["",""]
["",""]
["",""]
["",""]
["",""]
["",""]
["",""]
["",""]
["",""]
["",""]
["",""]
["",""]
["",""]
["",""]
["",""]
["",""]
["",""]
["",""]
["",""]
["",""]
["",""]
["",""]
["",""]
["",""]
["",""]
["",""]
["",""]
["",""]
["",""]
["",""]
["",""]
["",""]
["",""]
["",""]
["",""]
["",""]
["",""]
["",""]
["",""]
["",""]
["",""]
["",""]
["",""]
["",""]
["",""]
["",""]
["",""]
["",""]
["",""]
["",""]
["",""]
["",""]
["",""]
["",""]
["",""]
["",""]
["",""]
["",""]
["",""]
["",""]
["",""]
["",""]
["",""]
["",""]
["",""]
["",""]
["",""]
["",""]
["",""]
["",""]
["",""]
["",""]
["",""]
["",""]
["",""]
["",""]
["",""]
["",""]
["",""]
["",""]
["",""]
["",""]
["",""]
["",""]
["",""]
["",""]
["",""]
["",""]
["",""]
["",""]
["",""]
["",""]
["",""]
["",""]
["",""]
["",""]
["",""]
["",""]
["",""]
["",""]
["",""]
["",""]
["",""]
["",""]
["",""]
["",""]
["",""]
["",""]
["",""]
["",""]
["",""]
["",""]
["",""]
["",""]
["",""]
["",""]
["",""]
["",""]
["",""]
["",""]
["",""]
["",""]
["",""]
["",""]
["",""]
["",""]
["",""]
["",""]
["",""]
["",""]
["",""]
["",""]
["",""]
["",""]
["",""]
["",""]
["",""]
["",""]
["",""]
["",""]
["",""]
["",""]
["",""]
["",""]
["",""]
["",""]
["",""]
["",""]
["",""]
["",""]
["",""]
["",""]
["",""]
["",""]
["",""]
["",""]
["",""]
["",""]
["",""]
["",""]
["",""]
["",""]
["",""]
["",""]
["",""]
["",""]
["",""]
["",""]
["",""]
["",""]
["",""]
["",""]
["",""]
["",""]
["",""]
["",""]
["",""]
["",""]
["",""]
["",""]
["",""]
["",""]
["",""]
["",""]
["",""]
["",""]
["",""]
["",""]
["",""]
["",""]
["",""]
["",""]
["",""]
["",""]
["",""]
["",""]
["",""]
["",""]
["",""]
["",""]
["",""]
["",""]
["",""]
["",""]
["",""]
["",""]
["",""]
["",""]
["",""]
["",""]
["",""]
["",""]
["",""]
["",""]
["",""]
["",""]
["",""]
["",""]
["",""]
["",""]
["",""]
["",""]
["",""]
["",""]
["",""]
["",""]
["",""]
["",""]
["",""]
["",""]
["",""]
["",""]
["",""]
["",""]
["",""]
["",""]
["",""]
["",""]
["",""]
["",""]
["",""]
["",""]
["",""]
["",""]
["",""]
["",""]
["",""]
["",""]
["",""]
["",""]
["",""]
["",""]
["",""]
["",""]
["",""]
["",""]
["",""]
["",""]
["",""]
["",""]
["",""]
["",""]
["",""]
["",""]
["",""]
["",""]
["",""]
["",""]
["",""]
["",""]
["",""]
["",""]
["",""]
["",""]
["",""]
["",""]
["",""]
["",""]
["",""]
["",""]
["",""]
["",""]
["",""]
["",""]
["",""]
["",""]
["",""]
["",""]
["",""]
["",""]
["",""]
["",""]
["",""]
["",""]
["",""]
["",""]
["",""]
["",""]
["",""]
["",""]
["",""]
["",""]
["",""]
["",""]
["",""]
["",""]
["",""]
["",""]
["",""]
["",""]
["",""]
["",""]
["",""]
["",""]
["",""]
["",""]
["",""]
["",""]
["",""]
["",""]
["",""]
["",""]
["",""]
["",""]
["",""]
["",""]
["",""]
["",""]
["",""]
["",""]
["",""]
["",""]
["",""]
["",""]
["",""]
["",""]
["",""]
["",""]
["",""]
["",""]
["",""]
["",""]
["",""]
["",""]
["",""]
["",""]
["",""]
["",""]
["",""]
["",""]
["",""]
["",""]
["",""]
["",""]
["",""]
["",""]
["",""]
["",""]
["",""]
["",""]
["",""]
["",""]
["",""]
["",""]
["",""]
["",""]
["",""]
["",""]
["",""]
["",""]
["",""]
["",""]
["",""]
["",""]
["",""]
["",""]
["",""]
["",""]
["",""]
["",""]
["",""]
["",""]
["",""]
["",""]
["",""]
["",""]
["",""]
["",""]
["",""]
["",""]
["",""]
["",""]
["",""]
["",""]
["",""]
["",""]
["",""]
["",""]
["",""]
["",""]
["",""]
["",""]
["",""]
["",""]
["",""]
["",""]
["",""]
["",""]
["",""]
["",""]
["",""]
["",""]
["",""]
["",""]
["",""]
["",""]
["",""]
["",""]
["",""]
["",""]
["",""]
["",""]
["",""]
["",""]
["",""]
["",""]
["",""]
["",""]
["",""]
["",""]
["",""]
["",""]
["",""]
["",""]
["",""]
["",""]
["",""]
["",""]
["",""]
["",""]
["",""]
["",""]
["",""]
["",""]
["",""]
["",""]
["",""]
["",""]
["",""]
["",""]
["",""]
["",""]
["",""]
["",""]
["",""]
["",""]
["",""]
["",""]
["",""]
["",""]
["",""]
["",""]
["",""]
["",""]
["",""]
["",""]
["",""]
["",""]
["",""]
["",""]
["",""]
["",""]
["",""]
["",""]
["",""]
["",""]
["",""]
["",""]
["",""]
["",""]
["",""]
["",""]
["",""]
["",""]
["",""]
["",""]
["",""]
["",""]
["",""]
["",""]
["",""]
["",""]
["",""]
["",""]
["",""]
["",""]
["",""]
["",""]
["",""]
["",""]
["",""]
["",""]
["",""]
["",""]
["",""]
["",""]
["",""]
["",""]
["",""]
["",""]
["",""]
["",""]
["",""]
["",""]
["",""]
["",""]
["",""]
["",""]
["",""]
["",""]
["",""]
["",""]
["",""]
["",""]
["",""]
["",""]
["",""]
["",""]
["",""]
["",""]
["",""]
["",""]
["",""]
["",""]
["",""]
["",""]
["",""]
["",""]
["",""]
["",""]
["",""]
["",""]
["",""]
["",""]
["",""]
["",""]
["",""]
["",""]
["",""]
["",""]
["",""]
["",""]
["",""]
["",""]
["",""]
["",""]
["",""]
["",""]
["",""]
["",""]
["",""]
["",""]
["",""]
["",""]
["",""]
["",""]
["",""]
["",""]
["",""]
["",""]
["",""]
["",""]
["",""]
["",""]
["",""]
["",""]
["",""]
["",""]
["",""]
["",""]
["",""]
["",""]
["",""]
["",""]
["",""]
["",""]
["",""]
["",""]
["",""]
["",""]
["",""]
["",""]
["",""]
["",""]
["",""]
["",""]
["",""]
["",""]
["",""]
["",""]
["",""]
["",""]
["",""]
["",""]
["",""]
["",""]
["",""]
["",""]
["",""]
["",""]
["",""]
["",""]
["",""]
["",""]
["",""]
["",""]
["",""]
["",""]
["",""]
["",""]
["",""]
["",""]
["",""]
["",""]
["",""]
["",""]
["",""]
["",""]
["",""]
["",""]
["",""]
["",""]
["",""]
["",""]
["",""]
["",""]
["",""]
["",""]
["",""]
["",""]
["",""]
["",""]
["",""]
["",""]
["",""]
["",""]
["",""]
["",""]
["",""]
["",""]
["",""]
["",""]
["",""]
["",""]
["",""]
["",""]
["",""]
["",""]
["",""]
["",""]
["",""]
["",""]
["",""]
["",""]
["",""]
["",""]
["",""]
["",""]
["",""]
["",""]
["",""]
["",""]
["",""]
["",""]
["",""]
["",""]
["",""]
["",""]
["",""]
["",""]
["",""]
["",""]
["",""]
["",""]
["",""]
["",""]
["",""]
["",""]
["",""]
["",""]
["",""]
["",""]
["",""]
["",""]
["",""]
["",""]
["",""]
["",""]
["",""]
["",""]
["",""]
["",""]
["",""]
["",""]
["",""]
["",""]
["",""]
["",""]
["",""]
["",""]
["",""]
["",""]
["",""]
["",""]
["",""]
["",""]
["",""]
["",""]
["",""]
["",""]
["",""]
["",""]
["",""]
["",""]
["",""]
["",""]
["",""]
["",""]
["",""]
["",""]
["",""]
["",""]
["",""]
["",""]
["",""]
["",""]
["",""]
["",""]
["",""]
["",""]
["",""]
["",""]
["",""]
["",""]
["",""]
["",""]
["",""]
["",""]
["",""]
["",""]
["",""]
["",""]
["",""]
["",""]
["",""]
["",""]
["",""]
["",""]
["",""]
["",""]
["",""]
["",""]
["",""]
["",""]
["",""]
["",""]
["",""]
["",""]
["",""]
["",""]
["",""]
["",""]
["",""]
["",""]
["",""]
["",""]
["",""]
["",""]
["",""]
["",""]
["",""]
["",""]
["",""]
["",""]
["",""]
["",""]
["",""]
["",""]
["",""]
["",""]
["",""]
["",""]
["",""]
["",""]
["",""]
["",""]
["",""]
["",""]
["",""]
["",""]
["",""]
["",""]
["",""]
["",""]
["",""]
["",""]
["",""]
["",""]
["",""]
["",""]
["",""]
["",""]

{"sheet":"temp","index":8,"n_rows":0,"n_cols":0,"rows_kept":0,"cut":false,"hidden":false,"merged":[]}

{"sheet":"T2","index":9,"n_rows":15,"n_cols":3,"rows_kept":15,"cut":false,"hidden":false,"merged":[]}
["ICICI Prudential Value Discovery Fund  |","Franklin India Prima Plus Fund  |",{"$f":"IF(ISERROR(INDEX($A$1:$A$15,MATCH(B1,$A$1:$A$15,0),1)),\"\",INDEX($A$1:$A$15,MATCH(B1,$A$1:$A$15,0),1))","v":"Franklin India Prima Plus Fund  |"}]
["Motilal Oswal MOSt Focused Multicap 35 Fund - Regular Plan","HDFC Capital Builder Fund  |",{"$f":"IF(ISERROR(INDEX($A$1:$A$15,MATCH(B2,$A$1:$A$15,0),1)),\"\",INDEX($A$1:$A$15,MATCH(B2,$A$1:$A$15,0),1))","v":"HDFC Capital Builder Fund  |"}]
["SBI Magnum Multiplier Fund  |","ICICI Prudential Nifty Next 50 Index Fund  |",""]
["Franklin India High Growth Companies Fund  |","ICICI Prudential Value Discovery Fund  |","ICICI Prudential Value Discovery Fund  |"]
["Mirae Asset India Opportunities Fund - Regular Plan  |","Invesco India Contra Fund  |","Invesco India Contra Fund  |"]
["Franklin India Prima Plus Fund  |","Kotak Select Focus Fund Regular Plan  |","Kotak Select Focus Fund Regular Plan  |"]
["Kotak Select Focus Fund Regular Plan  |","Mirae Asset India Opportunities Fund - Regular Plan  |","Mirae Asset India Opportunities Fund - Regular Plan  |"]
["Franklin India Flexi Cap Fund  |","Motilal Oswal MOSt Focused Multicap 35 Fund - Regular Plan","Motilal Oswal MOSt Focused Multicap 35 Fund - Regular Plan"]
["HDFC Capital Builder Fund  |","PPFAS Long Term Value Fund - Regular Plan","PPFAS Long Term Value Fund - Regular Plan"]
["Invesco India Contra Fund  |","Quantum Equity FoF Fund  |",""]
["BNP Paribas Dividend Yield Fund  |","SBI Magnum Multiplier Fund  |","SBI Magnum Multiplier Fund  |"]
["Tata Ethical Fund - Regular Plan  |","Tata Ethical Fund - Regular Plan  |","Tata Ethical Fund - Regular Plan  |"]
["L&T India Special Situations Fund  |","BNP Paribas Dividend Yield Fund  |","BNP Paribas Dividend Yield Fund  |"]
["HDFC Equity Fund  |","Franklin India Flexi Cap Fund  |","Franklin India Flexi Cap Fund  |"]
["PPFAS Long Term Value Fund - Regular Plan","L&T India Special Situations Fund  |","L&T India Special Situations Fund  |"]

{"sheet":"Annual Returns","index":10,"n_rows":334,"n_cols":14,"rows_kept":334,"cut":false,"hidden":false,"merged":[[5,0,7,0]]}
["Funds:"]
["Return Date:","  to  "]
["Fund Houses:"]
["Categories:","Equity: Multi Cap"]
["Period:"]
["Exclusions:","Plans Suspended for Sales"]
[null,"Direct Plans"]
[null,"Closed-end"]
[]
["Fund  |  Rating","Ratings",2004,2005,2006,2007,2008,2009,2010,2011,2012,2013,2014,2015]
["Axis Equity Fund  |",3,"-","-","-","-","-","-","-",-22.55,31.73,13.49,40.85,-1.24]
["Axis Focused 25 Fund  |",2,"-","-","-","-","-","-","-","-","-",5.82,38.75,3.91]
["Birla Sun Life Advantage Fund  |",4,27.46,43.42,34.380000000000003,56.59,-58.36,87.28,14.46,-28.04,29.81,7.23,60.14,4.7699999999999996]
["Birla Sun Life Dividend Yield Plus Fund  |",2,29.06,30.53,10.46,56.87,-44.44,89.74,29.85,-18.809999999999999,29.39,-3,55.83,-5.5]
["Birla Sun Life Equity Fund  |",4,44.14,54.29,42.84,69.91,-56.62,89.25,14.16,-29.38,35.74,7.11,56.61,2.93]
["Birla Sun Life India Reforms Fund  |",1,"-","-","-","-","-","-","-",-32.049999999999997,32.119999999999997,-10.38,58.91,-2.14]
["Birla Sun Life Special Situations Fund  |",3,"-","-","-","-","-",77.430000000000007,11.95,-26.5,25.79,1.9,61.86,7.87]
["BNP Paribas Dividend Yield Fund  |",4,"-","-",-3.2,53.07,-48.16,81.02,21.78,-17,32.9,5.56,49.69,6.66]
["BNP Paribas Equity Fund  |",4,"-",54.38,37.81,68.3,-56.53,56.76,18.09,-17.82,30.5,8.66,47.4,5.58]
["BOI AXA Equity Fund - Regular Plan  |",2,"-","-","-","-","-",74.260000000000005,4.47,-22.64,24.76,6.67,41.11,-2.3199999999999998]
["Canara Robeco Equity Diversified Fund - Regular Plan  |",2,17.600000000000001,37.03,31.35,63.42,-50.84,92.98,20.67,-15.86,31.32,4.3099999999999996,39.71,0.08]
["DSP BlackRock Equity Fund  |",2,30.13,52.93,47.09,70.290000000000006,-49.7,90.65,19.829999999999998,-23.89,33.26,7.0000000000000007E-2,53,-0.74]
["DSP BlackRock Opportunities Fund  |",3,30.37,49.88,43.96,59.85,-55.1,86.44,24.2,-25.06,29.36,6.46,45.4,6.09]
["Edelweiss Diversified Growth Equity Top 100 Fund  |",3,"-","-","-","-","-","-",15.97,-18.579999999999998,29.77,11.1,37.65,0.77]
["Edelweiss Prudent Advantage Fund",0,"-","-","-","-","-","-",18.91,-24.03,20.55,7.54,38.42,2.2200000000000002]
["Franklin India Flexi Cap Fund  |",4,"-","-",41.91,49.05,-51.63,88.73,21.01,-22.25,31.45,7.07,55.9,1.96]
["Franklin India High Growth Companies Fund  |",5,"-","-","-","-",-58,98.68,14.79,-24.97,42.54,9.2200000000000006,79.58,1.49]
["Franklin India Life Stage Fund of Funds 20s  |",3,19.75,33.950000000000003,30.44,36.82,-40.03,71.290000000000006,17.850000000000001,-14.03,26.22,3.54,38.909999999999997,3.39]
["Franklin India Opportunities Fund  |",3,"-",48.03,56.09,53.79,-58.04,73.680000000000007,14.52,-23.32,27.51,2.14,58.58,2.2999999999999998]
["Franklin India Prima Plus Fund  |",5,27.15,47.61,49.36,54.9,-47.71,73.099999999999994,19.48,-16.420000000000002,31.04,5.55,56.79,4.38]
["Goldman Sachs CNX 500 Fund  |",2,"-","-","-","-","-","-",13.98,-27.26,31.71,3.36,37.049999999999997,-1.18]
["Goldman Sachs Nifty Junior BeES Fund  |",3,27.29,25.22,28.63,75.12,-63.26,126.55,17.829999999999998,-31.62,48.8,5.13,43.53,7.06]
["HDFC Capital Builder Fund  |",3,47.71,47.6,21.58,68.650000000000006,-54.89,92.91,28.44,-23.64,28.42,10.37,51.95,4.6100000000000003]
["HDFC Equity Fund  |",2,27.53,62.7,35.86,53.61,-49.68,105.57,29.22,-26.72,34.14,3.82,53.77,-5.09]
["HDFC Growth Fund  |",2,25.64,39.71,44.14,66.430000000000007,-48.31,75.260000000000005,27.71,-21.24,27.83,-1.4,42.85,-0.37]
["HDFC Premier Multi-Cap Fund  |",1,"-","-",29.48,49.03,-52.71,94.55,23.79,-22.6,19.5,-0.11,52.07,-1.21]
["HSBC India Opportunities Fund  |",4,"-",43.73,51.71,50.99,-54.56,60.06,15.74,-18.66,25.04,8,54.77,-2.1]
["ICICI Prudential Dynamic Fund  |",3,15.7,58.51,58.31,40.78,-44.79,79.930000000000007,21.26,-20.32,30.58,16.329999999999998,37.049999999999997,-1.41]
["ICICI Prudential Indo Asia Equity Fund  |",4,"-","-","-","-",-50.6,80.930000000000007,17.36,-15.05,26.01,8.8000000000000007,50.64,0.45]
["ICICI Prudential Multicap Fund  |",3,22.41,48.32,48.9,49.88,-55.32,84.29,21.78,-27.41,36.53,6.42,49.82,3.08]
["ICICI Prudential Nifty Next 50 Index Fund  |",3,"-","-","-","-","-","-","-",-30.8,44.86,5.44,43.62,6.19]
["ICICI Prudential Top 100 Fund  |",3,13.35,49.53,42.77,44.4,-47.74,74.61,17.54,-20.329999999999998,32.83,11.38,38.29,-0.64]
["ICICI Prudential Value Discovery Fund  |",5,"-",63.74,28.69,39.65,-54.56,134.32,27.71,-23.73,46.01,8.31,73.760000000000005,5.44]
["IDBI India Top 100 Equity Fund  |",3,"-","-","-","-","-","-","-","-","-",7.23,40.619999999999997,3.2]
["IDBI Nifty Junior Index Fund  |",3,"-","-","-","-","-","-","-",-32.03,47.62,4.78,42.78,5.82]
["IDFC Classic Equity Fund - Regular Plan  |",2,"-","-",28.92,67.209999999999994,-54.82,67.06,14.38,-26.79,37.26,2.5099999999999998,28.62,5.21]
["IIFL India Growth Fund - Regular Plan",0,"-","-","-","-","-","-","-","-","-","-","-",1.82]
["Indiabulls Bluechip Fund  |",2,"-","-","-","-","-","-","-","-","-",3.95,28.71,3.24]
["Invesco India Contra Fund  |",4,"-","-","-","-",-48.96,104.75,12.92,-22.07,30.72,4.67,62.96,4.0199999999999996]
["JM Core 11 Fund  |",1,"-","-","-","-","-",59.78,-7.46,-39.92,46.66,-0.98,51.28,-2.39]
["JM Multi Strategy Fund  |",2,"-","-","-","-","-",82.55,5.4,-36.049999999999997,33.04,-0.21,55.96,-2.75]
["Kotak Opportunities Regular Plan  |",3,"-",58.74,38.700000000000003,91.01,-56.77,80.13,18.5,-22.85,30.14,4.2300000000000004,49.95,3.27]
["Kotak Select Focus Fund Regular Plan  |",4,"-","-","-","-","-","-",20.05,-22.29,33.450000000000003,6.13,57.87,2.96]
["L&T Equity Fund  |",3,"-","-",44.14,55.32,-50.33,86.14,26.91,-20.96,25.98,5.45,50.27,0.28999999999999998]
["L&T India Special Situations Fund  |",3,"-","-","-",45.11,-52.12,81.319999999999993,22.41,-22.58,39.979999999999997,5.71,51.02,1.49]
["LIC MF Equity Fund  |",1,11.44,23.32,28.65,63.17,-57.27,69.06,15.98,-27.05,28.44,5.62,41.97,-7.73]
["Mirae Asset Great Consumer Fund - Regular Plan  |",4,"-","-","-","-","-","-","-","-",35.61,9.92,42.69,3.8]
["Mirae Asset India Opportunities Fund - Regular Plan  |",4,"-","-","-","-","-",109.33,23.12,-19.64,33.28,8.9499999999999993,52.86,4.25]
["Motilal Oswal MOSt Focused Multicap 35 Fund - Regular Plan",0,"-","-","-","-","-","-","-","-","-","-","-",14.6]
["Peerless Equity Fund  |",2,"-","-","-","-","-","-","-","-",29.62,4.24,29.74,5.23]
["PPFAS Long Term Value Fund - Regular Plan",0,"-","-","-","-","-","-","-","-","-","-",44.82,8.94]
["Principal Dividend Yield Fund  |",1,"-",34.92,3.73,62.54,-55.21,78.5,24.68,-26.84,41.94,-5.3,44.93,-3.39]
["Principal Growth Fund  |",3,41.14,39.22,31.03,53.28,-63.69,79.88,14.12,-30.91,46.01,8.31,49.36,2.76]
["Quantum Equity FoF Fund  |",3,"-","-","-","-","-","-",20.010000000000002,-23.67,32.770000000000003,4.03,50.66,4.7300000000000004]
["Reliance Vision Fund  |",2,19.809999999999999,53.47,45.8,56.62,-51.92,82.13,15.26,-28.55,29.98,-0.31,60.43,-2.23]
["SBI Contra Fund  |",2,64.489999999999995,71.03,50.47,65.89,-53.15,90.59,9.57,-28.25,34.24,-1.75,47.65,-0.09]
["SBI Magnum Multicap Fund  |",4,"-","-",42.66,45.62,-57.54,80.819999999999993,9.76,-30.69,38.35,5.2,55.98,9.81]
["SBI Magnum Multiplier Fund  |",4,31.34,70.08,49.89,64.94,-55.18,87.45,19.309999999999999,-25.75,32.44,10.55,48.25,11.05]
["Sundaram Equity Multiplier Fund  |",3,"-","-","-","-",-55.55,67.790000000000006,11.26,-23.26,33.130000000000003,-3,48.88,3.46]
["Tata Dividend Yield Fund - Regular Plan  |",3,"-",36.979999999999997,15.07,75.75,-53.28,88.45,32.36,-16.93,27.29,6.1,42.44,4.5999999999999996]
["Tata Equity Opportunities Fund - Regular Plan  |",4,29.86,51.17,37.950000000000003,76.36,-60.91,95.12,9.81,-23.03,33.72,8.69,48.54,6.57]
["Tata Ethical Fund - Regular Plan  |",5,20.69,50.05,50.38,67.010000000000005,-65.069999999999993,107.19,19.77,-16.64,25.68,16.36,41.49,7.16]
["Tata Retirement Savings Fund - Progressive Plan - Regular Plan  |",3,"-","-","-","-","-","-","-","-",21.72,1.46,47.36,7.83]
["Taurus Bonanza Fund - Regular Plan  |",1,6.73,60.4,36.840000000000003,62.27,-61.92,79.3,14.76,-23.53,24.43,-1.62,38.409999999999997,3.15]
["Taurus Ethical Fund - Regular Plan  |",3,"-","-","-","-","-","-",24.24,-16.809999999999999,12.91,14.86,42.65,3.01]
["Taurus Starshare Fund - Regular Plan  |",2,34.03,63.04,48.85,87.42,-66.17,85.41,23.46,-20.53,30.73,2.42,38.619999999999997,-1.33]
["Templeton India Equity Income Fund  |",2,"-","-","-",56.88,-52.45,104.22,24.13,-23.66,36.119999999999997,3.72,38.49,-1.6]
["Templeton India Growth Fund  |",2,19.77,34.9,30.57,63.07,-51,104.7,21.97,-29.57,35.9,-0.6,49.15,0.05]
["Union KBC Equity Fund  |",1,"-","-","-","-","-","-","-","-",30.23,6.59,40.07,-7.59]
["UTI Dividend Yield Fund  |",1,"-","-",20.65,70.56,-44.44,85.78,24.27,-17.54,22.37,0.2,41.24,-5.13]
["UTI Equity Fund  |",3,22.34,40.22,23.12,46.98,-45.44,85.12,20.440000000000001,-19.09,32.21,7.56,46.76,0.91]
["UTI Multi Cap Fund - Regular Plan",0,"-","-","-","-","-","-","-","-","-","-","-",-0.31]
["UTI Top 100 Fund  |",3,23.95,30.08,35.93,55.81,-54.88,"-",12.91,-16.190000000000001,22.65,6.25,41.7,0.47]
[]
[]
[]
[]
[]
[]
[]
[]
[]
[]
[]
[]
[]
[]
[]
[]
[]
[]
[]
[]
[]
[]
[]
[]
[]
[]
[]
[]
[]
[]
[]
[]
[]
[]
[]
[]
[]
[]
[]
[]
[]
[]
[]
[]
[]
[]
[]
[]
[]
[]
[]
[]
[]
[]
[]
[]
[]
[]
[]
[]
[]
[]
[]
[]
[]
[]
[]
[]
[]
[]
[]
[]
[]
[]
[]
[]
[]
[]
[]
[]
[]
[]
[]
[]
[]
[]
[]
[]
[]
[]
[]
[]
[]
["JP Morgan India Mid and Small Cap Fund  |",4,"-","-","-","-","-",-65.95,88.67,26.12,-24.78,44.65,6.81,83.36]
["JP Morgan India Tax Advantage Fund  |",3,"-","-","-","-","-","-","-",25.81,-22.37,25.91,3.96,45.88]
["JP Morgan US Value Equity Off-shore Fund - Regular Plan",0,"-","-","-","-","-","-","-","-","-","-","-",16.38]
["Kotak 50 Regular Plan  |",4,93.57,36.76,49.37,43.61,66.56,-50.35,66.709999999999994,16.29,-18.46,23.41,4.26,42.46]
["Kotak Classic Equity Regular Plan  |",3,"-","-","-",26.05,51.79,-50.73,80.38,15.62,-23.81,33.200000000000003,7.44,39.31]
["Kotak Emerging Equity Scheme Regular Plan  |",3,"-","-","-","-","-",-65.22,77.66,21.17,-26.64,47.99,-5.07,87.32]
["Kotak Global Emerging Market Regular Plan",0,"-","-","-","-","-",-51.69,70,10.38,-4.41,23.87,15.26,-2.64]
["Kotak Infrastructure and Economic Reform Fund - Standard Plan  |",5,"-","-","-","-","-","-",92.35,9.77,-21.86,18.72,-6.73,80.709999999999994]
["Kotak Mid-Cap Regular Plan  |",3,"-","-","-",30.98,56.07,-62.92,88.43,28,-26.9,50.23,-4.91,74.02]
["Kotak Nifty ETF Fund  |",3,"-","-","-","-","-","-","-","-",-23.99,29.16,7.91,31.22]
["Kotak Opportunities Regular Plan  |",3,"-","-",58.74,38.700000000000003,91.01,-56.77,80.13,18.5,-22.85,30.14,4.2300000000000004,49.95]
["Kotak PSU Bank ETF  |",1,"-","-","-","-","-",-39.57,76.23,35.770000000000003,-41.11,42.87,-28.67,69.239999999999995]
["Kotak Select Focus Fund Regular Plan  |",5,"-","-","-","-","-","-","-",20.05,-22.29,33.450000000000003,6.13,57.87]
["Kotak Sensex ETF Fund  |",3,"-","-","-","-","-","-",82.1,18.32,-23.94,27.24,10.34,31.12]
["Kotak Tax Saver Regular Plan  |",2,"-","-","-",36.21,64.739999999999995,-59.38,74.989999999999995,19.93,-26.03,36.25,-6.25,56.61]
["Kotak US Equity Standard Fund",0,"-","-","-","-","-","-","-","-","-","-","-",14.12]
["Kotak World Gold Fund - Standard Plan",0,"-","-","-","-","-","-",51.16,32.74,-5.21,-8.4600000000000009,-40.83,0.39]
["L&T Equity Fund  |",3,"-","-","-",44.14,55.32,-50.33,86.14,26.91,-20.96,25.98,5.45,50.27]
["L&T Global Real Assets Fund",0,"-","-","-","-","-","-","-","-",2.5299999999999998,20.22,24.94,-5.53]
["L&T India Large Cap Fund  |",3,"-","-","-","-","-",-50.03,91.01,27.21,-21.18,23.6,7.44,44.58]
["L&T India Special Situations Fund  |",4,"-","-","-","-",45.11,-52.12,81.319999999999993,22.41,-22.58,39.979999999999997,5.71,51.02]
["L&T India Value Fund  |",4,"-","-","-","-","-","-","-","-",-27.09,39.81,6.64,74.06]
["L&T Indo Asia Fund  |",3,"-","-","-","-","-",-45.89,78.73,21.88,-17.82,26.74,6.7,33.200000000000003]
["L&T Infrastructure Fund  |",4,"-","-","-","-","-",-65.38,67.56,6.28,-35.43,28.6,-6.96,65.53]
["L&T Midcap Fund  |",3,"-","-",53.31,25.11,64.59,-61.42,111.28,22.06,-29.36,38.130000000000003,5.59,81.61]
["L&T Tax Advantage Fund  |",3,"-","-","-","-",58.74,-50.09,86.66,29.24,-21.8,27.45,6.82,44.75]
["L&T Tax Saver Fund  |",3,"-","-","-",29.46,35.01,-58.24,94.83,15.8,-29.42,24.37,9.5399999999999991,46.09]
["LIC Nomura MF Equity Fund  |",2,93.55,11.44,23.32,28.65,63.17,-57.27,69.06,15.98,-27.05,28.44,5.62,41.97]
["LIC Nomura MF Growth Fund  |",2,113.49,26.57,31.76,30.84,39.26,-56.23,79.209999999999994,17.48,-26.89,28.28,7.36,39.85]
["LIC Nomura MF Index-Nifty Plan  |",2,57.2,-4.7,35.200000000000003,33.020000000000003,47.95,-52.71,65.86,18.23,-23.85,27.65,6.54,31.07]
["LIC Nomura MF Index-Sensex Plan  |",2,54.13,3.92,37.47,45,37.590000000000003,-53.8,74.959999999999994,18.02,-24.39,26.26,9.2200000000000006,29.3]
["LIC Nomura MF Infrastructure Fund  |",3,"-","-","-","-","-","-",62.89,8.35,-35.130000000000003,26.6,-3.57,49.57]
["LIC Nomura MF Tax Plan  |",3,95.17,11.21,23.83,28.25,48.76,-56.87,62.17,15.73,-26.2,26.33,8.18,49.05]
["Mirae Asset China Advantage Fund",0,"-","-","-","-","-","-","-",11.56,-11.89,19.350000000000001,21.73,2.19]
["Mirae Asset Emerging Bluechip Fund - Regular Plan  |",5,"-","-","-","-","-","-","-","-",-15.15,45.56,8.61,84.62]
["Mirae Asset Global Commodity Stocks Fund",0,"-","-","-","-","-","-",95.53,7.54,-15.63,13.53,-2.46,-8.7100000000000009]
["Mirae Asset India Opportunities Fund - Regular Plan  |",5,"-","-","-","-","-","-",109.33,23.12,-19.64,33.28,8.9499999999999993,52.86]
["Mirae Asset India-China Consumption Fund - Regular Plan  |",4,"-","-","-","-","-","-","-","-","-",35.61,9.92,42.69]
["Motilal Oswal MOSt Focused 25 Fund - Regular Plan",0,"-","-","-","-","-","-","-","-","-","-","-",44.24]
["Motilal Oswal MOSt Shares M100 ETF Fund  |",1,"-","-","-","-","-","-","-","-","-",40.32,-4,56.81]
["Motilal Oswal MOSt Shares M50 ETF Fund  |",1,"-","-","-","-","-","-","-","-",-29.36,34.090000000000003,7.06,26.62]
["Motilal Oswal MOSt Shares NASDAQ - 100 ETF Fund",0,"-","-","-","-","-","-","-","-","-",17.440000000000001,54.86,22.59]
["Peerless Equity Fund  |",3,"-","-","-","-","-","-","-","-","-",29.62,4.24,29.74]
["PPFAS Long Term Value Fund - Regular Plan",0,"-","-","-","-","-","-","-","-","-","-","-",44.82]
["Principal Dividend Yield Fund  |",1,"-","-",34.92,3.73,62.54,-55.21,78.5,24.68,-26.84,41.94,-5.3,44.93]
["Principal Emerging Bluechip Fund  |",3,"-","-","-","-","-","-",147.30000000000001,19.739999999999998,-34.729999999999997,55.03,5.84,80.180000000000007]
["Principal Global Opportunities Fund",0,"-","-",15.48,16.66,24.82,-44.79,62.52,11.53,-2.6,21.47,5.39,-2.62]
["Principal Growth Fund  |",3,90.95,41.14,39.22,31.03,53.28,-63.69,79.88,14.12,-30.91,46.01,8.31,49.36]
["Principal Index Fund - Nifty  |",3,71.22,8.2200000000000006,33.1,36.090000000000003,52.23,-52.39,72.33,17.61,-24.31,27.24,7.71,31.15]
["Principal Large Cap Fund  |",4,"-","-","-",48.13,72.790000000000006,-58.83,110.14,21.03,-25.71,33.99,3.03,43.43]
["Principal Personal Tax Saver Fund  |",2,87.58,22.74,33.57,38.75,86.17,-61.91,86.87,16.23,-28.67,34.83,3.32,43.58]
["Principal Tax Savings Fund  |",3,96.46,36.340000000000003,45.97,43.36,80.81,-64.8,64.69,15.03,-30.38,46.51,8.5500000000000007,49.45]
["Quantum Equity FoF Fund",0,"-","-","-","-","-","-","-",20.010000000000002,-23.67,32.770000000000003,4.03,50.66]
["Quantum Index Fund",0,"-","-","-","-","-","-",75.37,18.36,-23.91,29.15,7.84,32.68]
["Quantum Long Term Equity Fund  |",3,"-","-","-","-",45.78,-46.99,103.28,28.82,-20.16,31.21,9.16,38.979999999999997]
["Quantum Tax Saving Fund  |",2,"-","-","-","-","-","-",87.07,28.17,-20.92,31.36,8.89,40.03]
["R*Shares Banking ETF  |",4,"-","-","-","-","-","-",82.86,31.13,-31.21,57.48,-7.5,66.34]
["R*Shares CNX 100 ETF",0,"-","-","-","-","-","-","-","-","-","-","-",34.479999999999997]
["R*Shares Nifty ETF",0,"-","-","-","-","-","-","-","-","-","-","-",32.93]
["Reliance Banking Fund  |",4,"-",57.92,29.19,18.63,76.95,-37.840000000000003,82.89,46.08,-31.98,60.52,-10.37,64.88]
["Reliance Diversified Power Sector Fund",0,"-","-",81.37,58.78,124.42,-50.39,93.58,5.38,-44.7,28.99,-14.62,50.84]
["Reliance Equity Opportunities Fund  |",3,"-","-","-",51.28,47.32,-55.87,108.75,30.45,-21.63,47.35,4.5599999999999996,59.67]
["Reliance Focused Large Cap Fund  |",4,"-","-","-","-",52.01,-44.85,54.72,0.28000000000000003,-30.11,41.28,9.25,37.33]
["Reliance Growth Fund  |",2,155.66,42.57,68.73,41,76.849999999999994,-54.11,97.4,17.18,-27.4,37.82,-2.4700000000000002,54.87]
["Reliance Index Fund - Nifty Plan  |",2,"-","-","-","-","-","-","-","-",-24.04,29.05,7.12,31.89]
["Reliance Index Fund - Sensex Plan",0,"-","-","-","-","-","-","-","-",-25,27.29,9.83,28.68]
["Reliance Media & Entertainment Fund",0,"-","-",42.53,44.38,83.56,-62.44,70.709999999999994,15.58,-18.97,57.96,-1.52,41.24]
["Reliance Mid & Small Cap Fund  |",3,"-","-","-","-",63.38,-54.64,79.290000000000006,25.98,-28.61,41.66,2.88,81.53]
["Reliance NRI Equity Fund  |",4,"-","-",53.49,51.85,57.17,-53.69,96.81,20.76,-24.49,39.28,4.62,38.36]
["Reliance Pharma Fund",0,"-","-",29.4,16.73,49.8,-34,118.6,31.86,-11.02,34.840000000000003,20.87,49.46]
["Reliance Quant Plus Fund - Retail Plan  |",2,"-","-","-","-","-","-",76.55,25.4,-25.16,28.52,6.08,31.34]
["Reliance Regular Savings Fund - Equity Option  |",1,"-","-","-",55.95,92.98,-54.61,102.88,19.61,-29.98,46.01,-3.73,56.15]
["Reliance Small Cap Fund  |",4,"-","-","-","-","-","-","-","-",-25.04,41.89,11.89,97.6]
["Reliance Tax Saver Fund  |",3,"-","-","-",34.49,42.4,-52.35,82.01,22.49,-24.23,46.05,3.47,83]
["Reliance Top 200 Fund - Retail Plan  |",3,"-","-","-","-","-",-49.16,73.430000000000007,19.36,-26.45,40.97,4.1500000000000004,54.65]
["Reliance Vision Fund  |",2,155.16,19.809999999999999,53.47,45.8,56.62,-51.92,82.13,15.26,-28.55,29.98,-0.31,60.43]
["Religare Invesco Banking Fund  |",4,"-","-","-","-","-","-",70.739999999999995,38.53,-29.91,58.13,-9.5299999999999994,55.8]
["Religare Invesco Business Leaders Fund  |",4,"-","-","-","-","-","-","-",17.670000000000002,-21.92,24.33,9.1999999999999993,39.520000000000003]
["Religare Invesco Contra Fund  |",4,"-","-","-","-","-",-48.96,104.75,12.92,-22.07,30.72,4.67,62.96]
["Religare Invesco Dynamic Equity Fund  |",5,"-","-","-","-","-",-49.06,69.819999999999993,17.600000000000001,-20.440000000000001,27.37,19.3,25.43]
["Religare Invesco Growth Fund  |",5,"-","-","-","-","-",-48.9,62.18,22.26,-21.82,26.52,11.54,43.75]
["Religare Invesco Infrastructure Fund  |",4,"-","-","-","-","-",-56.67,62.58,9.2799999999999994,-29.33,22.44,-4.0599999999999996,83.63]
["Religare Invesco Mid Cap Fund  |",3,"-","-","-","-","-",-64.180000000000007,105.34,25.69,-17.5,41.7,6.23,77.03]
["Religare Invesco Mid N Small Cap Fund  |",4,"-","-","-","-","-","-",95.66,34.69,-19.239999999999998,43.88,11.17,72.11]
["Religare Invesco Nifty Exchange Traded Fund",0,"-","-","-","-","-","-","-","-","-",28.64,7.34,32.03]
["Religare Invesco PSU Equity Fund",0,"-","-","-","-","-","-","-",11.45,-24.46,17.86,-15.05,54.55]
["Religare Invesco Tax Plan  |",5,"-","-","-","-","-",-49.51,83.49,22.13,-18.920000000000002,30.31,10.130000000000001,54.3]
["SBI Bluechip Fund  |",4,"-","-","-","-",42.78,-55.02,87.9,11.89,-24.23,38.229999999999997,7.58,47.86]
["SBI Contra Fund  |",2,114.43,64.489999999999995,70.92,50.48,66.290000000000006,-53.14,90.55,9.59,-28.24,34.19,-1.75,47.66]
["SBI Emerging Businesses Fund  |",3,"-","-",80.209999999999994,29.45,64.459999999999994,-68.540000000000006,108.96,33.08,-10.58,56.31,-7.87,58.01]
["SBI FMCG Fund",0,79.83,26.58,38.200000000000003,5.58,28.38,-32.97,66.37,48.08,6.18,55.3,9.2899999999999991,30.89]
["SBI Infrastructure Fund  |",1,"-","-","-","-","-",-60.83,75.3,1.83,-33.08,18.7,-11.87,48.06]
["SBI IT Fund",0,47.52,21.32,65.400000000000006,51.17,6.41,-64.2,126.32,24.95,-14.52,5.68,54.5,29.24]
["SBI Magnum COMMA Fund",0,"-","-","-",46.85,86.01,-59.71,99,9.01,-28.46,13.9,-13.07,31.47]
["SBI Magnum Equity Fund  |",4,98.9,18.420000000000002,42.77,51.47,71.28,-56.29,87.94,18.32,-19.71,29.89,5.54,42.65]
["SBI Magnum Global Fund  |",4,100.82,68.59,78.02,56.63,52.37,-66.650000000000006,119.56,18.100000000000001,-14.21,35.979999999999997,9.7100000000000009,66.56]
["SBI Magnum Midcap Fund  |",4,"-","-","-",46.69,70.69,-71.739999999999995,104.11,14.7,-25.79,47.98,13.57,71.94]
["SBI Magnum Multicap Fund  |",4,"-","-","-",42.66,45.62,-57.54,80.819999999999993,9.76,-30.69,38.35,5.2,55.98]
["SBI Magnum Multiplier Fund  |",4,117.6,31.34,70.17,49.83,64.89,-55.19,87.53,19.3,-25.75,32.47,10.54,48.26]
["SBI Magnum Taxgain Scheme  |",3,133.21,53.93,96.06,44.96,55.27,-54.86,86.41,12.98,-23.5,34.29,7.04,49.14]
["SBI Nifty Index Fund  |",2,74.069999999999993,10.07,33.82,42.05,49.46,-53.27,74.739999999999995,17.989999999999998,-24.61,28.36,6.19,30.48]
["SBI Pharma Fund",0,117.95,50.9,44.41,12.63,6.74,-49.2,84.29,29.14,-5.54,37.06,26.05,56.85]
["SBI PSU Fund",0,"-","-","-","-","-","-","-","-",-27.12,10.33,-13.16,41.54]
["SBI Sensex ETF",0,"-","-","-","-","-","-","-","-","-","-","-",31.11]
["SBI Small & Midcap Fund",0,"-","-","-","-","-","-","-",18.97,-24.31,31.91,7.85,110.66]
["Sundaram Entertainment Opportunities Fund - Regular Plan",0,"-","-","-","-","-","-",51.8,1.34,-32.6,38.47,2.4900000000000002,27.28]
["Sundaram Equity Multiplier Fund  |",3,"-","-","-","-","-",-55.55,67.790000000000006,11.26,-23.26,33.130000000000003,-3,48.88]
["Sundaram Equity Plus Fund",0,"-","-","-","-","-","-","-","-","-",14.55,1.1200000000000001,17.61]
["Sundaram Financial Services Opportunities Fund - Regular Plan  |",2,"-","-","-","-","-","-",71.599999999999994,35.51,-32.94,47.08,-12.37,58.02]
["Sundaram Global Advantage Fund",0,"-","-","-","-","-",-41.71,62.35,10.78,-2.37,19.170000000000002,9.11,-3.57]
["Sundaram Growth Fund - Regular Plan  |",1,111.57,28.09,42.07,42.61,71.77,-57.49,73.33,17.59,-27.17,29.19,0.09,32.93]
["Sundaram Infrastructure Advantage Fund - Regular Plan",0,"-","-","-",56.15,90.39,-62.24,93.43,5.12,-39.71,19.27,-15.83,57.63]
["Sundaram PSU Opportunities Fund",0,"-","-","-","-","-","-","-","-",-26.75,13.99,-16.53,48.46]
["Sundaram Rural India Fund - Regular Plan",0,"-","-","-","-",69.94,-61.39,75.37,20.79,-23.05,34.06,-0.64,47.37]
["Sundaram S.M.I.L.E. Fund - Regular Plan  |",2,"-","-","-",30.92,81.12,-57.62,120.44,10.19,-32.72,44.77,-5.0199999999999996,108.74]
["Sundaram Select Focus Fund - Regular Plan  |",1,108.24,23.86,45.04,49.24,79.2,-52.44,65.52,12.53,-23.67,21.64,3.64,34.340000000000003]
["Sundaram Select Midcap Fund - Regular Plan  |",3,157.72999999999999,35.72,61.36,60.77,63.14,-58.34,114.63,20.76,-23.67,38.020000000000003,4.6399999999999997,75.03]
["Sundaram Taxsaver  |",2,107.19,43.78,59.61,31.97,68.38,-47.58,72.02,13.06,-25.35,34.47,1.39,45.72]
["Tata Dividend Yield Fund - Regular Plan  |",3,"-","-",36.979999999999997,15.07,75.75,-53.28,88.45,32.36,-16.93,27.29,6.1,42.44]
["Tata Equity Opportunities Fund - Regular Plan  |",4,"-",29.86,51.17,37.950000000000003,76.36,-60.91,95.12,9.81,-23.03,33.72,8.69,48.54]
["Tata Equity PE Fund - Regular Plan  |",2,"-","-",39.97,29.03,83.6,-53.84,103.59,16.829999999999998,-23.76,29.53,1.75,69.540000000000006]
["Tata Ethical Fund - Regular Plan  |",5,132.02000000000001,20.69,50.05,50.38,67.010000000000005,-65.069999999999993,107.19,19.77,-16.64,25.68,16.36,41.49]
["Tata Index Nifty Fund - Regular Plan  |",2,"-",10.199999999999999,42.91,43.77,52.21,-52.37,73.83,17.52,-24.61,28.36,6.39,30.77]
["Tata Index Sensex Fund - Regular Plan  |",2,"-",14.15,37.729999999999997,46.45,45.2,-53.06,78.83,17.13,-24.8,26.09,8.67,29.42]
["Tata Infrastructure Fund - Regular Plan  |",3,"-","-","-",60.32,84.31,-57.58,75.75,9.06,-34.729999999999997,26.56,-12.92,63.12]
["Tata Long Term Equity Fund  |",4,134.26,28.14,46.61,23.89,53.28,-55.17,80.37,17.97,-18.34,27.32,6.85,48.46]
["Tata Midcap Growth Fund - Regular Plan  |",3,110.64,29.63,42.33,27,65.02,-60.23,91.65,16.670000000000002,-22.69,37.69,6.55,80.040000000000006]
["Tata Pure Equity Fund - Regular Plan  |",4,140.65,29.28,44.35,42.63,61.32,-49.21,77.180000000000007,18.95,-21.22,28.47,7.96,36.049999999999997]
["Tata Retirement Savings Fund - Progressive Plan - Regular Plan  |",3,"-","-","-","-","-","-","-","-","-",21.72,1.46,47.36]
["Taurus Banking & Financial Services Fund - Regular Plan  |",2,"-","-","-","-","-","-","-","-","-","-",-12.81,59.61]
["Taurus Bonanza Fund - Regular Plan  |",1,113.33,6.73,60.4,36.840000000000003,62.27,-61.92,79.3,14.76,-23.53,24.43,-1.62,38.409999999999997]
["Taurus Discovery Fund - Regular Plan  |",2,95.64,25.29,46.55,10.42,100.71,-75.17,90.92,13.99,-30.45,49.79,0.92,60.71]
["Taurus Ethical Fund - Regular Plan  |",4,"-","-","-","-","-","-","-",24.24,-16.809999999999999,12.91,14.86,42.65]
["Taurus Infrastructure Fund - Regular Plan  |",2,"-","-","-","-","-",-65.75,127.18,11.45,-34,26.61,-10.39,58.76]
["Taurus Nifty Index Fund - Regular Plan",0,"-","-","-","-","-","-","-","-",-26.31,28.53,6.36,31.17]
["Taurus Starshare Fund - Regular Plan  |",2,112.52,34.03,63.04,48.85,87.42,-66.17,85.41,23.46,-20.53,30.73,2.42,38.619999999999997]
["Taurus Tax Shield Fund - Regular Plan  |",1,73.67,39.76,36.590000000000003,-10.130000000000001,111.69,-54.23,94.85,18.88,-22.21,28.66,0.47,35.130000000000003]
["Templeton India Equity Income Fund  |",3,"-","-","-","-",56.88,-52.45,104.22,24.13,-23.66,36.119999999999997,3.72,38.49]
["Templeton India Growth Fund  |",2,138.83000000000001,19.77,34.93,30.52,63.11,-51,104.7,21.96,-29.57,35.9,-0.6,49.15]
["Union KBC Equity Fund  |",2,"-","-","-","-","-","-","-","-","-",30.23,6.59,40.07]
["Union KBC Tax Saver Fund  |",3,"-","-","-","-","-","-","-","-","-",30.14,8.1300000000000008,44.47]
["UTI Banking Sector Fund - Regular Plan  |",3,"-","-",25.2,31.46,66.489999999999995,-45.81,77.75,36.479999999999997,-32.58,58.69,-13.51,64.03]
["UTI Dividend Yield Fund  |",2,"-","-","-",20.65,70.56,-44.44,85.78,24.27,-17.54,22.37,0.2,41.24]
["UTI Energy Fund",0,"-","-","-","-","-",-57.49,75.040000000000006,3.21,-28.5,14.49,-5.62,35.07]
["UTI Equity Fund  |",4,100.7,22.34,40.22,22.78,47.48,-45.25,85.17,20.5,-19.09,32.15,7.56,46.76]
["UTI Equity Tax Savings Fund  |",2,85.09,29.48,46.72,18.559999999999999,50.92,-54.67,72.88,17.57,-23.37,26.87,7.15,40.729999999999997]
["UTI India Lifestyle Fund",0,"-","-","-","-","-",-48.03,63.16,22.98,-13.93,33.14,5.83,32.590000000000003]
["UTI Infrastructure Fund  |",3,"-","-",57,61.48,72.010000000000005,-56.32,65.92,0.87,-36.49,32.15,-11.46,60.12]
["UTI Leadership Equity Fund  |",3,"-","-","-","-",52.71,-54.08,68.94,13.47,-23.98,30.59,7.42,38.159999999999997]
["UTI Mastershare Fund  |",4,80.400000000000006,23.49,31.4,26.99,62.54,-50.3,74.16,18.47,-19.72,25.07,5.9,43.29]
["UTI Mid Cap Fund  |",5,"-","-",58.66,11.76,52.8,-61.12,110.69,18.940000000000001,-23.92,41.55,9.69,90.44]
["UTI MNC Fund",0,80.19,29.13,42.14,16.47,32.450000000000003,-42.78,82.03,26.07,-6.04,31.26,10.63,62.94]
["UTI Nifty Index Fund  |",3,75.03,11.28,37.159999999999997,40.78,53.58,-51.96,73.8,17.73,-24.83,28.32,6.86,31.77]
["UTI Opportunities Fund  |",4,"-","-","-",10.89,71.33,-49.04,97.62,19.399999999999999,-12.11,27.28,5.85,41.22]
["UTI Pharma & Healthcare Fund",0,83.04,25.35,16.02,8.25,12.08,-25.95,66.7,37.369999999999997,-9.56,24.78,23.26,43.74]
["UTI Top 100 Fund  |",3,"-","-","-","-","-","-","-",12.89,-16.16,22.61,6.26,41.7]
["UTI Transportation and Logistics Fund",0,"-","-",42.49,11.92,-0.97,-48.77,132.13,26.56,-19.28,37.72,24.69,103.96]
["UTI Wealth Builder Fund - Series II - Retail Plan",0,"-","-","-","-","-","-",72.33,16.739999999999998,-7.71,24.91,-3.41,22.68]

{"sheet":"Analysis","index":11,"n_rows":1000,"n_cols":83,"rows_kept":1000,"cut":false,"hidden":false,"merged":[]}
["Fund  |  Rating","Ratings",2004,2005,2006,2007,2008,2009,2010,2011,2012,2013,2014,2015,"12-year %","11-year %","10-year %","9-year %","8-year %","7-year %","6-year %","5-year %","4-year %","3-year %","2-year %","1-year %","12-year rank","11-year rank","10-year rank","9-year rank","8-year rank","7-year rank","6-year rank","5-year rank","4-year rank","3-year rank","2-year rank","1-year rank"]
["Axis Equity Fund  |",3,"-","-","-","-","-","-","-",-22.55,31.73,13.49,40.85,-1.24,{"$f":"IF(A2=\"\",\"\",IF(ISERROR(1+C2),\"\",IF(ISERROR(((1+C2/100)*(1+D2/100)*(1+E2/100)*(1+F2/100)*(1+G2/100)*(1+H2/100)*(1+I2/100)*(1+J2/100)*(1+K2/100)*(1+L2/100)*(1+M2/100)*(1+N2/100))^(1/12)-1),\"\",((1+C2/100)*(1+D2/100)*(1+E2/100)*(1+F2/100)*(1+G2/100)*(1+H2/100)*(1+I2/100)*(1+J2/100)*(1+K2/100)*(1+L2/100)*(1+M2/100)*(1+N2/100))^(1/12)-1)))","v":""},{"$f":"IF(A2=\"\",\"\",IF(ISERROR(1+D2),\"\",IF(ISERROR(((1+D2/100)*(1+E2/100)*(1+F2/100)*(1+G2/100)*(1+H2/100)*(1+I2/100)*(1+J2/100)*(1+K2/100)*(1+L2/100)*(1+M2/100)*(1+N2/100))^(1/11)-1),\"\",((1+D2/100)*(1+E2/100)*(1+F2/100)*(1+G2/100)*(1+H2/100)*(1+I2/100)*(1+J2/100)*(1+K2/100)*(1+L2/100)*(1+M2/100)*(1+N2/100))^(1/11)-1)))","v":""},{"$f":"IF(A2=\"\",\"\",IF(ISERROR(1+E2),\"\",IF(ISERROR(((1+E2/100)*(1+F2/100)*(1+G2/100)*(1+H2/100)*(1+I2/100)*(1+J2/100)*(1+K2/100)*(1+L2/100)*(1+M2/100)*(1+N2/100))^(1/10)-1),\"\",((1+E2/100)*(1+F2/100)*(1+G2/100)*(1+H2/100)*(1+I2/100)*(1+J2/100)*(1+K2/100)*(1+L2/100)*(1+M2/100)*(1+N2/100))^(1/10)-1)))","v":""},{"$f":"IF(A2=\"\",\"\",IF(ISERROR(1+F2),\"\",IF(ISERROR(((1+F2/100)*(1+G2/100)*(1+H2/100)*(1+I2/100)*(1+J2/100)*(1+K2/100)*(1+L2/100)*(1+M2/100)*(1+N2/100))^(1/9)-1),\"\",((1+F2/100)*(1+G2/100)*(1+H2/100)*(1+I2/100)*(1+J2/100)*(1+K2/100)*(1+L2/100)*(1+M2/100)*(1+N2/100))^(1/9)-1)))","v":""},{"$f":"IF(A2=\"\",\"\",IF(ISERROR(1+G2),\"\",IF(ISERROR(((1+G2/100)*(1+H2/100)*(1+I2/100)*(1+J2/100)*(1+K2/100)*(1+L2/100)*(1+M2/100)*(1+N2/100))^(1/8)-1),\"\",((1+G2/100)*(1+H2/100)*(1+I2/100)*(1+J2/100)*(1+K2/100)*(1+L2/100)*(1+M2/100)*(1+N2/100))^(1/8)-1)))","v":""},{"$f":"IF(A2=\"\",\"\",IF(ISERROR(1+H2),\"\",IF(ISERROR(((1+H2/100)*(1+I2/100)*(1+J2/100)*(1+K2/100)*(1+L2/100)*(1+M2/100)*(1+N2/100))^(1/7)-1),\"\",((1+H2/100)*(1+I2/100)*(1+J2/100)*(1+K2/100)*(1+L2/100)*(1+M2/100)*(1+N2/100))^(1/7)-1)))","v":""},{"$f":"IF(A2=\"\",\"\",IF(ISERROR(1+I2),\"\",IF(ISERROR(((1+I2/100)*(1+J2/100)*(1+K2/100)*(1+L2/100)*(1+M2/100)*(1+N2/100))^(1/6)-1),\"\",((1+I2/100)*(1+J2/100)*(1+K2/100)*(1+L2/100)*(1+M2/100)*(1+N2/100))^(1/6)-1)))","v":""},{"$f":"IF(A2=\"\",\"\",IF(ISERROR(1+J2),\"\",IF(ISERROR(((1+J2/100)*(1+K2/100)*(1+L2/100)*(1+M2/100)*(1+N2/100))^(1/5)-1),\"\",((1+J2/100)*(1+K2/100)*(1+L2/100)*(1+M2/100)*(1+N2/100))^(1/5)-1)))","v":0.10001935956644514},{"$f":"IF(A2=\"\",\"\",IF(ISERROR(1+K2),\"\",IF(ISERROR(((1+K2/100)*(1+L2/100)*(1+M2/100)*(1+N2/100))^(1/4)-1),\"\",((1+K2/100)*(1+L2/100)*(1+M2/100)*(1+N2/100))^(1/4)-1)))","v":0.2008673998094801},{"$f":"IF(A2=\"\",\"\",IF(ISERROR(1+L2),\"\",IF(ISERROR(((1+L2/100)*(1+M2/100)*(1+N2/100))^(1/3)-1),\"\",((1+L2/100)*(1+M2/100)*(1+N2/100))^(1/3)-1)))","v":0.16439011408419191},{"$f":"IF(A2=\"\",\"\",IF(ISERROR(1+M2),\"\",IF(ISERROR(((1+M2/100)*(1+N2/100))^(1/2)-1),\"\",((1+M2/100)*(1+N2/100))^(1/2)-1)))","v":0.17942129877325863},{"$f":"IF(A2=\"\",\"\",IF(ISERROR(1+N2),\"\",IF(ISERROR(((1+N2/100))^(1/1)-1),\"\",((1+N2/100))^(1/1)-1)))","v":-1.2399999999999967E-2},{"$f":"IF($A2=\"\",\"\",IF(ISERROR(RANK(O2,$O$2:$O$1000,0)),\"\",RANK(O2,$O$2:$O$1000,0)))","v":""},{"$f":"IF($A2=\"\",\"\",IF(ISERROR(RANK(P2,$P$2:$P$1000,0)),\"\",RANK(P2,$P$2:$P$1000,0)))","v":""},{"$f":"IF($A2=\"\",\"\",IF(ISERROR(RANK(Q2,$Q$2:$Q$1000,0)),\"\",RANK(Q2,$Q$2:$Q$1000,0)))","v":""},{"$f":"IF($A2=\"\",\"\",IF(ISERROR(RANK(R2,$R$2:$R$1000,0)),\"\",RANK(R2,$R$2:$R$1000,0)))","v":""},{"$f":"IF($A2=\"\",\"\",IF(ISERROR(RANK(S2,$S$2:$S$1000,0)),\"\",RANK(S2,$S$2:$S$1000,0)))","v":""},{"$f":"IF($A2=\"\",\"\",IF(ISERROR(RANK(T2,$T$2:$T$1000,0)),\"\",RANK(T2,$T$2:$T$1000,0)))","v":""},{"$f":"IF($A2=\"\",\"\",IF(ISERROR(RANK(U2,$U$2:$U$1000,0)),\"\",RANK(U2,$U$2:$U$1000,0)))","v":""},{"$f":"IF($A2=\"\",\"\",IF(ISERROR(RANK(V2,$V$2:$V$1000,0)),\"\",RANK(V2,$V$2:$V$1000,0)))","v":35},{"$f":"IF($A2=\"\",\"\",IF(ISERROR(RANK(W2,$W$2:$W$1000,0)),\"\",RANK(W2,$W$2:$W$1000,0)))","v":31},{"$f":"IF($A2=\"\",\"\",IF(ISERROR(RANK(X2,$X$2:$X$1000,0)),\"\",RANK(X2,$X$2:$X$1000,0)))","v":36},{"$f":"IF($A2=\"\",\"\",IF(ISERROR(RANK(Y2,$Y$2:$Y$1000,0)),\"\",RANK(Y2,$Y$2:$Y$1000,0)))","v":57},{"$f":"IF($A2=\"\",\"\",IF(ISERROR(RANK(Z2,$Z$2:$Z$1000,0)),\"\",RANK(Z2,$Z$2:$Z$1000,0)))","v":58},null,{"$f":"IF(AA2=\"\",\"\",IF(AA2>Inputs!$D$9,0,1))","v":""},{"$f":"IF(AB2=\"\",\"\",IF(AB2>Inputs!$D$9,0,1))","v":""},{"$f":"IF(AC2=\"\",\"\",IF(AC2>Inputs!$D$9,0,1))","v":""},{"$f":"IF(AD2=\"\",\"\",IF(AD2>Inputs!$D$9,0,1))","v":""},{"$f":"IF(AE2=\"\",\"\",IF(AE2>Inputs!$D$9,0,1))","v":""},{"$f":"IF(AF2=\"\",\"\",IF(AF2>Inputs!$D$9,0,1))","v":""},{"$f":"IF(AG2=\"\",\"\",IF(AG2>Inputs!$D$9,0,1))","v":""},{"$f":"IF(AH2=\"\",\"\",IF(AH2>Inputs!$D$9,0,1))","v":0},{"$f":"IF(AI2=\"\",\"\",IF(AI2>Inputs!$D$9,0,1))","v":0},{"$f":"IF(AJ2=\"\",\"\",IF(AJ2>Inputs!$D$9,0,1))","v":0},{"$f":"IF(AK2=\"\",\"\",IF(AK2>Inputs!$D$9,0,1))","v":0},{"$f":"IF(AL2=\"\",\"\",IF(AL2>Inputs!$D$9,0,1))","v":0},{"$f":"IF(COUNT(AN2:AY2)=0,\"\",SUM(AN2:AY2)/COUNT(AN2:AY2))","v":0},{"$f":"COUNT(AN2:AY2)","v":5},null,{"$f":"IF(O2=\"\",\"\",IF(O2>AVERAGE($O$2:$O$1000),1,0))","v":""},{"$f":"IF(P2=\"\",\"\",IF(P2>AVERAGE($P$2:$P$1000),1,0))","v":""},{"$f":"IF(Q2=\"\",\"\",IF(Q2>AVERAGE($Q$2:$Q$1000),1,0))","v":""},{"$f":"IF(R2=\"\",\"\",IF(R2>AVERAGE($R$2:$R$1000),1,0))","v":""},{"$f":"IF(S2=\"\",\"\",IF(S2>AVERAGE($S$2:$S$1000),1,0))","v":""},{"$f":"IF(T2=\"\",\"\",IF(T2>AVERAGE($T$2:$T$1000),1,0))","v":""},{"$f":"IF(U2=\"\",\"\",IF(U2>AVERAGE($U$2:$U$1000),1,0))","v":""},{"$f":"IF(V2=\"\",\"\",IF(V2>AVERAGE($V$2:$V$1000),1,0))","v":1},{"$f":"IF(W2=\"\",\"\",IF(W2>AVERAGE($W$2:$W$1000),1,0))","v":0},{"$f":"IF(X2=\"\",\"\",IF(X2>AVERAGE($X$2:$X$1000),1,0))","v":1},{"$f":"IF(Y2=\"\",\"\",IF(Y2>AVERAGE($Y$2:$Y$1000),1,0))","v":0},{"$f":"IF(Z2=\"\",\"\",IF(Z2>AVERAGE($Z$2:$Z$1000),1,0))","v":0},{"$f":"IF(COUNT(BC2:BN2)=0,\"\",SUM(BC2:BN2)/COUNT(BC2:BN2))","v":0.4},{"$f":"IF(A2=\"\",\"\",COUNT(BC2:BN2))","v":5},null,null,{"$f":"IF($A2=\"\",\"\",IF(C2=\"-\",0,IF(C2>AVERAGE(C$2:C$1183),1,0)))","v":0},0,0,0,0,0,0,1,0,1,0,0,{"$f":"IF(A2=\"\",\"\",SUM(BS2:CD2))","v":2}]
["Axis Focused 25 Fund  |",2,"-","-","-","-","-","-","-","-","-",5.82,38.75,3.91,{"$f":"IF(A3=\"\",\"\",IF(ISERROR(1+C3),\"\",IF(ISERROR(((1+C3/100)*(1+D3/100)*(1+E3/100)*(1+F3/100)*(1+G3/100)*(1+H3/100)*(1+I3/100)*(1+J3/100)*(1+K3/100)*(1+L3/100)*(1+M3/100)*(1+N3/100))^(1/12)-1),\"\",((1+C3/100)*(1+D3/100)*(1+E3/100)*(1+F3/100)*(1+G3/100)*(1+H3/100)*(1+I3/100)*(1+J3/100)*(1+K3/100)*(1+L3/100)*(1+M3/100)*(1+N3/100))^(1/12)-1)))","v":""},"",{"$f":"IF(A3=\"\",\"\",IF(ISERROR(1+E3),\"\",IF(ISERROR(((1+E3/100)*(1+F3/100)*(1+G3/100)*(1+H3/100)*(1+I3/100)*(1+J3/100)*(1+K3/100)*(1+L3/100)*(1+M3/100)*(1+N3/100))^(1/10)-1),\"\",((1+E3/100)*(1+F3/100)*(1+G3/100)*(1+H3/100)*(1+I3/100)*(1+J3/100)*(1+K3/100)*(1+L3/100)*(1+M3/100)*(1+N3/100))^(1/10)-1)))","v":""},{"$f":"IF(A3=\"\",\"\",IF(ISERROR(1+F3),\"\",IF(ISERROR(((1+F3/100)*(1+G3/100)*(1+H3/100)*(1+I3/100)*(1+J3/100)*(1+K3/100)*(1+L3/100)*(1+M3/100)*(1+N3/100))^(1/9)-1),\"\",((1+F3/100)*(1+G3/100)*(1+H3/100)*(1+I3/100)*(1+J3/100)*(1+K3/100)*(1+L3/100)*(1+M3/100)*(1+N3/100))^(1/9)-1)))","v":""},{"$f":"IF(A3=\"\",\"\",IF(ISERROR(1+G3),\"\",IF(ISERROR(((1+G3/100)*(1+H3/100)*(1+I3/100)*(1+J3/100)*(1+K3/100)*(1+L3/100)*(1+M3/100)*(1+N3/100))^(1/8)-1),\"\",((1+G3/100)*(1+H3/100)*(1+I3/100)*(1+J3/100)*(1+K3/100)*(1+L3/100)*(1+M3/100)*(1+N3/100))^(1/8)-1)))","v":""},{"$f":"IF(A3=\"\",\"\",IF(ISERROR(1+H3),\"\",IF(ISERROR(((1+H3/100)*(1+I3/100)*(1+J3/100)*(1+K3/100)*(1+L3/100)*(1+M3/100)*(1+N3/100))^(1/7)-1),\"\",((1+H3/100)*(1+I3/100)*(1+J3/100)*(1+K3/100)*(1+L3/100)*(1+M3/100)*(1+N3/100))^(1/7)-1)))","v":""},{"$f":"IF(A3=\"\",\"\",IF(ISERROR(1+I3),\"\",IF(ISERROR(((1+I3/100)*(1+J3/100)*(1+K3/100)*(1+L3/100)*(1+M3/100)*(1+N3/100))^(1/6)-1),\"\",((1+I3/100)*(1+J3/100)*(1+K3/100)*(1+L3/100)*(1+M3/100)*(1+N3/100))^(1/6)-1)))","v":""},{"$f":"IF(A3=\"\",\"\",IF(ISERROR(1+J3),\"\",IF(ISERROR(((1+J3/100)*(1+K3/100)*(1+L3/100)*(1+M3/100)*(1+N3/100))^(1/5)-1),\"\",((1+J3/100)*(1+K3/100)*(1+L3/100)*(1+M3/100)*(1+N3/100))^(1/5)-1)))","v":""},{"$f":"IF(A3=\"\",\"\",IF(ISERROR(1+K3),\"\",IF(ISERROR(((1+K3/100)*(1+L3/100)*(1+M3/100)*(1+N3/100))^(1/4)-1),\"\",((1+K3/100)*(1+L3/100)*(1+M3/100)*(1+N3/100))^(1/4)-1)))","v":""},{"$f":"IF(A3=\"\",\"\",IF(ISERROR(1+L3),\"\",IF(ISERROR(((1+L3/100)*(1+M3/100)*(1+N3/100))^(1/3)-1),\"\",((1+L3/100)*(1+M3/100)*(1+N3/100))^(1/3)-1)))","v":0.15120508149617695},{"$f":"IF(A3=\"\",\"\",IF(ISERROR(1+M3),\"\",IF(ISERROR(((1+M3/100)*(1+N3/100))^(1/2)-1),\"\",((1+M3/100)*(1+N3/100))^(1/2)-1)))","v":0.20072946578319617},{"$f":"IF(A3=\"\",\"\",IF(ISERROR(1+N3),\"\",IF(ISERROR(((1+N3/100))^(1/1)-1),\"\",((1+N3/100))^(1/1)-1)))","v":3.9099999999999913E-2},{"$f":"IF($A3=\"\",\"\",IF(ISERROR(RANK(O3,$O$2:$O$1000,0)),\"\",RANK(O3,$O$2:$O$1000,0)))","v":""},{"$f":"IF($A3=\"\",\"\",IF(ISERROR(RANK(P3,$P$2:$P$1000,0)),\"\",RANK(P3,$P$2:$P$1000,0)))","v":""},{"$f":"IF($A3=\"\",\"\",IF(ISERROR(RANK(Q3,$Q$2:$Q$1000,0)),\"\",RANK(Q3,$Q$2:$Q$1000,0)))","v":""},{"$f":"IF($A3=\"\",\"\",IF(ISERROR(RANK(R3,$R$2:$R$1000,0)),\"\",RANK(R3,$R$2:$R$1000,0)))","v":""},{"$f":"IF($A3=\"\",\"\",IF(ISERROR(RANK(S3,$S$2:$S$1000,0)),\"\",RANK(S3,$S$2:$S$1000,0)))","v":""},{"$f":"IF($A3=\"\",\"\",IF(ISERROR(RANK(T3,$T$2:$T$1000,0)),\"\",RANK(T3,$T$2:$T$1000,0)))","v":""},{"$f":"IF($A3=\"\",\"\",IF(ISERROR(RANK(U3,$U$2:$U$1000,0)),\"\",RANK(U3,$U$2:$U$1000,0)))","v":""},{"$f":"IF($A3=\"\",\"\",IF(ISERROR(RANK(V3,$V$2:$V$1000,0)),\"\",RANK(V3,$V$2:$V$1000,0)))","v":""},{"$f":"IF($A3=\"\",\"\",IF(ISERROR(RANK(W3,$W$2:$W$1000,0)),\"\",RANK(W3,$W$2:$W$1000,0)))","v":""},{"$f":"IF($A3=\"\",\"\",IF(ISERROR(RANK(X3,$X$2:$X$1000,0)),\"\",RANK(X3,$X$2:$X$1000,0)))","v":42},{"$f":"IF($A3=\"\",\"\",IF(ISERROR(RANK(Y3,$Y$2:$Y$1000,0)),\"\",RANK(Y3,$Y$2:$Y$1000,0)))","v":49},{"$f":"IF($A3=\"\",\"\",IF(ISERROR(RANK(Z3,$Z$2:$Z$1000,0)),\"\",RANK(Z3,$Z$2:$Z$1000,0)))","v":25},null,{"$f":"IF(AA3=\"\",\"\",IF(AA3>Inputs!$D$9,0,1))","v":""},{"$f":"IF(AB3=\"\",\"\",IF(AB3>Inputs!$D$9,0,1))","v":""},{"$f":"IF(AC3=\"\",\"\",IF(AC3>Inputs!$D$9,0,1))","v":""},{"$f":"IF(AD3=\"\",\"\",IF(AD3>Inputs!$D$9,0,1))","v":""},{"$f":"IF(AE3=\"\",\"\",IF(AE3>Inputs!$D$9,0,1))","v":""},{"$f":"IF(AF3=\"\",\"\",IF(AF3>Inputs!$D$9,0,1))","v":""},{"$f":"IF(AG3=\"\",\"\",IF(AG3>Inputs!$D$9,0,1))","v":""},{"$f":"IF(AH3=\"\",\"\",IF(AH3>Inputs!$D$9,0,1))","v":""},{"$f":"IF(AI3=\"\",\"\",IF(AI3>Inputs!$D$9,0,1))","v":""},{"$f":"IF(AJ3=\"\",\"\",IF(AJ3>Inputs!$D$9,0,1))","v":0},{"$f":"IF(AK3=\"\",\"\",IF(AK3>Inputs!$D$9,0,1))","v":0},{"$f":"IF(AL3=\"\",\"\",IF(AL3>Inputs!$D$9,0,1))","v":0},{"$f":"IF(COUNT(AN3:AY3)=0,\"\",SUM(AN3:AY3)/COUNT(AN3:AY3))","v":0},{"$f":"COUNT(AN3:AY3)","v":3},null,{"$f":"IF(O3=\"\",\"\",IF(O3>AVERAGE($O$2:$O$1000),1,0))","v":""},{"$f":"IF(P3=\"\",\"\",IF(P3>AVERAGE($P$2:$P$1000),1,0))","v":""},{"$f":"IF(Q3=\"\",\"\",IF(Q3>AVERAGE($Q$2:$Q$1000),1,0))","v":""},{"$f":"IF(R3=\"\",\"\",IF(R3>AVERAGE($R$2:$R$1000),1,0))","v":""},{"$f":"IF(S3=\"\",\"\",IF(S3>AVERAGE($S$2:$S$1000),1,0))","v":""},{"$f":"IF(T3=\"\",\"\",IF(T3>AVERAGE($T$2:$T$1000),1,0))","v":""},{"$f":"IF(U3=\"\",\"\",IF(U3>AVERAGE($U$2:$U$1000),1,0))","v":""},{"$f":"IF(V3=\"\",\"\",IF(V3>AVERAGE($V$2:$V$1000),1,0))","v":""},{"$f":"IF(W3=\"\",\"\",IF(W3>AVERAGE($W$2:$W$1000),1,0))","v":""},{"$f":"IF(X3=\"\",\"\",IF(X3>AVERAGE($X$2:$X$1000),1,0))","v":0},{"$f":"IF(Y3=\"\",\"\",IF(Y3>AVERAGE($Y$2:$Y$1000),1,0))","v":0},{"$f":"IF(Z3=\"\",\"\",IF(Z3>AVERAGE($Z$2:$Z$1000),1,0))","v":1},{"$f":"IF(COUNT(BC3:BN3)=0,\"\",SUM(BC3:BN3)/COUNT(BC3:BN3))","v":0.33333333333333331},{"$f":"IF(A3=\"\",\"\",COUNT(BC3:BN3))","v":3},null,null,{"$f":"IF($A3=\"\",\"\",IF(C3=\"-\",0,IF(C3>AVERAGE(C$2:C$1183),1,0)))","v":0},{"$f":"IF($A3=\"\",\"\",IF(D3=\"-\",0,IF(D3>AVERAGE(D$2:D$1183),1,0)))","v":0},{"$f":"IF($A3=\"\",\"\",IF(E3=\"-\",0,IF(E3>AVERAGE(E$2:E$1183),1,0)))","v":0},{"$f":"IF($A3=\"\",\"\",IF(F3=\"-\",0,IF(F3>AVERAGE(F$2:F$1183),1,0)))","v":0},{"$f":"IF($A3=\"\",\"\",IF(G3=\"-\",0,IF(G3>AVERAGE(G$2:G$1183),1,0)))","v":0},{"$f":"IF($A3=\"\",\"\",IF(H3=\"-\",0,IF(H3>AVERAGE(H$2:H$1183),1,0)))","v":0},{"$f":"IF($A3=\"\",\"\",IF(I3=\"-\",0,IF(I3>AVERAGE(I$2:I$1183),1,0)))","v":0},{"$f":"IF($A3=\"\",\"\",IF(J3=\"-\",0,IF(J3>AVERAGE(J$2:J$1183),1,0)))","v":0},{"$f":"IF($A3=\"\",\"\",IF(K3=\"-\",0,IF(K3>AVERAGE(K$2:K$1183),1,0)))","v":0},{"$f":"IF($A3=\"\",\"\",IF(L3=\"-\",0,IF(L3>AVERAGE(L$2:L$1183),1,0)))","v":1},{"$f":"IF($A3=\"\",\"\",IF(M3=\"-\",0,IF(M3>AVERAGE(M$2:M$1183),1,0)))","v":0},{"$f":"IF($A3=\"\",\"\",IF(N3=\"-\",0,IF(N3>AVERAGE(N$2:N$1183),1,0)))","v":1},{"$f":"IF(A3=\"\",\"\",SUM(BS3:CD3))","v":2}]
["Birla Sun Life Advantage Fund  |",4,27.46,43.42,34.380000000000003,56.59,-58.36,87.28,14.46,-28.04,29.81,7.23,60.14,4.7699999999999996,0.15726426970577889,0.14714863529897015,0.12181357289584516,9.9532395618636693E-2,5.1994647662501281E-2,0.20091959622033451,0.11519553012682948,0.10940591158527146,0.23620445966809456,0.21623554403148937,0.29529409015867913,4.7700000000000076E-2,22,29,31,31,31,24,29,18,9,5,6,18,null,{"$f":"IF(AA4=\"\",\"\",IF(AA4>Inputs!$D$9,0,1))","v":0},{"$f":"IF(AB4=\"\",\"\",IF(AB4>Inputs!$D$9,0,1))","v":0},{"$f":"IF(AC4=\"\",\"\",IF(AC4>Inputs!$D$9,0,1))","v":0},{"$f":"IF(AD4=\"\",\"\",IF(AD4>Inputs!$D$9,0,1))","v":0},{"$f":"IF(AE4=\"\",\"\",IF(AE4>Inputs!$D$9,0,1))","v":0},{"$f":"IF(AF4=\"\",\"\",IF(AF4>Inputs!$D$9,0,1))","v":0},{"$f":"IF(AG4=\"\",\"\",IF(AG4>Inputs!$D$9,0,1))","v":0},{"$f":"IF(AH4=\"\",\"\",IF(AH4>Inputs!$D$9,0,1))","v":0},{"$f":"IF(AI4=\"\",\"\",IF(AI4>Inputs!$D$9,0,1))","v":1},{"$f":"IF(AJ4=\"\",\"\",IF(AJ4>Inputs!$D$9,0,1))","v":1},{"$f":"IF(AK4=\"\",\"\",IF(AK4>Inputs!$D$9,0,1))","v":1},{"$f":"IF(AL4=\"\",\"\",IF(AL4>Inputs!$D$9,0,1))","v":0},0.25,12,null,0,0,0,0,0,1,1,1,1,1,1,1,0.58333333333333337,12,null,null,1,0,0,0,0,1,0,0,0,1,1,1,5]
["Birla Sun Life Dividend Yield Plus Fund  |",2,29.06,30.53,10.46,56.87,-44.44,89.74,29.85,-18.809999999999999,29.39,-3,55.83,-5.5,0.16097354628033655,0.14985557046790188,0.13536784167397053,0.13883896202624824,9.4151901329612597E-2,0.20537637169700274,0.11759204962292369,8.4554981704200616E-2,0.16597390699678605,0.12620695354860367,0.21350463534343356,-5.5000000000000049E-2,19,26,24,5,5,21,23,43,54,56,45,71,null,{"$f":"IF(AA5=\"\",\"\",IF(AA5>Inputs!$D$9,0,1))","v":0},{"$f":"IF(AB5=\"\",\"\",IF(AB5>Inputs!$D$9,0,1))","v":0},{"$f":"IF(AC5=\"\",\"\",IF(AC5>Inputs!$D$9,0,1))","v":0},{"$f":"IF(AD5=\"\",\"\",IF(AD5>Inputs!$D$9,0,1))","v":1},{"$f":"IF(AE5=\"\",\"\",IF(AE5>Inputs!$D$9,0,1))","v":1},{"$f":"IF(AF5=\"\",\"\",IF(AF5>Inputs!$D$9,0,1))","v":0},{"$f":"IF(AG5=\"\",\"\",IF(AG5>Inputs!$D$9,0,1))","v":0},{"$f":"IF(AH5=\"\",\"\",IF(AH5>Inputs!$D$9,0,1))","v":0},{"$f":"IF(AI5=\"\",\"\",IF(AI5>Inputs!$D$9,0,1))","v":0},{"$f":"IF(AJ5=\"\",\"\",IF(AJ5>Inputs!$D$9,0,1))","v":0},{"$f":"IF(AK5=\"\",\"\",IF(AK5>Inputs!$D$9,0,1))","v":0},{"$f":"IF(AL5=\"\",\"\",IF(AL5>Inputs!$D$9,0,1))","v":0},0.16666666666666666,12,null,0,0,1,1,1,1,1,0,0,0,0,0,0.41666666666666669,12,null,null,1,0,0,0,1,1,1,1,0,0,1,0,6]
["Birla Sun Life Equity Fund  |",4,44.14,54.29,42.84,69.91,-56.62,89.25,14.16,-29.38,35.74,7.11,56.61,2.93,0.19372638394096175,0.17344079217412722,0.14175657622119164,0.11369185058038811,5.6411948086603658E-2,0.19964801887368733,0.11187722193272176,0.10602618245502526,0.23729948347852758,0.19967560363387227,0.26964039396988326,2.9300000000000104E-2,7,11,16,25,30,25,35,23,7,12,11,36,null,{"$f":"IF(AA6=\"\",\"\",IF(AA6>Inputs!$D$9,0,1))","v":1},{"$f":"IF(AB6=\"\",\"\",IF(AB6>Inputs!$D$9,0,1))","v":1},{"$f":"IF(AC6=\"\",\"\",IF(AC6>Inputs!$D$9,0,1))","v":0},{"$f":"IF(AD6=\"\",\"\",IF(AD6>Inputs!$D$9,0,1))","v":0},{"$f":"IF(AE6=\"\",\"\",IF(AE6>Inputs!$D$9,0,1))","v":0},{"$f":"IF(AF6=\"\",\"\",IF(AF6>Inputs!$D$9,0,1))","v":0},{"$f":"IF(AG6=\"\",\"\",IF(AG6>Inputs!$D$9,0,1))","v":0},{"$f":"IF(AH6=\"\",\"\",IF(AH6>Inputs!$D$9,0,1))","v":0},{"$f":"IF(AI6=\"\",\"\",IF(AI6>Inputs!$D$9,0,1))","v":1},{"$f":"IF(AJ6=\"\",\"\",IF(AJ6>Inputs!$D$9,0,1))","v":1},{"$f":"IF(AK6=\"\",\"\",IF(AK6>Inputs!$D$9,0,1))","v":1},{"$f":"IF(AL6=\"\",\"\",IF(AL6>Inputs!$D$9,0,1))","v":0},0.41666666666666669,12,null,1,1,1,1,0,1,0,1,1,1,1,1,0.83333333333333337,12,null,null,1,1,1,1,0,1,0,0,1,1,1,1,9]
["Birla Sun Life India Reforms Fund  |",1,"-","-","-","-","-","-","-",-32.049999999999997,32.119999999999997,-10.38,58.91,-2.14,"","","","","","","",4.5836707547221689E-2,0.16488347901591127,0.11700159404132626,0.24703378462654335,-2.1399999999999975E-2,"","","","","","","",62,57,63,22,63,null,{"$f":"IF(AA7=\"\",\"\",IF(AA7>Inputs!$D$9,0,1))","v":""},{"$f":"IF(AB7=\"\",\"\",IF(AB7>Inputs!$D$9,0,1))","v":""},{"$f":"IF(AC7=\"\",\"\",IF(AC7>Inputs!$D$9,0,1))","v":""},{"$f":"IF(AD7=\"\",\"\",IF(AD7>Inputs!$D$9,0,1))","v":""},{"$f":"IF(AE7=\"\",\"\",IF(AE7>Inputs!$D$9,0,1))","v":""},{"$f":"IF(AF7=\"\",\"\",IF(AF7>Inputs!$D$9,0,1))","v":""},{"$f":"IF(AG7=\"\",\"\",IF(AG7>Inputs!$D$9,0,1))","v":""},{"$f":"IF(AH7=\"\",\"\",IF(AH7>Inputs!$D$9,0,1))","v":0},{"$f":"IF(AI7=\"\",\"\",IF(AI7>Inputs!$D$9,0,1))","v":0},{"$f":"IF(AJ7=\"\",\"\",IF(AJ7>Inputs!$D$9,0,1))","v":0},{"$f":"IF(AK7=\"\",\"\",IF(AK7>Inputs!$D$9,0,1))","v":0},{"$f":"IF(AL7=\"\",\"\",IF(AL7>Inputs!$D$9,0,1))","v":0},0,5,null,"","","","","","","",0,0,0,1,0,0.2,5,null,null,0,0,0,0,0,0,0,0,1,0,1,0,2]
["Birla Sun Life Special Situations Fund  |",3,"-","-","-","-","-",77.430000000000007,11.95,-26.5,25.79,1.9,61.86,7.87,"","","","","",0.18428710568241979,0.10712160389626368,0.10466239760914209,0.22310890742246747,0.21172704058004688,0.32135681025224971,7.8699999999999992E-2,"","","","","",36,39,24,20,6,3,5,null,{"$f":"IF(AA8=\"\",\"\",IF(AA8>Inputs!$D$9,0,1))","v":""},{"$f":"IF(AB8=\"\",\"\",IF(AB8>Inputs!$D$9,0,1))","v":""},{"$f":"IF(AC8=\"\",\"\",IF(AC8>Inputs!$D$9,0,1))","v":""},{"$f":"IF(AD8=\"\",\"\",IF(AD8>Inputs!$D$9,0,1))","v":""},{"$f":"IF(AE8=\"\",\"\",IF(AE8>Inputs!$D$9,0,1))","v":""},{"$f":"IF(AF8=\"\",\"\",IF(AF8>Inputs!$D$9,0,1))","v":0},{"$f":"IF(AG8=\"\",\"\",IF(AG8>Inputs!$D$9,0,1))","v":0},{"$f":"IF(AH8=\"\",\"\",IF(AH8>Inputs!$D$9,0,1))","v":0},{"$f":"IF(AI8=\"\",\"\",IF(AI8>Inputs!$D$9,0,1))","v":0},{"$f":"IF(AJ8=\"\",\"\",IF(AJ8>Inputs!$D$9,0,1))","v":1},{"$f":"IF(AK8=\"\",\"\",IF(AK8>Inputs!$D$9,0,1))","v":1},{"$f":"IF(AL8=\"\",\"\",IF(AL8>Inputs!$D$9,0,1))","v":1},0.42857142857142855,7,null,"","","","","",0,0,1,1,1,1,1,0.7142857142857143,7,null,null,0,0,0,0,0,0,0,0,0,0,1,1,2]
["BNP Paribas Dividend Yield Fund  |",4,"-","-",-3.2,53.07,-48.16,81.02,21.78,-17,32.9,5.56,49.69,6.66,"","",0.12150955629712645,0.14000313999843006,9.8773162420336957E-2,0.22324709558918809,0.14589669118048487,0.1320337228740176,0.22336114426967324,0.19004828578498967,0.26356382505989773,6.6599999999999993E-2,"","",32,3,3,9,4,5,19,18,12,9,null,{"$f":"IF(AA9=\"\",\"\",IF(AA9>Inputs!$D$9,0,1))","v":""},{"$f":"IF(AB9=\"\",\"\",IF(AB9>Inputs!$D$9,0,1))","v":""},{"$f":"IF(AC9=\"\",\"\",IF(AC9>Inputs!$D$9,0,1))","v":0},{"$f":"IF(AD9=\"\",\"\",IF(AD9>Inputs!$D$9,0,1))","v":1},{"$f":"IF(AE9=\"\",\"\",IF(AE9>Inputs!$D$9,0,1))","v":1},{"$f":"IF(AF9=\"\",\"\",IF(AF9>Inputs!$D$9,0,1))","v":1},{"$f":"IF(AG9=\"\",\"\",IF(AG9>Inputs!$D$9,0,1))","v":1},{"$f":"IF(AH9=\"\",\"\",IF(AH9>Inputs!$D$9,0,1))","v":1},{"$f":"IF(AI9=\"\",\"\",IF(AI9>Inputs!$D$9,0,1))","v":0},{"$f":"IF(AJ9=\"\",\"\",IF(AJ9>Inputs!$D$9,0,1))","v":0},{"$f":"IF(AK9=\"\",\"\",IF(AK9>Inputs!$D$9,0,1))","v":1},{"$f":"IF(AL9=\"\",\"\",IF(AL9>Inputs!$D$9,0,1))","v":1},0.7,10,null,"","",0,1,1,1,1,1,1,1,1,1,0.9,10,null,null,0,0,0,0,1,0,1,1,1,1,1,1,7]
["BNP Paribas Equity Fund  |",4,"-",54.38,37.81,68.3,-56.53,56.76,18.09,-17.82,30.5,8.66,47.4,5.58,"",0.16220725245981438,0.12967322565150541,0.10499635927826101,4.8384130855689156E-2,0.18888301895107662,0.13533258377561785,0.1264323075174516,0.21882074737229051,0.19137810372767006,0.24749717434549723,5.5800000000000072E-2,"",20,27,28,35,32,11,7,24,16,21,14,null,{"$f":"IF(AA10=\"\",\"\",IF(AA10>Inputs!$D$9,0,1))","v":""},{"$f":"IF(AB10=\"\",\"\",IF(AB10>Inputs!$D$9,0,1))","v":0},{"$f":"IF(AC10=\"\",\"\",IF(AC10>Inputs!$D$9,0,1))","v":0},{"$f":"IF(AD10=\"\",\"\",IF(AD10>Inputs!$D$9,0,1))","v":0},{"$f":"IF(AE10=\"\",\"\",IF(AE10>Inputs!$D$9,0,1))","v":0},{"$f":"IF(AF10=\"\",\"\",IF(AF10>Inputs!$D$9,0,1))","v":0},{"$f":"IF(AG10=\"\",\"\",IF(AG10>Inputs!$D$9,0,1))","v":1},{"$f":"IF(AH10=\"\",\"\",IF(AH10>Inputs!$D$9,0,1))","v":1},{"$f":"IF(AI10=\"\",\"\",IF(AI10>Inputs!$D$9,0,1))","v":0},{"$f":"IF(AJ10=\"\",\"\",IF(AJ10>Inputs!$D$9,0,1))","v":0},{"$f":"IF(AK10=\"\",\"\",IF(AK10>Inputs!$D$9,0,1))","v":0},{"$f":"IF(AL10=\"\",\"\",IF(AL10>Inputs!$D$9,0,1))","v":1},0.27272727272727271,11,null,"",0,0,0,0,0,1,1,1,1,1,1,0.54545454545454541,11,null,null,0,1,1,1,0,0,0,1,0,1,0,1,6]
["BOI AXA Equity Fund - Regular Plan  |",2,"-","-","-","-","-",74.260000000000005,4.47,-22.64,24.76,6.67,41.11,-2.3199999999999998,"","","","","",0.1452065900621049,6.7820350292739473E-2,7.250546297574334E-2,0.16377835623728565,0.13710851751720798,0.17403683076809817,-2.3199999999999998E-2,"","","","","",48,56,49,58,52,59,65,null,{"$f":"IF(AA11=\"\",\"\",IF(AA11>Inputs!$D$9,0,1))","v":""},{"$f":"IF(AB11=\"\",\"\",IF(AB11>Inputs!$D$9,0,1))","v":""},{"$f":"IF(AC11=\"\",\"\",IF(AC11>Inputs!$D$9,0,1))","v":""},{"$f":"IF(AD11=\"\",\"\",IF(AD11>Inputs!$D$9,0,1))","v":""},{"$f":"IF(AE11=\"\",\"\",IF(AE11>Inputs!$D$9,0,1))","v":""},{"$f":"IF(AF11=\"\",\"\",IF(AF11>Inputs!$D$9,0,1))","v":0},{"$f":"IF(AG11=\"\",\"\",IF(AG11>Inputs!$D$9,0,1))","v":0},{"$f":"IF(AH11=\"\",\"\",IF(AH11>Inputs!$D$9,0,1))","v":0},{"$f":"IF(AI11=\"\",\"\",IF(AI11>Inputs!$D$9,0,1))","v":0},{"$f":"IF(AJ11=\"\",\"\",IF(AJ11>Inputs!$D$9,0,1))","v":0},{"$f":"IF(AK11=\"\",\"\",IF(AK11>Inputs!$D$9,0,1))","v":0},{"$f":"IF(AL11=\"\",\"\",IF(AL11>Inputs!$D$9,0,1))","v":0},0,7,null,"","","","","",0,0,0,0,0,0,0,0,7,null,null,0,0,0,0,0,0,0,1,0,1,0,0,2]
["Canara Robeco Equity Diversified Fund - Regular Plan  |",2,17.600000000000001,37.03,31.35,63.42,-50.84,92.98,20.67,-15.86,31.32,4.3099999999999996,39.71,0.08,0.16701468870140812,0.16620125440699507,0.14754384754273753,0.13045017005515414,7.9554819750427219E-2,0.207951201664619,0.11722052276675643,0.10013713198247465,0.17640781849776999,0.13405359131966188,0.18246254908982218,7.9999999999991189E-4,16,15,11,10,17,17,24,34,48,54,56,49,null,{"$f":"IF(AA12=\"\",\"\",IF(AA12>Inputs!$D$9,0,1))","v":0},{"$f":"IF(AB12=\"\",\"\",IF(AB12>Inputs!$D$9,0,1))","v":1},{"$f":"IF(AC12=\"\",\"\",IF(AC12>Inputs!$D$9,0,1))","v":1},{"$f":"IF(AD12=\"\",\"\",IF(AD12>Inputs!$D$9,0,1))","v":1},{"$f":"IF(AE12=\"\",\"\",IF(AE12>Inputs!$D$9,0,1))","v":0},{"$f":"IF(AF12=\"\",\"\",IF(AF12>Inputs!$D$9,0,1))","v":0},{"$f":"IF(AG12=\"\",\"\",IF(AG12>Inputs!$D$9,0,1))","v":0},{"$f":"IF(AH12=\"\",\"\",IF(AH12>Inputs!$D$9,0,1))","v":0},{"$f":"IF(AI12=\"\",\"\",IF(AI12>Inputs!$D$9,0,1))","v":0},{"$f":"IF(AJ12=\"\",\"\",IF(AJ12>Inputs!$D$9,0,1))","v":0},{"$f":"IF(AK12=\"\",\"\",IF(AK12>Inputs!$D$9,0,1))","v":0},{"$f":"IF(AL12=\"\",\"\",IF(AL12>Inputs!$D$9,0,1))","v":0},0.25,12,null,0,1,1,1,1,1,1,1,0,0,0,0,0.58333333333333337,12,null,null,0,0,0,1,1,1,1,1,0,0,0,0,5]
["DSP BlackRock Equity Fund  |",2,30.13,52.93,47.09,70.290000000000006,-49.7,90.65,19.829999999999998,-23.89,33.26,7.0000000000000007E-2,53,-0.74,0.19902155764310536,0.19013200251825513,0.16066096326698687,0.13051027688135242,7.4076428636275393E-2,0.1970214388242153,0.1076760917699866,9.0390920304568523E-2,0.19293657088224969,0.14971412543784446,0.23234654217066719,-7.3999999999999622E-3,4,5,3,9,19,28,38,41,38,44,31,55,null,{"$f":"IF(AA13=\"\",\"\",IF(AA13>Inputs!$D$9,0,1))","v":1},{"$f":"IF(AB13=\"\",\"\",IF(AB13>Inputs!$D$9,0,1))","v":1},{"$f":"IF(AC13=\"\",\"\",IF(AC13>Inputs!$D$9,0,1))","v":1},{"$f":"IF(AD13=\"\",\"\",IF(AD13>Inputs!$D$9,0,1))","v":1},{"$f":"IF(AE13=\"\",\"\",IF(AE13>Inputs!$D$9,0,1))","v":0},{"$f":"IF(AF13=\"\",\"\",IF(AF13>Inputs!$D$9,0,1))","v":0},{"$f":"IF(AG13=\"\",\"\",IF(AG13>Inputs!$D$9,0,1))","v":0},{"$f":"IF(AH13=\"\",\"\",IF(AH13>Inputs!$D$9,0,1))","v":0},{"$f":"IF(AI13=\"\",\"\",IF(AI13>Inputs!$D$9,0,1))","v":0},{"$f":"IF(AJ13=\"\",\"\",IF(AJ13>Inputs!$D$9,0,1))","v":0},{"$f":"IF(AK13=\"\",\"\",IF(AK13>Inputs!$D$9,0,1))","v":0},{"$f":"IF(AL13=\"\",\"\",IF(AL13>Inputs!$D$9,0,1))","v":0},0.33333333333333331,12,null,1,1,1,1,1,0,0,0,0,0,1,0,0.5,12,null,null,1,1,1,1,1,1,1,0,1,0,1,0,9]
["DSP BlackRock Opportunities Fund  |",3,30.37,49.88,43.96,59.85,-55.1,86.44,24.2,-25.06,29.36,6.46,45.4,6.09,0.1820708002122633,0.17159294046974494,0.14308901783856354,0.11416872879078444,6.5015076047803433E-2,0.20487727914076492,0.12032347165587987,9.7457732175964873E-2,0.20727534392813851,0.17980012883040075,0.24199380030658757,6.0899999999999954E-2,9,12,15,24,24,22,21,36,27,23,25,12,null,{"$f":"IF(AA14=\"\",\"\",IF(AA14>Inputs!$D$9,0,1))","v":1},{"$f":"IF(AB14=\"\",\"\",IF(AB14>Inputs!$D$9,0,1))","v":1},{"$f":"IF(AC14=\"\",\"\",IF(AC14>Inputs!$D$9,0,1))","v":1},{"$f":"IF(AD14=\"\",\"\",IF(AD14>Inputs!$D$9,0,1))","v":0},{"$f":"IF(AE14=\"\",\"\",IF(AE14>Inputs!$D$9,0,1))","v":0},{"$f":"IF(AF14=\"\",\"\",IF(AF14>Inputs!$D$9,0,1))","v":0},{"$f":"IF(AG14=\"\",\"\",IF(AG14>Inputs!$D$9,0,1))","v":0},{"$f":"IF(AH14=\"\",\"\",IF(AH14>Inputs!$D$9,0,1))","v":0},{"$f":"IF(AI14=\"\",\"\",IF(AI14>Inputs!$D$9,0,1))","v":0},{"$f":"IF(AJ14=\"\",\"\",IF(AJ14>Inputs!$D$9,0,1))","v":0},{"$f":"IF(AK14=\"\",\"\",IF(AK14>Inputs!$D$9,0,1))","v":0},{"$f":"IF(AL14=\"\",\"\",IF(AL14>Inputs!$D$9,0,1))","v":1},0.33333333333333331,12,null,1,1,1,1,0,1,1,0,1,1,1,1,0.83333333333333337,12,null,null,1,1,1,1,0,1,1,0,0,1,0,1,8]
["Edelweiss Diversified Growth Equity Top 100 Fund  |",3,"-","-","-","-","-","-",15.97,-18.579999999999998,29.77,11.1,37.65,0.77,"","","","","","",0.11176269902551317,0.10241569388334337,0.18918373208004891,0.15506700374020421,0.17775169284531289,7.7000000000000401E-3,"","","","","","",36,28,43,40,58,45,null,{"$f":"IF(AA15=\"\",\"\",IF(AA15>Inputs!$D$9,0,1))","v":""},{"$f":"IF(AB15=\"\",\"\",IF(AB15>Inputs!$D$9,0,1))","v":""},{"$f":"IF(AC15=\"\",\"\",IF(AC15>Inputs!$D$9,0,1))","v":""},{"$f":"IF(AD15=\"\",\"\",IF(AD15>Inputs!$D$9,0,1))","v":""},{"$f":"IF(AE15=\"\",\"\",IF(AE15>Inputs!$D$9,0,1))","v":""},{"$f":"IF(AF15=\"\",\"\",IF(AF15>Inputs!$D$9,0,1))","v":""},{"$f":"IF(AG15=\"\",\"\",IF(AG15>Inputs!$D$9,0,1))","v":0},{"$f":"IF(AH15=\"\",\"\",IF(AH15>Inputs!$D$9,0,1))","v":0},{"$f":"IF(AI15=\"\",\"\",IF(AI15>Inputs!$D$9,0,1))","v":0},{"$f":"IF(AJ15=\"\",\"\",IF(AJ15>Inputs!$D$9,0,1))","v":0},{"$f":"IF(AK15=\"\",\"\",IF(AK15>Inputs!$D$9,0,1))","v":0},{"$f":"IF(AL15=\"\",\"\",IF(AL15>Inputs!$D$9,0,1))","v":0},0,6,null,"","","","","","",0,1,0,0,0,0,0.16666666666666666,6,null,null,0,0,0,0,0,0,0,1,0,1,0,0,2]
["Edelweiss Prudent Advantage Fund",0,"-","-","-","-","-","-",18.91,-24.03,20.55,7.54,38.42,2.2200000000000002,"","","","","","",8.7815924920844335E-2,6.8618821124656115E-2,0.16377223609238833,0.15018646118228163,0.18950798231874022,2.2199999999999998E-2,"","","","","","",50,53,59,43,54,39,null,{"$f":"IF(AA16=\"\",\"\",IF(AA16>Inputs!$D$9,0,1))","v":""},{"$f":"IF(AB16=\"\",\"\",IF(AB16>Inputs!$D$9,0,1))","v":""},{"$f":"IF(AC16=\"\",\"\",IF(AC16>Inputs!$D$9,0,1))","v":""},{"$f":"IF(AD16=\"\",\"\",IF(AD16>Inputs!$D$9,0,1))","v":""},{"$f":"IF(AE16=\"\",\"\",IF(AE16>Inputs!$D$9,0,1))","v":""},{"$f":"IF(AF16=\"\",\"\",IF(AF16>Inputs!$D$9,0,1))","v":""},{"$f":"IF(AG16=\"\",\"\",IF(AG16>Inputs!$D$9,0,1))","v":0},{"$f":"IF(AH16=\"\",\"\",IF(AH16>Inputs!$D$9,0,1))","v":0},{"$f":"IF(AI16=\"\",\"\",IF(AI16>Inputs!$D$9,0,1))","v":0},{"$f":"IF(AJ16=\"\",\"\",IF(AJ16>Inputs!$D$9,0,1))","v":0},{"$f":"IF(AK16=\"\",\"\",IF(AK16>Inputs!$D$9,0,1))","v":0},{"$f":"IF(AL16=\"\",\"\",IF(AL16>Inputs!$D$9,0,1))","v":0},0,6,null,"","","","","","",0,0,0,0,0,1,0.16666666666666666,6,null,null,0,0,0,0,0,0,1,0,0,1,0,1,3]
["Franklin India Flexi Cap Fund  |",4,"-","-",41.91,49.05,-51.63,88.73,21.01,-22.25,31.45,7.07,55.9,1.96,"","",0.15053225921001046,0.12402248807543947,8.5064057039625718E-2,0.21781407885390469,0.13206404964980978,0.1170714352386697,0.22299894887634886,0.19393655207463323,0.26077611017975744,1.9600000000000062E-2,"","",8,14,13,11,13,14,21,15,14,40,null,{"$f":"IF(AA17=\"\",\"\",IF(AA17>Inputs!$D$9,0,1))","v":""},{"$f":"IF(AB17=\"\",\"\",IF(AB17>Inputs!$D$9,0,1))","v":""},{"$f":"IF(AC17=\"\",\"\",IF(AC17>Inputs!$D$9,0,1))","v":1},{"$f":"IF(AD17=\"\",\"\",IF(AD17>Inputs!$D$9,0,1))","v":1},{"$f":"IF(AE17=\"\",\"\",IF(AE17>Inputs!$D$9,0,1))","v":1},{"$f":"IF(AF17=\"\",\"\",IF(AF17>Inputs!$D$9,0,1))","v":1},{"$f":"IF(AG17=\"\",\"\",IF(AG17>Inputs!$D$9,0,1))","v":1},{"$f":"IF(AH17=\"\",\"\",IF(AH17>Inputs!$D$9,0,1))","v":1},{"$f":"IF(AI17=\"\",\"\",IF(AI17>Inputs!$D$9,0,1))","v":0},{"$f":"IF(AJ17=\"\",\"\",IF(AJ17>Inputs!$D$9,0,1))","v":1},{"$f":"IF(AK17=\"\",\"\",IF(AK17>Inputs!$D$9,0,1))","v":1},{"$f":"IF(AL17=\"\",\"\",IF(AL17>Inputs!$D$9,0,1))","v":0},0.8,10,null,"","",1,1,1,1,1,1,1,1,1,0,0.9,10,null,null,0,0,1,0,1,1,1,1,0,1,1,0,7]
["Franklin India High Growth Companies Fund  |",5,"-","-","-","-",-58,98.68,14.79,-24.97,42.54,9.2200000000000006,79.58,1.49,"","","","",9.3157714069463937E-2,0.25322910226241513,0.16058385508527229,0.16313739499982183,0.29786654139747903,0.25794348623936836,0.35002126649916132,1.4899999999999913E-2,"","","","",7,2,2,2,2,1,2,42,null,{"$f":"IF(AA18=\"\",\"\",IF(AA18>Inputs!$D$9,0,1))","v":""},{"$f":"IF(AB18=\"\",\"\",IF(AB18>Inputs!$D$9,0,1))","v":""},{"$f":"IF(AC18=\"\",\"\",IF(AC18>Inputs!$D$9,0,1))","v":""},{"$f":"IF(AD18=\"\",\"\",IF(AD18>Inputs!$D$9,0,1))","v":""},{"$f":"IF(AE18=\"\",\"\",IF(AE18>Inputs!$D$9,0,1))","v":1},{"$f":"IF(AF18=\"\",\"\",IF(AF18>Inputs!$D$9,0,1))","v":1},{"$f":"IF(AG18=\"\",\"\",IF(AG18>Inputs!$D$9,0,1))","v":1},{"$f":"IF(AH18=\"\",\"\",IF(AH18>Inputs!$D$9,0,1))","v":1},{"$f":"IF(AI18=\"\",\"\",IF(AI18>Inputs!$D$9,0,1))","v":1},{"$f":"IF(AJ18=\"\",\"\",IF(AJ18>Inputs!$D$9,0,1))","v":1},{"$f":"IF(AK18=\"\",\"\",IF(AK18>Inputs!$D$9,0,1))","v":1},{"$f":"IF(AL18=\"\",\"\",IF(AL18>Inputs!$D$9,0,1))","v":0},0.875,8,null,"","","","",1,1,1,1,1,1,1,0,0.875,8,null,null,0,0,0,0,0,1,0,0,1,1,1,0,4]
["Franklin India Life Stage Fund of Funds 20s  |",3,19.75,33.950000000000003,30.44,36.82,-40.03,71.290000000000006,17.850000000000001,-14.03,26.22,3.54,38.909999999999997,3.39,0.1542435710104173,0.15038951179255378,0.1330136266515205,0.1154184861206653,8.729870146818941E-2,0.18376439248736887,0.11306574175346218,0.10042148717967869,0.17047487516236326,0.14140578430873085,0.1984116529807276,3.3900000000000041E-2,23,25,25,23,10,37,33,32,52,50,50,28,null,{"$f":"IF(AA19=\"\",\"\",IF(AA19>Inputs!$D$9,0,1))","v":0},{"$f":"IF(AB19=\"\",\"\",IF(AB19>Inputs!$D$9,0,1))","v":0},{"$f":"IF(AC19=\"\",\"\",IF(AC19>Inputs!$D$9,0,1))","v":0},{"$f":"IF(AD19=\"\",\"\",IF(AD19>Inputs!$D$9,0,1))","v":0},{"$f":"IF(AE19=\"\",\"\",IF(AE19>Inputs!$D$9,0,1))","v":1},{"$f":"IF(AF19=\"\",\"\",IF(AF19>Inputs!$D$9,0,1))","v":0},{"$f":"IF(AG19=\"\",\"\",IF(AG19>Inputs!$D$9,0,1))","v":0},{"$f":"IF(AH19=\"\",\"\",IF(AH19>Inputs!$D$9,0,1))","v":0},{"$f":"IF(AI19=\"\",\"\",IF(AI19>Inputs!$D$9,0,1))","v":0},{"$f":"IF(AJ19=\"\",\"\",IF(AJ19>Inputs!$D$9,0,1))","v":0},{"$f":"IF(AK19=\"\",\"\",IF(AK19>Inputs!$D$9,0,1))","v":0},{"$f":"IF(AL19=\"\",\"\",IF(AL19>Inputs!$D$9,0,1))","v":0},8.3333333333333329E-2,12,null,0,0,0,1,1,0,1,1,0,0,0,1,0.41666666666666669,12,null,null,0,0,0,0,1,0,0,1,0,0,0,1,3]
["Franklin India Opportunities Fund  |",3,"-",48.03,56.09,53.79,-58.04,73.680000000000007,14.52,-23.32,27.51,2.14,58.58,2.2999999999999998,"",0.15337256803991028,0.12494581853723052,8.4742797611068621E-2,3.8428526378952776E-2,0.18194364933964557,0.10850570268372128,0.10130915673303287,0.20563552583126365,0.18333206700933502,0.27368496889929572,2.2999999999999909E-2,"",24,29,38,40,38,37,30,28,20,10,38,null,{"$f":"IF(AA20=\"\",\"\",IF(AA20>Inputs!$D$9,0,1))","v":""},{"$f":"IF(AB20=\"\",\"\",IF(AB20>Inputs!$D$9,0,1))","v":0},{"$f":"IF(AC20=\"\",\"\",IF(AC20>Inputs!$D$9,0,1))","v":0},{"$f":"IF(AD20=\"\",\"\",IF(AD20>Inputs!$D$9,0,1))","v":0},{"$f":"IF(AE20=\"\",\"\",IF(AE20>Inputs!$D$9,0,1))","v":0},{"$f":"IF(AF20=\"\",\"\",IF(AF20>Inputs!$D$9,0,1))","v":0},{"$f":"IF(AG20=\"\",\"\",IF(AG20>Inputs!$D$9,0,1))","v":0},{"$f":"IF(AH20=\"\",\"\",IF(AH20>Inputs!$D$9,0,1))","v":0},{"$f":"IF(AI20=\"\",\"\",IF(AI20>Inputs!$D$9,0,1))","v":0},{"$f":"IF(AJ20=\"\",\"\",IF(AJ20>Inputs!$D$9,0,1))","v":0},{"$f":"IF(AK20=\"\",\"\",IF(AK20>Inputs!$D$9,0,1))","v":1},{"$f":"IF(AL20=\"\",\"\",IF(AL20>Inputs!$D$9,0,1))","v":0},9.0909090909090912E-2,11,null,"",0,0,0,0,0,0,1,1,1,1,1,0.45454545454545453,11,null,null,0,1,1,0,0,0,0,1,0,0,1,1,5]
["Franklin India Prima Plus Fund  |",5,27.15,47.61,49.36,54.9,-47.71,73.099999999999994,19.48,-16.420000000000002,31.04,5.55,56.79,4.38,0.19964406853931238,0.19331661635655273,0.16820666252892669,0.13674354855279569,9.3613551484551305E-2,0.21518325041038944,0.14559882424848403,0.13600443871765511,0.22659006770662171,0.19986199295074636,0.27928652771769613,4.3800000000000061E-2,3,3,2,6,6,13,5,3,16,11,8,22,null,{"$f":"IF(AA21=\"\",\"\",IF(AA21>Inputs!$D$9,0,1))","v":1},{"$f":"IF(AB21=\"\",\"\",IF(AB21>Inputs!$D$9,0,1))","v":1},{"$f":"IF(AC21=\"\",\"\",IF(AC21>Inputs!$D$9,0,1))","v":1},{"$f":"IF(AD21=\"\",\"\",IF(AD21>Inputs!$D$9,0,1))","v":1},{"$f":"IF(AE21=\"\",\"\",IF(AE21>Inputs!$D$9,0,1))","v":1},{"$f":"IF(AF21=\"\",\"\",IF(AF21>Inputs!$D$9,0,1))","v":1},{"$f":"IF(AG21=\"\",\"\",IF(AG21>Inputs!$D$9,0,1))","v":1},{"$f":"IF(AH21=\"\",\"\",IF(AH21>Inputs!$D$9,0,1))","v":1},{"$f":"IF(AI21=\"\",\"\",IF(AI21>Inputs!$D$9,0,1))","v":0},{"$f":"IF(AJ21=\"\",\"\",IF(AJ21>Inputs!$D$9,0,1))","v":1},{"$f":"IF(AK21=\"\",\"\",IF(AK21>Inputs!$D$9,0,1))","v":1},{"$f":"IF(AL21=\"\",\"\",IF(AL21>Inputs!$D$9,0,1))","v":0},0.83333333333333337,12,null,1,1,1,1,1,1,1,1,1,1,1,1,1,12,null,null,1,1,1,0,1,0,1,1,0,1,1,1,9]
["Goldman Sachs CNX 500 Fund  |",2,"-","-","-","-","-","-",13.98,-27.26,31.71,3.36,37.049999999999997,-1.18,"","","","","","",7.3287772180409938E-2,6.0458523959765254E-2,0.16526253908279798,0.11864459873291522,0.16375603113367365,-1.1800000000000033E-2,"","","","","","",54,57,56,62,64,56,null,{"$f":"IF(AA22=\"\",\"\",IF(AA22>Inputs!$D$9,0,1))","v":""},{"$f":"IF(AB22=\"\",\"\",IF(AB22>Inputs!$D$9,0,1))","v":""},{"$f":"IF(AC22=\"\",\"\",IF(AC22>Inputs!$D$9,0,1))","v":""},{"$f":"IF(AD22=\"\",\"\",IF(AD22>Inputs!$D$9,0,1))","v":""},{"$f":"IF(AE22=\"\",\"\",IF(AE22>Inputs!$D$9,0,1))","v":""},{"$f":"IF(AF22=\"\",\"\",IF(AF22>Inputs!$D$9,0,1))","v":""},{"$f":"IF(AG22=\"\",\"\",IF(AG22>Inputs!$D$9,0,1))","v":0},{"$f":"IF(AH22=\"\",\"\",IF(AH22>Inputs!$D$9,0,1))","v":0},{"$f":"IF(AI22=\"\",\"\",IF(AI22>Inputs!$D$9,0,1))","v":0},{"$f":"IF(AJ22=\"\",\"\",IF(AJ22>Inputs!$D$9,0,1))","v":0},{"$f":"IF(AK22=\"\",\"\",IF(AK22>Inputs!$D$9,0,1))","v":0},{"$f":"IF(AL22=\"\",\"\",IF(AL22>Inputs!$D$9,0,1))","v":0},0,6,null,"","","","","","",0,0,0,0,0,0,0,6,null,null,0,0,0,0,0,0,0,0,0,0,0,0,0]
["Goldman Sachs Nifty Junior BeES Fund  |",3,27.29,25.22,28.63,75.12,-63.26,126.55,17.829999999999998,-31.62,48.8,5.13,43.53,7.06,0.157562572695779,0.1476104483977807,0.13764450391078165,0.12222615039274753,6.1508470429306961E-2,0.23523558462169625,0.11647091960190048,0.1045000076024456,0.24515919460593216,0.173362477866287,0.23960968857136633,7.0599999999999996E-2,21,28,20,17,27,5,26,25,6,28,27,8,null,{"$f":"IF(AA23=\"\",\"\",IF(AA23>Inputs!$D$9,0,1))","v":0},{"$f":"IF(AB23=\"\",\"\",IF(AB23>Inputs!$D$9,0,1))","v":0},{"$f":"IF(AC23=\"\",\"\",IF(AC23>Inputs!$D$9,0,1))","v":0},{"$f":"IF(AD23=\"\",\"\",IF(AD23>Inputs!$D$9,0,1))","v":0},{"$f":"IF(AE23=\"\",\"\",IF(AE23>Inputs!$D$9,0,1))","v":0},{"$f":"IF(AF23=\"\",\"\",IF(AF23>Inputs!$D$9,0,1))","v":1},{"$f":"IF(AG23=\"\",\"\",IF(AG23>Inputs!$D$9,0,1))","v":0},{"$f":"IF(AH23=\"\",\"\",IF(AH23>Inputs!$D$9,0,1))","v":0},{"$f":"IF(AI23=\"\",\"\",IF(AI23>Inputs!$D$9,0,1))","v":1},{"$f":"IF(AJ23=\"\",\"\",IF(AJ23>Inputs!$D$9,0,1))","v":0},{"$f":"IF(AK23=\"\",\"\",IF(AK23>Inputs!$D$9,0,1))","v":0},{"$f":"IF(AL23=\"\",\"\",IF(AL23>Inputs!$D$9,0,1))","v":1},0.25,12,null,0,0,1,1,0,1,1,1,1,1,1,1,0.75,12,null,null,1,0,0,1,0,1,0,0,1,1,0,1,6]
["HDFC Capital Builder Fund  |",3,47.71,47.6,21.58,68.650000000000006,-54.89,92.91,28.44,-23.64,28.42,10.37,51.95,4.6100000000000003,0.19634933255328701,0.17364056790080995,0.14704376459044832,0.13964833552667333,8.5160369890058485E-2,0.23013870055343233,0.14126711953599536,0.11461454718977571,0.22515039296592398,0.20607685424557642,0.26077315564696257,4.610000000000003E-2,6,10,12,4,12,6,8,16,17,9,15,20,null,{"$f":"IF(AA24=\"\",\"\",IF(AA24>Inputs!$D$9,0,1))","v":1},{"$f":"IF(AB24=\"\",\"\",IF(AB24>Inputs!$D$9,0,1))","v":1},{"$f":"IF(AC24=\"\",\"\",IF(AC24>Inputs!$D$9,0,1))","v":1},{"$f":"IF(AD24=\"\",\"\",IF(AD24>Inputs!$D$9,0,1))","v":1},{"$f":"IF(AE24=\"\",\"\",IF(AE24>Inputs!$D$9,0,1))","v":1},{"$f":"IF(AF24=\"\",\"\",IF(AF24>Inputs!$D$9,0,1))","v":1},{"$f":"IF(AG24=\"\",\"\",IF(AG24>Inputs!$D$9,0,1))","v":1},{"$f":"IF(AH24=\"\",\"\",IF(AH24>Inputs!$D$9,0,1))","v":0},{"$f":"IF(AI24=\"\",\"\",IF(AI24>Inputs!$D$9,0,1))","v":0},{"$f":"IF(AJ24=\"\",\"\",IF(AJ24>Inputs!$D$9,0,1))","v":1},{"$f":"IF(AK24=\"\",\"\",IF(AK24>Inputs!$D$9,0,1))","v":1},{"$f":"IF(AL24=\"\",\"\",IF(AL24>Inputs!$D$9,0,1))","v":0},0.75,12,null,1,1,1,1,1,1,1,1,1,1,1,1,1,12,null,null,1,1,0,1,0,1,1,1,0,1,1,1,9]
["HDFC Equity Fund  |",2,27.53,62.7,35.86,53.61,-49.68,105.57,29.22,-26.72,34.14,3.82,53.77,-5.09,0.19663708424685544,0.1897311434595339,0.15306810141263982,0.13224333886035744,8.9882828073674093E-2,0.21710560920412547,0.11529482040972994,8.2933216713740876E-2,0.1940038539118607,0.14856312967440699,0.20806914951090461,-5.0899999999999945E-2,5,6,7,7,8,12,28,44,36,45,47,69,null,{"$f":"IF(AA25=\"\",\"\",IF(AA25>Inputs!$D$9,0,1))","v":1},{"$f":"IF(AB25=\"\",\"\",IF(AB25>Inputs!$D$9,0,1))","v":1},{"$f":"IF(AC25=\"\",\"\",IF(AC25>Inputs!$D$9,0,1))","v":1},{"$f":"IF(AD25=\"\",\"\",IF(AD25>Inputs!$D$9,0,1))","v":1},{"$f":"IF(AE25=\"\",\"\",IF(AE25>Inputs!$D$9,0,1))","v":1},{"$f":"IF(AF25=\"\",\"\",IF(AF25>Inputs!$D$9,0,1))","v":1},{"$f":"IF(AG25=\"\",\"\",IF(AG25>Inputs!$D$9,0,1))","v":0},{"$f":"IF(AH25=\"\",\"\",IF(AH25>Inputs!$D$9,0,1))","v":0},{"$f":"IF(AI25=\"\",\"\",IF(AI25>Inputs!$D$9,0,1))","v":0},{"$f":"IF(AJ25=\"\",\"\",IF(AJ25>Inputs!$D$9,0,1))","v":0},{"$f":"IF(AK25=\"\",\"\",IF(AK25>Inputs!$D$9,0,1))","v":0},{"$f":"IF(AL25=\"\",\"\",IF(AL25>Inputs!$D$9,0,1))","v":0},0.5,12,null,1,1,1,1,1,1,1,0,0,0,0,0,0.58333333333333337,12,null,null,1,1,0,0,1,1,1,0,1,0,1,0,7]
["HDFC Growth Fund  |",2,25.64,39.71,44.14,66.430000000000007,-48.31,75.260000000000005,27.71,-21.24,27.83,-1.4,42.85,-0.37,0.1743952837825189,0.16721113800972787,0.14641435674743142,0.11761547063372912,6.3346984587726363E-2,0.17876611391791997,0.10336308190837551,7.1561637601922801E-2,0.15729751269940762,0.11956444221807927,0.19298556152201596,-3.7000000000000366E-3,12,13,14,20,25,39,41,50,62,60,53,53,null,{"$f":"IF(AA26=\"\",\"\",IF(AA26>Inputs!$D$9,0,1))","v":1},{"$f":"IF(AB26=\"\",\"\",IF(AB26>Inputs!$D$9,0,1))","v":1},{"$f":"IF(AC26=\"\",\"\",IF(AC26>Inputs!$D$9,0,1))","v":1},{"$f":"IF(AD26=\"\",\"\",IF(AD26>Inputs!$D$9,0,1))","v":0},{"$f":"IF(AE26=\"\",\"\",IF(AE26>Inputs!$D$9,0,1))","v":0},{"$f":"IF(AF26=\"\",\"\",IF(AF26>Inputs!$D$9,0,1))","v":0},{"$f":"IF(AG26=\"\",\"\",IF(AG26>Inputs!$D$9,0,1))","v":0},{"$f":"IF(AH26=\"\",\"\",IF(AH26>Inputs!$D$9,0,1))","v":0},{"$f":"IF(AI26=\"\",\"\",IF(AI26>Inputs!$D$9,0,1))","v":0},{"$f":"IF(AJ26=\"\",\"\",IF(AJ26>Inputs!$D$9,0,1))","v":0},{"$f":"IF(AK26=\"\",\"\",IF(AK26>Inputs!$D$9,0,1))","v":0},{"$f":"IF(AL26=\"\",\"\",IF(AL26>Inputs!$D$9,0,1))","v":0},0.25,12,null,1,1,1,1,0,0,0,0,0,0,0,0,0.33333333333333331,12,null,null,0,0,1,1,1,0,1,1,0,0,0,0,5]
["HDFC Premier Multi-Cap Fund  |",1,"-","-",29.48,49.03,-52.71,94.55,23.79,-22.6,19.5,-0.11,52.07,-1.21,"","",0.1179824638780933,9.9891109322981064E-2,5.8910342963637508E-2,0.18815207223790509,9.440691608599705E-2,6.7769427905592483E-2,0.15720849321164732,0.14487880349687354,0.22568329106666063,-1.21E-2,"","",34,30,29,33,45,54,63,48,38,57,null,{"$f":"IF(AA27=\"\",\"\",IF(AA27>Inputs!$D$9,0,1))","v":""},{"$f":"IF(AB27=\"\",\"\",IF(AB27>Inputs!$D$9,0,1))","v":""},{"$f":"IF(AC27=\"\",\"\",IF(AC27>Inputs!$D$9,0,1))","v":0},{"$f":"IF(AD27=\"\",\"\",IF(AD27>Inputs!$D$9,0,1))","v":0},{"$f":"IF(AE27=\"\",\"\",IF(AE27>Inputs!$D$9,0,1))","v":0},{"$f":"IF(AF27=\"\",\"\",IF(AF27>Inputs!$D$9,0,1))","v":0},{"$f":"IF(AG27=\"\",\"\",IF(AG27>Inputs!$D$9,0,1))","v":0},{"$f":"IF(AH27=\"\",\"\",IF(AH27>Inputs!$D$9,0,1))","v":0},{"$f":"IF(AI27=\"\",\"\",IF(AI27>Inputs!$D$9,0,1))","v":0},{"$f":"IF(AJ27=\"\",\"\",IF(AJ27>Inputs!$D$9,0,1))","v":0},{"$f":"IF(AK27=\"\",\"\",IF(AK27>Inputs!$D$9,0,1))","v":0},{"$f":"IF(AL27=\"\",\"\",IF(AL27>Inputs!$D$9,0,1))","v":0},0,10,null,"","",0,0,0,0,0,0,0,0,0,0,0,10,null,null,0,0,0,0,1,1,1,1,0,0,1,0,5]
["HSBC India Opportunities Fund  |",4,"-",43.73,51.71,50.99,-54.56,60.06,15.74,-18.66,25.04,8,54.77,-2.1,"",0.14910594707689917,0.12367659994328473,8.6814595955833518E-2,4.3052989216758375E-2,0.17451603547873584,0.11546249715828449,0.10725913665088194,0.19601203200962392,0.17841359257760425,0.23093391374191974,-2.1000000000000019E-2,"",27,30,36,37,41,27,21,34,25,34,62,null,{"$f":"IF(AA28=\"\",\"\",IF(AA28>Inputs!$D$9,0,1))","v":""},{"$f":"IF(AB28=\"\",\"\",IF(AB28>Inputs!$D$9,0,1))","v":0},{"$f":"IF(AC28=\"\",\"\",IF(AC28>Inputs!$D$9,0,1))","v":0},{"$f":"IF(AD28=\"\",\"\",IF(AD28>Inputs!$D$9,0,1))","v":0},{"$f":"IF(AE28=\"\",\"\",IF(AE28>Inputs!$D$9,0,1))","v":0},{"$f":"IF(AF28=\"\",\"\",IF(AF28>Inputs!$D$9,0,1))","v":0},{"$f":"IF(AG28=\"\",\"\",IF(AG28>Inputs!$D$9,0,1))","v":0},{"$f":"IF(AH28=\"\",\"\",IF(AH28>Inputs!$D$9,0,1))","v":0},{"$f":"IF(AI28=\"\",\"\",IF(AI28>Inputs!$D$9,0,1))","v":0},{"$f":"IF(AJ28=\"\",\"\",IF(AJ28>Inputs!$D$9,0,1))","v":0},{"$f":"IF(AK28=\"\",\"\",IF(AK28>Inputs!$D$9,0,1))","v":0},{"$f":"IF(AL28=\"\",\"\",IF(AL28>Inputs!$D$9,0,1))","v":0},0,11,null,"",0,0,0,0,0,1,1,0,1,1,0,0.36363636363636365,11,null,null,0,0,1,0,0,0,0,1,0,1,1,0,4]
["ICICI Prudential Dynamic Fund  |",3,15.7,58.51,58.31,40.78,-44.79,79.930000000000007,21.26,-20.32,30.58,16.329999999999998,37.049999999999997,-1.41,0.18985029010750187,0.1928825374107157,0.15944935284213657,0.12001354561420419,8.8450202272127187E-2,0.19928261550183923,0.1208767599944196,0.10338207629040541,0.19693364454842732,0.16270055077998391,0.16240094201613586,-1.4100000000000001E-2,8,4,5,19,9,26,20,26,33,37,66,60,null,{"$f":"IF(AA29=\"\",\"\",IF(AA29>Inputs!$D$9,0,1))","v":1},{"$f":"IF(AB29=\"\",\"\",IF(AB29>Inputs!$D$9,0,1))","v":1},{"$f":"IF(AC29=\"\",\"\",IF(AC29>Inputs!$D$9,0,1))","v":1},{"$f":"IF(AD29=\"\",\"\",IF(AD29>Inputs!$D$9,0,1))","v":0},{"$f":"IF(AE29=\"\",\"\",IF(AE29>Inputs!$D$9,0,1))","v":1},{"$f":"IF(AF29=\"\",\"\",IF(AF29>Inputs!$D$9,0,1))","v":0},{"$f":"IF(AG29=\"\",\"\",IF(AG29>Inputs!$D$9,0,1))","v":0},{"$f":"IF(AH29=\"\",\"\",IF(AH29>Inputs!$D$9,0,1))","v":0},{"$f":"IF(AI29=\"\",\"\",IF(AI29>Inputs!$D$9,0,1))","v":0},{"$f":"IF(AJ29=\"\",\"\",IF(AJ29>Inputs!$D$9,0,1))","v":0},{"$f":"IF(AK29=\"\",\"\",IF(AK29>Inputs!$D$9,0,1))","v":0},{"$f":"IF(AL29=\"\",\"\",IF(AL29>Inputs!$D$9,0,1))","v":0},0.33333333333333331,12,null,1,1,1,1,1,1,1,1,0,0,0,0,0.66666666666666663,12,null,null,0,1,1,0,1,0,1,1,0,1,0,0,6]
["ICICI Prudential Indo Asia Equity Fund  |",4,"-","-","-","-",-50.6,80.930000000000007,17.36,-15.05,26.01,8.8000000000000007,50.64,0.45,"","","","",7.9830640147049214E-2,0.20746355634872682,0.12875912230146169,0.11999867180527612,0.20013759022287281,0.18079103676825614,0.23011332811249541,4.4999999999999485E-3,"","","","",16,18,14,12,32,21,35,47,null,{"$f":"IF(AA30=\"\",\"\",IF(AA30>Inputs!$D$9,0,1))","v":""},{"$f":"IF(AB30=\"\",\"\",IF(AB30>Inputs!$D$9,0,1))","v":""},{"$f":"IF(AC30=\"\",\"\",IF(AC30>Inputs!$D$9,0,1))","v":""},{"$f":"IF(AD30=\"\",\"\",IF(AD30>Inputs!$D$9,0,1))","v":""},{"$f":"IF(AE30=\"\",\"\",IF(AE30>Inputs!$D$9,0,1))","v":0},{"$f":"IF(AF30=\"\",\"\",IF(AF30>Inputs!$D$9,0,1))","v":0},{"$f":"IF(AG30=\"\",\"\",IF(AG30>Inputs!$D$9,0,1))","v":1},{"$f":"IF(AH30=\"\",\"\",IF(AH30>Inputs!$D$9,0,1))","v":1},{"$f":"IF(AI30=\"\",\"\",IF(AI30>Inputs!$D$9,0,1))","v":0},{"$f":"IF(AJ30=\"\",\"\",IF(AJ30>Inputs!$D$9,0,1))","v":0},{"$f":"IF(AK30=\"\",\"\",IF(AK30>Inputs!$D$9,0,1))","v":0},{"$f":"IF(AL30=\"\",\"\",IF(AL30>Inputs!$D$9,0,1))","v":0},0.25,8,null,"","","","",1,1,1,1,0,1,1,0,0.75,8,null,null,0,0,0,0,1,0,0,1,0,1,1,0,4]
["ICICI Prudential Multicap Fund  |",3,22.41,48.32,48.9,49.88,-55.32,84.29,21.78,-27.41,36.53,6.42,49.82,3.08,0.17055867287742732,0.16580897704774333,0.13807311240560916,0.10458914310675271,6.3243915246766313E-2,0.20343168145970747,0.12092026016064694,0.10248951722201838,0.22390831936362487,0.18010998705514458,0.24271660486210611,3.0799999999999939E-2,14,16,19,29,26,23,19,27,18,22,24,33,null,{"$f":"IF(AA31=\"\",\"\",IF(AA31>Inputs!$D$9,0,1))","v":1},{"$f":"IF(AB31=\"\",\"\",IF(AB31>Inputs!$D$9,0,1))","v":0},{"$f":"IF(AC31=\"\",\"\",IF(AC31>Inputs!$D$9,0,1))","v":0},{"$f":"IF(AD31=\"\",\"\",IF(AD31>Inputs!$D$9,0,1))","v":0},{"$f":"IF(AE31=\"\",\"\",IF(AE31>Inputs!$D$9,0,1))","v":0},{"$f":"IF(AF31=\"\",\"\",IF(AF31>Inputs!$D$9,0,1))","v":0},{"$f":"IF(AG31=\"\",\"\",IF(AG31>Inputs!$D$9,0,1))","v":0},{"$f":"IF(AH31=\"\",\"\",IF(AH31>Inputs!$D$9,0,1))","v":0},{"$f":"IF(AI31=\"\",\"\",IF(AI31>Inputs!$D$9,0,1))","v":0},{"$f":"IF(AJ31=\"\",\"\",IF(AJ31>Inputs!$D$9,0,1))","v":0},{"$f":"IF(AK31=\"\",\"\",IF(AK31>Inputs!$D$9,0,1))","v":0},{"$f":"IF(AL31=\"\",\"\",IF(AL31>Inputs!$D$9,0,1))","v":0},8.3333333333333329E-2,12,null,0,1,1,0,0,1,1,1,1,1,1,1,0.75,12,null,null,0,1,1,0,0,0,1,0,1,1,1,1,7]
["ICICI Prudential Nifty Next 50 Index Fund  |",3,"-","-","-","-","-","-","-",-30.8,44.86,5.44,43.62,6.19,"","","","","","","",0.10020015843021235,0.23541566915575829,0.17156929275608079,0.23494970747800092,6.1900000000000066E-2,"","","","","","","",33,10,31,30,11,null,{"$f":"IF(AA32=\"\",\"\",IF(AA32>Inputs!$D$9,0,1))","v":""},{"$f":"IF(AB32=\"\",\"\",IF(AB32>Inputs!$D$9,0,1))","v":""},{"$f":"IF(AC32=\"\",\"\",IF(AC32>Inputs!$D$9,0,1))","v":""},{"$f":"IF(AD32=\"\",\"\",IF(AD32>Inputs!$D$9,0,1))","v":""},{"$f":"IF(AE32=\"\",\"\",IF(AE32>Inputs!$D$9,0,1))","v":""},{"$f":"IF(AF32=\"\",\"\",IF(AF32>Inputs!$D$9,0,1))","v":""},{"$f":"IF(AG32=\"\",\"\",IF(AG32>Inputs!$D$9,0,1))","v":""},{"$f":"IF(AH32=\"\",\"\",IF(AH32>Inputs!$D$9,0,1))","v":0},{"$f":"IF(AI32=\"\",\"\",IF(AI32>Inputs!$D$9,0,1))","v":1},{"$f":"IF(AJ32=\"\",\"\",IF(AJ32>Inputs!$D$9,0,1))","v":0},{"$f":"IF(AK32=\"\",\"\",IF(AK32>Inputs!$D$9,0,1))","v":0},{"$f":"IF(AL32=\"\",\"\",IF(AL32>Inputs!$D$9,0,1))","v":1},0.4,5,null,"","","","","","","",1,1,1,1,1,1,5,null,null,0,0,0,0,0,0,0,0,1,1,0,1,3]
["ICICI Prudential Top 100 Fund  |",3,13.35,49.53,42.77,44.4,-47.74,74.61,17.54,-20.329999999999998,32.83,11.38,38.29,-0.64,0.16215725605952369,0.16479811557690471,0.13606424586107591,0.1075845383694074,7.1465263311820015E-2,0.18719537080161608,0.11326282810892341,0.10123527045648628,0.19406078723170261,0.15239984449295529,0.17219854973464299,-6.3999999999999613E-3,18,18,22,27,22,35,32,31,35,41,60,54,null,{"$f":"IF(AA33=\"\",\"\",IF(AA33>Inputs!$D$9,0,1))","v":0},{"$f":"IF(AB33=\"\",\"\",IF(AB33>Inputs!$D$9,0,1))","v":0},{"$f":"IF(AC33=\"\",\"\",IF(AC33>Inputs!$D$9,0,1))","v":0},{"$f":"IF(AD33=\"\",\"\",IF(AD33>Inputs!$D$9,0,1))","v":0},{"$f":"IF(AE33=\"\",\"\",IF(AE33>Inputs!$D$9,0,1))","v":0},{"$f":"IF(AF33=\"\",\"\",IF(AF33>Inputs!$D$9,0,1))","v":0},{"$f":"IF(AG33=\"\",\"\",IF(AG33>Inputs!$D$9,0,1))","v":0},{"$f":"IF(AH33=\"\",\"\",IF(AH33>Inputs!$D$9,0,1))","v":0},{"$f":"IF(AI33=\"\",\"\",IF(AI33>Inputs!$D$9,0,1))","v":0},{"$f":"IF(AJ33=\"\",\"\",IF(AJ33>Inputs!$D$9,0,1))","v":0},{"$f":"IF(AK33=\"\",\"\",IF(AK33>Inputs!$D$9,0,1))","v":0},{"$f":"IF(AL33=\"\",\"\",IF(AL33>Inputs!$D$9,0,1))","v":0},0,12,null,0,1,1,0,1,0,1,1,0,0,0,0,0.41666666666666669,12,null,null,0,1,1,0,1,0,0,1,1,1,0,0,6]
["ICICI Prudential Value Discovery Fund  |",5,"-",63.74,28.69,39.65,-54.56,134.32,27.71,-23.73,46.01,8.31,73.760000000000005,5.44,"",0.21913587442662452,0.18370053405198061,0.17275739902532616,0.14743762588344556,0.30978253758874574,0.18876908461353459,0.17184999273871204,0.3046727466510617,0.25663143735149152,0.35356028310526311,5.4400000000000004E-2,"",1,1,1,1,1,1,1,1,2,1,15,null,{"$f":"IF(AA34=\"\",\"\",IF(AA34>Inputs!$D$9,0,1))","v":""},{"$f":"IF(AB34=\"\",\"\",IF(AB34>Inputs!$D$9,0,1))","v":1},{"$f":"IF(AC34=\"\",\"\",IF(AC34>Inputs!$D$9,0,1))","v":1},{"$f":"IF(AD34=\"\",\"\",IF(AD34>Inputs!$D$9,0,1))","v":1},{"$f":"IF(AE34=\"\",\"\",IF(AE34>Inputs!$D$9,0,1))","v":1},{"$f":"IF(AF34=\"\",\"\",IF(AF34>Inputs!$D$9,0,1))","v":1},{"$f":"IF(AG34=\"\",\"\",IF(AG34>Inputs!$D$9,0,1))","v":1},{"$f":"IF(AH34=\"\",\"\",IF(AH34>Inputs!$D$9,0,1))","v":1},{"$f":"IF(AI34=\"\",\"\",IF(AI34>Inputs!$D$9,0,1))","v":1},{"$f":"IF(AJ34=\"\",\"\",IF(AJ34>Inputs!$D$9,0,1))","v":1},{"$f":"IF(AK34=\"\",\"\",IF(AK34>Inputs!$D$9,0,1))","v":1},{"$f":"IF(AL34=\"\",\"\",IF(AL34>Inputs!$D$9,0,1))","v":1},1,11,null,"",1,1,1,1,1,1,1,1,1,1,1,1,11,null,null,0,1,0,0,0,1,1,0,1,1,1,1,7]
["IDBI India Top 100 Equity Fund  |",3,"-","-","-","-","-","-","-","-","-",7.23,40.619999999999997,3.2,"","","","","","","","","",0.15881568691584413,0.20465696362076446,3.2000000000000028E-2,{"$f":"IF($A35=\"\",\"\",IF(ISERROR(RANK(O35,$O$2:$O$1000,0)),\"\",RANK(O35,$O$2:$O$1000,0)))","v":""},{"$f":"IF($A35=\"\",\"\",IF(ISERROR(RANK(P35,$P$2:$P$1000,0)),\"\",RANK(P35,$P$2:$P$1000,0)))","v":""},{"$f":"IF($A35=\"\",\"\",IF(ISERROR(RANK(Q35,$Q$2:$Q$1000,0)),\"\",RANK(Q35,$Q$2:$Q$1000,0)))","v":""},{"$f":"IF($A35=\"\",\"\",IF(ISERROR(RANK(R35,$R$2:$R$1000,0)),\"\",RANK(R35,$R$2:$R$1000,0)))","v":""},{"$f":"IF($A35=\"\",\"\",IF(ISERROR(RANK(S35,$S$2:$S$1000,0)),\"\",RANK(S35,$S$2:$S$1000,0)))","v":""},{"$f":"IF($A35=\"\",\"\",IF(ISERROR(RANK(T35,$T$2:$T$1000,0)),\"\",RANK(T35,$T$2:$T$1000,0)))","v":""},{"$f":"IF($A35=\"\",\"\",IF(ISERROR(RANK(U35,$U$2:$U$1000,0)),\"\",RANK(U35,$U$2:$U$1000,0)))","v":""},{"$f":"IF($A35=\"\",\"\",IF(ISERROR(RANK(V35,$V$2:$V$1000,0)),\"\",RANK(V35,$V$2:$V$1000,0)))","v":""},{"$f":"IF($A35=\"\",\"\",IF(ISERROR(RANK(W35,$W$2:$W$1000,0)),\"\",RANK(W35,$W$2:$W$1000,0)))","v":""},{"$f":"IF($A35=\"\",\"\",IF(ISERROR(RANK(X35,$X$2:$X$1000,0)),\"\",RANK(X35,$X$2:$X$1000,0)))","v":39},{"$f":"IF($A35=\"\",\"\",IF(ISERROR(RANK(Y35,$Y$2:$Y$1000,0)),\"\",RANK(Y35,$Y$2:$Y$1000,0)))","v":48},{"$f":"IF($A35=\"\",\"\",IF(ISERROR(RANK(Z35,$Z$2:$Z$1000,0)),\"\",RANK(Z35,$Z$2:$Z$1000,0)))","v":31},null,{"$f":"IF(AA35=\"\",\"\",IF(AA35>Inputs!$D$9,0,1))","v":""},{"$f":"IF(AB35=\"\",\"\",IF(AB35>Inputs!$D$9,0,1))","v":""},{"$f":"IF(AC35=\"\",\"\",IF(AC35>Inputs!$D$9,0,1))","v":""},{"$f":"IF(AD35=\"\",\"\",IF(AD35>Inputs!$D$9,0,1))","v":""},{"$f":"IF(AE35=\"\",\"\",IF(AE35>Inputs!$D$9,0,1))","v":""},{"$f":"IF(AF35=\"\",\"\",IF(AF35>Inputs!$D$9,0,1))","v":""},{"$f":"IF(AG35=\"\",\"\",IF(AG35>Inputs!$D$9,0,1))","v":""},{"$f":"IF(AH35=\"\",\"\",IF(AH35>Inputs!$D$9,0,1))","v":""},{"$f":"IF(AI35=\"\",\"\",IF(AI35>Inputs!$D$9,0,1))","v":""},{"$f":"IF(AJ35=\"\",\"\",IF(AJ35>Inputs!$D$9,0,1))","v":0},{"$f":"IF(AK35=\"\",\"\",IF(AK35>Inputs!$D$9,0,1))","v":0},{"$f":"IF(AL35=\"\",\"\",IF(AL35>Inputs!$D$9,0,1))","v":0},0,3,null,"","","","","","","","","",0,0,1,0.33333333333333331,3,null,null,0,0,0,0,0,0,0,0,0,1,0,1,2]
["IDBI Nifty Junior Index Fund  |",3,"-","-","-","-","-","-","-",-32.03,47.62,4.78,42.78,5.82,"","","","","","","",9.6971134980348817E-2,0.2364161879253881,0.1654791529209978,0.22918589318296356,5.8200000000000029E-2,"","","","","","","",37,8,34,36,13,null,{"$f":"IF(AA36=\"\",\"\",IF(AA36>Inputs!$D$9,0,1))","v":""},{"$f":"IF(AB36=\"\",\"\",IF(AB36>Inputs!$D$9,0,1))","v":""},{"$f":"IF(AC36=\"\",\"\",IF(AC36>Inputs!$D$9,0,1))","v":""},{"$f":"IF(AD36=\"\",\"\",IF(AD36>Inputs!$D$9,0,1))","v":""},{"$f":"IF(AE36=\"\",\"\",IF(AE36>Inputs!$D$9,0,1))","v":""},{"$f":"IF(AF36=\"\",\"\",IF(AF36>Inputs!$D$9,0,1))","v":""},{"$f":"IF(AG36=\"\",\"\",IF(AG36>Inputs!$D$9,0,1))","v":""},{"$f":"IF(AH36=\"\",\"\",IF(AH36>Inputs!$D$9,0,1))","v":0},{"$f":"IF(AI36=\"\",\"\",IF(AI36>Inputs!$D$9,0,1))","v":1},{"$f":"IF(AJ36=\"\",\"\",IF(AJ36>Inputs!$D$9,0,1))","v":0},{"$f":"IF(AK36=\"\",\"\",IF(AK36>Inputs!$D$9,0,1))","v":0},{"$f":"IF(AL36=\"\",\"\",IF(AL36>Inputs!$D$9,0,1))","v":1},0.4,5,null,"","","","","","","",0,1,1,1,1,0.8,5,null,null,0,0,0,0,0,0,0,0,1,0,0,1,2]
["IDFC Classic Equity Fund - Regular Plan  |",2,"-","-",28.92,67.209999999999994,-54.82,67.06,14.38,-26.79,37.26,2.5099999999999998,28.62,5.21,"","",0.10001789437505515,8.0791477676192214E-2,2.3415215678975088E-2,0.15022088014425461,8.085153125719291E-2,6.86838150409248E-2,0.17467827954541404,0.11526289432709724,0.16327598617009209,5.2100000000000035E-2,"","",36,39,43,47,51,52,50,64,65,17,null,{"$f":"IF(AA37=\"\",\"\",IF(AA37>Inputs!$D$9,0,1))","v":""},{"$f":"IF(AB37=\"\",\"\",IF(AB37>Inputs!$D$9,0,1))","v":""},{"$f":"IF(AC37=\"\",\"\",IF(AC37>Inputs!$D$9,0,1))","v":0},{"$f":"IF(AD37=\"\",\"\",IF(AD37>Inputs!$D$9,0,1))","v":0},{"$f":"IF(AE37=\"\",\"\",IF(AE37>Inputs!$D$9,0,1))","v":0},{"$f":"IF(AF37=\"\",\"\",IF(AF37>Inputs!$D$9,0,1))","v":0},{"$f":"IF(AG37=\"\",\"\",IF(AG37>Inputs!$D$9,0,1))","v":0},{"$f":"IF(AH37=\"\",\"\",IF(AH37>Inputs!$D$9,0,1))","v":0},{"$f":"IF(AI37=\"\",\"\",IF(AI37>Inputs!$D$9,0,1))","v":0},{"$f":"IF(AJ37=\"\",\"\",IF(AJ37>Inputs!$D$9,0,1))","v":0},{"$f":"IF(AK37=\"\",\"\",IF(AK37>Inputs!$D$9,0,1))","v":0},{"$f":"IF(AL37=\"\",\"\",IF(AL37>Inputs!$D$9,0,1))","v":0},0,10,null,"","",0,0,0,0,0,0,0,0,0,1,0.1,10,null,null,0,0,0,1,0,0,0,0,1,0,0,1,3]
["IIFL India Growth Fund - Regular Plan",0,"-","-","-","-","-","-","-","-","-","-","-",1.82,"","","","","","","","","","","",1.8199999999999994E-2,"","","","","","","","","","","",41,null,{"$f":"IF(AA38=\"\",\"\",IF(AA38>Inputs!$D$9,0,1))","v":""},{"$f":"IF(AB38=\"\",\"\",IF(AB38>Inputs!$D$9,0,1))","v":""},{"$f":"IF(AC38=\"\",\"\",IF(AC38>Inputs!$D$9,0,1))","v":""},{"$f":"IF(AD38=\"\",\"\",IF(AD38>Inputs!$D$9,0,1))","v":""},{"$f":"IF(AE38=\"\",\"\",IF(AE38>Inputs!$D$9,0,1))","v":""},{"$f":"IF(AF38=\"\",\"\",IF(AF38>Inputs!$D$9,0,1))","v":""},{"$f":"IF(AG38=\"\",\"\",IF(AG38>Inputs!$D$9,0,1))","v":""},{"$f":"IF(AH38=\"\",\"\",IF(AH38>Inputs!$D$9,0,1))","v":""},{"$f":"IF(AI38=\"\",\"\",IF(AI38>Inputs!$D$9,0,1))","v":""},{"$f":"IF(AJ38=\"\",\"\",IF(AJ38>Inputs!$D$9,0,1))","v":""},{"$f":"IF(AK38=\"\",\"\",IF(AK38>Inputs!$D$9,0,1))","v":""},{"$f":"IF(AL38=\"\",\"\",IF(AL38>Inputs!$D$9,0,1))","v":0},0,1,null,"","","","","","","","","","","",0,0,1,null,null,0,0,0,0,0,0,0,0,0,0,0,0,0]
["Indiabulls Bluechip Fund  |",2,"-","-","-","-","-","-","-","-","-",3.95,28.71,3.24,"","","","","","","","","",0.1136830075180324,0.15273676093026545,3.2399999999999984E-2,"","","","","","","","","",66,68,30,null,{"$f":"IF(AA39=\"\",\"\",IF(AA39>Inputs!$D$9,0,1))","v":""},{"$f":"IF(AB39=\"\",\"\",IF(AB39>Inputs!$D$9,0,1))","v":""},{"$f":"IF(AC39=\"\",\"\",IF(AC39>Inputs!$D$9,0,1))","v":""},{"$f":"IF(AD39=\"\",\"\",IF(AD39>Inputs!$D$9,0,1))","v":""},{"$f":"IF(AE39=\"\",\"\",IF(AE39>Inputs!$D$9,0,1))","v":""},{"$f":"IF(AF39=\"\",\"\",IF(AF39>Inputs!$D$9,0,1))","v":""},{"$f":"IF(AG39=\"\",\"\",IF(AG39>Inputs!$D$9,0,1))","v":""},{"$f":"IF(AH39=\"\",\"\",IF(AH39>Inputs!$D$9,0,1))","v":""},{"$f":"IF(AI39=\"\",\"\",IF(AI39>Inputs!$D$9,0,1))","v":""},{"$f":"IF(AJ39=\"\",\"\",IF(AJ39>Inputs!$D$9,0,1))","v":0},{"$f":"IF(AK39=\"\",\"\",IF(AK39>Inputs!$D$9,0,1))","v":0},{"$f":"IF(AL39=\"\",\"\",IF(AL39>Inputs!$D$9,0,1))","v":0},0,3,null,"","","","","","","","","",0,0,1,0.33333333333333331,3,null,null,0,0,0,0,0,0,0,0,0,0,0,1,1]
["Invesco India Contra Fund  |",4,"-","-","-","-",-48.96,104.75,12.92,-22.07,30.72,4.67,62.96,4.0199999999999996,"","","","",9.9313424118815163E-2,0.22665683632383504,0.12626246970474964,0.12567588129472873,0.23407209527254325,0.21061680031477858,0.30196387046645801,4.0200000000000014E-2,"","","","",2,7,16,8,11,7,5,24,null,{"$f":"IF(AA40=\"\",\"\",IF(AA40>Inputs!$D$9,0,1))","v":""},{"$f":"IF(AB40=\"\",\"\",IF(AB40>Inputs!$D$9,0,1))","v":""},{"$f":"IF(AC40=\"\",\"\",IF(AC40>Inputs!$D$9,0,1))","v":""},{"$f":"IF(AD40=\"\",\"\",IF(AD40>Inputs!$D$9,0,1))","v":""},{"$f":"IF(AE40=\"\",\"\",IF(AE40>Inputs!$D$9,0,1))","v":1},{"$f":"IF(AF40=\"\",\"\",IF(AF40>Inputs!$D$9,0,1))","v":1},{"$f":"IF(AG40=\"\",\"\",IF(AG40>Inputs!$D$9,0,1))","v":0},{"$f":"IF(AH40=\"\",\"\",IF(AH40>Inputs!$D$9,0,1))","v":1},{"$f":"IF(AI40=\"\",\"\",IF(AI40>Inputs!$D$9,0,1))","v":1},{"$f":"IF(AJ40=\"\",\"\",IF(AJ40>Inputs!$D$9,0,1))","v":1},{"$f":"IF(AK40=\"\",\"\",IF(AK40>Inputs!$D$9,0,1))","v":1},{"$f":"IF(AL40=\"\",\"\",IF(AL40>Inputs!$D$9,0,1))","v":0},0.75,8,null,"","","","",1,1,1,1,1,1,1,1,1,8,null,null,0,0,0,0,1,1,0,1,0,0,1,1,5]
["JM Core 11 Fund  |",1,"-","-","-","-","-",59.78,-7.46,-39.92,46.66,-0.98,51.28,-2.39,"","","","","",9.643934017721234E-2,2.9741719665579147E-2,5.198142396354366E-2,0.21011768480173587,0.13500972725877824,0.21517244866726615,-2.3900000000000032E-2,"","","","","",51,58,60,26,53,43,66,null,{"$f":"IF(AA41=\"\",\"\",IF(AA41>Inputs!$D$9,0,1))","v":""},{"$f":"IF(AB41=\"\",\"\",IF(AB41>Inputs!$D$9,0,1))","v":""},{"$f":"IF(AC41=\"\",\"\",IF(AC41>Inputs!$D$9,0,1))","v":""},{"$f":"IF(AD41=\"\",\"\",IF(AD41>Inputs!$D$9,0,1))","v":""},{"$f":"IF(AE41=\"\",\"\",IF(AE41>Inputs!$D$9,0,1))","v":""},{"$f":"IF(AF41=\"\",\"\",IF(AF41>Inputs!$D$9,0,1))","v":0},{"$f":"IF(AG41=\"\",\"\",IF(AG41>Inputs!$D$9,0,1))","v":0},{"$f":"IF(AH41=\"\",\"\",IF(AH41>Inputs!$D$9,0,1))","v":0},{"$f":"IF(AI41=\"\",\"\",IF(AI41>Inputs!$D$9,0,1))","v":0},{"$f":"IF(AJ41=\"\",\"\",IF(AJ41>Inputs!$D$9,0,1))","v":0},{"$f":"IF(AK41=\"\",\"\",IF(AK41>Inputs!$D$9,0,1))","v":0},{"$f":"IF(AL41=\"\",\"\",IF(AL41>Inputs!$D$9,0,1))","v":0},0,7,null,"","","","","",0,0,0,1,0,0,0,0.14285714285714285,7,null,null,0,0,0,0,0,0,0,0,1,0,1,0,2]
["JM Multi Strategy Fund  |",2,"-","-","-","-","-",82.55,5.4,-36.049999999999997,33.04,-0.21,55.96,-2.75,"","","","","",0.13838909664508336,5.2225629398143347E-2,5.1871113889402798E-2,0.19122287301388674,0.14814468499504874,0.23154821261694836,-2.7499999999999969E-2,"","","","","",50,57,61,40,46,32,67,null,{"$f":"IF(AA42=\"\",\"\",IF(AA42>Inputs!$D$9,0,1))","v":""},{"$f":"IF(AB42=\"\",\"\",IF(AB42>Inputs!$D$9,0,1))","v":""},{"$f":"IF(AC42=\"\",\"\",IF(AC42>Inputs!$D$9,0,1))","v":""},{"$f":"IF(AD42=\"\",\"\",IF(AD42>Inputs!$D$9,0,1))","v":""},{"$f":"IF(AE42=\"\",\"\",IF(AE42>Inputs!$D$9,0,1))","v":""},{"$f":"IF(AF42=\"\",\"\",IF(AF42>Inputs!$D$9,0,1))","v":0},{"$f":"IF(AG42=\"\",\"\",IF(AG42>Inputs!$D$9,0,1))","v":0},{"$f":"IF(AH42=\"\",\"\",IF(AH42>Inputs!$D$9,0,1))","v":0},{"$f":"IF(AI42=\"\",\"\",IF(AI42>Inputs!$D$9,0,1))","v":0},{"$f":"IF(AJ42=\"\",\"\",IF(AJ42>Inputs!$D$9,0,1))","v":0},{"$f":"IF(AK42=\"\",\"\",IF(AK42>Inputs!$D$9,0,1))","v":0},{"$f":"IF(AL42=\"\",\"\",IF(AL42>Inputs!$D$9,0,1))","v":0},0,7,null,"","","","","",0,0,0,0,0,1,0,0.14285714285714285,7,null,null,0,0,0,0,0,0,0,0,1,0,1,0,2]
["Kotak Opportunities Regular Plan  |",3,"-",58.74,38.700000000000003,91.01,-56.77,80.13,18.5,-22.85,30.14,4.2300000000000004,49.95,3.27,"",0.18194469037608951,0.1475939019087269,0.12368632398181423,5.1583393303666458E-2,0.19397416856817196,0.11488415875930591,0.10136690834684048,0.20387403243054214,0.17301741982499408,0.24440092012180714,3.2699999999999951E-2,"",7,10,15,32,29,30,29,30,29,23,29,null,{"$f":"IF(AA43=\"\",\"\",IF(AA43>Inputs!$D$9,0,1))","v":""},{"$f":"IF(AB43=\"\",\"\",IF(AB43>Inputs!$D$9,0,1))","v":1},{"$f":"IF(AC43=\"\",\"\",IF(AC43>Inputs!$D$9,0,1))","v":1},{"$f":"IF(AD43=\"\",\"\",IF(AD43>Inputs!$D$9,0,1))","v":1},{"$f":"IF(AE43=\"\",\"\",IF(AE43>Inputs!$D$9,0,1))","v":0},{"$f":"IF(AF43=\"\",\"\",IF(AF43>Inputs!$D$9,0,1))","v":0},{"$f":"IF(AG43=\"\",\"\",IF(AG43>Inputs!$D$9,0,1))","v":0},{"$f":"IF(AH43=\"\",\"\",IF(AH43>Inputs!$D$9,0,1))","v":0},{"$f":"IF(AI43=\"\",\"\",IF(AI43>Inputs!$D$9,0,1))","v":0},{"$f":"IF(AJ43=\"\",\"\",IF(AJ43>Inputs!$D$9,0,1))","v":0},{"$f":"IF(AK43=\"\",\"\",IF(AK43>Inputs!$D$9,0,1))","v":0},{"$f":"IF(AL43=\"\",\"\",IF(AL43>Inputs!$D$9,0,1))","v":0},0.27272727272727271,11,null,"",1,1,1,0,0,1,1,1,1,1,1,0.81818181818181823,11,null,null,0,1,1,1,0,0,1,1,0,0,1,1,7]
["Kotak Select Focus Fund Regular Plan  |",4,"-","-","-","-","-","-",20.05,-22.29,33.450000000000003,6.13,57.87,2.96,"","","","","","",0.13586659232514298,0.12336362942530466,0.23177453446737872,0.19932099308046936,0.27492333887179288,2.9600000000000071E-2,"","","","","","",10,10,13,13,9,35,null,{"$f":"IF(AA44=\"\",\"\",IF(AA44>Inputs!$D$9,0,1))","v":""},{"$f":"IF(AB44=\"\",\"\",IF(AB44>Inputs!$D$9,0,1))","v":""},{"$f":"IF(AC44=\"\",\"\",IF(AC44>Inputs!$D$9,0,1))","v":""},{"$f":"IF(AD44=\"\",\"\",IF(AD44>Inputs!$D$9,0,1))","v":""},{"$f":"IF(AE44=\"\",\"\",IF(AE44>Inputs!$D$9,0,1))","v":""},{"$f":"IF(AF44=\"\",\"\",IF(AF44>Inputs!$D$9,0,1))","v":""},{"$f":"IF(AG44=\"\",\"\",IF(AG44>Inputs!$D$9,0,1))","v":1},{"$f":"IF(AH44=\"\",\"\",IF(AH44>Inputs!$D$9,0,1))","v":1},{"$f":"IF(AI44=\"\",\"\",IF(AI44>Inputs!$D$9,0,1))","v":1},{"$f":"IF(AJ44=\"\",\"\",IF(AJ44>Inputs!$D$9,0,1))","v":1},{"$f":"IF(AK44=\"\",\"\",IF(AK44>Inputs!$D$9,0,1))","v":1},{"$f":"IF(AL44=\"\",\"\",IF(AL44>Inputs!$D$9,0,1))","v":0},0.83333333333333337,6,null,"","","","","","",1,1,1,1,1,1,1,6,null,null,0,0,0,0,0,0,1,1,1,1,1,1,6]
["L&T Equity Fund  |",3,"-","-",44.14,55.32,-50.33,86.14,26.91,-20.96,25.98,5.45,50.27,0.28999999999999998,"","",0.15312573608675373,0.1248875907985505,8.0424301170229695E-2,0.2072818062753623,0.12323375675813542,9.6137428849566886E-2,0.18951391403770512,0.16696769562509273,0.22762283703098318,2.8999999999999027E-3,"","",6,13,15,19,17,39,42,33,37,48,null,{"$f":"IF(AA45=\"\",\"\",IF(AA45>Inputs!$D$9,0,1))","v":""},{"$f":"IF(AB45=\"\",\"\",IF(AB45>Inputs!$D$9,0,1))","v":""},{"$f":"IF(AC45=\"\",\"\",IF(AC45>Inputs!$D$9,0,1))","v":1},{"$f":"IF(AD45=\"\",\"\",IF(AD45>Inputs!$D$9,0,1))","v":1},{"$f":"IF(AE45=\"\",\"\",IF(AE45>Inputs!$D$9,0,1))","v":1},{"$f":"IF(AF45=\"\",\"\",IF(AF45>Inputs!$D$9,0,1))","v":0},{"$f":"IF(AG45=\"\",\"\",IF(AG45>Inputs!$D$9,0,1))","v":0},{"$f":"IF(AH45=\"\",\"\",IF(AH45>Inputs!$D$9,0,1))","v":0},{"$f":"IF(AI45=\"\",\"\",IF(AI45>Inputs!$D$9,0,1))","v":0},{"$f":"IF(AJ45=\"\",\"\",IF(AJ45>Inputs!$D$9,0,1))","v":0},{"$f":"IF(AK45=\"\",\"\",IF(AK45>Inputs!$D$9,0,1))","v":0},{"$f":"IF(AL45=\"\",\"\",IF(AL45>Inputs!$D$9,0,1))","v":0},0.3,10,null,"","",1,1,1,1,1,0,0,1,1,0,0.7,10,null,null,0,0,1,0,1,1,1,1,0,1,1,0,7]
["L&T India Special Situations Fund  |",3,"-","-","-",45.11,-52.12,81.319999999999993,22.41,-22.58,39.979999999999997,5.71,51.02,1.49,"","","",0.11703671759783463,8.1094635114005165E-2,0.21448918233189951,0.13601737608455311,0.1191765181413218,0.22718473691830776,0.17451327674120032,0.23802341657983184,1.4899999999999913E-2,"","","",21,14,14,9,13,15,27,29,42,null,{"$f":"IF(AA46=\"\",\"\",IF(AA46>Inputs!$D$9,0,1))","v":""},{"$f":"IF(AB46=\"\",\"\",IF(AB46>Inputs!$D$9,0,1))","v":""},{"$f":"IF(AC46=\"\",\"\",IF(AC46>Inputs!$D$9,0,1))","v":""},{"$f":"IF(AD46=\"\",\"\",IF(AD46>Inputs!$D$9,0,1))","v":0},{"$f":"IF(AE46=\"\",\"\",IF(AE46>Inputs!$D$9,0,1))","v":1},{"$f":"IF(AF46=\"\",\"\",IF(AF46>Inputs!$D$9,0,1))","v":1},{"$f":"IF(AG46=\"\",\"\",IF(AG46>Inputs!$D$9,0,1))","v":1},{"$f":"IF(AH46=\"\",\"\",IF(AH46>Inputs!$D$9,0,1))","v":1},{"$f":"IF(AI46=\"\",\"\",IF(AI46>Inputs!$D$9,0,1))","v":1},{"$f":"IF(AJ46=\"\",\"\",IF(AJ46>Inputs!$D$9,0,1))","v":0},{"$f":"IF(AK46=\"\",\"\",IF(AK46>Inputs!$D$9,0,1))","v":0},{"$f":"IF(AL46=\"\",\"\",IF(AL46>Inputs!$D$9,0,1))","v":0},0.55555555555555558,9,null,"","","",1,1,1,1,1,1,1,1,0,0.88888888888888884,9,null,null,0,0,0,0,1,0,1,1,1,1,1,0,6]
["LIC MF Equity Fund  |",1,11.44,23.32,28.65,63.17,-57.27,69.06,15.98,-27.05,28.44,5.62,41.97,-7.73,9.9851885636501603E-2,9.8538784830156878E-2,8.5909374928178073E-2,6.5648563495770862E-2,1.038226637287254E-2,0.14255989407435088,7.0332371571296681E-2,5.3284690710187155E-2,0.15458494620249041,0.11429732693413652,0.14453361243783491,-7.7300000000000035E-2,26,33,40,41,45,49,55,59,64,65,69,73,null,{"$f":"IF(AA47=\"\",\"\",IF(AA47>Inputs!$D$9,0,1))","v":0},{"$f":"IF(AB47=\"\",\"\",IF(AB47>Inputs!$D$9,0,1))","v":0},{"$f":"IF(AC47=\"\",\"\",IF(AC47>Inputs!$D$9,0,1))","v":0},{"$f":"IF(AD47=\"\",\"\",IF(AD47>Inputs!$D$9,0,1))","v":0},{"$f":"IF(AE47=\"\",\"\",IF(AE47>Inputs!$D$9,0,1))","v":0},{"$f":"IF(AF47=\"\",\"\",IF(AF47>Inputs!$D$9,0,1))","v":0},{"$f":"IF(AG47=\"\",\"\",IF(AG47>Inputs!$D$9,0,1))","v":0},{"$f":"IF(AH47=\"\",\"\",IF(AH47>Inputs!$D$9,0,1))","v":0},{"$f":"IF(AI47=\"\",\"\",IF(AI47>Inputs!$D$9,0,1))","v":0},{"$f":"IF(AJ47=\"\",\"\",IF(AJ47>Inputs!$D$9,0,1))","v":0},{"$f":"IF(AK47=\"\",\"\",IF(AK47>Inputs!$D$9,0,1))","v":0},{"$f":"IF(AL47=\"\",\"\",IF(AL47>Inputs!$D$9,0,1))","v":0},0,12,null,0,0,0,0,0,0,0,0,0,0,0,0,0,12,null,null,0,0,0,1,0,0,0,0,0,1,0,0,2]
["Mirae Asset Great Consumer Fund - Regular Plan  |",4,"-","-","-","-","-","-","-","-",35.61,9.92,42.69,3.8,"","","","","","","","",0.21896105884395412,0.1764023148010001,0.21701364002216517,3.8000000000000034E-2,"","","","","","","","",23,26,41,26,null,{"$f":"IF(AA48=\"\",\"\",IF(AA48>Inputs!$D$9,0,1))","v":""},{"$f":"IF(AB48=\"\",\"\",IF(AB48>Inputs!$D$9,0,1))","v":""},{"$f":"IF(AC48=\"\",\"\",IF(AC48>Inputs!$D$9,0,1))","v":""},{"$f":"IF(AD48=\"\",\"\",IF(AD48>Inputs!$D$9,0,1))","v":""},{"$f":"IF(AE48=\"\",\"\",IF(AE48>Inputs!$D$9,0,1))","v":""},{"$f":"IF(AF48=\"\",\"\",IF(AF48>Inputs!$D$9,0,1))","v":""},{"$f":"IF(AG48=\"\",\"\",IF(AG48>Inputs!$D$9,0,1))","v":""},{"$f":"IF(AH48=\"\",\"\",IF(AH48>Inputs!$D$9,0,1))","v":""},{"$f":"IF(AI48=\"\",\"\",IF(AI48>Inputs!$D$9,0,1))","v":0},{"$f":"IF(AJ48=\"\",\"\",IF(AJ48>Inputs!$D$9,0,1))","v":0},{"$f":"IF(AK48=\"\",\"\",IF(AK48>Inputs!$D$9,0,1))","v":0},{"$f":"IF(AL48=\"\",\"\",IF(AL48>Inputs!$D$9,0,1))","v":0},0,4,null,"","","","","","","","",1,1,0,1,0.75,4,null,null,0,0,0,0,0,0,0,0,1,1,0,1,3]
["Mirae Asset India Opportunities Fund - Regular Plan  |",4,"-","-","-","-","-",109.33,23.12,-19.64,33.28,8.9499999999999993,52.86,4.25,"","","","","",0.25090164516690017,0.1480349564562895,0.1320885895761954,0.2333619169113883,0.20189275656722816,0.26236504229165036,4.2499999999999982E-2,"","","","","",3,3,4,12,10,13,23,null,{"$f":"IF(AA49=\"\",\"\",IF(AA49>Inputs!$D$9,0,1))","v":""},{"$f":"IF(AB49=\"\",\"\",IF(AB49>Inputs!$D$9,0,1))","v":""},{"$f":"IF(AC49=\"\",\"\",IF(AC49>Inputs!$D$9,0,1))","v":""},{"$f":"IF(AD49=\"\",\"\",IF(AD49>Inputs!$D$9,0,1))","v":""},{"$f":"IF(AE49=\"\",\"\",IF(AE49>Inputs!$D$9,0,1))","v":""},{"$f":"IF(AF49=\"\",\"\",IF(AF49>Inputs!$D$9,0,1))","v":1},{"$f":"IF(AG49=\"\",\"\",IF(AG49>Inputs!$D$9,0,1))","v":1},{"$f":"IF(AH49=\"\",\"\",IF(AH49>Inputs!$D$9,0,1))","v":1},{"$f":"IF(AI49=\"\",\"\",IF(AI49>Inputs!$D$9,0,1))","v":1},{"$f":"IF(AJ49=\"\",\"\",IF(AJ49>Inputs!$D$9,0,1))","v":1},{"$f":"IF(AK49=\"\",\"\",IF(AK49>Inputs!$D$9,0,1))","v":1},{"$f":"IF(AL49=\"\",\"\",IF(AL49>Inputs!$D$9,0,1))","v":0},0.8571428571428571,7,null,"","","","","",1,1,1,1,1,1,1,1,7,null,null,0,0,0,0,0,1,1,1,1,1,1,1,7]
["Motilal Oswal MOSt Focused Multicap 35 Fund - Regular Plan",0,"-","-","-","-","-","-","-","-","-","-","-",14.6,"","","","","","","","","","","",0.14599999999999991,"","","","","","","","","","","",1,null,{"$f":"IF(AA50=\"\",\"\",IF(AA50>Inputs!$D$9,0,1))","v":""},{"$f":"IF(AB50=\"\",\"\",IF(AB50>Inputs!$D$9,0,1))","v":""},{"$f":"IF(AC50=\"\",\"\",IF(AC50>Inputs!$D$9,0,1))","v":""},{"$f":"IF(AD50=\"\",\"\",IF(AD50>Inputs!$D$9,0,1))","v":""},{"$f":"IF(AE50=\"\",\"\",IF(AE50>Inputs!$D$9,0,1))","v":""},{"$f":"IF(AF50=\"\",\"\",IF(AF50>Inputs!$D$9,0,1))","v":""},{"$f":"IF(AG50=\"\",\"\",IF(AG50>Inputs!$D$9,0,1))","v":""},{"$f":"IF(AH50=\"\",\"\",IF(AH50>Inputs!$D$9,0,1))","v":""},{"$f":"IF(AI50=\"\",\"\",IF(AI50>Inputs!$D$9,0,1))","v":""},{"$f":"IF(AJ50=\"\",\"\",IF(AJ50>Inputs!$D$9,0,1))","v":""},{"$f":"IF(AK50=\"\",\"\",IF(AK50>Inputs!$D$9,0,1))","v":""},{"$f":"IF(AL50=\"\",\"\",IF(AL50>Inputs!$D$9,0,1))","v":1},1,1,null,"","","","","","","","","","","",1,1,1,null,null,0,0,0,0,0,0,0,0,0,0,0,1,1]
["Peerless Equity Fund  |",2,"-","-","-","-","-","-","-","-",29.62,4.24,29.74,5.23,"","","","","","","","",0.16541330238681851,0.1248189444787402,0.16844085002194276,5.2300000000000013E-2,"","","","","","","","",55,57,62,16,null,{"$f":"IF(AA51=\"\",\"\",IF(AA51>Inputs!$D$9,0,1))","v":""},{"$f":"IF(AB51=\"\",\"\",IF(AB51>Inputs!$D$9,0,1))","v":""},{"$f":"IF(AC51=\"\",\"\",IF(AC51>Inputs!$D$9,0,1))","v":""},{"$f":"IF(AD51=\"\",\"\",IF(AD51>Inputs!$D$9,0,1))","v":""},{"$f":"IF(AE51=\"\",\"\",IF(AE51>Inputs!$D$9,0,1))","v":""},{"$f":"IF(AF51=\"\",\"\",IF(AF51>Inputs!$D$9,0,1))","v":""},{"$f":"IF(AG51=\"\",\"\",IF(AG51>Inputs!$D$9,0,1))","v":""},{"$f":"IF(AH51=\"\",\"\",IF(AH51>Inputs!$D$9,0,1))","v":""},{"$f":"IF(AI51=\"\",\"\",IF(AI51>Inputs!$D$9,0,1))","v":0},{"$f":"IF(AJ51=\"\",\"\",IF(AJ51>Inputs!$D$9,0,1))","v":0},{"$f":"IF(AK51=\"\",\"\",IF(AK51>Inputs!$D$9,0,1))","v":0},{"$f":"IF(AL51=\"\",\"\",IF(AL51>Inputs!$D$9,0,1))","v":0},0,4,null,"","","","","","","","",0,0,0,1,0.25,4,null,null,0,0,0,0,0,0,0,0,0,0,0,1,1]
["PPFAS Long Term Value Fund - Regular Plan",0,"-","-","-","-","-","-","-","-","-","-",44.82,8.94,"","","","","","","","","","",0.25605297658976145,8.9399999999999924E-2,"","","","","","","","","","",19,4,null,{"$f":"IF(AA52=\"\",\"\",IF(AA52>Inputs!$D$9,0,1))","v":""},{"$f":"IF(AB52=\"\",\"\",IF(AB52>Inputs!$D$9,0,1))","v":""},{"$f":"IF(AC52=\"\",\"\",IF(AC52>Inputs!$D$9,0,1))","v":""},{"$f":"IF(AD52=\"\",\"\",IF(AD52>Inputs!$D$9,0,1))","v":""},{"$f":"IF(AE52=\"\",\"\",IF(AE52>Inputs!$D$9,0,1))","v":""},{"$f":"IF(AF52=\"\",\"\",IF(AF52>Inputs!$D$9,0,1))","v":""},{"$f":"IF(AG52=\"\",\"\",IF(AG52>Inputs!$D$9,0,1))","v":""},{"$f":"IF(AH52=\"\",\"\",IF(AH52>Inputs!$D$9,0,1))","v":""},{"$f":"IF(AI52=\"\",\"\",IF(AI52>Inputs!$D$9,0,1))","v":""},{"$f":"IF(AJ52=\"\",\"\",IF(AJ52>Inputs!$D$9,0,1))","v":""},{"$f":"IF(AK52=\"\",\"\",IF(AK52>Inputs!$D$9,0,1))","v":0},{"$f":"IF(AL52=\"\",\"\",IF(AL52>Inputs!$D$9,0,1))","v":1},0.5,2,null,"","","","","","","","","","",1,1,1,2,null,null,0,0,0,0,0,0,0,0,0,0,0,1,1]
["Principal Dividend Yield Fund  |",1,"-",34.92,3.73,62.54,-55.21,78.5,24.68,-26.84,41.94,-5.3,44.93,-3.39,"",0.1090508138257642,8.7524265766348863E-2,9.3252743520101378E-2,4.037669676661948E-2,0.17348541174470244,9.4252651008538191E-2,6.6060299124800492E-2,0.17127477038936756,9.8609755322912385E-2,0.18328725591041506,-3.3900000000000041E-2,"",32,39,34,38,42,46,55,51,69,55,68,null,{"$f":"IF(AA53=\"\",\"\",IF(AA53>Inputs!$D$9,0,1))","v":""},{"$f":"IF(AB53=\"\",\"\",IF(AB53>Inputs!$D$9,0,1))","v":0},{"$f":"IF(AC53=\"\",\"\",IF(AC53>Inputs!$D$9,0,1))","v":0},{"$f":"IF(AD53=\"\",\"\",IF(AD53>Inputs!$D$9,0,1))","v":0},{"$f":"IF(AE53=\"\",\"\",IF(AE53>Inputs!$D$9,0,1))","v":0},{"$f":"IF(AF53=\"\",\"\",IF(AF53>Inputs!$D$9,0,1))","v":0},{"$f":"IF(AG53=\"\",\"\",IF(AG53>Inputs!$D$9,0,1))","v":0},{"$f":"IF(AH53=\"\",\"\",IF(AH53>Inputs!$D$9,0,1))","v":0},{"$f":"IF(AI53=\"\",\"\",IF(AI53>Inputs!$D$9,0,1))","v":0},{"$f":"IF(AJ53=\"\",\"\",IF(AJ53>Inputs!$D$9,0,1))","v":0},{"$f":"IF(AK53=\"\",\"\",IF(AK53>Inputs!$D$9,0,1))","v":0},{"$f":"IF(AL53=\"\",\"\",IF(AL53>Inputs!$D$9,0,1))","v":0},0,11,null,"",0,0,0,0,0,0,0,0,0,0,0,0,11,null,null,0,0,0,1,0,0,1,0,1,0,0,0,3]
["Principal Growth Fund  |",3,41.14,39.22,31.03,53.28,-63.69,79.88,14.12,-30.91,46.01,8.31,49.36,2.76,0.14224334039457687,0.12048194765525322,9.6415552599589116E-2,7.4918856344107443E-2,2.82813406480662E-2,0.19315159849285002,0.11424600461987033,0.10893208704269219,0.24818048823165184,0.18461070282103287,0.23887988118299841,2.7600000000000069E-2,24,31,37,40,42,30,31,19,4,19,28,37,null,{"$f":"IF(AA54=\"\",\"\",IF(AA54>Inputs!$D$9,0,1))","v":0},{"$f":"IF(AB54=\"\",\"\",IF(AB54>Inputs!$D$9,0,1))","v":0},{"$f":"IF(AC54=\"\",\"\",IF(AC54>Inputs!$D$9,0,1))","v":0},{"$f":"IF(AD54=\"\",\"\",IF(AD54>Inputs!$D$9,0,1))","v":0},{"$f":"IF(AE54=\"\",\"\",IF(AE54>Inputs!$D$9,0,1))","v":0},{"$f":"IF(AF54=\"\",\"\",IF(AF54>Inputs!$D$9,0,1))","v":0},{"$f":"IF(AG54=\"\",\"\",IF(AG54>Inputs!$D$9,0,1))","v":0},{"$f":"IF(AH54=\"\",\"\",IF(AH54>Inputs!$D$9,0,1))","v":0},{"$f":"IF(AI54=\"\",\"\",IF(AI54>Inputs!$D$9,0,1))","v":1},{"$f":"IF(AJ54=\"\",\"\",IF(AJ54>Inputs!$D$9,0,1))","v":0},{"$f":"IF(AK54=\"\",\"\",IF(AK54>Inputs!$D$9,0,1))","v":0},{"$f":"IF(AL54=\"\",\"\",IF(AL54>Inputs!$D$9,0,1))","v":0},8.3333333333333329E-2,12,null,0,0,0,0,0,0,1,1,1,1,1,1,0.5,12,null,null,1,0,0,0,0,0,0,0,1,1,1,1,5]
["Quantum Equity FoF Fund  |",3,"-","-","-","-","-","-",20.010000000000002,-23.67,32.770000000000003,4.03,50.66,4.7300000000000004,"","","","","","",0.12212193793640624,0.10714518734742562,0.21501574287242198,0.17962116198740796,0.25612984201474953,4.7299999999999898E-2,"","","","","","",18,22,25,24,18,19,null,{"$f":"IF(AA55=\"\",\"\",IF(AA55>Inputs!$D$9,0,1))","v":""},{"$f":"IF(AB55=\"\",\"\",IF(AB55>Inputs!$D$9,0,1))","v":""},{"$f":"IF(AC55=\"\",\"\",IF(AC55>Inputs!$D$9,0,1))","v":""},{"$f":"IF(AD55=\"\",\"\",IF(AD55>Inputs!$D$9,0,1))","v":""},{"$f":"IF(AE55=\"\",\"\",IF(AE55>Inputs!$D$9,0,1))","v":""},{"$f":"IF(AF55=\"\",\"\",IF(AF55>Inputs!$D$9,0,1))","v":""},{"$f":"IF(AG55=\"\",\"\",IF(AG55>Inputs!$D$9,0,1))","v":0},{"$f":"IF(AH55=\"\",\"\",IF(AH55>Inputs!$D$9,0,1))","v":0},{"$f":"IF(AI55=\"\",\"\",IF(AI55>Inputs!$D$9,0,1))","v":0},{"$f":"IF(AJ55=\"\",\"\",IF(AJ55>Inputs!$D$9,0,1))","v":0},{"$f":"IF(AK55=\"\",\"\",IF(AK55>Inputs!$D$9,0,1))","v":0},{"$f":"IF(AL55=\"\",\"\",IF(AL55>Inputs!$D$9,0,1))","v":0},0,6,null,"","","","","","",1,1,1,1,1,1,1,6,null,null,0,0,0,0,0,0,1,0,1,0,1,1,4]
["Reliance Vision Fund  |",2,19.809999999999999,53.47,45.8,56.62,-51.92,82.13,15.26,-28.55,29.98,-0.31,60.43,-2.23,0.16349347555239735,0.16039743436922782,0.12840522014422739,9.6728830450104164E-2,4.8952362134693672E-2,0.17261251050661186,8.9640815611157221E-2,7.7467829527842369E-2,0.1940013884876981,0.16068471398095596,0.2524073259127797,-2.2299999999999986E-2,17,21,28,32,34,43,49,47,37,38,20,64,null,{"$f":"IF(AA56=\"\",\"\",IF(AA56>Inputs!$D$9,0,1))","v":0},{"$f":"IF(AB56=\"\",\"\",IF(AB56>Inputs!$D$9,0,1))","v":0},{"$f":"IF(AC56=\"\",\"\",IF(AC56>Inputs!$D$9,0,1))","v":0},{"$f":"IF(AD56=\"\",\"\",IF(AD56>Inputs!$D$9,0,1))","v":0},{"$f":"IF(AE56=\"\",\"\",IF(AE56>Inputs!$D$9,0,1))","v":0},{"$f":"IF(AF56=\"\",\"\",IF(AF56>Inputs!$D$9,0,1))","v":0},{"$f":"IF(AG56=\"\",\"\",IF(AG56>Inputs!$D$9,0,1))","v":0},{"$f":"IF(AH56=\"\",\"\",IF(AH56>Inputs!$D$9,0,1))","v":0},{"$f":"IF(AI56=\"\",\"\",IF(AI56>Inputs!$D$9,0,1))","v":0},{"$f":"IF(AJ56=\"\",\"\",IF(AJ56>Inputs!$D$9,0,1))","v":0},{"$f":"IF(AK56=\"\",\"\",IF(AK56>Inputs!$D$9,0,1))","v":0},{"$f":"IF(AL56=\"\",\"\",IF(AL56>Inputs!$D$9,0,1))","v":0},0,12,null,0,0,0,0,0,0,0,0,0,0,1,0,8.3333333333333329E-2,12,null,null,0,1,1,0,1,0,0,0,0,0,1,0,4]
["SBI Contra Fund  |",2,64.489999999999995,71.03,50.47,65.89,-53.15,90.59,9.57,-28.25,34.24,-1.75,47.65,-0.09,0.20731846384592623,0.17384605913450768,0.13048559116008573,9.5132607526757118E-2,3.9734663678349769E-2,0.16514912361288281,7.340038480825517E-2,6.8995220915306854E-2,0.18103897056936602,0.13168351530657607,0.2145662394451775,-9.000000000000119E-4,2,9,26,33,39,44,53,51,46,55,44,51,null,{"$f":"IF(AA57=\"\",\"\",IF(AA57>Inputs!$D$9,0,1))","v":1},{"$f":"IF(AB57=\"\",\"\",IF(AB57>Inputs!$D$9,0,1))","v":1},{"$f":"IF(AC57=\"\",\"\",IF(AC57>Inputs!$D$9,0,1))","v":0},{"$f":"IF(AD57=\"\",\"\",IF(AD57>Inputs!$D$9,0,1))","v":0},{"$f":"IF(AE57=\"\",\"\",IF(AE57>Inputs!$D$9,0,1))","v":0},{"$f":"IF(AF57=\"\",\"\",IF(AF57>Inputs!$D$9,0,1))","v":0},{"$f":"IF(AG57=\"\",\"\",IF(AG57>Inputs!$D$9,0,1))","v":0},{"$f":"IF(AH57=\"\",\"\",IF(AH57>Inputs!$D$9,0,1))","v":0},{"$f":"IF(AI57=\"\",\"\",IF(AI57>Inputs!$D$9,0,1))","v":0},{"$f":"IF(AJ57=\"\",\"\",IF(AJ57>Inputs!$D$9,0,1))","v":0},{"$f":"IF(AK57=\"\",\"\",IF(AK57>Inputs!$D$9,0,1))","v":0},{"$f":"IF(AL57=\"\",\"\",IF(AL57>Inputs!$D$9,0,1))","v":0},0.16666666666666666,12,null,1,1,0,0,0,0,0,0,0,0,0,0,0.16666666666666666,12,null,null,1,1,1,1,1,1,0,0,1,0,0,0,7]
["SBI Magnum Multicap Fund  |",4,"-","-",42.66,45.62,-57.54,80.819999999999993,9.76,-30.69,38.35,5.2,55.98,9.81,"","",0.11704209858030978,8.7091024282810015E-2,4.8085035870031767E-2,0.19249351160574002,0.11256215964759297,0.11557897831850372,0.25654031673410538,0.21686439068843311,0.3087461098318498,9.8100000000000076E-2,"","",35,35,36,31,34,15,3,4,4,3,null,{"$f":"IF(AA58=\"\",\"\",IF(AA58>Inputs!$D$9,0,1))","v":""},{"$f":"IF(AB58=\"\",\"\",IF(AB58>Inputs!$D$9,0,1))","v":""},{"$f":"IF(AC58=\"\",\"\",IF(AC58>Inputs!$D$9,0,1))","v":0},{"$f":"IF(AD58=\"\",\"\",IF(AD58>Inputs!$D$9,0,1))","v":0},{"$f":"IF(AE58=\"\",\"\",IF(AE58>Inputs!$D$9,0,1))","v":0},{"$f":"IF(AF58=\"\",\"\",IF(AF58>Inputs!$D$9,0,1))","v":0},{"$f":"IF(AG58=\"\",\"\",IF(AG58>Inputs!$D$9,0,1))","v":0},{"$f":"IF(AH58=\"\",\"\",IF(AH58>Inputs!$D$9,0,1))","v":1},{"$f":"IF(AI58=\"\",\"\",IF(AI58>Inputs!$D$9,0,1))","v":1},{"$f":"IF(AJ58=\"\",\"\",IF(AJ58>Inputs!$D$9,0,1))","v":1},{"$f":"IF(AK58=\"\",\"\",IF(AK58>Inputs!$D$9,0,1))","v":1},{"$f":"IF(AL58=\"\",\"\",IF(AL58>Inputs!$D$9,0,1))","v":1},0.5,10,null,"","",0,0,0,0,1,1,1,1,1,1,0.6,10,null,null,0,0,1,0,0,0,0,0,1,1,1,1,5]
["SBI Magnum Multiplier Fund  |",4,31.34,70.08,49.89,64.94,-55.18,87.45,19.309999999999999,-25.75,32.44,10.55,48.25,11.05,0.21059132590731289,0.2016539699719746,0.16062532698808751,0.12810559390826537,7.5790545180305813E-2,0.21912992124594721,0.13477758302804288,0.12345977778574335,0.24601363841290369,0.22092973435578989,0.28308855890776297,0.11050000000000004,1,2,4,12,18,10,12,9,5,3,7,2,null,{"$f":"IF(AA59=\"\",\"\",IF(AA59>Inputs!$D$9,0,1))","v":1},{"$f":"IF(AB59=\"\",\"\",IF(AB59>Inputs!$D$9,0,1))","v":1},{"$f":"IF(AC59=\"\",\"\",IF(AC59>Inputs!$D$9,0,1))","v":1},{"$f":"IF(AD59=\"\",\"\",IF(AD59>Inputs!$D$9,0,1))","v":1},{"$f":"IF(AE59=\"\",\"\",IF(AE59>Inputs!$D$9,0,1))","v":0},{"$f":"IF(AF59=\"\",\"\",IF(AF59>Inputs!$D$9,0,1))","v":1},{"$f":"IF(AG59=\"\",\"\",IF(AG59>Inputs!$D$9,0,1))","v":1},{"$f":"IF(AH59=\"\",\"\",IF(AH59>Inputs!$D$9,0,1))","v":1},{"$f":"IF(AI59=\"\",\"\",IF(AI59>Inputs!$D$9,0,1))","v":1},{"$f":"IF(AJ59=\"\",\"\",IF(AJ59>Inputs!$D$9,0,1))","v":1},{"$f":"IF(AK59=\"\",\"\",IF(AK59>Inputs!$D$9,0,1))","v":1},{"$f":"IF(AL59=\"\",\"\",IF(AL59>Inputs!$D$9,0,1))","v":1},0.91666666666666663,12,null,1,1,1,1,1,1,1,1,1,1,1,1,1,12,null,null,1,1,1,1,0,1,1,0,1,1,1,1,10]
["Sundaram Equity Multiplier Fund  |",3,"-","-","-","-",-55.55,67.790000000000006,11.26,-23.26,33.130000000000003,-3,48.88,3.46,"","","","",2.9987368794371916E-2,0.16136587478930009,9.2285642573615378E-2,8.8267498652984111E-2,0.18758341833221115,0.14321221498498149,0.24109325999297893,3.4599999999999964E-2,"","","","",41,45,47,42,44,49,26,27,null,{"$f":"IF(AA60=\"\",\"\",IF(AA60>Inputs!$D$9,0,1))","v":""},{"$f":"IF(AB60=\"\",\"\",IF(AB60>Inputs!$D$9,0,1))","v":""},{"$f":"IF(AC60=\"\",\"\",IF(AC60>Inputs!$D$9,0,1))","v":""},{"$f":"IF(AD60=\"\",\"\",IF(AD60>Inputs!$D$9,0,1))","v":""},{"$f":"IF(AE60=\"\",\"\",IF(AE60>Inputs!$D$9,0,1))","v":0},{"$f":"IF(AF60=\"\",\"\",IF(AF60>Inputs!$D$9,0,1))","v":0},{"$f":"IF(AG60=\"\",\"\",IF(AG60>Inputs!$D$9,0,1))","v":0},{"$f":"IF(AH60=\"\",\"\",IF(AH60>Inputs!$D$9,0,1))","v":0},{"$f":"IF(AI60=\"\",\"\",IF(AI60>Inputs!$D$9,0,1))","v":0},{"$f":"IF(AJ60=\"\",\"\",IF(AJ60>Inputs!$D$9,0,1))","v":0},{"$f":"IF(AK60=\"\",\"\",IF(AK60>Inputs!$D$9,0,1))","v":0},{"$f":"IF(AL60=\"\",\"\",IF(AL60>Inputs!$D$9,0,1))","v":0},0,8,null,"","","","",0,0,0,0,0,0,1,1,0.25,8,null,null,0,0,0,0,0,0,0,1,1,0,1,1,4]
["Tata Dividend Yield Fund - Regular Plan  |",3,"-",36.979999999999997,15.07,75.75,-53.28,88.45,32.36,-16.93,27.29,6.1,42.44,4.5999999999999996,"",0.16561047870841206,0.14694626417722279,0.14652993902638456,8.6917692441261796E-2,0.22625697334648076,0.14150823302086435,0.1082136779758951,0.19101801344480096,0.16491171057539811,0.22062377496098273,4.6000000000000041E-2,"",17,13,2,11,8,7,20,41,35,40,21,null,{"$f":"IF(AA61=\"\",\"\",IF(AA61>Inputs!$D$9,0,1))","v":""},{"$f":"IF(AB61=\"\",\"\",IF(AB61>Inputs!$D$9,0,1))","v":0},{"$f":"IF(AC61=\"\",\"\",IF(AC61>Inputs!$D$9,0,1))","v":1},{"$f":"IF(AD61=\"\",\"\",IF(AD61>Inputs!$D$9,0,1))","v":1},{"$f":"IF(AE61=\"\",\"\",IF(AE61>Inputs!$D$9,0,1))","v":1},{"$f":"IF(AF61=\"\",\"\",IF(AF61>Inputs!$D$9,0,1))","v":1},{"$f":"IF(AG61=\"\",\"\",IF(AG61>Inputs!$D$9,0,1))","v":1},{"$f":"IF(AH61=\"\",\"\",IF(AH61>Inputs!$D$9,0,1))","v":0},{"$f":"IF(AI61=\"\",\"\",IF(AI61>Inputs!$D$9,0,1))","v":0},{"$f":"IF(AJ61=\"\",\"\",IF(AJ61>Inputs!$D$9,0,1))","v":0},{"$f":"IF(AK61=\"\",\"\",IF(AK61>Inputs!$D$9,0,1))","v":0},{"$f":"IF(AL61=\"\",\"\",IF(AL61>Inputs!$D$9,0,1))","v":0},0.45454545454545453,11,null,"",1,1,1,1,1,1,1,0,1,0,1,0.81818181818181823,11,null,null,0,0,0,1,1,1,1,1,0,1,0,1,7]
["Tata Equity Opportunities Fund - Regular Plan  |",4,29.86,51.17,37.950000000000003,76.36,-60.91,95.12,9.81,-23.03,33.72,8.69,48.54,6.57,0.17721241086124029,0.16675651629449861,0.13692468830306748,0.11275479458324922,5.0508080233006236E-2,0.2098535044002634,0.117218075007544,0.1210814478139528,0.23158980589680112,0.19827360052985799,0.25816961495658464,6.5700000000000092E-2,11,14,21,26,33,16,25,11,14,14,17,10,null,{"$f":"IF(AA62=\"\",\"\",IF(AA62>Inputs!$D$9,0,1))","v":1},{"$f":"IF(AB62=\"\",\"\",IF(AB62>Inputs!$D$9,0,1))","v":1},{"$f":"IF(AC62=\"\",\"\",IF(AC62>Inputs!$D$9,0,1))","v":0},{"$f":"IF(AD62=\"\",\"\",IF(AD62>Inputs!$D$9,0,1))","v":0},{"$f":"IF(AE62=\"\",\"\",IF(AE62>Inputs!$D$9,0,1))","v":0},{"$f":"IF(AF62=\"\",\"\",IF(AF62>Inputs!$D$9,0,1))","v":0},{"$f":"IF(AG62=\"\",\"\",IF(AG62>Inputs!$D$9,0,1))","v":0},{"$f":"IF(AH62=\"\",\"\",IF(AH62>Inputs!$D$9,0,1))","v":1},{"$f":"IF(AI62=\"\",\"\",IF(AI62>Inputs!$D$9,0,1))","v":1},{"$f":"IF(AJ62=\"\",\"\",IF(AJ62>Inputs!$D$9,0,1))","v":1},{"$f":"IF(AK62=\"\",\"\",IF(AK62>Inputs!$D$9,0,1))","v":0},{"$f":"IF(AL62=\"\",\"\",IF(AL62>Inputs!$D$9,0,1))","v":1},0.5,12,null,1,1,1,0,0,1,1,1,1,1,1,1,0.83333333333333337,12,null,null,1,1,1,1,0,1,0,1,1,1,1,1,10]
["Tata Ethical Fund - Regular Plan  |",5,20.69,50.05,50.38,67.010000000000005,-65.069999999999993,107.19,19.77,-16.64,25.68,16.36,41.49,7.16,0.17999031456590808,0.17757393441520697,0.14937938223987013,0.1155621522936805,6.0688068223005986E-2,0.2430838143165186,0.141622050485539,0.13072555721326307,0.22027323023195633,0.20833509131115258,0.23134351015466037,7.1600000000000108E-2,10,8,9,22,28,4,6,6,22,8,33,7,null,{"$f":"IF(AA63=\"\",\"\",IF(AA63>Inputs!$D$9,0,1))","v":1},{"$f":"IF(AB63=\"\",\"\",IF(AB63>Inputs!$D$9,0,1))","v":1},{"$f":"IF(AC63=\"\",\"\",IF(AC63>Inputs!$D$9,0,1))","v":1},{"$f":"IF(AD63=\"\",\"\",IF(AD63>Inputs!$D$9,0,1))","v":0},{"$f":"IF(AE63=\"\",\"\",IF(AE63>Inputs!$D$9,0,1))","v":0},{"$f":"IF(AF63=\"\",\"\",IF(AF63>Inputs!$D$9,0,1))","v":1},{"$f":"IF(AG63=\"\",\"\",IF(AG63>Inputs!$D$9,0,1))","v":1},{"$f":"IF(AH63=\"\",\"\",IF(AH63>Inputs!$D$9,0,1))","v":1},{"$f":"IF(AI63=\"\",\"\",IF(AI63>Inputs!$D$9,0,1))","v":0},{"$f":"IF(AJ63=\"\",\"\",IF(AJ63>Inputs!$D$9,0,1))","v":1},{"$f":"IF(AK63=\"\",\"\",IF(AK63>Inputs!$D$9,0,1))","v":0},{"$f":"IF(AL63=\"\",\"\",IF(AL63>Inputs!$D$9,0,1))","v":1},0.66666666666666663,12,null,1,1,1,1,0,1,1,1,1,1,1,1,0.91666666666666663,12,null,null,0,1,1,1,0,1,1,1,0,1,0,1,8]
["Tata Retirement Savings Fund - Progressive Plan - Regular Plan  |",3,"-","-","-","-","-","-","-","-",21.72,1.46,47.36,7.83,"","","","","","","","",0.18357015366538931,0.17256796615132197,0.26054864245692633,7.8300000000000036E-2,"","","","","","","","",45,30,16,6,null,{"$f":"IF(AA64=\"\",\"\",IF(AA64>Inputs!$D$9,0,1))","v":""},{"$f":"IF(AB64=\"\",\"\",IF(AB64>Inputs!$D$9,0,1))","v":""},{"$f":"IF(AC64=\"\",\"\",IF(AC64>Inputs!$D$9,0,1))","v":""},{"$f":"IF(AD64=\"\",\"\",IF(AD64>Inputs!$D$9,0,1))","v":""},{"$f":"IF(AE64=\"\",\"\",IF(AE64>Inputs!$D$9,0,1))","v":""},{"$f":"IF(AF64=\"\",\"\",IF(AF64>Inputs!$D$9,0,1))","v":""},{"$f":"IF(AG64=\"\",\"\",IF(AG64>Inputs!$D$9,0,1))","v":""},{"$f":"IF(AH64=\"\",\"\",IF(AH64>Inputs!$D$9,0,1))","v":""},{"$f":"IF(AI64=\"\",\"\",IF(AI64>Inputs!$D$9,0,1))","v":0},{"$f":"IF(AJ64=\"\",\"\",IF(AJ64>Inputs!$D$9,0,1))","v":0},{"$f":"IF(AK64=\"\",\"\",IF(AK64>Inputs!$D$9,0,1))","v":0},{"$f":"IF(AL64=\"\",\"\",IF(AL64>Inputs!$D$9,0,1))","v":1},0.25,4,null,"","","","","","","","",0,1,1,1,0.75,4,null,null,0,0,0,0,0,0,0,0,0,0,0,1,1]
["Taurus Bonanza Fund - Regular Plan  |",1,6.73,60.4,36.840000000000003,62.27,-61.92,79.3,14.76,-23.53,24.43,-1.62,38.409999999999997,3.15,0.12201192105528214,0.12712269618868666,8.8047556836784224E-2,6.0681708525191613E-2,5.7810178833912484E-3,0.15547753338923576,7.3886480673724053E-2,5.9721979614637322E-2,0.14978636741963514,0.11990497274379663,0.19486365330944766,3.1500000000000083E-2,25,30,38,42,46,46,52,58,65,59,51,32,null,{"$f":"IF(AA65=\"\",\"\",IF(AA65>Inputs!$D$9,0,1))","v":0},{"$f":"IF(AB65=\"\",\"\",IF(AB65>Inputs!$D$9,0,1))","v":0},{"$f":"IF(AC65=\"\",\"\",IF(AC65>Inputs!$D$9,0,1))","v":0},{"$f":"IF(AD65=\"\",\"\",IF(AD65>Inputs!$D$9,0,1))","v":0},{"$f":"IF(AE65=\"\",\"\",IF(AE65>Inputs!$D$9,0,1))","v":0},{"$f":"IF(AF65=\"\",\"\",IF(AF65>Inputs!$D$9,0,1))","v":0},{"$f":"IF(AG65=\"\",\"\",IF(AG65>Inputs!$D$9,0,1))","v":0},{"$f":"IF(AH65=\"\",\"\",IF(AH65>Inputs!$D$9,0,1))","v":0},{"$f":"IF(AI65=\"\",\"\",IF(AI65>Inputs!$D$9,0,1))","v":0},{"$f":"IF(AJ65=\"\",\"\",IF(AJ65>Inputs!$D$9,0,1))","v":0},{"$f":"IF(AK65=\"\",\"\",IF(AK65>Inputs!$D$9,0,1))","v":0},{"$f":"IF(AL65=\"\",\"\",IF(AL65>Inputs!$D$9,0,1))","v":0},0,12,null,0,0,0,0,0,0,0,0,0,0,0,1,8.3333333333333329E-2,12,null,null,0,1,1,1,0,0,0,1,0,0,0,1,5]
["Taurus Ethical Fund - Regular Plan  |",3,"-","-","-","-","-","-",24.24,-16.809999999999999,12.91,14.86,42.65,3.01,"",{"$f":"IF(A66=\"\",\"\",IF(ISERROR(1+D66),\"\",IF(ISERROR(((1+D66/100)*(1+E66/100)*(1+F66/100)*(1+G66/100)*(1+H66/100)*(1+I66/100)*(1+J66/100)*(1+K66/100)*(1+L66/100)*(1+M66/100)*(1+N66/100))^(1/11)-1),\"\",((1+D66/100)*(1+E66/100)*(1+F66/100)*(1+G66/100)*(1+H66/100)*(1+I66/100)*(1+J66/100)*(1+K66/100)*(1+L66/100)*(1+M66/100)*(1+N66/100))^(1/11)-1)))","v":""},"","","","",0.11960327006460836,9.6540562294020749E-2,0.17493298309750793,0.19062041532001928,0.2122036338833504,3.0100000000000016E-2,"","","","","","",22,38,49,17,46,34,null,{"$f":"IF(AA66=\"\",\"\",IF(AA66>Inputs!$D$9,0,1))","v":""},{"$f":"IF(AB66=\"\",\"\",IF(AB66>Inputs!$D$9,0,1))","v":""},{"$f":"IF(AC66=\"\",\"\",IF(AC66>Inputs!$D$9,0,1))","v":""},{"$f":"IF(AD66=\"\",\"\",IF(AD66>Inputs!$D$9,0,1))","v":""},{"$f":"IF(AE66=\"\",\"\",IF(AE66>Inputs!$D$9,0,1))","v":""},{"$f":"IF(AF66=\"\",\"\",IF(AF66>Inputs!$D$9,0,1))","v":""},{"$f":"IF(AG66=\"\",\"\",IF(AG66>Inputs!$D$9,0,1))","v":0},{"$f":"IF(AH66=\"\",\"\",IF(AH66>Inputs!$D$9,0,1))","v":0},{"$f":"IF(AI66=\"\",\"\",IF(AI66>Inputs!$D$9,0,1))","v":0},{"$f":"IF(AJ66=\"\",\"\",IF(AJ66>Inputs!$D$9,0,1))","v":0},{"$f":"IF(AK66=\"\",\"\",IF(AK66>Inputs!$D$9,0,1))","v":0},{"$f":"IF(AL66=\"\",\"\",IF(AL66>Inputs!$D$9,0,1))","v":0},0,6,null,"","","","","","",1,0,0,1,0,1,0.5,6,null,null,0,0,0,0,0,0,1,1,0,1,0,1,4]
["Taurus Starshare Fund - Regular Plan  |",2,34.03,63.04,48.85,87.42,-66.17,85.41,23.46,-20.53,30.73,2.42,38.619999999999997,-1.33,{"$f":"IF(A67=\"\",\"\",IF(ISERROR(1+C67),\"\",IF(ISERROR(((1+C67/100)*(1+D67/100)*(1+E67/100)*(1+F67/100)*(1+G67/100)*(1+H67/100)*(1+I67/100)*(1+J67/100)*(1+K67/100)*(1+L67/100)*(1+M67/100)*(1+N67/100))^(1/12)-1),\"\",((1+C67/100)*(1+D67/100)*(1+E67/100)*(1+F67/100)*(1+G67/100)*(1+H67/100)*(1+I67/100)*(1+J67/100)*(1+K67/100)*(1+L67/100)*(1+M67/100)*(1+N67/100))^(1/12)-1)))","v":0.17422066926023172},0.16018376722821603,{"$f":"IF(A67=\"\",\"\",IF(ISERROR(1+E67),\"\",IF(ISERROR(((1+E67/100)*(1+F67/100)*(1+G67/100)*(1+H67/100)*(1+I67/100)*(1+J67/100)*(1+K67/100)*(1+L67/100)*(1+M67/100)*(1+N67/100))^(1/10)-1),\"\",((1+E67/100)*(1+F67/100)*(1+G67/100)*(1+H67/100)*(1+I67/100)*(1+J67/100)*(1+K67/100)*(1+L67/100)*(1+M67/100)*(1+N67/100))^(1/10)-1)))","v":0.12137287455801538},{"$f":"IF(A67=\"\",\"\",IF(ISERROR(1+F67),\"\",IF(ISERROR(((1+F67/100)*(1+G67/100)*(1+H67/100)*(1+I67/100)*(1+J67/100)*(1+K67/100)*(1+L67/100)*(1+M67/100)*(1+N67/100))^(1/9)-1),\"\",((1+F67/100)*(1+G67/100)*(1+H67/100)*(1+I67/100)*(1+J67/100)*(1+K67/100)*(1+L67/100)*(1+M67/100)*(1+N67/100))^(1/9)-1)))","v":8.6634561356416562E-2},{"$f":"IF(A67=\"\",\"\",IF(ISERROR(1+G67),\"\",IF(ISERROR(((1+G67/100)*(1+H67/100)*(1+I67/100)*(1+J67/100)*(1+K67/100)*(1+L67/100)*(1+M67/100)*(1+N67/100))^(1/8)-1),\"\",((1+G67/100)*(1+H67/100)*(1+I67/100)*(1+J67/100)*(1+K67/100)*(1+L67/100)*(1+M67/100)*(1+N67/100))^(1/8)-1)))","v":1.5060578521634671E-2},{"$f":"IF(A67=\"\",\"\",IF(ISERROR(1+H67),\"\",IF(ISERROR(((1+H67/100)*(1+I67/100)*(1+J67/100)*(1+K67/100)*(1+L67/100)*(1+M67/100)*(1+N67/100))^(1/7)-1),\"\",((1+H67/100)*(1+I67/100)*(1+J67/100)*(1+K67/100)*(1+L67/100)*(1+M67/100)*(1+N67/100))^(1/7)-1)))","v":0.18757748802124508},{"$f":"IF(A67=\"\",\"\",IF(ISERROR(1+I67),\"\",IF(ISERROR(((1+I67/100)*(1+J67/100)*(1+K67/100)*(1+L67/100)*(1+M67/100)*(1+N67/100))^(1/6)-1),\"\",((1+I67/100)*(1+J67/100)*(1+K67/100)*(1+L67/100)*(1+M67/100)*(1+N67/100))^(1/6)-1)))","v":0.10259687393417316},{"$f":"IF(A67=\"\",\"\",IF(ISERROR(1+J67),\"\",IF(ISERROR(((1+J67/100)*(1+K67/100)*(1+L67/100)*(1+M67/100)*(1+N67/100))^(1/5)-1),\"\",((1+J67/100)*(1+K67/100)*(1+L67/100)*(1+M67/100)*(1+N67/100))^(1/5)-1)))","v":7.7940659575544746E-2},{"$f":"IF(A67=\"\",\"\",IF(ISERROR(1+K67),\"\",IF(ISERROR(((1+K67/100)*(1+L67/100)*(1+M67/100)*(1+N67/100))^(1/4)-1),\"\",((1+K67/100)*(1+L67/100)*(1+M67/100)*(1+N67/100))^(1/4)-1)))","v":0.16330277437271379},{"$f":"IF(A67=\"\",\"\",IF(ISERROR(1+L67),\"\",IF(ISERROR(((1+L67/100)*(1+M67/100)*(1+N67/100))^(1/3)-1),\"\",((1+L67/100)*(1+M67/100)*(1+N67/100))^(1/3)-1)))","v":0.11891887001019508},{"$f":"IF(A67=\"\",\"\",IF(ISERROR(1+M67),\"\",IF(ISERROR(((1+M67/100)*(1+N67/100))^(1/2)-1),\"\",((1+M67/100)*(1+N67/100))^(1/2)-1)))","v":0.16951423249142206},{"$f":"IF(A67=\"\",\"\",IF(ISERROR(1+N67),\"\",IF(ISERROR(((1+N67/100))^(1/1)-1),\"\",((1+N67/100))^(1/1)-1)))","v":-1.3299999999999979E-2},13,22,33,37,44,34,42,46,60,61,61,59,null,{"$f":"IF(AA67=\"\",\"\",IF(AA67>Inputs!$D$9,0,1))","v":1},{"$f":"IF(AB67=\"\",\"\",IF(AB67>Inputs!$D$9,0,1))","v":0},{"$f":"IF(AC67=\"\",\"\",IF(AC67>Inputs!$D$9,0,1))","v":0},{"$f":"IF(AD67=\"\",\"\",IF(AD67>Inputs!$D$9,0,1))","v":0},{"$f":"IF(AE67=\"\",\"\",IF(AE67>Inputs!$D$9,0,1))","v":0},{"$f":"IF(AF67=\"\",\"\",IF(AF67>Inputs!$D$9,0,1))","v":0},{"$f":"IF(AG67=\"\",\"\",IF(AG67>Inputs!$D$9,0,1))","v":0},{"$f":"IF(AH67=\"\",\"\",IF(AH67>Inputs!$D$9,0,1))","v":0},{"$f":"IF(AI67=\"\",\"\",IF(AI67>Inputs!$D$9,0,1))","v":0},{"$f":"IF(AJ67=\"\",\"\",IF(AJ67>Inputs!$D$9,0,1))","v":0},{"$f":"IF(AK67=\"\",\"\",IF(AK67>Inputs!$D$9,0,1))","v":0},{"$f":"IF(AL67=\"\",\"\",IF(AL67>Inputs!$D$9,0,1))","v":0},{"$f":"IF(COUNT(AN67:AY67)=0,\"\",SUM(AN67:AY67)/COUNT(AN67:AY67))","v":8.3333333333333329E-2},{"$f":"COUNT(AN67:AY67)","v":12},null,{"$f":"IF(O67=\"\",\"\",IF(O67>AVERAGE($O$2:$O$1000),1,0))","v":1},{"$f":"IF(P67=\"\",\"\",IF(P67>AVERAGE($P$2:$P$1000),1,0))","v":0},{"$f":"IF(Q67=\"\",\"\",IF(Q67>AVERAGE($Q$2:$Q$1000),1,0))","v":0},{"$f":"IF(R67=\"\",\"\",IF(R67>AVERAGE($R$2:$R$1000),1,0))","v":0},{"$f":"IF(S67=\"\",\"\",IF(S67>AVERAGE($S$2:$S$1000),1,0))","v":0},{"$f":"IF(T67=\"\",\"\",IF(T67>AVERAGE($T$2:$T$1000),1,0))","v":0},{"$f":"IF(U67=\"\",\"\",IF(U67>AVERAGE($U$2:$U$1000),1,0))","v":0},{"$f":"IF(V67=\"\",\"\",IF(V67>AVERAGE($V$2:$V$1000),1,0))","v":0},{"$f":"IF(W67=\"\",\"\",IF(W67>AVERAGE($W$2:$W$1000),1,0))","v":0},{"$f":"IF(X67=\"\",\"\",IF(X67>AVERAGE($X$2:$X$1000),1,0))","v":0},{"$f":"IF(Y67=\"\",\"\",IF(Y67>AVERAGE($Y$2:$Y$1000),1,0))","v":0},{"$f":"IF(Z67=\"\",\"\",IF(Z67>AVERAGE($Z$2:$Z$1000),1,0))","v":0},{"$f":"IF(COUNT(BC67:BN67)=0,\"\",SUM(BC67:BN67)/COUNT(BC67:BN67))","v":8.3333333333333329E-2},{"$f":"IF(A67=\"\",\"\",COUNT(BC67:BN67))","v":12},null,null,{"$f":"IF($A67=\"\",\"\",IF(C67=\"-\",0,IF(C67>AVERAGE(C$2:C$1183),1,0)))","v":1},{"$f":"IF($A67=\"\",\"\",IF(D67=\"-\",0,IF(D67>AVERAGE(D$2:D$1183),1,0)))","v":1},{"$f":"IF($A67=\"\",\"\",IF(E67=\"-\",0,IF(E67>AVERAGE(E$2:E$1183),1,0)))","v":1},{"$f":"IF($A67=\"\",\"\",IF(F67=\"-\",0,IF(F67>AVERAGE(F$2:F$1183),1,0)))","v":1},{"$f":"IF($A67=\"\",\"\",IF(G67=\"-\",0,IF(G67>AVERAGE(G$2:G$1183),1,0)))","v":0},{"$f":"IF($A67=\"\",\"\",IF(H67=\"-\",0,IF(H67>AVERAGE(H$2:H$1183),1,0)))","v":0},{"$f":"IF($A67=\"\",\"\",IF(I67=\"-\",0,IF(I67>AVERAGE(I$2:I$1183),1,0)))","v":1},{"$f":"IF($A67=\"\",\"\",IF(J67=\"-\",0,IF(J67>AVERAGE(J$2:J$1183),1,0)))","v":1},{"$f":"IF($A67=\"\",\"\",IF(K67=\"-\",0,IF(K67>AVERAGE(K$2:K$1183),1,0)))","v":0},{"$f":"IF($A67=\"\",\"\",IF(L67=\"-\",0,IF(L67>AVERAGE(L$2:L$1183),1,0)))","v":0},{"$f":"IF($A67=\"\",\"\",IF(M67=\"-\",0,IF(M67>AVERAGE(M$2:M$1183),1,0)))","v":0},{"$f":"IF($A67=\"\",\"\",IF(N67=\"-\",0,IF(N67>AVERAGE(N$2:N$1183),1,0)))","v":0},{"$f":"IF(A67=\"\",\"\",SUM(BS67:CD67))","v":6}]
["Templeton India Equity Income Fund  |",2,"-","-","-",56.88,-52.45,104.22,24.13,-23.66,36.119999999999997,3.72,38.49,-1.6,"","","",0.12019516572916156,7.4012802502887221E-2,0.20659281542511709,0.10527703249586096,7.9916118990576379E-2,0.17774017668484388,0.12225618420533269,0.16736523847508855,-1.6000000000000014E-2,"","","",18,20,20,40,45,47,58,63,61,null,{"$f":"IF(AA68=\"\",\"\",IF(AA68>Inputs!$D$9,0,1))","v":""},{"$f":"IF(AB68=\"\",\"\",IF(AB68>Inputs!$D$9,0,1))","v":""},{"$f":"IF(AC68=\"\",\"\",IF(AC68>Inputs!$D$9,0,1))","v":""},{"$f":"IF(AD68=\"\",\"\",IF(AD68>Inputs!$D$9,0,1))","v":0},{"$f":"IF(AE68=\"\",\"\",IF(AE68>Inputs!$D$9,0,1))","v":0},{"$f":"IF(AF68=\"\",\"\",IF(AF68>Inputs!$D$9,0,1))","v":0},{"$f":"IF(AG68=\"\",\"\",IF(AG68>Inputs!$D$9,0,1))","v":0},{"$f":"IF(AH68=\"\",\"\",IF(AH68>Inputs!$D$9,0,1))","v":0},{"$f":"IF(AI68=\"\",\"\",IF(AI68>Inputs!$D$9,0,1))","v":0},{"$f":"IF(AJ68=\"\",\"\",IF(AJ68>Inputs!$D$9,0,1))","v":0},{"$f":"IF(AK68=\"\",\"\",IF(AK68>Inputs!$D$9,0,1))","v":0},{"$f":"IF(AL68=\"\",\"\",IF(AL68>Inputs!$D$9,0,1))","v":0},0,9,null,"","","",1,1,1,0,0,0,0,0,0,0.33333333333333331,9,null,null,0,0,0,0,1,1,1,0,1,0,0,0,4]
["Templeton India Growth Fund  |",2,19.77,34.9,30.57,63.07,-51,104.7,21.97,-29.57,35.9,-0.6,49.15,0.05,0.16063507696832335,0.15732295788738826,0.13972173410583566,0.12263433837038162,7.1448628678822068E-2,0.19814858197629825,9.5829070454877208E-2,7.2607368313980736E-2,0.19154801622247164,0.14044823747675284,0.22157511025724475,4.9999999999994493E-4,20,23,18,16,23,27,44,48,39,51,39,50,null,{"$f":"IF(AA69=\"\",\"\",IF(AA69>Inputs!$D$9,0,1))","v":0},{"$f":"IF(AB69=\"\",\"\",IF(AB69>Inputs!$D$9,0,1))","v":0},{"$f":"IF(AC69=\"\",\"\",IF(AC69>Inputs!$D$9,0,1))","v":0},{"$f":"IF(AD69=\"\",\"\",IF(AD69>Inputs!$D$9,0,1))","v":0},{"$f":"IF(AE69=\"\",\"\",IF(AE69>Inputs!$D$9,0,1))","v":0},{"$f":"IF(AF69=\"\",\"\",IF(AF69>Inputs!$D$9,0,1))","v":0},{"$f":"IF(AG69=\"\",\"\",IF(AG69>Inputs!$D$9,0,1))","v":0},{"$f":"IF(AH69=\"\",\"\",IF(AH69>Inputs!$D$9,0,1))","v":0},{"$f":"IF(AI69=\"\",\"\",IF(AI69>Inputs!$D$9,0,1))","v":0},{"$f":"IF(AJ69=\"\",\"\",IF(AJ69>Inputs!$D$9,0,1))","v":0},{"$f":"IF(AK69=\"\",\"\",IF(AK69>Inputs!$D$9,0,1))","v":0},{"$f":"IF(AL69=\"\",\"\",IF(AL69>Inputs!$D$9,0,1))","v":0},0,12,null,0,0,1,1,1,1,0,0,0,0,0,0,0.33333333333333331,12,null,null,0,0,0,1,1,1,1,0,1,0,1,0,6]
["Union KBC Equity Fund  |",1,"-","-","-","-","-","-","-","-",30.23,6.59,40.07,-7.59,"","","","","","","","",0.1577716219832439,0.11325209314524987,0.13771124192388995,-7.5899999999999967E-2,"","","","","","","","",61,67,70,72,null,{"$f":"IF(AA70=\"\",\"\",IF(AA70>Inputs!$D$9,0,1))","v":""},{"$f":"IF(AB70=\"\",\"\",IF(AB70>Inputs!$D$9,0,1))","v":""},{"$f":"IF(AC70=\"\",\"\",IF(AC70>Inputs!$D$9,0,1))","v":""},{"$f":"IF(AD70=\"\",\"\",IF(AD70>Inputs!$D$9,0,1))","v":""},{"$f":"IF(AE70=\"\",\"\",IF(AE70>Inputs!$D$9,0,1))","v":""},{"$f":"IF(AF70=\"\",\"\",IF(AF70>Inputs!$D$9,0,1))","v":""},{"$f":"IF(AG70=\"\",\"\",IF(AG70>Inputs!$D$9,0,1))","v":""},{"$f":"IF(AH70=\"\",\"\",IF(AH70>Inputs!$D$9,0,1))","v":""},{"$f":"IF(AI70=\"\",\"\",IF(AI70>Inputs!$D$9,0,1))","v":0},{"$f":"IF(AJ70=\"\",\"\",IF(AJ70>Inputs!$D$9,0,1))","v":0},{"$f":"IF(AK70=\"\",\"\",IF(AK70>Inputs!$D$9,0,1))","v":0},{"$f":"IF(AL70=\"\",\"\",IF(AL70>Inputs!$D$9,0,1))","v":0},0,4,null,"","","","","","","","",0,0,0,0,0,4,null,null,0,0,0,0,0,0,0,0,0,1,0,0,1]
["UTI Dividend Yield Fund  |",1,"-","-",20.65,70.56,-44.44,85.78,24.27,-17.54,22.37,0.2,41.24,-5.13,"","",0.13590095037052308,0.12831616823859648,7.1519340843146928E-2,0.17692359135538083,9.070294717828209E-2,6.2611530819300709E-2,0.13215873791516319,0.10319286329747412,0.1575594498771975,-5.1300000000000012E-2,"","",23,11,21,40,48,56,66,68,67,70,null,{"$f":"IF(AA71=\"\",\"\",IF(AA71>Inputs!$D$9,0,1))","v":""},{"$f":"IF(AB71=\"\",\"\",IF(AB71>Inputs!$D$9,0,1))","v":""},{"$f":"IF(AC71=\"\",\"\",IF(AC71>Inputs!$D$9,0,1))","v":0},{"$f":"IF(AD71=\"\",\"\",IF(AD71>Inputs!$D$9,0,1))","v":1},{"$f":"IF(AE71=\"\",\"\",IF(AE71>Inputs!$D$9,0,1))","v":0},{"$f":"IF(AF71=\"\",\"\",IF(AF71>Inputs!$D$9,0,1))","v":0},{"$f":"IF(AG71=\"\",\"\",IF(AG71>Inputs!$D$9,0,1))","v":0},{"$f":"IF(AH71=\"\",\"\",IF(AH71>Inputs!$D$9,0,1))","v":0},{"$f":"IF(AI71=\"\",\"\",IF(AI71>Inputs!$D$9,0,1))","v":0},{"$f":"IF(AJ71=\"\",\"\",IF(AJ71>Inputs!$D$9,0,1))","v":0},{"$f":"IF(AK71=\"\",\"\",IF(AK71>Inputs!$D$9,0,1))","v":0},{"$f":"IF(AL71=\"\",\"\",IF(AL71>Inputs!$D$9,0,1))","v":0},0.1,10,null,"","",1,1,1,0,0,0,0,0,0,0,0.3,10,null,null,0,0,0,1,1,0,1,1,0,0,0,0,4]
["UTI Equity Fund  |",3,22.34,40.22,23.12,46.98,-45.44,85.12,20.440000000000001,-19.09,32.21,7.56,46.76,0.91,0.16782269887181211,0.16289717535693904,0.14133845701119996,0.13176777094121772,9.5392359674006721E-2,0.21007391641918849,0.12729693449609969,0.11247905170523698,0.2046593395828642,0.16787824241750249,0.21694501108308106,9.100000000000108E-3,15,19,17,8,4,15,15,17,29,32,42,44,null,{"$f":"IF(AA72=\"\",\"\",IF(AA72>Inputs!$D$9,0,1))","v":1},{"$f":"IF(AB72=\"\",\"\",IF(AB72>Inputs!$D$9,0,1))","v":0},{"$f":"IF(AC72=\"\",\"\",IF(AC72>Inputs!$D$9,0,1))","v":0},{"$f":"IF(AD72=\"\",\"\",IF(AD72>Inputs!$D$9,0,1))","v":1},{"$f":"IF(AE72=\"\",\"\",IF(AE72>Inputs!$D$9,0,1))","v":1},{"$f":"IF(AF72=\"\",\"\",IF(AF72>Inputs!$D$9,0,1))","v":1},{"$f":"IF(AG72=\"\",\"\",IF(AG72>Inputs!$D$9,0,1))","v":1},{"$f":"IF(AH72=\"\",\"\",IF(AH72>Inputs!$D$9,0,1))","v":0},{"$f":"IF(AI72=\"\",\"\",IF(AI72>Inputs!$D$9,0,1))","v":0},{"$f":"IF(AJ72=\"\",\"\",IF(AJ72>Inputs!$D$9,0,1))","v":0},{"$f":"IF(AK72=\"\",\"\",IF(AK72>Inputs!$D$9,0,1))","v":0},{"$f":"IF(AL72=\"\",\"\",IF(AL72>Inputs!$D$9,0,1))","v":0},0.41666666666666669,12,null,0,0,1,1,1,1,1,1,1,1,0,0,0.66666666666666663,12,null,null,0,0,0,0,1,0,1,1,1,1,0,0,5]
["UTI Multi Cap Fund - Regular Plan",0,"-","-","-","-","-","-","-","-","-","-","-",-0.31,"","","","","","","","","","","",-3.0999999999999917E-3,"","","","","","","","","","","",52,null,{"$f":"IF(AA73=\"\",\"\",IF(AA73>Inputs!$D$9,0,1))","v":""},{"$f":"IF(AB73=\"\",\"\",IF(AB73>Inputs!$D$9,0,1))","v":""},{"$f":"IF(AC73=\"\",\"\",IF(AC73>Inputs!$D$9,0,1))","v":""},{"$f":"IF(AD73=\"\",\"\",IF(AD73>Inputs!$D$9,0,1))","v":""},{"$f":"IF(AE73=\"\",\"\",IF(AE73>Inputs!$D$9,0,1))","v":""},{"$f":"IF(AF73=\"\",\"\",IF(AF73>Inputs!$D$9,0,1))","v":""},{"$f":"IF(AG73=\"\",\"\",IF(AG73>Inputs!$D$9,0,1))","v":""},{"$f":"IF(AH73=\"\",\"\",IF(AH73>Inputs!$D$9,0,1))","v":""},{"$f":"IF(AI73=\"\",\"\",IF(AI73>Inputs!$D$9,0,1))","v":""},{"$f":"IF(AJ73=\"\",\"\",IF(AJ73>Inputs!$D$9,0,1))","v":""},{"$f":"IF(AK73=\"\",\"\",IF(AK73>Inputs!$D$9,0,1))","v":""},{"$f":"IF(AL73=\"\",\"\",IF(AL73>Inputs!$D$9,0,1))","v":0},0,1,null,"","","","","","","","","","","",0,0,1,null,null,0,0,0,0,0,0,0,0,0,0,0,0,0]
["UTI Top 100 Fund  |",3,23.95,30.08,35.93,55.81,-54.88,"-",12.91,-16.190000000000001,22.65,6.25,41.7,0.47,"","","","","","",9.8344295182395403E-2,9.2294424590275037E-2,0.16708015917186603,0.14792028500449095,0.19317220048071859,4.6999999999999265E-3,"","","","","","",43,40,53,47,52,46,null,{"$f":"IF(AA74=\"\",\"\",IF(AA74>Inputs!$D$9,0,1))","v":""},{"$f":"IF(AB74=\"\",\"\",IF(AB74>Inputs!$D$9,0,1))","v":""},{"$f":"IF(AC74=\"\",\"\",IF(AC74>Inputs!$D$9,0,1))","v":""},{"$f":"IF(AD74=\"\",\"\",IF(AD74>Inputs!$D$9,0,1))","v":""},{"$f":"IF(AE74=\"\",\"\",IF(AE74>Inputs!$D$9,0,1))","v":""},{"$f":"IF(AF74=\"\",\"\",IF(AF74>Inputs!$D$9,0,1))","v":""},{"$f":"IF(AG74=\"\",\"\",IF(AG74>Inputs!$D$9,0,1))","v":0},{"$f":"IF(AH74=\"\",\"\",IF(AH74>Inputs!$D$9,0,1))","v":0},{"$f":"IF(AI74=\"\",\"\",IF(AI74>Inputs!$D$9,0,1))","v":0},{"$f":"IF(AJ74=\"\",\"\",IF(AJ74>Inputs!$D$9,0,1))","v":0},{"$f":"IF(AK74=\"\",\"\",IF(AK74>Inputs!$D$9,0,1))","v":0},{"$f":"IF(AL74=\"\",\"\",IF(AL74>Inputs!$D$9,0,1))","v":0},0,6,null,"","","","","","",0,0,0,0,0,0,0,6,null,null,0,0,0,0,0,0,0,1,0,1,0,0,2]
[null,null,null,null,null,null,null,null,null,null,null,null,null,null,"","","","","","","","","","","","","","","","","","","","","","","","",null,{"$f":"IF(AA75=\"\",\"\",IF(AA75>Inputs!$D$9,0,1))","v":""},{"$f":"IF(AB75=\"\",\"\",IF(AB75>Inputs!$D$9,0,1))","v":""},{"$f":"IF(AC75=\"\",\"\",IF(AC75>Inputs!$D$9,0,1))","v":""},{"$f":"IF(AD75=\"\",\"\",IF(AD75>Inputs!$D$9,0,1))","v":""},{"$f":"IF(AE75=\"\",\"\",IF(AE75>Inputs!$D$9,0,1))","v":""},{"$f":"IF(AF75=\"\",\"\",IF(AF75>Inputs!$D$9,0,1))","v":""},{"$f":"IF(AG75=\"\",\"\",IF(AG75>Inputs!$D$9,0,1))","v":""},{"$f":"IF(AH75=\"\",\"\",IF(AH75>Inputs!$D$9,0,1))","v":""},{"$f":"IF(AI75=\"\",\"\",IF(AI75>Inputs!$D$9,0,1))","v":""},{"$f":"IF(AJ75=\"\",\"\",IF(AJ75>Inputs!$D$9,0,1))","v":""},{"$f":"IF(AK75=\"\",\"\",IF(AK75>Inputs!$D$9,0,1))","v":""},{"$f":"IF(AL75=\"\",\"\",IF(AL75>Inputs!$D$9,0,1))","v":""},"",0,null,"","","","","","","","","","","","","","",null,null,"","","","","","","","","","","","",""]
[null,null,null,null,null,null,null,null,null,null,null,null,null,null,"","","","","","","","","","","","","","","","","","","","","","","","",null,{"$f":"IF(AA76=\"\",\"\",IF(AA76>Inputs!$D$9,0,1))","v":""},{"$f":"IF(AB76=\"\",\"\",IF(AB76>Inputs!$D$9,0,1))","v":""},{"$f":"IF(AC76=\"\",\"\",IF(AC76>Inputs!$D$9,0,1))","v":""},{"$f":"IF(AD76=\"\",\"\",IF(AD76>Inputs!$D$9,0,1))","v":""},{"$f":"IF(AE76=\"\",\"\",IF(AE76>Inputs!$D$9,0,1))","v":""},{"$f":"IF(AF76=\"\",\"\",IF(AF76>Inputs!$D$9,0,1))","v":""},{"$f":"IF(AG76=\"\",\"\",IF(AG76>Inputs!$D$9,0,1))","v":""},{"$f":"IF(AH76=\"\",\"\",IF(AH76>Inputs!$D$9,0,1))","v":""},{"$f":"IF(AI76=\"\",\"\",IF(AI76>Inputs!$D$9,0,1))","v":""},{"$f":"IF(AJ76=\"\",\"\",IF(AJ76>Inputs!$D$9,0,1))","v":""},{"$f":"IF(AK76=\"\",\"\",IF(AK76>Inputs!$D$9,0,1))","v":""},{"$f":"IF(AL76=\"\",\"\",IF(AL76>Inputs!$D$9,0,1))","v":""},"",0,null,"","","","","","","","","","","","","","",null,null,"","","","","","","","","","","","",""]
[null,null,null,null,null,null,null,null,null,null,null,null,null,null,"","","","","","","","","","","","","","","","","","","","","","","","",null,{"$f":"IF(AA77=\"\",\"\",IF(AA77>Inputs!$D$9,0,1))","v":""},{"$f":"IF(AB77=\"\",\"\",IF(AB77>Inputs!$D$9,0,1))","v":""},{"$f":"IF(AC77=\"\",\"\",IF(AC77>Inputs!$D$9,0,1))","v":""},{"$f":"IF(AD77=\"\",\"\",IF(AD77>Inputs!$D$9,0,1))","v":""},{"$f":"IF(AE77=\"\",\"\",IF(AE77>Inputs!$D$9,0,1))","v":""},{"$f":"IF(AF77=\"\",\"\",IF(AF77>Inputs!$D$9,0,1))","v":""},{"$f":"IF(AG77=\"\",\"\",IF(AG77>Inputs!$D$9,0,1))","v":""},{"$f":"IF(AH77=\"\",\"\",IF(AH77>Inputs!$D$9,0,1))","v":""},{"$f":"IF(AI77=\"\",\"\",IF(AI77>Inputs!$D$9,0,1))","v":""},{"$f":"IF(AJ77=\"\",\"\",IF(AJ77>Inputs!$D$9,0,1))","v":""},{"$f":"IF(AK77=\"\",\"\",IF(AK77>Inputs!$D$9,0,1))","v":""},{"$f":"IF(AL77=\"\",\"\",IF(AL77>Inputs!$D$9,0,1))","v":""},"",0,null,"","","","","","","","","","","","","","",null,null,"","","","","","","","","","","","",""]
[null,null,null,null,null,null,null,null,null,null,null,null,null,null,"","","","","","","","","","","","","","","","","","","","","","","","",null,{"$f":"IF(AA78=\"\",\"\",IF(AA78>Inputs!$D$9,0,1))","v":""},{"$f":"IF(AB78=\"\",\"\",IF(AB78>Inputs!$D$9,0,1))","v":""},{"$f":"IF(AC78=\"\",\"\",IF(AC78>Inputs!$D$9,0,1))","v":""},{"$f":"IF(AD78=\"\",\"\",IF(AD78>Inputs!$D$9,0,1))","v":""},{"$f":"IF(AE78=\"\",\"\",IF(AE78>Inputs!$D$9,0,1))","v":""},{"$f":"IF(AF78=\"\",\"\",IF(AF78>Inputs!$D$9,0,1))","v":""},{"$f":"IF(AG78=\"\",\"\",IF(AG78>Inputs!$D$9,0,1))","v":""},{"$f":"IF(AH78=\"\",\"\",IF(AH78>Inputs!$D$9,0,1))","v":""},{"$f":"IF(AI78=\"\",\"\",IF(AI78>Inputs!$D$9,0,1))","v":""},{"$f":"IF(AJ78=\"\",\"\",IF(AJ78>Inputs!$D$9,0,1))","v":""},{"$f":"IF(AK78=\"\",\"\",IF(AK78>Inputs!$D$9,0,1))","v":""},{"$f":"IF(AL78=\"\",\"\",IF(AL78>Inputs!$D$9,0,1))","v":""},"",0,null,"","","","","","","","","","","","","","",null,null,"","","","","","","","","","","","",""]
[null,null,null,null,null,null,null,null,null,null,null,null,null,null,"","","","","","","","","","","","","","","","","","","","","","","","",null,{"$f":"IF(AA79=\"\",\"\",IF(AA79>Inputs!$D$9,0,1))","v":""},{"$f":"IF(AB79=\"\",\"\",IF(AB79>Inputs!$D$9,0,1))","v":""},{"$f":"IF(AC79=\"\",\"\",IF(AC79>Inputs!$D$9,0,1))","v":""},{"$f":"IF(AD79=\"\",\"\",IF(AD79>Inputs!$D$9,0,1))","v":""},{"$f":"IF(AE79=\"\",\"\",IF(AE79>Inputs!$D$9,0,1))","v":""},{"$f":"IF(AF79=\"\",\"\",IF(AF79>Inputs!$D$9,0,1))","v":""},{"$f":"IF(AG79=\"\",\"\",IF(AG79>Inputs!$D$9,0,1))","v":""},{"$f":"IF(AH79=\"\",\"\",IF(AH79>Inputs!$D$9,0,1))","v":""},{"$f":"IF(AI79=\"\",\"\",IF(AI79>Inputs!$D$9,0,1))","v":""},{"$f":"IF(AJ79=\"\",\"\",IF(AJ79>Inputs!$D$9,0,1))","v":""},{"$f":"IF(AK79=\"\",\"\",IF(AK79>Inputs!$D$9,0,1))","v":""},{"$f":"IF(AL79=\"\",\"\",IF(AL79>Inputs!$D$9,0,1))","v":""},"",0,null,"","","","","","","","","","","","","","",null,null,"","","","","","","","","","","","",""]
[null,null,null,null,null,null,null,null,null,null,null,null,null,null,"","","","","","","","","","","","","","","","","","","","","","","","",null,{"$f":"IF(AA80=\"\",\"\",IF(AA80>Inputs!$D$9,0,1))","v":""},{"$f":"IF(AB80=\"\",\"\",IF(AB80>Inputs!$D$9,0,1))","v":""},{"$f":"IF(AC80=\"\",\"\",IF(AC80>Inputs!$D$9,0,1))","v":""},{"$f":"IF(AD80=\"\",\"\",IF(AD80>Inputs!$D$9,0,1))","v":""},{"$f":"IF(AE80=\"\",\"\",IF(AE80>Inputs!$D$9,0,1))","v":""},{"$f":"IF(AF80=\"\",\"\",IF(AF80>Inputs!$D$9,0,1))","v":""},{"$f":"IF(AG80=\"\",\"\",IF(AG80>Inputs!$D$9,0,1))","v":""},{"$f":"IF(AH80=\"\",\"\",IF(AH80>Inputs!$D$9,0,1))","v":""},{"$f":"IF(AI80=\"\",\"\",IF(AI80>Inputs!$D$9,0,1))","v":""},{"$f":"IF(AJ80=\"\",\"\",IF(AJ80>Inputs!$D$9,0,1))","v":""},{"$f":"IF(AK80=\"\",\"\",IF(AK80>Inputs!$D$9,0,1))","v":""},{"$f":"IF(AL80=\"\",\"\",IF(AL80>Inputs!$D$9,0,1))","v":""},"",0,null,"","","","","","","","","","","","","","",null,null,"","","","","","","","","","","","",""]
[null,null,null,null,null,null,null,null,null,null,null,null,null,null,"","","","","","","","","","","","","","","","","","","","","","","","",null,{"$f":"IF(AA81=\"\",\"\",IF(AA81>Inputs!$D$9,0,1))","v":""},{"$f":"IF(AB81=\"\",\"\",IF(AB81>Inputs!$D$9,0,1))","v":""},{"$f":"IF(AC81=\"\",\"\",IF(AC81>Inputs!$D$9,0,1))","v":""},{"$f":"IF(AD81=\"\",\"\",IF(AD81>Inputs!$D$9,0,1))","v":""},{"$f":"IF(AE81=\"\",\"\",IF(AE81>Inputs!$D$9,0,1))","v":""},{"$f":"IF(AF81=\"\",\"\",IF(AF81>Inputs!$D$9,0,1))","v":""},{"$f":"IF(AG81=\"\",\"\",IF(AG81>Inputs!$D$9,0,1))","v":""},{"$f":"IF(AH81=\"\",\"\",IF(AH81>Inputs!$D$9,0,1))","v":""},{"$f":"IF(AI81=\"\",\"\",IF(AI81>Inputs!$D$9,0,1))","v":""},{"$f":"IF(AJ81=\"\",\"\",IF(AJ81>Inputs!$D$9,0,1))","v":""},{"$f":"IF(AK81=\"\",\"\",IF(AK81>Inputs!$D$9,0,1))","v":""},{"$f":"IF(AL81=\"\",\"\",IF(AL81>Inputs!$D$9,0,1))","v":""},"",0,null,"","","","","","","","","","","","","","",null,null,"","","","","","","","","","","","",""]
[null,null,null,null,null,null,null,null,null,null,null,null,null,null,"","","","","","","","","","","","","","","","","","","","","","","","",null,{"$f":"IF(AA82=\"\",\"\",IF(AA82>Inputs!$D$9,0,1))","v":""},{"$f":"IF(AB82=\"\",\"\",IF(AB82>Inputs!$D$9,0,1))","v":""},{"$f":"IF(AC82=\"\",\"\",IF(AC82>Inputs!$D$9,0,1))","v":""},{"$f":"IF(AD82=\"\",\"\",IF(AD82>Inputs!$D$9,0,1))","v":""},{"$f":"IF(AE82=\"\",\"\",IF(AE82>Inputs!$D$9,0,1))","v":""},{"$f":"IF(AF82=\"\",\"\",IF(AF82>Inputs!$D$9,0,1))","v":""},{"$f":"IF(AG82=\"\",\"\",IF(AG82>Inputs!$D$9,0,1))","v":""},{"$f":"IF(AH82=\"\",\"\",IF(AH82>Inputs!$D$9,0,1))","v":""},{"$f":"IF(AI82=\"\",\"\",IF(AI82>Inputs!$D$9,0,1))","v":""},{"$f":"IF(AJ82=\"\",\"\",IF(AJ82>Inputs!$D$9,0,1))","v":""},{"$f":"IF(AK82=\"\",\"\",IF(AK82>Inputs!$D$9,0,1))","v":""},{"$f":"IF(AL82=\"\",\"\",IF(AL82>Inputs!$D$9,0,1))","v":""},"",0,null,"","","","","","","","","","","","","","",null,null,"","","","","","","","","","","","",""]
[null,null,null,null,null,null,null,null,null,null,null,null,null,null,"","","","","","","","","","","","","","","","","","","","","","","","",null,{"$f":"IF(AA83=\"\",\"\",IF(AA83>Inputs!$D$9,0,1))","v":""},{"$f":"IF(AB83=\"\",\"\",IF(AB83>Inputs!$D$9,0,1))","v":""},{"$f":"IF(AC83=\"\",\"\",IF(AC83>Inputs!$D$9,0,1))","v":""},{"$f":"IF(AD83=\"\",\"\",IF(AD83>Inputs!$D$9,0,1))","v":""},{"$f":"IF(AE83=\"\",\"\",IF(AE83>Inputs!$D$9,0,1))","v":""},{"$f":"IF(AF83=\"\",\"\",IF(AF83>Inputs!$D$9,0,1))","v":""},{"$f":"IF(AG83=\"\",\"\",IF(AG83>Inputs!$D$9,0,1))","v":""},{"$f":"IF(AH83=\"\",\"\",IF(AH83>Inputs!$D$9,0,1))","v":""},{"$f":"IF(AI83=\"\",\"\",IF(AI83>Inputs!$D$9,0,1))","v":""},{"$f":"IF(AJ83=\"\",\"\",IF(AJ83>Inputs!$D$9,0,1))","v":""},{"$f":"IF(AK83=\"\",\"\",IF(AK83>Inputs!$D$9,0,1))","v":""},{"$f":"IF(AL83=\"\",\"\",IF(AL83>Inputs!$D$9,0,1))","v":""},"",0,null,"","","","","","","","","","","","","","",null,null,"","","","","","","","","","","","",""]
[null,null,null,null,null,null,null,null,null,null,null,null,null,null,"","","","","","","","","","","","","","","","","","","","","","","","",null,{"$f":"IF(AA84=\"\",\"\",IF(AA84>Inputs!$D$9,0,1))","v":""},{"$f":"IF(AB84=\"\",\"\",IF(AB84>Inputs!$D$9,0,1))","v":""},{"$f":"IF(AC84=\"\",\"\",IF(AC84>Inputs!$D$9,0,1))","v":""},{"$f":"IF(AD84=\"\",\"\",IF(AD84>Inputs!$D$9,0,1))","v":""},{"$f":"IF(AE84=\"\",\"\",IF(AE84>Inputs!$D$9,0,1))","v":""},{"$f":"IF(AF84=\"\",\"\",IF(AF84>Inputs!$D$9,0,1))","v":""},{"$f":"IF(AG84=\"\",\"\",IF(AG84>Inputs!$D$9,0,1))","v":""},{"$f":"IF(AH84=\"\",\"\",IF(AH84>Inputs!$D$9,0,1))","v":""},{"$f":"IF(AI84=\"\",\"\",IF(AI84>Inputs!$D$9,0,1))","v":""},{"$f":"IF(AJ84=\"\",\"\",IF(AJ84>Inputs!$D$9,0,1))","v":""},{"$f":"IF(AK84=\"\",\"\",IF(AK84>Inputs!$D$9,0,1))","v":""},{"$f":"IF(AL84=\"\",\"\",IF(AL84>Inputs!$D$9,0,1))","v":""},"",0,null,"","","","","","","","","","","","","","",null,null,"","","","","","","","","","","","",{"$f":"IF(A84=\"\",\"\",SUM(BS84:CD84))","v":""}]
[null,null,null,null,null,null,null,null,null,null,null,null,null,null,"","","","","","","","","","","","","","","","","","","","","","","","",null,{"$f":"IF(AA85=\"\",\"\",IF(AA85>Inputs!$D$9,0,1))","v":""},{"$f":"IF(AB85=\"\",\"\",IF(AB85>Inputs!$D$9,0,1))","v":""},{"$f":"IF(AC85=\"\",\"\",IF(AC85>Inputs!$D$9,0,1))","v":""},{"$f":"IF(AD85=\"\",\"\",IF(AD85>Inputs!$D$9,0,1))","v":""},{"$f":"IF(AE85=\"\",\"\",IF(AE85>Inputs!$D$9,0,1))","v":""},{"$f":"IF(AF85=\"\",\"\",IF(AF85>Inputs!$D$9,0,1))","v":""},{"$f":"IF(AG85=\"\",\"\",IF(AG85>Inputs!$D$9,0,1))","v":""},{"$f":"IF(AH85=\"\",\"\",IF(AH85>Inputs!$D$9,0,1))","v":""},{"$f":"IF(AI85=\"\",\"\",IF(AI85>Inputs!$D$9,0,1))","v":""},{"$f":"IF(AJ85=\"\",\"\",IF(AJ85>Inputs!$D$9,0,1))","v":""},{"$f":"IF(AK85=\"\",\"\",IF(AK85>Inputs!$D$9,0,1))","v":""},{"$f":"IF(AL85=\"\",\"\",IF(AL85>Inputs!$D$9,0,1))","v":""},"",0,null,"","","","","","","","","","","","","","",null,null,"","","","","","","","","","","","",""]
[null,null,null,null,null,null,null,null,null,null,null,null,null,null,"","","","","","","","","","","","","","","","","","","","","","","","",null,{"$f":"IF(AA86=\"\",\"\",IF(AA86>Inputs!$D$9,0,1))","v":""},{"$f":"IF(AB86=\"\",\"\",IF(AB86>Inputs!$D$9,0,1))","v":""},{"$f":"IF(AC86=\"\",\"\",IF(AC86>Inputs!$D$9,0,1))","v":""},{"$f":"IF(AD86=\"\",\"\",IF(AD86>Inputs!$D$9,0,1))","v":""},{"$f":"IF(AE86=\"\",\"\",IF(AE86>Inputs!$D$9,0,1))","v":""},{"$f":"IF(AF86=\"\",\"\",IF(AF86>Inputs!$D$9,0,1))","v":""},{"$f":"IF(AG86=\"\",\"\",IF(AG86>Inputs!$D$9,0,1))","v":""},{"$f":"IF(AH86=\"\",\"\",IF(AH86>Inputs!$D$9,0,1))","v":""},{"$f":"IF(AI86=\"\",\"\",IF(AI86>Inputs!$D$9,0,1))","v":""},{"$f":"IF(AJ86=\"\",\"\",IF(AJ86>Inputs!$D$9,0,1))","v":""},{"$f":"IF(AK86=\"\",\"\",IF(AK86>Inputs!$D$9,0,1))","v":""},{"$f":"IF(AL86=\"\",\"\",IF(AL86>Inputs!$D$9,0,1))","v":""},"",0,null,"","","","","","","","","","","","","","",null,null,"","","","","","","","","","","","",""]
[null,null,null,null,null,null,null,null,null,null,null,null,null,null,"","","","","","","","","","","","","","","","","","","","","","","","",null,{"$f":"IF(AA87=\"\",\"\",IF(AA87>Inputs!$D$9,0,1))","v":""},{"$f":"IF(AB87=\"\",\"\",IF(AB87>Inputs!$D$9,0,1))","v":""},{"$f":"IF(AC87=\"\",\"\",IF(AC87>Inputs!$D$9,0,1))","v":""},{"$f":"IF(AD87=\"\",\"\",IF(AD87>Inputs!$D$9,0,1))","v":""},{"$f":"IF(AE87=\"\",\"\",IF(AE87>Inputs!$D$9,0,1))","v":""},{"$f":"IF(AF87=\"\",\"\",IF(AF87>Inputs!$D$9,0,1))","v":""},{"$f":"IF(AG87=\"\",\"\",IF(AG87>Inputs!$D$9,0,1))","v":""},{"$f":"IF(AH87=\"\",\"\",IF(AH87>Inputs!$D$9,0,1))","v":""},{"$f":"IF(AI87=\"\",\"\",IF(AI87>Inputs!$D$9,0,1))","v":""},{"$f":"IF(AJ87=\"\",\"\",IF(AJ87>Inputs!$D$9,0,1))","v":""},{"$f":"IF(AK87=\"\",\"\",IF(AK87>Inputs!$D$9,0,1))","v":""},{"$f":"IF(AL87=\"\",\"\",IF(AL87>Inputs!$D$9,0,1))","v":""},"",0,null,"","","","","","","","","","","","","","",null,null,"","","","","","","","","","","","",""]
[null,null,null,null,null,null,null,null,null,null,null,null,null,null,"","","","","","","","","","","","","","","","","","","","","","","","",null,{"$f":"IF(AA88=\"\",\"\",IF(AA88>Inputs!$D$9,0,1))","v":""},{"$f":"IF(AB88=\"\",\"\",IF(AB88>Inputs!$D$9,0,1))","v":""},{"$f":"IF(AC88=\"\",\"\",IF(AC88>Inputs!$D$9,0,1))","v":""},{"$f":"IF(AD88=\"\",\"\",IF(AD88>Inputs!$D$9,0,1))","v":""},{"$f":"IF(AE88=\"\",\"\",IF(AE88>Inputs!$D$9,0,1))","v":""},{"$f":"IF(AF88=\"\",\"\",IF(AF88>Inputs!$D$9,0,1))","v":""},{"$f":"IF(AG88=\"\",\"\",IF(AG88>Inputs!$D$9,0,1))","v":""},{"$f":"IF(AH88=\"\",\"\",IF(AH88>Inputs!$D$9,0,1))","v":""},{"$f":"IF(AI88=\"\",\"\",IF(AI88>Inputs!$D$9,0,1))","v":""},{"$f":"IF(AJ88=\"\",\"\",IF(AJ88>Inputs!$D$9,0,1))","v":""},{"$f":"IF(AK88=\"\",\"\",IF(AK88>Inputs!$D$9,0,1))","v":""},{"$f":"IF(AL88=\"\",\"\",IF(AL88>Inputs!$D$9,0,1))","v":""},"",0,null,"","","","","","","","","","","","","","",null,null,"","","","","","","","","","","","",""]
[null,null,null,null,null,null,null,null,null,null,null,null,null,null,"","","","","","","","","","","","","","","","","","","","","","","","",null,{"$f":"IF(AA89=\"\",\"\",IF(AA89>Inputs!$D$9,0,1))","v":""},{"$f":"IF(AB89=\"\",\"\",IF(AB89>Inputs!$D$9,0,1))","v":""},{"$f":"IF(AC89=\"\",\"\",IF(AC89>Inputs!$D$9,0,1))","v":""},{"$f":"IF(AD89=\"\",\"\",IF(AD89>Inputs!$D$9,0,1))","v":""},{"$f":"IF(AE89=\"\",\"\",IF(AE89>Inputs!$D$9,0,1))","v":""},{"$f":"IF(AF89=\"\",\"\",IF(AF89>Inputs!$D$9,0,1))","v":""},{"$f":"IF(AG89=\"\",\"\",IF(AG89>Inputs!$D$9,0,1))","v":""},{"$f":"IF(AH89=\"\",\"\",IF(AH89>Inputs!$D$9,0,1))","v":""},{"$f":"IF(AI89=\"\",\"\",IF(AI89>Inputs!$D$9,0,1))","v":""},{"$f":"IF(AJ89=\"\",\"\",IF(AJ89>Inputs!$D$9,0,1))","v":""},{"$f":"IF(AK89=\"\",\"\",IF(AK89>Inputs!$D$9,0,1))","v":""},{"$f":"IF(AL89=\"\",\"\",IF(AL89>Inputs!$D$9,0,1))","v":""},"",0,null,"","","","","","","","","","","","","","",null,null,"","","","","","","","","","","","",""]
[null,null,null,null,null,null,null,null,null,null,null,null,null,null,"","","","","","","","","","","","","","","","","","","","","","","","",null,{"$f":"IF(AA90=\"\",\"\",IF(AA90>Inputs!$D$9,0,1))","v":""},{"$f":"IF(AB90=\"\",\"\",IF(AB90>Inputs!$D$9,0,1))","v":""},{"$f":"IF(AC90=\"\",\"\",IF(AC90>Inputs!$D$9,0,1))","v":""},{"$f":"IF(AD90=\"\",\"\",IF(AD90>Inputs!$D$9,0,1))","v":""},{"$f":"IF(AE90=\"\",\"\",IF(AE90>Inputs!$D$9,0,1))","v":""},{"$f":"IF(AF90=\"\",\"\",IF(AF90>Inputs!$D$9,0,1))","v":""},{"$f":"IF(AG90=\"\",\"\",IF(AG90>Inputs!$D$9,0,1))","v":""},{"$f":"IF(AH90=\"\",\"\",IF(AH90>Inputs!$D$9,0,1))","v":""},{"$f":"IF(AI90=\"\",\"\",IF(AI90>Inputs!$D$9,0,1))","v":""},{"$f":"IF(AJ90=\"\",\"\",IF(AJ90>Inputs!$D$9,0,1))","v":""},{"$f":"IF(AK90=\"\",\"\",IF(AK90>Inputs!$D$9,0,1))","v":""},{"$f":"IF(AL90=\"\",\"\",IF(AL90>Inputs!$D$9,0,1))","v":""},"",0,null,"","","","","","","","","","","","","","",null,null,"","","","","","","","","","","","",""]
[null,null,null,null,null,null,null,null,null,null,null,null,null,null,"","","","","","","","","","","","","","","","","","","","","","","","",null,{"$f":"IF(AA91=\"\",\"\",IF(AA91>Inputs!$D$9,0,1))","v":""},{"$f":"IF(AB91=\"\",\"\",IF(AB91>Inputs!$D$9,0,1))","v":""},{"$f":"IF(AC91=\"\",\"\",IF(AC91>Inputs!$D$9,0,1))","v":""},{"$f":"IF(AD91=\"\",\"\",IF(AD91>Inputs!$D$9,0,1))","v":""},{"$f":"IF(AE91=\"\",\"\",IF(AE91>Inputs!$D$9,0,1))","v":""},{"$f":"IF(AF91=\"\",\"\",IF(AF91>Inputs!$D$9,0,1))","v":""},{"$f":"IF(AG91=\"\",\"\",IF(AG91>Inputs!$D$9,0,1))","v":""},{"$f":"IF(AH91=\"\",\"\",IF(AH91>Inputs!$D$9,0,1))","v":""},{"$f":"IF(AI91=\"\",\"\",IF(AI91>Inputs!$D$9,0,1))","v":""},{"$f":"IF(AJ91=\"\",\"\",IF(AJ91>Inputs!$D$9,0,1))","v":""},{"$f":"IF(AK91=\"\",\"\",IF(AK91>Inputs!$D$9,0,1))","v":""},{"$f":"IF(AL91=\"\",\"\",IF(AL91>Inputs!$D$9,0,1))","v":""},"",0,null,"","","","","","","","","","","","","","",null,null,"","","","","","","","","","","","",""]
[null,null,null,null,null,null,null,null,null,null,null,null,null,null,"","","","","","","","","","","","","","","","","","","","","","","","",null,{"$f":"IF(AA92=\"\",\"\",IF(AA92>Inputs!$D$9,0,1))","v":""},{"$f":"IF(AB92=\"\",\"\",IF(AB92>Inputs!$D$9,0,1))","v":""},{"$f":"IF(AC92=\"\",\"\",IF(AC92>Inputs!$D$9,0,1))","v":""},{"$f":"IF(AD92=\"\",\"\",IF(AD92>Inputs!$D$9,0,1))","v":""},{"$f":"IF(AE92=\"\",\"\",IF(AE92>Inputs!$D$9,0,1))","v":""},{"$f":"IF(AF92=\"\",\"\",IF(AF92>Inputs!$D$9,0,1))","v":""},{"$f":"IF(AG92=\"\",\"\",IF(AG92>Inputs!$D$9,0,1))","v":""},{"$f":"IF(AH92=\"\",\"\",IF(AH92>Inputs!$D$9,0,1))","v":""},{"$f":"IF(AI92=\"\",\"\",IF(AI92>Inputs!$D$9,0,1))","v":""},{"$f":"IF(AJ92=\"\",\"\",IF(AJ92>Inputs!$D$9,0,1))","v":""},{"$f":"IF(AK92=\"\",\"\",IF(AK92>Inputs!$D$9,0,1))","v":""},{"$f":"IF(AL92=\"\",\"\",IF(AL92>Inputs!$D$9,0,1))","v":""},"",0,null,"","","","","","","","","","","","","","",null,null,"","","","","","","","","","","","",""]
[null,null,null,null,null,null,null,null,null,null,null,null,null,null,"","","","","","","","","","","","","","","","","","","","","","","","",null,{"$f":"IF(AA93=\"\",\"\",IF(AA93>Inputs!$D$9,0,1))","v":""},{"$f":"IF(AB93=\"\",\"\",IF(AB93>Inputs!$D$9,0,1))","v":""},{"$f":"IF(AC93=\"\",\"\",IF(AC93>Inputs!$D$9,0,1))","v":""},{"$f":"IF(AD93=\"\",\"\",IF(AD93>Inputs!$D$9,0,1))","v":""},{"$f":"IF(AE93=\"\",\"\",IF(AE93>Inputs!$D$9,0,1))","v":""},{"$f":"IF(AF93=\"\",\"\",IF(AF93>Inputs!$D$9,0,1))","v":""},{"$f":"IF(AG93=\"\",\"\",IF(AG93>Inputs!$D$9,0,1))","v":""},{"$f":"IF(AH93=\"\",\"\",IF(AH93>Inputs!$D$9,0,1))","v":""},{"$f":"IF(AI93=\"\",\"\",IF(AI93>Inputs!$D$9,0,1))","v":""},{"$f":"IF(AJ93=\"\",\"\",IF(AJ93>Inputs!$D$9,0,1))","v":""},{"$f":"IF(AK93=\"\",\"\",IF(AK93>Inputs!$D$9,0,1))","v":""},{"$f":"IF(AL93=\"\",\"\",IF(AL93>Inputs!$D$9,0,1))","v":""},"",0,null,"","","","","","","","","","","","","","",null,null,"","","","","","","","","","","","",""]
[null,null,null,null,null,null,null,null,null,null,null,null,null,null,"","","","","","","","","","","","","","","","","","","","","","","","",null,{"$f":"IF(AA94=\"\",\"\",IF(AA94>Inputs!$D$9,0,1))","v":""},{"$f":"IF(AB94=\"\",\"\",IF(AB94>Inputs!$D$9,0,1))","v":""},{"$f":"IF(AC94=\"\",\"\",IF(AC94>Inputs!$D$9,0,1))","v":""},{"$f":"IF(AD94=\"\",\"\",IF(AD94>Inputs!$D$9,0,1))","v":""},{"$f":"IF(AE94=\"\",\"\",IF(AE94>Inputs!$D$9,0,1))","v":""},{"$f":"IF(AF94=\"\",\"\",IF(AF94>Inputs!$D$9,0,1))","v":""},{"$f":"IF(AG94=\"\",\"\",IF(AG94>Inputs!$D$9,0,1))","v":""},{"$f":"IF(AH94=\"\",\"\",IF(AH94>Inputs!$D$9,0,1))","v":""},{"$f":"IF(AI94=\"\",\"\",IF(AI94>Inputs!$D$9,0,1))","v":""},{"$f":"IF(AJ94=\"\",\"\",IF(AJ94>Inputs!$D$9,0,1))","v":""},{"$f":"IF(AK94=\"\",\"\",IF(AK94>Inputs!$D$9,0,1))","v":""},{"$f":"IF(AL94=\"\",\"\",IF(AL94>Inputs!$D$9,0,1))","v":""},"",0,null,"","","","","","","","","","","","","","",null,null,"","","","","","","","","","","","",""]
[null,null,null,null,null,null,null,null,null,null,null,null,null,null,"","","","","","","","","","","","","","","","","","","","","","","","",null,{"$f":"IF(AA95=\"\",\"\",IF(AA95>Inputs!$D$9,0,1))","v":""},{"$f":"IF(AB95=\"\",\"\",IF(AB95>Inputs!$D$9,0,1))","v":""},{"$f":"IF(AC95=\"\",\"\",IF(AC95>Inputs!$D$9,0,1))","v":""},{"$f":"IF(AD95=\"\",\"\",IF(AD95>Inputs!$D$9,0,1))","v":""},{"$f":"IF(AE95=\"\",\"\",IF(AE95>Inputs!$D$9,0,1))","v":""},{"$f":"IF(AF95=\"\",\"\",IF(AF95>Inputs!$D$9,0,1))","v":""},{"$f":"IF(AG95=\"\",\"\",IF(AG95>Inputs!$D$9,0,1))","v":""},{"$f":"IF(AH95=\"\",\"\",IF(AH95>Inputs!$D$9,0,1))","v":""},{"$f":"IF(AI95=\"\",\"\",IF(AI95>Inputs!$D$9,0,1))","v":""},{"$f":"IF(AJ95=\"\",\"\",IF(AJ95>Inputs!$D$9,0,1))","v":""},{"$f":"IF(AK95=\"\",\"\",IF(AK95>Inputs!$D$9,0,1))","v":""},{"$f":"IF(AL95=\"\",\"\",IF(AL95>Inputs!$D$9,0,1))","v":""},"",0,null,"","","","","","","","","","","","","","",null,null,"","","","","","","","","","","","",""]
[null,null,null,null,null,null,null,null,null,null,null,null,null,null,"","","","","","","","","","","","","","","","","","","","","","","","",null,{"$f":"IF(AA96=\"\",\"\",IF(AA96>Inputs!$D$9,0,1))","v":""},{"$f":"IF(AB96=\"\",\"\",IF(AB96>Inputs!$D$9,0,1))","v":""},{"$f":"IF(AC96=\"\",\"\",IF(AC96>Inputs!$D$9,0,1))","v":""},{"$f":"IF(AD96=\"\",\"\",IF(AD96>Inputs!$D$9,0,1))","v":""},{"$f":"IF(AE96=\"\",\"\",IF(AE96>Inputs!$D$9,0,1))","v":""},{"$f":"IF(AF96=\"\",\"\",IF(AF96>Inputs!$D$9,0,1))","v":""},{"$f":"IF(AG96=\"\",\"\",IF(AG96>Inputs!$D$9,0,1))","v":""},{"$f":"IF(AH96=\"\",\"\",IF(AH96>Inputs!$D$9,0,1))","v":""},{"$f":"IF(AI96=\"\",\"\",IF(AI96>Inputs!$D$9,0,1))","v":""},{"$f":"IF(AJ96=\"\",\"\",IF(AJ96>Inputs!$D$9,0,1))","v":""},{"$f":"IF(AK96=\"\",\"\",IF(AK96>Inputs!$D$9,0,1))","v":""},{"$f":"IF(AL96=\"\",\"\",IF(AL96>Inputs!$D$9,0,1))","v":""},"",0,null,"","","","","","","","","","","","","","",null,null,"","","","","","","","","","","","",""]
[null,null,null,null,null,null,null,null,null,null,null,null,null,null,"","","","","","","","","","","","","","","","","","","","","","","","",null,{"$f":"IF(AA97=\"\",\"\",IF(AA97>Inputs!$D$9,0,1))","v":""},{"$f":"IF(AB97=\"\",\"\",IF(AB97>Inputs!$D$9,0,1))","v":""},{"$f":"IF(AC97=\"\",\"\",IF(AC97>Inputs!$D$9,0,1))","v":""},{"$f":"IF(AD97=\"\",\"\",IF(AD97>Inputs!$D$9,0,1))","v":""},{"$f":"IF(AE97=\"\",\"\",IF(AE97>Inputs!$D$9,0,1))","v":""},{"$f":"IF(AF97=\"\",\"\",IF(AF97>Inputs!$D$9,0,1))","v":""},{"$f":"IF(AG97=\"\",\"\",IF(AG97>Inputs!$D$9,0,1))","v":""},{"$f":"IF(AH97=\"\",\"\",IF(AH97>Inputs!$D$9,0,1))","v":""},{"$f":"IF(AI97=\"\",\"\",IF(AI97>Inputs!$D$9,0,1))","v":""},{"$f":"IF(AJ97=\"\",\"\",IF(AJ97>Inputs!$D$9,0,1))","v":""},{"$f":"IF(AK97=\"\",\"\",IF(AK97>Inputs!$D$9,0,1))","v":""},{"$f":"IF(AL97=\"\",\"\",IF(AL97>Inputs!$D$9,0,1))","v":""},"",0,null,"","","","","","","","","","","","","","",null,null,"","","","","","","","","","","","",""]
[null,null,null,null,null,null,null,null,null,null,null,null,null,null,"","","","","","","","","","","","","","","","","","","","","","","","",null,{"$f":"IF(AA98=\"\",\"\",IF(AA98>Inputs!$D$9,0,1))","v":""},{"$f":"IF(AB98=\"\",\"\",IF(AB98>Inputs!$D$9,0,1))","v":""},{"$f":"IF(AC98=\"\",\"\",IF(AC98>Inputs!$D$9,0,1))","v":""},{"$f":"IF(AD98=\"\",\"\",IF(AD98>Inputs!$D$9,0,1))","v":""},{"$f":"IF(AE98=\"\",\"\",IF(AE98>Inputs!$D$9,0,1))","v":""},{"$f":"IF(AF98=\"\",\"\",IF(AF98>Inputs!$D$9,0,1))","v":""},{"$f":"IF(AG98=\"\",\"\",IF(AG98>Inputs!$D$9,0,1))","v":""},{"$f":"IF(AH98=\"\",\"\",IF(AH98>Inputs!$D$9,0,1))","v":""},{"$f":"IF(AI98=\"\",\"\",IF(AI98>Inputs!$D$9,0,1))","v":""},{"$f":"IF(AJ98=\"\",\"\",IF(AJ98>Inputs!$D$9,0,1))","v":""},{"$f":"IF(AK98=\"\",\"\",IF(AK98>Inputs!$D$9,0,1))","v":""},{"$f":"IF(AL98=\"\",\"\",IF(AL98>Inputs!$D$9,0,1))","v":""},"",0,null,"","","","","","","","","","","","","","",null,null,"","","","","","","","","","","","",""]
[null,null,null,null,null,null,null,null,null,null,null,null,null,null,"","","","","","","","","","","","",{"$f":"IF($A99=\"\",\"\",IF(ISERROR(RANK(O99,$O$2:$O$1000,0)),\"\",RANK(O99,$O$2:$O$1000,0)))","v":""},{"$f":"IF($A99=\"\",\"\",IF(ISERROR(RANK(P99,$P$2:$P$1000,0)),\"\",RANK(P99,$P$2:$P$1000,0)))","v":""},{"$f":"IF($A99=\"\",\"\",IF(ISERROR(RANK(Q99,$Q$2:$Q$1000,0)),\"\",RANK(Q99,$Q$2:$Q$1000,0)))","v":""},{"$f":"IF($A99=\"\",\"\",IF(ISERROR(RANK(R99,$R$2:$R$1000,0)),\"\",RANK(R99,$R$2:$R$1000,0)))","v":""},{"$f":"IF($A99=\"\",\"\",IF(ISERROR(RANK(S99,$S$2:$S$1000,0)),\"\",RANK(S99,$S$2:$S$1000,0)))","v":""},{"$f":"IF($A99=\"\",\"\",IF(ISERROR(RANK(T99,$T$2:$T$1000,0)),\"\",RANK(T99,$T$2:$T$1000,0)))","v":""},{"$f":"IF($A99=\"\",\"\",IF(ISERROR(RANK(U99,$U$2:$U$1000,0)),\"\",RANK(U99,$U$2:$U$1000,0)))","v":""},{"$f":"IF($A99=\"\",\"\",IF(ISERROR(RANK(V99,$V$2:$V$1000,0)),\"\",RANK(V99,$V$2:$V$1000,0)))","v":""},{"$f":"IF($A99=\"\",\"\",IF(ISERROR(RANK(W99,$W$2:$W$1000,0)),\"\",RANK(W99,$W$2:$W$1000,0)))","v":""},{"$f":"IF($A99=\"\",\"\",IF(ISERROR(RANK(X99,$X$2:$X$1000,0)),\"\",RANK(X99,$X$2:$X$1000,0)))","v":""},{"$f":"IF($A99=\"\",\"\",IF(ISERROR(RANK(Y99,$Y$2:$Y$1000,0)),\"\",RANK(Y99,$Y$2:$Y$1000,0)))","v":""},{"$f":"IF($A99=\"\",\"\",IF(ISERROR(RANK(Z99,$Z$2:$Z$1000,0)),\"\",RANK(Z99,$Z$2:$Z$1000,0)))","v":""},null,{"$f":"IF(AA99=\"\",\"\",IF(AA99>Inputs!$D$9,0,1))","v":""},{"$f":"IF(AB99=\"\",\"\",IF(AB99>Inputs!$D$9,0,1))","v":""},{"$f":"IF(AC99=\"\",\"\",IF(AC99>Inputs!$D$9,0,1))","v":""},{"$f":"IF(AD99=\"\",\"\",IF(AD99>Inputs!$D$9,0,1))","v":""},{"$f":"IF(AE99=\"\",\"\",IF(AE99>Inputs!$D$9,0,1))","v":""},{"$f":"IF(AF99=\"\",\"\",IF(AF99>Inputs!$D$9,0,1))","v":""},{"$f":"IF(AG99=\"\",\"\",IF(AG99>Inputs!$D$9,0,1))","v":""},{"$f":"IF(AH99=\"\",\"\",IF(AH99>Inputs!$D$9,0,1))","v":""},{"$f":"IF(AI99=\"\",\"\",IF(AI99>Inputs!$D$9,0,1))","v":""},{"$f":"IF(AJ99=\"\",\"\",IF(AJ99>Inputs!$D$9,0,1))","v":""},{"$f":"IF(AK99=\"\",\"\",IF(AK99>Inputs!$D$9,0,1))","v":""},{"$f":"IF(AL99=\"\",\"\",IF(AL99>Inputs!$D$9,0,1))","v":""},"",0,null,"","","","","","","","","","","","","","",null,null,"","","","","","","","","","","","",""]
[null,null,null,null,null,null,null,null,null,null,null,null,null,null,"","","","","","","","","","","","","","","","","","","","","","","","",null,{"$f":"IF(AA100=\"\",\"\",IF(AA100>Inputs!$D$9,0,1))","v":""},{"$f":"IF(AB100=\"\",\"\",IF(AB100>Inputs!$D$9,0,1))","v":""},{"$f":"IF(AC100=\"\",\"\",IF(AC100>Inputs!$D$9,0,1))","v":""},{"$f":"IF(AD100=\"\",\"\",IF(AD100>Inputs!$D$9,0,1))","v":""},{"$f":"IF(AE100=\"\",\"\",IF(AE100>Inputs!$D$9,0,1))","v":""},{"$f":"IF(AF100=\"\",\"\",IF(AF100>Inputs!$D$9,0,1))","v":""},{"$f":"IF(AG100=\"\",\"\",IF(AG100>Inputs!$D$9,0,1))","v":""},{"$f":"IF(AH100=\"\",\"\",IF(AH100>Inputs!$D$9,0,1))","v":""},{"$f":"IF(AI100=\"\",\"\",IF(AI100>Inputs!$D$9,0,1))","v":""},{"$f":"IF(AJ100=\"\",\"\",IF(AJ100>Inputs!$D$9,0,1))","v":""},{"$f":"IF(AK100=\"\",\"\",IF(AK100>Inputs!$D$9,0,1))","v":""},{"$f":"IF(AL100=\"\",\"\",IF(AL100>Inputs!$D$9,0,1))","v":""},"",0,null,"","","","","","","","","","","","","","",null,null,"","","","","","","","","","","","",""]
[null,null,null,null,null,null,null,null,null,null,null,null,null,null,"","","","","","","","","","","","","","","","","","","","","","","","",null,{"$f":"IF(AA101=\"\",\"\",IF(AA101>Inputs!$D$9,0,1))","v":""},{"$f":"IF(AB101=\"\",\"\",IF(AB101>Inputs!$D$9,0,1))","v":""},{"$f":"IF(AC101=\"\",\"\",IF(AC101>Inputs!$D$9,0,1))","v":""},{"$f":"IF(AD101=\"\",\"\",IF(AD101>Inputs!$D$9,0,1))","v":""},{"$f":"IF(AE101=\"\",\"\",IF(AE101>Inputs!$D$9,0,1))","v":""},{"$f":"IF(AF101=\"\",\"\",IF(AF101>Inputs!$D$9,0,1))","v":""},{"$f":"IF(AG101=\"\",\"\",IF(AG101>Inputs!$D$9,0,1))","v":""},{"$f":"IF(AH101=\"\",\"\",IF(AH101>Inputs!$D$9,0,1))","v":""},{"$f":"IF(AI101=\"\",\"\",IF(AI101>Inputs!$D$9,0,1))","v":""},{"$f":"IF(AJ101=\"\",\"\",IF(AJ101>Inputs!$D$9,0,1))","v":""},{"$f":"IF(AK101=\"\",\"\",IF(AK101>Inputs!$D$9,0,1))","v":""},{"$f":"IF(AL101=\"\",\"\",IF(AL101>Inputs!$D$9,0,1))","v":""},"",0,null,"","","","","","","","","","","","","","",null,null,"","","","","","","","","","","","",""]
[null,null,null,null,null,null,null,null,null,null,null,null,null,null,"","","","","","","","","","","","","","","","","","","","","","","","",null,{"$f":"IF(AA102=\"\",\"\",IF(AA102>Inputs!$D$9,0,1))","v":""},{"$f":"IF(AB102=\"\",\"\",IF(AB102>Inputs!$D$9,0,1))","v":""},{"$f":"IF(AC102=\"\",\"\",IF(AC102>Inputs!$D$9,0,1))","v":""},{"$f":"IF(AD102=\"\",\"\",IF(AD102>Inputs!$D$9,0,1))","v":""},{"$f":"IF(AE102=\"\",\"\",IF(AE102>Inputs!$D$9,0,1))","v":""},{"$f":"IF(AF102=\"\",\"\",IF(AF102>Inputs!$D$9,0,1))","v":""},{"$f":"IF(AG102=\"\",\"\",IF(AG102>Inputs!$D$9,0,1))","v":""},{"$f":"IF(AH102=\"\",\"\",IF(AH102>Inputs!$D$9,0,1))","v":""},{"$f":"IF(AI102=\"\",\"\",IF(AI102>Inputs!$D$9,0,1))","v":""},{"$f":"IF(AJ102=\"\",\"\",IF(AJ102>Inputs!$D$9,0,1))","v":""},{"$f":"IF(AK102=\"\",\"\",IF(AK102>Inputs!$D$9,0,1))","v":""},{"$f":"IF(AL102=\"\",\"\",IF(AL102>Inputs!$D$9,0,1))","v":""},"",0,null,"","","","","","","","","","","","","","",null,null,"","","","","","","","","","","","",""]
[null,null,null,null,null,null,null,null,null,null,null,null,null,null,"","","","","","","","","","","","","","","","","","","","","","","","",null,{"$f":"IF(AA103=\"\",\"\",IF(AA103>Inputs!$D$9,0,1))","v":""},{"$f":"IF(AB103=\"\",\"\",IF(AB103>Inputs!$D$9,0,1))","v":""},{"$f":"IF(AC103=\"\",\"\",IF(AC103>Inputs!$D$9,0,1))","v":""},{"$f":"IF(AD103=\"\",\"\",IF(AD103>Inputs!$D$9,0,1))","v":""},{"$f":"IF(AE103=\"\",\"\",IF(AE103>Inputs!$D$9,0,1))","v":""},{"$f":"IF(AF103=\"\",\"\",IF(AF103>Inputs!$D$9,0,1))","v":""},{"$f":"IF(AG103=\"\",\"\",IF(AG103>Inputs!$D$9,0,1))","v":""},{"$f":"IF(AH103=\"\",\"\",IF(AH103>Inputs!$D$9,0,1))","v":""},{"$f":"IF(AI103=\"\",\"\",IF(AI103>Inputs!$D$9,0,1))","v":""},{"$f":"IF(AJ103=\"\",\"\",IF(AJ103>Inputs!$D$9,0,1))","v":""},{"$f":"IF(AK103=\"\",\"\",IF(AK103>Inputs!$D$9,0,1))","v":""},{"$f":"IF(AL103=\"\",\"\",IF(AL103>Inputs!$D$9,0,1))","v":""},"",0,null,"","","","","","","","","","","","","","",null,null,"","","","","","","","","","","","",""]
[null,null,null,null,null,null,null,null,null,null,null,null,null,null,"","","","","","","","","","","","","","","","","","","","","","","","",null,{"$f":"IF(AA104=\"\",\"\",IF(AA104>Inputs!$D$9,0,1))","v":""},{"$f":"IF(AB104=\"\",\"\",IF(AB104>Inputs!$D$9,0,1))","v":""},{"$f":"IF(AC104=\"\",\"\",IF(AC104>Inputs!$D$9,0,1))","v":""},{"$f":"IF(AD104=\"\",\"\",IF(AD104>Inputs!$D$9,0,1))","v":""},{"$f":"IF(AE104=\"\",\"\",IF(AE104>Inputs!$D$9,0,1))","v":""},{"$f":"IF(AF104=\"\",\"\",IF(AF104>Inputs!$D$9,0,1))","v":""},{"$f":"IF(AG104=\"\",\"\",IF(AG104>Inputs!$D$9,0,1))","v":""},{"$f":"IF(AH104=\"\",\"\",IF(AH104>Inputs!$D$9,0,1))","v":""},{"$f":"IF(AI104=\"\",\"\",IF(AI104>Inputs!$D$9,0,1))","v":""},{"$f":"IF(AJ104=\"\",\"\",IF(AJ104>Inputs!$D$9,0,1))","v":""},{"$f":"IF(AK104=\"\",\"\",IF(AK104>Inputs!$D$9,0,1))","v":""},{"$f":"IF(AL104=\"\",\"\",IF(AL104>Inputs!$D$9,0,1))","v":""},"",0,null,"","","","","","","","","","","","","","",null,null,"","","","","","","","","","","","",""]
[null,null,null,null,null,null,null,null,null,null,null,null,null,null,"","","","","","","","","","","","","","","","","","","","","","","","",null,{"$f":"IF(AA105=\"\",\"\",IF(AA105>Inputs!$D$9,0,1))","v":""},{"$f":"IF(AB105=\"\",\"\",IF(AB105>Inputs!$D$9,0,1))","v":""},{"$f":"IF(AC105=\"\",\"\",IF(AC105>Inputs!$D$9,0,1))","v":""},{"$f":"IF(AD105=\"\",\"\",IF(AD105>Inputs!$D$9,0,1))","v":""},{"$f":"IF(AE105=\"\",\"\",IF(AE105>Inputs!$D$9,0,1))","v":""},{"$f":"IF(AF105=\"\",\"\",IF(AF105>Inputs!$D$9,0,1))","v":""},{"$f":"IF(AG105=\"\",\"\",IF(AG105>Inputs!$D$9,0,1))","v":""},{"$f":"IF(AH105=\"\",\"\",IF(AH105>Inputs!$D$9,0,1))","v":""},{"$f":"IF(AI105=\"\",\"\",IF(AI105>Inputs!$D$9,0,1))","v":""},{"$f":"IF(AJ105=\"\",\"\",IF(AJ105>Inputs!$D$9,0,1))","v":""},{"$f":"IF(AK105=\"\",\"\",IF(AK105>Inputs!$D$9,0,1))","v":""},{"$f":"IF(AL105=\"\",\"\",IF(AL105>Inputs!$D$9,0,1))","v":""},"",0,null,"","","","","","","","","","","","","","",null,null,"","","","","","","","","","","","",""]
[null,null,null,null,null,null,null,null,null,null,null,null,null,null,"","","","","","","","","","","","","","","","","","","","","","","","",null,{"$f":"IF(AA106=\"\",\"\",IF(AA106>Inputs!$D$9,0,1))","v":""},{"$f":"IF(AB106=\"\",\"\",IF(AB106>Inputs!$D$9,0,1))","v":""},{"$f":"IF(AC106=\"\",\"\",IF(AC106>Inputs!$D$9,0,1))","v":""},{"$f":"IF(AD106=\"\",\"\",IF(AD106>Inputs!$D$9,0,1))","v":""},{"$f":"IF(AE106=\"\",\"\",IF(AE106>Inputs!$D$9,0,1))","v":""},{"$f":"IF(AF106=\"\",\"\",IF(AF106>Inputs!$D$9,0,1))","v":""},{"$f":"IF(AG106=\"\",\"\",IF(AG106>Inputs!$D$9,0,1))","v":""},{"$f":"IF(AH106=\"\",\"\",IF(AH106>Inputs!$D$9,0,1))","v":""},{"$f":"IF(AI106=\"\",\"\",IF(AI106>Inputs!$D$9,0,1))","v":""},{"$f":"IF(AJ106=\"\",\"\",IF(AJ106>Inputs!$D$9,0,1))","v":""},{"$f":"IF(AK106=\"\",\"\",IF(AK106>Inputs!$D$9,0,1))","v":""},{"$f":"IF(AL106=\"\",\"\",IF(AL106>Inputs!$D$9,0,1))","v":""},"",0,null,"","","","","","","","","","","","","","",null,null,"","","","","","","","","","","","",""]
[null,null,null,null,null,null,null,null,null,null,null,null,null,null,"","","","","","","","","","","","","","","","","","","","","","","","",null,{"$f":"IF(AA107=\"\",\"\",IF(AA107>Inputs!$D$9,0,1))","v":""},{"$f":"IF(AB107=\"\",\"\",IF(AB107>Inputs!$D$9,0,1))","v":""},{"$f":"IF(AC107=\"\",\"\",IF(AC107>Inputs!$D$9,0,1))","v":""},{"$f":"IF(AD107=\"\",\"\",IF(AD107>Inputs!$D$9,0,1))","v":""},{"$f":"IF(AE107=\"\",\"\",IF(AE107>Inputs!$D$9,0,1))","v":""},{"$f":"IF(AF107=\"\",\"\",IF(AF107>Inputs!$D$9,0,1))","v":""},{"$f":"IF(AG107=\"\",\"\",IF(AG107>Inputs!$D$9,0,1))","v":""},{"$f":"IF(AH107=\"\",\"\",IF(AH107>Inputs!$D$9,0,1))","v":""},{"$f":"IF(AI107=\"\",\"\",IF(AI107>Inputs!$D$9,0,1))","v":""},{"$f":"IF(AJ107=\"\",\"\",IF(AJ107>Inputs!$D$9,0,1))","v":""},{"$f":"IF(AK107=\"\",\"\",IF(AK107>Inputs!$D$9,0,1))","v":""},{"$f":"IF(AL107=\"\",\"\",IF(AL107>Inputs!$D$9,0,1))","v":""},"",0,null,"","","","","","","","","","","","","","",null,null,"","","","","","","","","","","","",""]
[null,null,null,null,null,null,null,null,null,null,null,null,null,null,"","","","","","","","","","","","","","","","","","","","","","","","",null,{"$f":"IF(AA108=\"\",\"\",IF(AA108>Inputs!$D$9,0,1))","v":""},{"$f":"IF(AB108=\"\",\"\",IF(AB108>Inputs!$D$9,0,1))","v":""},{"$f":"IF(AC108=\"\",\"\",IF(AC108>Inputs!$D$9,0,1))","v":""},{"$f":"IF(AD108=\"\",\"\",IF(AD108>Inputs!$D$9,0,1))","v":""},{"$f":"IF(AE108=\"\",\"\",IF(AE108>Inputs!$D$9,0,1))","v":""},{"$f":"IF(AF108=\"\",\"\",IF(AF108>Inputs!$D$9,0,1))","v":""},{"$f":"IF(AG108=\"\",\"\",IF(AG108>Inputs!$D$9,0,1))","v":""},{"$f":"IF(AH108=\"\",\"\",IF(AH108>Inputs!$D$9,0,1))","v":""},{"$f":"IF(AI108=\"\",\"\",IF(AI108>Inputs!$D$9,0,1))","v":""},{"$f":"IF(AJ108=\"\",\"\",IF(AJ108>Inputs!$D$9,0,1))","v":""},{"$f":"IF(AK108=\"\",\"\",IF(AK108>Inputs!$D$9,0,1))","v":""},{"$f":"IF(AL108=\"\",\"\",IF(AL108>Inputs!$D$9,0,1))","v":""},"",0,null,"","","","","","","","","","","","","","",null,null,"","","","","","","","","","","","",""]
[null,null,null,null,null,null,null,null,null,null,null,null,null,null,"","","","","","","","","","","","","","","","","","","","","","","","",null,{"$f":"IF(AA109=\"\",\"\",IF(AA109>Inputs!$D$9,0,1))","v":""},{"$f":"IF(AB109=\"\",\"\",IF(AB109>Inputs!$D$9,0,1))","v":""},{"$f":"IF(AC109=\"\",\"\",IF(AC109>Inputs!$D$9,0,1))","v":""},{"$f":"IF(AD109=\"\",\"\",IF(AD109>Inputs!$D$9,0,1))","v":""},{"$f":"IF(AE109=\"\",\"\",IF(AE109>Inputs!$D$9,0,1))","v":""},{"$f":"IF(AF109=\"\",\"\",IF(AF109>Inputs!$D$9,0,1))","v":""},{"$f":"IF(AG109=\"\",\"\",IF(AG109>Inputs!$D$9,0,1))","v":""},{"$f":"IF(AH109=\"\",\"\",IF(AH109>Inputs!$D$9,0,1))","v":""},{"$f":"IF(AI109=\"\",\"\",IF(AI109>Inputs!$D$9,0,1))","v":""},{"$f":"IF(AJ109=\"\",\"\",IF(AJ109>Inputs!$D$9,0,1))","v":""},{"$f":"IF(AK109=\"\",\"\",IF(AK109>Inputs!$D$9,0,1))","v":""},{"$f":"IF(AL109=\"\",\"\",IF(AL109>Inputs!$D$9,0,1))","v":""},"",0,null,"","","","","","","","","","","","","","",null,null,"","","","","","","","","","","","",""]
[null,null,null,null,null,null,null,null,null,null,null,null,null,null,"","","","","","","","","","","","","","","","","","","","","","","","",null,{"$f":"IF(AA110=\"\",\"\",IF(AA110>Inputs!$D$9,0,1))","v":""},{"$f":"IF(AB110=\"\",\"\",IF(AB110>Inputs!$D$9,0,1))","v":""},{"$f":"IF(AC110=\"\",\"\",IF(AC110>Inputs!$D$9,0,1))","v":""},{"$f":"IF(AD110=\"\",\"\",IF(AD110>Inputs!$D$9,0,1))","v":""},{"$f":"IF(AE110=\"\",\"\",IF(AE110>Inputs!$D$9,0,1))","v":""},{"$f":"IF(AF110=\"\",\"\",IF(AF110>Inputs!$D$9,0,1))","v":""},{"$f":"IF(AG110=\"\",\"\",IF(AG110>Inputs!$D$9,0,1))","v":""},{"$f":"IF(AH110=\"\",\"\",IF(AH110>Inputs!$D$9,0,1))","v":""},{"$f":"IF(AI110=\"\",\"\",IF(AI110>Inputs!$D$9,0,1))","v":""},{"$f":"IF(AJ110=\"\",\"\",IF(AJ110>Inputs!$D$9,0,1))","v":""},{"$f":"IF(AK110=\"\",\"\",IF(AK110>Inputs!$D$9,0,1))","v":""},{"$f":"IF(AL110=\"\",\"\",IF(AL110>Inputs!$D$9,0,1))","v":""},"",0,null,"","","","","","","","","","","","","","",null,null,"","","","","","","","","","","","",""]
[null,null,null,null,null,null,null,null,null,null,null,null,null,null,"","","","","","","","","","","","","","","","","","","","","","","","",null,{"$f":"IF(AA111=\"\",\"\",IF(AA111>Inputs!$D$9,0,1))","v":""},{"$f":"IF(AB111=\"\",\"\",IF(AB111>Inputs!$D$9,0,1))","v":""},{"$f":"IF(AC111=\"\",\"\",IF(AC111>Inputs!$D$9,0,1))","v":""},{"$f":"IF(AD111=\"\",\"\",IF(AD111>Inputs!$D$9,0,1))","v":""},{"$f":"IF(AE111=\"\",\"\",IF(AE111>Inputs!$D$9,0,1))","v":""},{"$f":"IF(AF111=\"\",\"\",IF(AF111>Inputs!$D$9,0,1))","v":""},{"$f":"IF(AG111=\"\",\"\",IF(AG111>Inputs!$D$9,0,1))","v":""},{"$f":"IF(AH111=\"\",\"\",IF(AH111>Inputs!$D$9,0,1))","v":""},{"$f":"IF(AI111=\"\",\"\",IF(AI111>Inputs!$D$9,0,1))","v":""},{"$f":"IF(AJ111=\"\",\"\",IF(AJ111>Inputs!$D$9,0,1))","v":""},{"$f":"IF(AK111=\"\",\"\",IF(AK111>Inputs!$D$9,0,1))","v":""},{"$f":"IF(AL111=\"\",\"\",IF(AL111>Inputs!$D$9,0,1))","v":""},"",0,null,"","","","","","","","","","","","","","",null,null,"","","","","","","","","","","","",""]
[null,null,null,null,null,null,null,null,null,null,null,null,null,null,"","","","","","","","","","","","","","","","","","","","","","","","",null,{"$f":"IF(AA112=\"\",\"\",IF(AA112>Inputs!$D$9,0,1))","v":""},{"$f":"IF(AB112=\"\",\"\",IF(AB112>Inputs!$D$9,0,1))","v":""},{"$f":"IF(AC112=\"\",\"\",IF(AC112>Inputs!$D$9,0,1))","v":""},{"$f":"IF(AD112=\"\",\"\",IF(AD112>Inputs!$D$9,0,1))","v":""},{"$f":"IF(AE112=\"\",\"\",IF(AE112>Inputs!$D$9,0,1))","v":""},{"$f":"IF(AF112=\"\",\"\",IF(AF112>Inputs!$D$9,0,1))","v":""},{"$f":"IF(AG112=\"\",\"\",IF(AG112>Inputs!$D$9,0,1))","v":""},{"$f":"IF(AH112=\"\",\"\",IF(AH112>Inputs!$D$9,0,1))","v":""},{"$f":"IF(AI112=\"\",\"\",IF(AI112>Inputs!$D$9,0,1))","v":""},{"$f":"IF(AJ112=\"\",\"\",IF(AJ112>Inputs!$D$9,0,1))","v":""},{"$f":"IF(AK112=\"\",\"\",IF(AK112>Inputs!$D$9,0,1))","v":""},{"$f":"IF(AL112=\"\",\"\",IF(AL112>Inputs!$D$9,0,1))","v":""},"",0,null,"","","","","","","","","","","","","","",null,null,"","","","","","","","","","","","",""]
[null,null,null,null,null,null,null,null,null,null,null,null,null,null,"","","","","","","","","","","","","","","","","","","","","","","","",null,{"$f":"IF(AA113=\"\",\"\",IF(AA113>Inputs!$D$9,0,1))","v":""},{"$f":"IF(AB113=\"\",\"\",IF(AB113>Inputs!$D$9,0,1))","v":""},{"$f":"IF(AC113=\"\",\"\",IF(AC113>Inputs!$D$9,0,1))","v":""},{"$f":"IF(AD113=\"\",\"\",IF(AD113>Inputs!$D$9,0,1))","v":""},{"$f":"IF(AE113=\"\",\"\",IF(AE113>Inputs!$D$9,0,1))","v":""},{"$f":"IF(AF113=\"\",\"\",IF(AF113>Inputs!$D$9,0,1))","v":""},{"$f":"IF(AG113=\"\",\"\",IF(AG113>Inputs!$D$9,0,1))","v":""},{"$f":"IF(AH113=\"\",\"\",IF(AH113>Inputs!$D$9,0,1))","v":""},{"$f":"IF(AI113=\"\",\"\",IF(AI113>Inputs!$D$9,0,1))","v":""},{"$f":"IF(AJ113=\"\",\"\",IF(AJ113>Inputs!$D$9,0,1))","v":""},{"$f":"IF(AK113=\"\",\"\",IF(AK113>Inputs!$D$9,0,1))","v":""},{"$f":"IF(AL113=\"\",\"\",IF(AL113>Inputs!$D$9,0,1))","v":""},"",0,null,"","","","","","","","","","","","","","",null,null,"","","","","","","","","","","","",""]
[null,null,null,null,null,null,null,null,null,null,null,null,null,null,"","","","","","","","","","","","","","","","","","","","","","","","",null,{"$f":"IF(AA114=\"\",\"\",IF(AA114>Inputs!$D$9,0,1))","v":""},{"$f":"IF(AB114=\"\",\"\",IF(AB114>Inputs!$D$9,0,1))","v":""},{"$f":"IF(AC114=\"\",\"\",IF(AC114>Inputs!$D$9,0,1))","v":""},{"$f":"IF(AD114=\"\",\"\",IF(AD114>Inputs!$D$9,0,1))","v":""},{"$f":"IF(AE114=\"\",\"\",IF(AE114>Inputs!$D$9,0,1))","v":""},{"$f":"IF(AF114=\"\",\"\",IF(AF114>Inputs!$D$9,0,1))","v":""},{"$f":"IF(AG114=\"\",\"\",IF(AG114>Inputs!$D$9,0,1))","v":""},{"$f":"IF(AH114=\"\",\"\",IF(AH114>Inputs!$D$9,0,1))","v":""},{"$f":"IF(AI114=\"\",\"\",IF(AI114>Inputs!$D$9,0,1))","v":""},{"$f":"IF(AJ114=\"\",\"\",IF(AJ114>Inputs!$D$9,0,1))","v":""},{"$f":"IF(AK114=\"\",\"\",IF(AK114>Inputs!$D$9,0,1))","v":""},{"$f":"IF(AL114=\"\",\"\",IF(AL114>Inputs!$D$9,0,1))","v":""},"",0,null,"","","","","","","","","","","","","","",null,null,"","","","","","","","","","","","",""]
[null,null,null,null,null,null,null,null,null,null,null,null,null,null,"","","","","","","","","","","","","","","","","","","","","","","","",null,{"$f":"IF(AA115=\"\",\"\",IF(AA115>Inputs!$D$9,0,1))","v":""},{"$f":"IF(AB115=\"\",\"\",IF(AB115>Inputs!$D$9,0,1))","v":""},{"$f":"IF(AC115=\"\",\"\",IF(AC115>Inputs!$D$9,0,1))","v":""},{"$f":"IF(AD115=\"\",\"\",IF(AD115>Inputs!$D$9,0,1))","v":""},{"$f":"IF(AE115=\"\",\"\",IF(AE115>Inputs!$D$9,0,1))","v":""},{"$f":"IF(AF115=\"\",\"\",IF(AF115>Inputs!$D$9,0,1))","v":""},{"$f":"IF(AG115=\"\",\"\",IF(AG115>Inputs!$D$9,0,1))","v":""},{"$f":"IF(AH115=\"\",\"\",IF(AH115>Inputs!$D$9,0,1))","v":""},{"$f":"IF(AI115=\"\",\"\",IF(AI115>Inputs!$D$9,0,1))","v":""},{"$f":"IF(AJ115=\"\",\"\",IF(AJ115>Inputs!$D$9,0,1))","v":""},{"$f":"IF(AK115=\"\",\"\",IF(AK115>Inputs!$D$9,0,1))","v":""},{"$f":"IF(AL115=\"\",\"\",IF(AL115>Inputs!$D$9,0,1))","v":""},"",0,null,"","","","","","","","","","","","","","",null,null,"","","","","","","","","","","","",""]
[null,null,null,null,null,null,null,null,null,null,null,null,null,null,"","","","","","","","","","","","","","","","","","","","","","","","",null,{"$f":"IF(AA116=\"\",\"\",IF(AA116>Inputs!$D$9,0,1))","v":""},{"$f":"IF(AB116=\"\",\"\",IF(AB116>Inputs!$D$9,0,1))","v":""},{"$f":"IF(AC116=\"\",\"\",IF(AC116>Inputs!$D$9,0,1))","v":""},{"$f":"IF(AD116=\"\",\"\",IF(AD116>Inputs!$D$9,0,1))","v":""},{"$f":"IF(AE116=\"\",\"\",IF(AE116>Inputs!$D$9,0,1))","v":""},{"$f":"IF(AF116=\"\",\"\",IF(AF116>Inputs!$D$9,0,1))","v":""},{"$f":"IF(AG116=\"\",\"\",IF(AG116>Inputs!$D$9,0,1))","v":""},{"$f":"IF(AH116=\"\",\"\",IF(AH116>Inputs!$D$9,0,1))","v":""},{"$f":"IF(AI116=\"\",\"\",IF(AI116>Inputs!$D$9,0,1))","v":""},{"$f":"IF(AJ116=\"\",\"\",IF(AJ116>Inputs!$D$9,0,1))","v":""},{"$f":"IF(AK116=\"\",\"\",IF(AK116>Inputs!$D$9,0,1))","v":""},{"$f":"IF(AL116=\"\",\"\",IF(AL116>Inputs!$D$9,0,1))","v":""},"",0,null,"","","","","","","","","","","","","","",null,null,"","","","","","","","","","","","",""]
[null,null,null,null,null,null,null,null,null,null,null,null,null,null,"","","","","","","","","","","","","","","","","","","","","","","","",null,{"$f":"IF(AA117=\"\",\"\",IF(AA117>Inputs!$D$9,0,1))","v":""},{"$f":"IF(AB117=\"\",\"\",IF(AB117>Inputs!$D$9,0,1))","v":""},{"$f":"IF(AC117=\"\",\"\",IF(AC117>Inputs!$D$9,0,1))","v":""},{"$f":"IF(AD117=\"\",\"\",IF(AD117>Inputs!$D$9,0,1))","v":""},{"$f":"IF(AE117=\"\",\"\",IF(AE117>Inputs!$D$9,0,1))","v":""},{"$f":"IF(AF117=\"\",\"\",IF(AF117>Inputs!$D$9,0,1))","v":""},{"$f":"IF(AG117=\"\",\"\",IF(AG117>Inputs!$D$9,0,1))","v":""},{"$f":"IF(AH117=\"\",\"\",IF(AH117>Inputs!$D$9,0,1))","v":""},{"$f":"IF(AI117=\"\",\"\",IF(AI117>Inputs!$D$9,0,1))","v":""},{"$f":"IF(AJ117=\"\",\"\",IF(AJ117>Inputs!$D$9,0,1))","v":""},{"$f":"IF(AK117=\"\",\"\",IF(AK117>Inputs!$D$9,0,1))","v":""},{"$f":"IF(AL117=\"\",\"\",IF(AL117>Inputs!$D$9,0,1))","v":""},"",0,null,"","","","","","","","","","","","","","",null,null,"","","","","","","","","","","","",""]
[null,null,null,null,null,null,null,null,null,null,null,null,null,null,"","","","","","","","","","","","","","","","","","","","","","","","",null,{"$f":"IF(AA118=\"\",\"\",IF(AA118>Inputs!$D$9,0,1))","v":""},{"$f":"IF(AB118=\"\",\"\",IF(AB118>Inputs!$D$9,0,1))","v":""},{"$f":"IF(AC118=\"\",\"\",IF(AC118>Inputs!$D$9,0,1))","v":""},{"$f":"IF(AD118=\"\",\"\",IF(AD118>Inputs!$D$9,0,1))","v":""},{"$f":"IF(AE118=\"\",\"\",IF(AE118>Inputs!$D$9,0,1))","v":""},{"$f":"IF(AF118=\"\",\"\",IF(AF118>Inputs!$D$9,0,1))","v":""},{"$f":"IF(AG118=\"\",\"\",IF(AG118>Inputs!$D$9,0,1))","v":""},{"$f":"IF(AH118=\"\",\"\",IF(AH118>Inputs!$D$9,0,1))","v":""},{"$f":"IF(AI118=\"\",\"\",IF(AI118>Inputs!$D$9,0,1))","v":""},{"$f":"IF(AJ118=\"\",\"\",IF(AJ118>Inputs!$D$9,0,1))","v":""},{"$f":"IF(AK118=\"\",\"\",IF(AK118>Inputs!$D$9,0,1))","v":""},{"$f":"IF(AL118=\"\",\"\",IF(AL118>Inputs!$D$9,0,1))","v":""},"",0,null,"","","","","","","","","","","","","","",null,null,"","","","","","","","","","","","",""]
[null,null,null,null,null,null,null,null,null,null,null,null,null,null,"","","","","","","","","","","","","","","","","","","","","","","","",null,{"$f":"IF(AA119=\"\",\"\",IF(AA119>Inputs!$D$9,0,1))","v":""},{"$f":"IF(AB119=\"\",\"\",IF(AB119>Inputs!$D$9,0,1))","v":""},{"$f":"IF(AC119=\"\",\"\",IF(AC119>Inputs!$D$9,0,1))","v":""},{"$f":"IF(AD119=\"\",\"\",IF(AD119>Inputs!$D$9,0,1))","v":""},{"$f":"IF(AE119=\"\",\"\",IF(AE119>Inputs!$D$9,0,1))","v":""},{"$f":"IF(AF119=\"\",\"\",IF(AF119>Inputs!$D$9,0,1))","v":""},{"$f":"IF(AG119=\"\",\"\",IF(AG119>Inputs!$D$9,0,1))","v":""},{"$f":"IF(AH119=\"\",\"\",IF(AH119>Inputs!$D$9,0,1))","v":""},{"$f":"IF(AI119=\"\",\"\",IF(AI119>Inputs!$D$9,0,1))","v":""},{"$f":"IF(AJ119=\"\",\"\",IF(AJ119>Inputs!$D$9,0,1))","v":""},{"$f":"IF(AK119=\"\",\"\",IF(AK119>Inputs!$D$9,0,1))","v":""},{"$f":"IF(AL119=\"\",\"\",IF(AL119>Inputs!$D$9,0,1))","v":""},"",0,null,"","","","","","","","","","","","","","",null,null,"","","","","","","","","","","","",""]
[null,null,null,null,null,null,null,null,null,null,null,null,null,null,"","","","","","","","","","","","","","","","","","","","","","","","",null,{"$f":"IF(AA120=\"\",\"\",IF(AA120>Inputs!$D$9,0,1))","v":""},{"$f":"IF(AB120=\"\",\"\",IF(AB120>Inputs!$D$9,0,1))","v":""},{"$f":"IF(AC120=\"\",\"\",IF(AC120>Inputs!$D$9,0,1))","v":""},{"$f":"IF(AD120=\"\",\"\",IF(AD120>Inputs!$D$9,0,1))","v":""},{"$f":"IF(AE120=\"\",\"\",IF(AE120>Inputs!$D$9,0,1))","v":""},{"$f":"IF(AF120=\"\",\"\",IF(AF120>Inputs!$D$9,0,1))","v":""},{"$f":"IF(AG120=\"\",\"\",IF(AG120>Inputs!$D$9,0,1))","v":""},{"$f":"IF(AH120=\"\",\"\",IF(AH120>Inputs!$D$9,0,1))","v":""},{"$f":"IF(AI120=\"\",\"\",IF(AI120>Inputs!$D$9,0,1))","v":""},{"$f":"IF(AJ120=\"\",\"\",IF(AJ120>Inputs!$D$9,0,1))","v":""},{"$f":"IF(AK120=\"\",\"\",IF(AK120>Inputs!$D$9,0,1))","v":""},{"$f":"IF(AL120=\"\",\"\",IF(AL120>Inputs!$D$9,0,1))","v":""},"",0,null,"","","","","","","","","","","","","","",null,null,"","","","","","","","","","","","",""]
[null,null,null,null,null,null,null,null,null,null,null,null,null,null,"","","","","","","","","","","","","","","","","","","","","","","","",null,{"$f":"IF(AA121=\"\",\"\",IF(AA121>Inputs!$D$9,0,1))","v":""},{"$f":"IF(AB121=\"\",\"\",IF(AB121>Inputs!$D$9,0,1))","v":""},{"$f":"IF(AC121=\"\",\"\",IF(AC121>Inputs!$D$9,0,1))","v":""},{"$f":"IF(AD121=\"\",\"\",IF(AD121>Inputs!$D$9,0,1))","v":""},{"$f":"IF(AE121=\"\",\"\",IF(AE121>Inputs!$D$9,0,1))","v":""},{"$f":"IF(AF121=\"\",\"\",IF(AF121>Inputs!$D$9,0,1))","v":""},{"$f":"IF(AG121=\"\",\"\",IF(AG121>Inputs!$D$9,0,1))","v":""},{"$f":"IF(AH121=\"\",\"\",IF(AH121>Inputs!$D$9,0,1))","v":""},{"$f":"IF(AI121=\"\",\"\",IF(AI121>Inputs!$D$9,0,1))","v":""},{"$f":"IF(AJ121=\"\",\"\",IF(AJ121>Inputs!$D$9,0,1))","v":""},{"$f":"IF(AK121=\"\",\"\",IF(AK121>Inputs!$D$9,0,1))","v":""},{"$f":"IF(AL121=\"\",\"\",IF(AL121>Inputs!$D$9,0,1))","v":""},"",0,null,"","","","","","","","","","","","","","",null,null,"","","","","","","","","","","","",""]
[null,null,null,null,null,null,null,null,null,null,null,null,null,null,"","","","","","","","","","","","","","","","","","","","","","","","",null,{"$f":"IF(AA122=\"\",\"\",IF(AA122>Inputs!$D$9,0,1))","v":""},{"$f":"IF(AB122=\"\",\"\",IF(AB122>Inputs!$D$9,0,1))","v":""},{"$f":"IF(AC122=\"\",\"\",IF(AC122>Inputs!$D$9,0,1))","v":""},{"$f":"IF(AD122=\"\",\"\",IF(AD122>Inputs!$D$9,0,1))","v":""},{"$f":"IF(AE122=\"\",\"\",IF(AE122>Inputs!$D$9,0,1))","v":""},{"$f":"IF(AF122=\"\",\"\",IF(AF122>Inputs!$D$9,0,1))","v":""},{"$f":"IF(AG122=\"\",\"\",IF(AG122>Inputs!$D$9,0,1))","v":""},{"$f":"IF(AH122=\"\",\"\",IF(AH122>Inputs!$D$9,0,1))","v":""},{"$f":"IF(AI122=\"\",\"\",IF(AI122>Inputs!$D$9,0,1))","v":""},{"$f":"IF(AJ122=\"\",\"\",IF(AJ122>Inputs!$D$9,0,1))","v":""},{"$f":"IF(AK122=\"\",\"\",IF(AK122>Inputs!$D$9,0,1))","v":""},{"$f":"IF(AL122=\"\",\"\",IF(AL122>Inputs!$D$9,0,1))","v":""},"",0,null,"","","","","","","","","","","","","","",null,null,"","","","","","","","","","","","",""]
[null,null,null,null,null,null,null,null,null,null,null,null,null,null,"","","","","","","","","","","","","","","","","","","","","","","","",null,{"$f":"IF(AA123=\"\",\"\",IF(AA123>Inputs!$D$9,0,1))","v":""},{"$f":"IF(AB123=\"\",\"\",IF(AB123>Inputs!$D$9,0,1))","v":""},{"$f":"IF(AC123=\"\",\"\",IF(AC123>Inputs!$D$9,0,1))","v":""},{"$f":"IF(AD123=\"\",\"\",IF(AD123>Inputs!$D$9,0,1))","v":""},{"$f":"IF(AE123=\"\",\"\",IF(AE123>Inputs!$D$9,0,1))","v":""},{"$f":"IF(AF123=\"\",\"\",IF(AF123>Inputs!$D$9,0,1))","v":""},{"$f":"IF(AG123=\"\",\"\",IF(AG123>Inputs!$D$9,0,1))","v":""},{"$f":"IF(AH123=\"\",\"\",IF(AH123>Inputs!$D$9,0,1))","v":""},{"$f":"IF(AI123=\"\",\"\",IF(AI123>Inputs!$D$9,0,1))","v":""},{"$f":"IF(AJ123=\"\",\"\",IF(AJ123>Inputs!$D$9,0,1))","v":""},{"$f":"IF(AK123=\"\",\"\",IF(AK123>Inputs!$D$9,0,1))","v":""},{"$f":"IF(AL123=\"\",\"\",IF(AL123>Inputs!$D$9,0,1))","v":""},"",0,null,"","","","","","","","","","","","","","",null,null,"","","","","","","","","","","","",""]
[null,null,null,null,null,null,null,null,null,null,null,null,null,null,"","","","","","","","","","","","","","","","","","","","","","","","",null,{"$f":"IF(AA124=\"\",\"\",IF(AA124>Inputs!$D$9,0,1))","v":""},{"$f":"IF(AB124=\"\",\"\",IF(AB124>Inputs!$D$9,0,1))","v":""},{"$f":"IF(AC124=\"\",\"\",IF(AC124>Inputs!$D$9,0,1))","v":""},{"$f":"IF(AD124=\"\",\"\",IF(AD124>Inputs!$D$9,0,1))","v":""},{"$f":"IF(AE124=\"\",\"\",IF(AE124>Inputs!$D$9,0,1))","v":""},{"$f":"IF(AF124=\"\",\"\",IF(AF124>Inputs!$D$9,0,1))","v":""},{"$f":"IF(AG124=\"\",\"\",IF(AG124>Inputs!$D$9,0,1))","v":""},{"$f":"IF(AH124=\"\",\"\",IF(AH124>Inputs!$D$9,0,1))","v":""},{"$f":"IF(AI124=\"\",\"\",IF(AI124>Inputs!$D$9,0,1))","v":""},{"$f":"IF(AJ124=\"\",\"\",IF(AJ124>Inputs!$D$9,0,1))","v":""},{"$f":"IF(AK124=\"\",\"\",IF(AK124>Inputs!$D$9,0,1))","v":""},{"$f":"IF(AL124=\"\",\"\",IF(AL124>Inputs!$D$9,0,1))","v":""},"",0,null,"","","","","","","","","","","","","","",null,null,"","","","","","","","","","","","",""]
[null,null,null,null,null,null,null,null,null,null,null,null,null,null,"","","","","","","","","","","","","","","","","","","","","","","","",null,{"$f":"IF(AA125=\"\",\"\",IF(AA125>Inputs!$D$9,0,1))","v":""},{"$f":"IF(AB125=\"\",\"\",IF(AB125>Inputs!$D$9,0,1))","v":""},{"$f":"IF(AC125=\"\",\"\",IF(AC125>Inputs!$D$9,0,1))","v":""},{"$f":"IF(AD125=\"\",\"\",IF(AD125>Inputs!$D$9,0,1))","v":""},{"$f":"IF(AE125=\"\",\"\",IF(AE125>Inputs!$D$9,0,1))","v":""},{"$f":"IF(AF125=\"\",\"\",IF(AF125>Inputs!$D$9,0,1))","v":""},{"$f":"IF(AG125=\"\",\"\",IF(AG125>Inputs!$D$9,0,1))","v":""},{"$f":"IF(AH125=\"\",\"\",IF(AH125>Inputs!$D$9,0,1))","v":""},{"$f":"IF(AI125=\"\",\"\",IF(AI125>Inputs!$D$9,0,1))","v":""},{"$f":"IF(AJ125=\"\",\"\",IF(AJ125>Inputs!$D$9,0,1))","v":""},{"$f":"IF(AK125=\"\",\"\",IF(AK125>Inputs!$D$9,0,1))","v":""},{"$f":"IF(AL125=\"\",\"\",IF(AL125>Inputs!$D$9,0,1))","v":""},"",0,null,"","","","","","","","","","","","","","",null,null,"","","","","","","","","","","","",""]
[null,null,null,null,null,null,null,null,null,null,null,null,null,null,"","","","","","","","","","","","","","","","","","","","","","","","",null,{"$f":"IF(AA126=\"\",\"\",IF(AA126>Inputs!$D$9,0,1))","v":""},{"$f":"IF(AB126=\"\",\"\",IF(AB126>Inputs!$D$9,0,1))","v":""},{"$f":"IF(AC126=\"\",\"\",IF(AC126>Inputs!$D$9,0,1))","v":""},{"$f":"IF(AD126=\"\",\"\",IF(AD126>Inputs!$D$9,0,1))","v":""},{"$f":"IF(AE126=\"\",\"\",IF(AE126>Inputs!$D$9,0,1))","v":""},{"$f":"IF(AF126=\"\",\"\",IF(AF126>Inputs!$D$9,0,1))","v":""},{"$f":"IF(AG126=\"\",\"\",IF(AG126>Inputs!$D$9,0,1))","v":""},{"$f":"IF(AH126=\"\",\"\",IF(AH126>Inputs!$D$9,0,1))","v":""},{"$f":"IF(AI126=\"\",\"\",IF(AI126>Inputs!$D$9,0,1))","v":""},{"$f":"IF(AJ126=\"\",\"\",IF(AJ126>Inputs!$D$9,0,1))","v":""},{"$f":"IF(AK126=\"\",\"\",IF(AK126>Inputs!$D$9,0,1))","v":""},{"$f":"IF(AL126=\"\",\"\",IF(AL126>Inputs!$D$9,0,1))","v":""},"",0,null,"","","","","","","","","","","","","","",null,null,"","","","","","","","","","","","",""]
[null,null,null,null,null,null,null,null,null,null,null,null,null,null,"","","","","","","","","","","","","","","","","","","","","","","","",null,{"$f":"IF(AA127=\"\",\"\",IF(AA127>Inputs!$D$9,0,1))","v":""},{"$f":"IF(AB127=\"\",\"\",IF(AB127>Inputs!$D$9,0,1))","v":""},{"$f":"IF(AC127=\"\",\"\",IF(AC127>Inputs!$D$9,0,1))","v":""},{"$f":"IF(AD127=\"\",\"\",IF(AD127>Inputs!$D$9,0,1))","v":""},{"$f":"IF(AE127=\"\",\"\",IF(AE127>Inputs!$D$9,0,1))","v":""},{"$f":"IF(AF127=\"\",\"\",IF(AF127>Inputs!$D$9,0,1))","v":""},{"$f":"IF(AG127=\"\",\"\",IF(AG127>Inputs!$D$9,0,1))","v":""},{"$f":"IF(AH127=\"\",\"\",IF(AH127>Inputs!$D$9,0,1))","v":""},{"$f":"IF(AI127=\"\",\"\",IF(AI127>Inputs!$D$9,0,1))","v":""},{"$f":"IF(AJ127=\"\",\"\",IF(AJ127>Inputs!$D$9,0,1))","v":""},{"$f":"IF(AK127=\"\",\"\",IF(AK127>Inputs!$D$9,0,1))","v":""},{"$f":"IF(AL127=\"\",\"\",IF(AL127>Inputs!$D$9,0,1))","v":""},"",0,null,"","","","","","","","","","","","","","",null,null,"","","","","","","","","","","","",""]
[null,null,null,null,null,null,null,null,null,null,null,null,null,null,"","","","","","","","","","","","","","","","","","","","","","","","",null,{"$f":"IF(AA128=\"\",\"\",IF(AA128>Inputs!$D$9,0,1))","v":""},{"$f":"IF(AB128=\"\",\"\",IF(AB128>Inputs!$D$9,0,1))","v":""},{"$f":"IF(AC128=\"\",\"\",IF(AC128>Inputs!$D$9,0,1))","v":""},{"$f":"IF(AD128=\"\",\"\",IF(AD128>Inputs!$D$9,0,1))","v":""},{"$f":"IF(AE128=\"\",\"\",IF(AE128>Inputs!$D$9,0,1))","v":""},{"$f":"IF(AF128=\"\",\"\",IF(AF128>Inputs!$D$9,0,1))","v":""},{"$f":"IF(AG128=\"\",\"\",IF(AG128>Inputs!$D$9,0,1))","v":""},{"$f":"IF(AH128=\"\",\"\",IF(AH128>Inputs!$D$9,0,1))","v":""},{"$f":"IF(AI128=\"\",\"\",IF(AI128>Inputs!$D$9,0,1))","v":""},{"$f":"IF(AJ128=\"\",\"\",IF(AJ128>Inputs!$D$9,0,1))","v":""},{"$f":"IF(AK128=\"\",\"\",IF(AK128>Inputs!$D$9,0,1))","v":""},{"$f":"IF(AL128=\"\",\"\",IF(AL128>Inputs!$D$9,0,1))","v":""},"",0,null,"","","","","","","","","","","","","","",null,null,"","","","","","","","","","","","",""]
[null,null,null,null,null,null,null,null,null,null,null,null,null,null,"","","","","","","","","","","","","","","","","","","","","","","","",null,{"$f":"IF(AA129=\"\",\"\",IF(AA129>Inputs!$D$9,0,1))","v":""},{"$f":"IF(AB129=\"\",\"\",IF(AB129>Inputs!$D$9,0,1))","v":""},{"$f":"IF(AC129=\"\",\"\",IF(AC129>Inputs!$D$9,0,1))","v":""},{"$f":"IF(AD129=\"\",\"\",IF(AD129>Inputs!$D$9,0,1))","v":""},{"$f":"IF(AE129=\"\",\"\",IF(AE129>Inputs!$D$9,0,1))","v":""},{"$f":"IF(AF129=\"\",\"\",IF(AF129>Inputs!$D$9,0,1))","v":""},{"$f":"IF(AG129=\"\",\"\",IF(AG129>Inputs!$D$9,0,1))","v":""},{"$f":"IF(AH129=\"\",\"\",IF(AH129>Inputs!$D$9,0,1))","v":""},{"$f":"IF(AI129=\"\",\"\",IF(AI129>Inputs!$D$9,0,1))","v":""},{"$f":"IF(AJ129=\"\",\"\",IF(AJ129>Inputs!$D$9,0,1))","v":""},{"$f":"IF(AK129=\"\",\"\",IF(AK129>Inputs!$D$9,0,1))","v":""},{"$f":"IF(AL129=\"\",\"\",IF(AL129>Inputs!$D$9,0,1))","v":""},"",0,null,"","","","","","","","","","","","","","",null,null,"","","","","","","","","","","","",""]
[null,null,null,null,null,null,null,null,null,null,null,null,null,null,"",{"$f":"IF(A130=\"\",\"\",IF(ISERROR(1+D130),\"\",IF(ISERROR(((1+D130/100)*(1+E130/100)*(1+F130/100)*(1+G130/100)*(1+H130/100)*(1+I130/100)*(1+J130/100)*(1+K130/100)*(1+L130/100)*(1+M130/100)*(1+N130/100))^(1/11)-1),\"\",((1+D130/100)*(1+E130/100)*(1+F130/100)*(1+G130/100)*(1+H130/100)*(1+I130/100)*(1+J130/100)*(1+K130/100)*(1+L130/100)*(1+M130/100)*(1+N130/100))^(1/11)-1)))","v":""},"","","","","","","","","","","","","","","","","","","","","","",null,{"$f":"IF(AA130=\"\",\"\",IF(AA130>Inputs!$D$9,0,1))","v":""},{"$f":"IF(AB130=\"\",\"\",IF(AB130>Inputs!$D$9,0,1))","v":""},{"$f":"IF(AC130=\"\",\"\",IF(AC130>Inputs!$D$9,0,1))","v":""},{"$f":"IF(AD130=\"\",\"\",IF(AD130>Inputs!$D$9,0,1))","v":""},{"$f":"IF(AE130=\"\",\"\",IF(AE130>Inputs!$D$9,0,1))","v":""},{"$f":"IF(AF130=\"\",\"\",IF(AF130>Inputs!$D$9,0,1))","v":""},{"$f":"IF(AG130=\"\",\"\",IF(AG130>Inputs!$D$9,0,1))","v":""},{"$f":"IF(AH130=\"\",\"\",IF(AH130>Inputs!$D$9,0,1))","v":""},{"$f":"IF(AI130=\"\",\"\",IF(AI130>Inputs!$D$9,0,1))","v":""},{"$f":"IF(AJ130=\"\",\"\",IF(AJ130>Inputs!$D$9,0,1))","v":""},{"$f":"IF(AK130=\"\",\"\",IF(AK130>Inputs!$D$9,0,1))","v":""},{"$f":"IF(AL130=\"\",\"\",IF(AL130>Inputs!$D$9,0,1))","v":""},"",0,null,"","","","","","","","","","","","","","",null,null,"","","","","","","","","","","","",""]
[null,null,null,null,null,null,null,null,null,null,null,null,null,null,{"$f":"IF(A131=\"\",\"\",IF(ISERROR(1+C131),\"\",IF(ISERROR(((1+C131/100)*(1+D131/100)*(1+E131/100)*(1+F131/100)*(1+G131/100)*(1+H131/100)*(1+I131/100)*(1+J131/100)*(1+K131/100)*(1+L131/100)*(1+M131/100)*(1+N131/100))^(1/12)-1),\"\",((1+C131/100)*(1+D131/100)*(1+E131/100)*(1+F131/100)*(1+G131/100)*(1+H131/100)*(1+I131/100)*(1+J131/100)*(1+K131/100)*(1+L131/100)*(1+M131/100)*(1+N131/100))^(1/12)-1)))","v":""},"",{"$f":"IF(A131=\"\",\"\",IF(ISERROR(1+E131),\"\",IF(ISERROR(((1+E131/100)*(1+F131/100)*(1+G131/100)*(1+H131/100)*(1+I131/100)*(1+J131/100)*(1+K131/100)*(1+L131/100)*(1+M131/100)*(1+N131/100))^(1/10)-1),\"\",((1+E131/100)*(1+F131/100)*(1+G131/100)*(1+H131/100)*(1+I131/100)*(1+J131/100)*(1+K131/100)*(1+L131/100)*(1+M131/100)*(1+N131/100))^(1/10)-1)))","v":""},{"$f":"IF(A131=\"\",\"\",IF(ISERROR(1+F131),\"\",IF(ISERROR(((1+F131/100)*(1+G131/100)*(1+H131/100)*(1+I131/100)*(1+J131/100)*(1+K131/100)*(1+L131/100)*(1+M131/100)*(1+N131/100))^(1/9)-1),\"\",((1+F131/100)*(1+G131/100)*(1+H131/100)*(1+I131/100)*(1+J131/100)*(1+K131/100)*(1+L131/100)*(1+M131/100)*(1+N131/100))^(1/9)-1)))","v":""},{"$f":"IF(A131=\"\",\"\",IF(ISERROR(1+G131),\"\",IF(ISERROR(((1+G131/100)*(1+H131/100)*(1+I131/100)*(1+J131/100)*(1+K131/100)*(1+L131/100)*(1+M131/100)*(1+N131/100))^(1/8)-1),\"\",((1+G131/100)*(1+H131/100)*(1+I131/100)*(1+J131/100)*(1+K131/100)*(1+L131/100)*(1+M131/100)*(1+N131/100))^(1/8)-1)))","v":""},{"$f":"IF(A131=\"\",\"\",IF(ISERROR(1+H131),\"\",IF(ISERROR(((1+H131/100)*(1+I131/100)*(1+J131/100)*(1+K131/100)*(1+L131/100)*(1+M131/100)*(1+N131/100))^(1/7)-1),\"\",((1+H131/100)*(1+I131/100)*(1+J131/100)*(1+K131/100)*(1+L131/100)*(1+M131/100)*(1+N131/100))^(1/7)-1)))","v":""},{"$f":"IF(A131=\"\",\"\",IF(ISERROR(1+I131),\"\",IF(ISERROR(((1+I131/100)*(1+J131/100)*(1+K131/100)*(1+L131/100)*(1+M131/100)*(1+N131/100))^(1/6)-1),\"\",((1+I131/100)*(1+J131/100)*(1+K131/100)*(1+L131/100)*(1+M131/100)*(1+N131/100))^(1/6)-1)))","v":""},{"$f":"IF(A131=\"\",\"\",IF(ISERROR(1+J131),\"\",IF(ISERROR(((1+J131/100)*(1+K131/100)*(1+L131/100)*(1+M131/100)*(1+N131/100))^(1/5)-1),\"\",((1+J131/100)*(1+K131/100)*(1+L131/100)*(1+M131/100)*(1+N131/100))^(1/5)-1)))","v":""},{"$f":"IF(A131=\"\",\"\",IF(ISERROR(1+K131),\"\",IF(ISERROR(((1+K131/100)*(1+L131/100)*(1+M131/100)*(1+N131/100))^(1/4)-1),\"\",((1+K131/100)*(1+L131/100)*(1+M131/100)*(1+N131/100))^(1/4)-1)))","v":""},{"$f":"IF(A131=\"\",\"\",IF(ISERROR(1+L131),\"\",IF(ISERROR(((1+L131/100)*(1+M131/100)*(1+N131/100))^(1/3)-1),\"\",((1+L131/100)*(1+M131/100)*(1+N131/100))^(1/3)-1)))","v":""},{"$f":"IF(A131=\"\",\"\",IF(ISERROR(1+M131),\"\",IF(ISERROR(((1+M131/100)*(1+N131/100))^(1/2)-1),\"\",((1+M131/100)*(1+N131/100))^(1/2)-1)))","v":""},{"$f":"IF(A131=\"\",\"\",IF(ISERROR(1+N131),\"\",IF(ISERROR(((1+N131/100))^(1/1)-1),\"\",((1+N131/100))^(1/1)-1)))","v":""},"","","","","","","","","","","","",null,{"$f":"IF(AA131=\"\",\"\",IF(AA131>Inputs!$D$9,0,1))","v":""},{"$f":"IF(AB131=\"\",\"\",IF(AB131>Inputs!$D$9,0,1))","v":""},{"$f":"IF(AC131=\"\",\"\",IF(AC131>Inputs!$D$9,0,1))","v":""},{"$f":"IF(AD131=\"\",\"\",IF(AD131>Inputs!$D$9,0,1))","v":""},{"$f":"IF(AE131=\"\",\"\",IF(AE131>Inputs!$D$9,0,1))","v":""},{"$f":"IF(AF131=\"\",\"\",IF(AF131>Inputs!$D$9,0,1))","v":""},{"$f":"IF(AG131=\"\",\"\",IF(AG131>Inputs!$D$9,0,1))","v":""},{"$f":"IF(AH131=\"\",\"\",IF(AH131>Inputs!$D$9,0,1))","v":""},{"$f":"IF(AI131=\"\",\"\",IF(AI131>Inputs!$D$9,0,1))","v":""},{"$f":"IF(AJ131=\"\",\"\",IF(AJ131>Inputs!$D$9,0,1))","v":""},{"$f":"IF(AK131=\"\",\"\",IF(AK131>Inputs!$D$9,0,1))","v":""},{"$f":"IF(AL131=\"\",\"\",IF(AL131>Inputs!$D$9,0,1))","v":""},{"$f":"IF(COUNT(AN131:AY131)=0,\"\",SUM(AN131:AY131)/COUNT(AN131:AY131))","v":""},{"$f":"COUNT(AN131:AY131)","v":0},null,{"$f":"IF(O131=\"\",\"\",IF(O131>AVERAGE($O$2:$O$1000),1,0))","v":""},{"$f":"IF(P131=\"\",\"\",IF(P131>AVERAGE($P$2:$P$1000),1,0))","v":""},{"$f":"IF(Q131=\"\",\"\",IF(Q131>AVERAGE($Q$2:$Q$1000),1,0))","v":""},{"$f":"IF(R131=\"\",\"\",IF(R131>AVERAGE($R$2:$R$1000),1,0))","v":""},{"$f":"IF(S131=\"\",\"\",IF(S131>AVERAGE($S$2:$S$1000),1,0))","v":""},{"$f":"IF(T131=\"\",\"\",IF(T131>AVERAGE($T$2:$T$1000),1,0))","v":""},{"$f":"IF(U131=\"\",\"\",IF(U131>AVERAGE($U$2:$U$1000),1,0))","v":""},{"$f":"IF(V131=\"\",\"\",IF(V131>AVERAGE($V$2:$V$1000),1,0))","v":""},{"$f":"IF(W131=\"\",\"\",IF(W131>AVERAGE($W$2:$W$1000),1,0))","v":""},{"$f":"IF(X131=\"\",\"\",IF(X131>AVERAGE($X$2:$X$1000),1,0))","v":""},{"$f":"IF(Y131=\"\",\"\",IF(Y131>AVERAGE($Y$2:$Y$1000),1,0))","v":""},{"$f":"IF(Z131=\"\",\"\",IF(Z131>AVERAGE($Z$2:$Z$1000),1,0))","v":""},{"$f":"IF(COUNT(BC131:BN131)=0,\"\",SUM(BC131:BN131)/COUNT(BC131:BN131))","v":""},{"$f":"IF(A131=\"\",\"\",COUNT(BC131:BN131))","v":""},null,null,{"$f":"IF($A131=\"\",\"\",IF(C131=\"-\",0,IF(C131>AVERAGE(C$2:C$1183),1,0)))","v":""},{"$f":"IF($A131=\"\",\"\",IF(D131=\"-\",0,IF(D131>AVERAGE(D$2:D$1183),1,0)))","v":""},{"$f":"IF($A131=\"\",\"\",IF(E131=\"-\",0,IF(E131>AVERAGE(E$2:E$1183),1,0)))","v":""},{"$f":"IF($A131=\"\",\"\",IF(F131=\"-\",0,IF(F131>AVERAGE(F$2:F$1183),1,0)))","v":""},{"$f":"IF($A131=\"\",\"\",IF(G131=\"-\",0,IF(G131>AVERAGE(G$2:G$1183),1,0)))","v":""},{"$f":"IF($A131=\"\",\"\",IF(H131=\"-\",0,IF(H131>AVERAGE(H$2:H$1183),1,0)))","v":""},{"$f":"IF($A131=\"\",\"\",IF(I131=\"-\",0,IF(I131>AVERAGE(I$2:I$1183),1,0)))","v":""},{"$f":"IF($A131=\"\",\"\",IF(J131=\"-\",0,IF(J131>AVERAGE(J$2:J$1183),1,0)))","v":""},{"$f":"IF($A131=\"\",\"\",IF(K131=\"-\",0,IF(K131>AVERAGE(K$2:K$1183),1,0)))","v":""},{"$f":"IF($A131=\"\",\"\",IF(L131=\"-\",0,IF(L131>AVERAGE(L$2:L$1183),1,0)))","v":""},{"$f":"IF($A131=\"\",\"\",IF(M131=\"-\",0,IF(M131>AVERAGE(M$2:M$1183),1,0)))","v":""},{"$f":"IF($A131=\"\",\"\",IF(N131=\"-\",0,IF(N131>AVERAGE(N$2:N$1183),1,0)))","v":""},""]
[null,null,null,null,null,null,null,null,null,null,null,null,null,null,"","","","","","","","","","","","","","","","","","","","","","","","",null,{"$f":"IF(AA132=\"\",\"\",IF(AA132>Inputs!$D$9,0,1))","v":""},{"$f":"IF(AB132=\"\",\"\",IF(AB132>Inputs!$D$9,0,1))","v":""},{"$f":"IF(AC132=\"\",\"\",IF(AC132>Inputs!$D$9,0,1))","v":""},{"$f":"IF(AD132=\"\",\"\",IF(AD132>Inputs!$D$9,0,1))","v":""},{"$f":"IF(AE132=\"\",\"\",IF(AE132>Inputs!$D$9,0,1))","v":""},{"$f":"IF(AF132=\"\",\"\",IF(AF132>Inputs!$D$9,0,1))","v":""},{"$f":"IF(AG132=\"\",\"\",IF(AG132>Inputs!$D$9,0,1))","v":""},{"$f":"IF(AH132=\"\",\"\",IF(AH132>Inputs!$D$9,0,1))","v":""},{"$f":"IF(AI132=\"\",\"\",IF(AI132>Inputs!$D$9,0,1))","v":""},{"$f":"IF(AJ132=\"\",\"\",IF(AJ132>Inputs!$D$9,0,1))","v":""},{"$f":"IF(AK132=\"\",\"\",IF(AK132>Inputs!$D$9,0,1))","v":""},{"$f":"IF(AL132=\"\",\"\",IF(AL132>Inputs!$D$9,0,1))","v":""},"",0,null,"","","","","","","","","","","","","","",null,null,"","","","","","","","","","","","",""]
[null,null,null,null,null,null,null,null,null,null,null,null,null,null,"","","","","","","","","","","","","","","","","","","","","","","","",null,{"$f":"IF(AA133=\"\",\"\",IF(AA133>Inputs!$D$9,0,1))","v":""},{"$f":"IF(AB133=\"\",\"\",IF(AB133>Inputs!$D$9,0,1))","v":""},{"$f":"IF(AC133=\"\",\"\",IF(AC133>Inputs!$D$9,0,1))","v":""},{"$f":"IF(AD133=\"\",\"\",IF(AD133>Inputs!$D$9,0,1))","v":""},{"$f":"IF(AE133=\"\",\"\",IF(AE133>Inputs!$D$9,0,1))","v":""},{"$f":"IF(AF133=\"\",\"\",IF(AF133>Inputs!$D$9,0,1))","v":""},{"$f":"IF(AG133=\"\",\"\",IF(AG133>Inputs!$D$9,0,1))","v":""},{"$f":"IF(AH133=\"\",\"\",IF(AH133>Inputs!$D$9,0,1))","v":""},{"$f":"IF(AI133=\"\",\"\",IF(AI133>Inputs!$D$9,0,1))","v":""},{"$f":"IF(AJ133=\"\",\"\",IF(AJ133>Inputs!$D$9,0,1))","v":""},{"$f":"IF(AK133=\"\",\"\",IF(AK133>Inputs!$D$9,0,1))","v":""},{"$f":"IF(AL133=\"\",\"\",IF(AL133>Inputs!$D$9,0,1))","v":""},"",0,null,"","","","","","","","","","","","","","",null,null,"","","","","","","","","","","","",""]
[null,null,null,null,null,null,null,null,null,null,null,null,null,null,"","","","","","","","","","","","","","","","","","","","","","","","",null,{"$f":"IF(AA134=\"\",\"\",IF(AA134>Inputs!$D$9,0,1))","v":""},{"$f":"IF(AB134=\"\",\"\",IF(AB134>Inputs!$D$9,0,1))","v":""},{"$f":"IF(AC134=\"\",\"\",IF(AC134>Inputs!$D$9,0,1))","v":""},{"$f":"IF(AD134=\"\",\"\",IF(AD134>Inputs!$D$9,0,1))","v":""},{"$f":"IF(AE134=\"\",\"\",IF(AE134>Inputs!$D$9,0,1))","v":""},{"$f":"IF(AF134=\"\",\"\",IF(AF134>Inputs!$D$9,0,1))","v":""},{"$f":"IF(AG134=\"\",\"\",IF(AG134>Inputs!$D$9,0,1))","v":""},{"$f":"IF(AH134=\"\",\"\",IF(AH134>Inputs!$D$9,0,1))","v":""},{"$f":"IF(AI134=\"\",\"\",IF(AI134>Inputs!$D$9,0,1))","v":""},{"$f":"IF(AJ134=\"\",\"\",IF(AJ134>Inputs!$D$9,0,1))","v":""},{"$f":"IF(AK134=\"\",\"\",IF(AK134>Inputs!$D$9,0,1))","v":""},{"$f":"IF(AL134=\"\",\"\",IF(AL134>Inputs!$D$9,0,1))","v":""},"",0,null,"","","","","","","","","","","","","","",null,null,"","","","","","","","","","","","",""]
[null,null,null,null,null,null,null,null,null,null,null,null,null,null,"","","","","","","","","","","","","","","","","","","","","","","","",null,{"$f":"IF(AA135=\"\",\"\",IF(AA135>Inputs!$D$9,0,1))","v":""},{"$f":"IF(AB135=\"\",\"\",IF(AB135>Inputs!$D$9,0,1))","v":""},{"$f":"IF(AC135=\"\",\"\",IF(AC135>Inputs!$D$9,0,1))","v":""},{"$f":"IF(AD135=\"\",\"\",IF(AD135>Inputs!$D$9,0,1))","v":""},{"$f":"IF(AE135=\"\",\"\",IF(AE135>Inputs!$D$9,0,1))","v":""},{"$f":"IF(AF135=\"\",\"\",IF(AF135>Inputs!$D$9,0,1))","v":""},{"$f":"IF(AG135=\"\",\"\",IF(AG135>Inputs!$D$9,0,1))","v":""},{"$f":"IF(AH135=\"\",\"\",IF(AH135>Inputs!$D$9,0,1))","v":""},{"$f":"IF(AI135=\"\",\"\",IF(AI135>Inputs!$D$9,0,1))","v":""},{"$f":"IF(AJ135=\"\",\"\",IF(AJ135>Inputs!$D$9,0,1))","v":""},{"$f":"IF(AK135=\"\",\"\",IF(AK135>Inputs!$D$9,0,1))","v":""},{"$f":"IF(AL135=\"\",\"\",IF(AL135>Inputs!$D$9,0,1))","v":""},"",0,null,"","","","","","","","","","","","","","",null,null,"","","","","","","","","","","","",""]
[null,null,null,null,null,null,null,null,null,null,null,null,null,null,"","","","","","","","","","","","","","","","","","","","","","","","",null,{"$f":"IF(AA136=\"\",\"\",IF(AA136>Inputs!$D$9,0,1))","v":""},{"$f":"IF(AB136=\"\",\"\",IF(AB136>Inputs!$D$9,0,1))","v":""},{"$f":"IF(AC136=\"\",\"\",IF(AC136>Inputs!$D$9,0,1))","v":""},{"$f":"IF(AD136=\"\",\"\",IF(AD136>Inputs!$D$9,0,1))","v":""},{"$f":"IF(AE136=\"\",\"\",IF(AE136>Inputs!$D$9,0,1))","v":""},{"$f":"IF(AF136=\"\",\"\",IF(AF136>Inputs!$D$9,0,1))","v":""},{"$f":"IF(AG136=\"\",\"\",IF(AG136>Inputs!$D$9,0,1))","v":""},{"$f":"IF(AH136=\"\",\"\",IF(AH136>Inputs!$D$9,0,1))","v":""},{"$f":"IF(AI136=\"\",\"\",IF(AI136>Inputs!$D$9,0,1))","v":""},{"$f":"IF(AJ136=\"\",\"\",IF(AJ136>Inputs!$D$9,0,1))","v":""},{"$f":"IF(AK136=\"\",\"\",IF(AK136>Inputs!$D$9,0,1))","v":""},{"$f":"IF(AL136=\"\",\"\",IF(AL136>Inputs!$D$9,0,1))","v":""},"",0,null,"","","","","","","","","","","","","","",null,null,"","","","","","","","","","","","",""]
[null,null,null,null,null,null,null,null,null,null,null,null,null,null,"","","","","","","","","","","","","","","","","","","","","","","","",null,{"$f":"IF(AA137=\"\",\"\",IF(AA137>Inputs!$D$9,0,1))","v":""},{"$f":"IF(AB137=\"\",\"\",IF(AB137>Inputs!$D$9,0,1))","v":""},{"$f":"IF(AC137=\"\",\"\",IF(AC137>Inputs!$D$9,0,1))","v":""},{"$f":"IF(AD137=\"\",\"\",IF(AD137>Inputs!$D$9,0,1))","v":""},{"$f":"IF(AE137=\"\",\"\",IF(AE137>Inputs!$D$9,0,1))","v":""},{"$f":"IF(AF137=\"\",\"\",IF(AF137>Inputs!$D$9,0,1))","v":""},{"$f":"IF(AG137=\"\",\"\",IF(AG137>Inputs!$D$9,0,1))","v":""},{"$f":"IF(AH137=\"\",\"\",IF(AH137>Inputs!$D$9,0,1))","v":""},{"$f":"IF(AI137=\"\",\"\",IF(AI137>Inputs!$D$9,0,1))","v":""},{"$f":"IF(AJ137=\"\",\"\",IF(AJ137>Inputs!$D$9,0,1))","v":""},{"$f":"IF(AK137=\"\",\"\",IF(AK137>Inputs!$D$9,0,1))","v":""},{"$f":"IF(AL137=\"\",\"\",IF(AL137>Inputs!$D$9,0,1))","v":""},"",0,null,"","","","","","","","","","","","","","",null,null,"","","","","","","","","","","","",""]
[null,null,null,null,null,null,null,null,null,null,null,null,null,null,"","","","","","","","","","","","","","","","","","","","","","","","",null,{"$f":"IF(AA138=\"\",\"\",IF(AA138>Inputs!$D$9,0,1))","v":""},{"$f":"IF(AB138=\"\",\"\",IF(AB138>Inputs!$D$9,0,1))","v":""},{"$f":"IF(AC138=\"\",\"\",IF(AC138>Inputs!$D$9,0,1))","v":""},{"$f":"IF(AD138=\"\",\"\",IF(AD138>Inputs!$D$9,0,1))","v":""},{"$f":"IF(AE138=\"\",\"\",IF(AE138>Inputs!$D$9,0,1))","v":""},{"$f":"IF(AF138=\"\",\"\",IF(AF138>Inputs!$D$9,0,1))","v":""},{"$f":"IF(AG138=\"\",\"\",IF(AG138>Inputs!$D$9,0,1))","v":""},{"$f":"IF(AH138=\"\",\"\",IF(AH138>Inputs!$D$9,0,1))","v":""},{"$f":"IF(AI138=\"\",\"\",IF(AI138>Inputs!$D$9,0,1))","v":""},{"$f":"IF(AJ138=\"\",\"\",IF(AJ138>Inputs!$D$9,0,1))","v":""},{"$f":"IF(AK138=\"\",\"\",IF(AK138>Inputs!$D$9,0,1))","v":""},{"$f":"IF(AL138=\"\",\"\",IF(AL138>Inputs!$D$9,0,1))","v":""},"",0,null,"","","","","","","","","","","","","","",null,null,"","","","","","","","","","","","",""]
[null,null,null,null,null,null,null,null,null,null,null,null,null,null,"","","","","","","","","","","","","","","","","","","","","","","","",null,{"$f":"IF(AA139=\"\",\"\",IF(AA139>Inputs!$D$9,0,1))","v":""},{"$f":"IF(AB139=\"\",\"\",IF(AB139>Inputs!$D$9,0,1))","v":""},{"$f":"IF(AC139=\"\",\"\",IF(AC139>Inputs!$D$9,0,1))","v":""},{"$f":"IF(AD139=\"\",\"\",IF(AD139>Inputs!$D$9,0,1))","v":""},{"$f":"IF(AE139=\"\",\"\",IF(AE139>Inputs!$D$9,0,1))","v":""},{"$f":"IF(AF139=\"\",\"\",IF(AF139>Inputs!$D$9,0,1))","v":""},{"$f":"IF(AG139=\"\",\"\",IF(AG139>Inputs!$D$9,0,1))","v":""},{"$f":"IF(AH139=\"\",\"\",IF(AH139>Inputs!$D$9,0,1))","v":""},{"$f":"IF(AI139=\"\",\"\",IF(AI139>Inputs!$D$9,0,1))","v":""},{"$f":"IF(AJ139=\"\",\"\",IF(AJ139>Inputs!$D$9,0,1))","v":""},{"$f":"IF(AK139=\"\",\"\",IF(AK139>Inputs!$D$9,0,1))","v":""},{"$f":"IF(AL139=\"\",\"\",IF(AL139>Inputs!$D$9,0,1))","v":""},"",0,null,"","","","","","","","","","","","","","",null,null,"","","","","","","","","","","","",""]
[null,null,null,null,null,null,null,null,null,null,null,null,null,null,"","","","","","","","","","","","","","","","","","","","","","","","",null,{"$f":"IF(AA140=\"\",\"\",IF(AA140>Inputs!$D$9,0,1))","v":""},{"$f":"IF(AB140=\"\",\"\",IF(AB140>Inputs!$D$9,0,1))","v":""},{"$f":"IF(AC140=\"\",\"\",IF(AC140>Inputs!$D$9,0,1))","v":""},{"$f":"IF(AD140=\"\",\"\",IF(AD140>Inputs!$D$9,0,1))","v":""},{"$f":"IF(AE140=\"\",\"\",IF(AE140>Inputs!$D$9,0,1))","v":""},{"$f":"IF(AF140=\"\",\"\",IF(AF140>Inputs!$D$9,0,1))","v":""},{"$f":"IF(AG140=\"\",\"\",IF(AG140>Inputs!$D$9,0,1))","v":""},{"$f":"IF(AH140=\"\",\"\",IF(AH140>Inputs!$D$9,0,1))","v":""},{"$f":"IF(AI140=\"\",\"\",IF(AI140>Inputs!$D$9,0,1))","v":""},{"$f":"IF(AJ140=\"\",\"\",IF(AJ140>Inputs!$D$9,0,1))","v":""},{"$f":"IF(AK140=\"\",\"\",IF(AK140>Inputs!$D$9,0,1))","v":""},{"$f":"IF(AL140=\"\",\"\",IF(AL140>Inputs!$D$9,0,1))","v":""},"",0,null,"","","","","","","","","","","","","","",null,null,"","","","","","","","","","","","",""]
[null,null,null,null,null,null,null,null,null,null,null,null,null,null,"","","","","","","","","","","","","","","","","","","","","","","","",null,{"$f":"IF(AA141=\"\",\"\",IF(AA141>Inputs!$D$9,0,1))","v":""},{"$f":"IF(AB141=\"\",\"\",IF(AB141>Inputs!$D$9,0,1))","v":""},{"$f":"IF(AC141=\"\",\"\",IF(AC141>Inputs!$D$9,0,1))","v":""},{"$f":"IF(AD141=\"\",\"\",IF(AD141>Inputs!$D$9,0,1))","v":""},{"$f":"IF(AE141=\"\",\"\",IF(AE141>Inputs!$D$9,0,1))","v":""},{"$f":"IF(AF141=\"\",\"\",IF(AF141>Inputs!$D$9,0,1))","v":""},{"$f":"IF(AG141=\"\",\"\",IF(AG141>Inputs!$D$9,0,1))","v":""},{"$f":"IF(AH141=\"\",\"\",IF(AH141>Inputs!$D$9,0,1))","v":""},{"$f":"IF(AI141=\"\",\"\",IF(AI141>Inputs!$D$9,0,1))","v":""},{"$f":"IF(AJ141=\"\",\"\",IF(AJ141>Inputs!$D$9,0,1))","v":""},{"$f":"IF(AK141=\"\",\"\",IF(AK141>Inputs!$D$9,0,1))","v":""},{"$f":"IF(AL141=\"\",\"\",IF(AL141>Inputs!$D$9,0,1))","v":""},"",0,null,"","","","","","","","","","","","","","",null,null,"","","","","","","","","","","","",""]
[null,null,null,null,null,null,null,null,null,null,null,null,null,null,"","","","","","","","","","","","","","","","","","","","","","","","",null,{"$f":"IF(AA142=\"\",\"\",IF(AA142>Inputs!$D$9,0,1))","v":""},{"$f":"IF(AB142=\"\",\"\",IF(AB142>Inputs!$D$9,0,1))","v":""},{"$f":"IF(AC142=\"\",\"\",IF(AC142>Inputs!$D$9,0,1))","v":""},{"$f":"IF(AD142=\"\",\"\",IF(AD142>Inputs!$D$9,0,1))","v":""},{"$f":"IF(AE142=\"\",\"\",IF(AE142>Inputs!$D$9,0,1))","v":""},{"$f":"IF(AF142=\"\",\"\",IF(AF142>Inputs!$D$9,0,1))","v":""},{"$f":"IF(AG142=\"\",\"\",IF(AG142>Inputs!$D$9,0,1))","v":""},{"$f":"IF(AH142=\"\",\"\",IF(AH142>Inputs!$D$9,0,1))","v":""},{"$f":"IF(AI142=\"\",\"\",IF(AI142>Inputs!$D$9,0,1))","v":""},{"$f":"IF(AJ142=\"\",\"\",IF(AJ142>Inputs!$D$9,0,1))","v":""},{"$f":"IF(AK142=\"\",\"\",IF(AK142>Inputs!$D$9,0,1))","v":""},{"$f":"IF(AL142=\"\",\"\",IF(AL142>Inputs!$D$9,0,1))","v":""},"",0,null,"","","","","","","","","","","","","","",null,null,"","","","","","","","","","","","",""]
[null,null,null,null,null,null,null,null,null,null,null,null,null,null,"","","","","","","","","","","","","","","","","","","","","","","","",null,{"$f":"IF(AA143=\"\",\"\",IF(AA143>Inputs!$D$9,0,1))","v":""},{"$f":"IF(AB143=\"\",\"\",IF(AB143>Inputs!$D$9,0,1))","v":""},{"$f":"IF(AC143=\"\",\"\",IF(AC143>Inputs!$D$9,0,1))","v":""},{"$f":"IF(AD143=\"\",\"\",IF(AD143>Inputs!$D$9,0,1))","v":""},{"$f":"IF(AE143=\"\",\"\",IF(AE143>Inputs!$D$9,0,1))","v":""},{"$f":"IF(AF143=\"\",\"\",IF(AF143>Inputs!$D$9,0,1))","v":""},{"$f":"IF(AG143=\"\",\"\",IF(AG143>Inputs!$D$9,0,1))","v":""},{"$f":"IF(AH143=\"\",\"\",IF(AH143>Inputs!$D$9,0,1))","v":""},{"$f":"IF(AI143=\"\",\"\",IF(AI143>Inputs!$D$9,0,1))","v":""},{"$f":"IF(AJ143=\"\",\"\",IF(AJ143>Inputs!$D$9,0,1))","v":""},{"$f":"IF(AK143=\"\",\"\",IF(AK143>Inputs!$D$9,0,1))","v":""},{"$f":"IF(AL143=\"\",\"\",IF(AL143>Inputs!$D$9,0,1))","v":""},"",0,null,"","","","","","","","","","","","","","",null,null,"","","","","","","","","","","","",""]
[null,null,null,null,null,null,null,null,null,null,null,null,null,null,"","","","","","","","","","","","","","","","","","","","","","","","",null,{"$f":"IF(AA144=\"\",\"\",IF(AA144>Inputs!$D$9,0,1))","v":""},{"$f":"IF(AB144=\"\",\"\",IF(AB144>Inputs!$D$9,0,1))","v":""},{"$f":"IF(AC144=\"\",\"\",IF(AC144>Inputs!$D$9,0,1))","v":""},{"$f":"IF(AD144=\"\",\"\",IF(AD144>Inputs!$D$9,0,1))","v":""},{"$f":"IF(AE144=\"\",\"\",IF(AE144>Inputs!$D$9,0,1))","v":""},{"$f":"IF(AF144=\"\",\"\",IF(AF144>Inputs!$D$9,0,1))","v":""},{"$f":"IF(AG144=\"\",\"\",IF(AG144>Inputs!$D$9,0,1))","v":""},{"$f":"IF(AH144=\"\",\"\",IF(AH144>Inputs!$D$9,0,1))","v":""},{"$f":"IF(AI144=\"\",\"\",IF(AI144>Inputs!$D$9,0,1))","v":""},{"$f":"IF(AJ144=\"\",\"\",IF(AJ144>Inputs!$D$9,0,1))","v":""},{"$f":"IF(AK144=\"\",\"\",IF(AK144>Inputs!$D$9,0,1))","v":""},{"$f":"IF(AL144=\"\",\"\",IF(AL144>Inputs!$D$9,0,1))","v":""},"",0,null,"","","","","","","","","","","","","","",null,null,"","","","","","","","","","","","",""]
[null,null,null,null,null,null,null,null,null,null,null,null,null,null,"","","","","","","","","","","","","","","","","","","","","","","","",null,{"$f":"IF(AA145=\"\",\"\",IF(AA145>Inputs!$D$9,0,1))","v":""},{"$f":"IF(AB145=\"\",\"\",IF(AB145>Inputs!$D$9,0,1))","v":""},{"$f":"IF(AC145=\"\",\"\",IF(AC145>Inputs!$D$9,0,1))","v":""},{"$f":"IF(AD145=\"\",\"\",IF(AD145>Inputs!$D$9,0,1))","v":""},{"$f":"IF(AE145=\"\",\"\",IF(AE145>Inputs!$D$9,0,1))","v":""},{"$f":"IF(AF145=\"\",\"\",IF(AF145>Inputs!$D$9,0,1))","v":""},{"$f":"IF(AG145=\"\",\"\",IF(AG145>Inputs!$D$9,0,1))","v":""},{"$f":"IF(AH145=\"\",\"\",IF(AH145>Inputs!$D$9,0,1))","v":""},{"$f":"IF(AI145=\"\",\"\",IF(AI145>Inputs!$D$9,0,1))","v":""},{"$f":"IF(AJ145=\"\",\"\",IF(AJ145>Inputs!$D$9,0,1))","v":""},{"$f":"IF(AK145=\"\",\"\",IF(AK145>Inputs!$D$9,0,1))","v":""},{"$f":"IF(AL145=\"\",\"\",IF(AL145>Inputs!$D$9,0,1))","v":""},"",0,null,"","","","","","","","","","","","","","",null,null,"","","","","","","","","","","","",""]
[null,null,null,null,null,null,null,null,null,null,null,null,null,null,"","","","","","","","","","","","","","","","","","","","","","","","",null,{"$f":"IF(AA146=\"\",\"\",IF(AA146>Inputs!$D$9,0,1))","v":""},{"$f":"IF(AB146=\"\",\"\",IF(AB146>Inputs!$D$9,0,1))","v":""},{"$f":"IF(AC146=\"\",\"\",IF(AC146>Inputs!$D$9,0,1))","v":""},{"$f":"IF(AD146=\"\",\"\",IF(AD146>Inputs!$D$9,0,1))","v":""},{"$f":"IF(AE146=\"\",\"\",IF(AE146>Inputs!$D$9,0,1))","v":""},{"$f":"IF(AF146=\"\",\"\",IF(AF146>Inputs!$D$9,0,1))","v":""},{"$f":"IF(AG146=\"\",\"\",IF(AG146>Inputs!$D$9,0,1))","v":""},{"$f":"IF(AH146=\"\",\"\",IF(AH146>Inputs!$D$9,0,1))","v":""},{"$f":"IF(AI146=\"\",\"\",IF(AI146>Inputs!$D$9,0,1))","v":""},{"$f":"IF(AJ146=\"\",\"\",IF(AJ146>Inputs!$D$9,0,1))","v":""},{"$f":"IF(AK146=\"\",\"\",IF(AK146>Inputs!$D$9,0,1))","v":""},{"$f":"IF(AL146=\"\",\"\",IF(AL146>Inputs!$D$9,0,1))","v":""},"",0,null,"","","","","","","","","","","","","","",null,null,"","","","","","","","","","","","",""]
[null,null,null,null,null,null,null,null,null,null,null,null,null,null,"","","","","","","","","","","","","","","","","","","","","","","","",null,{"$f":"IF(AA147=\"\",\"\",IF(AA147>Inputs!$D$9,0,1))","v":""},{"$f":"IF(AB147=\"\",\"\",IF(AB147>Inputs!$D$9,0,1))","v":""},{"$f":"IF(AC147=\"\",\"\",IF(AC147>Inputs!$D$9,0,1))","v":""},{"$f":"IF(AD147=\"\",\"\",IF(AD147>Inputs!$D$9,0,1))","v":""},{"$f":"IF(AE147=\"\",\"\",IF(AE147>Inputs!$D$9,0,1))","v":""},{"$f":"IF(AF147=\"\",\"\",IF(AF147>Inputs!$D$9,0,1))","v":""},{"$f":"IF(AG147=\"\",\"\",IF(AG147>Inputs!$D$9,0,1))","v":""},{"$f":"IF(AH147=\"\",\"\",IF(AH147>Inputs!$D$9,0,1))","v":""},{"$f":"IF(AI147=\"\",\"\",IF(AI147>Inputs!$D$9,0,1))","v":""},{"$f":"IF(AJ147=\"\",\"\",IF(AJ147>Inputs!$D$9,0,1))","v":""},{"$f":"IF(AK147=\"\",\"\",IF(AK147>Inputs!$D$9,0,1))","v":""},{"$f":"IF(AL147=\"\",\"\",IF(AL147>Inputs!$D$9,0,1))","v":""},"",0,null,"","","","","","","","","","","","","","",null,null,"","","","","","","","","","","","",""]
[null,null,null,null,null,null,null,null,null,null,null,null,null,null,"","","","","","","","","","","","","","","","","","","","","","","","",null,{"$f":"IF(AA148=\"\",\"\",IF(AA148>Inputs!$D$9,0,1))","v":""},{"$f":"IF(AB148=\"\",\"\",IF(AB148>Inputs!$D$9,0,1))","v":""},{"$f":"IF(AC148=\"\",\"\",IF(AC148>Inputs!$D$9,0,1))","v":""},{"$f":"IF(AD148=\"\",\"\",IF(AD148>Inputs!$D$9,0,1))","v":""},{"$f":"IF(AE148=\"\",\"\",IF(AE148>Inputs!$D$9,0,1))","v":""},{"$f":"IF(AF148=\"\",\"\",IF(AF148>Inputs!$D$9,0,1))","v":""},{"$f":"IF(AG148=\"\",\"\",IF(AG148>Inputs!$D$9,0,1))","v":""},{"$f":"IF(AH148=\"\",\"\",IF(AH148>Inputs!$D$9,0,1))","v":""},{"$f":"IF(AI148=\"\",\"\",IF(AI148>Inputs!$D$9,0,1))","v":""},{"$f":"IF(AJ148=\"\",\"\",IF(AJ148>Inputs!$D$9,0,1))","v":""},{"$f":"IF(AK148=\"\",\"\",IF(AK148>Inputs!$D$9,0,1))","v":""},{"$f":"IF(AL148=\"\",\"\",IF(AL148>Inputs!$D$9,0,1))","v":""},"",0,null,"","","","","","","","","","","","","","",null,null,"","","","","","","","","","","","",{"$f":"IF(A148=\"\",\"\",SUM(BS148:CD148))","v":""}]
[null,null,null,null,null,null,null,null,null,null,null,null,null,null,"","","","","","","","","","","","","","","","","","","","","","","","",null,{"$f":"IF(AA149=\"\",\"\",IF(AA149>Inputs!$D$9,0,1))","v":""},{"$f":"IF(AB149=\"\",\"\",IF(AB149>Inputs!$D$9,0,1))","v":""},{"$f":"IF(AC149=\"\",\"\",IF(AC149>Inputs!$D$9,0,1))","v":""},{"$f":"IF(AD149=\"\",\"\",IF(AD149>Inputs!$D$9,0,1))","v":""},{"$f":"IF(AE149=\"\",\"\",IF(AE149>Inputs!$D$9,0,1))","v":""},{"$f":"IF(AF149=\"\",\"\",IF(AF149>Inputs!$D$9,0,1))","v":""},{"$f":"IF(AG149=\"\",\"\",IF(AG149>Inputs!$D$9,0,1))","v":""},{"$f":"IF(AH149=\"\",\"\",IF(AH149>Inputs!$D$9,0,1))","v":""},{"$f":"IF(AI149=\"\",\"\",IF(AI149>Inputs!$D$9,0,1))","v":""},{"$f":"IF(AJ149=\"\",\"\",IF(AJ149>Inputs!$D$9,0,1))","v":""},{"$f":"IF(AK149=\"\",\"\",IF(AK149>Inputs!$D$9,0,1))","v":""},{"$f":"IF(AL149=\"\",\"\",IF(AL149>Inputs!$D$9,0,1))","v":""},"",0,null,"","","","","","","","","","","","","","",null,null,"","","","","","","","","","","","",""]
[null,null,null,null,null,null,null,null,null,null,null,null,null,null,"","","","","","","","","","","","","","","","","","","","","","","","",null,{"$f":"IF(AA150=\"\",\"\",IF(AA150>Inputs!$D$9,0,1))","v":""},{"$f":"IF(AB150=\"\",\"\",IF(AB150>Inputs!$D$9,0,1))","v":""},{"$f":"IF(AC150=\"\",\"\",IF(AC150>Inputs!$D$9,0,1))","v":""},{"$f":"IF(AD150=\"\",\"\",IF(AD150>Inputs!$D$9,0,1))","v":""},{"$f":"IF(AE150=\"\",\"\",IF(AE150>Inputs!$D$9,0,1))","v":""},{"$f":"IF(AF150=\"\",\"\",IF(AF150>Inputs!$D$9,0,1))","v":""},{"$f":"IF(AG150=\"\",\"\",IF(AG150>Inputs!$D$9,0,1))","v":""},{"$f":"IF(AH150=\"\",\"\",IF(AH150>Inputs!$D$9,0,1))","v":""},{"$f":"IF(AI150=\"\",\"\",IF(AI150>Inputs!$D$9,0,1))","v":""},{"$f":"IF(AJ150=\"\",\"\",IF(AJ150>Inputs!$D$9,0,1))","v":""},{"$f":"IF(AK150=\"\",\"\",IF(AK150>Inputs!$D$9,0,1))","v":""},{"$f":"IF(AL150=\"\",\"\",IF(AL150>Inputs!$D$9,0,1))","v":""},"",0,null,"","","","","","","","","","","","","","",null,null,"","","","","","","","","","","","",""]
[null,null,null,null,null,null,null,null,null,null,null,null,null,null,"","","","","","","","","","","","","","","","","","","","","","","","",null,{"$f":"IF(AA151=\"\",\"\",IF(AA151>Inputs!$D$9,0,1))","v":""},{"$f":"IF(AB151=\"\",\"\",IF(AB151>Inputs!$D$9,0,1))","v":""},{"$f":"IF(AC151=\"\",\"\",IF(AC151>Inputs!$D$9,0,1))","v":""},{"$f":"IF(AD151=\"\",\"\",IF(AD151>Inputs!$D$9,0,1))","v":""},{"$f":"IF(AE151=\"\",\"\",IF(AE151>Inputs!$D$9,0,1))","v":""},{"$f":"IF(AF151=\"\",\"\",IF(AF151>Inputs!$D$9,0,1))","v":""},{"$f":"IF(AG151=\"\",\"\",IF(AG151>Inputs!$D$9,0,1))","v":""},{"$f":"IF(AH151=\"\",\"\",IF(AH151>Inputs!$D$9,0,1))","v":""},{"$f":"IF(AI151=\"\",\"\",IF(AI151>Inputs!$D$9,0,1))","v":""},{"$f":"IF(AJ151=\"\",\"\",IF(AJ151>Inputs!$D$9,0,1))","v":""},{"$f":"IF(AK151=\"\",\"\",IF(AK151>Inputs!$D$9,0,1))","v":""},{"$f":"IF(AL151=\"\",\"\",IF(AL151>Inputs!$D$9,0,1))","v":""},"",0,null,"","","","","","","","","","","","","","",null,null,"","","","","","","","","","","","",""]
[null,null,null,null,null,null,null,null,null,null,null,null,null,null,"","","","","","","","","","","","","","","","","","","","","","","","",null,{"$f":"IF(AA152=\"\",\"\",IF(AA152>Inputs!$D$9,0,1))","v":""},{"$f":"IF(AB152=\"\",\"\",IF(AB152>Inputs!$D$9,0,1))","v":""},{"$f":"IF(AC152=\"\",\"\",IF(AC152>Inputs!$D$9,0,1))","v":""},{"$f":"IF(AD152=\"\",\"\",IF(AD152>Inputs!$D$9,0,1))","v":""},{"$f":"IF(AE152=\"\",\"\",IF(AE152>Inputs!$D$9,0,1))","v":""},{"$f":"IF(AF152=\"\",\"\",IF(AF152>Inputs!$D$9,0,1))","v":""},{"$f":"IF(AG152=\"\",\"\",IF(AG152>Inputs!$D$9,0,1))","v":""},{"$f":"IF(AH152=\"\",\"\",IF(AH152>Inputs!$D$9,0,1))","v":""},{"$f":"IF(AI152=\"\",\"\",IF(AI152>Inputs!$D$9,0,1))","v":""},{"$f":"IF(AJ152=\"\",\"\",IF(AJ152>Inputs!$D$9,0,1))","v":""},{"$f":"IF(AK152=\"\",\"\",IF(AK152>Inputs!$D$9,0,1))","v":""},{"$f":"IF(AL152=\"\",\"\",IF(AL152>Inputs!$D$9,0,1))","v":""},"",0,null,"","","","","","","","","","","","","","",null,null,"","","","","","","","","","","","",""]
[null,null,null,null,null,null,null,null,null,null,null,null,null,null,"","","","","","","","","","","","","","","","","","","","","","","","",null,{"$f":"IF(AA153=\"\",\"\",IF(AA153>Inputs!$D$9,0,1))","v":""},{"$f":"IF(AB153=\"\",\"\",IF(AB153>Inputs!$D$9,0,1))","v":""},{"$f":"IF(AC153=\"\",\"\",IF(AC153>Inputs!$D$9,0,1))","v":""},{"$f":"IF(AD153=\"\",\"\",IF(AD153>Inputs!$D$9,0,1))","v":""},{"$f":"IF(AE153=\"\",\"\",IF(AE153>Inputs!$D$9,0,1))","v":""},{"$f":"IF(AF153=\"\",\"\",IF(AF153>Inputs!$D$9,0,1))","v":""},{"$f":"IF(AG153=\"\",\"\",IF(AG153>Inputs!$D$9,0,1))","v":""},{"$f":"IF(AH153=\"\",\"\",IF(AH153>Inputs!$D$9,0,1))","v":""},{"$f":"IF(AI153=\"\",\"\",IF(AI153>Inputs!$D$9,0,1))","v":""},{"$f":"IF(AJ153=\"\",\"\",IF(AJ153>Inputs!$D$9,0,1))","v":""},{"$f":"IF(AK153=\"\",\"\",IF(AK153>Inputs!$D$9,0,1))","v":""},{"$f":"IF(AL153=\"\",\"\",IF(AL153>Inputs!$D$9,0,1))","v":""},"",0,null,"","","","","","","","","","","","","","",null,null,"","","","","","","","","","","","",""]
[null,null,null,null,null,null,null,null,null,null,null,null,null,null,"","","","","","","","","","","","","","","","","","","","","","","","",null,{"$f":"IF(AA154=\"\",\"\",IF(AA154>Inputs!$D$9,0,1))","v":""},{"$f":"IF(AB154=\"\",\"\",IF(AB154>Inputs!$D$9,0,1))","v":""},{"$f":"IF(AC154=\"\",\"\",IF(AC154>Inputs!$D$9,0,1))","v":""},{"$f":"IF(AD154=\"\",\"\",IF(AD154>Inputs!$D$9,0,1))","v":""},{"$f":"IF(AE154=\"\",\"\",IF(AE154>Inputs!$D$9,0,1))","v":""},{"$f":"IF(AF154=\"\",\"\",IF(AF154>Inputs!$D$9,0,1))","v":""},{"$f":"IF(AG154=\"\",\"\",IF(AG154>Inputs!$D$9,0,1))","v":""},{"$f":"IF(AH154=\"\",\"\",IF(AH154>Inputs!$D$9,0,1))","v":""},{"$f":"IF(AI154=\"\",\"\",IF(AI154>Inputs!$D$9,0,1))","v":""},{"$f":"IF(AJ154=\"\",\"\",IF(AJ154>Inputs!$D$9,0,1))","v":""},{"$f":"IF(AK154=\"\",\"\",IF(AK154>Inputs!$D$9,0,1))","v":""},{"$f":"IF(AL154=\"\",\"\",IF(AL154>Inputs!$D$9,0,1))","v":""},"",0,null,"","","","","","","","","","","","","","",null,null,"","","","","","","","","","","","",""]
[null,null,null,null,null,null,null,null,null,null,null,null,null,null,"","","","","","","","","","","","","","","","","","","","","","","","",null,{"$f":"IF(AA155=\"\",\"\",IF(AA155>Inputs!$D$9,0,1))","v":""},{"$f":"IF(AB155=\"\",\"\",IF(AB155>Inputs!$D$9,0,1))","v":""},{"$f":"IF(AC155=\"\",\"\",IF(AC155>Inputs!$D$9,0,1))","v":""},{"$f":"IF(AD155=\"\",\"\",IF(AD155>Inputs!$D$9,0,1))","v":""},{"$f":"IF(AE155=\"\",\"\",IF(AE155>Inputs!$D$9,0,1))","v":""},{"$f":"IF(AF155=\"\",\"\",IF(AF155>Inputs!$D$9,0,1))","v":""},{"$f":"IF(AG155=\"\",\"\",IF(AG155>Inputs!$D$9,0,1))","v":""},{"$f":"IF(AH155=\"\",\"\",IF(AH155>Inputs!$D$9,0,1))","v":""},{"$f":"IF(AI155=\"\",\"\",IF(AI155>Inputs!$D$9,0,1))","v":""},{"$f":"IF(AJ155=\"\",\"\",IF(AJ155>Inputs!$D$9,0,1))","v":""},{"$f":"IF(AK155=\"\",\"\",IF(AK155>Inputs!$D$9,0,1))","v":""},{"$f":"IF(AL155=\"\",\"\",IF(AL155>Inputs!$D$9,0,1))","v":""},"",0,null,"","","","","","","","","","","","","","",null,null,"","","","","","","","","","","","",""]
[null,null,null,null,null,null,null,null,null,null,null,null,null,null,"","","","","","","","","","","","","","","","","","","","","","","","",null,{"$f":"IF(AA156=\"\",\"\",IF(AA156>Inputs!$D$9,0,1))","v":""},{"$f":"IF(AB156=\"\",\"\",IF(AB156>Inputs!$D$9,0,1))","v":""},{"$f":"IF(AC156=\"\",\"\",IF(AC156>Inputs!$D$9,0,1))","v":""},{"$f":"IF(AD156=\"\",\"\",IF(AD156>Inputs!$D$9,0,1))","v":""},{"$f":"IF(AE156=\"\",\"\",IF(AE156>Inputs!$D$9,0,1))","v":""},{"$f":"IF(AF156=\"\",\"\",IF(AF156>Inputs!$D$9,0,1))","v":""},{"$f":"IF(AG156=\"\",\"\",IF(AG156>Inputs!$D$9,0,1))","v":""},{"$f":"IF(AH156=\"\",\"\",IF(AH156>Inputs!$D$9,0,1))","v":""},{"$f":"IF(AI156=\"\",\"\",IF(AI156>Inputs!$D$9,0,1))","v":""},{"$f":"IF(AJ156=\"\",\"\",IF(AJ156>Inputs!$D$9,0,1))","v":""},{"$f":"IF(AK156=\"\",\"\",IF(AK156>Inputs!$D$9,0,1))","v":""},{"$f":"IF(AL156=\"\",\"\",IF(AL156>Inputs!$D$9,0,1))","v":""},"",0,null,"","","","","","","","","","","","","","",null,null,"","","","","","","","","","","","",""]
[null,null,null,null,null,null,null,null,null,null,null,null,null,null,"","","","","","","","","","","","","","","","","","","","","","","","",null,{"$f":"IF(AA157=\"\",\"\",IF(AA157>Inputs!$D$9,0,1))","v":""},{"$f":"IF(AB157=\"\",\"\",IF(AB157>Inputs!$D$9,0,1))","v":""},{"$f":"IF(AC157=\"\",\"\",IF(AC157>Inputs!$D$9,0,1))","v":""},{"$f":"IF(AD157=\"\",\"\",IF(AD157>Inputs!$D$9,0,1))","v":""},{"$f":"IF(AE157=\"\",\"\",IF(AE157>Inputs!$D$9,0,1))","v":""},{"$f":"IF(AF157=\"\",\"\",IF(AF157>Inputs!$D$9,0,1))","v":""},{"$f":"IF(AG157=\"\",\"\",IF(AG157>Inputs!$D$9,0,1))","v":""},{"$f":"IF(AH157=\"\",\"\",IF(AH157>Inputs!$D$9,0,1))","v":""},{"$f":"IF(AI157=\"\",\"\",IF(AI157>Inputs!$D$9,0,1))","v":""},{"$f":"IF(AJ157=\"\",\"\",IF(AJ157>Inputs!$D$9,0,1))","v":""},{"$f":"IF(AK157=\"\",\"\",IF(AK157>Inputs!$D$9,0,1))","v":""},{"$f":"IF(AL157=\"\",\"\",IF(AL157>Inputs!$D$9,0,1))","v":""},"",0,null,"","","","","","","","","","","","","","",null,null,"","","","","","","","","","","","",""]
[null,null,null,null,null,null,null,null,null,null,null,null,null,null,"","","","","","","","","","","","","","","","","","","","","","","","",null,{"$f":"IF(AA158=\"\",\"\",IF(AA158>Inputs!$D$9,0,1))","v":""},{"$f":"IF(AB158=\"\",\"\",IF(AB158>Inputs!$D$9,0,1))","v":""},{"$f":"IF(AC158=\"\",\"\",IF(AC158>Inputs!$D$9,0,1))","v":""},{"$f":"IF(AD158=\"\",\"\",IF(AD158>Inputs!$D$9,0,1))","v":""},{"$f":"IF(AE158=\"\",\"\",IF(AE158>Inputs!$D$9,0,1))","v":""},{"$f":"IF(AF158=\"\",\"\",IF(AF158>Inputs!$D$9,0,1))","v":""},{"$f":"IF(AG158=\"\",\"\",IF(AG158>Inputs!$D$9,0,1))","v":""},{"$f":"IF(AH158=\"\",\"\",IF(AH158>Inputs!$D$9,0,1))","v":""},{"$f":"IF(AI158=\"\",\"\",IF(AI158>Inputs!$D$9,0,1))","v":""},{"$f":"IF(AJ158=\"\",\"\",IF(AJ158>Inputs!$D$9,0,1))","v":""},{"$f":"IF(AK158=\"\",\"\",IF(AK158>Inputs!$D$9,0,1))","v":""},{"$f":"IF(AL158=\"\",\"\",IF(AL158>Inputs!$D$9,0,1))","v":""},"",0,null,"","","","","","","","","","","","","","",null,null,"","","","","","","","","","","","",""]
[null,null,null,null,null,null,null,null,null,null,null,null,null,null,"","","","","","","","","","","","","","","","","","","","","","","","",null,{"$f":"IF(AA159=\"\",\"\",IF(AA159>Inputs!$D$9,0,1))","v":""},{"$f":"IF(AB159=\"\",\"\",IF(AB159>Inputs!$D$9,0,1))","v":""},{"$f":"IF(AC159=\"\",\"\",IF(AC159>Inputs!$D$9,0,1))","v":""},{"$f":"IF(AD159=\"\",\"\",IF(AD159>Inputs!$D$9,0,1))","v":""},{"$f":"IF(AE159=\"\",\"\",IF(AE159>Inputs!$D$9,0,1))","v":""},{"$f":"IF(AF159=\"\",\"\",IF(AF159>Inputs!$D$9,0,1))","v":""},{"$f":"IF(AG159=\"\",\"\",IF(AG159>Inputs!$D$9,0,1))","v":""},{"$f":"IF(AH159=\"\",\"\",IF(AH159>Inputs!$D$9,0,1))","v":""},{"$f":"IF(AI159=\"\",\"\",IF(AI159>Inputs!$D$9,0,1))","v":""},{"$f":"IF(AJ159=\"\",\"\",IF(AJ159>Inputs!$D$9,0,1))","v":""},{"$f":"IF(AK159=\"\",\"\",IF(AK159>Inputs!$D$9,0,1))","v":""},{"$f":"IF(AL159=\"\",\"\",IF(AL159>Inputs!$D$9,0,1))","v":""},"",0,null,"","","","","","","","","","","","","","",null,null,"","","","","","","","","","","","",""]
[null,null,null,null,null,null,null,null,null,null,null,null,null,null,"","","","","","","","","","","","","","","","","","","","","","","","",null,{"$f":"IF(AA160=\"\",\"\",IF(AA160>Inputs!$D$9,0,1))","v":""},{"$f":"IF(AB160=\"\",\"\",IF(AB160>Inputs!$D$9,0,1))","v":""},{"$f":"IF(AC160=\"\",\"\",IF(AC160>Inputs!$D$9,0,1))","v":""},{"$f":"IF(AD160=\"\",\"\",IF(AD160>Inputs!$D$9,0,1))","v":""},{"$f":"IF(AE160=\"\",\"\",IF(AE160>Inputs!$D$9,0,1))","v":""},{"$f":"IF(AF160=\"\",\"\",IF(AF160>Inputs!$D$9,0,1))","v":""},{"$f":"IF(AG160=\"\",\"\",IF(AG160>Inputs!$D$9,0,1))","v":""},{"$f":"IF(AH160=\"\",\"\",IF(AH160>Inputs!$D$9,0,1))","v":""},{"$f":"IF(AI160=\"\",\"\",IF(AI160>Inputs!$D$9,0,1))","v":""},{"$f":"IF(AJ160=\"\",\"\",IF(AJ160>Inputs!$D$9,0,1))","v":""},{"$f":"IF(AK160=\"\",\"\",IF(AK160>Inputs!$D$9,0,1))","v":""},{"$f":"IF(AL160=\"\",\"\",IF(AL160>Inputs!$D$9,0,1))","v":""},"",0,null,"","","","","","","","","","","","","","",null,null,"","","","","","","","","","","","",""]
[null,null,null,null,null,null,null,null,null,null,null,null,null,null,"","","","","","","","","","","","","","","","","","","","","","","","",null,{"$f":"IF(AA161=\"\",\"\",IF(AA161>Inputs!$D$9,0,1))","v":""},{"$f":"IF(AB161=\"\",\"\",IF(AB161>Inputs!$D$9,0,1))","v":""},{"$f":"IF(AC161=\"\",\"\",IF(AC161>Inputs!$D$9,0,1))","v":""},{"$f":"IF(AD161=\"\",\"\",IF(AD161>Inputs!$D$9,0,1))","v":""},{"$f":"IF(AE161=\"\",\"\",IF(AE161>Inputs!$D$9,0,1))","v":""},{"$f":"IF(AF161=\"\",\"\",IF(AF161>Inputs!$D$9,0,1))","v":""},{"$f":"IF(AG161=\"\",\"\",IF(AG161>Inputs!$D$9,0,1))","v":""},{"$f":"IF(AH161=\"\",\"\",IF(AH161>Inputs!$D$9,0,1))","v":""},{"$f":"IF(AI161=\"\",\"\",IF(AI161>Inputs!$D$9,0,1))","v":""},{"$f":"IF(AJ161=\"\",\"\",IF(AJ161>Inputs!$D$9,0,1))","v":""},{"$f":"IF(AK161=\"\",\"\",IF(AK161>Inputs!$D$9,0,1))","v":""},{"$f":"IF(AL161=\"\",\"\",IF(AL161>Inputs!$D$9,0,1))","v":""},"",0,null,"","","","","","","","","","","","","","",null,null,"","","","","","","","","","","","",""]
[null,null,null,null,null,null,null,null,null,null,null,null,null,null,"","","","","","","","","","","","","","","","","","","","","","","","",null,{"$f":"IF(AA162=\"\",\"\",IF(AA162>Inputs!$D$9,0,1))","v":""},{"$f":"IF(AB162=\"\",\"\",IF(AB162>Inputs!$D$9,0,1))","v":""},{"$f":"IF(AC162=\"\",\"\",IF(AC162>Inputs!$D$9,0,1))","v":""},{"$f":"IF(AD162=\"\",\"\",IF(AD162>Inputs!$D$9,0,1))","v":""},{"$f":"IF(AE162=\"\",\"\",IF(AE162>Inputs!$D$9,0,1))","v":""},{"$f":"IF(AF162=\"\",\"\",IF(AF162>Inputs!$D$9,0,1))","v":""},{"$f":"IF(AG162=\"\",\"\",IF(AG162>Inputs!$D$9,0,1))","v":""},{"$f":"IF(AH162=\"\",\"\",IF(AH162>Inputs!$D$9,0,1))","v":""},{"$f":"IF(AI162=\"\",\"\",IF(AI162>Inputs!$D$9,0,1))","v":""},{"$f":"IF(AJ162=\"\",\"\",IF(AJ162>Inputs!$D$9,0,1))","v":""},{"$f":"IF(AK162=\"\",\"\",IF(AK162>Inputs!$D$9,0,1))","v":""},{"$f":"IF(AL162=\"\",\"\",IF(AL162>Inputs!$D$9,0,1))","v":""},"",0,null,"","","","","","","","","","","","","","",null,null,"","","","","","","","","","","","",""]
[null,null,null,null,null,null,null,null,null,null,null,null,null,null,"","","","","","","","","","","","",{"$f":"IF($A163=\"\",\"\",IF(ISERROR(RANK(O163,$O$2:$O$1000,0)),\"\",RANK(O163,$O$2:$O$1000,0)))","v":""},{"$f":"IF($A163=\"\",\"\",IF(ISERROR(RANK(P163,$P$2:$P$1000,0)),\"\",RANK(P163,$P$2:$P$1000,0)))","v":""},{"$f":"IF($A163=\"\",\"\",IF(ISERROR(RANK(Q163,$Q$2:$Q$1000,0)),\"\",RANK(Q163,$Q$2:$Q$1000,0)))","v":""},{"$f":"IF($A163=\"\",\"\",IF(ISERROR(RANK(R163,$R$2:$R$1000,0)),\"\",RANK(R163,$R$2:$R$1000,0)))","v":""},{"$f":"IF($A163=\"\",\"\",IF(ISERROR(RANK(S163,$S$2:$S$1000,0)),\"\",RANK(S163,$S$2:$S$1000,0)))","v":""},{"$f":"IF($A163=\"\",\"\",IF(ISERROR(RANK(T163,$T$2:$T$1000,0)),\"\",RANK(T163,$T$2:$T$1000,0)))","v":""},{"$f":"IF($A163=\"\",\"\",IF(ISERROR(RANK(U163,$U$2:$U$1000,0)),\"\",RANK(U163,$U$2:$U$1000,0)))","v":""},{"$f":"IF($A163=\"\",\"\",IF(ISERROR(RANK(V163,$V$2:$V$1000,0)),\"\",RANK(V163,$V$2:$V$1000,0)))","v":""},{"$f":"IF($A163=\"\",\"\",IF(ISERROR(RANK(W163,$W$2:$W$1000,0)),\"\",RANK(W163,$W$2:$W$1000,0)))","v":""},{"$f":"IF($A163=\"\",\"\",IF(ISERROR(RANK(X163,$X$2:$X$1000,0)),\"\",RANK(X163,$X$2:$X$1000,0)))","v":""},{"$f":"IF($A163=\"\",\"\",IF(ISERROR(RANK(Y163,$Y$2:$Y$1000,0)),\"\",RANK(Y163,$Y$2:$Y$1000,0)))","v":""},{"$f":"IF($A163=\"\",\"\",IF(ISERROR(RANK(Z163,$Z$2:$Z$1000,0)),\"\",RANK(Z163,$Z$2:$Z$1000,0)))","v":""},null,{"$f":"IF(AA163=\"\",\"\",IF(AA163>Inputs!$D$9,0,1))","v":""},{"$f":"IF(AB163=\"\",\"\",IF(AB163>Inputs!$D$9,0,1))","v":""},{"$f":"IF(AC163=\"\",\"\",IF(AC163>Inputs!$D$9,0,1))","v":""},{"$f":"IF(AD163=\"\",\"\",IF(AD163>Inputs!$D$9,0,1))","v":""},{"$f":"IF(AE163=\"\",\"\",IF(AE163>Inputs!$D$9,0,1))","v":""},{"$f":"IF(AF163=\"\",\"\",IF(AF163>Inputs!$D$9,0,1))","v":""},{"$f":"IF(AG163=\"\",\"\",IF(AG163>Inputs!$D$9,0,1))","v":""},{"$f":"IF(AH163=\"\",\"\",IF(AH163>Inputs!$D$9,0,1))","v":""},{"$f":"IF(AI163=\"\",\"\",IF(AI163>Inputs!$D$9,0,1))","v":""},{"$f":"IF(AJ163=\"\",\"\",IF(AJ163>Inputs!$D$9,0,1))","v":""},{"$f":"IF(AK163=\"\",\"\",IF(AK163>Inputs!$D$9,0,1))","v":""},{"$f":"IF(AL163=\"\",\"\",IF(AL163>Inputs!$D$9,0,1))","v":""},"",0,null,"","","","","","","","","","","","","","",null,null,"","","","","","","","","","","","",""]
[null,null,null,null,null,null,null,null,null,null,null,null,null,null,"","","","","","","","","","","","","","","","","","","","","","","","",null,{"$f":"IF(AA164=\"\",\"\",IF(AA164>Inputs!$D$9,0,1))","v":""},{"$f":"IF(AB164=\"\",\"\",IF(AB164>Inputs!$D$9,0,1))","v":""},{"$f":"IF(AC164=\"\",\"\",IF(AC164>Inputs!$D$9,0,1))","v":""},{"$f":"IF(AD164=\"\",\"\",IF(AD164>Inputs!$D$9,0,1))","v":""},{"$f":"IF(AE164=\"\",\"\",IF(AE164>Inputs!$D$9,0,1))","v":""},{"$f":"IF(AF164=\"\",\"\",IF(AF164>Inputs!$D$9,0,1))","v":""},{"$f":"IF(AG164=\"\",\"\",IF(AG164>Inputs!$D$9,0,1))","v":""},{"$f":"IF(AH164=\"\",\"\",IF(AH164>Inputs!$D$9,0,1))","v":""},{"$f":"IF(AI164=\"\",\"\",IF(AI164>Inputs!$D$9,0,1))","v":""},{"$f":"IF(AJ164=\"\",\"\",IF(AJ164>Inputs!$D$9,0,1))","v":""},{"$f":"IF(AK164=\"\",\"\",IF(AK164>Inputs!$D$9,0,1))","v":""},{"$f":"IF(AL164=\"\",\"\",IF(AL164>Inputs!$D$9,0,1))","v":""},"",0,null,"","","","","","","","","","","","","","",null,null,"","","","","","","","","","","","",""]
[null,null,null,null,null,null,null,null,null,null,null,null,null,null,"","","","","","","","","","","","","","","","","","","","","","","","",null,{"$f":"IF(AA165=\"\",\"\",IF(AA165>Inputs!$D$9,0,1))","v":""},{"$f":"IF(AB165=\"\",\"\",IF(AB165>Inputs!$D$9,0,1))","v":""},{"$f":"IF(AC165=\"\",\"\",IF(AC165>Inputs!$D$9,0,1))","v":""},{"$f":"IF(AD165=\"\",\"\",IF(AD165>Inputs!$D$9,0,1))","v":""},{"$f":"IF(AE165=\"\",\"\",IF(AE165>Inputs!$D$9,0,1))","v":""},{"$f":"IF(AF165=\"\",\"\",IF(AF165>Inputs!$D$9,0,1))","v":""},{"$f":"IF(AG165=\"\",\"\",IF(AG165>Inputs!$D$9,0,1))","v":""},{"$f":"IF(AH165=\"\",\"\",IF(AH165>Inputs!$D$9,0,1))","v":""},{"$f":"IF(AI165=\"\",\"\",IF(AI165>Inputs!$D$9,0,1))","v":""},{"$f":"IF(AJ165=\"\",\"\",IF(AJ165>Inputs!$D$9,0,1))","v":""},{"$f":"IF(AK165=\"\",\"\",IF(AK165>Inputs!$D$9,0,1))","v":""},{"$f":"IF(AL165=\"\",\"\",IF(AL165>Inputs!$D$9,0,1))","v":""},"",0,null,"","","","","","","","","","","","","","",null,null,"","","","","","","","","","","","",""]
[null,null,null,null,null,null,null,null,null,null,null,null,null,null,"","","","","","","","","","","","","","","","","","","","","","","","",null,{"$f":"IF(AA166=\"\",\"\",IF(AA166>Inputs!$D$9,0,1))","v":""},{"$f":"IF(AB166=\"\",\"\",IF(AB166>Inputs!$D$9,0,1))","v":""},{"$f":"IF(AC166=\"\",\"\",IF(AC166>Inputs!$D$9,0,1))","v":""},{"$f":"IF(AD166=\"\",\"\",IF(AD166>Inputs!$D$9,0,1))","v":""},{"$f":"IF(AE166=\"\",\"\",IF(AE166>Inputs!$D$9,0,1))","v":""},{"$f":"IF(AF166=\"\",\"\",IF(AF166>Inputs!$D$9,0,1))","v":""},{"$f":"IF(AG166=\"\",\"\",IF(AG166>Inputs!$D$9,0,1))","v":""},{"$f":"IF(AH166=\"\",\"\",IF(AH166>Inputs!$D$9,0,1))","v":""},{"$f":"IF(AI166=\"\",\"\",IF(AI166>Inputs!$D$9,0,1))","v":""},{"$f":"IF(AJ166=\"\",\"\",IF(AJ166>Inputs!$D$9,0,1))","v":""},{"$f":"IF(AK166=\"\",\"\",IF(AK166>Inputs!$D$9,0,1))","v":""},{"$f":"IF(AL166=\"\",\"\",IF(AL166>Inputs!$D$9,0,1))","v":""},"",0,null,"","","","","","","","","","","","","","",null,null,"","","","","","","","","","","","",""]
[null,null,null,null,null,null,null,null,null,null,null,null,null,null,"","","","","","","","","","","","","","","","","","","","","","","","",null,{"$f":"IF(AA167=\"\",\"\",IF(AA167>Inputs!$D$9,0,1))","v":""},{"$f":"IF(AB167=\"\",\"\",IF(AB167>Inputs!$D$9,0,1))","v":""},{"$f":"IF(AC167=\"\",\"\",IF(AC167>Inputs!$D$9,0,1))","v":""},{"$f":"IF(AD167=\"\",\"\",IF(AD167>Inputs!$D$9,0,1))","v":""},{"$f":"IF(AE167=\"\",\"\",IF(AE167>Inputs!$D$9,0,1))","v":""},{"$f":"IF(AF167=\"\",\"\",IF(AF167>Inputs!$D$9,0,1))","v":""},{"$f":"IF(AG167=\"\",\"\",IF(AG167>Inputs!$D$9,0,1))","v":""},{"$f":"IF(AH167=\"\",\"\",IF(AH167>Inputs!$D$9,0,1))","v":""},{"$f":"IF(AI167=\"\",\"\",IF(AI167>Inputs!$D$9,0,1))","v":""},{"$f":"IF(AJ167=\"\",\"\",IF(AJ167>Inputs!$D$9,0,1))","v":""},{"$f":"IF(AK167=\"\",\"\",IF(AK167>Inputs!$D$9,0,1))","v":""},{"$f":"IF(AL167=\"\",\"\",IF(AL167>Inputs!$D$9,0,1))","v":""},"",0,null,"","","","","","","","","","","","","","",null,null,"","","","","","","","","","","","",""]
[null,null,null,null,null,null,null,null,null,null,null,null,null,null,"","","","","","","","","","","","","","","","","","","","","","","","",null,{"$f":"IF(AA168=\"\",\"\",IF(AA168>Inputs!$D$9,0,1))","v":""},{"$f":"IF(AB168=\"\",\"\",IF(AB168>Inputs!$D$9,0,1))","v":""},{"$f":"IF(AC168=\"\",\"\",IF(AC168>Inputs!$D$9,0,1))","v":""},{"$f":"IF(AD168=\"\",\"\",IF(AD168>Inputs!$D$9,0,1))","v":""},{"$f":"IF(AE168=\"\",\"\",IF(AE168>Inputs!$D$9,0,1))","v":""},{"$f":"IF(AF168=\"\",\"\",IF(AF168>Inputs!$D$9,0,1))","v":""},{"$f":"IF(AG168=\"\",\"\",IF(AG168>Inputs!$D$9,0,1))","v":""},{"$f":"IF(AH168=\"\",\"\",IF(AH168>Inputs!$D$9,0,1))","v":""},{"$f":"IF(AI168=\"\",\"\",IF(AI168>Inputs!$D$9,0,1))","v":""},{"$f":"IF(AJ168=\"\",\"\",IF(AJ168>Inputs!$D$9,0,1))","v":""},{"$f":"IF(AK168=\"\",\"\",IF(AK168>Inputs!$D$9,0,1))","v":""},{"$f":"IF(AL168=\"\",\"\",IF(AL168>Inputs!$D$9,0,1))","v":""},"",0,null,"","","","","","","","","","","","","","",null,null,"","","","","","","","","","","","",""]
[null,null,null,null,null,null,null,null,null,null,null,null,null,null,"","","","","","","","","","","","","","","","","","","","","","","","",null,{"$f":"IF(AA169=\"\",\"\",IF(AA169>Inputs!$D$9,0,1))","v":""},{"$f":"IF(AB169=\"\",\"\",IF(AB169>Inputs!$D$9,0,1))","v":""},{"$f":"IF(AC169=\"\",\"\",IF(AC169>Inputs!$D$9,0,1))","v":""},{"$f":"IF(AD169=\"\",\"\",IF(AD169>Inputs!$D$9,0,1))","v":""},{"$f":"IF(AE169=\"\",\"\",IF(AE169>Inputs!$D$9,0,1))","v":""},{"$f":"IF(AF169=\"\",\"\",IF(AF169>Inputs!$D$9,0,1))","v":""},{"$f":"IF(AG169=\"\",\"\",IF(AG169>Inputs!$D$9,0,1))","v":""},{"$f":"IF(AH169=\"\",\"\",IF(AH169>Inputs!$D$9,0,1))","v":""},{"$f":"IF(AI169=\"\",\"\",IF(AI169>Inputs!$D$9,0,1))","v":""},{"$f":"IF(AJ169=\"\",\"\",IF(AJ169>Inputs!$D$9,0,1))","v":""},{"$f":"IF(AK169=\"\",\"\",IF(AK169>Inputs!$D$9,0,1))","v":""},{"$f":"IF(AL169=\"\",\"\",IF(AL169>Inputs!$D$9,0,1))","v":""},"",0,null,"","","","","","","","","","","","","","",null,null,"","","","","","","","","","","","",""]
[null,null,null,null,null,null,null,null,null,null,null,null,null,null,"","","","","","","","","","","","","","","","","","","","","","","","",null,{"$f":"IF(AA170=\"\",\"\",IF(AA170>Inputs!$D$9,0,1))","v":""},{"$f":"IF(AB170=\"\",\"\",IF(AB170>Inputs!$D$9,0,1))","v":""},{"$f":"IF(AC170=\"\",\"\",IF(AC170>Inputs!$D$9,0,1))","v":""},{"$f":"IF(AD170=\"\",\"\",IF(AD170>Inputs!$D$9,0,1))","v":""},{"$f":"IF(AE170=\"\",\"\",IF(AE170>Inputs!$D$9,0,1))","v":""},{"$f":"IF(AF170=\"\",\"\",IF(AF170>Inputs!$D$9,0,1))","v":""},{"$f":"IF(AG170=\"\",\"\",IF(AG170>Inputs!$D$9,0,1))","v":""},{"$f":"IF(AH170=\"\",\"\",IF(AH170>Inputs!$D$9,0,1))","v":""},{"$f":"IF(AI170=\"\",\"\",IF(AI170>Inputs!$D$9,0,1))","v":""},{"$f":"IF(AJ170=\"\",\"\",IF(AJ170>Inputs!$D$9,0,1))","v":""},{"$f":"IF(AK170=\"\",\"\",IF(AK170>Inputs!$D$9,0,1))","v":""},{"$f":"IF(AL170=\"\",\"\",IF(AL170>Inputs!$D$9,0,1))","v":""},"",0,null,"","","","","","","","","","","","","","",null,null,"","","","","","","","","","","","",""]
[null,null,null,null,null,null,null,null,null,null,null,null,null,null,"","","","","","","","","","","","","","","","","","","","","","","","",null,{"$f":"IF(AA171=\"\",\"\",IF(AA171>Inputs!$D$9,0,1))","v":""},{"$f":"IF(AB171=\"\",\"\",IF(AB171>Inputs!$D$9,0,1))","v":""},{"$f":"IF(AC171=\"\",\"\",IF(AC171>Inputs!$D$9,0,1))","v":""},{"$f":"IF(AD171=\"\",\"\",IF(AD171>Inputs!$D$9,0,1))","v":""},{"$f":"IF(AE171=\"\",\"\",IF(AE171>Inputs!$D$9,0,1))","v":""},{"$f":"IF(AF171=\"\",\"\",IF(AF171>Inputs!$D$9,0,1))","v":""},{"$f":"IF(AG171=\"\",\"\",IF(AG171>Inputs!$D$9,0,1))","v":""},{"$f":"IF(AH171=\"\",\"\",IF(AH171>Inputs!$D$9,0,1))","v":""},{"$f":"IF(AI171=\"\",\"\",IF(AI171>Inputs!$D$9,0,1))","v":""},{"$f":"IF(AJ171=\"\",\"\",IF(AJ171>Inputs!$D$9,0,1))","v":""},{"$f":"IF(AK171=\"\",\"\",IF(AK171>Inputs!$D$9,0,1))","v":""},{"$f":"IF(AL171=\"\",\"\",IF(AL171>Inputs!$D$9,0,1))","v":""},"",0,null,"","","","","","","","","","","","","","",null,null,"","","","","","","","","","","","",""]
[null,null,null,null,null,null,null,null,null,null,null,null,null,null,"","","","","","","","","","","","","","","","","","","","","","","","",null,{"$f":"IF(AA172=\"\",\"\",IF(AA172>Inputs!$D$9,0,1))","v":""},{"$f":"IF(AB172=\"\",\"\",IF(AB172>Inputs!$D$9,0,1))","v":""},{"$f":"IF(AC172=\"\",\"\",IF(AC172>Inputs!$D$9,0,1))","v":""},{"$f":"IF(AD172=\"\",\"\",IF(AD172>Inputs!$D$9,0,1))","v":""},{"$f":"IF(AE172=\"\",\"\",IF(AE172>Inputs!$D$9,0,1))","v":""},{"$f":"IF(AF172=\"\",\"\",IF(AF172>Inputs!$D$9,0,1))","v":""},{"$f":"IF(AG172=\"\",\"\",IF(AG172>Inputs!$D$9,0,1))","v":""},{"$f":"IF(AH172=\"\",\"\",IF(AH172>Inputs!$D$9,0,1))","v":""},{"$f":"IF(AI172=\"\",\"\",IF(AI172>Inputs!$D$9,0,1))","v":""},{"$f":"IF(AJ172=\"\",\"\",IF(AJ172>Inputs!$D$9,0,1))","v":""},{"$f":"IF(AK172=\"\",\"\",IF(AK172>Inputs!$D$9,0,1))","v":""},{"$f":"IF(AL172=\"\",\"\",IF(AL172>Inputs!$D$9,0,1))","v":""},"",0,null,"","","","","","","","","","","","","","",null,null,"","","","","","","","","","","","",""]
[null,null,null,null,null,null,null,null,null,null,null,null,null,null,"","","","","","","","","","","","","","","","","","","","","","","","",null,{"$f":"IF(AA173=\"\",\"\",IF(AA173>Inputs!$D$9,0,1))","v":""},{"$f":"IF(AB173=\"\",\"\",IF(AB173>Inputs!$D$9,0,1))","v":""},{"$f":"IF(AC173=\"\",\"\",IF(AC173>Inputs!$D$9,0,1))","v":""},{"$f":"IF(AD173=\"\",\"\",IF(AD173>Inputs!$D$9,0,1))","v":""},{"$f":"IF(AE173=\"\",\"\",IF(AE173>Inputs!$D$9,0,1))","v":""},{"$f":"IF(AF173=\"\",\"\",IF(AF173>Inputs!$D$9,0,1))","v":""},{"$f":"IF(AG173=\"\",\"\",IF(AG173>Inputs!$D$9,0,1))","v":""},{"$f":"IF(AH173=\"\",\"\",IF(AH173>Inputs!$D$9,0,1))","v":""},{"$f":"IF(AI173=\"\",\"\",IF(AI173>Inputs!$D$9,0,1))","v":""},{"$f":"IF(AJ173=\"\",\"\",IF(AJ173>Inputs!$D$9,0,1))","v":""},{"$f":"IF(AK173=\"\",\"\",IF(AK173>Inputs!$D$9,0,1))","v":""},{"$f":"IF(AL173=\"\",\"\",IF(AL173>Inputs!$D$9,0,1))","v":""},"",0,null,"","","","","","","","","","","","","","",null,null,"","","","","","","","","","","","",""]
[null,null,null,null,null,null,null,null,null,null,null,null,null,null,"","","","","","","","","","","","","","","","","","","","","","","","",null,{"$f":"IF(AA174=\"\",\"\",IF(AA174>Inputs!$D$9,0,1))","v":""},{"$f":"IF(AB174=\"\",\"\",IF(AB174>Inputs!$D$9,0,1))","v":""},{"$f":"IF(AC174=\"\",\"\",IF(AC174>Inputs!$D$9,0,1))","v":""},{"$f":"IF(AD174=\"\",\"\",IF(AD174>Inputs!$D$9,0,1))","v":""},{"$f":"IF(AE174=\"\",\"\",IF(AE174>Inputs!$D$9,0,1))","v":""},{"$f":"IF(AF174=\"\",\"\",IF(AF174>Inputs!$D$9,0,1))","v":""},{"$f":"IF(AG174=\"\",\"\",IF(AG174>Inputs!$D$9,0,1))","v":""},{"$f":"IF(AH174=\"\",\"\",IF(AH174>Inputs!$D$9,0,1))","v":""},{"$f":"IF(AI174=\"\",\"\",IF(AI174>Inputs!$D$9,0,1))","v":""},{"$f":"IF(AJ174=\"\",\"\",IF(AJ174>Inputs!$D$9,0,1))","v":""},{"$f":"IF(AK174=\"\",\"\",IF(AK174>Inputs!$D$9,0,1))","v":""},{"$f":"IF(AL174=\"\",\"\",IF(AL174>Inputs!$D$9,0,1))","v":""},"",0,null,"","","","","","","","","","","","","","",null,null,"","","","","","","","","","","","",""]
[null,null,null,null,null,null,null,null,null,null,null,null,null,null,"","","","","","","","","","","","","","","","","","","","","","","","",null,{"$f":"IF(AA175=\"\",\"\",IF(AA175>Inputs!$D$9,0,1))","v":""},{"$f":"IF(AB175=\"\",\"\",IF(AB175>Inputs!$D$9,0,1))","v":""},{"$f":"IF(AC175=\"\",\"\",IF(AC175>Inputs!$D$9,0,1))","v":""},{"$f":"IF(AD175=\"\",\"\",IF(AD175>Inputs!$D$9,0,1))","v":""},{"$f":"IF(AE175=\"\",\"\",IF(AE175>Inputs!$D$9,0,1))","v":""},{"$f":"IF(AF175=\"\",\"\",IF(AF175>Inputs!$D$9,0,1))","v":""},{"$f":"IF(AG175=\"\",\"\",IF(AG175>Inputs!$D$9,0,1))","v":""},{"$f":"IF(AH175=\"\",\"\",IF(AH175>Inputs!$D$9,0,1))","v":""},{"$f":"IF(AI175=\"\",\"\",IF(AI175>Inputs!$D$9,0,1))","v":""},{"$f":"IF(AJ175=\"\",\"\",IF(AJ175>Inputs!$D$9,0,1))","v":""},{"$f":"IF(AK175=\"\",\"\",IF(AK175>Inputs!$D$9,0,1))","v":""},{"$f":"IF(AL175=\"\",\"\",IF(AL175>Inputs!$D$9,0,1))","v":""},"",0,null,"","","","","","","","","","","","","","",null,null,"","","","","","","","","","","","",""]
[null,null,null,null,null,null,null,null,null,null,null,null,null,null,"","","","","","","","","","","","","","","","","","","","","","","","",null,{"$f":"IF(AA176=\"\",\"\",IF(AA176>Inputs!$D$9,0,1))","v":""},{"$f":"IF(AB176=\"\",\"\",IF(AB176>Inputs!$D$9,0,1))","v":""},{"$f":"IF(AC176=\"\",\"\",IF(AC176>Inputs!$D$9,0,1))","v":""},{"$f":"IF(AD176=\"\",\"\",IF(AD176>Inputs!$D$9,0,1))","v":""},{"$f":"IF(AE176=\"\",\"\",IF(AE176>Inputs!$D$9,0,1))","v":""},{"$f":"IF(AF176=\"\",\"\",IF(AF176>Inputs!$D$9,0,1))","v":""},{"$f":"IF(AG176=\"\",\"\",IF(AG176>Inputs!$D$9,0,1))","v":""},{"$f":"IF(AH176=\"\",\"\",IF(AH176>Inputs!$D$9,0,1))","v":""},{"$f":"IF(AI176=\"\",\"\",IF(AI176>Inputs!$D$9,0,1))","v":""},{"$f":"IF(AJ176=\"\",\"\",IF(AJ176>Inputs!$D$9,0,1))","v":""},{"$f":"IF(AK176=\"\",\"\",IF(AK176>Inputs!$D$9,0,1))","v":""},{"$f":"IF(AL176=\"\",\"\",IF(AL176>Inputs!$D$9,0,1))","v":""},"",0,null,"","","","","","","","","","","","","","",null,null,"","","","","","","","","","","","",""]
[null,null,null,null,null,null,null,null,null,null,null,null,null,null,"","","","","","","","","","","","","","","","","","","","","","","","",null,{"$f":"IF(AA177=\"\",\"\",IF(AA177>Inputs!$D$9,0,1))","v":""},{"$f":"IF(AB177=\"\",\"\",IF(AB177>Inputs!$D$9,0,1))","v":""},{"$f":"IF(AC177=\"\",\"\",IF(AC177>Inputs!$D$9,0,1))","v":""},{"$f":"IF(AD177=\"\",\"\",IF(AD177>Inputs!$D$9,0,1))","v":""},{"$f":"IF(AE177=\"\",\"\",IF(AE177>Inputs!$D$9,0,1))","v":""},{"$f":"IF(AF177=\"\",\"\",IF(AF177>Inputs!$D$9,0,1))","v":""},{"$f":"IF(AG177=\"\",\"\",IF(AG177>Inputs!$D$9,0,1))","v":""},{"$f":"IF(AH177=\"\",\"\",IF(AH177>Inputs!$D$9,0,1))","v":""},{"$f":"IF(AI177=\"\",\"\",IF(AI177>Inputs!$D$9,0,1))","v":""},{"$f":"IF(AJ177=\"\",\"\",IF(AJ177>Inputs!$D$9,0,1))","v":""},{"$f":"IF(AK177=\"\",\"\",IF(AK177>Inputs!$D$9,0,1))","v":""},{"$f":"IF(AL177=\"\",\"\",IF(AL177>Inputs!$D$9,0,1))","v":""},"",0,null,"","","","","","","","","","","","","","",null,null,"","","","","","","","","","","","",""]
[null,null,null,null,null,null,null,null,null,null,null,null,null,null,"","","","","","","","","","","","","","","","","","","","","","","","",null,{"$f":"IF(AA178=\"\",\"\",IF(AA178>Inputs!$D$9,0,1))","v":""},{"$f":"IF(AB178=\"\",\"\",IF(AB178>Inputs!$D$9,0,1))","v":""},{"$f":"IF(AC178=\"\",\"\",IF(AC178>Inputs!$D$9,0,1))","v":""},{"$f":"IF(AD178=\"\",\"\",IF(AD178>Inputs!$D$9,0,1))","v":""},{"$f":"IF(AE178=\"\",\"\",IF(AE178>Inputs!$D$9,0,1))","v":""},{"$f":"IF(AF178=\"\",\"\",IF(AF178>Inputs!$D$9,0,1))","v":""},{"$f":"IF(AG178=\"\",\"\",IF(AG178>Inputs!$D$9,0,1))","v":""},{"$f":"IF(AH178=\"\",\"\",IF(AH178>Inputs!$D$9,0,1))","v":""},{"$f":"IF(AI178=\"\",\"\",IF(AI178>Inputs!$D$9,0,1))","v":""},{"$f":"IF(AJ178=\"\",\"\",IF(AJ178>Inputs!$D$9,0,1))","v":""},{"$f":"IF(AK178=\"\",\"\",IF(AK178>Inputs!$D$9,0,1))","v":""},{"$f":"IF(AL178=\"\",\"\",IF(AL178>Inputs!$D$9,0,1))","v":""},"",0,null,"","","","","","","","","","","","","","",null,null,"","","","","","","","","","","","",""]
[null,null,null,null,null,null,null,null,null,null,null,null,null,null,"","","","","","","","","","","","","","","","","","","","","","","","",null,{"$f":"IF(AA179=\"\",\"\",IF(AA179>Inputs!$D$9,0,1))","v":""},{"$f":"IF(AB179=\"\",\"\",IF(AB179>Inputs!$D$9,0,1))","v":""},{"$f":"IF(AC179=\"\",\"\",IF(AC179>Inputs!$D$9,0,1))","v":""},{"$f":"IF(AD179=\"\",\"\",IF(AD179>Inputs!$D$9,0,1))","v":""},{"$f":"IF(AE179=\"\",\"\",IF(AE179>Inputs!$D$9,0,1))","v":""},{"$f":"IF(AF179=\"\",\"\",IF(AF179>Inputs!$D$9,0,1))","v":""},{"$f":"IF(AG179=\"\",\"\",IF(AG179>Inputs!$D$9,0,1))","v":""},{"$f":"IF(AH179=\"\",\"\",IF(AH179>Inputs!$D$9,0,1))","v":""},{"$f":"IF(AI179=\"\",\"\",IF(AI179>Inputs!$D$9,0,1))","v":""},{"$f":"IF(AJ179=\"\",\"\",IF(AJ179>Inputs!$D$9,0,1))","v":""},{"$f":"IF(AK179=\"\",\"\",IF(AK179>Inputs!$D$9,0,1))","v":""},{"$f":"IF(AL179=\"\",\"\",IF(AL179>Inputs!$D$9,0,1))","v":""},"",0,null,"","","","","","","","","","","","","","",null,null,"","","","","","","","","","","","",""]
[null,null,null,null,null,null,null,null,null,null,null,null,null,null,"","","","","","","","","","","","","","","","","","","","","","","","",null,{"$f":"IF(AA180=\"\",\"\",IF(AA180>Inputs!$D$9,0,1))","v":""},{"$f":"IF(AB180=\"\",\"\",IF(AB180>Inputs!$D$9,0,1))","v":""},{"$f":"IF(AC180=\"\",\"\",IF(AC180>Inputs!$D$9,0,1))","v":""},{"$f":"IF(AD180=\"\",\"\",IF(AD180>Inputs!$D$9,0,1))","v":""},{"$f":"IF(AE180=\"\",\"\",IF(AE180>Inputs!$D$9,0,1))","v":""},{"$f":"IF(AF180=\"\",\"\",IF(AF180>Inputs!$D$9,0,1))","v":""},{"$f":"IF(AG180=\"\",\"\",IF(AG180>Inputs!$D$9,0,1))","v":""},{"$f":"IF(AH180=\"\",\"\",IF(AH180>Inputs!$D$9,0,1))","v":""},{"$f":"IF(AI180=\"\",\"\",IF(AI180>Inputs!$D$9,0,1))","v":""},{"$f":"IF(AJ180=\"\",\"\",IF(AJ180>Inputs!$D$9,0,1))","v":""},{"$f":"IF(AK180=\"\",\"\",IF(AK180>Inputs!$D$9,0,1))","v":""},{"$f":"IF(AL180=\"\",\"\",IF(AL180>Inputs!$D$9,0,1))","v":""},"",0,null,"","","","","","","","","","","","","","",null,null,"","","","","","","","","","","","",""]
[null,null,null,null,null,null,null,null,null,null,null,null,null,null,"","","","","","","","","","","","","","","","","","","","","","","","",null,{"$f":"IF(AA181=\"\",\"\",IF(AA181>Inputs!$D$9,0,1))","v":""},{"$f":"IF(AB181=\"\",\"\",IF(AB181>Inputs!$D$9,0,1))","v":""},{"$f":"IF(AC181=\"\",\"\",IF(AC181>Inputs!$D$9,0,1))","v":""},{"$f":"IF(AD181=\"\",\"\",IF(AD181>Inputs!$D$9,0,1))","v":""},{"$f":"IF(AE181=\"\",\"\",IF(AE181>Inputs!$D$9,0,1))","v":""},{"$f":"IF(AF181=\"\",\"\",IF(AF181>Inputs!$D$9,0,1))","v":""},{"$f":"IF(AG181=\"\",\"\",IF(AG181>Inputs!$D$9,0,1))","v":""},{"$f":"IF(AH181=\"\",\"\",IF(AH181>Inputs!$D$9,0,1))","v":""},{"$f":"IF(AI181=\"\",\"\",IF(AI181>Inputs!$D$9,0,1))","v":""},{"$f":"IF(AJ181=\"\",\"\",IF(AJ181>Inputs!$D$9,0,1))","v":""},{"$f":"IF(AK181=\"\",\"\",IF(AK181>Inputs!$D$9,0,1))","v":""},{"$f":"IF(AL181=\"\",\"\",IF(AL181>Inputs!$D$9,0,1))","v":""},"",0,null,"","","","","","","","","","","","","","",null,null,"","","","","","","","","","","","",""]
[null,null,null,null,null,null,null,null,null,null,null,null,null,null,"","","","","","","","","","","","","","","","","","","","","","","","",null,{"$f":"IF(AA182=\"\",\"\",IF(AA182>Inputs!$D$9,0,1))","v":""},{"$f":"IF(AB182=\"\",\"\",IF(AB182>Inputs!$D$9,0,1))","v":""},{"$f":"IF(AC182=\"\",\"\",IF(AC182>Inputs!$D$9,0,1))","v":""},{"$f":"IF(AD182=\"\",\"\",IF(AD182>Inputs!$D$9,0,1))","v":""},{"$f":"IF(AE182=\"\",\"\",IF(AE182>Inputs!$D$9,0,1))","v":""},{"$f":"IF(AF182=\"\",\"\",IF(AF182>Inputs!$D$9,0,1))","v":""},{"$f":"IF(AG182=\"\",\"\",IF(AG182>Inputs!$D$9,0,1))","v":""},{"$f":"IF(AH182=\"\",\"\",IF(AH182>Inputs!$D$9,0,1))","v":""},{"$f":"IF(AI182=\"\",\"\",IF(AI182>Inputs!$D$9,0,1))","v":""},{"$f":"IF(AJ182=\"\",\"\",IF(AJ182>Inputs!$D$9,0,1))","v":""},{"$f":"IF(AK182=\"\",\"\",IF(AK182>Inputs!$D$9,0,1))","v":""},{"$f":"IF(AL182=\"\",\"\",IF(AL182>Inputs!$D$9,0,1))","v":""},"",0,null,"","","","","","","","","","","","","","",null,null,"","","","","","","","","","","","",""]
[null,null,null,null,null,null,null,null,null,null,null,null,null,null,"","","","","","","","","","","","","","","","","","","","","","","","",null,{"$f":"IF(AA183=\"\",\"\",IF(AA183>Inputs!$D$9,0,1))","v":""},{"$f":"IF(AB183=\"\",\"\",IF(AB183>Inputs!$D$9,0,1))","v":""},{"$f":"IF(AC183=\"\",\"\",IF(AC183>Inputs!$D$9,0,1))","v":""},{"$f":"IF(AD183=\"\",\"\",IF(AD183>Inputs!$D$9,0,1))","v":""},{"$f":"IF(AE183=\"\",\"\",IF(AE183>Inputs!$D$9,0,1))","v":""},{"$f":"IF(AF183=\"\",\"\",IF(AF183>Inputs!$D$9,0,1))","v":""},{"$f":"IF(AG183=\"\",\"\",IF(AG183>Inputs!$D$9,0,1))","v":""},{"$f":"IF(AH183=\"\",\"\",IF(AH183>Inputs!$D$9,0,1))","v":""},{"$f":"IF(AI183=\"\",\"\",IF(AI183>Inputs!$D$9,0,1))","v":""},{"$f":"IF(AJ183=\"\",\"\",IF(AJ183>Inputs!$D$9,0,1))","v":""},{"$f":"IF(AK183=\"\",\"\",IF(AK183>Inputs!$D$9,0,1))","v":""},{"$f":"IF(AL183=\"\",\"\",IF(AL183>Inputs!$D$9,0,1))","v":""},"",0,null,"","","","","","","","","","","","","","",null,null,"","","","","","","","","","","","",""]
[null,null,null,null,null,null,null,null,null,null,null,null,null,null,"","","","","","","","","","","","","","","","","","","","","","","","",null,{"$f":"IF(AA184=\"\",\"\",IF(AA184>Inputs!$D$9,0,1))","v":""},{"$f":"IF(AB184=\"\",\"\",IF(AB184>Inputs!$D$9,0,1))","v":""},{"$f":"IF(AC184=\"\",\"\",IF(AC184>Inputs!$D$9,0,1))","v":""},{"$f":"IF(AD184=\"\",\"\",IF(AD184>Inputs!$D$9,0,1))","v":""},{"$f":"IF(AE184=\"\",\"\",IF(AE184>Inputs!$D$9,0,1))","v":""},{"$f":"IF(AF184=\"\",\"\",IF(AF184>Inputs!$D$9,0,1))","v":""},{"$f":"IF(AG184=\"\",\"\",IF(AG184>Inputs!$D$9,0,1))","v":""},{"$f":"IF(AH184=\"\",\"\",IF(AH184>Inputs!$D$9,0,1))","v":""},{"$f":"IF(AI184=\"\",\"\",IF(AI184>Inputs!$D$9,0,1))","v":""},{"$f":"IF(AJ184=\"\",\"\",IF(AJ184>Inputs!$D$9,0,1))","v":""},{"$f":"IF(AK184=\"\",\"\",IF(AK184>Inputs!$D$9,0,1))","v":""},{"$f":"IF(AL184=\"\",\"\",IF(AL184>Inputs!$D$9,0,1))","v":""},"",0,null,"","","","","","","","","","","","","","",null,null,"","","","","","","","","","","","",""]
[null,null,null,null,null,null,null,null,null,null,null,null,null,null,"","","","","","","","","","","","","","","","","","","","","","","","",null,{"$f":"IF(AA185=\"\",\"\",IF(AA185>Inputs!$D$9,0,1))","v":""},{"$f":"IF(AB185=\"\",\"\",IF(AB185>Inputs!$D$9,0,1))","v":""},{"$f":"IF(AC185=\"\",\"\",IF(AC185>Inputs!$D$9,0,1))","v":""},{"$f":"IF(AD185=\"\",\"\",IF(AD185>Inputs!$D$9,0,1))","v":""},{"$f":"IF(AE185=\"\",\"\",IF(AE185>Inputs!$D$9,0,1))","v":""},{"$f":"IF(AF185=\"\",\"\",IF(AF185>Inputs!$D$9,0,1))","v":""},{"$f":"IF(AG185=\"\",\"\",IF(AG185>Inputs!$D$9,0,1))","v":""},{"$f":"IF(AH185=\"\",\"\",IF(AH185>Inputs!$D$9,0,1))","v":""},{"$f":"IF(AI185=\"\",\"\",IF(AI185>Inputs!$D$9,0,1))","v":""},{"$f":"IF(AJ185=\"\",\"\",IF(AJ185>Inputs!$D$9,0,1))","v":""},{"$f":"IF(AK185=\"\",\"\",IF(AK185>Inputs!$D$9,0,1))","v":""},{"$f":"IF(AL185=\"\",\"\",IF(AL185>Inputs!$D$9,0,1))","v":""},"",0,null,"","","","","","","","","","","","","","",null,null,"","","","","","","","","","","","",""]
[null,null,null,null,null,null,null,null,null,null,null,null,null,null,"","","","","","","","","","","","","","","","","","","","","","","","",null,{"$f":"IF(AA186=\"\",\"\",IF(AA186>Inputs!$D$9,0,1))","v":""},{"$f":"IF(AB186=\"\",\"\",IF(AB186>Inputs!$D$9,0,1))","v":""},{"$f":"IF(AC186=\"\",\"\",IF(AC186>Inputs!$D$9,0,1))","v":""},{"$f":"IF(AD186=\"\",\"\",IF(AD186>Inputs!$D$9,0,1))","v":""},{"$f":"IF(AE186=\"\",\"\",IF(AE186>Inputs!$D$9,0,1))","v":""},{"$f":"IF(AF186=\"\",\"\",IF(AF186>Inputs!$D$9,0,1))","v":""},{"$f":"IF(AG186=\"\",\"\",IF(AG186>Inputs!$D$9,0,1))","v":""},{"$f":"IF(AH186=\"\",\"\",IF(AH186>Inputs!$D$9,0,1))","v":""},{"$f":"IF(AI186=\"\",\"\",IF(AI186>Inputs!$D$9,0,1))","v":""},{"$f":"IF(AJ186=\"\",\"\",IF(AJ186>Inputs!$D$9,0,1))","v":""},{"$f":"IF(AK186=\"\",\"\",IF(AK186>Inputs!$D$9,0,1))","v":""},{"$f":"IF(AL186=\"\",\"\",IF(AL186>Inputs!$D$9,0,1))","v":""},"",0,null,"","","","","","","","","","","","","","",null,null,"","","","","","","","","","","","",""]
[null,null,null,null,null,null,null,null,null,null,null,null,null,null,"","","","","","","","","","","","","","","","","","","","","","","","",null,{"$f":"IF(AA187=\"\",\"\",IF(AA187>Inputs!$D$9,0,1))","v":""},{"$f":"IF(AB187=\"\",\"\",IF(AB187>Inputs!$D$9,0,1))","v":""},{"$f":"IF(AC187=\"\",\"\",IF(AC187>Inputs!$D$9,0,1))","v":""},{"$f":"IF(AD187=\"\",\"\",IF(AD187>Inputs!$D$9,0,1))","v":""},{"$f":"IF(AE187=\"\",\"\",IF(AE187>Inputs!$D$9,0,1))","v":""},{"$f":"IF(AF187=\"\",\"\",IF(AF187>Inputs!$D$9,0,1))","v":""},{"$f":"IF(AG187=\"\",\"\",IF(AG187>Inputs!$D$9,0,1))","v":""},{"$f":"IF(AH187=\"\",\"\",IF(AH187>Inputs!$D$9,0,1))","v":""},{"$f":"IF(AI187=\"\",\"\",IF(AI187>Inputs!$D$9,0,1))","v":""},{"$f":"IF(AJ187=\"\",\"\",IF(AJ187>Inputs!$D$9,0,1))","v":""},{"$f":"IF(AK187=\"\",\"\",IF(AK187>Inputs!$D$9,0,1))","v":""},{"$f":"IF(AL187=\"\",\"\",IF(AL187>Inputs!$D$9,0,1))","v":""},"",0,null,"","","","","","","","","","","","","","",null,null,"","","","","","","","","","","","",""]
[null,null,null,null,null,null,null,null,null,null,null,null,null,null,"","","","","","","","","","","","","","","","","","","","","","","","",null,{"$f":"IF(AA188=\"\",\"\",IF(AA188>Inputs!$D$9,0,1))","v":""},{"$f":"IF(AB188=\"\",\"\",IF(AB188>Inputs!$D$9,0,1))","v":""},{"$f":"IF(AC188=\"\",\"\",IF(AC188>Inputs!$D$9,0,1))","v":""},{"$f":"IF(AD188=\"\",\"\",IF(AD188>Inputs!$D$9,0,1))","v":""},{"$f":"IF(AE188=\"\",\"\",IF(AE188>Inputs!$D$9,0,1))","v":""},{"$f":"IF(AF188=\"\",\"\",IF(AF188>Inputs!$D$9,0,1))","v":""},{"$f":"IF(AG188=\"\",\"\",IF(AG188>Inputs!$D$9,0,1))","v":""},{"$f":"IF(AH188=\"\",\"\",IF(AH188>Inputs!$D$9,0,1))","v":""},{"$f":"IF(AI188=\"\",\"\",IF(AI188>Inputs!$D$9,0,1))","v":""},{"$f":"IF(AJ188=\"\",\"\",IF(AJ188>Inputs!$D$9,0,1))","v":""},{"$f":"IF(AK188=\"\",\"\",IF(AK188>Inputs!$D$9,0,1))","v":""},{"$f":"IF(AL188=\"\",\"\",IF(AL188>Inputs!$D$9,0,1))","v":""},"",0,null,"","","","","","","","","","","","","","",null,null,"","","","","","","","","","","","",""]
[null,null,null,null,null,null,null,null,null,null,null,null,null,null,"","","","","","","","","","","","","","","","","","","","","","","","",null,{"$f":"IF(AA189=\"\",\"\",IF(AA189>Inputs!$D$9,0,1))","v":""},{"$f":"IF(AB189=\"\",\"\",IF(AB189>Inputs!$D$9,0,1))","v":""},{"$f":"IF(AC189=\"\",\"\",IF(AC189>Inputs!$D$9,0,1))","v":""},{"$f":"IF(AD189=\"\",\"\",IF(AD189>Inputs!$D$9,0,1))","v":""},{"$f":"IF(AE189=\"\",\"\",IF(AE189>Inputs!$D$9,0,1))","v":""},{"$f":"IF(AF189=\"\",\"\",IF(AF189>Inputs!$D$9,0,1))","v":""},{"$f":"IF(AG189=\"\",\"\",IF(AG189>Inputs!$D$9,0,1))","v":""},{"$f":"IF(AH189=\"\",\"\",IF(AH189>Inputs!$D$9,0,1))","v":""},{"$f":"IF(AI189=\"\",\"\",IF(AI189>Inputs!$D$9,0,1))","v":""},{"$f":"IF(AJ189=\"\",\"\",IF(AJ189>Inputs!$D$9,0,1))","v":""},{"$f":"IF(AK189=\"\",\"\",IF(AK189>Inputs!$D$9,0,1))","v":""},{"$f":"IF(AL189=\"\",\"\",IF(AL189>Inputs!$D$9,0,1))","v":""},"",0,null,"","","","","","","","","","","","","","",null,null,"","","","","","","","","","","","",""]
[null,null,null,null,null,null,null,null,null,null,null,null,null,null,"","","","","","","","","","","","","","","","","","","","","","","","",null,{"$f":"IF(AA190=\"\",\"\",IF(AA190>Inputs!$D$9,0,1))","v":""},{"$f":"IF(AB190=\"\",\"\",IF(AB190>Inputs!$D$9,0,1))","v":""},{"$f":"IF(AC190=\"\",\"\",IF(AC190>Inputs!$D$9,0,1))","v":""},{"$f":"IF(AD190=\"\",\"\",IF(AD190>Inputs!$D$9,0,1))","v":""},{"$f":"IF(AE190=\"\",\"\",IF(AE190>Inputs!$D$9,0,1))","v":""},{"$f":"IF(AF190=\"\",\"\",IF(AF190>Inputs!$D$9,0,1))","v":""},{"$f":"IF(AG190=\"\",\"\",IF(AG190>Inputs!$D$9,0,1))","v":""},{"$f":"IF(AH190=\"\",\"\",IF(AH190>Inputs!$D$9,0,1))","v":""},{"$f":"IF(AI190=\"\",\"\",IF(AI190>Inputs!$D$9,0,1))","v":""},{"$f":"IF(AJ190=\"\",\"\",IF(AJ190>Inputs!$D$9,0,1))","v":""},{"$f":"IF(AK190=\"\",\"\",IF(AK190>Inputs!$D$9,0,1))","v":""},{"$f":"IF(AL190=\"\",\"\",IF(AL190>Inputs!$D$9,0,1))","v":""},"",0,null,"","","","","","","","","","","","","","",null,null,"","","","","","","","","","","","",""]
[null,null,null,null,null,null,null,null,null,null,null,null,null,null,"","","","","","","","","","","","","","","","","","","","","","","","",null,{"$f":"IF(AA191=\"\",\"\",IF(AA191>Inputs!$D$9,0,1))","v":""},{"$f":"IF(AB191=\"\",\"\",IF(AB191>Inputs!$D$9,0,1))","v":""},{"$f":"IF(AC191=\"\",\"\",IF(AC191>Inputs!$D$9,0,1))","v":""},{"$f":"IF(AD191=\"\",\"\",IF(AD191>Inputs!$D$9,0,1))","v":""},{"$f":"IF(AE191=\"\",\"\",IF(AE191>Inputs!$D$9,0,1))","v":""},{"$f":"IF(AF191=\"\",\"\",IF(AF191>Inputs!$D$9,0,1))","v":""},{"$f":"IF(AG191=\"\",\"\",IF(AG191>Inputs!$D$9,0,1))","v":""},{"$f":"IF(AH191=\"\",\"\",IF(AH191>Inputs!$D$9,0,1))","v":""},{"$f":"IF(AI191=\"\",\"\",IF(AI191>Inputs!$D$9,0,1))","v":""},{"$f":"IF(AJ191=\"\",\"\",IF(AJ191>Inputs!$D$9,0,1))","v":""},{"$f":"IF(AK191=\"\",\"\",IF(AK191>Inputs!$D$9,0,1))","v":""},{"$f":"IF(AL191=\"\",\"\",IF(AL191>Inputs!$D$9,0,1))","v":""},"",0,null,"","","","","","","","","","","","","","",null,null,"","","","","","","","","","","","",""]
[null,null,null,null,null,null,null,null,null,null,null,null,null,null,"","","","","","","","","","","","","","","","","","","","","","","","",null,{"$f":"IF(AA192=\"\",\"\",IF(AA192>Inputs!$D$9,0,1))","v":""},{"$f":"IF(AB192=\"\",\"\",IF(AB192>Inputs!$D$9,0,1))","v":""},{"$f":"IF(AC192=\"\",\"\",IF(AC192>Inputs!$D$9,0,1))","v":""},{"$f":"IF(AD192=\"\",\"\",IF(AD192>Inputs!$D$9,0,1))","v":""},{"$f":"IF(AE192=\"\",\"\",IF(AE192>Inputs!$D$9,0,1))","v":""},{"$f":"IF(AF192=\"\",\"\",IF(AF192>Inputs!$D$9,0,1))","v":""},{"$f":"IF(AG192=\"\",\"\",IF(AG192>Inputs!$D$9,0,1))","v":""},{"$f":"IF(AH192=\"\",\"\",IF(AH192>Inputs!$D$9,0,1))","v":""},{"$f":"IF(AI192=\"\",\"\",IF(AI192>Inputs!$D$9,0,1))","v":""},{"$f":"IF(AJ192=\"\",\"\",IF(AJ192>Inputs!$D$9,0,1))","v":""},{"$f":"IF(AK192=\"\",\"\",IF(AK192>Inputs!$D$9,0,1))","v":""},{"$f":"IF(AL192=\"\",\"\",IF(AL192>Inputs!$D$9,0,1))","v":""},"",0,null,"","","","","","","","","","","","","","",null,null,"","","","","","","","","","","","",""]
[null,null,null,null,null,null,null,null,null,null,null,null,null,null,"","","","","","","","","","","","","","","","","","","","","","","","",null,{"$f":"IF(AA193=\"\",\"\",IF(AA193>Inputs!$D$9,0,1))","v":""},{"$f":"IF(AB193=\"\",\"\",IF(AB193>Inputs!$D$9,0,1))","v":""},{"$f":"IF(AC193=\"\",\"\",IF(AC193>Inputs!$D$9,0,1))","v":""},{"$f":"IF(AD193=\"\",\"\",IF(AD193>Inputs!$D$9,0,1))","v":""},{"$f":"IF(AE193=\"\",\"\",IF(AE193>Inputs!$D$9,0,1))","v":""},{"$f":"IF(AF193=\"\",\"\",IF(AF193>Inputs!$D$9,0,1))","v":""},{"$f":"IF(AG193=\"\",\"\",IF(AG193>Inputs!$D$9,0,1))","v":""},{"$f":"IF(AH193=\"\",\"\",IF(AH193>Inputs!$D$9,0,1))","v":""},{"$f":"IF(AI193=\"\",\"\",IF(AI193>Inputs!$D$9,0,1))","v":""},{"$f":"IF(AJ193=\"\",\"\",IF(AJ193>Inputs!$D$9,0,1))","v":""},{"$f":"IF(AK193=\"\",\"\",IF(AK193>Inputs!$D$9,0,1))","v":""},{"$f":"IF(AL193=\"\",\"\",IF(AL193>Inputs!$D$9,0,1))","v":""},"",0,null,"","","","","","","","","","","","","","",null,null,"","","","","","","","","","","","",""]
[null,null,null,null,null,null,null,null,null,null,null,null,null,null,"",{"$f":"IF(A194=\"\",\"\",IF(ISERROR(1+D194),\"\",IF(ISERROR(((1+D194/100)*(1+E194/100)*(1+F194/100)*(1+G194/100)*(1+H194/100)*(1+I194/100)*(1+J194/100)*(1+K194/100)*(1+L194/100)*(1+M194/100)*(1+N194/100))^(1/11)-1),\"\",((1+D194/100)*(1+E194/100)*(1+F194/100)*(1+G194/100)*(1+H194/100)*(1+I194/100)*(1+J194/100)*(1+K194/100)*(1+L194/100)*(1+M194/100)*(1+N194/100))^(1/11)-1)))","v":""},"","","","","","","","","","","","","","","","","","","","","","",null,{"$f":"IF(AA194=\"\",\"\",IF(AA194>Inputs!$D$9,0,1))","v":""},{"$f":"IF(AB194=\"\",\"\",IF(AB194>Inputs!$D$9,0,1))","v":""},{"$f":"IF(AC194=\"\",\"\",IF(AC194>Inputs!$D$9,0,1))","v":""},{"$f":"IF(AD194=\"\",\"\",IF(AD194>Inputs!$D$9,0,1))","v":""},{"$f":"IF(AE194=\"\",\"\",IF(AE194>Inputs!$D$9,0,1))","v":""},{"$f":"IF(AF194=\"\",\"\",IF(AF194>Inputs!$D$9,0,1))","v":""},{"$f":"IF(AG194=\"\",\"\",IF(AG194>Inputs!$D$9,0,1))","v":""},{"$f":"IF(AH194=\"\",\"\",IF(AH194>Inputs!$D$9,0,1))","v":""},{"$f":"IF(AI194=\"\",\"\",IF(AI194>Inputs!$D$9,0,1))","v":""},{"$f":"IF(AJ194=\"\",\"\",IF(AJ194>Inputs!$D$9,0,1))","v":""},{"$f":"IF(AK194=\"\",\"\",IF(AK194>Inputs!$D$9,0,1))","v":""},{"$f":"IF(AL194=\"\",\"\",IF(AL194>Inputs!$D$9,0,1))","v":""},"",0,null,"","","","","","","","","","","","","","",null,null,"","","","","","","","","","","","",""]
[null,null,null,null,null,null,null,null,null,null,null,null,null,null,{"$f":"IF(A195=\"\",\"\",IF(ISERROR(1+C195),\"\",IF(ISERROR(((1+C195/100)*(1+D195/100)*(1+E195/100)*(1+F195/100)*(1+G195/100)*(1+H195/100)*(1+I195/100)*(1+J195/100)*(1+K195/100)*(1+L195/100)*(1+M195/100)*(1+N195/100))^(1/12)-1),\"\",((1+C195/100)*(1+D195/100)*(1+E195/100)*(1+F195/100)*(1+G195/100)*(1+H195/100)*(1+I195/100)*(1+J195/100)*(1+K195/100)*(1+L195/100)*(1+M195/100)*(1+N195/100))^(1/12)-1)))","v":""},"",{"$f":"IF(A195=\"\",\"\",IF(ISERROR(1+E195),\"\",IF(ISERROR(((1+E195/100)*(1+F195/100)*(1+G195/100)*(1+H195/100)*(1+I195/100)*(1+J195/100)*(1+K195/100)*(1+L195/100)*(1+M195/100)*(1+N195/100))^(1/10)-1),\"\",((1+E195/100)*(1+F195/100)*(1+G195/100)*(1+H195/100)*(1+I195/100)*(1+J195/100)*(1+K195/100)*(1+L195/100)*(1+M195/100)*(1+N195/100))^(1/10)-1)))","v":""},{"$f":"IF(A195=\"\",\"\",IF(ISERROR(1+F195),\"\",IF(ISERROR(((1+F195/100)*(1+G195/100)*(1+H195/100)*(1+I195/100)*(1+J195/100)*(1+K195/100)*(1+L195/100)*(1+M195/100)*(1+N195/100))^(1/9)-1),\"\",((1+F195/100)*(1+G195/100)*(1+H195/100)*(1+I195/100)*(1+J195/100)*(1+K195/100)*(1+L195/100)*(1+M195/100)*(1+N195/100))^(1/9)-1)))","v":""},{"$f":"IF(A195=\"\",\"\",IF(ISERROR(1+G195),\"\",IF(ISERROR(((1+G195/100)*(1+H195/100)*(1+I195/100)*(1+J195/100)*(1+K195/100)*(1+L195/100)*(1+M195/100)*(1+N195/100))^(1/8)-1),\"\",((1+G195/100)*(1+H195/100)*(1+I195/100)*(1+J195/100)*(1+K195/100)*(1+L195/100)*(1+M195/100)*(1+N195/100))^(1/8)-1)))","v":""},{"$f":"IF(A195=\"\",\"\",IF(ISERROR(1+H195),\"\",IF(ISERROR(((1+H195/100)*(1+I195/100)*(1+J195/100)*(1+K195/100)*(1+L195/100)*(1+M195/100)*(1+N195/100))^(1/7)-1),\"\",((1+H195/100)*(1+I195/100)*(1+J195/100)*(1+K195/100)*(1+L195/100)*(1+M195/100)*(1+N195/100))^(1/7)-1)))","v":""},{"$f":"IF(A195=\"\",\"\",IF(ISERROR(1+I195),\"\",IF(ISERROR(((1+I195/100)*(1+J195/100)*(1+K195/100)*(1+L195/100)*(1+M195/100)*(1+N195/100))^(1/6)-1),\"\",((1+I195/100)*(1+J195/100)*(1+K195/100)*(1+L195/100)*(1+M195/100)*(1+N195/100))^(1/6)-1)))","v":""},{"$f":"IF(A195=\"\",\"\",IF(ISERROR(1+J195),\"\",IF(ISERROR(((1+J195/100)*(1+K195/100)*(1+L195/100)*(1+M195/100)*(1+N195/100))^(1/5)-1),\"\",((1+J195/100)*(1+K195/100)*(1+L195/100)*(1+M195/100)*(1+N195/100))^(1/5)-1)))","v":""},{"$f":"IF(A195=\"\",\"\",IF(ISERROR(1+K195),\"\",IF(ISERROR(((1+K195/100)*(1+L195/100)*(1+M195/100)*(1+N195/100))^(1/4)-1),\"\",((1+K195/100)*(1+L195/100)*(1+M195/100)*(1+N195/100))^(1/4)-1)))","v":""},{"$f":"IF(A195=\"\",\"\",IF(ISERROR(1+L195),\"\",IF(ISERROR(((1+L195/100)*(1+M195/100)*(1+N195/100))^(1/3)-1),\"\",((1+L195/100)*(1+M195/100)*(1+N195/100))^(1/3)-1)))","v":""},{"$f":"IF(A195=\"\",\"\",IF(ISERROR(1+M195),\"\",IF(ISERROR(((1+M195/100)*(1+N195/100))^(1/2)-1),\"\",((1+M195/100)*(1+N195/100))^(1/2)-1)))","v":""},{"$f":"IF(A195=\"\",\"\",IF(ISERROR(1+N195),\"\",IF(ISERROR(((1+N195/100))^(1/1)-1),\"\",((1+N195/100))^(1/1)-1)))","v":""},"","","","","","","","","","","","",null,{"$f":"IF(AA195=\"\",\"\",IF(AA195>Inputs!$D$9,0,1))","v":""},{"$f":"IF(AB195=\"\",\"\",IF(AB195>Inputs!$D$9,0,1))","v":""},{"$f":"IF(AC195=\"\",\"\",IF(AC195>Inputs!$D$9,0,1))","v":""},{"$f":"IF(AD195=\"\",\"\",IF(AD195>Inputs!$D$9,0,1))","v":""},{"$f":"IF(AE195=\"\",\"\",IF(AE195>Inputs!$D$9,0,1))","v":""},{"$f":"IF(AF195=\"\",\"\",IF(AF195>Inputs!$D$9,0,1))","v":""},{"$f":"IF(AG195=\"\",\"\",IF(AG195>Inputs!$D$9,0,1))","v":""},{"$f":"IF(AH195=\"\",\"\",IF(AH195>Inputs!$D$9,0,1))","v":""},{"$f":"IF(AI195=\"\",\"\",IF(AI195>Inputs!$D$9,0,1))","v":""},{"$f":"IF(AJ195=\"\",\"\",IF(AJ195>Inputs!$D$9,0,1))","v":""},{"$f":"IF(AK195=\"\",\"\",IF(AK195>Inputs!$D$9,0,1))","v":""},{"$f":"IF(AL195=\"\",\"\",IF(AL195>Inputs!$D$9,0,1))","v":""},{"$f":"IF(COUNT(AN195:AY195)=0,\"\",SUM(AN195:AY195)/COUNT(AN195:AY195))","v":""},{"$f":"COUNT(AN195:AY195)","v":0},null,{"$f":"IF(O195=\"\",\"\",IF(O195>AVERAGE($O$2:$O$1000),1,0))","v":""},{"$f":"IF(P195=\"\",\"\",IF(P195>AVERAGE($P$2:$P$1000),1,0))","v":""},{"$f":"IF(Q195=\"\",\"\",IF(Q195>AVERAGE($Q$2:$Q$1000),1,0))","v":""},{"$f":"IF(R195=\"\",\"\",IF(R195>AVERAGE($R$2:$R$1000),1,0))","v":""},{"$f":"IF(S195=\"\",\"\",IF(S195>AVERAGE($S$2:$S$1000),1,0))","v":""},{"$f":"IF(T195=\"\",\"\",IF(T195>AVERAGE($T$2:$T$1000),1,0))","v":""},{"$f":"IF(U195=\"\",\"\",IF(U195>AVERAGE($U$2:$U$1000),1,0))","v":""},{"$f":"IF(V195=\"\",\"\",IF(V195>AVERAGE($V$2:$V$1000),1,0))","v":""},{"$f":"IF(W195=\"\",\"\",IF(W195>AVERAGE($W$2:$W$1000),1,0))","v":""},{"$f":"IF(X195=\"\",\"\",IF(X195>AVERAGE($X$2:$X$1000),1,0))","v":""},{"$f":"IF(Y195=\"\",\"\",IF(Y195>AVERAGE($Y$2:$Y$1000),1,0))","v":""},{"$f":"IF(Z195=\"\",\"\",IF(Z195>AVERAGE($Z$2:$Z$1000),1,0))","v":""},{"$f":"IF(COUNT(BC195:BN195)=0,\"\",SUM(BC195:BN195)/COUNT(BC195:BN195))","v":""},{"$f":"IF(A195=\"\",\"\",COUNT(BC195:BN195))","v":""},null,null,{"$f":"IF($A195=\"\",\"\",IF(C195=\"-\",0,IF(C195>AVERAGE(C$2:C$1183),1,0)))","v":""},{"$f":"IF($A195=\"\",\"\",IF(D195=\"-\",0,IF(D195>AVERAGE(D$2:D$1183),1,0)))","v":""},{"$f":"IF($A195=\"\",\"\",IF(E195=\"-\",0,IF(E195>AVERAGE(E$2:E$1183),1,0)))","v":""},{"$f":"IF($A195=\"\",\"\",IF(F195=\"-\",0,IF(F195>AVERAGE(F$2:F$1183),1,0)))","v":""},{"$f":"IF($A195=\"\",\"\",IF(G195=\"-\",0,IF(G195>AVERAGE(G$2:G$1183),1,0)))","v":""},{"$f":"IF($A195=\"\",\"\",IF(H195=\"-\",0,IF(H195>AVERAGE(H$2:H$1183),1,0)))","v":""},{"$f":"IF($A195=\"\",\"\",IF(I195=\"-\",0,IF(I195>AVERAGE(I$2:I$1183),1,0)))","v":""},{"$f":"IF($A195=\"\",\"\",IF(J195=\"-\",0,IF(J195>AVERAGE(J$2:J$1183),1,0)))","v":""},{"$f":"IF($A195=\"\",\"\",IF(K195=\"-\",0,IF(K195>AVERAGE(K$2:K$1183),1,0)))","v":""},{"$f":"IF($A195=\"\",\"\",IF(L195=\"-\",0,IF(L195>AVERAGE(L$2:L$1183),1,0)))","v":""},{"$f":"IF($A195=\"\",\"\",IF(M195=\"-\",0,IF(M195>AVERAGE(M$2:M$1183),1,0)))","v":""},{"$f":"IF($A195=\"\",\"\",IF(N195=\"-\",0,IF(N195>AVERAGE(N$2:N$1183),1,0)))","v":""},""]
[null,null,null,null,null,null,null,null,null,null,null,null,null,null,"","","","","","","","","","","","","","","","","","","","","","","","",null,{"$f":"IF(AA196=\"\",\"\",IF(AA196>Inputs!$D$9,0,1))","v":""},{"$f":"IF(AB196=\"\",\"\",IF(AB196>Inputs!$D$9,0,1))","v":""},{"$f":"IF(AC196=\"\",\"\",IF(AC196>Inputs!$D$9,0,1))","v":""},{"$f":"IF(AD196=\"\",\"\",IF(AD196>Inputs!$D$9,0,1))","v":""},{"$f":"IF(AE196=\"\",\"\",IF(AE196>Inputs!$D$9,0,1))","v":""},{"$f":"IF(AF196=\"\",\"\",IF(AF196>Inputs!$D$9,0,1))","v":""},{"$f":"IF(AG196=\"\",\"\",IF(AG196>Inputs!$D$9,0,1))","v":""},{"$f":"IF(AH196=\"\",\"\",IF(AH196>Inputs!$D$9,0,1))","v":""},{"$f":"IF(AI196=\"\",\"\",IF(AI196>Inputs!$D$9,0,1))","v":""},{"$f":"IF(AJ196=\"\",\"\",IF(AJ196>Inputs!$D$9,0,1))","v":""},{"$f":"IF(AK196=\"\",\"\",IF(AK196>Inputs!$D$9,0,1))","v":""},{"$f":"IF(AL196=\"\",\"\",IF(AL196>Inputs!$D$9,0,1))","v":""},"",0,null,"","","","","","","","","","","","","","",null,null,"","","","","","","","","","","","",""]
[null,null,null,null,null,null,null,null,null,null,null,null,null,null,"","","","","","","","","","","","","","","","","","","","","","","","",null,{"$f":"IF(AA197=\"\",\"\",IF(AA197>Inputs!$D$9,0,1))","v":""},{"$f":"IF(AB197=\"\",\"\",IF(AB197>Inputs!$D$9,0,1))","v":""},{"$f":"IF(AC197=\"\",\"\",IF(AC197>Inputs!$D$9,0,1))","v":""},{"$f":"IF(AD197=\"\",\"\",IF(AD197>Inputs!$D$9,0,1))","v":""},{"$f":"IF(AE197=\"\",\"\",IF(AE197>Inputs!$D$9,0,1))","v":""},{"$f":"IF(AF197=\"\",\"\",IF(AF197>Inputs!$D$9,0,1))","v":""},{"$f":"IF(AG197=\"\",\"\",IF(AG197>Inputs!$D$9,0,1))","v":""},{"$f":"IF(AH197=\"\",\"\",IF(AH197>Inputs!$D$9,0,1))","v":""},{"$f":"IF(AI197=\"\",\"\",IF(AI197>Inputs!$D$9,0,1))","v":""},{"$f":"IF(AJ197=\"\",\"\",IF(AJ197>Inputs!$D$9,0,1))","v":""},{"$f":"IF(AK197=\"\",\"\",IF(AK197>Inputs!$D$9,0,1))","v":""},{"$f":"IF(AL197=\"\",\"\",IF(AL197>Inputs!$D$9,0,1))","v":""},"",0,null,"","","","","","","","","","","","","","",null,null,"","","","","","","","","","","","",""]
[null,null,null,null,null,null,null,null,null,null,null,null,null,null,"","","","","","","","","","","","","","","","","","","","","","","","",null,{"$f":"IF(AA198=\"\",\"\",IF(AA198>Inputs!$D$9,0,1))","v":""},{"$f":"IF(AB198=\"\",\"\",IF(AB198>Inputs!$D$9,0,1))","v":""},{"$f":"IF(AC198=\"\",\"\",IF(AC198>Inputs!$D$9,0,1))","v":""},{"$f":"IF(AD198=\"\",\"\",IF(AD198>Inputs!$D$9,0,1))","v":""},{"$f":"IF(AE198=\"\",\"\",IF(AE198>Inputs!$D$9,0,1))","v":""},{"$f":"IF(AF198=\"\",\"\",IF(AF198>Inputs!$D$9,0,1))","v":""},{"$f":"IF(AG198=\"\",\"\",IF(AG198>Inputs!$D$9,0,1))","v":""},{"$f":"IF(AH198=\"\",\"\",IF(AH198>Inputs!$D$9,0,1))","v":""},{"$f":"IF(AI198=\"\",\"\",IF(AI198>Inputs!$D$9,0,1))","v":""},{"$f":"IF(AJ198=\"\",\"\",IF(AJ198>Inputs!$D$9,0,1))","v":""},{"$f":"IF(AK198=\"\",\"\",IF(AK198>Inputs!$D$9,0,1))","v":""},{"$f":"IF(AL198=\"\",\"\",IF(AL198>Inputs!$D$9,0,1))","v":""},"",0,null,"","","","","","","","","","","","","","",null,null,"","","","","","","","","","","","",""]
[null,null,null,null,null,null,null,null,null,null,null,null,null,null,"","","","","","","","","","","","","","","","","","","","","","","","",null,{"$f":"IF(AA199=\"\",\"\",IF(AA199>Inputs!$D$9,0,1))","v":""},{"$f":"IF(AB199=\"\",\"\",IF(AB199>Inputs!$D$9,0,1))","v":""},{"$f":"IF(AC199=\"\",\"\",IF(AC199>Inputs!$D$9,0,1))","v":""},{"$f":"IF(AD199=\"\",\"\",IF(AD199>Inputs!$D$9,0,1))","v":""},{"$f":"IF(AE199=\"\",\"\",IF(AE199>Inputs!$D$9,0,1))","v":""},{"$f":"IF(AF199=\"\",\"\",IF(AF199>Inputs!$D$9,0,1))","v":""},{"$f":"IF(AG199=\"\",\"\",IF(AG199>Inputs!$D$9,0,1))","v":""},{"$f":"IF(AH199=\"\",\"\",IF(AH199>Inputs!$D$9,0,1))","v":""},{"$f":"IF(AI199=\"\",\"\",IF(AI199>Inputs!$D$9,0,1))","v":""},{"$f":"IF(AJ199=\"\",\"\",IF(AJ199>Inputs!$D$9,0,1))","v":""},{"$f":"IF(AK199=\"\",\"\",IF(AK199>Inputs!$D$9,0,1))","v":""},{"$f":"IF(AL199=\"\",\"\",IF(AL199>Inputs!$D$9,0,1))","v":""},"",0,null,"","","","","","","","","","","","","","",null,null,"","","","","","","","","","","","",""]
[null,null,null,null,null,null,null,null,null,null,null,null,null,null,"","","","","","","","","","","","","","","","","","","","","","","","",null,{"$f":"IF(AA200=\"\",\"\",IF(AA200>Inputs!$D$9,0,1))","v":""},{"$f":"IF(AB200=\"\",\"\",IF(AB200>Inputs!$D$9,0,1))","v":""},{"$f":"IF(AC200=\"\",\"\",IF(AC200>Inputs!$D$9,0,1))","v":""},{"$f":"IF(AD200=\"\",\"\",IF(AD200>Inputs!$D$9,0,1))","v":""},{"$f":"IF(AE200=\"\",\"\",IF(AE200>Inputs!$D$9,0,1))","v":""},{"$f":"IF(AF200=\"\",\"\",IF(AF200>Inputs!$D$9,0,1))","v":""},{"$f":"IF(AG200=\"\",\"\",IF(AG200>Inputs!$D$9,0,1))","v":""},{"$f":"IF(AH200=\"\",\"\",IF(AH200>Inputs!$D$9,0,1))","v":""},{"$f":"IF(AI200=\"\",\"\",IF(AI200>Inputs!$D$9,0,1))","v":""},{"$f":"IF(AJ200=\"\",\"\",IF(AJ200>Inputs!$D$9,0,1))","v":""},{"$f":"IF(AK200=\"\",\"\",IF(AK200>Inputs!$D$9,0,1))","v":""},{"$f":"IF(AL200=\"\",\"\",IF(AL200>Inputs!$D$9,0,1))","v":""},"",0,null,"","","","","","","","","","","","","","",null,null,"","","","","","","","","","","","",""]
[null,null,null,null,null,null,null,null,null,null,null,null,null,null,"","","","","","","","","","","","","","","","","","","","","","","","",null,{"$f":"IF(AA201=\"\",\"\",IF(AA201>Inputs!$D$9,0,1))","v":""},{"$f":"IF(AB201=\"\",\"\",IF(AB201>Inputs!$D$9,0,1))","v":""},{"$f":"IF(AC201=\"\",\"\",IF(AC201>Inputs!$D$9,0,1))","v":""},{"$f":"IF(AD201=\"\",\"\",IF(AD201>Inputs!$D$9,0,1))","v":""},{"$f":"IF(AE201=\"\",\"\",IF(AE201>Inputs!$D$9,0,1))","v":""},{"$f":"IF(AF201=\"\",\"\",IF(AF201>Inputs!$D$9,0,1))","v":""},{"$f":"IF(AG201=\"\",\"\",IF(AG201>Inputs!$D$9,0,1))","v":""},{"$f":"IF(AH201=\"\",\"\",IF(AH201>Inputs!$D$9,0,1))","v":""},{"$f":"IF(AI201=\"\",\"\",IF(AI201>Inputs!$D$9,0,1))","v":""},{"$f":"IF(AJ201=\"\",\"\",IF(AJ201>Inputs!$D$9,0,1))","v":""},{"$f":"IF(AK201=\"\",\"\",IF(AK201>Inputs!$D$9,0,1))","v":""},{"$f":"IF(AL201=\"\",\"\",IF(AL201>Inputs!$D$9,0,1))","v":""},"",0,null,"","","","","","","","","","","","","","",null,null,"","","","","","","","","","","","",""]
[null,null,null,null,null,null,null,null,null,null,null,null,null,null,"","","","","","","","","","","","","","","","","","","","","","","","",null,{"$f":"IF(AA202=\"\",\"\",IF(AA202>Inputs!$D$9,0,1))","v":""},{"$f":"IF(AB202=\"\",\"\",IF(AB202>Inputs!$D$9,0,1))","v":""},{"$f":"IF(AC202=\"\",\"\",IF(AC202>Inputs!$D$9,0,1))","v":""},{"$f":"IF(AD202=\"\",\"\",IF(AD202>Inputs!$D$9,0,1))","v":""},{"$f":"IF(AE202=\"\",\"\",IF(AE202>Inputs!$D$9,0,1))","v":""},{"$f":"IF(AF202=\"\",\"\",IF(AF202>Inputs!$D$9,0,1))","v":""},{"$f":"IF(AG202=\"\",\"\",IF(AG202>Inputs!$D$9,0,1))","v":""},{"$f":"IF(AH202=\"\",\"\",IF(AH202>Inputs!$D$9,0,1))","v":""},{"$f":"IF(AI202=\"\",\"\",IF(AI202>Inputs!$D$9,0,1))","v":""},{"$f":"IF(AJ202=\"\",\"\",IF(AJ202>Inputs!$D$9,0,1))","v":""},{"$f":"IF(AK202=\"\",\"\",IF(AK202>Inputs!$D$9,0,1))","v":""},{"$f":"IF(AL202=\"\",\"\",IF(AL202>Inputs!$D$9,0,1))","v":""},"",0,null,"","","","","","","","","","","","","","",null,null,"","","","","","","","","","","","",""]
[null,null,null,null,null,null,null,null,null,null,null,null,null,null,"","","","","","","","","","","","","","","","","","","","","","","","",null,{"$f":"IF(AA203=\"\",\"\",IF(AA203>Inputs!$D$9,0,1))","v":""},{"$f":"IF(AB203=\"\",\"\",IF(AB203>Inputs!$D$9,0,1))","v":""},{"$f":"IF(AC203=\"\",\"\",IF(AC203>Inputs!$D$9,0,1))","v":""},{"$f":"IF(AD203=\"\",\"\",IF(AD203>Inputs!$D$9,0,1))","v":""},{"$f":"IF(AE203=\"\",\"\",IF(AE203>Inputs!$D$9,0,1))","v":""},{"$f":"IF(AF203=\"\",\"\",IF(AF203>Inputs!$D$9,0,1))","v":""},{"$f":"IF(AG203=\"\",\"\",IF(AG203>Inputs!$D$9,0,1))","v":""},{"$f":"IF(AH203=\"\",\"\",IF(AH203>Inputs!$D$9,0,1))","v":""},{"$f":"IF(AI203=\"\",\"\",IF(AI203>Inputs!$D$9,0,1))","v":""},{"$f":"IF(AJ203=\"\",\"\",IF(AJ203>Inputs!$D$9,0,1))","v":""},{"$f":"IF(AK203=\"\",\"\",IF(AK203>Inputs!$D$9,0,1))","v":""},{"$f":"IF(AL203=\"\",\"\",IF(AL203>Inputs!$D$9,0,1))","v":""},"",0,null,"","","","","","","","","","","","","","",null,null,"","","","","","","","","","","","",""]
[null,null,null,null,null,null,null,null,null,null,null,null,null,null,"","","","","","","","","","","","","","","","","","","","","","","","",null,{"$f":"IF(AA204=\"\",\"\",IF(AA204>Inputs!$D$9,0,1))","v":""},{"$f":"IF(AB204=\"\",\"\",IF(AB204>Inputs!$D$9,0,1))","v":""},{"$f":"IF(AC204=\"\",\"\",IF(AC204>Inputs!$D$9,0,1))","v":""},{"$f":"IF(AD204=\"\",\"\",IF(AD204>Inputs!$D$9,0,1))","v":""},{"$f":"IF(AE204=\"\",\"\",IF(AE204>Inputs!$D$9,0,1))","v":""},{"$f":"IF(AF204=\"\",\"\",IF(AF204>Inputs!$D$9,0,1))","v":""},{"$f":"IF(AG204=\"\",\"\",IF(AG204>Inputs!$D$9,0,1))","v":""},{"$f":"IF(AH204=\"\",\"\",IF(AH204>Inputs!$D$9,0,1))","v":""},{"$f":"IF(AI204=\"\",\"\",IF(AI204>Inputs!$D$9,0,1))","v":""},{"$f":"IF(AJ204=\"\",\"\",IF(AJ204>Inputs!$D$9,0,1))","v":""},{"$f":"IF(AK204=\"\",\"\",IF(AK204>Inputs!$D$9,0,1))","v":""},{"$f":"IF(AL204=\"\",\"\",IF(AL204>Inputs!$D$9,0,1))","v":""},"",0,null,"","","","","","","","","","","","","","",null,null,"","","","","","","","","","","","",""]
[null,null,null,null,null,null,null,null,null,null,null,null,null,null,"","","","","","","","","","","","","","","","","","","","","","","","",null,{"$f":"IF(AA205=\"\",\"\",IF(AA205>Inputs!$D$9,0,1))","v":""},{"$f":"IF(AB205=\"\",\"\",IF(AB205>Inputs!$D$9,0,1))","v":""},{"$f":"IF(AC205=\"\",\"\",IF(AC205>Inputs!$D$9,0,1))","v":""},{"$f":"IF(AD205=\"\",\"\",IF(AD205>Inputs!$D$9,0,1))","v":""},{"$f":"IF(AE205=\"\",\"\",IF(AE205>Inputs!$D$9,0,1))","v":""},{"$f":"IF(AF205=\"\",\"\",IF(AF205>Inputs!$D$9,0,1))","v":""},{"$f":"IF(AG205=\"\",\"\",IF(AG205>Inputs!$D$9,0,1))","v":""},{"$f":"IF(AH205=\"\",\"\",IF(AH205>Inputs!$D$9,0,1))","v":""},{"$f":"IF(AI205=\"\",\"\",IF(AI205>Inputs!$D$9,0,1))","v":""},{"$f":"IF(AJ205=\"\",\"\",IF(AJ205>Inputs!$D$9,0,1))","v":""},{"$f":"IF(AK205=\"\",\"\",IF(AK205>Inputs!$D$9,0,1))","v":""},{"$f":"IF(AL205=\"\",\"\",IF(AL205>Inputs!$D$9,0,1))","v":""},"",0,null,"","","","","","","","","","","","","","",null,null,"","","","","","","","","","","","",""]
[null,null,null,null,null,null,null,null,null,null,null,null,null,null,"","","","","","","","","","","","","","","","","","","","","","","","",null,{"$f":"IF(AA206=\"\",\"\",IF(AA206>Inputs!$D$9,0,1))","v":""},{"$f":"IF(AB206=\"\",\"\",IF(AB206>Inputs!$D$9,0,1))","v":""},{"$f":"IF(AC206=\"\",\"\",IF(AC206>Inputs!$D$9,0,1))","v":""},{"$f":"IF(AD206=\"\",\"\",IF(AD206>Inputs!$D$9,0,1))","v":""},{"$f":"IF(AE206=\"\",\"\",IF(AE206>Inputs!$D$9,0,1))","v":""},{"$f":"IF(AF206=\"\",\"\",IF(AF206>Inputs!$D$9,0,1))","v":""},{"$f":"IF(AG206=\"\",\"\",IF(AG206>Inputs!$D$9,0,1))","v":""},{"$f":"IF(AH206=\"\",\"\",IF(AH206>Inputs!$D$9,0,1))","v":""},{"$f":"IF(AI206=\"\",\"\",IF(AI206>Inputs!$D$9,0,1))","v":""},{"$f":"IF(AJ206=\"\",\"\",IF(AJ206>Inputs!$D$9,0,1))","v":""},{"$f":"IF(AK206=\"\",\"\",IF(AK206>Inputs!$D$9,0,1))","v":""},{"$f":"IF(AL206=\"\",\"\",IF(AL206>Inputs!$D$9,0,1))","v":""},"",0,null,"","","","","","","","","","","","","","",null,null,"","","","","","","","","","","","",""]
[null,null,null,null,null,null,null,null,null,null,null,null,null,null,"","","","","","","","","","","","","","","","","","","","","","","","",null,{"$f":"IF(AA207=\"\",\"\",IF(AA207>Inputs!$D$9,0,1))","v":""},{"$f":"IF(AB207=\"\",\"\",IF(AB207>Inputs!$D$9,0,1))","v":""},{"$f":"IF(AC207=\"\",\"\",IF(AC207>Inputs!$D$9,0,1))","v":""},{"$f":"IF(AD207=\"\",\"\",IF(AD207>Inputs!$D$9,0,1))","v":""},{"$f":"IF(AE207=\"\",\"\",IF(AE207>Inputs!$D$9,0,1))","v":""},{"$f":"IF(AF207=\"\",\"\",IF(AF207>Inputs!$D$9,0,1))","v":""},{"$f":"IF(AG207=\"\",\"\",IF(AG207>Inputs!$D$9,0,1))","v":""},{"$f":"IF(AH207=\"\",\"\",IF(AH207>Inputs!$D$9,0,1))","v":""},{"$f":"IF(AI207=\"\",\"\",IF(AI207>Inputs!$D$9,0,1))","v":""},{"$f":"IF(AJ207=\"\",\"\",IF(AJ207>Inputs!$D$9,0,1))","v":""},{"$f":"IF(AK207=\"\",\"\",IF(AK207>Inputs!$D$9,0,1))","v":""},{"$f":"IF(AL207=\"\",\"\",IF(AL207>Inputs!$D$9,0,1))","v":""},"",0,null,"","","","","","","","","","","","","","",null,null,"","","","","","","","","","","","",""]
[null,null,null,null,null,null,null,null,null,null,null,null,null,null,"","","","","","","","","","","","","","","","","","","","","","","","",null,{"$f":"IF(AA208=\"\",\"\",IF(AA208>Inputs!$D$9,0,1))","v":""},{"$f":"IF(AB208=\"\",\"\",IF(AB208>Inputs!$D$9,0,1))","v":""},{"$f":"IF(AC208=\"\",\"\",IF(AC208>Inputs!$D$9,0,1))","v":""},{"$f":"IF(AD208=\"\",\"\",IF(AD208>Inputs!$D$9,0,1))","v":""},{"$f":"IF(AE208=\"\",\"\",IF(AE208>Inputs!$D$9,0,1))","v":""},{"$f":"IF(AF208=\"\",\"\",IF(AF208>Inputs!$D$9,0,1))","v":""},{"$f":"IF(AG208=\"\",\"\",IF(AG208>Inputs!$D$9,0,1))","v":""},{"$f":"IF(AH208=\"\",\"\",IF(AH208>Inputs!$D$9,0,1))","v":""},{"$f":"IF(AI208=\"\",\"\",IF(AI208>Inputs!$D$9,0,1))","v":""},{"$f":"IF(AJ208=\"\",\"\",IF(AJ208>Inputs!$D$9,0,1))","v":""},{"$f":"IF(AK208=\"\",\"\",IF(AK208>Inputs!$D$9,0,1))","v":""},{"$f":"IF(AL208=\"\",\"\",IF(AL208>Inputs!$D$9,0,1))","v":""},"",0,null,"","","","","","","","","","","","","","",null,null,"","","","","","","","","","","","",""]
[null,null,null,null,null,null,null,null,null,null,null,null,null,null,"","","","","","","","","","","","","","","","","","","","","","","","",null,{"$f":"IF(AA209=\"\",\"\",IF(AA209>Inputs!$D$9,0,1))","v":""},{"$f":"IF(AB209=\"\",\"\",IF(AB209>Inputs!$D$9,0,1))","v":""},{"$f":"IF(AC209=\"\",\"\",IF(AC209>Inputs!$D$9,0,1))","v":""},{"$f":"IF(AD209=\"\",\"\",IF(AD209>Inputs!$D$9,0,1))","v":""},{"$f":"IF(AE209=\"\",\"\",IF(AE209>Inputs!$D$9,0,1))","v":""},{"$f":"IF(AF209=\"\",\"\",IF(AF209>Inputs!$D$9,0,1))","v":""},{"$f":"IF(AG209=\"\",\"\",IF(AG209>Inputs!$D$9,0,1))","v":""},{"$f":"IF(AH209=\"\",\"\",IF(AH209>Inputs!$D$9,0,1))","v":""},{"$f":"IF(AI209=\"\",\"\",IF(AI209>Inputs!$D$9,0,1))","v":""},{"$f":"IF(AJ209=\"\",\"\",IF(AJ209>Inputs!$D$9,0,1))","v":""},{"$f":"IF(AK209=\"\",\"\",IF(AK209>Inputs!$D$9,0,1))","v":""},{"$f":"IF(AL209=\"\",\"\",IF(AL209>Inputs!$D$9,0,1))","v":""},"",0,null,"","","","","","","","","","","","","","",null,null,"","","","","","","","","","","","",""]
[null,null,null,null,null,null,null,null,null,null,null,null,null,null,"","","","","","","","","","","","","","","","","","","","","","","","",null,{"$f":"IF(AA210=\"\",\"\",IF(AA210>Inputs!$D$9,0,1))","v":""},{"$f":"IF(AB210=\"\",\"\",IF(AB210>Inputs!$D$9,0,1))","v":""},{"$f":"IF(AC210=\"\",\"\",IF(AC210>Inputs!$D$9,0,1))","v":""},{"$f":"IF(AD210=\"\",\"\",IF(AD210>Inputs!$D$9,0,1))","v":""},{"$f":"IF(AE210=\"\",\"\",IF(AE210>Inputs!$D$9,0,1))","v":""},{"$f":"IF(AF210=\"\",\"\",IF(AF210>Inputs!$D$9,0,1))","v":""},{"$f":"IF(AG210=\"\",\"\",IF(AG210>Inputs!$D$9,0,1))","v":""},{"$f":"IF(AH210=\"\",\"\",IF(AH210>Inputs!$D$9,0,1))","v":""},{"$f":"IF(AI210=\"\",\"\",IF(AI210>Inputs!$D$9,0,1))","v":""},{"$f":"IF(AJ210=\"\",\"\",IF(AJ210>Inputs!$D$9,0,1))","v":""},{"$f":"IF(AK210=\"\",\"\",IF(AK210>Inputs!$D$9,0,1))","v":""},{"$f":"IF(AL210=\"\",\"\",IF(AL210>Inputs!$D$9,0,1))","v":""},"",0,null,"","","","","","","","","","","","","","",null,null,"","","","","","","","","","","","",""]
[null,null,null,null,null,null,null,null,null,null,null,null,null,null,"","","","","","","","","","","","","","","","","","","","","","","","",null,{"$f":"IF(AA211=\"\",\"\",IF(AA211>Inputs!$D$9,0,1))","v":""},{"$f":"IF(AB211=\"\",\"\",IF(AB211>Inputs!$D$9,0,1))","v":""},{"$f":"IF(AC211=\"\",\"\",IF(AC211>Inputs!$D$9,0,1))","v":""},{"$f":"IF(AD211=\"\",\"\",IF(AD211>Inputs!$D$9,0,1))","v":""},{"$f":"IF(AE211=\"\",\"\",IF(AE211>Inputs!$D$9,0,1))","v":""},{"$f":"IF(AF211=\"\",\"\",IF(AF211>Inputs!$D$9,0,1))","v":""},{"$f":"IF(AG211=\"\",\"\",IF(AG211>Inputs!$D$9,0,1))","v":""},{"$f":"IF(AH211=\"\",\"\",IF(AH211>Inputs!$D$9,0,1))","v":""},{"$f":"IF(AI211=\"\",\"\",IF(AI211>Inputs!$D$9,0,1))","v":""},{"$f":"IF(AJ211=\"\",\"\",IF(AJ211>Inputs!$D$9,0,1))","v":""},{"$f":"IF(AK211=\"\",\"\",IF(AK211>Inputs!$D$9,0,1))","v":""},{"$f":"IF(AL211=\"\",\"\",IF(AL211>Inputs!$D$9,0,1))","v":""},"",0,null,"","","","","","","","","","","","","","",null,null,"","","","","","","","","","","","",""]
[null,null,null,null,null,null,null,null,null,null,null,null,null,null,"","","","","","","","","","","","","","","","","","","","","","","","",null,{"$f":"IF(AA212=\"\",\"\",IF(AA212>Inputs!$D$9,0,1))","v":""},{"$f":"IF(AB212=\"\",\"\",IF(AB212>Inputs!$D$9,0,1))","v":""},{"$f":"IF(AC212=\"\",\"\",IF(AC212>Inputs!$D$9,0,1))","v":""},{"$f":"IF(AD212=\"\",\"\",IF(AD212>Inputs!$D$9,0,1))","v":""},{"$f":"IF(AE212=\"\",\"\",IF(AE212>Inputs!$D$9,0,1))","v":""},{"$f":"IF(AF212=\"\",\"\",IF(AF212>Inputs!$D$9,0,1))","v":""},{"$f":"IF(AG212=\"\",\"\",IF(AG212>Inputs!$D$9,0,1))","v":""},{"$f":"IF(AH212=\"\",\"\",IF(AH212>Inputs!$D$9,0,1))","v":""},{"$f":"IF(AI212=\"\",\"\",IF(AI212>Inputs!$D$9,0,1))","v":""},{"$f":"IF(AJ212=\"\",\"\",IF(AJ212>Inputs!$D$9,0,1))","v":""},{"$f":"IF(AK212=\"\",\"\",IF(AK212>Inputs!$D$9,0,1))","v":""},{"$f":"IF(AL212=\"\",\"\",IF(AL212>Inputs!$D$9,0,1))","v":""},"",0,null,"","","","","","","","","","","","","","",null,null,"","","","","","","","","","","","",{"$f":"IF(A212=\"\",\"\",SUM(BS212:CD212))","v":""}]
[null,null,null,null,null,null,null,null,null,null,null,null,null,null,"","","","","","","","","","","","","","","","","","","","","","","","",null,{"$f":"IF(AA213=\"\",\"\",IF(AA213>Inputs!$D$9,0,1))","v":""},{"$f":"IF(AB213=\"\",\"\",IF(AB213>Inputs!$D$9,0,1))","v":""},{"$f":"IF(AC213=\"\",\"\",IF(AC213>Inputs!$D$9,0,1))","v":""},{"$f":"IF(AD213=\"\",\"\",IF(AD213>Inputs!$D$9,0,1))","v":""},{"$f":"IF(AE213=\"\",\"\",IF(AE213>Inputs!$D$9,0,1))","v":""},{"$f":"IF(AF213=\"\",\"\",IF(AF213>Inputs!$D$9,0,1))","v":""},{"$f":"IF(AG213=\"\",\"\",IF(AG213>Inputs!$D$9,0,1))","v":""},{"$f":"IF(AH213=\"\",\"\",IF(AH213>Inputs!$D$9,0,1))","v":""},{"$f":"IF(AI213=\"\",\"\",IF(AI213>Inputs!$D$9,0,1))","v":""},{"$f":"IF(AJ213=\"\",\"\",IF(AJ213>Inputs!$D$9,0,1))","v":""},{"$f":"IF(AK213=\"\",\"\",IF(AK213>Inputs!$D$9,0,1))","v":""},{"$f":"IF(AL213=\"\",\"\",IF(AL213>Inputs!$D$9,0,1))","v":""},"",0,null,"","","","","","","","","","","","","","",null,null,"","","","","","","","","","","","",""]
[null,null,null,null,null,null,null,null,null,null,null,null,null,null,"","","","","","","","","","","","","","","","","","","","","","","","",null,{"$f":"IF(AA214=\"\",\"\",IF(AA214>Inputs!$D$9,0,1))","v":""},{"$f":"IF(AB214=\"\",\"\",IF(AB214>Inputs!$D$9,0,1))","v":""},{"$f":"IF(AC214=\"\",\"\",IF(AC214>Inputs!$D$9,0,1))","v":""},{"$f":"IF(AD214=\"\",\"\",IF(AD214>Inputs!$D$9,0,1))","v":""},{"$f":"IF(AE214=\"\",\"\",IF(AE214>Inputs!$D$9,0,1))","v":""},{"$f":"IF(AF214=\"\",\"\",IF(AF214>Inputs!$D$9,0,1))","v":""},{"$f":"IF(AG214=\"\",\"\",IF(AG214>Inputs!$D$9,0,1))","v":""},{"$f":"IF(AH214=\"\",\"\",IF(AH214>Inputs!$D$9,0,1))","v":""},{"$f":"IF(AI214=\"\",\"\",IF(AI214>Inputs!$D$9,0,1))","v":""},{"$f":"IF(AJ214=\"\",\"\",IF(AJ214>Inputs!$D$9,0,1))","v":""},{"$f":"IF(AK214=\"\",\"\",IF(AK214>Inputs!$D$9,0,1))","v":""},{"$f":"IF(AL214=\"\",\"\",IF(AL214>Inputs!$D$9,0,1))","v":""},"",0,null,"","","","","","","","","","","","","","",null,null,"","","","","","","","","","","","",""]
[null,null,null,null,null,null,null,null,null,null,null,null,null,null,"","","","","","","","","","","","","","","","","","","","","","","","",null,{"$f":"IF(AA215=\"\",\"\",IF(AA215>Inputs!$D$9,0,1))","v":""},{"$f":"IF(AB215=\"\",\"\",IF(AB215>Inputs!$D$9,0,1))","v":""},{"$f":"IF(AC215=\"\",\"\",IF(AC215>Inputs!$D$9,0,1))","v":""},{"$f":"IF(AD215=\"\",\"\",IF(AD215>Inputs!$D$9,0,1))","v":""},{"$f":"IF(AE215=\"\",\"\",IF(AE215>Inputs!$D$9,0,1))","v":""},{"$f":"IF(AF215=\"\",\"\",IF(AF215>Inputs!$D$9,0,1))","v":""},{"$f":"IF(AG215=\"\",\"\",IF(AG215>Inputs!$D$9,0,1))","v":""},{"$f":"IF(AH215=\"\",\"\",IF(AH215>Inputs!$D$9,0,1))","v":""},{"$f":"IF(AI215=\"\",\"\",IF(AI215>Inputs!$D$9,0,1))","v":""},{"$f":"IF(AJ215=\"\",\"\",IF(AJ215>Inputs!$D$9,0,1))","v":""},{"$f":"IF(AK215=\"\",\"\",IF(AK215>Inputs!$D$9,0,1))","v":""},{"$f":"IF(AL215=\"\",\"\",IF(AL215>Inputs!$D$9,0,1))","v":""},"",0,null,"","","","","","","","","","","","","","",null,null,"","","","","","","","","","","","",""]
[null,null,null,null,null,null,null,null,null,null,null,null,null,null,"","","","","","","","","","","","","","","","","","","","","","","","",null,{"$f":"IF(AA216=\"\",\"\",IF(AA216>Inputs!$D$9,0,1))","v":""},{"$f":"IF(AB216=\"\",\"\",IF(AB216>Inputs!$D$9,0,1))","v":""},{"$f":"IF(AC216=\"\",\"\",IF(AC216>Inputs!$D$9,0,1))","v":""},{"$f":"IF(AD216=\"\",\"\",IF(AD216>Inputs!$D$9,0,1))","v":""},{"$f":"IF(AE216=\"\",\"\",IF(AE216>Inputs!$D$9,0,1))","v":""},{"$f":"IF(AF216=\"\",\"\",IF(AF216>Inputs!$D$9,0,1))","v":""},{"$f":"IF(AG216=\"\",\"\",IF(AG216>Inputs!$D$9,0,1))","v":""},{"$f":"IF(AH216=\"\",\"\",IF(AH216>Inputs!$D$9,0,1))","v":""},{"$f":"IF(AI216=\"\",\"\",IF(AI216>Inputs!$D$9,0,1))","v":""},{"$f":"IF(AJ216=\"\",\"\",IF(AJ216>Inputs!$D$9,0,1))","v":""},{"$f":"IF(AK216=\"\",\"\",IF(AK216>Inputs!$D$9,0,1))","v":""},{"$f":"IF(AL216=\"\",\"\",IF(AL216>Inputs!$D$9,0,1))","v":""},"",0,null,"","","","","","","","","","","","","","",null,null,"","","","","","","","","","","","",""]
[null,null,null,null,null,null,null,null,null,null,null,null,null,null,"","","","","","","","","","","","","","","","","","","","","","","","",null,{"$f":"IF(AA217=\"\",\"\",IF(AA217>Inputs!$D$9,0,1))","v":""},{"$f":"IF(AB217=\"\",\"\",IF(AB217>Inputs!$D$9,0,1))","v":""},{"$f":"IF(AC217=\"\",\"\",IF(AC217>Inputs!$D$9,0,1))","v":""},{"$f":"IF(AD217=\"\",\"\",IF(AD217>Inputs!$D$9,0,1))","v":""},{"$f":"IF(AE217=\"\",\"\",IF(AE217>Inputs!$D$9,0,1))","v":""},{"$f":"IF(AF217=\"\",\"\",IF(AF217>Inputs!$D$9,0,1))","v":""},{"$f":"IF(AG217=\"\",\"\",IF(AG217>Inputs!$D$9,0,1))","v":""},{"$f":"IF(AH217=\"\",\"\",IF(AH217>Inputs!$D$9,0,1))","v":""},{"$f":"IF(AI217=\"\",\"\",IF(AI217>Inputs!$D$9,0,1))","v":""},{"$f":"IF(AJ217=\"\",\"\",IF(AJ217>Inputs!$D$9,0,1))","v":""},{"$f":"IF(AK217=\"\",\"\",IF(AK217>Inputs!$D$9,0,1))","v":""},{"$f":"IF(AL217=\"\",\"\",IF(AL217>Inputs!$D$9,0,1))","v":""},"",0,null,"","","","","","","","","","","","","","",null,null,"","","","","","","","","","","","",""]
[null,null,null,null,null,null,null,null,null,null,null,null,null,null,"","","","","","","","","","","","","","","","","","","","","","","","",null,{"$f":"IF(AA218=\"\",\"\",IF(AA218>Inputs!$D$9,0,1))","v":""},{"$f":"IF(AB218=\"\",\"\",IF(AB218>Inputs!$D$9,0,1))","v":""},{"$f":"IF(AC218=\"\",\"\",IF(AC218>Inputs!$D$9,0,1))","v":""},{"$f":"IF(AD218=\"\",\"\",IF(AD218>Inputs!$D$9,0,1))","v":""},{"$f":"IF(AE218=\"\",\"\",IF(AE218>Inputs!$D$9,0,1))","v":""},{"$f":"IF(AF218=\"\",\"\",IF(AF218>Inputs!$D$9,0,1))","v":""},{"$f":"IF(AG218=\"\",\"\",IF(AG218>Inputs!$D$9,0,1))","v":""},{"$f":"IF(AH218=\"\",\"\",IF(AH218>Inputs!$D$9,0,1))","v":""},{"$f":"IF(AI218=\"\",\"\",IF(AI218>Inputs!$D$9,0,1))","v":""},{"$f":"IF(AJ218=\"\",\"\",IF(AJ218>Inputs!$D$9,0,1))","v":""},{"$f":"IF(AK218=\"\",\"\",IF(AK218>Inputs!$D$9,0,1))","v":""},{"$f":"IF(AL218=\"\",\"\",IF(AL218>Inputs!$D$9,0,1))","v":""},"",0,null,"","","","","","","","","","","","","","",null,null,"","","","","","","","","","","","",""]
[null,null,null,null,null,null,null,null,null,null,null,null,null,null,"","","","","","","","","","","","","","","","","","","","","","","","",null,{"$f":"IF(AA219=\"\",\"\",IF(AA219>Inputs!$D$9,0,1))","v":""},{"$f":"IF(AB219=\"\",\"\",IF(AB219>Inputs!$D$9,0,1))","v":""},{"$f":"IF(AC219=\"\",\"\",IF(AC219>Inputs!$D$9,0,1))","v":""},{"$f":"IF(AD219=\"\",\"\",IF(AD219>Inputs!$D$9,0,1))","v":""},{"$f":"IF(AE219=\"\",\"\",IF(AE219>Inputs!$D$9,0,1))","v":""},{"$f":"IF(AF219=\"\",\"\",IF(AF219>Inputs!$D$9,0,1))","v":""},{"$f":"IF(AG219=\"\",\"\",IF(AG219>Inputs!$D$9,0,1))","v":""},{"$f":"IF(AH219=\"\",\"\",IF(AH219>Inputs!$D$9,0,1))","v":""},{"$f":"IF(AI219=\"\",\"\",IF(AI219>Inputs!$D$9,0,1))","v":""},{"$f":"IF(AJ219=\"\",\"\",IF(AJ219>Inputs!$D$9,0,1))","v":""},{"$f":"IF(AK219=\"\",\"\",IF(AK219>Inputs!$D$9,0,1))","v":""},{"$f":"IF(AL219=\"\",\"\",IF(AL219>Inputs!$D$9,0,1))","v":""},"",0,null,"","","","","","","","","","","","","","",null,null,"","","","","","","","","","","","",""]
[null,null,null,null,null,null,null,null,null,null,null,null,null,null,"","","","","","","","","","","","","","","","","","","","","","","","",null,{"$f":"IF(AA220=\"\",\"\",IF(AA220>Inputs!$D$9,0,1))","v":""},{"$f":"IF(AB220=\"\",\"\",IF(AB220>Inputs!$D$9,0,1))","v":""},{"$f":"IF(AC220=\"\",\"\",IF(AC220>Inputs!$D$9,0,1))","v":""},{"$f":"IF(AD220=\"\",\"\",IF(AD220>Inputs!$D$9,0,1))","v":""},{"$f":"IF(AE220=\"\",\"\",IF(AE220>Inputs!$D$9,0,1))","v":""},{"$f":"IF(AF220=\"\",\"\",IF(AF220>Inputs!$D$9,0,1))","v":""},{"$f":"IF(AG220=\"\",\"\",IF(AG220>Inputs!$D$9,0,1))","v":""},{"$f":"IF(AH220=\"\",\"\",IF(AH220>Inputs!$D$9,0,1))","v":""},{"$f":"IF(AI220=\"\",\"\",IF(AI220>Inputs!$D$9,0,1))","v":""},{"$f":"IF(AJ220=\"\",\"\",IF(AJ220>Inputs!$D$9,0,1))","v":""},{"$f":"IF(AK220=\"\",\"\",IF(AK220>Inputs!$D$9,0,1))","v":""},{"$f":"IF(AL220=\"\",\"\",IF(AL220>Inputs!$D$9,0,1))","v":""},"",0,null,"","","","","","","","","","","","","","",null,null,"","","","","","","","","","","","",""]
[null,null,null,null,null,null,null,null,null,null,null,null,null,null,"","","","","","","","","","","","","","","","","","","","","","","","",null,{"$f":"IF(AA221=\"\",\"\",IF(AA221>Inputs!$D$9,0,1))","v":""},{"$f":"IF(AB221=\"\",\"\",IF(AB221>Inputs!$D$9,0,1))","v":""},{"$f":"IF(AC221=\"\",\"\",IF(AC221>Inputs!$D$9,0,1))","v":""},{"$f":"IF(AD221=\"\",\"\",IF(AD221>Inputs!$D$9,0,1))","v":""},{"$f":"IF(AE221=\"\",\"\",IF(AE221>Inputs!$D$9,0,1))","v":""},{"$f":"IF(AF221=\"\",\"\",IF(AF221>Inputs!$D$9,0,1))","v":""},{"$f":"IF(AG221=\"\",\"\",IF(AG221>Inputs!$D$9,0,1))","v":""},{"$f":"IF(AH221=\"\",\"\",IF(AH221>Inputs!$D$9,0,1))","v":""},{"$f":"IF(AI221=\"\",\"\",IF(AI221>Inputs!$D$9,0,1))","v":""},{"$f":"IF(AJ221=\"\",\"\",IF(AJ221>Inputs!$D$9,0,1))","v":""},{"$f":"IF(AK221=\"\",\"\",IF(AK221>Inputs!$D$9,0,1))","v":""},{"$f":"IF(AL221=\"\",\"\",IF(AL221>Inputs!$D$9,0,1))","v":""},"",0,null,"","","","","","","","","","","","","","",null,null,"","","","","","","","","","","","",""]
[null,null,null,null,null,null,null,null,null,null,null,null,null,null,"","","","","","","","","","","","","","","","","","","","","","","","",null,{"$f":"IF(AA222=\"\",\"\",IF(AA222>Inputs!$D$9,0,1))","v":""},{"$f":"IF(AB222=\"\",\"\",IF(AB222>Inputs!$D$9,0,1))","v":""},{"$f":"IF(AC222=\"\",\"\",IF(AC222>Inputs!$D$9,0,1))","v":""},{"$f":"IF(AD222=\"\",\"\",IF(AD222>Inputs!$D$9,0,1))","v":""},{"$f":"IF(AE222=\"\",\"\",IF(AE222>Inputs!$D$9,0,1))","v":""},{"$f":"IF(AF222=\"\",\"\",IF(AF222>Inputs!$D$9,0,1))","v":""},{"$f":"IF(AG222=\"\",\"\",IF(AG222>Inputs!$D$9,0,1))","v":""},{"$f":"IF(AH222=\"\",\"\",IF(AH222>Inputs!$D$9,0,1))","v":""},{"$f":"IF(AI222=\"\",\"\",IF(AI222>Inputs!$D$9,0,1))","v":""},{"$f":"IF(AJ222=\"\",\"\",IF(AJ222>Inputs!$D$9,0,1))","v":""},{"$f":"IF(AK222=\"\",\"\",IF(AK222>Inputs!$D$9,0,1))","v":""},{"$f":"IF(AL222=\"\",\"\",IF(AL222>Inputs!$D$9,0,1))","v":""},"",0,null,"","","","","","","","","","","","","","",null,null,"","","","","","","","","","","","",""]
[null,null,null,null,null,null,null,null,null,null,null,null,null,null,"","","","","","","","","","","","","","","","","","","","","","","","",null,{"$f":"IF(AA223=\"\",\"\",IF(AA223>Inputs!$D$9,0,1))","v":""},{"$f":"IF(AB223=\"\",\"\",IF(AB223>Inputs!$D$9,0,1))","v":""},{"$f":"IF(AC223=\"\",\"\",IF(AC223>Inputs!$D$9,0,1))","v":""},{"$f":"IF(AD223=\"\",\"\",IF(AD223>Inputs!$D$9,0,1))","v":""},{"$f":"IF(AE223=\"\",\"\",IF(AE223>Inputs!$D$9,0,1))","v":""},{"$f":"IF(AF223=\"\",\"\",IF(AF223>Inputs!$D$9,0,1))","v":""},{"$f":"IF(AG223=\"\",\"\",IF(AG223>Inputs!$D$9,0,1))","v":""},{"$f":"IF(AH223=\"\",\"\",IF(AH223>Inputs!$D$9,0,1))","v":""},{"$f":"IF(AI223=\"\",\"\",IF(AI223>Inputs!$D$9,0,1))","v":""},{"$f":"IF(AJ223=\"\",\"\",IF(AJ223>Inputs!$D$9,0,1))","v":""},{"$f":"IF(AK223=\"\",\"\",IF(AK223>Inputs!$D$9,0,1))","v":""},{"$f":"IF(AL223=\"\",\"\",IF(AL223>Inputs!$D$9,0,1))","v":""},"",0,null,"","","","","","","","","","","","","","",null,null,"","","","","","","","","","","","",""]
[null,null,null,null,null,null,null,null,null,null,null,null,null,null,"","","","","","","","","","","","","","","","","","","","","","","","",null,{"$f":"IF(AA224=\"\",\"\",IF(AA224>Inputs!$D$9,0,1))","v":""},{"$f":"IF(AB224=\"\",\"\",IF(AB224>Inputs!$D$9,0,1))","v":""},{"$f":"IF(AC224=\"\",\"\",IF(AC224>Inputs!$D$9,0,1))","v":""},{"$f":"IF(AD224=\"\",\"\",IF(AD224>Inputs!$D$9,0,1))","v":""},{"$f":"IF(AE224=\"\",\"\",IF(AE224>Inputs!$D$9,0,1))","v":""},{"$f":"IF(AF224=\"\",\"\",IF(AF224>Inputs!$D$9,0,1))","v":""},{"$f":"IF(AG224=\"\",\"\",IF(AG224>Inputs!$D$9,0,1))","v":""},{"$f":"IF(AH224=\"\",\"\",IF(AH224>Inputs!$D$9,0,1))","v":""},{"$f":"IF(AI224=\"\",\"\",IF(AI224>Inputs!$D$9,0,1))","v":""},{"$f":"IF(AJ224=\"\",\"\",IF(AJ224>Inputs!$D$9,0,1))","v":""},{"$f":"IF(AK224=\"\",\"\",IF(AK224>Inputs!$D$9,0,1))","v":""},{"$f":"IF(AL224=\"\",\"\",IF(AL224>Inputs!$D$9,0,1))","v":""},"",0,null,"","","","","","","","","","","","","","",null,null,"","","","","","","","","","","","",""]
[null,null,null,null,null,null,null,null,null,null,null,null,null,null,"","","","","","","","","","","","","","","","","","","","","","","","",null,{"$f":"IF(AA225=\"\",\"\",IF(AA225>Inputs!$D$9,0,1))","v":""},{"$f":"IF(AB225=\"\",\"\",IF(AB225>Inputs!$D$9,0,1))","v":""},{"$f":"IF(AC225=\"\",\"\",IF(AC225>Inputs!$D$9,0,1))","v":""},{"$f":"IF(AD225=\"\",\"\",IF(AD225>Inputs!$D$9,0,1))","v":""},{"$f":"IF(AE225=\"\",\"\",IF(AE225>Inputs!$D$9,0,1))","v":""},{"$f":"IF(AF225=\"\",\"\",IF(AF225>Inputs!$D$9,0,1))","v":""},{"$f":"IF(AG225=\"\",\"\",IF(AG225>Inputs!$D$9,0,1))","v":""},{"$f":"IF(AH225=\"\",\"\",IF(AH225>Inputs!$D$9,0,1))","v":""},{"$f":"IF(AI225=\"\",\"\",IF(AI225>Inputs!$D$9,0,1))","v":""},{"$f":"IF(AJ225=\"\",\"\",IF(AJ225>Inputs!$D$9,0,1))","v":""},{"$f":"IF(AK225=\"\",\"\",IF(AK225>Inputs!$D$9,0,1))","v":""},{"$f":"IF(AL225=\"\",\"\",IF(AL225>Inputs!$D$9,0,1))","v":""},"",0,null,"","","","","","","","","","","","","","",null,null,"","","","","","","","","","","","",""]
[null,null,null,null,null,null,null,null,null,null,null,null,null,null,"","","","","","","","","","","","","","","","","","","","","","","","",null,{"$f":"IF(AA226=\"\",\"\",IF(AA226>Inputs!$D$9,0,1))","v":""},{"$f":"IF(AB226=\"\",\"\",IF(AB226>Inputs!$D$9,0,1))","v":""},{"$f":"IF(AC226=\"\",\"\",IF(AC226>Inputs!$D$9,0,1))","v":""},{"$f":"IF(AD226=\"\",\"\",IF(AD226>Inputs!$D$9,0,1))","v":""},{"$f":"IF(AE226=\"\",\"\",IF(AE226>Inputs!$D$9,0,1))","v":""},{"$f":"IF(AF226=\"\",\"\",IF(AF226>Inputs!$D$9,0,1))","v":""},{"$f":"IF(AG226=\"\",\"\",IF(AG226>Inputs!$D$9,0,1))","v":""},{"$f":"IF(AH226=\"\",\"\",IF(AH226>Inputs!$D$9,0,1))","v":""},{"$f":"IF(AI226=\"\",\"\",IF(AI226>Inputs!$D$9,0,1))","v":""},{"$f":"IF(AJ226=\"\",\"\",IF(AJ226>Inputs!$D$9,0,1))","v":""},{"$f":"IF(AK226=\"\",\"\",IF(AK226>Inputs!$D$9,0,1))","v":""},{"$f":"IF(AL226=\"\",\"\",IF(AL226>Inputs!$D$9,0,1))","v":""},{"$f":"IF(COUNT(AN226:AY226)=0,\"\",SUM(AN226:AY226)/COUNT(AN226:AY226))","v":""},0,null,"","","","","","","","","","","","","","",null,null,"","","","","","","","","","","","",""]
[null,null,null,null,null,null,null,null,null,null,null,null,null,null,"","","","","","","","","","","","",{"$f":"IF($A227=\"\",\"\",IF(ISERROR(RANK(O227,$O$2:$O$1000,0)),\"\",RANK(O227,$O$2:$O$1000,0)))","v":""},{"$f":"IF($A227=\"\",\"\",IF(ISERROR(RANK(P227,$P$2:$P$1000,0)),\"\",RANK(P227,$P$2:$P$1000,0)))","v":""},{"$f":"IF($A227=\"\",\"\",IF(ISERROR(RANK(Q227,$Q$2:$Q$1000,0)),\"\",RANK(Q227,$Q$2:$Q$1000,0)))","v":""},{"$f":"IF($A227=\"\",\"\",IF(ISERROR(RANK(R227,$R$2:$R$1000,0)),\"\",RANK(R227,$R$2:$R$1000,0)))","v":""},{"$f":"IF($A227=\"\",\"\",IF(ISERROR(RANK(S227,$S$2:$S$1000,0)),\"\",RANK(S227,$S$2:$S$1000,0)))","v":""},{"$f":"IF($A227=\"\",\"\",IF(ISERROR(RANK(T227,$T$2:$T$1000,0)),\"\",RANK(T227,$T$2:$T$1000,0)))","v":""},{"$f":"IF($A227=\"\",\"\",IF(ISERROR(RANK(U227,$U$2:$U$1000,0)),\"\",RANK(U227,$U$2:$U$1000,0)))","v":""},{"$f":"IF($A227=\"\",\"\",IF(ISERROR(RANK(V227,$V$2:$V$1000,0)),\"\",RANK(V227,$V$2:$V$1000,0)))","v":""},{"$f":"IF($A227=\"\",\"\",IF(ISERROR(RANK(W227,$W$2:$W$1000,0)),\"\",RANK(W227,$W$2:$W$1000,0)))","v":""},{"$f":"IF($A227=\"\",\"\",IF(ISERROR(RANK(X227,$X$2:$X$1000,0)),\"\",RANK(X227,$X$2:$X$1000,0)))","v":""},{"$f":"IF($A227=\"\",\"\",IF(ISERROR(RANK(Y227,$Y$2:$Y$1000,0)),\"\",RANK(Y227,$Y$2:$Y$1000,0)))","v":""},{"$f":"IF($A227=\"\",\"\",IF(ISERROR(RANK(Z227,$Z$2:$Z$1000,0)),\"\",RANK(Z227,$Z$2:$Z$1000,0)))","v":""},null,{"$f":"IF(AA227=\"\",\"\",IF(AA227>Inputs!$D$9,0,1))","v":""},{"$f":"IF(AB227=\"\",\"\",IF(AB227>Inputs!$D$9,0,1))","v":""},{"$f":"IF(AC227=\"\",\"\",IF(AC227>Inputs!$D$9,0,1))","v":""},{"$f":"IF(AD227=\"\",\"\",IF(AD227>Inputs!$D$9,0,1))","v":""},{"$f":"IF(AE227=\"\",\"\",IF(AE227>Inputs!$D$9,0,1))","v":""},{"$f":"IF(AF227=\"\",\"\",IF(AF227>Inputs!$D$9,0,1))","v":""},{"$f":"IF(AG227=\"\",\"\",IF(AG227>Inputs!$D$9,0,1))","v":""},{"$f":"IF(AH227=\"\",\"\",IF(AH227>Inputs!$D$9,0,1))","v":""},{"$f":"IF(AI227=\"\",\"\",IF(AI227>Inputs!$D$9,0,1))","v":""},{"$f":"IF(AJ227=\"\",\"\",IF(AJ227>Inputs!$D$9,0,1))","v":""},{"$f":"IF(AK227=\"\",\"\",IF(AK227>Inputs!$D$9,0,1))","v":""},{"$f":"IF(AL227=\"\",\"\",IF(AL227>Inputs!$D$9,0,1))","v":""},"",0,null,"","","","","","","","","","","","","","",null,null,"","","","","","","","","","","","",""]
[null,null,null,null,null,null,null,null,null,null,null,null,null,null,"","","","","","","","","","","","","","","","","","","","","","","","",null,{"$f":"IF(AA228=\"\",\"\",IF(AA228>Inputs!$D$9,0,1))","v":""},{"$f":"IF(AB228=\"\",\"\",IF(AB228>Inputs!$D$9,0,1))","v":""},{"$f":"IF(AC228=\"\",\"\",IF(AC228>Inputs!$D$9,0,1))","v":""},{"$f":"IF(AD228=\"\",\"\",IF(AD228>Inputs!$D$9,0,1))","v":""},{"$f":"IF(AE228=\"\",\"\",IF(AE228>Inputs!$D$9,0,1))","v":""},{"$f":"IF(AF228=\"\",\"\",IF(AF228>Inputs!$D$9,0,1))","v":""},{"$f":"IF(AG228=\"\",\"\",IF(AG228>Inputs!$D$9,0,1))","v":""},{"$f":"IF(AH228=\"\",\"\",IF(AH228>Inputs!$D$9,0,1))","v":""},{"$f":"IF(AI228=\"\",\"\",IF(AI228>Inputs!$D$9,0,1))","v":""},{"$f":"IF(AJ228=\"\",\"\",IF(AJ228>Inputs!$D$9,0,1))","v":""},{"$f":"IF(AK228=\"\",\"\",IF(AK228>Inputs!$D$9,0,1))","v":""},{"$f":"IF(AL228=\"\",\"\",IF(AL228>Inputs!$D$9,0,1))","v":""},"",0,null,"","","","","","","","","","","","","","",null,null,"","","","","","","","","","","","",""]
[null,null,null,null,null,null,null,null,null,null,null,null,null,null,"","","","","","","","","","","","","","","","","","","","","","","","",null,{"$f":"IF(AA229=\"\",\"\",IF(AA229>Inputs!$D$9,0,1))","v":""},{"$f":"IF(AB229=\"\",\"\",IF(AB229>Inputs!$D$9,0,1))","v":""},{"$f":"IF(AC229=\"\",\"\",IF(AC229>Inputs!$D$9,0,1))","v":""},{"$f":"IF(AD229=\"\",\"\",IF(AD229>Inputs!$D$9,0,1))","v":""},{"$f":"IF(AE229=\"\",\"\",IF(AE229>Inputs!$D$9,0,1))","v":""},{"$f":"IF(AF229=\"\",\"\",IF(AF229>Inputs!$D$9,0,1))","v":""},{"$f":"IF(AG229=\"\",\"\",IF(AG229>Inputs!$D$9,0,1))","v":""},{"$f":"IF(AH229=\"\",\"\",IF(AH229>Inputs!$D$9,0,1))","v":""},{"$f":"IF(AI229=\"\",\"\",IF(AI229>Inputs!$D$9,0,1))","v":""},{"$f":"IF(AJ229=\"\",\"\",IF(AJ229>Inputs!$D$9,0,1))","v":""},{"$f":"IF(AK229=\"\",\"\",IF(AK229>Inputs!$D$9,0,1))","v":""},{"$f":"IF(AL229=\"\",\"\",IF(AL229>Inputs!$D$9,0,1))","v":""},"",0,null,"","","","","","","","","","","","","","",null,null,"","","","","","","","","","","","",""]
[null,null,null,null,null,null,null,null,null,null,null,null,null,null,"","","","","","","","","","","","","","","","","","","","","","","","",null,{"$f":"IF(AA230=\"\",\"\",IF(AA230>Inputs!$D$9,0,1))","v":""},{"$f":"IF(AB230=\"\",\"\",IF(AB230>Inputs!$D$9,0,1))","v":""},{"$f":"IF(AC230=\"\",\"\",IF(AC230>Inputs!$D$9,0,1))","v":""},{"$f":"IF(AD230=\"\",\"\",IF(AD230>Inputs!$D$9,0,1))","v":""},{"$f":"IF(AE230=\"\",\"\",IF(AE230>Inputs!$D$9,0,1))","v":""},{"$f":"IF(AF230=\"\",\"\",IF(AF230>Inputs!$D$9,0,1))","v":""},{"$f":"IF(AG230=\"\",\"\",IF(AG230>Inputs!$D$9,0,1))","v":""},{"$f":"IF(AH230=\"\",\"\",IF(AH230>Inputs!$D$9,0,1))","v":""},{"$f":"IF(AI230=\"\",\"\",IF(AI230>Inputs!$D$9,0,1))","v":""},{"$f":"IF(AJ230=\"\",\"\",IF(AJ230>Inputs!$D$9,0,1))","v":""},{"$f":"IF(AK230=\"\",\"\",IF(AK230>Inputs!$D$9,0,1))","v":""},{"$f":"IF(AL230=\"\",\"\",IF(AL230>Inputs!$D$9,0,1))","v":""},"",0,null,"","","","","","","","","","","","","","",null,null,"","","","","","","","","","","","",""]
[null,null,null,null,null,null,null,null,null,null,null,null,null,null,"","","","","","","","","","","","","","","","","","","","","","","","",null,{"$f":"IF(AA231=\"\",\"\",IF(AA231>Inputs!$D$9,0,1))","v":""},{"$f":"IF(AB231=\"\",\"\",IF(AB231>Inputs!$D$9,0,1))","v":""},{"$f":"IF(AC231=\"\",\"\",IF(AC231>Inputs!$D$9,0,1))","v":""},{"$f":"IF(AD231=\"\",\"\",IF(AD231>Inputs!$D$9,0,1))","v":""},{"$f":"IF(AE231=\"\",\"\",IF(AE231>Inputs!$D$9,0,1))","v":""},{"$f":"IF(AF231=\"\",\"\",IF(AF231>Inputs!$D$9,0,1))","v":""},{"$f":"IF(AG231=\"\",\"\",IF(AG231>Inputs!$D$9,0,1))","v":""},{"$f":"IF(AH231=\"\",\"\",IF(AH231>Inputs!$D$9,0,1))","v":""},{"$f":"IF(AI231=\"\",\"\",IF(AI231>Inputs!$D$9,0,1))","v":""},{"$f":"IF(AJ231=\"\",\"\",IF(AJ231>Inputs!$D$9,0,1))","v":""},{"$f":"IF(AK231=\"\",\"\",IF(AK231>Inputs!$D$9,0,1))","v":""},{"$f":"IF(AL231=\"\",\"\",IF(AL231>Inputs!$D$9,0,1))","v":""},"",0,null,"","","","","","","","","","","","","","",null,null,"","","","","","","","","","","","",""]
[null,null,null,null,null,null,null,null,null,null,null,null,null,null,"","","","","","","","","","","","","","","","","","","","","","","","",null,{"$f":"IF(AA232=\"\",\"\",IF(AA232>Inputs!$D$9,0,1))","v":""},{"$f":"IF(AB232=\"\",\"\",IF(AB232>Inputs!$D$9,0,1))","v":""},{"$f":"IF(AC232=\"\",\"\",IF(AC232>Inputs!$D$9,0,1))","v":""},{"$f":"IF(AD232=\"\",\"\",IF(AD232>Inputs!$D$9,0,1))","v":""},{"$f":"IF(AE232=\"\",\"\",IF(AE232>Inputs!$D$9,0,1))","v":""},{"$f":"IF(AF232=\"\",\"\",IF(AF232>Inputs!$D$9,0,1))","v":""},{"$f":"IF(AG232=\"\",\"\",IF(AG232>Inputs!$D$9,0,1))","v":""},{"$f":"IF(AH232=\"\",\"\",IF(AH232>Inputs!$D$9,0,1))","v":""},{"$f":"IF(AI232=\"\",\"\",IF(AI232>Inputs!$D$9,0,1))","v":""},{"$f":"IF(AJ232=\"\",\"\",IF(AJ232>Inputs!$D$9,0,1))","v":""},{"$f":"IF(AK232=\"\",\"\",IF(AK232>Inputs!$D$9,0,1))","v":""},{"$f":"IF(AL232=\"\",\"\",IF(AL232>Inputs!$D$9,0,1))","v":""},"",0,null,"","","","","","","","","","","","","","",null,null,"","","","","","","","","","","","",""]
[null,null,null,null,null,null,null,null,null,null,null,null,null,null,"","","","","","","","","","","","","","","","","","","","","","","","",null,{"$f":"IF(AA233=\"\",\"\",IF(AA233>Inputs!$D$9,0,1))","v":""},{"$f":"IF(AB233=\"\",\"\",IF(AB233>Inputs!$D$9,0,1))","v":""},{"$f":"IF(AC233=\"\",\"\",IF(AC233>Inputs!$D$9,0,1))","v":""},{"$f":"IF(AD233=\"\",\"\",IF(AD233>Inputs!$D$9,0,1))","v":""},{"$f":"IF(AE233=\"\",\"\",IF(AE233>Inputs!$D$9,0,1))","v":""},{"$f":"IF(AF233=\"\",\"\",IF(AF233>Inputs!$D$9,0,1))","v":""},{"$f":"IF(AG233=\"\",\"\",IF(AG233>Inputs!$D$9,0,1))","v":""},{"$f":"IF(AH233=\"\",\"\",IF(AH233>Inputs!$D$9,0,1))","v":""},{"$f":"IF(AI233=\"\",\"\",IF(AI233>Inputs!$D$9,0,1))","v":""},{"$f":"IF(AJ233=\"\",\"\",IF(AJ233>Inputs!$D$9,0,1))","v":""},{"$f":"IF(AK233=\"\",\"\",IF(AK233>Inputs!$D$9,0,1))","v":""},{"$f":"IF(AL233=\"\",\"\",IF(AL233>Inputs!$D$9,0,1))","v":""},"",0,null,"","","","","","","","","","","","","","",null,null,"","","","","","","","","","","","",""]
[null,null,null,null,null,null,null,null,null,null,null,null,null,null,"","","","","","","","","","","","","","","","","","","","","","","","",null,{"$f":"IF(AA234=\"\",\"\",IF(AA234>Inputs!$D$9,0,1))","v":""},{"$f":"IF(AB234=\"\",\"\",IF(AB234>Inputs!$D$9,0,1))","v":""},{"$f":"IF(AC234=\"\",\"\",IF(AC234>Inputs!$D$9,0,1))","v":""},{"$f":"IF(AD234=\"\",\"\",IF(AD234>Inputs!$D$9,0,1))","v":""},{"$f":"IF(AE234=\"\",\"\",IF(AE234>Inputs!$D$9,0,1))","v":""},{"$f":"IF(AF234=\"\",\"\",IF(AF234>Inputs!$D$9,0,1))","v":""},{"$f":"IF(AG234=\"\",\"\",IF(AG234>Inputs!$D$9,0,1))","v":""},{"$f":"IF(AH234=\"\",\"\",IF(AH234>Inputs!$D$9,0,1))","v":""},{"$f":"IF(AI234=\"\",\"\",IF(AI234>Inputs!$D$9,0,1))","v":""},{"$f":"IF(AJ234=\"\",\"\",IF(AJ234>Inputs!$D$9,0,1))","v":""},{"$f":"IF(AK234=\"\",\"\",IF(AK234>Inputs!$D$9,0,1))","v":""},{"$f":"IF(AL234=\"\",\"\",IF(AL234>Inputs!$D$9,0,1))","v":""},"",0,null,"","","","","","","","","","","","","","",null,null,"","","","","","","","","","","","",""]
[null,null,null,null,null,null,null,null,null,null,null,null,null,null,"","","","","","","","","","","","","","","","","","","","","","","","",null,{"$f":"IF(AA235=\"\",\"\",IF(AA235>Inputs!$D$9,0,1))","v":""},{"$f":"IF(AB235=\"\",\"\",IF(AB235>Inputs!$D$9,0,1))","v":""},{"$f":"IF(AC235=\"\",\"\",IF(AC235>Inputs!$D$9,0,1))","v":""},{"$f":"IF(AD235=\"\",\"\",IF(AD235>Inputs!$D$9,0,1))","v":""},{"$f":"IF(AE235=\"\",\"\",IF(AE235>Inputs!$D$9,0,1))","v":""},{"$f":"IF(AF235=\"\",\"\",IF(AF235>Inputs!$D$9,0,1))","v":""},{"$f":"IF(AG235=\"\",\"\",IF(AG235>Inputs!$D$9,0,1))","v":""},{"$f":"IF(AH235=\"\",\"\",IF(AH235>Inputs!$D$9,0,1))","v":""},{"$f":"IF(AI235=\"\",\"\",IF(AI235>Inputs!$D$9,0,1))","v":""},{"$f":"IF(AJ235=\"\",\"\",IF(AJ235>Inputs!$D$9,0,1))","v":""},{"$f":"IF(AK235=\"\",\"\",IF(AK235>Inputs!$D$9,0,1))","v":""},{"$f":"IF(AL235=\"\",\"\",IF(AL235>Inputs!$D$9,0,1))","v":""},"",0,null,"","","","","","","","","","","","","","",null,null,"","","","","","","","","","","","",""]
[null,null,null,null,null,null,null,null,null,null,null,null,null,null,"","","","","","","","","","","","","","","","","","","","","","","","",null,{"$f":"IF(AA236=\"\",\"\",IF(AA236>Inputs!$D$9,0,1))","v":""},{"$f":"IF(AB236=\"\",\"\",IF(AB236>Inputs!$D$9,0,1))","v":""},{"$f":"IF(AC236=\"\",\"\",IF(AC236>Inputs!$D$9,0,1))","v":""},{"$f":"IF(AD236=\"\",\"\",IF(AD236>Inputs!$D$9,0,1))","v":""},{"$f":"IF(AE236=\"\",\"\",IF(AE236>Inputs!$D$9,0,1))","v":""},{"$f":"IF(AF236=\"\",\"\",IF(AF236>Inputs!$D$9,0,1))","v":""},{"$f":"IF(AG236=\"\",\"\",IF(AG236>Inputs!$D$9,0,1))","v":""},{"$f":"IF(AH236=\"\",\"\",IF(AH236>Inputs!$D$9,0,1))","v":""},{"$f":"IF(AI236=\"\",\"\",IF(AI236>Inputs!$D$9,0,1))","v":""},{"$f":"IF(AJ236=\"\",\"\",IF(AJ236>Inputs!$D$9,0,1))","v":""},{"$f":"IF(AK236=\"\",\"\",IF(AK236>Inputs!$D$9,0,1))","v":""},{"$f":"IF(AL236=\"\",\"\",IF(AL236>Inputs!$D$9,0,1))","v":""},"",0,null,"","","","","","","","","","","","","","",null,null,"","","","","","","","","","","","",""]
[null,null,null,null,null,null,null,null,null,null,null,null,null,null,"","","","","","","","","","","","","","","","","","","","","","","","",null,{"$f":"IF(AA237=\"\",\"\",IF(AA237>Inputs!$D$9,0,1))","v":""},{"$f":"IF(AB237=\"\",\"\",IF(AB237>Inputs!$D$9,0,1))","v":""},{"$f":"IF(AC237=\"\",\"\",IF(AC237>Inputs!$D$9,0,1))","v":""},{"$f":"IF(AD237=\"\",\"\",IF(AD237>Inputs!$D$9,0,1))","v":""},{"$f":"IF(AE237=\"\",\"\",IF(AE237>Inputs!$D$9,0,1))","v":""},{"$f":"IF(AF237=\"\",\"\",IF(AF237>Inputs!$D$9,0,1))","v":""},{"$f":"IF(AG237=\"\",\"\",IF(AG237>Inputs!$D$9,0,1))","v":""},{"$f":"IF(AH237=\"\",\"\",IF(AH237>Inputs!$D$9,0,1))","v":""},{"$f":"IF(AI237=\"\",\"\",IF(AI237>Inputs!$D$9,0,1))","v":""},{"$f":"IF(AJ237=\"\",\"\",IF(AJ237>Inputs!$D$9,0,1))","v":""},{"$f":"IF(AK237=\"\",\"\",IF(AK237>Inputs!$D$9,0,1))","v":""},{"$f":"IF(AL237=\"\",\"\",IF(AL237>Inputs!$D$9,0,1))","v":""},"",0,null,"","","","","","","","","","","","","","",null,null,"","","","","","","","","","","","",""]
[null,null,null,null,null,null,null,null,null,null,null,null,null,null,"","","","","","","","","","","","","","","","","","","","","","","","",null,{"$f":"IF(AA238=\"\",\"\",IF(AA238>Inputs!$D$9,0,1))","v":""},{"$f":"IF(AB238=\"\",\"\",IF(AB238>Inputs!$D$9,0,1))","v":""},{"$f":"IF(AC238=\"\",\"\",IF(AC238>Inputs!$D$9,0,1))","v":""},{"$f":"IF(AD238=\"\",\"\",IF(AD238>Inputs!$D$9,0,1))","v":""},{"$f":"IF(AE238=\"\",\"\",IF(AE238>Inputs!$D$9,0,1))","v":""},{"$f":"IF(AF238=\"\",\"\",IF(AF238>Inputs!$D$9,0,1))","v":""},{"$f":"IF(AG238=\"\",\"\",IF(AG238>Inputs!$D$9,0,1))","v":""},{"$f":"IF(AH238=\"\",\"\",IF(AH238>Inputs!$D$9,0,1))","v":""},{"$f":"IF(AI238=\"\",\"\",IF(AI238>Inputs!$D$9,0,1))","v":""},{"$f":"IF(AJ238=\"\",\"\",IF(AJ238>Inputs!$D$9,0,1))","v":""},{"$f":"IF(AK238=\"\",\"\",IF(AK238>Inputs!$D$9,0,1))","v":""},{"$f":"IF(AL238=\"\",\"\",IF(AL238>Inputs!$D$9,0,1))","v":""},"",0,null,"","","","","","","","","","","","","","",null,null,"","","","","","","","","","","","",""]
[null,null,null,null,null,null,null,null,null,null,null,null,null,null,"","","","","","","","","","","","","","","","","","","","","","","","",null,{"$f":"IF(AA239=\"\",\"\",IF(AA239>Inputs!$D$9,0,1))","v":""},{"$f":"IF(AB239=\"\",\"\",IF(AB239>Inputs!$D$9,0,1))","v":""},{"$f":"IF(AC239=\"\",\"\",IF(AC239>Inputs!$D$9,0,1))","v":""},{"$f":"IF(AD239=\"\",\"\",IF(AD239>Inputs!$D$9,0,1))","v":""},{"$f":"IF(AE239=\"\",\"\",IF(AE239>Inputs!$D$9,0,1))","v":""},{"$f":"IF(AF239=\"\",\"\",IF(AF239>Inputs!$D$9,0,1))","v":""},{"$f":"IF(AG239=\"\",\"\",IF(AG239>Inputs!$D$9,0,1))","v":""},{"$f":"IF(AH239=\"\",\"\",IF(AH239>Inputs!$D$9,0,1))","v":""},{"$f":"IF(AI239=\"\",\"\",IF(AI239>Inputs!$D$9,0,1))","v":""},{"$f":"IF(AJ239=\"\",\"\",IF(AJ239>Inputs!$D$9,0,1))","v":""},{"$f":"IF(AK239=\"\",\"\",IF(AK239>Inputs!$D$9,0,1))","v":""},{"$f":"IF(AL239=\"\",\"\",IF(AL239>Inputs!$D$9,0,1))","v":""},"",0,null,"","","","","","","","","","","","","","",null,null,"","","","","","","","","","","","",""]
[null,null,null,null,null,null,null,null,null,null,null,null,null,null,"","","","","","","","","","","","","","","","","","","","","","","","",null,{"$f":"IF(AA240=\"\",\"\",IF(AA240>Inputs!$D$9,0,1))","v":""},{"$f":"IF(AB240=\"\",\"\",IF(AB240>Inputs!$D$9,0,1))","v":""},{"$f":"IF(AC240=\"\",\"\",IF(AC240>Inputs!$D$9,0,1))","v":""},{"$f":"IF(AD240=\"\",\"\",IF(AD240>Inputs!$D$9,0,1))","v":""},{"$f":"IF(AE240=\"\",\"\",IF(AE240>Inputs!$D$9,0,1))","v":""},{"$f":"IF(AF240=\"\",\"\",IF(AF240>Inputs!$D$9,0,1))","v":""},{"$f":"IF(AG240=\"\",\"\",IF(AG240>Inputs!$D$9,0,1))","v":""},{"$f":"IF(AH240=\"\",\"\",IF(AH240>Inputs!$D$9,0,1))","v":""},{"$f":"IF(AI240=\"\",\"\",IF(AI240>Inputs!$D$9,0,1))","v":""},{"$f":"IF(AJ240=\"\",\"\",IF(AJ240>Inputs!$D$9,0,1))","v":""},{"$f":"IF(AK240=\"\",\"\",IF(AK240>Inputs!$D$9,0,1))","v":""},{"$f":"IF(AL240=\"\",\"\",IF(AL240>Inputs!$D$9,0,1))","v":""},"",0,null,"","","","","","","","","","","","","","",null,null,"","","","","","","","","","","","",""]
[null,null,null,null,null,null,null,null,null,null,null,null,null,null,"","","","","","","","","","","","","","","","","","","","","","","","",null,{"$f":"IF(AA241=\"\",\"\",IF(AA241>Inputs!$D$9,0,1))","v":""},{"$f":"IF(AB241=\"\",\"\",IF(AB241>Inputs!$D$9,0,1))","v":""},{"$f":"IF(AC241=\"\",\"\",IF(AC241>Inputs!$D$9,0,1))","v":""},{"$f":"IF(AD241=\"\",\"\",IF(AD241>Inputs!$D$9,0,1))","v":""},{"$f":"IF(AE241=\"\",\"\",IF(AE241>Inputs!$D$9,0,1))","v":""},{"$f":"IF(AF241=\"\",\"\",IF(AF241>Inputs!$D$9,0,1))","v":""},{"$f":"IF(AG241=\"\",\"\",IF(AG241>Inputs!$D$9,0,1))","v":""},{"$f":"IF(AH241=\"\",\"\",IF(AH241>Inputs!$D$9,0,1))","v":""},{"$f":"IF(AI241=\"\",\"\",IF(AI241>Inputs!$D$9,0,1))","v":""},{"$f":"IF(AJ241=\"\",\"\",IF(AJ241>Inputs!$D$9,0,1))","v":""},{"$f":"IF(AK241=\"\",\"\",IF(AK241>Inputs!$D$9,0,1))","v":""},{"$f":"IF(AL241=\"\",\"\",IF(AL241>Inputs!$D$9,0,1))","v":""},"",0,null,"","","","","","","","","","","","","","",null,null,"","","","","","","","","","","","",""]
[null,null,null,null,null,null,null,null,null,null,null,null,null,null,"","","","","","","","","","","","","","","","","","","","","","","","",null,{"$f":"IF(AA242=\"\",\"\",IF(AA242>Inputs!$D$9,0,1))","v":""},{"$f":"IF(AB242=\"\",\"\",IF(AB242>Inputs!$D$9,0,1))","v":""},{"$f":"IF(AC242=\"\",\"\",IF(AC242>Inputs!$D$9,0,1))","v":""},{"$f":"IF(AD242=\"\",\"\",IF(AD242>Inputs!$D$9,0,1))","v":""},{"$f":"IF(AE242=\"\",\"\",IF(AE242>Inputs!$D$9,0,1))","v":""},{"$f":"IF(AF242=\"\",\"\",IF(AF242>Inputs!$D$9,0,1))","v":""},{"$f":"IF(AG242=\"\",\"\",IF(AG242>Inputs!$D$9,0,1))","v":""},{"$f":"IF(AH242=\"\",\"\",IF(AH242>Inputs!$D$9,0,1))","v":""},{"$f":"IF(AI242=\"\",\"\",IF(AI242>Inputs!$D$9,0,1))","v":""},{"$f":"IF(AJ242=\"\",\"\",IF(AJ242>Inputs!$D$9,0,1))","v":""},{"$f":"IF(AK242=\"\",\"\",IF(AK242>Inputs!$D$9,0,1))","v":""},{"$f":"IF(AL242=\"\",\"\",IF(AL242>Inputs!$D$9,0,1))","v":""},"",0,null,"","","","","","","","","","","","","","",null,null,"","","","","","","","","","","","",""]
[null,null,null,null,null,null,null,null,null,null,null,null,null,null,"","","","","","","","","","","","","","","","","","","","","","","","",null,{"$f":"IF(AA243=\"\",\"\",IF(AA243>Inputs!$D$9,0,1))","v":""},{"$f":"IF(AB243=\"\",\"\",IF(AB243>Inputs!$D$9,0,1))","v":""},{"$f":"IF(AC243=\"\",\"\",IF(AC243>Inputs!$D$9,0,1))","v":""},{"$f":"IF(AD243=\"\",\"\",IF(AD243>Inputs!$D$9,0,1))","v":""},{"$f":"IF(AE243=\"\",\"\",IF(AE243>Inputs!$D$9,0,1))","v":""},{"$f":"IF(AF243=\"\",\"\",IF(AF243>Inputs!$D$9,0,1))","v":""},{"$f":"IF(AG243=\"\",\"\",IF(AG243>Inputs!$D$9,0,1))","v":""},{"$f":"IF(AH243=\"\",\"\",IF(AH243>Inputs!$D$9,0,1))","v":""},{"$f":"IF(AI243=\"\",\"\",IF(AI243>Inputs!$D$9,0,1))","v":""},{"$f":"IF(AJ243=\"\",\"\",IF(AJ243>Inputs!$D$9,0,1))","v":""},{"$f":"IF(AK243=\"\",\"\",IF(AK243>Inputs!$D$9,0,1))","v":""},{"$f":"IF(AL243=\"\",\"\",IF(AL243>Inputs!$D$9,0,1))","v":""},"",0,null,"","","","","","","","","","","","","","",null,null,"","","","","","","","","","","","",""]
[null,null,null,null,null,null,null,null,null,null,null,null,null,null,"","","","","","","","","","","","","","","","","","","","","","","","",null,{"$f":"IF(AA244=\"\",\"\",IF(AA244>Inputs!$D$9,0,1))","v":""},{"$f":"IF(AB244=\"\",\"\",IF(AB244>Inputs!$D$9,0,1))","v":""},{"$f":"IF(AC244=\"\",\"\",IF(AC244>Inputs!$D$9,0,1))","v":""},{"$f":"IF(AD244=\"\",\"\",IF(AD244>Inputs!$D$9,0,1))","v":""},{"$f":"IF(AE244=\"\",\"\",IF(AE244>Inputs!$D$9,0,1))","v":""},{"$f":"IF(AF244=\"\",\"\",IF(AF244>Inputs!$D$9,0,1))","v":""},{"$f":"IF(AG244=\"\",\"\",IF(AG244>Inputs!$D$9,0,1))","v":""},{"$f":"IF(AH244=\"\",\"\",IF(AH244>Inputs!$D$9,0,1))","v":""},{"$f":"IF(AI244=\"\",\"\",IF(AI244>Inputs!$D$9,0,1))","v":""},{"$f":"IF(AJ244=\"\",\"\",IF(AJ244>Inputs!$D$9,0,1))","v":""},{"$f":"IF(AK244=\"\",\"\",IF(AK244>Inputs!$D$9,0,1))","v":""},{"$f":"IF(AL244=\"\",\"\",IF(AL244>Inputs!$D$9,0,1))","v":""},"",0,null,"","","","","","","","","","","","","","",null,null,"","","","","","","","","","","","",""]
[null,null,null,null,null,null,null,null,null,null,null,null,null,null,"","","","","","","","","","","","","","","","","","","","","","","","",null,{"$f":"IF(AA245=\"\",\"\",IF(AA245>Inputs!$D$9,0,1))","v":""},{"$f":"IF(AB245=\"\",\"\",IF(AB245>Inputs!$D$9,0,1))","v":""},{"$f":"IF(AC245=\"\",\"\",IF(AC245>Inputs!$D$9,0,1))","v":""},{"$f":"IF(AD245=\"\",\"\",IF(AD245>Inputs!$D$9,0,1))","v":""},{"$f":"IF(AE245=\"\",\"\",IF(AE245>Inputs!$D$9,0,1))","v":""},{"$f":"IF(AF245=\"\",\"\",IF(AF245>Inputs!$D$9,0,1))","v":""},{"$f":"IF(AG245=\"\",\"\",IF(AG245>Inputs!$D$9,0,1))","v":""},{"$f":"IF(AH245=\"\",\"\",IF(AH245>Inputs!$D$9,0,1))","v":""},{"$f":"IF(AI245=\"\",\"\",IF(AI245>Inputs!$D$9,0,1))","v":""},{"$f":"IF(AJ245=\"\",\"\",IF(AJ245>Inputs!$D$9,0,1))","v":""},{"$f":"IF(AK245=\"\",\"\",IF(AK245>Inputs!$D$9,0,1))","v":""},{"$f":"IF(AL245=\"\",\"\",IF(AL245>Inputs!$D$9,0,1))","v":""},"",0,null,"","","","","","","","","","","","","","",null,null,"","","","","","","","","","","","",""]
[null,null,null,null,null,null,null,null,null,null,null,null,null,null,"","","","","","","","","","","","","","","","","","","","","","","","",null,{"$f":"IF(AA246=\"\",\"\",IF(AA246>Inputs!$D$9,0,1))","v":""},{"$f":"IF(AB246=\"\",\"\",IF(AB246>Inputs!$D$9,0,1))","v":""},{"$f":"IF(AC246=\"\",\"\",IF(AC246>Inputs!$D$9,0,1))","v":""},{"$f":"IF(AD246=\"\",\"\",IF(AD246>Inputs!$D$9,0,1))","v":""},{"$f":"IF(AE246=\"\",\"\",IF(AE246>Inputs!$D$9,0,1))","v":""},{"$f":"IF(AF246=\"\",\"\",IF(AF246>Inputs!$D$9,0,1))","v":""},{"$f":"IF(AG246=\"\",\"\",IF(AG246>Inputs!$D$9,0,1))","v":""},{"$f":"IF(AH246=\"\",\"\",IF(AH246>Inputs!$D$9,0,1))","v":""},{"$f":"IF(AI246=\"\",\"\",IF(AI246>Inputs!$D$9,0,1))","v":""},{"$f":"IF(AJ246=\"\",\"\",IF(AJ246>Inputs!$D$9,0,1))","v":""},{"$f":"IF(AK246=\"\",\"\",IF(AK246>Inputs!$D$9,0,1))","v":""},{"$f":"IF(AL246=\"\",\"\",IF(AL246>Inputs!$D$9,0,1))","v":""},"",0,null,"","","","","","","","","","","","","","",null,null,"","","","","","","","","","","","",""]
[null,null,null,null,null,null,null,null,null,null,null,null,null,null,"","","","","","","","","","","","","","","","","","","","","","","","",null,{"$f":"IF(AA247=\"\",\"\",IF(AA247>Inputs!$D$9,0,1))","v":""},{"$f":"IF(AB247=\"\",\"\",IF(AB247>Inputs!$D$9,0,1))","v":""},{"$f":"IF(AC247=\"\",\"\",IF(AC247>Inputs!$D$9,0,1))","v":""},{"$f":"IF(AD247=\"\",\"\",IF(AD247>Inputs!$D$9,0,1))","v":""},{"$f":"IF(AE247=\"\",\"\",IF(AE247>Inputs!$D$9,0,1))","v":""},{"$f":"IF(AF247=\"\",\"\",IF(AF247>Inputs!$D$9,0,1))","v":""},{"$f":"IF(AG247=\"\",\"\",IF(AG247>Inputs!$D$9,0,1))","v":""},{"$f":"IF(AH247=\"\",\"\",IF(AH247>Inputs!$D$9,0,1))","v":""},{"$f":"IF(AI247=\"\",\"\",IF(AI247>Inputs!$D$9,0,1))","v":""},{"$f":"IF(AJ247=\"\",\"\",IF(AJ247>Inputs!$D$9,0,1))","v":""},{"$f":"IF(AK247=\"\",\"\",IF(AK247>Inputs!$D$9,0,1))","v":""},{"$f":"IF(AL247=\"\",\"\",IF(AL247>Inputs!$D$9,0,1))","v":""},"",0,null,"","","","","","","","","","","","","","",null,null,"","","","","","","","","","","","",""]
[null,null,null,null,null,null,null,null,null,null,null,null,null,null,"","","","","","","","","","","","","","","","","","","","","","","","",null,{"$f":"IF(AA248=\"\",\"\",IF(AA248>Inputs!$D$9,0,1))","v":""},{"$f":"IF(AB248=\"\",\"\",IF(AB248>Inputs!$D$9,0,1))","v":""},{"$f":"IF(AC248=\"\",\"\",IF(AC248>Inputs!$D$9,0,1))","v":""},{"$f":"IF(AD248=\"\",\"\",IF(AD248>Inputs!$D$9,0,1))","v":""},{"$f":"IF(AE248=\"\",\"\",IF(AE248>Inputs!$D$9,0,1))","v":""},{"$f":"IF(AF248=\"\",\"\",IF(AF248>Inputs!$D$9,0,1))","v":""},{"$f":"IF(AG248=\"\",\"\",IF(AG248>Inputs!$D$9,0,1))","v":""},{"$f":"IF(AH248=\"\",\"\",IF(AH248>Inputs!$D$9,0,1))","v":""},{"$f":"IF(AI248=\"\",\"\",IF(AI248>Inputs!$D$9,0,1))","v":""},{"$f":"IF(AJ248=\"\",\"\",IF(AJ248>Inputs!$D$9,0,1))","v":""},{"$f":"IF(AK248=\"\",\"\",IF(AK248>Inputs!$D$9,0,1))","v":""},{"$f":"IF(AL248=\"\",\"\",IF(AL248>Inputs!$D$9,0,1))","v":""},"",0,null,"","","","","","","","","","","","","","",null,null,"","","","","","","","","","","","",""]
[null,null,null,null,null,null,null,null,null,null,null,null,null,null,"","","","","","","","","","","","","","","","","","","","","","","","",null,{"$f":"IF(AA249=\"\",\"\",IF(AA249>Inputs!$D$9,0,1))","v":""},{"$f":"IF(AB249=\"\",\"\",IF(AB249>Inputs!$D$9,0,1))","v":""},{"$f":"IF(AC249=\"\",\"\",IF(AC249>Inputs!$D$9,0,1))","v":""},{"$f":"IF(AD249=\"\",\"\",IF(AD249>Inputs!$D$9,0,1))","v":""},{"$f":"IF(AE249=\"\",\"\",IF(AE249>Inputs!$D$9,0,1))","v":""},{"$f":"IF(AF249=\"\",\"\",IF(AF249>Inputs!$D$9,0,1))","v":""},{"$f":"IF(AG249=\"\",\"\",IF(AG249>Inputs!$D$9,0,1))","v":""},{"$f":"IF(AH249=\"\",\"\",IF(AH249>Inputs!$D$9,0,1))","v":""},{"$f":"IF(AI249=\"\",\"\",IF(AI249>Inputs!$D$9,0,1))","v":""},{"$f":"IF(AJ249=\"\",\"\",IF(AJ249>Inputs!$D$9,0,1))","v":""},{"$f":"IF(AK249=\"\",\"\",IF(AK249>Inputs!$D$9,0,1))","v":""},{"$f":"IF(AL249=\"\",\"\",IF(AL249>Inputs!$D$9,0,1))","v":""},"",0,null,"","","","","","","","","","","","","","",null,null,"","","","","","","","","","","","",""]
[null,null,null,null,null,null,null,null,null,null,null,null,null,null,"","","","","","","","","","","","","","","","","","","","","","","","",null,{"$f":"IF(AA250=\"\",\"\",IF(AA250>Inputs!$D$9,0,1))","v":""},{"$f":"IF(AB250=\"\",\"\",IF(AB250>Inputs!$D$9,0,1))","v":""},{"$f":"IF(AC250=\"\",\"\",IF(AC250>Inputs!$D$9,0,1))","v":""},{"$f":"IF(AD250=\"\",\"\",IF(AD250>Inputs!$D$9,0,1))","v":""},{"$f":"IF(AE250=\"\",\"\",IF(AE250>Inputs!$D$9,0,1))","v":""},{"$f":"IF(AF250=\"\",\"\",IF(AF250>Inputs!$D$9,0,1))","v":""},{"$f":"IF(AG250=\"\",\"\",IF(AG250>Inputs!$D$9,0,1))","v":""},{"$f":"IF(AH250=\"\",\"\",IF(AH250>Inputs!$D$9,0,1))","v":""},{"$f":"IF(AI250=\"\",\"\",IF(AI250>Inputs!$D$9,0,1))","v":""},{"$f":"IF(AJ250=\"\",\"\",IF(AJ250>Inputs!$D$9,0,1))","v":""},{"$f":"IF(AK250=\"\",\"\",IF(AK250>Inputs!$D$9,0,1))","v":""},{"$f":"IF(AL250=\"\",\"\",IF(AL250>Inputs!$D$9,0,1))","v":""},"",0,null,"","","","","","","","","","","","","","",null,null,"","","","","","","","","","","","",""]
[null,null,null,null,null,null,null,null,null,null,null,null,null,null,"","","","","","","","","","","","","","","","","","","","","","","","",null,{"$f":"IF(AA251=\"\",\"\",IF(AA251>Inputs!$D$9,0,1))","v":""},{"$f":"IF(AB251=\"\",\"\",IF(AB251>Inputs!$D$9,0,1))","v":""},{"$f":"IF(AC251=\"\",\"\",IF(AC251>Inputs!$D$9,0,1))","v":""},{"$f":"IF(AD251=\"\",\"\",IF(AD251>Inputs!$D$9,0,1))","v":""},{"$f":"IF(AE251=\"\",\"\",IF(AE251>Inputs!$D$9,0,1))","v":""},{"$f":"IF(AF251=\"\",\"\",IF(AF251>Inputs!$D$9,0,1))","v":""},{"$f":"IF(AG251=\"\",\"\",IF(AG251>Inputs!$D$9,0,1))","v":""},{"$f":"IF(AH251=\"\",\"\",IF(AH251>Inputs!$D$9,0,1))","v":""},{"$f":"IF(AI251=\"\",\"\",IF(AI251>Inputs!$D$9,0,1))","v":""},{"$f":"IF(AJ251=\"\",\"\",IF(AJ251>Inputs!$D$9,0,1))","v":""},{"$f":"IF(AK251=\"\",\"\",IF(AK251>Inputs!$D$9,0,1))","v":""},{"$f":"IF(AL251=\"\",\"\",IF(AL251>Inputs!$D$9,0,1))","v":""},"",0,null,"","","","","","","","","","","","","","",null,null,"","","","","","","","","","","","",""]
[null,null,null,null,null,null,null,null,null,null,null,null,null,null,"","","","","","","","","","","","","","","","","","","","","","","","",null,{"$f":"IF(AA252=\"\",\"\",IF(AA252>Inputs!$D$9,0,1))","v":""},{"$f":"IF(AB252=\"\",\"\",IF(AB252>Inputs!$D$9,0,1))","v":""},{"$f":"IF(AC252=\"\",\"\",IF(AC252>Inputs!$D$9,0,1))","v":""},{"$f":"IF(AD252=\"\",\"\",IF(AD252>Inputs!$D$9,0,1))","v":""},{"$f":"IF(AE252=\"\",\"\",IF(AE252>Inputs!$D$9,0,1))","v":""},{"$f":"IF(AF252=\"\",\"\",IF(AF252>Inputs!$D$9,0,1))","v":""},{"$f":"IF(AG252=\"\",\"\",IF(AG252>Inputs!$D$9,0,1))","v":""},{"$f":"IF(AH252=\"\",\"\",IF(AH252>Inputs!$D$9,0,1))","v":""},{"$f":"IF(AI252=\"\",\"\",IF(AI252>Inputs!$D$9,0,1))","v":""},{"$f":"IF(AJ252=\"\",\"\",IF(AJ252>Inputs!$D$9,0,1))","v":""},{"$f":"IF(AK252=\"\",\"\",IF(AK252>Inputs!$D$9,0,1))","v":""},{"$f":"IF(AL252=\"\",\"\",IF(AL252>Inputs!$D$9,0,1))","v":""},"",0,null,"","","","","","","","","","","","","","",null,null,"","","","","","","","","","","","",""]
[null,null,null,null,null,null,null,null,null,null,null,null,null,null,"","","","","","","","","","","","","","","","","","","","","","","","",null,{"$f":"IF(AA253=\"\",\"\",IF(AA253>Inputs!$D$9,0,1))","v":""},{"$f":"IF(AB253=\"\",\"\",IF(AB253>Inputs!$D$9,0,1))","v":""},{"$f":"IF(AC253=\"\",\"\",IF(AC253>Inputs!$D$9,0,1))","v":""},{"$f":"IF(AD253=\"\",\"\",IF(AD253>Inputs!$D$9,0,1))","v":""},{"$f":"IF(AE253=\"\",\"\",IF(AE253>Inputs!$D$9,0,1))","v":""},{"$f":"IF(AF253=\"\",\"\",IF(AF253>Inputs!$D$9,0,1))","v":""},{"$f":"IF(AG253=\"\",\"\",IF(AG253>Inputs!$D$9,0,1))","v":""},{"$f":"IF(AH253=\"\",\"\",IF(AH253>Inputs!$D$9,0,1))","v":""},{"$f":"IF(AI253=\"\",\"\",IF(AI253>Inputs!$D$9,0,1))","v":""},{"$f":"IF(AJ253=\"\",\"\",IF(AJ253>Inputs!$D$9,0,1))","v":""},{"$f":"IF(AK253=\"\",\"\",IF(AK253>Inputs!$D$9,0,1))","v":""},{"$f":"IF(AL253=\"\",\"\",IF(AL253>Inputs!$D$9,0,1))","v":""},"",0,null,"","","","","","","","","","","","","","",null,null,"","","","","","","","","","","","",""]
[null,null,null,null,null,null,null,null,null,null,null,null,null,null,"","","","","","","","","","","","","","","","","","","","","","","","",null,{"$f":"IF(AA254=\"\",\"\",IF(AA254>Inputs!$D$9,0,1))","v":""},{"$f":"IF(AB254=\"\",\"\",IF(AB254>Inputs!$D$9,0,1))","v":""},{"$f":"IF(AC254=\"\",\"\",IF(AC254>Inputs!$D$9,0,1))","v":""},{"$f":"IF(AD254=\"\",\"\",IF(AD254>Inputs!$D$9,0,1))","v":""},{"$f":"IF(AE254=\"\",\"\",IF(AE254>Inputs!$D$9,0,1))","v":""},{"$f":"IF(AF254=\"\",\"\",IF(AF254>Inputs!$D$9,0,1))","v":""},{"$f":"IF(AG254=\"\",\"\",IF(AG254>Inputs!$D$9,0,1))","v":""},{"$f":"IF(AH254=\"\",\"\",IF(AH254>Inputs!$D$9,0,1))","v":""},{"$f":"IF(AI254=\"\",\"\",IF(AI254>Inputs!$D$9,0,1))","v":""},{"$f":"IF(AJ254=\"\",\"\",IF(AJ254>Inputs!$D$9,0,1))","v":""},{"$f":"IF(AK254=\"\",\"\",IF(AK254>Inputs!$D$9,0,1))","v":""},{"$f":"IF(AL254=\"\",\"\",IF(AL254>Inputs!$D$9,0,1))","v":""},"",0,null,"","","","","","","","","","","","","","",null,null,"","","","","","","","","","","","",""]
[null,null,null,null,null,null,null,null,null,null,null,null,null,null,"","","","","","","","","","","","","","","","","","","","","","","","",null,{"$f":"IF(AA255=\"\",\"\",IF(AA255>Inputs!$D$9,0,1))","v":""},{"$f":"IF(AB255=\"\",\"\",IF(AB255>Inputs!$D$9,0,1))","v":""},{"$f":"IF(AC255=\"\",\"\",IF(AC255>Inputs!$D$9,0,1))","v":""},{"$f":"IF(AD255=\"\",\"\",IF(AD255>Inputs!$D$9,0,1))","v":""},{"$f":"IF(AE255=\"\",\"\",IF(AE255>Inputs!$D$9,0,1))","v":""},{"$f":"IF(AF255=\"\",\"\",IF(AF255>Inputs!$D$9,0,1))","v":""},{"$f":"IF(AG255=\"\",\"\",IF(AG255>Inputs!$D$9,0,1))","v":""},{"$f":"IF(AH255=\"\",\"\",IF(AH255>Inputs!$D$9,0,1))","v":""},{"$f":"IF(AI255=\"\",\"\",IF(AI255>Inputs!$D$9,0,1))","v":""},{"$f":"IF(AJ255=\"\",\"\",IF(AJ255>Inputs!$D$9,0,1))","v":""},{"$f":"IF(AK255=\"\",\"\",IF(AK255>Inputs!$D$9,0,1))","v":""},{"$f":"IF(AL255=\"\",\"\",IF(AL255>Inputs!$D$9,0,1))","v":""},"",0,null,"","","","","","","","","","","","","","",null,null,"","","","","","","","","","","","",""]
[null,null,null,null,null,null,null,null,null,null,null,null,null,null,"","","","","","","","","","","","","","","","","","","","","","","","",null,{"$f":"IF(AA256=\"\",\"\",IF(AA256>Inputs!$D$9,0,1))","v":""},{"$f":"IF(AB256=\"\",\"\",IF(AB256>Inputs!$D$9,0,1))","v":""},{"$f":"IF(AC256=\"\",\"\",IF(AC256>Inputs!$D$9,0,1))","v":""},{"$f":"IF(AD256=\"\",\"\",IF(AD256>Inputs!$D$9,0,1))","v":""},{"$f":"IF(AE256=\"\",\"\",IF(AE256>Inputs!$D$9,0,1))","v":""},{"$f":"IF(AF256=\"\",\"\",IF(AF256>Inputs!$D$9,0,1))","v":""},{"$f":"IF(AG256=\"\",\"\",IF(AG256>Inputs!$D$9,0,1))","v":""},{"$f":"IF(AH256=\"\",\"\",IF(AH256>Inputs!$D$9,0,1))","v":""},{"$f":"IF(AI256=\"\",\"\",IF(AI256>Inputs!$D$9,0,1))","v":""},{"$f":"IF(AJ256=\"\",\"\",IF(AJ256>Inputs!$D$9,0,1))","v":""},{"$f":"IF(AK256=\"\",\"\",IF(AK256>Inputs!$D$9,0,1))","v":""},{"$f":"IF(AL256=\"\",\"\",IF(AL256>Inputs!$D$9,0,1))","v":""},"",0,null,"","","","","","","","","","","","","","",null,null,"","","","","","","","","","","","",""]
[null,null,null,null,null,null,null,null,null,null,null,null,null,null,"","","","","","","","","","","","","","","","","","","","","","","","",null,{"$f":"IF(AA257=\"\",\"\",IF(AA257>Inputs!$D$9,0,1))","v":""},{"$f":"IF(AB257=\"\",\"\",IF(AB257>Inputs!$D$9,0,1))","v":""},{"$f":"IF(AC257=\"\",\"\",IF(AC257>Inputs!$D$9,0,1))","v":""},{"$f":"IF(AD257=\"\",\"\",IF(AD257>Inputs!$D$9,0,1))","v":""},{"$f":"IF(AE257=\"\",\"\",IF(AE257>Inputs!$D$9,0,1))","v":""},{"$f":"IF(AF257=\"\",\"\",IF(AF257>Inputs!$D$9,0,1))","v":""},{"$f":"IF(AG257=\"\",\"\",IF(AG257>Inputs!$D$9,0,1))","v":""},{"$f":"IF(AH257=\"\",\"\",IF(AH257>Inputs!$D$9,0,1))","v":""},{"$f":"IF(AI257=\"\",\"\",IF(AI257>Inputs!$D$9,0,1))","v":""},{"$f":"IF(AJ257=\"\",\"\",IF(AJ257>Inputs!$D$9,0,1))","v":""},{"$f":"IF(AK257=\"\",\"\",IF(AK257>Inputs!$D$9,0,1))","v":""},{"$f":"IF(AL257=\"\",\"\",IF(AL257>Inputs!$D$9,0,1))","v":""},"",0,null,"","","","","","","","","","","","","","",null,null,"","","","","","","","","","","","",""]
[null,null,null,null,null,null,null,null,null,null,null,null,null,null,"",{"$f":"IF(A258=\"\",\"\",IF(ISERROR(1+D258),\"\",IF(ISERROR(((1+D258/100)*(1+E258/100)*(1+F258/100)*(1+G258/100)*(1+H258/100)*(1+I258/100)*(1+J258/100)*(1+K258/100)*(1+L258/100)*(1+M258/100)*(1+N258/100))^(1/11)-1),\"\",((1+D258/100)*(1+E258/100)*(1+F258/100)*(1+G258/100)*(1+H258/100)*(1+I258/100)*(1+J258/100)*(1+K258/100)*(1+L258/100)*(1+M258/100)*(1+N258/100))^(1/11)-1)))","v":""},"","","","","","","","","","","","","","","","","","","","","","",null,{"$f":"IF(AA258=\"\",\"\",IF(AA258>Inputs!$D$9,0,1))","v":""},{"$f":"IF(AB258=\"\",\"\",IF(AB258>Inputs!$D$9,0,1))","v":""},{"$f":"IF(AC258=\"\",\"\",IF(AC258>Inputs!$D$9,0,1))","v":""},{"$f":"IF(AD258=\"\",\"\",IF(AD258>Inputs!$D$9,0,1))","v":""},{"$f":"IF(AE258=\"\",\"\",IF(AE258>Inputs!$D$9,0,1))","v":""},{"$f":"IF(AF258=\"\",\"\",IF(AF258>Inputs!$D$9,0,1))","v":""},{"$f":"IF(AG258=\"\",\"\",IF(AG258>Inputs!$D$9,0,1))","v":""},{"$f":"IF(AH258=\"\",\"\",IF(AH258>Inputs!$D$9,0,1))","v":""},{"$f":"IF(AI258=\"\",\"\",IF(AI258>Inputs!$D$9,0,1))","v":""},{"$f":"IF(AJ258=\"\",\"\",IF(AJ258>Inputs!$D$9,0,1))","v":""},{"$f":"IF(AK258=\"\",\"\",IF(AK258>Inputs!$D$9,0,1))","v":""},{"$f":"IF(AL258=\"\",\"\",IF(AL258>Inputs!$D$9,0,1))","v":""},"",0,null,"","","","","","","","","","","","","","",null,null,"","","","","","","","","","","","",""]
[null,null,null,null,null,null,null,null,null,null,null,null,null,null,{"$f":"IF(A259=\"\",\"\",IF(ISERROR(1+C259),\"\",IF(ISERROR(((1+C259/100)*(1+D259/100)*(1+E259/100)*(1+F259/100)*(1+G259/100)*(1+H259/100)*(1+I259/100)*(1+J259/100)*(1+K259/100)*(1+L259/100)*(1+M259/100)*(1+N259/100))^(1/12)-1),\"\",((1+C259/100)*(1+D259/100)*(1+E259/100)*(1+F259/100)*(1+G259/100)*(1+H259/100)*(1+I259/100)*(1+J259/100)*(1+K259/100)*(1+L259/100)*(1+M259/100)*(1+N259/100))^(1/12)-1)))","v":""},"",{"$f":"IF(A259=\"\",\"\",IF(ISERROR(1+E259),\"\",IF(ISERROR(((1+E259/100)*(1+F259/100)*(1+G259/100)*(1+H259/100)*(1+I259/100)*(1+J259/100)*(1+K259/100)*(1+L259/100)*(1+M259/100)*(1+N259/100))^(1/10)-1),\"\",((1+E259/100)*(1+F259/100)*(1+G259/100)*(1+H259/100)*(1+I259/100)*(1+J259/100)*(1+K259/100)*(1+L259/100)*(1+M259/100)*(1+N259/100))^(1/10)-1)))","v":""},{"$f":"IF(A259=\"\",\"\",IF(ISERROR(1+F259),\"\",IF(ISERROR(((1+F259/100)*(1+G259/100)*(1+H259/100)*(1+I259/100)*(1+J259/100)*(1+K259/100)*(1+L259/100)*(1+M259/100)*(1+N259/100))^(1/9)-1),\"\",((1+F259/100)*(1+G259/100)*(1+H259/100)*(1+I259/100)*(1+J259/100)*(1+K259/100)*(1+L259/100)*(1+M259/100)*(1+N259/100))^(1/9)-1)))","v":""},{"$f":"IF(A259=\"\",\"\",IF(ISERROR(1+G259),\"\",IF(ISERROR(((1+G259/100)*(1+H259/100)*(1+I259/100)*(1+J259/100)*(1+K259/100)*(1+L259/100)*(1+M259/100)*(1+N259/100))^(1/8)-1),\"\",((1+G259/100)*(1+H259/100)*(1+I259/100)*(1+J259/100)*(1+K259/100)*(1+L259/100)*(1+M259/100)*(1+N259/100))^(1/8)-1)))","v":""},{"$f":"IF(A259=\"\",\"\",IF(ISERROR(1+H259),\"\",IF(ISERROR(((1+H259/100)*(1+I259/100)*(1+J259/100)*(1+K259/100)*(1+L259/100)*(1+M259/100)*(1+N259/100))^(1/7)-1),\"\",((1+H259/100)*(1+I259/100)*(1+J259/100)*(1+K259/100)*(1+L259/100)*(1+M259/100)*(1+N259/100))^(1/7)-1)))","v":""},{"$f":"IF(A259=\"\",\"\",IF(ISERROR(1+I259),\"\",IF(ISERROR(((1+I259/100)*(1+J259/100)*(1+K259/100)*(1+L259/100)*(1+M259/100)*(1+N259/100))^(1/6)-1),\"\",((1+I259/100)*(1+J259/100)*(1+K259/100)*(1+L259/100)*(1+M259/100)*(1+N259/100))^(1/6)-1)))","v":""},{"$f":"IF(A259=\"\",\"\",IF(ISERROR(1+J259),\"\",IF(ISERROR(((1+J259/100)*(1+K259/100)*(1+L259/100)*(1+M259/100)*(1+N259/100))^(1/5)-1),\"\",((1+J259/100)*(1+K259/100)*(1+L259/100)*(1+M259/100)*(1+N259/100))^(1/5)-1)))","v":""},{"$f":"IF(A259=\"\",\"\",IF(ISERROR(1+K259),\"\",IF(ISERROR(((1+K259/100)*(1+L259/100)*(1+M259/100)*(1+N259/100))^(1/4)-1),\"\",((1+K259/100)*(1+L259/100)*(1+M259/100)*(1+N259/100))^(1/4)-1)))","v":""},{"$f":"IF(A259=\"\",\"\",IF(ISERROR(1+L259),\"\",IF(ISERROR(((1+L259/100)*(1+M259/100)*(1+N259/100))^(1/3)-1),\"\",((1+L259/100)*(1+M259/100)*(1+N259/100))^(1/3)-1)))","v":""},{"$f":"IF(A259=\"\",\"\",IF(ISERROR(1+M259),\"\",IF(ISERROR(((1+M259/100)*(1+N259/100))^(1/2)-1),\"\",((1+M259/100)*(1+N259/100))^(1/2)-1)))","v":""},{"$f":"IF(A259=\"\",\"\",IF(ISERROR(1+N259),\"\",IF(ISERROR(((1+N259/100))^(1/1)-1),\"\",((1+N259/100))^(1/1)-1)))","v":""},"","","","","","","","","","","","",null,{"$f":"IF(AA259=\"\",\"\",IF(AA259>Inputs!$D$9,0,1))","v":""},{"$f":"IF(AB259=\"\",\"\",IF(AB259>Inputs!$D$9,0,1))","v":""},{"$f":"IF(AC259=\"\",\"\",IF(AC259>Inputs!$D$9,0,1))","v":""},{"$f":"IF(AD259=\"\",\"\",IF(AD259>Inputs!$D$9,0,1))","v":""},{"$f":"IF(AE259=\"\",\"\",IF(AE259>Inputs!$D$9,0,1))","v":""},{"$f":"IF(AF259=\"\",\"\",IF(AF259>Inputs!$D$9,0,1))","v":""},{"$f":"IF(AG259=\"\",\"\",IF(AG259>Inputs!$D$9,0,1))","v":""},{"$f":"IF(AH259=\"\",\"\",IF(AH259>Inputs!$D$9,0,1))","v":""},{"$f":"IF(AI259=\"\",\"\",IF(AI259>Inputs!$D$9,0,1))","v":""},{"$f":"IF(AJ259=\"\",\"\",IF(AJ259>Inputs!$D$9,0,1))","v":""},{"$f":"IF(AK259=\"\",\"\",IF(AK259>Inputs!$D$9,0,1))","v":""},{"$f":"IF(AL259=\"\",\"\",IF(AL259>Inputs!$D$9,0,1))","v":""},"",{"$f":"COUNT(AN259:AY259)","v":0},null,{"$f":"IF(O259=\"\",\"\",IF(O259>AVERAGE($O$2:$O$1000),1,0))","v":""},{"$f":"IF(P259=\"\",\"\",IF(P259>AVERAGE($P$2:$P$1000),1,0))","v":""},{"$f":"IF(Q259=\"\",\"\",IF(Q259>AVERAGE($Q$2:$Q$1000),1,0))","v":""},{"$f":"IF(R259=\"\",\"\",IF(R259>AVERAGE($R$2:$R$1000),1,0))","v":""},{"$f":"IF(S259=\"\",\"\",IF(S259>AVERAGE($S$2:$S$1000),1,0))","v":""},{"$f":"IF(T259=\"\",\"\",IF(T259>AVERAGE($T$2:$T$1000),1,0))","v":""},{"$f":"IF(U259=\"\",\"\",IF(U259>AVERAGE($U$2:$U$1000),1,0))","v":""},{"$f":"IF(V259=\"\",\"\",IF(V259>AVERAGE($V$2:$V$1000),1,0))","v":""},{"$f":"IF(W259=\"\",\"\",IF(W259>AVERAGE($W$2:$W$1000),1,0))","v":""},{"$f":"IF(X259=\"\",\"\",IF(X259>AVERAGE($X$2:$X$1000),1,0))","v":""},{"$f":"IF(Y259=\"\",\"\",IF(Y259>AVERAGE($Y$2:$Y$1000),1,0))","v":""},{"$f":"IF(Z259=\"\",\"\",IF(Z259>AVERAGE($Z$2:$Z$1000),1,0))","v":""},{"$f":"IF(COUNT(BC259:BN259)=0,\"\",SUM(BC259:BN259)/COUNT(BC259:BN259))","v":""},{"$f":"IF(A259=\"\",\"\",COUNT(BC259:BN259))","v":""},null,null,{"$f":"IF($A259=\"\",\"\",IF(C259=\"-\",0,IF(C259>AVERAGE(C$2:C$1183),1,0)))","v":""},{"$f":"IF($A259=\"\",\"\",IF(D259=\"-\",0,IF(D259>AVERAGE(D$2:D$1183),1,0)))","v":""},{"$f":"IF($A259=\"\",\"\",IF(E259=\"-\",0,IF(E259>AVERAGE(E$2:E$1183),1,0)))","v":""},{"$f":"IF($A259=\"\",\"\",IF(F259=\"-\",0,IF(F259>AVERAGE(F$2:F$1183),1,0)))","v":""},{"$f":"IF($A259=\"\",\"\",IF(G259=\"-\",0,IF(G259>AVERAGE(G$2:G$1183),1,0)))","v":""},{"$f":"IF($A259=\"\",\"\",IF(H259=\"-\",0,IF(H259>AVERAGE(H$2:H$1183),1,0)))","v":""},{"$f":"IF($A259=\"\",\"\",IF(I259=\"-\",0,IF(I259>AVERAGE(I$2:I$1183),1,0)))","v":""},{"$f":"IF($A259=\"\",\"\",IF(J259=\"-\",0,IF(J259>AVERAGE(J$2:J$1183),1,0)))","v":""},{"$f":"IF($A259=\"\",\"\",IF(K259=\"-\",0,IF(K259>AVERAGE(K$2:K$1183),1,0)))","v":""},{"$f":"IF($A259=\"\",\"\",IF(L259=\"-\",0,IF(L259>AVERAGE(L$2:L$1183),1,0)))","v":""},{"$f":"IF($A259=\"\",\"\",IF(M259=\"-\",0,IF(M259>AVERAGE(M$2:M$1183),1,0)))","v":""},{"$f":"IF($A259=\"\",\"\",IF(N259=\"-\",0,IF(N259>AVERAGE(N$2:N$1183),1,0)))","v":""},""]
[null,null,null,null,null,null,null,null,null,null,null,null,null,null,"","","","","","","","","","","","","","","","","","","","","","","","",null,{"$f":"IF(AA260=\"\",\"\",IF(AA260>Inputs!$D$9,0,1))","v":""},{"$f":"IF(AB260=\"\",\"\",IF(AB260>Inputs!$D$9,0,1))","v":""},{"$f":"IF(AC260=\"\",\"\",IF(AC260>Inputs!$D$9,0,1))","v":""},{"$f":"IF(AD260=\"\",\"\",IF(AD260>Inputs!$D$9,0,1))","v":""},{"$f":"IF(AE260=\"\",\"\",IF(AE260>Inputs!$D$9,0,1))","v":""},{"$f":"IF(AF260=\"\",\"\",IF(AF260>Inputs!$D$9,0,1))","v":""},{"$f":"IF(AG260=\"\",\"\",IF(AG260>Inputs!$D$9,0,1))","v":""},{"$f":"IF(AH260=\"\",\"\",IF(AH260>Inputs!$D$9,0,1))","v":""},{"$f":"IF(AI260=\"\",\"\",IF(AI260>Inputs!$D$9,0,1))","v":""},{"$f":"IF(AJ260=\"\",\"\",IF(AJ260>Inputs!$D$9,0,1))","v":""},{"$f":"IF(AK260=\"\",\"\",IF(AK260>Inputs!$D$9,0,1))","v":""},{"$f":"IF(AL260=\"\",\"\",IF(AL260>Inputs!$D$9,0,1))","v":""},"",0,null,"","","","","","","","","","","","","","",null,null,"","","","","","","","","","","","",""]
[null,null,null,null,null,null,null,null,null,null,null,null,null,null,"","","","","","","","","","","","","","","","","","","","","","","","",null,{"$f":"IF(AA261=\"\",\"\",IF(AA261>Inputs!$D$9,0,1))","v":""},{"$f":"IF(AB261=\"\",\"\",IF(AB261>Inputs!$D$9,0,1))","v":""},{"$f":"IF(AC261=\"\",\"\",IF(AC261>Inputs!$D$9,0,1))","v":""},{"$f":"IF(AD261=\"\",\"\",IF(AD261>Inputs!$D$9,0,1))","v":""},{"$f":"IF(AE261=\"\",\"\",IF(AE261>Inputs!$D$9,0,1))","v":""},{"$f":"IF(AF261=\"\",\"\",IF(AF261>Inputs!$D$9,0,1))","v":""},{"$f":"IF(AG261=\"\",\"\",IF(AG261>Inputs!$D$9,0,1))","v":""},{"$f":"IF(AH261=\"\",\"\",IF(AH261>Inputs!$D$9,0,1))","v":""},{"$f":"IF(AI261=\"\",\"\",IF(AI261>Inputs!$D$9,0,1))","v":""},{"$f":"IF(AJ261=\"\",\"\",IF(AJ261>Inputs!$D$9,0,1))","v":""},{"$f":"IF(AK261=\"\",\"\",IF(AK261>Inputs!$D$9,0,1))","v":""},{"$f":"IF(AL261=\"\",\"\",IF(AL261>Inputs!$D$9,0,1))","v":""},"",0,null,"","","","","","","","","","","","","","",null,null,"","","","","","","","","","","","",""]
[null,null,null,null,null,null,null,null,null,null,null,null,null,null,"","","","","","","","","","","","","","","","","","","","","","","","",null,{"$f":"IF(AA262=\"\",\"\",IF(AA262>Inputs!$D$9,0,1))","v":""},{"$f":"IF(AB262=\"\",\"\",IF(AB262>Inputs!$D$9,0,1))","v":""},{"$f":"IF(AC262=\"\",\"\",IF(AC262>Inputs!$D$9,0,1))","v":""},{"$f":"IF(AD262=\"\",\"\",IF(AD262>Inputs!$D$9,0,1))","v":""},{"$f":"IF(AE262=\"\",\"\",IF(AE262>Inputs!$D$9,0,1))","v":""},{"$f":"IF(AF262=\"\",\"\",IF(AF262>Inputs!$D$9,0,1))","v":""},{"$f":"IF(AG262=\"\",\"\",IF(AG262>Inputs!$D$9,0,1))","v":""},{"$f":"IF(AH262=\"\",\"\",IF(AH262>Inputs!$D$9,0,1))","v":""},{"$f":"IF(AI262=\"\",\"\",IF(AI262>Inputs!$D$9,0,1))","v":""},{"$f":"IF(AJ262=\"\",\"\",IF(AJ262>Inputs!$D$9,0,1))","v":""},{"$f":"IF(AK262=\"\",\"\",IF(AK262>Inputs!$D$9,0,1))","v":""},{"$f":"IF(AL262=\"\",\"\",IF(AL262>Inputs!$D$9,0,1))","v":""},"",0,null,"","","","","","","","","","","","","","",null,null,"","","","","","","","","","","","",""]
[null,null,null,null,null,null,null,null,null,null,null,null,null,null,"","","","","","","","","","","","","","","","","","","","","","","","",null,{"$f":"IF(AA263=\"\",\"\",IF(AA263>Inputs!$D$9,0,1))","v":""},{"$f":"IF(AB263=\"\",\"\",IF(AB263>Inputs!$D$9,0,1))","v":""},{"$f":"IF(AC263=\"\",\"\",IF(AC263>Inputs!$D$9,0,1))","v":""},{"$f":"IF(AD263=\"\",\"\",IF(AD263>Inputs!$D$9,0,1))","v":""},{"$f":"IF(AE263=\"\",\"\",IF(AE263>Inputs!$D$9,0,1))","v":""},{"$f":"IF(AF263=\"\",\"\",IF(AF263>Inputs!$D$9,0,1))","v":""},{"$f":"IF(AG263=\"\",\"\",IF(AG263>Inputs!$D$9,0,1))","v":""},{"$f":"IF(AH263=\"\",\"\",IF(AH263>Inputs!$D$9,0,1))","v":""},{"$f":"IF(AI263=\"\",\"\",IF(AI263>Inputs!$D$9,0,1))","v":""},{"$f":"IF(AJ263=\"\",\"\",IF(AJ263>Inputs!$D$9,0,1))","v":""},{"$f":"IF(AK263=\"\",\"\",IF(AK263>Inputs!$D$9,0,1))","v":""},{"$f":"IF(AL263=\"\",\"\",IF(AL263>Inputs!$D$9,0,1))","v":""},"",0,null,"","","","","","","","","","","","","","",null,null,"","","","","","","","","","","","",""]
[null,null,null,null,null,null,null,null,null,null,null,null,null,null,"","","","","","","","","","","","","","","","","","","","","","","","",null,{"$f":"IF(AA264=\"\",\"\",IF(AA264>Inputs!$D$9,0,1))","v":""},{"$f":"IF(AB264=\"\",\"\",IF(AB264>Inputs!$D$9,0,1))","v":""},{"$f":"IF(AC264=\"\",\"\",IF(AC264>Inputs!$D$9,0,1))","v":""},{"$f":"IF(AD264=\"\",\"\",IF(AD264>Inputs!$D$9,0,1))","v":""},{"$f":"IF(AE264=\"\",\"\",IF(AE264>Inputs!$D$9,0,1))","v":""},{"$f":"IF(AF264=\"\",\"\",IF(AF264>Inputs!$D$9,0,1))","v":""},{"$f":"IF(AG264=\"\",\"\",IF(AG264>Inputs!$D$9,0,1))","v":""},{"$f":"IF(AH264=\"\",\"\",IF(AH264>Inputs!$D$9,0,1))","v":""},{"$f":"IF(AI264=\"\",\"\",IF(AI264>Inputs!$D$9,0,1))","v":""},{"$f":"IF(AJ264=\"\",\"\",IF(AJ264>Inputs!$D$9,0,1))","v":""},{"$f":"IF(AK264=\"\",\"\",IF(AK264>Inputs!$D$9,0,1))","v":""},{"$f":"IF(AL264=\"\",\"\",IF(AL264>Inputs!$D$9,0,1))","v":""},"",0,null,"","","","","","","","","","","","","","",null,null,"","","","","","","","","","","","",""]
[null,null,null,null,null,null,null,null,null,null,null,null,null,null,"","","","","","","","","","","","","","","","","","","","","","","","",null,{"$f":"IF(AA265=\"\",\"\",IF(AA265>Inputs!$D$9,0,1))","v":""},{"$f":"IF(AB265=\"\",\"\",IF(AB265>Inputs!$D$9,0,1))","v":""},{"$f":"IF(AC265=\"\",\"\",IF(AC265>Inputs!$D$9,0,1))","v":""},{"$f":"IF(AD265=\"\",\"\",IF(AD265>Inputs!$D$9,0,1))","v":""},{"$f":"IF(AE265=\"\",\"\",IF(AE265>Inputs!$D$9,0,1))","v":""},{"$f":"IF(AF265=\"\",\"\",IF(AF265>Inputs!$D$9,0,1))","v":""},{"$f":"IF(AG265=\"\",\"\",IF(AG265>Inputs!$D$9,0,1))","v":""},{"$f":"IF(AH265=\"\",\"\",IF(AH265>Inputs!$D$9,0,1))","v":""},{"$f":"IF(AI265=\"\",\"\",IF(AI265>Inputs!$D$9,0,1))","v":""},{"$f":"IF(AJ265=\"\",\"\",IF(AJ265>Inputs!$D$9,0,1))","v":""},{"$f":"IF(AK265=\"\",\"\",IF(AK265>Inputs!$D$9,0,1))","v":""},{"$f":"IF(AL265=\"\",\"\",IF(AL265>Inputs!$D$9,0,1))","v":""},"",0,null,"","","","","","","","","","","","","","",null,null,"","","","","","","","","","","","",""]
[null,null,null,null,null,null,null,null,null,null,null,null,null,null,"","","","","","","","","","","","","","","","","","","","","","","","",null,{"$f":"IF(AA266=\"\",\"\",IF(AA266>Inputs!$D$9,0,1))","v":""},{"$f":"IF(AB266=\"\",\"\",IF(AB266>Inputs!$D$9,0,1))","v":""},{"$f":"IF(AC266=\"\",\"\",IF(AC266>Inputs!$D$9,0,1))","v":""},{"$f":"IF(AD266=\"\",\"\",IF(AD266>Inputs!$D$9,0,1))","v":""},{"$f":"IF(AE266=\"\",\"\",IF(AE266>Inputs!$D$9,0,1))","v":""},{"$f":"IF(AF266=\"\",\"\",IF(AF266>Inputs!$D$9,0,1))","v":""},{"$f":"IF(AG266=\"\",\"\",IF(AG266>Inputs!$D$9,0,1))","v":""},{"$f":"IF(AH266=\"\",\"\",IF(AH266>Inputs!$D$9,0,1))","v":""},{"$f":"IF(AI266=\"\",\"\",IF(AI266>Inputs!$D$9,0,1))","v":""},{"$f":"IF(AJ266=\"\",\"\",IF(AJ266>Inputs!$D$9,0,1))","v":""},{"$f":"IF(AK266=\"\",\"\",IF(AK266>Inputs!$D$9,0,1))","v":""},{"$f":"IF(AL266=\"\",\"\",IF(AL266>Inputs!$D$9,0,1))","v":""},"",0,null,"","","","","","","","","","","","","","",null,null,"","","","","","","","","","","","",""]
[null,null,null,null,null,null,null,null,null,null,null,null,null,null,"","","","","","","","","","","","","","","","","","","","","","","","",null,{"$f":"IF(AA267=\"\",\"\",IF(AA267>Inputs!$D$9,0,1))","v":""},{"$f":"IF(AB267=\"\",\"\",IF(AB267>Inputs!$D$9,0,1))","v":""},{"$f":"IF(AC267=\"\",\"\",IF(AC267>Inputs!$D$9,0,1))","v":""},{"$f":"IF(AD267=\"\",\"\",IF(AD267>Inputs!$D$9,0,1))","v":""},{"$f":"IF(AE267=\"\",\"\",IF(AE267>Inputs!$D$9,0,1))","v":""},{"$f":"IF(AF267=\"\",\"\",IF(AF267>Inputs!$D$9,0,1))","v":""},{"$f":"IF(AG267=\"\",\"\",IF(AG267>Inputs!$D$9,0,1))","v":""},{"$f":"IF(AH267=\"\",\"\",IF(AH267>Inputs!$D$9,0,1))","v":""},{"$f":"IF(AI267=\"\",\"\",IF(AI267>Inputs!$D$9,0,1))","v":""},{"$f":"IF(AJ267=\"\",\"\",IF(AJ267>Inputs!$D$9,0,1))","v":""},{"$f":"IF(AK267=\"\",\"\",IF(AK267>Inputs!$D$9,0,1))","v":""},{"$f":"IF(AL267=\"\",\"\",IF(AL267>Inputs!$D$9,0,1))","v":""},"",0,null,"","","","","","","","","","","","","","",null,null,"","","","","","","","","","","","",""]
[null,null,null,null,null,null,null,null,null,null,null,null,null,null,"","","","","","","","","","","","","","","","","","","","","","","","",null,{"$f":"IF(AA268=\"\",\"\",IF(AA268>Inputs!$D$9,0,1))","v":""},{"$f":"IF(AB268=\"\",\"\",IF(AB268>Inputs!$D$9,0,1))","v":""},{"$f":"IF(AC268=\"\",\"\",IF(AC268>Inputs!$D$9,0,1))","v":""},{"$f":"IF(AD268=\"\",\"\",IF(AD268>Inputs!$D$9,0,1))","v":""},{"$f":"IF(AE268=\"\",\"\",IF(AE268>Inputs!$D$9,0,1))","v":""},{"$f":"IF(AF268=\"\",\"\",IF(AF268>Inputs!$D$9,0,1))","v":""},{"$f":"IF(AG268=\"\",\"\",IF(AG268>Inputs!$D$9,0,1))","v":""},{"$f":"IF(AH268=\"\",\"\",IF(AH268>Inputs!$D$9,0,1))","v":""},{"$f":"IF(AI268=\"\",\"\",IF(AI268>Inputs!$D$9,0,1))","v":""},{"$f":"IF(AJ268=\"\",\"\",IF(AJ268>Inputs!$D$9,0,1))","v":""},{"$f":"IF(AK268=\"\",\"\",IF(AK268>Inputs!$D$9,0,1))","v":""},{"$f":"IF(AL268=\"\",\"\",IF(AL268>Inputs!$D$9,0,1))","v":""},"",0,null,"","","","","","","","","","","","","","",null,null,"","","","","","","","","","","","",""]
[null,null,null,null,null,null,null,null,null,null,null,null,null,null,"","","","","","","","","","","","","","","","","","","","","","","","",null,{"$f":"IF(AA269=\"\",\"\",IF(AA269>Inputs!$D$9,0,1))","v":""},{"$f":"IF(AB269=\"\",\"\",IF(AB269>Inputs!$D$9,0,1))","v":""},{"$f":"IF(AC269=\"\",\"\",IF(AC269>Inputs!$D$9,0,1))","v":""},{"$f":"IF(AD269=\"\",\"\",IF(AD269>Inputs!$D$9,0,1))","v":""},{"$f":"IF(AE269=\"\",\"\",IF(AE269>Inputs!$D$9,0,1))","v":""},{"$f":"IF(AF269=\"\",\"\",IF(AF269>Inputs!$D$9,0,1))","v":""},{"$f":"IF(AG269=\"\",\"\",IF(AG269>Inputs!$D$9,0,1))","v":""},{"$f":"IF(AH269=\"\",\"\",IF(AH269>Inputs!$D$9,0,1))","v":""},{"$f":"IF(AI269=\"\",\"\",IF(AI269>Inputs!$D$9,0,1))","v":""},{"$f":"IF(AJ269=\"\",\"\",IF(AJ269>Inputs!$D$9,0,1))","v":""},{"$f":"IF(AK269=\"\",\"\",IF(AK269>Inputs!$D$9,0,1))","v":""},{"$f":"IF(AL269=\"\",\"\",IF(AL269>Inputs!$D$9,0,1))","v":""},"",0,null,"","","","","","","","","","","","","","",null,null,"","","","","","","","","","","","",""]
[null,null,null,null,null,null,null,null,null,null,null,null,null,null,"","","","","","","","","","","","","","","","","","","","","","","","",null,{"$f":"IF(AA270=\"\",\"\",IF(AA270>Inputs!$D$9,0,1))","v":""},{"$f":"IF(AB270=\"\",\"\",IF(AB270>Inputs!$D$9,0,1))","v":""},{"$f":"IF(AC270=\"\",\"\",IF(AC270>Inputs!$D$9,0,1))","v":""},{"$f":"IF(AD270=\"\",\"\",IF(AD270>Inputs!$D$9,0,1))","v":""},{"$f":"IF(AE270=\"\",\"\",IF(AE270>Inputs!$D$9,0,1))","v":""},{"$f":"IF(AF270=\"\",\"\",IF(AF270>Inputs!$D$9,0,1))","v":""},{"$f":"IF(AG270=\"\",\"\",IF(AG270>Inputs!$D$9,0,1))","v":""},{"$f":"IF(AH270=\"\",\"\",IF(AH270>Inputs!$D$9,0,1))","v":""},{"$f":"IF(AI270=\"\",\"\",IF(AI270>Inputs!$D$9,0,1))","v":""},{"$f":"IF(AJ270=\"\",\"\",IF(AJ270>Inputs!$D$9,0,1))","v":""},{"$f":"IF(AK270=\"\",\"\",IF(AK270>Inputs!$D$9,0,1))","v":""},{"$f":"IF(AL270=\"\",\"\",IF(AL270>Inputs!$D$9,0,1))","v":""},"",0,null,"","","","","","","","","","","","","","",null,null,"","","","","","","","","","","","",""]
[null,null,null,null,null,null,null,null,null,null,null,null,null,null,"","","","","","","","","","","","","","","","","","","","","","","","",null,{"$f":"IF(AA271=\"\",\"\",IF(AA271>Inputs!$D$9,0,1))","v":""},{"$f":"IF(AB271=\"\",\"\",IF(AB271>Inputs!$D$9,0,1))","v":""},{"$f":"IF(AC271=\"\",\"\",IF(AC271>Inputs!$D$9,0,1))","v":""},{"$f":"IF(AD271=\"\",\"\",IF(AD271>Inputs!$D$9,0,1))","v":""},{"$f":"IF(AE271=\"\",\"\",IF(AE271>Inputs!$D$9,0,1))","v":""},{"$f":"IF(AF271=\"\",\"\",IF(AF271>Inputs!$D$9,0,1))","v":""},{"$f":"IF(AG271=\"\",\"\",IF(AG271>Inputs!$D$9,0,1))","v":""},{"$f":"IF(AH271=\"\",\"\",IF(AH271>Inputs!$D$9,0,1))","v":""},{"$f":"IF(AI271=\"\",\"\",IF(AI271>Inputs!$D$9,0,1))","v":""},{"$f":"IF(AJ271=\"\",\"\",IF(AJ271>Inputs!$D$9,0,1))","v":""},{"$f":"IF(AK271=\"\",\"\",IF(AK271>Inputs!$D$9,0,1))","v":""},{"$f":"IF(AL271=\"\",\"\",IF(AL271>Inputs!$D$9,0,1))","v":""},"",0,null,"","","","","","","","","","","","","","",null,null,"","","","","","","","","","","","",""]
[null,null,null,null,null,null,null,null,null,null,null,null,null,null,"","","","","","","","","","","","","","","","","","","","","","","","",null,{"$f":"IF(AA272=\"\",\"\",IF(AA272>Inputs!$D$9,0,1))","v":""},{"$f":"IF(AB272=\"\",\"\",IF(AB272>Inputs!$D$9,0,1))","v":""},{"$f":"IF(AC272=\"\",\"\",IF(AC272>Inputs!$D$9,0,1))","v":""},{"$f":"IF(AD272=\"\",\"\",IF(AD272>Inputs!$D$9,0,1))","v":""},{"$f":"IF(AE272=\"\",\"\",IF(AE272>Inputs!$D$9,0,1))","v":""},{"$f":"IF(AF272=\"\",\"\",IF(AF272>Inputs!$D$9,0,1))","v":""},{"$f":"IF(AG272=\"\",\"\",IF(AG272>Inputs!$D$9,0,1))","v":""},{"$f":"IF(AH272=\"\",\"\",IF(AH272>Inputs!$D$9,0,1))","v":""},{"$f":"IF(AI272=\"\",\"\",IF(AI272>Inputs!$D$9,0,1))","v":""},{"$f":"IF(AJ272=\"\",\"\",IF(AJ272>Inputs!$D$9,0,1))","v":""},{"$f":"IF(AK272=\"\",\"\",IF(AK272>Inputs!$D$9,0,1))","v":""},{"$f":"IF(AL272=\"\",\"\",IF(AL272>Inputs!$D$9,0,1))","v":""},"",0,null,"","","","","","","","","","","","","","",null,null,"","","","","","","","","","","","",""]
[null,null,null,null,null,null,null,null,null,null,null,null,null,null,"","","","","","","","","","","","","","","","","","","","","","","","",null,{"$f":"IF(AA273=\"\",\"\",IF(AA273>Inputs!$D$9,0,1))","v":""},{"$f":"IF(AB273=\"\",\"\",IF(AB273>Inputs!$D$9,0,1))","v":""},{"$f":"IF(AC273=\"\",\"\",IF(AC273>Inputs!$D$9,0,1))","v":""},{"$f":"IF(AD273=\"\",\"\",IF(AD273>Inputs!$D$9,0,1))","v":""},{"$f":"IF(AE273=\"\",\"\",IF(AE273>Inputs!$D$9,0,1))","v":""},{"$f":"IF(AF273=\"\",\"\",IF(AF273>Inputs!$D$9,0,1))","v":""},{"$f":"IF(AG273=\"\",\"\",IF(AG273>Inputs!$D$9,0,1))","v":""},{"$f":"IF(AH273=\"\",\"\",IF(AH273>Inputs!$D$9,0,1))","v":""},{"$f":"IF(AI273=\"\",\"\",IF(AI273>Inputs!$D$9,0,1))","v":""},{"$f":"IF(AJ273=\"\",\"\",IF(AJ273>Inputs!$D$9,0,1))","v":""},{"$f":"IF(AK273=\"\",\"\",IF(AK273>Inputs!$D$9,0,1))","v":""},{"$f":"IF(AL273=\"\",\"\",IF(AL273>Inputs!$D$9,0,1))","v":""},"",0,null,"","","","","","","","","","","","","","",null,null,"","","","","","","","","","","","",""]
[null,null,null,null,null,null,null,null,null,null,null,null,null,null,"","","","","","","","","","","","","","","","","","","","","","","","",null,{"$f":"IF(AA274=\"\",\"\",IF(AA274>Inputs!$D$9,0,1))","v":""},{"$f":"IF(AB274=\"\",\"\",IF(AB274>Inputs!$D$9,0,1))","v":""},{"$f":"IF(AC274=\"\",\"\",IF(AC274>Inputs!$D$9,0,1))","v":""},{"$f":"IF(AD274=\"\",\"\",IF(AD274>Inputs!$D$9,0,1))","v":""},{"$f":"IF(AE274=\"\",\"\",IF(AE274>Inputs!$D$9,0,1))","v":""},{"$f":"IF(AF274=\"\",\"\",IF(AF274>Inputs!$D$9,0,1))","v":""},{"$f":"IF(AG274=\"\",\"\",IF(AG274>Inputs!$D$9,0,1))","v":""},{"$f":"IF(AH274=\"\",\"\",IF(AH274>Inputs!$D$9,0,1))","v":""},{"$f":"IF(AI274=\"\",\"\",IF(AI274>Inputs!$D$9,0,1))","v":""},{"$f":"IF(AJ274=\"\",\"\",IF(AJ274>Inputs!$D$9,0,1))","v":""},{"$f":"IF(AK274=\"\",\"\",IF(AK274>Inputs!$D$9,0,1))","v":""},{"$f":"IF(AL274=\"\",\"\",IF(AL274>Inputs!$D$9,0,1))","v":""},"",0,null,"","","","","","","","","","","","","","",null,null,"","","","","","","","","","","","",{"$f":"IF(A274=\"\",\"\",SUM(BS274:CD274))","v":""}]
[null,null,null,null,null,null,null,null,null,null,null,null,null,null,"","","","","","","","","","","","","","","","","","","","","","","","",null,{"$f":"IF(AA275=\"\",\"\",IF(AA275>Inputs!$D$9,0,1))","v":""},{"$f":"IF(AB275=\"\",\"\",IF(AB275>Inputs!$D$9,0,1))","v":""},{"$f":"IF(AC275=\"\",\"\",IF(AC275>Inputs!$D$9,0,1))","v":""},{"$f":"IF(AD275=\"\",\"\",IF(AD275>Inputs!$D$9,0,1))","v":""},{"$f":"IF(AE275=\"\",\"\",IF(AE275>Inputs!$D$9,0,1))","v":""},{"$f":"IF(AF275=\"\",\"\",IF(AF275>Inputs!$D$9,0,1))","v":""},{"$f":"IF(AG275=\"\",\"\",IF(AG275>Inputs!$D$9,0,1))","v":""},{"$f":"IF(AH275=\"\",\"\",IF(AH275>Inputs!$D$9,0,1))","v":""},{"$f":"IF(AI275=\"\",\"\",IF(AI275>Inputs!$D$9,0,1))","v":""},{"$f":"IF(AJ275=\"\",\"\",IF(AJ275>Inputs!$D$9,0,1))","v":""},{"$f":"IF(AK275=\"\",\"\",IF(AK275>Inputs!$D$9,0,1))","v":""},{"$f":"IF(AL275=\"\",\"\",IF(AL275>Inputs!$D$9,0,1))","v":""},"",0,null,"","","","","","","","","","","","","","",null,null,"","","","","","","","","","","","",{"$f":"IF(A275=\"\",\"\",SUM(BS275:CD275))","v":""}]
[null,null,null,null,null,null,null,null,null,null,null,null,null,null,"","","","","","","","","","","","","","","","","","","","","","","","",null,{"$f":"IF(AA276=\"\",\"\",IF(AA276>Inputs!$D$9,0,1))","v":""},{"$f":"IF(AB276=\"\",\"\",IF(AB276>Inputs!$D$9,0,1))","v":""},{"$f":"IF(AC276=\"\",\"\",IF(AC276>Inputs!$D$9,0,1))","v":""},{"$f":"IF(AD276=\"\",\"\",IF(AD276>Inputs!$D$9,0,1))","v":""},{"$f":"IF(AE276=\"\",\"\",IF(AE276>Inputs!$D$9,0,1))","v":""},{"$f":"IF(AF276=\"\",\"\",IF(AF276>Inputs!$D$9,0,1))","v":""},{"$f":"IF(AG276=\"\",\"\",IF(AG276>Inputs!$D$9,0,1))","v":""},{"$f":"IF(AH276=\"\",\"\",IF(AH276>Inputs!$D$9,0,1))","v":""},{"$f":"IF(AI276=\"\",\"\",IF(AI276>Inputs!$D$9,0,1))","v":""},{"$f":"IF(AJ276=\"\",\"\",IF(AJ276>Inputs!$D$9,0,1))","v":""},{"$f":"IF(AK276=\"\",\"\",IF(AK276>Inputs!$D$9,0,1))","v":""},{"$f":"IF(AL276=\"\",\"\",IF(AL276>Inputs!$D$9,0,1))","v":""},"",0,null,"","","","","","","","","","","","","","",null,null,"","","","","","","","","","","","",""]
[null,null,null,null,null,null,null,null,null,null,null,null,null,null,"","","","","","","","","","","","","","","","","","","","","","","","",null,{"$f":"IF(AA277=\"\",\"\",IF(AA277>Inputs!$D$9,0,1))","v":""},{"$f":"IF(AB277=\"\",\"\",IF(AB277>Inputs!$D$9,0,1))","v":""},{"$f":"IF(AC277=\"\",\"\",IF(AC277>Inputs!$D$9,0,1))","v":""},{"$f":"IF(AD277=\"\",\"\",IF(AD277>Inputs!$D$9,0,1))","v":""},{"$f":"IF(AE277=\"\",\"\",IF(AE277>Inputs!$D$9,0,1))","v":""},{"$f":"IF(AF277=\"\",\"\",IF(AF277>Inputs!$D$9,0,1))","v":""},{"$f":"IF(AG277=\"\",\"\",IF(AG277>Inputs!$D$9,0,1))","v":""},{"$f":"IF(AH277=\"\",\"\",IF(AH277>Inputs!$D$9,0,1))","v":""},{"$f":"IF(AI277=\"\",\"\",IF(AI277>Inputs!$D$9,0,1))","v":""},{"$f":"IF(AJ277=\"\",\"\",IF(AJ277>Inputs!$D$9,0,1))","v":""},{"$f":"IF(AK277=\"\",\"\",IF(AK277>Inputs!$D$9,0,1))","v":""},{"$f":"IF(AL277=\"\",\"\",IF(AL277>Inputs!$D$9,0,1))","v":""},"",0,null,"","","","","","","","","","","","","","",null,null,"","","","","","","","","","","","",""]
[null,null,null,null,null,null,null,null,null,null,null,null,null,null,"","","","","","","","","","","","","","","","","","","","","","","","",null,{"$f":"IF(AA278=\"\",\"\",IF(AA278>Inputs!$D$9,0,1))","v":""},{"$f":"IF(AB278=\"\",\"\",IF(AB278>Inputs!$D$9,0,1))","v":""},{"$f":"IF(AC278=\"\",\"\",IF(AC278>Inputs!$D$9,0,1))","v":""},{"$f":"IF(AD278=\"\",\"\",IF(AD278>Inputs!$D$9,0,1))","v":""},{"$f":"IF(AE278=\"\",\"\",IF(AE278>Inputs!$D$9,0,1))","v":""},{"$f":"IF(AF278=\"\",\"\",IF(AF278>Inputs!$D$9,0,1))","v":""},{"$f":"IF(AG278=\"\",\"\",IF(AG278>Inputs!$D$9,0,1))","v":""},{"$f":"IF(AH278=\"\",\"\",IF(AH278>Inputs!$D$9,0,1))","v":""},{"$f":"IF(AI278=\"\",\"\",IF(AI278>Inputs!$D$9,0,1))","v":""},{"$f":"IF(AJ278=\"\",\"\",IF(AJ278>Inputs!$D$9,0,1))","v":""},{"$f":"IF(AK278=\"\",\"\",IF(AK278>Inputs!$D$9,0,1))","v":""},{"$f":"IF(AL278=\"\",\"\",IF(AL278>Inputs!$D$9,0,1))","v":""},"",0,null,"","","","","","","","","","","","","","",null,null,"","","","","","","","","","","","",""]
[null,null,null,null,null,null,null,null,null,null,null,null,null,null,"","","","","","","","","","","","","","","","","","","","","","","","",null,{"$f":"IF(AA279=\"\",\"\",IF(AA279>Inputs!$D$9,0,1))","v":""},{"$f":"IF(AB279=\"\",\"\",IF(AB279>Inputs!$D$9,0,1))","v":""},{"$f":"IF(AC279=\"\",\"\",IF(AC279>Inputs!$D$9,0,1))","v":""},{"$f":"IF(AD279=\"\",\"\",IF(AD279>Inputs!$D$9,0,1))","v":""},{"$f":"IF(AE279=\"\",\"\",IF(AE279>Inputs!$D$9,0,1))","v":""},{"$f":"IF(AF279=\"\",\"\",IF(AF279>Inputs!$D$9,0,1))","v":""},{"$f":"IF(AG279=\"\",\"\",IF(AG279>Inputs!$D$9,0,1))","v":""},{"$f":"IF(AH279=\"\",\"\",IF(AH279>Inputs!$D$9,0,1))","v":""},{"$f":"IF(AI279=\"\",\"\",IF(AI279>Inputs!$D$9,0,1))","v":""},{"$f":"IF(AJ279=\"\",\"\",IF(AJ279>Inputs!$D$9,0,1))","v":""},{"$f":"IF(AK279=\"\",\"\",IF(AK279>Inputs!$D$9,0,1))","v":""},{"$f":"IF(AL279=\"\",\"\",IF(AL279>Inputs!$D$9,0,1))","v":""},"",0,null,"","","","","","","","","","","","","","",null,null,"","","","","","","","","","","","",""]
[null,null,null,null,null,null,null,null,null,null,null,null,null,null,"","","","","","","","","","","","","","","","","","","","","","","","",null,{"$f":"IF(AA280=\"\",\"\",IF(AA280>Inputs!$D$9,0,1))","v":""},{"$f":"IF(AB280=\"\",\"\",IF(AB280>Inputs!$D$9,0,1))","v":""},{"$f":"IF(AC280=\"\",\"\",IF(AC280>Inputs!$D$9,0,1))","v":""},{"$f":"IF(AD280=\"\",\"\",IF(AD280>Inputs!$D$9,0,1))","v":""},{"$f":"IF(AE280=\"\",\"\",IF(AE280>Inputs!$D$9,0,1))","v":""},{"$f":"IF(AF280=\"\",\"\",IF(AF280>Inputs!$D$9,0,1))","v":""},{"$f":"IF(AG280=\"\",\"\",IF(AG280>Inputs!$D$9,0,1))","v":""},{"$f":"IF(AH280=\"\",\"\",IF(AH280>Inputs!$D$9,0,1))","v":""},{"$f":"IF(AI280=\"\",\"\",IF(AI280>Inputs!$D$9,0,1))","v":""},{"$f":"IF(AJ280=\"\",\"\",IF(AJ280>Inputs!$D$9,0,1))","v":""},{"$f":"IF(AK280=\"\",\"\",IF(AK280>Inputs!$D$9,0,1))","v":""},{"$f":"IF(AL280=\"\",\"\",IF(AL280>Inputs!$D$9,0,1))","v":""},"",0,null,"","","","","","","","","","","","","","",null,null,"","","","","","","","","","","","",""]
[null,null,null,null,null,null,null,null,null,null,null,null,null,null,"","","","","","","","","","","","","","","","","","","","","","","","",null,{"$f":"IF(AA281=\"\",\"\",IF(AA281>Inputs!$D$9,0,1))","v":""},{"$f":"IF(AB281=\"\",\"\",IF(AB281>Inputs!$D$9,0,1))","v":""},{"$f":"IF(AC281=\"\",\"\",IF(AC281>Inputs!$D$9,0,1))","v":""},{"$f":"IF(AD281=\"\",\"\",IF(AD281>Inputs!$D$9,0,1))","v":""},{"$f":"IF(AE281=\"\",\"\",IF(AE281>Inputs!$D$9,0,1))","v":""},{"$f":"IF(AF281=\"\",\"\",IF(AF281>Inputs!$D$9,0,1))","v":""},{"$f":"IF(AG281=\"\",\"\",IF(AG281>Inputs!$D$9,0,1))","v":""},{"$f":"IF(AH281=\"\",\"\",IF(AH281>Inputs!$D$9,0,1))","v":""},{"$f":"IF(AI281=\"\",\"\",IF(AI281>Inputs!$D$9,0,1))","v":""},{"$f":"IF(AJ281=\"\",\"\",IF(AJ281>Inputs!$D$9,0,1))","v":""},{"$f":"IF(AK281=\"\",\"\",IF(AK281>Inputs!$D$9,0,1))","v":""},{"$f":"IF(AL281=\"\",\"\",IF(AL281>Inputs!$D$9,0,1))","v":""},"",0,null,"","","","","","","","","","","","","","",null,null,"","","","","","","","","","","","",""]
[null,null,null,null,null,null,null,null,null,null,null,null,null,null,"","","","","","","","","","","","","","","","","","","","","","","","",null,{"$f":"IF(AA282=\"\",\"\",IF(AA282>Inputs!$D$9,0,1))","v":""},{"$f":"IF(AB282=\"\",\"\",IF(AB282>Inputs!$D$9,0,1))","v":""},{"$f":"IF(AC282=\"\",\"\",IF(AC282>Inputs!$D$9,0,1))","v":""},{"$f":"IF(AD282=\"\",\"\",IF(AD282>Inputs!$D$9,0,1))","v":""},{"$f":"IF(AE282=\"\",\"\",IF(AE282>Inputs!$D$9,0,1))","v":""},{"$f":"IF(AF282=\"\",\"\",IF(AF282>Inputs!$D$9,0,1))","v":""},{"$f":"IF(AG282=\"\",\"\",IF(AG282>Inputs!$D$9,0,1))","v":""},{"$f":"IF(AH282=\"\",\"\",IF(AH282>Inputs!$D$9,0,1))","v":""},{"$f":"IF(AI282=\"\",\"\",IF(AI282>Inputs!$D$9,0,1))","v":""},{"$f":"IF(AJ282=\"\",\"\",IF(AJ282>Inputs!$D$9,0,1))","v":""},{"$f":"IF(AK282=\"\",\"\",IF(AK282>Inputs!$D$9,0,1))","v":""},{"$f":"IF(AL282=\"\",\"\",IF(AL282>Inputs!$D$9,0,1))","v":""},"",0,null,"","","","","","","","","","","","","","",null,null,"","","","","","","","","","","","",""]
[null,null,null,null,null,null,null,null,null,null,null,null,null,null,"","","","","","","","","","","","","","","","","","","","","","","","",null,{"$f":"IF(AA283=\"\",\"\",IF(AA283>Inputs!$D$9,0,1))","v":""},{"$f":"IF(AB283=\"\",\"\",IF(AB283>Inputs!$D$9,0,1))","v":""},{"$f":"IF(AC283=\"\",\"\",IF(AC283>Inputs!$D$9,0,1))","v":""},{"$f":"IF(AD283=\"\",\"\",IF(AD283>Inputs!$D$9,0,1))","v":""},{"$f":"IF(AE283=\"\",\"\",IF(AE283>Inputs!$D$9,0,1))","v":""},{"$f":"IF(AF283=\"\",\"\",IF(AF283>Inputs!$D$9,0,1))","v":""},{"$f":"IF(AG283=\"\",\"\",IF(AG283>Inputs!$D$9,0,1))","v":""},{"$f":"IF(AH283=\"\",\"\",IF(AH283>Inputs!$D$9,0,1))","v":""},{"$f":"IF(AI283=\"\",\"\",IF(AI283>Inputs!$D$9,0,1))","v":""},{"$f":"IF(AJ283=\"\",\"\",IF(AJ283>Inputs!$D$9,0,1))","v":""},{"$f":"IF(AK283=\"\",\"\",IF(AK283>Inputs!$D$9,0,1))","v":""},{"$f":"IF(AL283=\"\",\"\",IF(AL283>Inputs!$D$9,0,1))","v":""},"",0,null,"","","","","","","","","","","","","","",null,null,"","","","","","","","","","","","",""]
[null,null,null,null,null,null,null,null,null,null,null,null,null,null,"","","","","","","","","","","","","","","","","","","","","","","","",null,{"$f":"IF(AA284=\"\",\"\",IF(AA284>Inputs!$D$9,0,1))","v":""},{"$f":"IF(AB284=\"\",\"\",IF(AB284>Inputs!$D$9,0,1))","v":""},{"$f":"IF(AC284=\"\",\"\",IF(AC284>Inputs!$D$9,0,1))","v":""},{"$f":"IF(AD284=\"\",\"\",IF(AD284>Inputs!$D$9,0,1))","v":""},{"$f":"IF(AE284=\"\",\"\",IF(AE284>Inputs!$D$9,0,1))","v":""},{"$f":"IF(AF284=\"\",\"\",IF(AF284>Inputs!$D$9,0,1))","v":""},{"$f":"IF(AG284=\"\",\"\",IF(AG284>Inputs!$D$9,0,1))","v":""},{"$f":"IF(AH284=\"\",\"\",IF(AH284>Inputs!$D$9,0,1))","v":""},{"$f":"IF(AI284=\"\",\"\",IF(AI284>Inputs!$D$9,0,1))","v":""},{"$f":"IF(AJ284=\"\",\"\",IF(AJ284>Inputs!$D$9,0,1))","v":""},{"$f":"IF(AK284=\"\",\"\",IF(AK284>Inputs!$D$9,0,1))","v":""},{"$f":"IF(AL284=\"\",\"\",IF(AL284>Inputs!$D$9,0,1))","v":""},"",0,null,"","","","","","","","","","","","","","",null,null,"","","","","","","","","","","","",""]
[null,null,null,null,null,null,null,null,null,null,null,null,null,null,"","","","","","","","","","","","","","","","","","","","","","","","",null,{"$f":"IF(AA285=\"\",\"\",IF(AA285>Inputs!$D$9,0,1))","v":""},{"$f":"IF(AB285=\"\",\"\",IF(AB285>Inputs!$D$9,0,1))","v":""},{"$f":"IF(AC285=\"\",\"\",IF(AC285>Inputs!$D$9,0,1))","v":""},{"$f":"IF(AD285=\"\",\"\",IF(AD285>Inputs!$D$9,0,1))","v":""},{"$f":"IF(AE285=\"\",\"\",IF(AE285>Inputs!$D$9,0,1))","v":""},{"$f":"IF(AF285=\"\",\"\",IF(AF285>Inputs!$D$9,0,1))","v":""},{"$f":"IF(AG285=\"\",\"\",IF(AG285>Inputs!$D$9,0,1))","v":""},{"$f":"IF(AH285=\"\",\"\",IF(AH285>Inputs!$D$9,0,1))","v":""},{"$f":"IF(AI285=\"\",\"\",IF(AI285>Inputs!$D$9,0,1))","v":""},{"$f":"IF(AJ285=\"\",\"\",IF(AJ285>Inputs!$D$9,0,1))","v":""},{"$f":"IF(AK285=\"\",\"\",IF(AK285>Inputs!$D$9,0,1))","v":""},{"$f":"IF(AL285=\"\",\"\",IF(AL285>Inputs!$D$9,0,1))","v":""},"",0,null,"","","","","","","","","","","","","","",null,null,"","","","","","","","","","","","",""]
[null,null,null,null,null,null,null,null,null,null,null,null,null,null,"","","","","","","","","","","","","","","","","","","","","","","","",null,{"$f":"IF(AA286=\"\",\"\",IF(AA286>Inputs!$D$9,0,1))","v":""},{"$f":"IF(AB286=\"\",\"\",IF(AB286>Inputs!$D$9,0,1))","v":""},{"$f":"IF(AC286=\"\",\"\",IF(AC286>Inputs!$D$9,0,1))","v":""},{"$f":"IF(AD286=\"\",\"\",IF(AD286>Inputs!$D$9,0,1))","v":""},{"$f":"IF(AE286=\"\",\"\",IF(AE286>Inputs!$D$9,0,1))","v":""},{"$f":"IF(AF286=\"\",\"\",IF(AF286>Inputs!$D$9,0,1))","v":""},{"$f":"IF(AG286=\"\",\"\",IF(AG286>Inputs!$D$9,0,1))","v":""},{"$f":"IF(AH286=\"\",\"\",IF(AH286>Inputs!$D$9,0,1))","v":""},{"$f":"IF(AI286=\"\",\"\",IF(AI286>Inputs!$D$9,0,1))","v":""},{"$f":"IF(AJ286=\"\",\"\",IF(AJ286>Inputs!$D$9,0,1))","v":""},{"$f":"IF(AK286=\"\",\"\",IF(AK286>Inputs!$D$9,0,1))","v":""},{"$f":"IF(AL286=\"\",\"\",IF(AL286>Inputs!$D$9,0,1))","v":""},"",0,null,"","","","","","","","","","","","","","",null,null,"","","","","","","","","","","","",""]
[null,null,null,null,null,null,null,null,null,null,null,null,null,null,"","","","","","","","","","","","","","","","","","","","","","","","",null,{"$f":"IF(AA287=\"\",\"\",IF(AA287>Inputs!$D$9,0,1))","v":""},{"$f":"IF(AB287=\"\",\"\",IF(AB287>Inputs!$D$9,0,1))","v":""},{"$f":"IF(AC287=\"\",\"\",IF(AC287>Inputs!$D$9,0,1))","v":""},{"$f":"IF(AD287=\"\",\"\",IF(AD287>Inputs!$D$9,0,1))","v":""},{"$f":"IF(AE287=\"\",\"\",IF(AE287>Inputs!$D$9,0,1))","v":""},{"$f":"IF(AF287=\"\",\"\",IF(AF287>Inputs!$D$9,0,1))","v":""},{"$f":"IF(AG287=\"\",\"\",IF(AG287>Inputs!$D$9,0,1))","v":""},{"$f":"IF(AH287=\"\",\"\",IF(AH287>Inputs!$D$9,0,1))","v":""},{"$f":"IF(AI287=\"\",\"\",IF(AI287>Inputs!$D$9,0,1))","v":""},{"$f":"IF(AJ287=\"\",\"\",IF(AJ287>Inputs!$D$9,0,1))","v":""},{"$f":"IF(AK287=\"\",\"\",IF(AK287>Inputs!$D$9,0,1))","v":""},{"$f":"IF(AL287=\"\",\"\",IF(AL287>Inputs!$D$9,0,1))","v":""},"",0,null,"","","","","","","","","","","","","","",null,null,"","","","","","","","","","","","",""]
[null,null,null,null,null,null,null,null,null,null,null,null,null,null,"","","","","","","","","","","","","","","","","","","","","","","","",null,{"$f":"IF(AA288=\"\",\"\",IF(AA288>Inputs!$D$9,0,1))","v":""},{"$f":"IF(AB288=\"\",\"\",IF(AB288>Inputs!$D$9,0,1))","v":""},{"$f":"IF(AC288=\"\",\"\",IF(AC288>Inputs!$D$9,0,1))","v":""},{"$f":"IF(AD288=\"\",\"\",IF(AD288>Inputs!$D$9,0,1))","v":""},{"$f":"IF(AE288=\"\",\"\",IF(AE288>Inputs!$D$9,0,1))","v":""},{"$f":"IF(AF288=\"\",\"\",IF(AF288>Inputs!$D$9,0,1))","v":""},{"$f":"IF(AG288=\"\",\"\",IF(AG288>Inputs!$D$9,0,1))","v":""},{"$f":"IF(AH288=\"\",\"\",IF(AH288>Inputs!$D$9,0,1))","v":""},{"$f":"IF(AI288=\"\",\"\",IF(AI288>Inputs!$D$9,0,1))","v":""},{"$f":"IF(AJ288=\"\",\"\",IF(AJ288>Inputs!$D$9,0,1))","v":""},{"$f":"IF(AK288=\"\",\"\",IF(AK288>Inputs!$D$9,0,1))","v":""},{"$f":"IF(AL288=\"\",\"\",IF(AL288>Inputs!$D$9,0,1))","v":""},"",0,null,"","","","","","","","","","","","","","",null,null,"","","","","","","","","","","","",""]
[null,null,null,null,null,null,null,null,null,null,null,null,null,null,"","","","","","","","","","","","","","","","","","","","","","","","",null,{"$f":"IF(AA289=\"\",\"\",IF(AA289>Inputs!$D$9,0,1))","v":""},{"$f":"IF(AB289=\"\",\"\",IF(AB289>Inputs!$D$9,0,1))","v":""},{"$f":"IF(AC289=\"\",\"\",IF(AC289>Inputs!$D$9,0,1))","v":""},{"$f":"IF(AD289=\"\",\"\",IF(AD289>Inputs!$D$9,0,1))","v":""},{"$f":"IF(AE289=\"\",\"\",IF(AE289>Inputs!$D$9,0,1))","v":""},{"$f":"IF(AF289=\"\",\"\",IF(AF289>Inputs!$D$9,0,1))","v":""},{"$f":"IF(AG289=\"\",\"\",IF(AG289>Inputs!$D$9,0,1))","v":""},{"$f":"IF(AH289=\"\",\"\",IF(AH289>Inputs!$D$9,0,1))","v":""},{"$f":"IF(AI289=\"\",\"\",IF(AI289>Inputs!$D$9,0,1))","v":""},{"$f":"IF(AJ289=\"\",\"\",IF(AJ289>Inputs!$D$9,0,1))","v":""},{"$f":"IF(AK289=\"\",\"\",IF(AK289>Inputs!$D$9,0,1))","v":""},{"$f":"IF(AL289=\"\",\"\",IF(AL289>Inputs!$D$9,0,1))","v":""},"",0,null,"","","","","","","","","","","","","","",null,null,"","","","","","","","","","","","",""]
[null,null,null,null,null,null,null,null,null,null,null,null,null,null,"","","","","","","","","","","","","","","","","","","","","","","","",null,{"$f":"IF(AA290=\"\",\"\",IF(AA290>Inputs!$D$9,0,1))","v":""},{"$f":"IF(AB290=\"\",\"\",IF(AB290>Inputs!$D$9,0,1))","v":""},{"$f":"IF(AC290=\"\",\"\",IF(AC290>Inputs!$D$9,0,1))","v":""},{"$f":"IF(AD290=\"\",\"\",IF(AD290>Inputs!$D$9,0,1))","v":""},{"$f":"IF(AE290=\"\",\"\",IF(AE290>Inputs!$D$9,0,1))","v":""},{"$f":"IF(AF290=\"\",\"\",IF(AF290>Inputs!$D$9,0,1))","v":""},{"$f":"IF(AG290=\"\",\"\",IF(AG290>Inputs!$D$9,0,1))","v":""},{"$f":"IF(AH290=\"\",\"\",IF(AH290>Inputs!$D$9,0,1))","v":""},{"$f":"IF(AI290=\"\",\"\",IF(AI290>Inputs!$D$9,0,1))","v":""},{"$f":"IF(AJ290=\"\",\"\",IF(AJ290>Inputs!$D$9,0,1))","v":""},{"$f":"IF(AK290=\"\",\"\",IF(AK290>Inputs!$D$9,0,1))","v":""},{"$f":"IF(AL290=\"\",\"\",IF(AL290>Inputs!$D$9,0,1))","v":""},{"$f":"IF(COUNT(AN290:AY290)=0,\"\",SUM(AN290:AY290)/COUNT(AN290:AY290))","v":""},0,null,"","","","","","","","","","","","","","",null,null,"","","","","","","","","","","","",""]
[null,null,null,null,null,null,null,null,null,null,null,null,null,null,"","","","","","","","","","","","",{"$f":"IF($A291=\"\",\"\",IF(ISERROR(RANK(O291,$O$2:$O$1000,0)),\"\",RANK(O291,$O$2:$O$1000,0)))","v":""},{"$f":"IF($A291=\"\",\"\",IF(ISERROR(RANK(P291,$P$2:$P$1000,0)),\"\",RANK(P291,$P$2:$P$1000,0)))","v":""},{"$f":"IF($A291=\"\",\"\",IF(ISERROR(RANK(Q291,$Q$2:$Q$1000,0)),\"\",RANK(Q291,$Q$2:$Q$1000,0)))","v":""},{"$f":"IF($A291=\"\",\"\",IF(ISERROR(RANK(R291,$R$2:$R$1000,0)),\"\",RANK(R291,$R$2:$R$1000,0)))","v":""},{"$f":"IF($A291=\"\",\"\",IF(ISERROR(RANK(S291,$S$2:$S$1000,0)),\"\",RANK(S291,$S$2:$S$1000,0)))","v":""},{"$f":"IF($A291=\"\",\"\",IF(ISERROR(RANK(T291,$T$2:$T$1000,0)),\"\",RANK(T291,$T$2:$T$1000,0)))","v":""},{"$f":"IF($A291=\"\",\"\",IF(ISERROR(RANK(U291,$U$2:$U$1000,0)),\"\",RANK(U291,$U$2:$U$1000,0)))","v":""},{"$f":"IF($A291=\"\",\"\",IF(ISERROR(RANK(V291,$V$2:$V$1000,0)),\"\",RANK(V291,$V$2:$V$1000,0)))","v":""},{"$f":"IF($A291=\"\",\"\",IF(ISERROR(RANK(W291,$W$2:$W$1000,0)),\"\",RANK(W291,$W$2:$W$1000,0)))","v":""},{"$f":"IF($A291=\"\",\"\",IF(ISERROR(RANK(X291,$X$2:$X$1000,0)),\"\",RANK(X291,$X$2:$X$1000,0)))","v":""},{"$f":"IF($A291=\"\",\"\",IF(ISERROR(RANK(Y291,$Y$2:$Y$1000,0)),\"\",RANK(Y291,$Y$2:$Y$1000,0)))","v":""},{"$f":"IF($A291=\"\",\"\",IF(ISERROR(RANK(Z291,$Z$2:$Z$1000,0)),\"\",RANK(Z291,$Z$2:$Z$1000,0)))","v":""},null,{"$f":"IF(AA291=\"\",\"\",IF(AA291>Inputs!$D$9,0,1))","v":""},{"$f":"IF(AB291=\"\",\"\",IF(AB291>Inputs!$D$9,0,1))","v":""},{"$f":"IF(AC291=\"\",\"\",IF(AC291>Inputs!$D$9,0,1))","v":""},{"$f":"IF(AD291=\"\",\"\",IF(AD291>Inputs!$D$9,0,1))","v":""},{"$f":"IF(AE291=\"\",\"\",IF(AE291>Inputs!$D$9,0,1))","v":""},{"$f":"IF(AF291=\"\",\"\",IF(AF291>Inputs!$D$9,0,1))","v":""},{"$f":"IF(AG291=\"\",\"\",IF(AG291>Inputs!$D$9,0,1))","v":""},{"$f":"IF(AH291=\"\",\"\",IF(AH291>Inputs!$D$9,0,1))","v":""},{"$f":"IF(AI291=\"\",\"\",IF(AI291>Inputs!$D$9,0,1))","v":""},{"$f":"IF(AJ291=\"\",\"\",IF(AJ291>Inputs!$D$9,0,1))","v":""},{"$f":"IF(AK291=\"\",\"\",IF(AK291>Inputs!$D$9,0,1))","v":""},{"$f":"IF(AL291=\"\",\"\",IF(AL291>Inputs!$D$9,0,1))","v":""},"",0,null,"","","","","","","","","","","","","","",null,null,"","","","","","","","","","","","",""]
[null,null,null,null,null,null,null,null,null,null,null,null,null,null,"","","","","","","","","","","","","","","","","","","","","","","","",null,{"$f":"IF(AA292=\"\",\"\",IF(AA292>Inputs!$D$9,0,1))","v":""},{"$f":"IF(AB292=\"\",\"\",IF(AB292>Inputs!$D$9,0,1))","v":""},{"$f":"IF(AC292=\"\",\"\",IF(AC292>Inputs!$D$9,0,1))","v":""},{"$f":"IF(AD292=\"\",\"\",IF(AD292>Inputs!$D$9,0,1))","v":""},{"$f":"IF(AE292=\"\",\"\",IF(AE292>Inputs!$D$9,0,1))","v":""},{"$f":"IF(AF292=\"\",\"\",IF(AF292>Inputs!$D$9,0,1))","v":""},{"$f":"IF(AG292=\"\",\"\",IF(AG292>Inputs!$D$9,0,1))","v":""},{"$f":"IF(AH292=\"\",\"\",IF(AH292>Inputs!$D$9,0,1))","v":""},{"$f":"IF(AI292=\"\",\"\",IF(AI292>Inputs!$D$9,0,1))","v":""},{"$f":"IF(AJ292=\"\",\"\",IF(AJ292>Inputs!$D$9,0,1))","v":""},{"$f":"IF(AK292=\"\",\"\",IF(AK292>Inputs!$D$9,0,1))","v":""},{"$f":"IF(AL292=\"\",\"\",IF(AL292>Inputs!$D$9,0,1))","v":""},"",0,null,"","","","","","","","","","","","","","",null,null,"","","","","","","","","","","","",""]
[null,null,null,null,null,null,null,null,null,null,null,null,null,null,"","","","","","","","","","","","","","","","","","","","","","","","",null,{"$f":"IF(AA293=\"\",\"\",IF(AA293>Inputs!$D$9,0,1))","v":""},{"$f":"IF(AB293=\"\",\"\",IF(AB293>Inputs!$D$9,0,1))","v":""},{"$f":"IF(AC293=\"\",\"\",IF(AC293>Inputs!$D$9,0,1))","v":""},{"$f":"IF(AD293=\"\",\"\",IF(AD293>Inputs!$D$9,0,1))","v":""},{"$f":"IF(AE293=\"\",\"\",IF(AE293>Inputs!$D$9,0,1))","v":""},{"$f":"IF(AF293=\"\",\"\",IF(AF293>Inputs!$D$9,0,1))","v":""},{"$f":"IF(AG293=\"\",\"\",IF(AG293>Inputs!$D$9,0,1))","v":""},{"$f":"IF(AH293=\"\",\"\",IF(AH293>Inputs!$D$9,0,1))","v":""},{"$f":"IF(AI293=\"\",\"\",IF(AI293>Inputs!$D$9,0,1))","v":""},{"$f":"IF(AJ293=\"\",\"\",IF(AJ293>Inputs!$D$9,0,1))","v":""},{"$f":"IF(AK293=\"\",\"\",IF(AK293>Inputs!$D$9,0,1))","v":""},{"$f":"IF(AL293=\"\",\"\",IF(AL293>Inputs!$D$9,0,1))","v":""},"",0,null,"","","","","","","","","","","","","","",null,null,"","","","","","","","","","","","",""]
[null,null,null,null,null,null,null,null,null,null,null,null,null,null,"","","","","","","","","","","","","","","","","","","","","","","","",null,{"$f":"IF(AA294=\"\",\"\",IF(AA294>Inputs!$D$9,0,1))","v":""},{"$f":"IF(AB294=\"\",\"\",IF(AB294>Inputs!$D$9,0,1))","v":""},{"$f":"IF(AC294=\"\",\"\",IF(AC294>Inputs!$D$9,0,1))","v":""},{"$f":"IF(AD294=\"\",\"\",IF(AD294>Inputs!$D$9,0,1))","v":""},{"$f":"IF(AE294=\"\",\"\",IF(AE294>Inputs!$D$9,0,1))","v":""},{"$f":"IF(AF294=\"\",\"\",IF(AF294>Inputs!$D$9,0,1))","v":""},{"$f":"IF(AG294=\"\",\"\",IF(AG294>Inputs!$D$9,0,1))","v":""},{"$f":"IF(AH294=\"\",\"\",IF(AH294>Inputs!$D$9,0,1))","v":""},{"$f":"IF(AI294=\"\",\"\",IF(AI294>Inputs!$D$9,0,1))","v":""},{"$f":"IF(AJ294=\"\",\"\",IF(AJ294>Inputs!$D$9,0,1))","v":""},{"$f":"IF(AK294=\"\",\"\",IF(AK294>Inputs!$D$9,0,1))","v":""},{"$f":"IF(AL294=\"\",\"\",IF(AL294>Inputs!$D$9,0,1))","v":""},"",0,null,"","","","","","","","","","","","","","",null,null,"","","","","","","","","","","","",""]
[null,null,null,null,null,null,null,null,null,null,null,null,null,null,"","","","","","","","","","","","","","","","","","","","","","","","",null,{"$f":"IF(AA295=\"\",\"\",IF(AA295>Inputs!$D$9,0,1))","v":""},{"$f":"IF(AB295=\"\",\"\",IF(AB295>Inputs!$D$9,0,1))","v":""},{"$f":"IF(AC295=\"\",\"\",IF(AC295>Inputs!$D$9,0,1))","v":""},{"$f":"IF(AD295=\"\",\"\",IF(AD295>Inputs!$D$9,0,1))","v":""},{"$f":"IF(AE295=\"\",\"\",IF(AE295>Inputs!$D$9,0,1))","v":""},{"$f":"IF(AF295=\"\",\"\",IF(AF295>Inputs!$D$9,0,1))","v":""},{"$f":"IF(AG295=\"\",\"\",IF(AG295>Inputs!$D$9,0,1))","v":""},{"$f":"IF(AH295=\"\",\"\",IF(AH295>Inputs!$D$9,0,1))","v":""},{"$f":"IF(AI295=\"\",\"\",IF(AI295>Inputs!$D$9,0,1))","v":""},{"$f":"IF(AJ295=\"\",\"\",IF(AJ295>Inputs!$D$9,0,1))","v":""},{"$f":"IF(AK295=\"\",\"\",IF(AK295>Inputs!$D$9,0,1))","v":""},{"$f":"IF(AL295=\"\",\"\",IF(AL295>Inputs!$D$9,0,1))","v":""},"",0,null,"","","","","","","","","","","","","","",null,null,"","","","","","","","","","","","",""]
[null,null,null,null,null,null,null,null,null,null,null,null,null,null,"","","","","","","","","","","","","","","","","","","","","","","","",null,{"$f":"IF(AA296=\"\",\"\",IF(AA296>Inputs!$D$9,0,1))","v":""},{"$f":"IF(AB296=\"\",\"\",IF(AB296>Inputs!$D$9,0,1))","v":""},{"$f":"IF(AC296=\"\",\"\",IF(AC296>Inputs!$D$9,0,1))","v":""},{"$f":"IF(AD296=\"\",\"\",IF(AD296>Inputs!$D$9,0,1))","v":""},{"$f":"IF(AE296=\"\",\"\",IF(AE296>Inputs!$D$9,0,1))","v":""},{"$f":"IF(AF296=\"\",\"\",IF(AF296>Inputs!$D$9,0,1))","v":""},{"$f":"IF(AG296=\"\",\"\",IF(AG296>Inputs!$D$9,0,1))","v":""},{"$f":"IF(AH296=\"\",\"\",IF(AH296>Inputs!$D$9,0,1))","v":""},{"$f":"IF(AI296=\"\",\"\",IF(AI296>Inputs!$D$9,0,1))","v":""},{"$f":"IF(AJ296=\"\",\"\",IF(AJ296>Inputs!$D$9,0,1))","v":""},{"$f":"IF(AK296=\"\",\"\",IF(AK296>Inputs!$D$9,0,1))","v":""},{"$f":"IF(AL296=\"\",\"\",IF(AL296>Inputs!$D$9,0,1))","v":""},"",0,null,"","","","","","","","","","","","","","",null,null,"","","","","","","","","","","","",""]
[null,null,null,null,null,null,null,null,null,null,null,null,null,null,"","","","","","","","","","","","","","","","","","","","","","","","",null,{"$f":"IF(AA297=\"\",\"\",IF(AA297>Inputs!$D$9,0,1))","v":""},{"$f":"IF(AB297=\"\",\"\",IF(AB297>Inputs!$D$9,0,1))","v":""},{"$f":"IF(AC297=\"\",\"\",IF(AC297>Inputs!$D$9,0,1))","v":""},{"$f":"IF(AD297=\"\",\"\",IF(AD297>Inputs!$D$9,0,1))","v":""},{"$f":"IF(AE297=\"\",\"\",IF(AE297>Inputs!$D$9,0,1))","v":""},{"$f":"IF(AF297=\"\",\"\",IF(AF297>Inputs!$D$9,0,1))","v":""},{"$f":"IF(AG297=\"\",\"\",IF(AG297>Inputs!$D$9,0,1))","v":""},{"$f":"IF(AH297=\"\",\"\",IF(AH297>Inputs!$D$9,0,1))","v":""},{"$f":"IF(AI297=\"\",\"\",IF(AI297>Inputs!$D$9,0,1))","v":""},{"$f":"IF(AJ297=\"\",\"\",IF(AJ297>Inputs!$D$9,0,1))","v":""},{"$f":"IF(AK297=\"\",\"\",IF(AK297>Inputs!$D$9,0,1))","v":""},{"$f":"IF(AL297=\"\",\"\",IF(AL297>Inputs!$D$9,0,1))","v":""},"",0,null,"","","","","","","","","","","","","","",null,null,"","","","","","","","","","","","",""]
[null,null,null,null,null,null,null,null,null,null,null,null,null,null,"","","","","","","","","","","","","","","","","","","","","","","","",null,{"$f":"IF(AA298=\"\",\"\",IF(AA298>Inputs!$D$9,0,1))","v":""},{"$f":"IF(AB298=\"\",\"\",IF(AB298>Inputs!$D$9,0,1))","v":""},{"$f":"IF(AC298=\"\",\"\",IF(AC298>Inputs!$D$9,0,1))","v":""},{"$f":"IF(AD298=\"\",\"\",IF(AD298>Inputs!$D$9,0,1))","v":""},{"$f":"IF(AE298=\"\",\"\",IF(AE298>Inputs!$D$9,0,1))","v":""},{"$f":"IF(AF298=\"\",\"\",IF(AF298>Inputs!$D$9,0,1))","v":""},{"$f":"IF(AG298=\"\",\"\",IF(AG298>Inputs!$D$9,0,1))","v":""},{"$f":"IF(AH298=\"\",\"\",IF(AH298>Inputs!$D$9,0,1))","v":""},{"$f":"IF(AI298=\"\",\"\",IF(AI298>Inputs!$D$9,0,1))","v":""},{"$f":"IF(AJ298=\"\",\"\",IF(AJ298>Inputs!$D$9,0,1))","v":""},{"$f":"IF(AK298=\"\",\"\",IF(AK298>Inputs!$D$9,0,1))","v":""},{"$f":"IF(AL298=\"\",\"\",IF(AL298>Inputs!$D$9,0,1))","v":""},"",0,null,"","","","","","","","","","","","","","",null,null,"","","","","","","","","","","","",""]
[null,null,null,null,null,null,null,null,null,null,null,null,null,null,"","","","","","","","","","","","","","","","","","","","","","","","",null,{"$f":"IF(AA299=\"\",\"\",IF(AA299>Inputs!$D$9,0,1))","v":""},{"$f":"IF(AB299=\"\",\"\",IF(AB299>Inputs!$D$9,0,1))","v":""},{"$f":"IF(AC299=\"\",\"\",IF(AC299>Inputs!$D$9,0,1))","v":""},{"$f":"IF(AD299=\"\",\"\",IF(AD299>Inputs!$D$9,0,1))","v":""},{"$f":"IF(AE299=\"\",\"\",IF(AE299>Inputs!$D$9,0,1))","v":""},{"$f":"IF(AF299=\"\",\"\",IF(AF299>Inputs!$D$9,0,1))","v":""},{"$f":"IF(AG299=\"\",\"\",IF(AG299>Inputs!$D$9,0,1))","v":""},{"$f":"IF(AH299=\"\",\"\",IF(AH299>Inputs!$D$9,0,1))","v":""},{"$f":"IF(AI299=\"\",\"\",IF(AI299>Inputs!$D$9,0,1))","v":""},{"$f":"IF(AJ299=\"\",\"\",IF(AJ299>Inputs!$D$9,0,1))","v":""},{"$f":"IF(AK299=\"\",\"\",IF(AK299>Inputs!$D$9,0,1))","v":""},{"$f":"IF(AL299=\"\",\"\",IF(AL299>Inputs!$D$9,0,1))","v":""},"",0,null,"","","","","","","","","","","","","","",null,null,"","","","","","","","","","","","",""]
[null,null,null,null,null,null,null,null,null,null,null,null,null,null,"","","","","","","","","","","","","","","","","","","","","","","","",null,{"$f":"IF(AA300=\"\",\"\",IF(AA300>Inputs!$D$9,0,1))","v":""},{"$f":"IF(AB300=\"\",\"\",IF(AB300>Inputs!$D$9,0,1))","v":""},{"$f":"IF(AC300=\"\",\"\",IF(AC300>Inputs!$D$9,0,1))","v":""},{"$f":"IF(AD300=\"\",\"\",IF(AD300>Inputs!$D$9,0,1))","v":""},{"$f":"IF(AE300=\"\",\"\",IF(AE300>Inputs!$D$9,0,1))","v":""},{"$f":"IF(AF300=\"\",\"\",IF(AF300>Inputs!$D$9,0,1))","v":""},{"$f":"IF(AG300=\"\",\"\",IF(AG300>Inputs!$D$9,0,1))","v":""},{"$f":"IF(AH300=\"\",\"\",IF(AH300>Inputs!$D$9,0,1))","v":""},{"$f":"IF(AI300=\"\",\"\",IF(AI300>Inputs!$D$9,0,1))","v":""},{"$f":"IF(AJ300=\"\",\"\",IF(AJ300>Inputs!$D$9,0,1))","v":""},{"$f":"IF(AK300=\"\",\"\",IF(AK300>Inputs!$D$9,0,1))","v":""},{"$f":"IF(AL300=\"\",\"\",IF(AL300>Inputs!$D$9,0,1))","v":""},"",0,null,"","","","","","","","","","","","","","",null,null,"","","","","","","","","","","","",""]
[null,null,null,null,null,null,null,null,null,null,null,null,null,null,"","","","","","","","","","","","","","","","","","","","","","","","",null,{"$f":"IF(AA301=\"\",\"\",IF(AA301>Inputs!$D$9,0,1))","v":""},{"$f":"IF(AB301=\"\",\"\",IF(AB301>Inputs!$D$9,0,1))","v":""},{"$f":"IF(AC301=\"\",\"\",IF(AC301>Inputs!$D$9,0,1))","v":""},{"$f":"IF(AD301=\"\",\"\",IF(AD301>Inputs!$D$9,0,1))","v":""},{"$f":"IF(AE301=\"\",\"\",IF(AE301>Inputs!$D$9,0,1))","v":""},{"$f":"IF(AF301=\"\",\"\",IF(AF301>Inputs!$D$9,0,1))","v":""},{"$f":"IF(AG301=\"\",\"\",IF(AG301>Inputs!$D$9,0,1))","v":""},{"$f":"IF(AH301=\"\",\"\",IF(AH301>Inputs!$D$9,0,1))","v":""},{"$f":"IF(AI301=\"\",\"\",IF(AI301>Inputs!$D$9,0,1))","v":""},{"$f":"IF(AJ301=\"\",\"\",IF(AJ301>Inputs!$D$9,0,1))","v":""},{"$f":"IF(AK301=\"\",\"\",IF(AK301>Inputs!$D$9,0,1))","v":""},{"$f":"IF(AL301=\"\",\"\",IF(AL301>Inputs!$D$9,0,1))","v":""},"",0,null,"","","","","","","","","","","","","","",null,null,"","","","","","","","","","","","",""]
[null,null,null,null,null,null,null,null,null,null,null,null,null,null,"","","","","","","","","","","","","","","","","","","","","","","","",null,{"$f":"IF(AA302=\"\",\"\",IF(AA302>Inputs!$D$9,0,1))","v":""},{"$f":"IF(AB302=\"\",\"\",IF(AB302>Inputs!$D$9,0,1))","v":""},{"$f":"IF(AC302=\"\",\"\",IF(AC302>Inputs!$D$9,0,1))","v":""},{"$f":"IF(AD302=\"\",\"\",IF(AD302>Inputs!$D$9,0,1))","v":""},{"$f":"IF(AE302=\"\",\"\",IF(AE302>Inputs!$D$9,0,1))","v":""},{"$f":"IF(AF302=\"\",\"\",IF(AF302>Inputs!$D$9,0,1))","v":""},{"$f":"IF(AG302=\"\",\"\",IF(AG302>Inputs!$D$9,0,1))","v":""},{"$f":"IF(AH302=\"\",\"\",IF(AH302>Inputs!$D$9,0,1))","v":""},{"$f":"IF(AI302=\"\",\"\",IF(AI302>Inputs!$D$9,0,1))","v":""},{"$f":"IF(AJ302=\"\",\"\",IF(AJ302>Inputs!$D$9,0,1))","v":""},{"$f":"IF(AK302=\"\",\"\",IF(AK302>Inputs!$D$9,0,1))","v":""},{"$f":"IF(AL302=\"\",\"\",IF(AL302>Inputs!$D$9,0,1))","v":""},"",0,null,"","","","","","","","","","","","","","",null,null,"","","","","","","","","","","","",""]
[null,null,null,null,null,null,null,null,null,null,null,null,null,null,"","","","","","","","","","","","","","","","","","","","","","","","",null,{"$f":"IF(AA303=\"\",\"\",IF(AA303>Inputs!$D$9,0,1))","v":""},{"$f":"IF(AB303=\"\",\"\",IF(AB303>Inputs!$D$9,0,1))","v":""},{"$f":"IF(AC303=\"\",\"\",IF(AC303>Inputs!$D$9,0,1))","v":""},{"$f":"IF(AD303=\"\",\"\",IF(AD303>Inputs!$D$9,0,1))","v":""},{"$f":"IF(AE303=\"\",\"\",IF(AE303>Inputs!$D$9,0,1))","v":""},{"$f":"IF(AF303=\"\",\"\",IF(AF303>Inputs!$D$9,0,1))","v":""},{"$f":"IF(AG303=\"\",\"\",IF(AG303>Inputs!$D$9,0,1))","v":""},{"$f":"IF(AH303=\"\",\"\",IF(AH303>Inputs!$D$9,0,1))","v":""},{"$f":"IF(AI303=\"\",\"\",IF(AI303>Inputs!$D$9,0,1))","v":""},{"$f":"IF(AJ303=\"\",\"\",IF(AJ303>Inputs!$D$9,0,1))","v":""},{"$f":"IF(AK303=\"\",\"\",IF(AK303>Inputs!$D$9,0,1))","v":""},{"$f":"IF(AL303=\"\",\"\",IF(AL303>Inputs!$D$9,0,1))","v":""},"",0,null,"","","","","","","","","","","","","","",null,null,"","","","","","","","","","","","",""]
[null,null,null,null,null,null,null,null,null,null,null,null,null,null,"","","","","","","","","","","","","","","","","","","","","","","","",null,{"$f":"IF(AA304=\"\",\"\",IF(AA304>Inputs!$D$9,0,1))","v":""},{"$f":"IF(AB304=\"\",\"\",IF(AB304>Inputs!$D$9,0,1))","v":""},{"$f":"IF(AC304=\"\",\"\",IF(AC304>Inputs!$D$9,0,1))","v":""},{"$f":"IF(AD304=\"\",\"\",IF(AD304>Inputs!$D$9,0,1))","v":""},{"$f":"IF(AE304=\"\",\"\",IF(AE304>Inputs!$D$9,0,1))","v":""},{"$f":"IF(AF304=\"\",\"\",IF(AF304>Inputs!$D$9,0,1))","v":""},{"$f":"IF(AG304=\"\",\"\",IF(AG304>Inputs!$D$9,0,1))","v":""},{"$f":"IF(AH304=\"\",\"\",IF(AH304>Inputs!$D$9,0,1))","v":""},{"$f":"IF(AI304=\"\",\"\",IF(AI304>Inputs!$D$9,0,1))","v":""},{"$f":"IF(AJ304=\"\",\"\",IF(AJ304>Inputs!$D$9,0,1))","v":""},{"$f":"IF(AK304=\"\",\"\",IF(AK304>Inputs!$D$9,0,1))","v":""},{"$f":"IF(AL304=\"\",\"\",IF(AL304>Inputs!$D$9,0,1))","v":""},"",0,null,"","","","","","","","","","","","","","",null,null,"","","","","","","","","","","","",""]
[null,null,null,null,null,null,null,null,null,null,null,null,null,null,"","","","","","","","","","","","","","","","","","","","","","","","",null,{"$f":"IF(AA305=\"\",\"\",IF(AA305>Inputs!$D$9,0,1))","v":""},{"$f":"IF(AB305=\"\",\"\",IF(AB305>Inputs!$D$9,0,1))","v":""},{"$f":"IF(AC305=\"\",\"\",IF(AC305>Inputs!$D$9,0,1))","v":""},{"$f":"IF(AD305=\"\",\"\",IF(AD305>Inputs!$D$9,0,1))","v":""},{"$f":"IF(AE305=\"\",\"\",IF(AE305>Inputs!$D$9,0,1))","v":""},{"$f":"IF(AF305=\"\",\"\",IF(AF305>Inputs!$D$9,0,1))","v":""},{"$f":"IF(AG305=\"\",\"\",IF(AG305>Inputs!$D$9,0,1))","v":""},{"$f":"IF(AH305=\"\",\"\",IF(AH305>Inputs!$D$9,0,1))","v":""},{"$f":"IF(AI305=\"\",\"\",IF(AI305>Inputs!$D$9,0,1))","v":""},{"$f":"IF(AJ305=\"\",\"\",IF(AJ305>Inputs!$D$9,0,1))","v":""},{"$f":"IF(AK305=\"\",\"\",IF(AK305>Inputs!$D$9,0,1))","v":""},{"$f":"IF(AL305=\"\",\"\",IF(AL305>Inputs!$D$9,0,1))","v":""},"",0,null,"","","","","","","","","","","","","","",null,null,"","","","","","","","","","","","",""]
[null,null,null,null,null,null,null,null,null,null,null,null,null,null,"","","","","","","","","","","","","","","","","","","","","","","","",null,{"$f":"IF(AA306=\"\",\"\",IF(AA306>Inputs!$D$9,0,1))","v":""},{"$f":"IF(AB306=\"\",\"\",IF(AB306>Inputs!$D$9,0,1))","v":""},{"$f":"IF(AC306=\"\",\"\",IF(AC306>Inputs!$D$9,0,1))","v":""},{"$f":"IF(AD306=\"\",\"\",IF(AD306>Inputs!$D$9,0,1))","v":""},{"$f":"IF(AE306=\"\",\"\",IF(AE306>Inputs!$D$9,0,1))","v":""},{"$f":"IF(AF306=\"\",\"\",IF(AF306>Inputs!$D$9,0,1))","v":""},{"$f":"IF(AG306=\"\",\"\",IF(AG306>Inputs!$D$9,0,1))","v":""},{"$f":"IF(AH306=\"\",\"\",IF(AH306>Inputs!$D$9,0,1))","v":""},{"$f":"IF(AI306=\"\",\"\",IF(AI306>Inputs!$D$9,0,1))","v":""},{"$f":"IF(AJ306=\"\",\"\",IF(AJ306>Inputs!$D$9,0,1))","v":""},{"$f":"IF(AK306=\"\",\"\",IF(AK306>Inputs!$D$9,0,1))","v":""},{"$f":"IF(AL306=\"\",\"\",IF(AL306>Inputs!$D$9,0,1))","v":""},"",0,null,"","","","","","","","","","","","","","",null,null,"","","","","","","","","","","","",""]
[null,null,null,null,null,null,null,null,null,null,null,null,null,null,"","","","","","","","","","","","","","","","","","","","","","","","",null,{"$f":"IF(AA307=\"\",\"\",IF(AA307>Inputs!$D$9,0,1))","v":""},{"$f":"IF(AB307=\"\",\"\",IF(AB307>Inputs!$D$9,0,1))","v":""},{"$f":"IF(AC307=\"\",\"\",IF(AC307>Inputs!$D$9,0,1))","v":""},{"$f":"IF(AD307=\"\",\"\",IF(AD307>Inputs!$D$9,0,1))","v":""},{"$f":"IF(AE307=\"\",\"\",IF(AE307>Inputs!$D$9,0,1))","v":""},{"$f":"IF(AF307=\"\",\"\",IF(AF307>Inputs!$D$9,0,1))","v":""},{"$f":"IF(AG307=\"\",\"\",IF(AG307>Inputs!$D$9,0,1))","v":""},{"$f":"IF(AH307=\"\",\"\",IF(AH307>Inputs!$D$9,0,1))","v":""},{"$f":"IF(AI307=\"\",\"\",IF(AI307>Inputs!$D$9,0,1))","v":""},{"$f":"IF(AJ307=\"\",\"\",IF(AJ307>Inputs!$D$9,0,1))","v":""},{"$f":"IF(AK307=\"\",\"\",IF(AK307>Inputs!$D$9,0,1))","v":""},{"$f":"IF(AL307=\"\",\"\",IF(AL307>Inputs!$D$9,0,1))","v":""},"",0,null,"","","","","","","","","","","","","","",null,null,"","","","","","","","","","","","",""]
[null,null,null,null,null,null,null,null,null,null,null,null,null,null,"","","","","","","","","","","","","","","","","","","","","","","","",null,{"$f":"IF(AA308=\"\",\"\",IF(AA308>Inputs!$D$9,0,1))","v":""},{"$f":"IF(AB308=\"\",\"\",IF(AB308>Inputs!$D$9,0,1))","v":""},{"$f":"IF(AC308=\"\",\"\",IF(AC308>Inputs!$D$9,0,1))","v":""},{"$f":"IF(AD308=\"\",\"\",IF(AD308>Inputs!$D$9,0,1))","v":""},{"$f":"IF(AE308=\"\",\"\",IF(AE308>Inputs!$D$9,0,1))","v":""},{"$f":"IF(AF308=\"\",\"\",IF(AF308>Inputs!$D$9,0,1))","v":""},{"$f":"IF(AG308=\"\",\"\",IF(AG308>Inputs!$D$9,0,1))","v":""},{"$f":"IF(AH308=\"\",\"\",IF(AH308>Inputs!$D$9,0,1))","v":""},{"$f":"IF(AI308=\"\",\"\",IF(AI308>Inputs!$D$9,0,1))","v":""},{"$f":"IF(AJ308=\"\",\"\",IF(AJ308>Inputs!$D$9,0,1))","v":""},{"$f":"IF(AK308=\"\",\"\",IF(AK308>Inputs!$D$9,0,1))","v":""},{"$f":"IF(AL308=\"\",\"\",IF(AL308>Inputs!$D$9,0,1))","v":""},"",0,null,"","","","","","","","","","","","","","",null,null,"","","","","","","","","","","","",""]
[null,null,null,null,null,null,null,null,null,null,null,null,null,null,"","","","","","","","","","","","","","","","","","","","","","","","",null,{"$f":"IF(AA309=\"\",\"\",IF(AA309>Inputs!$D$9,0,1))","v":""},{"$f":"IF(AB309=\"\",\"\",IF(AB309>Inputs!$D$9,0,1))","v":""},{"$f":"IF(AC309=\"\",\"\",IF(AC309>Inputs!$D$9,0,1))","v":""},{"$f":"IF(AD309=\"\",\"\",IF(AD309>Inputs!$D$9,0,1))","v":""},{"$f":"IF(AE309=\"\",\"\",IF(AE309>Inputs!$D$9,0,1))","v":""},{"$f":"IF(AF309=\"\",\"\",IF(AF309>Inputs!$D$9,0,1))","v":""},{"$f":"IF(AG309=\"\",\"\",IF(AG309>Inputs!$D$9,0,1))","v":""},{"$f":"IF(AH309=\"\",\"\",IF(AH309>Inputs!$D$9,0,1))","v":""},{"$f":"IF(AI309=\"\",\"\",IF(AI309>Inputs!$D$9,0,1))","v":""},{"$f":"IF(AJ309=\"\",\"\",IF(AJ309>Inputs!$D$9,0,1))","v":""},{"$f":"IF(AK309=\"\",\"\",IF(AK309>Inputs!$D$9,0,1))","v":""},{"$f":"IF(AL309=\"\",\"\",IF(AL309>Inputs!$D$9,0,1))","v":""},"",0,null,"","","","","","","","","","","","","","",null,null,"","","","","","","","","","","","",""]
[null,null,null,null,null,null,null,null,null,null,null,null,null,null,"","","","","","","","","","","","","","","","","","","","","","","","",null,{"$f":"IF(AA310=\"\",\"\",IF(AA310>Inputs!$D$9,0,1))","v":""},{"$f":"IF(AB310=\"\",\"\",IF(AB310>Inputs!$D$9,0,1))","v":""},{"$f":"IF(AC310=\"\",\"\",IF(AC310>Inputs!$D$9,0,1))","v":""},{"$f":"IF(AD310=\"\",\"\",IF(AD310>Inputs!$D$9,0,1))","v":""},{"$f":"IF(AE310=\"\",\"\",IF(AE310>Inputs!$D$9,0,1))","v":""},{"$f":"IF(AF310=\"\",\"\",IF(AF310>Inputs!$D$9,0,1))","v":""},{"$f":"IF(AG310=\"\",\"\",IF(AG310>Inputs!$D$9,0,1))","v":""},{"$f":"IF(AH310=\"\",\"\",IF(AH310>Inputs!$D$9,0,1))","v":""},{"$f":"IF(AI310=\"\",\"\",IF(AI310>Inputs!$D$9,0,1))","v":""},{"$f":"IF(AJ310=\"\",\"\",IF(AJ310>Inputs!$D$9,0,1))","v":""},{"$f":"IF(AK310=\"\",\"\",IF(AK310>Inputs!$D$9,0,1))","v":""},{"$f":"IF(AL310=\"\",\"\",IF(AL310>Inputs!$D$9,0,1))","v":""},"",0,null,"","","","","","","","","","","","","","",null,null,"","","","","","","","","","","","",""]
[null,null,null,null,null,null,null,null,null,null,null,null,null,null,"","","","","","","","","","","","","","","","","","","","","","","","",null,{"$f":"IF(AA311=\"\",\"\",IF(AA311>Inputs!$D$9,0,1))","v":""},{"$f":"IF(AB311=\"\",\"\",IF(AB311>Inputs!$D$9,0,1))","v":""},{"$f":"IF(AC311=\"\",\"\",IF(AC311>Inputs!$D$9,0,1))","v":""},{"$f":"IF(AD311=\"\",\"\",IF(AD311>Inputs!$D$9,0,1))","v":""},{"$f":"IF(AE311=\"\",\"\",IF(AE311>Inputs!$D$9,0,1))","v":""},{"$f":"IF(AF311=\"\",\"\",IF(AF311>Inputs!$D$9,0,1))","v":""},{"$f":"IF(AG311=\"\",\"\",IF(AG311>Inputs!$D$9,0,1))","v":""},{"$f":"IF(AH311=\"\",\"\",IF(AH311>Inputs!$D$9,0,1))","v":""},{"$f":"IF(AI311=\"\",\"\",IF(AI311>Inputs!$D$9,0,1))","v":""},{"$f":"IF(AJ311=\"\",\"\",IF(AJ311>Inputs!$D$9,0,1))","v":""},{"$f":"IF(AK311=\"\",\"\",IF(AK311>Inputs!$D$9,0,1))","v":""},{"$f":"IF(AL311=\"\",\"\",IF(AL311>Inputs!$D$9,0,1))","v":""},"",0,null,"","","","","","","","","","","","","","",null,null,"","","","","","","","","","","","",""]
[null,null,null,null,null,null,null,null,null,null,null,null,null,null,"","","","","","","","","","","","","","","","","","","","","","","","",null,{"$f":"IF(AA312=\"\",\"\",IF(AA312>Inputs!$D$9,0,1))","v":""},{"$f":"IF(AB312=\"\",\"\",IF(AB312>Inputs!$D$9,0,1))","v":""},{"$f":"IF(AC312=\"\",\"\",IF(AC312>Inputs!$D$9,0,1))","v":""},{"$f":"IF(AD312=\"\",\"\",IF(AD312>Inputs!$D$9,0,1))","v":""},{"$f":"IF(AE312=\"\",\"\",IF(AE312>Inputs!$D$9,0,1))","v":""},{"$f":"IF(AF312=\"\",\"\",IF(AF312>Inputs!$D$9,0,1))","v":""},{"$f":"IF(AG312=\"\",\"\",IF(AG312>Inputs!$D$9,0,1))","v":""},{"$f":"IF(AH312=\"\",\"\",IF(AH312>Inputs!$D$9,0,1))","v":""},{"$f":"IF(AI312=\"\",\"\",IF(AI312>Inputs!$D$9,0,1))","v":""},{"$f":"IF(AJ312=\"\",\"\",IF(AJ312>Inputs!$D$9,0,1))","v":""},{"$f":"IF(AK312=\"\",\"\",IF(AK312>Inputs!$D$9,0,1))","v":""},{"$f":"IF(AL312=\"\",\"\",IF(AL312>Inputs!$D$9,0,1))","v":""},"",0,null,"","","","","","","","","","","","","","",null,null,"","","","","","","","","","","","",""]
[null,null,null,null,null,null,null,null,null,null,null,null,null,null,"","","","","","","","","","","","","","","","","","","","","","","","",null,{"$f":"IF(AA313=\"\",\"\",IF(AA313>Inputs!$D$9,0,1))","v":""},{"$f":"IF(AB313=\"\",\"\",IF(AB313>Inputs!$D$9,0,1))","v":""},{"$f":"IF(AC313=\"\",\"\",IF(AC313>Inputs!$D$9,0,1))","v":""},{"$f":"IF(AD313=\"\",\"\",IF(AD313>Inputs!$D$9,0,1))","v":""},{"$f":"IF(AE313=\"\",\"\",IF(AE313>Inputs!$D$9,0,1))","v":""},{"$f":"IF(AF313=\"\",\"\",IF(AF313>Inputs!$D$9,0,1))","v":""},{"$f":"IF(AG313=\"\",\"\",IF(AG313>Inputs!$D$9,0,1))","v":""},{"$f":"IF(AH313=\"\",\"\",IF(AH313>Inputs!$D$9,0,1))","v":""},{"$f":"IF(AI313=\"\",\"\",IF(AI313>Inputs!$D$9,0,1))","v":""},{"$f":"IF(AJ313=\"\",\"\",IF(AJ313>Inputs!$D$9,0,1))","v":""},{"$f":"IF(AK313=\"\",\"\",IF(AK313>Inputs!$D$9,0,1))","v":""},{"$f":"IF(AL313=\"\",\"\",IF(AL313>Inputs!$D$9,0,1))","v":""},"",0,null,"","","","","","","","","","","","","","",null,null,"","","","","","","","","","","","",""]
[null,null,null,null,null,null,null,null,null,null,null,null,null,null,"","","","","","","","","","","","","","","","","","","","","","","","",null,{"$f":"IF(AA314=\"\",\"\",IF(AA314>Inputs!$D$9,0,1))","v":""},{"$f":"IF(AB314=\"\",\"\",IF(AB314>Inputs!$D$9,0,1))","v":""},{"$f":"IF(AC314=\"\",\"\",IF(AC314>Inputs!$D$9,0,1))","v":""},{"$f":"IF(AD314=\"\",\"\",IF(AD314>Inputs!$D$9,0,1))","v":""},{"$f":"IF(AE314=\"\",\"\",IF(AE314>Inputs!$D$9,0,1))","v":""},{"$f":"IF(AF314=\"\",\"\",IF(AF314>Inputs!$D$9,0,1))","v":""},{"$f":"IF(AG314=\"\",\"\",IF(AG314>Inputs!$D$9,0,1))","v":""},{"$f":"IF(AH314=\"\",\"\",IF(AH314>Inputs!$D$9,0,1))","v":""},{"$f":"IF(AI314=\"\",\"\",IF(AI314>Inputs!$D$9,0,1))","v":""},{"$f":"IF(AJ314=\"\",\"\",IF(AJ314>Inputs!$D$9,0,1))","v":""},{"$f":"IF(AK314=\"\",\"\",IF(AK314>Inputs!$D$9,0,1))","v":""},{"$f":"IF(AL314=\"\",\"\",IF(AL314>Inputs!$D$9,0,1))","v":""},"",0,null,"","","","","","","","","","","","","","",null,null,"","","","","","","","","","","","",""]
[null,null,null,null,null,null,null,null,null,null,null,null,null,null,"","","","","","","","","","","","","","","","","","","","","","","","",null,{"$f":"IF(AA315=\"\",\"\",IF(AA315>Inputs!$D$9,0,1))","v":""},{"$f":"IF(AB315=\"\",\"\",IF(AB315>Inputs!$D$9,0,1))","v":""},{"$f":"IF(AC315=\"\",\"\",IF(AC315>Inputs!$D$9,0,1))","v":""},{"$f":"IF(AD315=\"\",\"\",IF(AD315>Inputs!$D$9,0,1))","v":""},{"$f":"IF(AE315=\"\",\"\",IF(AE315>Inputs!$D$9,0,1))","v":""},{"$f":"IF(AF315=\"\",\"\",IF(AF315>Inputs!$D$9,0,1))","v":""},{"$f":"IF(AG315=\"\",\"\",IF(AG315>Inputs!$D$9,0,1))","v":""},{"$f":"IF(AH315=\"\",\"\",IF(AH315>Inputs!$D$9,0,1))","v":""},{"$f":"IF(AI315=\"\",\"\",IF(AI315>Inputs!$D$9,0,1))","v":""},{"$f":"IF(AJ315=\"\",\"\",IF(AJ315>Inputs!$D$9,0,1))","v":""},{"$f":"IF(AK315=\"\",\"\",IF(AK315>Inputs!$D$9,0,1))","v":""},{"$f":"IF(AL315=\"\",\"\",IF(AL315>Inputs!$D$9,0,1))","v":""},"",0,null,"","","","","","","","","","","","","","",null,null,"","","","","","","","","","","","",""]
[null,null,null,null,null,null,null,null,null,null,null,null,null,null,"","","","","","","","","","","","","","","","","","","","","","","","",null,{"$f":"IF(AA316=\"\",\"\",IF(AA316>Inputs!$D$9,0,1))","v":""},{"$f":"IF(AB316=\"\",\"\",IF(AB316>Inputs!$D$9,0,1))","v":""},{"$f":"IF(AC316=\"\",\"\",IF(AC316>Inputs!$D$9,0,1))","v":""},{"$f":"IF(AD316=\"\",\"\",IF(AD316>Inputs!$D$9,0,1))","v":""},{"$f":"IF(AE316=\"\",\"\",IF(AE316>Inputs!$D$9,0,1))","v":""},{"$f":"IF(AF316=\"\",\"\",IF(AF316>Inputs!$D$9,0,1))","v":""},{"$f":"IF(AG316=\"\",\"\",IF(AG316>Inputs!$D$9,0,1))","v":""},{"$f":"IF(AH316=\"\",\"\",IF(AH316>Inputs!$D$9,0,1))","v":""},{"$f":"IF(AI316=\"\",\"\",IF(AI316>Inputs!$D$9,0,1))","v":""},{"$f":"IF(AJ316=\"\",\"\",IF(AJ316>Inputs!$D$9,0,1))","v":""},{"$f":"IF(AK316=\"\",\"\",IF(AK316>Inputs!$D$9,0,1))","v":""},{"$f":"IF(AL316=\"\",\"\",IF(AL316>Inputs!$D$9,0,1))","v":""},"",0,null,"","","","","","","","","","","","","","",null,null,"","","","","","","","","","","","",""]
[null,null,null,null,null,null,null,null,null,null,null,null,null,null,"","","","","","","","","","","","","","","","","","","","","","","","",null,{"$f":"IF(AA317=\"\",\"\",IF(AA317>Inputs!$D$9,0,1))","v":""},{"$f":"IF(AB317=\"\",\"\",IF(AB317>Inputs!$D$9,0,1))","v":""},{"$f":"IF(AC317=\"\",\"\",IF(AC317>Inputs!$D$9,0,1))","v":""},{"$f":"IF(AD317=\"\",\"\",IF(AD317>Inputs!$D$9,0,1))","v":""},{"$f":"IF(AE317=\"\",\"\",IF(AE317>Inputs!$D$9,0,1))","v":""},{"$f":"IF(AF317=\"\",\"\",IF(AF317>Inputs!$D$9,0,1))","v":""},{"$f":"IF(AG317=\"\",\"\",IF(AG317>Inputs!$D$9,0,1))","v":""},{"$f":"IF(AH317=\"\",\"\",IF(AH317>Inputs!$D$9,0,1))","v":""},{"$f":"IF(AI317=\"\",\"\",IF(AI317>Inputs!$D$9,0,1))","v":""},{"$f":"IF(AJ317=\"\",\"\",IF(AJ317>Inputs!$D$9,0,1))","v":""},{"$f":"IF(AK317=\"\",\"\",IF(AK317>Inputs!$D$9,0,1))","v":""},{"$f":"IF(AL317=\"\",\"\",IF(AL317>Inputs!$D$9,0,1))","v":""},"",0,null,"","","","","","","","","","","","","","",null,null,"","","","","","","","","","","","",""]
[null,null,null,null,null,null,null,null,null,null,null,null,null,null,"","","","","","","","","","","","","","","","","","","","","","","","",null,{"$f":"IF(AA318=\"\",\"\",IF(AA318>Inputs!$D$9,0,1))","v":""},{"$f":"IF(AB318=\"\",\"\",IF(AB318>Inputs!$D$9,0,1))","v":""},{"$f":"IF(AC318=\"\",\"\",IF(AC318>Inputs!$D$9,0,1))","v":""},{"$f":"IF(AD318=\"\",\"\",IF(AD318>Inputs!$D$9,0,1))","v":""},{"$f":"IF(AE318=\"\",\"\",IF(AE318>Inputs!$D$9,0,1))","v":""},{"$f":"IF(AF318=\"\",\"\",IF(AF318>Inputs!$D$9,0,1))","v":""},{"$f":"IF(AG318=\"\",\"\",IF(AG318>Inputs!$D$9,0,1))","v":""},{"$f":"IF(AH318=\"\",\"\",IF(AH318>Inputs!$D$9,0,1))","v":""},{"$f":"IF(AI318=\"\",\"\",IF(AI318>Inputs!$D$9,0,1))","v":""},{"$f":"IF(AJ318=\"\",\"\",IF(AJ318>Inputs!$D$9,0,1))","v":""},{"$f":"IF(AK318=\"\",\"\",IF(AK318>Inputs!$D$9,0,1))","v":""},{"$f":"IF(AL318=\"\",\"\",IF(AL318>Inputs!$D$9,0,1))","v":""},"",0,null,"","","","","","","","","","","","","","",null,null,"","","","","","","","","","","","",""]
[null,null,null,null,null,null,null,null,null,null,null,null,null,null,"","","","","","","","","","","","","","","","","","","","","","","","",null,{"$f":"IF(AA319=\"\",\"\",IF(AA319>Inputs!$D$9,0,1))","v":""},{"$f":"IF(AB319=\"\",\"\",IF(AB319>Inputs!$D$9,0,1))","v":""},{"$f":"IF(AC319=\"\",\"\",IF(AC319>Inputs!$D$9,0,1))","v":""},{"$f":"IF(AD319=\"\",\"\",IF(AD319>Inputs!$D$9,0,1))","v":""},{"$f":"IF(AE319=\"\",\"\",IF(AE319>Inputs!$D$9,0,1))","v":""},{"$f":"IF(AF319=\"\",\"\",IF(AF319>Inputs!$D$9,0,1))","v":""},{"$f":"IF(AG319=\"\",\"\",IF(AG319>Inputs!$D$9,0,1))","v":""},{"$f":"IF(AH319=\"\",\"\",IF(AH319>Inputs!$D$9,0,1))","v":""},{"$f":"IF(AI319=\"\",\"\",IF(AI319>Inputs!$D$9,0,1))","v":""},{"$f":"IF(AJ319=\"\",\"\",IF(AJ319>Inputs!$D$9,0,1))","v":""},{"$f":"IF(AK319=\"\",\"\",IF(AK319>Inputs!$D$9,0,1))","v":""},{"$f":"IF(AL319=\"\",\"\",IF(AL319>Inputs!$D$9,0,1))","v":""},"",0,null,"","","","","","","","","","","","","","",null,null,"","","","","","","","","","","","",""]
[null,null,null,null,null,null,null,null,null,null,null,null,null,null,"","","","","","","","","","","","","","","","","","","","","","","","",null,{"$f":"IF(AA320=\"\",\"\",IF(AA320>Inputs!$D$9,0,1))","v":""},{"$f":"IF(AB320=\"\",\"\",IF(AB320>Inputs!$D$9,0,1))","v":""},{"$f":"IF(AC320=\"\",\"\",IF(AC320>Inputs!$D$9,0,1))","v":""},{"$f":"IF(AD320=\"\",\"\",IF(AD320>Inputs!$D$9,0,1))","v":""},{"$f":"IF(AE320=\"\",\"\",IF(AE320>Inputs!$D$9,0,1))","v":""},{"$f":"IF(AF320=\"\",\"\",IF(AF320>Inputs!$D$9,0,1))","v":""},{"$f":"IF(AG320=\"\",\"\",IF(AG320>Inputs!$D$9,0,1))","v":""},{"$f":"IF(AH320=\"\",\"\",IF(AH320>Inputs!$D$9,0,1))","v":""},{"$f":"IF(AI320=\"\",\"\",IF(AI320>Inputs!$D$9,0,1))","v":""},{"$f":"IF(AJ320=\"\",\"\",IF(AJ320>Inputs!$D$9,0,1))","v":""},{"$f":"IF(AK320=\"\",\"\",IF(AK320>Inputs!$D$9,0,1))","v":""},{"$f":"IF(AL320=\"\",\"\",IF(AL320>Inputs!$D$9,0,1))","v":""},"",0,null,"","","","","","","","","","","","","","",null,null,"","","","","","","","","","","","",""]
[null,null,null,null,null,null,null,null,null,null,null,null,null,null,"","","","","","","","","","","","","","","","","","","","","","","","",null,{"$f":"IF(AA321=\"\",\"\",IF(AA321>Inputs!$D$9,0,1))","v":""},{"$f":"IF(AB321=\"\",\"\",IF(AB321>Inputs!$D$9,0,1))","v":""},{"$f":"IF(AC321=\"\",\"\",IF(AC321>Inputs!$D$9,0,1))","v":""},{"$f":"IF(AD321=\"\",\"\",IF(AD321>Inputs!$D$9,0,1))","v":""},{"$f":"IF(AE321=\"\",\"\",IF(AE321>Inputs!$D$9,0,1))","v":""},{"$f":"IF(AF321=\"\",\"\",IF(AF321>Inputs!$D$9,0,1))","v":""},{"$f":"IF(AG321=\"\",\"\",IF(AG321>Inputs!$D$9,0,1))","v":""},{"$f":"IF(AH321=\"\",\"\",IF(AH321>Inputs!$D$9,0,1))","v":""},{"$f":"IF(AI321=\"\",\"\",IF(AI321>Inputs!$D$9,0,1))","v":""},{"$f":"IF(AJ321=\"\",\"\",IF(AJ321>Inputs!$D$9,0,1))","v":""},{"$f":"IF(AK321=\"\",\"\",IF(AK321>Inputs!$D$9,0,1))","v":""},{"$f":"IF(AL321=\"\",\"\",IF(AL321>Inputs!$D$9,0,1))","v":""},"",0,null,"","","","","","","","","","","","","","",null,null,"","","","","","","","","","","","",""]
[null,null,null,null,null,null,null,null,null,null,null,null,null,null,"",{"$f":"IF(A322=\"\",\"\",IF(ISERROR(1+D322),\"\",IF(ISERROR(((1+D322/100)*(1+E322/100)*(1+F322/100)*(1+G322/100)*(1+H322/100)*(1+I322/100)*(1+J322/100)*(1+K322/100)*(1+L322/100)*(1+M322/100)*(1+N322/100))^(1/11)-1),\"\",((1+D322/100)*(1+E322/100)*(1+F322/100)*(1+G322/100)*(1+H322/100)*(1+I322/100)*(1+J322/100)*(1+K322/100)*(1+L322/100)*(1+M322/100)*(1+N322/100))^(1/11)-1)))","v":""},"","","","","","","","","","","","","","","","","","","","","","",null,{"$f":"IF(AA322=\"\",\"\",IF(AA322>Inputs!$D$9,0,1))","v":""},{"$f":"IF(AB322=\"\",\"\",IF(AB322>Inputs!$D$9,0,1))","v":""},{"$f":"IF(AC322=\"\",\"\",IF(AC322>Inputs!$D$9,0,1))","v":""},{"$f":"IF(AD322=\"\",\"\",IF(AD322>Inputs!$D$9,0,1))","v":""},{"$f":"IF(AE322=\"\",\"\",IF(AE322>Inputs!$D$9,0,1))","v":""},{"$f":"IF(AF322=\"\",\"\",IF(AF322>Inputs!$D$9,0,1))","v":""},{"$f":"IF(AG322=\"\",\"\",IF(AG322>Inputs!$D$9,0,1))","v":""},{"$f":"IF(AH322=\"\",\"\",IF(AH322>Inputs!$D$9,0,1))","v":""},{"$f":"IF(AI322=\"\",\"\",IF(AI322>Inputs!$D$9,0,1))","v":""},{"$f":"IF(AJ322=\"\",\"\",IF(AJ322>Inputs!$D$9,0,1))","v":""},{"$f":"IF(AK322=\"\",\"\",IF(AK322>Inputs!$D$9,0,1))","v":""},{"$f":"IF(AL322=\"\",\"\",IF(AL322>Inputs!$D$9,0,1))","v":""},"",0,null,"","","","","","","","","","","","","","",null,null,"","","","","","","","","","","","",""]
[null,null,null,null,null,null,null,null,null,null,null,null,null,null,{"$f":"IF(A323=\"\",\"\",IF(ISERROR(1+C323),\"\",IF(ISERROR(((1+C323/100)*(1+D323/100)*(1+E323/100)*(1+F323/100)*(1+G323/100)*(1+H323/100)*(1+I323/100)*(1+J323/100)*(1+K323/100)*(1+L323/100)*(1+M323/100)*(1+N323/100))^(1/12)-1),\"\",((1+C323/100)*(1+D323/100)*(1+E323/100)*(1+F323/100)*(1+G323/100)*(1+H323/100)*(1+I323/100)*(1+J323/100)*(1+K323/100)*(1+L323/100)*(1+M323/100)*(1+N323/100))^(1/12)-1)))","v":""},"",{"$f":"IF(A323=\"\",\"\",IF(ISERROR(1+E323),\"\",IF(ISERROR(((1+E323/100)*(1+F323/100)*(1+G323/100)*(1+H323/100)*(1+I323/100)*(1+J323/100)*(1+K323/100)*(1+L323/100)*(1+M323/100)*(1+N323/100))^(1/10)-1),\"\",((1+E323/100)*(1+F323/100)*(1+G323/100)*(1+H323/100)*(1+I323/100)*(1+J323/100)*(1+K323/100)*(1+L323/100)*(1+M323/100)*(1+N323/100))^(1/10)-1)))","v":""},{"$f":"IF(A323=\"\",\"\",IF(ISERROR(1+F323),\"\",IF(ISERROR(((1+F323/100)*(1+G323/100)*(1+H323/100)*(1+I323/100)*(1+J323/100)*(1+K323/100)*(1+L323/100)*(1+M323/100)*(1+N323/100))^(1/9)-1),\"\",((1+F323/100)*(1+G323/100)*(1+H323/100)*(1+I323/100)*(1+J323/100)*(1+K323/100)*(1+L323/100)*(1+M323/100)*(1+N323/100))^(1/9)-1)))","v":""},{"$f":"IF(A323=\"\",\"\",IF(ISERROR(1+G323),\"\",IF(ISERROR(((1+G323/100)*(1+H323/100)*(1+I323/100)*(1+J323/100)*(1+K323/100)*(1+L323/100)*(1+M323/100)*(1+N323/100))^(1/8)-1),\"\",((1+G323/100)*(1+H323/100)*(1+I323/100)*(1+J323/100)*(1+K323/100)*(1+L323/100)*(1+M323/100)*(1+N323/100))^(1/8)-1)))","v":""},{"$f":"IF(A323=\"\",\"\",IF(ISERROR(1+H323),\"\",IF(ISERROR(((1+H323/100)*(1+I323/100)*(1+J323/100)*(1+K323/100)*(1+L323/100)*(1+M323/100)*(1+N323/100))^(1/7)-1),\"\",((1+H323/100)*(1+I323/100)*(1+J323/100)*(1+K323/100)*(1+L323/100)*(1+M323/100)*(1+N323/100))^(1/7)-1)))","v":""},{"$f":"IF(A323=\"\",\"\",IF(ISERROR(1+I323),\"\",IF(ISERROR(((1+I323/100)*(1+J323/100)*(1+K323/100)*(1+L323/100)*(1+M323/100)*(1+N323/100))^(1/6)-1),\"\",((1+I323/100)*(1+J323/100)*(1+K323/100)*(1+L323/100)*(1+M323/100)*(1+N323/100))^(1/6)-1)))","v":""},{"$f":"IF(A323=\"\",\"\",IF(ISERROR(1+J323),\"\",IF(ISERROR(((1+J323/100)*(1+K323/100)*(1+L323/100)*(1+M323/100)*(1+N323/100))^(1/5)-1),\"\",((1+J323/100)*(1+K323/100)*(1+L323/100)*(1+M323/100)*(1+N323/100))^(1/5)-1)))","v":""},{"$f":"IF(A323=\"\",\"\",IF(ISERROR(1+K323),\"\",IF(ISERROR(((1+K323/100)*(1+L323/100)*(1+M323/100)*(1+N323/100))^(1/4)-1),\"\",((1+K323/100)*(1+L323/100)*(1+M323/100)*(1+N323/100))^(1/4)-1)))","v":""},{"$f":"IF(A323=\"\",\"\",IF(ISERROR(1+L323),\"\",IF(ISERROR(((1+L323/100)*(1+M323/100)*(1+N323/100))^(1/3)-1),\"\",((1+L323/100)*(1+M323/100)*(1+N323/100))^(1/3)-1)))","v":""},{"$f":"IF(A323=\"\",\"\",IF(ISERROR(1+M323),\"\",IF(ISERROR(((1+M323/100)*(1+N323/100))^(1/2)-1),\"\",((1+M323/100)*(1+N323/100))^(1/2)-1)))","v":""},{"$f":"IF(A323=\"\",\"\",IF(ISERROR(1+N323),\"\",IF(ISERROR(((1+N323/100))^(1/1)-1),\"\",((1+N323/100))^(1/1)-1)))","v":""},"","","","","","","","","","","","",null,{"$f":"IF(AA323=\"\",\"\",IF(AA323>Inputs!$D$9,0,1))","v":""},{"$f":"IF(AB323=\"\",\"\",IF(AB323>Inputs!$D$9,0,1))","v":""},{"$f":"IF(AC323=\"\",\"\",IF(AC323>Inputs!$D$9,0,1))","v":""},{"$f":"IF(AD323=\"\",\"\",IF(AD323>Inputs!$D$9,0,1))","v":""},{"$f":"IF(AE323=\"\",\"\",IF(AE323>Inputs!$D$9,0,1))","v":""},{"$f":"IF(AF323=\"\",\"\",IF(AF323>Inputs!$D$9,0,1))","v":""},{"$f":"IF(AG323=\"\",\"\",IF(AG323>Inputs!$D$9,0,1))","v":""},{"$f":"IF(AH323=\"\",\"\",IF(AH323>Inputs!$D$9,0,1))","v":""},{"$f":"IF(AI323=\"\",\"\",IF(AI323>Inputs!$D$9,0,1))","v":""},{"$f":"IF(AJ323=\"\",\"\",IF(AJ323>Inputs!$D$9,0,1))","v":""},{"$f":"IF(AK323=\"\",\"\",IF(AK323>Inputs!$D$9,0,1))","v":""},{"$f":"IF(AL323=\"\",\"\",IF(AL323>Inputs!$D$9,0,1))","v":""},"",{"$f":"COUNT(AN323:AY323)","v":0},null,{"$f":"IF(O323=\"\",\"\",IF(O323>AVERAGE($O$2:$O$1000),1,0))","v":""},{"$f":"IF(P323=\"\",\"\",IF(P323>AVERAGE($P$2:$P$1000),1,0))","v":""},{"$f":"IF(Q323=\"\",\"\",IF(Q323>AVERAGE($Q$2:$Q$1000),1,0))","v":""},{"$f":"IF(R323=\"\",\"\",IF(R323>AVERAGE($R$2:$R$1000),1,0))","v":""},{"$f":"IF(S323=\"\",\"\",IF(S323>AVERAGE($S$2:$S$1000),1,0))","v":""},{"$f":"IF(T323=\"\",\"\",IF(T323>AVERAGE($T$2:$T$1000),1,0))","v":""},{"$f":"IF(U323=\"\",\"\",IF(U323>AVERAGE($U$2:$U$1000),1,0))","v":""},{"$f":"IF(V323=\"\",\"\",IF(V323>AVERAGE($V$2:$V$1000),1,0))","v":""},{"$f":"IF(W323=\"\",\"\",IF(W323>AVERAGE($W$2:$W$1000),1,0))","v":""},{"$f":"IF(X323=\"\",\"\",IF(X323>AVERAGE($X$2:$X$1000),1,0))","v":""},{"$f":"IF(Y323=\"\",\"\",IF(Y323>AVERAGE($Y$2:$Y$1000),1,0))","v":""},{"$f":"IF(Z323=\"\",\"\",IF(Z323>AVERAGE($Z$2:$Z$1000),1,0))","v":""},{"$f":"IF(COUNT(BC323:BN323)=0,\"\",SUM(BC323:BN323)/COUNT(BC323:BN323))","v":""},{"$f":"IF(A323=\"\",\"\",COUNT(BC323:BN323))","v":""},null,null,{"$f":"IF($A323=\"\",\"\",IF(C323=\"-\",0,IF(C323>AVERAGE(C$2:C$1183),1,0)))","v":""},{"$f":"IF($A323=\"\",\"\",IF(D323=\"-\",0,IF(D323>AVERAGE(D$2:D$1183),1,0)))","v":""},{"$f":"IF($A323=\"\",\"\",IF(E323=\"-\",0,IF(E323>AVERAGE(E$2:E$1183),1,0)))","v":""},{"$f":"IF($A323=\"\",\"\",IF(F323=\"-\",0,IF(F323>AVERAGE(F$2:F$1183),1,0)))","v":""},{"$f":"IF($A323=\"\",\"\",IF(G323=\"-\",0,IF(G323>AVERAGE(G$2:G$1183),1,0)))","v":""},{"$f":"IF($A323=\"\",\"\",IF(H323=\"-\",0,IF(H323>AVERAGE(H$2:H$1183),1,0)))","v":""},{"$f":"IF($A323=\"\",\"\",IF(I323=\"-\",0,IF(I323>AVERAGE(I$2:I$1183),1,0)))","v":""},{"$f":"IF($A323=\"\",\"\",IF(J323=\"-\",0,IF(J323>AVERAGE(J$2:J$1183),1,0)))","v":""},{"$f":"IF($A323=\"\",\"\",IF(K323=\"-\",0,IF(K323>AVERAGE(K$2:K$1183),1,0)))","v":""},{"$f":"IF($A323=\"\",\"\",IF(L323=\"-\",0,IF(L323>AVERAGE(L$2:L$1183),1,0)))","v":""},{"$f":"IF($A323=\"\",\"\",IF(M323=\"-\",0,IF(M323>AVERAGE(M$2:M$1183),1,0)))","v":""},{"$f":"IF($A323=\"\",\"\",IF(N323=\"-\",0,IF(N323>AVERAGE(N$2:N$1183),1,0)))","v":""},""]
[null,null,null,null,null,null,null,null,null,null,null,null,null,null,"","","","","","","","","","","","","","","","","","","","","","","","",null,{"$f":"IF(AA324=\"\",\"\",IF(AA324>Inputs!$D$9,0,1))","v":""},{"$f":"IF(AB324=\"\",\"\",IF(AB324>Inputs!$D$9,0,1))","v":""},{"$f":"IF(AC324=\"\",\"\",IF(AC324>Inputs!$D$9,0,1))","v":""},{"$f":"IF(AD324=\"\",\"\",IF(AD324>Inputs!$D$9,0,1))","v":""},{"$f":"IF(AE324=\"\",\"\",IF(AE324>Inputs!$D$9,0,1))","v":""},{"$f":"IF(AF324=\"\",\"\",IF(AF324>Inputs!$D$9,0,1))","v":""},{"$f":"IF(AG324=\"\",\"\",IF(AG324>Inputs!$D$9,0,1))","v":""},{"$f":"IF(AH324=\"\",\"\",IF(AH324>Inputs!$D$9,0,1))","v":""},{"$f":"IF(AI324=\"\",\"\",IF(AI324>Inputs!$D$9,0,1))","v":""},{"$f":"IF(AJ324=\"\",\"\",IF(AJ324>Inputs!$D$9,0,1))","v":""},{"$f":"IF(AK324=\"\",\"\",IF(AK324>Inputs!$D$9,0,1))","v":""},{"$f":"IF(AL324=\"\",\"\",IF(AL324>Inputs!$D$9,0,1))","v":""},"",0,null,"","","","","","","","","","","","","","",null,null,"","","","","","","","","","","","",""]
[null,null,null,null,null,null,null,null,null,null,null,null,null,null,"","","","","","","","","","","","","","","","","","","","","","","","",null,{"$f":"IF(AA325=\"\",\"\",IF(AA325>Inputs!$D$9,0,1))","v":""},{"$f":"IF(AB325=\"\",\"\",IF(AB325>Inputs!$D$9,0,1))","v":""},{"$f":"IF(AC325=\"\",\"\",IF(AC325>Inputs!$D$9,0,1))","v":""},{"$f":"IF(AD325=\"\",\"\",IF(AD325>Inputs!$D$9,0,1))","v":""},{"$f":"IF(AE325=\"\",\"\",IF(AE325>Inputs!$D$9,0,1))","v":""},{"$f":"IF(AF325=\"\",\"\",IF(AF325>Inputs!$D$9,0,1))","v":""},{"$f":"IF(AG325=\"\",\"\",IF(AG325>Inputs!$D$9,0,1))","v":""},{"$f":"IF(AH325=\"\",\"\",IF(AH325>Inputs!$D$9,0,1))","v":""},{"$f":"IF(AI325=\"\",\"\",IF(AI325>Inputs!$D$9,0,1))","v":""},{"$f":"IF(AJ325=\"\",\"\",IF(AJ325>Inputs!$D$9,0,1))","v":""},{"$f":"IF(AK325=\"\",\"\",IF(AK325>Inputs!$D$9,0,1))","v":""},{"$f":"IF(AL325=\"\",\"\",IF(AL325>Inputs!$D$9,0,1))","v":""},"",0,null,"","","","","","","","","","","","","","",null,null,"","","","","","","","","","","","",""]
[null,null,null,null,null,null,null,null,null,null,null,null,null,null,"","","","","","","","","","","","","","","","","","","","","","","","",null,{"$f":"IF(AA326=\"\",\"\",IF(AA326>Inputs!$D$9,0,1))","v":""},{"$f":"IF(AB326=\"\",\"\",IF(AB326>Inputs!$D$9,0,1))","v":""},{"$f":"IF(AC326=\"\",\"\",IF(AC326>Inputs!$D$9,0,1))","v":""},{"$f":"IF(AD326=\"\",\"\",IF(AD326>Inputs!$D$9,0,1))","v":""},{"$f":"IF(AE326=\"\",\"\",IF(AE326>Inputs!$D$9,0,1))","v":""},{"$f":"IF(AF326=\"\",\"\",IF(AF326>Inputs!$D$9,0,1))","v":""},{"$f":"IF(AG326=\"\",\"\",IF(AG326>Inputs!$D$9,0,1))","v":""},{"$f":"IF(AH326=\"\",\"\",IF(AH326>Inputs!$D$9,0,1))","v":""},{"$f":"IF(AI326=\"\",\"\",IF(AI326>Inputs!$D$9,0,1))","v":""},{"$f":"IF(AJ326=\"\",\"\",IF(AJ326>Inputs!$D$9,0,1))","v":""},{"$f":"IF(AK326=\"\",\"\",IF(AK326>Inputs!$D$9,0,1))","v":""},{"$f":"IF(AL326=\"\",\"\",IF(AL326>Inputs!$D$9,0,1))","v":""},"",0,null,"","","","","","","","","","","","","","",null,null,"","","","","","","","","","","","",""]
[null,null,null,null,null,null,null,null,null,null,null,null,null,null,"","","","","","","","","","","","","","","","","","","","","","","","",null,{"$f":"IF(AA327=\"\",\"\",IF(AA327>Inputs!$D$9,0,1))","v":""},{"$f":"IF(AB327=\"\",\"\",IF(AB327>Inputs!$D$9,0,1))","v":""},{"$f":"IF(AC327=\"\",\"\",IF(AC327>Inputs!$D$9,0,1))","v":""},{"$f":"IF(AD327=\"\",\"\",IF(AD327>Inputs!$D$9,0,1))","v":""},{"$f":"IF(AE327=\"\",\"\",IF(AE327>Inputs!$D$9,0,1))","v":""},{"$f":"IF(AF327=\"\",\"\",IF(AF327>Inputs!$D$9,0,1))","v":""},{"$f":"IF(AG327=\"\",\"\",IF(AG327>Inputs!$D$9,0,1))","v":""},{"$f":"IF(AH327=\"\",\"\",IF(AH327>Inputs!$D$9,0,1))","v":""},{"$f":"IF(AI327=\"\",\"\",IF(AI327>Inputs!$D$9,0,1))","v":""},{"$f":"IF(AJ327=\"\",\"\",IF(AJ327>Inputs!$D$9,0,1))","v":""},{"$f":"IF(AK327=\"\",\"\",IF(AK327>Inputs!$D$9,0,1))","v":""},{"$f":"IF(AL327=\"\",\"\",IF(AL327>Inputs!$D$9,0,1))","v":""},"",0,null,"","","","","","","","","","","","","","",null,null,"","","","","","","","","","","","",""]
[null,null,null,null,null,null,null,null,null,null,null,null,null,null,"","","","","","","","","","","","","","","","","","","","","","","","",null,{"$f":"IF(AA328=\"\",\"\",IF(AA328>Inputs!$D$9,0,1))","v":""},{"$f":"IF(AB328=\"\",\"\",IF(AB328>Inputs!$D$9,0,1))","v":""},{"$f":"IF(AC328=\"\",\"\",IF(AC328>Inputs!$D$9,0,1))","v":""},{"$f":"IF(AD328=\"\",\"\",IF(AD328>Inputs!$D$9,0,1))","v":""},{"$f":"IF(AE328=\"\",\"\",IF(AE328>Inputs!$D$9,0,1))","v":""},{"$f":"IF(AF328=\"\",\"\",IF(AF328>Inputs!$D$9,0,1))","v":""},{"$f":"IF(AG328=\"\",\"\",IF(AG328>Inputs!$D$9,0,1))","v":""},{"$f":"IF(AH328=\"\",\"\",IF(AH328>Inputs!$D$9,0,1))","v":""},{"$f":"IF(AI328=\"\",\"\",IF(AI328>Inputs!$D$9,0,1))","v":""},{"$f":"IF(AJ328=\"\",\"\",IF(AJ328>Inputs!$D$9,0,1))","v":""},{"$f":"IF(AK328=\"\",\"\",IF(AK328>Inputs!$D$9,0,1))","v":""},{"$f":"IF(AL328=\"\",\"\",IF(AL328>Inputs!$D$9,0,1))","v":""},"",0,null,"","","","","","","","","","","","","","",null,null,"","","","","","","","","","","","",""]
[null,null,null,null,null,null,null,null,null,null,null,null,null,null,"","","","","","","","","","","","","","","","","","","","","","","","",null,{"$f":"IF(AA329=\"\",\"\",IF(AA329>Inputs!$D$9,0,1))","v":""},{"$f":"IF(AB329=\"\",\"\",IF(AB329>Inputs!$D$9,0,1))","v":""},{"$f":"IF(AC329=\"\",\"\",IF(AC329>Inputs!$D$9,0,1))","v":""},{"$f":"IF(AD329=\"\",\"\",IF(AD329>Inputs!$D$9,0,1))","v":""},{"$f":"IF(AE329=\"\",\"\",IF(AE329>Inputs!$D$9,0,1))","v":""},{"$f":"IF(AF329=\"\",\"\",IF(AF329>Inputs!$D$9,0,1))","v":""},{"$f":"IF(AG329=\"\",\"\",IF(AG329>Inputs!$D$9,0,1))","v":""},{"$f":"IF(AH329=\"\",\"\",IF(AH329>Inputs!$D$9,0,1))","v":""},{"$f":"IF(AI329=\"\",\"\",IF(AI329>Inputs!$D$9,0,1))","v":""},{"$f":"IF(AJ329=\"\",\"\",IF(AJ329>Inputs!$D$9,0,1))","v":""},{"$f":"IF(AK329=\"\",\"\",IF(AK329>Inputs!$D$9,0,1))","v":""},{"$f":"IF(AL329=\"\",\"\",IF(AL329>Inputs!$D$9,0,1))","v":""},"",0,null,"","","","","","","","","","","","","","",null,null,"","","","","","","","","","","","",""]
[null,null,null,null,null,null,null,null,null,null,null,null,null,null,"","","","","","","","","","","","","","","","","","","","","","","","",null,{"$f":"IF(AA330=\"\",\"\",IF(AA330>Inputs!$D$9,0,1))","v":""},{"$f":"IF(AB330=\"\",\"\",IF(AB330>Inputs!$D$9,0,1))","v":""},{"$f":"IF(AC330=\"\",\"\",IF(AC330>Inputs!$D$9,0,1))","v":""},{"$f":"IF(AD330=\"\",\"\",IF(AD330>Inputs!$D$9,0,1))","v":""},{"$f":"IF(AE330=\"\",\"\",IF(AE330>Inputs!$D$9,0,1))","v":""},{"$f":"IF(AF330=\"\",\"\",IF(AF330>Inputs!$D$9,0,1))","v":""},{"$f":"IF(AG330=\"\",\"\",IF(AG330>Inputs!$D$9,0,1))","v":""},{"$f":"IF(AH330=\"\",\"\",IF(AH330>Inputs!$D$9,0,1))","v":""},{"$f":"IF(AI330=\"\",\"\",IF(AI330>Inputs!$D$9,0,1))","v":""},{"$f":"IF(AJ330=\"\",\"\",IF(AJ330>Inputs!$D$9,0,1))","v":""},{"$f":"IF(AK330=\"\",\"\",IF(AK330>Inputs!$D$9,0,1))","v":""},{"$f":"IF(AL330=\"\",\"\",IF(AL330>Inputs!$D$9,0,1))","v":""},"",0,null,"","","","","","","","","","","","","","",null,null,"","","","","","","","","","","","",""]
[null,null,null,null,null,null,null,null,null,null,null,null,null,null,"","","","","","","","","","","","","","","","","","","","","","","","",null,{"$f":"IF(AA331=\"\",\"\",IF(AA331>Inputs!$D$9,0,1))","v":""},{"$f":"IF(AB331=\"\",\"\",IF(AB331>Inputs!$D$9,0,1))","v":""},{"$f":"IF(AC331=\"\",\"\",IF(AC331>Inputs!$D$9,0,1))","v":""},{"$f":"IF(AD331=\"\",\"\",IF(AD331>Inputs!$D$9,0,1))","v":""},{"$f":"IF(AE331=\"\",\"\",IF(AE331>Inputs!$D$9,0,1))","v":""},{"$f":"IF(AF331=\"\",\"\",IF(AF331>Inputs!$D$9,0,1))","v":""},{"$f":"IF(AG331=\"\",\"\",IF(AG331>Inputs!$D$9,0,1))","v":""},{"$f":"IF(AH331=\"\",\"\",IF(AH331>Inputs!$D$9,0,1))","v":""},{"$f":"IF(AI331=\"\",\"\",IF(AI331>Inputs!$D$9,0,1))","v":""},{"$f":"IF(AJ331=\"\",\"\",IF(AJ331>Inputs!$D$9,0,1))","v":""},{"$f":"IF(AK331=\"\",\"\",IF(AK331>Inputs!$D$9,0,1))","v":""},{"$f":"IF(AL331=\"\",\"\",IF(AL331>Inputs!$D$9,0,1))","v":""},"",0,null,"","","","","","","","","","","","","","",null,null,"","","","","","","","","","","","",""]
[null,null,null,null,null,null,null,null,null,null,null,null,null,null,"","","","","","","","","","","","","","","","","","","","","","","","",null,{"$f":"IF(AA332=\"\",\"\",IF(AA332>Inputs!$D$9,0,1))","v":""},{"$f":"IF(AB332=\"\",\"\",IF(AB332>Inputs!$D$9,0,1))","v":""},{"$f":"IF(AC332=\"\",\"\",IF(AC332>Inputs!$D$9,0,1))","v":""},{"$f":"IF(AD332=\"\",\"\",IF(AD332>Inputs!$D$9,0,1))","v":""},{"$f":"IF(AE332=\"\",\"\",IF(AE332>Inputs!$D$9,0,1))","v":""},{"$f":"IF(AF332=\"\",\"\",IF(AF332>Inputs!$D$9,0,1))","v":""},{"$f":"IF(AG332=\"\",\"\",IF(AG332>Inputs!$D$9,0,1))","v":""},{"$f":"IF(AH332=\"\",\"\",IF(AH332>Inputs!$D$9,0,1))","v":""},{"$f":"IF(AI332=\"\",\"\",IF(AI332>Inputs!$D$9,0,1))","v":""},{"$f":"IF(AJ332=\"\",\"\",IF(AJ332>Inputs!$D$9,0,1))","v":""},{"$f":"IF(AK332=\"\",\"\",IF(AK332>Inputs!$D$9,0,1))","v":""},{"$f":"IF(AL332=\"\",\"\",IF(AL332>Inputs!$D$9,0,1))","v":""},"",0,null,"","","","","","","","","","","","","","",null,null,"","","","","","","","","","","","",""]
[null,null,null,null,null,null,null,null,null,null,null,null,null,null,"","","","","","","","","","","","","","","","","","","","","","","","",null,{"$f":"IF(AA333=\"\",\"\",IF(AA333>Inputs!$D$9,0,1))","v":""},{"$f":"IF(AB333=\"\",\"\",IF(AB333>Inputs!$D$9,0,1))","v":""},{"$f":"IF(AC333=\"\",\"\",IF(AC333>Inputs!$D$9,0,1))","v":""},{"$f":"IF(AD333=\"\",\"\",IF(AD333>Inputs!$D$9,0,1))","v":""},{"$f":"IF(AE333=\"\",\"\",IF(AE333>Inputs!$D$9,0,1))","v":""},{"$f":"IF(AF333=\"\",\"\",IF(AF333>Inputs!$D$9,0,1))","v":""},{"$f":"IF(AG333=\"\",\"\",IF(AG333>Inputs!$D$9,0,1))","v":""},{"$f":"IF(AH333=\"\",\"\",IF(AH333>Inputs!$D$9,0,1))","v":""},{"$f":"IF(AI333=\"\",\"\",IF(AI333>Inputs!$D$9,0,1))","v":""},{"$f":"IF(AJ333=\"\",\"\",IF(AJ333>Inputs!$D$9,0,1))","v":""},{"$f":"IF(AK333=\"\",\"\",IF(AK333>Inputs!$D$9,0,1))","v":""},{"$f":"IF(AL333=\"\",\"\",IF(AL333>Inputs!$D$9,0,1))","v":""},"",0,null,"","","","","","","","","","","","","","",null,null,"","","","","","","","","","","","",""]
[null,null,null,null,null,null,null,null,null,null,null,null,null,null,"","","","","","","","","","","","","","","","","","","","","","","","",null,{"$f":"IF(AA334=\"\",\"\",IF(AA334>Inputs!$D$9,0,1))","v":""},{"$f":"IF(AB334=\"\",\"\",IF(AB334>Inputs!$D$9,0,1))","v":""},{"$f":"IF(AC334=\"\",\"\",IF(AC334>Inputs!$D$9,0,1))","v":""},{"$f":"IF(AD334=\"\",\"\",IF(AD334>Inputs!$D$9,0,1))","v":""},{"$f":"IF(AE334=\"\",\"\",IF(AE334>Inputs!$D$9,0,1))","v":""},{"$f":"IF(AF334=\"\",\"\",IF(AF334>Inputs!$D$9,0,1))","v":""},{"$f":"IF(AG334=\"\",\"\",IF(AG334>Inputs!$D$9,0,1))","v":""},{"$f":"IF(AH334=\"\",\"\",IF(AH334>Inputs!$D$9,0,1))","v":""},{"$f":"IF(AI334=\"\",\"\",IF(AI334>Inputs!$D$9,0,1))","v":""},{"$f":"IF(AJ334=\"\",\"\",IF(AJ334>Inputs!$D$9,0,1))","v":""},{"$f":"IF(AK334=\"\",\"\",IF(AK334>Inputs!$D$9,0,1))","v":""},{"$f":"IF(AL334=\"\",\"\",IF(AL334>Inputs!$D$9,0,1))","v":""},"",0,null,"","","","","","","","","","","","","","",null,null,"","","","","","","","","","","","",""]
[null,null,null,null,null,null,null,null,null,null,null,null,null,null,"","","","","","","","","","","","","","","","","","","","","","","","",null,{"$f":"IF(AA335=\"\",\"\",IF(AA335>Inputs!$D$9,0,1))","v":""},{"$f":"IF(AB335=\"\",\"\",IF(AB335>Inputs!$D$9,0,1))","v":""},{"$f":"IF(AC335=\"\",\"\",IF(AC335>Inputs!$D$9,0,1))","v":""},{"$f":"IF(AD335=\"\",\"\",IF(AD335>Inputs!$D$9,0,1))","v":""},{"$f":"IF(AE335=\"\",\"\",IF(AE335>Inputs!$D$9,0,1))","v":""},{"$f":"IF(AF335=\"\",\"\",IF(AF335>Inputs!$D$9,0,1))","v":""},{"$f":"IF(AG335=\"\",\"\",IF(AG335>Inputs!$D$9,0,1))","v":""},{"$f":"IF(AH335=\"\",\"\",IF(AH335>Inputs!$D$9,0,1))","v":""},{"$f":"IF(AI335=\"\",\"\",IF(AI335>Inputs!$D$9,0,1))","v":""},{"$f":"IF(AJ335=\"\",\"\",IF(AJ335>Inputs!$D$9,0,1))","v":""},{"$f":"IF(AK335=\"\",\"\",IF(AK335>Inputs!$D$9,0,1))","v":""},{"$f":"IF(AL335=\"\",\"\",IF(AL335>Inputs!$D$9,0,1))","v":""},"",0,null,"","","","","","","","","","","","","","",null,null,"","","","","","","","","","","","",""]
[null,null,null,null,null,null,null,null,null,null,null,null,null,null,"","","","","","","","","","","","","","","","","","","","","","","","",null,{"$f":"IF(AA336=\"\",\"\",IF(AA336>Inputs!$D$9,0,1))","v":""},{"$f":"IF(AB336=\"\",\"\",IF(AB336>Inputs!$D$9,0,1))","v":""},{"$f":"IF(AC336=\"\",\"\",IF(AC336>Inputs!$D$9,0,1))","v":""},{"$f":"IF(AD336=\"\",\"\",IF(AD336>Inputs!$D$9,0,1))","v":""},{"$f":"IF(AE336=\"\",\"\",IF(AE336>Inputs!$D$9,0,1))","v":""},{"$f":"IF(AF336=\"\",\"\",IF(AF336>Inputs!$D$9,0,1))","v":""},{"$f":"IF(AG336=\"\",\"\",IF(AG336>Inputs!$D$9,0,1))","v":""},{"$f":"IF(AH336=\"\",\"\",IF(AH336>Inputs!$D$9,0,1))","v":""},{"$f":"IF(AI336=\"\",\"\",IF(AI336>Inputs!$D$9,0,1))","v":""},{"$f":"IF(AJ336=\"\",\"\",IF(AJ336>Inputs!$D$9,0,1))","v":""},{"$f":"IF(AK336=\"\",\"\",IF(AK336>Inputs!$D$9,0,1))","v":""},{"$f":"IF(AL336=\"\",\"\",IF(AL336>Inputs!$D$9,0,1))","v":""},"",0,null,"","","","","","","","","","","","","","",null,null,"","","","","","","","","","","","",""]
[null,null,null,null,null,null,null,null,null,null,null,null,null,null,"","","","","","","","","","","","","","","","","","","","","","","","",null,{"$f":"IF(AA337=\"\",\"\",IF(AA337>Inputs!$D$9,0,1))","v":""},{"$f":"IF(AB337=\"\",\"\",IF(AB337>Inputs!$D$9,0,1))","v":""},{"$f":"IF(AC337=\"\",\"\",IF(AC337>Inputs!$D$9,0,1))","v":""},{"$f":"IF(AD337=\"\",\"\",IF(AD337>Inputs!$D$9,0,1))","v":""},{"$f":"IF(AE337=\"\",\"\",IF(AE337>Inputs!$D$9,0,1))","v":""},{"$f":"IF(AF337=\"\",\"\",IF(AF337>Inputs!$D$9,0,1))","v":""},{"$f":"IF(AG337=\"\",\"\",IF(AG337>Inputs!$D$9,0,1))","v":""},{"$f":"IF(AH337=\"\",\"\",IF(AH337>Inputs!$D$9,0,1))","v":""},{"$f":"IF(AI337=\"\",\"\",IF(AI337>Inputs!$D$9,0,1))","v":""},{"$f":"IF(AJ337=\"\",\"\",IF(AJ337>Inputs!$D$9,0,1))","v":""},{"$f":"IF(AK337=\"\",\"\",IF(AK337>Inputs!$D$9,0,1))","v":""},{"$f":"IF(AL337=\"\",\"\",IF(AL337>Inputs!$D$9,0,1))","v":""},"",0,null,"","","","","","","","","","","","","","",null,null,"","","","","","","","","","","","",""]
[null,null,null,null,null,null,null,null,null,null,null,null,null,null,"","","","","","","","","","","","","","","","","","","","","","","","",null,{"$f":"IF(AA338=\"\",\"\",IF(AA338>Inputs!$D$9,0,1))","v":""},{"$f":"IF(AB338=\"\",\"\",IF(AB338>Inputs!$D$9,0,1))","v":""},{"$f":"IF(AC338=\"\",\"\",IF(AC338>Inputs!$D$9,0,1))","v":""},{"$f":"IF(AD338=\"\",\"\",IF(AD338>Inputs!$D$9,0,1))","v":""},{"$f":"IF(AE338=\"\",\"\",IF(AE338>Inputs!$D$9,0,1))","v":""},{"$f":"IF(AF338=\"\",\"\",IF(AF338>Inputs!$D$9,0,1))","v":""},{"$f":"IF(AG338=\"\",\"\",IF(AG338>Inputs!$D$9,0,1))","v":""},{"$f":"IF(AH338=\"\",\"\",IF(AH338>Inputs!$D$9,0,1))","v":""},{"$f":"IF(AI338=\"\",\"\",IF(AI338>Inputs!$D$9,0,1))","v":""},{"$f":"IF(AJ338=\"\",\"\",IF(AJ338>Inputs!$D$9,0,1))","v":""},{"$f":"IF(AK338=\"\",\"\",IF(AK338>Inputs!$D$9,0,1))","v":""},{"$f":"IF(AL338=\"\",\"\",IF(AL338>Inputs!$D$9,0,1))","v":""},"",0,null,"","","","","","","","","","","","","","",null,null,"","","","","","","","","","","","",""]
[null,null,null,null,null,null,null,null,null,null,null,null,null,null,"","","","","","","","","","","","","","","","","","","","","","","","",null,{"$f":"IF(AA339=\"\",\"\",IF(AA339>Inputs!$D$9,0,1))","v":""},{"$f":"IF(AB339=\"\",\"\",IF(AB339>Inputs!$D$9,0,1))","v":""},{"$f":"IF(AC339=\"\",\"\",IF(AC339>Inputs!$D$9,0,1))","v":""},{"$f":"IF(AD339=\"\",\"\",IF(AD339>Inputs!$D$9,0,1))","v":""},{"$f":"IF(AE339=\"\",\"\",IF(AE339>Inputs!$D$9,0,1))","v":""},{"$f":"IF(AF339=\"\",\"\",IF(AF339>Inputs!$D$9,0,1))","v":""},{"$f":"IF(AG339=\"\",\"\",IF(AG339>Inputs!$D$9,0,1))","v":""},{"$f":"IF(AH339=\"\",\"\",IF(AH339>Inputs!$D$9,0,1))","v":""},{"$f":"IF(AI339=\"\",\"\",IF(AI339>Inputs!$D$9,0,1))","v":""},{"$f":"IF(AJ339=\"\",\"\",IF(AJ339>Inputs!$D$9,0,1))","v":""},{"$f":"IF(AK339=\"\",\"\",IF(AK339>Inputs!$D$9,0,1))","v":""},{"$f":"IF(AL339=\"\",\"\",IF(AL339>Inputs!$D$9,0,1))","v":""},"",0,null,"","","","","","","","","","","","","","",null,null,"","","","","","","","","","","","",{"$f":"IF(A339=\"\",\"\",SUM(BS339:CD339))","v":""}]
[null,null,null,null,null,null,null,null,null,null,null,null,null,null,"","","","","","","","","","","","","","","","","","","","","","","","",null,{"$f":"IF(AA340=\"\",\"\",IF(AA340>Inputs!$D$9,0,1))","v":""},{"$f":"IF(AB340=\"\",\"\",IF(AB340>Inputs!$D$9,0,1))","v":""},{"$f":"IF(AC340=\"\",\"\",IF(AC340>Inputs!$D$9,0,1))","v":""},{"$f":"IF(AD340=\"\",\"\",IF(AD340>Inputs!$D$9,0,1))","v":""},{"$f":"IF(AE340=\"\",\"\",IF(AE340>Inputs!$D$9,0,1))","v":""},{"$f":"IF(AF340=\"\",\"\",IF(AF340>Inputs!$D$9,0,1))","v":""},{"$f":"IF(AG340=\"\",\"\",IF(AG340>Inputs!$D$9,0,1))","v":""},{"$f":"IF(AH340=\"\",\"\",IF(AH340>Inputs!$D$9,0,1))","v":""},{"$f":"IF(AI340=\"\",\"\",IF(AI340>Inputs!$D$9,0,1))","v":""},{"$f":"IF(AJ340=\"\",\"\",IF(AJ340>Inputs!$D$9,0,1))","v":""},{"$f":"IF(AK340=\"\",\"\",IF(AK340>Inputs!$D$9,0,1))","v":""},{"$f":"IF(AL340=\"\",\"\",IF(AL340>Inputs!$D$9,0,1))","v":""},"",0,null,"","","","","","","","","","","","","","",null,null,"","","","","","","","","","","","",""]
[null,null,null,null,null,null,null,null,null,null,null,null,null,null,"","","","","","","","","","","","","","","","","","","","","","","","",null,{"$f":"IF(AA341=\"\",\"\",IF(AA341>Inputs!$D$9,0,1))","v":""},{"$f":"IF(AB341=\"\",\"\",IF(AB341>Inputs!$D$9,0,1))","v":""},{"$f":"IF(AC341=\"\",\"\",IF(AC341>Inputs!$D$9,0,1))","v":""},{"$f":"IF(AD341=\"\",\"\",IF(AD341>Inputs!$D$9,0,1))","v":""},{"$f":"IF(AE341=\"\",\"\",IF(AE341>Inputs!$D$9,0,1))","v":""},{"$f":"IF(AF341=\"\",\"\",IF(AF341>Inputs!$D$9,0,1))","v":""},{"$f":"IF(AG341=\"\",\"\",IF(AG341>Inputs!$D$9,0,1))","v":""},{"$f":"IF(AH341=\"\",\"\",IF(AH341>Inputs!$D$9,0,1))","v":""},{"$f":"IF(AI341=\"\",\"\",IF(AI341>Inputs!$D$9,0,1))","v":""},{"$f":"IF(AJ341=\"\",\"\",IF(AJ341>Inputs!$D$9,0,1))","v":""},{"$f":"IF(AK341=\"\",\"\",IF(AK341>Inputs!$D$9,0,1))","v":""},{"$f":"IF(AL341=\"\",\"\",IF(AL341>Inputs!$D$9,0,1))","v":""},"",0,null,"","","","","","","","","","","","","","",null,null,"","","","","","","","","","","","",""]
[null,null,null,null,null,null,null,null,null,null,null,null,null,null,"","","","","","","","","","","","","","","","","","","","","","","","",null,{"$f":"IF(AA342=\"\",\"\",IF(AA342>Inputs!$D$9,0,1))","v":""},{"$f":"IF(AB342=\"\",\"\",IF(AB342>Inputs!$D$9,0,1))","v":""},{"$f":"IF(AC342=\"\",\"\",IF(AC342>Inputs!$D$9,0,1))","v":""},{"$f":"IF(AD342=\"\",\"\",IF(AD342>Inputs!$D$9,0,1))","v":""},{"$f":"IF(AE342=\"\",\"\",IF(AE342>Inputs!$D$9,0,1))","v":""},{"$f":"IF(AF342=\"\",\"\",IF(AF342>Inputs!$D$9,0,1))","v":""},{"$f":"IF(AG342=\"\",\"\",IF(AG342>Inputs!$D$9,0,1))","v":""},{"$f":"IF(AH342=\"\",\"\",IF(AH342>Inputs!$D$9,0,1))","v":""},{"$f":"IF(AI342=\"\",\"\",IF(AI342>Inputs!$D$9,0,1))","v":""},{"$f":"IF(AJ342=\"\",\"\",IF(AJ342>Inputs!$D$9,0,1))","v":""},{"$f":"IF(AK342=\"\",\"\",IF(AK342>Inputs!$D$9,0,1))","v":""},{"$f":"IF(AL342=\"\",\"\",IF(AL342>Inputs!$D$9,0,1))","v":""},"",0,null,"","","","","","","","","","","","","","",null,null,"","","","","","","","","","","","",""]
[null,null,null,null,null,null,null,null,null,null,null,null,null,null,"","","","","","","","","","","","","","","","","","","","","","","","",null,{"$f":"IF(AA343=\"\",\"\",IF(AA343>Inputs!$D$9,0,1))","v":""},{"$f":"IF(AB343=\"\",\"\",IF(AB343>Inputs!$D$9,0,1))","v":""},{"$f":"IF(AC343=\"\",\"\",IF(AC343>Inputs!$D$9,0,1))","v":""},{"$f":"IF(AD343=\"\",\"\",IF(AD343>Inputs!$D$9,0,1))","v":""},{"$f":"IF(AE343=\"\",\"\",IF(AE343>Inputs!$D$9,0,1))","v":""},{"$f":"IF(AF343=\"\",\"\",IF(AF343>Inputs!$D$9,0,1))","v":""},{"$f":"IF(AG343=\"\",\"\",IF(AG343>Inputs!$D$9,0,1))","v":""},{"$f":"IF(AH343=\"\",\"\",IF(AH343>Inputs!$D$9,0,1))","v":""},{"$f":"IF(AI343=\"\",\"\",IF(AI343>Inputs!$D$9,0,1))","v":""},{"$f":"IF(AJ343=\"\",\"\",IF(AJ343>Inputs!$D$9,0,1))","v":""},{"$f":"IF(AK343=\"\",\"\",IF(AK343>Inputs!$D$9,0,1))","v":""},{"$f":"IF(AL343=\"\",\"\",IF(AL343>Inputs!$D$9,0,1))","v":""},"",0,null,"","","","","","","","","","","","","","",null,null,"","","","","","","","","","","","",""]
[null,null,null,null,null,null,null,null,null,null,null,null,null,null,"","","","","","","","","","","","","","","","","","","","","","","","",null,{"$f":"IF(AA344=\"\",\"\",IF(AA344>Inputs!$D$9,0,1))","v":""},{"$f":"IF(AB344=\"\",\"\",IF(AB344>Inputs!$D$9,0,1))","v":""},{"$f":"IF(AC344=\"\",\"\",IF(AC344>Inputs!$D$9,0,1))","v":""},{"$f":"IF(AD344=\"\",\"\",IF(AD344>Inputs!$D$9,0,1))","v":""},{"$f":"IF(AE344=\"\",\"\",IF(AE344>Inputs!$D$9,0,1))","v":""},{"$f":"IF(AF344=\"\",\"\",IF(AF344>Inputs!$D$9,0,1))","v":""},{"$f":"IF(AG344=\"\",\"\",IF(AG344>Inputs!$D$9,0,1))","v":""},{"$f":"IF(AH344=\"\",\"\",IF(AH344>Inputs!$D$9,0,1))","v":""},{"$f":"IF(AI344=\"\",\"\",IF(AI344>Inputs!$D$9,0,1))","v":""},{"$f":"IF(AJ344=\"\",\"\",IF(AJ344>Inputs!$D$9,0,1))","v":""},{"$f":"IF(AK344=\"\",\"\",IF(AK344>Inputs!$D$9,0,1))","v":""},{"$f":"IF(AL344=\"\",\"\",IF(AL344>Inputs!$D$9,0,1))","v":""},"",0,null,"","","","","","","","","","","","","","",null,null,"","","","","","","","","","","","",""]
[null,null,null,null,null,null,null,null,null,null,null,null,null,null,"","","","","","","","","","","","","","","","","","","","","","","","",null,{"$f":"IF(AA345=\"\",\"\",IF(AA345>Inputs!$D$9,0,1))","v":""},{"$f":"IF(AB345=\"\",\"\",IF(AB345>Inputs!$D$9,0,1))","v":""},{"$f":"IF(AC345=\"\",\"\",IF(AC345>Inputs!$D$9,0,1))","v":""},{"$f":"IF(AD345=\"\",\"\",IF(AD345>Inputs!$D$9,0,1))","v":""},{"$f":"IF(AE345=\"\",\"\",IF(AE345>Inputs!$D$9,0,1))","v":""},{"$f":"IF(AF345=\"\",\"\",IF(AF345>Inputs!$D$9,0,1))","v":""},{"$f":"IF(AG345=\"\",\"\",IF(AG345>Inputs!$D$9,0,1))","v":""},{"$f":"IF(AH345=\"\",\"\",IF(AH345>Inputs!$D$9,0,1))","v":""},{"$f":"IF(AI345=\"\",\"\",IF(AI345>Inputs!$D$9,0,1))","v":""},{"$f":"IF(AJ345=\"\",\"\",IF(AJ345>Inputs!$D$9,0,1))","v":""},{"$f":"IF(AK345=\"\",\"\",IF(AK345>Inputs!$D$9,0,1))","v":""},{"$f":"IF(AL345=\"\",\"\",IF(AL345>Inputs!$D$9,0,1))","v":""},"",0,null,"","","","","","","","","","","","","","",null,null,"","","","","","","","","","","","",""]
[null,null,null,null,null,null,null,null,null,null,null,null,null,null,"","","","","","","","","","","","","","","","","","","","","","","","",null,{"$f":"IF(AA346=\"\",\"\",IF(AA346>Inputs!$D$9,0,1))","v":""},{"$f":"IF(AB346=\"\",\"\",IF(AB346>Inputs!$D$9,0,1))","v":""},{"$f":"IF(AC346=\"\",\"\",IF(AC346>Inputs!$D$9,0,1))","v":""},{"$f":"IF(AD346=\"\",\"\",IF(AD346>Inputs!$D$9,0,1))","v":""},{"$f":"IF(AE346=\"\",\"\",IF(AE346>Inputs!$D$9,0,1))","v":""},{"$f":"IF(AF346=\"\",\"\",IF(AF346>Inputs!$D$9,0,1))","v":""},{"$f":"IF(AG346=\"\",\"\",IF(AG346>Inputs!$D$9,0,1))","v":""},{"$f":"IF(AH346=\"\",\"\",IF(AH346>Inputs!$D$9,0,1))","v":""},{"$f":"IF(AI346=\"\",\"\",IF(AI346>Inputs!$D$9,0,1))","v":""},{"$f":"IF(AJ346=\"\",\"\",IF(AJ346>Inputs!$D$9,0,1))","v":""},{"$f":"IF(AK346=\"\",\"\",IF(AK346>Inputs!$D$9,0,1))","v":""},{"$f":"IF(AL346=\"\",\"\",IF(AL346>Inputs!$D$9,0,1))","v":""},"",0,null,"","","","","","","","","","","","","","",null,null,"","","","","","","","","","","","",""]
[null,null,null,null,null,null,null,null,null,null,null,null,null,null,"","","","","","","","","","","","","","","","","","","","","","","","",null,{"$f":"IF(AA347=\"\",\"\",IF(AA347>Inputs!$D$9,0,1))","v":""},{"$f":"IF(AB347=\"\",\"\",IF(AB347>Inputs!$D$9,0,1))","v":""},{"$f":"IF(AC347=\"\",\"\",IF(AC347>Inputs!$D$9,0,1))","v":""},{"$f":"IF(AD347=\"\",\"\",IF(AD347>Inputs!$D$9,0,1))","v":""},{"$f":"IF(AE347=\"\",\"\",IF(AE347>Inputs!$D$9,0,1))","v":""},{"$f":"IF(AF347=\"\",\"\",IF(AF347>Inputs!$D$9,0,1))","v":""},{"$f":"IF(AG347=\"\",\"\",IF(AG347>Inputs!$D$9,0,1))","v":""},{"$f":"IF(AH347=\"\",\"\",IF(AH347>Inputs!$D$9,0,1))","v":""},{"$f":"IF(AI347=\"\",\"\",IF(AI347>Inputs!$D$9,0,1))","v":""},{"$f":"IF(AJ347=\"\",\"\",IF(AJ347>Inputs!$D$9,0,1))","v":""},{"$f":"IF(AK347=\"\",\"\",IF(AK347>Inputs!$D$9,0,1))","v":""},{"$f":"IF(AL347=\"\",\"\",IF(AL347>Inputs!$D$9,0,1))","v":""},"",0,null,"","","","","","","","","","","","","","",null,null,"","","","","","","","","","","","",""]
[null,null,null,null,null,null,null,null,null,null,null,null,null,null,"","","","","","","","","","","","","","","","","","","","","","","","",null,{"$f":"IF(AA348=\"\",\"\",IF(AA348>Inputs!$D$9,0,1))","v":""},{"$f":"IF(AB348=\"\",\"\",IF(AB348>Inputs!$D$9,0,1))","v":""},{"$f":"IF(AC348=\"\",\"\",IF(AC348>Inputs!$D$9,0,1))","v":""},{"$f":"IF(AD348=\"\",\"\",IF(AD348>Inputs!$D$9,0,1))","v":""},{"$f":"IF(AE348=\"\",\"\",IF(AE348>Inputs!$D$9,0,1))","v":""},{"$f":"IF(AF348=\"\",\"\",IF(AF348>Inputs!$D$9,0,1))","v":""},{"$f":"IF(AG348=\"\",\"\",IF(AG348>Inputs!$D$9,0,1))","v":""},{"$f":"IF(AH348=\"\",\"\",IF(AH348>Inputs!$D$9,0,1))","v":""},{"$f":"IF(AI348=\"\",\"\",IF(AI348>Inputs!$D$9,0,1))","v":""},{"$f":"IF(AJ348=\"\",\"\",IF(AJ348>Inputs!$D$9,0,1))","v":""},{"$f":"IF(AK348=\"\",\"\",IF(AK348>Inputs!$D$9,0,1))","v":""},{"$f":"IF(AL348=\"\",\"\",IF(AL348>Inputs!$D$9,0,1))","v":""},"",0,null,"","","","","","","","","","","","","","",null,null,"","","","","","","","","","","","",""]
[null,null,null,null,null,null,null,null,null,null,null,null,null,null,"","","","","","","","","","","","","","","","","","","","","","","","",null,{"$f":"IF(AA349=\"\",\"\",IF(AA349>Inputs!$D$9,0,1))","v":""},{"$f":"IF(AB349=\"\",\"\",IF(AB349>Inputs!$D$9,0,1))","v":""},{"$f":"IF(AC349=\"\",\"\",IF(AC349>Inputs!$D$9,0,1))","v":""},{"$f":"IF(AD349=\"\",\"\",IF(AD349>Inputs!$D$9,0,1))","v":""},{"$f":"IF(AE349=\"\",\"\",IF(AE349>Inputs!$D$9,0,1))","v":""},{"$f":"IF(AF349=\"\",\"\",IF(AF349>Inputs!$D$9,0,1))","v":""},{"$f":"IF(AG349=\"\",\"\",IF(AG349>Inputs!$D$9,0,1))","v":""},{"$f":"IF(AH349=\"\",\"\",IF(AH349>Inputs!$D$9,0,1))","v":""},{"$f":"IF(AI349=\"\",\"\",IF(AI349>Inputs!$D$9,0,1))","v":""},{"$f":"IF(AJ349=\"\",\"\",IF(AJ349>Inputs!$D$9,0,1))","v":""},{"$f":"IF(AK349=\"\",\"\",IF(AK349>Inputs!$D$9,0,1))","v":""},{"$f":"IF(AL349=\"\",\"\",IF(AL349>Inputs!$D$9,0,1))","v":""},"",0,null,"","","","","","","","","","","","","","",null,null,"","","","","","","","","","","","",""]
[null,null,null,null,null,null,null,null,null,null,null,null,null,null,"","","","","","","","","","","","","","","","","","","","","","","","",null,{"$f":"IF(AA350=\"\",\"\",IF(AA350>Inputs!$D$9,0,1))","v":""},{"$f":"IF(AB350=\"\",\"\",IF(AB350>Inputs!$D$9,0,1))","v":""},{"$f":"IF(AC350=\"\",\"\",IF(AC350>Inputs!$D$9,0,1))","v":""},{"$f":"IF(AD350=\"\",\"\",IF(AD350>Inputs!$D$9,0,1))","v":""},{"$f":"IF(AE350=\"\",\"\",IF(AE350>Inputs!$D$9,0,1))","v":""},{"$f":"IF(AF350=\"\",\"\",IF(AF350>Inputs!$D$9,0,1))","v":""},{"$f":"IF(AG350=\"\",\"\",IF(AG350>Inputs!$D$9,0,1))","v":""},{"$f":"IF(AH350=\"\",\"\",IF(AH350>Inputs!$D$9,0,1))","v":""},{"$f":"IF(AI350=\"\",\"\",IF(AI350>Inputs!$D$9,0,1))","v":""},{"$f":"IF(AJ350=\"\",\"\",IF(AJ350>Inputs!$D$9,0,1))","v":""},{"$f":"IF(AK350=\"\",\"\",IF(AK350>Inputs!$D$9,0,1))","v":""},{"$f":"IF(AL350=\"\",\"\",IF(AL350>Inputs!$D$9,0,1))","v":""},"",0,null,"","","","","","","","","","","","","","",null,null,"","","","","","","","","","","","",""]
[null,null,null,null,null,null,null,null,null,null,null,null,null,null,"","","","","","","","","","","","","","","","","","","","","","","","",null,{"$f":"IF(AA351=\"\",\"\",IF(AA351>Inputs!$D$9,0,1))","v":""},{"$f":"IF(AB351=\"\",\"\",IF(AB351>Inputs!$D$9,0,1))","v":""},{"$f":"IF(AC351=\"\",\"\",IF(AC351>Inputs!$D$9,0,1))","v":""},{"$f":"IF(AD351=\"\",\"\",IF(AD351>Inputs!$D$9,0,1))","v":""},{"$f":"IF(AE351=\"\",\"\",IF(AE351>Inputs!$D$9,0,1))","v":""},{"$f":"IF(AF351=\"\",\"\",IF(AF351>Inputs!$D$9,0,1))","v":""},{"$f":"IF(AG351=\"\",\"\",IF(AG351>Inputs!$D$9,0,1))","v":""},{"$f":"IF(AH351=\"\",\"\",IF(AH351>Inputs!$D$9,0,1))","v":""},{"$f":"IF(AI351=\"\",\"\",IF(AI351>Inputs!$D$9,0,1))","v":""},{"$f":"IF(AJ351=\"\",\"\",IF(AJ351>Inputs!$D$9,0,1))","v":""},{"$f":"IF(AK351=\"\",\"\",IF(AK351>Inputs!$D$9,0,1))","v":""},{"$f":"IF(AL351=\"\",\"\",IF(AL351>Inputs!$D$9,0,1))","v":""},"",0,null,"","","","","","","","","","","","","","",null,null,"","","","","","","","","","","","",""]
[null,null,null,null,null,null,null,null,null,null,null,null,null,null,"","","","","","","","","","","","","","","","","","","","","","","","",null,{"$f":"IF(AA352=\"\",\"\",IF(AA352>Inputs!$D$9,0,1))","v":""},{"$f":"IF(AB352=\"\",\"\",IF(AB352>Inputs!$D$9,0,1))","v":""},{"$f":"IF(AC352=\"\",\"\",IF(AC352>Inputs!$D$9,0,1))","v":""},{"$f":"IF(AD352=\"\",\"\",IF(AD352>Inputs!$D$9,0,1))","v":""},{"$f":"IF(AE352=\"\",\"\",IF(AE352>Inputs!$D$9,0,1))","v":""},{"$f":"IF(AF352=\"\",\"\",IF(AF352>Inputs!$D$9,0,1))","v":""},{"$f":"IF(AG352=\"\",\"\",IF(AG352>Inputs!$D$9,0,1))","v":""},{"$f":"IF(AH352=\"\",\"\",IF(AH352>Inputs!$D$9,0,1))","v":""},{"$f":"IF(AI352=\"\",\"\",IF(AI352>Inputs!$D$9,0,1))","v":""},{"$f":"IF(AJ352=\"\",\"\",IF(AJ352>Inputs!$D$9,0,1))","v":""},{"$f":"IF(AK352=\"\",\"\",IF(AK352>Inputs!$D$9,0,1))","v":""},{"$f":"IF(AL352=\"\",\"\",IF(AL352>Inputs!$D$9,0,1))","v":""},"",0,null,"","","","","","","","","","","","","","",null,null,"","","","","","","","","","","","",""]
[null,null,null,null,null,null,null,null,null,null,null,null,null,null,"","","","","","","","","","","","","","","","","","","","","","","","",null,{"$f":"IF(AA353=\"\",\"\",IF(AA353>Inputs!$D$9,0,1))","v":""},{"$f":"IF(AB353=\"\",\"\",IF(AB353>Inputs!$D$9,0,1))","v":""},{"$f":"IF(AC353=\"\",\"\",IF(AC353>Inputs!$D$9,0,1))","v":""},{"$f":"IF(AD353=\"\",\"\",IF(AD353>Inputs!$D$9,0,1))","v":""},{"$f":"IF(AE353=\"\",\"\",IF(AE353>Inputs!$D$9,0,1))","v":""},{"$f":"IF(AF353=\"\",\"\",IF(AF353>Inputs!$D$9,0,1))","v":""},{"$f":"IF(AG353=\"\",\"\",IF(AG353>Inputs!$D$9,0,1))","v":""},{"$f":"IF(AH353=\"\",\"\",IF(AH353>Inputs!$D$9,0,1))","v":""},{"$f":"IF(AI353=\"\",\"\",IF(AI353>Inputs!$D$9,0,1))","v":""},{"$f":"IF(AJ353=\"\",\"\",IF(AJ353>Inputs!$D$9,0,1))","v":""},{"$f":"IF(AK353=\"\",\"\",IF(AK353>Inputs!$D$9,0,1))","v":""},{"$f":"IF(AL353=\"\",\"\",IF(AL353>Inputs!$D$9,0,1))","v":""},"",0,null,"","","","","","","","","","","","","","",null,null,"","","","","","","","","","","","",""]
[null,null,null,null,null,null,null,null,null,null,null,null,null,null,"","","","","","","","","","","","","","","","","","","","","","","","",null,{"$f":"IF(AA354=\"\",\"\",IF(AA354>Inputs!$D$9,0,1))","v":""},{"$f":"IF(AB354=\"\",\"\",IF(AB354>Inputs!$D$9,0,1))","v":""},{"$f":"IF(AC354=\"\",\"\",IF(AC354>Inputs!$D$9,0,1))","v":""},{"$f":"IF(AD354=\"\",\"\",IF(AD354>Inputs!$D$9,0,1))","v":""},{"$f":"IF(AE354=\"\",\"\",IF(AE354>Inputs!$D$9,0,1))","v":""},{"$f":"IF(AF354=\"\",\"\",IF(AF354>Inputs!$D$9,0,1))","v":""},{"$f":"IF(AG354=\"\",\"\",IF(AG354>Inputs!$D$9,0,1))","v":""},{"$f":"IF(AH354=\"\",\"\",IF(AH354>Inputs!$D$9,0,1))","v":""},{"$f":"IF(AI354=\"\",\"\",IF(AI354>Inputs!$D$9,0,1))","v":""},{"$f":"IF(AJ354=\"\",\"\",IF(AJ354>Inputs!$D$9,0,1))","v":""},{"$f":"IF(AK354=\"\",\"\",IF(AK354>Inputs!$D$9,0,1))","v":""},{"$f":"IF(AL354=\"\",\"\",IF(AL354>Inputs!$D$9,0,1))","v":""},{"$f":"IF(COUNT(AN354:AY354)=0,\"\",SUM(AN354:AY354)/COUNT(AN354:AY354))","v":""},0,null,"","","","","","","","","","","","","","",null,null,"","","","","","","","","","","","",""]
[null,null,null,null,null,null,null,null,null,null,null,null,null,null,"","","","","","","","","","","","",{"$f":"IF($A355=\"\",\"\",IF(ISERROR(RANK(O355,$O$2:$O$1000,0)),\"\",RANK(O355,$O$2:$O$1000,0)))","v":""},{"$f":"IF($A355=\"\",\"\",IF(ISERROR(RANK(P355,$P$2:$P$1000,0)),\"\",RANK(P355,$P$2:$P$1000,0)))","v":""},{"$f":"IF($A355=\"\",\"\",IF(ISERROR(RANK(Q355,$Q$2:$Q$1000,0)),\"\",RANK(Q355,$Q$2:$Q$1000,0)))","v":""},{"$f":"IF($A355=\"\",\"\",IF(ISERROR(RANK(R355,$R$2:$R$1000,0)),\"\",RANK(R355,$R$2:$R$1000,0)))","v":""},{"$f":"IF($A355=\"\",\"\",IF(ISERROR(RANK(S355,$S$2:$S$1000,0)),\"\",RANK(S355,$S$2:$S$1000,0)))","v":""},{"$f":"IF($A355=\"\",\"\",IF(ISERROR(RANK(T355,$T$2:$T$1000,0)),\"\",RANK(T355,$T$2:$T$1000,0)))","v":""},{"$f":"IF($A355=\"\",\"\",IF(ISERROR(RANK(U355,$U$2:$U$1000,0)),\"\",RANK(U355,$U$2:$U$1000,0)))","v":""},{"$f":"IF($A355=\"\",\"\",IF(ISERROR(RANK(V355,$V$2:$V$1000,0)),\"\",RANK(V355,$V$2:$V$1000,0)))","v":""},{"$f":"IF($A355=\"\",\"\",IF(ISERROR(RANK(W355,$W$2:$W$1000,0)),\"\",RANK(W355,$W$2:$W$1000,0)))","v":""},{"$f":"IF($A355=\"\",\"\",IF(ISERROR(RANK(X355,$X$2:$X$1000,0)),\"\",RANK(X355,$X$2:$X$1000,0)))","v":""},{"$f":"IF($A355=\"\",\"\",IF(ISERROR(RANK(Y355,$Y$2:$Y$1000,0)),\"\",RANK(Y355,$Y$2:$Y$1000,0)))","v":""},{"$f":"IF($A355=\"\",\"\",IF(ISERROR(RANK(Z355,$Z$2:$Z$1000,0)),\"\",RANK(Z355,$Z$2:$Z$1000,0)))","v":""},null,{"$f":"IF(AA355=\"\",\"\",IF(AA355>Inputs!$D$9,0,1))","v":""},{"$f":"IF(AB355=\"\",\"\",IF(AB355>Inputs!$D$9,0,1))","v":""},{"$f":"IF(AC355=\"\",\"\",IF(AC355>Inputs!$D$9,0,1))","v":""},{"$f":"IF(AD355=\"\",\"\",IF(AD355>Inputs!$D$9,0,1))","v":""},{"$f":"IF(AE355=\"\",\"\",IF(AE355>Inputs!$D$9,0,1))","v":""},{"$f":"IF(AF355=\"\",\"\",IF(AF355>Inputs!$D$9,0,1))","v":""},{"$f":"IF(AG355=\"\",\"\",IF(AG355>Inputs!$D$9,0,1))","v":""},{"$f":"IF(AH355=\"\",\"\",IF(AH355>Inputs!$D$9,0,1))","v":""},{"$f":"IF(AI355=\"\",\"\",IF(AI355>Inputs!$D$9,0,1))","v":""},{"$f":"IF(AJ355=\"\",\"\",IF(AJ355>Inputs!$D$9,0,1))","v":""},{"$f":"IF(AK355=\"\",\"\",IF(AK355>Inputs!$D$9,0,1))","v":""},{"$f":"IF(AL355=\"\",\"\",IF(AL355>Inputs!$D$9,0,1))","v":""},"",0,null,"","","","","","","","","","","","","","",null,null,"","","","","","","","","","","","",""]
[null,null,null,null,null,null,null,null,null,null,null,null,null,null,"","","","","","","","","","","","","","","","","","","","","","","","",null,{"$f":"IF(AA356=\"\",\"\",IF(AA356>Inputs!$D$9,0,1))","v":""},{"$f":"IF(AB356=\"\",\"\",IF(AB356>Inputs!$D$9,0,1))","v":""},{"$f":"IF(AC356=\"\",\"\",IF(AC356>Inputs!$D$9,0,1))","v":""},{"$f":"IF(AD356=\"\",\"\",IF(AD356>Inputs!$D$9,0,1))","v":""},{"$f":"IF(AE356=\"\",\"\",IF(AE356>Inputs!$D$9,0,1))","v":""},{"$f":"IF(AF356=\"\",\"\",IF(AF356>Inputs!$D$9,0,1))","v":""},{"$f":"IF(AG356=\"\",\"\",IF(AG356>Inputs!$D$9,0,1))","v":""},{"$f":"IF(AH356=\"\",\"\",IF(AH356>Inputs!$D$9,0,1))","v":""},{"$f":"IF(AI356=\"\",\"\",IF(AI356>Inputs!$D$9,0,1))","v":""},{"$f":"IF(AJ356=\"\",\"\",IF(AJ356>Inputs!$D$9,0,1))","v":""},{"$f":"IF(AK356=\"\",\"\",IF(AK356>Inputs!$D$9,0,1))","v":""},{"$f":"IF(AL356=\"\",\"\",IF(AL356>Inputs!$D$9,0,1))","v":""},"",0,null,"","","","","","","","","","","","","","",null,null,"","","","","","","","","","","","",""]
[null,null,null,null,null,null,null,null,null,null,null,null,null,null,"","","","","","","","","","","","","","","","","","","","","","","","",null,{"$f":"IF(AA357=\"\",\"\",IF(AA357>Inputs!$D$9,0,1))","v":""},{"$f":"IF(AB357=\"\",\"\",IF(AB357>Inputs!$D$9,0,1))","v":""},{"$f":"IF(AC357=\"\",\"\",IF(AC357>Inputs!$D$9,0,1))","v":""},{"$f":"IF(AD357=\"\",\"\",IF(AD357>Inputs!$D$9,0,1))","v":""},{"$f":"IF(AE357=\"\",\"\",IF(AE357>Inputs!$D$9,0,1))","v":""},{"$f":"IF(AF357=\"\",\"\",IF(AF357>Inputs!$D$9,0,1))","v":""},{"$f":"IF(AG357=\"\",\"\",IF(AG357>Inputs!$D$9,0,1))","v":""},{"$f":"IF(AH357=\"\",\"\",IF(AH357>Inputs!$D$9,0,1))","v":""},{"$f":"IF(AI357=\"\",\"\",IF(AI357>Inputs!$D$9,0,1))","v":""},{"$f":"IF(AJ357=\"\",\"\",IF(AJ357>Inputs!$D$9,0,1))","v":""},{"$f":"IF(AK357=\"\",\"\",IF(AK357>Inputs!$D$9,0,1))","v":""},{"$f":"IF(AL357=\"\",\"\",IF(AL357>Inputs!$D$9,0,1))","v":""},"",0,null,"","","","","","","","","","","","","","",null,null,"","","","","","","","","","","","",""]
[null,null,null,null,null,null,null,null,null,null,null,null,null,null,"","","","","","","","","","","","","","","","","","","","","","","","",null,{"$f":"IF(AA358=\"\",\"\",IF(AA358>Inputs!$D$9,0,1))","v":""},{"$f":"IF(AB358=\"\",\"\",IF(AB358>Inputs!$D$9,0,1))","v":""},{"$f":"IF(AC358=\"\",\"\",IF(AC358>Inputs!$D$9,0,1))","v":""},{"$f":"IF(AD358=\"\",\"\",IF(AD358>Inputs!$D$9,0,1))","v":""},{"$f":"IF(AE358=\"\",\"\",IF(AE358>Inputs!$D$9,0,1))","v":""},{"$f":"IF(AF358=\"\",\"\",IF(AF358>Inputs!$D$9,0,1))","v":""},{"$f":"IF(AG358=\"\",\"\",IF(AG358>Inputs!$D$9,0,1))","v":""},{"$f":"IF(AH358=\"\",\"\",IF(AH358>Inputs!$D$9,0,1))","v":""},{"$f":"IF(AI358=\"\",\"\",IF(AI358>Inputs!$D$9,0,1))","v":""},{"$f":"IF(AJ358=\"\",\"\",IF(AJ358>Inputs!$D$9,0,1))","v":""},{"$f":"IF(AK358=\"\",\"\",IF(AK358>Inputs!$D$9,0,1))","v":""},{"$f":"IF(AL358=\"\",\"\",IF(AL358>Inputs!$D$9,0,1))","v":""},"",0,null,"","","","","","","","","","","","","","",null,null,"","","","","","","","","","","","",""]
[null,null,null,null,null,null,null,null,null,null,null,null,null,null,"","","","","","","","","","","","","","","","","","","","","","","","",null,{"$f":"IF(AA359=\"\",\"\",IF(AA359>Inputs!$D$9,0,1))","v":""},{"$f":"IF(AB359=\"\",\"\",IF(AB359>Inputs!$D$9,0,1))","v":""},{"$f":"IF(AC359=\"\",\"\",IF(AC359>Inputs!$D$9,0,1))","v":""},{"$f":"IF(AD359=\"\",\"\",IF(AD359>Inputs!$D$9,0,1))","v":""},{"$f":"IF(AE359=\"\",\"\",IF(AE359>Inputs!$D$9,0,1))","v":""},{"$f":"IF(AF359=\"\",\"\",IF(AF359>Inputs!$D$9,0,1))","v":""},{"$f":"IF(AG359=\"\",\"\",IF(AG359>Inputs!$D$9,0,1))","v":""},{"$f":"IF(AH359=\"\",\"\",IF(AH359>Inputs!$D$9,0,1))","v":""},{"$f":"IF(AI359=\"\",\"\",IF(AI359>Inputs!$D$9,0,1))","v":""},{"$f":"IF(AJ359=\"\",\"\",IF(AJ359>Inputs!$D$9,0,1))","v":""},{"$f":"IF(AK359=\"\",\"\",IF(AK359>Inputs!$D$9,0,1))","v":""},{"$f":"IF(AL359=\"\",\"\",IF(AL359>Inputs!$D$9,0,1))","v":""},"",0,null,"","","","","","","","","","","","","","",null,null,"","","","","","","","","","","","",""]
[null,null,null,null,null,null,null,null,null,null,null,null,null,null,"","","","","","","","","","","","","","","","","","","","","","","","",null,{"$f":"IF(AA360=\"\",\"\",IF(AA360>Inputs!$D$9,0,1))","v":""},{"$f":"IF(AB360=\"\",\"\",IF(AB360>Inputs!$D$9,0,1))","v":""},{"$f":"IF(AC360=\"\",\"\",IF(AC360>Inputs!$D$9,0,1))","v":""},{"$f":"IF(AD360=\"\",\"\",IF(AD360>Inputs!$D$9,0,1))","v":""},{"$f":"IF(AE360=\"\",\"\",IF(AE360>Inputs!$D$9,0,1))","v":""},{"$f":"IF(AF360=\"\",\"\",IF(AF360>Inputs!$D$9,0,1))","v":""},{"$f":"IF(AG360=\"\",\"\",IF(AG360>Inputs!$D$9,0,1))","v":""},{"$f":"IF(AH360=\"\",\"\",IF(AH360>Inputs!$D$9,0,1))","v":""},{"$f":"IF(AI360=\"\",\"\",IF(AI360>Inputs!$D$9,0,1))","v":""},{"$f":"IF(AJ360=\"\",\"\",IF(AJ360>Inputs!$D$9,0,1))","v":""},{"$f":"IF(AK360=\"\",\"\",IF(AK360>Inputs!$D$9,0,1))","v":""},{"$f":"IF(AL360=\"\",\"\",IF(AL360>Inputs!$D$9,0,1))","v":""},"",0,null,"","","","","","","","","","","","","","",null,null,"","","","","","","","","","","","",""]
[null,null,null,null,null,null,null,null,null,null,null,null,null,null,"","","","","","","","","","","","","","","","","","","","","","","","",null,{"$f":"IF(AA361=\"\",\"\",IF(AA361>Inputs!$D$9,0,1))","v":""},{"$f":"IF(AB361=\"\",\"\",IF(AB361>Inputs!$D$9,0,1))","v":""},{"$f":"IF(AC361=\"\",\"\",IF(AC361>Inputs!$D$9,0,1))","v":""},{"$f":"IF(AD361=\"\",\"\",IF(AD361>Inputs!$D$9,0,1))","v":""},{"$f":"IF(AE361=\"\",\"\",IF(AE361>Inputs!$D$9,0,1))","v":""},{"$f":"IF(AF361=\"\",\"\",IF(AF361>Inputs!$D$9,0,1))","v":""},{"$f":"IF(AG361=\"\",\"\",IF(AG361>Inputs!$D$9,0,1))","v":""},{"$f":"IF(AH361=\"\",\"\",IF(AH361>Inputs!$D$9,0,1))","v":""},{"$f":"IF(AI361=\"\",\"\",IF(AI361>Inputs!$D$9,0,1))","v":""},{"$f":"IF(AJ361=\"\",\"\",IF(AJ361>Inputs!$D$9,0,1))","v":""},{"$f":"IF(AK361=\"\",\"\",IF(AK361>Inputs!$D$9,0,1))","v":""},{"$f":"IF(AL361=\"\",\"\",IF(AL361>Inputs!$D$9,0,1))","v":""},"",0,null,"","","","","","","","","","","","","","",null,null,"","","","","","","","","","","","",""]
[null,null,null,null,null,null,null,null,null,null,null,null,null,null,"","","","","","","","","","","","","","","","","","","","","","","","",null,{"$f":"IF(AA362=\"\",\"\",IF(AA362>Inputs!$D$9,0,1))","v":""},{"$f":"IF(AB362=\"\",\"\",IF(AB362>Inputs!$D$9,0,1))","v":""},{"$f":"IF(AC362=\"\",\"\",IF(AC362>Inputs!$D$9,0,1))","v":""},{"$f":"IF(AD362=\"\",\"\",IF(AD362>Inputs!$D$9,0,1))","v":""},{"$f":"IF(AE362=\"\",\"\",IF(AE362>Inputs!$D$9,0,1))","v":""},{"$f":"IF(AF362=\"\",\"\",IF(AF362>Inputs!$D$9,0,1))","v":""},{"$f":"IF(AG362=\"\",\"\",IF(AG362>Inputs!$D$9,0,1))","v":""},{"$f":"IF(AH362=\"\",\"\",IF(AH362>Inputs!$D$9,0,1))","v":""},{"$f":"IF(AI362=\"\",\"\",IF(AI362>Inputs!$D$9,0,1))","v":""},{"$f":"IF(AJ362=\"\",\"\",IF(AJ362>Inputs!$D$9,0,1))","v":""},{"$f":"IF(AK362=\"\",\"\",IF(AK362>Inputs!$D$9,0,1))","v":""},{"$f":"IF(AL362=\"\",\"\",IF(AL362>Inputs!$D$9,0,1))","v":""},"",0,null,"","","","","","","","","","","","","","",null,null,"","","","","","","","","","","","",""]
[null,null,null,null,null,null,null,null,null,null,null,null,null,null,"","","","","","","","","","","","","","","","","","","","","","","","",null,{"$f":"IF(AA363=\"\",\"\",IF(AA363>Inputs!$D$9,0,1))","v":""},{"$f":"IF(AB363=\"\",\"\",IF(AB363>Inputs!$D$9,0,1))","v":""},{"$f":"IF(AC363=\"\",\"\",IF(AC363>Inputs!$D$9,0,1))","v":""},{"$f":"IF(AD363=\"\",\"\",IF(AD363>Inputs!$D$9,0,1))","v":""},{"$f":"IF(AE363=\"\",\"\",IF(AE363>Inputs!$D$9,0,1))","v":""},{"$f":"IF(AF363=\"\",\"\",IF(AF363>Inputs!$D$9,0,1))","v":""},{"$f":"IF(AG363=\"\",\"\",IF(AG363>Inputs!$D$9,0,1))","v":""},{"$f":"IF(AH363=\"\",\"\",IF(AH363>Inputs!$D$9,0,1))","v":""},{"$f":"IF(AI363=\"\",\"\",IF(AI363>Inputs!$D$9,0,1))","v":""},{"$f":"IF(AJ363=\"\",\"\",IF(AJ363>Inputs!$D$9,0,1))","v":""},{"$f":"IF(AK363=\"\",\"\",IF(AK363>Inputs!$D$9,0,1))","v":""},{"$f":"IF(AL363=\"\",\"\",IF(AL363>Inputs!$D$9,0,1))","v":""},"",0,null,"","","","","","","","","","","","","","",null,null,"","","","","","","","","","","","",""]
[null,null,null,null,null,null,null,null,null,null,null,null,null,null,"","","","","","","","","","","","","","","","","","","","","","","","",null,{"$f":"IF(AA364=\"\",\"\",IF(AA364>Inputs!$D$9,0,1))","v":""},{"$f":"IF(AB364=\"\",\"\",IF(AB364>Inputs!$D$9,0,1))","v":""},{"$f":"IF(AC364=\"\",\"\",IF(AC364>Inputs!$D$9,0,1))","v":""},{"$f":"IF(AD364=\"\",\"\",IF(AD364>Inputs!$D$9,0,1))","v":""},{"$f":"IF(AE364=\"\",\"\",IF(AE364>Inputs!$D$9,0,1))","v":""},{"$f":"IF(AF364=\"\",\"\",IF(AF364>Inputs!$D$9,0,1))","v":""},{"$f":"IF(AG364=\"\",\"\",IF(AG364>Inputs!$D$9,0,1))","v":""},{"$f":"IF(AH364=\"\",\"\",IF(AH364>Inputs!$D$9,0,1))","v":""},{"$f":"IF(AI364=\"\",\"\",IF(AI364>Inputs!$D$9,0,1))","v":""},{"$f":"IF(AJ364=\"\",\"\",IF(AJ364>Inputs!$D$9,0,1))","v":""},{"$f":"IF(AK364=\"\",\"\",IF(AK364>Inputs!$D$9,0,1))","v":""},{"$f":"IF(AL364=\"\",\"\",IF(AL364>Inputs!$D$9,0,1))","v":""},"",0,null,"","","","","","","","","","","","","","",null,null,"","","","","","","","","","","","",""]
[null,null,null,null,null,null,null,null,null,null,null,null,null,null,"","","","","","","","","","","","","","","","","","","","","","","","",null,{"$f":"IF(AA365=\"\",\"\",IF(AA365>Inputs!$D$9,0,1))","v":""},{"$f":"IF(AB365=\"\",\"\",IF(AB365>Inputs!$D$9,0,1))","v":""},{"$f":"IF(AC365=\"\",\"\",IF(AC365>Inputs!$D$9,0,1))","v":""},{"$f":"IF(AD365=\"\",\"\",IF(AD365>Inputs!$D$9,0,1))","v":""},{"$f":"IF(AE365=\"\",\"\",IF(AE365>Inputs!$D$9,0,1))","v":""},{"$f":"IF(AF365=\"\",\"\",IF(AF365>Inputs!$D$9,0,1))","v":""},{"$f":"IF(AG365=\"\",\"\",IF(AG365>Inputs!$D$9,0,1))","v":""},{"$f":"IF(AH365=\"\",\"\",IF(AH365>Inputs!$D$9,0,1))","v":""},{"$f":"IF(AI365=\"\",\"\",IF(AI365>Inputs!$D$9,0,1))","v":""},{"$f":"IF(AJ365=\"\",\"\",IF(AJ365>Inputs!$D$9,0,1))","v":""},{"$f":"IF(AK365=\"\",\"\",IF(AK365>Inputs!$D$9,0,1))","v":""},{"$f":"IF(AL365=\"\",\"\",IF(AL365>Inputs!$D$9,0,1))","v":""},"",0,null,"","","","","","","","","","","","","","",null,null,"","","","","","","","","","","","",""]
[null,null,null,null,null,null,null,null,null,null,null,null,null,null,"","","","","","","","","","","","","","","","","","","","","","","","",null,{"$f":"IF(AA366=\"\",\"\",IF(AA366>Inputs!$D$9,0,1))","v":""},{"$f":"IF(AB366=\"\",\"\",IF(AB366>Inputs!$D$9,0,1))","v":""},{"$f":"IF(AC366=\"\",\"\",IF(AC366>Inputs!$D$9,0,1))","v":""},{"$f":"IF(AD366=\"\",\"\",IF(AD366>Inputs!$D$9,0,1))","v":""},{"$f":"IF(AE366=\"\",\"\",IF(AE366>Inputs!$D$9,0,1))","v":""},{"$f":"IF(AF366=\"\",\"\",IF(AF366>Inputs!$D$9,0,1))","v":""},{"$f":"IF(AG366=\"\",\"\",IF(AG366>Inputs!$D$9,0,1))","v":""},{"$f":"IF(AH366=\"\",\"\",IF(AH366>Inputs!$D$9,0,1))","v":""},{"$f":"IF(AI366=\"\",\"\",IF(AI366>Inputs!$D$9,0,1))","v":""},{"$f":"IF(AJ366=\"\",\"\",IF(AJ366>Inputs!$D$9,0,1))","v":""},{"$f":"IF(AK366=\"\",\"\",IF(AK366>Inputs!$D$9,0,1))","v":""},{"$f":"IF(AL366=\"\",\"\",IF(AL366>Inputs!$D$9,0,1))","v":""},"",0,null,"","","","","","","","","","","","","","",null,null,"","","","","","","","","","","","",""]
[null,null,null,null,null,null,null,null,null,null,null,null,null,null,"","","","","","","","","","","","","","","","","","","","","","","","",null,{"$f":"IF(AA367=\"\",\"\",IF(AA367>Inputs!$D$9,0,1))","v":""},{"$f":"IF(AB367=\"\",\"\",IF(AB367>Inputs!$D$9,0,1))","v":""},{"$f":"IF(AC367=\"\",\"\",IF(AC367>Inputs!$D$9,0,1))","v":""},{"$f":"IF(AD367=\"\",\"\",IF(AD367>Inputs!$D$9,0,1))","v":""},{"$f":"IF(AE367=\"\",\"\",IF(AE367>Inputs!$D$9,0,1))","v":""},{"$f":"IF(AF367=\"\",\"\",IF(AF367>Inputs!$D$9,0,1))","v":""},{"$f":"IF(AG367=\"\",\"\",IF(AG367>Inputs!$D$9,0,1))","v":""},{"$f":"IF(AH367=\"\",\"\",IF(AH367>Inputs!$D$9,0,1))","v":""},{"$f":"IF(AI367=\"\",\"\",IF(AI367>Inputs!$D$9,0,1))","v":""},{"$f":"IF(AJ367=\"\",\"\",IF(AJ367>Inputs!$D$9,0,1))","v":""},{"$f":"IF(AK367=\"\",\"\",IF(AK367>Inputs!$D$9,0,1))","v":""},{"$f":"IF(AL367=\"\",\"\",IF(AL367>Inputs!$D$9,0,1))","v":""},"",0,null,"","","","","","","","","","","","","","",null,null,"","","","","","","","","","","","",""]
[null,null,null,null,null,null,null,null,null,null,null,null,null,null,"","","","","","","","","","","","","","","","","","","","","","","","",null,{"$f":"IF(AA368=\"\",\"\",IF(AA368>Inputs!$D$9,0,1))","v":""},{"$f":"IF(AB368=\"\",\"\",IF(AB368>Inputs!$D$9,0,1))","v":""},{"$f":"IF(AC368=\"\",\"\",IF(AC368>Inputs!$D$9,0,1))","v":""},{"$f":"IF(AD368=\"\",\"\",IF(AD368>Inputs!$D$9,0,1))","v":""},{"$f":"IF(AE368=\"\",\"\",IF(AE368>Inputs!$D$9,0,1))","v":""},{"$f":"IF(AF368=\"\",\"\",IF(AF368>Inputs!$D$9,0,1))","v":""},{"$f":"IF(AG368=\"\",\"\",IF(AG368>Inputs!$D$9,0,1))","v":""},{"$f":"IF(AH368=\"\",\"\",IF(AH368>Inputs!$D$9,0,1))","v":""},{"$f":"IF(AI368=\"\",\"\",IF(AI368>Inputs!$D$9,0,1))","v":""},{"$f":"IF(AJ368=\"\",\"\",IF(AJ368>Inputs!$D$9,0,1))","v":""},{"$f":"IF(AK368=\"\",\"\",IF(AK368>Inputs!$D$9,0,1))","v":""},{"$f":"IF(AL368=\"\",\"\",IF(AL368>Inputs!$D$9,0,1))","v":""},"",0,null,"","","","","","","","","","","","","","",null,null,"","","","","","","","","","","","",""]
[null,null,null,null,null,null,null,null,null,null,null,null,null,null,"","","","","","","","","","","","","","","","","","","","","","","","",null,{"$f":"IF(AA369=\"\",\"\",IF(AA369>Inputs!$D$9,0,1))","v":""},{"$f":"IF(AB369=\"\",\"\",IF(AB369>Inputs!$D$9,0,1))","v":""},{"$f":"IF(AC369=\"\",\"\",IF(AC369>Inputs!$D$9,0,1))","v":""},{"$f":"IF(AD369=\"\",\"\",IF(AD369>Inputs!$D$9,0,1))","v":""},{"$f":"IF(AE369=\"\",\"\",IF(AE369>Inputs!$D$9,0,1))","v":""},{"$f":"IF(AF369=\"\",\"\",IF(AF369>Inputs!$D$9,0,1))","v":""},{"$f":"IF(AG369=\"\",\"\",IF(AG369>Inputs!$D$9,0,1))","v":""},{"$f":"IF(AH369=\"\",\"\",IF(AH369>Inputs!$D$9,0,1))","v":""},{"$f":"IF(AI369=\"\",\"\",IF(AI369>Inputs!$D$9,0,1))","v":""},{"$f":"IF(AJ369=\"\",\"\",IF(AJ369>Inputs!$D$9,0,1))","v":""},{"$f":"IF(AK369=\"\",\"\",IF(AK369>Inputs!$D$9,0,1))","v":""},{"$f":"IF(AL369=\"\",\"\",IF(AL369>Inputs!$D$9,0,1))","v":""},"",0,null,"","","","","","","","","","","","","","",null,null,"","","","","","","","","","","","",""]
[null,null,null,null,null,null,null,null,null,null,null,null,null,null,"","","","","","","","","","","","","","","","","","","","","","","","",null,{"$f":"IF(AA370=\"\",\"\",IF(AA370>Inputs!$D$9,0,1))","v":""},{"$f":"IF(AB370=\"\",\"\",IF(AB370>Inputs!$D$9,0,1))","v":""},{"$f":"IF(AC370=\"\",\"\",IF(AC370>Inputs!$D$9,0,1))","v":""},{"$f":"IF(AD370=\"\",\"\",IF(AD370>Inputs!$D$9,0,1))","v":""},{"$f":"IF(AE370=\"\",\"\",IF(AE370>Inputs!$D$9,0,1))","v":""},{"$f":"IF(AF370=\"\",\"\",IF(AF370>Inputs!$D$9,0,1))","v":""},{"$f":"IF(AG370=\"\",\"\",IF(AG370>Inputs!$D$9,0,1))","v":""},{"$f":"IF(AH370=\"\",\"\",IF(AH370>Inputs!$D$9,0,1))","v":""},{"$f":"IF(AI370=\"\",\"\",IF(AI370>Inputs!$D$9,0,1))","v":""},{"$f":"IF(AJ370=\"\",\"\",IF(AJ370>Inputs!$D$9,0,1))","v":""},{"$f":"IF(AK370=\"\",\"\",IF(AK370>Inputs!$D$9,0,1))","v":""},{"$f":"IF(AL370=\"\",\"\",IF(AL370>Inputs!$D$9,0,1))","v":""},"",0,null,"","","","","","","","","","","","","","",null,null,"","","","","","","","","","","","",""]
[null,null,null,null,null,null,null,null,null,null,null,null,null,null,"","","","","","","","","","","","","","","","","","","","","","","","",null,{"$f":"IF(AA371=\"\",\"\",IF(AA371>Inputs!$D$9,0,1))","v":""},{"$f":"IF(AB371=\"\",\"\",IF(AB371>Inputs!$D$9,0,1))","v":""},{"$f":"IF(AC371=\"\",\"\",IF(AC371>Inputs!$D$9,0,1))","v":""},{"$f":"IF(AD371=\"\",\"\",IF(AD371>Inputs!$D$9,0,1))","v":""},{"$f":"IF(AE371=\"\",\"\",IF(AE371>Inputs!$D$9,0,1))","v":""},{"$f":"IF(AF371=\"\",\"\",IF(AF371>Inputs!$D$9,0,1))","v":""},{"$f":"IF(AG371=\"\",\"\",IF(AG371>Inputs!$D$9,0,1))","v":""},{"$f":"IF(AH371=\"\",\"\",IF(AH371>Inputs!$D$9,0,1))","v":""},{"$f":"IF(AI371=\"\",\"\",IF(AI371>Inputs!$D$9,0,1))","v":""},{"$f":"IF(AJ371=\"\",\"\",IF(AJ371>Inputs!$D$9,0,1))","v":""},{"$f":"IF(AK371=\"\",\"\",IF(AK371>Inputs!$D$9,0,1))","v":""},{"$f":"IF(AL371=\"\",\"\",IF(AL371>Inputs!$D$9,0,1))","v":""},"",0,null,"","","","","","","","","","","","","","",null,null,"","","","","","","","","","","","",""]
[null,null,null,null,null,null,null,null,null,null,null,null,null,null,"","","","","","","","","","","","","","","","","","","","","","","","",null,{"$f":"IF(AA372=\"\",\"\",IF(AA372>Inputs!$D$9,0,1))","v":""},{"$f":"IF(AB372=\"\",\"\",IF(AB372>Inputs!$D$9,0,1))","v":""},{"$f":"IF(AC372=\"\",\"\",IF(AC372>Inputs!$D$9,0,1))","v":""},{"$f":"IF(AD372=\"\",\"\",IF(AD372>Inputs!$D$9,0,1))","v":""},{"$f":"IF(AE372=\"\",\"\",IF(AE372>Inputs!$D$9,0,1))","v":""},{"$f":"IF(AF372=\"\",\"\",IF(AF372>Inputs!$D$9,0,1))","v":""},{"$f":"IF(AG372=\"\",\"\",IF(AG372>Inputs!$D$9,0,1))","v":""},{"$f":"IF(AH372=\"\",\"\",IF(AH372>Inputs!$D$9,0,1))","v":""},{"$f":"IF(AI372=\"\",\"\",IF(AI372>Inputs!$D$9,0,1))","v":""},{"$f":"IF(AJ372=\"\",\"\",IF(AJ372>Inputs!$D$9,0,1))","v":""},{"$f":"IF(AK372=\"\",\"\",IF(AK372>Inputs!$D$9,0,1))","v":""},{"$f":"IF(AL372=\"\",\"\",IF(AL372>Inputs!$D$9,0,1))","v":""},"",0,null,"","","","","","","","","","","","","","",null,null,"","","","","","","","","","","","",""]
[null,null,null,null,null,null,null,null,null,null,null,null,null,null,"","","","","","","","","","","","","","","","","","","","","","","","",null,{"$f":"IF(AA373=\"\",\"\",IF(AA373>Inputs!$D$9,0,1))","v":""},{"$f":"IF(AB373=\"\",\"\",IF(AB373>Inputs!$D$9,0,1))","v":""},{"$f":"IF(AC373=\"\",\"\",IF(AC373>Inputs!$D$9,0,1))","v":""},{"$f":"IF(AD373=\"\",\"\",IF(AD373>Inputs!$D$9,0,1))","v":""},{"$f":"IF(AE373=\"\",\"\",IF(AE373>Inputs!$D$9,0,1))","v":""},{"$f":"IF(AF373=\"\",\"\",IF(AF373>Inputs!$D$9,0,1))","v":""},{"$f":"IF(AG373=\"\",\"\",IF(AG373>Inputs!$D$9,0,1))","v":""},{"$f":"IF(AH373=\"\",\"\",IF(AH373>Inputs!$D$9,0,1))","v":""},{"$f":"IF(AI373=\"\",\"\",IF(AI373>Inputs!$D$9,0,1))","v":""},{"$f":"IF(AJ373=\"\",\"\",IF(AJ373>Inputs!$D$9,0,1))","v":""},{"$f":"IF(AK373=\"\",\"\",IF(AK373>Inputs!$D$9,0,1))","v":""},{"$f":"IF(AL373=\"\",\"\",IF(AL373>Inputs!$D$9,0,1))","v":""},"",0,null,"","","","","","","","","","","","","","",null,null,"","","","","","","","","","","","",""]
[null,null,null,null,null,null,null,null,null,null,null,null,null,null,"","","","","","","","","","","","","","","","","","","","","","","","",null,{"$f":"IF(AA374=\"\",\"\",IF(AA374>Inputs!$D$9,0,1))","v":""},{"$f":"IF(AB374=\"\",\"\",IF(AB374>Inputs!$D$9,0,1))","v":""},{"$f":"IF(AC374=\"\",\"\",IF(AC374>Inputs!$D$9,0,1))","v":""},{"$f":"IF(AD374=\"\",\"\",IF(AD374>Inputs!$D$9,0,1))","v":""},{"$f":"IF(AE374=\"\",\"\",IF(AE374>Inputs!$D$9,0,1))","v":""},{"$f":"IF(AF374=\"\",\"\",IF(AF374>Inputs!$D$9,0,1))","v":""},{"$f":"IF(AG374=\"\",\"\",IF(AG374>Inputs!$D$9,0,1))","v":""},{"$f":"IF(AH374=\"\",\"\",IF(AH374>Inputs!$D$9,0,1))","v":""},{"$f":"IF(AI374=\"\",\"\",IF(AI374>Inputs!$D$9,0,1))","v":""},{"$f":"IF(AJ374=\"\",\"\",IF(AJ374>Inputs!$D$9,0,1))","v":""},{"$f":"IF(AK374=\"\",\"\",IF(AK374>Inputs!$D$9,0,1))","v":""},{"$f":"IF(AL374=\"\",\"\",IF(AL374>Inputs!$D$9,0,1))","v":""},"",0,null,"","","","","","","","","","","","","","",null,null,"","","","","","","","","","","","",""]
[null,null,null,null,null,null,null,null,null,null,null,null,null,null,"","","","","","","","","","","","","","","","","","","","","","","","",null,{"$f":"IF(AA375=\"\",\"\",IF(AA375>Inputs!$D$9,0,1))","v":""},{"$f":"IF(AB375=\"\",\"\",IF(AB375>Inputs!$D$9,0,1))","v":""},{"$f":"IF(AC375=\"\",\"\",IF(AC375>Inputs!$D$9,0,1))","v":""},{"$f":"IF(AD375=\"\",\"\",IF(AD375>Inputs!$D$9,0,1))","v":""},{"$f":"IF(AE375=\"\",\"\",IF(AE375>Inputs!$D$9,0,1))","v":""},{"$f":"IF(AF375=\"\",\"\",IF(AF375>Inputs!$D$9,0,1))","v":""},{"$f":"IF(AG375=\"\",\"\",IF(AG375>Inputs!$D$9,0,1))","v":""},{"$f":"IF(AH375=\"\",\"\",IF(AH375>Inputs!$D$9,0,1))","v":""},{"$f":"IF(AI375=\"\",\"\",IF(AI375>Inputs!$D$9,0,1))","v":""},{"$f":"IF(AJ375=\"\",\"\",IF(AJ375>Inputs!$D$9,0,1))","v":""},{"$f":"IF(AK375=\"\",\"\",IF(AK375>Inputs!$D$9,0,1))","v":""},{"$f":"IF(AL375=\"\",\"\",IF(AL375>Inputs!$D$9,0,1))","v":""},"",0,null,"","","","","","","","","","","","","","",null,null,"","","","","","","","","","","","",""]
[null,null,null,null,null,null,null,null,null,null,null,null,null,null,"","","","","","","","","","","","","","","","","","","","","","","","",null,{"$f":"IF(AA376=\"\",\"\",IF(AA376>Inputs!$D$9,0,1))","v":""},{"$f":"IF(AB376=\"\",\"\",IF(AB376>Inputs!$D$9,0,1))","v":""},{"$f":"IF(AC376=\"\",\"\",IF(AC376>Inputs!$D$9,0,1))","v":""},{"$f":"IF(AD376=\"\",\"\",IF(AD376>Inputs!$D$9,0,1))","v":""},{"$f":"IF(AE376=\"\",\"\",IF(AE376>Inputs!$D$9,0,1))","v":""},{"$f":"IF(AF376=\"\",\"\",IF(AF376>Inputs!$D$9,0,1))","v":""},{"$f":"IF(AG376=\"\",\"\",IF(AG376>Inputs!$D$9,0,1))","v":""},{"$f":"IF(AH376=\"\",\"\",IF(AH376>Inputs!$D$9,0,1))","v":""},{"$f":"IF(AI376=\"\",\"\",IF(AI376>Inputs!$D$9,0,1))","v":""},{"$f":"IF(AJ376=\"\",\"\",IF(AJ376>Inputs!$D$9,0,1))","v":""},{"$f":"IF(AK376=\"\",\"\",IF(AK376>Inputs!$D$9,0,1))","v":""},{"$f":"IF(AL376=\"\",\"\",IF(AL376>Inputs!$D$9,0,1))","v":""},"",0,null,"","","","","","","","","","","","","","",null,null,"","","","","","","","","","","","",""]
[null,null,null,null,null,null,null,null,null,null,null,null,null,null,"","","","","","","","","","","","","","","","","","","","","","","","",null,{"$f":"IF(AA377=\"\",\"\",IF(AA377>Inputs!$D$9,0,1))","v":""},{"$f":"IF(AB377=\"\",\"\",IF(AB377>Inputs!$D$9,0,1))","v":""},{"$f":"IF(AC377=\"\",\"\",IF(AC377>Inputs!$D$9,0,1))","v":""},{"$f":"IF(AD377=\"\",\"\",IF(AD377>Inputs!$D$9,0,1))","v":""},{"$f":"IF(AE377=\"\",\"\",IF(AE377>Inputs!$D$9,0,1))","v":""},{"$f":"IF(AF377=\"\",\"\",IF(AF377>Inputs!$D$9,0,1))","v":""},{"$f":"IF(AG377=\"\",\"\",IF(AG377>Inputs!$D$9,0,1))","v":""},{"$f":"IF(AH377=\"\",\"\",IF(AH377>Inputs!$D$9,0,1))","v":""},{"$f":"IF(AI377=\"\",\"\",IF(AI377>Inputs!$D$9,0,1))","v":""},{"$f":"IF(AJ377=\"\",\"\",IF(AJ377>Inputs!$D$9,0,1))","v":""},{"$f":"IF(AK377=\"\",\"\",IF(AK377>Inputs!$D$9,0,1))","v":""},{"$f":"IF(AL377=\"\",\"\",IF(AL377>Inputs!$D$9,0,1))","v":""},"",0,null,"","","","","","","","","","","","","","",null,null,"","","","","","","","","","","","",""]
[null,null,null,null,null,null,null,null,null,null,null,null,null,null,"","","","","","","","","","","","","","","","","","","","","","","","",null,{"$f":"IF(AA378=\"\",\"\",IF(AA378>Inputs!$D$9,0,1))","v":""},{"$f":"IF(AB378=\"\",\"\",IF(AB378>Inputs!$D$9,0,1))","v":""},{"$f":"IF(AC378=\"\",\"\",IF(AC378>Inputs!$D$9,0,1))","v":""},{"$f":"IF(AD378=\"\",\"\",IF(AD378>Inputs!$D$9,0,1))","v":""},{"$f":"IF(AE378=\"\",\"\",IF(AE378>Inputs!$D$9,0,1))","v":""},{"$f":"IF(AF378=\"\",\"\",IF(AF378>Inputs!$D$9,0,1))","v":""},{"$f":"IF(AG378=\"\",\"\",IF(AG378>Inputs!$D$9,0,1))","v":""},{"$f":"IF(AH378=\"\",\"\",IF(AH378>Inputs!$D$9,0,1))","v":""},{"$f":"IF(AI378=\"\",\"\",IF(AI378>Inputs!$D$9,0,1))","v":""},{"$f":"IF(AJ378=\"\",\"\",IF(AJ378>Inputs!$D$9,0,1))","v":""},{"$f":"IF(AK378=\"\",\"\",IF(AK378>Inputs!$D$9,0,1))","v":""},{"$f":"IF(AL378=\"\",\"\",IF(AL378>Inputs!$D$9,0,1))","v":""},"",0,null,"","","","","","","","","","","","","","",null,null,"","","","","","","","","","","","",""]
[null,null,null,null,null,null,null,null,null,null,null,null,null,null,"","","","","","","","","","","","","","","","","","","","","","","","",null,{"$f":"IF(AA379=\"\",\"\",IF(AA379>Inputs!$D$9,0,1))","v":""},{"$f":"IF(AB379=\"\",\"\",IF(AB379>Inputs!$D$9,0,1))","v":""},{"$f":"IF(AC379=\"\",\"\",IF(AC379>Inputs!$D$9,0,1))","v":""},{"$f":"IF(AD379=\"\",\"\",IF(AD379>Inputs!$D$9,0,1))","v":""},{"$f":"IF(AE379=\"\",\"\",IF(AE379>Inputs!$D$9,0,1))","v":""},{"$f":"IF(AF379=\"\",\"\",IF(AF379>Inputs!$D$9,0,1))","v":""},{"$f":"IF(AG379=\"\",\"\",IF(AG379>Inputs!$D$9,0,1))","v":""},{"$f":"IF(AH379=\"\",\"\",IF(AH379>Inputs!$D$9,0,1))","v":""},{"$f":"IF(AI379=\"\",\"\",IF(AI379>Inputs!$D$9,0,1))","v":""},{"$f":"IF(AJ379=\"\",\"\",IF(AJ379>Inputs!$D$9,0,1))","v":""},{"$f":"IF(AK379=\"\",\"\",IF(AK379>Inputs!$D$9,0,1))","v":""},{"$f":"IF(AL379=\"\",\"\",IF(AL379>Inputs!$D$9,0,1))","v":""},"",0,null,"","","","","","","","","","","","","","",null,null,"","","","","","","","","","","","",""]
[null,null,null,null,null,null,null,null,null,null,null,null,null,null,"","","","","","","","","","","","","","","","","","","","","","","","",null,{"$f":"IF(AA380=\"\",\"\",IF(AA380>Inputs!$D$9,0,1))","v":""},{"$f":"IF(AB380=\"\",\"\",IF(AB380>Inputs!$D$9,0,1))","v":""},{"$f":"IF(AC380=\"\",\"\",IF(AC380>Inputs!$D$9,0,1))","v":""},{"$f":"IF(AD380=\"\",\"\",IF(AD380>Inputs!$D$9,0,1))","v":""},{"$f":"IF(AE380=\"\",\"\",IF(AE380>Inputs!$D$9,0,1))","v":""},{"$f":"IF(AF380=\"\",\"\",IF(AF380>Inputs!$D$9,0,1))","v":""},{"$f":"IF(AG380=\"\",\"\",IF(AG380>Inputs!$D$9,0,1))","v":""},{"$f":"IF(AH380=\"\",\"\",IF(AH380>Inputs!$D$9,0,1))","v":""},{"$f":"IF(AI380=\"\",\"\",IF(AI380>Inputs!$D$9,0,1))","v":""},{"$f":"IF(AJ380=\"\",\"\",IF(AJ380>Inputs!$D$9,0,1))","v":""},{"$f":"IF(AK380=\"\",\"\",IF(AK380>Inputs!$D$9,0,1))","v":""},{"$f":"IF(AL380=\"\",\"\",IF(AL380>Inputs!$D$9,0,1))","v":""},"",0,null,"","","","","","","","","","","","","","",null,null,"","","","","","","","","","","","",""]
[null,null,null,null,null,null,null,null,null,null,null,null,null,null,"","","","","","","","","","","","","","","","","","","","","","","","",null,{"$f":"IF(AA381=\"\",\"\",IF(AA381>Inputs!$D$9,0,1))","v":""},{"$f":"IF(AB381=\"\",\"\",IF(AB381>Inputs!$D$9,0,1))","v":""},{"$f":"IF(AC381=\"\",\"\",IF(AC381>Inputs!$D$9,0,1))","v":""},{"$f":"IF(AD381=\"\",\"\",IF(AD381>Inputs!$D$9,0,1))","v":""},{"$f":"IF(AE381=\"\",\"\",IF(AE381>Inputs!$D$9,0,1))","v":""},{"$f":"IF(AF381=\"\",\"\",IF(AF381>Inputs!$D$9,0,1))","v":""},{"$f":"IF(AG381=\"\",\"\",IF(AG381>Inputs!$D$9,0,1))","v":""},{"$f":"IF(AH381=\"\",\"\",IF(AH381>Inputs!$D$9,0,1))","v":""},{"$f":"IF(AI381=\"\",\"\",IF(AI381>Inputs!$D$9,0,1))","v":""},{"$f":"IF(AJ381=\"\",\"\",IF(AJ381>Inputs!$D$9,0,1))","v":""},{"$f":"IF(AK381=\"\",\"\",IF(AK381>Inputs!$D$9,0,1))","v":""},{"$f":"IF(AL381=\"\",\"\",IF(AL381>Inputs!$D$9,0,1))","v":""},"",0,null,"","","","","","","","","","","","","","",null,null,"","","","","","","","","","","","",""]
[null,null,null,null,null,null,null,null,null,null,null,null,null,null,"","","","","","","","","","","","","","","","","","","","","","","","",null,{"$f":"IF(AA382=\"\",\"\",IF(AA382>Inputs!$D$9,0,1))","v":""},{"$f":"IF(AB382=\"\",\"\",IF(AB382>Inputs!$D$9,0,1))","v":""},{"$f":"IF(AC382=\"\",\"\",IF(AC382>Inputs!$D$9,0,1))","v":""},{"$f":"IF(AD382=\"\",\"\",IF(AD382>Inputs!$D$9,0,1))","v":""},{"$f":"IF(AE382=\"\",\"\",IF(AE382>Inputs!$D$9,0,1))","v":""},{"$f":"IF(AF382=\"\",\"\",IF(AF382>Inputs!$D$9,0,1))","v":""},{"$f":"IF(AG382=\"\",\"\",IF(AG382>Inputs!$D$9,0,1))","v":""},{"$f":"IF(AH382=\"\",\"\",IF(AH382>Inputs!$D$9,0,1))","v":""},{"$f":"IF(AI382=\"\",\"\",IF(AI382>Inputs!$D$9,0,1))","v":""},{"$f":"IF(AJ382=\"\",\"\",IF(AJ382>Inputs!$D$9,0,1))","v":""},{"$f":"IF(AK382=\"\",\"\",IF(AK382>Inputs!$D$9,0,1))","v":""},{"$f":"IF(AL382=\"\",\"\",IF(AL382>Inputs!$D$9,0,1))","v":""},"",0,null,"","","","","","","","","","","","","","",null,null,"","","","","","","","","","","","",""]
[null,null,null,null,null,null,null,null,null,null,null,null,null,null,"","","","","","","","","","","","","","","","","","","","","","","","",null,{"$f":"IF(AA383=\"\",\"\",IF(AA383>Inputs!$D$9,0,1))","v":""},{"$f":"IF(AB383=\"\",\"\",IF(AB383>Inputs!$D$9,0,1))","v":""},{"$f":"IF(AC383=\"\",\"\",IF(AC383>Inputs!$D$9,0,1))","v":""},{"$f":"IF(AD383=\"\",\"\",IF(AD383>Inputs!$D$9,0,1))","v":""},{"$f":"IF(AE383=\"\",\"\",IF(AE383>Inputs!$D$9,0,1))","v":""},{"$f":"IF(AF383=\"\",\"\",IF(AF383>Inputs!$D$9,0,1))","v":""},{"$f":"IF(AG383=\"\",\"\",IF(AG383>Inputs!$D$9,0,1))","v":""},{"$f":"IF(AH383=\"\",\"\",IF(AH383>Inputs!$D$9,0,1))","v":""},{"$f":"IF(AI383=\"\",\"\",IF(AI383>Inputs!$D$9,0,1))","v":""},{"$f":"IF(AJ383=\"\",\"\",IF(AJ383>Inputs!$D$9,0,1))","v":""},{"$f":"IF(AK383=\"\",\"\",IF(AK383>Inputs!$D$9,0,1))","v":""},{"$f":"IF(AL383=\"\",\"\",IF(AL383>Inputs!$D$9,0,1))","v":""},"",0,null,"","","","","","","","","","","","","","",null,null,"","","","","","","","","","","","",""]
[null,null,null,null,null,null,null,null,null,null,null,null,null,null,"","","","","","","","","","","","","","","","","","","","","","","","",null,{"$f":"IF(AA384=\"\",\"\",IF(AA384>Inputs!$D$9,0,1))","v":""},{"$f":"IF(AB384=\"\",\"\",IF(AB384>Inputs!$D$9,0,1))","v":""},{"$f":"IF(AC384=\"\",\"\",IF(AC384>Inputs!$D$9,0,1))","v":""},{"$f":"IF(AD384=\"\",\"\",IF(AD384>Inputs!$D$9,0,1))","v":""},{"$f":"IF(AE384=\"\",\"\",IF(AE384>Inputs!$D$9,0,1))","v":""},{"$f":"IF(AF384=\"\",\"\",IF(AF384>Inputs!$D$9,0,1))","v":""},{"$f":"IF(AG384=\"\",\"\",IF(AG384>Inputs!$D$9,0,1))","v":""},{"$f":"IF(AH384=\"\",\"\",IF(AH384>Inputs!$D$9,0,1))","v":""},{"$f":"IF(AI384=\"\",\"\",IF(AI384>Inputs!$D$9,0,1))","v":""},{"$f":"IF(AJ384=\"\",\"\",IF(AJ384>Inputs!$D$9,0,1))","v":""},{"$f":"IF(AK384=\"\",\"\",IF(AK384>Inputs!$D$9,0,1))","v":""},{"$f":"IF(AL384=\"\",\"\",IF(AL384>Inputs!$D$9,0,1))","v":""},"",0,null,"","","","","","","","","","","","","","",null,null,"","","","","","","","","","","","",""]
[null,null,null,null,null,null,null,null,null,null,null,null,null,null,"","","","","","","","","","","","","","","","","","","","","","","","",null,{"$f":"IF(AA385=\"\",\"\",IF(AA385>Inputs!$D$9,0,1))","v":""},{"$f":"IF(AB385=\"\",\"\",IF(AB385>Inputs!$D$9,0,1))","v":""},{"$f":"IF(AC385=\"\",\"\",IF(AC385>Inputs!$D$9,0,1))","v":""},{"$f":"IF(AD385=\"\",\"\",IF(AD385>Inputs!$D$9,0,1))","v":""},{"$f":"IF(AE385=\"\",\"\",IF(AE385>Inputs!$D$9,0,1))","v":""},{"$f":"IF(AF385=\"\",\"\",IF(AF385>Inputs!$D$9,0,1))","v":""},{"$f":"IF(AG385=\"\",\"\",IF(AG385>Inputs!$D$9,0,1))","v":""},{"$f":"IF(AH385=\"\",\"\",IF(AH385>Inputs!$D$9,0,1))","v":""},{"$f":"IF(AI385=\"\",\"\",IF(AI385>Inputs!$D$9,0,1))","v":""},{"$f":"IF(AJ385=\"\",\"\",IF(AJ385>Inputs!$D$9,0,1))","v":""},{"$f":"IF(AK385=\"\",\"\",IF(AK385>Inputs!$D$9,0,1))","v":""},{"$f":"IF(AL385=\"\",\"\",IF(AL385>Inputs!$D$9,0,1))","v":""},"",0,null,"","","","","","","","","","","","","","",null,null,"","","","","","","","","","","","",""]
[null,null,null,null,null,null,null,null,null,null,null,null,null,null,"",{"$f":"IF(A386=\"\",\"\",IF(ISERROR(1+D386),\"\",IF(ISERROR(((1+D386/100)*(1+E386/100)*(1+F386/100)*(1+G386/100)*(1+H386/100)*(1+I386/100)*(1+J386/100)*(1+K386/100)*(1+L386/100)*(1+M386/100)*(1+N386/100))^(1/11)-1),\"\",((1+D386/100)*(1+E386/100)*(1+F386/100)*(1+G386/100)*(1+H386/100)*(1+I386/100)*(1+J386/100)*(1+K386/100)*(1+L386/100)*(1+M386/100)*(1+N386/100))^(1/11)-1)))","v":""},"","","","","","","","","","","","","","","","","","","","","","",null,{"$f":"IF(AA386=\"\",\"\",IF(AA386>Inputs!$D$9,0,1))","v":""},{"$f":"IF(AB386=\"\",\"\",IF(AB386>Inputs!$D$9,0,1))","v":""},{"$f":"IF(AC386=\"\",\"\",IF(AC386>Inputs!$D$9,0,1))","v":""},{"$f":"IF(AD386=\"\",\"\",IF(AD386>Inputs!$D$9,0,1))","v":""},{"$f":"IF(AE386=\"\",\"\",IF(AE386>Inputs!$D$9,0,1))","v":""},{"$f":"IF(AF386=\"\",\"\",IF(AF386>Inputs!$D$9,0,1))","v":""},{"$f":"IF(AG386=\"\",\"\",IF(AG386>Inputs!$D$9,0,1))","v":""},{"$f":"IF(AH386=\"\",\"\",IF(AH386>Inputs!$D$9,0,1))","v":""},{"$f":"IF(AI386=\"\",\"\",IF(AI386>Inputs!$D$9,0,1))","v":""},{"$f":"IF(AJ386=\"\",\"\",IF(AJ386>Inputs!$D$9,0,1))","v":""},{"$f":"IF(AK386=\"\",\"\",IF(AK386>Inputs!$D$9,0,1))","v":""},{"$f":"IF(AL386=\"\",\"\",IF(AL386>Inputs!$D$9,0,1))","v":""},"",0,null,"","","","","","","","","","","","","","",null,null,"","","","","","","","","","","","",""]
[null,null,null,null,null,null,null,null,null,null,null,null,null,null,{"$f":"IF(A387=\"\",\"\",IF(ISERROR(1+C387),\"\",IF(ISERROR(((1+C387/100)*(1+D387/100)*(1+E387/100)*(1+F387/100)*(1+G387/100)*(1+H387/100)*(1+I387/100)*(1+J387/100)*(1+K387/100)*(1+L387/100)*(1+M387/100)*(1+N387/100))^(1/12)-1),\"\",((1+C387/100)*(1+D387/100)*(1+E387/100)*(1+F387/100)*(1+G387/100)*(1+H387/100)*(1+I387/100)*(1+J387/100)*(1+K387/100)*(1+L387/100)*(1+M387/100)*(1+N387/100))^(1/12)-1)))","v":""},"",{"$f":"IF(A387=\"\",\"\",IF(ISERROR(1+E387),\"\",IF(ISERROR(((1+E387/100)*(1+F387/100)*(1+G387/100)*(1+H387/100)*(1+I387/100)*(1+J387/100)*(1+K387/100)*(1+L387/100)*(1+M387/100)*(1+N387/100))^(1/10)-1),\"\",((1+E387/100)*(1+F387/100)*(1+G387/100)*(1+H387/100)*(1+I387/100)*(1+J387/100)*(1+K387/100)*(1+L387/100)*(1+M387/100)*(1+N387/100))^(1/10)-1)))","v":""},{"$f":"IF(A387=\"\",\"\",IF(ISERROR(1+F387),\"\",IF(ISERROR(((1+F387/100)*(1+G387/100)*(1+H387/100)*(1+I387/100)*(1+J387/100)*(1+K387/100)*(1+L387/100)*(1+M387/100)*(1+N387/100))^(1/9)-1),\"\",((1+F387/100)*(1+G387/100)*(1+H387/100)*(1+I387/100)*(1+J387/100)*(1+K387/100)*(1+L387/100)*(1+M387/100)*(1+N387/100))^(1/9)-1)))","v":""},{"$f":"IF(A387=\"\",\"\",IF(ISERROR(1+G387),\"\",IF(ISERROR(((1+G387/100)*(1+H387/100)*(1+I387/100)*(1+J387/100)*(1+K387/100)*(1+L387/100)*(1+M387/100)*(1+N387/100))^(1/8)-1),\"\",((1+G387/100)*(1+H387/100)*(1+I387/100)*(1+J387/100)*(1+K387/100)*(1+L387/100)*(1+M387/100)*(1+N387/100))^(1/8)-1)))","v":""},{"$f":"IF(A387=\"\",\"\",IF(ISERROR(1+H387),\"\",IF(ISERROR(((1+H387/100)*(1+I387/100)*(1+J387/100)*(1+K387/100)*(1+L387/100)*(1+M387/100)*(1+N387/100))^(1/7)-1),\"\",((1+H387/100)*(1+I387/100)*(1+J387/100)*(1+K387/100)*(1+L387/100)*(1+M387/100)*(1+N387/100))^(1/7)-1)))","v":""},{"$f":"IF(A387=\"\",\"\",IF(ISERROR(1+I387),\"\",IF(ISERROR(((1+I387/100)*(1+J387/100)*(1+K387/100)*(1+L387/100)*(1+M387/100)*(1+N387/100))^(1/6)-1),\"\",((1+I387/100)*(1+J387/100)*(1+K387/100)*(1+L387/100)*(1+M387/100)*(1+N387/100))^(1/6)-1)))","v":""},{"$f":"IF(A387=\"\",\"\",IF(ISERROR(1+J387),\"\",IF(ISERROR(((1+J387/100)*(1+K387/100)*(1+L387/100)*(1+M387/100)*(1+N387/100))^(1/5)-1),\"\",((1+J387/100)*(1+K387/100)*(1+L387/100)*(1+M387/100)*(1+N387/100))^(1/5)-1)))","v":""},{"$f":"IF(A387=\"\",\"\",IF(ISERROR(1+K387),\"\",IF(ISERROR(((1+K387/100)*(1+L387/100)*(1+M387/100)*(1+N387/100))^(1/4)-1),\"\",((1+K387/100)*(1+L387/100)*(1+M387/100)*(1+N387/100))^(1/4)-1)))","v":""},{"$f":"IF(A387=\"\",\"\",IF(ISERROR(1+L387),\"\",IF(ISERROR(((1+L387/100)*(1+M387/100)*(1+N387/100))^(1/3)-1),\"\",((1+L387/100)*(1+M387/100)*(1+N387/100))^(1/3)-1)))","v":""},{"$f":"IF(A387=\"\",\"\",IF(ISERROR(1+M387),\"\",IF(ISERROR(((1+M387/100)*(1+N387/100))^(1/2)-1),\"\",((1+M387/100)*(1+N387/100))^(1/2)-1)))","v":""},{"$f":"IF(A387=\"\",\"\",IF(ISERROR(1+N387),\"\",IF(ISERROR(((1+N387/100))^(1/1)-1),\"\",((1+N387/100))^(1/1)-1)))","v":""},"","","","","","","","","","","","",null,{"$f":"IF(AA387=\"\",\"\",IF(AA387>Inputs!$D$9,0,1))","v":""},{"$f":"IF(AB387=\"\",\"\",IF(AB387>Inputs!$D$9,0,1))","v":""},{"$f":"IF(AC387=\"\",\"\",IF(AC387>Inputs!$D$9,0,1))","v":""},{"$f":"IF(AD387=\"\",\"\",IF(AD387>Inputs!$D$9,0,1))","v":""},{"$f":"IF(AE387=\"\",\"\",IF(AE387>Inputs!$D$9,0,1))","v":""},{"$f":"IF(AF387=\"\",\"\",IF(AF387>Inputs!$D$9,0,1))","v":""},{"$f":"IF(AG387=\"\",\"\",IF(AG387>Inputs!$D$9,0,1))","v":""},{"$f":"IF(AH387=\"\",\"\",IF(AH387>Inputs!$D$9,0,1))","v":""},{"$f":"IF(AI387=\"\",\"\",IF(AI387>Inputs!$D$9,0,1))","v":""},{"$f":"IF(AJ387=\"\",\"\",IF(AJ387>Inputs!$D$9,0,1))","v":""},{"$f":"IF(AK387=\"\",\"\",IF(AK387>Inputs!$D$9,0,1))","v":""},{"$f":"IF(AL387=\"\",\"\",IF(AL387>Inputs!$D$9,0,1))","v":""},"",{"$f":"COUNT(AN387:AY387)","v":0},null,{"$f":"IF(O387=\"\",\"\",IF(O387>AVERAGE($O$2:$O$1000),1,0))","v":""},{"$f":"IF(P387=\"\",\"\",IF(P387>AVERAGE($P$2:$P$1000),1,0))","v":""},{"$f":"IF(Q387=\"\",\"\",IF(Q387>AVERAGE($Q$2:$Q$1000),1,0))","v":""},{"$f":"IF(R387=\"\",\"\",IF(R387>AVERAGE($R$2:$R$1000),1,0))","v":""},{"$f":"IF(S387=\"\",\"\",IF(S387>AVERAGE($S$2:$S$1000),1,0))","v":""},{"$f":"IF(T387=\"\",\"\",IF(T387>AVERAGE($T$2:$T$1000),1,0))","v":""},{"$f":"IF(U387=\"\",\"\",IF(U387>AVERAGE($U$2:$U$1000),1,0))","v":""},{"$f":"IF(V387=\"\",\"\",IF(V387>AVERAGE($V$2:$V$1000),1,0))","v":""},{"$f":"IF(W387=\"\",\"\",IF(W387>AVERAGE($W$2:$W$1000),1,0))","v":""},{"$f":"IF(X387=\"\",\"\",IF(X387>AVERAGE($X$2:$X$1000),1,0))","v":""},{"$f":"IF(Y387=\"\",\"\",IF(Y387>AVERAGE($Y$2:$Y$1000),1,0))","v":""},{"$f":"IF(Z387=\"\",\"\",IF(Z387>AVERAGE($Z$2:$Z$1000),1,0))","v":""},{"$f":"IF(COUNT(BC387:BN387)=0,\"\",SUM(BC387:BN387)/COUNT(BC387:BN387))","v":""},{"$f":"IF(A387=\"\",\"\",COUNT(BC387:BN387))","v":""},null,null,{"$f":"IF($A387=\"\",\"\",IF(C387=\"-\",0,IF(C387>AVERAGE(C$2:C$1183),1,0)))","v":""},{"$f":"IF($A387=\"\",\"\",IF(D387=\"-\",0,IF(D387>AVERAGE(D$2:D$1183),1,0)))","v":""},{"$f":"IF($A387=\"\",\"\",IF(E387=\"-\",0,IF(E387>AVERAGE(E$2:E$1183),1,0)))","v":""},{"$f":"IF($A387=\"\",\"\",IF(F387=\"-\",0,IF(F387>AVERAGE(F$2:F$1183),1,0)))","v":""},{"$f":"IF($A387=\"\",\"\",IF(G387=\"-\",0,IF(G387>AVERAGE(G$2:G$1183),1,0)))","v":""},{"$f":"IF($A387=\"\",\"\",IF(H387=\"-\",0,IF(H387>AVERAGE(H$2:H$1183),1,0)))","v":""},{"$f":"IF($A387=\"\",\"\",IF(I387=\"-\",0,IF(I387>AVERAGE(I$2:I$1183),1,0)))","v":""},{"$f":"IF($A387=\"\",\"\",IF(J387=\"-\",0,IF(J387>AVERAGE(J$2:J$1183),1,0)))","v":""},{"$f":"IF($A387=\"\",\"\",IF(K387=\"-\",0,IF(K387>AVERAGE(K$2:K$1183),1,0)))","v":""},{"$f":"IF($A387=\"\",\"\",IF(L387=\"-\",0,IF(L387>AVERAGE(L$2:L$1183),1,0)))","v":""},{"$f":"IF($A387=\"\",\"\",IF(M387=\"-\",0,IF(M387>AVERAGE(M$2:M$1183),1,0)))","v":""},{"$f":"IF($A387=\"\",\"\",IF(N387=\"-\",0,IF(N387>AVERAGE(N$2:N$1183),1,0)))","v":""},""]
[null,null,null,null,null,null,null,null,null,null,null,null,null,null,"","","","","","","","","","","","","","","","","","","","","","","","",null,{"$f":"IF(AA388=\"\",\"\",IF(AA388>Inputs!$D$9,0,1))","v":""},{"$f":"IF(AB388=\"\",\"\",IF(AB388>Inputs!$D$9,0,1))","v":""},{"$f":"IF(AC388=\"\",\"\",IF(AC388>Inputs!$D$9,0,1))","v":""},{"$f":"IF(AD388=\"\",\"\",IF(AD388>Inputs!$D$9,0,1))","v":""},{"$f":"IF(AE388=\"\",\"\",IF(AE388>Inputs!$D$9,0,1))","v":""},{"$f":"IF(AF388=\"\",\"\",IF(AF388>Inputs!$D$9,0,1))","v":""},{"$f":"IF(AG388=\"\",\"\",IF(AG388>Inputs!$D$9,0,1))","v":""},{"$f":"IF(AH388=\"\",\"\",IF(AH388>Inputs!$D$9,0,1))","v":""},{"$f":"IF(AI388=\"\",\"\",IF(AI388>Inputs!$D$9,0,1))","v":""},{"$f":"IF(AJ388=\"\",\"\",IF(AJ388>Inputs!$D$9,0,1))","v":""},{"$f":"IF(AK388=\"\",\"\",IF(AK388>Inputs!$D$9,0,1))","v":""},{"$f":"IF(AL388=\"\",\"\",IF(AL388>Inputs!$D$9,0,1))","v":""},"",0,null,"","","","","","","","","","","","","","",null,null,"","","","","","","","","","","","",""]
[null,null,null,null,null,null,null,null,null,null,null,null,null,null,"","","","","","","","","","","","","","","","","","","","","","","","",null,{"$f":"IF(AA389=\"\",\"\",IF(AA389>Inputs!$D$9,0,1))","v":""},{"$f":"IF(AB389=\"\",\"\",IF(AB389>Inputs!$D$9,0,1))","v":""},{"$f":"IF(AC389=\"\",\"\",IF(AC389>Inputs!$D$9,0,1))","v":""},{"$f":"IF(AD389=\"\",\"\",IF(AD389>Inputs!$D$9,0,1))","v":""},{"$f":"IF(AE389=\"\",\"\",IF(AE389>Inputs!$D$9,0,1))","v":""},{"$f":"IF(AF389=\"\",\"\",IF(AF389>Inputs!$D$9,0,1))","v":""},{"$f":"IF(AG389=\"\",\"\",IF(AG389>Inputs!$D$9,0,1))","v":""},{"$f":"IF(AH389=\"\",\"\",IF(AH389>Inputs!$D$9,0,1))","v":""},{"$f":"IF(AI389=\"\",\"\",IF(AI389>Inputs!$D$9,0,1))","v":""},{"$f":"IF(AJ389=\"\",\"\",IF(AJ389>Inputs!$D$9,0,1))","v":""},{"$f":"IF(AK389=\"\",\"\",IF(AK389>Inputs!$D$9,0,1))","v":""},{"$f":"IF(AL389=\"\",\"\",IF(AL389>Inputs!$D$9,0,1))","v":""},"",0,null,"","","","","","","","","","","","","","",null,null,"","","","","","","","","","","","",""]
[null,null,null,null,null,null,null,null,null,null,null,null,null,null,"","","","","","","","","","","","","","","","","","","","","","","","",null,{"$f":"IF(AA390=\"\",\"\",IF(AA390>Inputs!$D$9,0,1))","v":""},{"$f":"IF(AB390=\"\",\"\",IF(AB390>Inputs!$D$9,0,1))","v":""},{"$f":"IF(AC390=\"\",\"\",IF(AC390>Inputs!$D$9,0,1))","v":""},{"$f":"IF(AD390=\"\",\"\",IF(AD390>Inputs!$D$9,0,1))","v":""},{"$f":"IF(AE390=\"\",\"\",IF(AE390>Inputs!$D$9,0,1))","v":""},{"$f":"IF(AF390=\"\",\"\",IF(AF390>Inputs!$D$9,0,1))","v":""},{"$f":"IF(AG390=\"\",\"\",IF(AG390>Inputs!$D$9,0,1))","v":""},{"$f":"IF(AH390=\"\",\"\",IF(AH390>Inputs!$D$9,0,1))","v":""},{"$f":"IF(AI390=\"\",\"\",IF(AI390>Inputs!$D$9,0,1))","v":""},{"$f":"IF(AJ390=\"\",\"\",IF(AJ390>Inputs!$D$9,0,1))","v":""},{"$f":"IF(AK390=\"\",\"\",IF(AK390>Inputs!$D$9,0,1))","v":""},{"$f":"IF(AL390=\"\",\"\",IF(AL390>Inputs!$D$9,0,1))","v":""},"",0,null,"","","","","","","","","","","","","","",null,null,"","","","","","","","","","","","",""]
[null,null,null,null,null,null,null,null,null,null,null,null,null,null,"","","","","","","","","","","","","","","","","","","","","","","","",null,{"$f":"IF(AA391=\"\",\"\",IF(AA391>Inputs!$D$9,0,1))","v":""},{"$f":"IF(AB391=\"\",\"\",IF(AB391>Inputs!$D$9,0,1))","v":""},{"$f":"IF(AC391=\"\",\"\",IF(AC391>Inputs!$D$9,0,1))","v":""},{"$f":"IF(AD391=\"\",\"\",IF(AD391>Inputs!$D$9,0,1))","v":""},{"$f":"IF(AE391=\"\",\"\",IF(AE391>Inputs!$D$9,0,1))","v":""},{"$f":"IF(AF391=\"\",\"\",IF(AF391>Inputs!$D$9,0,1))","v":""},{"$f":"IF(AG391=\"\",\"\",IF(AG391>Inputs!$D$9,0,1))","v":""},{"$f":"IF(AH391=\"\",\"\",IF(AH391>Inputs!$D$9,0,1))","v":""},{"$f":"IF(AI391=\"\",\"\",IF(AI391>Inputs!$D$9,0,1))","v":""},{"$f":"IF(AJ391=\"\",\"\",IF(AJ391>Inputs!$D$9,0,1))","v":""},{"$f":"IF(AK391=\"\",\"\",IF(AK391>Inputs!$D$9,0,1))","v":""},{"$f":"IF(AL391=\"\",\"\",IF(AL391>Inputs!$D$9,0,1))","v":""},"",0,null,"","","","","","","","","","","","","","",null,null,"","","","","","","","","","","","",""]
[null,null,null,null,null,null,null,null,null,null,null,null,null,null,"","","","","","","","","","","","","","","","","","","","","","","","",null,{"$f":"IF(AA392=\"\",\"\",IF(AA392>Inputs!$D$9,0,1))","v":""},{"$f":"IF(AB392=\"\",\"\",IF(AB392>Inputs!$D$9,0,1))","v":""},{"$f":"IF(AC392=\"\",\"\",IF(AC392>Inputs!$D$9,0,1))","v":""},{"$f":"IF(AD392=\"\",\"\",IF(AD392>Inputs!$D$9,0,1))","v":""},{"$f":"IF(AE392=\"\",\"\",IF(AE392>Inputs!$D$9,0,1))","v":""},{"$f":"IF(AF392=\"\",\"\",IF(AF392>Inputs!$D$9,0,1))","v":""},{"$f":"IF(AG392=\"\",\"\",IF(AG392>Inputs!$D$9,0,1))","v":""},{"$f":"IF(AH392=\"\",\"\",IF(AH392>Inputs!$D$9,0,1))","v":""},{"$f":"IF(AI392=\"\",\"\",IF(AI392>Inputs!$D$9,0,1))","v":""},{"$f":"IF(AJ392=\"\",\"\",IF(AJ392>Inputs!$D$9,0,1))","v":""},{"$f":"IF(AK392=\"\",\"\",IF(AK392>Inputs!$D$9,0,1))","v":""},{"$f":"IF(AL392=\"\",\"\",IF(AL392>Inputs!$D$9,0,1))","v":""},"",0,null,"","","","","","","","","","","","","","",null,null,"","","","","","","","","","","","",""]
[null,null,null,null,null,null,null,null,null,null,null,null,null,null,"","","","","","","","","","","","","","","","","","","","","","","","",null,{"$f":"IF(AA393=\"\",\"\",IF(AA393>Inputs!$D$9,0,1))","v":""},{"$f":"IF(AB393=\"\",\"\",IF(AB393>Inputs!$D$9,0,1))","v":""},{"$f":"IF(AC393=\"\",\"\",IF(AC393>Inputs!$D$9,0,1))","v":""},{"$f":"IF(AD393=\"\",\"\",IF(AD393>Inputs!$D$9,0,1))","v":""},{"$f":"IF(AE393=\"\",\"\",IF(AE393>Inputs!$D$9,0,1))","v":""},{"$f":"IF(AF393=\"\",\"\",IF(AF393>Inputs!$D$9,0,1))","v":""},{"$f":"IF(AG393=\"\",\"\",IF(AG393>Inputs!$D$9,0,1))","v":""},{"$f":"IF(AH393=\"\",\"\",IF(AH393>Inputs!$D$9,0,1))","v":""},{"$f":"IF(AI393=\"\",\"\",IF(AI393>Inputs!$D$9,0,1))","v":""},{"$f":"IF(AJ393=\"\",\"\",IF(AJ393>Inputs!$D$9,0,1))","v":""},{"$f":"IF(AK393=\"\",\"\",IF(AK393>Inputs!$D$9,0,1))","v":""},{"$f":"IF(AL393=\"\",\"\",IF(AL393>Inputs!$D$9,0,1))","v":""},"",0,null,"","","","","","","","","","","","","","",null,null,"","","","","","","","","","","","",""]
[null,null,null,null,null,null,null,null,null,null,null,null,null,null,"","","","","","","","","","","","","","","","","","","","","","","","",null,{"$f":"IF(AA394=\"\",\"\",IF(AA394>Inputs!$D$9,0,1))","v":""},{"$f":"IF(AB394=\"\",\"\",IF(AB394>Inputs!$D$9,0,1))","v":""},{"$f":"IF(AC394=\"\",\"\",IF(AC394>Inputs!$D$9,0,1))","v":""},{"$f":"IF(AD394=\"\",\"\",IF(AD394>Inputs!$D$9,0,1))","v":""},{"$f":"IF(AE394=\"\",\"\",IF(AE394>Inputs!$D$9,0,1))","v":""},{"$f":"IF(AF394=\"\",\"\",IF(AF394>Inputs!$D$9,0,1))","v":""},{"$f":"IF(AG394=\"\",\"\",IF(AG394>Inputs!$D$9,0,1))","v":""},{"$f":"IF(AH394=\"\",\"\",IF(AH394>Inputs!$D$9,0,1))","v":""},{"$f":"IF(AI394=\"\",\"\",IF(AI394>Inputs!$D$9,0,1))","v":""},{"$f":"IF(AJ394=\"\",\"\",IF(AJ394>Inputs!$D$9,0,1))","v":""},{"$f":"IF(AK394=\"\",\"\",IF(AK394>Inputs!$D$9,0,1))","v":""},{"$f":"IF(AL394=\"\",\"\",IF(AL394>Inputs!$D$9,0,1))","v":""},"",0,null,"","","","","","","","","","","","","","",null,null,"","","","","","","","","","","","",""]
[null,null,null,null,null,null,null,null,null,null,null,null,null,null,"","","","","","","","","","","","","","","","","","","","","","","","",null,{"$f":"IF(AA395=\"\",\"\",IF(AA395>Inputs!$D$9,0,1))","v":""},{"$f":"IF(AB395=\"\",\"\",IF(AB395>Inputs!$D$9,0,1))","v":""},{"$f":"IF(AC395=\"\",\"\",IF(AC395>Inputs!$D$9,0,1))","v":""},{"$f":"IF(AD395=\"\",\"\",IF(AD395>Inputs!$D$9,0,1))","v":""},{"$f":"IF(AE395=\"\",\"\",IF(AE395>Inputs!$D$9,0,1))","v":""},{"$f":"IF(AF395=\"\",\"\",IF(AF395>Inputs!$D$9,0,1))","v":""},{"$f":"IF(AG395=\"\",\"\",IF(AG395>Inputs!$D$9,0,1))","v":""},{"$f":"IF(AH395=\"\",\"\",IF(AH395>Inputs!$D$9,0,1))","v":""},{"$f":"IF(AI395=\"\",\"\",IF(AI395>Inputs!$D$9,0,1))","v":""},{"$f":"IF(AJ395=\"\",\"\",IF(AJ395>Inputs!$D$9,0,1))","v":""},{"$f":"IF(AK395=\"\",\"\",IF(AK395>Inputs!$D$9,0,1))","v":""},{"$f":"IF(AL395=\"\",\"\",IF(AL395>Inputs!$D$9,0,1))","v":""},"",0,null,"","","","","","","","","","","","","","",null,null,"","","","","","","","","","","","",""]
[null,null,null,null,null,null,null,null,null,null,null,null,null,null,"","","","","","","","","","","","","","","","","","","","","","","","",null,{"$f":"IF(AA396=\"\",\"\",IF(AA396>Inputs!$D$9,0,1))","v":""},{"$f":"IF(AB396=\"\",\"\",IF(AB396>Inputs!$D$9,0,1))","v":""},{"$f":"IF(AC396=\"\",\"\",IF(AC396>Inputs!$D$9,0,1))","v":""},{"$f":"IF(AD396=\"\",\"\",IF(AD396>Inputs!$D$9,0,1))","v":""},{"$f":"IF(AE396=\"\",\"\",IF(AE396>Inputs!$D$9,0,1))","v":""},{"$f":"IF(AF396=\"\",\"\",IF(AF396>Inputs!$D$9,0,1))","v":""},{"$f":"IF(AG396=\"\",\"\",IF(AG396>Inputs!$D$9,0,1))","v":""},{"$f":"IF(AH396=\"\",\"\",IF(AH396>Inputs!$D$9,0,1))","v":""},{"$f":"IF(AI396=\"\",\"\",IF(AI396>Inputs!$D$9,0,1))","v":""},{"$f":"IF(AJ396=\"\",\"\",IF(AJ396>Inputs!$D$9,0,1))","v":""},{"$f":"IF(AK396=\"\",\"\",IF(AK396>Inputs!$D$9,0,1))","v":""},{"$f":"IF(AL396=\"\",\"\",IF(AL396>Inputs!$D$9,0,1))","v":""},"",0,null,"","","","","","","","","","","","","","",null,null,"","","","","","","","","","","","",""]
[null,null,null,null,null,null,null,null,null,null,null,null,null,null,"","","","","","","","","","","","","","","","","","","","","","","","",null,{"$f":"IF(AA397=\"\",\"\",IF(AA397>Inputs!$D$9,0,1))","v":""},{"$f":"IF(AB397=\"\",\"\",IF(AB397>Inputs!$D$9,0,1))","v":""},{"$f":"IF(AC397=\"\",\"\",IF(AC397>Inputs!$D$9,0,1))","v":""},{"$f":"IF(AD397=\"\",\"\",IF(AD397>Inputs!$D$9,0,1))","v":""},{"$f":"IF(AE397=\"\",\"\",IF(AE397>Inputs!$D$9,0,1))","v":""},{"$f":"IF(AF397=\"\",\"\",IF(AF397>Inputs!$D$9,0,1))","v":""},{"$f":"IF(AG397=\"\",\"\",IF(AG397>Inputs!$D$9,0,1))","v":""},{"$f":"IF(AH397=\"\",\"\",IF(AH397>Inputs!$D$9,0,1))","v":""},{"$f":"IF(AI397=\"\",\"\",IF(AI397>Inputs!$D$9,0,1))","v":""},{"$f":"IF(AJ397=\"\",\"\",IF(AJ397>Inputs!$D$9,0,1))","v":""},{"$f":"IF(AK397=\"\",\"\",IF(AK397>Inputs!$D$9,0,1))","v":""},{"$f":"IF(AL397=\"\",\"\",IF(AL397>Inputs!$D$9,0,1))","v":""},"",0,null,"","","","","","","","","","","","","","",null,null,"","","","","","","","","","","","",""]
[null,null,null,null,null,null,null,null,null,null,null,null,null,null,"","","","","","","","","","","","","","","","","","","","","","","","",null,{"$f":"IF(AA398=\"\",\"\",IF(AA398>Inputs!$D$9,0,1))","v":""},{"$f":"IF(AB398=\"\",\"\",IF(AB398>Inputs!$D$9,0,1))","v":""},{"$f":"IF(AC398=\"\",\"\",IF(AC398>Inputs!$D$9,0,1))","v":""},{"$f":"IF(AD398=\"\",\"\",IF(AD398>Inputs!$D$9,0,1))","v":""},{"$f":"IF(AE398=\"\",\"\",IF(AE398>Inputs!$D$9,0,1))","v":""},{"$f":"IF(AF398=\"\",\"\",IF(AF398>Inputs!$D$9,0,1))","v":""},{"$f":"IF(AG398=\"\",\"\",IF(AG398>Inputs!$D$9,0,1))","v":""},{"$f":"IF(AH398=\"\",\"\",IF(AH398>Inputs!$D$9,0,1))","v":""},{"$f":"IF(AI398=\"\",\"\",IF(AI398>Inputs!$D$9,0,1))","v":""},{"$f":"IF(AJ398=\"\",\"\",IF(AJ398>Inputs!$D$9,0,1))","v":""},{"$f":"IF(AK398=\"\",\"\",IF(AK398>Inputs!$D$9,0,1))","v":""},{"$f":"IF(AL398=\"\",\"\",IF(AL398>Inputs!$D$9,0,1))","v":""},"",0,null,"","","","","","","","","","","","","","",null,null,"","","","","","","","","","","","",""]
[null,null,null,null,null,null,null,null,null,null,null,null,null,null,"","","","","","","","","","","","","","","","","","","","","","","","",null,{"$f":"IF(AA399=\"\",\"\",IF(AA399>Inputs!$D$9,0,1))","v":""},{"$f":"IF(AB399=\"\",\"\",IF(AB399>Inputs!$D$9,0,1))","v":""},{"$f":"IF(AC399=\"\",\"\",IF(AC399>Inputs!$D$9,0,1))","v":""},{"$f":"IF(AD399=\"\",\"\",IF(AD399>Inputs!$D$9,0,1))","v":""},{"$f":"IF(AE399=\"\",\"\",IF(AE399>Inputs!$D$9,0,1))","v":""},{"$f":"IF(AF399=\"\",\"\",IF(AF399>Inputs!$D$9,0,1))","v":""},{"$f":"IF(AG399=\"\",\"\",IF(AG399>Inputs!$D$9,0,1))","v":""},{"$f":"IF(AH399=\"\",\"\",IF(AH399>Inputs!$D$9,0,1))","v":""},{"$f":"IF(AI399=\"\",\"\",IF(AI399>Inputs!$D$9,0,1))","v":""},{"$f":"IF(AJ399=\"\",\"\",IF(AJ399>Inputs!$D$9,0,1))","v":""},{"$f":"IF(AK399=\"\",\"\",IF(AK399>Inputs!$D$9,0,1))","v":""},{"$f":"IF(AL399=\"\",\"\",IF(AL399>Inputs!$D$9,0,1))","v":""},"",0,null,"","","","","","","","","","","","","","",null,null,"","","","","","","","","","","","",""]
[null,null,null,null,null,null,null,null,null,null,null,null,null,null,"","","","","","","","","","","","","","","","","","","","","","","","",null,{"$f":"IF(AA400=\"\",\"\",IF(AA400>Inputs!$D$9,0,1))","v":""},{"$f":"IF(AB400=\"\",\"\",IF(AB400>Inputs!$D$9,0,1))","v":""},{"$f":"IF(AC400=\"\",\"\",IF(AC400>Inputs!$D$9,0,1))","v":""},{"$f":"IF(AD400=\"\",\"\",IF(AD400>Inputs!$D$9,0,1))","v":""},{"$f":"IF(AE400=\"\",\"\",IF(AE400>Inputs!$D$9,0,1))","v":""},{"$f":"IF(AF400=\"\",\"\",IF(AF400>Inputs!$D$9,0,1))","v":""},{"$f":"IF(AG400=\"\",\"\",IF(AG400>Inputs!$D$9,0,1))","v":""},{"$f":"IF(AH400=\"\",\"\",IF(AH400>Inputs!$D$9,0,1))","v":""},{"$f":"IF(AI400=\"\",\"\",IF(AI400>Inputs!$D$9,0,1))","v":""},{"$f":"IF(AJ400=\"\",\"\",IF(AJ400>Inputs!$D$9,0,1))","v":""},{"$f":"IF(AK400=\"\",\"\",IF(AK400>Inputs!$D$9,0,1))","v":""},{"$f":"IF(AL400=\"\",\"\",IF(AL400>Inputs!$D$9,0,1))","v":""},"",0,null,"","","","","","","","","","","","","","",null,null,"","","","","","","","","","","","",""]
[null,null,null,null,null,null,null,null,null,null,null,null,null,null,"","","","","","","","","","","","","","","","","","","","","","","","",null,{"$f":"IF(AA401=\"\",\"\",IF(AA401>Inputs!$D$9,0,1))","v":""},{"$f":"IF(AB401=\"\",\"\",IF(AB401>Inputs!$D$9,0,1))","v":""},{"$f":"IF(AC401=\"\",\"\",IF(AC401>Inputs!$D$9,0,1))","v":""},{"$f":"IF(AD401=\"\",\"\",IF(AD401>Inputs!$D$9,0,1))","v":""},{"$f":"IF(AE401=\"\",\"\",IF(AE401>Inputs!$D$9,0,1))","v":""},{"$f":"IF(AF401=\"\",\"\",IF(AF401>Inputs!$D$9,0,1))","v":""},{"$f":"IF(AG401=\"\",\"\",IF(AG401>Inputs!$D$9,0,1))","v":""},{"$f":"IF(AH401=\"\",\"\",IF(AH401>Inputs!$D$9,0,1))","v":""},{"$f":"IF(AI401=\"\",\"\",IF(AI401>Inputs!$D$9,0,1))","v":""},{"$f":"IF(AJ401=\"\",\"\",IF(AJ401>Inputs!$D$9,0,1))","v":""},{"$f":"IF(AK401=\"\",\"\",IF(AK401>Inputs!$D$9,0,1))","v":""},{"$f":"IF(AL401=\"\",\"\",IF(AL401>Inputs!$D$9,0,1))","v":""},"",0,null,"","","","","","","","","","","","","","",null,null,"","","","","","","","","","","","",""]
[null,null,null,null,null,null,null,null,null,null,null,null,null,null,"","","","","","","","","","","","","","","","","","","","","","","","",null,{"$f":"IF(AA402=\"\",\"\",IF(AA402>Inputs!$D$9,0,1))","v":""},{"$f":"IF(AB402=\"\",\"\",IF(AB402>Inputs!$D$9,0,1))","v":""},{"$f":"IF(AC402=\"\",\"\",IF(AC402>Inputs!$D$9,0,1))","v":""},{"$f":"IF(AD402=\"\",\"\",IF(AD402>Inputs!$D$9,0,1))","v":""},{"$f":"IF(AE402=\"\",\"\",IF(AE402>Inputs!$D$9,0,1))","v":""},{"$f":"IF(AF402=\"\",\"\",IF(AF402>Inputs!$D$9,0,1))","v":""},{"$f":"IF(AG402=\"\",\"\",IF(AG402>Inputs!$D$9,0,1))","v":""},{"$f":"IF(AH402=\"\",\"\",IF(AH402>Inputs!$D$9,0,1))","v":""},{"$f":"IF(AI402=\"\",\"\",IF(AI402>Inputs!$D$9,0,1))","v":""},{"$f":"IF(AJ402=\"\",\"\",IF(AJ402>Inputs!$D$9,0,1))","v":""},{"$f":"IF(AK402=\"\",\"\",IF(AK402>Inputs!$D$9,0,1))","v":""},{"$f":"IF(AL402=\"\",\"\",IF(AL402>Inputs!$D$9,0,1))","v":""},"",0,null,"","","","","","","","","","","","","","",null,null,"","","","","","","","","","","","",""]
[null,null,null,null,null,null,null,null,null,null,null,null,null,null,"","","","","","","","","","","","","","","","","","","","","","","","",null,{"$f":"IF(AA403=\"\",\"\",IF(AA403>Inputs!$D$9,0,1))","v":""},{"$f":"IF(AB403=\"\",\"\",IF(AB403>Inputs!$D$9,0,1))","v":""},{"$f":"IF(AC403=\"\",\"\",IF(AC403>Inputs!$D$9,0,1))","v":""},{"$f":"IF(AD403=\"\",\"\",IF(AD403>Inputs!$D$9,0,1))","v":""},{"$f":"IF(AE403=\"\",\"\",IF(AE403>Inputs!$D$9,0,1))","v":""},{"$f":"IF(AF403=\"\",\"\",IF(AF403>Inputs!$D$9,0,1))","v":""},{"$f":"IF(AG403=\"\",\"\",IF(AG403>Inputs!$D$9,0,1))","v":""},{"$f":"IF(AH403=\"\",\"\",IF(AH403>Inputs!$D$9,0,1))","v":""},{"$f":"IF(AI403=\"\",\"\",IF(AI403>Inputs!$D$9,0,1))","v":""},{"$f":"IF(AJ403=\"\",\"\",IF(AJ403>Inputs!$D$9,0,1))","v":""},{"$f":"IF(AK403=\"\",\"\",IF(AK403>Inputs!$D$9,0,1))","v":""},{"$f":"IF(AL403=\"\",\"\",IF(AL403>Inputs!$D$9,0,1))","v":""},"",0,null,"","","","","","","","","","","","","","",null,null,"","","","","","","","","","","","",{"$f":"IF(A403=\"\",\"\",SUM(BS403:CD403))","v":""}]
[null,null,null,null,null,null,null,null,null,null,null,null,null,null,"","","","","","","","","","","","","","","","","","","","","","","","",null,{"$f":"IF(AA404=\"\",\"\",IF(AA404>Inputs!$D$9,0,1))","v":""},{"$f":"IF(AB404=\"\",\"\",IF(AB404>Inputs!$D$9,0,1))","v":""},{"$f":"IF(AC404=\"\",\"\",IF(AC404>Inputs!$D$9,0,1))","v":""},{"$f":"IF(AD404=\"\",\"\",IF(AD404>Inputs!$D$9,0,1))","v":""},{"$f":"IF(AE404=\"\",\"\",IF(AE404>Inputs!$D$9,0,1))","v":""},{"$f":"IF(AF404=\"\",\"\",IF(AF404>Inputs!$D$9,0,1))","v":""},{"$f":"IF(AG404=\"\",\"\",IF(AG404>Inputs!$D$9,0,1))","v":""},{"$f":"IF(AH404=\"\",\"\",IF(AH404>Inputs!$D$9,0,1))","v":""},{"$f":"IF(AI404=\"\",\"\",IF(AI404>Inputs!$D$9,0,1))","v":""},{"$f":"IF(AJ404=\"\",\"\",IF(AJ404>Inputs!$D$9,0,1))","v":""},{"$f":"IF(AK404=\"\",\"\",IF(AK404>Inputs!$D$9,0,1))","v":""},{"$f":"IF(AL404=\"\",\"\",IF(AL404>Inputs!$D$9,0,1))","v":""},"",0,null,"","","","","","","","","","","","","","",null,null,"","","","","","","","","","","","",""]
[null,null,null,null,null,null,null,null,null,null,null,null,null,null,"","","","","","","","","","","","","","","","","","","","","","","","",null,{"$f":"IF(AA405=\"\",\"\",IF(AA405>Inputs!$D$9,0,1))","v":""},{"$f":"IF(AB405=\"\",\"\",IF(AB405>Inputs!$D$9,0,1))","v":""},{"$f":"IF(AC405=\"\",\"\",IF(AC405>Inputs!$D$9,0,1))","v":""},{"$f":"IF(AD405=\"\",\"\",IF(AD405>Inputs!$D$9,0,1))","v":""},{"$f":"IF(AE405=\"\",\"\",IF(AE405>Inputs!$D$9,0,1))","v":""},{"$f":"IF(AF405=\"\",\"\",IF(AF405>Inputs!$D$9,0,1))","v":""},{"$f":"IF(AG405=\"\",\"\",IF(AG405>Inputs!$D$9,0,1))","v":""},{"$f":"IF(AH405=\"\",\"\",IF(AH405>Inputs!$D$9,0,1))","v":""},{"$f":"IF(AI405=\"\",\"\",IF(AI405>Inputs!$D$9,0,1))","v":""},{"$f":"IF(AJ405=\"\",\"\",IF(AJ405>Inputs!$D$9,0,1))","v":""},{"$f":"IF(AK405=\"\",\"\",IF(AK405>Inputs!$D$9,0,1))","v":""},{"$f":"IF(AL405=\"\",\"\",IF(AL405>Inputs!$D$9,0,1))","v":""},"",0,null,"","","","","","","","","","","","","","",null,null,"","","","","","","","","","","","",""]
[null,null,null,null,null,null,null,null,null,null,null,null,null,null,"","","","","","","","","","","","","","","","","","","","","","","","",null,{"$f":"IF(AA406=\"\",\"\",IF(AA406>Inputs!$D$9,0,1))","v":""},{"$f":"IF(AB406=\"\",\"\",IF(AB406>Inputs!$D$9,0,1))","v":""},{"$f":"IF(AC406=\"\",\"\",IF(AC406>Inputs!$D$9,0,1))","v":""},{"$f":"IF(AD406=\"\",\"\",IF(AD406>Inputs!$D$9,0,1))","v":""},{"$f":"IF(AE406=\"\",\"\",IF(AE406>Inputs!$D$9,0,1))","v":""},{"$f":"IF(AF406=\"\",\"\",IF(AF406>Inputs!$D$9,0,1))","v":""},{"$f":"IF(AG406=\"\",\"\",IF(AG406>Inputs!$D$9,0,1))","v":""},{"$f":"IF(AH406=\"\",\"\",IF(AH406>Inputs!$D$9,0,1))","v":""},{"$f":"IF(AI406=\"\",\"\",IF(AI406>Inputs!$D$9,0,1))","v":""},{"$f":"IF(AJ406=\"\",\"\",IF(AJ406>Inputs!$D$9,0,1))","v":""},{"$f":"IF(AK406=\"\",\"\",IF(AK406>Inputs!$D$9,0,1))","v":""},{"$f":"IF(AL406=\"\",\"\",IF(AL406>Inputs!$D$9,0,1))","v":""},"",0,null,"","","","","","","","","","","","","","",null,null,"","","","","","","","","","","","",""]
[null,null,null,null,null,null,null,null,null,null,null,null,null,null,"","","","","","","","","","","","","","","","","","","","","","","","",null,{"$f":"IF(AA407=\"\",\"\",IF(AA407>Inputs!$D$9,0,1))","v":""},{"$f":"IF(AB407=\"\",\"\",IF(AB407>Inputs!$D$9,0,1))","v":""},{"$f":"IF(AC407=\"\",\"\",IF(AC407>Inputs!$D$9,0,1))","v":""},{"$f":"IF(AD407=\"\",\"\",IF(AD407>Inputs!$D$9,0,1))","v":""},{"$f":"IF(AE407=\"\",\"\",IF(AE407>Inputs!$D$9,0,1))","v":""},{"$f":"IF(AF407=\"\",\"\",IF(AF407>Inputs!$D$9,0,1))","v":""},{"$f":"IF(AG407=\"\",\"\",IF(AG407>Inputs!$D$9,0,1))","v":""},{"$f":"IF(AH407=\"\",\"\",IF(AH407>Inputs!$D$9,0,1))","v":""},{"$f":"IF(AI407=\"\",\"\",IF(AI407>Inputs!$D$9,0,1))","v":""},{"$f":"IF(AJ407=\"\",\"\",IF(AJ407>Inputs!$D$9,0,1))","v":""},{"$f":"IF(AK407=\"\",\"\",IF(AK407>Inputs!$D$9,0,1))","v":""},{"$f":"IF(AL407=\"\",\"\",IF(AL407>Inputs!$D$9,0,1))","v":""},"",0,null,"","","","","","","","","","","","","","",null,null,"","","","","","","","","","","","",""]
[null,null,null,null,null,null,null,null,null,null,null,null,null,null,"","","","","","","","","","","","","","","","","","","","","","","","",null,{"$f":"IF(AA408=\"\",\"\",IF(AA408>Inputs!$D$9,0,1))","v":""},{"$f":"IF(AB408=\"\",\"\",IF(AB408>Inputs!$D$9,0,1))","v":""},{"$f":"IF(AC408=\"\",\"\",IF(AC408>Inputs!$D$9,0,1))","v":""},{"$f":"IF(AD408=\"\",\"\",IF(AD408>Inputs!$D$9,0,1))","v":""},{"$f":"IF(AE408=\"\",\"\",IF(AE408>Inputs!$D$9,0,1))","v":""},{"$f":"IF(AF408=\"\",\"\",IF(AF408>Inputs!$D$9,0,1))","v":""},{"$f":"IF(AG408=\"\",\"\",IF(AG408>Inputs!$D$9,0,1))","v":""},{"$f":"IF(AH408=\"\",\"\",IF(AH408>Inputs!$D$9,0,1))","v":""},{"$f":"IF(AI408=\"\",\"\",IF(AI408>Inputs!$D$9,0,1))","v":""},{"$f":"IF(AJ408=\"\",\"\",IF(AJ408>Inputs!$D$9,0,1))","v":""},{"$f":"IF(AK408=\"\",\"\",IF(AK408>Inputs!$D$9,0,1))","v":""},{"$f":"IF(AL408=\"\",\"\",IF(AL408>Inputs!$D$9,0,1))","v":""},"",0,null,"","","","","","","","","","","","","","",null,null,"","","","","","","","","","","","",""]
[null,null,null,null,null,null,null,null,null,null,null,null,null,null,"","","","","","","","","","","","","","","","","","","","","","","","",null,{"$f":"IF(AA409=\"\",\"\",IF(AA409>Inputs!$D$9,0,1))","v":""},{"$f":"IF(AB409=\"\",\"\",IF(AB409>Inputs!$D$9,0,1))","v":""},{"$f":"IF(AC409=\"\",\"\",IF(AC409>Inputs!$D$9,0,1))","v":""},{"$f":"IF(AD409=\"\",\"\",IF(AD409>Inputs!$D$9,0,1))","v":""},{"$f":"IF(AE409=\"\",\"\",IF(AE409>Inputs!$D$9,0,1))","v":""},{"$f":"IF(AF409=\"\",\"\",IF(AF409>Inputs!$D$9,0,1))","v":""},{"$f":"IF(AG409=\"\",\"\",IF(AG409>Inputs!$D$9,0,1))","v":""},{"$f":"IF(AH409=\"\",\"\",IF(AH409>Inputs!$D$9,0,1))","v":""},{"$f":"IF(AI409=\"\",\"\",IF(AI409>Inputs!$D$9,0,1))","v":""},{"$f":"IF(AJ409=\"\",\"\",IF(AJ409>Inputs!$D$9,0,1))","v":""},{"$f":"IF(AK409=\"\",\"\",IF(AK409>Inputs!$D$9,0,1))","v":""},{"$f":"IF(AL409=\"\",\"\",IF(AL409>Inputs!$D$9,0,1))","v":""},"",0,null,"","","","","","","","","","","","","","",null,null,"","","","","","","","","","","","",""]
[null,null,null,null,null,null,null,null,null,null,null,null,null,null,"","","","","","","","","","","","","","","","","","","","","","","","",null,{"$f":"IF(AA410=\"\",\"\",IF(AA410>Inputs!$D$9,0,1))","v":""},{"$f":"IF(AB410=\"\",\"\",IF(AB410>Inputs!$D$9,0,1))","v":""},{"$f":"IF(AC410=\"\",\"\",IF(AC410>Inputs!$D$9,0,1))","v":""},{"$f":"IF(AD410=\"\",\"\",IF(AD410>Inputs!$D$9,0,1))","v":""},{"$f":"IF(AE410=\"\",\"\",IF(AE410>Inputs!$D$9,0,1))","v":""},{"$f":"IF(AF410=\"\",\"\",IF(AF410>Inputs!$D$9,0,1))","v":""},{"$f":"IF(AG410=\"\",\"\",IF(AG410>Inputs!$D$9,0,1))","v":""},{"$f":"IF(AH410=\"\",\"\",IF(AH410>Inputs!$D$9,0,1))","v":""},{"$f":"IF(AI410=\"\",\"\",IF(AI410>Inputs!$D$9,0,1))","v":""},{"$f":"IF(AJ410=\"\",\"\",IF(AJ410>Inputs!$D$9,0,1))","v":""},{"$f":"IF(AK410=\"\",\"\",IF(AK410>Inputs!$D$9,0,1))","v":""},{"$f":"IF(AL410=\"\",\"\",IF(AL410>Inputs!$D$9,0,1))","v":""},"",0,null,"","","","","","","","","","","","","","",null,null,"","","","","","","","","","","","",""]
[null,null,null,null,null,null,null,null,null,null,null,null,null,null,"","","","","","","","","","","","","","","","","","","","","","","","",null,{"$f":"IF(AA411=\"\",\"\",IF(AA411>Inputs!$D$9,0,1))","v":""},{"$f":"IF(AB411=\"\",\"\",IF(AB411>Inputs!$D$9,0,1))","v":""},{"$f":"IF(AC411=\"\",\"\",IF(AC411>Inputs!$D$9,0,1))","v":""},{"$f":"IF(AD411=\"\",\"\",IF(AD411>Inputs!$D$9,0,1))","v":""},{"$f":"IF(AE411=\"\",\"\",IF(AE411>Inputs!$D$9,0,1))","v":""},{"$f":"IF(AF411=\"\",\"\",IF(AF411>Inputs!$D$9,0,1))","v":""},{"$f":"IF(AG411=\"\",\"\",IF(AG411>Inputs!$D$9,0,1))","v":""},{"$f":"IF(AH411=\"\",\"\",IF(AH411>Inputs!$D$9,0,1))","v":""},{"$f":"IF(AI411=\"\",\"\",IF(AI411>Inputs!$D$9,0,1))","v":""},{"$f":"IF(AJ411=\"\",\"\",IF(AJ411>Inputs!$D$9,0,1))","v":""},{"$f":"IF(AK411=\"\",\"\",IF(AK411>Inputs!$D$9,0,1))","v":""},{"$f":"IF(AL411=\"\",\"\",IF(AL411>Inputs!$D$9,0,1))","v":""},"",0,null,"","","","","","","","","","","","","","",null,null,"","","","","","","","","","","","",""]
[null,null,null,null,null,null,null,null,null,null,null,null,null,null,"","","","","","","","","","","","","","","","","","","","","","","","",null,{"$f":"IF(AA412=\"\",\"\",IF(AA412>Inputs!$D$9,0,1))","v":""},{"$f":"IF(AB412=\"\",\"\",IF(AB412>Inputs!$D$9,0,1))","v":""},{"$f":"IF(AC412=\"\",\"\",IF(AC412>Inputs!$D$9,0,1))","v":""},{"$f":"IF(AD412=\"\",\"\",IF(AD412>Inputs!$D$9,0,1))","v":""},{"$f":"IF(AE412=\"\",\"\",IF(AE412>Inputs!$D$9,0,1))","v":""},{"$f":"IF(AF412=\"\",\"\",IF(AF412>Inputs!$D$9,0,1))","v":""},{"$f":"IF(AG412=\"\",\"\",IF(AG412>Inputs!$D$9,0,1))","v":""},{"$f":"IF(AH412=\"\",\"\",IF(AH412>Inputs!$D$9,0,1))","v":""},{"$f":"IF(AI412=\"\",\"\",IF(AI412>Inputs!$D$9,0,1))","v":""},{"$f":"IF(AJ412=\"\",\"\",IF(AJ412>Inputs!$D$9,0,1))","v":""},{"$f":"IF(AK412=\"\",\"\",IF(AK412>Inputs!$D$9,0,1))","v":""},{"$f":"IF(AL412=\"\",\"\",IF(AL412>Inputs!$D$9,0,1))","v":""},"",0,null,"","","","","","","","","","","","","","",null,null,"","","","","","","","","","","","",""]
[null,null,null,null,null,null,null,null,null,null,null,null,null,null,"","","","","","","","","","","","","","","","","","","","","","","","",null,{"$f":"IF(AA413=\"\",\"\",IF(AA413>Inputs!$D$9,0,1))","v":""},{"$f":"IF(AB413=\"\",\"\",IF(AB413>Inputs!$D$9,0,1))","v":""},{"$f":"IF(AC413=\"\",\"\",IF(AC413>Inputs!$D$9,0,1))","v":""},{"$f":"IF(AD413=\"\",\"\",IF(AD413>Inputs!$D$9,0,1))","v":""},{"$f":"IF(AE413=\"\",\"\",IF(AE413>Inputs!$D$9,0,1))","v":""},{"$f":"IF(AF413=\"\",\"\",IF(AF413>Inputs!$D$9,0,1))","v":""},{"$f":"IF(AG413=\"\",\"\",IF(AG413>Inputs!$D$9,0,1))","v":""},{"$f":"IF(AH413=\"\",\"\",IF(AH413>Inputs!$D$9,0,1))","v":""},{"$f":"IF(AI413=\"\",\"\",IF(AI413>Inputs!$D$9,0,1))","v":""},{"$f":"IF(AJ413=\"\",\"\",IF(AJ413>Inputs!$D$9,0,1))","v":""},{"$f":"IF(AK413=\"\",\"\",IF(AK413>Inputs!$D$9,0,1))","v":""},{"$f":"IF(AL413=\"\",\"\",IF(AL413>Inputs!$D$9,0,1))","v":""},"",0,null,"","","","","","","","","","","","","","",null,null,"","","","","","","","","","","","",""]
[null,null,null,null,null,null,null,null,null,null,null,null,null,null,"","","","","","","","","","","","","","","","","","","","","","","","",null,{"$f":"IF(AA414=\"\",\"\",IF(AA414>Inputs!$D$9,0,1))","v":""},{"$f":"IF(AB414=\"\",\"\",IF(AB414>Inputs!$D$9,0,1))","v":""},{"$f":"IF(AC414=\"\",\"\",IF(AC414>Inputs!$D$9,0,1))","v":""},{"$f":"IF(AD414=\"\",\"\",IF(AD414>Inputs!$D$9,0,1))","v":""},{"$f":"IF(AE414=\"\",\"\",IF(AE414>Inputs!$D$9,0,1))","v":""},{"$f":"IF(AF414=\"\",\"\",IF(AF414>Inputs!$D$9,0,1))","v":""},{"$f":"IF(AG414=\"\",\"\",IF(AG414>Inputs!$D$9,0,1))","v":""},{"$f":"IF(AH414=\"\",\"\",IF(AH414>Inputs!$D$9,0,1))","v":""},{"$f":"IF(AI414=\"\",\"\",IF(AI414>Inputs!$D$9,0,1))","v":""},{"$f":"IF(AJ414=\"\",\"\",IF(AJ414>Inputs!$D$9,0,1))","v":""},{"$f":"IF(AK414=\"\",\"\",IF(AK414>Inputs!$D$9,0,1))","v":""},{"$f":"IF(AL414=\"\",\"\",IF(AL414>Inputs!$D$9,0,1))","v":""},"",0,null,"","","","","","","","","","","","","","",null,null,"","","","","","","","","","","","",""]
[null,null,null,null,null,null,null,null,null,null,null,null,null,null,"","","","","","","","","","","","","","","","","","","","","","","","",null,{"$f":"IF(AA415=\"\",\"\",IF(AA415>Inputs!$D$9,0,1))","v":""},{"$f":"IF(AB415=\"\",\"\",IF(AB415>Inputs!$D$9,0,1))","v":""},{"$f":"IF(AC415=\"\",\"\",IF(AC415>Inputs!$D$9,0,1))","v":""},{"$f":"IF(AD415=\"\",\"\",IF(AD415>Inputs!$D$9,0,1))","v":""},{"$f":"IF(AE415=\"\",\"\",IF(AE415>Inputs!$D$9,0,1))","v":""},{"$f":"IF(AF415=\"\",\"\",IF(AF415>Inputs!$D$9,0,1))","v":""},{"$f":"IF(AG415=\"\",\"\",IF(AG415>Inputs!$D$9,0,1))","v":""},{"$f":"IF(AH415=\"\",\"\",IF(AH415>Inputs!$D$9,0,1))","v":""},{"$f":"IF(AI415=\"\",\"\",IF(AI415>Inputs!$D$9,0,1))","v":""},{"$f":"IF(AJ415=\"\",\"\",IF(AJ415>Inputs!$D$9,0,1))","v":""},{"$f":"IF(AK415=\"\",\"\",IF(AK415>Inputs!$D$9,0,1))","v":""},{"$f":"IF(AL415=\"\",\"\",IF(AL415>Inputs!$D$9,0,1))","v":""},"",0,null,"","","","","","","","","","","","","","",null,null,"","","","","","","","","","","","",""]
[null,null,null,null,null,null,null,null,null,null,null,null,null,null,"","","","","","","","","","","","","","","","","","","","","","","","",null,{"$f":"IF(AA416=\"\",\"\",IF(AA416>Inputs!$D$9,0,1))","v":""},{"$f":"IF(AB416=\"\",\"\",IF(AB416>Inputs!$D$9,0,1))","v":""},{"$f":"IF(AC416=\"\",\"\",IF(AC416>Inputs!$D$9,0,1))","v":""},{"$f":"IF(AD416=\"\",\"\",IF(AD416>Inputs!$D$9,0,1))","v":""},{"$f":"IF(AE416=\"\",\"\",IF(AE416>Inputs!$D$9,0,1))","v":""},{"$f":"IF(AF416=\"\",\"\",IF(AF416>Inputs!$D$9,0,1))","v":""},{"$f":"IF(AG416=\"\",\"\",IF(AG416>Inputs!$D$9,0,1))","v":""},{"$f":"IF(AH416=\"\",\"\",IF(AH416>Inputs!$D$9,0,1))","v":""},{"$f":"IF(AI416=\"\",\"\",IF(AI416>Inputs!$D$9,0,1))","v":""},{"$f":"IF(AJ416=\"\",\"\",IF(AJ416>Inputs!$D$9,0,1))","v":""},{"$f":"IF(AK416=\"\",\"\",IF(AK416>Inputs!$D$9,0,1))","v":""},{"$f":"IF(AL416=\"\",\"\",IF(AL416>Inputs!$D$9,0,1))","v":""},"",0,null,"","","","","","","","","","","","","","",null,null,"","","","","","","","","","","","",""]
[null,null,null,null,null,null,null,null,null,null,null,null,null,null,"","","","","","","","","","","","","","","","","","","","","","","","",null,{"$f":"IF(AA417=\"\",\"\",IF(AA417>Inputs!$D$9,0,1))","v":""},{"$f":"IF(AB417=\"\",\"\",IF(AB417>Inputs!$D$9,0,1))","v":""},{"$f":"IF(AC417=\"\",\"\",IF(AC417>Inputs!$D$9,0,1))","v":""},{"$f":"IF(AD417=\"\",\"\",IF(AD417>Inputs!$D$9,0,1))","v":""},{"$f":"IF(AE417=\"\",\"\",IF(AE417>Inputs!$D$9,0,1))","v":""},{"$f":"IF(AF417=\"\",\"\",IF(AF417>Inputs!$D$9,0,1))","v":""},{"$f":"IF(AG417=\"\",\"\",IF(AG417>Inputs!$D$9,0,1))","v":""},{"$f":"IF(AH417=\"\",\"\",IF(AH417>Inputs!$D$9,0,1))","v":""},{"$f":"IF(AI417=\"\",\"\",IF(AI417>Inputs!$D$9,0,1))","v":""},{"$f":"IF(AJ417=\"\",\"\",IF(AJ417>Inputs!$D$9,0,1))","v":""},{"$f":"IF(AK417=\"\",\"\",IF(AK417>Inputs!$D$9,0,1))","v":""},{"$f":"IF(AL417=\"\",\"\",IF(AL417>Inputs!$D$9,0,1))","v":""},"",0,null,"","","","","","","","","","","","","","",null,null,"","","","","","","","","","","","",""]
[null,null,null,null,null,null,null,null,null,null,null,null,null,null,"","","","","","","","","","","","","","","","","","","","","","","","",null,{"$f":"IF(AA418=\"\",\"\",IF(AA418>Inputs!$D$9,0,1))","v":""},{"$f":"IF(AB418=\"\",\"\",IF(AB418>Inputs!$D$9,0,1))","v":""},{"$f":"IF(AC418=\"\",\"\",IF(AC418>Inputs!$D$9,0,1))","v":""},{"$f":"IF(AD418=\"\",\"\",IF(AD418>Inputs!$D$9,0,1))","v":""},{"$f":"IF(AE418=\"\",\"\",IF(AE418>Inputs!$D$9,0,1))","v":""},{"$f":"IF(AF418=\"\",\"\",IF(AF418>Inputs!$D$9,0,1))","v":""},{"$f":"IF(AG418=\"\",\"\",IF(AG418>Inputs!$D$9,0,1))","v":""},{"$f":"IF(AH418=\"\",\"\",IF(AH418>Inputs!$D$9,0,1))","v":""},{"$f":"IF(AI418=\"\",\"\",IF(AI418>Inputs!$D$9,0,1))","v":""},{"$f":"IF(AJ418=\"\",\"\",IF(AJ418>Inputs!$D$9,0,1))","v":""},{"$f":"IF(AK418=\"\",\"\",IF(AK418>Inputs!$D$9,0,1))","v":""},{"$f":"IF(AL418=\"\",\"\",IF(AL418>Inputs!$D$9,0,1))","v":""},{"$f":"IF(COUNT(AN418:AY418)=0,\"\",SUM(AN418:AY418)/COUNT(AN418:AY418))","v":""},0,null,"","","","","","","","","","","","","","",null,null,"","","","","","","","","","","","",""]
[null,null,null,null,null,null,null,null,null,null,null,null,null,null,"","","","","","","","","","","","",{"$f":"IF($A419=\"\",\"\",IF(ISERROR(RANK(O419,$O$2:$O$1000,0)),\"\",RANK(O419,$O$2:$O$1000,0)))","v":""},{"$f":"IF($A419=\"\",\"\",IF(ISERROR(RANK(P419,$P$2:$P$1000,0)),\"\",RANK(P419,$P$2:$P$1000,0)))","v":""},{"$f":"IF($A419=\"\",\"\",IF(ISERROR(RANK(Q419,$Q$2:$Q$1000,0)),\"\",RANK(Q419,$Q$2:$Q$1000,0)))","v":""},{"$f":"IF($A419=\"\",\"\",IF(ISERROR(RANK(R419,$R$2:$R$1000,0)),\"\",RANK(R419,$R$2:$R$1000,0)))","v":""},{"$f":"IF($A419=\"\",\"\",IF(ISERROR(RANK(S419,$S$2:$S$1000,0)),\"\",RANK(S419,$S$2:$S$1000,0)))","v":""},{"$f":"IF($A419=\"\",\"\",IF(ISERROR(RANK(T419,$T$2:$T$1000,0)),\"\",RANK(T419,$T$2:$T$1000,0)))","v":""},{"$f":"IF($A419=\"\",\"\",IF(ISERROR(RANK(U419,$U$2:$U$1000,0)),\"\",RANK(U419,$U$2:$U$1000,0)))","v":""},{"$f":"IF($A419=\"\",\"\",IF(ISERROR(RANK(V419,$V$2:$V$1000,0)),\"\",RANK(V419,$V$2:$V$1000,0)))","v":""},{"$f":"IF($A419=\"\",\"\",IF(ISERROR(RANK(W419,$W$2:$W$1000,0)),\"\",RANK(W419,$W$2:$W$1000,0)))","v":""},{"$f":"IF($A419=\"\",\"\",IF(ISERROR(RANK(X419,$X$2:$X$1000,0)),\"\",RANK(X419,$X$2:$X$1000,0)))","v":""},{"$f":"IF($A419=\"\",\"\",IF(ISERROR(RANK(Y419,$Y$2:$Y$1000,0)),\"\",RANK(Y419,$Y$2:$Y$1000,0)))","v":""},{"$f":"IF($A419=\"\",\"\",IF(ISERROR(RANK(Z419,$Z$2:$Z$1000,0)),\"\",RANK(Z419,$Z$2:$Z$1000,0)))","v":""},null,{"$f":"IF(AA419=\"\",\"\",IF(AA419>Inputs!$D$9,0,1))","v":""},{"$f":"IF(AB419=\"\",\"\",IF(AB419>Inputs!$D$9,0,1))","v":""},{"$f":"IF(AC419=\"\",\"\",IF(AC419>Inputs!$D$9,0,1))","v":""},{"$f":"IF(AD419=\"\",\"\",IF(AD419>Inputs!$D$9,0,1))","v":""},{"$f":"IF(AE419=\"\",\"\",IF(AE419>Inputs!$D$9,0,1))","v":""},{"$f":"IF(AF419=\"\",\"\",IF(AF419>Inputs!$D$9,0,1))","v":""},{"$f":"IF(AG419=\"\",\"\",IF(AG419>Inputs!$D$9,0,1))","v":""},{"$f":"IF(AH419=\"\",\"\",IF(AH419>Inputs!$D$9,0,1))","v":""},{"$f":"IF(AI419=\"\",\"\",IF(AI419>Inputs!$D$9,0,1))","v":""},{"$f":"IF(AJ419=\"\",\"\",IF(AJ419>Inputs!$D$9,0,1))","v":""},{"$f":"IF(AK419=\"\",\"\",IF(AK419>Inputs!$D$9,0,1))","v":""},{"$f":"IF(AL419=\"\",\"\",IF(AL419>Inputs!$D$9,0,1))","v":""},"",0,null,"","","","","","","","","","","","","","",null,null,"","","","","","","","","","","","",""]
[null,null,null,null,null,null,null,null,null,null,null,null,null,null,"","","","","","","","","","","","","","","","","","","","","","","","",null,{"$f":"IF(AA420=\"\",\"\",IF(AA420>Inputs!$D$9,0,1))","v":""},{"$f":"IF(AB420=\"\",\"\",IF(AB420>Inputs!$D$9,0,1))","v":""},{"$f":"IF(AC420=\"\",\"\",IF(AC420>Inputs!$D$9,0,1))","v":""},{"$f":"IF(AD420=\"\",\"\",IF(AD420>Inputs!$D$9,0,1))","v":""},{"$f":"IF(AE420=\"\",\"\",IF(AE420>Inputs!$D$9,0,1))","v":""},{"$f":"IF(AF420=\"\",\"\",IF(AF420>Inputs!$D$9,0,1))","v":""},{"$f":"IF(AG420=\"\",\"\",IF(AG420>Inputs!$D$9,0,1))","v":""},{"$f":"IF(AH420=\"\",\"\",IF(AH420>Inputs!$D$9,0,1))","v":""},{"$f":"IF(AI420=\"\",\"\",IF(AI420>Inputs!$D$9,0,1))","v":""},{"$f":"IF(AJ420=\"\",\"\",IF(AJ420>Inputs!$D$9,0,1))","v":""},{"$f":"IF(AK420=\"\",\"\",IF(AK420>Inputs!$D$9,0,1))","v":""},{"$f":"IF(AL420=\"\",\"\",IF(AL420>Inputs!$D$9,0,1))","v":""},"",0,null,"","","","","","","","","","","","","","",null,null,"","","","","","","","","","","","",""]
[null,null,null,null,null,null,null,null,null,null,null,null,null,null,"","","","","","","","","","","","","","","","","","","","","","","","",null,{"$f":"IF(AA421=\"\",\"\",IF(AA421>Inputs!$D$9,0,1))","v":""},{"$f":"IF(AB421=\"\",\"\",IF(AB421>Inputs!$D$9,0,1))","v":""},{"$f":"IF(AC421=\"\",\"\",IF(AC421>Inputs!$D$9,0,1))","v":""},{"$f":"IF(AD421=\"\",\"\",IF(AD421>Inputs!$D$9,0,1))","v":""},{"$f":"IF(AE421=\"\",\"\",IF(AE421>Inputs!$D$9,0,1))","v":""},{"$f":"IF(AF421=\"\",\"\",IF(AF421>Inputs!$D$9,0,1))","v":""},{"$f":"IF(AG421=\"\",\"\",IF(AG421>Inputs!$D$9,0,1))","v":""},{"$f":"IF(AH421=\"\",\"\",IF(AH421>Inputs!$D$9,0,1))","v":""},{"$f":"IF(AI421=\"\",\"\",IF(AI421>Inputs!$D$9,0,1))","v":""},{"$f":"IF(AJ421=\"\",\"\",IF(AJ421>Inputs!$D$9,0,1))","v":""},{"$f":"IF(AK421=\"\",\"\",IF(AK421>Inputs!$D$9,0,1))","v":""},{"$f":"IF(AL421=\"\",\"\",IF(AL421>Inputs!$D$9,0,1))","v":""},"",0,null,"","","","","","","","","","","","","","",null,null,"","","","","","","","","","","","",""]
[null,null,null,null,null,null,null,null,null,null,null,null,null,null,"","","","","","","","","","","","","","","","","","","","","","","","",null,{"$f":"IF(AA422=\"\",\"\",IF(AA422>Inputs!$D$9,0,1))","v":""},{"$f":"IF(AB422=\"\",\"\",IF(AB422>Inputs!$D$9,0,1))","v":""},{"$f":"IF(AC422=\"\",\"\",IF(AC422>Inputs!$D$9,0,1))","v":""},{"$f":"IF(AD422=\"\",\"\",IF(AD422>Inputs!$D$9,0,1))","v":""},{"$f":"IF(AE422=\"\",\"\",IF(AE422>Inputs!$D$9,0,1))","v":""},{"$f":"IF(AF422=\"\",\"\",IF(AF422>Inputs!$D$9,0,1))","v":""},{"$f":"IF(AG422=\"\",\"\",IF(AG422>Inputs!$D$9,0,1))","v":""},{"$f":"IF(AH422=\"\",\"\",IF(AH422>Inputs!$D$9,0,1))","v":""},{"$f":"IF(AI422=\"\",\"\",IF(AI422>Inputs!$D$9,0,1))","v":""},{"$f":"IF(AJ422=\"\",\"\",IF(AJ422>Inputs!$D$9,0,1))","v":""},{"$f":"IF(AK422=\"\",\"\",IF(AK422>Inputs!$D$9,0,1))","v":""},{"$f":"IF(AL422=\"\",\"\",IF(AL422>Inputs!$D$9,0,1))","v":""},"",0,null,"","","","","","","","","","","","","","",null,null,"","","","","","","","","","","","",""]
[null,null,null,null,null,null,null,null,null,null,null,null,null,null,"","","","","","","","","","","","","","","","","","","","","","","","",null,{"$f":"IF(AA423=\"\",\"\",IF(AA423>Inputs!$D$9,0,1))","v":""},{"$f":"IF(AB423=\"\",\"\",IF(AB423>Inputs!$D$9,0,1))","v":""},{"$f":"IF(AC423=\"\",\"\",IF(AC423>Inputs!$D$9,0,1))","v":""},{"$f":"IF(AD423=\"\",\"\",IF(AD423>Inputs!$D$9,0,1))","v":""},{"$f":"IF(AE423=\"\",\"\",IF(AE423>Inputs!$D$9,0,1))","v":""},{"$f":"IF(AF423=\"\",\"\",IF(AF423>Inputs!$D$9,0,1))","v":""},{"$f":"IF(AG423=\"\",\"\",IF(AG423>Inputs!$D$9,0,1))","v":""},{"$f":"IF(AH423=\"\",\"\",IF(AH423>Inputs!$D$9,0,1))","v":""},{"$f":"IF(AI423=\"\",\"\",IF(AI423>Inputs!$D$9,0,1))","v":""},{"$f":"IF(AJ423=\"\",\"\",IF(AJ423>Inputs!$D$9,0,1))","v":""},{"$f":"IF(AK423=\"\",\"\",IF(AK423>Inputs!$D$9,0,1))","v":""},{"$f":"IF(AL423=\"\",\"\",IF(AL423>Inputs!$D$9,0,1))","v":""},"",0,null,"","","","","","","","","","","","","","",null,null,"","","","","","","","","","","","",""]
[null,null,null,null,null,null,null,null,null,null,null,null,null,null,"","","","","","","","","","","","","","","","","","","","","","","","",null,{"$f":"IF(AA424=\"\",\"\",IF(AA424>Inputs!$D$9,0,1))","v":""},{"$f":"IF(AB424=\"\",\"\",IF(AB424>Inputs!$D$9,0,1))","v":""},{"$f":"IF(AC424=\"\",\"\",IF(AC424>Inputs!$D$9,0,1))","v":""},{"$f":"IF(AD424=\"\",\"\",IF(AD424>Inputs!$D$9,0,1))","v":""},{"$f":"IF(AE424=\"\",\"\",IF(AE424>Inputs!$D$9,0,1))","v":""},{"$f":"IF(AF424=\"\",\"\",IF(AF424>Inputs!$D$9,0,1))","v":""},{"$f":"IF(AG424=\"\",\"\",IF(AG424>Inputs!$D$9,0,1))","v":""},{"$f":"IF(AH424=\"\",\"\",IF(AH424>Inputs!$D$9,0,1))","v":""},{"$f":"IF(AI424=\"\",\"\",IF(AI424>Inputs!$D$9,0,1))","v":""},{"$f":"IF(AJ424=\"\",\"\",IF(AJ424>Inputs!$D$9,0,1))","v":""},{"$f":"IF(AK424=\"\",\"\",IF(AK424>Inputs!$D$9,0,1))","v":""},{"$f":"IF(AL424=\"\",\"\",IF(AL424>Inputs!$D$9,0,1))","v":""},"",0,null,"","","","","","","","","","","","","","",null,null,"","","","","","","","","","","","",""]
[null,null,null,null,null,null,null,null,null,null,null,null,null,null,"","","","","","","","","","","","","","","","","","","","","","","","",null,{"$f":"IF(AA425=\"\",\"\",IF(AA425>Inputs!$D$9,0,1))","v":""},{"$f":"IF(AB425=\"\",\"\",IF(AB425>Inputs!$D$9,0,1))","v":""},{"$f":"IF(AC425=\"\",\"\",IF(AC425>Inputs!$D$9,0,1))","v":""},{"$f":"IF(AD425=\"\",\"\",IF(AD425>Inputs!$D$9,0,1))","v":""},{"$f":"IF(AE425=\"\",\"\",IF(AE425>Inputs!$D$9,0,1))","v":""},{"$f":"IF(AF425=\"\",\"\",IF(AF425>Inputs!$D$9,0,1))","v":""},{"$f":"IF(AG425=\"\",\"\",IF(AG425>Inputs!$D$9,0,1))","v":""},{"$f":"IF(AH425=\"\",\"\",IF(AH425>Inputs!$D$9,0,1))","v":""},{"$f":"IF(AI425=\"\",\"\",IF(AI425>Inputs!$D$9,0,1))","v":""},{"$f":"IF(AJ425=\"\",\"\",IF(AJ425>Inputs!$D$9,0,1))","v":""},{"$f":"IF(AK425=\"\",\"\",IF(AK425>Inputs!$D$9,0,1))","v":""},{"$f":"IF(AL425=\"\",\"\",IF(AL425>Inputs!$D$9,0,1))","v":""},"",0,null,"","","","","","","","","","","","","","",null,null,"","","","","","","","","","","","",""]
[null,null,null,null,null,null,null,null,null,null,null,null,null,null,"","","","","","","","","","","","","","","","","","","","","","","","",null,{"$f":"IF(AA426=\"\",\"\",IF(AA426>Inputs!$D$9,0,1))","v":""},{"$f":"IF(AB426=\"\",\"\",IF(AB426>Inputs!$D$9,0,1))","v":""},{"$f":"IF(AC426=\"\",\"\",IF(AC426>Inputs!$D$9,0,1))","v":""},{"$f":"IF(AD426=\"\",\"\",IF(AD426>Inputs!$D$9,0,1))","v":""},{"$f":"IF(AE426=\"\",\"\",IF(AE426>Inputs!$D$9,0,1))","v":""},{"$f":"IF(AF426=\"\",\"\",IF(AF426>Inputs!$D$9,0,1))","v":""},{"$f":"IF(AG426=\"\",\"\",IF(AG426>Inputs!$D$9,0,1))","v":""},{"$f":"IF(AH426=\"\",\"\",IF(AH426>Inputs!$D$9,0,1))","v":""},{"$f":"IF(AI426=\"\",\"\",IF(AI426>Inputs!$D$9,0,1))","v":""},{"$f":"IF(AJ426=\"\",\"\",IF(AJ426>Inputs!$D$9,0,1))","v":""},{"$f":"IF(AK426=\"\",\"\",IF(AK426>Inputs!$D$9,0,1))","v":""},{"$f":"IF(AL426=\"\",\"\",IF(AL426>Inputs!$D$9,0,1))","v":""},"",0,null,"","","","","","","","","","","","","","",null,null,"","","","","","","","","","","","",""]
[null,null,null,null,null,null,null,null,null,null,null,null,null,null,"","","","","","","","","","","","","","","","","","","","","","","","",null,{"$f":"IF(AA427=\"\",\"\",IF(AA427>Inputs!$D$9,0,1))","v":""},{"$f":"IF(AB427=\"\",\"\",IF(AB427>Inputs!$D$9,0,1))","v":""},{"$f":"IF(AC427=\"\",\"\",IF(AC427>Inputs!$D$9,0,1))","v":""},{"$f":"IF(AD427=\"\",\"\",IF(AD427>Inputs!$D$9,0,1))","v":""},{"$f":"IF(AE427=\"\",\"\",IF(AE427>Inputs!$D$9,0,1))","v":""},{"$f":"IF(AF427=\"\",\"\",IF(AF427>Inputs!$D$9,0,1))","v":""},{"$f":"IF(AG427=\"\",\"\",IF(AG427>Inputs!$D$9,0,1))","v":""},{"$f":"IF(AH427=\"\",\"\",IF(AH427>Inputs!$D$9,0,1))","v":""},{"$f":"IF(AI427=\"\",\"\",IF(AI427>Inputs!$D$9,0,1))","v":""},{"$f":"IF(AJ427=\"\",\"\",IF(AJ427>Inputs!$D$9,0,1))","v":""},{"$f":"IF(AK427=\"\",\"\",IF(AK427>Inputs!$D$9,0,1))","v":""},{"$f":"IF(AL427=\"\",\"\",IF(AL427>Inputs!$D$9,0,1))","v":""},"",0,null,"","","","","","","","","","","","","","",null,null,"","","","","","","","","","","","",""]
[null,null,null,null,null,null,null,null,null,null,null,null,null,null,"","","","","","","","","","","","","","","","","","","","","","","","",null,{"$f":"IF(AA428=\"\",\"\",IF(AA428>Inputs!$D$9,0,1))","v":""},{"$f":"IF(AB428=\"\",\"\",IF(AB428>Inputs!$D$9,0,1))","v":""},{"$f":"IF(AC428=\"\",\"\",IF(AC428>Inputs!$D$9,0,1))","v":""},{"$f":"IF(AD428=\"\",\"\",IF(AD428>Inputs!$D$9,0,1))","v":""},{"$f":"IF(AE428=\"\",\"\",IF(AE428>Inputs!$D$9,0,1))","v":""},{"$f":"IF(AF428=\"\",\"\",IF(AF428>Inputs!$D$9,0,1))","v":""},{"$f":"IF(AG428=\"\",\"\",IF(AG428>Inputs!$D$9,0,1))","v":""},{"$f":"IF(AH428=\"\",\"\",IF(AH428>Inputs!$D$9,0,1))","v":""},{"$f":"IF(AI428=\"\",\"\",IF(AI428>Inputs!$D$9,0,1))","v":""},{"$f":"IF(AJ428=\"\",\"\",IF(AJ428>Inputs!$D$9,0,1))","v":""},{"$f":"IF(AK428=\"\",\"\",IF(AK428>Inputs!$D$9,0,1))","v":""},{"$f":"IF(AL428=\"\",\"\",IF(AL428>Inputs!$D$9,0,1))","v":""},"",0,null,"","","","","","","","","","","","","","",null,null,"","","","","","","","","","","","",""]
[null,null,null,null,null,null,null,null,null,null,null,null,null,null,"","","","","","","","","","","","","","","","","","","","","","","","",null,{"$f":"IF(AA429=\"\",\"\",IF(AA429>Inputs!$D$9,0,1))","v":""},{"$f":"IF(AB429=\"\",\"\",IF(AB429>Inputs!$D$9,0,1))","v":""},{"$f":"IF(AC429=\"\",\"\",IF(AC429>Inputs!$D$9,0,1))","v":""},{"$f":"IF(AD429=\"\",\"\",IF(AD429>Inputs!$D$9,0,1))","v":""},{"$f":"IF(AE429=\"\",\"\",IF(AE429>Inputs!$D$9,0,1))","v":""},{"$f":"IF(AF429=\"\",\"\",IF(AF429>Inputs!$D$9,0,1))","v":""},{"$f":"IF(AG429=\"\",\"\",IF(AG429>Inputs!$D$9,0,1))","v":""},{"$f":"IF(AH429=\"\",\"\",IF(AH429>Inputs!$D$9,0,1))","v":""},{"$f":"IF(AI429=\"\",\"\",IF(AI429>Inputs!$D$9,0,1))","v":""},{"$f":"IF(AJ429=\"\",\"\",IF(AJ429>Inputs!$D$9,0,1))","v":""},{"$f":"IF(AK429=\"\",\"\",IF(AK429>Inputs!$D$9,0,1))","v":""},{"$f":"IF(AL429=\"\",\"\",IF(AL429>Inputs!$D$9,0,1))","v":""},"",0,null,"","","","","","","","","","","","","","",null,null,"","","","","","","","","","","","",""]
[null,null,null,null,null,null,null,null,null,null,null,null,null,null,"","","","","","","","","","","","","","","","","","","","","","","","",null,{"$f":"IF(AA430=\"\",\"\",IF(AA430>Inputs!$D$9,0,1))","v":""},{"$f":"IF(AB430=\"\",\"\",IF(AB430>Inputs!$D$9,0,1))","v":""},{"$f":"IF(AC430=\"\",\"\",IF(AC430>Inputs!$D$9,0,1))","v":""},{"$f":"IF(AD430=\"\",\"\",IF(AD430>Inputs!$D$9,0,1))","v":""},{"$f":"IF(AE430=\"\",\"\",IF(AE430>Inputs!$D$9,0,1))","v":""},{"$f":"IF(AF430=\"\",\"\",IF(AF430>Inputs!$D$9,0,1))","v":""},{"$f":"IF(AG430=\"\",\"\",IF(AG430>Inputs!$D$9,0,1))","v":""},{"$f":"IF(AH430=\"\",\"\",IF(AH430>Inputs!$D$9,0,1))","v":""},{"$f":"IF(AI430=\"\",\"\",IF(AI430>Inputs!$D$9,0,1))","v":""},{"$f":"IF(AJ430=\"\",\"\",IF(AJ430>Inputs!$D$9,0,1))","v":""},{"$f":"IF(AK430=\"\",\"\",IF(AK430>Inputs!$D$9,0,1))","v":""},{"$f":"IF(AL430=\"\",\"\",IF(AL430>Inputs!$D$9,0,1))","v":""},"",0,null,"","","","","","","","","","","","","","",null,null,"","","","","","","","","","","","",""]
[null,null,null,null,null,null,null,null,null,null,null,null,null,null,"","","","","","","","","","","","","","","","","","","","","","","","",null,{"$f":"IF(AA431=\"\",\"\",IF(AA431>Inputs!$D$9,0,1))","v":""},{"$f":"IF(AB431=\"\",\"\",IF(AB431>Inputs!$D$9,0,1))","v":""},{"$f":"IF(AC431=\"\",\"\",IF(AC431>Inputs!$D$9,0,1))","v":""},{"$f":"IF(AD431=\"\",\"\",IF(AD431>Inputs!$D$9,0,1))","v":""},{"$f":"IF(AE431=\"\",\"\",IF(AE431>Inputs!$D$9,0,1))","v":""},{"$f":"IF(AF431=\"\",\"\",IF(AF431>Inputs!$D$9,0,1))","v":""},{"$f":"IF(AG431=\"\",\"\",IF(AG431>Inputs!$D$9,0,1))","v":""},{"$f":"IF(AH431=\"\",\"\",IF(AH431>Inputs!$D$9,0,1))","v":""},{"$f":"IF(AI431=\"\",\"\",IF(AI431>Inputs!$D$9,0,1))","v":""},{"$f":"IF(AJ431=\"\",\"\",IF(AJ431>Inputs!$D$9,0,1))","v":""},{"$f":"IF(AK431=\"\",\"\",IF(AK431>Inputs!$D$9,0,1))","v":""},{"$f":"IF(AL431=\"\",\"\",IF(AL431>Inputs!$D$9,0,1))","v":""},"",0,null,"","","","","","","","","","","","","","",null,null,"","","","","","","","","","","","",""]
[null,null,null,null,null,null,null,null,null,null,null,null,null,null,"","","","","","","","","","","","","","","","","","","","","","","","",null,{"$f":"IF(AA432=\"\",\"\",IF(AA432>Inputs!$D$9,0,1))","v":""},{"$f":"IF(AB432=\"\",\"\",IF(AB432>Inputs!$D$9,0,1))","v":""},{"$f":"IF(AC432=\"\",\"\",IF(AC432>Inputs!$D$9,0,1))","v":""},{"$f":"IF(AD432=\"\",\"\",IF(AD432>Inputs!$D$9,0,1))","v":""},{"$f":"IF(AE432=\"\",\"\",IF(AE432>Inputs!$D$9,0,1))","v":""},{"$f":"IF(AF432=\"\",\"\",IF(AF432>Inputs!$D$9,0,1))","v":""},{"$f":"IF(AG432=\"\",\"\",IF(AG432>Inputs!$D$9,0,1))","v":""},{"$f":"IF(AH432=\"\",\"\",IF(AH432>Inputs!$D$9,0,1))","v":""},{"$f":"IF(AI432=\"\",\"\",IF(AI432>Inputs!$D$9,0,1))","v":""},{"$f":"IF(AJ432=\"\",\"\",IF(AJ432>Inputs!$D$9,0,1))","v":""},{"$f":"IF(AK432=\"\",\"\",IF(AK432>Inputs!$D$9,0,1))","v":""},{"$f":"IF(AL432=\"\",\"\",IF(AL432>Inputs!$D$9,0,1))","v":""},"",0,null,"","","","","","","","","","","","","","",null,null,"","","","","","","","","","","","",""]
[null,null,null,null,null,null,null,null,null,null,null,null,null,null,"","","","","","","","","","","","","","","","","","","","","","","","",null,{"$f":"IF(AA433=\"\",\"\",IF(AA433>Inputs!$D$9,0,1))","v":""},{"$f":"IF(AB433=\"\",\"\",IF(AB433>Inputs!$D$9,0,1))","v":""},{"$f":"IF(AC433=\"\",\"\",IF(AC433>Inputs!$D$9,0,1))","v":""},{"$f":"IF(AD433=\"\",\"\",IF(AD433>Inputs!$D$9,0,1))","v":""},{"$f":"IF(AE433=\"\",\"\",IF(AE433>Inputs!$D$9,0,1))","v":""},{"$f":"IF(AF433=\"\",\"\",IF(AF433>Inputs!$D$9,0,1))","v":""},{"$f":"IF(AG433=\"\",\"\",IF(AG433>Inputs!$D$9,0,1))","v":""},{"$f":"IF(AH433=\"\",\"\",IF(AH433>Inputs!$D$9,0,1))","v":""},{"$f":"IF(AI433=\"\",\"\",IF(AI433>Inputs!$D$9,0,1))","v":""},{"$f":"IF(AJ433=\"\",\"\",IF(AJ433>Inputs!$D$9,0,1))","v":""},{"$f":"IF(AK433=\"\",\"\",IF(AK433>Inputs!$D$9,0,1))","v":""},{"$f":"IF(AL433=\"\",\"\",IF(AL433>Inputs!$D$9,0,1))","v":""},"",0,null,"","","","","","","","","","","","","","",null,null,"","","","","","","","","","","","",""]
[null,null,null,null,null,null,null,null,null,null,null,null,null,null,"","","","","","","","","","","","","","","","","","","","","","","","",null,{"$f":"IF(AA434=\"\",\"\",IF(AA434>Inputs!$D$9,0,1))","v":""},{"$f":"IF(AB434=\"\",\"\",IF(AB434>Inputs!$D$9,0,1))","v":""},{"$f":"IF(AC434=\"\",\"\",IF(AC434>Inputs!$D$9,0,1))","v":""},{"$f":"IF(AD434=\"\",\"\",IF(AD434>Inputs!$D$9,0,1))","v":""},{"$f":"IF(AE434=\"\",\"\",IF(AE434>Inputs!$D$9,0,1))","v":""},{"$f":"IF(AF434=\"\",\"\",IF(AF434>Inputs!$D$9,0,1))","v":""},{"$f":"IF(AG434=\"\",\"\",IF(AG434>Inputs!$D$9,0,1))","v":""},{"$f":"IF(AH434=\"\",\"\",IF(AH434>Inputs!$D$9,0,1))","v":""},{"$f":"IF(AI434=\"\",\"\",IF(AI434>Inputs!$D$9,0,1))","v":""},{"$f":"IF(AJ434=\"\",\"\",IF(AJ434>Inputs!$D$9,0,1))","v":""},{"$f":"IF(AK434=\"\",\"\",IF(AK434>Inputs!$D$9,0,1))","v":""},{"$f":"IF(AL434=\"\",\"\",IF(AL434>Inputs!$D$9,0,1))","v":""},"",0,null,"","","","","","","","","","","","","","",null,null,"","","","","","","","","","","","",""]
[null,null,null,null,null,null,null,null,null,null,null,null,null,null,"","","","","","","","","","","","","","","","","","","","","","","","",null,{"$f":"IF(AA435=\"\",\"\",IF(AA435>Inputs!$D$9,0,1))","v":""},{"$f":"IF(AB435=\"\",\"\",IF(AB435>Inputs!$D$9,0,1))","v":""},{"$f":"IF(AC435=\"\",\"\",IF(AC435>Inputs!$D$9,0,1))","v":""},{"$f":"IF(AD435=\"\",\"\",IF(AD435>Inputs!$D$9,0,1))","v":""},{"$f":"IF(AE435=\"\",\"\",IF(AE435>Inputs!$D$9,0,1))","v":""},{"$f":"IF(AF435=\"\",\"\",IF(AF435>Inputs!$D$9,0,1))","v":""},{"$f":"IF(AG435=\"\",\"\",IF(AG435>Inputs!$D$9,0,1))","v":""},{"$f":"IF(AH435=\"\",\"\",IF(AH435>Inputs!$D$9,0,1))","v":""},{"$f":"IF(AI435=\"\",\"\",IF(AI435>Inputs!$D$9,0,1))","v":""},{"$f":"IF(AJ435=\"\",\"\",IF(AJ435>Inputs!$D$9,0,1))","v":""},{"$f":"IF(AK435=\"\",\"\",IF(AK435>Inputs!$D$9,0,1))","v":""},{"$f":"IF(AL435=\"\",\"\",IF(AL435>Inputs!$D$9,0,1))","v":""},"",0,null,"","","","","","","","","","","","","","",null,null,"","","","","","","","","","","","",""]
[null,null,null,null,null,null,null,null,null,null,null,null,null,null,"","","","","","","","","","","","","","","","","","","","","","","","",null,{"$f":"IF(AA436=\"\",\"\",IF(AA436>Inputs!$D$9,0,1))","v":""},{"$f":"IF(AB436=\"\",\"\",IF(AB436>Inputs!$D$9,0,1))","v":""},{"$f":"IF(AC436=\"\",\"\",IF(AC436>Inputs!$D$9,0,1))","v":""},{"$f":"IF(AD436=\"\",\"\",IF(AD436>Inputs!$D$9,0,1))","v":""},{"$f":"IF(AE436=\"\",\"\",IF(AE436>Inputs!$D$9,0,1))","v":""},{"$f":"IF(AF436=\"\",\"\",IF(AF436>Inputs!$D$9,0,1))","v":""},{"$f":"IF(AG436=\"\",\"\",IF(AG436>Inputs!$D$9,0,1))","v":""},{"$f":"IF(AH436=\"\",\"\",IF(AH436>Inputs!$D$9,0,1))","v":""},{"$f":"IF(AI436=\"\",\"\",IF(AI436>Inputs!$D$9,0,1))","v":""},{"$f":"IF(AJ436=\"\",\"\",IF(AJ436>Inputs!$D$9,0,1))","v":""},{"$f":"IF(AK436=\"\",\"\",IF(AK436>Inputs!$D$9,0,1))","v":""},{"$f":"IF(AL436=\"\",\"\",IF(AL436>Inputs!$D$9,0,1))","v":""},"",0,null,"","","","","","","","","","","","","","",null,null,"","","","","","","","","","","","",""]
[null,null,null,null,null,null,null,null,null,null,null,null,null,null,"","","","","","","","","","","","","","","","","","","","","","","","",null,{"$f":"IF(AA437=\"\",\"\",IF(AA437>Inputs!$D$9,0,1))","v":""},{"$f":"IF(AB437=\"\",\"\",IF(AB437>Inputs!$D$9,0,1))","v":""},{"$f":"IF(AC437=\"\",\"\",IF(AC437>Inputs!$D$9,0,1))","v":""},{"$f":"IF(AD437=\"\",\"\",IF(AD437>Inputs!$D$9,0,1))","v":""},{"$f":"IF(AE437=\"\",\"\",IF(AE437>Inputs!$D$9,0,1))","v":""},{"$f":"IF(AF437=\"\",\"\",IF(AF437>Inputs!$D$9,0,1))","v":""},{"$f":"IF(AG437=\"\",\"\",IF(AG437>Inputs!$D$9,0,1))","v":""},{"$f":"IF(AH437=\"\",\"\",IF(AH437>Inputs!$D$9,0,1))","v":""},{"$f":"IF(AI437=\"\",\"\",IF(AI437>Inputs!$D$9,0,1))","v":""},{"$f":"IF(AJ437=\"\",\"\",IF(AJ437>Inputs!$D$9,0,1))","v":""},{"$f":"IF(AK437=\"\",\"\",IF(AK437>Inputs!$D$9,0,1))","v":""},{"$f":"IF(AL437=\"\",\"\",IF(AL437>Inputs!$D$9,0,1))","v":""},"",0,null,"","","","","","","","","","","","","","",null,null,"","","","","","","","","","","","",""]
[null,null,null,null,null,null,null,null,null,null,null,null,null,null,"","","","","","","","","","","","","","","","","","","","","","","","",null,{"$f":"IF(AA438=\"\",\"\",IF(AA438>Inputs!$D$9,0,1))","v":""},{"$f":"IF(AB438=\"\",\"\",IF(AB438>Inputs!$D$9,0,1))","v":""},{"$f":"IF(AC438=\"\",\"\",IF(AC438>Inputs!$D$9,0,1))","v":""},{"$f":"IF(AD438=\"\",\"\",IF(AD438>Inputs!$D$9,0,1))","v":""},{"$f":"IF(AE438=\"\",\"\",IF(AE438>Inputs!$D$9,0,1))","v":""},{"$f":"IF(AF438=\"\",\"\",IF(AF438>Inputs!$D$9,0,1))","v":""},{"$f":"IF(AG438=\"\",\"\",IF(AG438>Inputs!$D$9,0,1))","v":""},{"$f":"IF(AH438=\"\",\"\",IF(AH438>Inputs!$D$9,0,1))","v":""},{"$f":"IF(AI438=\"\",\"\",IF(AI438>Inputs!$D$9,0,1))","v":""},{"$f":"IF(AJ438=\"\",\"\",IF(AJ438>Inputs!$D$9,0,1))","v":""},{"$f":"IF(AK438=\"\",\"\",IF(AK438>Inputs!$D$9,0,1))","v":""},{"$f":"IF(AL438=\"\",\"\",IF(AL438>Inputs!$D$9,0,1))","v":""},"",0,null,"","","","","","","","","","","","","","",null,null,"","","","","","","","","","","","",""]
[null,null,null,null,null,null,null,null,null,null,null,null,null,null,"","","","","","","","","","","","","","","","","","","","","","","","",null,{"$f":"IF(AA439=\"\",\"\",IF(AA439>Inputs!$D$9,0,1))","v":""},{"$f":"IF(AB439=\"\",\"\",IF(AB439>Inputs!$D$9,0,1))","v":""},{"$f":"IF(AC439=\"\",\"\",IF(AC439>Inputs!$D$9,0,1))","v":""},{"$f":"IF(AD439=\"\",\"\",IF(AD439>Inputs!$D$9,0,1))","v":""},{"$f":"IF(AE439=\"\",\"\",IF(AE439>Inputs!$D$9,0,1))","v":""},{"$f":"IF(AF439=\"\",\"\",IF(AF439>Inputs!$D$9,0,1))","v":""},{"$f":"IF(AG439=\"\",\"\",IF(AG439>Inputs!$D$9,0,1))","v":""},{"$f":"IF(AH439=\"\",\"\",IF(AH439>Inputs!$D$9,0,1))","v":""},{"$f":"IF(AI439=\"\",\"\",IF(AI439>Inputs!$D$9,0,1))","v":""},{"$f":"IF(AJ439=\"\",\"\",IF(AJ439>Inputs!$D$9,0,1))","v":""},{"$f":"IF(AK439=\"\",\"\",IF(AK439>Inputs!$D$9,0,1))","v":""},{"$f":"IF(AL439=\"\",\"\",IF(AL439>Inputs!$D$9,0,1))","v":""},"",0,null,"","","","","","","","","","","","","","",null,null,"","","","","","","","","","","","",""]
[null,null,null,null,null,null,null,null,null,null,null,null,null,null,"","","","","","","","","","","","","","","","","","","","","","","","",null,{"$f":"IF(AA440=\"\",\"\",IF(AA440>Inputs!$D$9,0,1))","v":""},{"$f":"IF(AB440=\"\",\"\",IF(AB440>Inputs!$D$9,0,1))","v":""},{"$f":"IF(AC440=\"\",\"\",IF(AC440>Inputs!$D$9,0,1))","v":""},{"$f":"IF(AD440=\"\",\"\",IF(AD440>Inputs!$D$9,0,1))","v":""},{"$f":"IF(AE440=\"\",\"\",IF(AE440>Inputs!$D$9,0,1))","v":""},{"$f":"IF(AF440=\"\",\"\",IF(AF440>Inputs!$D$9,0,1))","v":""},{"$f":"IF(AG440=\"\",\"\",IF(AG440>Inputs!$D$9,0,1))","v":""},{"$f":"IF(AH440=\"\",\"\",IF(AH440>Inputs!$D$9,0,1))","v":""},{"$f":"IF(AI440=\"\",\"\",IF(AI440>Inputs!$D$9,0,1))","v":""},{"$f":"IF(AJ440=\"\",\"\",IF(AJ440>Inputs!$D$9,0,1))","v":""},{"$f":"IF(AK440=\"\",\"\",IF(AK440>Inputs!$D$9,0,1))","v":""},{"$f":"IF(AL440=\"\",\"\",IF(AL440>Inputs!$D$9,0,1))","v":""},"",0,null,"","","","","","","","","","","","","","",null,null,"","","","","","","","","","","","",""]
[null,null,null,null,null,null,null,null,null,null,null,null,null,null,"","","","","","","","","","","","","","","","","","","","","","","","",null,{"$f":"IF(AA441=\"\",\"\",IF(AA441>Inputs!$D$9,0,1))","v":""},{"$f":"IF(AB441=\"\",\"\",IF(AB441>Inputs!$D$9,0,1))","v":""},{"$f":"IF(AC441=\"\",\"\",IF(AC441>Inputs!$D$9,0,1))","v":""},{"$f":"IF(AD441=\"\",\"\",IF(AD441>Inputs!$D$9,0,1))","v":""},{"$f":"IF(AE441=\"\",\"\",IF(AE441>Inputs!$D$9,0,1))","v":""},{"$f":"IF(AF441=\"\",\"\",IF(AF441>Inputs!$D$9,0,1))","v":""},{"$f":"IF(AG441=\"\",\"\",IF(AG441>Inputs!$D$9,0,1))","v":""},{"$f":"IF(AH441=\"\",\"\",IF(AH441>Inputs!$D$9,0,1))","v":""},{"$f":"IF(AI441=\"\",\"\",IF(AI441>Inputs!$D$9,0,1))","v":""},{"$f":"IF(AJ441=\"\",\"\",IF(AJ441>Inputs!$D$9,0,1))","v":""},{"$f":"IF(AK441=\"\",\"\",IF(AK441>Inputs!$D$9,0,1))","v":""},{"$f":"IF(AL441=\"\",\"\",IF(AL441>Inputs!$D$9,0,1))","v":""},"",0,null,"","","","","","","","","","","","","","",null,null,"","","","","","","","","","","","",""]
[null,null,null,null,null,null,null,null,null,null,null,null,null,null,"","","","","","","","","","","","","","","","","","","","","","","","",null,{"$f":"IF(AA442=\"\",\"\",IF(AA442>Inputs!$D$9,0,1))","v":""},{"$f":"IF(AB442=\"\",\"\",IF(AB442>Inputs!$D$9,0,1))","v":""},{"$f":"IF(AC442=\"\",\"\",IF(AC442>Inputs!$D$9,0,1))","v":""},{"$f":"IF(AD442=\"\",\"\",IF(AD442>Inputs!$D$9,0,1))","v":""},{"$f":"IF(AE442=\"\",\"\",IF(AE442>Inputs!$D$9,0,1))","v":""},{"$f":"IF(AF442=\"\",\"\",IF(AF442>Inputs!$D$9,0,1))","v":""},{"$f":"IF(AG442=\"\",\"\",IF(AG442>Inputs!$D$9,0,1))","v":""},{"$f":"IF(AH442=\"\",\"\",IF(AH442>Inputs!$D$9,0,1))","v":""},{"$f":"IF(AI442=\"\",\"\",IF(AI442>Inputs!$D$9,0,1))","v":""},{"$f":"IF(AJ442=\"\",\"\",IF(AJ442>Inputs!$D$9,0,1))","v":""},{"$f":"IF(AK442=\"\",\"\",IF(AK442>Inputs!$D$9,0,1))","v":""},{"$f":"IF(AL442=\"\",\"\",IF(AL442>Inputs!$D$9,0,1))","v":""},"",0,null,"","","","","","","","","","","","","","",null,null,"","","","","","","","","","","","",""]
[null,null,null,null,null,null,null,null,null,null,null,null,null,null,"","","","","","","","","","","","","","","","","","","","","","","","",null,{"$f":"IF(AA443=\"\",\"\",IF(AA443>Inputs!$D$9,0,1))","v":""},{"$f":"IF(AB443=\"\",\"\",IF(AB443>Inputs!$D$9,0,1))","v":""},{"$f":"IF(AC443=\"\",\"\",IF(AC443>Inputs!$D$9,0,1))","v":""},{"$f":"IF(AD443=\"\",\"\",IF(AD443>Inputs!$D$9,0,1))","v":""},{"$f":"IF(AE443=\"\",\"\",IF(AE443>Inputs!$D$9,0,1))","v":""},{"$f":"IF(AF443=\"\",\"\",IF(AF443>Inputs!$D$9,0,1))","v":""},{"$f":"IF(AG443=\"\",\"\",IF(AG443>Inputs!$D$9,0,1))","v":""},{"$f":"IF(AH443=\"\",\"\",IF(AH443>Inputs!$D$9,0,1))","v":""},{"$f":"IF(AI443=\"\",\"\",IF(AI443>Inputs!$D$9,0,1))","v":""},{"$f":"IF(AJ443=\"\",\"\",IF(AJ443>Inputs!$D$9,0,1))","v":""},{"$f":"IF(AK443=\"\",\"\",IF(AK443>Inputs!$D$9,0,1))","v":""},{"$f":"IF(AL443=\"\",\"\",IF(AL443>Inputs!$D$9,0,1))","v":""},"",0,null,"","","","","","","","","","","","","","",null,null,"","","","","","","","","","","","",""]
[null,null,null,null,null,null,null,null,null,null,null,null,null,null,"","","","","","","","","","","","","","","","","","","","","","","","",null,{"$f":"IF(AA444=\"\",\"\",IF(AA444>Inputs!$D$9,0,1))","v":""},{"$f":"IF(AB444=\"\",\"\",IF(AB444>Inputs!$D$9,0,1))","v":""},{"$f":"IF(AC444=\"\",\"\",IF(AC444>Inputs!$D$9,0,1))","v":""},{"$f":"IF(AD444=\"\",\"\",IF(AD444>Inputs!$D$9,0,1))","v":""},{"$f":"IF(AE444=\"\",\"\",IF(AE444>Inputs!$D$9,0,1))","v":""},{"$f":"IF(AF444=\"\",\"\",IF(AF444>Inputs!$D$9,0,1))","v":""},{"$f":"IF(AG444=\"\",\"\",IF(AG444>Inputs!$D$9,0,1))","v":""},{"$f":"IF(AH444=\"\",\"\",IF(AH444>Inputs!$D$9,0,1))","v":""},{"$f":"IF(AI444=\"\",\"\",IF(AI444>Inputs!$D$9,0,1))","v":""},{"$f":"IF(AJ444=\"\",\"\",IF(AJ444>Inputs!$D$9,0,1))","v":""},{"$f":"IF(AK444=\"\",\"\",IF(AK444>Inputs!$D$9,0,1))","v":""},{"$f":"IF(AL444=\"\",\"\",IF(AL444>Inputs!$D$9,0,1))","v":""},"",0,null,"","","","","","","","","","","","","","",null,null,"","","","","","","","","","","","",""]
[null,null,null,null,null,null,null,null,null,null,null,null,null,null,"","","","","","","","","","","","","","","","","","","","","","","","",null,{"$f":"IF(AA445=\"\",\"\",IF(AA445>Inputs!$D$9,0,1))","v":""},{"$f":"IF(AB445=\"\",\"\",IF(AB445>Inputs!$D$9,0,1))","v":""},{"$f":"IF(AC445=\"\",\"\",IF(AC445>Inputs!$D$9,0,1))","v":""},{"$f":"IF(AD445=\"\",\"\",IF(AD445>Inputs!$D$9,0,1))","v":""},{"$f":"IF(AE445=\"\",\"\",IF(AE445>Inputs!$D$9,0,1))","v":""},{"$f":"IF(AF445=\"\",\"\",IF(AF445>Inputs!$D$9,0,1))","v":""},{"$f":"IF(AG445=\"\",\"\",IF(AG445>Inputs!$D$9,0,1))","v":""},{"$f":"IF(AH445=\"\",\"\",IF(AH445>Inputs!$D$9,0,1))","v":""},{"$f":"IF(AI445=\"\",\"\",IF(AI445>Inputs!$D$9,0,1))","v":""},{"$f":"IF(AJ445=\"\",\"\",IF(AJ445>Inputs!$D$9,0,1))","v":""},{"$f":"IF(AK445=\"\",\"\",IF(AK445>Inputs!$D$9,0,1))","v":""},{"$f":"IF(AL445=\"\",\"\",IF(AL445>Inputs!$D$9,0,1))","v":""},"",0,null,"","","","","","","","","","","","","","",null,null,"","","","","","","","","","","","",""]
[null,null,null,null,null,null,null,null,null,null,null,null,null,null,"","","","","","","","","","","","","","","","","","","","","","","","",null,{"$f":"IF(AA446=\"\",\"\",IF(AA446>Inputs!$D$9,0,1))","v":""},{"$f":"IF(AB446=\"\",\"\",IF(AB446>Inputs!$D$9,0,1))","v":""},{"$f":"IF(AC446=\"\",\"\",IF(AC446>Inputs!$D$9,0,1))","v":""},{"$f":"IF(AD446=\"\",\"\",IF(AD446>Inputs!$D$9,0,1))","v":""},{"$f":"IF(AE446=\"\",\"\",IF(AE446>Inputs!$D$9,0,1))","v":""},{"$f":"IF(AF446=\"\",\"\",IF(AF446>Inputs!$D$9,0,1))","v":""},{"$f":"IF(AG446=\"\",\"\",IF(AG446>Inputs!$D$9,0,1))","v":""},{"$f":"IF(AH446=\"\",\"\",IF(AH446>Inputs!$D$9,0,1))","v":""},{"$f":"IF(AI446=\"\",\"\",IF(AI446>Inputs!$D$9,0,1))","v":""},{"$f":"IF(AJ446=\"\",\"\",IF(AJ446>Inputs!$D$9,0,1))","v":""},{"$f":"IF(AK446=\"\",\"\",IF(AK446>Inputs!$D$9,0,1))","v":""},{"$f":"IF(AL446=\"\",\"\",IF(AL446>Inputs!$D$9,0,1))","v":""},"",0,null,"","","","","","","","","","","","","","",null,null,"","","","","","","","","","","","",""]
[null,null,null,null,null,null,null,null,null,null,null,null,null,null,"","","","","","","","","","","","","","","","","","","","","","","","",null,{"$f":"IF(AA447=\"\",\"\",IF(AA447>Inputs!$D$9,0,1))","v":""},{"$f":"IF(AB447=\"\",\"\",IF(AB447>Inputs!$D$9,0,1))","v":""},{"$f":"IF(AC447=\"\",\"\",IF(AC447>Inputs!$D$9,0,1))","v":""},{"$f":"IF(AD447=\"\",\"\",IF(AD447>Inputs!$D$9,0,1))","v":""},{"$f":"IF(AE447=\"\",\"\",IF(AE447>Inputs!$D$9,0,1))","v":""},{"$f":"IF(AF447=\"\",\"\",IF(AF447>Inputs!$D$9,0,1))","v":""},{"$f":"IF(AG447=\"\",\"\",IF(AG447>Inputs!$D$9,0,1))","v":""},{"$f":"IF(AH447=\"\",\"\",IF(AH447>Inputs!$D$9,0,1))","v":""},{"$f":"IF(AI447=\"\",\"\",IF(AI447>Inputs!$D$9,0,1))","v":""},{"$f":"IF(AJ447=\"\",\"\",IF(AJ447>Inputs!$D$9,0,1))","v":""},{"$f":"IF(AK447=\"\",\"\",IF(AK447>Inputs!$D$9,0,1))","v":""},{"$f":"IF(AL447=\"\",\"\",IF(AL447>Inputs!$D$9,0,1))","v":""},"",0,null,"","","","","","","","","","","","","","",null,null,"","","","","","","","","","","","",""]
[null,null,null,null,null,null,null,null,null,null,null,null,null,null,"","","","","","","","","","","","","","","","","","","","","","","","",null,{"$f":"IF(AA448=\"\",\"\",IF(AA448>Inputs!$D$9,0,1))","v":""},{"$f":"IF(AB448=\"\",\"\",IF(AB448>Inputs!$D$9,0,1))","v":""},{"$f":"IF(AC448=\"\",\"\",IF(AC448>Inputs!$D$9,0,1))","v":""},{"$f":"IF(AD448=\"\",\"\",IF(AD448>Inputs!$D$9,0,1))","v":""},{"$f":"IF(AE448=\"\",\"\",IF(AE448>Inputs!$D$9,0,1))","v":""},{"$f":"IF(AF448=\"\",\"\",IF(AF448>Inputs!$D$9,0,1))","v":""},{"$f":"IF(AG448=\"\",\"\",IF(AG448>Inputs!$D$9,0,1))","v":""},{"$f":"IF(AH448=\"\",\"\",IF(AH448>Inputs!$D$9,0,1))","v":""},{"$f":"IF(AI448=\"\",\"\",IF(AI448>Inputs!$D$9,0,1))","v":""},{"$f":"IF(AJ448=\"\",\"\",IF(AJ448>Inputs!$D$9,0,1))","v":""},{"$f":"IF(AK448=\"\",\"\",IF(AK448>Inputs!$D$9,0,1))","v":""},{"$f":"IF(AL448=\"\",\"\",IF(AL448>Inputs!$D$9,0,1))","v":""},"",0,null,"","","","","","","","","","","","","","",null,null,"","","","","","","","","","","","",""]
[null,null,null,null,null,null,null,null,null,null,null,null,null,null,"","","","","","","","","","","","","","","","","","","","","","","","",null,{"$f":"IF(AA449=\"\",\"\",IF(AA449>Inputs!$D$9,0,1))","v":""},{"$f":"IF(AB449=\"\",\"\",IF(AB449>Inputs!$D$9,0,1))","v":""},{"$f":"IF(AC449=\"\",\"\",IF(AC449>Inputs!$D$9,0,1))","v":""},{"$f":"IF(AD449=\"\",\"\",IF(AD449>Inputs!$D$9,0,1))","v":""},{"$f":"IF(AE449=\"\",\"\",IF(AE449>Inputs!$D$9,0,1))","v":""},{"$f":"IF(AF449=\"\",\"\",IF(AF449>Inputs!$D$9,0,1))","v":""},{"$f":"IF(AG449=\"\",\"\",IF(AG449>Inputs!$D$9,0,1))","v":""},{"$f":"IF(AH449=\"\",\"\",IF(AH449>Inputs!$D$9,0,1))","v":""},{"$f":"IF(AI449=\"\",\"\",IF(AI449>Inputs!$D$9,0,1))","v":""},{"$f":"IF(AJ449=\"\",\"\",IF(AJ449>Inputs!$D$9,0,1))","v":""},{"$f":"IF(AK449=\"\",\"\",IF(AK449>Inputs!$D$9,0,1))","v":""},{"$f":"IF(AL449=\"\",\"\",IF(AL449>Inputs!$D$9,0,1))","v":""},"",0,null,"","","","","","","","","","","","","","",null,null,"","","","","","","","","","","","",""]
[null,null,null,null,null,null,null,null,null,null,null,null,null,null,"",{"$f":"IF(A450=\"\",\"\",IF(ISERROR(1+D450),\"\",IF(ISERROR(((1+D450/100)*(1+E450/100)*(1+F450/100)*(1+G450/100)*(1+H450/100)*(1+I450/100)*(1+J450/100)*(1+K450/100)*(1+L450/100)*(1+M450/100)*(1+N450/100))^(1/11)-1),\"\",((1+D450/100)*(1+E450/100)*(1+F450/100)*(1+G450/100)*(1+H450/100)*(1+I450/100)*(1+J450/100)*(1+K450/100)*(1+L450/100)*(1+M450/100)*(1+N450/100))^(1/11)-1)))","v":""},"","","","","","","","","","","","","","","","","","","","","","",null,{"$f":"IF(AA450=\"\",\"\",IF(AA450>Inputs!$D$9,0,1))","v":""},{"$f":"IF(AB450=\"\",\"\",IF(AB450>Inputs!$D$9,0,1))","v":""},{"$f":"IF(AC450=\"\",\"\",IF(AC450>Inputs!$D$9,0,1))","v":""},{"$f":"IF(AD450=\"\",\"\",IF(AD450>Inputs!$D$9,0,1))","v":""},{"$f":"IF(AE450=\"\",\"\",IF(AE450>Inputs!$D$9,0,1))","v":""},{"$f":"IF(AF450=\"\",\"\",IF(AF450>Inputs!$D$9,0,1))","v":""},{"$f":"IF(AG450=\"\",\"\",IF(AG450>Inputs!$D$9,0,1))","v":""},{"$f":"IF(AH450=\"\",\"\",IF(AH450>Inputs!$D$9,0,1))","v":""},{"$f":"IF(AI450=\"\",\"\",IF(AI450>Inputs!$D$9,0,1))","v":""},{"$f":"IF(AJ450=\"\",\"\",IF(AJ450>Inputs!$D$9,0,1))","v":""},{"$f":"IF(AK450=\"\",\"\",IF(AK450>Inputs!$D$9,0,1))","v":""},{"$f":"IF(AL450=\"\",\"\",IF(AL450>Inputs!$D$9,0,1))","v":""},"",0,null,"","","","","","","","","","","","","","",null,null,"","","","","","","","","","","","",""]
[null,null,null,null,null,null,null,null,null,null,null,null,null,null,{"$f":"IF(A451=\"\",\"\",IF(ISERROR(1+C451),\"\",IF(ISERROR(((1+C451/100)*(1+D451/100)*(1+E451/100)*(1+F451/100)*(1+G451/100)*(1+H451/100)*(1+I451/100)*(1+J451/100)*(1+K451/100)*(1+L451/100)*(1+M451/100)*(1+N451/100))^(1/12)-1),\"\",((1+C451/100)*(1+D451/100)*(1+E451/100)*(1+F451/100)*(1+G451/100)*(1+H451/100)*(1+I451/100)*(1+J451/100)*(1+K451/100)*(1+L451/100)*(1+M451/100)*(1+N451/100))^(1/12)-1)))","v":""},"",{"$f":"IF(A451=\"\",\"\",IF(ISERROR(1+E451),\"\",IF(ISERROR(((1+E451/100)*(1+F451/100)*(1+G451/100)*(1+H451/100)*(1+I451/100)*(1+J451/100)*(1+K451/100)*(1+L451/100)*(1+M451/100)*(1+N451/100))^(1/10)-1),\"\",((1+E451/100)*(1+F451/100)*(1+G451/100)*(1+H451/100)*(1+I451/100)*(1+J451/100)*(1+K451/100)*(1+L451/100)*(1+M451/100)*(1+N451/100))^(1/10)-1)))","v":""},{"$f":"IF(A451=\"\",\"\",IF(ISERROR(1+F451),\"\",IF(ISERROR(((1+F451/100)*(1+G451/100)*(1+H451/100)*(1+I451/100)*(1+J451/100)*(1+K451/100)*(1+L451/100)*(1+M451/100)*(1+N451/100))^(1/9)-1),\"\",((1+F451/100)*(1+G451/100)*(1+H451/100)*(1+I451/100)*(1+J451/100)*(1+K451/100)*(1+L451/100)*(1+M451/100)*(1+N451/100))^(1/9)-1)))","v":""},{"$f":"IF(A451=\"\",\"\",IF(ISERROR(1+G451),\"\",IF(ISERROR(((1+G451/100)*(1+H451/100)*(1+I451/100)*(1+J451/100)*(1+K451/100)*(1+L451/100)*(1+M451/100)*(1+N451/100))^(1/8)-1),\"\",((1+G451/100)*(1+H451/100)*(1+I451/100)*(1+J451/100)*(1+K451/100)*(1+L451/100)*(1+M451/100)*(1+N451/100))^(1/8)-1)))","v":""},{"$f":"IF(A451=\"\",\"\",IF(ISERROR(1+H451),\"\",IF(ISERROR(((1+H451/100)*(1+I451/100)*(1+J451/100)*(1+K451/100)*(1+L451/100)*(1+M451/100)*(1+N451/100))^(1/7)-1),\"\",((1+H451/100)*(1+I451/100)*(1+J451/100)*(1+K451/100)*(1+L451/100)*(1+M451/100)*(1+N451/100))^(1/7)-1)))","v":""},{"$f":"IF(A451=\"\",\"\",IF(ISERROR(1+I451),\"\",IF(ISERROR(((1+I451/100)*(1+J451/100)*(1+K451/100)*(1+L451/100)*(1+M451/100)*(1+N451/100))^(1/6)-1),\"\",((1+I451/100)*(1+J451/100)*(1+K451/100)*(1+L451/100)*(1+M451/100)*(1+N451/100))^(1/6)-1)))","v":""},{"$f":"IF(A451=\"\",\"\",IF(ISERROR(1+J451),\"\",IF(ISERROR(((1+J451/100)*(1+K451/100)*(1+L451/100)*(1+M451/100)*(1+N451/100))^(1/5)-1),\"\",((1+J451/100)*(1+K451/100)*(1+L451/100)*(1+M451/100)*(1+N451/100))^(1/5)-1)))","v":""},{"$f":"IF(A451=\"\",\"\",IF(ISERROR(1+K451),\"\",IF(ISERROR(((1+K451/100)*(1+L451/100)*(1+M451/100)*(1+N451/100))^(1/4)-1),\"\",((1+K451/100)*(1+L451/100)*(1+M451/100)*(1+N451/100))^(1/4)-1)))","v":""},{"$f":"IF(A451=\"\",\"\",IF(ISERROR(1+L451),\"\",IF(ISERROR(((1+L451/100)*(1+M451/100)*(1+N451/100))^(1/3)-1),\"\",((1+L451/100)*(1+M451/100)*(1+N451/100))^(1/3)-1)))","v":""},{"$f":"IF(A451=\"\",\"\",IF(ISERROR(1+M451),\"\",IF(ISERROR(((1+M451/100)*(1+N451/100))^(1/2)-1),\"\",((1+M451/100)*(1+N451/100))^(1/2)-1)))","v":""},{"$f":"IF(A451=\"\",\"\",IF(ISERROR(1+N451),\"\",IF(ISERROR(((1+N451/100))^(1/1)-1),\"\",((1+N451/100))^(1/1)-1)))","v":""},"","","","","","","","","","","","",null,{"$f":"IF(AA451=\"\",\"\",IF(AA451>Inputs!$D$9,0,1))","v":""},{"$f":"IF(AB451=\"\",\"\",IF(AB451>Inputs!$D$9,0,1))","v":""},{"$f":"IF(AC451=\"\",\"\",IF(AC451>Inputs!$D$9,0,1))","v":""},{"$f":"IF(AD451=\"\",\"\",IF(AD451>Inputs!$D$9,0,1))","v":""},{"$f":"IF(AE451=\"\",\"\",IF(AE451>Inputs!$D$9,0,1))","v":""},{"$f":"IF(AF451=\"\",\"\",IF(AF451>Inputs!$D$9,0,1))","v":""},{"$f":"IF(AG451=\"\",\"\",IF(AG451>Inputs!$D$9,0,1))","v":""},{"$f":"IF(AH451=\"\",\"\",IF(AH451>Inputs!$D$9,0,1))","v":""},{"$f":"IF(AI451=\"\",\"\",IF(AI451>Inputs!$D$9,0,1))","v":""},{"$f":"IF(AJ451=\"\",\"\",IF(AJ451>Inputs!$D$9,0,1))","v":""},{"$f":"IF(AK451=\"\",\"\",IF(AK451>Inputs!$D$9,0,1))","v":""},{"$f":"IF(AL451=\"\",\"\",IF(AL451>Inputs!$D$9,0,1))","v":""},"",{"$f":"COUNT(AN451:AY451)","v":0},null,{"$f":"IF(O451=\"\",\"\",IF(O451>AVERAGE($O$2:$O$1000),1,0))","v":""},{"$f":"IF(P451=\"\",\"\",IF(P451>AVERAGE($P$2:$P$1000),1,0))","v":""},{"$f":"IF(Q451=\"\",\"\",IF(Q451>AVERAGE($Q$2:$Q$1000),1,0))","v":""},{"$f":"IF(R451=\"\",\"\",IF(R451>AVERAGE($R$2:$R$1000),1,0))","v":""},{"$f":"IF(S451=\"\",\"\",IF(S451>AVERAGE($S$2:$S$1000),1,0))","v":""},{"$f":"IF(T451=\"\",\"\",IF(T451>AVERAGE($T$2:$T$1000),1,0))","v":""},{"$f":"IF(U451=\"\",\"\",IF(U451>AVERAGE($U$2:$U$1000),1,0))","v":""},{"$f":"IF(V451=\"\",\"\",IF(V451>AVERAGE($V$2:$V$1000),1,0))","v":""},{"$f":"IF(W451=\"\",\"\",IF(W451>AVERAGE($W$2:$W$1000),1,0))","v":""},{"$f":"IF(X451=\"\",\"\",IF(X451>AVERAGE($X$2:$X$1000),1,0))","v":""},{"$f":"IF(Y451=\"\",\"\",IF(Y451>AVERAGE($Y$2:$Y$1000),1,0))","v":""},{"$f":"IF(Z451=\"\",\"\",IF(Z451>AVERAGE($Z$2:$Z$1000),1,0))","v":""},{"$f":"IF(COUNT(BC451:BN451)=0,\"\",SUM(BC451:BN451)/COUNT(BC451:BN451))","v":""},{"$f":"IF(A451=\"\",\"\",COUNT(BC451:BN451))","v":""},null,null,{"$f":"IF($A451=\"\",\"\",IF(C451=\"-\",0,IF(C451>AVERAGE(C$2:C$1183),1,0)))","v":""},{"$f":"IF($A451=\"\",\"\",IF(D451=\"-\",0,IF(D451>AVERAGE(D$2:D$1183),1,0)))","v":""},{"$f":"IF($A451=\"\",\"\",IF(E451=\"-\",0,IF(E451>AVERAGE(E$2:E$1183),1,0)))","v":""},{"$f":"IF($A451=\"\",\"\",IF(F451=\"-\",0,IF(F451>AVERAGE(F$2:F$1183),1,0)))","v":""},{"$f":"IF($A451=\"\",\"\",IF(G451=\"-\",0,IF(G451>AVERAGE(G$2:G$1183),1,0)))","v":""},{"$f":"IF($A451=\"\",\"\",IF(H451=\"-\",0,IF(H451>AVERAGE(H$2:H$1183),1,0)))","v":""},{"$f":"IF($A451=\"\",\"\",IF(I451=\"-\",0,IF(I451>AVERAGE(I$2:I$1183),1,0)))","v":""},{"$f":"IF($A451=\"\",\"\",IF(J451=\"-\",0,IF(J451>AVERAGE(J$2:J$1183),1,0)))","v":""},{"$f":"IF($A451=\"\",\"\",IF(K451=\"-\",0,IF(K451>AVERAGE(K$2:K$1183),1,0)))","v":""},{"$f":"IF($A451=\"\",\"\",IF(L451=\"-\",0,IF(L451>AVERAGE(L$2:L$1183),1,0)))","v":""},{"$f":"IF($A451=\"\",\"\",IF(M451=\"-\",0,IF(M451>AVERAGE(M$2:M$1183),1,0)))","v":""},{"$f":"IF($A451=\"\",\"\",IF(N451=\"-\",0,IF(N451>AVERAGE(N$2:N$1183),1,0)))","v":""},""]
[null,null,null,null,null,null,null,null,null,null,null,null,null,null,"","","","","","","","","","","","","","","","","","","","","","","","",null,{"$f":"IF(AA452=\"\",\"\",IF(AA452>Inputs!$D$9,0,1))","v":""},{"$f":"IF(AB452=\"\",\"\",IF(AB452>Inputs!$D$9,0,1))","v":""},{"$f":"IF(AC452=\"\",\"\",IF(AC452>Inputs!$D$9,0,1))","v":""},{"$f":"IF(AD452=\"\",\"\",IF(AD452>Inputs!$D$9,0,1))","v":""},{"$f":"IF(AE452=\"\",\"\",IF(AE452>Inputs!$D$9,0,1))","v":""},{"$f":"IF(AF452=\"\",\"\",IF(AF452>Inputs!$D$9,0,1))","v":""},{"$f":"IF(AG452=\"\",\"\",IF(AG452>Inputs!$D$9,0,1))","v":""},{"$f":"IF(AH452=\"\",\"\",IF(AH452>Inputs!$D$9,0,1))","v":""},{"$f":"IF(AI452=\"\",\"\",IF(AI452>Inputs!$D$9,0,1))","v":""},{"$f":"IF(AJ452=\"\",\"\",IF(AJ452>Inputs!$D$9,0,1))","v":""},{"$f":"IF(AK452=\"\",\"\",IF(AK452>Inputs!$D$9,0,1))","v":""},{"$f":"IF(AL452=\"\",\"\",IF(AL452>Inputs!$D$9,0,1))","v":""},"",0,null,"","","","","","","","","","","","","","",null,null,"","","","","","","","","","","","",""]
[null,null,null,null,null,null,null,null,null,null,null,null,null,null,"","","","","","","","","","","","","","","","","","","","","","","","",null,{"$f":"IF(AA453=\"\",\"\",IF(AA453>Inputs!$D$9,0,1))","v":""},{"$f":"IF(AB453=\"\",\"\",IF(AB453>Inputs!$D$9,0,1))","v":""},{"$f":"IF(AC453=\"\",\"\",IF(AC453>Inputs!$D$9,0,1))","v":""},{"$f":"IF(AD453=\"\",\"\",IF(AD453>Inputs!$D$9,0,1))","v":""},{"$f":"IF(AE453=\"\",\"\",IF(AE453>Inputs!$D$9,0,1))","v":""},{"$f":"IF(AF453=\"\",\"\",IF(AF453>Inputs!$D$9,0,1))","v":""},{"$f":"IF(AG453=\"\",\"\",IF(AG453>Inputs!$D$9,0,1))","v":""},{"$f":"IF(AH453=\"\",\"\",IF(AH453>Inputs!$D$9,0,1))","v":""},{"$f":"IF(AI453=\"\",\"\",IF(AI453>Inputs!$D$9,0,1))","v":""},{"$f":"IF(AJ453=\"\",\"\",IF(AJ453>Inputs!$D$9,0,1))","v":""},{"$f":"IF(AK453=\"\",\"\",IF(AK453>Inputs!$D$9,0,1))","v":""},{"$f":"IF(AL453=\"\",\"\",IF(AL453>Inputs!$D$9,0,1))","v":""},"",0,null,"","","","","","","","","","","","","","",null,null,"","","","","","","","","","","","",""]
[null,null,null,null,null,null,null,null,null,null,null,null,null,null,"","","","","","","","","","","","","","","","","","","","","","","","",null,{"$f":"IF(AA454=\"\",\"\",IF(AA454>Inputs!$D$9,0,1))","v":""},{"$f":"IF(AB454=\"\",\"\",IF(AB454>Inputs!$D$9,0,1))","v":""},{"$f":"IF(AC454=\"\",\"\",IF(AC454>Inputs!$D$9,0,1))","v":""},{"$f":"IF(AD454=\"\",\"\",IF(AD454>Inputs!$D$9,0,1))","v":""},{"$f":"IF(AE454=\"\",\"\",IF(AE454>Inputs!$D$9,0,1))","v":""},{"$f":"IF(AF454=\"\",\"\",IF(AF454>Inputs!$D$9,0,1))","v":""},{"$f":"IF(AG454=\"\",\"\",IF(AG454>Inputs!$D$9,0,1))","v":""},{"$f":"IF(AH454=\"\",\"\",IF(AH454>Inputs!$D$9,0,1))","v":""},{"$f":"IF(AI454=\"\",\"\",IF(AI454>Inputs!$D$9,0,1))","v":""},{"$f":"IF(AJ454=\"\",\"\",IF(AJ454>Inputs!$D$9,0,1))","v":""},{"$f":"IF(AK454=\"\",\"\",IF(AK454>Inputs!$D$9,0,1))","v":""},{"$f":"IF(AL454=\"\",\"\",IF(AL454>Inputs!$D$9,0,1))","v":""},"",0,null,"","","","","","","","","","","","","","",null,null,"","","","","","","","","","","","",""]
[null,null,null,null,null,null,null,null,null,null,null,null,null,null,"","","","","","","","","","","","","","","","","","","","","","","","",null,{"$f":"IF(AA455=\"\",\"\",IF(AA455>Inputs!$D$9,0,1))","v":""},{"$f":"IF(AB455=\"\",\"\",IF(AB455>Inputs!$D$9,0,1))","v":""},{"$f":"IF(AC455=\"\",\"\",IF(AC455>Inputs!$D$9,0,1))","v":""},{"$f":"IF(AD455=\"\",\"\",IF(AD455>Inputs!$D$9,0,1))","v":""},{"$f":"IF(AE455=\"\",\"\",IF(AE455>Inputs!$D$9,0,1))","v":""},{"$f":"IF(AF455=\"\",\"\",IF(AF455>Inputs!$D$9,0,1))","v":""},{"$f":"IF(AG455=\"\",\"\",IF(AG455>Inputs!$D$9,0,1))","v":""},{"$f":"IF(AH455=\"\",\"\",IF(AH455>Inputs!$D$9,0,1))","v":""},{"$f":"IF(AI455=\"\",\"\",IF(AI455>Inputs!$D$9,0,1))","v":""},{"$f":"IF(AJ455=\"\",\"\",IF(AJ455>Inputs!$D$9,0,1))","v":""},{"$f":"IF(AK455=\"\",\"\",IF(AK455>Inputs!$D$9,0,1))","v":""},{"$f":"IF(AL455=\"\",\"\",IF(AL455>Inputs!$D$9,0,1))","v":""},"",0,null,"","","","","","","","","","","","","","",null,null,"","","","","","","","","","","","",""]
[null,null,null,null,null,null,null,null,null,null,null,null,null,null,"","","","","","","","","","","","","","","","","","","","","","","","",null,{"$f":"IF(AA456=\"\",\"\",IF(AA456>Inputs!$D$9,0,1))","v":""},{"$f":"IF(AB456=\"\",\"\",IF(AB456>Inputs!$D$9,0,1))","v":""},{"$f":"IF(AC456=\"\",\"\",IF(AC456>Inputs!$D$9,0,1))","v":""},{"$f":"IF(AD456=\"\",\"\",IF(AD456>Inputs!$D$9,0,1))","v":""},{"$f":"IF(AE456=\"\",\"\",IF(AE456>Inputs!$D$9,0,1))","v":""},{"$f":"IF(AF456=\"\",\"\",IF(AF456>Inputs!$D$9,0,1))","v":""},{"$f":"IF(AG456=\"\",\"\",IF(AG456>Inputs!$D$9,0,1))","v":""},{"$f":"IF(AH456=\"\",\"\",IF(AH456>Inputs!$D$9,0,1))","v":""},{"$f":"IF(AI456=\"\",\"\",IF(AI456>Inputs!$D$9,0,1))","v":""},{"$f":"IF(AJ456=\"\",\"\",IF(AJ456>Inputs!$D$9,0,1))","v":""},{"$f":"IF(AK456=\"\",\"\",IF(AK456>Inputs!$D$9,0,1))","v":""},{"$f":"IF(AL456=\"\",\"\",IF(AL456>Inputs!$D$9,0,1))","v":""},"",0,null,"","","","","","","","","","","","","","",null,null,"","","","","","","","","","","","",""]
[null,null,null,null,null,null,null,null,null,null,null,null,null,null,"","","","","","","","","","","","","","","","","","","","","","","","",null,{"$f":"IF(AA457=\"\",\"\",IF(AA457>Inputs!$D$9,0,1))","v":""},{"$f":"IF(AB457=\"\",\"\",IF(AB457>Inputs!$D$9,0,1))","v":""},{"$f":"IF(AC457=\"\",\"\",IF(AC457>Inputs!$D$9,0,1))","v":""},{"$f":"IF(AD457=\"\",\"\",IF(AD457>Inputs!$D$9,0,1))","v":""},{"$f":"IF(AE457=\"\",\"\",IF(AE457>Inputs!$D$9,0,1))","v":""},{"$f":"IF(AF457=\"\",\"\",IF(AF457>Inputs!$D$9,0,1))","v":""},{"$f":"IF(AG457=\"\",\"\",IF(AG457>Inputs!$D$9,0,1))","v":""},{"$f":"IF(AH457=\"\",\"\",IF(AH457>Inputs!$D$9,0,1))","v":""},{"$f":"IF(AI457=\"\",\"\",IF(AI457>Inputs!$D$9,0,1))","v":""},{"$f":"IF(AJ457=\"\",\"\",IF(AJ457>Inputs!$D$9,0,1))","v":""},{"$f":"IF(AK457=\"\",\"\",IF(AK457>Inputs!$D$9,0,1))","v":""},{"$f":"IF(AL457=\"\",\"\",IF(AL457>Inputs!$D$9,0,1))","v":""},"",0,null,"","","","","","","","","","","","","","",null,null,"","","","","","","","","","","","",""]
[null,null,null,null,null,null,null,null,null,null,null,null,null,null,"","","","","","","","","","","","","","","","","","","","","","","","",null,{"$f":"IF(AA458=\"\",\"\",IF(AA458>Inputs!$D$9,0,1))","v":""},{"$f":"IF(AB458=\"\",\"\",IF(AB458>Inputs!$D$9,0,1))","v":""},{"$f":"IF(AC458=\"\",\"\",IF(AC458>Inputs!$D$9,0,1))","v":""},{"$f":"IF(AD458=\"\",\"\",IF(AD458>Inputs!$D$9,0,1))","v":""},{"$f":"IF(AE458=\"\",\"\",IF(AE458>Inputs!$D$9,0,1))","v":""},{"$f":"IF(AF458=\"\",\"\",IF(AF458>Inputs!$D$9,0,1))","v":""},{"$f":"IF(AG458=\"\",\"\",IF(AG458>Inputs!$D$9,0,1))","v":""},{"$f":"IF(AH458=\"\",\"\",IF(AH458>Inputs!$D$9,0,1))","v":""},{"$f":"IF(AI458=\"\",\"\",IF(AI458>Inputs!$D$9,0,1))","v":""},{"$f":"IF(AJ458=\"\",\"\",IF(AJ458>Inputs!$D$9,0,1))","v":""},{"$f":"IF(AK458=\"\",\"\",IF(AK458>Inputs!$D$9,0,1))","v":""},{"$f":"IF(AL458=\"\",\"\",IF(AL458>Inputs!$D$9,0,1))","v":""},"",0,null,"","","","","","","","","","","","","","",null,null,"","","","","","","","","","","","",""]
[null,null,null,null,null,null,null,null,null,null,null,null,null,null,"","","","","","","","","","","","","","","","","","","","","","","","",null,{"$f":"IF(AA459=\"\",\"\",IF(AA459>Inputs!$D$9,0,1))","v":""},{"$f":"IF(AB459=\"\",\"\",IF(AB459>Inputs!$D$9,0,1))","v":""},{"$f":"IF(AC459=\"\",\"\",IF(AC459>Inputs!$D$9,0,1))","v":""},{"$f":"IF(AD459=\"\",\"\",IF(AD459>Inputs!$D$9,0,1))","v":""},{"$f":"IF(AE459=\"\",\"\",IF(AE459>Inputs!$D$9,0,1))","v":""},{"$f":"IF(AF459=\"\",\"\",IF(AF459>Inputs!$D$9,0,1))","v":""},{"$f":"IF(AG459=\"\",\"\",IF(AG459>Inputs!$D$9,0,1))","v":""},{"$f":"IF(AH459=\"\",\"\",IF(AH459>Inputs!$D$9,0,1))","v":""},{"$f":"IF(AI459=\"\",\"\",IF(AI459>Inputs!$D$9,0,1))","v":""},{"$f":"IF(AJ459=\"\",\"\",IF(AJ459>Inputs!$D$9,0,1))","v":""},{"$f":"IF(AK459=\"\",\"\",IF(AK459>Inputs!$D$9,0,1))","v":""},{"$f":"IF(AL459=\"\",\"\",IF(AL459>Inputs!$D$9,0,1))","v":""},"",0,null,"","","","","","","","","","","","","","",null,null,"","","","","","","","","","","","",""]
[null,null,null,null,null,null,null,null,null,null,null,null,null,null,"","","","","","","","","","","","","","","","","","","","","","","","",null,{"$f":"IF(AA460=\"\",\"\",IF(AA460>Inputs!$D$9,0,1))","v":""},{"$f":"IF(AB460=\"\",\"\",IF(AB460>Inputs!$D$9,0,1))","v":""},{"$f":"IF(AC460=\"\",\"\",IF(AC460>Inputs!$D$9,0,1))","v":""},{"$f":"IF(AD460=\"\",\"\",IF(AD460>Inputs!$D$9,0,1))","v":""},{"$f":"IF(AE460=\"\",\"\",IF(AE460>Inputs!$D$9,0,1))","v":""},{"$f":"IF(AF460=\"\",\"\",IF(AF460>Inputs!$D$9,0,1))","v":""},{"$f":"IF(AG460=\"\",\"\",IF(AG460>Inputs!$D$9,0,1))","v":""},{"$f":"IF(AH460=\"\",\"\",IF(AH460>Inputs!$D$9,0,1))","v":""},{"$f":"IF(AI460=\"\",\"\",IF(AI460>Inputs!$D$9,0,1))","v":""},{"$f":"IF(AJ460=\"\",\"\",IF(AJ460>Inputs!$D$9,0,1))","v":""},{"$f":"IF(AK460=\"\",\"\",IF(AK460>Inputs!$D$9,0,1))","v":""},{"$f":"IF(AL460=\"\",\"\",IF(AL460>Inputs!$D$9,0,1))","v":""},"",0,null,"","","","","","","","","","","","","","",null,null,"","","","","","","","","","","","",""]
[null,null,null,null,null,null,null,null,null,null,null,null,null,null,"","","","","","","","","","","","","","","","","","","","","","","","",null,{"$f":"IF(AA461=\"\",\"\",IF(AA461>Inputs!$D$9,0,1))","v":""},{"$f":"IF(AB461=\"\",\"\",IF(AB461>Inputs!$D$9,0,1))","v":""},{"$f":"IF(AC461=\"\",\"\",IF(AC461>Inputs!$D$9,0,1))","v":""},{"$f":"IF(AD461=\"\",\"\",IF(AD461>Inputs!$D$9,0,1))","v":""},{"$f":"IF(AE461=\"\",\"\",IF(AE461>Inputs!$D$9,0,1))","v":""},{"$f":"IF(AF461=\"\",\"\",IF(AF461>Inputs!$D$9,0,1))","v":""},{"$f":"IF(AG461=\"\",\"\",IF(AG461>Inputs!$D$9,0,1))","v":""},{"$f":"IF(AH461=\"\",\"\",IF(AH461>Inputs!$D$9,0,1))","v":""},{"$f":"IF(AI461=\"\",\"\",IF(AI461>Inputs!$D$9,0,1))","v":""},{"$f":"IF(AJ461=\"\",\"\",IF(AJ461>Inputs!$D$9,0,1))","v":""},{"$f":"IF(AK461=\"\",\"\",IF(AK461>Inputs!$D$9,0,1))","v":""},{"$f":"IF(AL461=\"\",\"\",IF(AL461>Inputs!$D$9,0,1))","v":""},"",0,null,"","","","","","","","","","","","","","",null,null,"","","","","","","","","","","","",""]
[null,null,null,null,null,null,null,null,null,null,null,null,null,null,"","","","","","","","","","","","","","","","","","","","","","","","",null,{"$f":"IF(AA462=\"\",\"\",IF(AA462>Inputs!$D$9,0,1))","v":""},{"$f":"IF(AB462=\"\",\"\",IF(AB462>Inputs!$D$9,0,1))","v":""},{"$f":"IF(AC462=\"\",\"\",IF(AC462>Inputs!$D$9,0,1))","v":""},{"$f":"IF(AD462=\"\",\"\",IF(AD462>Inputs!$D$9,0,1))","v":""},{"$f":"IF(AE462=\"\",\"\",IF(AE462>Inputs!$D$9,0,1))","v":""},{"$f":"IF(AF462=\"\",\"\",IF(AF462>Inputs!$D$9,0,1))","v":""},{"$f":"IF(AG462=\"\",\"\",IF(AG462>Inputs!$D$9,0,1))","v":""},{"$f":"IF(AH462=\"\",\"\",IF(AH462>Inputs!$D$9,0,1))","v":""},{"$f":"IF(AI462=\"\",\"\",IF(AI462>Inputs!$D$9,0,1))","v":""},{"$f":"IF(AJ462=\"\",\"\",IF(AJ462>Inputs!$D$9,0,1))","v":""},{"$f":"IF(AK462=\"\",\"\",IF(AK462>Inputs!$D$9,0,1))","v":""},{"$f":"IF(AL462=\"\",\"\",IF(AL462>Inputs!$D$9,0,1))","v":""},"",0,null,"","","","","","","","","","","","","","",null,null,"","","","","","","","","","","","",""]
[null,null,null,null,null,null,null,null,null,null,null,null,null,null,"","","","","","","","","","","","","","","","","","","","","","","","",null,{"$f":"IF(AA463=\"\",\"\",IF(AA463>Inputs!$D$9,0,1))","v":""},{"$f":"IF(AB463=\"\",\"\",IF(AB463>Inputs!$D$9,0,1))","v":""},{"$f":"IF(AC463=\"\",\"\",IF(AC463>Inputs!$D$9,0,1))","v":""},{"$f":"IF(AD463=\"\",\"\",IF(AD463>Inputs!$D$9,0,1))","v":""},{"$f":"IF(AE463=\"\",\"\",IF(AE463>Inputs!$D$9,0,1))","v":""},{"$f":"IF(AF463=\"\",\"\",IF(AF463>Inputs!$D$9,0,1))","v":""},{"$f":"IF(AG463=\"\",\"\",IF(AG463>Inputs!$D$9,0,1))","v":""},{"$f":"IF(AH463=\"\",\"\",IF(AH463>Inputs!$D$9,0,1))","v":""},{"$f":"IF(AI463=\"\",\"\",IF(AI463>Inputs!$D$9,0,1))","v":""},{"$f":"IF(AJ463=\"\",\"\",IF(AJ463>Inputs!$D$9,0,1))","v":""},{"$f":"IF(AK463=\"\",\"\",IF(AK463>Inputs!$D$9,0,1))","v":""},{"$f":"IF(AL463=\"\",\"\",IF(AL463>Inputs!$D$9,0,1))","v":""},"",0,null,"","","","","","","","","","","","","","",null,null,"","","","","","","","","","","","",""]
[null,null,null,null,null,null,null,null,null,null,null,null,null,null,"","","","","","","","","","","","","","","","","","","","","","","","",null,{"$f":"IF(AA464=\"\",\"\",IF(AA464>Inputs!$D$9,0,1))","v":""},{"$f":"IF(AB464=\"\",\"\",IF(AB464>Inputs!$D$9,0,1))","v":""},{"$f":"IF(AC464=\"\",\"\",IF(AC464>Inputs!$D$9,0,1))","v":""},{"$f":"IF(AD464=\"\",\"\",IF(AD464>Inputs!$D$9,0,1))","v":""},{"$f":"IF(AE464=\"\",\"\",IF(AE464>Inputs!$D$9,0,1))","v":""},{"$f":"IF(AF464=\"\",\"\",IF(AF464>Inputs!$D$9,0,1))","v":""},{"$f":"IF(AG464=\"\",\"\",IF(AG464>Inputs!$D$9,0,1))","v":""},{"$f":"IF(AH464=\"\",\"\",IF(AH464>Inputs!$D$9,0,1))","v":""},{"$f":"IF(AI464=\"\",\"\",IF(AI464>Inputs!$D$9,0,1))","v":""},{"$f":"IF(AJ464=\"\",\"\",IF(AJ464>Inputs!$D$9,0,1))","v":""},{"$f":"IF(AK464=\"\",\"\",IF(AK464>Inputs!$D$9,0,1))","v":""},{"$f":"IF(AL464=\"\",\"\",IF(AL464>Inputs!$D$9,0,1))","v":""},"",0,null,"","","","","","","","","","","","","","",null,null,"","","","","","","","","","","","",""]
[null,null,null,null,null,null,null,null,null,null,null,null,null,null,"","","","","","","","","","","","","","","","","","","","","","","","",null,{"$f":"IF(AA465=\"\",\"\",IF(AA465>Inputs!$D$9,0,1))","v":""},{"$f":"IF(AB465=\"\",\"\",IF(AB465>Inputs!$D$9,0,1))","v":""},{"$f":"IF(AC465=\"\",\"\",IF(AC465>Inputs!$D$9,0,1))","v":""},{"$f":"IF(AD465=\"\",\"\",IF(AD465>Inputs!$D$9,0,1))","v":""},{"$f":"IF(AE465=\"\",\"\",IF(AE465>Inputs!$D$9,0,1))","v":""},{"$f":"IF(AF465=\"\",\"\",IF(AF465>Inputs!$D$9,0,1))","v":""},{"$f":"IF(AG465=\"\",\"\",IF(AG465>Inputs!$D$9,0,1))","v":""},{"$f":"IF(AH465=\"\",\"\",IF(AH465>Inputs!$D$9,0,1))","v":""},{"$f":"IF(AI465=\"\",\"\",IF(AI465>Inputs!$D$9,0,1))","v":""},{"$f":"IF(AJ465=\"\",\"\",IF(AJ465>Inputs!$D$9,0,1))","v":""},{"$f":"IF(AK465=\"\",\"\",IF(AK465>Inputs!$D$9,0,1))","v":""},{"$f":"IF(AL465=\"\",\"\",IF(AL465>Inputs!$D$9,0,1))","v":""},"",0,null,"","","","","","","","","","","","","","",null,null,"","","","","","","","","","","","",""]
[null,null,null,null,null,null,null,null,null,null,null,null,null,null,"","","","","","","","","","","","","","","","","","","","","","","","",null,{"$f":"IF(AA466=\"\",\"\",IF(AA466>Inputs!$D$9,0,1))","v":""},{"$f":"IF(AB466=\"\",\"\",IF(AB466>Inputs!$D$9,0,1))","v":""},{"$f":"IF(AC466=\"\",\"\",IF(AC466>Inputs!$D$9,0,1))","v":""},{"$f":"IF(AD466=\"\",\"\",IF(AD466>Inputs!$D$9,0,1))","v":""},{"$f":"IF(AE466=\"\",\"\",IF(AE466>Inputs!$D$9,0,1))","v":""},{"$f":"IF(AF466=\"\",\"\",IF(AF466>Inputs!$D$9,0,1))","v":""},{"$f":"IF(AG466=\"\",\"\",IF(AG466>Inputs!$D$9,0,1))","v":""},{"$f":"IF(AH466=\"\",\"\",IF(AH466>Inputs!$D$9,0,1))","v":""},{"$f":"IF(AI466=\"\",\"\",IF(AI466>Inputs!$D$9,0,1))","v":""},{"$f":"IF(AJ466=\"\",\"\",IF(AJ466>Inputs!$D$9,0,1))","v":""},{"$f":"IF(AK466=\"\",\"\",IF(AK466>Inputs!$D$9,0,1))","v":""},{"$f":"IF(AL466=\"\",\"\",IF(AL466>Inputs!$D$9,0,1))","v":""},"",0,null,"","","","","","","","","","","","","","",null,null,"","","","","","","","","","","","",""]
[null,null,null,null,null,null,null,null,null,null,null,null,null,null,"","","","","","","","","","","","","","","","","","","","","","","","",null,{"$f":"IF(AA467=\"\",\"\",IF(AA467>Inputs!$D$9,0,1))","v":""},{"$f":"IF(AB467=\"\",\"\",IF(AB467>Inputs!$D$9,0,1))","v":""},{"$f":"IF(AC467=\"\",\"\",IF(AC467>Inputs!$D$9,0,1))","v":""},{"$f":"IF(AD467=\"\",\"\",IF(AD467>Inputs!$D$9,0,1))","v":""},{"$f":"IF(AE467=\"\",\"\",IF(AE467>Inputs!$D$9,0,1))","v":""},{"$f":"IF(AF467=\"\",\"\",IF(AF467>Inputs!$D$9,0,1))","v":""},{"$f":"IF(AG467=\"\",\"\",IF(AG467>Inputs!$D$9,0,1))","v":""},{"$f":"IF(AH467=\"\",\"\",IF(AH467>Inputs!$D$9,0,1))","v":""},{"$f":"IF(AI467=\"\",\"\",IF(AI467>Inputs!$D$9,0,1))","v":""},{"$f":"IF(AJ467=\"\",\"\",IF(AJ467>Inputs!$D$9,0,1))","v":""},{"$f":"IF(AK467=\"\",\"\",IF(AK467>Inputs!$D$9,0,1))","v":""},{"$f":"IF(AL467=\"\",\"\",IF(AL467>Inputs!$D$9,0,1))","v":""},"",0,null,"","","","","","","","","","","","","","",null,null,"","","","","","","","","","","","",{"$f":"IF(A467=\"\",\"\",SUM(BS467:CD467))","v":""}]
[null,null,null,null,null,null,null,null,null,null,null,null,null,null,"","","","","","","","","","","","","","","","","","","","","","","","",null,{"$f":"IF(AA468=\"\",\"\",IF(AA468>Inputs!$D$9,0,1))","v":""},{"$f":"IF(AB468=\"\",\"\",IF(AB468>Inputs!$D$9,0,1))","v":""},{"$f":"IF(AC468=\"\",\"\",IF(AC468>Inputs!$D$9,0,1))","v":""},{"$f":"IF(AD468=\"\",\"\",IF(AD468>Inputs!$D$9,0,1))","v":""},{"$f":"IF(AE468=\"\",\"\",IF(AE468>Inputs!$D$9,0,1))","v":""},{"$f":"IF(AF468=\"\",\"\",IF(AF468>Inputs!$D$9,0,1))","v":""},{"$f":"IF(AG468=\"\",\"\",IF(AG468>Inputs!$D$9,0,1))","v":""},{"$f":"IF(AH468=\"\",\"\",IF(AH468>Inputs!$D$9,0,1))","v":""},{"$f":"IF(AI468=\"\",\"\",IF(AI468>Inputs!$D$9,0,1))","v":""},{"$f":"IF(AJ468=\"\",\"\",IF(AJ468>Inputs!$D$9,0,1))","v":""},{"$f":"IF(AK468=\"\",\"\",IF(AK468>Inputs!$D$9,0,1))","v":""},{"$f":"IF(AL468=\"\",\"\",IF(AL468>Inputs!$D$9,0,1))","v":""},"",0,null,"","","","","","","","","","","","","","",null,null,"","","","","","","","","","","","",""]
[null,null,null,null,null,null,null,null,null,null,null,null,null,null,"","","","","","","","","","","","","","","","","","","","","","","","",null,{"$f":"IF(AA469=\"\",\"\",IF(AA469>Inputs!$D$9,0,1))","v":""},{"$f":"IF(AB469=\"\",\"\",IF(AB469>Inputs!$D$9,0,1))","v":""},{"$f":"IF(AC469=\"\",\"\",IF(AC469>Inputs!$D$9,0,1))","v":""},{"$f":"IF(AD469=\"\",\"\",IF(AD469>Inputs!$D$9,0,1))","v":""},{"$f":"IF(AE469=\"\",\"\",IF(AE469>Inputs!$D$9,0,1))","v":""},{"$f":"IF(AF469=\"\",\"\",IF(AF469>Inputs!$D$9,0,1))","v":""},{"$f":"IF(AG469=\"\",\"\",IF(AG469>Inputs!$D$9,0,1))","v":""},{"$f":"IF(AH469=\"\",\"\",IF(AH469>Inputs!$D$9,0,1))","v":""},{"$f":"IF(AI469=\"\",\"\",IF(AI469>Inputs!$D$9,0,1))","v":""},{"$f":"IF(AJ469=\"\",\"\",IF(AJ469>Inputs!$D$9,0,1))","v":""},{"$f":"IF(AK469=\"\",\"\",IF(AK469>Inputs!$D$9,0,1))","v":""},{"$f":"IF(AL469=\"\",\"\",IF(AL469>Inputs!$D$9,0,1))","v":""},"",0,null,"","","","","","","","","","","","","","",null,null,"","","","","","","","","","","","",""]
[null,null,null,null,null,null,null,null,null,null,null,null,null,null,"","","","","","","","","","","","","","","","","","","","","","","","",null,{"$f":"IF(AA470=\"\",\"\",IF(AA470>Inputs!$D$9,0,1))","v":""},{"$f":"IF(AB470=\"\",\"\",IF(AB470>Inputs!$D$9,0,1))","v":""},{"$f":"IF(AC470=\"\",\"\",IF(AC470>Inputs!$D$9,0,1))","v":""},{"$f":"IF(AD470=\"\",\"\",IF(AD470>Inputs!$D$9,0,1))","v":""},{"$f":"IF(AE470=\"\",\"\",IF(AE470>Inputs!$D$9,0,1))","v":""},{"$f":"IF(AF470=\"\",\"\",IF(AF470>Inputs!$D$9,0,1))","v":""},{"$f":"IF(AG470=\"\",\"\",IF(AG470>Inputs!$D$9,0,1))","v":""},{"$f":"IF(AH470=\"\",\"\",IF(AH470>Inputs!$D$9,0,1))","v":""},{"$f":"IF(AI470=\"\",\"\",IF(AI470>Inputs!$D$9,0,1))","v":""},{"$f":"IF(AJ470=\"\",\"\",IF(AJ470>Inputs!$D$9,0,1))","v":""},{"$f":"IF(AK470=\"\",\"\",IF(AK470>Inputs!$D$9,0,1))","v":""},{"$f":"IF(AL470=\"\",\"\",IF(AL470>Inputs!$D$9,0,1))","v":""},"",0,null,"","","","","","","","","","","","","","",null,null,"","","","","","","","","","","","",""]
[null,null,null,null,null,null,null,null,null,null,null,null,null,null,"","","","","","","","","","","","","","","","","","","","","","","","",null,{"$f":"IF(AA471=\"\",\"\",IF(AA471>Inputs!$D$9,0,1))","v":""},{"$f":"IF(AB471=\"\",\"\",IF(AB471>Inputs!$D$9,0,1))","v":""},{"$f":"IF(AC471=\"\",\"\",IF(AC471>Inputs!$D$9,0,1))","v":""},{"$f":"IF(AD471=\"\",\"\",IF(AD471>Inputs!$D$9,0,1))","v":""},{"$f":"IF(AE471=\"\",\"\",IF(AE471>Inputs!$D$9,0,1))","v":""},{"$f":"IF(AF471=\"\",\"\",IF(AF471>Inputs!$D$9,0,1))","v":""},{"$f":"IF(AG471=\"\",\"\",IF(AG471>Inputs!$D$9,0,1))","v":""},{"$f":"IF(AH471=\"\",\"\",IF(AH471>Inputs!$D$9,0,1))","v":""},{"$f":"IF(AI471=\"\",\"\",IF(AI471>Inputs!$D$9,0,1))","v":""},{"$f":"IF(AJ471=\"\",\"\",IF(AJ471>Inputs!$D$9,0,1))","v":""},{"$f":"IF(AK471=\"\",\"\",IF(AK471>Inputs!$D$9,0,1))","v":""},{"$f":"IF(AL471=\"\",\"\",IF(AL471>Inputs!$D$9,0,1))","v":""},"",0,null,"","","","","","","","","","","","","","",null,null,"","","","","","","","","","","","",""]
[null,null,null,null,null,null,null,null,null,null,null,null,null,null,"","","","","","","","","","","","","","","","","","","","","","","","",null,{"$f":"IF(AA472=\"\",\"\",IF(AA472>Inputs!$D$9,0,1))","v":""},{"$f":"IF(AB472=\"\",\"\",IF(AB472>Inputs!$D$9,0,1))","v":""},{"$f":"IF(AC472=\"\",\"\",IF(AC472>Inputs!$D$9,0,1))","v":""},{"$f":"IF(AD472=\"\",\"\",IF(AD472>Inputs!$D$9,0,1))","v":""},{"$f":"IF(AE472=\"\",\"\",IF(AE472>Inputs!$D$9,0,1))","v":""},{"$f":"IF(AF472=\"\",\"\",IF(AF472>Inputs!$D$9,0,1))","v":""},{"$f":"IF(AG472=\"\",\"\",IF(AG472>Inputs!$D$9,0,1))","v":""},{"$f":"IF(AH472=\"\",\"\",IF(AH472>Inputs!$D$9,0,1))","v":""},{"$f":"IF(AI472=\"\",\"\",IF(AI472>Inputs!$D$9,0,1))","v":""},{"$f":"IF(AJ472=\"\",\"\",IF(AJ472>Inputs!$D$9,0,1))","v":""},{"$f":"IF(AK472=\"\",\"\",IF(AK472>Inputs!$D$9,0,1))","v":""},{"$f":"IF(AL472=\"\",\"\",IF(AL472>Inputs!$D$9,0,1))","v":""},"",0,null,"","","","","","","","","","","","","","",null,null,"","","","","","","","","","","","",""]
[null,null,null,null,null,null,null,null,null,null,null,null,null,null,"","","","","","","","","","","","","","","","","","","","","","","","",null,{"$f":"IF(AA473=\"\",\"\",IF(AA473>Inputs!$D$9,0,1))","v":""},{"$f":"IF(AB473=\"\",\"\",IF(AB473>Inputs!$D$9,0,1))","v":""},{"$f":"IF(AC473=\"\",\"\",IF(AC473>Inputs!$D$9,0,1))","v":""},{"$f":"IF(AD473=\"\",\"\",IF(AD473>Inputs!$D$9,0,1))","v":""},{"$f":"IF(AE473=\"\",\"\",IF(AE473>Inputs!$D$9,0,1))","v":""},{"$f":"IF(AF473=\"\",\"\",IF(AF473>Inputs!$D$9,0,1))","v":""},{"$f":"IF(AG473=\"\",\"\",IF(AG473>Inputs!$D$9,0,1))","v":""},{"$f":"IF(AH473=\"\",\"\",IF(AH473>Inputs!$D$9,0,1))","v":""},{"$f":"IF(AI473=\"\",\"\",IF(AI473>Inputs!$D$9,0,1))","v":""},{"$f":"IF(AJ473=\"\",\"\",IF(AJ473>Inputs!$D$9,0,1))","v":""},{"$f":"IF(AK473=\"\",\"\",IF(AK473>Inputs!$D$9,0,1))","v":""},{"$f":"IF(AL473=\"\",\"\",IF(AL473>Inputs!$D$9,0,1))","v":""},"",0,null,"","","","","","","","","","","","","","",null,null,"","","","","","","","","","","","",""]
[null,null,null,null,null,null,null,null,null,null,null,null,null,null,"","","","","","","","","","","","","","","","","","","","","","","","",null,{"$f":"IF(AA474=\"\",\"\",IF(AA474>Inputs!$D$9,0,1))","v":""},{"$f":"IF(AB474=\"\",\"\",IF(AB474>Inputs!$D$9,0,1))","v":""},{"$f":"IF(AC474=\"\",\"\",IF(AC474>Inputs!$D$9,0,1))","v":""},{"$f":"IF(AD474=\"\",\"\",IF(AD474>Inputs!$D$9,0,1))","v":""},{"$f":"IF(AE474=\"\",\"\",IF(AE474>Inputs!$D$9,0,1))","v":""},{"$f":"IF(AF474=\"\",\"\",IF(AF474>Inputs!$D$9,0,1))","v":""},{"$f":"IF(AG474=\"\",\"\",IF(AG474>Inputs!$D$9,0,1))","v":""},{"$f":"IF(AH474=\"\",\"\",IF(AH474>Inputs!$D$9,0,1))","v":""},{"$f":"IF(AI474=\"\",\"\",IF(AI474>Inputs!$D$9,0,1))","v":""},{"$f":"IF(AJ474=\"\",\"\",IF(AJ474>Inputs!$D$9,0,1))","v":""},{"$f":"IF(AK474=\"\",\"\",IF(AK474>Inputs!$D$9,0,1))","v":""},{"$f":"IF(AL474=\"\",\"\",IF(AL474>Inputs!$D$9,0,1))","v":""},"",0,null,"","","","","","","","","","","","","","",null,null,"","","","","","","","","","","","",""]
[null,null,null,null,null,null,null,null,null,null,null,null,null,null,"","","","","","","","","","","","","","","","","","","","","","","","",null,{"$f":"IF(AA475=\"\",\"\",IF(AA475>Inputs!$D$9,0,1))","v":""},{"$f":"IF(AB475=\"\",\"\",IF(AB475>Inputs!$D$9,0,1))","v":""},{"$f":"IF(AC475=\"\",\"\",IF(AC475>Inputs!$D$9,0,1))","v":""},{"$f":"IF(AD475=\"\",\"\",IF(AD475>Inputs!$D$9,0,1))","v":""},{"$f":"IF(AE475=\"\",\"\",IF(AE475>Inputs!$D$9,0,1))","v":""},{"$f":"IF(AF475=\"\",\"\",IF(AF475>Inputs!$D$9,0,1))","v":""},{"$f":"IF(AG475=\"\",\"\",IF(AG475>Inputs!$D$9,0,1))","v":""},{"$f":"IF(AH475=\"\",\"\",IF(AH475>Inputs!$D$9,0,1))","v":""},{"$f":"IF(AI475=\"\",\"\",IF(AI475>Inputs!$D$9,0,1))","v":""},{"$f":"IF(AJ475=\"\",\"\",IF(AJ475>Inputs!$D$9,0,1))","v":""},{"$f":"IF(AK475=\"\",\"\",IF(AK475>Inputs!$D$9,0,1))","v":""},{"$f":"IF(AL475=\"\",\"\",IF(AL475>Inputs!$D$9,0,1))","v":""},"",0,null,"","","","","","","","","","","","","","",null,null,"","","","","","","","","","","","",""]
[null,null,null,null,null,null,null,null,null,null,null,null,null,null,"","","","","","","","","","","","","","","","","","","","","","","","",null,{"$f":"IF(AA476=\"\",\"\",IF(AA476>Inputs!$D$9,0,1))","v":""},{"$f":"IF(AB476=\"\",\"\",IF(AB476>Inputs!$D$9,0,1))","v":""},{"$f":"IF(AC476=\"\",\"\",IF(AC476>Inputs!$D$9,0,1))","v":""},{"$f":"IF(AD476=\"\",\"\",IF(AD476>Inputs!$D$9,0,1))","v":""},{"$f":"IF(AE476=\"\",\"\",IF(AE476>Inputs!$D$9,0,1))","v":""},{"$f":"IF(AF476=\"\",\"\",IF(AF476>Inputs!$D$9,0,1))","v":""},{"$f":"IF(AG476=\"\",\"\",IF(AG476>Inputs!$D$9,0,1))","v":""},{"$f":"IF(AH476=\"\",\"\",IF(AH476>Inputs!$D$9,0,1))","v":""},{"$f":"IF(AI476=\"\",\"\",IF(AI476>Inputs!$D$9,0,1))","v":""},{"$f":"IF(AJ476=\"\",\"\",IF(AJ476>Inputs!$D$9,0,1))","v":""},{"$f":"IF(AK476=\"\",\"\",IF(AK476>Inputs!$D$9,0,1))","v":""},{"$f":"IF(AL476=\"\",\"\",IF(AL476>Inputs!$D$9,0,1))","v":""},"",0,null,"","","","","","","","","","","","","","",null,null,"","","","","","","","","","","","",""]
[null,null,null,null,null,null,null,null,null,null,null,null,null,null,"","","","","","","","","","","","","","","","","","","","","","","","",null,{"$f":"IF(AA477=\"\",\"\",IF(AA477>Inputs!$D$9,0,1))","v":""},{"$f":"IF(AB477=\"\",\"\",IF(AB477>Inputs!$D$9,0,1))","v":""},{"$f":"IF(AC477=\"\",\"\",IF(AC477>Inputs!$D$9,0,1))","v":""},{"$f":"IF(AD477=\"\",\"\",IF(AD477>Inputs!$D$9,0,1))","v":""},{"$f":"IF(AE477=\"\",\"\",IF(AE477>Inputs!$D$9,0,1))","v":""},{"$f":"IF(AF477=\"\",\"\",IF(AF477>Inputs!$D$9,0,1))","v":""},{"$f":"IF(AG477=\"\",\"\",IF(AG477>Inputs!$D$9,0,1))","v":""},{"$f":"IF(AH477=\"\",\"\",IF(AH477>Inputs!$D$9,0,1))","v":""},{"$f":"IF(AI477=\"\",\"\",IF(AI477>Inputs!$D$9,0,1))","v":""},{"$f":"IF(AJ477=\"\",\"\",IF(AJ477>Inputs!$D$9,0,1))","v":""},{"$f":"IF(AK477=\"\",\"\",IF(AK477>Inputs!$D$9,0,1))","v":""},{"$f":"IF(AL477=\"\",\"\",IF(AL477>Inputs!$D$9,0,1))","v":""},"",0,null,"","","","","","","","","","","","","","",null,null,"","","","","","","","","","","","",""]
[null,null,null,null,null,null,null,null,null,null,null,null,null,null,"","","","","","","","","","","","","","","","","","","","","","","","",null,{"$f":"IF(AA478=\"\",\"\",IF(AA478>Inputs!$D$9,0,1))","v":""},{"$f":"IF(AB478=\"\",\"\",IF(AB478>Inputs!$D$9,0,1))","v":""},{"$f":"IF(AC478=\"\",\"\",IF(AC478>Inputs!$D$9,0,1))","v":""},{"$f":"IF(AD478=\"\",\"\",IF(AD478>Inputs!$D$9,0,1))","v":""},{"$f":"IF(AE478=\"\",\"\",IF(AE478>Inputs!$D$9,0,1))","v":""},{"$f":"IF(AF478=\"\",\"\",IF(AF478>Inputs!$D$9,0,1))","v":""},{"$f":"IF(AG478=\"\",\"\",IF(AG478>Inputs!$D$9,0,1))","v":""},{"$f":"IF(AH478=\"\",\"\",IF(AH478>Inputs!$D$9,0,1))","v":""},{"$f":"IF(AI478=\"\",\"\",IF(AI478>Inputs!$D$9,0,1))","v":""},{"$f":"IF(AJ478=\"\",\"\",IF(AJ478>Inputs!$D$9,0,1))","v":""},{"$f":"IF(AK478=\"\",\"\",IF(AK478>Inputs!$D$9,0,1))","v":""},{"$f":"IF(AL478=\"\",\"\",IF(AL478>Inputs!$D$9,0,1))","v":""},"",0,null,"","","","","","","","","","","","","","",null,null,"","","","","","","","","","","","",""]
[null,null,null,null,null,null,null,null,null,null,null,null,null,null,"","","","","","","","","","","","","","","","","","","","","","","","",null,{"$f":"IF(AA479=\"\",\"\",IF(AA479>Inputs!$D$9,0,1))","v":""},{"$f":"IF(AB479=\"\",\"\",IF(AB479>Inputs!$D$9,0,1))","v":""},{"$f":"IF(AC479=\"\",\"\",IF(AC479>Inputs!$D$9,0,1))","v":""},{"$f":"IF(AD479=\"\",\"\",IF(AD479>Inputs!$D$9,0,1))","v":""},{"$f":"IF(AE479=\"\",\"\",IF(AE479>Inputs!$D$9,0,1))","v":""},{"$f":"IF(AF479=\"\",\"\",IF(AF479>Inputs!$D$9,0,1))","v":""},{"$f":"IF(AG479=\"\",\"\",IF(AG479>Inputs!$D$9,0,1))","v":""},{"$f":"IF(AH479=\"\",\"\",IF(AH479>Inputs!$D$9,0,1))","v":""},{"$f":"IF(AI479=\"\",\"\",IF(AI479>Inputs!$D$9,0,1))","v":""},{"$f":"IF(AJ479=\"\",\"\",IF(AJ479>Inputs!$D$9,0,1))","v":""},{"$f":"IF(AK479=\"\",\"\",IF(AK479>Inputs!$D$9,0,1))","v":""},{"$f":"IF(AL479=\"\",\"\",IF(AL479>Inputs!$D$9,0,1))","v":""},"",0,null,"","","","","","","","","","","","","","",null,null,"","","","","","","","","","","","",""]
[null,null,null,null,null,null,null,null,null,null,null,null,null,null,"","","","","","","","","","","","","","","","","","","","","","","","",null,{"$f":"IF(AA480=\"\",\"\",IF(AA480>Inputs!$D$9,0,1))","v":""},{"$f":"IF(AB480=\"\",\"\",IF(AB480>Inputs!$D$9,0,1))","v":""},{"$f":"IF(AC480=\"\",\"\",IF(AC480>Inputs!$D$9,0,1))","v":""},{"$f":"IF(AD480=\"\",\"\",IF(AD480>Inputs!$D$9,0,1))","v":""},{"$f":"IF(AE480=\"\",\"\",IF(AE480>Inputs!$D$9,0,1))","v":""},{"$f":"IF(AF480=\"\",\"\",IF(AF480>Inputs!$D$9,0,1))","v":""},{"$f":"IF(AG480=\"\",\"\",IF(AG480>Inputs!$D$9,0,1))","v":""},{"$f":"IF(AH480=\"\",\"\",IF(AH480>Inputs!$D$9,0,1))","v":""},{"$f":"IF(AI480=\"\",\"\",IF(AI480>Inputs!$D$9,0,1))","v":""},{"$f":"IF(AJ480=\"\",\"\",IF(AJ480>Inputs!$D$9,0,1))","v":""},{"$f":"IF(AK480=\"\",\"\",IF(AK480>Inputs!$D$9,0,1))","v":""},{"$f":"IF(AL480=\"\",\"\",IF(AL480>Inputs!$D$9,0,1))","v":""},"",0,null,"","","","","","","","","","","","","","",null,null,"","","","","","","","","","","","",""]
[null,null,null,null,null,null,null,null,null,null,null,null,null,null,"","","","","","","","","","","","","","","","","","","","","","","","",null,{"$f":"IF(AA481=\"\",\"\",IF(AA481>Inputs!$D$9,0,1))","v":""},{"$f":"IF(AB481=\"\",\"\",IF(AB481>Inputs!$D$9,0,1))","v":""},{"$f":"IF(AC481=\"\",\"\",IF(AC481>Inputs!$D$9,0,1))","v":""},{"$f":"IF(AD481=\"\",\"\",IF(AD481>Inputs!$D$9,0,1))","v":""},{"$f":"IF(AE481=\"\",\"\",IF(AE481>Inputs!$D$9,0,1))","v":""},{"$f":"IF(AF481=\"\",\"\",IF(AF481>Inputs!$D$9,0,1))","v":""},{"$f":"IF(AG481=\"\",\"\",IF(AG481>Inputs!$D$9,0,1))","v":""},{"$f":"IF(AH481=\"\",\"\",IF(AH481>Inputs!$D$9,0,1))","v":""},{"$f":"IF(AI481=\"\",\"\",IF(AI481>Inputs!$D$9,0,1))","v":""},{"$f":"IF(AJ481=\"\",\"\",IF(AJ481>Inputs!$D$9,0,1))","v":""},{"$f":"IF(AK481=\"\",\"\",IF(AK481>Inputs!$D$9,0,1))","v":""},{"$f":"IF(AL481=\"\",\"\",IF(AL481>Inputs!$D$9,0,1))","v":""},"",0,null,"","","","","","","","","","","","","","",null,null,"","","","","","","","","","","","",""]
[null,null,null,null,null,null,null,null,null,null,null,null,null,null,"","","","","","","","","","","","","","","","","","","","","","","","",null,{"$f":"IF(AA482=\"\",\"\",IF(AA482>Inputs!$D$9,0,1))","v":""},{"$f":"IF(AB482=\"\",\"\",IF(AB482>Inputs!$D$9,0,1))","v":""},{"$f":"IF(AC482=\"\",\"\",IF(AC482>Inputs!$D$9,0,1))","v":""},{"$f":"IF(AD482=\"\",\"\",IF(AD482>Inputs!$D$9,0,1))","v":""},{"$f":"IF(AE482=\"\",\"\",IF(AE482>Inputs!$D$9,0,1))","v":""},{"$f":"IF(AF482=\"\",\"\",IF(AF482>Inputs!$D$9,0,1))","v":""},{"$f":"IF(AG482=\"\",\"\",IF(AG482>Inputs!$D$9,0,1))","v":""},{"$f":"IF(AH482=\"\",\"\",IF(AH482>Inputs!$D$9,0,1))","v":""},{"$f":"IF(AI482=\"\",\"\",IF(AI482>Inputs!$D$9,0,1))","v":""},{"$f":"IF(AJ482=\"\",\"\",IF(AJ482>Inputs!$D$9,0,1))","v":""},{"$f":"IF(AK482=\"\",\"\",IF(AK482>Inputs!$D$9,0,1))","v":""},{"$f":"IF(AL482=\"\",\"\",IF(AL482>Inputs!$D$9,0,1))","v":""},{"$f":"IF(COUNT(AN482:AY482)=0,\"\",SUM(AN482:AY482)/COUNT(AN482:AY482))","v":""},0,null,"","","","","","","","","","","","","","",null,null,"","","","","","","","","","","","",""]
[null,null,null,null,null,null,null,null,null,null,null,null,null,null,"","","","","","","","","","","","",{"$f":"IF($A483=\"\",\"\",IF(ISERROR(RANK(O483,$O$2:$O$1000,0)),\"\",RANK(O483,$O$2:$O$1000,0)))","v":""},{"$f":"IF($A483=\"\",\"\",IF(ISERROR(RANK(P483,$P$2:$P$1000,0)),\"\",RANK(P483,$P$2:$P$1000,0)))","v":""},{"$f":"IF($A483=\"\",\"\",IF(ISERROR(RANK(Q483,$Q$2:$Q$1000,0)),\"\",RANK(Q483,$Q$2:$Q$1000,0)))","v":""},{"$f":"IF($A483=\"\",\"\",IF(ISERROR(RANK(R483,$R$2:$R$1000,0)),\"\",RANK(R483,$R$2:$R$1000,0)))","v":""},{"$f":"IF($A483=\"\",\"\",IF(ISERROR(RANK(S483,$S$2:$S$1000,0)),\"\",RANK(S483,$S$2:$S$1000,0)))","v":""},{"$f":"IF($A483=\"\",\"\",IF(ISERROR(RANK(T483,$T$2:$T$1000,0)),\"\",RANK(T483,$T$2:$T$1000,0)))","v":""},{"$f":"IF($A483=\"\",\"\",IF(ISERROR(RANK(U483,$U$2:$U$1000,0)),\"\",RANK(U483,$U$2:$U$1000,0)))","v":""},{"$f":"IF($A483=\"\",\"\",IF(ISERROR(RANK(V483,$V$2:$V$1000,0)),\"\",RANK(V483,$V$2:$V$1000,0)))","v":""},{"$f":"IF($A483=\"\",\"\",IF(ISERROR(RANK(W483,$W$2:$W$1000,0)),\"\",RANK(W483,$W$2:$W$1000,0)))","v":""},{"$f":"IF($A483=\"\",\"\",IF(ISERROR(RANK(X483,$X$2:$X$1000,0)),\"\",RANK(X483,$X$2:$X$1000,0)))","v":""},{"$f":"IF($A483=\"\",\"\",IF(ISERROR(RANK(Y483,$Y$2:$Y$1000,0)),\"\",RANK(Y483,$Y$2:$Y$1000,0)))","v":""},{"$f":"IF($A483=\"\",\"\",IF(ISERROR(RANK(Z483,$Z$2:$Z$1000,0)),\"\",RANK(Z483,$Z$2:$Z$1000,0)))","v":""},null,{"$f":"IF(AA483=\"\",\"\",IF(AA483>Inputs!$D$9,0,1))","v":""},{"$f":"IF(AB483=\"\",\"\",IF(AB483>Inputs!$D$9,0,1))","v":""},{"$f":"IF(AC483=\"\",\"\",IF(AC483>Inputs!$D$9,0,1))","v":""},{"$f":"IF(AD483=\"\",\"\",IF(AD483>Inputs!$D$9,0,1))","v":""},{"$f":"IF(AE483=\"\",\"\",IF(AE483>Inputs!$D$9,0,1))","v":""},{"$f":"IF(AF483=\"\",\"\",IF(AF483>Inputs!$D$9,0,1))","v":""},{"$f":"IF(AG483=\"\",\"\",IF(AG483>Inputs!$D$9,0,1))","v":""},{"$f":"IF(AH483=\"\",\"\",IF(AH483>Inputs!$D$9,0,1))","v":""},{"$f":"IF(AI483=\"\",\"\",IF(AI483>Inputs!$D$9,0,1))","v":""},{"$f":"IF(AJ483=\"\",\"\",IF(AJ483>Inputs!$D$9,0,1))","v":""},{"$f":"IF(AK483=\"\",\"\",IF(AK483>Inputs!$D$9,0,1))","v":""},{"$f":"IF(AL483=\"\",\"\",IF(AL483>Inputs!$D$9,0,1))","v":""},"",0,null,"","","","","","","","","","","","","","",null,null,"","","","","","","","","","","","",""]
[null,null,null,null,null,null,null,null,null,null,null,null,null,null,"","","","","","","","","","","","","","","","","","","","","","","","",null,{"$f":"IF(AA484=\"\",\"\",IF(AA484>Inputs!$D$9,0,1))","v":""},{"$f":"IF(AB484=\"\",\"\",IF(AB484>Inputs!$D$9,0,1))","v":""},{"$f":"IF(AC484=\"\",\"\",IF(AC484>Inputs!$D$9,0,1))","v":""},{"$f":"IF(AD484=\"\",\"\",IF(AD484>Inputs!$D$9,0,1))","v":""},{"$f":"IF(AE484=\"\",\"\",IF(AE484>Inputs!$D$9,0,1))","v":""},{"$f":"IF(AF484=\"\",\"\",IF(AF484>Inputs!$D$9,0,1))","v":""},{"$f":"IF(AG484=\"\",\"\",IF(AG484>Inputs!$D$9,0,1))","v":""},{"$f":"IF(AH484=\"\",\"\",IF(AH484>Inputs!$D$9,0,1))","v":""},{"$f":"IF(AI484=\"\",\"\",IF(AI484>Inputs!$D$9,0,1))","v":""},{"$f":"IF(AJ484=\"\",\"\",IF(AJ484>Inputs!$D$9,0,1))","v":""},{"$f":"IF(AK484=\"\",\"\",IF(AK484>Inputs!$D$9,0,1))","v":""},{"$f":"IF(AL484=\"\",\"\",IF(AL484>Inputs!$D$9,0,1))","v":""},"",0,null,"","","","","","","","","","","","","","",null,null,"","","","","","","","","","","","",""]
[null,null,null,null,null,null,null,null,null,null,null,null,null,null,"","","","","","","","","","","","","","","","","","","","","","","","",null,{"$f":"IF(AA485=\"\",\"\",IF(AA485>Inputs!$D$9,0,1))","v":""},{"$f":"IF(AB485=\"\",\"\",IF(AB485>Inputs!$D$9,0,1))","v":""},{"$f":"IF(AC485=\"\",\"\",IF(AC485>Inputs!$D$9,0,1))","v":""},{"$f":"IF(AD485=\"\",\"\",IF(AD485>Inputs!$D$9,0,1))","v":""},{"$f":"IF(AE485=\"\",\"\",IF(AE485>Inputs!$D$9,0,1))","v":""},{"$f":"IF(AF485=\"\",\"\",IF(AF485>Inputs!$D$9,0,1))","v":""},{"$f":"IF(AG485=\"\",\"\",IF(AG485>Inputs!$D$9,0,1))","v":""},{"$f":"IF(AH485=\"\",\"\",IF(AH485>Inputs!$D$9,0,1))","v":""},{"$f":"IF(AI485=\"\",\"\",IF(AI485>Inputs!$D$9,0,1))","v":""},{"$f":"IF(AJ485=\"\",\"\",IF(AJ485>Inputs!$D$9,0,1))","v":""},{"$f":"IF(AK485=\"\",\"\",IF(AK485>Inputs!$D$9,0,1))","v":""},{"$f":"IF(AL485=\"\",\"\",IF(AL485>Inputs!$D$9,0,1))","v":""},"",0,null,"","","","","","","","","","","","","","",null,null,"","","","","","","","","","","","",""]
[null,null,null,null,null,null,null,null,null,null,null,null,null,null,"","","","","","","","","","","","","","","","","","","","","","","","",null,{"$f":"IF(AA486=\"\",\"\",IF(AA486>Inputs!$D$9,0,1))","v":""},{"$f":"IF(AB486=\"\",\"\",IF(AB486>Inputs!$D$9,0,1))","v":""},{"$f":"IF(AC486=\"\",\"\",IF(AC486>Inputs!$D$9,0,1))","v":""},{"$f":"IF(AD486=\"\",\"\",IF(AD486>Inputs!$D$9,0,1))","v":""},{"$f":"IF(AE486=\"\",\"\",IF(AE486>Inputs!$D$9,0,1))","v":""},{"$f":"IF(AF486=\"\",\"\",IF(AF486>Inputs!$D$9,0,1))","v":""},{"$f":"IF(AG486=\"\",\"\",IF(AG486>Inputs!$D$9,0,1))","v":""},{"$f":"IF(AH486=\"\",\"\",IF(AH486>Inputs!$D$9,0,1))","v":""},{"$f":"IF(AI486=\"\",\"\",IF(AI486>Inputs!$D$9,0,1))","v":""},{"$f":"IF(AJ486=\"\",\"\",IF(AJ486>Inputs!$D$9,0,1))","v":""},{"$f":"IF(AK486=\"\",\"\",IF(AK486>Inputs!$D$9,0,1))","v":""},{"$f":"IF(AL486=\"\",\"\",IF(AL486>Inputs!$D$9,0,1))","v":""},"",0,null,"","","","","","","","","","","","","","",null,null,"","","","","","","","","","","","",""]
[null,null,null,null,null,null,null,null,null,null,null,null,null,null,"","","","","","","","","","","","","","","","","","","","","","","","",null,{"$f":"IF(AA487=\"\",\"\",IF(AA487>Inputs!$D$9,0,1))","v":""},{"$f":"IF(AB487=\"\",\"\",IF(AB487>Inputs!$D$9,0,1))","v":""},{"$f":"IF(AC487=\"\",\"\",IF(AC487>Inputs!$D$9,0,1))","v":""},{"$f":"IF(AD487=\"\",\"\",IF(AD487>Inputs!$D$9,0,1))","v":""},{"$f":"IF(AE487=\"\",\"\",IF(AE487>Inputs!$D$9,0,1))","v":""},{"$f":"IF(AF487=\"\",\"\",IF(AF487>Inputs!$D$9,0,1))","v":""},{"$f":"IF(AG487=\"\",\"\",IF(AG487>Inputs!$D$9,0,1))","v":""},{"$f":"IF(AH487=\"\",\"\",IF(AH487>Inputs!$D$9,0,1))","v":""},{"$f":"IF(AI487=\"\",\"\",IF(AI487>Inputs!$D$9,0,1))","v":""},{"$f":"IF(AJ487=\"\",\"\",IF(AJ487>Inputs!$D$9,0,1))","v":""},{"$f":"IF(AK487=\"\",\"\",IF(AK487>Inputs!$D$9,0,1))","v":""},{"$f":"IF(AL487=\"\",\"\",IF(AL487>Inputs!$D$9,0,1))","v":""},"",0,null,"","","","","","","","","","","","","","",null,null,"","","","","","","","","","","","",""]
[null,null,null,null,null,null,null,null,null,null,null,null,null,null,"","","","","","","","","","","","","","","","","","","","","","","","",null,{"$f":"IF(AA488=\"\",\"\",IF(AA488>Inputs!$D$9,0,1))","v":""},{"$f":"IF(AB488=\"\",\"\",IF(AB488>Inputs!$D$9,0,1))","v":""},{"$f":"IF(AC488=\"\",\"\",IF(AC488>Inputs!$D$9,0,1))","v":""},{"$f":"IF(AD488=\"\",\"\",IF(AD488>Inputs!$D$9,0,1))","v":""},{"$f":"IF(AE488=\"\",\"\",IF(AE488>Inputs!$D$9,0,1))","v":""},{"$f":"IF(AF488=\"\",\"\",IF(AF488>Inputs!$D$9,0,1))","v":""},{"$f":"IF(AG488=\"\",\"\",IF(AG488>Inputs!$D$9,0,1))","v":""},{"$f":"IF(AH488=\"\",\"\",IF(AH488>Inputs!$D$9,0,1))","v":""},{"$f":"IF(AI488=\"\",\"\",IF(AI488>Inputs!$D$9,0,1))","v":""},{"$f":"IF(AJ488=\"\",\"\",IF(AJ488>Inputs!$D$9,0,1))","v":""},{"$f":"IF(AK488=\"\",\"\",IF(AK488>Inputs!$D$9,0,1))","v":""},{"$f":"IF(AL488=\"\",\"\",IF(AL488>Inputs!$D$9,0,1))","v":""},"",0,null,"","","","","","","","","","","","","","",null,null,"","","","","","","","","","","","",""]
[null,null,null,null,null,null,null,null,null,null,null,null,null,null,"","","","","","","","","","","","","","","","","","","","","","","","",null,{"$f":"IF(AA489=\"\",\"\",IF(AA489>Inputs!$D$9,0,1))","v":""},{"$f":"IF(AB489=\"\",\"\",IF(AB489>Inputs!$D$9,0,1))","v":""},{"$f":"IF(AC489=\"\",\"\",IF(AC489>Inputs!$D$9,0,1))","v":""},{"$f":"IF(AD489=\"\",\"\",IF(AD489>Inputs!$D$9,0,1))","v":""},{"$f":"IF(AE489=\"\",\"\",IF(AE489>Inputs!$D$9,0,1))","v":""},{"$f":"IF(AF489=\"\",\"\",IF(AF489>Inputs!$D$9,0,1))","v":""},{"$f":"IF(AG489=\"\",\"\",IF(AG489>Inputs!$D$9,0,1))","v":""},{"$f":"IF(AH489=\"\",\"\",IF(AH489>Inputs!$D$9,0,1))","v":""},{"$f":"IF(AI489=\"\",\"\",IF(AI489>Inputs!$D$9,0,1))","v":""},{"$f":"IF(AJ489=\"\",\"\",IF(AJ489>Inputs!$D$9,0,1))","v":""},{"$f":"IF(AK489=\"\",\"\",IF(AK489>Inputs!$D$9,0,1))","v":""},{"$f":"IF(AL489=\"\",\"\",IF(AL489>Inputs!$D$9,0,1))","v":""},"",0,null,"","","","","","","","","","","","","","",null,null,"","","","","","","","","","","","",""]
[null,null,null,null,null,null,null,null,null,null,null,null,null,null,"","","","","","","","","","","","","","","","","","","","","","","","",null,{"$f":"IF(AA490=\"\",\"\",IF(AA490>Inputs!$D$9,0,1))","v":""},{"$f":"IF(AB490=\"\",\"\",IF(AB490>Inputs!$D$9,0,1))","v":""},{"$f":"IF(AC490=\"\",\"\",IF(AC490>Inputs!$D$9,0,1))","v":""},{"$f":"IF(AD490=\"\",\"\",IF(AD490>Inputs!$D$9,0,1))","v":""},{"$f":"IF(AE490=\"\",\"\",IF(AE490>Inputs!$D$9,0,1))","v":""},{"$f":"IF(AF490=\"\",\"\",IF(AF490>Inputs!$D$9,0,1))","v":""},{"$f":"IF(AG490=\"\",\"\",IF(AG490>Inputs!$D$9,0,1))","v":""},{"$f":"IF(AH490=\"\",\"\",IF(AH490>Inputs!$D$9,0,1))","v":""},{"$f":"IF(AI490=\"\",\"\",IF(AI490>Inputs!$D$9,0,1))","v":""},{"$f":"IF(AJ490=\"\",\"\",IF(AJ490>Inputs!$D$9,0,1))","v":""},{"$f":"IF(AK490=\"\",\"\",IF(AK490>Inputs!$D$9,0,1))","v":""},{"$f":"IF(AL490=\"\",\"\",IF(AL490>Inputs!$D$9,0,1))","v":""},"",0,null,"","","","","","","","","","","","","","",null,null,"","","","","","","","","","","","",""]
[null,null,null,null,null,null,null,null,null,null,null,null,null,null,"","","","","","","","","","","","","","","","","","","","","","","","",null,{"$f":"IF(AA491=\"\",\"\",IF(AA491>Inputs!$D$9,0,1))","v":""},{"$f":"IF(AB491=\"\",\"\",IF(AB491>Inputs!$D$9,0,1))","v":""},{"$f":"IF(AC491=\"\",\"\",IF(AC491>Inputs!$D$9,0,1))","v":""},{"$f":"IF(AD491=\"\",\"\",IF(AD491>Inputs!$D$9,0,1))","v":""},{"$f":"IF(AE491=\"\",\"\",IF(AE491>Inputs!$D$9,0,1))","v":""},{"$f":"IF(AF491=\"\",\"\",IF(AF491>Inputs!$D$9,0,1))","v":""},{"$f":"IF(AG491=\"\",\"\",IF(AG491>Inputs!$D$9,0,1))","v":""},{"$f":"IF(AH491=\"\",\"\",IF(AH491>Inputs!$D$9,0,1))","v":""},{"$f":"IF(AI491=\"\",\"\",IF(AI491>Inputs!$D$9,0,1))","v":""},{"$f":"IF(AJ491=\"\",\"\",IF(AJ491>Inputs!$D$9,0,1))","v":""},{"$f":"IF(AK491=\"\",\"\",IF(AK491>Inputs!$D$9,0,1))","v":""},{"$f":"IF(AL491=\"\",\"\",IF(AL491>Inputs!$D$9,0,1))","v":""},"",0,null,"","","","","","","","","","","","","","",null,null,"","","","","","","","","","","","",""]
[null,null,null,null,null,null,null,null,null,null,null,null,null,null,"","","","","","","","","","","","","","","","","","","","","","","","",null,{"$f":"IF(AA492=\"\",\"\",IF(AA492>Inputs!$D$9,0,1))","v":""},{"$f":"IF(AB492=\"\",\"\",IF(AB492>Inputs!$D$9,0,1))","v":""},{"$f":"IF(AC492=\"\",\"\",IF(AC492>Inputs!$D$9,0,1))","v":""},{"$f":"IF(AD492=\"\",\"\",IF(AD492>Inputs!$D$9,0,1))","v":""},{"$f":"IF(AE492=\"\",\"\",IF(AE492>Inputs!$D$9,0,1))","v":""},{"$f":"IF(AF492=\"\",\"\",IF(AF492>Inputs!$D$9,0,1))","v":""},{"$f":"IF(AG492=\"\",\"\",IF(AG492>Inputs!$D$9,0,1))","v":""},{"$f":"IF(AH492=\"\",\"\",IF(AH492>Inputs!$D$9,0,1))","v":""},{"$f":"IF(AI492=\"\",\"\",IF(AI492>Inputs!$D$9,0,1))","v":""},{"$f":"IF(AJ492=\"\",\"\",IF(AJ492>Inputs!$D$9,0,1))","v":""},{"$f":"IF(AK492=\"\",\"\",IF(AK492>Inputs!$D$9,0,1))","v":""},{"$f":"IF(AL492=\"\",\"\",IF(AL492>Inputs!$D$9,0,1))","v":""},"",0,null,"","","","","","","","","","","","","","",null,null,"","","","","","","","","","","","",""]
[null,null,null,null,null,null,null,null,null,null,null,null,null,null,"","","","","","","","","","","","","","","","","","","","","","","","",null,{"$f":"IF(AA493=\"\",\"\",IF(AA493>Inputs!$D$9,0,1))","v":""},{"$f":"IF(AB493=\"\",\"\",IF(AB493>Inputs!$D$9,0,1))","v":""},{"$f":"IF(AC493=\"\",\"\",IF(AC493>Inputs!$D$9,0,1))","v":""},{"$f":"IF(AD493=\"\",\"\",IF(AD493>Inputs!$D$9,0,1))","v":""},{"$f":"IF(AE493=\"\",\"\",IF(AE493>Inputs!$D$9,0,1))","v":""},{"$f":"IF(AF493=\"\",\"\",IF(AF493>Inputs!$D$9,0,1))","v":""},{"$f":"IF(AG493=\"\",\"\",IF(AG493>Inputs!$D$9,0,1))","v":""},{"$f":"IF(AH493=\"\",\"\",IF(AH493>Inputs!$D$9,0,1))","v":""},{"$f":"IF(AI493=\"\",\"\",IF(AI493>Inputs!$D$9,0,1))","v":""},{"$f":"IF(AJ493=\"\",\"\",IF(AJ493>Inputs!$D$9,0,1))","v":""},{"$f":"IF(AK493=\"\",\"\",IF(AK493>Inputs!$D$9,0,1))","v":""},{"$f":"IF(AL493=\"\",\"\",IF(AL493>Inputs!$D$9,0,1))","v":""},"",0,null,"","","","","","","","","","","","","","",null,null,"","","","","","","","","","","","",""]
[null,null,null,null,null,null,null,null,null,null,null,null,null,null,"","","","","","","","","","","","","","","","","","","","","","","","",null,{"$f":"IF(AA494=\"\",\"\",IF(AA494>Inputs!$D$9,0,1))","v":""},{"$f":"IF(AB494=\"\",\"\",IF(AB494>Inputs!$D$9,0,1))","v":""},{"$f":"IF(AC494=\"\",\"\",IF(AC494>Inputs!$D$9,0,1))","v":""},{"$f":"IF(AD494=\"\",\"\",IF(AD494>Inputs!$D$9,0,1))","v":""},{"$f":"IF(AE494=\"\",\"\",IF(AE494>Inputs!$D$9,0,1))","v":""},{"$f":"IF(AF494=\"\",\"\",IF(AF494>Inputs!$D$9,0,1))","v":""},{"$f":"IF(AG494=\"\",\"\",IF(AG494>Inputs!$D$9,0,1))","v":""},{"$f":"IF(AH494=\"\",\"\",IF(AH494>Inputs!$D$9,0,1))","v":""},{"$f":"IF(AI494=\"\",\"\",IF(AI494>Inputs!$D$9,0,1))","v":""},{"$f":"IF(AJ494=\"\",\"\",IF(AJ494>Inputs!$D$9,0,1))","v":""},{"$f":"IF(AK494=\"\",\"\",IF(AK494>Inputs!$D$9,0,1))","v":""},{"$f":"IF(AL494=\"\",\"\",IF(AL494>Inputs!$D$9,0,1))","v":""},"",0,null,"","","","","","","","","","","","","","",null,null,"","","","","","","","","","","","",""]
[null,null,null,null,null,null,null,null,null,null,null,null,null,null,"","","","","","","","","","","","","","","","","","","","","","","","",null,{"$f":"IF(AA495=\"\",\"\",IF(AA495>Inputs!$D$9,0,1))","v":""},{"$f":"IF(AB495=\"\",\"\",IF(AB495>Inputs!$D$9,0,1))","v":""},{"$f":"IF(AC495=\"\",\"\",IF(AC495>Inputs!$D$9,0,1))","v":""},{"$f":"IF(AD495=\"\",\"\",IF(AD495>Inputs!$D$9,0,1))","v":""},{"$f":"IF(AE495=\"\",\"\",IF(AE495>Inputs!$D$9,0,1))","v":""},{"$f":"IF(AF495=\"\",\"\",IF(AF495>Inputs!$D$9,0,1))","v":""},{"$f":"IF(AG495=\"\",\"\",IF(AG495>Inputs!$D$9,0,1))","v":""},{"$f":"IF(AH495=\"\",\"\",IF(AH495>Inputs!$D$9,0,1))","v":""},{"$f":"IF(AI495=\"\",\"\",IF(AI495>Inputs!$D$9,0,1))","v":""},{"$f":"IF(AJ495=\"\",\"\",IF(AJ495>Inputs!$D$9,0,1))","v":""},{"$f":"IF(AK495=\"\",\"\",IF(AK495>Inputs!$D$9,0,1))","v":""},{"$f":"IF(AL495=\"\",\"\",IF(AL495>Inputs!$D$9,0,1))","v":""},"",0,null,"","","","","","","","","","","","","","",null,null,"","","","","","","","","","","","",""]
[null,null,null,null,null,null,null,null,null,null,null,null,null,null,"","","","","","","","","","","","","","","","","","","","","","","","",null,{"$f":"IF(AA496=\"\",\"\",IF(AA496>Inputs!$D$9,0,1))","v":""},{"$f":"IF(AB496=\"\",\"\",IF(AB496>Inputs!$D$9,0,1))","v":""},{"$f":"IF(AC496=\"\",\"\",IF(AC496>Inputs!$D$9,0,1))","v":""},{"$f":"IF(AD496=\"\",\"\",IF(AD496>Inputs!$D$9,0,1))","v":""},{"$f":"IF(AE496=\"\",\"\",IF(AE496>Inputs!$D$9,0,1))","v":""},{"$f":"IF(AF496=\"\",\"\",IF(AF496>Inputs!$D$9,0,1))","v":""},{"$f":"IF(AG496=\"\",\"\",IF(AG496>Inputs!$D$9,0,1))","v":""},{"$f":"IF(AH496=\"\",\"\",IF(AH496>Inputs!$D$9,0,1))","v":""},{"$f":"IF(AI496=\"\",\"\",IF(AI496>Inputs!$D$9,0,1))","v":""},{"$f":"IF(AJ496=\"\",\"\",IF(AJ496>Inputs!$D$9,0,1))","v":""},{"$f":"IF(AK496=\"\",\"\",IF(AK496>Inputs!$D$9,0,1))","v":""},{"$f":"IF(AL496=\"\",\"\",IF(AL496>Inputs!$D$9,0,1))","v":""},"",0,null,"","","","","","","","","","","","","","",null,null,"","","","","","","","","","","","",""]
[null,null,null,null,null,null,null,null,null,null,null,null,null,null,"","","","","","","","","","","","","","","","","","","","","","","","",null,{"$f":"IF(AA497=\"\",\"\",IF(AA497>Inputs!$D$9,0,1))","v":""},{"$f":"IF(AB497=\"\",\"\",IF(AB497>Inputs!$D$9,0,1))","v":""},{"$f":"IF(AC497=\"\",\"\",IF(AC497>Inputs!$D$9,0,1))","v":""},{"$f":"IF(AD497=\"\",\"\",IF(AD497>Inputs!$D$9,0,1))","v":""},{"$f":"IF(AE497=\"\",\"\",IF(AE497>Inputs!$D$9,0,1))","v":""},{"$f":"IF(AF497=\"\",\"\",IF(AF497>Inputs!$D$9,0,1))","v":""},{"$f":"IF(AG497=\"\",\"\",IF(AG497>Inputs!$D$9,0,1))","v":""},{"$f":"IF(AH497=\"\",\"\",IF(AH497>Inputs!$D$9,0,1))","v":""},{"$f":"IF(AI497=\"\",\"\",IF(AI497>Inputs!$D$9,0,1))","v":""},{"$f":"IF(AJ497=\"\",\"\",IF(AJ497>Inputs!$D$9,0,1))","v":""},{"$f":"IF(AK497=\"\",\"\",IF(AK497>Inputs!$D$9,0,1))","v":""},{"$f":"IF(AL497=\"\",\"\",IF(AL497>Inputs!$D$9,0,1))","v":""},"",0,null,"","","","","","","","","","","","","","",null,null,"","","","","","","","","","","","",""]
[null,null,null,null,null,null,null,null,null,null,null,null,null,null,"","","","","","","","","","","","","","","","","","","","","","","","",null,{"$f":"IF(AA498=\"\",\"\",IF(AA498>Inputs!$D$9,0,1))","v":""},{"$f":"IF(AB498=\"\",\"\",IF(AB498>Inputs!$D$9,0,1))","v":""},{"$f":"IF(AC498=\"\",\"\",IF(AC498>Inputs!$D$9,0,1))","v":""},{"$f":"IF(AD498=\"\",\"\",IF(AD498>Inputs!$D$9,0,1))","v":""},{"$f":"IF(AE498=\"\",\"\",IF(AE498>Inputs!$D$9,0,1))","v":""},{"$f":"IF(AF498=\"\",\"\",IF(AF498>Inputs!$D$9,0,1))","v":""},{"$f":"IF(AG498=\"\",\"\",IF(AG498>Inputs!$D$9,0,1))","v":""},{"$f":"IF(AH498=\"\",\"\",IF(AH498>Inputs!$D$9,0,1))","v":""},{"$f":"IF(AI498=\"\",\"\",IF(AI498>Inputs!$D$9,0,1))","v":""},{"$f":"IF(AJ498=\"\",\"\",IF(AJ498>Inputs!$D$9,0,1))","v":""},{"$f":"IF(AK498=\"\",\"\",IF(AK498>Inputs!$D$9,0,1))","v":""},{"$f":"IF(AL498=\"\",\"\",IF(AL498>Inputs!$D$9,0,1))","v":""},"",0,null,"","","","","","","","","","","","","","",null,null,"","","","","","","","","","","","",""]
[null,null,null,null,null,null,null,null,null,null,null,null,null,null,"","","","","","","","","","","","","","","","","","","","","","","","",null,{"$f":"IF(AA499=\"\",\"\",IF(AA499>Inputs!$D$9,0,1))","v":""},{"$f":"IF(AB499=\"\",\"\",IF(AB499>Inputs!$D$9,0,1))","v":""},{"$f":"IF(AC499=\"\",\"\",IF(AC499>Inputs!$D$9,0,1))","v":""},{"$f":"IF(AD499=\"\",\"\",IF(AD499>Inputs!$D$9,0,1))","v":""},{"$f":"IF(AE499=\"\",\"\",IF(AE499>Inputs!$D$9,0,1))","v":""},{"$f":"IF(AF499=\"\",\"\",IF(AF499>Inputs!$D$9,0,1))","v":""},{"$f":"IF(AG499=\"\",\"\",IF(AG499>Inputs!$D$9,0,1))","v":""},{"$f":"IF(AH499=\"\",\"\",IF(AH499>Inputs!$D$9,0,1))","v":""},{"$f":"IF(AI499=\"\",\"\",IF(AI499>Inputs!$D$9,0,1))","v":""},{"$f":"IF(AJ499=\"\",\"\",IF(AJ499>Inputs!$D$9,0,1))","v":""},{"$f":"IF(AK499=\"\",\"\",IF(AK499>Inputs!$D$9,0,1))","v":""},{"$f":"IF(AL499=\"\",\"\",IF(AL499>Inputs!$D$9,0,1))","v":""},"",0,null,"","","","","","","","","","","","","","",null,null,"","","","","","","","","","","","",""]
[null,null,null,null,null,null,null,null,null,null,null,null,null,null,"","","","","","","","","","","","","","","","","","","","","","","","",null,{"$f":"IF(AA500=\"\",\"\",IF(AA500>Inputs!$D$9,0,1))","v":""},{"$f":"IF(AB500=\"\",\"\",IF(AB500>Inputs!$D$9,0,1))","v":""},{"$f":"IF(AC500=\"\",\"\",IF(AC500>Inputs!$D$9,0,1))","v":""},{"$f":"IF(AD500=\"\",\"\",IF(AD500>Inputs!$D$9,0,1))","v":""},{"$f":"IF(AE500=\"\",\"\",IF(AE500>Inputs!$D$9,0,1))","v":""},{"$f":"IF(AF500=\"\",\"\",IF(AF500>Inputs!$D$9,0,1))","v":""},{"$f":"IF(AG500=\"\",\"\",IF(AG500>Inputs!$D$9,0,1))","v":""},{"$f":"IF(AH500=\"\",\"\",IF(AH500>Inputs!$D$9,0,1))","v":""},{"$f":"IF(AI500=\"\",\"\",IF(AI500>Inputs!$D$9,0,1))","v":""},{"$f":"IF(AJ500=\"\",\"\",IF(AJ500>Inputs!$D$9,0,1))","v":""},{"$f":"IF(AK500=\"\",\"\",IF(AK500>Inputs!$D$9,0,1))","v":""},{"$f":"IF(AL500=\"\",\"\",IF(AL500>Inputs!$D$9,0,1))","v":""},"",0,null,"","","","","","","","","","","","","","",null,null,"","","","","","","","","","","","",""]
[null,null,null,null,null,null,null,null,null,null,null,null,null,null,"","","","","","","","","","","","","","","","","","","","","","","","",null,{"$f":"IF(AA501=\"\",\"\",IF(AA501>Inputs!$D$9,0,1))","v":""},{"$f":"IF(AB501=\"\",\"\",IF(AB501>Inputs!$D$9,0,1))","v":""},{"$f":"IF(AC501=\"\",\"\",IF(AC501>Inputs!$D$9,0,1))","v":""},{"$f":"IF(AD501=\"\",\"\",IF(AD501>Inputs!$D$9,0,1))","v":""},{"$f":"IF(AE501=\"\",\"\",IF(AE501>Inputs!$D$9,0,1))","v":""},{"$f":"IF(AF501=\"\",\"\",IF(AF501>Inputs!$D$9,0,1))","v":""},{"$f":"IF(AG501=\"\",\"\",IF(AG501>Inputs!$D$9,0,1))","v":""},{"$f":"IF(AH501=\"\",\"\",IF(AH501>Inputs!$D$9,0,1))","v":""},{"$f":"IF(AI501=\"\",\"\",IF(AI501>Inputs!$D$9,0,1))","v":""},{"$f":"IF(AJ501=\"\",\"\",IF(AJ501>Inputs!$D$9,0,1))","v":""},{"$f":"IF(AK501=\"\",\"\",IF(AK501>Inputs!$D$9,0,1))","v":""},{"$f":"IF(AL501=\"\",\"\",IF(AL501>Inputs!$D$9,0,1))","v":""},"",0,null,"","","","","","","","","","","","","","",null,null,"","","","","","","","","","","","",""]
[null,null,null,null,null,null,null,null,null,null,null,null,null,null,"","","","","","","","","","","","","","","","","","","","","","","","",null,{"$f":"IF(AA502=\"\",\"\",IF(AA502>Inputs!$D$9,0,1))","v":""},{"$f":"IF(AB502=\"\",\"\",IF(AB502>Inputs!$D$9,0,1))","v":""},{"$f":"IF(AC502=\"\",\"\",IF(AC502>Inputs!$D$9,0,1))","v":""},{"$f":"IF(AD502=\"\",\"\",IF(AD502>Inputs!$D$9,0,1))","v":""},{"$f":"IF(AE502=\"\",\"\",IF(AE502>Inputs!$D$9,0,1))","v":""},{"$f":"IF(AF502=\"\",\"\",IF(AF502>Inputs!$D$9,0,1))","v":""},{"$f":"IF(AG502=\"\",\"\",IF(AG502>Inputs!$D$9,0,1))","v":""},{"$f":"IF(AH502=\"\",\"\",IF(AH502>Inputs!$D$9,0,1))","v":""},{"$f":"IF(AI502=\"\",\"\",IF(AI502>Inputs!$D$9,0,1))","v":""},{"$f":"IF(AJ502=\"\",\"\",IF(AJ502>Inputs!$D$9,0,1))","v":""},{"$f":"IF(AK502=\"\",\"\",IF(AK502>Inputs!$D$9,0,1))","v":""},{"$f":"IF(AL502=\"\",\"\",IF(AL502>Inputs!$D$9,0,1))","v":""},"",0,null,"","","","","","","","","","","","","","",null,null,"","","","","","","","","","","","",""]
[null,null,null,null,null,null,null,null,null,null,null,null,null,null,"","","","","","","","","","","","","","","","","","","","","","","","",null,{"$f":"IF(AA503=\"\",\"\",IF(AA503>Inputs!$D$9,0,1))","v":""},{"$f":"IF(AB503=\"\",\"\",IF(AB503>Inputs!$D$9,0,1))","v":""},{"$f":"IF(AC503=\"\",\"\",IF(AC503>Inputs!$D$9,0,1))","v":""},{"$f":"IF(AD503=\"\",\"\",IF(AD503>Inputs!$D$9,0,1))","v":""},{"$f":"IF(AE503=\"\",\"\",IF(AE503>Inputs!$D$9,0,1))","v":""},{"$f":"IF(AF503=\"\",\"\",IF(AF503>Inputs!$D$9,0,1))","v":""},{"$f":"IF(AG503=\"\",\"\",IF(AG503>Inputs!$D$9,0,1))","v":""},{"$f":"IF(AH503=\"\",\"\",IF(AH503>Inputs!$D$9,0,1))","v":""},{"$f":"IF(AI503=\"\",\"\",IF(AI503>Inputs!$D$9,0,1))","v":""},{"$f":"IF(AJ503=\"\",\"\",IF(AJ503>Inputs!$D$9,0,1))","v":""},{"$f":"IF(AK503=\"\",\"\",IF(AK503>Inputs!$D$9,0,1))","v":""},{"$f":"IF(AL503=\"\",\"\",IF(AL503>Inputs!$D$9,0,1))","v":""},"",0,null,"","","","","","","","","","","","","","",null,null,"","","","","","","","","","","","",""]
[null,null,null,null,null,null,null,null,null,null,null,null,null,null,"","","","","","","","","","","","","","","","","","","","","","","","",null,{"$f":"IF(AA504=\"\",\"\",IF(AA504>Inputs!$D$9,0,1))","v":""},{"$f":"IF(AB504=\"\",\"\",IF(AB504>Inputs!$D$9,0,1))","v":""},{"$f":"IF(AC504=\"\",\"\",IF(AC504>Inputs!$D$9,0,1))","v":""},{"$f":"IF(AD504=\"\",\"\",IF(AD504>Inputs!$D$9,0,1))","v":""},{"$f":"IF(AE504=\"\",\"\",IF(AE504>Inputs!$D$9,0,1))","v":""},{"$f":"IF(AF504=\"\",\"\",IF(AF504>Inputs!$D$9,0,1))","v":""},{"$f":"IF(AG504=\"\",\"\",IF(AG504>Inputs!$D$9,0,1))","v":""},{"$f":"IF(AH504=\"\",\"\",IF(AH504>Inputs!$D$9,0,1))","v":""},{"$f":"IF(AI504=\"\",\"\",IF(AI504>Inputs!$D$9,0,1))","v":""},{"$f":"IF(AJ504=\"\",\"\",IF(AJ504>Inputs!$D$9,0,1))","v":""},{"$f":"IF(AK504=\"\",\"\",IF(AK504>Inputs!$D$9,0,1))","v":""},{"$f":"IF(AL504=\"\",\"\",IF(AL504>Inputs!$D$9,0,1))","v":""},"",0,null,"","","","","","","","","","","","","","",null,null,"","","","","","","","","","","","",""]
[null,null,null,null,null,null,null,null,null,null,null,null,null,null,"","","","","","","","","","","","","","","","","","","","","","","","",null,{"$f":"IF(AA505=\"\",\"\",IF(AA505>Inputs!$D$9,0,1))","v":""},{"$f":"IF(AB505=\"\",\"\",IF(AB505>Inputs!$D$9,0,1))","v":""},{"$f":"IF(AC505=\"\",\"\",IF(AC505>Inputs!$D$9,0,1))","v":""},{"$f":"IF(AD505=\"\",\"\",IF(AD505>Inputs!$D$9,0,1))","v":""},{"$f":"IF(AE505=\"\",\"\",IF(AE505>Inputs!$D$9,0,1))","v":""},{"$f":"IF(AF505=\"\",\"\",IF(AF505>Inputs!$D$9,0,1))","v":""},{"$f":"IF(AG505=\"\",\"\",IF(AG505>Inputs!$D$9,0,1))","v":""},{"$f":"IF(AH505=\"\",\"\",IF(AH505>Inputs!$D$9,0,1))","v":""},{"$f":"IF(AI505=\"\",\"\",IF(AI505>Inputs!$D$9,0,1))","v":""},{"$f":"IF(AJ505=\"\",\"\",IF(AJ505>Inputs!$D$9,0,1))","v":""},{"$f":"IF(AK505=\"\",\"\",IF(AK505>Inputs!$D$9,0,1))","v":""},{"$f":"IF(AL505=\"\",\"\",IF(AL505>Inputs!$D$9,0,1))","v":""},"",0,null,"","","","","","","","","","","","","","",null,null,"","","","","","","","","","","","",""]
[null,null,null,null,null,null,null,null,null,null,null,null,null,null,"","","","","","","","","","","","","","","","","","","","","","","","",null,{"$f":"IF(AA506=\"\",\"\",IF(AA506>Inputs!$D$9,0,1))","v":""},{"$f":"IF(AB506=\"\",\"\",IF(AB506>Inputs!$D$9,0,1))","v":""},{"$f":"IF(AC506=\"\",\"\",IF(AC506>Inputs!$D$9,0,1))","v":""},{"$f":"IF(AD506=\"\",\"\",IF(AD506>Inputs!$D$9,0,1))","v":""},{"$f":"IF(AE506=\"\",\"\",IF(AE506>Inputs!$D$9,0,1))","v":""},{"$f":"IF(AF506=\"\",\"\",IF(AF506>Inputs!$D$9,0,1))","v":""},{"$f":"IF(AG506=\"\",\"\",IF(AG506>Inputs!$D$9,0,1))","v":""},{"$f":"IF(AH506=\"\",\"\",IF(AH506>Inputs!$D$9,0,1))","v":""},{"$f":"IF(AI506=\"\",\"\",IF(AI506>Inputs!$D$9,0,1))","v":""},{"$f":"IF(AJ506=\"\",\"\",IF(AJ506>Inputs!$D$9,0,1))","v":""},{"$f":"IF(AK506=\"\",\"\",IF(AK506>Inputs!$D$9,0,1))","v":""},{"$f":"IF(AL506=\"\",\"\",IF(AL506>Inputs!$D$9,0,1))","v":""},"",0,null,"","","","","","","","","","","","","","",null,null,"","","","","","","","","","","","",""]
[null,null,null,null,null,null,null,null,null,null,null,null,null,null,"","","","","","","","","","","","","","","","","","","","","","","","",null,{"$f":"IF(AA507=\"\",\"\",IF(AA507>Inputs!$D$9,0,1))","v":""},{"$f":"IF(AB507=\"\",\"\",IF(AB507>Inputs!$D$9,0,1))","v":""},{"$f":"IF(AC507=\"\",\"\",IF(AC507>Inputs!$D$9,0,1))","v":""},{"$f":"IF(AD507=\"\",\"\",IF(AD507>Inputs!$D$9,0,1))","v":""},{"$f":"IF(AE507=\"\",\"\",IF(AE507>Inputs!$D$9,0,1))","v":""},{"$f":"IF(AF507=\"\",\"\",IF(AF507>Inputs!$D$9,0,1))","v":""},{"$f":"IF(AG507=\"\",\"\",IF(AG507>Inputs!$D$9,0,1))","v":""},{"$f":"IF(AH507=\"\",\"\",IF(AH507>Inputs!$D$9,0,1))","v":""},{"$f":"IF(AI507=\"\",\"\",IF(AI507>Inputs!$D$9,0,1))","v":""},{"$f":"IF(AJ507=\"\",\"\",IF(AJ507>Inputs!$D$9,0,1))","v":""},{"$f":"IF(AK507=\"\",\"\",IF(AK507>Inputs!$D$9,0,1))","v":""},{"$f":"IF(AL507=\"\",\"\",IF(AL507>Inputs!$D$9,0,1))","v":""},"",0,null,"","","","","","","","","","","","","","",null,null,"","","","","","","","","","","","",""]
[null,null,null,null,null,null,null,null,null,null,null,null,null,null,"","","","","","","","","","","","","","","","","","","","","","","","",null,{"$f":"IF(AA508=\"\",\"\",IF(AA508>Inputs!$D$9,0,1))","v":""},{"$f":"IF(AB508=\"\",\"\",IF(AB508>Inputs!$D$9,0,1))","v":""},{"$f":"IF(AC508=\"\",\"\",IF(AC508>Inputs!$D$9,0,1))","v":""},{"$f":"IF(AD508=\"\",\"\",IF(AD508>Inputs!$D$9,0,1))","v":""},{"$f":"IF(AE508=\"\",\"\",IF(AE508>Inputs!$D$9,0,1))","v":""},{"$f":"IF(AF508=\"\",\"\",IF(AF508>Inputs!$D$9,0,1))","v":""},{"$f":"IF(AG508=\"\",\"\",IF(AG508>Inputs!$D$9,0,1))","v":""},{"$f":"IF(AH508=\"\",\"\",IF(AH508>Inputs!$D$9,0,1))","v":""},{"$f":"IF(AI508=\"\",\"\",IF(AI508>Inputs!$D$9,0,1))","v":""},{"$f":"IF(AJ508=\"\",\"\",IF(AJ508>Inputs!$D$9,0,1))","v":""},{"$f":"IF(AK508=\"\",\"\",IF(AK508>Inputs!$D$9,0,1))","v":""},{"$f":"IF(AL508=\"\",\"\",IF(AL508>Inputs!$D$9,0,1))","v":""},"",0,null,"","","","","","","","","","","","","","",null,null,"","","","","","","","","","","","",""]
[null,null,null,null,null,null,null,null,null,null,null,null,null,null,"","","","","","","","","","","","","","","","","","","","","","","","",null,{"$f":"IF(AA509=\"\",\"\",IF(AA509>Inputs!$D$9,0,1))","v":""},{"$f":"IF(AB509=\"\",\"\",IF(AB509>Inputs!$D$9,0,1))","v":""},{"$f":"IF(AC509=\"\",\"\",IF(AC509>Inputs!$D$9,0,1))","v":""},{"$f":"IF(AD509=\"\",\"\",IF(AD509>Inputs!$D$9,0,1))","v":""},{"$f":"IF(AE509=\"\",\"\",IF(AE509>Inputs!$D$9,0,1))","v":""},{"$f":"IF(AF509=\"\",\"\",IF(AF509>Inputs!$D$9,0,1))","v":""},{"$f":"IF(AG509=\"\",\"\",IF(AG509>Inputs!$D$9,0,1))","v":""},{"$f":"IF(AH509=\"\",\"\",IF(AH509>Inputs!$D$9,0,1))","v":""},{"$f":"IF(AI509=\"\",\"\",IF(AI509>Inputs!$D$9,0,1))","v":""},{"$f":"IF(AJ509=\"\",\"\",IF(AJ509>Inputs!$D$9,0,1))","v":""},{"$f":"IF(AK509=\"\",\"\",IF(AK509>Inputs!$D$9,0,1))","v":""},{"$f":"IF(AL509=\"\",\"\",IF(AL509>Inputs!$D$9,0,1))","v":""},"",0,null,"","","","","","","","","","","","","","",null,null,"","","","","","","","","","","","",""]
[null,null,null,null,null,null,null,null,null,null,null,null,null,null,"","","","","","","","","","","","","","","","","","","","","","","","",null,{"$f":"IF(AA510=\"\",\"\",IF(AA510>Inputs!$D$9,0,1))","v":""},{"$f":"IF(AB510=\"\",\"\",IF(AB510>Inputs!$D$9,0,1))","v":""},{"$f":"IF(AC510=\"\",\"\",IF(AC510>Inputs!$D$9,0,1))","v":""},{"$f":"IF(AD510=\"\",\"\",IF(AD510>Inputs!$D$9,0,1))","v":""},{"$f":"IF(AE510=\"\",\"\",IF(AE510>Inputs!$D$9,0,1))","v":""},{"$f":"IF(AF510=\"\",\"\",IF(AF510>Inputs!$D$9,0,1))","v":""},{"$f":"IF(AG510=\"\",\"\",IF(AG510>Inputs!$D$9,0,1))","v":""},{"$f":"IF(AH510=\"\",\"\",IF(AH510>Inputs!$D$9,0,1))","v":""},{"$f":"IF(AI510=\"\",\"\",IF(AI510>Inputs!$D$9,0,1))","v":""},{"$f":"IF(AJ510=\"\",\"\",IF(AJ510>Inputs!$D$9,0,1))","v":""},{"$f":"IF(AK510=\"\",\"\",IF(AK510>Inputs!$D$9,0,1))","v":""},{"$f":"IF(AL510=\"\",\"\",IF(AL510>Inputs!$D$9,0,1))","v":""},"",0,null,"","","","","","","","","","","","","","",null,null,"","","","","","","","","","","","",""]
[null,null,null,null,null,null,null,null,null,null,null,null,null,null,"","","","","","","","","","","","","","","","","","","","","","","","",null,{"$f":"IF(AA511=\"\",\"\",IF(AA511>Inputs!$D$9,0,1))","v":""},{"$f":"IF(AB511=\"\",\"\",IF(AB511>Inputs!$D$9,0,1))","v":""},{"$f":"IF(AC511=\"\",\"\",IF(AC511>Inputs!$D$9,0,1))","v":""},{"$f":"IF(AD511=\"\",\"\",IF(AD511>Inputs!$D$9,0,1))","v":""},{"$f":"IF(AE511=\"\",\"\",IF(AE511>Inputs!$D$9,0,1))","v":""},{"$f":"IF(AF511=\"\",\"\",IF(AF511>Inputs!$D$9,0,1))","v":""},{"$f":"IF(AG511=\"\",\"\",IF(AG511>Inputs!$D$9,0,1))","v":""},{"$f":"IF(AH511=\"\",\"\",IF(AH511>Inputs!$D$9,0,1))","v":""},{"$f":"IF(AI511=\"\",\"\",IF(AI511>Inputs!$D$9,0,1))","v":""},{"$f":"IF(AJ511=\"\",\"\",IF(AJ511>Inputs!$D$9,0,1))","v":""},{"$f":"IF(AK511=\"\",\"\",IF(AK511>Inputs!$D$9,0,1))","v":""},{"$f":"IF(AL511=\"\",\"\",IF(AL511>Inputs!$D$9,0,1))","v":""},"",0,null,"","","","","","","","","","","","","","",null,null,"","","","","","","","","","","","",""]
[null,null,null,null,null,null,null,null,null,null,null,null,null,null,"","","","","","","","","","","","","","","","","","","","","","","","",null,{"$f":"IF(AA512=\"\",\"\",IF(AA512>Inputs!$D$9,0,1))","v":""},{"$f":"IF(AB512=\"\",\"\",IF(AB512>Inputs!$D$9,0,1))","v":""},{"$f":"IF(AC512=\"\",\"\",IF(AC512>Inputs!$D$9,0,1))","v":""},{"$f":"IF(AD512=\"\",\"\",IF(AD512>Inputs!$D$9,0,1))","v":""},{"$f":"IF(AE512=\"\",\"\",IF(AE512>Inputs!$D$9,0,1))","v":""},{"$f":"IF(AF512=\"\",\"\",IF(AF512>Inputs!$D$9,0,1))","v":""},{"$f":"IF(AG512=\"\",\"\",IF(AG512>Inputs!$D$9,0,1))","v":""},{"$f":"IF(AH512=\"\",\"\",IF(AH512>Inputs!$D$9,0,1))","v":""},{"$f":"IF(AI512=\"\",\"\",IF(AI512>Inputs!$D$9,0,1))","v":""},{"$f":"IF(AJ512=\"\",\"\",IF(AJ512>Inputs!$D$9,0,1))","v":""},{"$f":"IF(AK512=\"\",\"\",IF(AK512>Inputs!$D$9,0,1))","v":""},{"$f":"IF(AL512=\"\",\"\",IF(AL512>Inputs!$D$9,0,1))","v":""},"",0,null,"","","","","","","","","","","","","","",null,null,"","","","","","","","","","","","",""]
[null,null,null,null,null,null,null,null,null,null,null,null,null,null,"","","","","","","","","","","","","","","","","","","","","","","","",null,{"$f":"IF(AA513=\"\",\"\",IF(AA513>Inputs!$D$9,0,1))","v":""},{"$f":"IF(AB513=\"\",\"\",IF(AB513>Inputs!$D$9,0,1))","v":""},{"$f":"IF(AC513=\"\",\"\",IF(AC513>Inputs!$D$9,0,1))","v":""},{"$f":"IF(AD513=\"\",\"\",IF(AD513>Inputs!$D$9,0,1))","v":""},{"$f":"IF(AE513=\"\",\"\",IF(AE513>Inputs!$D$9,0,1))","v":""},{"$f":"IF(AF513=\"\",\"\",IF(AF513>Inputs!$D$9,0,1))","v":""},{"$f":"IF(AG513=\"\",\"\",IF(AG513>Inputs!$D$9,0,1))","v":""},{"$f":"IF(AH513=\"\",\"\",IF(AH513>Inputs!$D$9,0,1))","v":""},{"$f":"IF(AI513=\"\",\"\",IF(AI513>Inputs!$D$9,0,1))","v":""},{"$f":"IF(AJ513=\"\",\"\",IF(AJ513>Inputs!$D$9,0,1))","v":""},{"$f":"IF(AK513=\"\",\"\",IF(AK513>Inputs!$D$9,0,1))","v":""},{"$f":"IF(AL513=\"\",\"\",IF(AL513>Inputs!$D$9,0,1))","v":""},"",0,null,"","","","","","","","","","","","","","",null,null,"","","","","","","","","","","","",""]
[null,null,null,null,null,null,null,null,null,null,null,null,null,null,"",{"$f":"IF(A514=\"\",\"\",IF(ISERROR(1+D514),\"\",IF(ISERROR(((1+D514/100)*(1+E514/100)*(1+F514/100)*(1+G514/100)*(1+H514/100)*(1+I514/100)*(1+J514/100)*(1+K514/100)*(1+L514/100)*(1+M514/100)*(1+N514/100))^(1/11)-1),\"\",((1+D514/100)*(1+E514/100)*(1+F514/100)*(1+G514/100)*(1+H514/100)*(1+I514/100)*(1+J514/100)*(1+K514/100)*(1+L514/100)*(1+M514/100)*(1+N514/100))^(1/11)-1)))","v":""},"","","","","","","","","","","","","","","","","","","","","","",null,{"$f":"IF(AA514=\"\",\"\",IF(AA514>Inputs!$D$9,0,1))","v":""},{"$f":"IF(AB514=\"\",\"\",IF(AB514>Inputs!$D$9,0,1))","v":""},{"$f":"IF(AC514=\"\",\"\",IF(AC514>Inputs!$D$9,0,1))","v":""},{"$f":"IF(AD514=\"\",\"\",IF(AD514>Inputs!$D$9,0,1))","v":""},{"$f":"IF(AE514=\"\",\"\",IF(AE514>Inputs!$D$9,0,1))","v":""},{"$f":"IF(AF514=\"\",\"\",IF(AF514>Inputs!$D$9,0,1))","v":""},{"$f":"IF(AG514=\"\",\"\",IF(AG514>Inputs!$D$9,0,1))","v":""},{"$f":"IF(AH514=\"\",\"\",IF(AH514>Inputs!$D$9,0,1))","v":""},{"$f":"IF(AI514=\"\",\"\",IF(AI514>Inputs!$D$9,0,1))","v":""},{"$f":"IF(AJ514=\"\",\"\",IF(AJ514>Inputs!$D$9,0,1))","v":""},{"$f":"IF(AK514=\"\",\"\",IF(AK514>Inputs!$D$9,0,1))","v":""},{"$f":"IF(AL514=\"\",\"\",IF(AL514>Inputs!$D$9,0,1))","v":""},"",0,null,"","","","","","","","","","","","","","",null,null,"","","","","","","","","","","","",""]
[null,null,null,null,null,null,null,null,null,null,null,null,null,null,{"$f":"IF(A515=\"\",\"\",IF(ISERROR(1+C515),\"\",IF(ISERROR(((1+C515/100)*(1+D515/100)*(1+E515/100)*(1+F515/100)*(1+G515/100)*(1+H515/100)*(1+I515/100)*(1+J515/100)*(1+K515/100)*(1+L515/100)*(1+M515/100)*(1+N515/100))^(1/12)-1),\"\",((1+C515/100)*(1+D515/100)*(1+E515/100)*(1+F515/100)*(1+G515/100)*(1+H515/100)*(1+I515/100)*(1+J515/100)*(1+K515/100)*(1+L515/100)*(1+M515/100)*(1+N515/100))^(1/12)-1)))","v":""},"",{"$f":"IF(A515=\"\",\"\",IF(ISERROR(1+E515),\"\",IF(ISERROR(((1+E515/100)*(1+F515/100)*(1+G515/100)*(1+H515/100)*(1+I515/100)*(1+J515/100)*(1+K515/100)*(1+L515/100)*(1+M515/100)*(1+N515/100))^(1/10)-1),\"\",((1+E515/100)*(1+F515/100)*(1+G515/100)*(1+H515/100)*(1+I515/100)*(1+J515/100)*(1+K515/100)*(1+L515/100)*(1+M515/100)*(1+N515/100))^(1/10)-1)))","v":""},{"$f":"IF(A515=\"\",\"\",IF(ISERROR(1+F515),\"\",IF(ISERROR(((1+F515/100)*(1+G515/100)*(1+H515/100)*(1+I515/100)*(1+J515/100)*(1+K515/100)*(1+L515/100)*(1+M515/100)*(1+N515/100))^(1/9)-1),\"\",((1+F515/100)*(1+G515/100)*(1+H515/100)*(1+I515/100)*(1+J515/100)*(1+K515/100)*(1+L515/100)*(1+M515/100)*(1+N515/100))^(1/9)-1)))","v":""},{"$f":"IF(A515=\"\",\"\",IF(ISERROR(1+G515),\"\",IF(ISERROR(((1+G515/100)*(1+H515/100)*(1+I515/100)*(1+J515/100)*(1+K515/100)*(1+L515/100)*(1+M515/100)*(1+N515/100))^(1/8)-1),\"\",((1+G515/100)*(1+H515/100)*(1+I515/100)*(1+J515/100)*(1+K515/100)*(1+L515/100)*(1+M515/100)*(1+N515/100))^(1/8)-1)))","v":""},{"$f":"IF(A515=\"\",\"\",IF(ISERROR(1+H515),\"\",IF(ISERROR(((1+H515/100)*(1+I515/100)*(1+J515/100)*(1+K515/100)*(1+L515/100)*(1+M515/100)*(1+N515/100))^(1/7)-1),\"\",((1+H515/100)*(1+I515/100)*(1+J515/100)*(1+K515/100)*(1+L515/100)*(1+M515/100)*(1+N515/100))^(1/7)-1)))","v":""},{"$f":"IF(A515=\"\",\"\",IF(ISERROR(1+I515),\"\",IF(ISERROR(((1+I515/100)*(1+J515/100)*(1+K515/100)*(1+L515/100)*(1+M515/100)*(1+N515/100))^(1/6)-1),\"\",((1+I515/100)*(1+J515/100)*(1+K515/100)*(1+L515/100)*(1+M515/100)*(1+N515/100))^(1/6)-1)))","v":""},{"$f":"IF(A515=\"\",\"\",IF(ISERROR(1+J515),\"\",IF(ISERROR(((1+J515/100)*(1+K515/100)*(1+L515/100)*(1+M515/100)*(1+N515/100))^(1/5)-1),\"\",((1+J515/100)*(1+K515/100)*(1+L515/100)*(1+M515/100)*(1+N515/100))^(1/5)-1)))","v":""},{"$f":"IF(A515=\"\",\"\",IF(ISERROR(1+K515),\"\",IF(ISERROR(((1+K515/100)*(1+L515/100)*(1+M515/100)*(1+N515/100))^(1/4)-1),\"\",((1+K515/100)*(1+L515/100)*(1+M515/100)*(1+N515/100))^(1/4)-1)))","v":""},{"$f":"IF(A515=\"\",\"\",IF(ISERROR(1+L515),\"\",IF(ISERROR(((1+L515/100)*(1+M515/100)*(1+N515/100))^(1/3)-1),\"\",((1+L515/100)*(1+M515/100)*(1+N515/100))^(1/3)-1)))","v":""},{"$f":"IF(A515=\"\",\"\",IF(ISERROR(1+M515),\"\",IF(ISERROR(((1+M515/100)*(1+N515/100))^(1/2)-1),\"\",((1+M515/100)*(1+N515/100))^(1/2)-1)))","v":""},{"$f":"IF(A515=\"\",\"\",IF(ISERROR(1+N515),\"\",IF(ISERROR(((1+N515/100))^(1/1)-1),\"\",((1+N515/100))^(1/1)-1)))","v":""},"","","","","","","","","","","","",null,{"$f":"IF(AA515=\"\",\"\",IF(AA515>Inputs!$D$9,0,1))","v":""},{"$f":"IF(AB515=\"\",\"\",IF(AB515>Inputs!$D$9,0,1))","v":""},{"$f":"IF(AC515=\"\",\"\",IF(AC515>Inputs!$D$9,0,1))","v":""},{"$f":"IF(AD515=\"\",\"\",IF(AD515>Inputs!$D$9,0,1))","v":""},{"$f":"IF(AE515=\"\",\"\",IF(AE515>Inputs!$D$9,0,1))","v":""},{"$f":"IF(AF515=\"\",\"\",IF(AF515>Inputs!$D$9,0,1))","v":""},{"$f":"IF(AG515=\"\",\"\",IF(AG515>Inputs!$D$9,0,1))","v":""},{"$f":"IF(AH515=\"\",\"\",IF(AH515>Inputs!$D$9,0,1))","v":""},{"$f":"IF(AI515=\"\",\"\",IF(AI515>Inputs!$D$9,0,1))","v":""},{"$f":"IF(AJ515=\"\",\"\",IF(AJ515>Inputs!$D$9,0,1))","v":""},{"$f":"IF(AK515=\"\",\"\",IF(AK515>Inputs!$D$9,0,1))","v":""},{"$f":"IF(AL515=\"\",\"\",IF(AL515>Inputs!$D$9,0,1))","v":""},"",{"$f":"COUNT(AN515:AY515)","v":0},null,{"$f":"IF(O515=\"\",\"\",IF(O515>AVERAGE($O$2:$O$1000),1,0))","v":""},{"$f":"IF(P515=\"\",\"\",IF(P515>AVERAGE($P$2:$P$1000),1,0))","v":""},{"$f":"IF(Q515=\"\",\"\",IF(Q515>AVERAGE($Q$2:$Q$1000),1,0))","v":""},{"$f":"IF(R515=\"\",\"\",IF(R515>AVERAGE($R$2:$R$1000),1,0))","v":""},{"$f":"IF(S515=\"\",\"\",IF(S515>AVERAGE($S$2:$S$1000),1,0))","v":""},{"$f":"IF(T515=\"\",\"\",IF(T515>AVERAGE($T$2:$T$1000),1,0))","v":""},{"$f":"IF(U515=\"\",\"\",IF(U515>AVERAGE($U$2:$U$1000),1,0))","v":""},{"$f":"IF(V515=\"\",\"\",IF(V515>AVERAGE($V$2:$V$1000),1,0))","v":""},{"$f":"IF(W515=\"\",\"\",IF(W515>AVERAGE($W$2:$W$1000),1,0))","v":""},{"$f":"IF(X515=\"\",\"\",IF(X515>AVERAGE($X$2:$X$1000),1,0))","v":""},{"$f":"IF(Y515=\"\",\"\",IF(Y515>AVERAGE($Y$2:$Y$1000),1,0))","v":""},{"$f":"IF(Z515=\"\",\"\",IF(Z515>AVERAGE($Z$2:$Z$1000),1,0))","v":""},{"$f":"IF(COUNT(BC515:BN515)=0,\"\",SUM(BC515:BN515)/COUNT(BC515:BN515))","v":""},{"$f":"IF(A515=\"\",\"\",COUNT(BC515:BN515))","v":""},null,null,{"$f":"IF($A515=\"\",\"\",IF(C515=\"-\",0,IF(C515>AVERAGE(C$2:C$1183),1,0)))","v":""},{"$f":"IF($A515=\"\",\"\",IF(D515=\"-\",0,IF(D515>AVERAGE(D$2:D$1183),1,0)))","v":""},{"$f":"IF($A515=\"\",\"\",IF(E515=\"-\",0,IF(E515>AVERAGE(E$2:E$1183),1,0)))","v":""},{"$f":"IF($A515=\"\",\"\",IF(F515=\"-\",0,IF(F515>AVERAGE(F$2:F$1183),1,0)))","v":""},{"$f":"IF($A515=\"\",\"\",IF(G515=\"-\",0,IF(G515>AVERAGE(G$2:G$1183),1,0)))","v":""},{"$f":"IF($A515=\"\",\"\",IF(H515=\"-\",0,IF(H515>AVERAGE(H$2:H$1183),1,0)))","v":""},{"$f":"IF($A515=\"\",\"\",IF(I515=\"-\",0,IF(I515>AVERAGE(I$2:I$1183),1,0)))","v":""},{"$f":"IF($A515=\"\",\"\",IF(J515=\"-\",0,IF(J515>AVERAGE(J$2:J$1183),1,0)))","v":""},{"$f":"IF($A515=\"\",\"\",IF(K515=\"-\",0,IF(K515>AVERAGE(K$2:K$1183),1,0)))","v":""},{"$f":"IF($A515=\"\",\"\",IF(L515=\"-\",0,IF(L515>AVERAGE(L$2:L$1183),1,0)))","v":""},{"$f":"IF($A515=\"\",\"\",IF(M515=\"-\",0,IF(M515>AVERAGE(M$2:M$1183),1,0)))","v":""},{"$f":"IF($A515=\"\",\"\",IF(N515=\"-\",0,IF(N515>AVERAGE(N$2:N$1183),1,0)))","v":""},""]
[null,null,null,null,null,null,null,null,null,null,null,null,null,null,"","","","","","","","","","","","","","","","","","","","","","","","",null,{"$f":"IF(AA516=\"\",\"\",IF(AA516>Inputs!$D$9,0,1))","v":""},{"$f":"IF(AB516=\"\",\"\",IF(AB516>Inputs!$D$9,0,1))","v":""},{"$f":"IF(AC516=\"\",\"\",IF(AC516>Inputs!$D$9,0,1))","v":""},{"$f":"IF(AD516=\"\",\"\",IF(AD516>Inputs!$D$9,0,1))","v":""},{"$f":"IF(AE516=\"\",\"\",IF(AE516>Inputs!$D$9,0,1))","v":""},{"$f":"IF(AF516=\"\",\"\",IF(AF516>Inputs!$D$9,0,1))","v":""},{"$f":"IF(AG516=\"\",\"\",IF(AG516>Inputs!$D$9,0,1))","v":""},{"$f":"IF(AH516=\"\",\"\",IF(AH516>Inputs!$D$9,0,1))","v":""},{"$f":"IF(AI516=\"\",\"\",IF(AI516>Inputs!$D$9,0,1))","v":""},{"$f":"IF(AJ516=\"\",\"\",IF(AJ516>Inputs!$D$9,0,1))","v":""},{"$f":"IF(AK516=\"\",\"\",IF(AK516>Inputs!$D$9,0,1))","v":""},{"$f":"IF(AL516=\"\",\"\",IF(AL516>Inputs!$D$9,0,1))","v":""},"",0,null,"","","","","","","","","","","","","","",null,null,"","","","","","","","","","","","",""]
[null,null,null,null,null,null,null,null,null,null,null,null,null,null,"","","","","","","","","","","","","","","","","","","","","","","","",null,{"$f":"IF(AA517=\"\",\"\",IF(AA517>Inputs!$D$9,0,1))","v":""},{"$f":"IF(AB517=\"\",\"\",IF(AB517>Inputs!$D$9,0,1))","v":""},{"$f":"IF(AC517=\"\",\"\",IF(AC517>Inputs!$D$9,0,1))","v":""},{"$f":"IF(AD517=\"\",\"\",IF(AD517>Inputs!$D$9,0,1))","v":""},{"$f":"IF(AE517=\"\",\"\",IF(AE517>Inputs!$D$9,0,1))","v":""},{"$f":"IF(AF517=\"\",\"\",IF(AF517>Inputs!$D$9,0,1))","v":""},{"$f":"IF(AG517=\"\",\"\",IF(AG517>Inputs!$D$9,0,1))","v":""},{"$f":"IF(AH517=\"\",\"\",IF(AH517>Inputs!$D$9,0,1))","v":""},{"$f":"IF(AI517=\"\",\"\",IF(AI517>Inputs!$D$9,0,1))","v":""},{"$f":"IF(AJ517=\"\",\"\",IF(AJ517>Inputs!$D$9,0,1))","v":""},{"$f":"IF(AK517=\"\",\"\",IF(AK517>Inputs!$D$9,0,1))","v":""},{"$f":"IF(AL517=\"\",\"\",IF(AL517>Inputs!$D$9,0,1))","v":""},"",0,null,"","","","","","","","","","","","","","",null,null,"","","","","","","","","","","","",""]
[null,null,null,null,null,null,null,null,null,null,null,null,null,null,"","","","","","","","","","","","","","","","","","","","","","","","",null,{"$f":"IF(AA518=\"\",\"\",IF(AA518>Inputs!$D$9,0,1))","v":""},{"$f":"IF(AB518=\"\",\"\",IF(AB518>Inputs!$D$9,0,1))","v":""},{"$f":"IF(AC518=\"\",\"\",IF(AC518>Inputs!$D$9,0,1))","v":""},{"$f":"IF(AD518=\"\",\"\",IF(AD518>Inputs!$D$9,0,1))","v":""},{"$f":"IF(AE518=\"\",\"\",IF(AE518>Inputs!$D$9,0,1))","v":""},{"$f":"IF(AF518=\"\",\"\",IF(AF518>Inputs!$D$9,0,1))","v":""},{"$f":"IF(AG518=\"\",\"\",IF(AG518>Inputs!$D$9,0,1))","v":""},{"$f":"IF(AH518=\"\",\"\",IF(AH518>Inputs!$D$9,0,1))","v":""},{"$f":"IF(AI518=\"\",\"\",IF(AI518>Inputs!$D$9,0,1))","v":""},{"$f":"IF(AJ518=\"\",\"\",IF(AJ518>Inputs!$D$9,0,1))","v":""},{"$f":"IF(AK518=\"\",\"\",IF(AK518>Inputs!$D$9,0,1))","v":""},{"$f":"IF(AL518=\"\",\"\",IF(AL518>Inputs!$D$9,0,1))","v":""},"",0,null,"","","","","","","","","","","","","","",null,null,"","","","","","","","","","","","",""]
[null,null,null,null,null,null,null,null,null,null,null,null,null,null,"","","","","","","","","","","","","","","","","","","","","","","","",null,{"$f":"IF(AA519=\"\",\"\",IF(AA519>Inputs!$D$9,0,1))","v":""},{"$f":"IF(AB519=\"\",\"\",IF(AB519>Inputs!$D$9,0,1))","v":""},{"$f":"IF(AC519=\"\",\"\",IF(AC519>Inputs!$D$9,0,1))","v":""},{"$f":"IF(AD519=\"\",\"\",IF(AD519>Inputs!$D$9,0,1))","v":""},{"$f":"IF(AE519=\"\",\"\",IF(AE519>Inputs!$D$9,0,1))","v":""},{"$f":"IF(AF519=\"\",\"\",IF(AF519>Inputs!$D$9,0,1))","v":""},{"$f":"IF(AG519=\"\",\"\",IF(AG519>Inputs!$D$9,0,1))","v":""},{"$f":"IF(AH519=\"\",\"\",IF(AH519>Inputs!$D$9,0,1))","v":""},{"$f":"IF(AI519=\"\",\"\",IF(AI519>Inputs!$D$9,0,1))","v":""},{"$f":"IF(AJ519=\"\",\"\",IF(AJ519>Inputs!$D$9,0,1))","v":""},{"$f":"IF(AK519=\"\",\"\",IF(AK519>Inputs!$D$9,0,1))","v":""},{"$f":"IF(AL519=\"\",\"\",IF(AL519>Inputs!$D$9,0,1))","v":""},"",0,null,"","","","","","","","","","","","","","",null,null,"","","","","","","","","","","","",""]
[null,null,null,null,null,null,null,null,null,null,null,null,null,null,"","","","","","","","","","","","","","","","","","","","","","","","",null,{"$f":"IF(AA520=\"\",\"\",IF(AA520>Inputs!$D$9,0,1))","v":""},{"$f":"IF(AB520=\"\",\"\",IF(AB520>Inputs!$D$9,0,1))","v":""},{"$f":"IF(AC520=\"\",\"\",IF(AC520>Inputs!$D$9,0,1))","v":""},{"$f":"IF(AD520=\"\",\"\",IF(AD520>Inputs!$D$9,0,1))","v":""},{"$f":"IF(AE520=\"\",\"\",IF(AE520>Inputs!$D$9,0,1))","v":""},{"$f":"IF(AF520=\"\",\"\",IF(AF520>Inputs!$D$9,0,1))","v":""},{"$f":"IF(AG520=\"\",\"\",IF(AG520>Inputs!$D$9,0,1))","v":""},{"$f":"IF(AH520=\"\",\"\",IF(AH520>Inputs!$D$9,0,1))","v":""},{"$f":"IF(AI520=\"\",\"\",IF(AI520>Inputs!$D$9,0,1))","v":""},{"$f":"IF(AJ520=\"\",\"\",IF(AJ520>Inputs!$D$9,0,1))","v":""},{"$f":"IF(AK520=\"\",\"\",IF(AK520>Inputs!$D$9,0,1))","v":""},{"$f":"IF(AL520=\"\",\"\",IF(AL520>Inputs!$D$9,0,1))","v":""},"",0,null,"","","","","","","","","","","","","","",null,null,"","","","","","","","","","","","",""]
[null,null,null,null,null,null,null,null,null,null,null,null,null,null,"","","","","","","","","","","","","","","","","","","","","","","","",null,{"$f":"IF(AA521=\"\",\"\",IF(AA521>Inputs!$D$9,0,1))","v":""},{"$f":"IF(AB521=\"\",\"\",IF(AB521>Inputs!$D$9,0,1))","v":""},{"$f":"IF(AC521=\"\",\"\",IF(AC521>Inputs!$D$9,0,1))","v":""},{"$f":"IF(AD521=\"\",\"\",IF(AD521>Inputs!$D$9,0,1))","v":""},{"$f":"IF(AE521=\"\",\"\",IF(AE521>Inputs!$D$9,0,1))","v":""},{"$f":"IF(AF521=\"\",\"\",IF(AF521>Inputs!$D$9,0,1))","v":""},{"$f":"IF(AG521=\"\",\"\",IF(AG521>Inputs!$D$9,0,1))","v":""},{"$f":"IF(AH521=\"\",\"\",IF(AH521>Inputs!$D$9,0,1))","v":""},{"$f":"IF(AI521=\"\",\"\",IF(AI521>Inputs!$D$9,0,1))","v":""},{"$f":"IF(AJ521=\"\",\"\",IF(AJ521>Inputs!$D$9,0,1))","v":""},{"$f":"IF(AK521=\"\",\"\",IF(AK521>Inputs!$D$9,0,1))","v":""},{"$f":"IF(AL521=\"\",\"\",IF(AL521>Inputs!$D$9,0,1))","v":""},"",0,null,"","","","","","","","","","","","","","",null,null,"","","","","","","","","","","","",""]
[null,null,null,null,null,null,null,null,null,null,null,null,null,null,"","","","","","","","","","","","","","","","","","","","","","","","",null,{"$f":"IF(AA522=\"\",\"\",IF(AA522>Inputs!$D$9,0,1))","v":""},{"$f":"IF(AB522=\"\",\"\",IF(AB522>Inputs!$D$9,0,1))","v":""},{"$f":"IF(AC522=\"\",\"\",IF(AC522>Inputs!$D$9,0,1))","v":""},{"$f":"IF(AD522=\"\",\"\",IF(AD522>Inputs!$D$9,0,1))","v":""},{"$f":"IF(AE522=\"\",\"\",IF(AE522>Inputs!$D$9,0,1))","v":""},{"$f":"IF(AF522=\"\",\"\",IF(AF522>Inputs!$D$9,0,1))","v":""},{"$f":"IF(AG522=\"\",\"\",IF(AG522>Inputs!$D$9,0,1))","v":""},{"$f":"IF(AH522=\"\",\"\",IF(AH522>Inputs!$D$9,0,1))","v":""},{"$f":"IF(AI522=\"\",\"\",IF(AI522>Inputs!$D$9,0,1))","v":""},{"$f":"IF(AJ522=\"\",\"\",IF(AJ522>Inputs!$D$9,0,1))","v":""},{"$f":"IF(AK522=\"\",\"\",IF(AK522>Inputs!$D$9,0,1))","v":""},{"$f":"IF(AL522=\"\",\"\",IF(AL522>Inputs!$D$9,0,1))","v":""},"",0,null,"","","","","","","","","","","","","","",null,null,"","","","","","","","","","","","",""]
[null,null,null,null,null,null,null,null,null,null,null,null,null,null,"","","","","","","","","","","","","","","","","","","","","","","","",null,{"$f":"IF(AA523=\"\",\"\",IF(AA523>Inputs!$D$9,0,1))","v":""},{"$f":"IF(AB523=\"\",\"\",IF(AB523>Inputs!$D$9,0,1))","v":""},{"$f":"IF(AC523=\"\",\"\",IF(AC523>Inputs!$D$9,0,1))","v":""},{"$f":"IF(AD523=\"\",\"\",IF(AD523>Inputs!$D$9,0,1))","v":""},{"$f":"IF(AE523=\"\",\"\",IF(AE523>Inputs!$D$9,0,1))","v":""},{"$f":"IF(AF523=\"\",\"\",IF(AF523>Inputs!$D$9,0,1))","v":""},{"$f":"IF(AG523=\"\",\"\",IF(AG523>Inputs!$D$9,0,1))","v":""},{"$f":"IF(AH523=\"\",\"\",IF(AH523>Inputs!$D$9,0,1))","v":""},{"$f":"IF(AI523=\"\",\"\",IF(AI523>Inputs!$D$9,0,1))","v":""},{"$f":"IF(AJ523=\"\",\"\",IF(AJ523>Inputs!$D$9,0,1))","v":""},{"$f":"IF(AK523=\"\",\"\",IF(AK523>Inputs!$D$9,0,1))","v":""},{"$f":"IF(AL523=\"\",\"\",IF(AL523>Inputs!$D$9,0,1))","v":""},"",0,null,"","","","","","","","","","","","","","",null,null,"","","","","","","","","","","","",""]
[null,null,null,null,null,null,null,null,null,null,null,null,null,null,"","","","","","","","","","","","","","","","","","","","","","","","",null,{"$f":"IF(AA524=\"\",\"\",IF(AA524>Inputs!$D$9,0,1))","v":""},{"$f":"IF(AB524=\"\",\"\",IF(AB524>Inputs!$D$9,0,1))","v":""},{"$f":"IF(AC524=\"\",\"\",IF(AC524>Inputs!$D$9,0,1))","v":""},{"$f":"IF(AD524=\"\",\"\",IF(AD524>Inputs!$D$9,0,1))","v":""},{"$f":"IF(AE524=\"\",\"\",IF(AE524>Inputs!$D$9,0,1))","v":""},{"$f":"IF(AF524=\"\",\"\",IF(AF524>Inputs!$D$9,0,1))","v":""},{"$f":"IF(AG524=\"\",\"\",IF(AG524>Inputs!$D$9,0,1))","v":""},{"$f":"IF(AH524=\"\",\"\",IF(AH524>Inputs!$D$9,0,1))","v":""},{"$f":"IF(AI524=\"\",\"\",IF(AI524>Inputs!$D$9,0,1))","v":""},{"$f":"IF(AJ524=\"\",\"\",IF(AJ524>Inputs!$D$9,0,1))","v":""},{"$f":"IF(AK524=\"\",\"\",IF(AK524>Inputs!$D$9,0,1))","v":""},{"$f":"IF(AL524=\"\",\"\",IF(AL524>Inputs!$D$9,0,1))","v":""},"",0,null,"","","","","","","","","","","","","","",null,null,"","","","","","","","","","","","",""]
[null,null,null,null,null,null,null,null,null,null,null,null,null,null,"","","","","","","","","","","","","","","","","","","","","","","","",null,{"$f":"IF(AA525=\"\",\"\",IF(AA525>Inputs!$D$9,0,1))","v":""},{"$f":"IF(AB525=\"\",\"\",IF(AB525>Inputs!$D$9,0,1))","v":""},{"$f":"IF(AC525=\"\",\"\",IF(AC525>Inputs!$D$9,0,1))","v":""},{"$f":"IF(AD525=\"\",\"\",IF(AD525>Inputs!$D$9,0,1))","v":""},{"$f":"IF(AE525=\"\",\"\",IF(AE525>Inputs!$D$9,0,1))","v":""},{"$f":"IF(AF525=\"\",\"\",IF(AF525>Inputs!$D$9,0,1))","v":""},{"$f":"IF(AG525=\"\",\"\",IF(AG525>Inputs!$D$9,0,1))","v":""},{"$f":"IF(AH525=\"\",\"\",IF(AH525>Inputs!$D$9,0,1))","v":""},{"$f":"IF(AI525=\"\",\"\",IF(AI525>Inputs!$D$9,0,1))","v":""},{"$f":"IF(AJ525=\"\",\"\",IF(AJ525>Inputs!$D$9,0,1))","v":""},{"$f":"IF(AK525=\"\",\"\",IF(AK525>Inputs!$D$9,0,1))","v":""},{"$f":"IF(AL525=\"\",\"\",IF(AL525>Inputs!$D$9,0,1))","v":""},"",0,null,"","","","","","","","","","","","","","",null,null,"","","","","","","","","","","","",""]
[null,null,null,null,null,null,null,null,null,null,null,null,null,null,"","","","","","","","","","","","","","","","","","","","","","","","",null,{"$f":"IF(AA526=\"\",\"\",IF(AA526>Inputs!$D$9,0,1))","v":""},{"$f":"IF(AB526=\"\",\"\",IF(AB526>Inputs!$D$9,0,1))","v":""},{"$f":"IF(AC526=\"\",\"\",IF(AC526>Inputs!$D$9,0,1))","v":""},{"$f":"IF(AD526=\"\",\"\",IF(AD526>Inputs!$D$9,0,1))","v":""},{"$f":"IF(AE526=\"\",\"\",IF(AE526>Inputs!$D$9,0,1))","v":""},{"$f":"IF(AF526=\"\",\"\",IF(AF526>Inputs!$D$9,0,1))","v":""},{"$f":"IF(AG526=\"\",\"\",IF(AG526>Inputs!$D$9,0,1))","v":""},{"$f":"IF(AH526=\"\",\"\",IF(AH526>Inputs!$D$9,0,1))","v":""},{"$f":"IF(AI526=\"\",\"\",IF(AI526>Inputs!$D$9,0,1))","v":""},{"$f":"IF(AJ526=\"\",\"\",IF(AJ526>Inputs!$D$9,0,1))","v":""},{"$f":"IF(AK526=\"\",\"\",IF(AK526>Inputs!$D$9,0,1))","v":""},{"$f":"IF(AL526=\"\",\"\",IF(AL526>Inputs!$D$9,0,1))","v":""},"",0,null,"","","","","","","","","","","","","","",null,null,"","","","","","","","","","","","",""]
[null,null,null,null,null,null,null,null,null,null,null,null,null,null,"","","","","","","","","","","","","","","","","","","","","","","","",null,{"$f":"IF(AA527=\"\",\"\",IF(AA527>Inputs!$D$9,0,1))","v":""},{"$f":"IF(AB527=\"\",\"\",IF(AB527>Inputs!$D$9,0,1))","v":""},{"$f":"IF(AC527=\"\",\"\",IF(AC527>Inputs!$D$9,0,1))","v":""},{"$f":"IF(AD527=\"\",\"\",IF(AD527>Inputs!$D$9,0,1))","v":""},{"$f":"IF(AE527=\"\",\"\",IF(AE527>Inputs!$D$9,0,1))","v":""},{"$f":"IF(AF527=\"\",\"\",IF(AF527>Inputs!$D$9,0,1))","v":""},{"$f":"IF(AG527=\"\",\"\",IF(AG527>Inputs!$D$9,0,1))","v":""},{"$f":"IF(AH527=\"\",\"\",IF(AH527>Inputs!$D$9,0,1))","v":""},{"$f":"IF(AI527=\"\",\"\",IF(AI527>Inputs!$D$9,0,1))","v":""},{"$f":"IF(AJ527=\"\",\"\",IF(AJ527>Inputs!$D$9,0,1))","v":""},{"$f":"IF(AK527=\"\",\"\",IF(AK527>Inputs!$D$9,0,1))","v":""},{"$f":"IF(AL527=\"\",\"\",IF(AL527>Inputs!$D$9,0,1))","v":""},"",0,null,"","","","","","","","","","","","","","",null,null,"","","","","","","","","","","","",""]
[null,null,null,null,null,null,null,null,null,null,null,null,null,null,"","","","","","","","","","","","","","","","","","","","","","","","",null,{"$f":"IF(AA528=\"\",\"\",IF(AA528>Inputs!$D$9,0,1))","v":""},{"$f":"IF(AB528=\"\",\"\",IF(AB528>Inputs!$D$9,0,1))","v":""},{"$f":"IF(AC528=\"\",\"\",IF(AC528>Inputs!$D$9,0,1))","v":""},{"$f":"IF(AD528=\"\",\"\",IF(AD528>Inputs!$D$9,0,1))","v":""},{"$f":"IF(AE528=\"\",\"\",IF(AE528>Inputs!$D$9,0,1))","v":""},{"$f":"IF(AF528=\"\",\"\",IF(AF528>Inputs!$D$9,0,1))","v":""},{"$f":"IF(AG528=\"\",\"\",IF(AG528>Inputs!$D$9,0,1))","v":""},{"$f":"IF(AH528=\"\",\"\",IF(AH528>Inputs!$D$9,0,1))","v":""},{"$f":"IF(AI528=\"\",\"\",IF(AI528>Inputs!$D$9,0,1))","v":""},{"$f":"IF(AJ528=\"\",\"\",IF(AJ528>Inputs!$D$9,0,1))","v":""},{"$f":"IF(AK528=\"\",\"\",IF(AK528>Inputs!$D$9,0,1))","v":""},{"$f":"IF(AL528=\"\",\"\",IF(AL528>Inputs!$D$9,0,1))","v":""},"",0,null,"","","","","","","","","","","","","","",null,null,"","","","","","","","","","","","",""]
[null,null,null,null,null,null,null,null,null,null,null,null,null,null,"","","","","","","","","","","","","","","","","","","","","","","","",null,{"$f":"IF(AA529=\"\",\"\",IF(AA529>Inputs!$D$9,0,1))","v":""},{"$f":"IF(AB529=\"\",\"\",IF(AB529>Inputs!$D$9,0,1))","v":""},{"$f":"IF(AC529=\"\",\"\",IF(AC529>Inputs!$D$9,0,1))","v":""},{"$f":"IF(AD529=\"\",\"\",IF(AD529>Inputs!$D$9,0,1))","v":""},{"$f":"IF(AE529=\"\",\"\",IF(AE529>Inputs!$D$9,0,1))","v":""},{"$f":"IF(AF529=\"\",\"\",IF(AF529>Inputs!$D$9,0,1))","v":""},{"$f":"IF(AG529=\"\",\"\",IF(AG529>Inputs!$D$9,0,1))","v":""},{"$f":"IF(AH529=\"\",\"\",IF(AH529>Inputs!$D$9,0,1))","v":""},{"$f":"IF(AI529=\"\",\"\",IF(AI529>Inputs!$D$9,0,1))","v":""},{"$f":"IF(AJ529=\"\",\"\",IF(AJ529>Inputs!$D$9,0,1))","v":""},{"$f":"IF(AK529=\"\",\"\",IF(AK529>Inputs!$D$9,0,1))","v":""},{"$f":"IF(AL529=\"\",\"\",IF(AL529>Inputs!$D$9,0,1))","v":""},"",0,null,"","","","","","","","","","","","","","",null,null,"","","","","","","","","","","","",""]
[null,null,null,null,null,null,null,null,null,null,null,null,null,null,"","","","","","","","","","","","","","","","","","","","","","","","",null,{"$f":"IF(AA530=\"\",\"\",IF(AA530>Inputs!$D$9,0,1))","v":""},{"$f":"IF(AB530=\"\",\"\",IF(AB530>Inputs!$D$9,0,1))","v":""},{"$f":"IF(AC530=\"\",\"\",IF(AC530>Inputs!$D$9,0,1))","v":""},{"$f":"IF(AD530=\"\",\"\",IF(AD530>Inputs!$D$9,0,1))","v":""},{"$f":"IF(AE530=\"\",\"\",IF(AE530>Inputs!$D$9,0,1))","v":""},{"$f":"IF(AF530=\"\",\"\",IF(AF530>Inputs!$D$9,0,1))","v":""},{"$f":"IF(AG530=\"\",\"\",IF(AG530>Inputs!$D$9,0,1))","v":""},{"$f":"IF(AH530=\"\",\"\",IF(AH530>Inputs!$D$9,0,1))","v":""},{"$f":"IF(AI530=\"\",\"\",IF(AI530>Inputs!$D$9,0,1))","v":""},{"$f":"IF(AJ530=\"\",\"\",IF(AJ530>Inputs!$D$9,0,1))","v":""},{"$f":"IF(AK530=\"\",\"\",IF(AK530>Inputs!$D$9,0,1))","v":""},{"$f":"IF(AL530=\"\",\"\",IF(AL530>Inputs!$D$9,0,1))","v":""},"",0,null,"","","","","","","","","","","","","","",null,null,"","","","","","","","","","","","",""]
[null,null,null,null,null,null,null,null,null,null,null,null,null,null,"","","","","","","","","","","","","","","","","","","","","","","","",null,{"$f":"IF(AA531=\"\",\"\",IF(AA531>Inputs!$D$9,0,1))","v":""},{"$f":"IF(AB531=\"\",\"\",IF(AB531>Inputs!$D$9,0,1))","v":""},{"$f":"IF(AC531=\"\",\"\",IF(AC531>Inputs!$D$9,0,1))","v":""},{"$f":"IF(AD531=\"\",\"\",IF(AD531>Inputs!$D$9,0,1))","v":""},{"$f":"IF(AE531=\"\",\"\",IF(AE531>Inputs!$D$9,0,1))","v":""},{"$f":"IF(AF531=\"\",\"\",IF(AF531>Inputs!$D$9,0,1))","v":""},{"$f":"IF(AG531=\"\",\"\",IF(AG531>Inputs!$D$9,0,1))","v":""},{"$f":"IF(AH531=\"\",\"\",IF(AH531>Inputs!$D$9,0,1))","v":""},{"$f":"IF(AI531=\"\",\"\",IF(AI531>Inputs!$D$9,0,1))","v":""},{"$f":"IF(AJ531=\"\",\"\",IF(AJ531>Inputs!$D$9,0,1))","v":""},{"$f":"IF(AK531=\"\",\"\",IF(AK531>Inputs!$D$9,0,1))","v":""},{"$f":"IF(AL531=\"\",\"\",IF(AL531>Inputs!$D$9,0,1))","v":""},"",0,null,"","","","","","","","","","","","","","",null,null,"","","","","","","","","","","","",{"$f":"IF(A531=\"\",\"\",SUM(BS531:CD531))","v":""}]
[null,null,null,null,null,null,null,null,null,null,null,null,null,null,"","","","","","","","","","","","","","","","","","","","","","","","",null,{"$f":"IF(AA532=\"\",\"\",IF(AA532>Inputs!$D$9,0,1))","v":""},{"$f":"IF(AB532=\"\",\"\",IF(AB532>Inputs!$D$9,0,1))","v":""},{"$f":"IF(AC532=\"\",\"\",IF(AC532>Inputs!$D$9,0,1))","v":""},{"$f":"IF(AD532=\"\",\"\",IF(AD532>Inputs!$D$9,0,1))","v":""},{"$f":"IF(AE532=\"\",\"\",IF(AE532>Inputs!$D$9,0,1))","v":""},{"$f":"IF(AF532=\"\",\"\",IF(AF532>Inputs!$D$9,0,1))","v":""},{"$f":"IF(AG532=\"\",\"\",IF(AG532>Inputs!$D$9,0,1))","v":""},{"$f":"IF(AH532=\"\",\"\",IF(AH532>Inputs!$D$9,0,1))","v":""},{"$f":"IF(AI532=\"\",\"\",IF(AI532>Inputs!$D$9,0,1))","v":""},{"$f":"IF(AJ532=\"\",\"\",IF(AJ532>Inputs!$D$9,0,1))","v":""},{"$f":"IF(AK532=\"\",\"\",IF(AK532>Inputs!$D$9,0,1))","v":""},{"$f":"IF(AL532=\"\",\"\",IF(AL532>Inputs!$D$9,0,1))","v":""},"",0,null,"","","","","","","","","","","","","","",null,null,"","","","","","","","","","","","",""]
[null,null,null,null,null,null,null,null,null,null,null,null,null,null,"","","","","","","","","","","","","","","","","","","","","","","","",null,{"$f":"IF(AA533=\"\",\"\",IF(AA533>Inputs!$D$9,0,1))","v":""},{"$f":"IF(AB533=\"\",\"\",IF(AB533>Inputs!$D$9,0,1))","v":""},{"$f":"IF(AC533=\"\",\"\",IF(AC533>Inputs!$D$9,0,1))","v":""},{"$f":"IF(AD533=\"\",\"\",IF(AD533>Inputs!$D$9,0,1))","v":""},{"$f":"IF(AE533=\"\",\"\",IF(AE533>Inputs!$D$9,0,1))","v":""},{"$f":"IF(AF533=\"\",\"\",IF(AF533>Inputs!$D$9,0,1))","v":""},{"$f":"IF(AG533=\"\",\"\",IF(AG533>Inputs!$D$9,0,1))","v":""},{"$f":"IF(AH533=\"\",\"\",IF(AH533>Inputs!$D$9,0,1))","v":""},{"$f":"IF(AI533=\"\",\"\",IF(AI533>Inputs!$D$9,0,1))","v":""},{"$f":"IF(AJ533=\"\",\"\",IF(AJ533>Inputs!$D$9,0,1))","v":""},{"$f":"IF(AK533=\"\",\"\",IF(AK533>Inputs!$D$9,0,1))","v":""},{"$f":"IF(AL533=\"\",\"\",IF(AL533>Inputs!$D$9,0,1))","v":""},"",0,null,"","","","","","","","","","","","","","",null,null,"","","","","","","","","","","","",""]
[null,null,null,null,null,null,null,null,null,null,null,null,null,null,"","","","","","","","","","","","","","","","","","","","","","","","",null,{"$f":"IF(AA534=\"\",\"\",IF(AA534>Inputs!$D$9,0,1))","v":""},{"$f":"IF(AB534=\"\",\"\",IF(AB534>Inputs!$D$9,0,1))","v":""},{"$f":"IF(AC534=\"\",\"\",IF(AC534>Inputs!$D$9,0,1))","v":""},{"$f":"IF(AD534=\"\",\"\",IF(AD534>Inputs!$D$9,0,1))","v":""},{"$f":"IF(AE534=\"\",\"\",IF(AE534>Inputs!$D$9,0,1))","v":""},{"$f":"IF(AF534=\"\",\"\",IF(AF534>Inputs!$D$9,0,1))","v":""},{"$f":"IF(AG534=\"\",\"\",IF(AG534>Inputs!$D$9,0,1))","v":""},{"$f":"IF(AH534=\"\",\"\",IF(AH534>Inputs!$D$9,0,1))","v":""},{"$f":"IF(AI534=\"\",\"\",IF(AI534>Inputs!$D$9,0,1))","v":""},{"$f":"IF(AJ534=\"\",\"\",IF(AJ534>Inputs!$D$9,0,1))","v":""},{"$f":"IF(AK534=\"\",\"\",IF(AK534>Inputs!$D$9,0,1))","v":""},{"$f":"IF(AL534=\"\",\"\",IF(AL534>Inputs!$D$9,0,1))","v":""},"",0,null,"","","","","","","","","","","","","","",null,null,"","","","","","","","","","","","",""]
[null,null,null,null,null,null,null,null,null,null,null,null,null,null,"","","","","","","","","","","","","","","","","","","","","","","","",null,{"$f":"IF(AA535=\"\",\"\",IF(AA535>Inputs!$D$9,0,1))","v":""},{"$f":"IF(AB535=\"\",\"\",IF(AB535>Inputs!$D$9,0,1))","v":""},{"$f":"IF(AC535=\"\",\"\",IF(AC535>Inputs!$D$9,0,1))","v":""},{"$f":"IF(AD535=\"\",\"\",IF(AD535>Inputs!$D$9,0,1))","v":""},{"$f":"IF(AE535=\"\",\"\",IF(AE535>Inputs!$D$9,0,1))","v":""},{"$f":"IF(AF535=\"\",\"\",IF(AF535>Inputs!$D$9,0,1))","v":""},{"$f":"IF(AG535=\"\",\"\",IF(AG535>Inputs!$D$9,0,1))","v":""},{"$f":"IF(AH535=\"\",\"\",IF(AH535>Inputs!$D$9,0,1))","v":""},{"$f":"IF(AI535=\"\",\"\",IF(AI535>Inputs!$D$9,0,1))","v":""},{"$f":"IF(AJ535=\"\",\"\",IF(AJ535>Inputs!$D$9,0,1))","v":""},{"$f":"IF(AK535=\"\",\"\",IF(AK535>Inputs!$D$9,0,1))","v":""},{"$f":"IF(AL535=\"\",\"\",IF(AL535>Inputs!$D$9,0,1))","v":""},"",0,null,"","","","","","","","","","","","","","",null,null,"","","","","","","","","","","","",""]
[null,null,null,null,null,null,null,null,null,null,null,null,null,null,"","","","","","","","","","","","","","","","","","","","","","","","",null,{"$f":"IF(AA536=\"\",\"\",IF(AA536>Inputs!$D$9,0,1))","v":""},{"$f":"IF(AB536=\"\",\"\",IF(AB536>Inputs!$D$9,0,1))","v":""},{"$f":"IF(AC536=\"\",\"\",IF(AC536>Inputs!$D$9,0,1))","v":""},{"$f":"IF(AD536=\"\",\"\",IF(AD536>Inputs!$D$9,0,1))","v":""},{"$f":"IF(AE536=\"\",\"\",IF(AE536>Inputs!$D$9,0,1))","v":""},{"$f":"IF(AF536=\"\",\"\",IF(AF536>Inputs!$D$9,0,1))","v":""},{"$f":"IF(AG536=\"\",\"\",IF(AG536>Inputs!$D$9,0,1))","v":""},{"$f":"IF(AH536=\"\",\"\",IF(AH536>Inputs!$D$9,0,1))","v":""},{"$f":"IF(AI536=\"\",\"\",IF(AI536>Inputs!$D$9,0,1))","v":""},{"$f":"IF(AJ536=\"\",\"\",IF(AJ536>Inputs!$D$9,0,1))","v":""},{"$f":"IF(AK536=\"\",\"\",IF(AK536>Inputs!$D$9,0,1))","v":""},{"$f":"IF(AL536=\"\",\"\",IF(AL536>Inputs!$D$9,0,1))","v":""},"",0,null,"","","","","","","","","","","","","","",null,null,"","","","","","","","","","","","",""]
[null,null,null,null,null,null,null,null,null,null,null,null,null,null,"","","","","","","","","","","","","","","","","","","","","","","","",null,{"$f":"IF(AA537=\"\",\"\",IF(AA537>Inputs!$D$9,0,1))","v":""},{"$f":"IF(AB537=\"\",\"\",IF(AB537>Inputs!$D$9,0,1))","v":""},{"$f":"IF(AC537=\"\",\"\",IF(AC537>Inputs!$D$9,0,1))","v":""},{"$f":"IF(AD537=\"\",\"\",IF(AD537>Inputs!$D$9,0,1))","v":""},{"$f":"IF(AE537=\"\",\"\",IF(AE537>Inputs!$D$9,0,1))","v":""},{"$f":"IF(AF537=\"\",\"\",IF(AF537>Inputs!$D$9,0,1))","v":""},{"$f":"IF(AG537=\"\",\"\",IF(AG537>Inputs!$D$9,0,1))","v":""},{"$f":"IF(AH537=\"\",\"\",IF(AH537>Inputs!$D$9,0,1))","v":""},{"$f":"IF(AI537=\"\",\"\",IF(AI537>Inputs!$D$9,0,1))","v":""},{"$f":"IF(AJ537=\"\",\"\",IF(AJ537>Inputs!$D$9,0,1))","v":""},{"$f":"IF(AK537=\"\",\"\",IF(AK537>Inputs!$D$9,0,1))","v":""},{"$f":"IF(AL537=\"\",\"\",IF(AL537>Inputs!$D$9,0,1))","v":""},"",0,null,"","","","","","","","","","","","","","",null,null,"","","","","","","","","","","","",""]
[null,null,null,null,null,null,null,null,null,null,null,null,null,null,"","","","","","","","","","","","","","","","","","","","","","","","",null,{"$f":"IF(AA538=\"\",\"\",IF(AA538>Inputs!$D$9,0,1))","v":""},{"$f":"IF(AB538=\"\",\"\",IF(AB538>Inputs!$D$9,0,1))","v":""},{"$f":"IF(AC538=\"\",\"\",IF(AC538>Inputs!$D$9,0,1))","v":""},{"$f":"IF(AD538=\"\",\"\",IF(AD538>Inputs!$D$9,0,1))","v":""},{"$f":"IF(AE538=\"\",\"\",IF(AE538>Inputs!$D$9,0,1))","v":""},{"$f":"IF(AF538=\"\",\"\",IF(AF538>Inputs!$D$9,0,1))","v":""},{"$f":"IF(AG538=\"\",\"\",IF(AG538>Inputs!$D$9,0,1))","v":""},{"$f":"IF(AH538=\"\",\"\",IF(AH538>Inputs!$D$9,0,1))","v":""},{"$f":"IF(AI538=\"\",\"\",IF(AI538>Inputs!$D$9,0,1))","v":""},{"$f":"IF(AJ538=\"\",\"\",IF(AJ538>Inputs!$D$9,0,1))","v":""},{"$f":"IF(AK538=\"\",\"\",IF(AK538>Inputs!$D$9,0,1))","v":""},{"$f":"IF(AL538=\"\",\"\",IF(AL538>Inputs!$D$9,0,1))","v":""},"",0,null,"","","","","","","","","","","","","","",null,null,"","","","","","","","","","","","",""]
[null,null,null,null,null,null,null,null,null,null,null,null,null,null,"","","","","","","","","","","","","","","","","","","","","","","","",null,{"$f":"IF(AA539=\"\",\"\",IF(AA539>Inputs!$D$9,0,1))","v":""},{"$f":"IF(AB539=\"\",\"\",IF(AB539>Inputs!$D$9,0,1))","v":""},{"$f":"IF(AC539=\"\",\"\",IF(AC539>Inputs!$D$9,0,1))","v":""},{"$f":"IF(AD539=\"\",\"\",IF(AD539>Inputs!$D$9,0,1))","v":""},{"$f":"IF(AE539=\"\",\"\",IF(AE539>Inputs!$D$9,0,1))","v":""},{"$f":"IF(AF539=\"\",\"\",IF(AF539>Inputs!$D$9,0,1))","v":""},{"$f":"IF(AG539=\"\",\"\",IF(AG539>Inputs!$D$9,0,1))","v":""},{"$f":"IF(AH539=\"\",\"\",IF(AH539>Inputs!$D$9,0,1))","v":""},{"$f":"IF(AI539=\"\",\"\",IF(AI539>Inputs!$D$9,0,1))","v":""},{"$f":"IF(AJ539=\"\",\"\",IF(AJ539>Inputs!$D$9,0,1))","v":""},{"$f":"IF(AK539=\"\",\"\",IF(AK539>Inputs!$D$9,0,1))","v":""},{"$f":"IF(AL539=\"\",\"\",IF(AL539>Inputs!$D$9,0,1))","v":""},"",0,null,"","","","","","","","","","","","","","",null,null,"","","","","","","","","","","","",""]
[null,null,null,null,null,null,null,null,null,null,null,null,null,null,"","","","","","","","","","","","","","","","","","","","","","","","",null,{"$f":"IF(AA540=\"\",\"\",IF(AA540>Inputs!$D$9,0,1))","v":""},{"$f":"IF(AB540=\"\",\"\",IF(AB540>Inputs!$D$9,0,1))","v":""},{"$f":"IF(AC540=\"\",\"\",IF(AC540>Inputs!$D$9,0,1))","v":""},{"$f":"IF(AD540=\"\",\"\",IF(AD540>Inputs!$D$9,0,1))","v":""},{"$f":"IF(AE540=\"\",\"\",IF(AE540>Inputs!$D$9,0,1))","v":""},{"$f":"IF(AF540=\"\",\"\",IF(AF540>Inputs!$D$9,0,1))","v":""},{"$f":"IF(AG540=\"\",\"\",IF(AG540>Inputs!$D$9,0,1))","v":""},{"$f":"IF(AH540=\"\",\"\",IF(AH540>Inputs!$D$9,0,1))","v":""},{"$f":"IF(AI540=\"\",\"\",IF(AI540>Inputs!$D$9,0,1))","v":""},{"$f":"IF(AJ540=\"\",\"\",IF(AJ540>Inputs!$D$9,0,1))","v":""},{"$f":"IF(AK540=\"\",\"\",IF(AK540>Inputs!$D$9,0,1))","v":""},{"$f":"IF(AL540=\"\",\"\",IF(AL540>Inputs!$D$9,0,1))","v":""},"",0,null,"","","","","","","","","","","","","","",null,null,"","","","","","","","","","","","",""]
[null,null,null,null,null,null,null,null,null,null,null,null,null,null,"","","","","","","","","","","","","","","","","","","","","","","","",null,{"$f":"IF(AA541=\"\",\"\",IF(AA541>Inputs!$D$9,0,1))","v":""},{"$f":"IF(AB541=\"\",\"\",IF(AB541>Inputs!$D$9,0,1))","v":""},{"$f":"IF(AC541=\"\",\"\",IF(AC541>Inputs!$D$9,0,1))","v":""},{"$f":"IF(AD541=\"\",\"\",IF(AD541>Inputs!$D$9,0,1))","v":""},{"$f":"IF(AE541=\"\",\"\",IF(AE541>Inputs!$D$9,0,1))","v":""},{"$f":"IF(AF541=\"\",\"\",IF(AF541>Inputs!$D$9,0,1))","v":""},{"$f":"IF(AG541=\"\",\"\",IF(AG541>Inputs!$D$9,0,1))","v":""},{"$f":"IF(AH541=\"\",\"\",IF(AH541>Inputs!$D$9,0,1))","v":""},{"$f":"IF(AI541=\"\",\"\",IF(AI541>Inputs!$D$9,0,1))","v":""},{"$f":"IF(AJ541=\"\",\"\",IF(AJ541>Inputs!$D$9,0,1))","v":""},{"$f":"IF(AK541=\"\",\"\",IF(AK541>Inputs!$D$9,0,1))","v":""},{"$f":"IF(AL541=\"\",\"\",IF(AL541>Inputs!$D$9,0,1))","v":""},"",0,null,"","","","","","","","","","","","","","",null,null,"","","","","","","","","","","","",""]
[null,null,null,null,null,null,null,null,null,null,null,null,null,null,"","","","","","","","","","","","","","","","","","","","","","","","",null,{"$f":"IF(AA542=\"\",\"\",IF(AA542>Inputs!$D$9,0,1))","v":""},{"$f":"IF(AB542=\"\",\"\",IF(AB542>Inputs!$D$9,0,1))","v":""},{"$f":"IF(AC542=\"\",\"\",IF(AC542>Inputs!$D$9,0,1))","v":""},{"$f":"IF(AD542=\"\",\"\",IF(AD542>Inputs!$D$9,0,1))","v":""},{"$f":"IF(AE542=\"\",\"\",IF(AE542>Inputs!$D$9,0,1))","v":""},{"$f":"IF(AF542=\"\",\"\",IF(AF542>Inputs!$D$9,0,1))","v":""},{"$f":"IF(AG542=\"\",\"\",IF(AG542>Inputs!$D$9,0,1))","v":""},{"$f":"IF(AH542=\"\",\"\",IF(AH542>Inputs!$D$9,0,1))","v":""},{"$f":"IF(AI542=\"\",\"\",IF(AI542>Inputs!$D$9,0,1))","v":""},{"$f":"IF(AJ542=\"\",\"\",IF(AJ542>Inputs!$D$9,0,1))","v":""},{"$f":"IF(AK542=\"\",\"\",IF(AK542>Inputs!$D$9,0,1))","v":""},{"$f":"IF(AL542=\"\",\"\",IF(AL542>Inputs!$D$9,0,1))","v":""},"",0,null,"","","","","","","","","","","","","","",null,null,"","","","","","","","","","","","",""]
[null,null,null,null,null,null,null,null,null,null,null,null,null,null,"","","","","","","","","","","","","","","","","","","","","","","","",null,{"$f":"IF(AA543=\"\",\"\",IF(AA543>Inputs!$D$9,0,1))","v":""},{"$f":"IF(AB543=\"\",\"\",IF(AB543>Inputs!$D$9,0,1))","v":""},{"$f":"IF(AC543=\"\",\"\",IF(AC543>Inputs!$D$9,0,1))","v":""},{"$f":"IF(AD543=\"\",\"\",IF(AD543>Inputs!$D$9,0,1))","v":""},{"$f":"IF(AE543=\"\",\"\",IF(AE543>Inputs!$D$9,0,1))","v":""},{"$f":"IF(AF543=\"\",\"\",IF(AF543>Inputs!$D$9,0,1))","v":""},{"$f":"IF(AG543=\"\",\"\",IF(AG543>Inputs!$D$9,0,1))","v":""},{"$f":"IF(AH543=\"\",\"\",IF(AH543>Inputs!$D$9,0,1))","v":""},{"$f":"IF(AI543=\"\",\"\",IF(AI543>Inputs!$D$9,0,1))","v":""},{"$f":"IF(AJ543=\"\",\"\",IF(AJ543>Inputs!$D$9,0,1))","v":""},{"$f":"IF(AK543=\"\",\"\",IF(AK543>Inputs!$D$9,0,1))","v":""},{"$f":"IF(AL543=\"\",\"\",IF(AL543>Inputs!$D$9,0,1))","v":""},"",0,null,"","","","","","","","","","","","","","",null,null,"","","","","","","","","","","","",""]
[null,null,null,null,null,null,null,null,null,null,null,null,null,null,"","","","","","","","","","","","","","","","","","","","","","","","",null,{"$f":"IF(AA544=\"\",\"\",IF(AA544>Inputs!$D$9,0,1))","v":""},{"$f":"IF(AB544=\"\",\"\",IF(AB544>Inputs!$D$9,0,1))","v":""},{"$f":"IF(AC544=\"\",\"\",IF(AC544>Inputs!$D$9,0,1))","v":""},{"$f":"IF(AD544=\"\",\"\",IF(AD544>Inputs!$D$9,0,1))","v":""},{"$f":"IF(AE544=\"\",\"\",IF(AE544>Inputs!$D$9,0,1))","v":""},{"$f":"IF(AF544=\"\",\"\",IF(AF544>Inputs!$D$9,0,1))","v":""},{"$f":"IF(AG544=\"\",\"\",IF(AG544>Inputs!$D$9,0,1))","v":""},{"$f":"IF(AH544=\"\",\"\",IF(AH544>Inputs!$D$9,0,1))","v":""},{"$f":"IF(AI544=\"\",\"\",IF(AI544>Inputs!$D$9,0,1))","v":""},{"$f":"IF(AJ544=\"\",\"\",IF(AJ544>Inputs!$D$9,0,1))","v":""},{"$f":"IF(AK544=\"\",\"\",IF(AK544>Inputs!$D$9,0,1))","v":""},{"$f":"IF(AL544=\"\",\"\",IF(AL544>Inputs!$D$9,0,1))","v":""},"",0,null,"","","","","","","","","","","","","","",null,null,"","","","","","","","","","","","",""]
[null,null,null,null,null,null,null,null,null,null,null,null,null,null,"","","","","","","","","","","","","","","","","","","","","","","","",null,{"$f":"IF(AA545=\"\",\"\",IF(AA545>Inputs!$D$9,0,1))","v":""},{"$f":"IF(AB545=\"\",\"\",IF(AB545>Inputs!$D$9,0,1))","v":""},{"$f":"IF(AC545=\"\",\"\",IF(AC545>Inputs!$D$9,0,1))","v":""},{"$f":"IF(AD545=\"\",\"\",IF(AD545>Inputs!$D$9,0,1))","v":""},{"$f":"IF(AE545=\"\",\"\",IF(AE545>Inputs!$D$9,0,1))","v":""},{"$f":"IF(AF545=\"\",\"\",IF(AF545>Inputs!$D$9,0,1))","v":""},{"$f":"IF(AG545=\"\",\"\",IF(AG545>Inputs!$D$9,0,1))","v":""},{"$f":"IF(AH545=\"\",\"\",IF(AH545>Inputs!$D$9,0,1))","v":""},{"$f":"IF(AI545=\"\",\"\",IF(AI545>Inputs!$D$9,0,1))","v":""},{"$f":"IF(AJ545=\"\",\"\",IF(AJ545>Inputs!$D$9,0,1))","v":""},{"$f":"IF(AK545=\"\",\"\",IF(AK545>Inputs!$D$9,0,1))","v":""},{"$f":"IF(AL545=\"\",\"\",IF(AL545>Inputs!$D$9,0,1))","v":""},"",0,null,"","","","","","","","","","","","","","",null,null,"","","","","","","","","","","","",""]
[null,null,null,null,null,null,null,null,null,null,null,null,null,null,"","","","","","","","","","","","","","","","","","","","","","","","",null,{"$f":"IF(AA546=\"\",\"\",IF(AA546>Inputs!$D$9,0,1))","v":""},{"$f":"IF(AB546=\"\",\"\",IF(AB546>Inputs!$D$9,0,1))","v":""},{"$f":"IF(AC546=\"\",\"\",IF(AC546>Inputs!$D$9,0,1))","v":""},{"$f":"IF(AD546=\"\",\"\",IF(AD546>Inputs!$D$9,0,1))","v":""},{"$f":"IF(AE546=\"\",\"\",IF(AE546>Inputs!$D$9,0,1))","v":""},{"$f":"IF(AF546=\"\",\"\",IF(AF546>Inputs!$D$9,0,1))","v":""},{"$f":"IF(AG546=\"\",\"\",IF(AG546>Inputs!$D$9,0,1))","v":""},{"$f":"IF(AH546=\"\",\"\",IF(AH546>Inputs!$D$9,0,1))","v":""},{"$f":"IF(AI546=\"\",\"\",IF(AI546>Inputs!$D$9,0,1))","v":""},{"$f":"IF(AJ546=\"\",\"\",IF(AJ546>Inputs!$D$9,0,1))","v":""},{"$f":"IF(AK546=\"\",\"\",IF(AK546>Inputs!$D$9,0,1))","v":""},{"$f":"IF(AL546=\"\",\"\",IF(AL546>Inputs!$D$9,0,1))","v":""},{"$f":"IF(COUNT(AN546:AY546)=0,\"\",SUM(AN546:AY546)/COUNT(AN546:AY546))","v":""},0,null,"","","","","","","","","","","","","","",null,null,"","","","","","","","","","","","",""]
[null,null,null,null,null,null,null,null,null,null,null,null,null,null,"","","","","","","","","","","","",{"$f":"IF($A547=\"\",\"\",IF(ISERROR(RANK(O547,$O$2:$O$1000,0)),\"\",RANK(O547,$O$2:$O$1000,0)))","v":""},{"$f":"IF($A547=\"\",\"\",IF(ISERROR(RANK(P547,$P$2:$P$1000,0)),\"\",RANK(P547,$P$2:$P$1000,0)))","v":""},{"$f":"IF($A547=\"\",\"\",IF(ISERROR(RANK(Q547,$Q$2:$Q$1000,0)),\"\",RANK(Q547,$Q$2:$Q$1000,0)))","v":""},{"$f":"IF($A547=\"\",\"\",IF(ISERROR(RANK(R547,$R$2:$R$1000,0)),\"\",RANK(R547,$R$2:$R$1000,0)))","v":""},{"$f":"IF($A547=\"\",\"\",IF(ISERROR(RANK(S547,$S$2:$S$1000,0)),\"\",RANK(S547,$S$2:$S$1000,0)))","v":""},{"$f":"IF($A547=\"\",\"\",IF(ISERROR(RANK(T547,$T$2:$T$1000,0)),\"\",RANK(T547,$T$2:$T$1000,0)))","v":""},{"$f":"IF($A547=\"\",\"\",IF(ISERROR(RANK(U547,$U$2:$U$1000,0)),\"\",RANK(U547,$U$2:$U$1000,0)))","v":""},{"$f":"IF($A547=\"\",\"\",IF(ISERROR(RANK(V547,$V$2:$V$1000,0)),\"\",RANK(V547,$V$2:$V$1000,0)))","v":""},{"$f":"IF($A547=\"\",\"\",IF(ISERROR(RANK(W547,$W$2:$W$1000,0)),\"\",RANK(W547,$W$2:$W$1000,0)))","v":""},{"$f":"IF($A547=\"\",\"\",IF(ISERROR(RANK(X547,$X$2:$X$1000,0)),\"\",RANK(X547,$X$2:$X$1000,0)))","v":""},{"$f":"IF($A547=\"\",\"\",IF(ISERROR(RANK(Y547,$Y$2:$Y$1000,0)),\"\",RANK(Y547,$Y$2:$Y$1000,0)))","v":""},{"$f":"IF($A547=\"\",\"\",IF(ISERROR(RANK(Z547,$Z$2:$Z$1000,0)),\"\",RANK(Z547,$Z$2:$Z$1000,0)))","v":""},null,{"$f":"IF(AA547=\"\",\"\",IF(AA547>Inputs!$D$9,0,1))","v":""},{"$f":"IF(AB547=\"\",\"\",IF(AB547>Inputs!$D$9,0,1))","v":""},{"$f":"IF(AC547=\"\",\"\",IF(AC547>Inputs!$D$9,0,1))","v":""},{"$f":"IF(AD547=\"\",\"\",IF(AD547>Inputs!$D$9,0,1))","v":""},{"$f":"IF(AE547=\"\",\"\",IF(AE547>Inputs!$D$9,0,1))","v":""},{"$f":"IF(AF547=\"\",\"\",IF(AF547>Inputs!$D$9,0,1))","v":""},{"$f":"IF(AG547=\"\",\"\",IF(AG547>Inputs!$D$9,0,1))","v":""},{"$f":"IF(AH547=\"\",\"\",IF(AH547>Inputs!$D$9,0,1))","v":""},{"$f":"IF(AI547=\"\",\"\",IF(AI547>Inputs!$D$9,0,1))","v":""},{"$f":"IF(AJ547=\"\",\"\",IF(AJ547>Inputs!$D$9,0,1))","v":""},{"$f":"IF(AK547=\"\",\"\",IF(AK547>Inputs!$D$9,0,1))","v":""},{"$f":"IF(AL547=\"\",\"\",IF(AL547>Inputs!$D$9,0,1))","v":""},"",0,null,"","","","","","","","","","","","","","",null,null,"","","","","","","","","","","","",""]
[null,null,null,null,null,null,null,null,null,null,null,null,null,null,"","","","","","","","","","","","","","","","","","","","","","","","",null,{"$f":"IF(AA548=\"\",\"\",IF(AA548>Inputs!$D$9,0,1))","v":""},{"$f":"IF(AB548=\"\",\"\",IF(AB548>Inputs!$D$9,0,1))","v":""},{"$f":"IF(AC548=\"\",\"\",IF(AC548>Inputs!$D$9,0,1))","v":""},{"$f":"IF(AD548=\"\",\"\",IF(AD548>Inputs!$D$9,0,1))","v":""},{"$f":"IF(AE548=\"\",\"\",IF(AE548>Inputs!$D$9,0,1))","v":""},{"$f":"IF(AF548=\"\",\"\",IF(AF548>Inputs!$D$9,0,1))","v":""},{"$f":"IF(AG548=\"\",\"\",IF(AG548>Inputs!$D$9,0,1))","v":""},{"$f":"IF(AH548=\"\",\"\",IF(AH548>Inputs!$D$9,0,1))","v":""},{"$f":"IF(AI548=\"\",\"\",IF(AI548>Inputs!$D$9,0,1))","v":""},{"$f":"IF(AJ548=\"\",\"\",IF(AJ548>Inputs!$D$9,0,1))","v":""},{"$f":"IF(AK548=\"\",\"\",IF(AK548>Inputs!$D$9,0,1))","v":""},{"$f":"IF(AL548=\"\",\"\",IF(AL548>Inputs!$D$9,0,1))","v":""},"",0,null,"","","","","","","","","","","","","","",null,null,"","","","","","","","","","","","",""]
[null,null,null,null,null,null,null,null,null,null,null,null,null,null,"","","","","","","","","","","","","","","","","","","","","","","","",null,{"$f":"IF(AA549=\"\",\"\",IF(AA549>Inputs!$D$9,0,1))","v":""},{"$f":"IF(AB549=\"\",\"\",IF(AB549>Inputs!$D$9,0,1))","v":""},{"$f":"IF(AC549=\"\",\"\",IF(AC549>Inputs!$D$9,0,1))","v":""},{"$f":"IF(AD549=\"\",\"\",IF(AD549>Inputs!$D$9,0,1))","v":""},{"$f":"IF(AE549=\"\",\"\",IF(AE549>Inputs!$D$9,0,1))","v":""},{"$f":"IF(AF549=\"\",\"\",IF(AF549>Inputs!$D$9,0,1))","v":""},{"$f":"IF(AG549=\"\",\"\",IF(AG549>Inputs!$D$9,0,1))","v":""},{"$f":"IF(AH549=\"\",\"\",IF(AH549>Inputs!$D$9,0,1))","v":""},{"$f":"IF(AI549=\"\",\"\",IF(AI549>Inputs!$D$9,0,1))","v":""},{"$f":"IF(AJ549=\"\",\"\",IF(AJ549>Inputs!$D$9,0,1))","v":""},{"$f":"IF(AK549=\"\",\"\",IF(AK549>Inputs!$D$9,0,1))","v":""},{"$f":"IF(AL549=\"\",\"\",IF(AL549>Inputs!$D$9,0,1))","v":""},"",0,null,"","","","","","","","","","","","","","",null,null,"","","","","","","","","","","","",""]
[null,null,null,null,null,null,null,null,null,null,null,null,null,null,"","","","","","","","","","","","","","","","","","","","","","","","",null,{"$f":"IF(AA550=\"\",\"\",IF(AA550>Inputs!$D$9,0,1))","v":""},{"$f":"IF(AB550=\"\",\"\",IF(AB550>Inputs!$D$9,0,1))","v":""},{"$f":"IF(AC550=\"\",\"\",IF(AC550>Inputs!$D$9,0,1))","v":""},{"$f":"IF(AD550=\"\",\"\",IF(AD550>Inputs!$D$9,0,1))","v":""},{"$f":"IF(AE550=\"\",\"\",IF(AE550>Inputs!$D$9,0,1))","v":""},{"$f":"IF(AF550=\"\",\"\",IF(AF550>Inputs!$D$9,0,1))","v":""},{"$f":"IF(AG550=\"\",\"\",IF(AG550>Inputs!$D$9,0,1))","v":""},{"$f":"IF(AH550=\"\",\"\",IF(AH550>Inputs!$D$9,0,1))","v":""},{"$f":"IF(AI550=\"\",\"\",IF(AI550>Inputs!$D$9,0,1))","v":""},{"$f":"IF(AJ550=\"\",\"\",IF(AJ550>Inputs!$D$9,0,1))","v":""},{"$f":"IF(AK550=\"\",\"\",IF(AK550>Inputs!$D$9,0,1))","v":""},{"$f":"IF(AL550=\"\",\"\",IF(AL550>Inputs!$D$9,0,1))","v":""},"",0,null,"","","","","","","","","","","","","","",null,null,"","","","","","","","","","","","",""]
[null,null,null,null,null,null,null,null,null,null,null,null,null,null,"","","","","","","","","","","","","","","","","","","","","","","","",null,{"$f":"IF(AA551=\"\",\"\",IF(AA551>Inputs!$D$9,0,1))","v":""},{"$f":"IF(AB551=\"\",\"\",IF(AB551>Inputs!$D$9,0,1))","v":""},{"$f":"IF(AC551=\"\",\"\",IF(AC551>Inputs!$D$9,0,1))","v":""},{"$f":"IF(AD551=\"\",\"\",IF(AD551>Inputs!$D$9,0,1))","v":""},{"$f":"IF(AE551=\"\",\"\",IF(AE551>Inputs!$D$9,0,1))","v":""},{"$f":"IF(AF551=\"\",\"\",IF(AF551>Inputs!$D$9,0,1))","v":""},{"$f":"IF(AG551=\"\",\"\",IF(AG551>Inputs!$D$9,0,1))","v":""},{"$f":"IF(AH551=\"\",\"\",IF(AH551>Inputs!$D$9,0,1))","v":""},{"$f":"IF(AI551=\"\",\"\",IF(AI551>Inputs!$D$9,0,1))","v":""},{"$f":"IF(AJ551=\"\",\"\",IF(AJ551>Inputs!$D$9,0,1))","v":""},{"$f":"IF(AK551=\"\",\"\",IF(AK551>Inputs!$D$9,0,1))","v":""},{"$f":"IF(AL551=\"\",\"\",IF(AL551>Inputs!$D$9,0,1))","v":""},"",0,null,"","","","","","","","","","","","","","",null,null,"","","","","","","","","","","","",""]
[null,null,null,null,null,null,null,null,null,null,null,null,null,null,"","","","","","","","","","","","","","","","","","","","","","","","",null,{"$f":"IF(AA552=\"\",\"\",IF(AA552>Inputs!$D$9,0,1))","v":""},{"$f":"IF(AB552=\"\",\"\",IF(AB552>Inputs!$D$9,0,1))","v":""},{"$f":"IF(AC552=\"\",\"\",IF(AC552>Inputs!$D$9,0,1))","v":""},{"$f":"IF(AD552=\"\",\"\",IF(AD552>Inputs!$D$9,0,1))","v":""},{"$f":"IF(AE552=\"\",\"\",IF(AE552>Inputs!$D$9,0,1))","v":""},{"$f":"IF(AF552=\"\",\"\",IF(AF552>Inputs!$D$9,0,1))","v":""},{"$f":"IF(AG552=\"\",\"\",IF(AG552>Inputs!$D$9,0,1))","v":""},{"$f":"IF(AH552=\"\",\"\",IF(AH552>Inputs!$D$9,0,1))","v":""},{"$f":"IF(AI552=\"\",\"\",IF(AI552>Inputs!$D$9,0,1))","v":""},{"$f":"IF(AJ552=\"\",\"\",IF(AJ552>Inputs!$D$9,0,1))","v":""},{"$f":"IF(AK552=\"\",\"\",IF(AK552>Inputs!$D$9,0,1))","v":""},{"$f":"IF(AL552=\"\",\"\",IF(AL552>Inputs!$D$9,0,1))","v":""},"",0,null,"","","","","","","","","","","","","","",null,null,"","","","","","","","","","","","",""]
[null,null,null,null,null,null,null,null,null,null,null,null,null,null,"","","","","","","","","","","","","","","","","","","","","","","","",null,{"$f":"IF(AA553=\"\",\"\",IF(AA553>Inputs!$D$9,0,1))","v":""},{"$f":"IF(AB553=\"\",\"\",IF(AB553>Inputs!$D$9,0,1))","v":""},{"$f":"IF(AC553=\"\",\"\",IF(AC553>Inputs!$D$9,0,1))","v":""},{"$f":"IF(AD553=\"\",\"\",IF(AD553>Inputs!$D$9,0,1))","v":""},{"$f":"IF(AE553=\"\",\"\",IF(AE553>Inputs!$D$9,0,1))","v":""},{"$f":"IF(AF553=\"\",\"\",IF(AF553>Inputs!$D$9,0,1))","v":""},{"$f":"IF(AG553=\"\",\"\",IF(AG553>Inputs!$D$9,0,1))","v":""},{"$f":"IF(AH553=\"\",\"\",IF(AH553>Inputs!$D$9,0,1))","v":""},{"$f":"IF(AI553=\"\",\"\",IF(AI553>Inputs!$D$9,0,1))","v":""},{"$f":"IF(AJ553=\"\",\"\",IF(AJ553>Inputs!$D$9,0,1))","v":""},{"$f":"IF(AK553=\"\",\"\",IF(AK553>Inputs!$D$9,0,1))","v":""},{"$f":"IF(AL553=\"\",\"\",IF(AL553>Inputs!$D$9,0,1))","v":""},"",0,null,"","","","","","","","","","","","","","",null,null,"","","","","","","","","","","","",""]
[null,null,null,null,null,null,null,null,null,null,null,null,null,null,"","","","","","","","","","","","","","","","","","","","","","","","",null,{"$f":"IF(AA554=\"\",\"\",IF(AA554>Inputs!$D$9,0,1))","v":""},{"$f":"IF(AB554=\"\",\"\",IF(AB554>Inputs!$D$9,0,1))","v":""},{"$f":"IF(AC554=\"\",\"\",IF(AC554>Inputs!$D$9,0,1))","v":""},{"$f":"IF(AD554=\"\",\"\",IF(AD554>Inputs!$D$9,0,1))","v":""},{"$f":"IF(AE554=\"\",\"\",IF(AE554>Inputs!$D$9,0,1))","v":""},{"$f":"IF(AF554=\"\",\"\",IF(AF554>Inputs!$D$9,0,1))","v":""},{"$f":"IF(AG554=\"\",\"\",IF(AG554>Inputs!$D$9,0,1))","v":""},{"$f":"IF(AH554=\"\",\"\",IF(AH554>Inputs!$D$9,0,1))","v":""},{"$f":"IF(AI554=\"\",\"\",IF(AI554>Inputs!$D$9,0,1))","v":""},{"$f":"IF(AJ554=\"\",\"\",IF(AJ554>Inputs!$D$9,0,1))","v":""},{"$f":"IF(AK554=\"\",\"\",IF(AK554>Inputs!$D$9,0,1))","v":""},{"$f":"IF(AL554=\"\",\"\",IF(AL554>Inputs!$D$9,0,1))","v":""},"",0,null,"","","","","","","","","","","","","","",null,null,"","","","","","","","","","","","",""]
[null,null,null,null,null,null,null,null,null,null,null,null,null,null,"","","","","","","","","","","","","","","","","","","","","","","","",null,{"$f":"IF(AA555=\"\",\"\",IF(AA555>Inputs!$D$9,0,1))","v":""},{"$f":"IF(AB555=\"\",\"\",IF(AB555>Inputs!$D$9,0,1))","v":""},{"$f":"IF(AC555=\"\",\"\",IF(AC555>Inputs!$D$9,0,1))","v":""},{"$f":"IF(AD555=\"\",\"\",IF(AD555>Inputs!$D$9,0,1))","v":""},{"$f":"IF(AE555=\"\",\"\",IF(AE555>Inputs!$D$9,0,1))","v":""},{"$f":"IF(AF555=\"\",\"\",IF(AF555>Inputs!$D$9,0,1))","v":""},{"$f":"IF(AG555=\"\",\"\",IF(AG555>Inputs!$D$9,0,1))","v":""},{"$f":"IF(AH555=\"\",\"\",IF(AH555>Inputs!$D$9,0,1))","v":""},{"$f":"IF(AI555=\"\",\"\",IF(AI555>Inputs!$D$9,0,1))","v":""},{"$f":"IF(AJ555=\"\",\"\",IF(AJ555>Inputs!$D$9,0,1))","v":""},{"$f":"IF(AK555=\"\",\"\",IF(AK555>Inputs!$D$9,0,1))","v":""},{"$f":"IF(AL555=\"\",\"\",IF(AL555>Inputs!$D$9,0,1))","v":""},"",0,null,"","","","","","","","","","","","","","",null,null,"","","","","","","","","","","","",""]
[null,null,null,null,null,null,null,null,null,null,null,null,null,null,"","","","","","","","","","","","","","","","","","","","","","","","",null,{"$f":"IF(AA556=\"\",\"\",IF(AA556>Inputs!$D$9,0,1))","v":""},{"$f":"IF(AB556=\"\",\"\",IF(AB556>Inputs!$D$9,0,1))","v":""},{"$f":"IF(AC556=\"\",\"\",IF(AC556>Inputs!$D$9,0,1))","v":""},{"$f":"IF(AD556=\"\",\"\",IF(AD556>Inputs!$D$9,0,1))","v":""},{"$f":"IF(AE556=\"\",\"\",IF(AE556>Inputs!$D$9,0,1))","v":""},{"$f":"IF(AF556=\"\",\"\",IF(AF556>Inputs!$D$9,0,1))","v":""},{"$f":"IF(AG556=\"\",\"\",IF(AG556>Inputs!$D$9,0,1))","v":""},{"$f":"IF(AH556=\"\",\"\",IF(AH556>Inputs!$D$9,0,1))","v":""},{"$f":"IF(AI556=\"\",\"\",IF(AI556>Inputs!$D$9,0,1))","v":""},{"$f":"IF(AJ556=\"\",\"\",IF(AJ556>Inputs!$D$9,0,1))","v":""},{"$f":"IF(AK556=\"\",\"\",IF(AK556>Inputs!$D$9,0,1))","v":""},{"$f":"IF(AL556=\"\",\"\",IF(AL556>Inputs!$D$9,0,1))","v":""},"",0,null,"","","","","","","","","","","","","","",null,null,"","","","","","","","","","","","",""]
[null,null,null,null,null,null,null,null,null,null,null,null,null,null,"","","","","","","","","","","","","","","","","","","","","","","","",null,{"$f":"IF(AA557=\"\",\"\",IF(AA557>Inputs!$D$9,0,1))","v":""},{"$f":"IF(AB557=\"\",\"\",IF(AB557>Inputs!$D$9,0,1))","v":""},{"$f":"IF(AC557=\"\",\"\",IF(AC557>Inputs!$D$9,0,1))","v":""},{"$f":"IF(AD557=\"\",\"\",IF(AD557>Inputs!$D$9,0,1))","v":""},{"$f":"IF(AE557=\"\",\"\",IF(AE557>Inputs!$D$9,0,1))","v":""},{"$f":"IF(AF557=\"\",\"\",IF(AF557>Inputs!$D$9,0,1))","v":""},{"$f":"IF(AG557=\"\",\"\",IF(AG557>Inputs!$D$9,0,1))","v":""},{"$f":"IF(AH557=\"\",\"\",IF(AH557>Inputs!$D$9,0,1))","v":""},{"$f":"IF(AI557=\"\",\"\",IF(AI557>Inputs!$D$9,0,1))","v":""},{"$f":"IF(AJ557=\"\",\"\",IF(AJ557>Inputs!$D$9,0,1))","v":""},{"$f":"IF(AK557=\"\",\"\",IF(AK557>Inputs!$D$9,0,1))","v":""},{"$f":"IF(AL557=\"\",\"\",IF(AL557>Inputs!$D$9,0,1))","v":""},"",0,null,"","","","","","","","","","","","","","",null,null,"","","","","","","","","","","","",""]
[null,null,null,null,null,null,null,null,null,null,null,null,null,null,"","","","","","","","","","","","","","","","","","","","","","","","",null,{"$f":"IF(AA558=\"\",\"\",IF(AA558>Inputs!$D$9,0,1))","v":""},{"$f":"IF(AB558=\"\",\"\",IF(AB558>Inputs!$D$9,0,1))","v":""},{"$f":"IF(AC558=\"\",\"\",IF(AC558>Inputs!$D$9,0,1))","v":""},{"$f":"IF(AD558=\"\",\"\",IF(AD558>Inputs!$D$9,0,1))","v":""},{"$f":"IF(AE558=\"\",\"\",IF(AE558>Inputs!$D$9,0,1))","v":""},{"$f":"IF(AF558=\"\",\"\",IF(AF558>Inputs!$D$9,0,1))","v":""},{"$f":"IF(AG558=\"\",\"\",IF(AG558>Inputs!$D$9,0,1))","v":""},{"$f":"IF(AH558=\"\",\"\",IF(AH558>Inputs!$D$9,0,1))","v":""},{"$f":"IF(AI558=\"\",\"\",IF(AI558>Inputs!$D$9,0,1))","v":""},{"$f":"IF(AJ558=\"\",\"\",IF(AJ558>Inputs!$D$9,0,1))","v":""},{"$f":"IF(AK558=\"\",\"\",IF(AK558>Inputs!$D$9,0,1))","v":""},{"$f":"IF(AL558=\"\",\"\",IF(AL558>Inputs!$D$9,0,1))","v":""},"",0,null,"","","","","","","","","","","","","","",null,null,"","","","","","","","","","","","",""]
[null,null,null,null,null,null,null,null,null,null,null,null,null,null,"","","","","","","","","","","","","","","","","","","","","","","","",null,{"$f":"IF(AA559=\"\",\"\",IF(AA559>Inputs!$D$9,0,1))","v":""},{"$f":"IF(AB559=\"\",\"\",IF(AB559>Inputs!$D$9,0,1))","v":""},{"$f":"IF(AC559=\"\",\"\",IF(AC559>Inputs!$D$9,0,1))","v":""},{"$f":"IF(AD559=\"\",\"\",IF(AD559>Inputs!$D$9,0,1))","v":""},{"$f":"IF(AE559=\"\",\"\",IF(AE559>Inputs!$D$9,0,1))","v":""},{"$f":"IF(AF559=\"\",\"\",IF(AF559>Inputs!$D$9,0,1))","v":""},{"$f":"IF(AG559=\"\",\"\",IF(AG559>Inputs!$D$9,0,1))","v":""},{"$f":"IF(AH559=\"\",\"\",IF(AH559>Inputs!$D$9,0,1))","v":""},{"$f":"IF(AI559=\"\",\"\",IF(AI559>Inputs!$D$9,0,1))","v":""},{"$f":"IF(AJ559=\"\",\"\",IF(AJ559>Inputs!$D$9,0,1))","v":""},{"$f":"IF(AK559=\"\",\"\",IF(AK559>Inputs!$D$9,0,1))","v":""},{"$f":"IF(AL559=\"\",\"\",IF(AL559>Inputs!$D$9,0,1))","v":""},"",0,null,"","","","","","","","","","","","","","",null,null,"","","","","","","","","","","","",""]
[null,null,null,null,null,null,null,null,null,null,null,null,null,null,"","","","","","","","","","","","","","","","","","","","","","","","",null,{"$f":"IF(AA560=\"\",\"\",IF(AA560>Inputs!$D$9,0,1))","v":""},{"$f":"IF(AB560=\"\",\"\",IF(AB560>Inputs!$D$9,0,1))","v":""},{"$f":"IF(AC560=\"\",\"\",IF(AC560>Inputs!$D$9,0,1))","v":""},{"$f":"IF(AD560=\"\",\"\",IF(AD560>Inputs!$D$9,0,1))","v":""},{"$f":"IF(AE560=\"\",\"\",IF(AE560>Inputs!$D$9,0,1))","v":""},{"$f":"IF(AF560=\"\",\"\",IF(AF560>Inputs!$D$9,0,1))","v":""},{"$f":"IF(AG560=\"\",\"\",IF(AG560>Inputs!$D$9,0,1))","v":""},{"$f":"IF(AH560=\"\",\"\",IF(AH560>Inputs!$D$9,0,1))","v":""},{"$f":"IF(AI560=\"\",\"\",IF(AI560>Inputs!$D$9,0,1))","v":""},{"$f":"IF(AJ560=\"\",\"\",IF(AJ560>Inputs!$D$9,0,1))","v":""},{"$f":"IF(AK560=\"\",\"\",IF(AK560>Inputs!$D$9,0,1))","v":""},{"$f":"IF(AL560=\"\",\"\",IF(AL560>Inputs!$D$9,0,1))","v":""},"",0,null,"","","","","","","","","","","","","","",null,null,"","","","","","","","","","","","",""]
[null,null,null,null,null,null,null,null,null,null,null,null,null,null,"","","","","","","","","","","","","","","","","","","","","","","","",null,{"$f":"IF(AA561=\"\",\"\",IF(AA561>Inputs!$D$9,0,1))","v":""},{"$f":"IF(AB561=\"\",\"\",IF(AB561>Inputs!$D$9,0,1))","v":""},{"$f":"IF(AC561=\"\",\"\",IF(AC561>Inputs!$D$9,0,1))","v":""},{"$f":"IF(AD561=\"\",\"\",IF(AD561>Inputs!$D$9,0,1))","v":""},{"$f":"IF(AE561=\"\",\"\",IF(AE561>Inputs!$D$9,0,1))","v":""},{"$f":"IF(AF561=\"\",\"\",IF(AF561>Inputs!$D$9,0,1))","v":""},{"$f":"IF(AG561=\"\",\"\",IF(AG561>Inputs!$D$9,0,1))","v":""},{"$f":"IF(AH561=\"\",\"\",IF(AH561>Inputs!$D$9,0,1))","v":""},{"$f":"IF(AI561=\"\",\"\",IF(AI561>Inputs!$D$9,0,1))","v":""},{"$f":"IF(AJ561=\"\",\"\",IF(AJ561>Inputs!$D$9,0,1))","v":""},{"$f":"IF(AK561=\"\",\"\",IF(AK561>Inputs!$D$9,0,1))","v":""},{"$f":"IF(AL561=\"\",\"\",IF(AL561>Inputs!$D$9,0,1))","v":""},"",0,null,"","","","","","","","","","","","","","",null,null,"","","","","","","","","","","","",""]
[null,null,null,null,null,null,null,null,null,null,null,null,null,null,"","","","","","","","","","","","","","","","","","","","","","","","",null,{"$f":"IF(AA562=\"\",\"\",IF(AA562>Inputs!$D$9,0,1))","v":""},{"$f":"IF(AB562=\"\",\"\",IF(AB562>Inputs!$D$9,0,1))","v":""},{"$f":"IF(AC562=\"\",\"\",IF(AC562>Inputs!$D$9,0,1))","v":""},{"$f":"IF(AD562=\"\",\"\",IF(AD562>Inputs!$D$9,0,1))","v":""},{"$f":"IF(AE562=\"\",\"\",IF(AE562>Inputs!$D$9,0,1))","v":""},{"$f":"IF(AF562=\"\",\"\",IF(AF562>Inputs!$D$9,0,1))","v":""},{"$f":"IF(AG562=\"\",\"\",IF(AG562>Inputs!$D$9,0,1))","v":""},{"$f":"IF(AH562=\"\",\"\",IF(AH562>Inputs!$D$9,0,1))","v":""},{"$f":"IF(AI562=\"\",\"\",IF(AI562>Inputs!$D$9,0,1))","v":""},{"$f":"IF(AJ562=\"\",\"\",IF(AJ562>Inputs!$D$9,0,1))","v":""},{"$f":"IF(AK562=\"\",\"\",IF(AK562>Inputs!$D$9,0,1))","v":""},{"$f":"IF(AL562=\"\",\"\",IF(AL562>Inputs!$D$9,0,1))","v":""},"",0,null,"","","","","","","","","","","","","","",null,null,"","","","","","","","","","","","",""]
[null,null,null,null,null,null,null,null,null,null,null,null,null,null,"","","","","","","","","","","","","","","","","","","","","","","","",null,{"$f":"IF(AA563=\"\",\"\",IF(AA563>Inputs!$D$9,0,1))","v":""},{"$f":"IF(AB563=\"\",\"\",IF(AB563>Inputs!$D$9,0,1))","v":""},{"$f":"IF(AC563=\"\",\"\",IF(AC563>Inputs!$D$9,0,1))","v":""},{"$f":"IF(AD563=\"\",\"\",IF(AD563>Inputs!$D$9,0,1))","v":""},{"$f":"IF(AE563=\"\",\"\",IF(AE563>Inputs!$D$9,0,1))","v":""},{"$f":"IF(AF563=\"\",\"\",IF(AF563>Inputs!$D$9,0,1))","v":""},{"$f":"IF(AG563=\"\",\"\",IF(AG563>Inputs!$D$9,0,1))","v":""},{"$f":"IF(AH563=\"\",\"\",IF(AH563>Inputs!$D$9,0,1))","v":""},{"$f":"IF(AI563=\"\",\"\",IF(AI563>Inputs!$D$9,0,1))","v":""},{"$f":"IF(AJ563=\"\",\"\",IF(AJ563>Inputs!$D$9,0,1))","v":""},{"$f":"IF(AK563=\"\",\"\",IF(AK563>Inputs!$D$9,0,1))","v":""},{"$f":"IF(AL563=\"\",\"\",IF(AL563>Inputs!$D$9,0,1))","v":""},"",0,null,"","","","","","","","","","","","","","",null,null,"","","","","","","","","","","","",""]
[null,null,null,null,null,null,null,null,null,null,null,null,null,null,"","","","","","","","","","","","","","","","","","","","","","","","",null,{"$f":"IF(AA564=\"\",\"\",IF(AA564>Inputs!$D$9,0,1))","v":""},{"$f":"IF(AB564=\"\",\"\",IF(AB564>Inputs!$D$9,0,1))","v":""},{"$f":"IF(AC564=\"\",\"\",IF(AC564>Inputs!$D$9,0,1))","v":""},{"$f":"IF(AD564=\"\",\"\",IF(AD564>Inputs!$D$9,0,1))","v":""},{"$f":"IF(AE564=\"\",\"\",IF(AE564>Inputs!$D$9,0,1))","v":""},{"$f":"IF(AF564=\"\",\"\",IF(AF564>Inputs!$D$9,0,1))","v":""},{"$f":"IF(AG564=\"\",\"\",IF(AG564>Inputs!$D$9,0,1))","v":""},{"$f":"IF(AH564=\"\",\"\",IF(AH564>Inputs!$D$9,0,1))","v":""},{"$f":"IF(AI564=\"\",\"\",IF(AI564>Inputs!$D$9,0,1))","v":""},{"$f":"IF(AJ564=\"\",\"\",IF(AJ564>Inputs!$D$9,0,1))","v":""},{"$f":"IF(AK564=\"\",\"\",IF(AK564>Inputs!$D$9,0,1))","v":""},{"$f":"IF(AL564=\"\",\"\",IF(AL564>Inputs!$D$9,0,1))","v":""},"",0,null,"","","","","","","","","","","","","","",null,null,"","","","","","","","","","","","",""]
[null,null,null,null,null,null,null,null,null,null,null,null,null,null,"","","","","","","","","","","","","","","","","","","","","","","","",null,{"$f":"IF(AA565=\"\",\"\",IF(AA565>Inputs!$D$9,0,1))","v":""},{"$f":"IF(AB565=\"\",\"\",IF(AB565>Inputs!$D$9,0,1))","v":""},{"$f":"IF(AC565=\"\",\"\",IF(AC565>Inputs!$D$9,0,1))","v":""},{"$f":"IF(AD565=\"\",\"\",IF(AD565>Inputs!$D$9,0,1))","v":""},{"$f":"IF(AE565=\"\",\"\",IF(AE565>Inputs!$D$9,0,1))","v":""},{"$f":"IF(AF565=\"\",\"\",IF(AF565>Inputs!$D$9,0,1))","v":""},{"$f":"IF(AG565=\"\",\"\",IF(AG565>Inputs!$D$9,0,1))","v":""},{"$f":"IF(AH565=\"\",\"\",IF(AH565>Inputs!$D$9,0,1))","v":""},{"$f":"IF(AI565=\"\",\"\",IF(AI565>Inputs!$D$9,0,1))","v":""},{"$f":"IF(AJ565=\"\",\"\",IF(AJ565>Inputs!$D$9,0,1))","v":""},{"$f":"IF(AK565=\"\",\"\",IF(AK565>Inputs!$D$9,0,1))","v":""},{"$f":"IF(AL565=\"\",\"\",IF(AL565>Inputs!$D$9,0,1))","v":""},"",0,null,"","","","","","","","","","","","","","",null,null,"","","","","","","","","","","","",""]
[null,null,null,null,null,null,null,null,null,null,null,null,null,null,"","","","","","","","","","","","","","","","","","","","","","","","",null,{"$f":"IF(AA566=\"\",\"\",IF(AA566>Inputs!$D$9,0,1))","v":""},{"$f":"IF(AB566=\"\",\"\",IF(AB566>Inputs!$D$9,0,1))","v":""},{"$f":"IF(AC566=\"\",\"\",IF(AC566>Inputs!$D$9,0,1))","v":""},{"$f":"IF(AD566=\"\",\"\",IF(AD566>Inputs!$D$9,0,1))","v":""},{"$f":"IF(AE566=\"\",\"\",IF(AE566>Inputs!$D$9,0,1))","v":""},{"$f":"IF(AF566=\"\",\"\",IF(AF566>Inputs!$D$9,0,1))","v":""},{"$f":"IF(AG566=\"\",\"\",IF(AG566>Inputs!$D$9,0,1))","v":""},{"$f":"IF(AH566=\"\",\"\",IF(AH566>Inputs!$D$9,0,1))","v":""},{"$f":"IF(AI566=\"\",\"\",IF(AI566>Inputs!$D$9,0,1))","v":""},{"$f":"IF(AJ566=\"\",\"\",IF(AJ566>Inputs!$D$9,0,1))","v":""},{"$f":"IF(AK566=\"\",\"\",IF(AK566>Inputs!$D$9,0,1))","v":""},{"$f":"IF(AL566=\"\",\"\",IF(AL566>Inputs!$D$9,0,1))","v":""},"",0,null,"","","","","","","","","","","","","","",null,null,"","","","","","","","","","","","",""]
[null,null,null,null,null,null,null,null,null,null,null,null,null,null,"","","","","","","","","","","","","","","","","","","","","","","","",null,{"$f":"IF(AA567=\"\",\"\",IF(AA567>Inputs!$D$9,0,1))","v":""},{"$f":"IF(AB567=\"\",\"\",IF(AB567>Inputs!$D$9,0,1))","v":""},{"$f":"IF(AC567=\"\",\"\",IF(AC567>Inputs!$D$9,0,1))","v":""},{"$f":"IF(AD567=\"\",\"\",IF(AD567>Inputs!$D$9,0,1))","v":""},{"$f":"IF(AE567=\"\",\"\",IF(AE567>Inputs!$D$9,0,1))","v":""},{"$f":"IF(AF567=\"\",\"\",IF(AF567>Inputs!$D$9,0,1))","v":""},{"$f":"IF(AG567=\"\",\"\",IF(AG567>Inputs!$D$9,0,1))","v":""},{"$f":"IF(AH567=\"\",\"\",IF(AH567>Inputs!$D$9,0,1))","v":""},{"$f":"IF(AI567=\"\",\"\",IF(AI567>Inputs!$D$9,0,1))","v":""},{"$f":"IF(AJ567=\"\",\"\",IF(AJ567>Inputs!$D$9,0,1))","v":""},{"$f":"IF(AK567=\"\",\"\",IF(AK567>Inputs!$D$9,0,1))","v":""},{"$f":"IF(AL567=\"\",\"\",IF(AL567>Inputs!$D$9,0,1))","v":""},"",0,null,"","","","","","","","","","","","","","",null,null,"","","","","","","","","","","","",""]
[null,null,null,null,null,null,null,null,null,null,null,null,null,null,"","","","","","","","","","","","","","","","","","","","","","","","",null,{"$f":"IF(AA568=\"\",\"\",IF(AA568>Inputs!$D$9,0,1))","v":""},{"$f":"IF(AB568=\"\",\"\",IF(AB568>Inputs!$D$9,0,1))","v":""},{"$f":"IF(AC568=\"\",\"\",IF(AC568>Inputs!$D$9,0,1))","v":""},{"$f":"IF(AD568=\"\",\"\",IF(AD568>Inputs!$D$9,0,1))","v":""},{"$f":"IF(AE568=\"\",\"\",IF(AE568>Inputs!$D$9,0,1))","v":""},{"$f":"IF(AF568=\"\",\"\",IF(AF568>Inputs!$D$9,0,1))","v":""},{"$f":"IF(AG568=\"\",\"\",IF(AG568>Inputs!$D$9,0,1))","v":""},{"$f":"IF(AH568=\"\",\"\",IF(AH568>Inputs!$D$9,0,1))","v":""},{"$f":"IF(AI568=\"\",\"\",IF(AI568>Inputs!$D$9,0,1))","v":""},{"$f":"IF(AJ568=\"\",\"\",IF(AJ568>Inputs!$D$9,0,1))","v":""},{"$f":"IF(AK568=\"\",\"\",IF(AK568>Inputs!$D$9,0,1))","v":""},{"$f":"IF(AL568=\"\",\"\",IF(AL568>Inputs!$D$9,0,1))","v":""},"",0,null,"","","","","","","","","","","","","","",null,null,"","","","","","","","","","","","",""]
[null,null,null,null,null,null,null,null,null,null,null,null,null,null,"","","","","","","","","","","","","","","","","","","","","","","","",null,{"$f":"IF(AA569=\"\",\"\",IF(AA569>Inputs!$D$9,0,1))","v":""},{"$f":"IF(AB569=\"\",\"\",IF(AB569>Inputs!$D$9,0,1))","v":""},{"$f":"IF(AC569=\"\",\"\",IF(AC569>Inputs!$D$9,0,1))","v":""},{"$f":"IF(AD569=\"\",\"\",IF(AD569>Inputs!$D$9,0,1))","v":""},{"$f":"IF(AE569=\"\",\"\",IF(AE569>Inputs!$D$9,0,1))","v":""},{"$f":"IF(AF569=\"\",\"\",IF(AF569>Inputs!$D$9,0,1))","v":""},{"$f":"IF(AG569=\"\",\"\",IF(AG569>Inputs!$D$9,0,1))","v":""},{"$f":"IF(AH569=\"\",\"\",IF(AH569>Inputs!$D$9,0,1))","v":""},{"$f":"IF(AI569=\"\",\"\",IF(AI569>Inputs!$D$9,0,1))","v":""},{"$f":"IF(AJ569=\"\",\"\",IF(AJ569>Inputs!$D$9,0,1))","v":""},{"$f":"IF(AK569=\"\",\"\",IF(AK569>Inputs!$D$9,0,1))","v":""},{"$f":"IF(AL569=\"\",\"\",IF(AL569>Inputs!$D$9,0,1))","v":""},"",0,null,"","","","","","","","","","","","","","",null,null,"","","","","","","","","","","","",""]
[null,null,null,null,null,null,null,null,null,null,null,null,null,null,"","","","","","","","","","","","","","","","","","","","","","","","",null,{"$f":"IF(AA570=\"\",\"\",IF(AA570>Inputs!$D$9,0,1))","v":""},{"$f":"IF(AB570=\"\",\"\",IF(AB570>Inputs!$D$9,0,1))","v":""},{"$f":"IF(AC570=\"\",\"\",IF(AC570>Inputs!$D$9,0,1))","v":""},{"$f":"IF(AD570=\"\",\"\",IF(AD570>Inputs!$D$9,0,1))","v":""},{"$f":"IF(AE570=\"\",\"\",IF(AE570>Inputs!$D$9,0,1))","v":""},{"$f":"IF(AF570=\"\",\"\",IF(AF570>Inputs!$D$9,0,1))","v":""},{"$f":"IF(AG570=\"\",\"\",IF(AG570>Inputs!$D$9,0,1))","v":""},{"$f":"IF(AH570=\"\",\"\",IF(AH570>Inputs!$D$9,0,1))","v":""},{"$f":"IF(AI570=\"\",\"\",IF(AI570>Inputs!$D$9,0,1))","v":""},{"$f":"IF(AJ570=\"\",\"\",IF(AJ570>Inputs!$D$9,0,1))","v":""},{"$f":"IF(AK570=\"\",\"\",IF(AK570>Inputs!$D$9,0,1))","v":""},{"$f":"IF(AL570=\"\",\"\",IF(AL570>Inputs!$D$9,0,1))","v":""},"",0,null,"","","","","","","","","","","","","","",null,null,"","","","","","","","","","","","",""]
[null,null,null,null,null,null,null,null,null,null,null,null,null,null,"","","","","","","","","","","","","","","","","","","","","","","","",null,{"$f":"IF(AA571=\"\",\"\",IF(AA571>Inputs!$D$9,0,1))","v":""},{"$f":"IF(AB571=\"\",\"\",IF(AB571>Inputs!$D$9,0,1))","v":""},{"$f":"IF(AC571=\"\",\"\",IF(AC571>Inputs!$D$9,0,1))","v":""},{"$f":"IF(AD571=\"\",\"\",IF(AD571>Inputs!$D$9,0,1))","v":""},{"$f":"IF(AE571=\"\",\"\",IF(AE571>Inputs!$D$9,0,1))","v":""},{"$f":"IF(AF571=\"\",\"\",IF(AF571>Inputs!$D$9,0,1))","v":""},{"$f":"IF(AG571=\"\",\"\",IF(AG571>Inputs!$D$9,0,1))","v":""},{"$f":"IF(AH571=\"\",\"\",IF(AH571>Inputs!$D$9,0,1))","v":""},{"$f":"IF(AI571=\"\",\"\",IF(AI571>Inputs!$D$9,0,1))","v":""},{"$f":"IF(AJ571=\"\",\"\",IF(AJ571>Inputs!$D$9,0,1))","v":""},{"$f":"IF(AK571=\"\",\"\",IF(AK571>Inputs!$D$9,0,1))","v":""},{"$f":"IF(AL571=\"\",\"\",IF(AL571>Inputs!$D$9,0,1))","v":""},"",0,null,"","","","","","","","","","","","","","",null,null,"","","","","","","","","","","","",""]
[null,null,null,null,null,null,null,null,null,null,null,null,null,null,"","","","","","","","","","","","","","","","","","","","","","","","",null,{"$f":"IF(AA572=\"\",\"\",IF(AA572>Inputs!$D$9,0,1))","v":""},{"$f":"IF(AB572=\"\",\"\",IF(AB572>Inputs!$D$9,0,1))","v":""},{"$f":"IF(AC572=\"\",\"\",IF(AC572>Inputs!$D$9,0,1))","v":""},{"$f":"IF(AD572=\"\",\"\",IF(AD572>Inputs!$D$9,0,1))","v":""},{"$f":"IF(AE572=\"\",\"\",IF(AE572>Inputs!$D$9,0,1))","v":""},{"$f":"IF(AF572=\"\",\"\",IF(AF572>Inputs!$D$9,0,1))","v":""},{"$f":"IF(AG572=\"\",\"\",IF(AG572>Inputs!$D$9,0,1))","v":""},{"$f":"IF(AH572=\"\",\"\",IF(AH572>Inputs!$D$9,0,1))","v":""},{"$f":"IF(AI572=\"\",\"\",IF(AI572>Inputs!$D$9,0,1))","v":""},{"$f":"IF(AJ572=\"\",\"\",IF(AJ572>Inputs!$D$9,0,1))","v":""},{"$f":"IF(AK572=\"\",\"\",IF(AK572>Inputs!$D$9,0,1))","v":""},{"$f":"IF(AL572=\"\",\"\",IF(AL572>Inputs!$D$9,0,1))","v":""},"",0,null,"","","","","","","","","","","","","","",null,null,"","","","","","","","","","","","",""]
[null,null,null,null,null,null,null,null,null,null,null,null,null,null,"","","","","","","","","","","","","","","","","","","","","","","","",null,{"$f":"IF(AA573=\"\",\"\",IF(AA573>Inputs!$D$9,0,1))","v":""},{"$f":"IF(AB573=\"\",\"\",IF(AB573>Inputs!$D$9,0,1))","v":""},{"$f":"IF(AC573=\"\",\"\",IF(AC573>Inputs!$D$9,0,1))","v":""},{"$f":"IF(AD573=\"\",\"\",IF(AD573>Inputs!$D$9,0,1))","v":""},{"$f":"IF(AE573=\"\",\"\",IF(AE573>Inputs!$D$9,0,1))","v":""},{"$f":"IF(AF573=\"\",\"\",IF(AF573>Inputs!$D$9,0,1))","v":""},{"$f":"IF(AG573=\"\",\"\",IF(AG573>Inputs!$D$9,0,1))","v":""},{"$f":"IF(AH573=\"\",\"\",IF(AH573>Inputs!$D$9,0,1))","v":""},{"$f":"IF(AI573=\"\",\"\",IF(AI573>Inputs!$D$9,0,1))","v":""},{"$f":"IF(AJ573=\"\",\"\",IF(AJ573>Inputs!$D$9,0,1))","v":""},{"$f":"IF(AK573=\"\",\"\",IF(AK573>Inputs!$D$9,0,1))","v":""},{"$f":"IF(AL573=\"\",\"\",IF(AL573>Inputs!$D$9,0,1))","v":""},"",0,null,"","","","","","","","","","","","","","",null,null,"","","","","","","","","","","","",""]
[null,null,null,null,null,null,null,null,null,null,null,null,null,null,"","","","","","","","","","","","","","","","","","","","","","","","",null,{"$f":"IF(AA574=\"\",\"\",IF(AA574>Inputs!$D$9,0,1))","v":""},{"$f":"IF(AB574=\"\",\"\",IF(AB574>Inputs!$D$9,0,1))","v":""},{"$f":"IF(AC574=\"\",\"\",IF(AC574>Inputs!$D$9,0,1))","v":""},{"$f":"IF(AD574=\"\",\"\",IF(AD574>Inputs!$D$9,0,1))","v":""},{"$f":"IF(AE574=\"\",\"\",IF(AE574>Inputs!$D$9,0,1))","v":""},{"$f":"IF(AF574=\"\",\"\",IF(AF574>Inputs!$D$9,0,1))","v":""},{"$f":"IF(AG574=\"\",\"\",IF(AG574>Inputs!$D$9,0,1))","v":""},{"$f":"IF(AH574=\"\",\"\",IF(AH574>Inputs!$D$9,0,1))","v":""},{"$f":"IF(AI574=\"\",\"\",IF(AI574>Inputs!$D$9,0,1))","v":""},{"$f":"IF(AJ574=\"\",\"\",IF(AJ574>Inputs!$D$9,0,1))","v":""},{"$f":"IF(AK574=\"\",\"\",IF(AK574>Inputs!$D$9,0,1))","v":""},{"$f":"IF(AL574=\"\",\"\",IF(AL574>Inputs!$D$9,0,1))","v":""},"",0,null,"","","","","","","","","","","","","","",null,null,"","","","","","","","","","","","",""]
[null,null,null,null,null,null,null,null,null,null,null,null,null,null,"","","","","","","","","","","","","","","","","","","","","","","","",null,{"$f":"IF(AA575=\"\",\"\",IF(AA575>Inputs!$D$9,0,1))","v":""},{"$f":"IF(AB575=\"\",\"\",IF(AB575>Inputs!$D$9,0,1))","v":""},{"$f":"IF(AC575=\"\",\"\",IF(AC575>Inputs!$D$9,0,1))","v":""},{"$f":"IF(AD575=\"\",\"\",IF(AD575>Inputs!$D$9,0,1))","v":""},{"$f":"IF(AE575=\"\",\"\",IF(AE575>Inputs!$D$9,0,1))","v":""},{"$f":"IF(AF575=\"\",\"\",IF(AF575>Inputs!$D$9,0,1))","v":""},{"$f":"IF(AG575=\"\",\"\",IF(AG575>Inputs!$D$9,0,1))","v":""},{"$f":"IF(AH575=\"\",\"\",IF(AH575>Inputs!$D$9,0,1))","v":""},{"$f":"IF(AI575=\"\",\"\",IF(AI575>Inputs!$D$9,0,1))","v":""},{"$f":"IF(AJ575=\"\",\"\",IF(AJ575>Inputs!$D$9,0,1))","v":""},{"$f":"IF(AK575=\"\",\"\",IF(AK575>Inputs!$D$9,0,1))","v":""},{"$f":"IF(AL575=\"\",\"\",IF(AL575>Inputs!$D$9,0,1))","v":""},"",0,null,"","","","","","","","","","","","","","",null,null,"","","","","","","","","","","","",""]
[null,null,null,null,null,null,null,null,null,null,null,null,null,null,"","","","","","","","","","","","","","","","","","","","","","","","",null,{"$f":"IF(AA576=\"\",\"\",IF(AA576>Inputs!$D$9,0,1))","v":""},{"$f":"IF(AB576=\"\",\"\",IF(AB576>Inputs!$D$9,0,1))","v":""},{"$f":"IF(AC576=\"\",\"\",IF(AC576>Inputs!$D$9,0,1))","v":""},{"$f":"IF(AD576=\"\",\"\",IF(AD576>Inputs!$D$9,0,1))","v":""},{"$f":"IF(AE576=\"\",\"\",IF(AE576>Inputs!$D$9,0,1))","v":""},{"$f":"IF(AF576=\"\",\"\",IF(AF576>Inputs!$D$9,0,1))","v":""},{"$f":"IF(AG576=\"\",\"\",IF(AG576>Inputs!$D$9,0,1))","v":""},{"$f":"IF(AH576=\"\",\"\",IF(AH576>Inputs!$D$9,0,1))","v":""},{"$f":"IF(AI576=\"\",\"\",IF(AI576>Inputs!$D$9,0,1))","v":""},{"$f":"IF(AJ576=\"\",\"\",IF(AJ576>Inputs!$D$9,0,1))","v":""},{"$f":"IF(AK576=\"\",\"\",IF(AK576>Inputs!$D$9,0,1))","v":""},{"$f":"IF(AL576=\"\",\"\",IF(AL576>Inputs!$D$9,0,1))","v":""},"",0,null,"","","","","","","","","","","","","","",null,null,"","","","","","","","","","","","",""]
[null,null,null,null,null,null,null,null,null,null,null,null,null,null,"","","","","","","","","","","","","","","","","","","","","","","","",null,{"$f":"IF(AA577=\"\",\"\",IF(AA577>Inputs!$D$9,0,1))","v":""},{"$f":"IF(AB577=\"\",\"\",IF(AB577>Inputs!$D$9,0,1))","v":""},{"$f":"IF(AC577=\"\",\"\",IF(AC577>Inputs!$D$9,0,1))","v":""},{"$f":"IF(AD577=\"\",\"\",IF(AD577>Inputs!$D$9,0,1))","v":""},{"$f":"IF(AE577=\"\",\"\",IF(AE577>Inputs!$D$9,0,1))","v":""},{"$f":"IF(AF577=\"\",\"\",IF(AF577>Inputs!$D$9,0,1))","v":""},{"$f":"IF(AG577=\"\",\"\",IF(AG577>Inputs!$D$9,0,1))","v":""},{"$f":"IF(AH577=\"\",\"\",IF(AH577>Inputs!$D$9,0,1))","v":""},{"$f":"IF(AI577=\"\",\"\",IF(AI577>Inputs!$D$9,0,1))","v":""},{"$f":"IF(AJ577=\"\",\"\",IF(AJ577>Inputs!$D$9,0,1))","v":""},{"$f":"IF(AK577=\"\",\"\",IF(AK577>Inputs!$D$9,0,1))","v":""},{"$f":"IF(AL577=\"\",\"\",IF(AL577>Inputs!$D$9,0,1))","v":""},"",0,null,"","","","","","","","","","","","","","",null,null,"","","","","","","","","","","","",""]
[null,null,null,null,null,null,null,null,null,null,null,null,null,null,"",{"$f":"IF(A578=\"\",\"\",IF(ISERROR(1+D578),\"\",IF(ISERROR(((1+D578/100)*(1+E578/100)*(1+F578/100)*(1+G578/100)*(1+H578/100)*(1+I578/100)*(1+J578/100)*(1+K578/100)*(1+L578/100)*(1+M578/100)*(1+N578/100))^(1/11)-1),\"\",((1+D578/100)*(1+E578/100)*(1+F578/100)*(1+G578/100)*(1+H578/100)*(1+I578/100)*(1+J578/100)*(1+K578/100)*(1+L578/100)*(1+M578/100)*(1+N578/100))^(1/11)-1)))","v":""},"","","","","","","","","","","","","","","","","","","","","","",null,{"$f":"IF(AA578=\"\",\"\",IF(AA578>Inputs!$D$9,0,1))","v":""},{"$f":"IF(AB578=\"\",\"\",IF(AB578>Inputs!$D$9,0,1))","v":""},{"$f":"IF(AC578=\"\",\"\",IF(AC578>Inputs!$D$9,0,1))","v":""},{"$f":"IF(AD578=\"\",\"\",IF(AD578>Inputs!$D$9,0,1))","v":""},{"$f":"IF(AE578=\"\",\"\",IF(AE578>Inputs!$D$9,0,1))","v":""},{"$f":"IF(AF578=\"\",\"\",IF(AF578>Inputs!$D$9,0,1))","v":""},{"$f":"IF(AG578=\"\",\"\",IF(AG578>Inputs!$D$9,0,1))","v":""},{"$f":"IF(AH578=\"\",\"\",IF(AH578>Inputs!$D$9,0,1))","v":""},{"$f":"IF(AI578=\"\",\"\",IF(AI578>Inputs!$D$9,0,1))","v":""},{"$f":"IF(AJ578=\"\",\"\",IF(AJ578>Inputs!$D$9,0,1))","v":""},{"$f":"IF(AK578=\"\",\"\",IF(AK578>Inputs!$D$9,0,1))","v":""},{"$f":"IF(AL578=\"\",\"\",IF(AL578>Inputs!$D$9,0,1))","v":""},"",0,null,"","","","","","","","","","","","","","",null,null,"","","","","","","","","","","","",""]
[null,null,null,null,null,null,null,null,null,null,null,null,null,null,{"$f":"IF(A579=\"\",\"\",IF(ISERROR(1+C579),\"\",IF(ISERROR(((1+C579/100)*(1+D579/100)*(1+E579/100)*(1+F579/100)*(1+G579/100)*(1+H579/100)*(1+I579/100)*(1+J579/100)*(1+K579/100)*(1+L579/100)*(1+M579/100)*(1+N579/100))^(1/12)-1),\"\",((1+C579/100)*(1+D579/100)*(1+E579/100)*(1+F579/100)*(1+G579/100)*(1+H579/100)*(1+I579/100)*(1+J579/100)*(1+K579/100)*(1+L579/100)*(1+M579/100)*(1+N579/100))^(1/12)-1)))","v":""},"",{"$f":"IF(A579=\"\",\"\",IF(ISERROR(1+E579),\"\",IF(ISERROR(((1+E579/100)*(1+F579/100)*(1+G579/100)*(1+H579/100)*(1+I579/100)*(1+J579/100)*(1+K579/100)*(1+L579/100)*(1+M579/100)*(1+N579/100))^(1/10)-1),\"\",((1+E579/100)*(1+F579/100)*(1+G579/100)*(1+H579/100)*(1+I579/100)*(1+J579/100)*(1+K579/100)*(1+L579/100)*(1+M579/100)*(1+N579/100))^(1/10)-1)))","v":""},{"$f":"IF(A579=\"\",\"\",IF(ISERROR(1+F579),\"\",IF(ISERROR(((1+F579/100)*(1+G579/100)*(1+H579/100)*(1+I579/100)*(1+J579/100)*(1+K579/100)*(1+L579/100)*(1+M579/100)*(1+N579/100))^(1/9)-1),\"\",((1+F579/100)*(1+G579/100)*(1+H579/100)*(1+I579/100)*(1+J579/100)*(1+K579/100)*(1+L579/100)*(1+M579/100)*(1+N579/100))^(1/9)-1)))","v":""},{"$f":"IF(A579=\"\",\"\",IF(ISERROR(1+G579),\"\",IF(ISERROR(((1+G579/100)*(1+H579/100)*(1+I579/100)*(1+J579/100)*(1+K579/100)*(1+L579/100)*(1+M579/100)*(1+N579/100))^(1/8)-1),\"\",((1+G579/100)*(1+H579/100)*(1+I579/100)*(1+J579/100)*(1+K579/100)*(1+L579/100)*(1+M579/100)*(1+N579/100))^(1/8)-1)))","v":""},{"$f":"IF(A579=\"\",\"\",IF(ISERROR(1+H579),\"\",IF(ISERROR(((1+H579/100)*(1+I579/100)*(1+J579/100)*(1+K579/100)*(1+L579/100)*(1+M579/100)*(1+N579/100))^(1/7)-1),\"\",((1+H579/100)*(1+I579/100)*(1+J579/100)*(1+K579/100)*(1+L579/100)*(1+M579/100)*(1+N579/100))^(1/7)-1)))","v":""},{"$f":"IF(A579=\"\",\"\",IF(ISERROR(1+I579),\"\",IF(ISERROR(((1+I579/100)*(1+J579/100)*(1+K579/100)*(1+L579/100)*(1+M579/100)*(1+N579/100))^(1/6)-1),\"\",((1+I579/100)*(1+J579/100)*(1+K579/100)*(1+L579/100)*(1+M579/100)*(1+N579/100))^(1/6)-1)))","v":""},{"$f":"IF(A579=\"\",\"\",IF(ISERROR(1+J579),\"\",IF(ISERROR(((1+J579/100)*(1+K579/100)*(1+L579/100)*(1+M579/100)*(1+N579/100))^(1/5)-1),\"\",((1+J579/100)*(1+K579/100)*(1+L579/100)*(1+M579/100)*(1+N579/100))^(1/5)-1)))","v":""},{"$f":"IF(A579=\"\",\"\",IF(ISERROR(1+K579),\"\",IF(ISERROR(((1+K579/100)*(1+L579/100)*(1+M579/100)*(1+N579/100))^(1/4)-1),\"\",((1+K579/100)*(1+L579/100)*(1+M579/100)*(1+N579/100))^(1/4)-1)))","v":""},{"$f":"IF(A579=\"\",\"\",IF(ISERROR(1+L579),\"\",IF(ISERROR(((1+L579/100)*(1+M579/100)*(1+N579/100))^(1/3)-1),\"\",((1+L579/100)*(1+M579/100)*(1+N579/100))^(1/3)-1)))","v":""},{"$f":"IF(A579=\"\",\"\",IF(ISERROR(1+M579),\"\",IF(ISERROR(((1+M579/100)*(1+N579/100))^(1/2)-1),\"\",((1+M579/100)*(1+N579/100))^(1/2)-1)))","v":""},{"$f":"IF(A579=\"\",\"\",IF(ISERROR(1+N579),\"\",IF(ISERROR(((1+N579/100))^(1/1)-1),\"\",((1+N579/100))^(1/1)-1)))","v":""},"","","","","","","","","","","","",null,{"$f":"IF(AA579=\"\",\"\",IF(AA579>Inputs!$D$9,0,1))","v":""},{"$f":"IF(AB579=\"\",\"\",IF(AB579>Inputs!$D$9,0,1))","v":""},{"$f":"IF(AC579=\"\",\"\",IF(AC579>Inputs!$D$9,0,1))","v":""},{"$f":"IF(AD579=\"\",\"\",IF(AD579>Inputs!$D$9,0,1))","v":""},{"$f":"IF(AE579=\"\",\"\",IF(AE579>Inputs!$D$9,0,1))","v":""},{"$f":"IF(AF579=\"\",\"\",IF(AF579>Inputs!$D$9,0,1))","v":""},{"$f":"IF(AG579=\"\",\"\",IF(AG579>Inputs!$D$9,0,1))","v":""},{"$f":"IF(AH579=\"\",\"\",IF(AH579>Inputs!$D$9,0,1))","v":""},{"$f":"IF(AI579=\"\",\"\",IF(AI579>Inputs!$D$9,0,1))","v":""},{"$f":"IF(AJ579=\"\",\"\",IF(AJ579>Inputs!$D$9,0,1))","v":""},{"$f":"IF(AK579=\"\",\"\",IF(AK579>Inputs!$D$9,0,1))","v":""},{"$f":"IF(AL579=\"\",\"\",IF(AL579>Inputs!$D$9,0,1))","v":""},"",{"$f":"COUNT(AN579:AY579)","v":0},null,{"$f":"IF(O579=\"\",\"\",IF(O579>AVERAGE($O$2:$O$1000),1,0))","v":""},{"$f":"IF(P579=\"\",\"\",IF(P579>AVERAGE($P$2:$P$1000),1,0))","v":""},{"$f":"IF(Q579=\"\",\"\",IF(Q579>AVERAGE($Q$2:$Q$1000),1,0))","v":""},{"$f":"IF(R579=\"\",\"\",IF(R579>AVERAGE($R$2:$R$1000),1,0))","v":""},{"$f":"IF(S579=\"\",\"\",IF(S579>AVERAGE($S$2:$S$1000),1,0))","v":""},{"$f":"IF(T579=\"\",\"\",IF(T579>AVERAGE($T$2:$T$1000),1,0))","v":""},{"$f":"IF(U579=\"\",\"\",IF(U579>AVERAGE($U$2:$U$1000),1,0))","v":""},{"$f":"IF(V579=\"\",\"\",IF(V579>AVERAGE($V$2:$V$1000),1,0))","v":""},{"$f":"IF(W579=\"\",\"\",IF(W579>AVERAGE($W$2:$W$1000),1,0))","v":""},{"$f":"IF(X579=\"\",\"\",IF(X579>AVERAGE($X$2:$X$1000),1,0))","v":""},{"$f":"IF(Y579=\"\",\"\",IF(Y579>AVERAGE($Y$2:$Y$1000),1,0))","v":""},{"$f":"IF(Z579=\"\",\"\",IF(Z579>AVERAGE($Z$2:$Z$1000),1,0))","v":""},{"$f":"IF(COUNT(BC579:BN579)=0,\"\",SUM(BC579:BN579)/COUNT(BC579:BN579))","v":""},{"$f":"IF(A579=\"\",\"\",COUNT(BC579:BN579))","v":""},null,null,{"$f":"IF($A579=\"\",\"\",IF(C579=\"-\",0,IF(C579>AVERAGE(C$2:C$1183),1,0)))","v":""},{"$f":"IF($A579=\"\",\"\",IF(D579=\"-\",0,IF(D579>AVERAGE(D$2:D$1183),1,0)))","v":""},{"$f":"IF($A579=\"\",\"\",IF(E579=\"-\",0,IF(E579>AVERAGE(E$2:E$1183),1,0)))","v":""},{"$f":"IF($A579=\"\",\"\",IF(F579=\"-\",0,IF(F579>AVERAGE(F$2:F$1183),1,0)))","v":""},{"$f":"IF($A579=\"\",\"\",IF(G579=\"-\",0,IF(G579>AVERAGE(G$2:G$1183),1,0)))","v":""},{"$f":"IF($A579=\"\",\"\",IF(H579=\"-\",0,IF(H579>AVERAGE(H$2:H$1183),1,0)))","v":""},{"$f":"IF($A579=\"\",\"\",IF(I579=\"-\",0,IF(I579>AVERAGE(I$2:I$1183),1,0)))","v":""},{"$f":"IF($A579=\"\",\"\",IF(J579=\"-\",0,IF(J579>AVERAGE(J$2:J$1183),1,0)))","v":""},{"$f":"IF($A579=\"\",\"\",IF(K579=\"-\",0,IF(K579>AVERAGE(K$2:K$1183),1,0)))","v":""},{"$f":"IF($A579=\"\",\"\",IF(L579=\"-\",0,IF(L579>AVERAGE(L$2:L$1183),1,0)))","v":""},{"$f":"IF($A579=\"\",\"\",IF(M579=\"-\",0,IF(M579>AVERAGE(M$2:M$1183),1,0)))","v":""},{"$f":"IF($A579=\"\",\"\",IF(N579=\"-\",0,IF(N579>AVERAGE(N$2:N$1183),1,0)))","v":""},""]
[null,null,null,null,null,null,null,null,null,null,null,null,null,null,"","","","","","","","","","","","","","","","","","","","","","","","",null,{"$f":"IF(AA580=\"\",\"\",IF(AA580>Inputs!$D$9,0,1))","v":""},{"$f":"IF(AB580=\"\",\"\",IF(AB580>Inputs!$D$9,0,1))","v":""},{"$f":"IF(AC580=\"\",\"\",IF(AC580>Inputs!$D$9,0,1))","v":""},{"$f":"IF(AD580=\"\",\"\",IF(AD580>Inputs!$D$9,0,1))","v":""},{"$f":"IF(AE580=\"\",\"\",IF(AE580>Inputs!$D$9,0,1))","v":""},{"$f":"IF(AF580=\"\",\"\",IF(AF580>Inputs!$D$9,0,1))","v":""},{"$f":"IF(AG580=\"\",\"\",IF(AG580>Inputs!$D$9,0,1))","v":""},{"$f":"IF(AH580=\"\",\"\",IF(AH580>Inputs!$D$9,0,1))","v":""},{"$f":"IF(AI580=\"\",\"\",IF(AI580>Inputs!$D$9,0,1))","v":""},{"$f":"IF(AJ580=\"\",\"\",IF(AJ580>Inputs!$D$9,0,1))","v":""},{"$f":"IF(AK580=\"\",\"\",IF(AK580>Inputs!$D$9,0,1))","v":""},{"$f":"IF(AL580=\"\",\"\",IF(AL580>Inputs!$D$9,0,1))","v":""},"",0,null,"","","","","","","","","","","","","","",null,null,"","","","","","","","","","","","",""]
[null,null,null,null,null,null,null,null,null,null,null,null,null,null,"","","","","","","","","","","","","","","","","","","","","","","","",null,{"$f":"IF(AA581=\"\",\"\",IF(AA581>Inputs!$D$9,0,1))","v":""},{"$f":"IF(AB581=\"\",\"\",IF(AB581>Inputs!$D$9,0,1))","v":""},{"$f":"IF(AC581=\"\",\"\",IF(AC581>Inputs!$D$9,0,1))","v":""},{"$f":"IF(AD581=\"\",\"\",IF(AD581>Inputs!$D$9,0,1))","v":""},{"$f":"IF(AE581=\"\",\"\",IF(AE581>Inputs!$D$9,0,1))","v":""},{"$f":"IF(AF581=\"\",\"\",IF(AF581>Inputs!$D$9,0,1))","v":""},{"$f":"IF(AG581=\"\",\"\",IF(AG581>Inputs!$D$9,0,1))","v":""},{"$f":"IF(AH581=\"\",\"\",IF(AH581>Inputs!$D$9,0,1))","v":""},{"$f":"IF(AI581=\"\",\"\",IF(AI581>Inputs!$D$9,0,1))","v":""},{"$f":"IF(AJ581=\"\",\"\",IF(AJ581>Inputs!$D$9,0,1))","v":""},{"$f":"IF(AK581=\"\",\"\",IF(AK581>Inputs!$D$9,0,1))","v":""},{"$f":"IF(AL581=\"\",\"\",IF(AL581>Inputs!$D$9,0,1))","v":""},"",0,null,"","","","","","","","","","","","","","",null,null,"","","","","","","","","","","","",""]
[null,null,null,null,null,null,null,null,null,null,null,null,null,null,"","","","","","","","","","","","","","","","","","","","","","","","",null,{"$f":"IF(AA582=\"\",\"\",IF(AA582>Inputs!$D$9,0,1))","v":""},{"$f":"IF(AB582=\"\",\"\",IF(AB582>Inputs!$D$9,0,1))","v":""},{"$f":"IF(AC582=\"\",\"\",IF(AC582>Inputs!$D$9,0,1))","v":""},{"$f":"IF(AD582=\"\",\"\",IF(AD582>Inputs!$D$9,0,1))","v":""},{"$f":"IF(AE582=\"\",\"\",IF(AE582>Inputs!$D$9,0,1))","v":""},{"$f":"IF(AF582=\"\",\"\",IF(AF582>Inputs!$D$9,0,1))","v":""},{"$f":"IF(AG582=\"\",\"\",IF(AG582>Inputs!$D$9,0,1))","v":""},{"$f":"IF(AH582=\"\",\"\",IF(AH582>Inputs!$D$9,0,1))","v":""},{"$f":"IF(AI582=\"\",\"\",IF(AI582>Inputs!$D$9,0,1))","v":""},{"$f":"IF(AJ582=\"\",\"\",IF(AJ582>Inputs!$D$9,0,1))","v":""},{"$f":"IF(AK582=\"\",\"\",IF(AK582>Inputs!$D$9,0,1))","v":""},{"$f":"IF(AL582=\"\",\"\",IF(AL582>Inputs!$D$9,0,1))","v":""},"",0,null,"","","","","","","","","","","","","","",null,null,"","","","","","","","","","","","",""]
[null,null,null,null,null,null,null,null,null,null,null,null,null,null,"","","","","","","","","","","","","","","","","","","","","","","","",null,{"$f":"IF(AA583=\"\",\"\",IF(AA583>Inputs!$D$9,0,1))","v":""},{"$f":"IF(AB583=\"\",\"\",IF(AB583>Inputs!$D$9,0,1))","v":""},{"$f":"IF(AC583=\"\",\"\",IF(AC583>Inputs!$D$9,0,1))","v":""},{"$f":"IF(AD583=\"\",\"\",IF(AD583>Inputs!$D$9,0,1))","v":""},{"$f":"IF(AE583=\"\",\"\",IF(AE583>Inputs!$D$9,0,1))","v":""},{"$f":"IF(AF583=\"\",\"\",IF(AF583>Inputs!$D$9,0,1))","v":""},{"$f":"IF(AG583=\"\",\"\",IF(AG583>Inputs!$D$9,0,1))","v":""},{"$f":"IF(AH583=\"\",\"\",IF(AH583>Inputs!$D$9,0,1))","v":""},{"$f":"IF(AI583=\"\",\"\",IF(AI583>Inputs!$D$9,0,1))","v":""},{"$f":"IF(AJ583=\"\",\"\",IF(AJ583>Inputs!$D$9,0,1))","v":""},{"$f":"IF(AK583=\"\",\"\",IF(AK583>Inputs!$D$9,0,1))","v":""},{"$f":"IF(AL583=\"\",\"\",IF(AL583>Inputs!$D$9,0,1))","v":""},"",0,null,"","","","","","","","","","","","","","",null,null,"","","","","","","","","","","","",""]
[null,null,null,null,null,null,null,null,null,null,null,null,null,null,"","","","","","","","","","","","","","","","","","","","","","","","",null,{"$f":"IF(AA584=\"\",\"\",IF(AA584>Inputs!$D$9,0,1))","v":""},{"$f":"IF(AB584=\"\",\"\",IF(AB584>Inputs!$D$9,0,1))","v":""},{"$f":"IF(AC584=\"\",\"\",IF(AC584>Inputs!$D$9,0,1))","v":""},{"$f":"IF(AD584=\"\",\"\",IF(AD584>Inputs!$D$9,0,1))","v":""},{"$f":"IF(AE584=\"\",\"\",IF(AE584>Inputs!$D$9,0,1))","v":""},{"$f":"IF(AF584=\"\",\"\",IF(AF584>Inputs!$D$9,0,1))","v":""},{"$f":"IF(AG584=\"\",\"\",IF(AG584>Inputs!$D$9,0,1))","v":""},{"$f":"IF(AH584=\"\",\"\",IF(AH584>Inputs!$D$9,0,1))","v":""},{"$f":"IF(AI584=\"\",\"\",IF(AI584>Inputs!$D$9,0,1))","v":""},{"$f":"IF(AJ584=\"\",\"\",IF(AJ584>Inputs!$D$9,0,1))","v":""},{"$f":"IF(AK584=\"\",\"\",IF(AK584>Inputs!$D$9,0,1))","v":""},{"$f":"IF(AL584=\"\",\"\",IF(AL584>Inputs!$D$9,0,1))","v":""},"",0,null,"","","","","","","","","","","","","","",null,null,"","","","","","","","","","","","",""]
[null,null,null,null,null,null,null,null,null,null,null,null,null,null,"","","","","","","","","","","","","","","","","","","","","","","","",null,{"$f":"IF(AA585=\"\",\"\",IF(AA585>Inputs!$D$9,0,1))","v":""},{"$f":"IF(AB585=\"\",\"\",IF(AB585>Inputs!$D$9,0,1))","v":""},{"$f":"IF(AC585=\"\",\"\",IF(AC585>Inputs!$D$9,0,1))","v":""},{"$f":"IF(AD585=\"\",\"\",IF(AD585>Inputs!$D$9,0,1))","v":""},{"$f":"IF(AE585=\"\",\"\",IF(AE585>Inputs!$D$9,0,1))","v":""},{"$f":"IF(AF585=\"\",\"\",IF(AF585>Inputs!$D$9,0,1))","v":""},{"$f":"IF(AG585=\"\",\"\",IF(AG585>Inputs!$D$9,0,1))","v":""},{"$f":"IF(AH585=\"\",\"\",IF(AH585>Inputs!$D$9,0,1))","v":""},{"$f":"IF(AI585=\"\",\"\",IF(AI585>Inputs!$D$9,0,1))","v":""},{"$f":"IF(AJ585=\"\",\"\",IF(AJ585>Inputs!$D$9,0,1))","v":""},{"$f":"IF(AK585=\"\",\"\",IF(AK585>Inputs!$D$9,0,1))","v":""},{"$f":"IF(AL585=\"\",\"\",IF(AL585>Inputs!$D$9,0,1))","v":""},"",0,null,"","","","","","","","","","","","","","",null,null,"","","","","","","","","","","","",""]
[null,null,null,null,null,null,null,null,null,null,null,null,null,null,"","","","","","","","","","","","","","","","","","","","","","","","",null,{"$f":"IF(AA586=\"\",\"\",IF(AA586>Inputs!$D$9,0,1))","v":""},{"$f":"IF(AB586=\"\",\"\",IF(AB586>Inputs!$D$9,0,1))","v":""},{"$f":"IF(AC586=\"\",\"\",IF(AC586>Inputs!$D$9,0,1))","v":""},{"$f":"IF(AD586=\"\",\"\",IF(AD586>Inputs!$D$9,0,1))","v":""},{"$f":"IF(AE586=\"\",\"\",IF(AE586>Inputs!$D$9,0,1))","v":""},{"$f":"IF(AF586=\"\",\"\",IF(AF586>Inputs!$D$9,0,1))","v":""},{"$f":"IF(AG586=\"\",\"\",IF(AG586>Inputs!$D$9,0,1))","v":""},{"$f":"IF(AH586=\"\",\"\",IF(AH586>Inputs!$D$9,0,1))","v":""},{"$f":"IF(AI586=\"\",\"\",IF(AI586>Inputs!$D$9,0,1))","v":""},{"$f":"IF(AJ586=\"\",\"\",IF(AJ586>Inputs!$D$9,0,1))","v":""},{"$f":"IF(AK586=\"\",\"\",IF(AK586>Inputs!$D$9,0,1))","v":""},{"$f":"IF(AL586=\"\",\"\",IF(AL586>Inputs!$D$9,0,1))","v":""},"",0,null,"","","","","","","","","","","","","","",null,null,"","","","","","","","","","","","",""]
[null,null,null,null,null,null,null,null,null,null,null,null,null,null,"","","","","","","","","","","","","","","","","","","","","","","","",null,{"$f":"IF(AA587=\"\",\"\",IF(AA587>Inputs!$D$9,0,1))","v":""},{"$f":"IF(AB587=\"\",\"\",IF(AB587>Inputs!$D$9,0,1))","v":""},{"$f":"IF(AC587=\"\",\"\",IF(AC587>Inputs!$D$9,0,1))","v":""},{"$f":"IF(AD587=\"\",\"\",IF(AD587>Inputs!$D$9,0,1))","v":""},{"$f":"IF(AE587=\"\",\"\",IF(AE587>Inputs!$D$9,0,1))","v":""},{"$f":"IF(AF587=\"\",\"\",IF(AF587>Inputs!$D$9,0,1))","v":""},{"$f":"IF(AG587=\"\",\"\",IF(AG587>Inputs!$D$9,0,1))","v":""},{"$f":"IF(AH587=\"\",\"\",IF(AH587>Inputs!$D$9,0,1))","v":""},{"$f":"IF(AI587=\"\",\"\",IF(AI587>Inputs!$D$9,0,1))","v":""},{"$f":"IF(AJ587=\"\",\"\",IF(AJ587>Inputs!$D$9,0,1))","v":""},{"$f":"IF(AK587=\"\",\"\",IF(AK587>Inputs!$D$9,0,1))","v":""},{"$f":"IF(AL587=\"\",\"\",IF(AL587>Inputs!$D$9,0,1))","v":""},"",0,null,"","","","","","","","","","","","","","",null,null,"","","","","","","","","","","","",""]
[null,null,null,null,null,null,null,null,null,null,null,null,null,null,"","","","","","","","","","","","","","","","","","","","","","","","",null,{"$f":"IF(AA588=\"\",\"\",IF(AA588>Inputs!$D$9,0,1))","v":""},{"$f":"IF(AB588=\"\",\"\",IF(AB588>Inputs!$D$9,0,1))","v":""},{"$f":"IF(AC588=\"\",\"\",IF(AC588>Inputs!$D$9,0,1))","v":""},{"$f":"IF(AD588=\"\",\"\",IF(AD588>Inputs!$D$9,0,1))","v":""},{"$f":"IF(AE588=\"\",\"\",IF(AE588>Inputs!$D$9,0,1))","v":""},{"$f":"IF(AF588=\"\",\"\",IF(AF588>Inputs!$D$9,0,1))","v":""},{"$f":"IF(AG588=\"\",\"\",IF(AG588>Inputs!$D$9,0,1))","v":""},{"$f":"IF(AH588=\"\",\"\",IF(AH588>Inputs!$D$9,0,1))","v":""},{"$f":"IF(AI588=\"\",\"\",IF(AI588>Inputs!$D$9,0,1))","v":""},{"$f":"IF(AJ588=\"\",\"\",IF(AJ588>Inputs!$D$9,0,1))","v":""},{"$f":"IF(AK588=\"\",\"\",IF(AK588>Inputs!$D$9,0,1))","v":""},{"$f":"IF(AL588=\"\",\"\",IF(AL588>Inputs!$D$9,0,1))","v":""},"",0,null,"","","","","","","","","","","","","","",null,null,"","","","","","","","","","","","",""]
[null,null,null,null,null,null,null,null,null,null,null,null,null,null,"","","","","","","","","","","","","","","","","","","","","","","","",null,{"$f":"IF(AA589=\"\",\"\",IF(AA589>Inputs!$D$9,0,1))","v":""},{"$f":"IF(AB589=\"\",\"\",IF(AB589>Inputs!$D$9,0,1))","v":""},{"$f":"IF(AC589=\"\",\"\",IF(AC589>Inputs!$D$9,0,1))","v":""},{"$f":"IF(AD589=\"\",\"\",IF(AD589>Inputs!$D$9,0,1))","v":""},{"$f":"IF(AE589=\"\",\"\",IF(AE589>Inputs!$D$9,0,1))","v":""},{"$f":"IF(AF589=\"\",\"\",IF(AF589>Inputs!$D$9,0,1))","v":""},{"$f":"IF(AG589=\"\",\"\",IF(AG589>Inputs!$D$9,0,1))","v":""},{"$f":"IF(AH589=\"\",\"\",IF(AH589>Inputs!$D$9,0,1))","v":""},{"$f":"IF(AI589=\"\",\"\",IF(AI589>Inputs!$D$9,0,1))","v":""},{"$f":"IF(AJ589=\"\",\"\",IF(AJ589>Inputs!$D$9,0,1))","v":""},{"$f":"IF(AK589=\"\",\"\",IF(AK589>Inputs!$D$9,0,1))","v":""},{"$f":"IF(AL589=\"\",\"\",IF(AL589>Inputs!$D$9,0,1))","v":""},"",0,null,"","","","","","","","","","","","","","",null,null,"","","","","","","","","","","","",""]
[null,null,null,null,null,null,null,null,null,null,null,null,null,null,"","","","","","","","","","","","","","","","","","","","","","","","",null,{"$f":"IF(AA590=\"\",\"\",IF(AA590>Inputs!$D$9,0,1))","v":""},{"$f":"IF(AB590=\"\",\"\",IF(AB590>Inputs!$D$9,0,1))","v":""},{"$f":"IF(AC590=\"\",\"\",IF(AC590>Inputs!$D$9,0,1))","v":""},{"$f":"IF(AD590=\"\",\"\",IF(AD590>Inputs!$D$9,0,1))","v":""},{"$f":"IF(AE590=\"\",\"\",IF(AE590>Inputs!$D$9,0,1))","v":""},{"$f":"IF(AF590=\"\",\"\",IF(AF590>Inputs!$D$9,0,1))","v":""},{"$f":"IF(AG590=\"\",\"\",IF(AG590>Inputs!$D$9,0,1))","v":""},{"$f":"IF(AH590=\"\",\"\",IF(AH590>Inputs!$D$9,0,1))","v":""},{"$f":"IF(AI590=\"\",\"\",IF(AI590>Inputs!$D$9,0,1))","v":""},{"$f":"IF(AJ590=\"\",\"\",IF(AJ590>Inputs!$D$9,0,1))","v":""},{"$f":"IF(AK590=\"\",\"\",IF(AK590>Inputs!$D$9,0,1))","v":""},{"$f":"IF(AL590=\"\",\"\",IF(AL590>Inputs!$D$9,0,1))","v":""},"",0,null,"","","","","","","","","","","","","","",null,null,"","","","","","","","","","","","",""]
[null,null,null,null,null,null,null,null,null,null,null,null,null,null,"","","","","","","","","","","","","","","","","","","","","","","","",null,{"$f":"IF(AA591=\"\",\"\",IF(AA591>Inputs!$D$9,0,1))","v":""},{"$f":"IF(AB591=\"\",\"\",IF(AB591>Inputs!$D$9,0,1))","v":""},{"$f":"IF(AC591=\"\",\"\",IF(AC591>Inputs!$D$9,0,1))","v":""},{"$f":"IF(AD591=\"\",\"\",IF(AD591>Inputs!$D$9,0,1))","v":""},{"$f":"IF(AE591=\"\",\"\",IF(AE591>Inputs!$D$9,0,1))","v":""},{"$f":"IF(AF591=\"\",\"\",IF(AF591>Inputs!$D$9,0,1))","v":""},{"$f":"IF(AG591=\"\",\"\",IF(AG591>Inputs!$D$9,0,1))","v":""},{"$f":"IF(AH591=\"\",\"\",IF(AH591>Inputs!$D$9,0,1))","v":""},{"$f":"IF(AI591=\"\",\"\",IF(AI591>Inputs!$D$9,0,1))","v":""},{"$f":"IF(AJ591=\"\",\"\",IF(AJ591>Inputs!$D$9,0,1))","v":""},{"$f":"IF(AK591=\"\",\"\",IF(AK591>Inputs!$D$9,0,1))","v":""},{"$f":"IF(AL591=\"\",\"\",IF(AL591>Inputs!$D$9,0,1))","v":""},"",0,null,"","","","","","","","","","","","","","",null,null,"","","","","","","","","","","","",""]
[null,null,null,null,null,null,null,null,null,null,null,null,null,null,"","","","","","","","","","","","","","","","","","","","","","","","",null,{"$f":"IF(AA592=\"\",\"\",IF(AA592>Inputs!$D$9,0,1))","v":""},{"$f":"IF(AB592=\"\",\"\",IF(AB592>Inputs!$D$9,0,1))","v":""},{"$f":"IF(AC592=\"\",\"\",IF(AC592>Inputs!$D$9,0,1))","v":""},{"$f":"IF(AD592=\"\",\"\",IF(AD592>Inputs!$D$9,0,1))","v":""},{"$f":"IF(AE592=\"\",\"\",IF(AE592>Inputs!$D$9,0,1))","v":""},{"$f":"IF(AF592=\"\",\"\",IF(AF592>Inputs!$D$9,0,1))","v":""},{"$f":"IF(AG592=\"\",\"\",IF(AG592>Inputs!$D$9,0,1))","v":""},{"$f":"IF(AH592=\"\",\"\",IF(AH592>Inputs!$D$9,0,1))","v":""},{"$f":"IF(AI592=\"\",\"\",IF(AI592>Inputs!$D$9,0,1))","v":""},{"$f":"IF(AJ592=\"\",\"\",IF(AJ592>Inputs!$D$9,0,1))","v":""},{"$f":"IF(AK592=\"\",\"\",IF(AK592>Inputs!$D$9,0,1))","v":""},{"$f":"IF(AL592=\"\",\"\",IF(AL592>Inputs!$D$9,0,1))","v":""},"",0,null,"","","","","","","","","","","","","","",null,null,"","","","","","","","","","","","",""]
[null,null,null,null,null,null,null,null,null,null,null,null,null,null,"","","","","","","","","","","","","","","","","","","","","","","","",null,{"$f":"IF(AA593=\"\",\"\",IF(AA593>Inputs!$D$9,0,1))","v":""},{"$f":"IF(AB593=\"\",\"\",IF(AB593>Inputs!$D$9,0,1))","v":""},{"$f":"IF(AC593=\"\",\"\",IF(AC593>Inputs!$D$9,0,1))","v":""},{"$f":"IF(AD593=\"\",\"\",IF(AD593>Inputs!$D$9,0,1))","v":""},{"$f":"IF(AE593=\"\",\"\",IF(AE593>Inputs!$D$9,0,1))","v":""},{"$f":"IF(AF593=\"\",\"\",IF(AF593>Inputs!$D$9,0,1))","v":""},{"$f":"IF(AG593=\"\",\"\",IF(AG593>Inputs!$D$9,0,1))","v":""},{"$f":"IF(AH593=\"\",\"\",IF(AH593>Inputs!$D$9,0,1))","v":""},{"$f":"IF(AI593=\"\",\"\",IF(AI593>Inputs!$D$9,0,1))","v":""},{"$f":"IF(AJ593=\"\",\"\",IF(AJ593>Inputs!$D$9,0,1))","v":""},{"$f":"IF(AK593=\"\",\"\",IF(AK593>Inputs!$D$9,0,1))","v":""},{"$f":"IF(AL593=\"\",\"\",IF(AL593>Inputs!$D$9,0,1))","v":""},"",0,null,"","","","","","","","","","","","","","",null,null,"","","","","","","","","","","","",""]
[null,null,null,null,null,null,null,null,null,null,null,null,null,null,"","","","","","","","","","","","","","","","","","","","","","","","",null,{"$f":"IF(AA594=\"\",\"\",IF(AA594>Inputs!$D$9,0,1))","v":""},{"$f":"IF(AB594=\"\",\"\",IF(AB594>Inputs!$D$9,0,1))","v":""},{"$f":"IF(AC594=\"\",\"\",IF(AC594>Inputs!$D$9,0,1))","v":""},{"$f":"IF(AD594=\"\",\"\",IF(AD594>Inputs!$D$9,0,1))","v":""},{"$f":"IF(AE594=\"\",\"\",IF(AE594>Inputs!$D$9,0,1))","v":""},{"$f":"IF(AF594=\"\",\"\",IF(AF594>Inputs!$D$9,0,1))","v":""},{"$f":"IF(AG594=\"\",\"\",IF(AG594>Inputs!$D$9,0,1))","v":""},{"$f":"IF(AH594=\"\",\"\",IF(AH594>Inputs!$D$9,0,1))","v":""},{"$f":"IF(AI594=\"\",\"\",IF(AI594>Inputs!$D$9,0,1))","v":""},{"$f":"IF(AJ594=\"\",\"\",IF(AJ594>Inputs!$D$9,0,1))","v":""},{"$f":"IF(AK594=\"\",\"\",IF(AK594>Inputs!$D$9,0,1))","v":""},{"$f":"IF(AL594=\"\",\"\",IF(AL594>Inputs!$D$9,0,1))","v":""},"",0,null,"","","","","","","","","","","","","","",null,null,"","","","","","","","","","","","",""]
[null,null,null,null,null,null,null,null,null,null,null,null,null,null,"","","","","","","","","","","","","","","","","","","","","","","","",null,{"$f":"IF(AA595=\"\",\"\",IF(AA595>Inputs!$D$9,0,1))","v":""},{"$f":"IF(AB595=\"\",\"\",IF(AB595>Inputs!$D$9,0,1))","v":""},{"$f":"IF(AC595=\"\",\"\",IF(AC595>Inputs!$D$9,0,1))","v":""},{"$f":"IF(AD595=\"\",\"\",IF(AD595>Inputs!$D$9,0,1))","v":""},{"$f":"IF(AE595=\"\",\"\",IF(AE595>Inputs!$D$9,0,1))","v":""},{"$f":"IF(AF595=\"\",\"\",IF(AF595>Inputs!$D$9,0,1))","v":""},{"$f":"IF(AG595=\"\",\"\",IF(AG595>Inputs!$D$9,0,1))","v":""},{"$f":"IF(AH595=\"\",\"\",IF(AH595>Inputs!$D$9,0,1))","v":""},{"$f":"IF(AI595=\"\",\"\",IF(AI595>Inputs!$D$9,0,1))","v":""},{"$f":"IF(AJ595=\"\",\"\",IF(AJ595>Inputs!$D$9,0,1))","v":""},{"$f":"IF(AK595=\"\",\"\",IF(AK595>Inputs!$D$9,0,1))","v":""},{"$f":"IF(AL595=\"\",\"\",IF(AL595>Inputs!$D$9,0,1))","v":""},"",0,null,"","","","","","","","","","","","","","",null,null,"","","","","","","","","","","","",{"$f":"IF(A595=\"\",\"\",SUM(BS595:CD595))","v":""}]
[null,null,null,null,null,null,null,null,null,null,null,null,null,null,"","","","","","","","","","","","","","","","","","","","","","","","",null,{"$f":"IF(AA596=\"\",\"\",IF(AA596>Inputs!$D$9,0,1))","v":""},{"$f":"IF(AB596=\"\",\"\",IF(AB596>Inputs!$D$9,0,1))","v":""},{"$f":"IF(AC596=\"\",\"\",IF(AC596>Inputs!$D$9,0,1))","v":""},{"$f":"IF(AD596=\"\",\"\",IF(AD596>Inputs!$D$9,0,1))","v":""},{"$f":"IF(AE596=\"\",\"\",IF(AE596>Inputs!$D$9,0,1))","v":""},{"$f":"IF(AF596=\"\",\"\",IF(AF596>Inputs!$D$9,0,1))","v":""},{"$f":"IF(AG596=\"\",\"\",IF(AG596>Inputs!$D$9,0,1))","v":""},{"$f":"IF(AH596=\"\",\"\",IF(AH596>Inputs!$D$9,0,1))","v":""},{"$f":"IF(AI596=\"\",\"\",IF(AI596>Inputs!$D$9,0,1))","v":""},{"$f":"IF(AJ596=\"\",\"\",IF(AJ596>Inputs!$D$9,0,1))","v":""},{"$f":"IF(AK596=\"\",\"\",IF(AK596>Inputs!$D$9,0,1))","v":""},{"$f":"IF(AL596=\"\",\"\",IF(AL596>Inputs!$D$9,0,1))","v":""},"",0,null,"","","","","","","","","","","","","","",null,null,"","","","","","","","","","","","",""]
[null,null,null,null,null,null,null,null,null,null,null,null,null,null,"","","","","","","","","","","","","","","","","","","","","","","","",null,{"$f":"IF(AA597=\"\",\"\",IF(AA597>Inputs!$D$9,0,1))","v":""},{"$f":"IF(AB597=\"\",\"\",IF(AB597>Inputs!$D$9,0,1))","v":""},{"$f":"IF(AC597=\"\",\"\",IF(AC597>Inputs!$D$9,0,1))","v":""},{"$f":"IF(AD597=\"\",\"\",IF(AD597>Inputs!$D$9,0,1))","v":""},{"$f":"IF(AE597=\"\",\"\",IF(AE597>Inputs!$D$9,0,1))","v":""},{"$f":"IF(AF597=\"\",\"\",IF(AF597>Inputs!$D$9,0,1))","v":""},{"$f":"IF(AG597=\"\",\"\",IF(AG597>Inputs!$D$9,0,1))","v":""},{"$f":"IF(AH597=\"\",\"\",IF(AH597>Inputs!$D$9,0,1))","v":""},{"$f":"IF(AI597=\"\",\"\",IF(AI597>Inputs!$D$9,0,1))","v":""},{"$f":"IF(AJ597=\"\",\"\",IF(AJ597>Inputs!$D$9,0,1))","v":""},{"$f":"IF(AK597=\"\",\"\",IF(AK597>Inputs!$D$9,0,1))","v":""},{"$f":"IF(AL597=\"\",\"\",IF(AL597>Inputs!$D$9,0,1))","v":""},"",0,null,"","","","","","","","","","","","","","",null,null,"","","","","","","","","","","","",""]
[null,null,null,null,null,null,null,null,null,null,null,null,null,null,"","","","","","","","","","","","","","","","","","","","","","","","",null,{"$f":"IF(AA598=\"\",\"\",IF(AA598>Inputs!$D$9,0,1))","v":""},{"$f":"IF(AB598=\"\",\"\",IF(AB598>Inputs!$D$9,0,1))","v":""},{"$f":"IF(AC598=\"\",\"\",IF(AC598>Inputs!$D$9,0,1))","v":""},{"$f":"IF(AD598=\"\",\"\",IF(AD598>Inputs!$D$9,0,1))","v":""},{"$f":"IF(AE598=\"\",\"\",IF(AE598>Inputs!$D$9,0,1))","v":""},{"$f":"IF(AF598=\"\",\"\",IF(AF598>Inputs!$D$9,0,1))","v":""},{"$f":"IF(AG598=\"\",\"\",IF(AG598>Inputs!$D$9,0,1))","v":""},{"$f":"IF(AH598=\"\",\"\",IF(AH598>Inputs!$D$9,0,1))","v":""},{"$f":"IF(AI598=\"\",\"\",IF(AI598>Inputs!$D$9,0,1))","v":""},{"$f":"IF(AJ598=\"\",\"\",IF(AJ598>Inputs!$D$9,0,1))","v":""},{"$f":"IF(AK598=\"\",\"\",IF(AK598>Inputs!$D$9,0,1))","v":""},{"$f":"IF(AL598=\"\",\"\",IF(AL598>Inputs!$D$9,0,1))","v":""},"",0,null,"","","","","","","","","","","","","","",null,null,"","","","","","","","","","","","",""]
[null,null,null,null,null,null,null,null,null,null,null,null,null,null,"","","","","","","","","","","","","","","","","","","","","","","","",null,{"$f":"IF(AA599=\"\",\"\",IF(AA599>Inputs!$D$9,0,1))","v":""},{"$f":"IF(AB599=\"\",\"\",IF(AB599>Inputs!$D$9,0,1))","v":""},{"$f":"IF(AC599=\"\",\"\",IF(AC599>Inputs!$D$9,0,1))","v":""},{"$f":"IF(AD599=\"\",\"\",IF(AD599>Inputs!$D$9,0,1))","v":""},{"$f":"IF(AE599=\"\",\"\",IF(AE599>Inputs!$D$9,0,1))","v":""},{"$f":"IF(AF599=\"\",\"\",IF(AF599>Inputs!$D$9,0,1))","v":""},{"$f":"IF(AG599=\"\",\"\",IF(AG599>Inputs!$D$9,0,1))","v":""},{"$f":"IF(AH599=\"\",\"\",IF(AH599>Inputs!$D$9,0,1))","v":""},{"$f":"IF(AI599=\"\",\"\",IF(AI599>Inputs!$D$9,0,1))","v":""},{"$f":"IF(AJ599=\"\",\"\",IF(AJ599>Inputs!$D$9,0,1))","v":""},{"$f":"IF(AK599=\"\",\"\",IF(AK599>Inputs!$D$9,0,1))","v":""},{"$f":"IF(AL599=\"\",\"\",IF(AL599>Inputs!$D$9,0,1))","v":""},"",0,null,"","","","","","","","","","","","","","",null,null,"","","","","","","","","","","","",""]
[null,null,null,null,null,null,null,null,null,null,null,null,null,null,"","","","","","","","","","","","","","","","","","","","","","","","",null,{"$f":"IF(AA600=\"\",\"\",IF(AA600>Inputs!$D$9,0,1))","v":""},{"$f":"IF(AB600=\"\",\"\",IF(AB600>Inputs!$D$9,0,1))","v":""},{"$f":"IF(AC600=\"\",\"\",IF(AC600>Inputs!$D$9,0,1))","v":""},{"$f":"IF(AD600=\"\",\"\",IF(AD600>Inputs!$D$9,0,1))","v":""},{"$f":"IF(AE600=\"\",\"\",IF(AE600>Inputs!$D$9,0,1))","v":""},{"$f":"IF(AF600=\"\",\"\",IF(AF600>Inputs!$D$9,0,1))","v":""},{"$f":"IF(AG600=\"\",\"\",IF(AG600>Inputs!$D$9,0,1))","v":""},{"$f":"IF(AH600=\"\",\"\",IF(AH600>Inputs!$D$9,0,1))","v":""},{"$f":"IF(AI600=\"\",\"\",IF(AI600>Inputs!$D$9,0,1))","v":""},{"$f":"IF(AJ600=\"\",\"\",IF(AJ600>Inputs!$D$9,0,1))","v":""},{"$f":"IF(AK600=\"\",\"\",IF(AK600>Inputs!$D$9,0,1))","v":""},{"$f":"IF(AL600=\"\",\"\",IF(AL600>Inputs!$D$9,0,1))","v":""},"",0,null,"","","","","","","","","","","","","","",null,null,"","","","","","","","","","","","",""]
[null,null,null,null,null,null,null,null,null,null,null,null,null,null,"","","","","","","","","","","","","","","","","","","","","","","","",null,{"$f":"IF(AA601=\"\",\"\",IF(AA601>Inputs!$D$9,0,1))","v":""},{"$f":"IF(AB601=\"\",\"\",IF(AB601>Inputs!$D$9,0,1))","v":""},{"$f":"IF(AC601=\"\",\"\",IF(AC601>Inputs!$D$9,0,1))","v":""},{"$f":"IF(AD601=\"\",\"\",IF(AD601>Inputs!$D$9,0,1))","v":""},{"$f":"IF(AE601=\"\",\"\",IF(AE601>Inputs!$D$9,0,1))","v":""},{"$f":"IF(AF601=\"\",\"\",IF(AF601>Inputs!$D$9,0,1))","v":""},{"$f":"IF(AG601=\"\",\"\",IF(AG601>Inputs!$D$9,0,1))","v":""},{"$f":"IF(AH601=\"\",\"\",IF(AH601>Inputs!$D$9,0,1))","v":""},{"$f":"IF(AI601=\"\",\"\",IF(AI601>Inputs!$D$9,0,1))","v":""},{"$f":"IF(AJ601=\"\",\"\",IF(AJ601>Inputs!$D$9,0,1))","v":""},{"$f":"IF(AK601=\"\",\"\",IF(AK601>Inputs!$D$9,0,1))","v":""},{"$f":"IF(AL601=\"\",\"\",IF(AL601>Inputs!$D$9,0,1))","v":""},"",0,null,"","","","","","","","","","","","","","",null,null,"","","","","","","","","","","","",""]
[null,null,null,null,null,null,null,null,null,null,null,null,null,null,"","","","","","","","","","","","","","","","","","","","","","","","",null,{"$f":"IF(AA602=\"\",\"\",IF(AA602>Inputs!$D$9,0,1))","v":""},{"$f":"IF(AB602=\"\",\"\",IF(AB602>Inputs!$D$9,0,1))","v":""},{"$f":"IF(AC602=\"\",\"\",IF(AC602>Inputs!$D$9,0,1))","v":""},{"$f":"IF(AD602=\"\",\"\",IF(AD602>Inputs!$D$9,0,1))","v":""},{"$f":"IF(AE602=\"\",\"\",IF(AE602>Inputs!$D$9,0,1))","v":""},{"$f":"IF(AF602=\"\",\"\",IF(AF602>Inputs!$D$9,0,1))","v":""},{"$f":"IF(AG602=\"\",\"\",IF(AG602>Inputs!$D$9,0,1))","v":""},{"$f":"IF(AH602=\"\",\"\",IF(AH602>Inputs!$D$9,0,1))","v":""},{"$f":"IF(AI602=\"\",\"\",IF(AI602>Inputs!$D$9,0,1))","v":""},{"$f":"IF(AJ602=\"\",\"\",IF(AJ602>Inputs!$D$9,0,1))","v":""},{"$f":"IF(AK602=\"\",\"\",IF(AK602>Inputs!$D$9,0,1))","v":""},{"$f":"IF(AL602=\"\",\"\",IF(AL602>Inputs!$D$9,0,1))","v":""},"",0,null,"","","","","","","","","","","","","","",null,null,"","","","","","","","","","","","",""]
[null,null,null,null,null,null,null,null,null,null,null,null,null,null,"","","","","","","","","","","","","","","","","","","","","","","","",null,{"$f":"IF(AA603=\"\",\"\",IF(AA603>Inputs!$D$9,0,1))","v":""},{"$f":"IF(AB603=\"\",\"\",IF(AB603>Inputs!$D$9,0,1))","v":""},{"$f":"IF(AC603=\"\",\"\",IF(AC603>Inputs!$D$9,0,1))","v":""},{"$f":"IF(AD603=\"\",\"\",IF(AD603>Inputs!$D$9,0,1))","v":""},{"$f":"IF(AE603=\"\",\"\",IF(AE603>Inputs!$D$9,0,1))","v":""},{"$f":"IF(AF603=\"\",\"\",IF(AF603>Inputs!$D$9,0,1))","v":""},{"$f":"IF(AG603=\"\",\"\",IF(AG603>Inputs!$D$9,0,1))","v":""},{"$f":"IF(AH603=\"\",\"\",IF(AH603>Inputs!$D$9,0,1))","v":""},{"$f":"IF(AI603=\"\",\"\",IF(AI603>Inputs!$D$9,0,1))","v":""},{"$f":"IF(AJ603=\"\",\"\",IF(AJ603>Inputs!$D$9,0,1))","v":""},{"$f":"IF(AK603=\"\",\"\",IF(AK603>Inputs!$D$9,0,1))","v":""},{"$f":"IF(AL603=\"\",\"\",IF(AL603>Inputs!$D$9,0,1))","v":""},"",0,null,"","","","","","","","","","","","","","",null,null,"","","","","","","","","","","","",""]
[null,null,null,null,null,null,null,null,null,null,null,null,null,null,"","","","","","","","","","","","","","","","","","","","","","","","",null,{"$f":"IF(AA604=\"\",\"\",IF(AA604>Inputs!$D$9,0,1))","v":""},{"$f":"IF(AB604=\"\",\"\",IF(AB604>Inputs!$D$9,0,1))","v":""},{"$f":"IF(AC604=\"\",\"\",IF(AC604>Inputs!$D$9,0,1))","v":""},{"$f":"IF(AD604=\"\",\"\",IF(AD604>Inputs!$D$9,0,1))","v":""},{"$f":"IF(AE604=\"\",\"\",IF(AE604>Inputs!$D$9,0,1))","v":""},{"$f":"IF(AF604=\"\",\"\",IF(AF604>Inputs!$D$9,0,1))","v":""},{"$f":"IF(AG604=\"\",\"\",IF(AG604>Inputs!$D$9,0,1))","v":""},{"$f":"IF(AH604=\"\",\"\",IF(AH604>Inputs!$D$9,0,1))","v":""},{"$f":"IF(AI604=\"\",\"\",IF(AI604>Inputs!$D$9,0,1))","v":""},{"$f":"IF(AJ604=\"\",\"\",IF(AJ604>Inputs!$D$9,0,1))","v":""},{"$f":"IF(AK604=\"\",\"\",IF(AK604>Inputs!$D$9,0,1))","v":""},{"$f":"IF(AL604=\"\",\"\",IF(AL604>Inputs!$D$9,0,1))","v":""},"",0,null,"","","","","","","","","","","","","","",null,null,"","","","","","","","","","","","",""]
[null,null,null,null,null,null,null,null,null,null,null,null,null,null,"","","","","","","","","","","","","","","","","","","","","","","","",null,{"$f":"IF(AA605=\"\",\"\",IF(AA605>Inputs!$D$9,0,1))","v":""},{"$f":"IF(AB605=\"\",\"\",IF(AB605>Inputs!$D$9,0,1))","v":""},{"$f":"IF(AC605=\"\",\"\",IF(AC605>Inputs!$D$9,0,1))","v":""},{"$f":"IF(AD605=\"\",\"\",IF(AD605>Inputs!$D$9,0,1))","v":""},{"$f":"IF(AE605=\"\",\"\",IF(AE605>Inputs!$D$9,0,1))","v":""},{"$f":"IF(AF605=\"\",\"\",IF(AF605>Inputs!$D$9,0,1))","v":""},{"$f":"IF(AG605=\"\",\"\",IF(AG605>Inputs!$D$9,0,1))","v":""},{"$f":"IF(AH605=\"\",\"\",IF(AH605>Inputs!$D$9,0,1))","v":""},{"$f":"IF(AI605=\"\",\"\",IF(AI605>Inputs!$D$9,0,1))","v":""},{"$f":"IF(AJ605=\"\",\"\",IF(AJ605>Inputs!$D$9,0,1))","v":""},{"$f":"IF(AK605=\"\",\"\",IF(AK605>Inputs!$D$9,0,1))","v":""},{"$f":"IF(AL605=\"\",\"\",IF(AL605>Inputs!$D$9,0,1))","v":""},"",0,null,"","","","","","","","","","","","","","",null,null,"","","","","","","","","","","","",""]
[null,null,null,null,null,null,null,null,null,null,null,null,null,null,"","","","","","","","","","","","","","","","","","","","","","","","",null,{"$f":"IF(AA606=\"\",\"\",IF(AA606>Inputs!$D$9,0,1))","v":""},{"$f":"IF(AB606=\"\",\"\",IF(AB606>Inputs!$D$9,0,1))","v":""},{"$f":"IF(AC606=\"\",\"\",IF(AC606>Inputs!$D$9,0,1))","v":""},{"$f":"IF(AD606=\"\",\"\",IF(AD606>Inputs!$D$9,0,1))","v":""},{"$f":"IF(AE606=\"\",\"\",IF(AE606>Inputs!$D$9,0,1))","v":""},{"$f":"IF(AF606=\"\",\"\",IF(AF606>Inputs!$D$9,0,1))","v":""},{"$f":"IF(AG606=\"\",\"\",IF(AG606>Inputs!$D$9,0,1))","v":""},{"$f":"IF(AH606=\"\",\"\",IF(AH606>Inputs!$D$9,0,1))","v":""},{"$f":"IF(AI606=\"\",\"\",IF(AI606>Inputs!$D$9,0,1))","v":""},{"$f":"IF(AJ606=\"\",\"\",IF(AJ606>Inputs!$D$9,0,1))","v":""},{"$f":"IF(AK606=\"\",\"\",IF(AK606>Inputs!$D$9,0,1))","v":""},{"$f":"IF(AL606=\"\",\"\",IF(AL606>Inputs!$D$9,0,1))","v":""},"",0,null,"","","","","","","","","","","","","","",null,null,"","","","","","","","","","","","",""]
[null,null,null,null,null,null,null,null,null,null,null,null,null,null,"","","","","","","","","","","","","","","","","","","","","","","","",null,{"$f":"IF(AA607=\"\",\"\",IF(AA607>Inputs!$D$9,0,1))","v":""},{"$f":"IF(AB607=\"\",\"\",IF(AB607>Inputs!$D$9,0,1))","v":""},{"$f":"IF(AC607=\"\",\"\",IF(AC607>Inputs!$D$9,0,1))","v":""},{"$f":"IF(AD607=\"\",\"\",IF(AD607>Inputs!$D$9,0,1))","v":""},{"$f":"IF(AE607=\"\",\"\",IF(AE607>Inputs!$D$9,0,1))","v":""},{"$f":"IF(AF607=\"\",\"\",IF(AF607>Inputs!$D$9,0,1))","v":""},{"$f":"IF(AG607=\"\",\"\",IF(AG607>Inputs!$D$9,0,1))","v":""},{"$f":"IF(AH607=\"\",\"\",IF(AH607>Inputs!$D$9,0,1))","v":""},{"$f":"IF(AI607=\"\",\"\",IF(AI607>Inputs!$D$9,0,1))","v":""},{"$f":"IF(AJ607=\"\",\"\",IF(AJ607>Inputs!$D$9,0,1))","v":""},{"$f":"IF(AK607=\"\",\"\",IF(AK607>Inputs!$D$9,0,1))","v":""},{"$f":"IF(AL607=\"\",\"\",IF(AL607>Inputs!$D$9,0,1))","v":""},"",0,null,"","","","","","","","","","","","","","",null,null,"","","","","","","","","","","","",""]
[null,null,null,null,null,null,null,null,null,null,null,null,null,null,"","","","","","","","","","","","","","","","","","","","","","","","",null,{"$f":"IF(AA608=\"\",\"\",IF(AA608>Inputs!$D$9,0,1))","v":""},{"$f":"IF(AB608=\"\",\"\",IF(AB608>Inputs!$D$9,0,1))","v":""},{"$f":"IF(AC608=\"\",\"\",IF(AC608>Inputs!$D$9,0,1))","v":""},{"$f":"IF(AD608=\"\",\"\",IF(AD608>Inputs!$D$9,0,1))","v":""},{"$f":"IF(AE608=\"\",\"\",IF(AE608>Inputs!$D$9,0,1))","v":""},{"$f":"IF(AF608=\"\",\"\",IF(AF608>Inputs!$D$9,0,1))","v":""},{"$f":"IF(AG608=\"\",\"\",IF(AG608>Inputs!$D$9,0,1))","v":""},{"$f":"IF(AH608=\"\",\"\",IF(AH608>Inputs!$D$9,0,1))","v":""},{"$f":"IF(AI608=\"\",\"\",IF(AI608>Inputs!$D$9,0,1))","v":""},{"$f":"IF(AJ608=\"\",\"\",IF(AJ608>Inputs!$D$9,0,1))","v":""},{"$f":"IF(AK608=\"\",\"\",IF(AK608>Inputs!$D$9,0,1))","v":""},{"$f":"IF(AL608=\"\",\"\",IF(AL608>Inputs!$D$9,0,1))","v":""},"",0,null,"","","","","","","","","","","","","","",null,null,"","","","","","","","","","","","",""]
[null,null,null,null,null,null,null,null,null,null,null,null,null,null,"","","","","","","","","","","","","","","","","","","","","","","","",null,{"$f":"IF(AA609=\"\",\"\",IF(AA609>Inputs!$D$9,0,1))","v":""},{"$f":"IF(AB609=\"\",\"\",IF(AB609>Inputs!$D$9,0,1))","v":""},{"$f":"IF(AC609=\"\",\"\",IF(AC609>Inputs!$D$9,0,1))","v":""},{"$f":"IF(AD609=\"\",\"\",IF(AD609>Inputs!$D$9,0,1))","v":""},{"$f":"IF(AE609=\"\",\"\",IF(AE609>Inputs!$D$9,0,1))","v":""},{"$f":"IF(AF609=\"\",\"\",IF(AF609>Inputs!$D$9,0,1))","v":""},{"$f":"IF(AG609=\"\",\"\",IF(AG609>Inputs!$D$9,0,1))","v":""},{"$f":"IF(AH609=\"\",\"\",IF(AH609>Inputs!$D$9,0,1))","v":""},{"$f":"IF(AI609=\"\",\"\",IF(AI609>Inputs!$D$9,0,1))","v":""},{"$f":"IF(AJ609=\"\",\"\",IF(AJ609>Inputs!$D$9,0,1))","v":""},{"$f":"IF(AK609=\"\",\"\",IF(AK609>Inputs!$D$9,0,1))","v":""},{"$f":"IF(AL609=\"\",\"\",IF(AL609>Inputs!$D$9,0,1))","v":""},"",0,null,"","","","","","","","","","","","","","",null,null,"","","","","","","","","","","","",""]
[null,null,null,null,null,null,null,null,null,null,null,null,null,null,"","","","","","","","","","","","","","","","","","","","","","","","",null,{"$f":"IF(AA610=\"\",\"\",IF(AA610>Inputs!$D$9,0,1))","v":""},{"$f":"IF(AB610=\"\",\"\",IF(AB610>Inputs!$D$9,0,1))","v":""},{"$f":"IF(AC610=\"\",\"\",IF(AC610>Inputs!$D$9,0,1))","v":""},{"$f":"IF(AD610=\"\",\"\",IF(AD610>Inputs!$D$9,0,1))","v":""},{"$f":"IF(AE610=\"\",\"\",IF(AE610>Inputs!$D$9,0,1))","v":""},{"$f":"IF(AF610=\"\",\"\",IF(AF610>Inputs!$D$9,0,1))","v":""},{"$f":"IF(AG610=\"\",\"\",IF(AG610>Inputs!$D$9,0,1))","v":""},{"$f":"IF(AH610=\"\",\"\",IF(AH610>Inputs!$D$9,0,1))","v":""},{"$f":"IF(AI610=\"\",\"\",IF(AI610>Inputs!$D$9,0,1))","v":""},{"$f":"IF(AJ610=\"\",\"\",IF(AJ610>Inputs!$D$9,0,1))","v":""},{"$f":"IF(AK610=\"\",\"\",IF(AK610>Inputs!$D$9,0,1))","v":""},{"$f":"IF(AL610=\"\",\"\",IF(AL610>Inputs!$D$9,0,1))","v":""},{"$f":"IF(COUNT(AN610:AY610)=0,\"\",SUM(AN610:AY610)/COUNT(AN610:AY610))","v":""},0,null,"","","","","","","","","","","","","","",null,null,"","","","","","","","","","","","",""]
[null,null,null,null,null,null,null,null,null,null,null,null,null,null,"","","","","","","","","","","","",{"$f":"IF($A611=\"\",\"\",IF(ISERROR(RANK(O611,$O$2:$O$1000,0)),\"\",RANK(O611,$O$2:$O$1000,0)))","v":""},{"$f":"IF($A611=\"\",\"\",IF(ISERROR(RANK(P611,$P$2:$P$1000,0)),\"\",RANK(P611,$P$2:$P$1000,0)))","v":""},{"$f":"IF($A611=\"\",\"\",IF(ISERROR(RANK(Q611,$Q$2:$Q$1000,0)),\"\",RANK(Q611,$Q$2:$Q$1000,0)))","v":""},{"$f":"IF($A611=\"\",\"\",IF(ISERROR(RANK(R611,$R$2:$R$1000,0)),\"\",RANK(R611,$R$2:$R$1000,0)))","v":""},{"$f":"IF($A611=\"\",\"\",IF(ISERROR(RANK(S611,$S$2:$S$1000,0)),\"\",RANK(S611,$S$2:$S$1000,0)))","v":""},{"$f":"IF($A611=\"\",\"\",IF(ISERROR(RANK(T611,$T$2:$T$1000,0)),\"\",RANK(T611,$T$2:$T$1000,0)))","v":""},{"$f":"IF($A611=\"\",\"\",IF(ISERROR(RANK(U611,$U$2:$U$1000,0)),\"\",RANK(U611,$U$2:$U$1000,0)))","v":""},{"$f":"IF($A611=\"\",\"\",IF(ISERROR(RANK(V611,$V$2:$V$1000,0)),\"\",RANK(V611,$V$2:$V$1000,0)))","v":""},{"$f":"IF($A611=\"\",\"\",IF(ISERROR(RANK(W611,$W$2:$W$1000,0)),\"\",RANK(W611,$W$2:$W$1000,0)))","v":""},{"$f":"IF($A611=\"\",\"\",IF(ISERROR(RANK(X611,$X$2:$X$1000,0)),\"\",RANK(X611,$X$2:$X$1000,0)))","v":""},{"$f":"IF($A611=\"\",\"\",IF(ISERROR(RANK(Y611,$Y$2:$Y$1000,0)),\"\",RANK(Y611,$Y$2:$Y$1000,0)))","v":""},{"$f":"IF($A611=\"\",\"\",IF(ISERROR(RANK(Z611,$Z$2:$Z$1000,0)),\"\",RANK(Z611,$Z$2:$Z$1000,0)))","v":""},null,{"$f":"IF(AA611=\"\",\"\",IF(AA611>Inputs!$D$9,0,1))","v":""},{"$f":"IF(AB611=\"\",\"\",IF(AB611>Inputs!$D$9,0,1))","v":""},{"$f":"IF(AC611=\"\",\"\",IF(AC611>Inputs!$D$9,0,1))","v":""},{"$f":"IF(AD611=\"\",\"\",IF(AD611>Inputs!$D$9,0,1))","v":""},{"$f":"IF(AE611=\"\",\"\",IF(AE611>Inputs!$D$9,0,1))","v":""},{"$f":"IF(AF611=\"\",\"\",IF(AF611>Inputs!$D$9,0,1))","v":""},{"$f":"IF(AG611=\"\",\"\",IF(AG611>Inputs!$D$9,0,1))","v":""},{"$f":"IF(AH611=\"\",\"\",IF(AH611>Inputs!$D$9,0,1))","v":""},{"$f":"IF(AI611=\"\",\"\",IF(AI611>Inputs!$D$9,0,1))","v":""},{"$f":"IF(AJ611=\"\",\"\",IF(AJ611>Inputs!$D$9,0,1))","v":""},{"$f":"IF(AK611=\"\",\"\",IF(AK611>Inputs!$D$9,0,1))","v":""},{"$f":"IF(AL611=\"\",\"\",IF(AL611>Inputs!$D$9,0,1))","v":""},"",0,null,"","","","","","","","","","","","","","",null,null,"","","","","","","","","","","","",""]
[null,null,null,null,null,null,null,null,null,null,null,null,null,null,"","","","","","","","","","","","","","","","","","","","","","","","",null,{"$f":"IF(AA612=\"\",\"\",IF(AA612>Inputs!$D$9,0,1))","v":""},{"$f":"IF(AB612=\"\",\"\",IF(AB612>Inputs!$D$9,0,1))","v":""},{"$f":"IF(AC612=\"\",\"\",IF(AC612>Inputs!$D$9,0,1))","v":""},{"$f":"IF(AD612=\"\",\"\",IF(AD612>Inputs!$D$9,0,1))","v":""},{"$f":"IF(AE612=\"\",\"\",IF(AE612>Inputs!$D$9,0,1))","v":""},{"$f":"IF(AF612=\"\",\"\",IF(AF612>Inputs!$D$9,0,1))","v":""},{"$f":"IF(AG612=\"\",\"\",IF(AG612>Inputs!$D$9,0,1))","v":""},{"$f":"IF(AH612=\"\",\"\",IF(AH612>Inputs!$D$9,0,1))","v":""},{"$f":"IF(AI612=\"\",\"\",IF(AI612>Inputs!$D$9,0,1))","v":""},{"$f":"IF(AJ612=\"\",\"\",IF(AJ612>Inputs!$D$9,0,1))","v":""},{"$f":"IF(AK612=\"\",\"\",IF(AK612>Inputs!$D$9,0,1))","v":""},{"$f":"IF(AL612=\"\",\"\",IF(AL612>Inputs!$D$9,0,1))","v":""},"",0,null,"","","","","","","","","","","","","","",null,null,"","","","","","","","","","","","",""]
[null,null,null,null,null,null,null,null,null,null,null,null,null,null,"","","","","","","","","","","","","","","","","","","","","","","","",null,{"$f":"IF(AA613=\"\",\"\",IF(AA613>Inputs!$D$9,0,1))","v":""},{"$f":"IF(AB613=\"\",\"\",IF(AB613>Inputs!$D$9,0,1))","v":""},{"$f":"IF(AC613=\"\",\"\",IF(AC613>Inputs!$D$9,0,1))","v":""},{"$f":"IF(AD613=\"\",\"\",IF(AD613>Inputs!$D$9,0,1))","v":""},{"$f":"IF(AE613=\"\",\"\",IF(AE613>Inputs!$D$9,0,1))","v":""},{"$f":"IF(AF613=\"\",\"\",IF(AF613>Inputs!$D$9,0,1))","v":""},{"$f":"IF(AG613=\"\",\"\",IF(AG613>Inputs!$D$9,0,1))","v":""},{"$f":"IF(AH613=\"\",\"\",IF(AH613>Inputs!$D$9,0,1))","v":""},{"$f":"IF(AI613=\"\",\"\",IF(AI613>Inputs!$D$9,0,1))","v":""},{"$f":"IF(AJ613=\"\",\"\",IF(AJ613>Inputs!$D$9,0,1))","v":""},{"$f":"IF(AK613=\"\",\"\",IF(AK613>Inputs!$D$9,0,1))","v":""},{"$f":"IF(AL613=\"\",\"\",IF(AL613>Inputs!$D$9,0,1))","v":""},"",0,null,"","","","","","","","","","","","","","",null,null,"","","","","","","","","","","","",""]
[null,null,null,null,null,null,null,null,null,null,null,null,null,null,"","","","","","","","","","","","","","","","","","","","","","","","",null,{"$f":"IF(AA614=\"\",\"\",IF(AA614>Inputs!$D$9,0,1))","v":""},{"$f":"IF(AB614=\"\",\"\",IF(AB614>Inputs!$D$9,0,1))","v":""},{"$f":"IF(AC614=\"\",\"\",IF(AC614>Inputs!$D$9,0,1))","v":""},{"$f":"IF(AD614=\"\",\"\",IF(AD614>Inputs!$D$9,0,1))","v":""},{"$f":"IF(AE614=\"\",\"\",IF(AE614>Inputs!$D$9,0,1))","v":""},{"$f":"IF(AF614=\"\",\"\",IF(AF614>Inputs!$D$9,0,1))","v":""},{"$f":"IF(AG614=\"\",\"\",IF(AG614>Inputs!$D$9,0,1))","v":""},{"$f":"IF(AH614=\"\",\"\",IF(AH614>Inputs!$D$9,0,1))","v":""},{"$f":"IF(AI614=\"\",\"\",IF(AI614>Inputs!$D$9,0,1))","v":""},{"$f":"IF(AJ614=\"\",\"\",IF(AJ614>Inputs!$D$9,0,1))","v":""},{"$f":"IF(AK614=\"\",\"\",IF(AK614>Inputs!$D$9,0,1))","v":""},{"$f":"IF(AL614=\"\",\"\",IF(AL614>Inputs!$D$9,0,1))","v":""},"",0,null,"","","","","","","","","","","","","","",null,null,"","","","","","","","","","","","",""]
[null,null,null,null,null,null,null,null,null,null,null,null,null,null,"","","","","","","","","","","","","","","","","","","","","","","","",null,{"$f":"IF(AA615=\"\",\"\",IF(AA615>Inputs!$D$9,0,1))","v":""},{"$f":"IF(AB615=\"\",\"\",IF(AB615>Inputs!$D$9,0,1))","v":""},{"$f":"IF(AC615=\"\",\"\",IF(AC615>Inputs!$D$9,0,1))","v":""},{"$f":"IF(AD615=\"\",\"\",IF(AD615>Inputs!$D$9,0,1))","v":""},{"$f":"IF(AE615=\"\",\"\",IF(AE615>Inputs!$D$9,0,1))","v":""},{"$f":"IF(AF615=\"\",\"\",IF(AF615>Inputs!$D$9,0,1))","v":""},{"$f":"IF(AG615=\"\",\"\",IF(AG615>Inputs!$D$9,0,1))","v":""},{"$f":"IF(AH615=\"\",\"\",IF(AH615>Inputs!$D$9,0,1))","v":""},{"$f":"IF(AI615=\"\",\"\",IF(AI615>Inputs!$D$9,0,1))","v":""},{"$f":"IF(AJ615=\"\",\"\",IF(AJ615>Inputs!$D$9,0,1))","v":""},{"$f":"IF(AK615=\"\",\"\",IF(AK615>Inputs!$D$9,0,1))","v":""},{"$f":"IF(AL615=\"\",\"\",IF(AL615>Inputs!$D$9,0,1))","v":""},"",0,null,"","","","","","","","","","","","","","",null,null,"","","","","","","","","","","","",""]
[null,null,null,null,null,null,null,null,null,null,null,null,null,null,"","","","","","","","","","","","","","","","","","","","","","","","",null,{"$f":"IF(AA616=\"\",\"\",IF(AA616>Inputs!$D$9,0,1))","v":""},{"$f":"IF(AB616=\"\",\"\",IF(AB616>Inputs!$D$9,0,1))","v":""},{"$f":"IF(AC616=\"\",\"\",IF(AC616>Inputs!$D$9,0,1))","v":""},{"$f":"IF(AD616=\"\",\"\",IF(AD616>Inputs!$D$9,0,1))","v":""},{"$f":"IF(AE616=\"\",\"\",IF(AE616>Inputs!$D$9,0,1))","v":""},{"$f":"IF(AF616=\"\",\"\",IF(AF616>Inputs!$D$9,0,1))","v":""},{"$f":"IF(AG616=\"\",\"\",IF(AG616>Inputs!$D$9,0,1))","v":""},{"$f":"IF(AH616=\"\",\"\",IF(AH616>Inputs!$D$9,0,1))","v":""},{"$f":"IF(AI616=\"\",\"\",IF(AI616>Inputs!$D$9,0,1))","v":""},{"$f":"IF(AJ616=\"\",\"\",IF(AJ616>Inputs!$D$9,0,1))","v":""},{"$f":"IF(AK616=\"\",\"\",IF(AK616>Inputs!$D$9,0,1))","v":""},{"$f":"IF(AL616=\"\",\"\",IF(AL616>Inputs!$D$9,0,1))","v":""},"",0,null,"","","","","","","","","","","","","","",null,null,"","","","","","","","","","","","",""]
[null,null,null,null,null,null,null,null,null,null,null,null,null,null,"","","","","","","","","","","","","","","","","","","","","","","","",null,{"$f":"IF(AA617=\"\",\"\",IF(AA617>Inputs!$D$9,0,1))","v":""},{"$f":"IF(AB617=\"\",\"\",IF(AB617>Inputs!$D$9,0,1))","v":""},{"$f":"IF(AC617=\"\",\"\",IF(AC617>Inputs!$D$9,0,1))","v":""},{"$f":"IF(AD617=\"\",\"\",IF(AD617>Inputs!$D$9,0,1))","v":""},{"$f":"IF(AE617=\"\",\"\",IF(AE617>Inputs!$D$9,0,1))","v":""},{"$f":"IF(AF617=\"\",\"\",IF(AF617>Inputs!$D$9,0,1))","v":""},{"$f":"IF(AG617=\"\",\"\",IF(AG617>Inputs!$D$9,0,1))","v":""},{"$f":"IF(AH617=\"\",\"\",IF(AH617>Inputs!$D$9,0,1))","v":""},{"$f":"IF(AI617=\"\",\"\",IF(AI617>Inputs!$D$9,0,1))","v":""},{"$f":"IF(AJ617=\"\",\"\",IF(AJ617>Inputs!$D$9,0,1))","v":""},{"$f":"IF(AK617=\"\",\"\",IF(AK617>Inputs!$D$9,0,1))","v":""},{"$f":"IF(AL617=\"\",\"\",IF(AL617>Inputs!$D$9,0,1))","v":""},"",0,null,"","","","","","","","","","","","","","",null,null,"","","","","","","","","","","","",""]
[null,null,null,null,null,null,null,null,null,null,null,null,null,null,"","","","","","","","","","","","","","","","","","","","","","","","",null,{"$f":"IF(AA618=\"\",\"\",IF(AA618>Inputs!$D$9,0,1))","v":""},{"$f":"IF(AB618=\"\",\"\",IF(AB618>Inputs!$D$9,0,1))","v":""},{"$f":"IF(AC618=\"\",\"\",IF(AC618>Inputs!$D$9,0,1))","v":""},{"$f":"IF(AD618=\"\",\"\",IF(AD618>Inputs!$D$9,0,1))","v":""},{"$f":"IF(AE618=\"\",\"\",IF(AE618>Inputs!$D$9,0,1))","v":""},{"$f":"IF(AF618=\"\",\"\",IF(AF618>Inputs!$D$9,0,1))","v":""},{"$f":"IF(AG618=\"\",\"\",IF(AG618>Inputs!$D$9,0,1))","v":""},{"$f":"IF(AH618=\"\",\"\",IF(AH618>Inputs!$D$9,0,1))","v":""},{"$f":"IF(AI618=\"\",\"\",IF(AI618>Inputs!$D$9,0,1))","v":""},{"$f":"IF(AJ618=\"\",\"\",IF(AJ618>Inputs!$D$9,0,1))","v":""},{"$f":"IF(AK618=\"\",\"\",IF(AK618>Inputs!$D$9,0,1))","v":""},{"$f":"IF(AL618=\"\",\"\",IF(AL618>Inputs!$D$9,0,1))","v":""},"",0,null,"","","","","","","","","","","","","","",null,null,"","","","","","","","","","","","",""]
[null,null,null,null,null,null,null,null,null,null,null,null,null,null,"","","","","","","","","","","","","","","","","","","","","","","","",null,{"$f":"IF(AA619=\"\",\"\",IF(AA619>Inputs!$D$9,0,1))","v":""},{"$f":"IF(AB619=\"\",\"\",IF(AB619>Inputs!$D$9,0,1))","v":""},{"$f":"IF(AC619=\"\",\"\",IF(AC619>Inputs!$D$9,0,1))","v":""},{"$f":"IF(AD619=\"\",\"\",IF(AD619>Inputs!$D$9,0,1))","v":""},{"$f":"IF(AE619=\"\",\"\",IF(AE619>Inputs!$D$9,0,1))","v":""},{"$f":"IF(AF619=\"\",\"\",IF(AF619>Inputs!$D$9,0,1))","v":""},{"$f":"IF(AG619=\"\",\"\",IF(AG619>Inputs!$D$9,0,1))","v":""},{"$f":"IF(AH619=\"\",\"\",IF(AH619>Inputs!$D$9,0,1))","v":""},{"$f":"IF(AI619=\"\",\"\",IF(AI619>Inputs!$D$9,0,1))","v":""},{"$f":"IF(AJ619=\"\",\"\",IF(AJ619>Inputs!$D$9,0,1))","v":""},{"$f":"IF(AK619=\"\",\"\",IF(AK619>Inputs!$D$9,0,1))","v":""},{"$f":"IF(AL619=\"\",\"\",IF(AL619>Inputs!$D$9,0,1))","v":""},"",0,null,"","","","","","","","","","","","","","",null,null,"","","","","","","","","","","","",""]
[null,null,null,null,null,null,null,null,null,null,null,null,null,null,"","","","","","","","","","","","","","","","","","","","","","","","",null,{"$f":"IF(AA620=\"\",\"\",IF(AA620>Inputs!$D$9,0,1))","v":""},{"$f":"IF(AB620=\"\",\"\",IF(AB620>Inputs!$D$9,0,1))","v":""},{"$f":"IF(AC620=\"\",\"\",IF(AC620>Inputs!$D$9,0,1))","v":""},{"$f":"IF(AD620=\"\",\"\",IF(AD620>Inputs!$D$9,0,1))","v":""},{"$f":"IF(AE620=\"\",\"\",IF(AE620>Inputs!$D$9,0,1))","v":""},{"$f":"IF(AF620=\"\",\"\",IF(AF620>Inputs!$D$9,0,1))","v":""},{"$f":"IF(AG620=\"\",\"\",IF(AG620>Inputs!$D$9,0,1))","v":""},{"$f":"IF(AH620=\"\",\"\",IF(AH620>Inputs!$D$9,0,1))","v":""},{"$f":"IF(AI620=\"\",\"\",IF(AI620>Inputs!$D$9,0,1))","v":""},{"$f":"IF(AJ620=\"\",\"\",IF(AJ620>Inputs!$D$9,0,1))","v":""},{"$f":"IF(AK620=\"\",\"\",IF(AK620>Inputs!$D$9,0,1))","v":""},{"$f":"IF(AL620=\"\",\"\",IF(AL620>Inputs!$D$9,0,1))","v":""},"",0,null,"","","","","","","","","","","","","","",null,null,"","","","","","","","","","","","",""]
[null,null,null,null,null,null,null,null,null,null,null,null,null,null,"","","","","","","","","","","","","","","","","","","","","","","","",null,{"$f":"IF(AA621=\"\",\"\",IF(AA621>Inputs!$D$9,0,1))","v":""},{"$f":"IF(AB621=\"\",\"\",IF(AB621>Inputs!$D$9,0,1))","v":""},{"$f":"IF(AC621=\"\",\"\",IF(AC621>Inputs!$D$9,0,1))","v":""},{"$f":"IF(AD621=\"\",\"\",IF(AD621>Inputs!$D$9,0,1))","v":""},{"$f":"IF(AE621=\"\",\"\",IF(AE621>Inputs!$D$9,0,1))","v":""},{"$f":"IF(AF621=\"\",\"\",IF(AF621>Inputs!$D$9,0,1))","v":""},{"$f":"IF(AG621=\"\",\"\",IF(AG621>Inputs!$D$9,0,1))","v":""},{"$f":"IF(AH621=\"\",\"\",IF(AH621>Inputs!$D$9,0,1))","v":""},{"$f":"IF(AI621=\"\",\"\",IF(AI621>Inputs!$D$9,0,1))","v":""},{"$f":"IF(AJ621=\"\",\"\",IF(AJ621>Inputs!$D$9,0,1))","v":""},{"$f":"IF(AK621=\"\",\"\",IF(AK621>Inputs!$D$9,0,1))","v":""},{"$f":"IF(AL621=\"\",\"\",IF(AL621>Inputs!$D$9,0,1))","v":""},"",0,null,"","","","","","","","","","","","","","",null,null,"","","","","","","","","","","","",""]
[null,null,null,null,null,null,null,null,null,null,null,null,null,null,"","","","","","","","","","","","","","","","","","","","","","","","",null,{"$f":"IF(AA622=\"\",\"\",IF(AA622>Inputs!$D$9,0,1))","v":""},{"$f":"IF(AB622=\"\",\"\",IF(AB622>Inputs!$D$9,0,1))","v":""},{"$f":"IF(AC622=\"\",\"\",IF(AC622>Inputs!$D$9,0,1))","v":""},{"$f":"IF(AD622=\"\",\"\",IF(AD622>Inputs!$D$9,0,1))","v":""},{"$f":"IF(AE622=\"\",\"\",IF(AE622>Inputs!$D$9,0,1))","v":""},{"$f":"IF(AF622=\"\",\"\",IF(AF622>Inputs!$D$9,0,1))","v":""},{"$f":"IF(AG622=\"\",\"\",IF(AG622>Inputs!$D$9,0,1))","v":""},{"$f":"IF(AH622=\"\",\"\",IF(AH622>Inputs!$D$9,0,1))","v":""},{"$f":"IF(AI622=\"\",\"\",IF(AI622>Inputs!$D$9,0,1))","v":""},{"$f":"IF(AJ622=\"\",\"\",IF(AJ622>Inputs!$D$9,0,1))","v":""},{"$f":"IF(AK622=\"\",\"\",IF(AK622>Inputs!$D$9,0,1))","v":""},{"$f":"IF(AL622=\"\",\"\",IF(AL622>Inputs!$D$9,0,1))","v":""},"",0,null,"","","","","","","","","","","","","","",null,null,"","","","","","","","","","","","",""]
[null,null,null,null,null,null,null,null,null,null,null,null,null,null,"","","","","","","","","","","","","","","","","","","","","","","","",null,{"$f":"IF(AA623=\"\",\"\",IF(AA623>Inputs!$D$9,0,1))","v":""},{"$f":"IF(AB623=\"\",\"\",IF(AB623>Inputs!$D$9,0,1))","v":""},{"$f":"IF(AC623=\"\",\"\",IF(AC623>Inputs!$D$9,0,1))","v":""},{"$f":"IF(AD623=\"\",\"\",IF(AD623>Inputs!$D$9,0,1))","v":""},{"$f":"IF(AE623=\"\",\"\",IF(AE623>Inputs!$D$9,0,1))","v":""},{"$f":"IF(AF623=\"\",\"\",IF(AF623>Inputs!$D$9,0,1))","v":""},{"$f":"IF(AG623=\"\",\"\",IF(AG623>Inputs!$D$9,0,1))","v":""},{"$f":"IF(AH623=\"\",\"\",IF(AH623>Inputs!$D$9,0,1))","v":""},{"$f":"IF(AI623=\"\",\"\",IF(AI623>Inputs!$D$9,0,1))","v":""},{"$f":"IF(AJ623=\"\",\"\",IF(AJ623>Inputs!$D$9,0,1))","v":""},{"$f":"IF(AK623=\"\",\"\",IF(AK623>Inputs!$D$9,0,1))","v":""},{"$f":"IF(AL623=\"\",\"\",IF(AL623>Inputs!$D$9,0,1))","v":""},"",0,null,"","","","","","","","","","","","","","",null,null,"","","","","","","","","","","","",""]
[null,null,null,null,null,null,null,null,null,null,null,null,null,null,"","","","","","","","","","","","","","","","","","","","","","","","",null,{"$f":"IF(AA624=\"\",\"\",IF(AA624>Inputs!$D$9,0,1))","v":""},{"$f":"IF(AB624=\"\",\"\",IF(AB624>Inputs!$D$9,0,1))","v":""},{"$f":"IF(AC624=\"\",\"\",IF(AC624>Inputs!$D$9,0,1))","v":""},{"$f":"IF(AD624=\"\",\"\",IF(AD624>Inputs!$D$9,0,1))","v":""},{"$f":"IF(AE624=\"\",\"\",IF(AE624>Inputs!$D$9,0,1))","v":""},{"$f":"IF(AF624=\"\",\"\",IF(AF624>Inputs!$D$9,0,1))","v":""},{"$f":"IF(AG624=\"\",\"\",IF(AG624>Inputs!$D$9,0,1))","v":""},{"$f":"IF(AH624=\"\",\"\",IF(AH624>Inputs!$D$9,0,1))","v":""},{"$f":"IF(AI624=\"\",\"\",IF(AI624>Inputs!$D$9,0,1))","v":""},{"$f":"IF(AJ624=\"\",\"\",IF(AJ624>Inputs!$D$9,0,1))","v":""},{"$f":"IF(AK624=\"\",\"\",IF(AK624>Inputs!$D$9,0,1))","v":""},{"$f":"IF(AL624=\"\",\"\",IF(AL624>Inputs!$D$9,0,1))","v":""},"",0,null,"","","","","","","","","","","","","","",null,null,"","","","","","","","","","","","",""]
[null,null,null,null,null,null,null,null,null,null,null,null,null,null,"","","","","","","","","","","","","","","","","","","","","","","","",null,{"$f":"IF(AA625=\"\",\"\",IF(AA625>Inputs!$D$9,0,1))","v":""},{"$f":"IF(AB625=\"\",\"\",IF(AB625>Inputs!$D$9,0,1))","v":""},{"$f":"IF(AC625=\"\",\"\",IF(AC625>Inputs!$D$9,0,1))","v":""},{"$f":"IF(AD625=\"\",\"\",IF(AD625>Inputs!$D$9,0,1))","v":""},{"$f":"IF(AE625=\"\",\"\",IF(AE625>Inputs!$D$9,0,1))","v":""},{"$f":"IF(AF625=\"\",\"\",IF(AF625>Inputs!$D$9,0,1))","v":""},{"$f":"IF(AG625=\"\",\"\",IF(AG625>Inputs!$D$9,0,1))","v":""},{"$f":"IF(AH625=\"\",\"\",IF(AH625>Inputs!$D$9,0,1))","v":""},{"$f":"IF(AI625=\"\",\"\",IF(AI625>Inputs!$D$9,0,1))","v":""},{"$f":"IF(AJ625=\"\",\"\",IF(AJ625>Inputs!$D$9,0,1))","v":""},{"$f":"IF(AK625=\"\",\"\",IF(AK625>Inputs!$D$9,0,1))","v":""},{"$f":"IF(AL625=\"\",\"\",IF(AL625>Inputs!$D$9,0,1))","v":""},"",0,null,"","","","","","","","","","","","","","",null,null,"","","","","","","","","","","","",""]
[null,null,null,null,null,null,null,null,null,null,null,null,null,null,"","","","","","","","","","","","","","","","","","","","","","","","",null,{"$f":"IF(AA626=\"\",\"\",IF(AA626>Inputs!$D$9,0,1))","v":""},{"$f":"IF(AB626=\"\",\"\",IF(AB626>Inputs!$D$9,0,1))","v":""},{"$f":"IF(AC626=\"\",\"\",IF(AC626>Inputs!$D$9,0,1))","v":""},{"$f":"IF(AD626=\"\",\"\",IF(AD626>Inputs!$D$9,0,1))","v":""},{"$f":"IF(AE626=\"\",\"\",IF(AE626>Inputs!$D$9,0,1))","v":""},{"$f":"IF(AF626=\"\",\"\",IF(AF626>Inputs!$D$9,0,1))","v":""},{"$f":"IF(AG626=\"\",\"\",IF(AG626>Inputs!$D$9,0,1))","v":""},{"$f":"IF(AH626=\"\",\"\",IF(AH626>Inputs!$D$9,0,1))","v":""},{"$f":"IF(AI626=\"\",\"\",IF(AI626>Inputs!$D$9,0,1))","v":""},{"$f":"IF(AJ626=\"\",\"\",IF(AJ626>Inputs!$D$9,0,1))","v":""},{"$f":"IF(AK626=\"\",\"\",IF(AK626>Inputs!$D$9,0,1))","v":""},{"$f":"IF(AL626=\"\",\"\",IF(AL626>Inputs!$D$9,0,1))","v":""},"",0,null,"","","","","","","","","","","","","","",null,null,"","","","","","","","","","","","",""]
[null,null,null,null,null,null,null,null,null,null,null,null,null,null,"","","","","","","","","","","","","","","","","","","","","","","","",null,{"$f":"IF(AA627=\"\",\"\",IF(AA627>Inputs!$D$9,0,1))","v":""},{"$f":"IF(AB627=\"\",\"\",IF(AB627>Inputs!$D$9,0,1))","v":""},{"$f":"IF(AC627=\"\",\"\",IF(AC627>Inputs!$D$9,0,1))","v":""},{"$f":"IF(AD627=\"\",\"\",IF(AD627>Inputs!$D$9,0,1))","v":""},{"$f":"IF(AE627=\"\",\"\",IF(AE627>Inputs!$D$9,0,1))","v":""},{"$f":"IF(AF627=\"\",\"\",IF(AF627>Inputs!$D$9,0,1))","v":""},{"$f":"IF(AG627=\"\",\"\",IF(AG627>Inputs!$D$9,0,1))","v":""},{"$f":"IF(AH627=\"\",\"\",IF(AH627>Inputs!$D$9,0,1))","v":""},{"$f":"IF(AI627=\"\",\"\",IF(AI627>Inputs!$D$9,0,1))","v":""},{"$f":"IF(AJ627=\"\",\"\",IF(AJ627>Inputs!$D$9,0,1))","v":""},{"$f":"IF(AK627=\"\",\"\",IF(AK627>Inputs!$D$9,0,1))","v":""},{"$f":"IF(AL627=\"\",\"\",IF(AL627>Inputs!$D$9,0,1))","v":""},"",0,null,"","","","","","","","","","","","","","",null,null,"","","","","","","","","","","","",""]
[null,null,null,null,null,null,null,null,null,null,null,null,null,null,"","","","","","","","","","","","","","","","","","","","","","","","",null,{"$f":"IF(AA628=\"\",\"\",IF(AA628>Inputs!$D$9,0,1))","v":""},{"$f":"IF(AB628=\"\",\"\",IF(AB628>Inputs!$D$9,0,1))","v":""},{"$f":"IF(AC628=\"\",\"\",IF(AC628>Inputs!$D$9,0,1))","v":""},{"$f":"IF(AD628=\"\",\"\",IF(AD628>Inputs!$D$9,0,1))","v":""},{"$f":"IF(AE628=\"\",\"\",IF(AE628>Inputs!$D$9,0,1))","v":""},{"$f":"IF(AF628=\"\",\"\",IF(AF628>Inputs!$D$9,0,1))","v":""},{"$f":"IF(AG628=\"\",\"\",IF(AG628>Inputs!$D$9,0,1))","v":""},{"$f":"IF(AH628=\"\",\"\",IF(AH628>Inputs!$D$9,0,1))","v":""},{"$f":"IF(AI628=\"\",\"\",IF(AI628>Inputs!$D$9,0,1))","v":""},{"$f":"IF(AJ628=\"\",\"\",IF(AJ628>Inputs!$D$9,0,1))","v":""},{"$f":"IF(AK628=\"\",\"\",IF(AK628>Inputs!$D$9,0,1))","v":""},{"$f":"IF(AL628=\"\",\"\",IF(AL628>Inputs!$D$9,0,1))","v":""},"",0,null,"","","","","","","","","","","","","","",null,null,"","","","","","","","","","","","",""]
[null,null,null,null,null,null,null,null,null,null,null,null,null,null,"","","","","","","","","","","","","","","","","","","","","","","","",null,{"$f":"IF(AA629=\"\",\"\",IF(AA629>Inputs!$D$9,0,1))","v":""},{"$f":"IF(AB629=\"\",\"\",IF(AB629>Inputs!$D$9,0,1))","v":""},{"$f":"IF(AC629=\"\",\"\",IF(AC629>Inputs!$D$9,0,1))","v":""},{"$f":"IF(AD629=\"\",\"\",IF(AD629>Inputs!$D$9,0,1))","v":""},{"$f":"IF(AE629=\"\",\"\",IF(AE629>Inputs!$D$9,0,1))","v":""},{"$f":"IF(AF629=\"\",\"\",IF(AF629>Inputs!$D$9,0,1))","v":""},{"$f":"IF(AG629=\"\",\"\",IF(AG629>Inputs!$D$9,0,1))","v":""},{"$f":"IF(AH629=\"\",\"\",IF(AH629>Inputs!$D$9,0,1))","v":""},{"$f":"IF(AI629=\"\",\"\",IF(AI629>Inputs!$D$9,0,1))","v":""},{"$f":"IF(AJ629=\"\",\"\",IF(AJ629>Inputs!$D$9,0,1))","v":""},{"$f":"IF(AK629=\"\",\"\",IF(AK629>Inputs!$D$9,0,1))","v":""},{"$f":"IF(AL629=\"\",\"\",IF(AL629>Inputs!$D$9,0,1))","v":""},"",0,null,"","","","","","","","","","","","","","",null,null,"","","","","","","","","","","","",""]
[null,null,null,null,null,null,null,null,null,null,null,null,null,null,"","","","","","","","","","","","","","","","","","","","","","","","",null,{"$f":"IF(AA630=\"\",\"\",IF(AA630>Inputs!$D$9,0,1))","v":""},{"$f":"IF(AB630=\"\",\"\",IF(AB630>Inputs!$D$9,0,1))","v":""},{"$f":"IF(AC630=\"\",\"\",IF(AC630>Inputs!$D$9,0,1))","v":""},{"$f":"IF(AD630=\"\",\"\",IF(AD630>Inputs!$D$9,0,1))","v":""},{"$f":"IF(AE630=\"\",\"\",IF(AE630>Inputs!$D$9,0,1))","v":""},{"$f":"IF(AF630=\"\",\"\",IF(AF630>Inputs!$D$9,0,1))","v":""},{"$f":"IF(AG630=\"\",\"\",IF(AG630>Inputs!$D$9,0,1))","v":""},{"$f":"IF(AH630=\"\",\"\",IF(AH630>Inputs!$D$9,0,1))","v":""},{"$f":"IF(AI630=\"\",\"\",IF(AI630>Inputs!$D$9,0,1))","v":""},{"$f":"IF(AJ630=\"\",\"\",IF(AJ630>Inputs!$D$9,0,1))","v":""},{"$f":"IF(AK630=\"\",\"\",IF(AK630>Inputs!$D$9,0,1))","v":""},{"$f":"IF(AL630=\"\",\"\",IF(AL630>Inputs!$D$9,0,1))","v":""},"",0,null,"","","","","","","","","","","","","","",null,null,"","","","","","","","","","","","",""]
[null,null,null,null,null,null,null,null,null,null,null,null,null,null,"","","","","","","","","","","","","","","","","","","","","","","","",null,{"$f":"IF(AA631=\"\",\"\",IF(AA631>Inputs!$D$9,0,1))","v":""},{"$f":"IF(AB631=\"\",\"\",IF(AB631>Inputs!$D$9,0,1))","v":""},{"$f":"IF(AC631=\"\",\"\",IF(AC631>Inputs!$D$9,0,1))","v":""},{"$f":"IF(AD631=\"\",\"\",IF(AD631>Inputs!$D$9,0,1))","v":""},{"$f":"IF(AE631=\"\",\"\",IF(AE631>Inputs!$D$9,0,1))","v":""},{"$f":"IF(AF631=\"\",\"\",IF(AF631>Inputs!$D$9,0,1))","v":""},{"$f":"IF(AG631=\"\",\"\",IF(AG631>Inputs!$D$9,0,1))","v":""},{"$f":"IF(AH631=\"\",\"\",IF(AH631>Inputs!$D$9,0,1))","v":""},{"$f":"IF(AI631=\"\",\"\",IF(AI631>Inputs!$D$9,0,1))","v":""},{"$f":"IF(AJ631=\"\",\"\",IF(AJ631>Inputs!$D$9,0,1))","v":""},{"$f":"IF(AK631=\"\",\"\",IF(AK631>Inputs!$D$9,0,1))","v":""},{"$f":"IF(AL631=\"\",\"\",IF(AL631>Inputs!$D$9,0,1))","v":""},"",0,null,"","","","","","","","","","","","","","",null,null,"","","","","","","","","","","","",""]
[null,null,null,null,null,null,null,null,null,null,null,null,null,null,"","","","","","","","","","","","","","","","","","","","","","","","",null,{"$f":"IF(AA632=\"\",\"\",IF(AA632>Inputs!$D$9,0,1))","v":""},{"$f":"IF(AB632=\"\",\"\",IF(AB632>Inputs!$D$9,0,1))","v":""},{"$f":"IF(AC632=\"\",\"\",IF(AC632>Inputs!$D$9,0,1))","v":""},{"$f":"IF(AD632=\"\",\"\",IF(AD632>Inputs!$D$9,0,1))","v":""},{"$f":"IF(AE632=\"\",\"\",IF(AE632>Inputs!$D$9,0,1))","v":""},{"$f":"IF(AF632=\"\",\"\",IF(AF632>Inputs!$D$9,0,1))","v":""},{"$f":"IF(AG632=\"\",\"\",IF(AG632>Inputs!$D$9,0,1))","v":""},{"$f":"IF(AH632=\"\",\"\",IF(AH632>Inputs!$D$9,0,1))","v":""},{"$f":"IF(AI632=\"\",\"\",IF(AI632>Inputs!$D$9,0,1))","v":""},{"$f":"IF(AJ632=\"\",\"\",IF(AJ632>Inputs!$D$9,0,1))","v":""},{"$f":"IF(AK632=\"\",\"\",IF(AK632>Inputs!$D$9,0,1))","v":""},{"$f":"IF(AL632=\"\",\"\",IF(AL632>Inputs!$D$9,0,1))","v":""},"",0,null,"","","","","","","","","","","","","","",null,null,"","","","","","","","","","","","",""]
[null,null,null,null,null,null,null,null,null,null,null,null,null,null,"","","","","","","","","","","","","","","","","","","","","","","","",null,{"$f":"IF(AA633=\"\",\"\",IF(AA633>Inputs!$D$9,0,1))","v":""},{"$f":"IF(AB633=\"\",\"\",IF(AB633>Inputs!$D$9,0,1))","v":""},{"$f":"IF(AC633=\"\",\"\",IF(AC633>Inputs!$D$9,0,1))","v":""},{"$f":"IF(AD633=\"\",\"\",IF(AD633>Inputs!$D$9,0,1))","v":""},{"$f":"IF(AE633=\"\",\"\",IF(AE633>Inputs!$D$9,0,1))","v":""},{"$f":"IF(AF633=\"\",\"\",IF(AF633>Inputs!$D$9,0,1))","v":""},{"$f":"IF(AG633=\"\",\"\",IF(AG633>Inputs!$D$9,0,1))","v":""},{"$f":"IF(AH633=\"\",\"\",IF(AH633>Inputs!$D$9,0,1))","v":""},{"$f":"IF(AI633=\"\",\"\",IF(AI633>Inputs!$D$9,0,1))","v":""},{"$f":"IF(AJ633=\"\",\"\",IF(AJ633>Inputs!$D$9,0,1))","v":""},{"$f":"IF(AK633=\"\",\"\",IF(AK633>Inputs!$D$9,0,1))","v":""},{"$f":"IF(AL633=\"\",\"\",IF(AL633>Inputs!$D$9,0,1))","v":""},"",0,null,"","","","","","","","","","","","","","",null,null,"","","","","","","","","","","","",""]
[null,null,null,null,null,null,null,null,null,null,null,null,null,null,"","","","","","","","","","","","","","","","","","","","","","","","",null,{"$f":"IF(AA634=\"\",\"\",IF(AA634>Inputs!$D$9,0,1))","v":""},{"$f":"IF(AB634=\"\",\"\",IF(AB634>Inputs!$D$9,0,1))","v":""},{"$f":"IF(AC634=\"\",\"\",IF(AC634>Inputs!$D$9,0,1))","v":""},{"$f":"IF(AD634=\"\",\"\",IF(AD634>Inputs!$D$9,0,1))","v":""},{"$f":"IF(AE634=\"\",\"\",IF(AE634>Inputs!$D$9,0,1))","v":""},{"$f":"IF(AF634=\"\",\"\",IF(AF634>Inputs!$D$9,0,1))","v":""},{"$f":"IF(AG634=\"\",\"\",IF(AG634>Inputs!$D$9,0,1))","v":""},{"$f":"IF(AH634=\"\",\"\",IF(AH634>Inputs!$D$9,0,1))","v":""},{"$f":"IF(AI634=\"\",\"\",IF(AI634>Inputs!$D$9,0,1))","v":""},{"$f":"IF(AJ634=\"\",\"\",IF(AJ634>Inputs!$D$9,0,1))","v":""},{"$f":"IF(AK634=\"\",\"\",IF(AK634>Inputs!$D$9,0,1))","v":""},{"$f":"IF(AL634=\"\",\"\",IF(AL634>Inputs!$D$9,0,1))","v":""},"",0,null,"","","","","","","","","","","","","","",null,null,"","","","","","","","","","","","",""]
[null,null,null,null,null,null,null,null,null,null,null,null,null,null,"","","","","","","","","","","","","","","","","","","","","","","","",null,{"$f":"IF(AA635=\"\",\"\",IF(AA635>Inputs!$D$9,0,1))","v":""},{"$f":"IF(AB635=\"\",\"\",IF(AB635>Inputs!$D$9,0,1))","v":""},{"$f":"IF(AC635=\"\",\"\",IF(AC635>Inputs!$D$9,0,1))","v":""},{"$f":"IF(AD635=\"\",\"\",IF(AD635>Inputs!$D$9,0,1))","v":""},{"$f":"IF(AE635=\"\",\"\",IF(AE635>Inputs!$D$9,0,1))","v":""},{"$f":"IF(AF635=\"\",\"\",IF(AF635>Inputs!$D$9,0,1))","v":""},{"$f":"IF(AG635=\"\",\"\",IF(AG635>Inputs!$D$9,0,1))","v":""},{"$f":"IF(AH635=\"\",\"\",IF(AH635>Inputs!$D$9,0,1))","v":""},{"$f":"IF(AI635=\"\",\"\",IF(AI635>Inputs!$D$9,0,1))","v":""},{"$f":"IF(AJ635=\"\",\"\",IF(AJ635>Inputs!$D$9,0,1))","v":""},{"$f":"IF(AK635=\"\",\"\",IF(AK635>Inputs!$D$9,0,1))","v":""},{"$f":"IF(AL635=\"\",\"\",IF(AL635>Inputs!$D$9,0,1))","v":""},"",0,null,"","","","","","","","","","","","","","",null,null,"","","","","","","","","","","","",""]
[null,null,null,null,null,null,null,null,null,null,null,null,null,null,"","","","","","","","","","","","","","","","","","","","","","","","",null,{"$f":"IF(AA636=\"\",\"\",IF(AA636>Inputs!$D$9,0,1))","v":""},{"$f":"IF(AB636=\"\",\"\",IF(AB636>Inputs!$D$9,0,1))","v":""},{"$f":"IF(AC636=\"\",\"\",IF(AC636>Inputs!$D$9,0,1))","v":""},{"$f":"IF(AD636=\"\",\"\",IF(AD636>Inputs!$D$9,0,1))","v":""},{"$f":"IF(AE636=\"\",\"\",IF(AE636>Inputs!$D$9,0,1))","v":""},{"$f":"IF(AF636=\"\",\"\",IF(AF636>Inputs!$D$9,0,1))","v":""},{"$f":"IF(AG636=\"\",\"\",IF(AG636>Inputs!$D$9,0,1))","v":""},{"$f":"IF(AH636=\"\",\"\",IF(AH636>Inputs!$D$9,0,1))","v":""},{"$f":"IF(AI636=\"\",\"\",IF(AI636>Inputs!$D$9,0,1))","v":""},{"$f":"IF(AJ636=\"\",\"\",IF(AJ636>Inputs!$D$9,0,1))","v":""},{"$f":"IF(AK636=\"\",\"\",IF(AK636>Inputs!$D$9,0,1))","v":""},{"$f":"IF(AL636=\"\",\"\",IF(AL636>Inputs!$D$9,0,1))","v":""},"",0,null,"","","","","","","","","","","","","","",null,null,"","","","","","","","","","","","",""]
[null,null,null,null,null,null,null,null,null,null,null,null,null,null,"","","","","","","","","","","","","","","","","","","","","","","","",null,{"$f":"IF(AA637=\"\",\"\",IF(AA637>Inputs!$D$9,0,1))","v":""},{"$f":"IF(AB637=\"\",\"\",IF(AB637>Inputs!$D$9,0,1))","v":""},{"$f":"IF(AC637=\"\",\"\",IF(AC637>Inputs!$D$9,0,1))","v":""},{"$f":"IF(AD637=\"\",\"\",IF(AD637>Inputs!$D$9,0,1))","v":""},{"$f":"IF(AE637=\"\",\"\",IF(AE637>Inputs!$D$9,0,1))","v":""},{"$f":"IF(AF637=\"\",\"\",IF(AF637>Inputs!$D$9,0,1))","v":""},{"$f":"IF(AG637=\"\",\"\",IF(AG637>Inputs!$D$9,0,1))","v":""},{"$f":"IF(AH637=\"\",\"\",IF(AH637>Inputs!$D$9,0,1))","v":""},{"$f":"IF(AI637=\"\",\"\",IF(AI637>Inputs!$D$9,0,1))","v":""},{"$f":"IF(AJ637=\"\",\"\",IF(AJ637>Inputs!$D$9,0,1))","v":""},{"$f":"IF(AK637=\"\",\"\",IF(AK637>Inputs!$D$9,0,1))","v":""},{"$f":"IF(AL637=\"\",\"\",IF(AL637>Inputs!$D$9,0,1))","v":""},"",0,null,"","","","","","","","","","","","","","",null,null,"","","","","","","","","","","","",""]
[null,null,null,null,null,null,null,null,null,null,null,null,null,null,"","","","","","","","","","","","","","","","","","","","","","","","",null,{"$f":"IF(AA638=\"\",\"\",IF(AA638>Inputs!$D$9,0,1))","v":""},{"$f":"IF(AB638=\"\",\"\",IF(AB638>Inputs!$D$9,0,1))","v":""},{"$f":"IF(AC638=\"\",\"\",IF(AC638>Inputs!$D$9,0,1))","v":""},{"$f":"IF(AD638=\"\",\"\",IF(AD638>Inputs!$D$9,0,1))","v":""},{"$f":"IF(AE638=\"\",\"\",IF(AE638>Inputs!$D$9,0,1))","v":""},{"$f":"IF(AF638=\"\",\"\",IF(AF638>Inputs!$D$9,0,1))","v":""},{"$f":"IF(AG638=\"\",\"\",IF(AG638>Inputs!$D$9,0,1))","v":""},{"$f":"IF(AH638=\"\",\"\",IF(AH638>Inputs!$D$9,0,1))","v":""},{"$f":"IF(AI638=\"\",\"\",IF(AI638>Inputs!$D$9,0,1))","v":""},{"$f":"IF(AJ638=\"\",\"\",IF(AJ638>Inputs!$D$9,0,1))","v":""},{"$f":"IF(AK638=\"\",\"\",IF(AK638>Inputs!$D$9,0,1))","v":""},{"$f":"IF(AL638=\"\",\"\",IF(AL638>Inputs!$D$9,0,1))","v":""},"",0,null,"","","","","","","","","","","","","","",null,null,"","","","","","","","","","","","",""]
[null,null,null,null,null,null,null,null,null,null,null,null,null,null,"","","","","","","","","","","","","","","","","","","","","","","","",null,{"$f":"IF(AA639=\"\",\"\",IF(AA639>Inputs!$D$9,0,1))","v":""},{"$f":"IF(AB639=\"\",\"\",IF(AB639>Inputs!$D$9,0,1))","v":""},{"$f":"IF(AC639=\"\",\"\",IF(AC639>Inputs!$D$9,0,1))","v":""},{"$f":"IF(AD639=\"\",\"\",IF(AD639>Inputs!$D$9,0,1))","v":""},{"$f":"IF(AE639=\"\",\"\",IF(AE639>Inputs!$D$9,0,1))","v":""},{"$f":"IF(AF639=\"\",\"\",IF(AF639>Inputs!$D$9,0,1))","v":""},{"$f":"IF(AG639=\"\",\"\",IF(AG639>Inputs!$D$9,0,1))","v":""},{"$f":"IF(AH639=\"\",\"\",IF(AH639>Inputs!$D$9,0,1))","v":""},{"$f":"IF(AI639=\"\",\"\",IF(AI639>Inputs!$D$9,0,1))","v":""},{"$f":"IF(AJ639=\"\",\"\",IF(AJ639>Inputs!$D$9,0,1))","v":""},{"$f":"IF(AK639=\"\",\"\",IF(AK639>Inputs!$D$9,0,1))","v":""},{"$f":"IF(AL639=\"\",\"\",IF(AL639>Inputs!$D$9,0,1))","v":""},"",0,null,"","","","","","","","","","","","","","",null,null,"","","","","","","","","","","","",""]
[null,null,null,null,null,null,null,null,null,null,null,null,null,null,"","","","","","","","","","","","","","","","","","","","","","","","",null,{"$f":"IF(AA640=\"\",\"\",IF(AA640>Inputs!$D$9,0,1))","v":""},{"$f":"IF(AB640=\"\",\"\",IF(AB640>Inputs!$D$9,0,1))","v":""},{"$f":"IF(AC640=\"\",\"\",IF(AC640>Inputs!$D$9,0,1))","v":""},{"$f":"IF(AD640=\"\",\"\",IF(AD640>Inputs!$D$9,0,1))","v":""},{"$f":"IF(AE640=\"\",\"\",IF(AE640>Inputs!$D$9,0,1))","v":""},{"$f":"IF(AF640=\"\",\"\",IF(AF640>Inputs!$D$9,0,1))","v":""},{"$f":"IF(AG640=\"\",\"\",IF(AG640>Inputs!$D$9,0,1))","v":""},{"$f":"IF(AH640=\"\",\"\",IF(AH640>Inputs!$D$9,0,1))","v":""},{"$f":"IF(AI640=\"\",\"\",IF(AI640>Inputs!$D$9,0,1))","v":""},{"$f":"IF(AJ640=\"\",\"\",IF(AJ640>Inputs!$D$9,0,1))","v":""},{"$f":"IF(AK640=\"\",\"\",IF(AK640>Inputs!$D$9,0,1))","v":""},{"$f":"IF(AL640=\"\",\"\",IF(AL640>Inputs!$D$9,0,1))","v":""},"",0,null,"","","","","","","","","","","","","","",null,null,"","","","","","","","","","","","",""]
[null,null,null,null,null,null,null,null,null,null,null,null,null,null,"","","","","","","","","","","","","","","","","","","","","","","","",null,{"$f":"IF(AA641=\"\",\"\",IF(AA641>Inputs!$D$9,0,1))","v":""},{"$f":"IF(AB641=\"\",\"\",IF(AB641>Inputs!$D$9,0,1))","v":""},{"$f":"IF(AC641=\"\",\"\",IF(AC641>Inputs!$D$9,0,1))","v":""},{"$f":"IF(AD641=\"\",\"\",IF(AD641>Inputs!$D$9,0,1))","v":""},{"$f":"IF(AE641=\"\",\"\",IF(AE641>Inputs!$D$9,0,1))","v":""},{"$f":"IF(AF641=\"\",\"\",IF(AF641>Inputs!$D$9,0,1))","v":""},{"$f":"IF(AG641=\"\",\"\",IF(AG641>Inputs!$D$9,0,1))","v":""},{"$f":"IF(AH641=\"\",\"\",IF(AH641>Inputs!$D$9,0,1))","v":""},{"$f":"IF(AI641=\"\",\"\",IF(AI641>Inputs!$D$9,0,1))","v":""},{"$f":"IF(AJ641=\"\",\"\",IF(AJ641>Inputs!$D$9,0,1))","v":""},{"$f":"IF(AK641=\"\",\"\",IF(AK641>Inputs!$D$9,0,1))","v":""},{"$f":"IF(AL641=\"\",\"\",IF(AL641>Inputs!$D$9,0,1))","v":""},"",0,null,"","","","","","","","","","","","","","",null,null,"","","","","","","","","","","","",""]
[null,null,null,null,null,null,null,null,null,null,null,null,null,null,"",{"$f":"IF(A642=\"\",\"\",IF(ISERROR(1+D642),\"\",IF(ISERROR(((1+D642/100)*(1+E642/100)*(1+F642/100)*(1+G642/100)*(1+H642/100)*(1+I642/100)*(1+J642/100)*(1+K642/100)*(1+L642/100)*(1+M642/100)*(1+N642/100))^(1/11)-1),\"\",((1+D642/100)*(1+E642/100)*(1+F642/100)*(1+G642/100)*(1+H642/100)*(1+I642/100)*(1+J642/100)*(1+K642/100)*(1+L642/100)*(1+M642/100)*(1+N642/100))^(1/11)-1)))","v":""},"","","","","","","","","","","","","","","","","","","","","","",null,{"$f":"IF(AA642=\"\",\"\",IF(AA642>Inputs!$D$9,0,1))","v":""},{"$f":"IF(AB642=\"\",\"\",IF(AB642>Inputs!$D$9,0,1))","v":""},{"$f":"IF(AC642=\"\",\"\",IF(AC642>Inputs!$D$9,0,1))","v":""},{"$f":"IF(AD642=\"\",\"\",IF(AD642>Inputs!$D$9,0,1))","v":""},{"$f":"IF(AE642=\"\",\"\",IF(AE642>Inputs!$D$9,0,1))","v":""},{"$f":"IF(AF642=\"\",\"\",IF(AF642>Inputs!$D$9,0,1))","v":""},{"$f":"IF(AG642=\"\",\"\",IF(AG642>Inputs!$D$9,0,1))","v":""},{"$f":"IF(AH642=\"\",\"\",IF(AH642>Inputs!$D$9,0,1))","v":""},{"$f":"IF(AI642=\"\",\"\",IF(AI642>Inputs!$D$9,0,1))","v":""},{"$f":"IF(AJ642=\"\",\"\",IF(AJ642>Inputs!$D$9,0,1))","v":""},{"$f":"IF(AK642=\"\",\"\",IF(AK642>Inputs!$D$9,0,1))","v":""},{"$f":"IF(AL642=\"\",\"\",IF(AL642>Inputs!$D$9,0,1))","v":""},"",0,null,"","","","","","","","","","","","","","",null,null,"","","","","","","","","","","","",""]
[null,null,null,null,null,null,null,null,null,null,null,null,null,null,{"$f":"IF(A643=\"\",\"\",IF(ISERROR(1+C643),\"\",IF(ISERROR(((1+C643/100)*(1+D643/100)*(1+E643/100)*(1+F643/100)*(1+G643/100)*(1+H643/100)*(1+I643/100)*(1+J643/100)*(1+K643/100)*(1+L643/100)*(1+M643/100)*(1+N643/100))^(1/12)-1),\"\",((1+C643/100)*(1+D643/100)*(1+E643/100)*(1+F643/100)*(1+G643/100)*(1+H643/100)*(1+I643/100)*(1+J643/100)*(1+K643/100)*(1+L643/100)*(1+M643/100)*(1+N643/100))^(1/12)-1)))","v":""},"",{"$f":"IF(A643=\"\",\"\",IF(ISERROR(1+E643),\"\",IF(ISERROR(((1+E643/100)*(1+F643/100)*(1+G643/100)*(1+H643/100)*(1+I643/100)*(1+J643/100)*(1+K643/100)*(1+L643/100)*(1+M643/100)*(1+N643/100))^(1/10)-1),\"\",((1+E643/100)*(1+F643/100)*(1+G643/100)*(1+H643/100)*(1+I643/100)*(1+J643/100)*(1+K643/100)*(1+L643/100)*(1+M643/100)*(1+N643/100))^(1/10)-1)))","v":""},{"$f":"IF(A643=\"\",\"\",IF(ISERROR(1+F643),\"\",IF(ISERROR(((1+F643/100)*(1+G643/100)*(1+H643/100)*(1+I643/100)*(1+J643/100)*(1+K643/100)*(1+L643/100)*(1+M643/100)*(1+N643/100))^(1/9)-1),\"\",((1+F643/100)*(1+G643/100)*(1+H643/100)*(1+I643/100)*(1+J643/100)*(1+K643/100)*(1+L643/100)*(1+M643/100)*(1+N643/100))^(1/9)-1)))","v":""},{"$f":"IF(A643=\"\",\"\",IF(ISERROR(1+G643),\"\",IF(ISERROR(((1+G643/100)*(1+H643/100)*(1+I643/100)*(1+J643/100)*(1+K643/100)*(1+L643/100)*(1+M643/100)*(1+N643/100))^(1/8)-1),\"\",((1+G643/100)*(1+H643/100)*(1+I643/100)*(1+J643/100)*(1+K643/100)*(1+L643/100)*(1+M643/100)*(1+N643/100))^(1/8)-1)))","v":""},{"$f":"IF(A643=\"\",\"\",IF(ISERROR(1+H643),\"\",IF(ISERROR(((1+H643/100)*(1+I643/100)*(1+J643/100)*(1+K643/100)*(1+L643/100)*(1+M643/100)*(1+N643/100))^(1/7)-1),\"\",((1+H643/100)*(1+I643/100)*(1+J643/100)*(1+K643/100)*(1+L643/100)*(1+M643/100)*(1+N643/100))^(1/7)-1)))","v":""},{"$f":"IF(A643=\"\",\"\",IF(ISERROR(1+I643),\"\",IF(ISERROR(((1+I643/100)*(1+J643/100)*(1+K643/100)*(1+L643/100)*(1+M643/100)*(1+N643/100))^(1/6)-1),\"\",((1+I643/100)*(1+J643/100)*(1+K643/100)*(1+L643/100)*(1+M643/100)*(1+N643/100))^(1/6)-1)))","v":""},{"$f":"IF(A643=\"\",\"\",IF(ISERROR(1+J643),\"\",IF(ISERROR(((1+J643/100)*(1+K643/100)*(1+L643/100)*(1+M643/100)*(1+N643/100))^(1/5)-1),\"\",((1+J643/100)*(1+K643/100)*(1+L643/100)*(1+M643/100)*(1+N643/100))^(1/5)-1)))","v":""},{"$f":"IF(A643=\"\",\"\",IF(ISERROR(1+K643),\"\",IF(ISERROR(((1+K643/100)*(1+L643/100)*(1+M643/100)*(1+N643/100))^(1/4)-1),\"\",((1+K643/100)*(1+L643/100)*(1+M643/100)*(1+N643/100))^(1/4)-1)))","v":""},{"$f":"IF(A643=\"\",\"\",IF(ISERROR(1+L643),\"\",IF(ISERROR(((1+L643/100)*(1+M643/100)*(1+N643/100))^(1/3)-1),\"\",((1+L643/100)*(1+M643/100)*(1+N643/100))^(1/3)-1)))","v":""},{"$f":"IF(A643=\"\",\"\",IF(ISERROR(1+M643),\"\",IF(ISERROR(((1+M643/100)*(1+N643/100))^(1/2)-1),\"\",((1+M643/100)*(1+N643/100))^(1/2)-1)))","v":""},{"$f":"IF(A643=\"\",\"\",IF(ISERROR(1+N643),\"\",IF(ISERROR(((1+N643/100))^(1/1)-1),\"\",((1+N643/100))^(1/1)-1)))","v":""},"","","","","","","","","","","","",null,{"$f":"IF(AA643=\"\",\"\",IF(AA643>Inputs!$D$9,0,1))","v":""},{"$f":"IF(AB643=\"\",\"\",IF(AB643>Inputs!$D$9,0,1))","v":""},{"$f":"IF(AC643=\"\",\"\",IF(AC643>Inputs!$D$9,0,1))","v":""},{"$f":"IF(AD643=\"\",\"\",IF(AD643>Inputs!$D$9,0,1))","v":""},{"$f":"IF(AE643=\"\",\"\",IF(AE643>Inputs!$D$9,0,1))","v":""},{"$f":"IF(AF643=\"\",\"\",IF(AF643>Inputs!$D$9,0,1))","v":""},{"$f":"IF(AG643=\"\",\"\",IF(AG643>Inputs!$D$9,0,1))","v":""},{"$f":"IF(AH643=\"\",\"\",IF(AH643>Inputs!$D$9,0,1))","v":""},{"$f":"IF(AI643=\"\",\"\",IF(AI643>Inputs!$D$9,0,1))","v":""},{"$f":"IF(AJ643=\"\",\"\",IF(AJ643>Inputs!$D$9,0,1))","v":""},{"$f":"IF(AK643=\"\",\"\",IF(AK643>Inputs!$D$9,0,1))","v":""},{"$f":"IF(AL643=\"\",\"\",IF(AL643>Inputs!$D$9,0,1))","v":""},"",{"$f":"COUNT(AN643:AY643)","v":0},null,{"$f":"IF(O643=\"\",\"\",IF(O643>AVERAGE($O$2:$O$1000),1,0))","v":""},{"$f":"IF(P643=\"\",\"\",IF(P643>AVERAGE($P$2:$P$1000),1,0))","v":""},{"$f":"IF(Q643=\"\",\"\",IF(Q643>AVERAGE($Q$2:$Q$1000),1,0))","v":""},{"$f":"IF(R643=\"\",\"\",IF(R643>AVERAGE($R$2:$R$1000),1,0))","v":""},{"$f":"IF(S643=\"\",\"\",IF(S643>AVERAGE($S$2:$S$1000),1,0))","v":""},{"$f":"IF(T643=\"\",\"\",IF(T643>AVERAGE($T$2:$T$1000),1,0))","v":""},{"$f":"IF(U643=\"\",\"\",IF(U643>AVERAGE($U$2:$U$1000),1,0))","v":""},{"$f":"IF(V643=\"\",\"\",IF(V643>AVERAGE($V$2:$V$1000),1,0))","v":""},{"$f":"IF(W643=\"\",\"\",IF(W643>AVERAGE($W$2:$W$1000),1,0))","v":""},{"$f":"IF(X643=\"\",\"\",IF(X643>AVERAGE($X$2:$X$1000),1,0))","v":""},{"$f":"IF(Y643=\"\",\"\",IF(Y643>AVERAGE($Y$2:$Y$1000),1,0))","v":""},{"$f":"IF(Z643=\"\",\"\",IF(Z643>AVERAGE($Z$2:$Z$1000),1,0))","v":""},{"$f":"IF(COUNT(BC643:BN643)=0,\"\",SUM(BC643:BN643)/COUNT(BC643:BN643))","v":""},{"$f":"IF(A643=\"\",\"\",COUNT(BC643:BN643))","v":""},null,null,{"$f":"IF($A643=\"\",\"\",IF(C643=\"-\",0,IF(C643>AVERAGE(C$2:C$1183),1,0)))","v":""},{"$f":"IF($A643=\"\",\"\",IF(D643=\"-\",0,IF(D643>AVERAGE(D$2:D$1183),1,0)))","v":""},{"$f":"IF($A643=\"\",\"\",IF(E643=\"-\",0,IF(E643>AVERAGE(E$2:E$1183),1,0)))","v":""},{"$f":"IF($A643=\"\",\"\",IF(F643=\"-\",0,IF(F643>AVERAGE(F$2:F$1183),1,0)))","v":""},{"$f":"IF($A643=\"\",\"\",IF(G643=\"-\",0,IF(G643>AVERAGE(G$2:G$1183),1,0)))","v":""},{"$f":"IF($A643=\"\",\"\",IF(H643=\"-\",0,IF(H643>AVERAGE(H$2:H$1183),1,0)))","v":""},{"$f":"IF($A643=\"\",\"\",IF(I643=\"-\",0,IF(I643>AVERAGE(I$2:I$1183),1,0)))","v":""},{"$f":"IF($A643=\"\",\"\",IF(J643=\"-\",0,IF(J643>AVERAGE(J$2:J$1183),1,0)))","v":""},{"$f":"IF($A643=\"\",\"\",IF(K643=\"-\",0,IF(K643>AVERAGE(K$2:K$1183),1,0)))","v":""},{"$f":"IF($A643=\"\",\"\",IF(L643=\"-\",0,IF(L643>AVERAGE(L$2:L$1183),1,0)))","v":""},{"$f":"IF($A643=\"\",\"\",IF(M643=\"-\",0,IF(M643>AVERAGE(M$2:M$1183),1,0)))","v":""},{"$f":"IF($A643=\"\",\"\",IF(N643=\"-\",0,IF(N643>AVERAGE(N$2:N$1183),1,0)))","v":""},""]
[null,null,null,null,null,null,null,null,null,null,null,null,null,null,"","","","","","","","","","","","","","","","","","","","","","","","",null,{"$f":"IF(AA644=\"\",\"\",IF(AA644>Inputs!$D$9,0,1))","v":""},{"$f":"IF(AB644=\"\",\"\",IF(AB644>Inputs!$D$9,0,1))","v":""},{"$f":"IF(AC644=\"\",\"\",IF(AC644>Inputs!$D$9,0,1))","v":""},{"$f":"IF(AD644=\"\",\"\",IF(AD644>Inputs!$D$9,0,1))","v":""},{"$f":"IF(AE644=\"\",\"\",IF(AE644>Inputs!$D$9,0,1))","v":""},{"$f":"IF(AF644=\"\",\"\",IF(AF644>Inputs!$D$9,0,1))","v":""},{"$f":"IF(AG644=\"\",\"\",IF(AG644>Inputs!$D$9,0,1))","v":""},{"$f":"IF(AH644=\"\",\"\",IF(AH644>Inputs!$D$9,0,1))","v":""},{"$f":"IF(AI644=\"\",\"\",IF(AI644>Inputs!$D$9,0,1))","v":""},{"$f":"IF(AJ644=\"\",\"\",IF(AJ644>Inputs!$D$9,0,1))","v":""},{"$f":"IF(AK644=\"\",\"\",IF(AK644>Inputs!$D$9,0,1))","v":""},{"$f":"IF(AL644=\"\",\"\",IF(AL644>Inputs!$D$9,0,1))","v":""},"",0,null,"","","","","","","","","","","","","","",null,null,"","","","","","","","","","","","",""]
[null,null,null,null,null,null,null,null,null,null,null,null,null,null,"","","","","","","","","","","","","","","","","","","","","","","","",null,{"$f":"IF(AA645=\"\",\"\",IF(AA645>Inputs!$D$9,0,1))","v":""},{"$f":"IF(AB645=\"\",\"\",IF(AB645>Inputs!$D$9,0,1))","v":""},{"$f":"IF(AC645=\"\",\"\",IF(AC645>Inputs!$D$9,0,1))","v":""},{"$f":"IF(AD645=\"\",\"\",IF(AD645>Inputs!$D$9,0,1))","v":""},{"$f":"IF(AE645=\"\",\"\",IF(AE645>Inputs!$D$9,0,1))","v":""},{"$f":"IF(AF645=\"\",\"\",IF(AF645>Inputs!$D$9,0,1))","v":""},{"$f":"IF(AG645=\"\",\"\",IF(AG645>Inputs!$D$9,0,1))","v":""},{"$f":"IF(AH645=\"\",\"\",IF(AH645>Inputs!$D$9,0,1))","v":""},{"$f":"IF(AI645=\"\",\"\",IF(AI645>Inputs!$D$9,0,1))","v":""},{"$f":"IF(AJ645=\"\",\"\",IF(AJ645>Inputs!$D$9,0,1))","v":""},{"$f":"IF(AK645=\"\",\"\",IF(AK645>Inputs!$D$9,0,1))","v":""},{"$f":"IF(AL645=\"\",\"\",IF(AL645>Inputs!$D$9,0,1))","v":""},"",0,null,"","","","","","","","","","","","","","",null,null,"","","","","","","","","","","","",""]
[null,null,null,null,null,null,null,null,null,null,null,null,null,null,"","","","","","","","","","","","","","","","","","","","","","","","",null,{"$f":"IF(AA646=\"\",\"\",IF(AA646>Inputs!$D$9,0,1))","v":""},{"$f":"IF(AB646=\"\",\"\",IF(AB646>Inputs!$D$9,0,1))","v":""},{"$f":"IF(AC646=\"\",\"\",IF(AC646>Inputs!$D$9,0,1))","v":""},{"$f":"IF(AD646=\"\",\"\",IF(AD646>Inputs!$D$9,0,1))","v":""},{"$f":"IF(AE646=\"\",\"\",IF(AE646>Inputs!$D$9,0,1))","v":""},{"$f":"IF(AF646=\"\",\"\",IF(AF646>Inputs!$D$9,0,1))","v":""},{"$f":"IF(AG646=\"\",\"\",IF(AG646>Inputs!$D$9,0,1))","v":""},{"$f":"IF(AH646=\"\",\"\",IF(AH646>Inputs!$D$9,0,1))","v":""},{"$f":"IF(AI646=\"\",\"\",IF(AI646>Inputs!$D$9,0,1))","v":""},{"$f":"IF(AJ646=\"\",\"\",IF(AJ646>Inputs!$D$9,0,1))","v":""},{"$f":"IF(AK646=\"\",\"\",IF(AK646>Inputs!$D$9,0,1))","v":""},{"$f":"IF(AL646=\"\",\"\",IF(AL646>Inputs!$D$9,0,1))","v":""},"",0,null,"","","","","","","","","","","","","","",null,null,"","","","","","","","","","","","",""]
[null,null,null,null,null,null,null,null,null,null,null,null,null,null,"","","","","","","","","","","","","","","","","","","","","","","","",null,{"$f":"IF(AA647=\"\",\"\",IF(AA647>Inputs!$D$9,0,1))","v":""},{"$f":"IF(AB647=\"\",\"\",IF(AB647>Inputs!$D$9,0,1))","v":""},{"$f":"IF(AC647=\"\",\"\",IF(AC647>Inputs!$D$9,0,1))","v":""},{"$f":"IF(AD647=\"\",\"\",IF(AD647>Inputs!$D$9,0,1))","v":""},{"$f":"IF(AE647=\"\",\"\",IF(AE647>Inputs!$D$9,0,1))","v":""},{"$f":"IF(AF647=\"\",\"\",IF(AF647>Inputs!$D$9,0,1))","v":""},{"$f":"IF(AG647=\"\",\"\",IF(AG647>Inputs!$D$9,0,1))","v":""},{"$f":"IF(AH647=\"\",\"\",IF(AH647>Inputs!$D$9,0,1))","v":""},{"$f":"IF(AI647=\"\",\"\",IF(AI647>Inputs!$D$9,0,1))","v":""},{"$f":"IF(AJ647=\"\",\"\",IF(AJ647>Inputs!$D$9,0,1))","v":""},{"$f":"IF(AK647=\"\",\"\",IF(AK647>Inputs!$D$9,0,1))","v":""},{"$f":"IF(AL647=\"\",\"\",IF(AL647>Inputs!$D$9,0,1))","v":""},"",0,null,"","","","","","","","","","","","","","",null,null,"","","","","","","","","","","","",""]
[null,null,null,null,null,null,null,null,null,null,null,null,null,null,"","","","","","","","","","","","","","","","","","","","","","","","",null,{"$f":"IF(AA648=\"\",\"\",IF(AA648>Inputs!$D$9,0,1))","v":""},{"$f":"IF(AB648=\"\",\"\",IF(AB648>Inputs!$D$9,0,1))","v":""},{"$f":"IF(AC648=\"\",\"\",IF(AC648>Inputs!$D$9,0,1))","v":""},{"$f":"IF(AD648=\"\",\"\",IF(AD648>Inputs!$D$9,0,1))","v":""},{"$f":"IF(AE648=\"\",\"\",IF(AE648>Inputs!$D$9,0,1))","v":""},{"$f":"IF(AF648=\"\",\"\",IF(AF648>Inputs!$D$9,0,1))","v":""},{"$f":"IF(AG648=\"\",\"\",IF(AG648>Inputs!$D$9,0,1))","v":""},{"$f":"IF(AH648=\"\",\"\",IF(AH648>Inputs!$D$9,0,1))","v":""},{"$f":"IF(AI648=\"\",\"\",IF(AI648>Inputs!$D$9,0,1))","v":""},{"$f":"IF(AJ648=\"\",\"\",IF(AJ648>Inputs!$D$9,0,1))","v":""},{"$f":"IF(AK648=\"\",\"\",IF(AK648>Inputs!$D$9,0,1))","v":""},{"$f":"IF(AL648=\"\",\"\",IF(AL648>Inputs!$D$9,0,1))","v":""},"",0,null,"","","","","","","","","","","","","","",null,null,"","","","","","","","","","","","",""]
[null,null,null,null,null,null,null,null,null,null,null,null,null,null,"","","","","","","","","","","","","","","","","","","","","","","","",null,{"$f":"IF(AA649=\"\",\"\",IF(AA649>Inputs!$D$9,0,1))","v":""},{"$f":"IF(AB649=\"\",\"\",IF(AB649>Inputs!$D$9,0,1))","v":""},{"$f":"IF(AC649=\"\",\"\",IF(AC649>Inputs!$D$9,0,1))","v":""},{"$f":"IF(AD649=\"\",\"\",IF(AD649>Inputs!$D$9,0,1))","v":""},{"$f":"IF(AE649=\"\",\"\",IF(AE649>Inputs!$D$9,0,1))","v":""},{"$f":"IF(AF649=\"\",\"\",IF(AF649>Inputs!$D$9,0,1))","v":""},{"$f":"IF(AG649=\"\",\"\",IF(AG649>Inputs!$D$9,0,1))","v":""},{"$f":"IF(AH649=\"\",\"\",IF(AH649>Inputs!$D$9,0,1))","v":""},{"$f":"IF(AI649=\"\",\"\",IF(AI649>Inputs!$D$9,0,1))","v":""},{"$f":"IF(AJ649=\"\",\"\",IF(AJ649>Inputs!$D$9,0,1))","v":""},{"$f":"IF(AK649=\"\",\"\",IF(AK649>Inputs!$D$9,0,1))","v":""},{"$f":"IF(AL649=\"\",\"\",IF(AL649>Inputs!$D$9,0,1))","v":""},"",0,null,"","","","","","","","","","","","","","",null,null,"","","","","","","","","","","","",""]
[null,null,null,null,null,null,null,null,null,null,null,null,null,null,"","","","","","","","","","","","","","","","","","","","","","","","",null,{"$f":"IF(AA650=\"\",\"\",IF(AA650>Inputs!$D$9,0,1))","v":""},{"$f":"IF(AB650=\"\",\"\",IF(AB650>Inputs!$D$9,0,1))","v":""},{"$f":"IF(AC650=\"\",\"\",IF(AC650>Inputs!$D$9,0,1))","v":""},{"$f":"IF(AD650=\"\",\"\",IF(AD650>Inputs!$D$9,0,1))","v":""},{"$f":"IF(AE650=\"\",\"\",IF(AE650>Inputs!$D$9,0,1))","v":""},{"$f":"IF(AF650=\"\",\"\",IF(AF650>Inputs!$D$9,0,1))","v":""},{"$f":"IF(AG650=\"\",\"\",IF(AG650>Inputs!$D$9,0,1))","v":""},{"$f":"IF(AH650=\"\",\"\",IF(AH650>Inputs!$D$9,0,1))","v":""},{"$f":"IF(AI650=\"\",\"\",IF(AI650>Inputs!$D$9,0,1))","v":""},{"$f":"IF(AJ650=\"\",\"\",IF(AJ650>Inputs!$D$9,0,1))","v":""},{"$f":"IF(AK650=\"\",\"\",IF(AK650>Inputs!$D$9,0,1))","v":""},{"$f":"IF(AL650=\"\",\"\",IF(AL650>Inputs!$D$9,0,1))","v":""},"",0,null,"","","","","","","","","","","","","","",null,null,"","","","","","","","","","","","",""]
[null,null,null,null,null,null,null,null,null,null,null,null,null,null,"","","","","","","","","","","","","","","","","","","","","","","","",null,{"$f":"IF(AA651=\"\",\"\",IF(AA651>Inputs!$D$9,0,1))","v":""},{"$f":"IF(AB651=\"\",\"\",IF(AB651>Inputs!$D$9,0,1))","v":""},{"$f":"IF(AC651=\"\",\"\",IF(AC651>Inputs!$D$9,0,1))","v":""},{"$f":"IF(AD651=\"\",\"\",IF(AD651>Inputs!$D$9,0,1))","v":""},{"$f":"IF(AE651=\"\",\"\",IF(AE651>Inputs!$D$9,0,1))","v":""},{"$f":"IF(AF651=\"\",\"\",IF(AF651>Inputs!$D$9,0,1))","v":""},{"$f":"IF(AG651=\"\",\"\",IF(AG651>Inputs!$D$9,0,1))","v":""},{"$f":"IF(AH651=\"\",\"\",IF(AH651>Inputs!$D$9,0,1))","v":""},{"$f":"IF(AI651=\"\",\"\",IF(AI651>Inputs!$D$9,0,1))","v":""},{"$f":"IF(AJ651=\"\",\"\",IF(AJ651>Inputs!$D$9,0,1))","v":""},{"$f":"IF(AK651=\"\",\"\",IF(AK651>Inputs!$D$9,0,1))","v":""},{"$f":"IF(AL651=\"\",\"\",IF(AL651>Inputs!$D$9,0,1))","v":""},"",0,null,"","","","","","","","","","","","","","",null,null,"","","","","","","","","","","","",""]
[null,null,null,null,null,null,null,null,null,null,null,null,null,null,"","","","","","","","","","","","","","","","","","","","","","","","",null,{"$f":"IF(AA652=\"\",\"\",IF(AA652>Inputs!$D$9,0,1))","v":""},{"$f":"IF(AB652=\"\",\"\",IF(AB652>Inputs!$D$9,0,1))","v":""},{"$f":"IF(AC652=\"\",\"\",IF(AC652>Inputs!$D$9,0,1))","v":""},{"$f":"IF(AD652=\"\",\"\",IF(AD652>Inputs!$D$9,0,1))","v":""},{"$f":"IF(AE652=\"\",\"\",IF(AE652>Inputs!$D$9,0,1))","v":""},{"$f":"IF(AF652=\"\",\"\",IF(AF652>Inputs!$D$9,0,1))","v":""},{"$f":"IF(AG652=\"\",\"\",IF(AG652>Inputs!$D$9,0,1))","v":""},{"$f":"IF(AH652=\"\",\"\",IF(AH652>Inputs!$D$9,0,1))","v":""},{"$f":"IF(AI652=\"\",\"\",IF(AI652>Inputs!$D$9,0,1))","v":""},{"$f":"IF(AJ652=\"\",\"\",IF(AJ652>Inputs!$D$9,0,1))","v":""},{"$f":"IF(AK652=\"\",\"\",IF(AK652>Inputs!$D$9,0,1))","v":""},{"$f":"IF(AL652=\"\",\"\",IF(AL652>Inputs!$D$9,0,1))","v":""},"",0,null,"","","","","","","","","","","","","","",null,null,"","","","","","","","","","","","",""]
[null,null,null,null,null,null,null,null,null,null,null,null,null,null,"","","","","","","","","","","","","","","","","","","","","","","","",null,{"$f":"IF(AA653=\"\",\"\",IF(AA653>Inputs!$D$9,0,1))","v":""},{"$f":"IF(AB653=\"\",\"\",IF(AB653>Inputs!$D$9,0,1))","v":""},{"$f":"IF(AC653=\"\",\"\",IF(AC653>Inputs!$D$9,0,1))","v":""},{"$f":"IF(AD653=\"\",\"\",IF(AD653>Inputs!$D$9,0,1))","v":""},{"$f":"IF(AE653=\"\",\"\",IF(AE653>Inputs!$D$9,0,1))","v":""},{"$f":"IF(AF653=\"\",\"\",IF(AF653>Inputs!$D$9,0,1))","v":""},{"$f":"IF(AG653=\"\",\"\",IF(AG653>Inputs!$D$9,0,1))","v":""},{"$f":"IF(AH653=\"\",\"\",IF(AH653>Inputs!$D$9,0,1))","v":""},{"$f":"IF(AI653=\"\",\"\",IF(AI653>Inputs!$D$9,0,1))","v":""},{"$f":"IF(AJ653=\"\",\"\",IF(AJ653>Inputs!$D$9,0,1))","v":""},{"$f":"IF(AK653=\"\",\"\",IF(AK653>Inputs!$D$9,0,1))","v":""},{"$f":"IF(AL653=\"\",\"\",IF(AL653>Inputs!$D$9,0,1))","v":""},"",0,null,"","","","","","","","","","","","","","",null,null,"","","","","","","","","","","","",""]
[null,null,null,null,null,null,null,null,null,null,null,null,null,null,"","","","","","","","","","","","","","","","","","","","","","","","",null,{"$f":"IF(AA654=\"\",\"\",IF(AA654>Inputs!$D$9,0,1))","v":""},{"$f":"IF(AB654=\"\",\"\",IF(AB654>Inputs!$D$9,0,1))","v":""},{"$f":"IF(AC654=\"\",\"\",IF(AC654>Inputs!$D$9,0,1))","v":""},{"$f":"IF(AD654=\"\",\"\",IF(AD654>Inputs!$D$9,0,1))","v":""},{"$f":"IF(AE654=\"\",\"\",IF(AE654>Inputs!$D$9,0,1))","v":""},{"$f":"IF(AF654=\"\",\"\",IF(AF654>Inputs!$D$9,0,1))","v":""},{"$f":"IF(AG654=\"\",\"\",IF(AG654>Inputs!$D$9,0,1))","v":""},{"$f":"IF(AH654=\"\",\"\",IF(AH654>Inputs!$D$9,0,1))","v":""},{"$f":"IF(AI654=\"\",\"\",IF(AI654>Inputs!$D$9,0,1))","v":""},{"$f":"IF(AJ654=\"\",\"\",IF(AJ654>Inputs!$D$9,0,1))","v":""},{"$f":"IF(AK654=\"\",\"\",IF(AK654>Inputs!$D$9,0,1))","v":""},{"$f":"IF(AL654=\"\",\"\",IF(AL654>Inputs!$D$9,0,1))","v":""},"",0,null,"","","","","","","","","","","","","","",null,null,"","","","","","","","","","","","",""]
[null,null,null,null,null,null,null,null,null,null,null,null,null,null,"","","","","","","","","","","","","","","","","","","","","","","","",null,{"$f":"IF(AA655=\"\",\"\",IF(AA655>Inputs!$D$9,0,1))","v":""},{"$f":"IF(AB655=\"\",\"\",IF(AB655>Inputs!$D$9,0,1))","v":""},{"$f":"IF(AC655=\"\",\"\",IF(AC655>Inputs!$D$9,0,1))","v":""},{"$f":"IF(AD655=\"\",\"\",IF(AD655>Inputs!$D$9,0,1))","v":""},{"$f":"IF(AE655=\"\",\"\",IF(AE655>Inputs!$D$9,0,1))","v":""},{"$f":"IF(AF655=\"\",\"\",IF(AF655>Inputs!$D$9,0,1))","v":""},{"$f":"IF(AG655=\"\",\"\",IF(AG655>Inputs!$D$9,0,1))","v":""},{"$f":"IF(AH655=\"\",\"\",IF(AH655>Inputs!$D$9,0,1))","v":""},{"$f":"IF(AI655=\"\",\"\",IF(AI655>Inputs!$D$9,0,1))","v":""},{"$f":"IF(AJ655=\"\",\"\",IF(AJ655>Inputs!$D$9,0,1))","v":""},{"$f":"IF(AK655=\"\",\"\",IF(AK655>Inputs!$D$9,0,1))","v":""},{"$f":"IF(AL655=\"\",\"\",IF(AL655>Inputs!$D$9,0,1))","v":""},"",0,null,"","","","","","","","","","","","","","",null,null,"","","","","","","","","","","","",""]
[null,null,null,null,null,null,null,null,null,null,null,null,null,null,"","","","","","","","","","","","","","","","","","","","","","","","",null,{"$f":"IF(AA656=\"\",\"\",IF(AA656>Inputs!$D$9,0,1))","v":""},{"$f":"IF(AB656=\"\",\"\",IF(AB656>Inputs!$D$9,0,1))","v":""},{"$f":"IF(AC656=\"\",\"\",IF(AC656>Inputs!$D$9,0,1))","v":""},{"$f":"IF(AD656=\"\",\"\",IF(AD656>Inputs!$D$9,0,1))","v":""},{"$f":"IF(AE656=\"\",\"\",IF(AE656>Inputs!$D$9,0,1))","v":""},{"$f":"IF(AF656=\"\",\"\",IF(AF656>Inputs!$D$9,0,1))","v":""},{"$f":"IF(AG656=\"\",\"\",IF(AG656>Inputs!$D$9,0,1))","v":""},{"$f":"IF(AH656=\"\",\"\",IF(AH656>Inputs!$D$9,0,1))","v":""},{"$f":"IF(AI656=\"\",\"\",IF(AI656>Inputs!$D$9,0,1))","v":""},{"$f":"IF(AJ656=\"\",\"\",IF(AJ656>Inputs!$D$9,0,1))","v":""},{"$f":"IF(AK656=\"\",\"\",IF(AK656>Inputs!$D$9,0,1))","v":""},{"$f":"IF(AL656=\"\",\"\",IF(AL656>Inputs!$D$9,0,1))","v":""},"",0,null,"","","","","","","","","","","","","","",null,null,"","","","","","","","","","","","",""]
[null,null,null,null,null,null,null,null,null,null,null,null,null,null,"","","","","","","","","","","","","","","","","","","","","","","","",null,{"$f":"IF(AA657=\"\",\"\",IF(AA657>Inputs!$D$9,0,1))","v":""},{"$f":"IF(AB657=\"\",\"\",IF(AB657>Inputs!$D$9,0,1))","v":""},{"$f":"IF(AC657=\"\",\"\",IF(AC657>Inputs!$D$9,0,1))","v":""},{"$f":"IF(AD657=\"\",\"\",IF(AD657>Inputs!$D$9,0,1))","v":""},{"$f":"IF(AE657=\"\",\"\",IF(AE657>Inputs!$D$9,0,1))","v":""},{"$f":"IF(AF657=\"\",\"\",IF(AF657>Inputs!$D$9,0,1))","v":""},{"$f":"IF(AG657=\"\",\"\",IF(AG657>Inputs!$D$9,0,1))","v":""},{"$f":"IF(AH657=\"\",\"\",IF(AH657>Inputs!$D$9,0,1))","v":""},{"$f":"IF(AI657=\"\",\"\",IF(AI657>Inputs!$D$9,0,1))","v":""},{"$f":"IF(AJ657=\"\",\"\",IF(AJ657>Inputs!$D$9,0,1))","v":""},{"$f":"IF(AK657=\"\",\"\",IF(AK657>Inputs!$D$9,0,1))","v":""},{"$f":"IF(AL657=\"\",\"\",IF(AL657>Inputs!$D$9,0,1))","v":""},"",0,null,"","","","","","","","","","","","","","",null,null,"","","","","","","","","","","","",""]
[null,null,null,null,null,null,null,null,null,null,null,null,null,null,"","","","","","","","","","","","","","","","","","","","","","","","",null,{"$f":"IF(AA658=\"\",\"\",IF(AA658>Inputs!$D$9,0,1))","v":""},{"$f":"IF(AB658=\"\",\"\",IF(AB658>Inputs!$D$9,0,1))","v":""},{"$f":"IF(AC658=\"\",\"\",IF(AC658>Inputs!$D$9,0,1))","v":""},{"$f":"IF(AD658=\"\",\"\",IF(AD658>Inputs!$D$9,0,1))","v":""},{"$f":"IF(AE658=\"\",\"\",IF(AE658>Inputs!$D$9,0,1))","v":""},{"$f":"IF(AF658=\"\",\"\",IF(AF658>Inputs!$D$9,0,1))","v":""},{"$f":"IF(AG658=\"\",\"\",IF(AG658>Inputs!$D$9,0,1))","v":""},{"$f":"IF(AH658=\"\",\"\",IF(AH658>Inputs!$D$9,0,1))","v":""},{"$f":"IF(AI658=\"\",\"\",IF(AI658>Inputs!$D$9,0,1))","v":""},{"$f":"IF(AJ658=\"\",\"\",IF(AJ658>Inputs!$D$9,0,1))","v":""},{"$f":"IF(AK658=\"\",\"\",IF(AK658>Inputs!$D$9,0,1))","v":""},{"$f":"IF(AL658=\"\",\"\",IF(AL658>Inputs!$D$9,0,1))","v":""},"",0,null,"","","","","","","","","","","","","","",null,null,"","","","","","","","","","","","",""]
[null,null,null,null,null,null,null,null,null,null,null,null,null,null,"","","","","","","","","","","","","","","","","","","","","","","","",null,{"$f":"IF(AA659=\"\",\"\",IF(AA659>Inputs!$D$9,0,1))","v":""},{"$f":"IF(AB659=\"\",\"\",IF(AB659>Inputs!$D$9,0,1))","v":""},{"$f":"IF(AC659=\"\",\"\",IF(AC659>Inputs!$D$9,0,1))","v":""},{"$f":"IF(AD659=\"\",\"\",IF(AD659>Inputs!$D$9,0,1))","v":""},{"$f":"IF(AE659=\"\",\"\",IF(AE659>Inputs!$D$9,0,1))","v":""},{"$f":"IF(AF659=\"\",\"\",IF(AF659>Inputs!$D$9,0,1))","v":""},{"$f":"IF(AG659=\"\",\"\",IF(AG659>Inputs!$D$9,0,1))","v":""},{"$f":"IF(AH659=\"\",\"\",IF(AH659>Inputs!$D$9,0,1))","v":""},{"$f":"IF(AI659=\"\",\"\",IF(AI659>Inputs!$D$9,0,1))","v":""},{"$f":"IF(AJ659=\"\",\"\",IF(AJ659>Inputs!$D$9,0,1))","v":""},{"$f":"IF(AK659=\"\",\"\",IF(AK659>Inputs!$D$9,0,1))","v":""},{"$f":"IF(AL659=\"\",\"\",IF(AL659>Inputs!$D$9,0,1))","v":""},"",0,null,"","","","","","","","","","","","","","",null,null,"","","","","","","","","","","","",{"$f":"IF(A659=\"\",\"\",SUM(BS659:CD659))","v":""}]
[null,null,null,null,null,null,null,null,null,null,null,null,null,null,"","","","","","","","","","","","","","","","","","","","","","","","",null,{"$f":"IF(AA660=\"\",\"\",IF(AA660>Inputs!$D$9,0,1))","v":""},{"$f":"IF(AB660=\"\",\"\",IF(AB660>Inputs!$D$9,0,1))","v":""},{"$f":"IF(AC660=\"\",\"\",IF(AC660>Inputs!$D$9,0,1))","v":""},{"$f":"IF(AD660=\"\",\"\",IF(AD660>Inputs!$D$9,0,1))","v":""},{"$f":"IF(AE660=\"\",\"\",IF(AE660>Inputs!$D$9,0,1))","v":""},{"$f":"IF(AF660=\"\",\"\",IF(AF660>Inputs!$D$9,0,1))","v":""},{"$f":"IF(AG660=\"\",\"\",IF(AG660>Inputs!$D$9,0,1))","v":""},{"$f":"IF(AH660=\"\",\"\",IF(AH660>Inputs!$D$9,0,1))","v":""},{"$f":"IF(AI660=\"\",\"\",IF(AI660>Inputs!$D$9,0,1))","v":""},{"$f":"IF(AJ660=\"\",\"\",IF(AJ660>Inputs!$D$9,0,1))","v":""},{"$f":"IF(AK660=\"\",\"\",IF(AK660>Inputs!$D$9,0,1))","v":""},{"$f":"IF(AL660=\"\",\"\",IF(AL660>Inputs!$D$9,0,1))","v":""},"",0,null,"","","","","","","","","","","","","","",null,null,"","","","","","","","","","","","",""]
[null,null,null,null,null,null,null,null,null,null,null,null,null,null,"","","","","","","","","","","","","","","","","","","","","","","","",null,{"$f":"IF(AA661=\"\",\"\",IF(AA661>Inputs!$D$9,0,1))","v":""},{"$f":"IF(AB661=\"\",\"\",IF(AB661>Inputs!$D$9,0,1))","v":""},{"$f":"IF(AC661=\"\",\"\",IF(AC661>Inputs!$D$9,0,1))","v":""},{"$f":"IF(AD661=\"\",\"\",IF(AD661>Inputs!$D$9,0,1))","v":""},{"$f":"IF(AE661=\"\",\"\",IF(AE661>Inputs!$D$9,0,1))","v":""},{"$f":"IF(AF661=\"\",\"\",IF(AF661>Inputs!$D$9,0,1))","v":""},{"$f":"IF(AG661=\"\",\"\",IF(AG661>Inputs!$D$9,0,1))","v":""},{"$f":"IF(AH661=\"\",\"\",IF(AH661>Inputs!$D$9,0,1))","v":""},{"$f":"IF(AI661=\"\",\"\",IF(AI661>Inputs!$D$9,0,1))","v":""},{"$f":"IF(AJ661=\"\",\"\",IF(AJ661>Inputs!$D$9,0,1))","v":""},{"$f":"IF(AK661=\"\",\"\",IF(AK661>Inputs!$D$9,0,1))","v":""},{"$f":"IF(AL661=\"\",\"\",IF(AL661>Inputs!$D$9,0,1))","v":""},"",0,null,"","","","","","","","","","","","","","",null,null,"","","","","","","","","","","","",""]
[null,null,null,null,null,null,null,null,null,null,null,null,null,null,"","","","","","","","","","","","","","","","","","","","","","","","",null,{"$f":"IF(AA662=\"\",\"\",IF(AA662>Inputs!$D$9,0,1))","v":""},{"$f":"IF(AB662=\"\",\"\",IF(AB662>Inputs!$D$9,0,1))","v":""},{"$f":"IF(AC662=\"\",\"\",IF(AC662>Inputs!$D$9,0,1))","v":""},{"$f":"IF(AD662=\"\",\"\",IF(AD662>Inputs!$D$9,0,1))","v":""},{"$f":"IF(AE662=\"\",\"\",IF(AE662>Inputs!$D$9,0,1))","v":""},{"$f":"IF(AF662=\"\",\"\",IF(AF662>Inputs!$D$9,0,1))","v":""},{"$f":"IF(AG662=\"\",\"\",IF(AG662>Inputs!$D$9,0,1))","v":""},{"$f":"IF(AH662=\"\",\"\",IF(AH662>Inputs!$D$9,0,1))","v":""},{"$f":"IF(AI662=\"\",\"\",IF(AI662>Inputs!$D$9,0,1))","v":""},{"$f":"IF(AJ662=\"\",\"\",IF(AJ662>Inputs!$D$9,0,1))","v":""},{"$f":"IF(AK662=\"\",\"\",IF(AK662>Inputs!$D$9,0,1))","v":""},{"$f":"IF(AL662=\"\",\"\",IF(AL662>Inputs!$D$9,0,1))","v":""},"",0,null,"","","","","","","","","","","","","","",null,null,"","","","","","","","","","","","",""]
[null,null,null,null,null,null,null,null,null,null,null,null,null,null,"","","","","","","","","","","","","","","","","","","","","","","","",null,{"$f":"IF(AA663=\"\",\"\",IF(AA663>Inputs!$D$9,0,1))","v":""},{"$f":"IF(AB663=\"\",\"\",IF(AB663>Inputs!$D$9,0,1))","v":""},{"$f":"IF(AC663=\"\",\"\",IF(AC663>Inputs!$D$9,0,1))","v":""},{"$f":"IF(AD663=\"\",\"\",IF(AD663>Inputs!$D$9,0,1))","v":""},{"$f":"IF(AE663=\"\",\"\",IF(AE663>Inputs!$D$9,0,1))","v":""},{"$f":"IF(AF663=\"\",\"\",IF(AF663>Inputs!$D$9,0,1))","v":""},{"$f":"IF(AG663=\"\",\"\",IF(AG663>Inputs!$D$9,0,1))","v":""},{"$f":"IF(AH663=\"\",\"\",IF(AH663>Inputs!$D$9,0,1))","v":""},{"$f":"IF(AI663=\"\",\"\",IF(AI663>Inputs!$D$9,0,1))","v":""},{"$f":"IF(AJ663=\"\",\"\",IF(AJ663>Inputs!$D$9,0,1))","v":""},{"$f":"IF(AK663=\"\",\"\",IF(AK663>Inputs!$D$9,0,1))","v":""},{"$f":"IF(AL663=\"\",\"\",IF(AL663>Inputs!$D$9,0,1))","v":""},"",0,null,"","","","","","","","","","","","","","",null,null,"","","","","","","","","","","","",""]
[null,null,null,null,null,null,null,null,null,null,null,null,null,null,"","","","","","","","","","","","","","","","","","","","","","","","",null,{"$f":"IF(AA664=\"\",\"\",IF(AA664>Inputs!$D$9,0,1))","v":""},{"$f":"IF(AB664=\"\",\"\",IF(AB664>Inputs!$D$9,0,1))","v":""},{"$f":"IF(AC664=\"\",\"\",IF(AC664>Inputs!$D$9,0,1))","v":""},{"$f":"IF(AD664=\"\",\"\",IF(AD664>Inputs!$D$9,0,1))","v":""},{"$f":"IF(AE664=\"\",\"\",IF(AE664>Inputs!$D$9,0,1))","v":""},{"$f":"IF(AF664=\"\",\"\",IF(AF664>Inputs!$D$9,0,1))","v":""},{"$f":"IF(AG664=\"\",\"\",IF(AG664>Inputs!$D$9,0,1))","v":""},{"$f":"IF(AH664=\"\",\"\",IF(AH664>Inputs!$D$9,0,1))","v":""},{"$f":"IF(AI664=\"\",\"\",IF(AI664>Inputs!$D$9,0,1))","v":""},{"$f":"IF(AJ664=\"\",\"\",IF(AJ664>Inputs!$D$9,0,1))","v":""},{"$f":"IF(AK664=\"\",\"\",IF(AK664>Inputs!$D$9,0,1))","v":""},{"$f":"IF(AL664=\"\",\"\",IF(AL664>Inputs!$D$9,0,1))","v":""},"",0,null,"","","","","","","","","","","","","","",null,null,"","","","","","","","","","","","",""]
[null,null,null,null,null,null,null,null,null,null,null,null,null,null,"","","","","","","","","","","","","","","","","","","","","","","","",null,{"$f":"IF(AA665=\"\",\"\",IF(AA665>Inputs!$D$9,0,1))","v":""},{"$f":"IF(AB665=\"\",\"\",IF(AB665>Inputs!$D$9,0,1))","v":""},{"$f":"IF(AC665=\"\",\"\",IF(AC665>Inputs!$D$9,0,1))","v":""},{"$f":"IF(AD665=\"\",\"\",IF(AD665>Inputs!$D$9,0,1))","v":""},{"$f":"IF(AE665=\"\",\"\",IF(AE665>Inputs!$D$9,0,1))","v":""},{"$f":"IF(AF665=\"\",\"\",IF(AF665>Inputs!$D$9,0,1))","v":""},{"$f":"IF(AG665=\"\",\"\",IF(AG665>Inputs!$D$9,0,1))","v":""},{"$f":"IF(AH665=\"\",\"\",IF(AH665>Inputs!$D$9,0,1))","v":""},{"$f":"IF(AI665=\"\",\"\",IF(AI665>Inputs!$D$9,0,1))","v":""},{"$f":"IF(AJ665=\"\",\"\",IF(AJ665>Inputs!$D$9,0,1))","v":""},{"$f":"IF(AK665=\"\",\"\",IF(AK665>Inputs!$D$9,0,1))","v":""},{"$f":"IF(AL665=\"\",\"\",IF(AL665>Inputs!$D$9,0,1))","v":""},"",0,null,"","","","","","","","","","","","","","",null,null,"","","","","","","","","","","","",""]
[null,null,null,null,null,null,null,null,null,null,null,null,null,null,"","","","","","","","","","","","","","","","","","","","","","","","",null,{"$f":"IF(AA666=\"\",\"\",IF(AA666>Inputs!$D$9,0,1))","v":""},{"$f":"IF(AB666=\"\",\"\",IF(AB666>Inputs!$D$9,0,1))","v":""},{"$f":"IF(AC666=\"\",\"\",IF(AC666>Inputs!$D$9,0,1))","v":""},{"$f":"IF(AD666=\"\",\"\",IF(AD666>Inputs!$D$9,0,1))","v":""},{"$f":"IF(AE666=\"\",\"\",IF(AE666>Inputs!$D$9,0,1))","v":""},{"$f":"IF(AF666=\"\",\"\",IF(AF666>Inputs!$D$9,0,1))","v":""},{"$f":"IF(AG666=\"\",\"\",IF(AG666>Inputs!$D$9,0,1))","v":""},{"$f":"IF(AH666=\"\",\"\",IF(AH666>Inputs!$D$9,0,1))","v":""},{"$f":"IF(AI666=\"\",\"\",IF(AI666>Inputs!$D$9,0,1))","v":""},{"$f":"IF(AJ666=\"\",\"\",IF(AJ666>Inputs!$D$9,0,1))","v":""},{"$f":"IF(AK666=\"\",\"\",IF(AK666>Inputs!$D$9,0,1))","v":""},{"$f":"IF(AL666=\"\",\"\",IF(AL666>Inputs!$D$9,0,1))","v":""},"",0,null,"","","","","","","","","","","","","","",null,null,"","","","","","","","","","","","",""]
[null,null,null,null,null,null,null,null,null,null,null,null,null,null,"","","","","","","","","","","","","","","","","","","","","","","","",null,{"$f":"IF(AA667=\"\",\"\",IF(AA667>Inputs!$D$9,0,1))","v":""},{"$f":"IF(AB667=\"\",\"\",IF(AB667>Inputs!$D$9,0,1))","v":""},{"$f":"IF(AC667=\"\",\"\",IF(AC667>Inputs!$D$9,0,1))","v":""},{"$f":"IF(AD667=\"\",\"\",IF(AD667>Inputs!$D$9,0,1))","v":""},{"$f":"IF(AE667=\"\",\"\",IF(AE667>Inputs!$D$9,0,1))","v":""},{"$f":"IF(AF667=\"\",\"\",IF(AF667>Inputs!$D$9,0,1))","v":""},{"$f":"IF(AG667=\"\",\"\",IF(AG667>Inputs!$D$9,0,1))","v":""},{"$f":"IF(AH667=\"\",\"\",IF(AH667>Inputs!$D$9,0,1))","v":""},{"$f":"IF(AI667=\"\",\"\",IF(AI667>Inputs!$D$9,0,1))","v":""},{"$f":"IF(AJ667=\"\",\"\",IF(AJ667>Inputs!$D$9,0,1))","v":""},{"$f":"IF(AK667=\"\",\"\",IF(AK667>Inputs!$D$9,0,1))","v":""},{"$f":"IF(AL667=\"\",\"\",IF(AL667>Inputs!$D$9,0,1))","v":""},"",0,null,"","","","","","","","","","","","","","",null,null,"","","","","","","","","","","","",""]
[null,null,null,null,null,null,null,null,null,null,null,null,null,null,"","","","","","","","","","","","","","","","","","","","","","","","",null,{"$f":"IF(AA668=\"\",\"\",IF(AA668>Inputs!$D$9,0,1))","v":""},{"$f":"IF(AB668=\"\",\"\",IF(AB668>Inputs!$D$9,0,1))","v":""},{"$f":"IF(AC668=\"\",\"\",IF(AC668>Inputs!$D$9,0,1))","v":""},{"$f":"IF(AD668=\"\",\"\",IF(AD668>Inputs!$D$9,0,1))","v":""},{"$f":"IF(AE668=\"\",\"\",IF(AE668>Inputs!$D$9,0,1))","v":""},{"$f":"IF(AF668=\"\",\"\",IF(AF668>Inputs!$D$9,0,1))","v":""},{"$f":"IF(AG668=\"\",\"\",IF(AG668>Inputs!$D$9,0,1))","v":""},{"$f":"IF(AH668=\"\",\"\",IF(AH668>Inputs!$D$9,0,1))","v":""},{"$f":"IF(AI668=\"\",\"\",IF(AI668>Inputs!$D$9,0,1))","v":""},{"$f":"IF(AJ668=\"\",\"\",IF(AJ668>Inputs!$D$9,0,1))","v":""},{"$f":"IF(AK668=\"\",\"\",IF(AK668>Inputs!$D$9,0,1))","v":""},{"$f":"IF(AL668=\"\",\"\",IF(AL668>Inputs!$D$9,0,1))","v":""},"",0,null,"","","","","","","","","","","","","","",null,null,"","","","","","","","","","","","",""]
[null,null,null,null,null,null,null,null,null,null,null,null,null,null,"","","","","","","","","","","","","","","","","","","","","","","","",null,{"$f":"IF(AA669=\"\",\"\",IF(AA669>Inputs!$D$9,0,1))","v":""},{"$f":"IF(AB669=\"\",\"\",IF(AB669>Inputs!$D$9,0,1))","v":""},{"$f":"IF(AC669=\"\",\"\",IF(AC669>Inputs!$D$9,0,1))","v":""},{"$f":"IF(AD669=\"\",\"\",IF(AD669>Inputs!$D$9,0,1))","v":""},{"$f":"IF(AE669=\"\",\"\",IF(AE669>Inputs!$D$9,0,1))","v":""},{"$f":"IF(AF669=\"\",\"\",IF(AF669>Inputs!$D$9,0,1))","v":""},{"$f":"IF(AG669=\"\",\"\",IF(AG669>Inputs!$D$9,0,1))","v":""},{"$f":"IF(AH669=\"\",\"\",IF(AH669>Inputs!$D$9,0,1))","v":""},{"$f":"IF(AI669=\"\",\"\",IF(AI669>Inputs!$D$9,0,1))","v":""},{"$f":"IF(AJ669=\"\",\"\",IF(AJ669>Inputs!$D$9,0,1))","v":""},{"$f":"IF(AK669=\"\",\"\",IF(AK669>Inputs!$D$9,0,1))","v":""},{"$f":"IF(AL669=\"\",\"\",IF(AL669>Inputs!$D$9,0,1))","v":""},"",0,null,"","","","","","","","","","","","","","",null,null,"","","","","","","","","","","","",""]
[null,null,null,null,null,null,null,null,null,null,null,null,null,null,"","","","","","","","","","","","","","","","","","","","","","","","",null,{"$f":"IF(AA670=\"\",\"\",IF(AA670>Inputs!$D$9,0,1))","v":""},{"$f":"IF(AB670=\"\",\"\",IF(AB670>Inputs!$D$9,0,1))","v":""},{"$f":"IF(AC670=\"\",\"\",IF(AC670>Inputs!$D$9,0,1))","v":""},{"$f":"IF(AD670=\"\",\"\",IF(AD670>Inputs!$D$9,0,1))","v":""},{"$f":"IF(AE670=\"\",\"\",IF(AE670>Inputs!$D$9,0,1))","v":""},{"$f":"IF(AF670=\"\",\"\",IF(AF670>Inputs!$D$9,0,1))","v":""},{"$f":"IF(AG670=\"\",\"\",IF(AG670>Inputs!$D$9,0,1))","v":""},{"$f":"IF(AH670=\"\",\"\",IF(AH670>Inputs!$D$9,0,1))","v":""},{"$f":"IF(AI670=\"\",\"\",IF(AI670>Inputs!$D$9,0,1))","v":""},{"$f":"IF(AJ670=\"\",\"\",IF(AJ670>Inputs!$D$9,0,1))","v":""},{"$f":"IF(AK670=\"\",\"\",IF(AK670>Inputs!$D$9,0,1))","v":""},{"$f":"IF(AL670=\"\",\"\",IF(AL670>Inputs!$D$9,0,1))","v":""},"",0,null,"","","","","","","","","","","","","","",null,null,"","","","","","","","","","","","",""]
[null,null,null,null,null,null,null,null,null,null,null,null,null,null,"","","","","","","","","","","","","","","","","","","","","","","","",null,{"$f":"IF(AA671=\"\",\"\",IF(AA671>Inputs!$D$9,0,1))","v":""},{"$f":"IF(AB671=\"\",\"\",IF(AB671>Inputs!$D$9,0,1))","v":""},{"$f":"IF(AC671=\"\",\"\",IF(AC671>Inputs!$D$9,0,1))","v":""},{"$f":"IF(AD671=\"\",\"\",IF(AD671>Inputs!$D$9,0,1))","v":""},{"$f":"IF(AE671=\"\",\"\",IF(AE671>Inputs!$D$9,0,1))","v":""},{"$f":"IF(AF671=\"\",\"\",IF(AF671>Inputs!$D$9,0,1))","v":""},{"$f":"IF(AG671=\"\",\"\",IF(AG671>Inputs!$D$9,0,1))","v":""},{"$f":"IF(AH671=\"\",\"\",IF(AH671>Inputs!$D$9,0,1))","v":""},{"$f":"IF(AI671=\"\",\"\",IF(AI671>Inputs!$D$9,0,1))","v":""},{"$f":"IF(AJ671=\"\",\"\",IF(AJ671>Inputs!$D$9,0,1))","v":""},{"$f":"IF(AK671=\"\",\"\",IF(AK671>Inputs!$D$9,0,1))","v":""},{"$f":"IF(AL671=\"\",\"\",IF(AL671>Inputs!$D$9,0,1))","v":""},"",0,null,"","","","","","","","","","","","","","",null,null,"","","","","","","","","","","","",""]
[null,null,null,null,null,null,null,null,null,null,null,null,null,null,"","","","","","","","","","","","","","","","","","","","","","","","",null,{"$f":"IF(AA672=\"\",\"\",IF(AA672>Inputs!$D$9,0,1))","v":""},{"$f":"IF(AB672=\"\",\"\",IF(AB672>Inputs!$D$9,0,1))","v":""},{"$f":"IF(AC672=\"\",\"\",IF(AC672>Inputs!$D$9,0,1))","v":""},{"$f":"IF(AD672=\"\",\"\",IF(AD672>Inputs!$D$9,0,1))","v":""},{"$f":"IF(AE672=\"\",\"\",IF(AE672>Inputs!$D$9,0,1))","v":""},{"$f":"IF(AF672=\"\",\"\",IF(AF672>Inputs!$D$9,0,1))","v":""},{"$f":"IF(AG672=\"\",\"\",IF(AG672>Inputs!$D$9,0,1))","v":""},{"$f":"IF(AH672=\"\",\"\",IF(AH672>Inputs!$D$9,0,1))","v":""},{"$f":"IF(AI672=\"\",\"\",IF(AI672>Inputs!$D$9,0,1))","v":""},{"$f":"IF(AJ672=\"\",\"\",IF(AJ672>Inputs!$D$9,0,1))","v":""},{"$f":"IF(AK672=\"\",\"\",IF(AK672>Inputs!$D$9,0,1))","v":""},{"$f":"IF(AL672=\"\",\"\",IF(AL672>Inputs!$D$9,0,1))","v":""},"",0,null,"","","","","","","","","","","","","","",null,null,"","","","","","","","","","","","",""]
[null,null,null,null,null,null,null,null,null,null,null,null,null,null,"","","","","","","","","","","","","","","","","","","","","","","","",null,{"$f":"IF(AA673=\"\",\"\",IF(AA673>Inputs!$D$9,0,1))","v":""},{"$f":"IF(AB673=\"\",\"\",IF(AB673>Inputs!$D$9,0,1))","v":""},{"$f":"IF(AC673=\"\",\"\",IF(AC673>Inputs!$D$9,0,1))","v":""},{"$f":"IF(AD673=\"\",\"\",IF(AD673>Inputs!$D$9,0,1))","v":""},{"$f":"IF(AE673=\"\",\"\",IF(AE673>Inputs!$D$9,0,1))","v":""},{"$f":"IF(AF673=\"\",\"\",IF(AF673>Inputs!$D$9,0,1))","v":""},{"$f":"IF(AG673=\"\",\"\",IF(AG673>Inputs!$D$9,0,1))","v":""},{"$f":"IF(AH673=\"\",\"\",IF(AH673>Inputs!$D$9,0,1))","v":""},{"$f":"IF(AI673=\"\",\"\",IF(AI673>Inputs!$D$9,0,1))","v":""},{"$f":"IF(AJ673=\"\",\"\",IF(AJ673>Inputs!$D$9,0,1))","v":""},{"$f":"IF(AK673=\"\",\"\",IF(AK673>Inputs!$D$9,0,1))","v":""},{"$f":"IF(AL673=\"\",\"\",IF(AL673>Inputs!$D$9,0,1))","v":""},"",0,null,"","","","","","","","","","","","","","",null,null,"","","","","","","","","","","","",""]
[null,null,null,null,null,null,null,null,null,null,null,null,null,null,"","","","","","","","","","","","","","","","","","","","","","","","",null,{"$f":"IF(AA674=\"\",\"\",IF(AA674>Inputs!$D$9,0,1))","v":""},{"$f":"IF(AB674=\"\",\"\",IF(AB674>Inputs!$D$9,0,1))","v":""},{"$f":"IF(AC674=\"\",\"\",IF(AC674>Inputs!$D$9,0,1))","v":""},{"$f":"IF(AD674=\"\",\"\",IF(AD674>Inputs!$D$9,0,1))","v":""},{"$f":"IF(AE674=\"\",\"\",IF(AE674>Inputs!$D$9,0,1))","v":""},{"$f":"IF(AF674=\"\",\"\",IF(AF674>Inputs!$D$9,0,1))","v":""},{"$f":"IF(AG674=\"\",\"\",IF(AG674>Inputs!$D$9,0,1))","v":""},{"$f":"IF(AH674=\"\",\"\",IF(AH674>Inputs!$D$9,0,1))","v":""},{"$f":"IF(AI674=\"\",\"\",IF(AI674>Inputs!$D$9,0,1))","v":""},{"$f":"IF(AJ674=\"\",\"\",IF(AJ674>Inputs!$D$9,0,1))","v":""},{"$f":"IF(AK674=\"\",\"\",IF(AK674>Inputs!$D$9,0,1))","v":""},{"$f":"IF(AL674=\"\",\"\",IF(AL674>Inputs!$D$9,0,1))","v":""},{"$f":"IF(COUNT(AN674:AY674)=0,\"\",SUM(AN674:AY674)/COUNT(AN674:AY674))","v":""},0,null,"","","","","","","","","","","","","","",null,null,"","","","","","","","","","","","",""]
[null,null,null,null,null,null,null,null,null,null,null,null,null,null,"","","","","","","","","","","","",{"$f":"IF($A675=\"\",\"\",IF(ISERROR(RANK(O675,$O$2:$O$1000,0)),\"\",RANK(O675,$O$2:$O$1000,0)))","v":""},{"$f":"IF($A675=\"\",\"\",IF(ISERROR(RANK(P675,$P$2:$P$1000,0)),\"\",RANK(P675,$P$2:$P$1000,0)))","v":""},{"$f":"IF($A675=\"\",\"\",IF(ISERROR(RANK(Q675,$Q$2:$Q$1000,0)),\"\",RANK(Q675,$Q$2:$Q$1000,0)))","v":""},{"$f":"IF($A675=\"\",\"\",IF(ISERROR(RANK(R675,$R$2:$R$1000,0)),\"\",RANK(R675,$R$2:$R$1000,0)))","v":""},{"$f":"IF($A675=\"\",\"\",IF(ISERROR(RANK(S675,$S$2:$S$1000,0)),\"\",RANK(S675,$S$2:$S$1000,0)))","v":""},{"$f":"IF($A675=\"\",\"\",IF(ISERROR(RANK(T675,$T$2:$T$1000,0)),\"\",RANK(T675,$T$2:$T$1000,0)))","v":""},{"$f":"IF($A675=\"\",\"\",IF(ISERROR(RANK(U675,$U$2:$U$1000,0)),\"\",RANK(U675,$U$2:$U$1000,0)))","v":""},{"$f":"IF($A675=\"\",\"\",IF(ISERROR(RANK(V675,$V$2:$V$1000,0)),\"\",RANK(V675,$V$2:$V$1000,0)))","v":""},{"$f":"IF($A675=\"\",\"\",IF(ISERROR(RANK(W675,$W$2:$W$1000,0)),\"\",RANK(W675,$W$2:$W$1000,0)))","v":""},{"$f":"IF($A675=\"\",\"\",IF(ISERROR(RANK(X675,$X$2:$X$1000,0)),\"\",RANK(X675,$X$2:$X$1000,0)))","v":""},{"$f":"IF($A675=\"\",\"\",IF(ISERROR(RANK(Y675,$Y$2:$Y$1000,0)),\"\",RANK(Y675,$Y$2:$Y$1000,0)))","v":""},{"$f":"IF($A675=\"\",\"\",IF(ISERROR(RANK(Z675,$Z$2:$Z$1000,0)),\"\",RANK(Z675,$Z$2:$Z$1000,0)))","v":""},null,{"$f":"IF(AA675=\"\",\"\",IF(AA675>Inputs!$D$9,0,1))","v":""},{"$f":"IF(AB675=\"\",\"\",IF(AB675>Inputs!$D$9,0,1))","v":""},{"$f":"IF(AC675=\"\",\"\",IF(AC675>Inputs!$D$9,0,1))","v":""},{"$f":"IF(AD675=\"\",\"\",IF(AD675>Inputs!$D$9,0,1))","v":""},{"$f":"IF(AE675=\"\",\"\",IF(AE675>Inputs!$D$9,0,1))","v":""},{"$f":"IF(AF675=\"\",\"\",IF(AF675>Inputs!$D$9,0,1))","v":""},{"$f":"IF(AG675=\"\",\"\",IF(AG675>Inputs!$D$9,0,1))","v":""},{"$f":"IF(AH675=\"\",\"\",IF(AH675>Inputs!$D$9,0,1))","v":""},{"$f":"IF(AI675=\"\",\"\",IF(AI675>Inputs!$D$9,0,1))","v":""},{"$f":"IF(AJ675=\"\",\"\",IF(AJ675>Inputs!$D$9,0,1))","v":""},{"$f":"IF(AK675=\"\",\"\",IF(AK675>Inputs!$D$9,0,1))","v":""},{"$f":"IF(AL675=\"\",\"\",IF(AL675>Inputs!$D$9,0,1))","v":""},"",0,null,"","","","","","","","","","","","","","",null,null,"","","","","","","","","","","","",""]
[null,null,null,null,null,null,null,null,null,null,null,null,null,null,"","","","","","","","","","","","","","","","","","","","","","","","",null,{"$f":"IF(AA676=\"\",\"\",IF(AA676>Inputs!$D$9,0,1))","v":""},{"$f":"IF(AB676=\"\",\"\",IF(AB676>Inputs!$D$9,0,1))","v":""},{"$f":"IF(AC676=\"\",\"\",IF(AC676>Inputs!$D$9,0,1))","v":""},{"$f":"IF(AD676=\"\",\"\",IF(AD676>Inputs!$D$9,0,1))","v":""},{"$f":"IF(AE676=\"\",\"\",IF(AE676>Inputs!$D$9,0,1))","v":""},{"$f":"IF(AF676=\"\",\"\",IF(AF676>Inputs!$D$9,0,1))","v":""},{"$f":"IF(AG676=\"\",\"\",IF(AG676>Inputs!$D$9,0,1))","v":""},{"$f":"IF(AH676=\"\",\"\",IF(AH676>Inputs!$D$9,0,1))","v":""},{"$f":"IF(AI676=\"\",\"\",IF(AI676>Inputs!$D$9,0,1))","v":""},{"$f":"IF(AJ676=\"\",\"\",IF(AJ676>Inputs!$D$9,0,1))","v":""},{"$f":"IF(AK676=\"\",\"\",IF(AK676>Inputs!$D$9,0,1))","v":""},{"$f":"IF(AL676=\"\",\"\",IF(AL676>Inputs!$D$9,0,1))","v":""},"",0,null,"","","","","","","","","","","","","","",null,null,"","","","","","","","","","","","",""]
[null,null,null,null,null,null,null,null,null,null,null,null,null,null,"","","","","","","","","","","","","","","","","","","","","","","","",null,{"$f":"IF(AA677=\"\",\"\",IF(AA677>Inputs!$D$9,0,1))","v":""},{"$f":"IF(AB677=\"\",\"\",IF(AB677>Inputs!$D$9,0,1))","v":""},{"$f":"IF(AC677=\"\",\"\",IF(AC677>Inputs!$D$9,0,1))","v":""},{"$f":"IF(AD677=\"\",\"\",IF(AD677>Inputs!$D$9,0,1))","v":""},{"$f":"IF(AE677=\"\",\"\",IF(AE677>Inputs!$D$9,0,1))","v":""},{"$f":"IF(AF677=\"\",\"\",IF(AF677>Inputs!$D$9,0,1))","v":""},{"$f":"IF(AG677=\"\",\"\",IF(AG677>Inputs!$D$9,0,1))","v":""},{"$f":"IF(AH677=\"\",\"\",IF(AH677>Inputs!$D$9,0,1))","v":""},{"$f":"IF(AI677=\"\",\"\",IF(AI677>Inputs!$D$9,0,1))","v":""},{"$f":"IF(AJ677=\"\",\"\",IF(AJ677>Inputs!$D$9,0,1))","v":""},{"$f":"IF(AK677=\"\",\"\",IF(AK677>Inputs!$D$9,0,1))","v":""},{"$f":"IF(AL677=\"\",\"\",IF(AL677>Inputs!$D$9,0,1))","v":""},"",0,null,"","","","","","","","","","","","","","",null,null,"","","","","","","","","","","","",""]
[null,null,null,null,null,null,null,null,null,null,null,null,null,null,"","","","","","","","","","","","","","","","","","","","","","","","",null,{"$f":"IF(AA678=\"\",\"\",IF(AA678>Inputs!$D$9,0,1))","v":""},{"$f":"IF(AB678=\"\",\"\",IF(AB678>Inputs!$D$9,0,1))","v":""},{"$f":"IF(AC678=\"\",\"\",IF(AC678>Inputs!$D$9,0,1))","v":""},{"$f":"IF(AD678=\"\",\"\",IF(AD678>Inputs!$D$9,0,1))","v":""},{"$f":"IF(AE678=\"\",\"\",IF(AE678>Inputs!$D$9,0,1))","v":""},{"$f":"IF(AF678=\"\",\"\",IF(AF678>Inputs!$D$9,0,1))","v":""},{"$f":"IF(AG678=\"\",\"\",IF(AG678>Inputs!$D$9,0,1))","v":""},{"$f":"IF(AH678=\"\",\"\",IF(AH678>Inputs!$D$9,0,1))","v":""},{"$f":"IF(AI678=\"\",\"\",IF(AI678>Inputs!$D$9,0,1))","v":""},{"$f":"IF(AJ678=\"\",\"\",IF(AJ678>Inputs!$D$9,0,1))","v":""},{"$f":"IF(AK678=\"\",\"\",IF(AK678>Inputs!$D$9,0,1))","v":""},{"$f":"IF(AL678=\"\",\"\",IF(AL678>Inputs!$D$9,0,1))","v":""},"",0,null,"","","","","","","","","","","","","","",null,null,"","","","","","","","","","","","",""]
[null,null,null,null,null,null,null,null,null,null,null,null,null,null,"","","","","","","","","","","","","","","","","","","","","","","","",null,{"$f":"IF(AA679=\"\",\"\",IF(AA679>Inputs!$D$9,0,1))","v":""},{"$f":"IF(AB679=\"\",\"\",IF(AB679>Inputs!$D$9,0,1))","v":""},{"$f":"IF(AC679=\"\",\"\",IF(AC679>Inputs!$D$9,0,1))","v":""},{"$f":"IF(AD679=\"\",\"\",IF(AD679>Inputs!$D$9,0,1))","v":""},{"$f":"IF(AE679=\"\",\"\",IF(AE679>Inputs!$D$9,0,1))","v":""},{"$f":"IF(AF679=\"\",\"\",IF(AF679>Inputs!$D$9,0,1))","v":""},{"$f":"IF(AG679=\"\",\"\",IF(AG679>Inputs!$D$9,0,1))","v":""},{"$f":"IF(AH679=\"\",\"\",IF(AH679>Inputs!$D$9,0,1))","v":""},{"$f":"IF(AI679=\"\",\"\",IF(AI679>Inputs!$D$9,0,1))","v":""},{"$f":"IF(AJ679=\"\",\"\",IF(AJ679>Inputs!$D$9,0,1))","v":""},{"$f":"IF(AK679=\"\",\"\",IF(AK679>Inputs!$D$9,0,1))","v":""},{"$f":"IF(AL679=\"\",\"\",IF(AL679>Inputs!$D$9,0,1))","v":""},"",0,null,"","","","","","","","","","","","","","",null,null,"","","","","","","","","","","","",""]
[null,null,null,null,null,null,null,null,null,null,null,null,null,null,"","","","","","","","","","","","","","","","","","","","","","","","",null,{"$f":"IF(AA680=\"\",\"\",IF(AA680>Inputs!$D$9,0,1))","v":""},{"$f":"IF(AB680=\"\",\"\",IF(AB680>Inputs!$D$9,0,1))","v":""},{"$f":"IF(AC680=\"\",\"\",IF(AC680>Inputs!$D$9,0,1))","v":""},{"$f":"IF(AD680=\"\",\"\",IF(AD680>Inputs!$D$9,0,1))","v":""},{"$f":"IF(AE680=\"\",\"\",IF(AE680>Inputs!$D$9,0,1))","v":""},{"$f":"IF(AF680=\"\",\"\",IF(AF680>Inputs!$D$9,0,1))","v":""},{"$f":"IF(AG680=\"\",\"\",IF(AG680>Inputs!$D$9,0,1))","v":""},{"$f":"IF(AH680=\"\",\"\",IF(AH680>Inputs!$D$9,0,1))","v":""},{"$f":"IF(AI680=\"\",\"\",IF(AI680>Inputs!$D$9,0,1))","v":""},{"$f":"IF(AJ680=\"\",\"\",IF(AJ680>Inputs!$D$9,0,1))","v":""},{"$f":"IF(AK680=\"\",\"\",IF(AK680>Inputs!$D$9,0,1))","v":""},{"$f":"IF(AL680=\"\",\"\",IF(AL680>Inputs!$D$9,0,1))","v":""},"",0,null,"","","","","","","","","","","","","","",null,null,"","","","","","","","","","","","",""]
[null,null,null,null,null,null,null,null,null,null,null,null,null,null,"","","","","","","","","","","","","","","","","","","","","","","","",null,{"$f":"IF(AA681=\"\",\"\",IF(AA681>Inputs!$D$9,0,1))","v":""},{"$f":"IF(AB681=\"\",\"\",IF(AB681>Inputs!$D$9,0,1))","v":""},{"$f":"IF(AC681=\"\",\"\",IF(AC681>Inputs!$D$9,0,1))","v":""},{"$f":"IF(AD681=\"\",\"\",IF(AD681>Inputs!$D$9,0,1))","v":""},{"$f":"IF(AE681=\"\",\"\",IF(AE681>Inputs!$D$9,0,1))","v":""},{"$f":"IF(AF681=\"\",\"\",IF(AF681>Inputs!$D$9,0,1))","v":""},{"$f":"IF(AG681=\"\",\"\",IF(AG681>Inputs!$D$9,0,1))","v":""},{"$f":"IF(AH681=\"\",\"\",IF(AH681>Inputs!$D$9,0,1))","v":""},{"$f":"IF(AI681=\"\",\"\",IF(AI681>Inputs!$D$9,0,1))","v":""},{"$f":"IF(AJ681=\"\",\"\",IF(AJ681>Inputs!$D$9,0,1))","v":""},{"$f":"IF(AK681=\"\",\"\",IF(AK681>Inputs!$D$9,0,1))","v":""},{"$f":"IF(AL681=\"\",\"\",IF(AL681>Inputs!$D$9,0,1))","v":""},"",0,null,"","","","","","","","","","","","","","",null,null,"","","","","","","","","","","","",""]
[null,null,null,null,null,null,null,null,null,null,null,null,null,null,"","","","","","","","","","","","","","","","","","","","","","","","",null,{"$f":"IF(AA682=\"\",\"\",IF(AA682>Inputs!$D$9,0,1))","v":""},{"$f":"IF(AB682=\"\",\"\",IF(AB682>Inputs!$D$9,0,1))","v":""},{"$f":"IF(AC682=\"\",\"\",IF(AC682>Inputs!$D$9,0,1))","v":""},{"$f":"IF(AD682=\"\",\"\",IF(AD682>Inputs!$D$9,0,1))","v":""},{"$f":"IF(AE682=\"\",\"\",IF(AE682>Inputs!$D$9,0,1))","v":""},{"$f":"IF(AF682=\"\",\"\",IF(AF682>Inputs!$D$9,0,1))","v":""},{"$f":"IF(AG682=\"\",\"\",IF(AG682>Inputs!$D$9,0,1))","v":""},{"$f":"IF(AH682=\"\",\"\",IF(AH682>Inputs!$D$9,0,1))","v":""},{"$f":"IF(AI682=\"\",\"\",IF(AI682>Inputs!$D$9,0,1))","v":""},{"$f":"IF(AJ682=\"\",\"\",IF(AJ682>Inputs!$D$9,0,1))","v":""},{"$f":"IF(AK682=\"\",\"\",IF(AK682>Inputs!$D$9,0,1))","v":""},{"$f":"IF(AL682=\"\",\"\",IF(AL682>Inputs!$D$9,0,1))","v":""},"",0,null,"","","","","","","","","","","","","","",null,null,"","","","","","","","","","","","",""]
[null,null,null,null,null,null,null,null,null,null,null,null,null,null,"","","","","","","","","","","","","","","","","","","","","","","","",null,{"$f":"IF(AA683=\"\",\"\",IF(AA683>Inputs!$D$9,0,1))","v":""},{"$f":"IF(AB683=\"\",\"\",IF(AB683>Inputs!$D$9,0,1))","v":""},{"$f":"IF(AC683=\"\",\"\",IF(AC683>Inputs!$D$9,0,1))","v":""},{"$f":"IF(AD683=\"\",\"\",IF(AD683>Inputs!$D$9,0,1))","v":""},{"$f":"IF(AE683=\"\",\"\",IF(AE683>Inputs!$D$9,0,1))","v":""},{"$f":"IF(AF683=\"\",\"\",IF(AF683>Inputs!$D$9,0,1))","v":""},{"$f":"IF(AG683=\"\",\"\",IF(AG683>Inputs!$D$9,0,1))","v":""},{"$f":"IF(AH683=\"\",\"\",IF(AH683>Inputs!$D$9,0,1))","v":""},{"$f":"IF(AI683=\"\",\"\",IF(AI683>Inputs!$D$9,0,1))","v":""},{"$f":"IF(AJ683=\"\",\"\",IF(AJ683>Inputs!$D$9,0,1))","v":""},{"$f":"IF(AK683=\"\",\"\",IF(AK683>Inputs!$D$9,0,1))","v":""},{"$f":"IF(AL683=\"\",\"\",IF(AL683>Inputs!$D$9,0,1))","v":""},"",0,null,"","","","","","","","","","","","","","",null,null,"","","","","","","","","","","","",""]
[null,null,null,null,null,null,null,null,null,null,null,null,null,null,"","","","","","","","","","","","","","","","","","","","","","","","",null,{"$f":"IF(AA684=\"\",\"\",IF(AA684>Inputs!$D$9,0,1))","v":""},{"$f":"IF(AB684=\"\",\"\",IF(AB684>Inputs!$D$9,0,1))","v":""},{"$f":"IF(AC684=\"\",\"\",IF(AC684>Inputs!$D$9,0,1))","v":""},{"$f":"IF(AD684=\"\",\"\",IF(AD684>Inputs!$D$9,0,1))","v":""},{"$f":"IF(AE684=\"\",\"\",IF(AE684>Inputs!$D$9,0,1))","v":""},{"$f":"IF(AF684=\"\",\"\",IF(AF684>Inputs!$D$9,0,1))","v":""},{"$f":"IF(AG684=\"\",\"\",IF(AG684>Inputs!$D$9,0,1))","v":""},{"$f":"IF(AH684=\"\",\"\",IF(AH684>Inputs!$D$9,0,1))","v":""},{"$f":"IF(AI684=\"\",\"\",IF(AI684>Inputs!$D$9,0,1))","v":""},{"$f":"IF(AJ684=\"\",\"\",IF(AJ684>Inputs!$D$9,0,1))","v":""},{"$f":"IF(AK684=\"\",\"\",IF(AK684>Inputs!$D$9,0,1))","v":""},{"$f":"IF(AL684=\"\",\"\",IF(AL684>Inputs!$D$9,0,1))","v":""},"",0,null,"","","","","","","","","","","","","","",null,null,"","","","","","","","","","","","",""]
[null,null,null,null,null,null,null,null,null,null,null,null,null,null,"","","","","","","","","","","","","","","","","","","","","","","","",null,{"$f":"IF(AA685=\"\",\"\",IF(AA685>Inputs!$D$9,0,1))","v":""},{"$f":"IF(AB685=\"\",\"\",IF(AB685>Inputs!$D$9,0,1))","v":""},{"$f":"IF(AC685=\"\",\"\",IF(AC685>Inputs!$D$9,0,1))","v":""},{"$f":"IF(AD685=\"\",\"\",IF(AD685>Inputs!$D$9,0,1))","v":""},{"$f":"IF(AE685=\"\",\"\",IF(AE685>Inputs!$D$9,0,1))","v":""},{"$f":"IF(AF685=\"\",\"\",IF(AF685>Inputs!$D$9,0,1))","v":""},{"$f":"IF(AG685=\"\",\"\",IF(AG685>Inputs!$D$9,0,1))","v":""},{"$f":"IF(AH685=\"\",\"\",IF(AH685>Inputs!$D$9,0,1))","v":""},{"$f":"IF(AI685=\"\",\"\",IF(AI685>Inputs!$D$9,0,1))","v":""},{"$f":"IF(AJ685=\"\",\"\",IF(AJ685>Inputs!$D$9,0,1))","v":""},{"$f":"IF(AK685=\"\",\"\",IF(AK685>Inputs!$D$9,0,1))","v":""},{"$f":"IF(AL685=\"\",\"\",IF(AL685>Inputs!$D$9,0,1))","v":""},"",0,null,"","","","","","","","","","","","","","",null,null,"","","","","","","","","","","","",""]
[null,null,null,null,null,null,null,null,null,null,null,null,null,null,"","","","","","","","","","","","","","","","","","","","","","","","",null,{"$f":"IF(AA686=\"\",\"\",IF(AA686>Inputs!$D$9,0,1))","v":""},{"$f":"IF(AB686=\"\",\"\",IF(AB686>Inputs!$D$9,0,1))","v":""},{"$f":"IF(AC686=\"\",\"\",IF(AC686>Inputs!$D$9,0,1))","v":""},{"$f":"IF(AD686=\"\",\"\",IF(AD686>Inputs!$D$9,0,1))","v":""},{"$f":"IF(AE686=\"\",\"\",IF(AE686>Inputs!$D$9,0,1))","v":""},{"$f":"IF(AF686=\"\",\"\",IF(AF686>Inputs!$D$9,0,1))","v":""},{"$f":"IF(AG686=\"\",\"\",IF(AG686>Inputs!$D$9,0,1))","v":""},{"$f":"IF(AH686=\"\",\"\",IF(AH686>Inputs!$D$9,0,1))","v":""},{"$f":"IF(AI686=\"\",\"\",IF(AI686>Inputs!$D$9,0,1))","v":""},{"$f":"IF(AJ686=\"\",\"\",IF(AJ686>Inputs!$D$9,0,1))","v":""},{"$f":"IF(AK686=\"\",\"\",IF(AK686>Inputs!$D$9,0,1))","v":""},{"$f":"IF(AL686=\"\",\"\",IF(AL686>Inputs!$D$9,0,1))","v":""},"",0,null,"","","","","","","","","","","","","","",null,null,"","","","","","","","","","","","",""]
[null,null,null,null,null,null,null,null,null,null,null,null,null,null,"","","","","","","","","","","","","","","","","","","","","","","","",null,{"$f":"IF(AA687=\"\",\"\",IF(AA687>Inputs!$D$9,0,1))","v":""},{"$f":"IF(AB687=\"\",\"\",IF(AB687>Inputs!$D$9,0,1))","v":""},{"$f":"IF(AC687=\"\",\"\",IF(AC687>Inputs!$D$9,0,1))","v":""},{"$f":"IF(AD687=\"\",\"\",IF(AD687>Inputs!$D$9,0,1))","v":""},{"$f":"IF(AE687=\"\",\"\",IF(AE687>Inputs!$D$9,0,1))","v":""},{"$f":"IF(AF687=\"\",\"\",IF(AF687>Inputs!$D$9,0,1))","v":""},{"$f":"IF(AG687=\"\",\"\",IF(AG687>Inputs!$D$9,0,1))","v":""},{"$f":"IF(AH687=\"\",\"\",IF(AH687>Inputs!$D$9,0,1))","v":""},{"$f":"IF(AI687=\"\",\"\",IF(AI687>Inputs!$D$9,0,1))","v":""},{"$f":"IF(AJ687=\"\",\"\",IF(AJ687>Inputs!$D$9,0,1))","v":""},{"$f":"IF(AK687=\"\",\"\",IF(AK687>Inputs!$D$9,0,1))","v":""},{"$f":"IF(AL687=\"\",\"\",IF(AL687>Inputs!$D$9,0,1))","v":""},"",0,null,"","","","","","","","","","","","","","",null,null,"","","","","","","","","","","","",""]
[null,null,null,null,null,null,null,null,null,null,null,null,null,null,"","","","","","","","","","","","","","","","","","","","","","","","",null,{"$f":"IF(AA688=\"\",\"\",IF(AA688>Inputs!$D$9,0,1))","v":""},{"$f":"IF(AB688=\"\",\"\",IF(AB688>Inputs!$D$9,0,1))","v":""},{"$f":"IF(AC688=\"\",\"\",IF(AC688>Inputs!$D$9,0,1))","v":""},{"$f":"IF(AD688=\"\",\"\",IF(AD688>Inputs!$D$9,0,1))","v":""},{"$f":"IF(AE688=\"\",\"\",IF(AE688>Inputs!$D$9,0,1))","v":""},{"$f":"IF(AF688=\"\",\"\",IF(AF688>Inputs!$D$9,0,1))","v":""},{"$f":"IF(AG688=\"\",\"\",IF(AG688>Inputs!$D$9,0,1))","v":""},{"$f":"IF(AH688=\"\",\"\",IF(AH688>Inputs!$D$9,0,1))","v":""},{"$f":"IF(AI688=\"\",\"\",IF(AI688>Inputs!$D$9,0,1))","v":""},{"$f":"IF(AJ688=\"\",\"\",IF(AJ688>Inputs!$D$9,0,1))","v":""},{"$f":"IF(AK688=\"\",\"\",IF(AK688>Inputs!$D$9,0,1))","v":""},{"$f":"IF(AL688=\"\",\"\",IF(AL688>Inputs!$D$9,0,1))","v":""},"",0,null,"","","","","","","","","","","","","","",null,null,"","","","","","","","","","","","",""]
[null,null,null,null,null,null,null,null,null,null,null,null,null,null,"","","","","","","","","","","","","","","","","","","","","","","","",null,{"$f":"IF(AA689=\"\",\"\",IF(AA689>Inputs!$D$9,0,1))","v":""},{"$f":"IF(AB689=\"\",\"\",IF(AB689>Inputs!$D$9,0,1))","v":""},{"$f":"IF(AC689=\"\",\"\",IF(AC689>Inputs!$D$9,0,1))","v":""},{"$f":"IF(AD689=\"\",\"\",IF(AD689>Inputs!$D$9,0,1))","v":""},{"$f":"IF(AE689=\"\",\"\",IF(AE689>Inputs!$D$9,0,1))","v":""},{"$f":"IF(AF689=\"\",\"\",IF(AF689>Inputs!$D$9,0,1))","v":""},{"$f":"IF(AG689=\"\",\"\",IF(AG689>Inputs!$D$9,0,1))","v":""},{"$f":"IF(AH689=\"\",\"\",IF(AH689>Inputs!$D$9,0,1))","v":""},{"$f":"IF(AI689=\"\",\"\",IF(AI689>Inputs!$D$9,0,1))","v":""},{"$f":"IF(AJ689=\"\",\"\",IF(AJ689>Inputs!$D$9,0,1))","v":""},{"$f":"IF(AK689=\"\",\"\",IF(AK689>Inputs!$D$9,0,1))","v":""},{"$f":"IF(AL689=\"\",\"\",IF(AL689>Inputs!$D$9,0,1))","v":""},"",0,null,"","","","","","","","","","","","","","",null,null,"","","","","","","","","","","","",""]
[null,null,null,null,null,null,null,null,null,null,null,null,null,null,"","","","","","","","","","","","","","","","","","","","","","","","",null,{"$f":"IF(AA690=\"\",\"\",IF(AA690>Inputs!$D$9,0,1))","v":""},{"$f":"IF(AB690=\"\",\"\",IF(AB690>Inputs!$D$9,0,1))","v":""},{"$f":"IF(AC690=\"\",\"\",IF(AC690>Inputs!$D$9,0,1))","v":""},{"$f":"IF(AD690=\"\",\"\",IF(AD690>Inputs!$D$9,0,1))","v":""},{"$f":"IF(AE690=\"\",\"\",IF(AE690>Inputs!$D$9,0,1))","v":""},{"$f":"IF(AF690=\"\",\"\",IF(AF690>Inputs!$D$9,0,1))","v":""},{"$f":"IF(AG690=\"\",\"\",IF(AG690>Inputs!$D$9,0,1))","v":""},{"$f":"IF(AH690=\"\",\"\",IF(AH690>Inputs!$D$9,0,1))","v":""},{"$f":"IF(AI690=\"\",\"\",IF(AI690>Inputs!$D$9,0,1))","v":""},{"$f":"IF(AJ690=\"\",\"\",IF(AJ690>Inputs!$D$9,0,1))","v":""},{"$f":"IF(AK690=\"\",\"\",IF(AK690>Inputs!$D$9,0,1))","v":""},{"$f":"IF(AL690=\"\",\"\",IF(AL690>Inputs!$D$9,0,1))","v":""},"",0,null,"","","","","","","","","","","","","","",null,null,"","","","","","","","","","","","",""]
[null,null,null,null,null,null,null,null,null,null,null,null,null,null,"","","","","","","","","","","","","","","","","","","","","","","","",null,{"$f":"IF(AA691=\"\",\"\",IF(AA691>Inputs!$D$9,0,1))","v":""},{"$f":"IF(AB691=\"\",\"\",IF(AB691>Inputs!$D$9,0,1))","v":""},{"$f":"IF(AC691=\"\",\"\",IF(AC691>Inputs!$D$9,0,1))","v":""},{"$f":"IF(AD691=\"\",\"\",IF(AD691>Inputs!$D$9,0,1))","v":""},{"$f":"IF(AE691=\"\",\"\",IF(AE691>Inputs!$D$9,0,1))","v":""},{"$f":"IF(AF691=\"\",\"\",IF(AF691>Inputs!$D$9,0,1))","v":""},{"$f":"IF(AG691=\"\",\"\",IF(AG691>Inputs!$D$9,0,1))","v":""},{"$f":"IF(AH691=\"\",\"\",IF(AH691>Inputs!$D$9,0,1))","v":""},{"$f":"IF(AI691=\"\",\"\",IF(AI691>Inputs!$D$9,0,1))","v":""},{"$f":"IF(AJ691=\"\",\"\",IF(AJ691>Inputs!$D$9,0,1))","v":""},{"$f":"IF(AK691=\"\",\"\",IF(AK691>Inputs!$D$9,0,1))","v":""},{"$f":"IF(AL691=\"\",\"\",IF(AL691>Inputs!$D$9,0,1))","v":""},"",0,null,"","","","","","","","","","","","","","",null,null,"","","","","","","","","","","","",""]
[null,null,null,null,null,null,null,null,null,null,null,null,null,null,"","","","","","","","","","","","","","","","","","","","","","","","",null,{"$f":"IF(AA692=\"\",\"\",IF(AA692>Inputs!$D$9,0,1))","v":""},{"$f":"IF(AB692=\"\",\"\",IF(AB692>Inputs!$D$9,0,1))","v":""},{"$f":"IF(AC692=\"\",\"\",IF(AC692>Inputs!$D$9,0,1))","v":""},{"$f":"IF(AD692=\"\",\"\",IF(AD692>Inputs!$D$9,0,1))","v":""},{"$f":"IF(AE692=\"\",\"\",IF(AE692>Inputs!$D$9,0,1))","v":""},{"$f":"IF(AF692=\"\",\"\",IF(AF692>Inputs!$D$9,0,1))","v":""},{"$f":"IF(AG692=\"\",\"\",IF(AG692>Inputs!$D$9,0,1))","v":""},{"$f":"IF(AH692=\"\",\"\",IF(AH692>Inputs!$D$9,0,1))","v":""},{"$f":"IF(AI692=\"\",\"\",IF(AI692>Inputs!$D$9,0,1))","v":""},{"$f":"IF(AJ692=\"\",\"\",IF(AJ692>Inputs!$D$9,0,1))","v":""},{"$f":"IF(AK692=\"\",\"\",IF(AK692>Inputs!$D$9,0,1))","v":""},{"$f":"IF(AL692=\"\",\"\",IF(AL692>Inputs!$D$9,0,1))","v":""},"",0,null,"","","","","","","","","","","","","","",null,null,"","","","","","","","","","","","",""]
[null,null,null,null,null,null,null,null,null,null,null,null,null,null,"","","","","","","","","","","","","","","","","","","","","","","","",null,{"$f":"IF(AA693=\"\",\"\",IF(AA693>Inputs!$D$9,0,1))","v":""},{"$f":"IF(AB693=\"\",\"\",IF(AB693>Inputs!$D$9,0,1))","v":""},{"$f":"IF(AC693=\"\",\"\",IF(AC693>Inputs!$D$9,0,1))","v":""},{"$f":"IF(AD693=\"\",\"\",IF(AD693>Inputs!$D$9,0,1))","v":""},{"$f":"IF(AE693=\"\",\"\",IF(AE693>Inputs!$D$9,0,1))","v":""},{"$f":"IF(AF693=\"\",\"\",IF(AF693>Inputs!$D$9,0,1))","v":""},{"$f":"IF(AG693=\"\",\"\",IF(AG693>Inputs!$D$9,0,1))","v":""},{"$f":"IF(AH693=\"\",\"\",IF(AH693>Inputs!$D$9,0,1))","v":""},{"$f":"IF(AI693=\"\",\"\",IF(AI693>Inputs!$D$9,0,1))","v":""},{"$f":"IF(AJ693=\"\",\"\",IF(AJ693>Inputs!$D$9,0,1))","v":""},{"$f":"IF(AK693=\"\",\"\",IF(AK693>Inputs!$D$9,0,1))","v":""},{"$f":"IF(AL693=\"\",\"\",IF(AL693>Inputs!$D$9,0,1))","v":""},"",0,null,"","","","","","","","","","","","","","",null,null,"","","","","","","","","","","","",""]
[null,null,null,null,null,null,null,null,null,null,null,null,null,null,"","","","","","","","","","","","","","","","","","","","","","","","",null,{"$f":"IF(AA694=\"\",\"\",IF(AA694>Inputs!$D$9,0,1))","v":""},{"$f":"IF(AB694=\"\",\"\",IF(AB694>Inputs!$D$9,0,1))","v":""},{"$f":"IF(AC694=\"\",\"\",IF(AC694>Inputs!$D$9,0,1))","v":""},{"$f":"IF(AD694=\"\",\"\",IF(AD694>Inputs!$D$9,0,1))","v":""},{"$f":"IF(AE694=\"\",\"\",IF(AE694>Inputs!$D$9,0,1))","v":""},{"$f":"IF(AF694=\"\",\"\",IF(AF694>Inputs!$D$9,0,1))","v":""},{"$f":"IF(AG694=\"\",\"\",IF(AG694>Inputs!$D$9,0,1))","v":""},{"$f":"IF(AH694=\"\",\"\",IF(AH694>Inputs!$D$9,0,1))","v":""},{"$f":"IF(AI694=\"\",\"\",IF(AI694>Inputs!$D$9,0,1))","v":""},{"$f":"IF(AJ694=\"\",\"\",IF(AJ694>Inputs!$D$9,0,1))","v":""},{"$f":"IF(AK694=\"\",\"\",IF(AK694>Inputs!$D$9,0,1))","v":""},{"$f":"IF(AL694=\"\",\"\",IF(AL694>Inputs!$D$9,0,1))","v":""},"",0,null,"","","","","","","","","","","","","","",null,null,"","","","","","","","","","","","",""]
[null,null,null,null,null,null,null,null,null,null,null,null,null,null,"","","","","","","","","","","","","","","","","","","","","","","","",null,{"$f":"IF(AA695=\"\",\"\",IF(AA695>Inputs!$D$9,0,1))","v":""},{"$f":"IF(AB695=\"\",\"\",IF(AB695>Inputs!$D$9,0,1))","v":""},{"$f":"IF(AC695=\"\",\"\",IF(AC695>Inputs!$D$9,0,1))","v":""},{"$f":"IF(AD695=\"\",\"\",IF(AD695>Inputs!$D$9,0,1))","v":""},{"$f":"IF(AE695=\"\",\"\",IF(AE695>Inputs!$D$9,0,1))","v":""},{"$f":"IF(AF695=\"\",\"\",IF(AF695>Inputs!$D$9,0,1))","v":""},{"$f":"IF(AG695=\"\",\"\",IF(AG695>Inputs!$D$9,0,1))","v":""},{"$f":"IF(AH695=\"\",\"\",IF(AH695>Inputs!$D$9,0,1))","v":""},{"$f":"IF(AI695=\"\",\"\",IF(AI695>Inputs!$D$9,0,1))","v":""},{"$f":"IF(AJ695=\"\",\"\",IF(AJ695>Inputs!$D$9,0,1))","v":""},{"$f":"IF(AK695=\"\",\"\",IF(AK695>Inputs!$D$9,0,1))","v":""},{"$f":"IF(AL695=\"\",\"\",IF(AL695>Inputs!$D$9,0,1))","v":""},"",0,null,"","","","","","","","","","","","","","",null,null,"","","","","","","","","","","","",""]
[null,null,null,null,null,null,null,null,null,null,null,null,null,null,"","","","","","","","","","","","","","","","","","","","","","","","",null,{"$f":"IF(AA696=\"\",\"\",IF(AA696>Inputs!$D$9,0,1))","v":""},{"$f":"IF(AB696=\"\",\"\",IF(AB696>Inputs!$D$9,0,1))","v":""},{"$f":"IF(AC696=\"\",\"\",IF(AC696>Inputs!$D$9,0,1))","v":""},{"$f":"IF(AD696=\"\",\"\",IF(AD696>Inputs!$D$9,0,1))","v":""},{"$f":"IF(AE696=\"\",\"\",IF(AE696>Inputs!$D$9,0,1))","v":""},{"$f":"IF(AF696=\"\",\"\",IF(AF696>Inputs!$D$9,0,1))","v":""},{"$f":"IF(AG696=\"\",\"\",IF(AG696>Inputs!$D$9,0,1))","v":""},{"$f":"IF(AH696=\"\",\"\",IF(AH696>Inputs!$D$9,0,1))","v":""},{"$f":"IF(AI696=\"\",\"\",IF(AI696>Inputs!$D$9,0,1))","v":""},{"$f":"IF(AJ696=\"\",\"\",IF(AJ696>Inputs!$D$9,0,1))","v":""},{"$f":"IF(AK696=\"\",\"\",IF(AK696>Inputs!$D$9,0,1))","v":""},{"$f":"IF(AL696=\"\",\"\",IF(AL696>Inputs!$D$9,0,1))","v":""},"",0,null,"","","","","","","","","","","","","","",null,null,"","","","","","","","","","","","",""]
[null,null,null,null,null,null,null,null,null,null,null,null,null,null,"","","","","","","","","","","","","","","","","","","","","","","","",null,{"$f":"IF(AA697=\"\",\"\",IF(AA697>Inputs!$D$9,0,1))","v":""},{"$f":"IF(AB697=\"\",\"\",IF(AB697>Inputs!$D$9,0,1))","v":""},{"$f":"IF(AC697=\"\",\"\",IF(AC697>Inputs!$D$9,0,1))","v":""},{"$f":"IF(AD697=\"\",\"\",IF(AD697>Inputs!$D$9,0,1))","v":""},{"$f":"IF(AE697=\"\",\"\",IF(AE697>Inputs!$D$9,0,1))","v":""},{"$f":"IF(AF697=\"\",\"\",IF(AF697>Inputs!$D$9,0,1))","v":""},{"$f":"IF(AG697=\"\",\"\",IF(AG697>Inputs!$D$9,0,1))","v":""},{"$f":"IF(AH697=\"\",\"\",IF(AH697>Inputs!$D$9,0,1))","v":""},{"$f":"IF(AI697=\"\",\"\",IF(AI697>Inputs!$D$9,0,1))","v":""},{"$f":"IF(AJ697=\"\",\"\",IF(AJ697>Inputs!$D$9,0,1))","v":""},{"$f":"IF(AK697=\"\",\"\",IF(AK697>Inputs!$D$9,0,1))","v":""},{"$f":"IF(AL697=\"\",\"\",IF(AL697>Inputs!$D$9,0,1))","v":""},"",0,null,"","","","","","","","","","","","","","",null,null,"","","","","","","","","","","","",""]
[null,null,null,null,null,null,null,null,null,null,null,null,null,null,"","","","","","","","","","","","","","","","","","","","","","","","",null,{"$f":"IF(AA698=\"\",\"\",IF(AA698>Inputs!$D$9,0,1))","v":""},{"$f":"IF(AB698=\"\",\"\",IF(AB698>Inputs!$D$9,0,1))","v":""},{"$f":"IF(AC698=\"\",\"\",IF(AC698>Inputs!$D$9,0,1))","v":""},{"$f":"IF(AD698=\"\",\"\",IF(AD698>Inputs!$D$9,0,1))","v":""},{"$f":"IF(AE698=\"\",\"\",IF(AE698>Inputs!$D$9,0,1))","v":""},{"$f":"IF(AF698=\"\",\"\",IF(AF698>Inputs!$D$9,0,1))","v":""},{"$f":"IF(AG698=\"\",\"\",IF(AG698>Inputs!$D$9,0,1))","v":""},{"$f":"IF(AH698=\"\",\"\",IF(AH698>Inputs!$D$9,0,1))","v":""},{"$f":"IF(AI698=\"\",\"\",IF(AI698>Inputs!$D$9,0,1))","v":""},{"$f":"IF(AJ698=\"\",\"\",IF(AJ698>Inputs!$D$9,0,1))","v":""},{"$f":"IF(AK698=\"\",\"\",IF(AK698>Inputs!$D$9,0,1))","v":""},{"$f":"IF(AL698=\"\",\"\",IF(AL698>Inputs!$D$9,0,1))","v":""},"",0,null,"","","","","","","","","","","","","","",null,null,"","","","","","","","","","","","",""]
[null,null,null,null,null,null,null,null,null,null,null,null,null,null,"","","","","","","","","","","","","","","","","","","","","","","","",null,{"$f":"IF(AA699=\"\",\"\",IF(AA699>Inputs!$D$9,0,1))","v":""},{"$f":"IF(AB699=\"\",\"\",IF(AB699>Inputs!$D$9,0,1))","v":""},{"$f":"IF(AC699=\"\",\"\",IF(AC699>Inputs!$D$9,0,1))","v":""},{"$f":"IF(AD699=\"\",\"\",IF(AD699>Inputs!$D$9,0,1))","v":""},{"$f":"IF(AE699=\"\",\"\",IF(AE699>Inputs!$D$9,0,1))","v":""},{"$f":"IF(AF699=\"\",\"\",IF(AF699>Inputs!$D$9,0,1))","v":""},{"$f":"IF(AG699=\"\",\"\",IF(AG699>Inputs!$D$9,0,1))","v":""},{"$f":"IF(AH699=\"\",\"\",IF(AH699>Inputs!$D$9,0,1))","v":""},{"$f":"IF(AI699=\"\",\"\",IF(AI699>Inputs!$D$9,0,1))","v":""},{"$f":"IF(AJ699=\"\",\"\",IF(AJ699>Inputs!$D$9,0,1))","v":""},{"$f":"IF(AK699=\"\",\"\",IF(AK699>Inputs!$D$9,0,1))","v":""},{"$f":"IF(AL699=\"\",\"\",IF(AL699>Inputs!$D$9,0,1))","v":""},"",0,null,"","","","","","","","","","","","","","",null,null,"","","","","","","","","","","","",""]
[null,null,null,null,null,null,null,null,null,null,null,null,null,null,"","","","","","","","","","","","","","","","","","","","","","","","",null,{"$f":"IF(AA700=\"\",\"\",IF(AA700>Inputs!$D$9,0,1))","v":""},{"$f":"IF(AB700=\"\",\"\",IF(AB700>Inputs!$D$9,0,1))","v":""},{"$f":"IF(AC700=\"\",\"\",IF(AC700>Inputs!$D$9,0,1))","v":""},{"$f":"IF(AD700=\"\",\"\",IF(AD700>Inputs!$D$9,0,1))","v":""},{"$f":"IF(AE700=\"\",\"\",IF(AE700>Inputs!$D$9,0,1))","v":""},{"$f":"IF(AF700=\"\",\"\",IF(AF700>Inputs!$D$9,0,1))","v":""},{"$f":"IF(AG700=\"\",\"\",IF(AG700>Inputs!$D$9,0,1))","v":""},{"$f":"IF(AH700=\"\",\"\",IF(AH700>Inputs!$D$9,0,1))","v":""},{"$f":"IF(AI700=\"\",\"\",IF(AI700>Inputs!$D$9,0,1))","v":""},{"$f":"IF(AJ700=\"\",\"\",IF(AJ700>Inputs!$D$9,0,1))","v":""},{"$f":"IF(AK700=\"\",\"\",IF(AK700>Inputs!$D$9,0,1))","v":""},{"$f":"IF(AL700=\"\",\"\",IF(AL700>Inputs!$D$9,0,1))","v":""},"",0,null,"","","","","","","","","","","","","","",null,null,"","","","","","","","","","","","",""]
[null,null,null,null,null,null,null,null,null,null,null,null,null,null,"","","","","","","","","","","","","","","","","","","","","","","","",null,{"$f":"IF(AA701=\"\",\"\",IF(AA701>Inputs!$D$9,0,1))","v":""},{"$f":"IF(AB701=\"\",\"\",IF(AB701>Inputs!$D$9,0,1))","v":""},{"$f":"IF(AC701=\"\",\"\",IF(AC701>Inputs!$D$9,0,1))","v":""},{"$f":"IF(AD701=\"\",\"\",IF(AD701>Inputs!$D$9,0,1))","v":""},{"$f":"IF(AE701=\"\",\"\",IF(AE701>Inputs!$D$9,0,1))","v":""},{"$f":"IF(AF701=\"\",\"\",IF(AF701>Inputs!$D$9,0,1))","v":""},{"$f":"IF(AG701=\"\",\"\",IF(AG701>Inputs!$D$9,0,1))","v":""},{"$f":"IF(AH701=\"\",\"\",IF(AH701>Inputs!$D$9,0,1))","v":""},{"$f":"IF(AI701=\"\",\"\",IF(AI701>Inputs!$D$9,0,1))","v":""},{"$f":"IF(AJ701=\"\",\"\",IF(AJ701>Inputs!$D$9,0,1))","v":""},{"$f":"IF(AK701=\"\",\"\",IF(AK701>Inputs!$D$9,0,1))","v":""},{"$f":"IF(AL701=\"\",\"\",IF(AL701>Inputs!$D$9,0,1))","v":""},"",0,null,"","","","","","","","","","","","","","",null,null,"","","","","","","","","","","","",""]
[null,null,null,null,null,null,null,null,null,null,null,null,null,null,"","","","","","","","","","","","","","","","","","","","","","","","",null,{"$f":"IF(AA702=\"\",\"\",IF(AA702>Inputs!$D$9,0,1))","v":""},{"$f":"IF(AB702=\"\",\"\",IF(AB702>Inputs!$D$9,0,1))","v":""},{"$f":"IF(AC702=\"\",\"\",IF(AC702>Inputs!$D$9,0,1))","v":""},{"$f":"IF(AD702=\"\",\"\",IF(AD702>Inputs!$D$9,0,1))","v":""},{"$f":"IF(AE702=\"\",\"\",IF(AE702>Inputs!$D$9,0,1))","v":""},{"$f":"IF(AF702=\"\",\"\",IF(AF702>Inputs!$D$9,0,1))","v":""},{"$f":"IF(AG702=\"\",\"\",IF(AG702>Inputs!$D$9,0,1))","v":""},{"$f":"IF(AH702=\"\",\"\",IF(AH702>Inputs!$D$9,0,1))","v":""},{"$f":"IF(AI702=\"\",\"\",IF(AI702>Inputs!$D$9,0,1))","v":""},{"$f":"IF(AJ702=\"\",\"\",IF(AJ702>Inputs!$D$9,0,1))","v":""},{"$f":"IF(AK702=\"\",\"\",IF(AK702>Inputs!$D$9,0,1))","v":""},{"$f":"IF(AL702=\"\",\"\",IF(AL702>Inputs!$D$9,0,1))","v":""},"",0,null,"","","","","","","","","","","","","","",null,null,"","","","","","","","","","","","",""]
[null,null,null,null,null,null,null,null,null,null,null,null,null,null,"","","","","","","","","","","","","","","","","","","","","","","","",null,{"$f":"IF(AA703=\"\",\"\",IF(AA703>Inputs!$D$9,0,1))","v":""},{"$f":"IF(AB703=\"\",\"\",IF(AB703>Inputs!$D$9,0,1))","v":""},{"$f":"IF(AC703=\"\",\"\",IF(AC703>Inputs!$D$9,0,1))","v":""},{"$f":"IF(AD703=\"\",\"\",IF(AD703>Inputs!$D$9,0,1))","v":""},{"$f":"IF(AE703=\"\",\"\",IF(AE703>Inputs!$D$9,0,1))","v":""},{"$f":"IF(AF703=\"\",\"\",IF(AF703>Inputs!$D$9,0,1))","v":""},{"$f":"IF(AG703=\"\",\"\",IF(AG703>Inputs!$D$9,0,1))","v":""},{"$f":"IF(AH703=\"\",\"\",IF(AH703>Inputs!$D$9,0,1))","v":""},{"$f":"IF(AI703=\"\",\"\",IF(AI703>Inputs!$D$9,0,1))","v":""},{"$f":"IF(AJ703=\"\",\"\",IF(AJ703>Inputs!$D$9,0,1))","v":""},{"$f":"IF(AK703=\"\",\"\",IF(AK703>Inputs!$D$9,0,1))","v":""},{"$f":"IF(AL703=\"\",\"\",IF(AL703>Inputs!$D$9,0,1))","v":""},"",0,null,"","","","","","","","","","","","","","",null,null,"","","","","","","","","","","","",""]
[null,null,null,null,null,null,null,null,null,null,null,null,null,null,"","","","","","","","","","","","","","","","","","","","","","","","",null,{"$f":"IF(AA704=\"\",\"\",IF(AA704>Inputs!$D$9,0,1))","v":""},{"$f":"IF(AB704=\"\",\"\",IF(AB704>Inputs!$D$9,0,1))","v":""},{"$f":"IF(AC704=\"\",\"\",IF(AC704>Inputs!$D$9,0,1))","v":""},{"$f":"IF(AD704=\"\",\"\",IF(AD704>Inputs!$D$9,0,1))","v":""},{"$f":"IF(AE704=\"\",\"\",IF(AE704>Inputs!$D$9,0,1))","v":""},{"$f":"IF(AF704=\"\",\"\",IF(AF704>Inputs!$D$9,0,1))","v":""},{"$f":"IF(AG704=\"\",\"\",IF(AG704>Inputs!$D$9,0,1))","v":""},{"$f":"IF(AH704=\"\",\"\",IF(AH704>Inputs!$D$9,0,1))","v":""},{"$f":"IF(AI704=\"\",\"\",IF(AI704>Inputs!$D$9,0,1))","v":""},{"$f":"IF(AJ704=\"\",\"\",IF(AJ704>Inputs!$D$9,0,1))","v":""},{"$f":"IF(AK704=\"\",\"\",IF(AK704>Inputs!$D$9,0,1))","v":""},{"$f":"IF(AL704=\"\",\"\",IF(AL704>Inputs!$D$9,0,1))","v":""},"",0,null,"","","","","","","","","","","","","","",null,null,"","","","","","","","","","","","",""]
[null,null,null,null,null,null,null,null,null,null,null,null,null,null,"","","","","","","","","","","","","","","","","","","","","","","","",null,{"$f":"IF(AA705=\"\",\"\",IF(AA705>Inputs!$D$9,0,1))","v":""},{"$f":"IF(AB705=\"\",\"\",IF(AB705>Inputs!$D$9,0,1))","v":""},{"$f":"IF(AC705=\"\",\"\",IF(AC705>Inputs!$D$9,0,1))","v":""},{"$f":"IF(AD705=\"\",\"\",IF(AD705>Inputs!$D$9,0,1))","v":""},{"$f":"IF(AE705=\"\",\"\",IF(AE705>Inputs!$D$9,0,1))","v":""},{"$f":"IF(AF705=\"\",\"\",IF(AF705>Inputs!$D$9,0,1))","v":""},{"$f":"IF(AG705=\"\",\"\",IF(AG705>Inputs!$D$9,0,1))","v":""},{"$f":"IF(AH705=\"\",\"\",IF(AH705>Inputs!$D$9,0,1))","v":""},{"$f":"IF(AI705=\"\",\"\",IF(AI705>Inputs!$D$9,0,1))","v":""},{"$f":"IF(AJ705=\"\",\"\",IF(AJ705>Inputs!$D$9,0,1))","v":""},{"$f":"IF(AK705=\"\",\"\",IF(AK705>Inputs!$D$9,0,1))","v":""},{"$f":"IF(AL705=\"\",\"\",IF(AL705>Inputs!$D$9,0,1))","v":""},"",0,null,"","","","","","","","","","","","","","",null,null,"","","","","","","","","","","","",""]
[null,null,null,null,null,null,null,null,null,null,null,null,null,null,"",{"$f":"IF(A706=\"\",\"\",IF(ISERROR(1+D706),\"\",IF(ISERROR(((1+D706/100)*(1+E706/100)*(1+F706/100)*(1+G706/100)*(1+H706/100)*(1+I706/100)*(1+J706/100)*(1+K706/100)*(1+L706/100)*(1+M706/100)*(1+N706/100))^(1/11)-1),\"\",((1+D706/100)*(1+E706/100)*(1+F706/100)*(1+G706/100)*(1+H706/100)*(1+I706/100)*(1+J706/100)*(1+K706/100)*(1+L706/100)*(1+M706/100)*(1+N706/100))^(1/11)-1)))","v":""},"","","","","","","","","","","","","","","","","","","","","","",null,{"$f":"IF(AA706=\"\",\"\",IF(AA706>Inputs!$D$9,0,1))","v":""},{"$f":"IF(AB706=\"\",\"\",IF(AB706>Inputs!$D$9,0,1))","v":""},{"$f":"IF(AC706=\"\",\"\",IF(AC706>Inputs!$D$9,0,1))","v":""},{"$f":"IF(AD706=\"\",\"\",IF(AD706>Inputs!$D$9,0,1))","v":""},{"$f":"IF(AE706=\"\",\"\",IF(AE706>Inputs!$D$9,0,1))","v":""},{"$f":"IF(AF706=\"\",\"\",IF(AF706>Inputs!$D$9,0,1))","v":""},{"$f":"IF(AG706=\"\",\"\",IF(AG706>Inputs!$D$9,0,1))","v":""},{"$f":"IF(AH706=\"\",\"\",IF(AH706>Inputs!$D$9,0,1))","v":""},{"$f":"IF(AI706=\"\",\"\",IF(AI706>Inputs!$D$9,0,1))","v":""},{"$f":"IF(AJ706=\"\",\"\",IF(AJ706>Inputs!$D$9,0,1))","v":""},{"$f":"IF(AK706=\"\",\"\",IF(AK706>Inputs!$D$9,0,1))","v":""},{"$f":"IF(AL706=\"\",\"\",IF(AL706>Inputs!$D$9,0,1))","v":""},"",0,null,"","","","","","","","","","","","","","",null,null,"","","","","","","","","","","","",""]
[null,null,null,null,null,null,null,null,null,null,null,null,null,null,{"$f":"IF(A707=\"\",\"\",IF(ISERROR(1+C707),\"\",IF(ISERROR(((1+C707/100)*(1+D707/100)*(1+E707/100)*(1+F707/100)*(1+G707/100)*(1+H707/100)*(1+I707/100)*(1+J707/100)*(1+K707/100)*(1+L707/100)*(1+M707/100)*(1+N707/100))^(1/12)-1),\"\",((1+C707/100)*(1+D707/100)*(1+E707/100)*(1+F707/100)*(1+G707/100)*(1+H707/100)*(1+I707/100)*(1+J707/100)*(1+K707/100)*(1+L707/100)*(1+M707/100)*(1+N707/100))^(1/12)-1)))","v":""},"",{"$f":"IF(A707=\"\",\"\",IF(ISERROR(1+E707),\"\",IF(ISERROR(((1+E707/100)*(1+F707/100)*(1+G707/100)*(1+H707/100)*(1+I707/100)*(1+J707/100)*(1+K707/100)*(1+L707/100)*(1+M707/100)*(1+N707/100))^(1/10)-1),\"\",((1+E707/100)*(1+F707/100)*(1+G707/100)*(1+H707/100)*(1+I707/100)*(1+J707/100)*(1+K707/100)*(1+L707/100)*(1+M707/100)*(1+N707/100))^(1/10)-1)))","v":""},{"$f":"IF(A707=\"\",\"\",IF(ISERROR(1+F707),\"\",IF(ISERROR(((1+F707/100)*(1+G707/100)*(1+H707/100)*(1+I707/100)*(1+J707/100)*(1+K707/100)*(1+L707/100)*(1+M707/100)*(1+N707/100))^(1/9)-1),\"\",((1+F707/100)*(1+G707/100)*(1+H707/100)*(1+I707/100)*(1+J707/100)*(1+K707/100)*(1+L707/100)*(1+M707/100)*(1+N707/100))^(1/9)-1)))","v":""},{"$f":"IF(A707=\"\",\"\",IF(ISERROR(1+G707),\"\",IF(ISERROR(((1+G707/100)*(1+H707/100)*(1+I707/100)*(1+J707/100)*(1+K707/100)*(1+L707/100)*(1+M707/100)*(1+N707/100))^(1/8)-1),\"\",((1+G707/100)*(1+H707/100)*(1+I707/100)*(1+J707/100)*(1+K707/100)*(1+L707/100)*(1+M707/100)*(1+N707/100))^(1/8)-1)))","v":""},{"$f":"IF(A707=\"\",\"\",IF(ISERROR(1+H707),\"\",IF(ISERROR(((1+H707/100)*(1+I707/100)*(1+J707/100)*(1+K707/100)*(1+L707/100)*(1+M707/100)*(1+N707/100))^(1/7)-1),\"\",((1+H707/100)*(1+I707/100)*(1+J707/100)*(1+K707/100)*(1+L707/100)*(1+M707/100)*(1+N707/100))^(1/7)-1)))","v":""},{"$f":"IF(A707=\"\",\"\",IF(ISERROR(1+I707),\"\",IF(ISERROR(((1+I707/100)*(1+J707/100)*(1+K707/100)*(1+L707/100)*(1+M707/100)*(1+N707/100))^(1/6)-1),\"\",((1+I707/100)*(1+J707/100)*(1+K707/100)*(1+L707/100)*(1+M707/100)*(1+N707/100))^(1/6)-1)))","v":""},{"$f":"IF(A707=\"\",\"\",IF(ISERROR(1+J707),\"\",IF(ISERROR(((1+J707/100)*(1+K707/100)*(1+L707/100)*(1+M707/100)*(1+N707/100))^(1/5)-1),\"\",((1+J707/100)*(1+K707/100)*(1+L707/100)*(1+M707/100)*(1+N707/100))^(1/5)-1)))","v":""},{"$f":"IF(A707=\"\",\"\",IF(ISERROR(1+K707),\"\",IF(ISERROR(((1+K707/100)*(1+L707/100)*(1+M707/100)*(1+N707/100))^(1/4)-1),\"\",((1+K707/100)*(1+L707/100)*(1+M707/100)*(1+N707/100))^(1/4)-1)))","v":""},{"$f":"IF(A707=\"\",\"\",IF(ISERROR(1+L707),\"\",IF(ISERROR(((1+L707/100)*(1+M707/100)*(1+N707/100))^(1/3)-1),\"\",((1+L707/100)*(1+M707/100)*(1+N707/100))^(1/3)-1)))","v":""},{"$f":"IF(A707=\"\",\"\",IF(ISERROR(1+M707),\"\",IF(ISERROR(((1+M707/100)*(1+N707/100))^(1/2)-1),\"\",((1+M707/100)*(1+N707/100))^(1/2)-1)))","v":""},{"$f":"IF(A707=\"\",\"\",IF(ISERROR(1+N707),\"\",IF(ISERROR(((1+N707/100))^(1/1)-1),\"\",((1+N707/100))^(1/1)-1)))","v":""},"","","","","","","","","","","","",null,{"$f":"IF(AA707=\"\",\"\",IF(AA707>Inputs!$D$9,0,1))","v":""},{"$f":"IF(AB707=\"\",\"\",IF(AB707>Inputs!$D$9,0,1))","v":""},{"$f":"IF(AC707=\"\",\"\",IF(AC707>Inputs!$D$9,0,1))","v":""},{"$f":"IF(AD707=\"\",\"\",IF(AD707>Inputs!$D$9,0,1))","v":""},{"$f":"IF(AE707=\"\",\"\",IF(AE707>Inputs!$D$9,0,1))","v":""},{"$f":"IF(AF707=\"\",\"\",IF(AF707>Inputs!$D$9,0,1))","v":""},{"$f":"IF(AG707=\"\",\"\",IF(AG707>Inputs!$D$9,0,1))","v":""},{"$f":"IF(AH707=\"\",\"\",IF(AH707>Inputs!$D$9,0,1))","v":""},{"$f":"IF(AI707=\"\",\"\",IF(AI707>Inputs!$D$9,0,1))","v":""},{"$f":"IF(AJ707=\"\",\"\",IF(AJ707>Inputs!$D$9,0,1))","v":""},{"$f":"IF(AK707=\"\",\"\",IF(AK707>Inputs!$D$9,0,1))","v":""},{"$f":"IF(AL707=\"\",\"\",IF(AL707>Inputs!$D$9,0,1))","v":""},"",{"$f":"COUNT(AN707:AY707)","v":0},null,{"$f":"IF(O707=\"\",\"\",IF(O707>AVERAGE($O$2:$O$1000),1,0))","v":""},{"$f":"IF(P707=\"\",\"\",IF(P707>AVERAGE($P$2:$P$1000),1,0))","v":""},{"$f":"IF(Q707=\"\",\"\",IF(Q707>AVERAGE($Q$2:$Q$1000),1,0))","v":""},{"$f":"IF(R707=\"\",\"\",IF(R707>AVERAGE($R$2:$R$1000),1,0))","v":""},{"$f":"IF(S707=\"\",\"\",IF(S707>AVERAGE($S$2:$S$1000),1,0))","v":""},{"$f":"IF(T707=\"\",\"\",IF(T707>AVERAGE($T$2:$T$1000),1,0))","v":""},{"$f":"IF(U707=\"\",\"\",IF(U707>AVERAGE($U$2:$U$1000),1,0))","v":""},{"$f":"IF(V707=\"\",\"\",IF(V707>AVERAGE($V$2:$V$1000),1,0))","v":""},{"$f":"IF(W707=\"\",\"\",IF(W707>AVERAGE($W$2:$W$1000),1,0))","v":""},{"$f":"IF(X707=\"\",\"\",IF(X707>AVERAGE($X$2:$X$1000),1,0))","v":""},{"$f":"IF(Y707=\"\",\"\",IF(Y707>AVERAGE($Y$2:$Y$1000),1,0))","v":""},{"$f":"IF(Z707=\"\",\"\",IF(Z707>AVERAGE($Z$2:$Z$1000),1,0))","v":""},{"$f":"IF(COUNT(BC707:BN707)=0,\"\",SUM(BC707:BN707)/COUNT(BC707:BN707))","v":""},{"$f":"IF(A707=\"\",\"\",COUNT(BC707:BN707))","v":""},null,null,{"$f":"IF($A707=\"\",\"\",IF(C707=\"-\",0,IF(C707>AVERAGE(C$2:C$1183),1,0)))","v":""},{"$f":"IF($A707=\"\",\"\",IF(D707=\"-\",0,IF(D707>AVERAGE(D$2:D$1183),1,0)))","v":""},{"$f":"IF($A707=\"\",\"\",IF(E707=\"-\",0,IF(E707>AVERAGE(E$2:E$1183),1,0)))","v":""},{"$f":"IF($A707=\"\",\"\",IF(F707=\"-\",0,IF(F707>AVERAGE(F$2:F$1183),1,0)))","v":""},{"$f":"IF($A707=\"\",\"\",IF(G707=\"-\",0,IF(G707>AVERAGE(G$2:G$1183),1,0)))","v":""},{"$f":"IF($A707=\"\",\"\",IF(H707=\"-\",0,IF(H707>AVERAGE(H$2:H$1183),1,0)))","v":""},{"$f":"IF($A707=\"\",\"\",IF(I707=\"-\",0,IF(I707>AVERAGE(I$2:I$1183),1,0)))","v":""},{"$f":"IF($A707=\"\",\"\",IF(J707=\"-\",0,IF(J707>AVERAGE(J$2:J$1183),1,0)))","v":""},{"$f":"IF($A707=\"\",\"\",IF(K707=\"-\",0,IF(K707>AVERAGE(K$2:K$1183),1,0)))","v":""},{"$f":"IF($A707=\"\",\"\",IF(L707=\"-\",0,IF(L707>AVERAGE(L$2:L$1183),1,0)))","v":""},{"$f":"IF($A707=\"\",\"\",IF(M707=\"-\",0,IF(M707>AVERAGE(M$2:M$1183),1,0)))","v":""},{"$f":"IF($A707=\"\",\"\",IF(N707=\"-\",0,IF(N707>AVERAGE(N$2:N$1183),1,0)))","v":""},""]
[null,null,null,null,null,null,null,null,null,null,null,null,null,null,"","","","","","","","","","","","","","","","","","","","","","","","",null,{"$f":"IF(AA708=\"\",\"\",IF(AA708>Inputs!$D$9,0,1))","v":""},{"$f":"IF(AB708=\"\",\"\",IF(AB708>Inputs!$D$9,0,1))","v":""},{"$f":"IF(AC708=\"\",\"\",IF(AC708>Inputs!$D$9,0,1))","v":""},{"$f":"IF(AD708=\"\",\"\",IF(AD708>Inputs!$D$9,0,1))","v":""},{"$f":"IF(AE708=\"\",\"\",IF(AE708>Inputs!$D$9,0,1))","v":""},{"$f":"IF(AF708=\"\",\"\",IF(AF708>Inputs!$D$9,0,1))","v":""},{"$f":"IF(AG708=\"\",\"\",IF(AG708>Inputs!$D$9,0,1))","v":""},{"$f":"IF(AH708=\"\",\"\",IF(AH708>Inputs!$D$9,0,1))","v":""},{"$f":"IF(AI708=\"\",\"\",IF(AI708>Inputs!$D$9,0,1))","v":""},{"$f":"IF(AJ708=\"\",\"\",IF(AJ708>Inputs!$D$9,0,1))","v":""},{"$f":"IF(AK708=\"\",\"\",IF(AK708>Inputs!$D$9,0,1))","v":""},{"$f":"IF(AL708=\"\",\"\",IF(AL708>Inputs!$D$9,0,1))","v":""},"",0,null,"","","","","","","","","","","","","","",null,null,"","","","","","","","","","","","",""]
[null,null,null,null,null,null,null,null,null,null,null,null,null,null,"","","","","","","","","","","","","","","","","","","","","","","","",null,{"$f":"IF(AA709=\"\",\"\",IF(AA709>Inputs!$D$9,0,1))","v":""},{"$f":"IF(AB709=\"\",\"\",IF(AB709>Inputs!$D$9,0,1))","v":""},{"$f":"IF(AC709=\"\",\"\",IF(AC709>Inputs!$D$9,0,1))","v":""},{"$f":"IF(AD709=\"\",\"\",IF(AD709>Inputs!$D$9,0,1))","v":""},{"$f":"IF(AE709=\"\",\"\",IF(AE709>Inputs!$D$9,0,1))","v":""},{"$f":"IF(AF709=\"\",\"\",IF(AF709>Inputs!$D$9,0,1))","v":""},{"$f":"IF(AG709=\"\",\"\",IF(AG709>Inputs!$D$9,0,1))","v":""},{"$f":"IF(AH709=\"\",\"\",IF(AH709>Inputs!$D$9,0,1))","v":""},{"$f":"IF(AI709=\"\",\"\",IF(AI709>Inputs!$D$9,0,1))","v":""},{"$f":"IF(AJ709=\"\",\"\",IF(AJ709>Inputs!$D$9,0,1))","v":""},{"$f":"IF(AK709=\"\",\"\",IF(AK709>Inputs!$D$9,0,1))","v":""},{"$f":"IF(AL709=\"\",\"\",IF(AL709>Inputs!$D$9,0,1))","v":""},"",0,null,"","","","","","","","","","","","","","",null,null,"","","","","","","","","","","","",""]
[null,null,null,null,null,null,null,null,null,null,null,null,null,null,"","","","","","","","","","","","","","","","","","","","","","","","",null,{"$f":"IF(AA710=\"\",\"\",IF(AA710>Inputs!$D$9,0,1))","v":""},{"$f":"IF(AB710=\"\",\"\",IF(AB710>Inputs!$D$9,0,1))","v":""},{"$f":"IF(AC710=\"\",\"\",IF(AC710>Inputs!$D$9,0,1))","v":""},{"$f":"IF(AD710=\"\",\"\",IF(AD710>Inputs!$D$9,0,1))","v":""},{"$f":"IF(AE710=\"\",\"\",IF(AE710>Inputs!$D$9,0,1))","v":""},{"$f":"IF(AF710=\"\",\"\",IF(AF710>Inputs!$D$9,0,1))","v":""},{"$f":"IF(AG710=\"\",\"\",IF(AG710>Inputs!$D$9,0,1))","v":""},{"$f":"IF(AH710=\"\",\"\",IF(AH710>Inputs!$D$9,0,1))","v":""},{"$f":"IF(AI710=\"\",\"\",IF(AI710>Inputs!$D$9,0,1))","v":""},{"$f":"IF(AJ710=\"\",\"\",IF(AJ710>Inputs!$D$9,0,1))","v":""},{"$f":"IF(AK710=\"\",\"\",IF(AK710>Inputs!$D$9,0,1))","v":""},{"$f":"IF(AL710=\"\",\"\",IF(AL710>Inputs!$D$9,0,1))","v":""},"",0,null,"","","","","","","","","","","","","","",null,null,"","","","","","","","","","","","",""]
[null,null,null,null,null,null,null,null,null,null,null,null,null,null,"","","","","","","","","","","","","","","","","","","","","","","","",null,{"$f":"IF(AA711=\"\",\"\",IF(AA711>Inputs!$D$9,0,1))","v":""},{"$f":"IF(AB711=\"\",\"\",IF(AB711>Inputs!$D$9,0,1))","v":""},{"$f":"IF(AC711=\"\",\"\",IF(AC711>Inputs!$D$9,0,1))","v":""},{"$f":"IF(AD711=\"\",\"\",IF(AD711>Inputs!$D$9,0,1))","v":""},{"$f":"IF(AE711=\"\",\"\",IF(AE711>Inputs!$D$9,0,1))","v":""},{"$f":"IF(AF711=\"\",\"\",IF(AF711>Inputs!$D$9,0,1))","v":""},{"$f":"IF(AG711=\"\",\"\",IF(AG711>Inputs!$D$9,0,1))","v":""},{"$f":"IF(AH711=\"\",\"\",IF(AH711>Inputs!$D$9,0,1))","v":""},{"$f":"IF(AI711=\"\",\"\",IF(AI711>Inputs!$D$9,0,1))","v":""},{"$f":"IF(AJ711=\"\",\"\",IF(AJ711>Inputs!$D$9,0,1))","v":""},{"$f":"IF(AK711=\"\",\"\",IF(AK711>Inputs!$D$9,0,1))","v":""},{"$f":"IF(AL711=\"\",\"\",IF(AL711>Inputs!$D$9,0,1))","v":""},"",0,null,"","","","","","","","","","","","","","",null,null,"","","","","","","","","","","","",""]
[null,null,null,null,null,null,null,null,null,null,null,null,null,null,"","","","","","","","","","","","","","","","","","","","","","","","",null,{"$f":"IF(AA712=\"\",\"\",IF(AA712>Inputs!$D$9,0,1))","v":""},{"$f":"IF(AB712=\"\",\"\",IF(AB712>Inputs!$D$9,0,1))","v":""},{"$f":"IF(AC712=\"\",\"\",IF(AC712>Inputs!$D$9,0,1))","v":""},{"$f":"IF(AD712=\"\",\"\",IF(AD712>Inputs!$D$9,0,1))","v":""},{"$f":"IF(AE712=\"\",\"\",IF(AE712>Inputs!$D$9,0,1))","v":""},{"$f":"IF(AF712=\"\",\"\",IF(AF712>Inputs!$D$9,0,1))","v":""},{"$f":"IF(AG712=\"\",\"\",IF(AG712>Inputs!$D$9,0,1))","v":""},{"$f":"IF(AH712=\"\",\"\",IF(AH712>Inputs!$D$9,0,1))","v":""},{"$f":"IF(AI712=\"\",\"\",IF(AI712>Inputs!$D$9,0,1))","v":""},{"$f":"IF(AJ712=\"\",\"\",IF(AJ712>Inputs!$D$9,0,1))","v":""},{"$f":"IF(AK712=\"\",\"\",IF(AK712>Inputs!$D$9,0,1))","v":""},{"$f":"IF(AL712=\"\",\"\",IF(AL712>Inputs!$D$9,0,1))","v":""},"",0,null,"","","","","","","","","","","","","","",null,null,"","","","","","","","","","","","",""]
[null,null,null,null,null,null,null,null,null,null,null,null,null,null,"","","","","","","","","","","","","","","","","","","","","","","","",null,{"$f":"IF(AA713=\"\",\"\",IF(AA713>Inputs!$D$9,0,1))","v":""},{"$f":"IF(AB713=\"\",\"\",IF(AB713>Inputs!$D$9,0,1))","v":""},{"$f":"IF(AC713=\"\",\"\",IF(AC713>Inputs!$D$9,0,1))","v":""},{"$f":"IF(AD713=\"\",\"\",IF(AD713>Inputs!$D$9,0,1))","v":""},{"$f":"IF(AE713=\"\",\"\",IF(AE713>Inputs!$D$9,0,1))","v":""},{"$f":"IF(AF713=\"\",\"\",IF(AF713>Inputs!$D$9,0,1))","v":""},{"$f":"IF(AG713=\"\",\"\",IF(AG713>Inputs!$D$9,0,1))","v":""},{"$f":"IF(AH713=\"\",\"\",IF(AH713>Inputs!$D$9,0,1))","v":""},{"$f":"IF(AI713=\"\",\"\",IF(AI713>Inputs!$D$9,0,1))","v":""},{"$f":"IF(AJ713=\"\",\"\",IF(AJ713>Inputs!$D$9,0,1))","v":""},{"$f":"IF(AK713=\"\",\"\",IF(AK713>Inputs!$D$9,0,1))","v":""},{"$f":"IF(AL713=\"\",\"\",IF(AL713>Inputs!$D$9,0,1))","v":""},"",0,null,"","","","","","","","","","","","","","",null,null,"","","","","","","","","","","","",""]
[null,null,null,null,null,null,null,null,null,null,null,null,null,null,"","","","","","","","","","","","","","","","","","","","","","","","",null,{"$f":"IF(AA714=\"\",\"\",IF(AA714>Inputs!$D$9,0,1))","v":""},{"$f":"IF(AB714=\"\",\"\",IF(AB714>Inputs!$D$9,0,1))","v":""},{"$f":"IF(AC714=\"\",\"\",IF(AC714>Inputs!$D$9,0,1))","v":""},{"$f":"IF(AD714=\"\",\"\",IF(AD714>Inputs!$D$9,0,1))","v":""},{"$f":"IF(AE714=\"\",\"\",IF(AE714>Inputs!$D$9,0,1))","v":""},{"$f":"IF(AF714=\"\",\"\",IF(AF714>Inputs!$D$9,0,1))","v":""},{"$f":"IF(AG714=\"\",\"\",IF(AG714>Inputs!$D$9,0,1))","v":""},{"$f":"IF(AH714=\"\",\"\",IF(AH714>Inputs!$D$9,0,1))","v":""},{"$f":"IF(AI714=\"\",\"\",IF(AI714>Inputs!$D$9,0,1))","v":""},{"$f":"IF(AJ714=\"\",\"\",IF(AJ714>Inputs!$D$9,0,1))","v":""},{"$f":"IF(AK714=\"\",\"\",IF(AK714>Inputs!$D$9,0,1))","v":""},{"$f":"IF(AL714=\"\",\"\",IF(AL714>Inputs!$D$9,0,1))","v":""},"",0,null,"","","","","","","","","","","","","","",null,null,"","","","","","","","","","","","",""]
[null,null,null,null,null,null,null,null,null,null,null,null,null,null,"","","","","","","","","","","","","","","","","","","","","","","","",null,{"$f":"IF(AA715=\"\",\"\",IF(AA715>Inputs!$D$9,0,1))","v":""},{"$f":"IF(AB715=\"\",\"\",IF(AB715>Inputs!$D$9,0,1))","v":""},{"$f":"IF(AC715=\"\",\"\",IF(AC715>Inputs!$D$9,0,1))","v":""},{"$f":"IF(AD715=\"\",\"\",IF(AD715>Inputs!$D$9,0,1))","v":""},{"$f":"IF(AE715=\"\",\"\",IF(AE715>Inputs!$D$9,0,1))","v":""},{"$f":"IF(AF715=\"\",\"\",IF(AF715>Inputs!$D$9,0,1))","v":""},{"$f":"IF(AG715=\"\",\"\",IF(AG715>Inputs!$D$9,0,1))","v":""},{"$f":"IF(AH715=\"\",\"\",IF(AH715>Inputs!$D$9,0,1))","v":""},{"$f":"IF(AI715=\"\",\"\",IF(AI715>Inputs!$D$9,0,1))","v":""},{"$f":"IF(AJ715=\"\",\"\",IF(AJ715>Inputs!$D$9,0,1))","v":""},{"$f":"IF(AK715=\"\",\"\",IF(AK715>Inputs!$D$9,0,1))","v":""},{"$f":"IF(AL715=\"\",\"\",IF(AL715>Inputs!$D$9,0,1))","v":""},"",0,null,"","","","","","","","","","","","","","",null,null,"","","","","","","","","","","","",""]
[null,null,null,null,null,null,null,null,null,null,null,null,null,null,"","","","","","","","","","","","","","","","","","","","","","","","",null,{"$f":"IF(AA716=\"\",\"\",IF(AA716>Inputs!$D$9,0,1))","v":""},{"$f":"IF(AB716=\"\",\"\",IF(AB716>Inputs!$D$9,0,1))","v":""},{"$f":"IF(AC716=\"\",\"\",IF(AC716>Inputs!$D$9,0,1))","v":""},{"$f":"IF(AD716=\"\",\"\",IF(AD716>Inputs!$D$9,0,1))","v":""},{"$f":"IF(AE716=\"\",\"\",IF(AE716>Inputs!$D$9,0,1))","v":""},{"$f":"IF(AF716=\"\",\"\",IF(AF716>Inputs!$D$9,0,1))","v":""},{"$f":"IF(AG716=\"\",\"\",IF(AG716>Inputs!$D$9,0,1))","v":""},{"$f":"IF(AH716=\"\",\"\",IF(AH716>Inputs!$D$9,0,1))","v":""},{"$f":"IF(AI716=\"\",\"\",IF(AI716>Inputs!$D$9,0,1))","v":""},{"$f":"IF(AJ716=\"\",\"\",IF(AJ716>Inputs!$D$9,0,1))","v":""},{"$f":"IF(AK716=\"\",\"\",IF(AK716>Inputs!$D$9,0,1))","v":""},{"$f":"IF(AL716=\"\",\"\",IF(AL716>Inputs!$D$9,0,1))","v":""},"",0,null,"","","","","","","","","","","","","","",null,null,"","","","","","","","","","","","",""]
[null,null,null,null,null,null,null,null,null,null,null,null,null,null,"","","","","","","","","","","","","","","","","","","","","","","","",null,{"$f":"IF(AA717=\"\",\"\",IF(AA717>Inputs!$D$9,0,1))","v":""},{"$f":"IF(AB717=\"\",\"\",IF(AB717>Inputs!$D$9,0,1))","v":""},{"$f":"IF(AC717=\"\",\"\",IF(AC717>Inputs!$D$9,0,1))","v":""},{"$f":"IF(AD717=\"\",\"\",IF(AD717>Inputs!$D$9,0,1))","v":""},{"$f":"IF(AE717=\"\",\"\",IF(AE717>Inputs!$D$9,0,1))","v":""},{"$f":"IF(AF717=\"\",\"\",IF(AF717>Inputs!$D$9,0,1))","v":""},{"$f":"IF(AG717=\"\",\"\",IF(AG717>Inputs!$D$9,0,1))","v":""},{"$f":"IF(AH717=\"\",\"\",IF(AH717>Inputs!$D$9,0,1))","v":""},{"$f":"IF(AI717=\"\",\"\",IF(AI717>Inputs!$D$9,0,1))","v":""},{"$f":"IF(AJ717=\"\",\"\",IF(AJ717>Inputs!$D$9,0,1))","v":""},{"$f":"IF(AK717=\"\",\"\",IF(AK717>Inputs!$D$9,0,1))","v":""},{"$f":"IF(AL717=\"\",\"\",IF(AL717>Inputs!$D$9,0,1))","v":""},"",0,null,"","","","","","","","","","","","","","",null,null,"","","","","","","","","","","","",""]
[null,null,null,null,null,null,null,null,null,null,null,null,null,null,"","","","","","","","","","","","","","","","","","","","","","","","",null,{"$f":"IF(AA718=\"\",\"\",IF(AA718>Inputs!$D$9,0,1))","v":""},{"$f":"IF(AB718=\"\",\"\",IF(AB718>Inputs!$D$9,0,1))","v":""},{"$f":"IF(AC718=\"\",\"\",IF(AC718>Inputs!$D$9,0,1))","v":""},{"$f":"IF(AD718=\"\",\"\",IF(AD718>Inputs!$D$9,0,1))","v":""},{"$f":"IF(AE718=\"\",\"\",IF(AE718>Inputs!$D$9,0,1))","v":""},{"$f":"IF(AF718=\"\",\"\",IF(AF718>Inputs!$D$9,0,1))","v":""},{"$f":"IF(AG718=\"\",\"\",IF(AG718>Inputs!$D$9,0,1))","v":""},{"$f":"IF(AH718=\"\",\"\",IF(AH718>Inputs!$D$9,0,1))","v":""},{"$f":"IF(AI718=\"\",\"\",IF(AI718>Inputs!$D$9,0,1))","v":""},{"$f":"IF(AJ718=\"\",\"\",IF(AJ718>Inputs!$D$9,0,1))","v":""},{"$f":"IF(AK718=\"\",\"\",IF(AK718>Inputs!$D$9,0,1))","v":""},{"$f":"IF(AL718=\"\",\"\",IF(AL718>Inputs!$D$9,0,1))","v":""},"",0,null,"","","","","","","","","","","","","","",null,null,"","","","","","","","","","","","",""]
[null,null,null,null,null,null,null,null,null,null,null,null,null,null,"","","","","","","","","","","","","","","","","","","","","","","","",null,{"$f":"IF(AA719=\"\",\"\",IF(AA719>Inputs!$D$9,0,1))","v":""},{"$f":"IF(AB719=\"\",\"\",IF(AB719>Inputs!$D$9,0,1))","v":""},{"$f":"IF(AC719=\"\",\"\",IF(AC719>Inputs!$D$9,0,1))","v":""},{"$f":"IF(AD719=\"\",\"\",IF(AD719>Inputs!$D$9,0,1))","v":""},{"$f":"IF(AE719=\"\",\"\",IF(AE719>Inputs!$D$9,0,1))","v":""},{"$f":"IF(AF719=\"\",\"\",IF(AF719>Inputs!$D$9,0,1))","v":""},{"$f":"IF(AG719=\"\",\"\",IF(AG719>Inputs!$D$9,0,1))","v":""},{"$f":"IF(AH719=\"\",\"\",IF(AH719>Inputs!$D$9,0,1))","v":""},{"$f":"IF(AI719=\"\",\"\",IF(AI719>Inputs!$D$9,0,1))","v":""},{"$f":"IF(AJ719=\"\",\"\",IF(AJ719>Inputs!$D$9,0,1))","v":""},{"$f":"IF(AK719=\"\",\"\",IF(AK719>Inputs!$D$9,0,1))","v":""},{"$f":"IF(AL719=\"\",\"\",IF(AL719>Inputs!$D$9,0,1))","v":""},"",0,null,"","","","","","","","","","","","","","",null,null,"","","","","","","","","","","","",""]
[null,null,null,null,null,null,null,null,null,null,null,null,null,null,"","","","","","","","","","","","","","","","","","","","","","","","",null,{"$f":"IF(AA720=\"\",\"\",IF(AA720>Inputs!$D$9,0,1))","v":""},{"$f":"IF(AB720=\"\",\"\",IF(AB720>Inputs!$D$9,0,1))","v":""},{"$f":"IF(AC720=\"\",\"\",IF(AC720>Inputs!$D$9,0,1))","v":""},{"$f":"IF(AD720=\"\",\"\",IF(AD720>Inputs!$D$9,0,1))","v":""},{"$f":"IF(AE720=\"\",\"\",IF(AE720>Inputs!$D$9,0,1))","v":""},{"$f":"IF(AF720=\"\",\"\",IF(AF720>Inputs!$D$9,0,1))","v":""},{"$f":"IF(AG720=\"\",\"\",IF(AG720>Inputs!$D$9,0,1))","v":""},{"$f":"IF(AH720=\"\",\"\",IF(AH720>Inputs!$D$9,0,1))","v":""},{"$f":"IF(AI720=\"\",\"\",IF(AI720>Inputs!$D$9,0,1))","v":""},{"$f":"IF(AJ720=\"\",\"\",IF(AJ720>Inputs!$D$9,0,1))","v":""},{"$f":"IF(AK720=\"\",\"\",IF(AK720>Inputs!$D$9,0,1))","v":""},{"$f":"IF(AL720=\"\",\"\",IF(AL720>Inputs!$D$9,0,1))","v":""},"",0,null,"","","","","","","","","","","","","","",null,null,"","","","","","","","","","","","",""]
[null,null,null,null,null,null,null,null,null,null,null,null,null,null,"","","","","","","","","","","","","","","","","","","","","","","","",null,{"$f":"IF(AA721=\"\",\"\",IF(AA721>Inputs!$D$9,0,1))","v":""},{"$f":"IF(AB721=\"\",\"\",IF(AB721>Inputs!$D$9,0,1))","v":""},{"$f":"IF(AC721=\"\",\"\",IF(AC721>Inputs!$D$9,0,1))","v":""},{"$f":"IF(AD721=\"\",\"\",IF(AD721>Inputs!$D$9,0,1))","v":""},{"$f":"IF(AE721=\"\",\"\",IF(AE721>Inputs!$D$9,0,1))","v":""},{"$f":"IF(AF721=\"\",\"\",IF(AF721>Inputs!$D$9,0,1))","v":""},{"$f":"IF(AG721=\"\",\"\",IF(AG721>Inputs!$D$9,0,1))","v":""},{"$f":"IF(AH721=\"\",\"\",IF(AH721>Inputs!$D$9,0,1))","v":""},{"$f":"IF(AI721=\"\",\"\",IF(AI721>Inputs!$D$9,0,1))","v":""},{"$f":"IF(AJ721=\"\",\"\",IF(AJ721>Inputs!$D$9,0,1))","v":""},{"$f":"IF(AK721=\"\",\"\",IF(AK721>Inputs!$D$9,0,1))","v":""},{"$f":"IF(AL721=\"\",\"\",IF(AL721>Inputs!$D$9,0,1))","v":""},"",0,null,"","","","","","","","","","","","","","",null,null,"","","","","","","","","","","","",""]
[null,null,null,null,null,null,null,null,null,null,null,null,null,null,"","","","","","","","","","","","","","","","","","","","","","","","",null,{"$f":"IF(AA722=\"\",\"\",IF(AA722>Inputs!$D$9,0,1))","v":""},{"$f":"IF(AB722=\"\",\"\",IF(AB722>Inputs!$D$9,0,1))","v":""},{"$f":"IF(AC722=\"\",\"\",IF(AC722>Inputs!$D$9,0,1))","v":""},{"$f":"IF(AD722=\"\",\"\",IF(AD722>Inputs!$D$9,0,1))","v":""},{"$f":"IF(AE722=\"\",\"\",IF(AE722>Inputs!$D$9,0,1))","v":""},{"$f":"IF(AF722=\"\",\"\",IF(AF722>Inputs!$D$9,0,1))","v":""},{"$f":"IF(AG722=\"\",\"\",IF(AG722>Inputs!$D$9,0,1))","v":""},{"$f":"IF(AH722=\"\",\"\",IF(AH722>Inputs!$D$9,0,1))","v":""},{"$f":"IF(AI722=\"\",\"\",IF(AI722>Inputs!$D$9,0,1))","v":""},{"$f":"IF(AJ722=\"\",\"\",IF(AJ722>Inputs!$D$9,0,1))","v":""},{"$f":"IF(AK722=\"\",\"\",IF(AK722>Inputs!$D$9,0,1))","v":""},{"$f":"IF(AL722=\"\",\"\",IF(AL722>Inputs!$D$9,0,1))","v":""},"",0,null,"","","","","","","","","","","","","","",null,null,"","","","","","","","","","","","",""]
[null,null,null,null,null,null,null,null,null,null,null,null,null,null,"","","","","","","","","","","","","","","","","","","","","","","","",null,{"$f":"IF(AA723=\"\",\"\",IF(AA723>Inputs!$D$9,0,1))","v":""},{"$f":"IF(AB723=\"\",\"\",IF(AB723>Inputs!$D$9,0,1))","v":""},{"$f":"IF(AC723=\"\",\"\",IF(AC723>Inputs!$D$9,0,1))","v":""},{"$f":"IF(AD723=\"\",\"\",IF(AD723>Inputs!$D$9,0,1))","v":""},{"$f":"IF(AE723=\"\",\"\",IF(AE723>Inputs!$D$9,0,1))","v":""},{"$f":"IF(AF723=\"\",\"\",IF(AF723>Inputs!$D$9,0,1))","v":""},{"$f":"IF(AG723=\"\",\"\",IF(AG723>Inputs!$D$9,0,1))","v":""},{"$f":"IF(AH723=\"\",\"\",IF(AH723>Inputs!$D$9,0,1))","v":""},{"$f":"IF(AI723=\"\",\"\",IF(AI723>Inputs!$D$9,0,1))","v":""},{"$f":"IF(AJ723=\"\",\"\",IF(AJ723>Inputs!$D$9,0,1))","v":""},{"$f":"IF(AK723=\"\",\"\",IF(AK723>Inputs!$D$9,0,1))","v":""},{"$f":"IF(AL723=\"\",\"\",IF(AL723>Inputs!$D$9,0,1))","v":""},"",0,null,"","","","","","","","","","","","","","",null,null,"","","","","","","","","","","","",{"$f":"IF(A723=\"\",\"\",SUM(BS723:CD723))","v":""}]
[null,null,null,null,null,null,null,null,null,null,null,null,null,null,"","","","","","","","","","","","","","","","","","","","","","","","",null,{"$f":"IF(AA724=\"\",\"\",IF(AA724>Inputs!$D$9,0,1))","v":""},{"$f":"IF(AB724=\"\",\"\",IF(AB724>Inputs!$D$9,0,1))","v":""},{"$f":"IF(AC724=\"\",\"\",IF(AC724>Inputs!$D$9,0,1))","v":""},{"$f":"IF(AD724=\"\",\"\",IF(AD724>Inputs!$D$9,0,1))","v":""},{"$f":"IF(AE724=\"\",\"\",IF(AE724>Inputs!$D$9,0,1))","v":""},{"$f":"IF(AF724=\"\",\"\",IF(AF724>Inputs!$D$9,0,1))","v":""},{"$f":"IF(AG724=\"\",\"\",IF(AG724>Inputs!$D$9,0,1))","v":""},{"$f":"IF(AH724=\"\",\"\",IF(AH724>Inputs!$D$9,0,1))","v":""},{"$f":"IF(AI724=\"\",\"\",IF(AI724>Inputs!$D$9,0,1))","v":""},{"$f":"IF(AJ724=\"\",\"\",IF(AJ724>Inputs!$D$9,0,1))","v":""},{"$f":"IF(AK724=\"\",\"\",IF(AK724>Inputs!$D$9,0,1))","v":""},{"$f":"IF(AL724=\"\",\"\",IF(AL724>Inputs!$D$9,0,1))","v":""},"",0,null,"","","","","","","","","","","","","","",null,null,"","","","","","","","","","","","",""]
[null,null,null,null,null,null,null,null,null,null,null,null,null,null,"","","","","","","","","","","","","","","","","","","","","","","","",null,{"$f":"IF(AA725=\"\",\"\",IF(AA725>Inputs!$D$9,0,1))","v":""},{"$f":"IF(AB725=\"\",\"\",IF(AB725>Inputs!$D$9,0,1))","v":""},{"$f":"IF(AC725=\"\",\"\",IF(AC725>Inputs!$D$9,0,1))","v":""},{"$f":"IF(AD725=\"\",\"\",IF(AD725>Inputs!$D$9,0,1))","v":""},{"$f":"IF(AE725=\"\",\"\",IF(AE725>Inputs!$D$9,0,1))","v":""},{"$f":"IF(AF725=\"\",\"\",IF(AF725>Inputs!$D$9,0,1))","v":""},{"$f":"IF(AG725=\"\",\"\",IF(AG725>Inputs!$D$9,0,1))","v":""},{"$f":"IF(AH725=\"\",\"\",IF(AH725>Inputs!$D$9,0,1))","v":""},{"$f":"IF(AI725=\"\",\"\",IF(AI725>Inputs!$D$9,0,1))","v":""},{"$f":"IF(AJ725=\"\",\"\",IF(AJ725>Inputs!$D$9,0,1))","v":""},{"$f":"IF(AK725=\"\",\"\",IF(AK725>Inputs!$D$9,0,1))","v":""},{"$f":"IF(AL725=\"\",\"\",IF(AL725>Inputs!$D$9,0,1))","v":""},"",0,null,"","","","","","","","","","","","","","",null,null,"","","","","","","","","","","","",""]
[null,null,null,null,null,null,null,null,null,null,null,null,null,null,"","","","","","","","","","","","","","","","","","","","","","","","",null,{"$f":"IF(AA726=\"\",\"\",IF(AA726>Inputs!$D$9,0,1))","v":""},{"$f":"IF(AB726=\"\",\"\",IF(AB726>Inputs!$D$9,0,1))","v":""},{"$f":"IF(AC726=\"\",\"\",IF(AC726>Inputs!$D$9,0,1))","v":""},{"$f":"IF(AD726=\"\",\"\",IF(AD726>Inputs!$D$9,0,1))","v":""},{"$f":"IF(AE726=\"\",\"\",IF(AE726>Inputs!$D$9,0,1))","v":""},{"$f":"IF(AF726=\"\",\"\",IF(AF726>Inputs!$D$9,0,1))","v":""},{"$f":"IF(AG726=\"\",\"\",IF(AG726>Inputs!$D$9,0,1))","v":""},{"$f":"IF(AH726=\"\",\"\",IF(AH726>Inputs!$D$9,0,1))","v":""},{"$f":"IF(AI726=\"\",\"\",IF(AI726>Inputs!$D$9,0,1))","v":""},{"$f":"IF(AJ726=\"\",\"\",IF(AJ726>Inputs!$D$9,0,1))","v":""},{"$f":"IF(AK726=\"\",\"\",IF(AK726>Inputs!$D$9,0,1))","v":""},{"$f":"IF(AL726=\"\",\"\",IF(AL726>Inputs!$D$9,0,1))","v":""},"",0,null,"","","","","","","","","","","","","","",null,null,"","","","","","","","","","","","",""]
[null,null,null,null,null,null,null,null,null,null,null,null,null,null,"","","","","","","","","","","","","","","","","","","","","","","","",null,{"$f":"IF(AA727=\"\",\"\",IF(AA727>Inputs!$D$9,0,1))","v":""},{"$f":"IF(AB727=\"\",\"\",IF(AB727>Inputs!$D$9,0,1))","v":""},{"$f":"IF(AC727=\"\",\"\",IF(AC727>Inputs!$D$9,0,1))","v":""},{"$f":"IF(AD727=\"\",\"\",IF(AD727>Inputs!$D$9,0,1))","v":""},{"$f":"IF(AE727=\"\",\"\",IF(AE727>Inputs!$D$9,0,1))","v":""},{"$f":"IF(AF727=\"\",\"\",IF(AF727>Inputs!$D$9,0,1))","v":""},{"$f":"IF(AG727=\"\",\"\",IF(AG727>Inputs!$D$9,0,1))","v":""},{"$f":"IF(AH727=\"\",\"\",IF(AH727>Inputs!$D$9,0,1))","v":""},{"$f":"IF(AI727=\"\",\"\",IF(AI727>Inputs!$D$9,0,1))","v":""},{"$f":"IF(AJ727=\"\",\"\",IF(AJ727>Inputs!$D$9,0,1))","v":""},{"$f":"IF(AK727=\"\",\"\",IF(AK727>Inputs!$D$9,0,1))","v":""},{"$f":"IF(AL727=\"\",\"\",IF(AL727>Inputs!$D$9,0,1))","v":""},"",0,null,"","","","","","","","","","","","","","",null,null,"","","","","","","","","","","","",""]
[null,null,null,null,null,null,null,null,null,null,null,null,null,null,"","","","","","","","","","","","","","","","","","","","","","","","",null,{"$f":"IF(AA728=\"\",\"\",IF(AA728>Inputs!$D$9,0,1))","v":""},{"$f":"IF(AB728=\"\",\"\",IF(AB728>Inputs!$D$9,0,1))","v":""},{"$f":"IF(AC728=\"\",\"\",IF(AC728>Inputs!$D$9,0,1))","v":""},{"$f":"IF(AD728=\"\",\"\",IF(AD728>Inputs!$D$9,0,1))","v":""},{"$f":"IF(AE728=\"\",\"\",IF(AE728>Inputs!$D$9,0,1))","v":""},{"$f":"IF(AF728=\"\",\"\",IF(AF728>Inputs!$D$9,0,1))","v":""},{"$f":"IF(AG728=\"\",\"\",IF(AG728>Inputs!$D$9,0,1))","v":""},{"$f":"IF(AH728=\"\",\"\",IF(AH728>Inputs!$D$9,0,1))","v":""},{"$f":"IF(AI728=\"\",\"\",IF(AI728>Inputs!$D$9,0,1))","v":""},{"$f":"IF(AJ728=\"\",\"\",IF(AJ728>Inputs!$D$9,0,1))","v":""},{"$f":"IF(AK728=\"\",\"\",IF(AK728>Inputs!$D$9,0,1))","v":""},{"$f":"IF(AL728=\"\",\"\",IF(AL728>Inputs!$D$9,0,1))","v":""},"",0,null,"","","","","","","","","","","","","","",null,null,"","","","","","","","","","","","",""]
[null,null,null,null,null,null,null,null,null,null,null,null,null,null,"","","","","","","","","","","","","","","","","","","","","","","","",null,{"$f":"IF(AA729=\"\",\"\",IF(AA729>Inputs!$D$9,0,1))","v":""},{"$f":"IF(AB729=\"\",\"\",IF(AB729>Inputs!$D$9,0,1))","v":""},{"$f":"IF(AC729=\"\",\"\",IF(AC729>Inputs!$D$9,0,1))","v":""},{"$f":"IF(AD729=\"\",\"\",IF(AD729>Inputs!$D$9,0,1))","v":""},{"$f":"IF(AE729=\"\",\"\",IF(AE729>Inputs!$D$9,0,1))","v":""},{"$f":"IF(AF729=\"\",\"\",IF(AF729>Inputs!$D$9,0,1))","v":""},{"$f":"IF(AG729=\"\",\"\",IF(AG729>Inputs!$D$9,0,1))","v":""},{"$f":"IF(AH729=\"\",\"\",IF(AH729>Inputs!$D$9,0,1))","v":""},{"$f":"IF(AI729=\"\",\"\",IF(AI729>Inputs!$D$9,0,1))","v":""},{"$f":"IF(AJ729=\"\",\"\",IF(AJ729>Inputs!$D$9,0,1))","v":""},{"$f":"IF(AK729=\"\",\"\",IF(AK729>Inputs!$D$9,0,1))","v":""},{"$f":"IF(AL729=\"\",\"\",IF(AL729>Inputs!$D$9,0,1))","v":""},"",0,null,"","","","","","","","","","","","","","",null,null,"","","","","","","","","","","","",""]
[null,null,null,null,null,null,null,null,null,null,null,null,null,null,"","","","","","","","","","","","","","","","","","","","","","","","",null,{"$f":"IF(AA730=\"\",\"\",IF(AA730>Inputs!$D$9,0,1))","v":""},{"$f":"IF(AB730=\"\",\"\",IF(AB730>Inputs!$D$9,0,1))","v":""},{"$f":"IF(AC730=\"\",\"\",IF(AC730>Inputs!$D$9,0,1))","v":""},{"$f":"IF(AD730=\"\",\"\",IF(AD730>Inputs!$D$9,0,1))","v":""},{"$f":"IF(AE730=\"\",\"\",IF(AE730>Inputs!$D$9,0,1))","v":""},{"$f":"IF(AF730=\"\",\"\",IF(AF730>Inputs!$D$9,0,1))","v":""},{"$f":"IF(AG730=\"\",\"\",IF(AG730>Inputs!$D$9,0,1))","v":""},{"$f":"IF(AH730=\"\",\"\",IF(AH730>Inputs!$D$9,0,1))","v":""},{"$f":"IF(AI730=\"\",\"\",IF(AI730>Inputs!$D$9,0,1))","v":""},{"$f":"IF(AJ730=\"\",\"\",IF(AJ730>Inputs!$D$9,0,1))","v":""},{"$f":"IF(AK730=\"\",\"\",IF(AK730>Inputs!$D$9,0,1))","v":""},{"$f":"IF(AL730=\"\",\"\",IF(AL730>Inputs!$D$9,0,1))","v":""},"",0,null,"","","","","","","","","","","","","","",null,null,"","","","","","","","","","","","",""]
[null,null,null,null,null,null,null,null,null,null,null,null,null,null,"","","","","","","","","","","","","","","","","","","","","","","","",null,{"$f":"IF(AA731=\"\",\"\",IF(AA731>Inputs!$D$9,0,1))","v":""},{"$f":"IF(AB731=\"\",\"\",IF(AB731>Inputs!$D$9,0,1))","v":""},{"$f":"IF(AC731=\"\",\"\",IF(AC731>Inputs!$D$9,0,1))","v":""},{"$f":"IF(AD731=\"\",\"\",IF(AD731>Inputs!$D$9,0,1))","v":""},{"$f":"IF(AE731=\"\",\"\",IF(AE731>Inputs!$D$9,0,1))","v":""},{"$f":"IF(AF731=\"\",\"\",IF(AF731>Inputs!$D$9,0,1))","v":""},{"$f":"IF(AG731=\"\",\"\",IF(AG731>Inputs!$D$9,0,1))","v":""},{"$f":"IF(AH731=\"\",\"\",IF(AH731>Inputs!$D$9,0,1))","v":""},{"$f":"IF(AI731=\"\",\"\",IF(AI731>Inputs!$D$9,0,1))","v":""},{"$f":"IF(AJ731=\"\",\"\",IF(AJ731>Inputs!$D$9,0,1))","v":""},{"$f":"IF(AK731=\"\",\"\",IF(AK731>Inputs!$D$9,0,1))","v":""},{"$f":"IF(AL731=\"\",\"\",IF(AL731>Inputs!$D$9,0,1))","v":""},"",0,null,"","","","","","","","","","","","","","",null,null,"","","","","","","","","","","","",""]
[null,null,null,null,null,null,null,null,null,null,null,null,null,null,"","","","","","","","","","","","","","","","","","","","","","","","",null,{"$f":"IF(AA732=\"\",\"\",IF(AA732>Inputs!$D$9,0,1))","v":""},{"$f":"IF(AB732=\"\",\"\",IF(AB732>Inputs!$D$9,0,1))","v":""},{"$f":"IF(AC732=\"\",\"\",IF(AC732>Inputs!$D$9,0,1))","v":""},{"$f":"IF(AD732=\"\",\"\",IF(AD732>Inputs!$D$9,0,1))","v":""},{"$f":"IF(AE732=\"\",\"\",IF(AE732>Inputs!$D$9,0,1))","v":""},{"$f":"IF(AF732=\"\",\"\",IF(AF732>Inputs!$D$9,0,1))","v":""},{"$f":"IF(AG732=\"\",\"\",IF(AG732>Inputs!$D$9,0,1))","v":""},{"$f":"IF(AH732=\"\",\"\",IF(AH732>Inputs!$D$9,0,1))","v":""},{"$f":"IF(AI732=\"\",\"\",IF(AI732>Inputs!$D$9,0,1))","v":""},{"$f":"IF(AJ732=\"\",\"\",IF(AJ732>Inputs!$D$9,0,1))","v":""},{"$f":"IF(AK732=\"\",\"\",IF(AK732>Inputs!$D$9,0,1))","v":""},{"$f":"IF(AL732=\"\",\"\",IF(AL732>Inputs!$D$9,0,1))","v":""},"",0,null,"","","","","","","","","","","","","","",null,null,"","","","","","","","","","","","",""]
[null,null,null,null,null,null,null,null,null,null,null,null,null,null,"","","","","","","","","","","","","","","","","","","","","","","","",null,{"$f":"IF(AA733=\"\",\"\",IF(AA733>Inputs!$D$9,0,1))","v":""},{"$f":"IF(AB733=\"\",\"\",IF(AB733>Inputs!$D$9,0,1))","v":""},{"$f":"IF(AC733=\"\",\"\",IF(AC733>Inputs!$D$9,0,1))","v":""},{"$f":"IF(AD733=\"\",\"\",IF(AD733>Inputs!$D$9,0,1))","v":""},{"$f":"IF(AE733=\"\",\"\",IF(AE733>Inputs!$D$9,0,1))","v":""},{"$f":"IF(AF733=\"\",\"\",IF(AF733>Inputs!$D$9,0,1))","v":""},{"$f":"IF(AG733=\"\",\"\",IF(AG733>Inputs!$D$9,0,1))","v":""},{"$f":"IF(AH733=\"\",\"\",IF(AH733>Inputs!$D$9,0,1))","v":""},{"$f":"IF(AI733=\"\",\"\",IF(AI733>Inputs!$D$9,0,1))","v":""},{"$f":"IF(AJ733=\"\",\"\",IF(AJ733>Inputs!$D$9,0,1))","v":""},{"$f":"IF(AK733=\"\",\"\",IF(AK733>Inputs!$D$9,0,1))","v":""},{"$f":"IF(AL733=\"\",\"\",IF(AL733>Inputs!$D$9,0,1))","v":""},"",0,null,"","","","","","","","","","","","","","",null,null,"","","","","","","","","","","","",""]
[null,null,null,null,null,null,null,null,null,null,null,null,null,null,"","","","","","","","","","","","","","","","","","","","","","","","",null,{"$f":"IF(AA734=\"\",\"\",IF(AA734>Inputs!$D$9,0,1))","v":""},{"$f":"IF(AB734=\"\",\"\",IF(AB734>Inputs!$D$9,0,1))","v":""},{"$f":"IF(AC734=\"\",\"\",IF(AC734>Inputs!$D$9,0,1))","v":""},{"$f":"IF(AD734=\"\",\"\",IF(AD734>Inputs!$D$9,0,1))","v":""},{"$f":"IF(AE734=\"\",\"\",IF(AE734>Inputs!$D$9,0,1))","v":""},{"$f":"IF(AF734=\"\",\"\",IF(AF734>Inputs!$D$9,0,1))","v":""},{"$f":"IF(AG734=\"\",\"\",IF(AG734>Inputs!$D$9,0,1))","v":""},{"$f":"IF(AH734=\"\",\"\",IF(AH734>Inputs!$D$9,0,1))","v":""},{"$f":"IF(AI734=\"\",\"\",IF(AI734>Inputs!$D$9,0,1))","v":""},{"$f":"IF(AJ734=\"\",\"\",IF(AJ734>Inputs!$D$9,0,1))","v":""},{"$f":"IF(AK734=\"\",\"\",IF(AK734>Inputs!$D$9,0,1))","v":""},{"$f":"IF(AL734=\"\",\"\",IF(AL734>Inputs!$D$9,0,1))","v":""},"",0,null,"","","","","","","","","","","","","","",null,null,"","","","","","","","","","","","",""]
[null,null,null,null,null,null,null,null,null,null,null,null,null,null,"","","","","","","","","","","","","","","","","","","","","","","","",null,{"$f":"IF(AA735=\"\",\"\",IF(AA735>Inputs!$D$9,0,1))","v":""},{"$f":"IF(AB735=\"\",\"\",IF(AB735>Inputs!$D$9,0,1))","v":""},{"$f":"IF(AC735=\"\",\"\",IF(AC735>Inputs!$D$9,0,1))","v":""},{"$f":"IF(AD735=\"\",\"\",IF(AD735>Inputs!$D$9,0,1))","v":""},{"$f":"IF(AE735=\"\",\"\",IF(AE735>Inputs!$D$9,0,1))","v":""},{"$f":"IF(AF735=\"\",\"\",IF(AF735>Inputs!$D$9,0,1))","v":""},{"$f":"IF(AG735=\"\",\"\",IF(AG735>Inputs!$D$9,0,1))","v":""},{"$f":"IF(AH735=\"\",\"\",IF(AH735>Inputs!$D$9,0,1))","v":""},{"$f":"IF(AI735=\"\",\"\",IF(AI735>Inputs!$D$9,0,1))","v":""},{"$f":"IF(AJ735=\"\",\"\",IF(AJ735>Inputs!$D$9,0,1))","v":""},{"$f":"IF(AK735=\"\",\"\",IF(AK735>Inputs!$D$9,0,1))","v":""},{"$f":"IF(AL735=\"\",\"\",IF(AL735>Inputs!$D$9,0,1))","v":""},"",0,null,"","","","","","","","","","","","","","",null,null,"","","","","","","","","","","","",""]
[null,null,null,null,null,null,null,null,null,null,null,null,null,null,"","","","","","","","","","","","","","","","","","","","","","","","",null,{"$f":"IF(AA736=\"\",\"\",IF(AA736>Inputs!$D$9,0,1))","v":""},{"$f":"IF(AB736=\"\",\"\",IF(AB736>Inputs!$D$9,0,1))","v":""},{"$f":"IF(AC736=\"\",\"\",IF(AC736>Inputs!$D$9,0,1))","v":""},{"$f":"IF(AD736=\"\",\"\",IF(AD736>Inputs!$D$9,0,1))","v":""},{"$f":"IF(AE736=\"\",\"\",IF(AE736>Inputs!$D$9,0,1))","v":""},{"$f":"IF(AF736=\"\",\"\",IF(AF736>Inputs!$D$9,0,1))","v":""},{"$f":"IF(AG736=\"\",\"\",IF(AG736>Inputs!$D$9,0,1))","v":""},{"$f":"IF(AH736=\"\",\"\",IF(AH736>Inputs!$D$9,0,1))","v":""},{"$f":"IF(AI736=\"\",\"\",IF(AI736>Inputs!$D$9,0,1))","v":""},{"$f":"IF(AJ736=\"\",\"\",IF(AJ736>Inputs!$D$9,0,1))","v":""},{"$f":"IF(AK736=\"\",\"\",IF(AK736>Inputs!$D$9,0,1))","v":""},{"$f":"IF(AL736=\"\",\"\",IF(AL736>Inputs!$D$9,0,1))","v":""},"",0,null,"","","","","","","","","","","","","","",null,null,"","","","","","","","","","","","",""]
[null,null,null,null,null,null,null,null,null,null,null,null,null,null,"","","","","","","","","","","","","","","","","","","","","","","","",null,{"$f":"IF(AA737=\"\",\"\",IF(AA737>Inputs!$D$9,0,1))","v":""},{"$f":"IF(AB737=\"\",\"\",IF(AB737>Inputs!$D$9,0,1))","v":""},{"$f":"IF(AC737=\"\",\"\",IF(AC737>Inputs!$D$9,0,1))","v":""},{"$f":"IF(AD737=\"\",\"\",IF(AD737>Inputs!$D$9,0,1))","v":""},{"$f":"IF(AE737=\"\",\"\",IF(AE737>Inputs!$D$9,0,1))","v":""},{"$f":"IF(AF737=\"\",\"\",IF(AF737>Inputs!$D$9,0,1))","v":""},{"$f":"IF(AG737=\"\",\"\",IF(AG737>Inputs!$D$9,0,1))","v":""},{"$f":"IF(AH737=\"\",\"\",IF(AH737>Inputs!$D$9,0,1))","v":""},{"$f":"IF(AI737=\"\",\"\",IF(AI737>Inputs!$D$9,0,1))","v":""},{"$f":"IF(AJ737=\"\",\"\",IF(AJ737>Inputs!$D$9,0,1))","v":""},{"$f":"IF(AK737=\"\",\"\",IF(AK737>Inputs!$D$9,0,1))","v":""},{"$f":"IF(AL737=\"\",\"\",IF(AL737>Inputs!$D$9,0,1))","v":""},"",0,null,"","","","","","","","","","","","","","",null,null,"","","","","","","","","","","","",""]
[null,null,null,null,null,null,null,null,null,null,null,null,null,null,"","","","","","","","","","","","","","","","","","","","","","","","",null,{"$f":"IF(AA738=\"\",\"\",IF(AA738>Inputs!$D$9,0,1))","v":""},{"$f":"IF(AB738=\"\",\"\",IF(AB738>Inputs!$D$9,0,1))","v":""},{"$f":"IF(AC738=\"\",\"\",IF(AC738>Inputs!$D$9,0,1))","v":""},{"$f":"IF(AD738=\"\",\"\",IF(AD738>Inputs!$D$9,0,1))","v":""},{"$f":"IF(AE738=\"\",\"\",IF(AE738>Inputs!$D$9,0,1))","v":""},{"$f":"IF(AF738=\"\",\"\",IF(AF738>Inputs!$D$9,0,1))","v":""},{"$f":"IF(AG738=\"\",\"\",IF(AG738>Inputs!$D$9,0,1))","v":""},{"$f":"IF(AH738=\"\",\"\",IF(AH738>Inputs!$D$9,0,1))","v":""},{"$f":"IF(AI738=\"\",\"\",IF(AI738>Inputs!$D$9,0,1))","v":""},{"$f":"IF(AJ738=\"\",\"\",IF(AJ738>Inputs!$D$9,0,1))","v":""},{"$f":"IF(AK738=\"\",\"\",IF(AK738>Inputs!$D$9,0,1))","v":""},{"$f":"IF(AL738=\"\",\"\",IF(AL738>Inputs!$D$9,0,1))","v":""},{"$f":"IF(COUNT(AN738:AY738)=0,\"\",SUM(AN738:AY738)/COUNT(AN738:AY738))","v":""},0,null,"","","","","","","","","","","","","","",null,null,"","","","","","","","","","","","",""]
[null,null,null,null,null,null,null,null,null,null,null,null,null,null,"","","","","","","","","","","","",{"$f":"IF($A739=\"\",\"\",IF(ISERROR(RANK(O739,$O$2:$O$1000,0)),\"\",RANK(O739,$O$2:$O$1000,0)))","v":""},{"$f":"IF($A739=\"\",\"\",IF(ISERROR(RANK(P739,$P$2:$P$1000,0)),\"\",RANK(P739,$P$2:$P$1000,0)))","v":""},{"$f":"IF($A739=\"\",\"\",IF(ISERROR(RANK(Q739,$Q$2:$Q$1000,0)),\"\",RANK(Q739,$Q$2:$Q$1000,0)))","v":""},{"$f":"IF($A739=\"\",\"\",IF(ISERROR(RANK(R739,$R$2:$R$1000,0)),\"\",RANK(R739,$R$2:$R$1000,0)))","v":""},{"$f":"IF($A739=\"\",\"\",IF(ISERROR(RANK(S739,$S$2:$S$1000,0)),\"\",RANK(S739,$S$2:$S$1000,0)))","v":""},{"$f":"IF($A739=\"\",\"\",IF(ISERROR(RANK(T739,$T$2:$T$1000,0)),\"\",RANK(T739,$T$2:$T$1000,0)))","v":""},{"$f":"IF($A739=\"\",\"\",IF(ISERROR(RANK(U739,$U$2:$U$1000,0)),\"\",RANK(U739,$U$2:$U$1000,0)))","v":""},{"$f":"IF($A739=\"\",\"\",IF(ISERROR(RANK(V739,$V$2:$V$1000,0)),\"\",RANK(V739,$V$2:$V$1000,0)))","v":""},{"$f":"IF($A739=\"\",\"\",IF(ISERROR(RANK(W739,$W$2:$W$1000,0)),\"\",RANK(W739,$W$2:$W$1000,0)))","v":""},{"$f":"IF($A739=\"\",\"\",IF(ISERROR(RANK(X739,$X$2:$X$1000,0)),\"\",RANK(X739,$X$2:$X$1000,0)))","v":""},{"$f":"IF($A739=\"\",\"\",IF(ISERROR(RANK(Y739,$Y$2:$Y$1000,0)),\"\",RANK(Y739,$Y$2:$Y$1000,0)))","v":""},{"$f":"IF($A739=\"\",\"\",IF(ISERROR(RANK(Z739,$Z$2:$Z$1000,0)),\"\",RANK(Z739,$Z$2:$Z$1000,0)))","v":""},null,{"$f":"IF(AA739=\"\",\"\",IF(AA739>Inputs!$D$9,0,1))","v":""},{"$f":"IF(AB739=\"\",\"\",IF(AB739>Inputs!$D$9,0,1))","v":""},{"$f":"IF(AC739=\"\",\"\",IF(AC739>Inputs!$D$9,0,1))","v":""},{"$f":"IF(AD739=\"\",\"\",IF(AD739>Inputs!$D$9,0,1))","v":""},{"$f":"IF(AE739=\"\",\"\",IF(AE739>Inputs!$D$9,0,1))","v":""},{"$f":"IF(AF739=\"\",\"\",IF(AF739>Inputs!$D$9,0,1))","v":""},{"$f":"IF(AG739=\"\",\"\",IF(AG739>Inputs!$D$9,0,1))","v":""},{"$f":"IF(AH739=\"\",\"\",IF(AH739>Inputs!$D$9,0,1))","v":""},{"$f":"IF(AI739=\"\",\"\",IF(AI739>Inputs!$D$9,0,1))","v":""},{"$f":"IF(AJ739=\"\",\"\",IF(AJ739>Inputs!$D$9,0,1))","v":""},{"$f":"IF(AK739=\"\",\"\",IF(AK739>Inputs!$D$9,0,1))","v":""},{"$f":"IF(AL739=\"\",\"\",IF(AL739>Inputs!$D$9,0,1))","v":""},"",0,null,"","","","","","","","","","","","","","",null,null,"","","","","","","","","","","","",""]
[null,null,null,null,null,null,null,null,null,null,null,null,null,null,"","","","","","","","","","","","","","","","","","","","","","","","",null,{"$f":"IF(AA740=\"\",\"\",IF(AA740>Inputs!$D$9,0,1))","v":""},{"$f":"IF(AB740=\"\",\"\",IF(AB740>Inputs!$D$9,0,1))","v":""},{"$f":"IF(AC740=\"\",\"\",IF(AC740>Inputs!$D$9,0,1))","v":""},{"$f":"IF(AD740=\"\",\"\",IF(AD740>Inputs!$D$9,0,1))","v":""},{"$f":"IF(AE740=\"\",\"\",IF(AE740>Inputs!$D$9,0,1))","v":""},{"$f":"IF(AF740=\"\",\"\",IF(AF740>Inputs!$D$9,0,1))","v":""},{"$f":"IF(AG740=\"\",\"\",IF(AG740>Inputs!$D$9,0,1))","v":""},{"$f":"IF(AH740=\"\",\"\",IF(AH740>Inputs!$D$9,0,1))","v":""},{"$f":"IF(AI740=\"\",\"\",IF(AI740>Inputs!$D$9,0,1))","v":""},{"$f":"IF(AJ740=\"\",\"\",IF(AJ740>Inputs!$D$9,0,1))","v":""},{"$f":"IF(AK740=\"\",\"\",IF(AK740>Inputs!$D$9,0,1))","v":""},{"$f":"IF(AL740=\"\",\"\",IF(AL740>Inputs!$D$9,0,1))","v":""},"",0,null,"","","","","","","","","","","","","","",null,null,"","","","","","","","","","","","",""]
[null,null,null,null,null,null,null,null,null,null,null,null,null,null,"","","","","","","","","","","","","","","","","","","","","","","","",null,{"$f":"IF(AA741=\"\",\"\",IF(AA741>Inputs!$D$9,0,1))","v":""},{"$f":"IF(AB741=\"\",\"\",IF(AB741>Inputs!$D$9,0,1))","v":""},{"$f":"IF(AC741=\"\",\"\",IF(AC741>Inputs!$D$9,0,1))","v":""},{"$f":"IF(AD741=\"\",\"\",IF(AD741>Inputs!$D$9,0,1))","v":""},{"$f":"IF(AE741=\"\",\"\",IF(AE741>Inputs!$D$9,0,1))","v":""},{"$f":"IF(AF741=\"\",\"\",IF(AF741>Inputs!$D$9,0,1))","v":""},{"$f":"IF(AG741=\"\",\"\",IF(AG741>Inputs!$D$9,0,1))","v":""},{"$f":"IF(AH741=\"\",\"\",IF(AH741>Inputs!$D$9,0,1))","v":""},{"$f":"IF(AI741=\"\",\"\",IF(AI741>Inputs!$D$9,0,1))","v":""},{"$f":"IF(AJ741=\"\",\"\",IF(AJ741>Inputs!$D$9,0,1))","v":""},{"$f":"IF(AK741=\"\",\"\",IF(AK741>Inputs!$D$9,0,1))","v":""},{"$f":"IF(AL741=\"\",\"\",IF(AL741>Inputs!$D$9,0,1))","v":""},"",0,null,"","","","","","","","","","","","","","",null,null,"","","","","","","","","","","","",""]
[null,null,null,null,null,null,null,null,null,null,null,null,null,null,"","","","","","","","","","","","","","","","","","","","","","","","",null,{"$f":"IF(AA742=\"\",\"\",IF(AA742>Inputs!$D$9,0,1))","v":""},{"$f":"IF(AB742=\"\",\"\",IF(AB742>Inputs!$D$9,0,1))","v":""},{"$f":"IF(AC742=\"\",\"\",IF(AC742>Inputs!$D$9,0,1))","v":""},{"$f":"IF(AD742=\"\",\"\",IF(AD742>Inputs!$D$9,0,1))","v":""},{"$f":"IF(AE742=\"\",\"\",IF(AE742>Inputs!$D$9,0,1))","v":""},{"$f":"IF(AF742=\"\",\"\",IF(AF742>Inputs!$D$9,0,1))","v":""},{"$f":"IF(AG742=\"\",\"\",IF(AG742>Inputs!$D$9,0,1))","v":""},{"$f":"IF(AH742=\"\",\"\",IF(AH742>Inputs!$D$9,0,1))","v":""},{"$f":"IF(AI742=\"\",\"\",IF(AI742>Inputs!$D$9,0,1))","v":""},{"$f":"IF(AJ742=\"\",\"\",IF(AJ742>Inputs!$D$9,0,1))","v":""},{"$f":"IF(AK742=\"\",\"\",IF(AK742>Inputs!$D$9,0,1))","v":""},{"$f":"IF(AL742=\"\",\"\",IF(AL742>Inputs!$D$9,0,1))","v":""},"",0,null,"","","","","","","","","","","","","","",null,null,"","","","","","","","","","","","",""]
[null,null,null,null,null,null,null,null,null,null,null,null,null,null,"","","","","","","","","","","","","","","","","","","","","","","","",null,{"$f":"IF(AA743=\"\",\"\",IF(AA743>Inputs!$D$9,0,1))","v":""},{"$f":"IF(AB743=\"\",\"\",IF(AB743>Inputs!$D$9,0,1))","v":""},{"$f":"IF(AC743=\"\",\"\",IF(AC743>Inputs!$D$9,0,1))","v":""},{"$f":"IF(AD743=\"\",\"\",IF(AD743>Inputs!$D$9,0,1))","v":""},{"$f":"IF(AE743=\"\",\"\",IF(AE743>Inputs!$D$9,0,1))","v":""},{"$f":"IF(AF743=\"\",\"\",IF(AF743>Inputs!$D$9,0,1))","v":""},{"$f":"IF(AG743=\"\",\"\",IF(AG743>Inputs!$D$9,0,1))","v":""},{"$f":"IF(AH743=\"\",\"\",IF(AH743>Inputs!$D$9,0,1))","v":""},{"$f":"IF(AI743=\"\",\"\",IF(AI743>Inputs!$D$9,0,1))","v":""},{"$f":"IF(AJ743=\"\",\"\",IF(AJ743>Inputs!$D$9,0,1))","v":""},{"$f":"IF(AK743=\"\",\"\",IF(AK743>Inputs!$D$9,0,1))","v":""},{"$f":"IF(AL743=\"\",\"\",IF(AL743>Inputs!$D$9,0,1))","v":""},"",0,null,"","","","","","","","","","","","","","",null,null,"","","","","","","","","","","","",""]
[null,null,null,null,null,null,null,null,null,null,null,null,null,null,"","","","","","","","","","","","","","","","","","","","","","","","",null,{"$f":"IF(AA744=\"\",\"\",IF(AA744>Inputs!$D$9,0,1))","v":""},{"$f":"IF(AB744=\"\",\"\",IF(AB744>Inputs!$D$9,0,1))","v":""},{"$f":"IF(AC744=\"\",\"\",IF(AC744>Inputs!$D$9,0,1))","v":""},{"$f":"IF(AD744=\"\",\"\",IF(AD744>Inputs!$D$9,0,1))","v":""},{"$f":"IF(AE744=\"\",\"\",IF(AE744>Inputs!$D$9,0,1))","v":""},{"$f":"IF(AF744=\"\",\"\",IF(AF744>Inputs!$D$9,0,1))","v":""},{"$f":"IF(AG744=\"\",\"\",IF(AG744>Inputs!$D$9,0,1))","v":""},{"$f":"IF(AH744=\"\",\"\",IF(AH744>Inputs!$D$9,0,1))","v":""},{"$f":"IF(AI744=\"\",\"\",IF(AI744>Inputs!$D$9,0,1))","v":""},{"$f":"IF(AJ744=\"\",\"\",IF(AJ744>Inputs!$D$9,0,1))","v":""},{"$f":"IF(AK744=\"\",\"\",IF(AK744>Inputs!$D$9,0,1))","v":""},{"$f":"IF(AL744=\"\",\"\",IF(AL744>Inputs!$D$9,0,1))","v":""},"",0,null,"","","","","","","","","","","","","","",null,null,"","","","","","","","","","","","",""]
[null,null,null,null,null,null,null,null,null,null,null,null,null,null,"","","","","","","","","","","","","","","","","","","","","","","","",null,{"$f":"IF(AA745=\"\",\"\",IF(AA745>Inputs!$D$9,0,1))","v":""},{"$f":"IF(AB745=\"\",\"\",IF(AB745>Inputs!$D$9,0,1))","v":""},{"$f":"IF(AC745=\"\",\"\",IF(AC745>Inputs!$D$9,0,1))","v":""},{"$f":"IF(AD745=\"\",\"\",IF(AD745>Inputs!$D$9,0,1))","v":""},{"$f":"IF(AE745=\"\",\"\",IF(AE745>Inputs!$D$9,0,1))","v":""},{"$f":"IF(AF745=\"\",\"\",IF(AF745>Inputs!$D$9,0,1))","v":""},{"$f":"IF(AG745=\"\",\"\",IF(AG745>Inputs!$D$9,0,1))","v":""},{"$f":"IF(AH745=\"\",\"\",IF(AH745>Inputs!$D$9,0,1))","v":""},{"$f":"IF(AI745=\"\",\"\",IF(AI745>Inputs!$D$9,0,1))","v":""},{"$f":"IF(AJ745=\"\",\"\",IF(AJ745>Inputs!$D$9,0,1))","v":""},{"$f":"IF(AK745=\"\",\"\",IF(AK745>Inputs!$D$9,0,1))","v":""},{"$f":"IF(AL745=\"\",\"\",IF(AL745>Inputs!$D$9,0,1))","v":""},"",0,null,"","","","","","","","","","","","","","",null,null,"","","","","","","","","","","","",""]
[null,null,null,null,null,null,null,null,null,null,null,null,null,null,"","","","","","","","","","","","","","","","","","","","","","","","",null,{"$f":"IF(AA746=\"\",\"\",IF(AA746>Inputs!$D$9,0,1))","v":""},{"$f":"IF(AB746=\"\",\"\",IF(AB746>Inputs!$D$9,0,1))","v":""},{"$f":"IF(AC746=\"\",\"\",IF(AC746>Inputs!$D$9,0,1))","v":""},{"$f":"IF(AD746=\"\",\"\",IF(AD746>Inputs!$D$9,0,1))","v":""},{"$f":"IF(AE746=\"\",\"\",IF(AE746>Inputs!$D$9,0,1))","v":""},{"$f":"IF(AF746=\"\",\"\",IF(AF746>Inputs!$D$9,0,1))","v":""},{"$f":"IF(AG746=\"\",\"\",IF(AG746>Inputs!$D$9,0,1))","v":""},{"$f":"IF(AH746=\"\",\"\",IF(AH746>Inputs!$D$9,0,1))","v":""},{"$f":"IF(AI746=\"\",\"\",IF(AI746>Inputs!$D$9,0,1))","v":""},{"$f":"IF(AJ746=\"\",\"\",IF(AJ746>Inputs!$D$9,0,1))","v":""},{"$f":"IF(AK746=\"\",\"\",IF(AK746>Inputs!$D$9,0,1))","v":""},{"$f":"IF(AL746=\"\",\"\",IF(AL746>Inputs!$D$9,0,1))","v":""},"",0,null,"","","","","","","","","","","","","","",null,null,"","","","","","","","","","","","",""]
[null,null,null,null,null,null,null,null,null,null,null,null,null,null,"","","","","","","","","","","","","","","","","","","","","","","","",null,{"$f":"IF(AA747=\"\",\"\",IF(AA747>Inputs!$D$9,0,1))","v":""},{"$f":"IF(AB747=\"\",\"\",IF(AB747>Inputs!$D$9,0,1))","v":""},{"$f":"IF(AC747=\"\",\"\",IF(AC747>Inputs!$D$9,0,1))","v":""},{"$f":"IF(AD747=\"\",\"\",IF(AD747>Inputs!$D$9,0,1))","v":""},{"$f":"IF(AE747=\"\",\"\",IF(AE747>Inputs!$D$9,0,1))","v":""},{"$f":"IF(AF747=\"\",\"\",IF(AF747>Inputs!$D$9,0,1))","v":""},{"$f":"IF(AG747=\"\",\"\",IF(AG747>Inputs!$D$9,0,1))","v":""},{"$f":"IF(AH747=\"\",\"\",IF(AH747>Inputs!$D$9,0,1))","v":""},{"$f":"IF(AI747=\"\",\"\",IF(AI747>Inputs!$D$9,0,1))","v":""},{"$f":"IF(AJ747=\"\",\"\",IF(AJ747>Inputs!$D$9,0,1))","v":""},{"$f":"IF(AK747=\"\",\"\",IF(AK747>Inputs!$D$9,0,1))","v":""},{"$f":"IF(AL747=\"\",\"\",IF(AL747>Inputs!$D$9,0,1))","v":""},"",0,null,"","","","","","","","","","","","","","",null,null,"","","","","","","","","","","","",""]
[null,null,null,null,null,null,null,null,null,null,null,null,null,null,"","","","","","","","","","","","","","","","","","","","","","","","",null,{"$f":"IF(AA748=\"\",\"\",IF(AA748>Inputs!$D$9,0,1))","v":""},{"$f":"IF(AB748=\"\",\"\",IF(AB748>Inputs!$D$9,0,1))","v":""},{"$f":"IF(AC748=\"\",\"\",IF(AC748>Inputs!$D$9,0,1))","v":""},{"$f":"IF(AD748=\"\",\"\",IF(AD748>Inputs!$D$9,0,1))","v":""},{"$f":"IF(AE748=\"\",\"\",IF(AE748>Inputs!$D$9,0,1))","v":""},{"$f":"IF(AF748=\"\",\"\",IF(AF748>Inputs!$D$9,0,1))","v":""},{"$f":"IF(AG748=\"\",\"\",IF(AG748>Inputs!$D$9,0,1))","v":""},{"$f":"IF(AH748=\"\",\"\",IF(AH748>Inputs!$D$9,0,1))","v":""},{"$f":"IF(AI748=\"\",\"\",IF(AI748>Inputs!$D$9,0,1))","v":""},{"$f":"IF(AJ748=\"\",\"\",IF(AJ748>Inputs!$D$9,0,1))","v":""},{"$f":"IF(AK748=\"\",\"\",IF(AK748>Inputs!$D$9,0,1))","v":""},{"$f":"IF(AL748=\"\",\"\",IF(AL748>Inputs!$D$9,0,1))","v":""},"",0,null,"","","","","","","","","","","","","","",null,null,"","","","","","","","","","","","",""]
[null,null,null,null,null,null,null,null,null,null,null,null,null,null,"","","","","","","","","","","","","","","","","","","","","","","","",null,{"$f":"IF(AA749=\"\",\"\",IF(AA749>Inputs!$D$9,0,1))","v":""},{"$f":"IF(AB749=\"\",\"\",IF(AB749>Inputs!$D$9,0,1))","v":""},{"$f":"IF(AC749=\"\",\"\",IF(AC749>Inputs!$D$9,0,1))","v":""},{"$f":"IF(AD749=\"\",\"\",IF(AD749>Inputs!$D$9,0,1))","v":""},{"$f":"IF(AE749=\"\",\"\",IF(AE749>Inputs!$D$9,0,1))","v":""},{"$f":"IF(AF749=\"\",\"\",IF(AF749>Inputs!$D$9,0,1))","v":""},{"$f":"IF(AG749=\"\",\"\",IF(AG749>Inputs!$D$9,0,1))","v":""},{"$f":"IF(AH749=\"\",\"\",IF(AH749>Inputs!$D$9,0,1))","v":""},{"$f":"IF(AI749=\"\",\"\",IF(AI749>Inputs!$D$9,0,1))","v":""},{"$f":"IF(AJ749=\"\",\"\",IF(AJ749>Inputs!$D$9,0,1))","v":""},{"$f":"IF(AK749=\"\",\"\",IF(AK749>Inputs!$D$9,0,1))","v":""},{"$f":"IF(AL749=\"\",\"\",IF(AL749>Inputs!$D$9,0,1))","v":""},"",0,null,"","","","","","","","","","","","","","",null,null,"","","","","","","","","","","","",""]
[null,null,null,null,null,null,null,null,null,null,null,null,null,null,"","","","","","","","","","","","","","","","","","","","","","","","",null,{"$f":"IF(AA750=\"\",\"\",IF(AA750>Inputs!$D$9,0,1))","v":""},{"$f":"IF(AB750=\"\",\"\",IF(AB750>Inputs!$D$9,0,1))","v":""},{"$f":"IF(AC750=\"\",\"\",IF(AC750>Inputs!$D$9,0,1))","v":""},{"$f":"IF(AD750=\"\",\"\",IF(AD750>Inputs!$D$9,0,1))","v":""},{"$f":"IF(AE750=\"\",\"\",IF(AE750>Inputs!$D$9,0,1))","v":""},{"$f":"IF(AF750=\"\",\"\",IF(AF750>Inputs!$D$9,0,1))","v":""},{"$f":"IF(AG750=\"\",\"\",IF(AG750>Inputs!$D$9,0,1))","v":""},{"$f":"IF(AH750=\"\",\"\",IF(AH750>Inputs!$D$9,0,1))","v":""},{"$f":"IF(AI750=\"\",\"\",IF(AI750>Inputs!$D$9,0,1))","v":""},{"$f":"IF(AJ750=\"\",\"\",IF(AJ750>Inputs!$D$9,0,1))","v":""},{"$f":"IF(AK750=\"\",\"\",IF(AK750>Inputs!$D$9,0,1))","v":""},{"$f":"IF(AL750=\"\",\"\",IF(AL750>Inputs!$D$9,0,1))","v":""},"",0,null,"","","","","","","","","","","","","","",null,null,"","","","","","","","","","","","",""]
[null,null,null,null,null,null,null,null,null,null,null,null,null,null,"","","","","","","","","","","","","","","","","","","","","","","","",null,{"$f":"IF(AA751=\"\",\"\",IF(AA751>Inputs!$D$9,0,1))","v":""},{"$f":"IF(AB751=\"\",\"\",IF(AB751>Inputs!$D$9,0,1))","v":""},{"$f":"IF(AC751=\"\",\"\",IF(AC751>Inputs!$D$9,0,1))","v":""},{"$f":"IF(AD751=\"\",\"\",IF(AD751>Inputs!$D$9,0,1))","v":""},{"$f":"IF(AE751=\"\",\"\",IF(AE751>Inputs!$D$9,0,1))","v":""},{"$f":"IF(AF751=\"\",\"\",IF(AF751>Inputs!$D$9,0,1))","v":""},{"$f":"IF(AG751=\"\",\"\",IF(AG751>Inputs!$D$9,0,1))","v":""},{"$f":"IF(AH751=\"\",\"\",IF(AH751>Inputs!$D$9,0,1))","v":""},{"$f":"IF(AI751=\"\",\"\",IF(AI751>Inputs!$D$9,0,1))","v":""},{"$f":"IF(AJ751=\"\",\"\",IF(AJ751>Inputs!$D$9,0,1))","v":""},{"$f":"IF(AK751=\"\",\"\",IF(AK751>Inputs!$D$9,0,1))","v":""},{"$f":"IF(AL751=\"\",\"\",IF(AL751>Inputs!$D$9,0,1))","v":""},"",0,null,"","","","","","","","","","","","","","",null,null,"","","","","","","","","","","","",""]
[null,null,null,null,null,null,null,null,null,null,null,null,null,null,"","","","","","","","","","","","","","","","","","","","","","","","",null,{"$f":"IF(AA752=\"\",\"\",IF(AA752>Inputs!$D$9,0,1))","v":""},{"$f":"IF(AB752=\"\",\"\",IF(AB752>Inputs!$D$9,0,1))","v":""},{"$f":"IF(AC752=\"\",\"\",IF(AC752>Inputs!$D$9,0,1))","v":""},{"$f":"IF(AD752=\"\",\"\",IF(AD752>Inputs!$D$9,0,1))","v":""},{"$f":"IF(AE752=\"\",\"\",IF(AE752>Inputs!$D$9,0,1))","v":""},{"$f":"IF(AF752=\"\",\"\",IF(AF752>Inputs!$D$9,0,1))","v":""},{"$f":"IF(AG752=\"\",\"\",IF(AG752>Inputs!$D$9,0,1))","v":""},{"$f":"IF(AH752=\"\",\"\",IF(AH752>Inputs!$D$9,0,1))","v":""},{"$f":"IF(AI752=\"\",\"\",IF(AI752>Inputs!$D$9,0,1))","v":""},{"$f":"IF(AJ752=\"\",\"\",IF(AJ752>Inputs!$D$9,0,1))","v":""},{"$f":"IF(AK752=\"\",\"\",IF(AK752>Inputs!$D$9,0,1))","v":""},{"$f":"IF(AL752=\"\",\"\",IF(AL752>Inputs!$D$9,0,1))","v":""},"",0,null,"","","","","","","","","","","","","","",null,null,"","","","","","","","","","","","",""]
[null,null,null,null,null,null,null,null,null,null,null,null,null,null,"","","","","","","","","","","","","","","","","","","","","","","","",null,{"$f":"IF(AA753=\"\",\"\",IF(AA753>Inputs!$D$9,0,1))","v":""},{"$f":"IF(AB753=\"\",\"\",IF(AB753>Inputs!$D$9,0,1))","v":""},{"$f":"IF(AC753=\"\",\"\",IF(AC753>Inputs!$D$9,0,1))","v":""},{"$f":"IF(AD753=\"\",\"\",IF(AD753>Inputs!$D$9,0,1))","v":""},{"$f":"IF(AE753=\"\",\"\",IF(AE753>Inputs!$D$9,0,1))","v":""},{"$f":"IF(AF753=\"\",\"\",IF(AF753>Inputs!$D$9,0,1))","v":""},{"$f":"IF(AG753=\"\",\"\",IF(AG753>Inputs!$D$9,0,1))","v":""},{"$f":"IF(AH753=\"\",\"\",IF(AH753>Inputs!$D$9,0,1))","v":""},{"$f":"IF(AI753=\"\",\"\",IF(AI753>Inputs!$D$9,0,1))","v":""},{"$f":"IF(AJ753=\"\",\"\",IF(AJ753>Inputs!$D$9,0,1))","v":""},{"$f":"IF(AK753=\"\",\"\",IF(AK753>Inputs!$D$9,0,1))","v":""},{"$f":"IF(AL753=\"\",\"\",IF(AL753>Inputs!$D$9,0,1))","v":""},"",0,null,"","","","","","","","","","","","","","",null,null,"","","","","","","","","","","","",""]
[null,null,null,null,null,null,null,null,null,null,null,null,null,null,"","","","","","","","","","","","","","","","","","","","","","","","",null,{"$f":"IF(AA754=\"\",\"\",IF(AA754>Inputs!$D$9,0,1))","v":""},{"$f":"IF(AB754=\"\",\"\",IF(AB754>Inputs!$D$9,0,1))","v":""},{"$f":"IF(AC754=\"\",\"\",IF(AC754>Inputs!$D$9,0,1))","v":""},{"$f":"IF(AD754=\"\",\"\",IF(AD754>Inputs!$D$9,0,1))","v":""},{"$f":"IF(AE754=\"\",\"\",IF(AE754>Inputs!$D$9,0,1))","v":""},{"$f":"IF(AF754=\"\",\"\",IF(AF754>Inputs!$D$9,0,1))","v":""},{"$f":"IF(AG754=\"\",\"\",IF(AG754>Inputs!$D$9,0,1))","v":""},{"$f":"IF(AH754=\"\",\"\",IF(AH754>Inputs!$D$9,0,1))","v":""},{"$f":"IF(AI754=\"\",\"\",IF(AI754>Inputs!$D$9,0,1))","v":""},{"$f":"IF(AJ754=\"\",\"\",IF(AJ754>Inputs!$D$9,0,1))","v":""},{"$f":"IF(AK754=\"\",\"\",IF(AK754>Inputs!$D$9,0,1))","v":""},{"$f":"IF(AL754=\"\",\"\",IF(AL754>Inputs!$D$9,0,1))","v":""},"",0,null,"","","","","","","","","","","","","","",null,null,"","","","","","","","","","","","",""]
[null,null,null,null,null,null,null,null,null,null,null,null,null,null,"","","","","","","","","","","","","","","","","","","","","","","","",null,{"$f":"IF(AA755=\"\",\"\",IF(AA755>Inputs!$D$9,0,1))","v":""},{"$f":"IF(AB755=\"\",\"\",IF(AB755>Inputs!$D$9,0,1))","v":""},{"$f":"IF(AC755=\"\",\"\",IF(AC755>Inputs!$D$9,0,1))","v":""},{"$f":"IF(AD755=\"\",\"\",IF(AD755>Inputs!$D$9,0,1))","v":""},{"$f":"IF(AE755=\"\",\"\",IF(AE755>Inputs!$D$9,0,1))","v":""},{"$f":"IF(AF755=\"\",\"\",IF(AF755>Inputs!$D$9,0,1))","v":""},{"$f":"IF(AG755=\"\",\"\",IF(AG755>Inputs!$D$9,0,1))","v":""},{"$f":"IF(AH755=\"\",\"\",IF(AH755>Inputs!$D$9,0,1))","v":""},{"$f":"IF(AI755=\"\",\"\",IF(AI755>Inputs!$D$9,0,1))","v":""},{"$f":"IF(AJ755=\"\",\"\",IF(AJ755>Inputs!$D$9,0,1))","v":""},{"$f":"IF(AK755=\"\",\"\",IF(AK755>Inputs!$D$9,0,1))","v":""},{"$f":"IF(AL755=\"\",\"\",IF(AL755>Inputs!$D$9,0,1))","v":""},"",0,null,"","","","","","","","","","","","","","",null,null,"","","","","","","","","","","","",""]
[null,null,null,null,null,null,null,null,null,null,null,null,null,null,"","","","","","","","","","","","","","","","","","","","","","","","",null,{"$f":"IF(AA756=\"\",\"\",IF(AA756>Inputs!$D$9,0,1))","v":""},{"$f":"IF(AB756=\"\",\"\",IF(AB756>Inputs!$D$9,0,1))","v":""},{"$f":"IF(AC756=\"\",\"\",IF(AC756>Inputs!$D$9,0,1))","v":""},{"$f":"IF(AD756=\"\",\"\",IF(AD756>Inputs!$D$9,0,1))","v":""},{"$f":"IF(AE756=\"\",\"\",IF(AE756>Inputs!$D$9,0,1))","v":""},{"$f":"IF(AF756=\"\",\"\",IF(AF756>Inputs!$D$9,0,1))","v":""},{"$f":"IF(AG756=\"\",\"\",IF(AG756>Inputs!$D$9,0,1))","v":""},{"$f":"IF(AH756=\"\",\"\",IF(AH756>Inputs!$D$9,0,1))","v":""},{"$f":"IF(AI756=\"\",\"\",IF(AI756>Inputs!$D$9,0,1))","v":""},{"$f":"IF(AJ756=\"\",\"\",IF(AJ756>Inputs!$D$9,0,1))","v":""},{"$f":"IF(AK756=\"\",\"\",IF(AK756>Inputs!$D$9,0,1))","v":""},{"$f":"IF(AL756=\"\",\"\",IF(AL756>Inputs!$D$9,0,1))","v":""},"",0,null,"","","","","","","","","","","","","","",null,null,"","","","","","","","","","","","",""]
[null,null,null,null,null,null,null,null,null,null,null,null,null,null,"","","","","","","","","","","","","","","","","","","","","","","","",null,{"$f":"IF(AA757=\"\",\"\",IF(AA757>Inputs!$D$9,0,1))","v":""},{"$f":"IF(AB757=\"\",\"\",IF(AB757>Inputs!$D$9,0,1))","v":""},{"$f":"IF(AC757=\"\",\"\",IF(AC757>Inputs!$D$9,0,1))","v":""},{"$f":"IF(AD757=\"\",\"\",IF(AD757>Inputs!$D$9,0,1))","v":""},{"$f":"IF(AE757=\"\",\"\",IF(AE757>Inputs!$D$9,0,1))","v":""},{"$f":"IF(AF757=\"\",\"\",IF(AF757>Inputs!$D$9,0,1))","v":""},{"$f":"IF(AG757=\"\",\"\",IF(AG757>Inputs!$D$9,0,1))","v":""},{"$f":"IF(AH757=\"\",\"\",IF(AH757>Inputs!$D$9,0,1))","v":""},{"$f":"IF(AI757=\"\",\"\",IF(AI757>Inputs!$D$9,0,1))","v":""},{"$f":"IF(AJ757=\"\",\"\",IF(AJ757>Inputs!$D$9,0,1))","v":""},{"$f":"IF(AK757=\"\",\"\",IF(AK757>Inputs!$D$9,0,1))","v":""},{"$f":"IF(AL757=\"\",\"\",IF(AL757>Inputs!$D$9,0,1))","v":""},"",0,null,"","","","","","","","","","","","","","",null,null,"","","","","","","","","","","","",""]
[null,null,null,null,null,null,null,null,null,null,null,null,null,null,"","","","","","","","","","","","","","","","","","","","","","","","",null,{"$f":"IF(AA758=\"\",\"\",IF(AA758>Inputs!$D$9,0,1))","v":""},{"$f":"IF(AB758=\"\",\"\",IF(AB758>Inputs!$D$9,0,1))","v":""},{"$f":"IF(AC758=\"\",\"\",IF(AC758>Inputs!$D$9,0,1))","v":""},{"$f":"IF(AD758=\"\",\"\",IF(AD758>Inputs!$D$9,0,1))","v":""},{"$f":"IF(AE758=\"\",\"\",IF(AE758>Inputs!$D$9,0,1))","v":""},{"$f":"IF(AF758=\"\",\"\",IF(AF758>Inputs!$D$9,0,1))","v":""},{"$f":"IF(AG758=\"\",\"\",IF(AG758>Inputs!$D$9,0,1))","v":""},{"$f":"IF(AH758=\"\",\"\",IF(AH758>Inputs!$D$9,0,1))","v":""},{"$f":"IF(AI758=\"\",\"\",IF(AI758>Inputs!$D$9,0,1))","v":""},{"$f":"IF(AJ758=\"\",\"\",IF(AJ758>Inputs!$D$9,0,1))","v":""},{"$f":"IF(AK758=\"\",\"\",IF(AK758>Inputs!$D$9,0,1))","v":""},{"$f":"IF(AL758=\"\",\"\",IF(AL758>Inputs!$D$9,0,1))","v":""},"",0,null,"","","","","","","","","","","","","","",null,null,"","","","","","","","","","","","",""]
[null,null,null,null,null,null,null,null,null,null,null,null,null,null,"","","","","","","","","","","","","","","","","","","","","","","","",null,{"$f":"IF(AA759=\"\",\"\",IF(AA759>Inputs!$D$9,0,1))","v":""},{"$f":"IF(AB759=\"\",\"\",IF(AB759>Inputs!$D$9,0,1))","v":""},{"$f":"IF(AC759=\"\",\"\",IF(AC759>Inputs!$D$9,0,1))","v":""},{"$f":"IF(AD759=\"\",\"\",IF(AD759>Inputs!$D$9,0,1))","v":""},{"$f":"IF(AE759=\"\",\"\",IF(AE759>Inputs!$D$9,0,1))","v":""},{"$f":"IF(AF759=\"\",\"\",IF(AF759>Inputs!$D$9,0,1))","v":""},{"$f":"IF(AG759=\"\",\"\",IF(AG759>Inputs!$D$9,0,1))","v":""},{"$f":"IF(AH759=\"\",\"\",IF(AH759>Inputs!$D$9,0,1))","v":""},{"$f":"IF(AI759=\"\",\"\",IF(AI759>Inputs!$D$9,0,1))","v":""},{"$f":"IF(AJ759=\"\",\"\",IF(AJ759>Inputs!$D$9,0,1))","v":""},{"$f":"IF(AK759=\"\",\"\",IF(AK759>Inputs!$D$9,0,1))","v":""},{"$f":"IF(AL759=\"\",\"\",IF(AL759>Inputs!$D$9,0,1))","v":""},"",0,null,"","","","","","","","","","","","","","",null,null,"","","","","","","","","","","","",""]
[null,null,null,null,null,null,null,null,null,null,null,null,null,null,"","","","","","","","","","","","","","","","","","","","","","","","",null,{"$f":"IF(AA760=\"\",\"\",IF(AA760>Inputs!$D$9,0,1))","v":""},{"$f":"IF(AB760=\"\",\"\",IF(AB760>Inputs!$D$9,0,1))","v":""},{"$f":"IF(AC760=\"\",\"\",IF(AC760>Inputs!$D$9,0,1))","v":""},{"$f":"IF(AD760=\"\",\"\",IF(AD760>Inputs!$D$9,0,1))","v":""},{"$f":"IF(AE760=\"\",\"\",IF(AE760>Inputs!$D$9,0,1))","v":""},{"$f":"IF(AF760=\"\",\"\",IF(AF760>Inputs!$D$9,0,1))","v":""},{"$f":"IF(AG760=\"\",\"\",IF(AG760>Inputs!$D$9,0,1))","v":""},{"$f":"IF(AH760=\"\",\"\",IF(AH760>Inputs!$D$9,0,1))","v":""},{"$f":"IF(AI760=\"\",\"\",IF(AI760>Inputs!$D$9,0,1))","v":""},{"$f":"IF(AJ760=\"\",\"\",IF(AJ760>Inputs!$D$9,0,1))","v":""},{"$f":"IF(AK760=\"\",\"\",IF(AK760>Inputs!$D$9,0,1))","v":""},{"$f":"IF(AL760=\"\",\"\",IF(AL760>Inputs!$D$9,0,1))","v":""},"",0,null,"","","","","","","","","","","","","","",null,null,"","","","","","","","","","","","",""]
[null,null,null,null,null,null,null,null,null,null,null,null,null,null,"","","","","","","","","","","","","","","","","","","","","","","","",null,{"$f":"IF(AA761=\"\",\"\",IF(AA761>Inputs!$D$9,0,1))","v":""},{"$f":"IF(AB761=\"\",\"\",IF(AB761>Inputs!$D$9,0,1))","v":""},{"$f":"IF(AC761=\"\",\"\",IF(AC761>Inputs!$D$9,0,1))","v":""},{"$f":"IF(AD761=\"\",\"\",IF(AD761>Inputs!$D$9,0,1))","v":""},{"$f":"IF(AE761=\"\",\"\",IF(AE761>Inputs!$D$9,0,1))","v":""},{"$f":"IF(AF761=\"\",\"\",IF(AF761>Inputs!$D$9,0,1))","v":""},{"$f":"IF(AG761=\"\",\"\",IF(AG761>Inputs!$D$9,0,1))","v":""},{"$f":"IF(AH761=\"\",\"\",IF(AH761>Inputs!$D$9,0,1))","v":""},{"$f":"IF(AI761=\"\",\"\",IF(AI761>Inputs!$D$9,0,1))","v":""},{"$f":"IF(AJ761=\"\",\"\",IF(AJ761>Inputs!$D$9,0,1))","v":""},{"$f":"IF(AK761=\"\",\"\",IF(AK761>Inputs!$D$9,0,1))","v":""},{"$f":"IF(AL761=\"\",\"\",IF(AL761>Inputs!$D$9,0,1))","v":""},"",0,null,"","","","","","","","","","","","","","",null,null,"","","","","","","","","","","","",""]
[null,null,null,null,null,null,null,null,null,null,null,null,null,null,"","","","","","","","","","","","","","","","","","","","","","","","",null,{"$f":"IF(AA762=\"\",\"\",IF(AA762>Inputs!$D$9,0,1))","v":""},{"$f":"IF(AB762=\"\",\"\",IF(AB762>Inputs!$D$9,0,1))","v":""},{"$f":"IF(AC762=\"\",\"\",IF(AC762>Inputs!$D$9,0,1))","v":""},{"$f":"IF(AD762=\"\",\"\",IF(AD762>Inputs!$D$9,0,1))","v":""},{"$f":"IF(AE762=\"\",\"\",IF(AE762>Inputs!$D$9,0,1))","v":""},{"$f":"IF(AF762=\"\",\"\",IF(AF762>Inputs!$D$9,0,1))","v":""},{"$f":"IF(AG762=\"\",\"\",IF(AG762>Inputs!$D$9,0,1))","v":""},{"$f":"IF(AH762=\"\",\"\",IF(AH762>Inputs!$D$9,0,1))","v":""},{"$f":"IF(AI762=\"\",\"\",IF(AI762>Inputs!$D$9,0,1))","v":""},{"$f":"IF(AJ762=\"\",\"\",IF(AJ762>Inputs!$D$9,0,1))","v":""},{"$f":"IF(AK762=\"\",\"\",IF(AK762>Inputs!$D$9,0,1))","v":""},{"$f":"IF(AL762=\"\",\"\",IF(AL762>Inputs!$D$9,0,1))","v":""},"",0,null,"","","","","","","","","","","","","","",null,null,"","","","","","","","","","","","",""]
[null,null,null,null,null,null,null,null,null,null,null,null,null,null,"","","","","","","","","","","","","","","","","","","","","","","","",null,{"$f":"IF(AA763=\"\",\"\",IF(AA763>Inputs!$D$9,0,1))","v":""},{"$f":"IF(AB763=\"\",\"\",IF(AB763>Inputs!$D$9,0,1))","v":""},{"$f":"IF(AC763=\"\",\"\",IF(AC763>Inputs!$D$9,0,1))","v":""},{"$f":"IF(AD763=\"\",\"\",IF(AD763>Inputs!$D$9,0,1))","v":""},{"$f":"IF(AE763=\"\",\"\",IF(AE763>Inputs!$D$9,0,1))","v":""},{"$f":"IF(AF763=\"\",\"\",IF(AF763>Inputs!$D$9,0,1))","v":""},{"$f":"IF(AG763=\"\",\"\",IF(AG763>Inputs!$D$9,0,1))","v":""},{"$f":"IF(AH763=\"\",\"\",IF(AH763>Inputs!$D$9,0,1))","v":""},{"$f":"IF(AI763=\"\",\"\",IF(AI763>Inputs!$D$9,0,1))","v":""},{"$f":"IF(AJ763=\"\",\"\",IF(AJ763>Inputs!$D$9,0,1))","v":""},{"$f":"IF(AK763=\"\",\"\",IF(AK763>Inputs!$D$9,0,1))","v":""},{"$f":"IF(AL763=\"\",\"\",IF(AL763>Inputs!$D$9,0,1))","v":""},"",0,null,"","","","","","","","","","","","","","",null,null,"","","","","","","","","","","","",""]
[null,null,null,null,null,null,null,null,null,null,null,null,null,null,"","","","","","","","","","","","","","","","","","","","","","","","",null,{"$f":"IF(AA764=\"\",\"\",IF(AA764>Inputs!$D$9,0,1))","v":""},{"$f":"IF(AB764=\"\",\"\",IF(AB764>Inputs!$D$9,0,1))","v":""},{"$f":"IF(AC764=\"\",\"\",IF(AC764>Inputs!$D$9,0,1))","v":""},{"$f":"IF(AD764=\"\",\"\",IF(AD764>Inputs!$D$9,0,1))","v":""},{"$f":"IF(AE764=\"\",\"\",IF(AE764>Inputs!$D$9,0,1))","v":""},{"$f":"IF(AF764=\"\",\"\",IF(AF764>Inputs!$D$9,0,1))","v":""},{"$f":"IF(AG764=\"\",\"\",IF(AG764>Inputs!$D$9,0,1))","v":""},{"$f":"IF(AH764=\"\",\"\",IF(AH764>Inputs!$D$9,0,1))","v":""},{"$f":"IF(AI764=\"\",\"\",IF(AI764>Inputs!$D$9,0,1))","v":""},{"$f":"IF(AJ764=\"\",\"\",IF(AJ764>Inputs!$D$9,0,1))","v":""},{"$f":"IF(AK764=\"\",\"\",IF(AK764>Inputs!$D$9,0,1))","v":""},{"$f":"IF(AL764=\"\",\"\",IF(AL764>Inputs!$D$9,0,1))","v":""},"",0,null,"","","","","","","","","","","","","","",null,null,"","","","","","","","","","","","",""]
[null,null,null,null,null,null,null,null,null,null,null,null,null,null,"","","","","","","","","","","","","","","","","","","","","","","","",null,{"$f":"IF(AA765=\"\",\"\",IF(AA765>Inputs!$D$9,0,1))","v":""},{"$f":"IF(AB765=\"\",\"\",IF(AB765>Inputs!$D$9,0,1))","v":""},{"$f":"IF(AC765=\"\",\"\",IF(AC765>Inputs!$D$9,0,1))","v":""},{"$f":"IF(AD765=\"\",\"\",IF(AD765>Inputs!$D$9,0,1))","v":""},{"$f":"IF(AE765=\"\",\"\",IF(AE765>Inputs!$D$9,0,1))","v":""},{"$f":"IF(AF765=\"\",\"\",IF(AF765>Inputs!$D$9,0,1))","v":""},{"$f":"IF(AG765=\"\",\"\",IF(AG765>Inputs!$D$9,0,1))","v":""},{"$f":"IF(AH765=\"\",\"\",IF(AH765>Inputs!$D$9,0,1))","v":""},{"$f":"IF(AI765=\"\",\"\",IF(AI765>Inputs!$D$9,0,1))","v":""},{"$f":"IF(AJ765=\"\",\"\",IF(AJ765>Inputs!$D$9,0,1))","v":""},{"$f":"IF(AK765=\"\",\"\",IF(AK765>Inputs!$D$9,0,1))","v":""},{"$f":"IF(AL765=\"\",\"\",IF(AL765>Inputs!$D$9,0,1))","v":""},"",0,null,"","","","","","","","","","","","","","",null,null,"","","","","","","","","","","","",""]
[null,null,null,null,null,null,null,null,null,null,null,null,null,null,"","","","","","","","","","","","","","","","","","","","","","","","",null,{"$f":"IF(AA766=\"\",\"\",IF(AA766>Inputs!$D$9,0,1))","v":""},{"$f":"IF(AB766=\"\",\"\",IF(AB766>Inputs!$D$9,0,1))","v":""},{"$f":"IF(AC766=\"\",\"\",IF(AC766>Inputs!$D$9,0,1))","v":""},{"$f":"IF(AD766=\"\",\"\",IF(AD766>Inputs!$D$9,0,1))","v":""},{"$f":"IF(AE766=\"\",\"\",IF(AE766>Inputs!$D$9,0,1))","v":""},{"$f":"IF(AF766=\"\",\"\",IF(AF766>Inputs!$D$9,0,1))","v":""},{"$f":"IF(AG766=\"\",\"\",IF(AG766>Inputs!$D$9,0,1))","v":""},{"$f":"IF(AH766=\"\",\"\",IF(AH766>Inputs!$D$9,0,1))","v":""},{"$f":"IF(AI766=\"\",\"\",IF(AI766>Inputs!$D$9,0,1))","v":""},{"$f":"IF(AJ766=\"\",\"\",IF(AJ766>Inputs!$D$9,0,1))","v":""},{"$f":"IF(AK766=\"\",\"\",IF(AK766>Inputs!$D$9,0,1))","v":""},{"$f":"IF(AL766=\"\",\"\",IF(AL766>Inputs!$D$9,0,1))","v":""},"",0,null,"","","","","","","","","","","","","","",null,null,"","","","","","","","","","","","",""]
[null,null,null,null,null,null,null,null,null,null,null,null,null,null,"","","","","","","","","","","","","","","","","","","","","","","","",null,{"$f":"IF(AA767=\"\",\"\",IF(AA767>Inputs!$D$9,0,1))","v":""},{"$f":"IF(AB767=\"\",\"\",IF(AB767>Inputs!$D$9,0,1))","v":""},{"$f":"IF(AC767=\"\",\"\",IF(AC767>Inputs!$D$9,0,1))","v":""},{"$f":"IF(AD767=\"\",\"\",IF(AD767>Inputs!$D$9,0,1))","v":""},{"$f":"IF(AE767=\"\",\"\",IF(AE767>Inputs!$D$9,0,1))","v":""},{"$f":"IF(AF767=\"\",\"\",IF(AF767>Inputs!$D$9,0,1))","v":""},{"$f":"IF(AG767=\"\",\"\",IF(AG767>Inputs!$D$9,0,1))","v":""},{"$f":"IF(AH767=\"\",\"\",IF(AH767>Inputs!$D$9,0,1))","v":""},{"$f":"IF(AI767=\"\",\"\",IF(AI767>Inputs!$D$9,0,1))","v":""},{"$f":"IF(AJ767=\"\",\"\",IF(AJ767>Inputs!$D$9,0,1))","v":""},{"$f":"IF(AK767=\"\",\"\",IF(AK767>Inputs!$D$9,0,1))","v":""},{"$f":"IF(AL767=\"\",\"\",IF(AL767>Inputs!$D$9,0,1))","v":""},"",0,null,"","","","","","","","","","","","","","",null,null,"","","","","","","","","","","","",""]
[null,null,null,null,null,null,null,null,null,null,null,null,null,null,"","","","","","","","","","","","","","","","","","","","","","","","",null,{"$f":"IF(AA768=\"\",\"\",IF(AA768>Inputs!$D$9,0,1))","v":""},{"$f":"IF(AB768=\"\",\"\",IF(AB768>Inputs!$D$9,0,1))","v":""},{"$f":"IF(AC768=\"\",\"\",IF(AC768>Inputs!$D$9,0,1))","v":""},{"$f":"IF(AD768=\"\",\"\",IF(AD768>Inputs!$D$9,0,1))","v":""},{"$f":"IF(AE768=\"\",\"\",IF(AE768>Inputs!$D$9,0,1))","v":""},{"$f":"IF(AF768=\"\",\"\",IF(AF768>Inputs!$D$9,0,1))","v":""},{"$f":"IF(AG768=\"\",\"\",IF(AG768>Inputs!$D$9,0,1))","v":""},{"$f":"IF(AH768=\"\",\"\",IF(AH768>Inputs!$D$9,0,1))","v":""},{"$f":"IF(AI768=\"\",\"\",IF(AI768>Inputs!$D$9,0,1))","v":""},{"$f":"IF(AJ768=\"\",\"\",IF(AJ768>Inputs!$D$9,0,1))","v":""},{"$f":"IF(AK768=\"\",\"\",IF(AK768>Inputs!$D$9,0,1))","v":""},{"$f":"IF(AL768=\"\",\"\",IF(AL768>Inputs!$D$9,0,1))","v":""},"",0,null,"","","","","","","","","","","","","","",null,null,"","","","","","","","","","","","",""]
[null,null,null,null,null,null,null,null,null,null,null,null,null,null,"","","","","","","","","","","","","","","","","","","","","","","","",null,{"$f":"IF(AA769=\"\",\"\",IF(AA769>Inputs!$D$9,0,1))","v":""},{"$f":"IF(AB769=\"\",\"\",IF(AB769>Inputs!$D$9,0,1))","v":""},{"$f":"IF(AC769=\"\",\"\",IF(AC769>Inputs!$D$9,0,1))","v":""},{"$f":"IF(AD769=\"\",\"\",IF(AD769>Inputs!$D$9,0,1))","v":""},{"$f":"IF(AE769=\"\",\"\",IF(AE769>Inputs!$D$9,0,1))","v":""},{"$f":"IF(AF769=\"\",\"\",IF(AF769>Inputs!$D$9,0,1))","v":""},{"$f":"IF(AG769=\"\",\"\",IF(AG769>Inputs!$D$9,0,1))","v":""},{"$f":"IF(AH769=\"\",\"\",IF(AH769>Inputs!$D$9,0,1))","v":""},{"$f":"IF(AI769=\"\",\"\",IF(AI769>Inputs!$D$9,0,1))","v":""},{"$f":"IF(AJ769=\"\",\"\",IF(AJ769>Inputs!$D$9,0,1))","v":""},{"$f":"IF(AK769=\"\",\"\",IF(AK769>Inputs!$D$9,0,1))","v":""},{"$f":"IF(AL769=\"\",\"\",IF(AL769>Inputs!$D$9,0,1))","v":""},"",0,null,"","","","","","","","","","","","","","",null,null,"","","","","","","","","","","","",""]
[null,null,null,null,null,null,null,null,null,null,null,null,null,null,"",{"$f":"IF(A770=\"\",\"\",IF(ISERROR(1+D770),\"\",IF(ISERROR(((1+D770/100)*(1+E770/100)*(1+F770/100)*(1+G770/100)*(1+H770/100)*(1+I770/100)*(1+J770/100)*(1+K770/100)*(1+L770/100)*(1+M770/100)*(1+N770/100))^(1/11)-1),\"\",((1+D770/100)*(1+E770/100)*(1+F770/100)*(1+G770/100)*(1+H770/100)*(1+I770/100)*(1+J770/100)*(1+K770/100)*(1+L770/100)*(1+M770/100)*(1+N770/100))^(1/11)-1)))","v":""},"","","","","","","","","","","","","","","","","","","","","","",null,{"$f":"IF(AA770=\"\",\"\",IF(AA770>Inputs!$D$9,0,1))","v":""},{"$f":"IF(AB770=\"\",\"\",IF(AB770>Inputs!$D$9,0,1))","v":""},{"$f":"IF(AC770=\"\",\"\",IF(AC770>Inputs!$D$9,0,1))","v":""},{"$f":"IF(AD770=\"\",\"\",IF(AD770>Inputs!$D$9,0,1))","v":""},{"$f":"IF(AE770=\"\",\"\",IF(AE770>Inputs!$D$9,0,1))","v":""},{"$f":"IF(AF770=\"\",\"\",IF(AF770>Inputs!$D$9,0,1))","v":""},{"$f":"IF(AG770=\"\",\"\",IF(AG770>Inputs!$D$9,0,1))","v":""},{"$f":"IF(AH770=\"\",\"\",IF(AH770>Inputs!$D$9,0,1))","v":""},{"$f":"IF(AI770=\"\",\"\",IF(AI770>Inputs!$D$9,0,1))","v":""},{"$f":"IF(AJ770=\"\",\"\",IF(AJ770>Inputs!$D$9,0,1))","v":""},{"$f":"IF(AK770=\"\",\"\",IF(AK770>Inputs!$D$9,0,1))","v":""},{"$f":"IF(AL770=\"\",\"\",IF(AL770>Inputs!$D$9,0,1))","v":""},"",0,null,"","","","","","","","","","","","","","",null,null,"","","","","","","","","","","","",""]
[null,null,null,null,null,null,null,null,null,null,null,null,null,null,{"$f":"IF(A771=\"\",\"\",IF(ISERROR(1+C771),\"\",IF(ISERROR(((1+C771/100)*(1+D771/100)*(1+E771/100)*(1+F771/100)*(1+G771/100)*(1+H771/100)*(1+I771/100)*(1+J771/100)*(1+K771/100)*(1+L771/100)*(1+M771/100)*(1+N771/100))^(1/12)-1),\"\",((1+C771/100)*(1+D771/100)*(1+E771/100)*(1+F771/100)*(1+G771/100)*(1+H771/100)*(1+I771/100)*(1+J771/100)*(1+K771/100)*(1+L771/100)*(1+M771/100)*(1+N771/100))^(1/12)-1)))","v":""},"",{"$f":"IF(A771=\"\",\"\",IF(ISERROR(1+E771),\"\",IF(ISERROR(((1+E771/100)*(1+F771/100)*(1+G771/100)*(1+H771/100)*(1+I771/100)*(1+J771/100)*(1+K771/100)*(1+L771/100)*(1+M771/100)*(1+N771/100))^(1/10)-1),\"\",((1+E771/100)*(1+F771/100)*(1+G771/100)*(1+H771/100)*(1+I771/100)*(1+J771/100)*(1+K771/100)*(1+L771/100)*(1+M771/100)*(1+N771/100))^(1/10)-1)))","v":""},{"$f":"IF(A771=\"\",\"\",IF(ISERROR(1+F771),\"\",IF(ISERROR(((1+F771/100)*(1+G771/100)*(1+H771/100)*(1+I771/100)*(1+J771/100)*(1+K771/100)*(1+L771/100)*(1+M771/100)*(1+N771/100))^(1/9)-1),\"\",((1+F771/100)*(1+G771/100)*(1+H771/100)*(1+I771/100)*(1+J771/100)*(1+K771/100)*(1+L771/100)*(1+M771/100)*(1+N771/100))^(1/9)-1)))","v":""},{"$f":"IF(A771=\"\",\"\",IF(ISERROR(1+G771),\"\",IF(ISERROR(((1+G771/100)*(1+H771/100)*(1+I771/100)*(1+J771/100)*(1+K771/100)*(1+L771/100)*(1+M771/100)*(1+N771/100))^(1/8)-1),\"\",((1+G771/100)*(1+H771/100)*(1+I771/100)*(1+J771/100)*(1+K771/100)*(1+L771/100)*(1+M771/100)*(1+N771/100))^(1/8)-1)))","v":""},{"$f":"IF(A771=\"\",\"\",IF(ISERROR(1+H771),\"\",IF(ISERROR(((1+H771/100)*(1+I771/100)*(1+J771/100)*(1+K771/100)*(1+L771/100)*(1+M771/100)*(1+N771/100))^(1/7)-1),\"\",((1+H771/100)*(1+I771/100)*(1+J771/100)*(1+K771/100)*(1+L771/100)*(1+M771/100)*(1+N771/100))^(1/7)-1)))","v":""},{"$f":"IF(A771=\"\",\"\",IF(ISERROR(1+I771),\"\",IF(ISERROR(((1+I771/100)*(1+J771/100)*(1+K771/100)*(1+L771/100)*(1+M771/100)*(1+N771/100))^(1/6)-1),\"\",((1+I771/100)*(1+J771/100)*(1+K771/100)*(1+L771/100)*(1+M771/100)*(1+N771/100))^(1/6)-1)))","v":""},{"$f":"IF(A771=\"\",\"\",IF(ISERROR(1+J771),\"\",IF(ISERROR(((1+J771/100)*(1+K771/100)*(1+L771/100)*(1+M771/100)*(1+N771/100))^(1/5)-1),\"\",((1+J771/100)*(1+K771/100)*(1+L771/100)*(1+M771/100)*(1+N771/100))^(1/5)-1)))","v":""},{"$f":"IF(A771=\"\",\"\",IF(ISERROR(1+K771),\"\",IF(ISERROR(((1+K771/100)*(1+L771/100)*(1+M771/100)*(1+N771/100))^(1/4)-1),\"\",((1+K771/100)*(1+L771/100)*(1+M771/100)*(1+N771/100))^(1/4)-1)))","v":""},{"$f":"IF(A771=\"\",\"\",IF(ISERROR(1+L771),\"\",IF(ISERROR(((1+L771/100)*(1+M771/100)*(1+N771/100))^(1/3)-1),\"\",((1+L771/100)*(1+M771/100)*(1+N771/100))^(1/3)-1)))","v":""},{"$f":"IF(A771=\"\",\"\",IF(ISERROR(1+M771),\"\",IF(ISERROR(((1+M771/100)*(1+N771/100))^(1/2)-1),\"\",((1+M771/100)*(1+N771/100))^(1/2)-1)))","v":""},{"$f":"IF(A771=\"\",\"\",IF(ISERROR(1+N771),\"\",IF(ISERROR(((1+N771/100))^(1/1)-1),\"\",((1+N771/100))^(1/1)-1)))","v":""},"","","","","","","","","","","","",null,{"$f":"IF(AA771=\"\",\"\",IF(AA771>Inputs!$D$9,0,1))","v":""},{"$f":"IF(AB771=\"\",\"\",IF(AB771>Inputs!$D$9,0,1))","v":""},{"$f":"IF(AC771=\"\",\"\",IF(AC771>Inputs!$D$9,0,1))","v":""},{"$f":"IF(AD771=\"\",\"\",IF(AD771>Inputs!$D$9,0,1))","v":""},{"$f":"IF(AE771=\"\",\"\",IF(AE771>Inputs!$D$9,0,1))","v":""},{"$f":"IF(AF771=\"\",\"\",IF(AF771>Inputs!$D$9,0,1))","v":""},{"$f":"IF(AG771=\"\",\"\",IF(AG771>Inputs!$D$9,0,1))","v":""},{"$f":"IF(AH771=\"\",\"\",IF(AH771>Inputs!$D$9,0,1))","v":""},{"$f":"IF(AI771=\"\",\"\",IF(AI771>Inputs!$D$9,0,1))","v":""},{"$f":"IF(AJ771=\"\",\"\",IF(AJ771>Inputs!$D$9,0,1))","v":""},{"$f":"IF(AK771=\"\",\"\",IF(AK771>Inputs!$D$9,0,1))","v":""},{"$f":"IF(AL771=\"\",\"\",IF(AL771>Inputs!$D$9,0,1))","v":""},"",{"$f":"COUNT(AN771:AY771)","v":0},null,{"$f":"IF(O771=\"\",\"\",IF(O771>AVERAGE($O$2:$O$1000),1,0))","v":""},{"$f":"IF(P771=\"\",\"\",IF(P771>AVERAGE($P$2:$P$1000),1,0))","v":""},{"$f":"IF(Q771=\"\",\"\",IF(Q771>AVERAGE($Q$2:$Q$1000),1,0))","v":""},{"$f":"IF(R771=\"\",\"\",IF(R771>AVERAGE($R$2:$R$1000),1,0))","v":""},{"$f":"IF(S771=\"\",\"\",IF(S771>AVERAGE($S$2:$S$1000),1,0))","v":""},{"$f":"IF(T771=\"\",\"\",IF(T771>AVERAGE($T$2:$T$1000),1,0))","v":""},{"$f":"IF(U771=\"\",\"\",IF(U771>AVERAGE($U$2:$U$1000),1,0))","v":""},{"$f":"IF(V771=\"\",\"\",IF(V771>AVERAGE($V$2:$V$1000),1,0))","v":""},{"$f":"IF(W771=\"\",\"\",IF(W771>AVERAGE($W$2:$W$1000),1,0))","v":""},{"$f":"IF(X771=\"\",\"\",IF(X771>AVERAGE($X$2:$X$1000),1,0))","v":""},{"$f":"IF(Y771=\"\",\"\",IF(Y771>AVERAGE($Y$2:$Y$1000),1,0))","v":""},{"$f":"IF(Z771=\"\",\"\",IF(Z771>AVERAGE($Z$2:$Z$1000),1,0))","v":""},{"$f":"IF(COUNT(BC771:BN771)=0,\"\",SUM(BC771:BN771)/COUNT(BC771:BN771))","v":""},{"$f":"IF(A771=\"\",\"\",COUNT(BC771:BN771))","v":""},null,null,{"$f":"IF($A771=\"\",\"\",IF(C771=\"-\",0,IF(C771>AVERAGE(C$2:C$1183),1,0)))","v":""},{"$f":"IF($A771=\"\",\"\",IF(D771=\"-\",0,IF(D771>AVERAGE(D$2:D$1183),1,0)))","v":""},{"$f":"IF($A771=\"\",\"\",IF(E771=\"-\",0,IF(E771>AVERAGE(E$2:E$1183),1,0)))","v":""},{"$f":"IF($A771=\"\",\"\",IF(F771=\"-\",0,IF(F771>AVERAGE(F$2:F$1183),1,0)))","v":""},{"$f":"IF($A771=\"\",\"\",IF(G771=\"-\",0,IF(G771>AVERAGE(G$2:G$1183),1,0)))","v":""},{"$f":"IF($A771=\"\",\"\",IF(H771=\"-\",0,IF(H771>AVERAGE(H$2:H$1183),1,0)))","v":""},{"$f":"IF($A771=\"\",\"\",IF(I771=\"-\",0,IF(I771>AVERAGE(I$2:I$1183),1,0)))","v":""},{"$f":"IF($A771=\"\",\"\",IF(J771=\"-\",0,IF(J771>AVERAGE(J$2:J$1183),1,0)))","v":""},{"$f":"IF($A771=\"\",\"\",IF(K771=\"-\",0,IF(K771>AVERAGE(K$2:K$1183),1,0)))","v":""},{"$f":"IF($A771=\"\",\"\",IF(L771=\"-\",0,IF(L771>AVERAGE(L$2:L$1183),1,0)))","v":""},{"$f":"IF($A771=\"\",\"\",IF(M771=\"-\",0,IF(M771>AVERAGE(M$2:M$1183),1,0)))","v":""},{"$f":"IF($A771=\"\",\"\",IF(N771=\"-\",0,IF(N771>AVERAGE(N$2:N$1183),1,0)))","v":""},""]
[null,null,null,null,null,null,null,null,null,null,null,null,null,null,"","","","","","","","","","","","","","","","","","","","","","","","",null,{"$f":"IF(AA772=\"\",\"\",IF(AA772>Inputs!$D$9,0,1))","v":""},{"$f":"IF(AB772=\"\",\"\",IF(AB772>Inputs!$D$9,0,1))","v":""},{"$f":"IF(AC772=\"\",\"\",IF(AC772>Inputs!$D$9,0,1))","v":""},{"$f":"IF(AD772=\"\",\"\",IF(AD772>Inputs!$D$9,0,1))","v":""},{"$f":"IF(AE772=\"\",\"\",IF(AE772>Inputs!$D$9,0,1))","v":""},{"$f":"IF(AF772=\"\",\"\",IF(AF772>Inputs!$D$9,0,1))","v":""},{"$f":"IF(AG772=\"\",\"\",IF(AG772>Inputs!$D$9,0,1))","v":""},{"$f":"IF(AH772=\"\",\"\",IF(AH772>Inputs!$D$9,0,1))","v":""},{"$f":"IF(AI772=\"\",\"\",IF(AI772>Inputs!$D$9,0,1))","v":""},{"$f":"IF(AJ772=\"\",\"\",IF(AJ772>Inputs!$D$9,0,1))","v":""},{"$f":"IF(AK772=\"\",\"\",IF(AK772>Inputs!$D$9,0,1))","v":""},{"$f":"IF(AL772=\"\",\"\",IF(AL772>Inputs!$D$9,0,1))","v":""},"",0,null,"","","","","","","","","","","","","","",null,null,"","","","","","","","","","","","",""]
[null,null,null,null,null,null,null,null,null,null,null,null,null,null,"","","","","","","","","","","","","","","","","","","","","","","","",null,{"$f":"IF(AA773=\"\",\"\",IF(AA773>Inputs!$D$9,0,1))","v":""},{"$f":"IF(AB773=\"\",\"\",IF(AB773>Inputs!$D$9,0,1))","v":""},{"$f":"IF(AC773=\"\",\"\",IF(AC773>Inputs!$D$9,0,1))","v":""},{"$f":"IF(AD773=\"\",\"\",IF(AD773>Inputs!$D$9,0,1))","v":""},{"$f":"IF(AE773=\"\",\"\",IF(AE773>Inputs!$D$9,0,1))","v":""},{"$f":"IF(AF773=\"\",\"\",IF(AF773>Inputs!$D$9,0,1))","v":""},{"$f":"IF(AG773=\"\",\"\",IF(AG773>Inputs!$D$9,0,1))","v":""},{"$f":"IF(AH773=\"\",\"\",IF(AH773>Inputs!$D$9,0,1))","v":""},{"$f":"IF(AI773=\"\",\"\",IF(AI773>Inputs!$D$9,0,1))","v":""},{"$f":"IF(AJ773=\"\",\"\",IF(AJ773>Inputs!$D$9,0,1))","v":""},{"$f":"IF(AK773=\"\",\"\",IF(AK773>Inputs!$D$9,0,1))","v":""},{"$f":"IF(AL773=\"\",\"\",IF(AL773>Inputs!$D$9,0,1))","v":""},"",0,null,"","","","","","","","","","","","","","",null,null,"","","","","","","","","","","","",""]
[null,null,null,null,null,null,null,null,null,null,null,null,null,null,"","","","","","","","","","","","","","","","","","","","","","","","",null,{"$f":"IF(AA774=\"\",\"\",IF(AA774>Inputs!$D$9,0,1))","v":""},{"$f":"IF(AB774=\"\",\"\",IF(AB774>Inputs!$D$9,0,1))","v":""},{"$f":"IF(AC774=\"\",\"\",IF(AC774>Inputs!$D$9,0,1))","v":""},{"$f":"IF(AD774=\"\",\"\",IF(AD774>Inputs!$D$9,0,1))","v":""},{"$f":"IF(AE774=\"\",\"\",IF(AE774>Inputs!$D$9,0,1))","v":""},{"$f":"IF(AF774=\"\",\"\",IF(AF774>Inputs!$D$9,0,1))","v":""},{"$f":"IF(AG774=\"\",\"\",IF(AG774>Inputs!$D$9,0,1))","v":""},{"$f":"IF(AH774=\"\",\"\",IF(AH774>Inputs!$D$9,0,1))","v":""},{"$f":"IF(AI774=\"\",\"\",IF(AI774>Inputs!$D$9,0,1))","v":""},{"$f":"IF(AJ774=\"\",\"\",IF(AJ774>Inputs!$D$9,0,1))","v":""},{"$f":"IF(AK774=\"\",\"\",IF(AK774>Inputs!$D$9,0,1))","v":""},{"$f":"IF(AL774=\"\",\"\",IF(AL774>Inputs!$D$9,0,1))","v":""},"",0,null,"","","","","","","","","","","","","","",null,null,"","","","","","","","","","","","",""]
[null,null,null,null,null,null,null,null,null,null,null,null,null,null,"","","","","","","","","","","","","","","","","","","","","","","","",null,{"$f":"IF(AA775=\"\",\"\",IF(AA775>Inputs!$D$9,0,1))","v":""},{"$f":"IF(AB775=\"\",\"\",IF(AB775>Inputs!$D$9,0,1))","v":""},{"$f":"IF(AC775=\"\",\"\",IF(AC775>Inputs!$D$9,0,1))","v":""},{"$f":"IF(AD775=\"\",\"\",IF(AD775>Inputs!$D$9,0,1))","v":""},{"$f":"IF(AE775=\"\",\"\",IF(AE775>Inputs!$D$9,0,1))","v":""},{"$f":"IF(AF775=\"\",\"\",IF(AF775>Inputs!$D$9,0,1))","v":""},{"$f":"IF(AG775=\"\",\"\",IF(AG775>Inputs!$D$9,0,1))","v":""},{"$f":"IF(AH775=\"\",\"\",IF(AH775>Inputs!$D$9,0,1))","v":""},{"$f":"IF(AI775=\"\",\"\",IF(AI775>Inputs!$D$9,0,1))","v":""},{"$f":"IF(AJ775=\"\",\"\",IF(AJ775>Inputs!$D$9,0,1))","v":""},{"$f":"IF(AK775=\"\",\"\",IF(AK775>Inputs!$D$9,0,1))","v":""},{"$f":"IF(AL775=\"\",\"\",IF(AL775>Inputs!$D$9,0,1))","v":""},"",0,null,"","","","","","","","","","","","","","",null,null,"","","","","","","","","","","","",""]
[null,null,null,null,null,null,null,null,null,null,null,null,null,null,"","","","","","","","","","","","","","","","","","","","","","","","",null,{"$f":"IF(AA776=\"\",\"\",IF(AA776>Inputs!$D$9,0,1))","v":""},{"$f":"IF(AB776=\"\",\"\",IF(AB776>Inputs!$D$9,0,1))","v":""},{"$f":"IF(AC776=\"\",\"\",IF(AC776>Inputs!$D$9,0,1))","v":""},{"$f":"IF(AD776=\"\",\"\",IF(AD776>Inputs!$D$9,0,1))","v":""},{"$f":"IF(AE776=\"\",\"\",IF(AE776>Inputs!$D$9,0,1))","v":""},{"$f":"IF(AF776=\"\",\"\",IF(AF776>Inputs!$D$9,0,1))","v":""},{"$f":"IF(AG776=\"\",\"\",IF(AG776>Inputs!$D$9,0,1))","v":""},{"$f":"IF(AH776=\"\",\"\",IF(AH776>Inputs!$D$9,0,1))","v":""},{"$f":"IF(AI776=\"\",\"\",IF(AI776>Inputs!$D$9,0,1))","v":""},{"$f":"IF(AJ776=\"\",\"\",IF(AJ776>Inputs!$D$9,0,1))","v":""},{"$f":"IF(AK776=\"\",\"\",IF(AK776>Inputs!$D$9,0,1))","v":""},{"$f":"IF(AL776=\"\",\"\",IF(AL776>Inputs!$D$9,0,1))","v":""},"",0,null,"","","","","","","","","","","","","","",null,null,"","","","","","","","","","","","",""]
[null,null,null,null,null,null,null,null,null,null,null,null,null,null,"","","","","","","","","","","","","","","","","","","","","","","","",null,{"$f":"IF(AA777=\"\",\"\",IF(AA777>Inputs!$D$9,0,1))","v":""},{"$f":"IF(AB777=\"\",\"\",IF(AB777>Inputs!$D$9,0,1))","v":""},{"$f":"IF(AC777=\"\",\"\",IF(AC777>Inputs!$D$9,0,1))","v":""},{"$f":"IF(AD777=\"\",\"\",IF(AD777>Inputs!$D$9,0,1))","v":""},{"$f":"IF(AE777=\"\",\"\",IF(AE777>Inputs!$D$9,0,1))","v":""},{"$f":"IF(AF777=\"\",\"\",IF(AF777>Inputs!$D$9,0,1))","v":""},{"$f":"IF(AG777=\"\",\"\",IF(AG777>Inputs!$D$9,0,1))","v":""},{"$f":"IF(AH777=\"\",\"\",IF(AH777>Inputs!$D$9,0,1))","v":""},{"$f":"IF(AI777=\"\",\"\",IF(AI777>Inputs!$D$9,0,1))","v":""},{"$f":"IF(AJ777=\"\",\"\",IF(AJ777>Inputs!$D$9,0,1))","v":""},{"$f":"IF(AK777=\"\",\"\",IF(AK777>Inputs!$D$9,0,1))","v":""},{"$f":"IF(AL777=\"\",\"\",IF(AL777>Inputs!$D$9,0,1))","v":""},"",0,null,"","","","","","","","","","","","","","",null,null,"","","","","","","","","","","","",""]
[null,null,null,null,null,null,null,null,null,null,null,null,null,null,"","","","","","","","","","","","","","","","","","","","","","","","",null,{"$f":"IF(AA778=\"\",\"\",IF(AA778>Inputs!$D$9,0,1))","v":""},{"$f":"IF(AB778=\"\",\"\",IF(AB778>Inputs!$D$9,0,1))","v":""},{"$f":"IF(AC778=\"\",\"\",IF(AC778>Inputs!$D$9,0,1))","v":""},{"$f":"IF(AD778=\"\",\"\",IF(AD778>Inputs!$D$9,0,1))","v":""},{"$f":"IF(AE778=\"\",\"\",IF(AE778>Inputs!$D$9,0,1))","v":""},{"$f":"IF(AF778=\"\",\"\",IF(AF778>Inputs!$D$9,0,1))","v":""},{"$f":"IF(AG778=\"\",\"\",IF(AG778>Inputs!$D$9,0,1))","v":""},{"$f":"IF(AH778=\"\",\"\",IF(AH778>Inputs!$D$9,0,1))","v":""},{"$f":"IF(AI778=\"\",\"\",IF(AI778>Inputs!$D$9,0,1))","v":""},{"$f":"IF(AJ778=\"\",\"\",IF(AJ778>Inputs!$D$9,0,1))","v":""},{"$f":"IF(AK778=\"\",\"\",IF(AK778>Inputs!$D$9,0,1))","v":""},{"$f":"IF(AL778=\"\",\"\",IF(AL778>Inputs!$D$9,0,1))","v":""},"",0,null,"","","","","","","","","","","","","","",null,null,"","","","","","","","","","","","",""]
[null,null,null,null,null,null,null,null,null,null,null,null,null,null,"","","","","","","","","","","","","","","","","","","","","","","","",null,{"$f":"IF(AA779=\"\",\"\",IF(AA779>Inputs!$D$9,0,1))","v":""},{"$f":"IF(AB779=\"\",\"\",IF(AB779>Inputs!$D$9,0,1))","v":""},{"$f":"IF(AC779=\"\",\"\",IF(AC779>Inputs!$D$9,0,1))","v":""},{"$f":"IF(AD779=\"\",\"\",IF(AD779>Inputs!$D$9,0,1))","v":""},{"$f":"IF(AE779=\"\",\"\",IF(AE779>Inputs!$D$9,0,1))","v":""},{"$f":"IF(AF779=\"\",\"\",IF(AF779>Inputs!$D$9,0,1))","v":""},{"$f":"IF(AG779=\"\",\"\",IF(AG779>Inputs!$D$9,0,1))","v":""},{"$f":"IF(AH779=\"\",\"\",IF(AH779>Inputs!$D$9,0,1))","v":""},{"$f":"IF(AI779=\"\",\"\",IF(AI779>Inputs!$D$9,0,1))","v":""},{"$f":"IF(AJ779=\"\",\"\",IF(AJ779>Inputs!$D$9,0,1))","v":""},{"$f":"IF(AK779=\"\",\"\",IF(AK779>Inputs!$D$9,0,1))","v":""},{"$f":"IF(AL779=\"\",\"\",IF(AL779>Inputs!$D$9,0,1))","v":""},"",0,null,"","","","","","","","","","","","","","",null,null,"","","","","","","","","","","","",""]
[null,null,null,null,null,null,null,null,null,null,null,null,null,null,"","","","","","","","","","","","","","","","","","","","","","","","",null,{"$f":"IF(AA780=\"\",\"\",IF(AA780>Inputs!$D$9,0,1))","v":""},{"$f":"IF(AB780=\"\",\"\",IF(AB780>Inputs!$D$9,0,1))","v":""},{"$f":"IF(AC780=\"\",\"\",IF(AC780>Inputs!$D$9,0,1))","v":""},{"$f":"IF(AD780=\"\",\"\",IF(AD780>Inputs!$D$9,0,1))","v":""},{"$f":"IF(AE780=\"\",\"\",IF(AE780>Inputs!$D$9,0,1))","v":""},{"$f":"IF(AF780=\"\",\"\",IF(AF780>Inputs!$D$9,0,1))","v":""},{"$f":"IF(AG780=\"\",\"\",IF(AG780>Inputs!$D$9,0,1))","v":""},{"$f":"IF(AH780=\"\",\"\",IF(AH780>Inputs!$D$9,0,1))","v":""},{"$f":"IF(AI780=\"\",\"\",IF(AI780>Inputs!$D$9,0,1))","v":""},{"$f":"IF(AJ780=\"\",\"\",IF(AJ780>Inputs!$D$9,0,1))","v":""},{"$f":"IF(AK780=\"\",\"\",IF(AK780>Inputs!$D$9,0,1))","v":""},{"$f":"IF(AL780=\"\",\"\",IF(AL780>Inputs!$D$9,0,1))","v":""},"",0,null,"","","","","","","","","","","","","","",null,null,"","","","","","","","","","","","",""]
[null,null,null,null,null,null,null,null,null,null,null,null,null,null,"","","","","","","","","","","","","","","","","","","","","","","","",null,{"$f":"IF(AA781=\"\",\"\",IF(AA781>Inputs!$D$9,0,1))","v":""},{"$f":"IF(AB781=\"\",\"\",IF(AB781>Inputs!$D$9,0,1))","v":""},{"$f":"IF(AC781=\"\",\"\",IF(AC781>Inputs!$D$9,0,1))","v":""},{"$f":"IF(AD781=\"\",\"\",IF(AD781>Inputs!$D$9,0,1))","v":""},{"$f":"IF(AE781=\"\",\"\",IF(AE781>Inputs!$D$9,0,1))","v":""},{"$f":"IF(AF781=\"\",\"\",IF(AF781>Inputs!$D$9,0,1))","v":""},{"$f":"IF(AG781=\"\",\"\",IF(AG781>Inputs!$D$9,0,1))","v":""},{"$f":"IF(AH781=\"\",\"\",IF(AH781>Inputs!$D$9,0,1))","v":""},{"$f":"IF(AI781=\"\",\"\",IF(AI781>Inputs!$D$9,0,1))","v":""},{"$f":"IF(AJ781=\"\",\"\",IF(AJ781>Inputs!$D$9,0,1))","v":""},{"$f":"IF(AK781=\"\",\"\",IF(AK781>Inputs!$D$9,0,1))","v":""},{"$f":"IF(AL781=\"\",\"\",IF(AL781>Inputs!$D$9,0,1))","v":""},"",0,null,"","","","","","","","","","","","","","",null,null,"","","","","","","","","","","","",""]
[null,null,null,null,null,null,null,null,null,null,null,null,null,null,"","","","","","","","","","","","","","","","","","","","","","","","",null,{"$f":"IF(AA782=\"\",\"\",IF(AA782>Inputs!$D$9,0,1))","v":""},{"$f":"IF(AB782=\"\",\"\",IF(AB782>Inputs!$D$9,0,1))","v":""},{"$f":"IF(AC782=\"\",\"\",IF(AC782>Inputs!$D$9,0,1))","v":""},{"$f":"IF(AD782=\"\",\"\",IF(AD782>Inputs!$D$9,0,1))","v":""},{"$f":"IF(AE782=\"\",\"\",IF(AE782>Inputs!$D$9,0,1))","v":""},{"$f":"IF(AF782=\"\",\"\",IF(AF782>Inputs!$D$9,0,1))","v":""},{"$f":"IF(AG782=\"\",\"\",IF(AG782>Inputs!$D$9,0,1))","v":""},{"$f":"IF(AH782=\"\",\"\",IF(AH782>Inputs!$D$9,0,1))","v":""},{"$f":"IF(AI782=\"\",\"\",IF(AI782>Inputs!$D$9,0,1))","v":""},{"$f":"IF(AJ782=\"\",\"\",IF(AJ782>Inputs!$D$9,0,1))","v":""},{"$f":"IF(AK782=\"\",\"\",IF(AK782>Inputs!$D$9,0,1))","v":""},{"$f":"IF(AL782=\"\",\"\",IF(AL782>Inputs!$D$9,0,1))","v":""},"",0,null,"","","","","","","","","","","","","","",null,null,"","","","","","","","","","","","",""]
[null,null,null,null,null,null,null,null,null,null,null,null,null,null,"","","","","","","","","","","","","","","","","","","","","","","","",null,{"$f":"IF(AA783=\"\",\"\",IF(AA783>Inputs!$D$9,0,1))","v":""},{"$f":"IF(AB783=\"\",\"\",IF(AB783>Inputs!$D$9,0,1))","v":""},{"$f":"IF(AC783=\"\",\"\",IF(AC783>Inputs!$D$9,0,1))","v":""},{"$f":"IF(AD783=\"\",\"\",IF(AD783>Inputs!$D$9,0,1))","v":""},{"$f":"IF(AE783=\"\",\"\",IF(AE783>Inputs!$D$9,0,1))","v":""},{"$f":"IF(AF783=\"\",\"\",IF(AF783>Inputs!$D$9,0,1))","v":""},{"$f":"IF(AG783=\"\",\"\",IF(AG783>Inputs!$D$9,0,1))","v":""},{"$f":"IF(AH783=\"\",\"\",IF(AH783>Inputs!$D$9,0,1))","v":""},{"$f":"IF(AI783=\"\",\"\",IF(AI783>Inputs!$D$9,0,1))","v":""},{"$f":"IF(AJ783=\"\",\"\",IF(AJ783>Inputs!$D$9,0,1))","v":""},{"$f":"IF(AK783=\"\",\"\",IF(AK783>Inputs!$D$9,0,1))","v":""},{"$f":"IF(AL783=\"\",\"\",IF(AL783>Inputs!$D$9,0,1))","v":""},"",0,null,"","","","","","","","","","","","","","",null,null,"","","","","","","","","","","","",""]
[null,null,null,null,null,null,null,null,null,null,null,null,null,null,"","","","","","","","","","","","","","","","","","","","","","","","",null,{"$f":"IF(AA784=\"\",\"\",IF(AA784>Inputs!$D$9,0,1))","v":""},{"$f":"IF(AB784=\"\",\"\",IF(AB784>Inputs!$D$9,0,1))","v":""},{"$f":"IF(AC784=\"\",\"\",IF(AC784>Inputs!$D$9,0,1))","v":""},{"$f":"IF(AD784=\"\",\"\",IF(AD784>Inputs!$D$9,0,1))","v":""},{"$f":"IF(AE784=\"\",\"\",IF(AE784>Inputs!$D$9,0,1))","v":""},{"$f":"IF(AF784=\"\",\"\",IF(AF784>Inputs!$D$9,0,1))","v":""},{"$f":"IF(AG784=\"\",\"\",IF(AG784>Inputs!$D$9,0,1))","v":""},{"$f":"IF(AH784=\"\",\"\",IF(AH784>Inputs!$D$9,0,1))","v":""},{"$f":"IF(AI784=\"\",\"\",IF(AI784>Inputs!$D$9,0,1))","v":""},{"$f":"IF(AJ784=\"\",\"\",IF(AJ784>Inputs!$D$9,0,1))","v":""},{"$f":"IF(AK784=\"\",\"\",IF(AK784>Inputs!$D$9,0,1))","v":""},{"$f":"IF(AL784=\"\",\"\",IF(AL784>Inputs!$D$9,0,1))","v":""},"",0,null,"","","","","","","","","","","","","","",null,null,"","","","","","","","","","","","",""]
[null,null,null,null,null,null,null,null,null,null,null,null,null,null,"","","","","","","","","","","","","","","","","","","","","","","","",null,{"$f":"IF(AA785=\"\",\"\",IF(AA785>Inputs!$D$9,0,1))","v":""},{"$f":"IF(AB785=\"\",\"\",IF(AB785>Inputs!$D$9,0,1))","v":""},{"$f":"IF(AC785=\"\",\"\",IF(AC785>Inputs!$D$9,0,1))","v":""},{"$f":"IF(AD785=\"\",\"\",IF(AD785>Inputs!$D$9,0,1))","v":""},{"$f":"IF(AE785=\"\",\"\",IF(AE785>Inputs!$D$9,0,1))","v":""},{"$f":"IF(AF785=\"\",\"\",IF(AF785>Inputs!$D$9,0,1))","v":""},{"$f":"IF(AG785=\"\",\"\",IF(AG785>Inputs!$D$9,0,1))","v":""},{"$f":"IF(AH785=\"\",\"\",IF(AH785>Inputs!$D$9,0,1))","v":""},{"$f":"IF(AI785=\"\",\"\",IF(AI785>Inputs!$D$9,0,1))","v":""},{"$f":"IF(AJ785=\"\",\"\",IF(AJ785>Inputs!$D$9,0,1))","v":""},{"$f":"IF(AK785=\"\",\"\",IF(AK785>Inputs!$D$9,0,1))","v":""},{"$f":"IF(AL785=\"\",\"\",IF(AL785>Inputs!$D$9,0,1))","v":""},"",0,null,"","","","","","","","","","","","","","",null,null,"","","","","","","","","","","","",""]
[null,null,null,null,null,null,null,null,null,null,null,null,null,null,"","","","","","","","","","","","","","","","","","","","","","","","",null,{"$f":"IF(AA786=\"\",\"\",IF(AA786>Inputs!$D$9,0,1))","v":""},{"$f":"IF(AB786=\"\",\"\",IF(AB786>Inputs!$D$9,0,1))","v":""},{"$f":"IF(AC786=\"\",\"\",IF(AC786>Inputs!$D$9,0,1))","v":""},{"$f":"IF(AD786=\"\",\"\",IF(AD786>Inputs!$D$9,0,1))","v":""},{"$f":"IF(AE786=\"\",\"\",IF(AE786>Inputs!$D$9,0,1))","v":""},{"$f":"IF(AF786=\"\",\"\",IF(AF786>Inputs!$D$9,0,1))","v":""},{"$f":"IF(AG786=\"\",\"\",IF(AG786>Inputs!$D$9,0,1))","v":""},{"$f":"IF(AH786=\"\",\"\",IF(AH786>Inputs!$D$9,0,1))","v":""},{"$f":"IF(AI786=\"\",\"\",IF(AI786>Inputs!$D$9,0,1))","v":""},{"$f":"IF(AJ786=\"\",\"\",IF(AJ786>Inputs!$D$9,0,1))","v":""},{"$f":"IF(AK786=\"\",\"\",IF(AK786>Inputs!$D$9,0,1))","v":""},{"$f":"IF(AL786=\"\",\"\",IF(AL786>Inputs!$D$9,0,1))","v":""},"",0,null,"","","","","","","","","","","","","","",null,null,"","","","","","","","","","","","",""]
[null,null,null,null,null,null,null,null,null,null,null,null,null,null,"","","","","","","","","","","","","","","","","","","","","","","","",null,{"$f":"IF(AA787=\"\",\"\",IF(AA787>Inputs!$D$9,0,1))","v":""},{"$f":"IF(AB787=\"\",\"\",IF(AB787>Inputs!$D$9,0,1))","v":""},{"$f":"IF(AC787=\"\",\"\",IF(AC787>Inputs!$D$9,0,1))","v":""},{"$f":"IF(AD787=\"\",\"\",IF(AD787>Inputs!$D$9,0,1))","v":""},{"$f":"IF(AE787=\"\",\"\",IF(AE787>Inputs!$D$9,0,1))","v":""},{"$f":"IF(AF787=\"\",\"\",IF(AF787>Inputs!$D$9,0,1))","v":""},{"$f":"IF(AG787=\"\",\"\",IF(AG787>Inputs!$D$9,0,1))","v":""},{"$f":"IF(AH787=\"\",\"\",IF(AH787>Inputs!$D$9,0,1))","v":""},{"$f":"IF(AI787=\"\",\"\",IF(AI787>Inputs!$D$9,0,1))","v":""},{"$f":"IF(AJ787=\"\",\"\",IF(AJ787>Inputs!$D$9,0,1))","v":""},{"$f":"IF(AK787=\"\",\"\",IF(AK787>Inputs!$D$9,0,1))","v":""},{"$f":"IF(AL787=\"\",\"\",IF(AL787>Inputs!$D$9,0,1))","v":""},"",0,null,"","","","","","","","","","","","","","",null,null,"","","","","","","","","","","","",{"$f":"IF(A787=\"\",\"\",SUM(BS787:CD787))","v":""}]
[null,null,null,null,null,null,null,null,null,null,null,null,null,null,"","","","","","","","","","","","","","","","","","","","","","","","",null,{"$f":"IF(AA788=\"\",\"\",IF(AA788>Inputs!$D$9,0,1))","v":""},{"$f":"IF(AB788=\"\",\"\",IF(AB788>Inputs!$D$9,0,1))","v":""},{"$f":"IF(AC788=\"\",\"\",IF(AC788>Inputs!$D$9,0,1))","v":""},{"$f":"IF(AD788=\"\",\"\",IF(AD788>Inputs!$D$9,0,1))","v":""},{"$f":"IF(AE788=\"\",\"\",IF(AE788>Inputs!$D$9,0,1))","v":""},{"$f":"IF(AF788=\"\",\"\",IF(AF788>Inputs!$D$9,0,1))","v":""},{"$f":"IF(AG788=\"\",\"\",IF(AG788>Inputs!$D$9,0,1))","v":""},{"$f":"IF(AH788=\"\",\"\",IF(AH788>Inputs!$D$9,0,1))","v":""},{"$f":"IF(AI788=\"\",\"\",IF(AI788>Inputs!$D$9,0,1))","v":""},{"$f":"IF(AJ788=\"\",\"\",IF(AJ788>Inputs!$D$9,0,1))","v":""},{"$f":"IF(AK788=\"\",\"\",IF(AK788>Inputs!$D$9,0,1))","v":""},{"$f":"IF(AL788=\"\",\"\",IF(AL788>Inputs!$D$9,0,1))","v":""},"",0,null,"","","","","","","","","","","","","","",null,null,"","","","","","","","","","","","",""]
[null,null,null,null,null,null,null,null,null,null,null,null,null,null,"","","","","","","","","","","","","","","","","","","","","","","","",null,{"$f":"IF(AA789=\"\",\"\",IF(AA789>Inputs!$D$9,0,1))","v":""},{"$f":"IF(AB789=\"\",\"\",IF(AB789>Inputs!$D$9,0,1))","v":""},{"$f":"IF(AC789=\"\",\"\",IF(AC789>Inputs!$D$9,0,1))","v":""},{"$f":"IF(AD789=\"\",\"\",IF(AD789>Inputs!$D$9,0,1))","v":""},{"$f":"IF(AE789=\"\",\"\",IF(AE789>Inputs!$D$9,0,1))","v":""},{"$f":"IF(AF789=\"\",\"\",IF(AF789>Inputs!$D$9,0,1))","v":""},{"$f":"IF(AG789=\"\",\"\",IF(AG789>Inputs!$D$9,0,1))","v":""},{"$f":"IF(AH789=\"\",\"\",IF(AH789>Inputs!$D$9,0,1))","v":""},{"$f":"IF(AI789=\"\",\"\",IF(AI789>Inputs!$D$9,0,1))","v":""},{"$f":"IF(AJ789=\"\",\"\",IF(AJ789>Inputs!$D$9,0,1))","v":""},{"$f":"IF(AK789=\"\",\"\",IF(AK789>Inputs!$D$9,0,1))","v":""},{"$f":"IF(AL789=\"\",\"\",IF(AL789>Inputs!$D$9,0,1))","v":""},"",0,null,"","","","","","","","","","","","","","",null,null,"","","","","","","","","","","","",""]
[null,null,null,null,null,null,null,null,null,null,null,null,null,null,"","","","","","","","","","","","","","","","","","","","","","","","",null,{"$f":"IF(AA790=\"\",\"\",IF(AA790>Inputs!$D$9,0,1))","v":""},{"$f":"IF(AB790=\"\",\"\",IF(AB790>Inputs!$D$9,0,1))","v":""},{"$f":"IF(AC790=\"\",\"\",IF(AC790>Inputs!$D$9,0,1))","v":""},{"$f":"IF(AD790=\"\",\"\",IF(AD790>Inputs!$D$9,0,1))","v":""},{"$f":"IF(AE790=\"\",\"\",IF(AE790>Inputs!$D$9,0,1))","v":""},{"$f":"IF(AF790=\"\",\"\",IF(AF790>Inputs!$D$9,0,1))","v":""},{"$f":"IF(AG790=\"\",\"\",IF(AG790>Inputs!$D$9,0,1))","v":""},{"$f":"IF(AH790=\"\",\"\",IF(AH790>Inputs!$D$9,0,1))","v":""},{"$f":"IF(AI790=\"\",\"\",IF(AI790>Inputs!$D$9,0,1))","v":""},{"$f":"IF(AJ790=\"\",\"\",IF(AJ790>Inputs!$D$9,0,1))","v":""},{"$f":"IF(AK790=\"\",\"\",IF(AK790>Inputs!$D$9,0,1))","v":""},{"$f":"IF(AL790=\"\",\"\",IF(AL790>Inputs!$D$9,0,1))","v":""},"",0,null,"","","","","","","","","","","","","","",null,null,"","","","","","","","","","","","",""]
[null,null,null,null,null,null,null,null,null,null,null,null,null,null,"","","","","","","","","","","","","","","","","","","","","","","","",null,{"$f":"IF(AA791=\"\",\"\",IF(AA791>Inputs!$D$9,0,1))","v":""},{"$f":"IF(AB791=\"\",\"\",IF(AB791>Inputs!$D$9,0,1))","v":""},{"$f":"IF(AC791=\"\",\"\",IF(AC791>Inputs!$D$9,0,1))","v":""},{"$f":"IF(AD791=\"\",\"\",IF(AD791>Inputs!$D$9,0,1))","v":""},{"$f":"IF(AE791=\"\",\"\",IF(AE791>Inputs!$D$9,0,1))","v":""},{"$f":"IF(AF791=\"\",\"\",IF(AF791>Inputs!$D$9,0,1))","v":""},{"$f":"IF(AG791=\"\",\"\",IF(AG791>Inputs!$D$9,0,1))","v":""},{"$f":"IF(AH791=\"\",\"\",IF(AH791>Inputs!$D$9,0,1))","v":""},{"$f":"IF(AI791=\"\",\"\",IF(AI791>Inputs!$D$9,0,1))","v":""},{"$f":"IF(AJ791=\"\",\"\",IF(AJ791>Inputs!$D$9,0,1))","v":""},{"$f":"IF(AK791=\"\",\"\",IF(AK791>Inputs!$D$9,0,1))","v":""},{"$f":"IF(AL791=\"\",\"\",IF(AL791>Inputs!$D$9,0,1))","v":""},"",0,null,"","","","","","","","","","","","","","",null,null,"","","","","","","","","","","","",""]
[null,null,null,null,null,null,null,null,null,null,null,null,null,null,"","","","","","","","","","","","","","","","","","","","","","","","",null,{"$f":"IF(AA792=\"\",\"\",IF(AA792>Inputs!$D$9,0,1))","v":""},{"$f":"IF(AB792=\"\",\"\",IF(AB792>Inputs!$D$9,0,1))","v":""},{"$f":"IF(AC792=\"\",\"\",IF(AC792>Inputs!$D$9,0,1))","v":""},{"$f":"IF(AD792=\"\",\"\",IF(AD792>Inputs!$D$9,0,1))","v":""},{"$f":"IF(AE792=\"\",\"\",IF(AE792>Inputs!$D$9,0,1))","v":""},{"$f":"IF(AF792=\"\",\"\",IF(AF792>Inputs!$D$9,0,1))","v":""},{"$f":"IF(AG792=\"\",\"\",IF(AG792>Inputs!$D$9,0,1))","v":""},{"$f":"IF(AH792=\"\",\"\",IF(AH792>Inputs!$D$9,0,1))","v":""},{"$f":"IF(AI792=\"\",\"\",IF(AI792>Inputs!$D$9,0,1))","v":""},{"$f":"IF(AJ792=\"\",\"\",IF(AJ792>Inputs!$D$9,0,1))","v":""},{"$f":"IF(AK792=\"\",\"\",IF(AK792>Inputs!$D$9,0,1))","v":""},{"$f":"IF(AL792=\"\",\"\",IF(AL792>Inputs!$D$9,0,1))","v":""},"",0,null,"","","","","","","","","","","","","","",null,null,"","","","","","","","","","","","",""]
[null,null,null,null,null,null,null,null,null,null,null,null,null,null,"","","","","","","","","","","","","","","","","","","","","","","","",null,{"$f":"IF(AA793=\"\",\"\",IF(AA793>Inputs!$D$9,0,1))","v":""},{"$f":"IF(AB793=\"\",\"\",IF(AB793>Inputs!$D$9,0,1))","v":""},{"$f":"IF(AC793=\"\",\"\",IF(AC793>Inputs!$D$9,0,1))","v":""},{"$f":"IF(AD793=\"\",\"\",IF(AD793>Inputs!$D$9,0,1))","v":""},{"$f":"IF(AE793=\"\",\"\",IF(AE793>Inputs!$D$9,0,1))","v":""},{"$f":"IF(AF793=\"\",\"\",IF(AF793>Inputs!$D$9,0,1))","v":""},{"$f":"IF(AG793=\"\",\"\",IF(AG793>Inputs!$D$9,0,1))","v":""},{"$f":"IF(AH793=\"\",\"\",IF(AH793>Inputs!$D$9,0,1))","v":""},{"$f":"IF(AI793=\"\",\"\",IF(AI793>Inputs!$D$9,0,1))","v":""},{"$f":"IF(AJ793=\"\",\"\",IF(AJ793>Inputs!$D$9,0,1))","v":""},{"$f":"IF(AK793=\"\",\"\",IF(AK793>Inputs!$D$9,0,1))","v":""},{"$f":"IF(AL793=\"\",\"\",IF(AL793>Inputs!$D$9,0,1))","v":""},"",0,null,"","","","","","","","","","","","","","",null,null,"","","","","","","","","","","","",""]
[null,null,null,null,null,null,null,null,null,null,null,null,null,null,"","","","","","","","","","","","","","","","","","","","","","","","",null,{"$f":"IF(AA794=\"\",\"\",IF(AA794>Inputs!$D$9,0,1))","v":""},{"$f":"IF(AB794=\"\",\"\",IF(AB794>Inputs!$D$9,0,1))","v":""},{"$f":"IF(AC794=\"\",\"\",IF(AC794>Inputs!$D$9,0,1))","v":""},{"$f":"IF(AD794=\"\",\"\",IF(AD794>Inputs!$D$9,0,1))","v":""},{"$f":"IF(AE794=\"\",\"\",IF(AE794>Inputs!$D$9,0,1))","v":""},{"$f":"IF(AF794=\"\",\"\",IF(AF794>Inputs!$D$9,0,1))","v":""},{"$f":"IF(AG794=\"\",\"\",IF(AG794>Inputs!$D$9,0,1))","v":""},{"$f":"IF(AH794=\"\",\"\",IF(AH794>Inputs!$D$9,0,1))","v":""},{"$f":"IF(AI794=\"\",\"\",IF(AI794>Inputs!$D$9,0,1))","v":""},{"$f":"IF(AJ794=\"\",\"\",IF(AJ794>Inputs!$D$9,0,1))","v":""},{"$f":"IF(AK794=\"\",\"\",IF(AK794>Inputs!$D$9,0,1))","v":""},{"$f":"IF(AL794=\"\",\"\",IF(AL794>Inputs!$D$9,0,1))","v":""},"",0,null,"","","","","","","","","","","","","","",null,null,"","","","","","","","","","","","",""]
[null,null,null,null,null,null,null,null,null,null,null,null,null,null,"","","","","","","","","","","","","","","","","","","","","","","","",null,{"$f":"IF(AA795=\"\",\"\",IF(AA795>Inputs!$D$9,0,1))","v":""},{"$f":"IF(AB795=\"\",\"\",IF(AB795>Inputs!$D$9,0,1))","v":""},{"$f":"IF(AC795=\"\",\"\",IF(AC795>Inputs!$D$9,0,1))","v":""},{"$f":"IF(AD795=\"\",\"\",IF(AD795>Inputs!$D$9,0,1))","v":""},{"$f":"IF(AE795=\"\",\"\",IF(AE795>Inputs!$D$9,0,1))","v":""},{"$f":"IF(AF795=\"\",\"\",IF(AF795>Inputs!$D$9,0,1))","v":""},{"$f":"IF(AG795=\"\",\"\",IF(AG795>Inputs!$D$9,0,1))","v":""},{"$f":"IF(AH795=\"\",\"\",IF(AH795>Inputs!$D$9,0,1))","v":""},{"$f":"IF(AI795=\"\",\"\",IF(AI795>Inputs!$D$9,0,1))","v":""},{"$f":"IF(AJ795=\"\",\"\",IF(AJ795>Inputs!$D$9,0,1))","v":""},{"$f":"IF(AK795=\"\",\"\",IF(AK795>Inputs!$D$9,0,1))","v":""},{"$f":"IF(AL795=\"\",\"\",IF(AL795>Inputs!$D$9,0,1))","v":""},"",0,null,"","","","","","","","","","","","","","",null,null,"","","","","","","","","","","","",""]
[null,null,null,null,null,null,null,null,null,null,null,null,null,null,"","","","","","","","","","","","","","","","","","","","","","","","",null,{"$f":"IF(AA796=\"\",\"\",IF(AA796>Inputs!$D$9,0,1))","v":""},{"$f":"IF(AB796=\"\",\"\",IF(AB796>Inputs!$D$9,0,1))","v":""},{"$f":"IF(AC796=\"\",\"\",IF(AC796>Inputs!$D$9,0,1))","v":""},{"$f":"IF(AD796=\"\",\"\",IF(AD796>Inputs!$D$9,0,1))","v":""},{"$f":"IF(AE796=\"\",\"\",IF(AE796>Inputs!$D$9,0,1))","v":""},{"$f":"IF(AF796=\"\",\"\",IF(AF796>Inputs!$D$9,0,1))","v":""},{"$f":"IF(AG796=\"\",\"\",IF(AG796>Inputs!$D$9,0,1))","v":""},{"$f":"IF(AH796=\"\",\"\",IF(AH796>Inputs!$D$9,0,1))","v":""},{"$f":"IF(AI796=\"\",\"\",IF(AI796>Inputs!$D$9,0,1))","v":""},{"$f":"IF(AJ796=\"\",\"\",IF(AJ796>Inputs!$D$9,0,1))","v":""},{"$f":"IF(AK796=\"\",\"\",IF(AK796>Inputs!$D$9,0,1))","v":""},{"$f":"IF(AL796=\"\",\"\",IF(AL796>Inputs!$D$9,0,1))","v":""},"",0,null,"","","","","","","","","","","","","","",null,null,"","","","","","","","","","","","",""]
[null,null,null,null,null,null,null,null,null,null,null,null,null,null,"","","","","","","","","","","","","","","","","","","","","","","","",null,{"$f":"IF(AA797=\"\",\"\",IF(AA797>Inputs!$D$9,0,1))","v":""},{"$f":"IF(AB797=\"\",\"\",IF(AB797>Inputs!$D$9,0,1))","v":""},{"$f":"IF(AC797=\"\",\"\",IF(AC797>Inputs!$D$9,0,1))","v":""},{"$f":"IF(AD797=\"\",\"\",IF(AD797>Inputs!$D$9,0,1))","v":""},{"$f":"IF(AE797=\"\",\"\",IF(AE797>Inputs!$D$9,0,1))","v":""},{"$f":"IF(AF797=\"\",\"\",IF(AF797>Inputs!$D$9,0,1))","v":""},{"$f":"IF(AG797=\"\",\"\",IF(AG797>Inputs!$D$9,0,1))","v":""},{"$f":"IF(AH797=\"\",\"\",IF(AH797>Inputs!$D$9,0,1))","v":""},{"$f":"IF(AI797=\"\",\"\",IF(AI797>Inputs!$D$9,0,1))","v":""},{"$f":"IF(AJ797=\"\",\"\",IF(AJ797>Inputs!$D$9,0,1))","v":""},{"$f":"IF(AK797=\"\",\"\",IF(AK797>Inputs!$D$9,0,1))","v":""},{"$f":"IF(AL797=\"\",\"\",IF(AL797>Inputs!$D$9,0,1))","v":""},"",0,null,"","","","","","","","","","","","","","",null,null,"","","","","","","","","","","","",""]
[null,null,null,null,null,null,null,null,null,null,null,null,null,null,"","","","","","","","","","","","","","","","","","","","","","","","",null,{"$f":"IF(AA798=\"\",\"\",IF(AA798>Inputs!$D$9,0,1))","v":""},{"$f":"IF(AB798=\"\",\"\",IF(AB798>Inputs!$D$9,0,1))","v":""},{"$f":"IF(AC798=\"\",\"\",IF(AC798>Inputs!$D$9,0,1))","v":""},{"$f":"IF(AD798=\"\",\"\",IF(AD798>Inputs!$D$9,0,1))","v":""},{"$f":"IF(AE798=\"\",\"\",IF(AE798>Inputs!$D$9,0,1))","v":""},{"$f":"IF(AF798=\"\",\"\",IF(AF798>Inputs!$D$9,0,1))","v":""},{"$f":"IF(AG798=\"\",\"\",IF(AG798>Inputs!$D$9,0,1))","v":""},{"$f":"IF(AH798=\"\",\"\",IF(AH798>Inputs!$D$9,0,1))","v":""},{"$f":"IF(AI798=\"\",\"\",IF(AI798>Inputs!$D$9,0,1))","v":""},{"$f":"IF(AJ798=\"\",\"\",IF(AJ798>Inputs!$D$9,0,1))","v":""},{"$f":"IF(AK798=\"\",\"\",IF(AK798>Inputs!$D$9,0,1))","v":""},{"$f":"IF(AL798=\"\",\"\",IF(AL798>Inputs!$D$9,0,1))","v":""},"",0,null,"","","","","","","","","","","","","","",null,null,"","","","","","","","","","","","",""]
[null,null,null,null,null,null,null,null,null,null,null,null,null,null,"","","","","","","","","","","","","","","","","","","","","","","","",null,{"$f":"IF(AA799=\"\",\"\",IF(AA799>Inputs!$D$9,0,1))","v":""},{"$f":"IF(AB799=\"\",\"\",IF(AB799>Inputs!$D$9,0,1))","v":""},{"$f":"IF(AC799=\"\",\"\",IF(AC799>Inputs!$D$9,0,1))","v":""},{"$f":"IF(AD799=\"\",\"\",IF(AD799>Inputs!$D$9,0,1))","v":""},{"$f":"IF(AE799=\"\",\"\",IF(AE799>Inputs!$D$9,0,1))","v":""},{"$f":"IF(AF799=\"\",\"\",IF(AF799>Inputs!$D$9,0,1))","v":""},{"$f":"IF(AG799=\"\",\"\",IF(AG799>Inputs!$D$9,0,1))","v":""},{"$f":"IF(AH799=\"\",\"\",IF(AH799>Inputs!$D$9,0,1))","v":""},{"$f":"IF(AI799=\"\",\"\",IF(AI799>Inputs!$D$9,0,1))","v":""},{"$f":"IF(AJ799=\"\",\"\",IF(AJ799>Inputs!$D$9,0,1))","v":""},{"$f":"IF(AK799=\"\",\"\",IF(AK799>Inputs!$D$9,0,1))","v":""},{"$f":"IF(AL799=\"\",\"\",IF(AL799>Inputs!$D$9,0,1))","v":""},"",0,null,"","","","","","","","","","","","","","",null,null,"","","","","","","","","","","","",""]
[null,null,null,null,null,null,null,null,null,null,null,null,null,null,"","","","","","","","","","","","","","","","","","","","","","","","",null,{"$f":"IF(AA800=\"\",\"\",IF(AA800>Inputs!$D$9,0,1))","v":""},{"$f":"IF(AB800=\"\",\"\",IF(AB800>Inputs!$D$9,0,1))","v":""},{"$f":"IF(AC800=\"\",\"\",IF(AC800>Inputs!$D$9,0,1))","v":""},{"$f":"IF(AD800=\"\",\"\",IF(AD800>Inputs!$D$9,0,1))","v":""},{"$f":"IF(AE800=\"\",\"\",IF(AE800>Inputs!$D$9,0,1))","v":""},{"$f":"IF(AF800=\"\",\"\",IF(AF800>Inputs!$D$9,0,1))","v":""},{"$f":"IF(AG800=\"\",\"\",IF(AG800>Inputs!$D$9,0,1))","v":""},{"$f":"IF(AH800=\"\",\"\",IF(AH800>Inputs!$D$9,0,1))","v":""},{"$f":"IF(AI800=\"\",\"\",IF(AI800>Inputs!$D$9,0,1))","v":""},{"$f":"IF(AJ800=\"\",\"\",IF(AJ800>Inputs!$D$9,0,1))","v":""},{"$f":"IF(AK800=\"\",\"\",IF(AK800>Inputs!$D$9,0,1))","v":""},{"$f":"IF(AL800=\"\",\"\",IF(AL800>Inputs!$D$9,0,1))","v":""},"",0,null,"","","","","","","","","","","","","","",null,null,"","","","","","","","","","","","",""]
[null,null,null,null,null,null,null,null,null,null,null,null,null,null,"","","","","","","","","","","","","","","","","","","","","","","","",null,{"$f":"IF(AA801=\"\",\"\",IF(AA801>Inputs!$D$9,0,1))","v":""},{"$f":"IF(AB801=\"\",\"\",IF(AB801>Inputs!$D$9,0,1))","v":""},{"$f":"IF(AC801=\"\",\"\",IF(AC801>Inputs!$D$9,0,1))","v":""},{"$f":"IF(AD801=\"\",\"\",IF(AD801>Inputs!$D$9,0,1))","v":""},{"$f":"IF(AE801=\"\",\"\",IF(AE801>Inputs!$D$9,0,1))","v":""},{"$f":"IF(AF801=\"\",\"\",IF(AF801>Inputs!$D$9,0,1))","v":""},{"$f":"IF(AG801=\"\",\"\",IF(AG801>Inputs!$D$9,0,1))","v":""},{"$f":"IF(AH801=\"\",\"\",IF(AH801>Inputs!$D$9,0,1))","v":""},{"$f":"IF(AI801=\"\",\"\",IF(AI801>Inputs!$D$9,0,1))","v":""},{"$f":"IF(AJ801=\"\",\"\",IF(AJ801>Inputs!$D$9,0,1))","v":""},{"$f":"IF(AK801=\"\",\"\",IF(AK801>Inputs!$D$9,0,1))","v":""},{"$f":"IF(AL801=\"\",\"\",IF(AL801>Inputs!$D$9,0,1))","v":""},"",0,null,"","","","","","","","","","","","","","",null,null,"","","","","","","","","","","","",""]
[null,null,null,null,null,null,null,null,null,null,null,null,null,null,"","","","","","","","","","","","","","","","","","","","","","","","",null,{"$f":"IF(AA802=\"\",\"\",IF(AA802>Inputs!$D$9,0,1))","v":""},{"$f":"IF(AB802=\"\",\"\",IF(AB802>Inputs!$D$9,0,1))","v":""},{"$f":"IF(AC802=\"\",\"\",IF(AC802>Inputs!$D$9,0,1))","v":""},{"$f":"IF(AD802=\"\",\"\",IF(AD802>Inputs!$D$9,0,1))","v":""},{"$f":"IF(AE802=\"\",\"\",IF(AE802>Inputs!$D$9,0,1))","v":""},{"$f":"IF(AF802=\"\",\"\",IF(AF802>Inputs!$D$9,0,1))","v":""},{"$f":"IF(AG802=\"\",\"\",IF(AG802>Inputs!$D$9,0,1))","v":""},{"$f":"IF(AH802=\"\",\"\",IF(AH802>Inputs!$D$9,0,1))","v":""},{"$f":"IF(AI802=\"\",\"\",IF(AI802>Inputs!$D$9,0,1))","v":""},{"$f":"IF(AJ802=\"\",\"\",IF(AJ802>Inputs!$D$9,0,1))","v":""},{"$f":"IF(AK802=\"\",\"\",IF(AK802>Inputs!$D$9,0,1))","v":""},{"$f":"IF(AL802=\"\",\"\",IF(AL802>Inputs!$D$9,0,1))","v":""},{"$f":"IF(COUNT(AN802:AY802)=0,\"\",SUM(AN802:AY802)/COUNT(AN802:AY802))","v":""},0,null,"","","","","","","","","","","","","","",null,null,"","","","","","","","","","","","",""]
[null,null,null,null,null,null,null,null,null,null,null,null,null,null,"","","","","","","","","","","","",{"$f":"IF($A803=\"\",\"\",IF(ISERROR(RANK(O803,$O$2:$O$1000,0)),\"\",RANK(O803,$O$2:$O$1000,0)))","v":""},{"$f":"IF($A803=\"\",\"\",IF(ISERROR(RANK(P803,$P$2:$P$1000,0)),\"\",RANK(P803,$P$2:$P$1000,0)))","v":""},{"$f":"IF($A803=\"\",\"\",IF(ISERROR(RANK(Q803,$Q$2:$Q$1000,0)),\"\",RANK(Q803,$Q$2:$Q$1000,0)))","v":""},{"$f":"IF($A803=\"\",\"\",IF(ISERROR(RANK(R803,$R$2:$R$1000,0)),\"\",RANK(R803,$R$2:$R$1000,0)))","v":""},{"$f":"IF($A803=\"\",\"\",IF(ISERROR(RANK(S803,$S$2:$S$1000,0)),\"\",RANK(S803,$S$2:$S$1000,0)))","v":""},{"$f":"IF($A803=\"\",\"\",IF(ISERROR(RANK(T803,$T$2:$T$1000,0)),\"\",RANK(T803,$T$2:$T$1000,0)))","v":""},{"$f":"IF($A803=\"\",\"\",IF(ISERROR(RANK(U803,$U$2:$U$1000,0)),\"\",RANK(U803,$U$2:$U$1000,0)))","v":""},{"$f":"IF($A803=\"\",\"\",IF(ISERROR(RANK(V803,$V$2:$V$1000,0)),\"\",RANK(V803,$V$2:$V$1000,0)))","v":""},{"$f":"IF($A803=\"\",\"\",IF(ISERROR(RANK(W803,$W$2:$W$1000,0)),\"\",RANK(W803,$W$2:$W$1000,0)))","v":""},{"$f":"IF($A803=\"\",\"\",IF(ISERROR(RANK(X803,$X$2:$X$1000,0)),\"\",RANK(X803,$X$2:$X$1000,0)))","v":""},{"$f":"IF($A803=\"\",\"\",IF(ISERROR(RANK(Y803,$Y$2:$Y$1000,0)),\"\",RANK(Y803,$Y$2:$Y$1000,0)))","v":""},{"$f":"IF($A803=\"\",\"\",IF(ISERROR(RANK(Z803,$Z$2:$Z$1000,0)),\"\",RANK(Z803,$Z$2:$Z$1000,0)))","v":""},null,{"$f":"IF(AA803=\"\",\"\",IF(AA803>Inputs!$D$9,0,1))","v":""},{"$f":"IF(AB803=\"\",\"\",IF(AB803>Inputs!$D$9,0,1))","v":""},{"$f":"IF(AC803=\"\",\"\",IF(AC803>Inputs!$D$9,0,1))","v":""},{"$f":"IF(AD803=\"\",\"\",IF(AD803>Inputs!$D$9,0,1))","v":""},{"$f":"IF(AE803=\"\",\"\",IF(AE803>Inputs!$D$9,0,1))","v":""},{"$f":"IF(AF803=\"\",\"\",IF(AF803>Inputs!$D$9,0,1))","v":""},{"$f":"IF(AG803=\"\",\"\",IF(AG803>Inputs!$D$9,0,1))","v":""},{"$f":"IF(AH803=\"\",\"\",IF(AH803>Inputs!$D$9,0,1))","v":""},{"$f":"IF(AI803=\"\",\"\",IF(AI803>Inputs!$D$9,0,1))","v":""},{"$f":"IF(AJ803=\"\",\"\",IF(AJ803>Inputs!$D$9,0,1))","v":""},{"$f":"IF(AK803=\"\",\"\",IF(AK803>Inputs!$D$9,0,1))","v":""},{"$f":"IF(AL803=\"\",\"\",IF(AL803>Inputs!$D$9,0,1))","v":""},"",0,null,"","","","","","","","","","","","","","",null,null,"","","","","","","","","","","","",""]
[null,null,null,null,null,null,null,null,null,null,null,null,null,null,"","","","","","","","","","","","","","","","","","","","","","","","",null,{"$f":"IF(AA804=\"\",\"\",IF(AA804>Inputs!$D$9,0,1))","v":""},{"$f":"IF(AB804=\"\",\"\",IF(AB804>Inputs!$D$9,0,1))","v":""},{"$f":"IF(AC804=\"\",\"\",IF(AC804>Inputs!$D$9,0,1))","v":""},{"$f":"IF(AD804=\"\",\"\",IF(AD804>Inputs!$D$9,0,1))","v":""},{"$f":"IF(AE804=\"\",\"\",IF(AE804>Inputs!$D$9,0,1))","v":""},{"$f":"IF(AF804=\"\",\"\",IF(AF804>Inputs!$D$9,0,1))","v":""},{"$f":"IF(AG804=\"\",\"\",IF(AG804>Inputs!$D$9,0,1))","v":""},{"$f":"IF(AH804=\"\",\"\",IF(AH804>Inputs!$D$9,0,1))","v":""},{"$f":"IF(AI804=\"\",\"\",IF(AI804>Inputs!$D$9,0,1))","v":""},{"$f":"IF(AJ804=\"\",\"\",IF(AJ804>Inputs!$D$9,0,1))","v":""},{"$f":"IF(AK804=\"\",\"\",IF(AK804>Inputs!$D$9,0,1))","v":""},{"$f":"IF(AL804=\"\",\"\",IF(AL804>Inputs!$D$9,0,1))","v":""},"",0,null,"","","","","","","","","","","","","","",null,null,"","","","","","","","","","","","",""]
[null,null,null,null,null,null,null,null,null,null,null,null,null,null,"","","","","","","","","","","","","","","","","","","","","","","","",null,{"$f":"IF(AA805=\"\",\"\",IF(AA805>Inputs!$D$9,0,1))","v":""},{"$f":"IF(AB805=\"\",\"\",IF(AB805>Inputs!$D$9,0,1))","v":""},{"$f":"IF(AC805=\"\",\"\",IF(AC805>Inputs!$D$9,0,1))","v":""},{"$f":"IF(AD805=\"\",\"\",IF(AD805>Inputs!$D$9,0,1))","v":""},{"$f":"IF(AE805=\"\",\"\",IF(AE805>Inputs!$D$9,0,1))","v":""},{"$f":"IF(AF805=\"\",\"\",IF(AF805>Inputs!$D$9,0,1))","v":""},{"$f":"IF(AG805=\"\",\"\",IF(AG805>Inputs!$D$9,0,1))","v":""},{"$f":"IF(AH805=\"\",\"\",IF(AH805>Inputs!$D$9,0,1))","v":""},{"$f":"IF(AI805=\"\",\"\",IF(AI805>Inputs!$D$9,0,1))","v":""},{"$f":"IF(AJ805=\"\",\"\",IF(AJ805>Inputs!$D$9,0,1))","v":""},{"$f":"IF(AK805=\"\",\"\",IF(AK805>Inputs!$D$9,0,1))","v":""},{"$f":"IF(AL805=\"\",\"\",IF(AL805>Inputs!$D$9,0,1))","v":""},"",0,null,"","","","","","","","","","","","","","",null,null,"","","","","","","","","","","","",""]
[null,null,null,null,null,null,null,null,null,null,null,null,null,null,"","","","","","","","","","","","","","","","","","","","","","","","",null,{"$f":"IF(AA806=\"\",\"\",IF(AA806>Inputs!$D$9,0,1))","v":""},{"$f":"IF(AB806=\"\",\"\",IF(AB806>Inputs!$D$9,0,1))","v":""},{"$f":"IF(AC806=\"\",\"\",IF(AC806>Inputs!$D$9,0,1))","v":""},{"$f":"IF(AD806=\"\",\"\",IF(AD806>Inputs!$D$9,0,1))","v":""},{"$f":"IF(AE806=\"\",\"\",IF(AE806>Inputs!$D$9,0,1))","v":""},{"$f":"IF(AF806=\"\",\"\",IF(AF806>Inputs!$D$9,0,1))","v":""},{"$f":"IF(AG806=\"\",\"\",IF(AG806>Inputs!$D$9,0,1))","v":""},{"$f":"IF(AH806=\"\",\"\",IF(AH806>Inputs!$D$9,0,1))","v":""},{"$f":"IF(AI806=\"\",\"\",IF(AI806>Inputs!$D$9,0,1))","v":""},{"$f":"IF(AJ806=\"\",\"\",IF(AJ806>Inputs!$D$9,0,1))","v":""},{"$f":"IF(AK806=\"\",\"\",IF(AK806>Inputs!$D$9,0,1))","v":""},{"$f":"IF(AL806=\"\",\"\",IF(AL806>Inputs!$D$9,0,1))","v":""},"",0,null,"","","","","","","","","","","","","","",null,null,"","","","","","","","","","","","",""]
[null,null,null,null,null,null,null,null,null,null,null,null,null,null,"","","","","","","","","","","","","","","","","","","","","","","","",null,{"$f":"IF(AA807=\"\",\"\",IF(AA807>Inputs!$D$9,0,1))","v":""},{"$f":"IF(AB807=\"\",\"\",IF(AB807>Inputs!$D$9,0,1))","v":""},{"$f":"IF(AC807=\"\",\"\",IF(AC807>Inputs!$D$9,0,1))","v":""},{"$f":"IF(AD807=\"\",\"\",IF(AD807>Inputs!$D$9,0,1))","v":""},{"$f":"IF(AE807=\"\",\"\",IF(AE807>Inputs!$D$9,0,1))","v":""},{"$f":"IF(AF807=\"\",\"\",IF(AF807>Inputs!$D$9,0,1))","v":""},{"$f":"IF(AG807=\"\",\"\",IF(AG807>Inputs!$D$9,0,1))","v":""},{"$f":"IF(AH807=\"\",\"\",IF(AH807>Inputs!$D$9,0,1))","v":""},{"$f":"IF(AI807=\"\",\"\",IF(AI807>Inputs!$D$9,0,1))","v":""},{"$f":"IF(AJ807=\"\",\"\",IF(AJ807>Inputs!$D$9,0,1))","v":""},{"$f":"IF(AK807=\"\",\"\",IF(AK807>Inputs!$D$9,0,1))","v":""},{"$f":"IF(AL807=\"\",\"\",IF(AL807>Inputs!$D$9,0,1))","v":""},"",0,null,"","","","","","","","","","","","","","",null,null,"","","","","","","","","","","","",""]
[null,null,null,null,null,null,null,null,null,null,null,null,null,null,"","","","","","","","","","","","","","","","","","","","","","","","",null,{"$f":"IF(AA808=\"\",\"\",IF(AA808>Inputs!$D$9,0,1))","v":""},{"$f":"IF(AB808=\"\",\"\",IF(AB808>Inputs!$D$9,0,1))","v":""},{"$f":"IF(AC808=\"\",\"\",IF(AC808>Inputs!$D$9,0,1))","v":""},{"$f":"IF(AD808=\"\",\"\",IF(AD808>Inputs!$D$9,0,1))","v":""},{"$f":"IF(AE808=\"\",\"\",IF(AE808>Inputs!$D$9,0,1))","v":""},{"$f":"IF(AF808=\"\",\"\",IF(AF808>Inputs!$D$9,0,1))","v":""},{"$f":"IF(AG808=\"\",\"\",IF(AG808>Inputs!$D$9,0,1))","v":""},{"$f":"IF(AH808=\"\",\"\",IF(AH808>Inputs!$D$9,0,1))","v":""},{"$f":"IF(AI808=\"\",\"\",IF(AI808>Inputs!$D$9,0,1))","v":""},{"$f":"IF(AJ808=\"\",\"\",IF(AJ808>Inputs!$D$9,0,1))","v":""},{"$f":"IF(AK808=\"\",\"\",IF(AK808>Inputs!$D$9,0,1))","v":""},{"$f":"IF(AL808=\"\",\"\",IF(AL808>Inputs!$D$9,0,1))","v":""},"",0,null,"","","","","","","","","","","","","","",null,null,"","","","","","","","","","","","",""]
[null,null,null,null,null,null,null,null,null,null,null,null,null,null,"","","","","","","","","","","","","","","","","","","","","","","","",null,{"$f":"IF(AA809=\"\",\"\",IF(AA809>Inputs!$D$9,0,1))","v":""},{"$f":"IF(AB809=\"\",\"\",IF(AB809>Inputs!$D$9,0,1))","v":""},{"$f":"IF(AC809=\"\",\"\",IF(AC809>Inputs!$D$9,0,1))","v":""},{"$f":"IF(AD809=\"\",\"\",IF(AD809>Inputs!$D$9,0,1))","v":""},{"$f":"IF(AE809=\"\",\"\",IF(AE809>Inputs!$D$9,0,1))","v":""},{"$f":"IF(AF809=\"\",\"\",IF(AF809>Inputs!$D$9,0,1))","v":""},{"$f":"IF(AG809=\"\",\"\",IF(AG809>Inputs!$D$9,0,1))","v":""},{"$f":"IF(AH809=\"\",\"\",IF(AH809>Inputs!$D$9,0,1))","v":""},{"$f":"IF(AI809=\"\",\"\",IF(AI809>Inputs!$D$9,0,1))","v":""},{"$f":"IF(AJ809=\"\",\"\",IF(AJ809>Inputs!$D$9,0,1))","v":""},{"$f":"IF(AK809=\"\",\"\",IF(AK809>Inputs!$D$9,0,1))","v":""},{"$f":"IF(AL809=\"\",\"\",IF(AL809>Inputs!$D$9,0,1))","v":""},"",0,null,"","","","","","","","","","","","","","",null,null,"","","","","","","","","","","","",""]
[null,null,null,null,null,null,null,null,null,null,null,null,null,null,"","","","","","","","","","","","","","","","","","","","","","","","",null,{"$f":"IF(AA810=\"\",\"\",IF(AA810>Inputs!$D$9,0,1))","v":""},{"$f":"IF(AB810=\"\",\"\",IF(AB810>Inputs!$D$9,0,1))","v":""},{"$f":"IF(AC810=\"\",\"\",IF(AC810>Inputs!$D$9,0,1))","v":""},{"$f":"IF(AD810=\"\",\"\",IF(AD810>Inputs!$D$9,0,1))","v":""},{"$f":"IF(AE810=\"\",\"\",IF(AE810>Inputs!$D$9,0,1))","v":""},{"$f":"IF(AF810=\"\",\"\",IF(AF810>Inputs!$D$9,0,1))","v":""},{"$f":"IF(AG810=\"\",\"\",IF(AG810>Inputs!$D$9,0,1))","v":""},{"$f":"IF(AH810=\"\",\"\",IF(AH810>Inputs!$D$9,0,1))","v":""},{"$f":"IF(AI810=\"\",\"\",IF(AI810>Inputs!$D$9,0,1))","v":""},{"$f":"IF(AJ810=\"\",\"\",IF(AJ810>Inputs!$D$9,0,1))","v":""},{"$f":"IF(AK810=\"\",\"\",IF(AK810>Inputs!$D$9,0,1))","v":""},{"$f":"IF(AL810=\"\",\"\",IF(AL810>Inputs!$D$9,0,1))","v":""},"",0,null,"","","","","","","","","","","","","","",null,null,"","","","","","","","","","","","",""]
[null,null,null,null,null,null,null,null,null,null,null,null,null,null,"","","","","","","","","","","","","","","","","","","","","","","","",null,{"$f":"IF(AA811=\"\",\"\",IF(AA811>Inputs!$D$9,0,1))","v":""},{"$f":"IF(AB811=\"\",\"\",IF(AB811>Inputs!$D$9,0,1))","v":""},{"$f":"IF(AC811=\"\",\"\",IF(AC811>Inputs!$D$9,0,1))","v":""},{"$f":"IF(AD811=\"\",\"\",IF(AD811>Inputs!$D$9,0,1))","v":""},{"$f":"IF(AE811=\"\",\"\",IF(AE811>Inputs!$D$9,0,1))","v":""},{"$f":"IF(AF811=\"\",\"\",IF(AF811>Inputs!$D$9,0,1))","v":""},{"$f":"IF(AG811=\"\",\"\",IF(AG811>Inputs!$D$9,0,1))","v":""},{"$f":"IF(AH811=\"\",\"\",IF(AH811>Inputs!$D$9,0,1))","v":""},{"$f":"IF(AI811=\"\",\"\",IF(AI811>Inputs!$D$9,0,1))","v":""},{"$f":"IF(AJ811=\"\",\"\",IF(AJ811>Inputs!$D$9,0,1))","v":""},{"$f":"IF(AK811=\"\",\"\",IF(AK811>Inputs!$D$9,0,1))","v":""},{"$f":"IF(AL811=\"\",\"\",IF(AL811>Inputs!$D$9,0,1))","v":""},"",0,null,"","","","","","","","","","","","","","",null,null,"","","","","","","","","","","","",""]
[null,null,null,null,null,null,null,null,null,null,null,null,null,null,"","","","","","","","","","","","","","","","","","","","","","","","",null,{"$f":"IF(AA812=\"\",\"\",IF(AA812>Inputs!$D$9,0,1))","v":""},{"$f":"IF(AB812=\"\",\"\",IF(AB812>Inputs!$D$9,0,1))","v":""},{"$f":"IF(AC812=\"\",\"\",IF(AC812>Inputs!$D$9,0,1))","v":""},{"$f":"IF(AD812=\"\",\"\",IF(AD812>Inputs!$D$9,0,1))","v":""},{"$f":"IF(AE812=\"\",\"\",IF(AE812>Inputs!$D$9,0,1))","v":""},{"$f":"IF(AF812=\"\",\"\",IF(AF812>Inputs!$D$9,0,1))","v":""},{"$f":"IF(AG812=\"\",\"\",IF(AG812>Inputs!$D$9,0,1))","v":""},{"$f":"IF(AH812=\"\",\"\",IF(AH812>Inputs!$D$9,0,1))","v":""},{"$f":"IF(AI812=\"\",\"\",IF(AI812>Inputs!$D$9,0,1))","v":""},{"$f":"IF(AJ812=\"\",\"\",IF(AJ812>Inputs!$D$9,0,1))","v":""},{"$f":"IF(AK812=\"\",\"\",IF(AK812>Inputs!$D$9,0,1))","v":""},{"$f":"IF(AL812=\"\",\"\",IF(AL812>Inputs!$D$9,0,1))","v":""},"",0,null,"","","","","","","","","","","","","","",null,null,"","","","","","","","","","","","",""]
[null,null,null,null,null,null,null,null,null,null,null,null,null,null,"","","","","","","","","","","","","","","","","","","","","","","","",null,{"$f":"IF(AA813=\"\",\"\",IF(AA813>Inputs!$D$9,0,1))","v":""},{"$f":"IF(AB813=\"\",\"\",IF(AB813>Inputs!$D$9,0,1))","v":""},{"$f":"IF(AC813=\"\",\"\",IF(AC813>Inputs!$D$9,0,1))","v":""},{"$f":"IF(AD813=\"\",\"\",IF(AD813>Inputs!$D$9,0,1))","v":""},{"$f":"IF(AE813=\"\",\"\",IF(AE813>Inputs!$D$9,0,1))","v":""},{"$f":"IF(AF813=\"\",\"\",IF(AF813>Inputs!$D$9,0,1))","v":""},{"$f":"IF(AG813=\"\",\"\",IF(AG813>Inputs!$D$9,0,1))","v":""},{"$f":"IF(AH813=\"\",\"\",IF(AH813>Inputs!$D$9,0,1))","v":""},{"$f":"IF(AI813=\"\",\"\",IF(AI813>Inputs!$D$9,0,1))","v":""},{"$f":"IF(AJ813=\"\",\"\",IF(AJ813>Inputs!$D$9,0,1))","v":""},{"$f":"IF(AK813=\"\",\"\",IF(AK813>Inputs!$D$9,0,1))","v":""},{"$f":"IF(AL813=\"\",\"\",IF(AL813>Inputs!$D$9,0,1))","v":""},"",0,null,"","","","","","","","","","","","","","",null,null,"","","","","","","","","","","","",""]
[null,null,null,null,null,null,null,null,null,null,null,null,null,null,"","","","","","","","","","","","","","","","","","","","","","","","",null,{"$f":"IF(AA814=\"\",\"\",IF(AA814>Inputs!$D$9,0,1))","v":""},{"$f":"IF(AB814=\"\",\"\",IF(AB814>Inputs!$D$9,0,1))","v":""},{"$f":"IF(AC814=\"\",\"\",IF(AC814>Inputs!$D$9,0,1))","v":""},{"$f":"IF(AD814=\"\",\"\",IF(AD814>Inputs!$D$9,0,1))","v":""},{"$f":"IF(AE814=\"\",\"\",IF(AE814>Inputs!$D$9,0,1))","v":""},{"$f":"IF(AF814=\"\",\"\",IF(AF814>Inputs!$D$9,0,1))","v":""},{"$f":"IF(AG814=\"\",\"\",IF(AG814>Inputs!$D$9,0,1))","v":""},{"$f":"IF(AH814=\"\",\"\",IF(AH814>Inputs!$D$9,0,1))","v":""},{"$f":"IF(AI814=\"\",\"\",IF(AI814>Inputs!$D$9,0,1))","v":""},{"$f":"IF(AJ814=\"\",\"\",IF(AJ814>Inputs!$D$9,0,1))","v":""},{"$f":"IF(AK814=\"\",\"\",IF(AK814>Inputs!$D$9,0,1))","v":""},{"$f":"IF(AL814=\"\",\"\",IF(AL814>Inputs!$D$9,0,1))","v":""},"",0,null,"","","","","","","","","","","","","","",null,null,"","","","","","","","","","","","",""]
[null,null,null,null,null,null,null,null,null,null,null,null,null,null,"","","","","","","","","","","","","","","","","","","","","","","","",null,{"$f":"IF(AA815=\"\",\"\",IF(AA815>Inputs!$D$9,0,1))","v":""},{"$f":"IF(AB815=\"\",\"\",IF(AB815>Inputs!$D$9,0,1))","v":""},{"$f":"IF(AC815=\"\",\"\",IF(AC815>Inputs!$D$9,0,1))","v":""},{"$f":"IF(AD815=\"\",\"\",IF(AD815>Inputs!$D$9,0,1))","v":""},{"$f":"IF(AE815=\"\",\"\",IF(AE815>Inputs!$D$9,0,1))","v":""},{"$f":"IF(AF815=\"\",\"\",IF(AF815>Inputs!$D$9,0,1))","v":""},{"$f":"IF(AG815=\"\",\"\",IF(AG815>Inputs!$D$9,0,1))","v":""},{"$f":"IF(AH815=\"\",\"\",IF(AH815>Inputs!$D$9,0,1))","v":""},{"$f":"IF(AI815=\"\",\"\",IF(AI815>Inputs!$D$9,0,1))","v":""},{"$f":"IF(AJ815=\"\",\"\",IF(AJ815>Inputs!$D$9,0,1))","v":""},{"$f":"IF(AK815=\"\",\"\",IF(AK815>Inputs!$D$9,0,1))","v":""},{"$f":"IF(AL815=\"\",\"\",IF(AL815>Inputs!$D$9,0,1))","v":""},"",0,null,"","","","","","","","","","","","","","",null,null,"","","","","","","","","","","","",""]
[null,null,null,null,null,null,null,null,null,null,null,null,null,null,"","","","","","","","","","","","","","","","","","","","","","","","",null,{"$f":"IF(AA816=\"\",\"\",IF(AA816>Inputs!$D$9,0,1))","v":""},{"$f":"IF(AB816=\"\",\"\",IF(AB816>Inputs!$D$9,0,1))","v":""},{"$f":"IF(AC816=\"\",\"\",IF(AC816>Inputs!$D$9,0,1))","v":""},{"$f":"IF(AD816=\"\",\"\",IF(AD816>Inputs!$D$9,0,1))","v":""},{"$f":"IF(AE816=\"\",\"\",IF(AE816>Inputs!$D$9,0,1))","v":""},{"$f":"IF(AF816=\"\",\"\",IF(AF816>Inputs!$D$9,0,1))","v":""},{"$f":"IF(AG816=\"\",\"\",IF(AG816>Inputs!$D$9,0,1))","v":""},{"$f":"IF(AH816=\"\",\"\",IF(AH816>Inputs!$D$9,0,1))","v":""},{"$f":"IF(AI816=\"\",\"\",IF(AI816>Inputs!$D$9,0,1))","v":""},{"$f":"IF(AJ816=\"\",\"\",IF(AJ816>Inputs!$D$9,0,1))","v":""},{"$f":"IF(AK816=\"\",\"\",IF(AK816>Inputs!$D$9,0,1))","v":""},{"$f":"IF(AL816=\"\",\"\",IF(AL816>Inputs!$D$9,0,1))","v":""},"",0,null,"","","","","","","","","","","","","","",null,null,"","","","","","","","","","","","",""]
[null,null,null,null,null,null,null,null,null,null,null,null,null,null,"","","","","","","","","","","","","","","","","","","","","","","","",null,{"$f":"IF(AA817=\"\",\"\",IF(AA817>Inputs!$D$9,0,1))","v":""},{"$f":"IF(AB817=\"\",\"\",IF(AB817>Inputs!$D$9,0,1))","v":""},{"$f":"IF(AC817=\"\",\"\",IF(AC817>Inputs!$D$9,0,1))","v":""},{"$f":"IF(AD817=\"\",\"\",IF(AD817>Inputs!$D$9,0,1))","v":""},{"$f":"IF(AE817=\"\",\"\",IF(AE817>Inputs!$D$9,0,1))","v":""},{"$f":"IF(AF817=\"\",\"\",IF(AF817>Inputs!$D$9,0,1))","v":""},{"$f":"IF(AG817=\"\",\"\",IF(AG817>Inputs!$D$9,0,1))","v":""},{"$f":"IF(AH817=\"\",\"\",IF(AH817>Inputs!$D$9,0,1))","v":""},{"$f":"IF(AI817=\"\",\"\",IF(AI817>Inputs!$D$9,0,1))","v":""},{"$f":"IF(AJ817=\"\",\"\",IF(AJ817>Inputs!$D$9,0,1))","v":""},{"$f":"IF(AK817=\"\",\"\",IF(AK817>Inputs!$D$9,0,1))","v":""},{"$f":"IF(AL817=\"\",\"\",IF(AL817>Inputs!$D$9,0,1))","v":""},"",0,null,"","","","","","","","","","","","","","",null,null,"","","","","","","","","","","","",""]
[null,null,null,null,null,null,null,null,null,null,null,null,null,null,"","","","","","","","","","","","","","","","","","","","","","","","",null,{"$f":"IF(AA818=\"\",\"\",IF(AA818>Inputs!$D$9,0,1))","v":""},{"$f":"IF(AB818=\"\",\"\",IF(AB818>Inputs!$D$9,0,1))","v":""},{"$f":"IF(AC818=\"\",\"\",IF(AC818>Inputs!$D$9,0,1))","v":""},{"$f":"IF(AD818=\"\",\"\",IF(AD818>Inputs!$D$9,0,1))","v":""},{"$f":"IF(AE818=\"\",\"\",IF(AE818>Inputs!$D$9,0,1))","v":""},{"$f":"IF(AF818=\"\",\"\",IF(AF818>Inputs!$D$9,0,1))","v":""},{"$f":"IF(AG818=\"\",\"\",IF(AG818>Inputs!$D$9,0,1))","v":""},{"$f":"IF(AH818=\"\",\"\",IF(AH818>Inputs!$D$9,0,1))","v":""},{"$f":"IF(AI818=\"\",\"\",IF(AI818>Inputs!$D$9,0,1))","v":""},{"$f":"IF(AJ818=\"\",\"\",IF(AJ818>Inputs!$D$9,0,1))","v":""},{"$f":"IF(AK818=\"\",\"\",IF(AK818>Inputs!$D$9,0,1))","v":""},{"$f":"IF(AL818=\"\",\"\",IF(AL818>Inputs!$D$9,0,1))","v":""},"",0,null,"","","","","","","","","","","","","","",null,null,"","","","","","","","","","","","",""]
[null,null,null,null,null,null,null,null,null,null,null,null,null,null,"","","","","","","","","","","","","","","","","","","","","","","","",null,{"$f":"IF(AA819=\"\",\"\",IF(AA819>Inputs!$D$9,0,1))","v":""},{"$f":"IF(AB819=\"\",\"\",IF(AB819>Inputs!$D$9,0,1))","v":""},{"$f":"IF(AC819=\"\",\"\",IF(AC819>Inputs!$D$9,0,1))","v":""},{"$f":"IF(AD819=\"\",\"\",IF(AD819>Inputs!$D$9,0,1))","v":""},{"$f":"IF(AE819=\"\",\"\",IF(AE819>Inputs!$D$9,0,1))","v":""},{"$f":"IF(AF819=\"\",\"\",IF(AF819>Inputs!$D$9,0,1))","v":""},{"$f":"IF(AG819=\"\",\"\",IF(AG819>Inputs!$D$9,0,1))","v":""},{"$f":"IF(AH819=\"\",\"\",IF(AH819>Inputs!$D$9,0,1))","v":""},{"$f":"IF(AI819=\"\",\"\",IF(AI819>Inputs!$D$9,0,1))","v":""},{"$f":"IF(AJ819=\"\",\"\",IF(AJ819>Inputs!$D$9,0,1))","v":""},{"$f":"IF(AK819=\"\",\"\",IF(AK819>Inputs!$D$9,0,1))","v":""},{"$f":"IF(AL819=\"\",\"\",IF(AL819>Inputs!$D$9,0,1))","v":""},"",0,null,"","","","","","","","","","","","","","",null,null,"","","","","","","","","","","","",""]
[null,null,null,null,null,null,null,null,null,null,null,null,null,null,"","","","","","","","","","","","","","","","","","","","","","","","",null,{"$f":"IF(AA820=\"\",\"\",IF(AA820>Inputs!$D$9,0,1))","v":""},{"$f":"IF(AB820=\"\",\"\",IF(AB820>Inputs!$D$9,0,1))","v":""},{"$f":"IF(AC820=\"\",\"\",IF(AC820>Inputs!$D$9,0,1))","v":""},{"$f":"IF(AD820=\"\",\"\",IF(AD820>Inputs!$D$9,0,1))","v":""},{"$f":"IF(AE820=\"\",\"\",IF(AE820>Inputs!$D$9,0,1))","v":""},{"$f":"IF(AF820=\"\",\"\",IF(AF820>Inputs!$D$9,0,1))","v":""},{"$f":"IF(AG820=\"\",\"\",IF(AG820>Inputs!$D$9,0,1))","v":""},{"$f":"IF(AH820=\"\",\"\",IF(AH820>Inputs!$D$9,0,1))","v":""},{"$f":"IF(AI820=\"\",\"\",IF(AI820>Inputs!$D$9,0,1))","v":""},{"$f":"IF(AJ820=\"\",\"\",IF(AJ820>Inputs!$D$9,0,1))","v":""},{"$f":"IF(AK820=\"\",\"\",IF(AK820>Inputs!$D$9,0,1))","v":""},{"$f":"IF(AL820=\"\",\"\",IF(AL820>Inputs!$D$9,0,1))","v":""},"",0,null,"","","","","","","","","","","","","","",null,null,"","","","","","","","","","","","",""]
[null,null,null,null,null,null,null,null,null,null,null,null,null,null,"","","","","","","","","","","","","","","","","","","","","","","","",null,{"$f":"IF(AA821=\"\",\"\",IF(AA821>Inputs!$D$9,0,1))","v":""},{"$f":"IF(AB821=\"\",\"\",IF(AB821>Inputs!$D$9,0,1))","v":""},{"$f":"IF(AC821=\"\",\"\",IF(AC821>Inputs!$D$9,0,1))","v":""},{"$f":"IF(AD821=\"\",\"\",IF(AD821>Inputs!$D$9,0,1))","v":""},{"$f":"IF(AE821=\"\",\"\",IF(AE821>Inputs!$D$9,0,1))","v":""},{"$f":"IF(AF821=\"\",\"\",IF(AF821>Inputs!$D$9,0,1))","v":""},{"$f":"IF(AG821=\"\",\"\",IF(AG821>Inputs!$D$9,0,1))","v":""},{"$f":"IF(AH821=\"\",\"\",IF(AH821>Inputs!$D$9,0,1))","v":""},{"$f":"IF(AI821=\"\",\"\",IF(AI821>Inputs!$D$9,0,1))","v":""},{"$f":"IF(AJ821=\"\",\"\",IF(AJ821>Inputs!$D$9,0,1))","v":""},{"$f":"IF(AK821=\"\",\"\",IF(AK821>Inputs!$D$9,0,1))","v":""},{"$f":"IF(AL821=\"\",\"\",IF(AL821>Inputs!$D$9,0,1))","v":""},"",0,null,"","","","","","","","","","","","","","",null,null,"","","","","","","","","","","","",""]
[null,null,null,null,null,null,null,null,null,null,null,null,null,null,"","","","","","","","","","","","","","","","","","","","","","","","",null,{"$f":"IF(AA822=\"\",\"\",IF(AA822>Inputs!$D$9,0,1))","v":""},{"$f":"IF(AB822=\"\",\"\",IF(AB822>Inputs!$D$9,0,1))","v":""},{"$f":"IF(AC822=\"\",\"\",IF(AC822>Inputs!$D$9,0,1))","v":""},{"$f":"IF(AD822=\"\",\"\",IF(AD822>Inputs!$D$9,0,1))","v":""},{"$f":"IF(AE822=\"\",\"\",IF(AE822>Inputs!$D$9,0,1))","v":""},{"$f":"IF(AF822=\"\",\"\",IF(AF822>Inputs!$D$9,0,1))","v":""},{"$f":"IF(AG822=\"\",\"\",IF(AG822>Inputs!$D$9,0,1))","v":""},{"$f":"IF(AH822=\"\",\"\",IF(AH822>Inputs!$D$9,0,1))","v":""},{"$f":"IF(AI822=\"\",\"\",IF(AI822>Inputs!$D$9,0,1))","v":""},{"$f":"IF(AJ822=\"\",\"\",IF(AJ822>Inputs!$D$9,0,1))","v":""},{"$f":"IF(AK822=\"\",\"\",IF(AK822>Inputs!$D$9,0,1))","v":""},{"$f":"IF(AL822=\"\",\"\",IF(AL822>Inputs!$D$9,0,1))","v":""},"",0,null,"","","","","","","","","","","","","","",null,null,"","","","","","","","","","","","",""]
[null,null,null,null,null,null,null,null,null,null,null,null,null,null,"","","","","","","","","","","","","","","","","","","","","","","","",null,{"$f":"IF(AA823=\"\",\"\",IF(AA823>Inputs!$D$9,0,1))","v":""},{"$f":"IF(AB823=\"\",\"\",IF(AB823>Inputs!$D$9,0,1))","v":""},{"$f":"IF(AC823=\"\",\"\",IF(AC823>Inputs!$D$9,0,1))","v":""},{"$f":"IF(AD823=\"\",\"\",IF(AD823>Inputs!$D$9,0,1))","v":""},{"$f":"IF(AE823=\"\",\"\",IF(AE823>Inputs!$D$9,0,1))","v":""},{"$f":"IF(AF823=\"\",\"\",IF(AF823>Inputs!$D$9,0,1))","v":""},{"$f":"IF(AG823=\"\",\"\",IF(AG823>Inputs!$D$9,0,1))","v":""},{"$f":"IF(AH823=\"\",\"\",IF(AH823>Inputs!$D$9,0,1))","v":""},{"$f":"IF(AI823=\"\",\"\",IF(AI823>Inputs!$D$9,0,1))","v":""},{"$f":"IF(AJ823=\"\",\"\",IF(AJ823>Inputs!$D$9,0,1))","v":""},{"$f":"IF(AK823=\"\",\"\",IF(AK823>Inputs!$D$9,0,1))","v":""},{"$f":"IF(AL823=\"\",\"\",IF(AL823>Inputs!$D$9,0,1))","v":""},"",0,null,"","","","","","","","","","","","","","",null,null,"","","","","","","","","","","","",""]
[null,null,null,null,null,null,null,null,null,null,null,null,null,null,"","","","","","","","","","","","","","","","","","","","","","","","",null,{"$f":"IF(AA824=\"\",\"\",IF(AA824>Inputs!$D$9,0,1))","v":""},{"$f":"IF(AB824=\"\",\"\",IF(AB824>Inputs!$D$9,0,1))","v":""},{"$f":"IF(AC824=\"\",\"\",IF(AC824>Inputs!$D$9,0,1))","v":""},{"$f":"IF(AD824=\"\",\"\",IF(AD824>Inputs!$D$9,0,1))","v":""},{"$f":"IF(AE824=\"\",\"\",IF(AE824>Inputs!$D$9,0,1))","v":""},{"$f":"IF(AF824=\"\",\"\",IF(AF824>Inputs!$D$9,0,1))","v":""},{"$f":"IF(AG824=\"\",\"\",IF(AG824>Inputs!$D$9,0,1))","v":""},{"$f":"IF(AH824=\"\",\"\",IF(AH824>Inputs!$D$9,0,1))","v":""},{"$f":"IF(AI824=\"\",\"\",IF(AI824>Inputs!$D$9,0,1))","v":""},{"$f":"IF(AJ824=\"\",\"\",IF(AJ824>Inputs!$D$9,0,1))","v":""},{"$f":"IF(AK824=\"\",\"\",IF(AK824>Inputs!$D$9,0,1))","v":""},{"$f":"IF(AL824=\"\",\"\",IF(AL824>Inputs!$D$9,0,1))","v":""},"",0,null,"","","","","","","","","","","","","","",null,null,"","","","","","","","","","","","",""]
[null,null,null,null,null,null,null,null,null,null,null,null,null,null,"","","","","","","","","","","","","","","","","","","","","","","","",null,{"$f":"IF(AA825=\"\",\"\",IF(AA825>Inputs!$D$9,0,1))","v":""},{"$f":"IF(AB825=\"\",\"\",IF(AB825>Inputs!$D$9,0,1))","v":""},{"$f":"IF(AC825=\"\",\"\",IF(AC825>Inputs!$D$9,0,1))","v":""},{"$f":"IF(AD825=\"\",\"\",IF(AD825>Inputs!$D$9,0,1))","v":""},{"$f":"IF(AE825=\"\",\"\",IF(AE825>Inputs!$D$9,0,1))","v":""},{"$f":"IF(AF825=\"\",\"\",IF(AF825>Inputs!$D$9,0,1))","v":""},{"$f":"IF(AG825=\"\",\"\",IF(AG825>Inputs!$D$9,0,1))","v":""},{"$f":"IF(AH825=\"\",\"\",IF(AH825>Inputs!$D$9,0,1))","v":""},{"$f":"IF(AI825=\"\",\"\",IF(AI825>Inputs!$D$9,0,1))","v":""},{"$f":"IF(AJ825=\"\",\"\",IF(AJ825>Inputs!$D$9,0,1))","v":""},{"$f":"IF(AK825=\"\",\"\",IF(AK825>Inputs!$D$9,0,1))","v":""},{"$f":"IF(AL825=\"\",\"\",IF(AL825>Inputs!$D$9,0,1))","v":""},"",0,null,"","","","","","","","","","","","","","",null,null,"","","","","","","","","","","","",""]
[null,null,null,null,null,null,null,null,null,null,null,null,null,null,"","","","","","","","","","","","","","","","","","","","","","","","",null,{"$f":"IF(AA826=\"\",\"\",IF(AA826>Inputs!$D$9,0,1))","v":""},{"$f":"IF(AB826=\"\",\"\",IF(AB826>Inputs!$D$9,0,1))","v":""},{"$f":"IF(AC826=\"\",\"\",IF(AC826>Inputs!$D$9,0,1))","v":""},{"$f":"IF(AD826=\"\",\"\",IF(AD826>Inputs!$D$9,0,1))","v":""},{"$f":"IF(AE826=\"\",\"\",IF(AE826>Inputs!$D$9,0,1))","v":""},{"$f":"IF(AF826=\"\",\"\",IF(AF826>Inputs!$D$9,0,1))","v":""},{"$f":"IF(AG826=\"\",\"\",IF(AG826>Inputs!$D$9,0,1))","v":""},{"$f":"IF(AH826=\"\",\"\",IF(AH826>Inputs!$D$9,0,1))","v":""},{"$f":"IF(AI826=\"\",\"\",IF(AI826>Inputs!$D$9,0,1))","v":""},{"$f":"IF(AJ826=\"\",\"\",IF(AJ826>Inputs!$D$9,0,1))","v":""},{"$f":"IF(AK826=\"\",\"\",IF(AK826>Inputs!$D$9,0,1))","v":""},{"$f":"IF(AL826=\"\",\"\",IF(AL826>Inputs!$D$9,0,1))","v":""},"",0,null,"","","","","","","","","","","","","","",null,null,"","","","","","","","","","","","",""]
[null,null,null,null,null,null,null,null,null,null,null,null,null,null,"","","","","","","","","","","","","","","","","","","","","","","","",null,{"$f":"IF(AA827=\"\",\"\",IF(AA827>Inputs!$D$9,0,1))","v":""},{"$f":"IF(AB827=\"\",\"\",IF(AB827>Inputs!$D$9,0,1))","v":""},{"$f":"IF(AC827=\"\",\"\",IF(AC827>Inputs!$D$9,0,1))","v":""},{"$f":"IF(AD827=\"\",\"\",IF(AD827>Inputs!$D$9,0,1))","v":""},{"$f":"IF(AE827=\"\",\"\",IF(AE827>Inputs!$D$9,0,1))","v":""},{"$f":"IF(AF827=\"\",\"\",IF(AF827>Inputs!$D$9,0,1))","v":""},{"$f":"IF(AG827=\"\",\"\",IF(AG827>Inputs!$D$9,0,1))","v":""},{"$f":"IF(AH827=\"\",\"\",IF(AH827>Inputs!$D$9,0,1))","v":""},{"$f":"IF(AI827=\"\",\"\",IF(AI827>Inputs!$D$9,0,1))","v":""},{"$f":"IF(AJ827=\"\",\"\",IF(AJ827>Inputs!$D$9,0,1))","v":""},{"$f":"IF(AK827=\"\",\"\",IF(AK827>Inputs!$D$9,0,1))","v":""},{"$f":"IF(AL827=\"\",\"\",IF(AL827>Inputs!$D$9,0,1))","v":""},"",0,null,"","","","","","","","","","","","","","",null,null,"","","","","","","","","","","","",""]
[null,null,null,null,null,null,null,null,null,null,null,null,null,null,"","","","","","","","","","","","","","","","","","","","","","","","",null,{"$f":"IF(AA828=\"\",\"\",IF(AA828>Inputs!$D$9,0,1))","v":""},{"$f":"IF(AB828=\"\",\"\",IF(AB828>Inputs!$D$9,0,1))","v":""},{"$f":"IF(AC828=\"\",\"\",IF(AC828>Inputs!$D$9,0,1))","v":""},{"$f":"IF(AD828=\"\",\"\",IF(AD828>Inputs!$D$9,0,1))","v":""},{"$f":"IF(AE828=\"\",\"\",IF(AE828>Inputs!$D$9,0,1))","v":""},{"$f":"IF(AF828=\"\",\"\",IF(AF828>Inputs!$D$9,0,1))","v":""},{"$f":"IF(AG828=\"\",\"\",IF(AG828>Inputs!$D$9,0,1))","v":""},{"$f":"IF(AH828=\"\",\"\",IF(AH828>Inputs!$D$9,0,1))","v":""},{"$f":"IF(AI828=\"\",\"\",IF(AI828>Inputs!$D$9,0,1))","v":""},{"$f":"IF(AJ828=\"\",\"\",IF(AJ828>Inputs!$D$9,0,1))","v":""},{"$f":"IF(AK828=\"\",\"\",IF(AK828>Inputs!$D$9,0,1))","v":""},{"$f":"IF(AL828=\"\",\"\",IF(AL828>Inputs!$D$9,0,1))","v":""},"",0,null,"","","","","","","","","","","","","","",null,null,"","","","","","","","","","","","",""]
[null,null,null,null,null,null,null,null,null,null,null,null,null,null,"","","","","","","","","","","","","","","","","","","","","","","","",null,{"$f":"IF(AA829=\"\",\"\",IF(AA829>Inputs!$D$9,0,1))","v":""},{"$f":"IF(AB829=\"\",\"\",IF(AB829>Inputs!$D$9,0,1))","v":""},{"$f":"IF(AC829=\"\",\"\",IF(AC829>Inputs!$D$9,0,1))","v":""},{"$f":"IF(AD829=\"\",\"\",IF(AD829>Inputs!$D$9,0,1))","v":""},{"$f":"IF(AE829=\"\",\"\",IF(AE829>Inputs!$D$9,0,1))","v":""},{"$f":"IF(AF829=\"\",\"\",IF(AF829>Inputs!$D$9,0,1))","v":""},{"$f":"IF(AG829=\"\",\"\",IF(AG829>Inputs!$D$9,0,1))","v":""},{"$f":"IF(AH829=\"\",\"\",IF(AH829>Inputs!$D$9,0,1))","v":""},{"$f":"IF(AI829=\"\",\"\",IF(AI829>Inputs!$D$9,0,1))","v":""},{"$f":"IF(AJ829=\"\",\"\",IF(AJ829>Inputs!$D$9,0,1))","v":""},{"$f":"IF(AK829=\"\",\"\",IF(AK829>Inputs!$D$9,0,1))","v":""},{"$f":"IF(AL829=\"\",\"\",IF(AL829>Inputs!$D$9,0,1))","v":""},"",0,null,"","","","","","","","","","","","","","",null,null,"","","","","","","","","","","","",""]
[null,null,null,null,null,null,null,null,null,null,null,null,null,null,"","","","","","","","","","","","","","","","","","","","","","","","",null,{"$f":"IF(AA830=\"\",\"\",IF(AA830>Inputs!$D$9,0,1))","v":""},{"$f":"IF(AB830=\"\",\"\",IF(AB830>Inputs!$D$9,0,1))","v":""},{"$f":"IF(AC830=\"\",\"\",IF(AC830>Inputs!$D$9,0,1))","v":""},{"$f":"IF(AD830=\"\",\"\",IF(AD830>Inputs!$D$9,0,1))","v":""},{"$f":"IF(AE830=\"\",\"\",IF(AE830>Inputs!$D$9,0,1))","v":""},{"$f":"IF(AF830=\"\",\"\",IF(AF830>Inputs!$D$9,0,1))","v":""},{"$f":"IF(AG830=\"\",\"\",IF(AG830>Inputs!$D$9,0,1))","v":""},{"$f":"IF(AH830=\"\",\"\",IF(AH830>Inputs!$D$9,0,1))","v":""},{"$f":"IF(AI830=\"\",\"\",IF(AI830>Inputs!$D$9,0,1))","v":""},{"$f":"IF(AJ830=\"\",\"\",IF(AJ830>Inputs!$D$9,0,1))","v":""},{"$f":"IF(AK830=\"\",\"\",IF(AK830>Inputs!$D$9,0,1))","v":""},{"$f":"IF(AL830=\"\",\"\",IF(AL830>Inputs!$D$9,0,1))","v":""},"",0,null,"","","","","","","","","","","","","","",null,null,"","","","","","","","","","","","",""]
[null,null,null,null,null,null,null,null,null,null,null,null,null,null,"","","","","","","","","","","","","","","","","","","","","","","","",null,{"$f":"IF(AA831=\"\",\"\",IF(AA831>Inputs!$D$9,0,1))","v":""},{"$f":"IF(AB831=\"\",\"\",IF(AB831>Inputs!$D$9,0,1))","v":""},{"$f":"IF(AC831=\"\",\"\",IF(AC831>Inputs!$D$9,0,1))","v":""},{"$f":"IF(AD831=\"\",\"\",IF(AD831>Inputs!$D$9,0,1))","v":""},{"$f":"IF(AE831=\"\",\"\",IF(AE831>Inputs!$D$9,0,1))","v":""},{"$f":"IF(AF831=\"\",\"\",IF(AF831>Inputs!$D$9,0,1))","v":""},{"$f":"IF(AG831=\"\",\"\",IF(AG831>Inputs!$D$9,0,1))","v":""},{"$f":"IF(AH831=\"\",\"\",IF(AH831>Inputs!$D$9,0,1))","v":""},{"$f":"IF(AI831=\"\",\"\",IF(AI831>Inputs!$D$9,0,1))","v":""},{"$f":"IF(AJ831=\"\",\"\",IF(AJ831>Inputs!$D$9,0,1))","v":""},{"$f":"IF(AK831=\"\",\"\",IF(AK831>Inputs!$D$9,0,1))","v":""},{"$f":"IF(AL831=\"\",\"\",IF(AL831>Inputs!$D$9,0,1))","v":""},"",0,null,"","","","","","","","","","","","","","",null,null,"","","","","","","","","","","","",""]
[null,null,null,null,null,null,null,null,null,null,null,null,null,null,"","","","","","","","","","","","","","","","","","","","","","","","",null,{"$f":"IF(AA832=\"\",\"\",IF(AA832>Inputs!$D$9,0,1))","v":""},{"$f":"IF(AB832=\"\",\"\",IF(AB832>Inputs!$D$9,0,1))","v":""},{"$f":"IF(AC832=\"\",\"\",IF(AC832>Inputs!$D$9,0,1))","v":""},{"$f":"IF(AD832=\"\",\"\",IF(AD832>Inputs!$D$9,0,1))","v":""},{"$f":"IF(AE832=\"\",\"\",IF(AE832>Inputs!$D$9,0,1))","v":""},{"$f":"IF(AF832=\"\",\"\",IF(AF832>Inputs!$D$9,0,1))","v":""},{"$f":"IF(AG832=\"\",\"\",IF(AG832>Inputs!$D$9,0,1))","v":""},{"$f":"IF(AH832=\"\",\"\",IF(AH832>Inputs!$D$9,0,1))","v":""},{"$f":"IF(AI832=\"\",\"\",IF(AI832>Inputs!$D$9,0,1))","v":""},{"$f":"IF(AJ832=\"\",\"\",IF(AJ832>Inputs!$D$9,0,1))","v":""},{"$f":"IF(AK832=\"\",\"\",IF(AK832>Inputs!$D$9,0,1))","v":""},{"$f":"IF(AL832=\"\",\"\",IF(AL832>Inputs!$D$9,0,1))","v":""},"",0,null,"","","","","","","","","","","","","","",null,null,"","","","","","","","","","","","",""]
[null,null,null,null,null,null,null,null,null,null,null,null,null,null,"","","","","","","","","","","","","","","","","","","","","","","","",null,{"$f":"IF(AA833=\"\",\"\",IF(AA833>Inputs!$D$9,0,1))","v":""},{"$f":"IF(AB833=\"\",\"\",IF(AB833>Inputs!$D$9,0,1))","v":""},{"$f":"IF(AC833=\"\",\"\",IF(AC833>Inputs!$D$9,0,1))","v":""},{"$f":"IF(AD833=\"\",\"\",IF(AD833>Inputs!$D$9,0,1))","v":""},{"$f":"IF(AE833=\"\",\"\",IF(AE833>Inputs!$D$9,0,1))","v":""},{"$f":"IF(AF833=\"\",\"\",IF(AF833>Inputs!$D$9,0,1))","v":""},{"$f":"IF(AG833=\"\",\"\",IF(AG833>Inputs!$D$9,0,1))","v":""},{"$f":"IF(AH833=\"\",\"\",IF(AH833>Inputs!$D$9,0,1))","v":""},{"$f":"IF(AI833=\"\",\"\",IF(AI833>Inputs!$D$9,0,1))","v":""},{"$f":"IF(AJ833=\"\",\"\",IF(AJ833>Inputs!$D$9,0,1))","v":""},{"$f":"IF(AK833=\"\",\"\",IF(AK833>Inputs!$D$9,0,1))","v":""},{"$f":"IF(AL833=\"\",\"\",IF(AL833>Inputs!$D$9,0,1))","v":""},"",0,null,"","","","","","","","","","","","","","",null,null,"","","","","","","","","","","","",""]
[null,null,null,null,null,null,null,null,null,null,null,null,null,null,"",{"$f":"IF(A834=\"\",\"\",IF(ISERROR(1+D834),\"\",IF(ISERROR(((1+D834/100)*(1+E834/100)*(1+F834/100)*(1+G834/100)*(1+H834/100)*(1+I834/100)*(1+J834/100)*(1+K834/100)*(1+L834/100)*(1+M834/100)*(1+N834/100))^(1/11)-1),\"\",((1+D834/100)*(1+E834/100)*(1+F834/100)*(1+G834/100)*(1+H834/100)*(1+I834/100)*(1+J834/100)*(1+K834/100)*(1+L834/100)*(1+M834/100)*(1+N834/100))^(1/11)-1)))","v":""},"","","","","","","","","","","","","","","","","","","","","","",null,{"$f":"IF(AA834=\"\",\"\",IF(AA834>Inputs!$D$9,0,1))","v":""},{"$f":"IF(AB834=\"\",\"\",IF(AB834>Inputs!$D$9,0,1))","v":""},{"$f":"IF(AC834=\"\",\"\",IF(AC834>Inputs!$D$9,0,1))","v":""},{"$f":"IF(AD834=\"\",\"\",IF(AD834>Inputs!$D$9,0,1))","v":""},{"$f":"IF(AE834=\"\",\"\",IF(AE834>Inputs!$D$9,0,1))","v":""},{"$f":"IF(AF834=\"\",\"\",IF(AF834>Inputs!$D$9,0,1))","v":""},{"$f":"IF(AG834=\"\",\"\",IF(AG834>Inputs!$D$9,0,1))","v":""},{"$f":"IF(AH834=\"\",\"\",IF(AH834>Inputs!$D$9,0,1))","v":""},{"$f":"IF(AI834=\"\",\"\",IF(AI834>Inputs!$D$9,0,1))","v":""},{"$f":"IF(AJ834=\"\",\"\",IF(AJ834>Inputs!$D$9,0,1))","v":""},{"$f":"IF(AK834=\"\",\"\",IF(AK834>Inputs!$D$9,0,1))","v":""},{"$f":"IF(AL834=\"\",\"\",IF(AL834>Inputs!$D$9,0,1))","v":""},"",0,null,"","","","","","","","","","","","","","",null,null,"","","","","","","","","","","","",""]
[null,null,null,null,null,null,null,null,null,null,null,null,null,null,{"$f":"IF(A835=\"\",\"\",IF(ISERROR(1+C835),\"\",IF(ISERROR(((1+C835/100)*(1+D835/100)*(1+E835/100)*(1+F835/100)*(1+G835/100)*(1+H835/100)*(1+I835/100)*(1+J835/100)*(1+K835/100)*(1+L835/100)*(1+M835/100)*(1+N835/100))^(1/12)-1),\"\",((1+C835/100)*(1+D835/100)*(1+E835/100)*(1+F835/100)*(1+G835/100)*(1+H835/100)*(1+I835/100)*(1+J835/100)*(1+K835/100)*(1+L835/100)*(1+M835/100)*(1+N835/100))^(1/12)-1)))","v":""},"",{"$f":"IF(A835=\"\",\"\",IF(ISERROR(1+E835),\"\",IF(ISERROR(((1+E835/100)*(1+F835/100)*(1+G835/100)*(1+H835/100)*(1+I835/100)*(1+J835/100)*(1+K835/100)*(1+L835/100)*(1+M835/100)*(1+N835/100))^(1/10)-1),\"\",((1+E835/100)*(1+F835/100)*(1+G835/100)*(1+H835/100)*(1+I835/100)*(1+J835/100)*(1+K835/100)*(1+L835/100)*(1+M835/100)*(1+N835/100))^(1/10)-1)))","v":""},{"$f":"IF(A835=\"\",\"\",IF(ISERROR(1+F835),\"\",IF(ISERROR(((1+F835/100)*(1+G835/100)*(1+H835/100)*(1+I835/100)*(1+J835/100)*(1+K835/100)*(1+L835/100)*(1+M835/100)*(1+N835/100))^(1/9)-1),\"\",((1+F835/100)*(1+G835/100)*(1+H835/100)*(1+I835/100)*(1+J835/100)*(1+K835/100)*(1+L835/100)*(1+M835/100)*(1+N835/100))^(1/9)-1)))","v":""},{"$f":"IF(A835=\"\",\"\",IF(ISERROR(1+G835),\"\",IF(ISERROR(((1+G835/100)*(1+H835/100)*(1+I835/100)*(1+J835/100)*(1+K835/100)*(1+L835/100)*(1+M835/100)*(1+N835/100))^(1/8)-1),\"\",((1+G835/100)*(1+H835/100)*(1+I835/100)*(1+J835/100)*(1+K835/100)*(1+L835/100)*(1+M835/100)*(1+N835/100))^(1/8)-1)))","v":""},{"$f":"IF(A835=\"\",\"\",IF(ISERROR(1+H835),\"\",IF(ISERROR(((1+H835/100)*(1+I835/100)*(1+J835/100)*(1+K835/100)*(1+L835/100)*(1+M835/100)*(1+N835/100))^(1/7)-1),\"\",((1+H835/100)*(1+I835/100)*(1+J835/100)*(1+K835/100)*(1+L835/100)*(1+M835/100)*(1+N835/100))^(1/7)-1)))","v":""},{"$f":"IF(A835=\"\",\"\",IF(ISERROR(1+I835),\"\",IF(ISERROR(((1+I835/100)*(1+J835/100)*(1+K835/100)*(1+L835/100)*(1+M835/100)*(1+N835/100))^(1/6)-1),\"\",((1+I835/100)*(1+J835/100)*(1+K835/100)*(1+L835/100)*(1+M835/100)*(1+N835/100))^(1/6)-1)))","v":""},{"$f":"IF(A835=\"\",\"\",IF(ISERROR(1+J835),\"\",IF(ISERROR(((1+J835/100)*(1+K835/100)*(1+L835/100)*(1+M835/100)*(1+N835/100))^(1/5)-1),\"\",((1+J835/100)*(1+K835/100)*(1+L835/100)*(1+M835/100)*(1+N835/100))^(1/5)-1)))","v":""},{"$f":"IF(A835=\"\",\"\",IF(ISERROR(1+K835),\"\",IF(ISERROR(((1+K835/100)*(1+L835/100)*(1+M835/100)*(1+N835/100))^(1/4)-1),\"\",((1+K835/100)*(1+L835/100)*(1+M835/100)*(1+N835/100))^(1/4)-1)))","v":""},{"$f":"IF(A835=\"\",\"\",IF(ISERROR(1+L835),\"\",IF(ISERROR(((1+L835/100)*(1+M835/100)*(1+N835/100))^(1/3)-1),\"\",((1+L835/100)*(1+M835/100)*(1+N835/100))^(1/3)-1)))","v":""},{"$f":"IF(A835=\"\",\"\",IF(ISERROR(1+M835),\"\",IF(ISERROR(((1+M835/100)*(1+N835/100))^(1/2)-1),\"\",((1+M835/100)*(1+N835/100))^(1/2)-1)))","v":""},{"$f":"IF(A835=\"\",\"\",IF(ISERROR(1+N835),\"\",IF(ISERROR(((1+N835/100))^(1/1)-1),\"\",((1+N835/100))^(1/1)-1)))","v":""},"","","","","","","","","","","","",null,{"$f":"IF(AA835=\"\",\"\",IF(AA835>Inputs!$D$9,0,1))","v":""},{"$f":"IF(AB835=\"\",\"\",IF(AB835>Inputs!$D$9,0,1))","v":""},{"$f":"IF(AC835=\"\",\"\",IF(AC835>Inputs!$D$9,0,1))","v":""},{"$f":"IF(AD835=\"\",\"\",IF(AD835>Inputs!$D$9,0,1))","v":""},{"$f":"IF(AE835=\"\",\"\",IF(AE835>Inputs!$D$9,0,1))","v":""},{"$f":"IF(AF835=\"\",\"\",IF(AF835>Inputs!$D$9,0,1))","v":""},{"$f":"IF(AG835=\"\",\"\",IF(AG835>Inputs!$D$9,0,1))","v":""},{"$f":"IF(AH835=\"\",\"\",IF(AH835>Inputs!$D$9,0,1))","v":""},{"$f":"IF(AI835=\"\",\"\",IF(AI835>Inputs!$D$9,0,1))","v":""},{"$f":"IF(AJ835=\"\",\"\",IF(AJ835>Inputs!$D$9,0,1))","v":""},{"$f":"IF(AK835=\"\",\"\",IF(AK835>Inputs!$D$9,0,1))","v":""},{"$f":"IF(AL835=\"\",\"\",IF(AL835>Inputs!$D$9,0,1))","v":""},"",{"$f":"COUNT(AN835:AY835)","v":0},null,{"$f":"IF(O835=\"\",\"\",IF(O835>AVERAGE($O$2:$O$1000),1,0))","v":""},{"$f":"IF(P835=\"\",\"\",IF(P835>AVERAGE($P$2:$P$1000),1,0))","v":""},{"$f":"IF(Q835=\"\",\"\",IF(Q835>AVERAGE($Q$2:$Q$1000),1,0))","v":""},{"$f":"IF(R835=\"\",\"\",IF(R835>AVERAGE($R$2:$R$1000),1,0))","v":""},{"$f":"IF(S835=\"\",\"\",IF(S835>AVERAGE($S$2:$S$1000),1,0))","v":""},{"$f":"IF(T835=\"\",\"\",IF(T835>AVERAGE($T$2:$T$1000),1,0))","v":""},{"$f":"IF(U835=\"\",\"\",IF(U835>AVERAGE($U$2:$U$1000),1,0))","v":""},{"$f":"IF(V835=\"\",\"\",IF(V835>AVERAGE($V$2:$V$1000),1,0))","v":""},{"$f":"IF(W835=\"\",\"\",IF(W835>AVERAGE($W$2:$W$1000),1,0))","v":""},{"$f":"IF(X835=\"\",\"\",IF(X835>AVERAGE($X$2:$X$1000),1,0))","v":""},{"$f":"IF(Y835=\"\",\"\",IF(Y835>AVERAGE($Y$2:$Y$1000),1,0))","v":""},{"$f":"IF(Z835=\"\",\"\",IF(Z835>AVERAGE($Z$2:$Z$1000),1,0))","v":""},{"$f":"IF(COUNT(BC835:BN835)=0,\"\",SUM(BC835:BN835)/COUNT(BC835:BN835))","v":""},{"$f":"IF(A835=\"\",\"\",COUNT(BC835:BN835))","v":""},null,null,{"$f":"IF($A835=\"\",\"\",IF(C835=\"-\",0,IF(C835>AVERAGE(C$2:C$1183),1,0)))","v":""},{"$f":"IF($A835=\"\",\"\",IF(D835=\"-\",0,IF(D835>AVERAGE(D$2:D$1183),1,0)))","v":""},{"$f":"IF($A835=\"\",\"\",IF(E835=\"-\",0,IF(E835>AVERAGE(E$2:E$1183),1,0)))","v":""},{"$f":"IF($A835=\"\",\"\",IF(F835=\"-\",0,IF(F835>AVERAGE(F$2:F$1183),1,0)))","v":""},{"$f":"IF($A835=\"\",\"\",IF(G835=\"-\",0,IF(G835>AVERAGE(G$2:G$1183),1,0)))","v":""},{"$f":"IF($A835=\"\",\"\",IF(H835=\"-\",0,IF(H835>AVERAGE(H$2:H$1183),1,0)))","v":""},{"$f":"IF($A835=\"\",\"\",IF(I835=\"-\",0,IF(I835>AVERAGE(I$2:I$1183),1,0)))","v":""},{"$f":"IF($A835=\"\",\"\",IF(J835=\"-\",0,IF(J835>AVERAGE(J$2:J$1183),1,0)))","v":""},{"$f":"IF($A835=\"\",\"\",IF(K835=\"-\",0,IF(K835>AVERAGE(K$2:K$1183),1,0)))","v":""},{"$f":"IF($A835=\"\",\"\",IF(L835=\"-\",0,IF(L835>AVERAGE(L$2:L$1183),1,0)))","v":""},{"$f":"IF($A835=\"\",\"\",IF(M835=\"-\",0,IF(M835>AVERAGE(M$2:M$1183),1,0)))","v":""},{"$f":"IF($A835=\"\",\"\",IF(N835=\"-\",0,IF(N835>AVERAGE(N$2:N$1183),1,0)))","v":""},""]
[null,null,null,null,null,null,null,null,null,null,null,null,null,null,"","","","","","","","","","","","","","","","","","","","","","","","",null,{"$f":"IF(AA836=\"\",\"\",IF(AA836>Inputs!$D$9,0,1))","v":""},{"$f":"IF(AB836=\"\",\"\",IF(AB836>Inputs!$D$9,0,1))","v":""},{"$f":"IF(AC836=\"\",\"\",IF(AC836>Inputs!$D$9,0,1))","v":""},{"$f":"IF(AD836=\"\",\"\",IF(AD836>Inputs!$D$9,0,1))","v":""},{"$f":"IF(AE836=\"\",\"\",IF(AE836>Inputs!$D$9,0,1))","v":""},{"$f":"IF(AF836=\"\",\"\",IF(AF836>Inputs!$D$9,0,1))","v":""},{"$f":"IF(AG836=\"\",\"\",IF(AG836>Inputs!$D$9,0,1))","v":""},{"$f":"IF(AH836=\"\",\"\",IF(AH836>Inputs!$D$9,0,1))","v":""},{"$f":"IF(AI836=\"\",\"\",IF(AI836>Inputs!$D$9,0,1))","v":""},{"$f":"IF(AJ836=\"\",\"\",IF(AJ836>Inputs!$D$9,0,1))","v":""},{"$f":"IF(AK836=\"\",\"\",IF(AK836>Inputs!$D$9,0,1))","v":""},{"$f":"IF(AL836=\"\",\"\",IF(AL836>Inputs!$D$9,0,1))","v":""},"",0,null,"","","","","","","","","","","","","","",null,null,"","","","","","","","","","","","",""]
[null,null,null,null,null,null,null,null,null,null,null,null,null,null,"","","","","","","","","","","","","","","","","","","","","","","","",null,{"$f":"IF(AA837=\"\",\"\",IF(AA837>Inputs!$D$9,0,1))","v":""},{"$f":"IF(AB837=\"\",\"\",IF(AB837>Inputs!$D$9,0,1))","v":""},{"$f":"IF(AC837=\"\",\"\",IF(AC837>Inputs!$D$9,0,1))","v":""},{"$f":"IF(AD837=\"\",\"\",IF(AD837>Inputs!$D$9,0,1))","v":""},{"$f":"IF(AE837=\"\",\"\",IF(AE837>Inputs!$D$9,0,1))","v":""},{"$f":"IF(AF837=\"\",\"\",IF(AF837>Inputs!$D$9,0,1))","v":""},{"$f":"IF(AG837=\"\",\"\",IF(AG837>Inputs!$D$9,0,1))","v":""},{"$f":"IF(AH837=\"\",\"\",IF(AH837>Inputs!$D$9,0,1))","v":""},{"$f":"IF(AI837=\"\",\"\",IF(AI837>Inputs!$D$9,0,1))","v":""},{"$f":"IF(AJ837=\"\",\"\",IF(AJ837>Inputs!$D$9,0,1))","v":""},{"$f":"IF(AK837=\"\",\"\",IF(AK837>Inputs!$D$9,0,1))","v":""},{"$f":"IF(AL837=\"\",\"\",IF(AL837>Inputs!$D$9,0,1))","v":""},"",0,null,"","","","","","","","","","","","","","",null,null,"","","","","","","","","","","","",""]
[null,null,null,null,null,null,null,null,null,null,null,null,null,null,"","","","","","","","","","","","","","","","","","","","","","","","",null,{"$f":"IF(AA838=\"\",\"\",IF(AA838>Inputs!$D$9,0,1))","v":""},{"$f":"IF(AB838=\"\",\"\",IF(AB838>Inputs!$D$9,0,1))","v":""},{"$f":"IF(AC838=\"\",\"\",IF(AC838>Inputs!$D$9,0,1))","v":""},{"$f":"IF(AD838=\"\",\"\",IF(AD838>Inputs!$D$9,0,1))","v":""},{"$f":"IF(AE838=\"\",\"\",IF(AE838>Inputs!$D$9,0,1))","v":""},{"$f":"IF(AF838=\"\",\"\",IF(AF838>Inputs!$D$9,0,1))","v":""},{"$f":"IF(AG838=\"\",\"\",IF(AG838>Inputs!$D$9,0,1))","v":""},{"$f":"IF(AH838=\"\",\"\",IF(AH838>Inputs!$D$9,0,1))","v":""},{"$f":"IF(AI838=\"\",\"\",IF(AI838>Inputs!$D$9,0,1))","v":""},{"$f":"IF(AJ838=\"\",\"\",IF(AJ838>Inputs!$D$9,0,1))","v":""},{"$f":"IF(AK838=\"\",\"\",IF(AK838>Inputs!$D$9,0,1))","v":""},{"$f":"IF(AL838=\"\",\"\",IF(AL838>Inputs!$D$9,0,1))","v":""},"",0,null,"","","","","","","","","","","","","","",null,null,"","","","","","","","","","","","",""]
[null,null,null,null,null,null,null,null,null,null,null,null,null,null,"","","","","","","","","","","","","","","","","","","","","","","","",null,{"$f":"IF(AA839=\"\",\"\",IF(AA839>Inputs!$D$9,0,1))","v":""},{"$f":"IF(AB839=\"\",\"\",IF(AB839>Inputs!$D$9,0,1))","v":""},{"$f":"IF(AC839=\"\",\"\",IF(AC839>Inputs!$D$9,0,1))","v":""},{"$f":"IF(AD839=\"\",\"\",IF(AD839>Inputs!$D$9,0,1))","v":""},{"$f":"IF(AE839=\"\",\"\",IF(AE839>Inputs!$D$9,0,1))","v":""},{"$f":"IF(AF839=\"\",\"\",IF(AF839>Inputs!$D$9,0,1))","v":""},{"$f":"IF(AG839=\"\",\"\",IF(AG839>Inputs!$D$9,0,1))","v":""},{"$f":"IF(AH839=\"\",\"\",IF(AH839>Inputs!$D$9,0,1))","v":""},{"$f":"IF(AI839=\"\",\"\",IF(AI839>Inputs!$D$9,0,1))","v":""},{"$f":"IF(AJ839=\"\",\"\",IF(AJ839>Inputs!$D$9,0,1))","v":""},{"$f":"IF(AK839=\"\",\"\",IF(AK839>Inputs!$D$9,0,1))","v":""},{"$f":"IF(AL839=\"\",\"\",IF(AL839>Inputs!$D$9,0,1))","v":""},"",0,null,"","","","","","","","","","","","","","",null,null,"","","","","","","","","","","","",""]
[null,null,null,null,null,null,null,null,null,null,null,null,null,null,"","","","","","","","","","","","","","","","","","","","","","","","",null,{"$f":"IF(AA840=\"\",\"\",IF(AA840>Inputs!$D$9,0,1))","v":""},{"$f":"IF(AB840=\"\",\"\",IF(AB840>Inputs!$D$9,0,1))","v":""},{"$f":"IF(AC840=\"\",\"\",IF(AC840>Inputs!$D$9,0,1))","v":""},{"$f":"IF(AD840=\"\",\"\",IF(AD840>Inputs!$D$9,0,1))","v":""},{"$f":"IF(AE840=\"\",\"\",IF(AE840>Inputs!$D$9,0,1))","v":""},{"$f":"IF(AF840=\"\",\"\",IF(AF840>Inputs!$D$9,0,1))","v":""},{"$f":"IF(AG840=\"\",\"\",IF(AG840>Inputs!$D$9,0,1))","v":""},{"$f":"IF(AH840=\"\",\"\",IF(AH840>Inputs!$D$9,0,1))","v":""},{"$f":"IF(AI840=\"\",\"\",IF(AI840>Inputs!$D$9,0,1))","v":""},{"$f":"IF(AJ840=\"\",\"\",IF(AJ840>Inputs!$D$9,0,1))","v":""},{"$f":"IF(AK840=\"\",\"\",IF(AK840>Inputs!$D$9,0,1))","v":""},{"$f":"IF(AL840=\"\",\"\",IF(AL840>Inputs!$D$9,0,1))","v":""},"",0,null,"","","","","","","","","","","","","","",null,null,"","","","","","","","","","","","",""]
[null,null,null,null,null,null,null,null,null,null,null,null,null,null,"","","","","","","","","","","","","","","","","","","","","","","","",null,{"$f":"IF(AA841=\"\",\"\",IF(AA841>Inputs!$D$9,0,1))","v":""},{"$f":"IF(AB841=\"\",\"\",IF(AB841>Inputs!$D$9,0,1))","v":""},{"$f":"IF(AC841=\"\",\"\",IF(AC841>Inputs!$D$9,0,1))","v":""},{"$f":"IF(AD841=\"\",\"\",IF(AD841>Inputs!$D$9,0,1))","v":""},{"$f":"IF(AE841=\"\",\"\",IF(AE841>Inputs!$D$9,0,1))","v":""},{"$f":"IF(AF841=\"\",\"\",IF(AF841>Inputs!$D$9,0,1))","v":""},{"$f":"IF(AG841=\"\",\"\",IF(AG841>Inputs!$D$9,0,1))","v":""},{"$f":"IF(AH841=\"\",\"\",IF(AH841>Inputs!$D$9,0,1))","v":""},{"$f":"IF(AI841=\"\",\"\",IF(AI841>Inputs!$D$9,0,1))","v":""},{"$f":"IF(AJ841=\"\",\"\",IF(AJ841>Inputs!$D$9,0,1))","v":""},{"$f":"IF(AK841=\"\",\"\",IF(AK841>Inputs!$D$9,0,1))","v":""},{"$f":"IF(AL841=\"\",\"\",IF(AL841>Inputs!$D$9,0,1))","v":""},"",0,null,"","","","","","","","","","","","","","",null,null,"","","","","","","","","","","","",""]
[null,null,null,null,null,null,null,null,null,null,null,null,null,null,"","","","","","","","","","","","","","","","","","","","","","","","",null,{"$f":"IF(AA842=\"\",\"\",IF(AA842>Inputs!$D$9,0,1))","v":""},{"$f":"IF(AB842=\"\",\"\",IF(AB842>Inputs!$D$9,0,1))","v":""},{"$f":"IF(AC842=\"\",\"\",IF(AC842>Inputs!$D$9,0,1))","v":""},{"$f":"IF(AD842=\"\",\"\",IF(AD842>Inputs!$D$9,0,1))","v":""},{"$f":"IF(AE842=\"\",\"\",IF(AE842>Inputs!$D$9,0,1))","v":""},{"$f":"IF(AF842=\"\",\"\",IF(AF842>Inputs!$D$9,0,1))","v":""},{"$f":"IF(AG842=\"\",\"\",IF(AG842>Inputs!$D$9,0,1))","v":""},{"$f":"IF(AH842=\"\",\"\",IF(AH842>Inputs!$D$9,0,1))","v":""},{"$f":"IF(AI842=\"\",\"\",IF(AI842>Inputs!$D$9,0,1))","v":""},{"$f":"IF(AJ842=\"\",\"\",IF(AJ842>Inputs!$D$9,0,1))","v":""},{"$f":"IF(AK842=\"\",\"\",IF(AK842>Inputs!$D$9,0,1))","v":""},{"$f":"IF(AL842=\"\",\"\",IF(AL842>Inputs!$D$9,0,1))","v":""},"",0,null,"","","","","","","","","","","","","","",null,null,"","","","","","","","","","","","",""]
[null,null,null,null,null,null,null,null,null,null,null,null,null,null,"","","","","","","","","","","","","","","","","","","","","","","","",null,{"$f":"IF(AA843=\"\",\"\",IF(AA843>Inputs!$D$9,0,1))","v":""},{"$f":"IF(AB843=\"\",\"\",IF(AB843>Inputs!$D$9,0,1))","v":""},{"$f":"IF(AC843=\"\",\"\",IF(AC843>Inputs!$D$9,0,1))","v":""},{"$f":"IF(AD843=\"\",\"\",IF(AD843>Inputs!$D$9,0,1))","v":""},{"$f":"IF(AE843=\"\",\"\",IF(AE843>Inputs!$D$9,0,1))","v":""},{"$f":"IF(AF843=\"\",\"\",IF(AF843>Inputs!$D$9,0,1))","v":""},{"$f":"IF(AG843=\"\",\"\",IF(AG843>Inputs!$D$9,0,1))","v":""},{"$f":"IF(AH843=\"\",\"\",IF(AH843>Inputs!$D$9,0,1))","v":""},{"$f":"IF(AI843=\"\",\"\",IF(AI843>Inputs!$D$9,0,1))","v":""},{"$f":"IF(AJ843=\"\",\"\",IF(AJ843>Inputs!$D$9,0,1))","v":""},{"$f":"IF(AK843=\"\",\"\",IF(AK843>Inputs!$D$9,0,1))","v":""},{"$f":"IF(AL843=\"\",\"\",IF(AL843>Inputs!$D$9,0,1))","v":""},"",0,null,"","","","","","","","","","","","","","",null,null,"","","","","","","","","","","","",""]
[null,null,null,null,null,null,null,null,null,null,null,null,null,null,"","","","","","","","","","","","","","","","","","","","","","","","",null,{"$f":"IF(AA844=\"\",\"\",IF(AA844>Inputs!$D$9,0,1))","v":""},{"$f":"IF(AB844=\"\",\"\",IF(AB844>Inputs!$D$9,0,1))","v":""},{"$f":"IF(AC844=\"\",\"\",IF(AC844>Inputs!$D$9,0,1))","v":""},{"$f":"IF(AD844=\"\",\"\",IF(AD844>Inputs!$D$9,0,1))","v":""},{"$f":"IF(AE844=\"\",\"\",IF(AE844>Inputs!$D$9,0,1))","v":""},{"$f":"IF(AF844=\"\",\"\",IF(AF844>Inputs!$D$9,0,1))","v":""},{"$f":"IF(AG844=\"\",\"\",IF(AG844>Inputs!$D$9,0,1))","v":""},{"$f":"IF(AH844=\"\",\"\",IF(AH844>Inputs!$D$9,0,1))","v":""},{"$f":"IF(AI844=\"\",\"\",IF(AI844>Inputs!$D$9,0,1))","v":""},{"$f":"IF(AJ844=\"\",\"\",IF(AJ844>Inputs!$D$9,0,1))","v":""},{"$f":"IF(AK844=\"\",\"\",IF(AK844>Inputs!$D$9,0,1))","v":""},{"$f":"IF(AL844=\"\",\"\",IF(AL844>Inputs!$D$9,0,1))","v":""},"",0,null,"","","","","","","","","","","","","","",null,null,"","","","","","","","","","","","",""]
[null,null,null,null,null,null,null,null,null,null,null,null,null,null,"","","","","","","","","","","","","","","","","","","","","","","","",null,{"$f":"IF(AA845=\"\",\"\",IF(AA845>Inputs!$D$9,0,1))","v":""},{"$f":"IF(AB845=\"\",\"\",IF(AB845>Inputs!$D$9,0,1))","v":""},{"$f":"IF(AC845=\"\",\"\",IF(AC845>Inputs!$D$9,0,1))","v":""},{"$f":"IF(AD845=\"\",\"\",IF(AD845>Inputs!$D$9,0,1))","v":""},{"$f":"IF(AE845=\"\",\"\",IF(AE845>Inputs!$D$9,0,1))","v":""},{"$f":"IF(AF845=\"\",\"\",IF(AF845>Inputs!$D$9,0,1))","v":""},{"$f":"IF(AG845=\"\",\"\",IF(AG845>Inputs!$D$9,0,1))","v":""},{"$f":"IF(AH845=\"\",\"\",IF(AH845>Inputs!$D$9,0,1))","v":""},{"$f":"IF(AI845=\"\",\"\",IF(AI845>Inputs!$D$9,0,1))","v":""},{"$f":"IF(AJ845=\"\",\"\",IF(AJ845>Inputs!$D$9,0,1))","v":""},{"$f":"IF(AK845=\"\",\"\",IF(AK845>Inputs!$D$9,0,1))","v":""},{"$f":"IF(AL845=\"\",\"\",IF(AL845>Inputs!$D$9,0,1))","v":""},"",0,null,"","","","","","","","","","","","","","",null,null,"","","","","","","","","","","","",""]
[null,null,null,null,null,null,null,null,null,null,null,null,null,null,"","","","","","","","","","","","","","","","","","","","","","","","",null,{"$f":"IF(AA846=\"\",\"\",IF(AA846>Inputs!$D$9,0,1))","v":""},{"$f":"IF(AB846=\"\",\"\",IF(AB846>Inputs!$D$9,0,1))","v":""},{"$f":"IF(AC846=\"\",\"\",IF(AC846>Inputs!$D$9,0,1))","v":""},{"$f":"IF(AD846=\"\",\"\",IF(AD846>Inputs!$D$9,0,1))","v":""},{"$f":"IF(AE846=\"\",\"\",IF(AE846>Inputs!$D$9,0,1))","v":""},{"$f":"IF(AF846=\"\",\"\",IF(AF846>Inputs!$D$9,0,1))","v":""},{"$f":"IF(AG846=\"\",\"\",IF(AG846>Inputs!$D$9,0,1))","v":""},{"$f":"IF(AH846=\"\",\"\",IF(AH846>Inputs!$D$9,0,1))","v":""},{"$f":"IF(AI846=\"\",\"\",IF(AI846>Inputs!$D$9,0,1))","v":""},{"$f":"IF(AJ846=\"\",\"\",IF(AJ846>Inputs!$D$9,0,1))","v":""},{"$f":"IF(AK846=\"\",\"\",IF(AK846>Inputs!$D$9,0,1))","v":""},{"$f":"IF(AL846=\"\",\"\",IF(AL846>Inputs!$D$9,0,1))","v":""},"",0,null,"","","","","","","","","","","","","","",null,null,"","","","","","","","","","","","",""]
[null,null,null,null,null,null,null,null,null,null,null,null,null,null,"","","","","","","","","","","","","","","","","","","","","","","","",null,{"$f":"IF(AA847=\"\",\"\",IF(AA847>Inputs!$D$9,0,1))","v":""},{"$f":"IF(AB847=\"\",\"\",IF(AB847>Inputs!$D$9,0,1))","v":""},{"$f":"IF(AC847=\"\",\"\",IF(AC847>Inputs!$D$9,0,1))","v":""},{"$f":"IF(AD847=\"\",\"\",IF(AD847>Inputs!$D$9,0,1))","v":""},{"$f":"IF(AE847=\"\",\"\",IF(AE847>Inputs!$D$9,0,1))","v":""},{"$f":"IF(AF847=\"\",\"\",IF(AF847>Inputs!$D$9,0,1))","v":""},{"$f":"IF(AG847=\"\",\"\",IF(AG847>Inputs!$D$9,0,1))","v":""},{"$f":"IF(AH847=\"\",\"\",IF(AH847>Inputs!$D$9,0,1))","v":""},{"$f":"IF(AI847=\"\",\"\",IF(AI847>Inputs!$D$9,0,1))","v":""},{"$f":"IF(AJ847=\"\",\"\",IF(AJ847>Inputs!$D$9,0,1))","v":""},{"$f":"IF(AK847=\"\",\"\",IF(AK847>Inputs!$D$9,0,1))","v":""},{"$f":"IF(AL847=\"\",\"\",IF(AL847>Inputs!$D$9,0,1))","v":""},"",0,null,"","","","","","","","","","","","","","",null,null,"","","","","","","","","","","","",""]
[null,null,null,null,null,null,null,null,null,null,null,null,null,null,"","","","","","","","","","","","","","","","","","","","","","","","",null,{"$f":"IF(AA848=\"\",\"\",IF(AA848>Inputs!$D$9,0,1))","v":""},{"$f":"IF(AB848=\"\",\"\",IF(AB848>Inputs!$D$9,0,1))","v":""},{"$f":"IF(AC848=\"\",\"\",IF(AC848>Inputs!$D$9,0,1))","v":""},{"$f":"IF(AD848=\"\",\"\",IF(AD848>Inputs!$D$9,0,1))","v":""},{"$f":"IF(AE848=\"\",\"\",IF(AE848>Inputs!$D$9,0,1))","v":""},{"$f":"IF(AF848=\"\",\"\",IF(AF848>Inputs!$D$9,0,1))","v":""},{"$f":"IF(AG848=\"\",\"\",IF(AG848>Inputs!$D$9,0,1))","v":""},{"$f":"IF(AH848=\"\",\"\",IF(AH848>Inputs!$D$9,0,1))","v":""},{"$f":"IF(AI848=\"\",\"\",IF(AI848>Inputs!$D$9,0,1))","v":""},{"$f":"IF(AJ848=\"\",\"\",IF(AJ848>Inputs!$D$9,0,1))","v":""},{"$f":"IF(AK848=\"\",\"\",IF(AK848>Inputs!$D$9,0,1))","v":""},{"$f":"IF(AL848=\"\",\"\",IF(AL848>Inputs!$D$9,0,1))","v":""},"",0,null,"","","","","","","","","","","","","","",null,null,"","","","","","","","","","","","",""]
[null,null,null,null,null,null,null,null,null,null,null,null,null,null,"","","","","","","","","","","","","","","","","","","","","","","","",null,{"$f":"IF(AA849=\"\",\"\",IF(AA849>Inputs!$D$9,0,1))","v":""},{"$f":"IF(AB849=\"\",\"\",IF(AB849>Inputs!$D$9,0,1))","v":""},{"$f":"IF(AC849=\"\",\"\",IF(AC849>Inputs!$D$9,0,1))","v":""},{"$f":"IF(AD849=\"\",\"\",IF(AD849>Inputs!$D$9,0,1))","v":""},{"$f":"IF(AE849=\"\",\"\",IF(AE849>Inputs!$D$9,0,1))","v":""},{"$f":"IF(AF849=\"\",\"\",IF(AF849>Inputs!$D$9,0,1))","v":""},{"$f":"IF(AG849=\"\",\"\",IF(AG849>Inputs!$D$9,0,1))","v":""},{"$f":"IF(AH849=\"\",\"\",IF(AH849>Inputs!$D$9,0,1))","v":""},{"$f":"IF(AI849=\"\",\"\",IF(AI849>Inputs!$D$9,0,1))","v":""},{"$f":"IF(AJ849=\"\",\"\",IF(AJ849>Inputs!$D$9,0,1))","v":""},{"$f":"IF(AK849=\"\",\"\",IF(AK849>Inputs!$D$9,0,1))","v":""},{"$f":"IF(AL849=\"\",\"\",IF(AL849>Inputs!$D$9,0,1))","v":""},"",0,null,"","","","","","","","","","","","","","",null,null,"","","","","","","","","","","","",""]
[null,null,null,null,null,null,null,null,null,null,null,null,null,null,"","","","","","","","","","","","","","","","","","","","","","","","",null,{"$f":"IF(AA850=\"\",\"\",IF(AA850>Inputs!$D$9,0,1))","v":""},{"$f":"IF(AB850=\"\",\"\",IF(AB850>Inputs!$D$9,0,1))","v":""},{"$f":"IF(AC850=\"\",\"\",IF(AC850>Inputs!$D$9,0,1))","v":""},{"$f":"IF(AD850=\"\",\"\",IF(AD850>Inputs!$D$9,0,1))","v":""},{"$f":"IF(AE850=\"\",\"\",IF(AE850>Inputs!$D$9,0,1))","v":""},{"$f":"IF(AF850=\"\",\"\",IF(AF850>Inputs!$D$9,0,1))","v":""},{"$f":"IF(AG850=\"\",\"\",IF(AG850>Inputs!$D$9,0,1))","v":""},{"$f":"IF(AH850=\"\",\"\",IF(AH850>Inputs!$D$9,0,1))","v":""},{"$f":"IF(AI850=\"\",\"\",IF(AI850>Inputs!$D$9,0,1))","v":""},{"$f":"IF(AJ850=\"\",\"\",IF(AJ850>Inputs!$D$9,0,1))","v":""},{"$f":"IF(AK850=\"\",\"\",IF(AK850>Inputs!$D$9,0,1))","v":""},{"$f":"IF(AL850=\"\",\"\",IF(AL850>Inputs!$D$9,0,1))","v":""},"",0,null,"","","","","","","","","","","","","","",null,null,"","","","","","","","","","","","",""]
[null,null,null,null,null,null,null,null,null,null,null,null,null,null,"","","","","","","","","","","","","","","","","","","","","","","","",null,{"$f":"IF(AA851=\"\",\"\",IF(AA851>Inputs!$D$9,0,1))","v":""},{"$f":"IF(AB851=\"\",\"\",IF(AB851>Inputs!$D$9,0,1))","v":""},{"$f":"IF(AC851=\"\",\"\",IF(AC851>Inputs!$D$9,0,1))","v":""},{"$f":"IF(AD851=\"\",\"\",IF(AD851>Inputs!$D$9,0,1))","v":""},{"$f":"IF(AE851=\"\",\"\",IF(AE851>Inputs!$D$9,0,1))","v":""},{"$f":"IF(AF851=\"\",\"\",IF(AF851>Inputs!$D$9,0,1))","v":""},{"$f":"IF(AG851=\"\",\"\",IF(AG851>Inputs!$D$9,0,1))","v":""},{"$f":"IF(AH851=\"\",\"\",IF(AH851>Inputs!$D$9,0,1))","v":""},{"$f":"IF(AI851=\"\",\"\",IF(AI851>Inputs!$D$9,0,1))","v":""},{"$f":"IF(AJ851=\"\",\"\",IF(AJ851>Inputs!$D$9,0,1))","v":""},{"$f":"IF(AK851=\"\",\"\",IF(AK851>Inputs!$D$9,0,1))","v":""},{"$f":"IF(AL851=\"\",\"\",IF(AL851>Inputs!$D$9,0,1))","v":""},"",0,null,"","","","","","","","","","","","","","",null,null,"","","","","","","","","","","","",{"$f":"IF(A851=\"\",\"\",SUM(BS851:CD851))","v":""}]
[null,null,null,null,null,null,null,null,null,null,null,null,null,null,"","","","","","","","","","","","","","","","","","","","","","","","",null,{"$f":"IF(AA852=\"\",\"\",IF(AA852>Inputs!$D$9,0,1))","v":""},{"$f":"IF(AB852=\"\",\"\",IF(AB852>Inputs!$D$9,0,1))","v":""},{"$f":"IF(AC852=\"\",\"\",IF(AC852>Inputs!$D$9,0,1))","v":""},{"$f":"IF(AD852=\"\",\"\",IF(AD852>Inputs!$D$9,0,1))","v":""},{"$f":"IF(AE852=\"\",\"\",IF(AE852>Inputs!$D$9,0,1))","v":""},{"$f":"IF(AF852=\"\",\"\",IF(AF852>Inputs!$D$9,0,1))","v":""},{"$f":"IF(AG852=\"\",\"\",IF(AG852>Inputs!$D$9,0,1))","v":""},{"$f":"IF(AH852=\"\",\"\",IF(AH852>Inputs!$D$9,0,1))","v":""},{"$f":"IF(AI852=\"\",\"\",IF(AI852>Inputs!$D$9,0,1))","v":""},{"$f":"IF(AJ852=\"\",\"\",IF(AJ852>Inputs!$D$9,0,1))","v":""},{"$f":"IF(AK852=\"\",\"\",IF(AK852>Inputs!$D$9,0,1))","v":""},{"$f":"IF(AL852=\"\",\"\",IF(AL852>Inputs!$D$9,0,1))","v":""},"",0,null,"","","","","","","","","","","","","","",null,null,"","","","","","","","","","","","",""]
[null,null,null,null,null,null,null,null,null,null,null,null,null,null,"","","","","","","","","","","","","","","","","","","","","","","","",null,{"$f":"IF(AA853=\"\",\"\",IF(AA853>Inputs!$D$9,0,1))","v":""},{"$f":"IF(AB853=\"\",\"\",IF(AB853>Inputs!$D$9,0,1))","v":""},{"$f":"IF(AC853=\"\",\"\",IF(AC853>Inputs!$D$9,0,1))","v":""},{"$f":"IF(AD853=\"\",\"\",IF(AD853>Inputs!$D$9,0,1))","v":""},{"$f":"IF(AE853=\"\",\"\",IF(AE853>Inputs!$D$9,0,1))","v":""},{"$f":"IF(AF853=\"\",\"\",IF(AF853>Inputs!$D$9,0,1))","v":""},{"$f":"IF(AG853=\"\",\"\",IF(AG853>Inputs!$D$9,0,1))","v":""},{"$f":"IF(AH853=\"\",\"\",IF(AH853>Inputs!$D$9,0,1))","v":""},{"$f":"IF(AI853=\"\",\"\",IF(AI853>Inputs!$D$9,0,1))","v":""},{"$f":"IF(AJ853=\"\",\"\",IF(AJ853>Inputs!$D$9,0,1))","v":""},{"$f":"IF(AK853=\"\",\"\",IF(AK853>Inputs!$D$9,0,1))","v":""},{"$f":"IF(AL853=\"\",\"\",IF(AL853>Inputs!$D$9,0,1))","v":""},"",0,null,"","","","","","","","","","","","","","",null,null,"","","","","","","","","","","","",""]
[null,null,null,null,null,null,null,null,null,null,null,null,null,null,"","","","","","","","","","","","","","","","","","","","","","","","",null,{"$f":"IF(AA854=\"\",\"\",IF(AA854>Inputs!$D$9,0,1))","v":""},{"$f":"IF(AB854=\"\",\"\",IF(AB854>Inputs!$D$9,0,1))","v":""},{"$f":"IF(AC854=\"\",\"\",IF(AC854>Inputs!$D$9,0,1))","v":""},{"$f":"IF(AD854=\"\",\"\",IF(AD854>Inputs!$D$9,0,1))","v":""},{"$f":"IF(AE854=\"\",\"\",IF(AE854>Inputs!$D$9,0,1))","v":""},{"$f":"IF(AF854=\"\",\"\",IF(AF854>Inputs!$D$9,0,1))","v":""},{"$f":"IF(AG854=\"\",\"\",IF(AG854>Inputs!$D$9,0,1))","v":""},{"$f":"IF(AH854=\"\",\"\",IF(AH854>Inputs!$D$9,0,1))","v":""},{"$f":"IF(AI854=\"\",\"\",IF(AI854>Inputs!$D$9,0,1))","v":""},{"$f":"IF(AJ854=\"\",\"\",IF(AJ854>Inputs!$D$9,0,1))","v":""},{"$f":"IF(AK854=\"\",\"\",IF(AK854>Inputs!$D$9,0,1))","v":""},{"$f":"IF(AL854=\"\",\"\",IF(AL854>Inputs!$D$9,0,1))","v":""},"",0,null,"","","","","","","","","","","","","","",null,null,"","","","","","","","","","","","",""]
[null,null,null,null,null,null,null,null,null,null,null,null,null,null,"","","","","","","","","","","","","","","","","","","","","","","","",null,{"$f":"IF(AA855=\"\",\"\",IF(AA855>Inputs!$D$9,0,1))","v":""},{"$f":"IF(AB855=\"\",\"\",IF(AB855>Inputs!$D$9,0,1))","v":""},{"$f":"IF(AC855=\"\",\"\",IF(AC855>Inputs!$D$9,0,1))","v":""},{"$f":"IF(AD855=\"\",\"\",IF(AD855>Inputs!$D$9,0,1))","v":""},{"$f":"IF(AE855=\"\",\"\",IF(AE855>Inputs!$D$9,0,1))","v":""},{"$f":"IF(AF855=\"\",\"\",IF(AF855>Inputs!$D$9,0,1))","v":""},{"$f":"IF(AG855=\"\",\"\",IF(AG855>Inputs!$D$9,0,1))","v":""},{"$f":"IF(AH855=\"\",\"\",IF(AH855>Inputs!$D$9,0,1))","v":""},{"$f":"IF(AI855=\"\",\"\",IF(AI855>Inputs!$D$9,0,1))","v":""},{"$f":"IF(AJ855=\"\",\"\",IF(AJ855>Inputs!$D$9,0,1))","v":""},{"$f":"IF(AK855=\"\",\"\",IF(AK855>Inputs!$D$9,0,1))","v":""},{"$f":"IF(AL855=\"\",\"\",IF(AL855>Inputs!$D$9,0,1))","v":""},"",0,null,"","","","","","","","","","","","","","",null,null,"","","","","","","","","","","","",""]
[null,null,null,null,null,null,null,null,null,null,null,null,null,null,"","","","","","","","","","","","","","","","","","","","","","","","",null,{"$f":"IF(AA856=\"\",\"\",IF(AA856>Inputs!$D$9,0,1))","v":""},{"$f":"IF(AB856=\"\",\"\",IF(AB856>Inputs!$D$9,0,1))","v":""},{"$f":"IF(AC856=\"\",\"\",IF(AC856>Inputs!$D$9,0,1))","v":""},{"$f":"IF(AD856=\"\",\"\",IF(AD856>Inputs!$D$9,0,1))","v":""},{"$f":"IF(AE856=\"\",\"\",IF(AE856>Inputs!$D$9,0,1))","v":""},{"$f":"IF(AF856=\"\",\"\",IF(AF856>Inputs!$D$9,0,1))","v":""},{"$f":"IF(AG856=\"\",\"\",IF(AG856>Inputs!$D$9,0,1))","v":""},{"$f":"IF(AH856=\"\",\"\",IF(AH856>Inputs!$D$9,0,1))","v":""},{"$f":"IF(AI856=\"\",\"\",IF(AI856>Inputs!$D$9,0,1))","v":""},{"$f":"IF(AJ856=\"\",\"\",IF(AJ856>Inputs!$D$9,0,1))","v":""},{"$f":"IF(AK856=\"\",\"\",IF(AK856>Inputs!$D$9,0,1))","v":""},{"$f":"IF(AL856=\"\",\"\",IF(AL856>Inputs!$D$9,0,1))","v":""},"",0,null,"","","","","","","","","","","","","","",null,null,"","","","","","","","","","","","",""]
[null,null,null,null,null,null,null,null,null,null,null,null,null,null,"","","","","","","","","","","","","","","","","","","","","","","","",null,{"$f":"IF(AA857=\"\",\"\",IF(AA857>Inputs!$D$9,0,1))","v":""},{"$f":"IF(AB857=\"\",\"\",IF(AB857>Inputs!$D$9,0,1))","v":""},{"$f":"IF(AC857=\"\",\"\",IF(AC857>Inputs!$D$9,0,1))","v":""},{"$f":"IF(AD857=\"\",\"\",IF(AD857>Inputs!$D$9,0,1))","v":""},{"$f":"IF(AE857=\"\",\"\",IF(AE857>Inputs!$D$9,0,1))","v":""},{"$f":"IF(AF857=\"\",\"\",IF(AF857>Inputs!$D$9,0,1))","v":""},{"$f":"IF(AG857=\"\",\"\",IF(AG857>Inputs!$D$9,0,1))","v":""},{"$f":"IF(AH857=\"\",\"\",IF(AH857>Inputs!$D$9,0,1))","v":""},{"$f":"IF(AI857=\"\",\"\",IF(AI857>Inputs!$D$9,0,1))","v":""},{"$f":"IF(AJ857=\"\",\"\",IF(AJ857>Inputs!$D$9,0,1))","v":""},{"$f":"IF(AK857=\"\",\"\",IF(AK857>Inputs!$D$9,0,1))","v":""},{"$f":"IF(AL857=\"\",\"\",IF(AL857>Inputs!$D$9,0,1))","v":""},"",0,null,"","","","","","","","","","","","","","",null,null,"","","","","","","","","","","","",""]
[null,null,null,null,null,null,null,null,null,null,null,null,null,null,"","","","","","","","","","","","","","","","","","","","","","","","",null,{"$f":"IF(AA858=\"\",\"\",IF(AA858>Inputs!$D$9,0,1))","v":""},{"$f":"IF(AB858=\"\",\"\",IF(AB858>Inputs!$D$9,0,1))","v":""},{"$f":"IF(AC858=\"\",\"\",IF(AC858>Inputs!$D$9,0,1))","v":""},{"$f":"IF(AD858=\"\",\"\",IF(AD858>Inputs!$D$9,0,1))","v":""},{"$f":"IF(AE858=\"\",\"\",IF(AE858>Inputs!$D$9,0,1))","v":""},{"$f":"IF(AF858=\"\",\"\",IF(AF858>Inputs!$D$9,0,1))","v":""},{"$f":"IF(AG858=\"\",\"\",IF(AG858>Inputs!$D$9,0,1))","v":""},{"$f":"IF(AH858=\"\",\"\",IF(AH858>Inputs!$D$9,0,1))","v":""},{"$f":"IF(AI858=\"\",\"\",IF(AI858>Inputs!$D$9,0,1))","v":""},{"$f":"IF(AJ858=\"\",\"\",IF(AJ858>Inputs!$D$9,0,1))","v":""},{"$f":"IF(AK858=\"\",\"\",IF(AK858>Inputs!$D$9,0,1))","v":""},{"$f":"IF(AL858=\"\",\"\",IF(AL858>Inputs!$D$9,0,1))","v":""},"",0,null,"","","","","","","","","","","","","","",null,null,"","","","","","","","","","","","",""]
[null,null,null,null,null,null,null,null,null,null,null,null,null,null,"","","","","","","","","","","","","","","","","","","","","","","","",null,{"$f":"IF(AA859=\"\",\"\",IF(AA859>Inputs!$D$9,0,1))","v":""},{"$f":"IF(AB859=\"\",\"\",IF(AB859>Inputs!$D$9,0,1))","v":""},{"$f":"IF(AC859=\"\",\"\",IF(AC859>Inputs!$D$9,0,1))","v":""},{"$f":"IF(AD859=\"\",\"\",IF(AD859>Inputs!$D$9,0,1))","v":""},{"$f":"IF(AE859=\"\",\"\",IF(AE859>Inputs!$D$9,0,1))","v":""},{"$f":"IF(AF859=\"\",\"\",IF(AF859>Inputs!$D$9,0,1))","v":""},{"$f":"IF(AG859=\"\",\"\",IF(AG859>Inputs!$D$9,0,1))","v":""},{"$f":"IF(AH859=\"\",\"\",IF(AH859>Inputs!$D$9,0,1))","v":""},{"$f":"IF(AI859=\"\",\"\",IF(AI859>Inputs!$D$9,0,1))","v":""},{"$f":"IF(AJ859=\"\",\"\",IF(AJ859>Inputs!$D$9,0,1))","v":""},{"$f":"IF(AK859=\"\",\"\",IF(AK859>Inputs!$D$9,0,1))","v":""},{"$f":"IF(AL859=\"\",\"\",IF(AL859>Inputs!$D$9,0,1))","v":""},"",0,null,"","","","","","","","","","","","","","",null,null,"","","","","","","","","","","","",""]
[null,null,null,null,null,null,null,null,null,null,null,null,null,null,"","","","","","","","","","","","","","","","","","","","","","","","",null,{"$f":"IF(AA860=\"\",\"\",IF(AA860>Inputs!$D$9,0,1))","v":""},{"$f":"IF(AB860=\"\",\"\",IF(AB860>Inputs!$D$9,0,1))","v":""},{"$f":"IF(AC860=\"\",\"\",IF(AC860>Inputs!$D$9,0,1))","v":""},{"$f":"IF(AD860=\"\",\"\",IF(AD860>Inputs!$D$9,0,1))","v":""},{"$f":"IF(AE860=\"\",\"\",IF(AE860>Inputs!$D$9,0,1))","v":""},{"$f":"IF(AF860=\"\",\"\",IF(AF860>Inputs!$D$9,0,1))","v":""},{"$f":"IF(AG860=\"\",\"\",IF(AG860>Inputs!$D$9,0,1))","v":""},{"$f":"IF(AH860=\"\",\"\",IF(AH860>Inputs!$D$9,0,1))","v":""},{"$f":"IF(AI860=\"\",\"\",IF(AI860>Inputs!$D$9,0,1))","v":""},{"$f":"IF(AJ860=\"\",\"\",IF(AJ860>Inputs!$D$9,0,1))","v":""},{"$f":"IF(AK860=\"\",\"\",IF(AK860>Inputs!$D$9,0,1))","v":""},{"$f":"IF(AL860=\"\",\"\",IF(AL860>Inputs!$D$9,0,1))","v":""},"",0,null,"","","","","","","","","","","","","","",null,null,"","","","","","","","","","","","",""]
[null,null,null,null,null,null,null,null,null,null,null,null,null,null,"","","","","","","","","","","","","","","","","","","","","","","","",null,{"$f":"IF(AA861=\"\",\"\",IF(AA861>Inputs!$D$9,0,1))","v":""},{"$f":"IF(AB861=\"\",\"\",IF(AB861>Inputs!$D$9,0,1))","v":""},{"$f":"IF(AC861=\"\",\"\",IF(AC861>Inputs!$D$9,0,1))","v":""},{"$f":"IF(AD861=\"\",\"\",IF(AD861>Inputs!$D$9,0,1))","v":""},{"$f":"IF(AE861=\"\",\"\",IF(AE861>Inputs!$D$9,0,1))","v":""},{"$f":"IF(AF861=\"\",\"\",IF(AF861>Inputs!$D$9,0,1))","v":""},{"$f":"IF(AG861=\"\",\"\",IF(AG861>Inputs!$D$9,0,1))","v":""},{"$f":"IF(AH861=\"\",\"\",IF(AH861>Inputs!$D$9,0,1))","v":""},{"$f":"IF(AI861=\"\",\"\",IF(AI861>Inputs!$D$9,0,1))","v":""},{"$f":"IF(AJ861=\"\",\"\",IF(AJ861>Inputs!$D$9,0,1))","v":""},{"$f":"IF(AK861=\"\",\"\",IF(AK861>Inputs!$D$9,0,1))","v":""},{"$f":"IF(AL861=\"\",\"\",IF(AL861>Inputs!$D$9,0,1))","v":""},"",0,null,"","","","","","","","","","","","","","",null,null,"","","","","","","","","","","","",""]
[null,null,null,null,null,null,null,null,null,null,null,null,null,null,"","","","","","","","","","","","","","","","","","","","","","","","",null,{"$f":"IF(AA862=\"\",\"\",IF(AA862>Inputs!$D$9,0,1))","v":""},{"$f":"IF(AB862=\"\",\"\",IF(AB862>Inputs!$D$9,0,1))","v":""},{"$f":"IF(AC862=\"\",\"\",IF(AC862>Inputs!$D$9,0,1))","v":""},{"$f":"IF(AD862=\"\",\"\",IF(AD862>Inputs!$D$9,0,1))","v":""},{"$f":"IF(AE862=\"\",\"\",IF(AE862>Inputs!$D$9,0,1))","v":""},{"$f":"IF(AF862=\"\",\"\",IF(AF862>Inputs!$D$9,0,1))","v":""},{"$f":"IF(AG862=\"\",\"\",IF(AG862>Inputs!$D$9,0,1))","v":""},{"$f":"IF(AH862=\"\",\"\",IF(AH862>Inputs!$D$9,0,1))","v":""},{"$f":"IF(AI862=\"\",\"\",IF(AI862>Inputs!$D$9,0,1))","v":""},{"$f":"IF(AJ862=\"\",\"\",IF(AJ862>Inputs!$D$9,0,1))","v":""},{"$f":"IF(AK862=\"\",\"\",IF(AK862>Inputs!$D$9,0,1))","v":""},{"$f":"IF(AL862=\"\",\"\",IF(AL862>Inputs!$D$9,0,1))","v":""},"",0,null,"","","","","","","","","","","","","","",null,null,"","","","","","","","","","","","",""]
[null,null,null,null,null,null,null,null,null,null,null,null,null,null,"","","","","","","","","","","","","","","","","","","","","","","","",null,{"$f":"IF(AA863=\"\",\"\",IF(AA863>Inputs!$D$9,0,1))","v":""},{"$f":"IF(AB863=\"\",\"\",IF(AB863>Inputs!$D$9,0,1))","v":""},{"$f":"IF(AC863=\"\",\"\",IF(AC863>Inputs!$D$9,0,1))","v":""},{"$f":"IF(AD863=\"\",\"\",IF(AD863>Inputs!$D$9,0,1))","v":""},{"$f":"IF(AE863=\"\",\"\",IF(AE863>Inputs!$D$9,0,1))","v":""},{"$f":"IF(AF863=\"\",\"\",IF(AF863>Inputs!$D$9,0,1))","v":""},{"$f":"IF(AG863=\"\",\"\",IF(AG863>Inputs!$D$9,0,1))","v":""},{"$f":"IF(AH863=\"\",\"\",IF(AH863>Inputs!$D$9,0,1))","v":""},{"$f":"IF(AI863=\"\",\"\",IF(AI863>Inputs!$D$9,0,1))","v":""},{"$f":"IF(AJ863=\"\",\"\",IF(AJ863>Inputs!$D$9,0,1))","v":""},{"$f":"IF(AK863=\"\",\"\",IF(AK863>Inputs!$D$9,0,1))","v":""},{"$f":"IF(AL863=\"\",\"\",IF(AL863>Inputs!$D$9,0,1))","v":""},"",0,null,"","","","","","","","","","","","","","",null,null,"","","","","","","","","","","","",""]
[null,null,null,null,null,null,null,null,null,null,null,null,null,null,"","","","","","","","","","","","","","","","","","","","","","","","",null,{"$f":"IF(AA864=\"\",\"\",IF(AA864>Inputs!$D$9,0,1))","v":""},{"$f":"IF(AB864=\"\",\"\",IF(AB864>Inputs!$D$9,0,1))","v":""},{"$f":"IF(AC864=\"\",\"\",IF(AC864>Inputs!$D$9,0,1))","v":""},{"$f":"IF(AD864=\"\",\"\",IF(AD864>Inputs!$D$9,0,1))","v":""},{"$f":"IF(AE864=\"\",\"\",IF(AE864>Inputs!$D$9,0,1))","v":""},{"$f":"IF(AF864=\"\",\"\",IF(AF864>Inputs!$D$9,0,1))","v":""},{"$f":"IF(AG864=\"\",\"\",IF(AG864>Inputs!$D$9,0,1))","v":""},{"$f":"IF(AH864=\"\",\"\",IF(AH864>Inputs!$D$9,0,1))","v":""},{"$f":"IF(AI864=\"\",\"\",IF(AI864>Inputs!$D$9,0,1))","v":""},{"$f":"IF(AJ864=\"\",\"\",IF(AJ864>Inputs!$D$9,0,1))","v":""},{"$f":"IF(AK864=\"\",\"\",IF(AK864>Inputs!$D$9,0,1))","v":""},{"$f":"IF(AL864=\"\",\"\",IF(AL864>Inputs!$D$9,0,1))","v":""},"",0,null,"","","","","","","","","","","","","","",null,null,"","","","","","","","","","","","",""]
[null,null,null,null,null,null,null,null,null,null,null,null,null,null,"","","","","","","","","","","","","","","","","","","","","","","","",null,{"$f":"IF(AA865=\"\",\"\",IF(AA865>Inputs!$D$9,0,1))","v":""},{"$f":"IF(AB865=\"\",\"\",IF(AB865>Inputs!$D$9,0,1))","v":""},{"$f":"IF(AC865=\"\",\"\",IF(AC865>Inputs!$D$9,0,1))","v":""},{"$f":"IF(AD865=\"\",\"\",IF(AD865>Inputs!$D$9,0,1))","v":""},{"$f":"IF(AE865=\"\",\"\",IF(AE865>Inputs!$D$9,0,1))","v":""},{"$f":"IF(AF865=\"\",\"\",IF(AF865>Inputs!$D$9,0,1))","v":""},{"$f":"IF(AG865=\"\",\"\",IF(AG865>Inputs!$D$9,0,1))","v":""},{"$f":"IF(AH865=\"\",\"\",IF(AH865>Inputs!$D$9,0,1))","v":""},{"$f":"IF(AI865=\"\",\"\",IF(AI865>Inputs!$D$9,0,1))","v":""},{"$f":"IF(AJ865=\"\",\"\",IF(AJ865>Inputs!$D$9,0,1))","v":""},{"$f":"IF(AK865=\"\",\"\",IF(AK865>Inputs!$D$9,0,1))","v":""},{"$f":"IF(AL865=\"\",\"\",IF(AL865>Inputs!$D$9,0,1))","v":""},"",0,null,"","","","","","","","","","","","","","",null,null,"","","","","","","","","","","","",""]
[null,null,null,null,null,null,null,null,null,null,null,null,null,null,"","","","","","","","","","","","","","","","","","","","","","","","",null,{"$f":"IF(AA866=\"\",\"\",IF(AA866>Inputs!$D$9,0,1))","v":""},{"$f":"IF(AB866=\"\",\"\",IF(AB866>Inputs!$D$9,0,1))","v":""},{"$f":"IF(AC866=\"\",\"\",IF(AC866>Inputs!$D$9,0,1))","v":""},{"$f":"IF(AD866=\"\",\"\",IF(AD866>Inputs!$D$9,0,1))","v":""},{"$f":"IF(AE866=\"\",\"\",IF(AE866>Inputs!$D$9,0,1))","v":""},{"$f":"IF(AF866=\"\",\"\",IF(AF866>Inputs!$D$9,0,1))","v":""},{"$f":"IF(AG866=\"\",\"\",IF(AG866>Inputs!$D$9,0,1))","v":""},{"$f":"IF(AH866=\"\",\"\",IF(AH866>Inputs!$D$9,0,1))","v":""},{"$f":"IF(AI866=\"\",\"\",IF(AI866>Inputs!$D$9,0,1))","v":""},{"$f":"IF(AJ866=\"\",\"\",IF(AJ866>Inputs!$D$9,0,1))","v":""},{"$f":"IF(AK866=\"\",\"\",IF(AK866>Inputs!$D$9,0,1))","v":""},{"$f":"IF(AL866=\"\",\"\",IF(AL866>Inputs!$D$9,0,1))","v":""},{"$f":"IF(COUNT(AN866:AY866)=0,\"\",SUM(AN866:AY866)/COUNT(AN866:AY866))","v":""},0,null,"","","","","","","","","","","","","","",null,null,"","","","","","","","","","","","",""]
[null,null,null,null,null,null,null,null,null,null,null,null,null,null,"","","","","","","","","","","","",{"$f":"IF($A867=\"\",\"\",IF(ISERROR(RANK(O867,$O$2:$O$1000,0)),\"\",RANK(O867,$O$2:$O$1000,0)))","v":""},{"$f":"IF($A867=\"\",\"\",IF(ISERROR(RANK(P867,$P$2:$P$1000,0)),\"\",RANK(P867,$P$2:$P$1000,0)))","v":""},{"$f":"IF($A867=\"\",\"\",IF(ISERROR(RANK(Q867,$Q$2:$Q$1000,0)),\"\",RANK(Q867,$Q$2:$Q$1000,0)))","v":""},{"$f":"IF($A867=\"\",\"\",IF(ISERROR(RANK(R867,$R$2:$R$1000,0)),\"\",RANK(R867,$R$2:$R$1000,0)))","v":""},{"$f":"IF($A867=\"\",\"\",IF(ISERROR(RANK(S867,$S$2:$S$1000,0)),\"\",RANK(S867,$S$2:$S$1000,0)))","v":""},{"$f":"IF($A867=\"\",\"\",IF(ISERROR(RANK(T867,$T$2:$T$1000,0)),\"\",RANK(T867,$T$2:$T$1000,0)))","v":""},{"$f":"IF($A867=\"\",\"\",IF(ISERROR(RANK(U867,$U$2:$U$1000,0)),\"\",RANK(U867,$U$2:$U$1000,0)))","v":""},{"$f":"IF($A867=\"\",\"\",IF(ISERROR(RANK(V867,$V$2:$V$1000,0)),\"\",RANK(V867,$V$2:$V$1000,0)))","v":""},{"$f":"IF($A867=\"\",\"\",IF(ISERROR(RANK(W867,$W$2:$W$1000,0)),\"\",RANK(W867,$W$2:$W$1000,0)))","v":""},{"$f":"IF($A867=\"\",\"\",IF(ISERROR(RANK(X867,$X$2:$X$1000,0)),\"\",RANK(X867,$X$2:$X$1000,0)))","v":""},{"$f":"IF($A867=\"\",\"\",IF(ISERROR(RANK(Y867,$Y$2:$Y$1000,0)),\"\",RANK(Y867,$Y$2:$Y$1000,0)))","v":""},{"$f":"IF($A867=\"\",\"\",IF(ISERROR(RANK(Z867,$Z$2:$Z$1000,0)),\"\",RANK(Z867,$Z$2:$Z$1000,0)))","v":""},null,{"$f":"IF(AA867=\"\",\"\",IF(AA867>Inputs!$D$9,0,1))","v":""},{"$f":"IF(AB867=\"\",\"\",IF(AB867>Inputs!$D$9,0,1))","v":""},{"$f":"IF(AC867=\"\",\"\",IF(AC867>Inputs!$D$9,0,1))","v":""},{"$f":"IF(AD867=\"\",\"\",IF(AD867>Inputs!$D$9,0,1))","v":""},{"$f":"IF(AE867=\"\",\"\",IF(AE867>Inputs!$D$9,0,1))","v":""},{"$f":"IF(AF867=\"\",\"\",IF(AF867>Inputs!$D$9,0,1))","v":""},{"$f":"IF(AG867=\"\",\"\",IF(AG867>Inputs!$D$9,0,1))","v":""},{"$f":"IF(AH867=\"\",\"\",IF(AH867>Inputs!$D$9,0,1))","v":""},{"$f":"IF(AI867=\"\",\"\",IF(AI867>Inputs!$D$9,0,1))","v":""},{"$f":"IF(AJ867=\"\",\"\",IF(AJ867>Inputs!$D$9,0,1))","v":""},{"$f":"IF(AK867=\"\",\"\",IF(AK867>Inputs!$D$9,0,1))","v":""},{"$f":"IF(AL867=\"\",\"\",IF(AL867>Inputs!$D$9,0,1))","v":""},"",0,null,"","","","","","","","","","","","","","",null,null,"","","","","","","","","","","","",""]
[null,null,null,null,null,null,null,null,null,null,null,null,null,null,"","","","","","","","","","","","","","","","","","","","","","","","",null,{"$f":"IF(AA868=\"\",\"\",IF(AA868>Inputs!$D$9,0,1))","v":""},{"$f":"IF(AB868=\"\",\"\",IF(AB868>Inputs!$D$9,0,1))","v":""},{"$f":"IF(AC868=\"\",\"\",IF(AC868>Inputs!$D$9,0,1))","v":""},{"$f":"IF(AD868=\"\",\"\",IF(AD868>Inputs!$D$9,0,1))","v":""},{"$f":"IF(AE868=\"\",\"\",IF(AE868>Inputs!$D$9,0,1))","v":""},{"$f":"IF(AF868=\"\",\"\",IF(AF868>Inputs!$D$9,0,1))","v":""},{"$f":"IF(AG868=\"\",\"\",IF(AG868>Inputs!$D$9,0,1))","v":""},{"$f":"IF(AH868=\"\",\"\",IF(AH868>Inputs!$D$9,0,1))","v":""},{"$f":"IF(AI868=\"\",\"\",IF(AI868>Inputs!$D$9,0,1))","v":""},{"$f":"IF(AJ868=\"\",\"\",IF(AJ868>Inputs!$D$9,0,1))","v":""},{"$f":"IF(AK868=\"\",\"\",IF(AK868>Inputs!$D$9,0,1))","v":""},{"$f":"IF(AL868=\"\",\"\",IF(AL868>Inputs!$D$9,0,1))","v":""},"",0,null,"","","","","","","","","","","","","","",null,null,"","","","","","","","","","","","",""]
[null,null,null,null,null,null,null,null,null,null,null,null,null,null,"","","","","","","","","","","","","","","","","","","","","","","","",null,{"$f":"IF(AA869=\"\",\"\",IF(AA869>Inputs!$D$9,0,1))","v":""},{"$f":"IF(AB869=\"\",\"\",IF(AB869>Inputs!$D$9,0,1))","v":""},{"$f":"IF(AC869=\"\",\"\",IF(AC869>Inputs!$D$9,0,1))","v":""},{"$f":"IF(AD869=\"\",\"\",IF(AD869>Inputs!$D$9,0,1))","v":""},{"$f":"IF(AE869=\"\",\"\",IF(AE869>Inputs!$D$9,0,1))","v":""},{"$f":"IF(AF869=\"\",\"\",IF(AF869>Inputs!$D$9,0,1))","v":""},{"$f":"IF(AG869=\"\",\"\",IF(AG869>Inputs!$D$9,0,1))","v":""},{"$f":"IF(AH869=\"\",\"\",IF(AH869>Inputs!$D$9,0,1))","v":""},{"$f":"IF(AI869=\"\",\"\",IF(AI869>Inputs!$D$9,0,1))","v":""},{"$f":"IF(AJ869=\"\",\"\",IF(AJ869>Inputs!$D$9,0,1))","v":""},{"$f":"IF(AK869=\"\",\"\",IF(AK869>Inputs!$D$9,0,1))","v":""},{"$f":"IF(AL869=\"\",\"\",IF(AL869>Inputs!$D$9,0,1))","v":""},"",0,null,"","","","","","","","","","","","","","",null,null,"","","","","","","","","","","","",""]
[null,null,null,null,null,null,null,null,null,null,null,null,null,null,"","","","","","","","","","","","","","","","","","","","","","","","",null,{"$f":"IF(AA870=\"\",\"\",IF(AA870>Inputs!$D$9,0,1))","v":""},{"$f":"IF(AB870=\"\",\"\",IF(AB870>Inputs!$D$9,0,1))","v":""},{"$f":"IF(AC870=\"\",\"\",IF(AC870>Inputs!$D$9,0,1))","v":""},{"$f":"IF(AD870=\"\",\"\",IF(AD870>Inputs!$D$9,0,1))","v":""},{"$f":"IF(AE870=\"\",\"\",IF(AE870>Inputs!$D$9,0,1))","v":""},{"$f":"IF(AF870=\"\",\"\",IF(AF870>Inputs!$D$9,0,1))","v":""},{"$f":"IF(AG870=\"\",\"\",IF(AG870>Inputs!$D$9,0,1))","v":""},{"$f":"IF(AH870=\"\",\"\",IF(AH870>Inputs!$D$9,0,1))","v":""},{"$f":"IF(AI870=\"\",\"\",IF(AI870>Inputs!$D$9,0,1))","v":""},{"$f":"IF(AJ870=\"\",\"\",IF(AJ870>Inputs!$D$9,0,1))","v":""},{"$f":"IF(AK870=\"\",\"\",IF(AK870>Inputs!$D$9,0,1))","v":""},{"$f":"IF(AL870=\"\",\"\",IF(AL870>Inputs!$D$9,0,1))","v":""},"",0,null,"","","","","","","","","","","","","","",null,null,"","","","","","","","","","","","",""]
[null,null,null,null,null,null,null,null,null,null,null,null,null,null,"","","","","","","","","","","","","","","","","","","","","","","","",null,{"$f":"IF(AA871=\"\",\"\",IF(AA871>Inputs!$D$9,0,1))","v":""},{"$f":"IF(AB871=\"\",\"\",IF(AB871>Inputs!$D$9,0,1))","v":""},{"$f":"IF(AC871=\"\",\"\",IF(AC871>Inputs!$D$9,0,1))","v":""},{"$f":"IF(AD871=\"\",\"\",IF(AD871>Inputs!$D$9,0,1))","v":""},{"$f":"IF(AE871=\"\",\"\",IF(AE871>Inputs!$D$9,0,1))","v":""},{"$f":"IF(AF871=\"\",\"\",IF(AF871>Inputs!$D$9,0,1))","v":""},{"$f":"IF(AG871=\"\",\"\",IF(AG871>Inputs!$D$9,0,1))","v":""},{"$f":"IF(AH871=\"\",\"\",IF(AH871>Inputs!$D$9,0,1))","v":""},{"$f":"IF(AI871=\"\",\"\",IF(AI871>Inputs!$D$9,0,1))","v":""},{"$f":"IF(AJ871=\"\",\"\",IF(AJ871>Inputs!$D$9,0,1))","v":""},{"$f":"IF(AK871=\"\",\"\",IF(AK871>Inputs!$D$9,0,1))","v":""},{"$f":"IF(AL871=\"\",\"\",IF(AL871>Inputs!$D$9,0,1))","v":""},"",0,null,"","","","","","","","","","","","","","",null,null,"","","","","","","","","","","","",""]
[null,null,null,null,null,null,null,null,null,null,null,null,null,null,"","","","","","","","","","","","","","","","","","","","","","","","",null,{"$f":"IF(AA872=\"\",\"\",IF(AA872>Inputs!$D$9,0,1))","v":""},{"$f":"IF(AB872=\"\",\"\",IF(AB872>Inputs!$D$9,0,1))","v":""},{"$f":"IF(AC872=\"\",\"\",IF(AC872>Inputs!$D$9,0,1))","v":""},{"$f":"IF(AD872=\"\",\"\",IF(AD872>Inputs!$D$9,0,1))","v":""},{"$f":"IF(AE872=\"\",\"\",IF(AE872>Inputs!$D$9,0,1))","v":""},{"$f":"IF(AF872=\"\",\"\",IF(AF872>Inputs!$D$9,0,1))","v":""},{"$f":"IF(AG872=\"\",\"\",IF(AG872>Inputs!$D$9,0,1))","v":""},{"$f":"IF(AH872=\"\",\"\",IF(AH872>Inputs!$D$9,0,1))","v":""},{"$f":"IF(AI872=\"\",\"\",IF(AI872>Inputs!$D$9,0,1))","v":""},{"$f":"IF(AJ872=\"\",\"\",IF(AJ872>Inputs!$D$9,0,1))","v":""},{"$f":"IF(AK872=\"\",\"\",IF(AK872>Inputs!$D$9,0,1))","v":""},{"$f":"IF(AL872=\"\",\"\",IF(AL872>Inputs!$D$9,0,1))","v":""},"",0,null,"","","","","","","","","","","","","","",null,null,"","","","","","","","","","","","",""]
[null,null,null,null,null,null,null,null,null,null,null,null,null,null,"","","","","","","","","","","","","","","","","","","","","","","","",null,{"$f":"IF(AA873=\"\",\"\",IF(AA873>Inputs!$D$9,0,1))","v":""},{"$f":"IF(AB873=\"\",\"\",IF(AB873>Inputs!$D$9,0,1))","v":""},{"$f":"IF(AC873=\"\",\"\",IF(AC873>Inputs!$D$9,0,1))","v":""},{"$f":"IF(AD873=\"\",\"\",IF(AD873>Inputs!$D$9,0,1))","v":""},{"$f":"IF(AE873=\"\",\"\",IF(AE873>Inputs!$D$9,0,1))","v":""},{"$f":"IF(AF873=\"\",\"\",IF(AF873>Inputs!$D$9,0,1))","v":""},{"$f":"IF(AG873=\"\",\"\",IF(AG873>Inputs!$D$9,0,1))","v":""},{"$f":"IF(AH873=\"\",\"\",IF(AH873>Inputs!$D$9,0,1))","v":""},{"$f":"IF(AI873=\"\",\"\",IF(AI873>Inputs!$D$9,0,1))","v":""},{"$f":"IF(AJ873=\"\",\"\",IF(AJ873>Inputs!$D$9,0,1))","v":""},{"$f":"IF(AK873=\"\",\"\",IF(AK873>Inputs!$D$9,0,1))","v":""},{"$f":"IF(AL873=\"\",\"\",IF(AL873>Inputs!$D$9,0,1))","v":""},"",0,null,"","","","","","","","","","","","","","",null,null,"","","","","","","","","","","","",""]
[null,null,null,null,null,null,null,null,null,null,null,null,null,null,"","","","","","","","","","","","","","","","","","","","","","","","",null,{"$f":"IF(AA874=\"\",\"\",IF(AA874>Inputs!$D$9,0,1))","v":""},{"$f":"IF(AB874=\"\",\"\",IF(AB874>Inputs!$D$9,0,1))","v":""},{"$f":"IF(AC874=\"\",\"\",IF(AC874>Inputs!$D$9,0,1))","v":""},{"$f":"IF(AD874=\"\",\"\",IF(AD874>Inputs!$D$9,0,1))","v":""},{"$f":"IF(AE874=\"\",\"\",IF(AE874>Inputs!$D$9,0,1))","v":""},{"$f":"IF(AF874=\"\",\"\",IF(AF874>Inputs!$D$9,0,1))","v":""},{"$f":"IF(AG874=\"\",\"\",IF(AG874>Inputs!$D$9,0,1))","v":""},{"$f":"IF(AH874=\"\",\"\",IF(AH874>Inputs!$D$9,0,1))","v":""},{"$f":"IF(AI874=\"\",\"\",IF(AI874>Inputs!$D$9,0,1))","v":""},{"$f":"IF(AJ874=\"\",\"\",IF(AJ874>Inputs!$D$9,0,1))","v":""},{"$f":"IF(AK874=\"\",\"\",IF(AK874>Inputs!$D$9,0,1))","v":""},{"$f":"IF(AL874=\"\",\"\",IF(AL874>Inputs!$D$9,0,1))","v":""},"",0,null,"","","","","","","","","","","","","","",null,null,"","","","","","","","","","","","",""]
[null,null,null,null,null,null,null,null,null,null,null,null,null,null,"","","","","","","","","","","","","","","","","","","","","","","","",null,{"$f":"IF(AA875=\"\",\"\",IF(AA875>Inputs!$D$9,0,1))","v":""},{"$f":"IF(AB875=\"\",\"\",IF(AB875>Inputs!$D$9,0,1))","v":""},{"$f":"IF(AC875=\"\",\"\",IF(AC875>Inputs!$D$9,0,1))","v":""},{"$f":"IF(AD875=\"\",\"\",IF(AD875>Inputs!$D$9,0,1))","v":""},{"$f":"IF(AE875=\"\",\"\",IF(AE875>Inputs!$D$9,0,1))","v":""},{"$f":"IF(AF875=\"\",\"\",IF(AF875>Inputs!$D$9,0,1))","v":""},{"$f":"IF(AG875=\"\",\"\",IF(AG875>Inputs!$D$9,0,1))","v":""},{"$f":"IF(AH875=\"\",\"\",IF(AH875>Inputs!$D$9,0,1))","v":""},{"$f":"IF(AI875=\"\",\"\",IF(AI875>Inputs!$D$9,0,1))","v":""},{"$f":"IF(AJ875=\"\",\"\",IF(AJ875>Inputs!$D$9,0,1))","v":""},{"$f":"IF(AK875=\"\",\"\",IF(AK875>Inputs!$D$9,0,1))","v":""},{"$f":"IF(AL875=\"\",\"\",IF(AL875>Inputs!$D$9,0,1))","v":""},"",0,null,"","","","","","","","","","","","","","",null,null,"","","","","","","","","","","","",""]
[null,null,null,null,null,null,null,null,null,null,null,null,null,null,"","","","","","","","","","","","","","","","","","","","","","","","",null,{"$f":"IF(AA876=\"\",\"\",IF(AA876>Inputs!$D$9,0,1))","v":""},{"$f":"IF(AB876=\"\",\"\",IF(AB876>Inputs!$D$9,0,1))","v":""},{"$f":"IF(AC876=\"\",\"\",IF(AC876>Inputs!$D$9,0,1))","v":""},{"$f":"IF(AD876=\"\",\"\",IF(AD876>Inputs!$D$9,0,1))","v":""},{"$f":"IF(AE876=\"\",\"\",IF(AE876>Inputs!$D$9,0,1))","v":""},{"$f":"IF(AF876=\"\",\"\",IF(AF876>Inputs!$D$9,0,1))","v":""},{"$f":"IF(AG876=\"\",\"\",IF(AG876>Inputs!$D$9,0,1))","v":""},{"$f":"IF(AH876=\"\",\"\",IF(AH876>Inputs!$D$9,0,1))","v":""},{"$f":"IF(AI876=\"\",\"\",IF(AI876>Inputs!$D$9,0,1))","v":""},{"$f":"IF(AJ876=\"\",\"\",IF(AJ876>Inputs!$D$9,0,1))","v":""},{"$f":"IF(AK876=\"\",\"\",IF(AK876>Inputs!$D$9,0,1))","v":""},{"$f":"IF(AL876=\"\",\"\",IF(AL876>Inputs!$D$9,0,1))","v":""},"",0,null,"","","","","","","","","","","","","","",null,null,"","","","","","","","","","","","",""]
[null,null,null,null,null,null,null,null,null,null,null,null,null,null,"","","","","","","","","","","","","","","","","","","","","","","","",null,{"$f":"IF(AA877=\"\",\"\",IF(AA877>Inputs!$D$9,0,1))","v":""},{"$f":"IF(AB877=\"\",\"\",IF(AB877>Inputs!$D$9,0,1))","v":""},{"$f":"IF(AC877=\"\",\"\",IF(AC877>Inputs!$D$9,0,1))","v":""},{"$f":"IF(AD877=\"\",\"\",IF(AD877>Inputs!$D$9,0,1))","v":""},{"$f":"IF(AE877=\"\",\"\",IF(AE877>Inputs!$D$9,0,1))","v":""},{"$f":"IF(AF877=\"\",\"\",IF(AF877>Inputs!$D$9,0,1))","v":""},{"$f":"IF(AG877=\"\",\"\",IF(AG877>Inputs!$D$9,0,1))","v":""},{"$f":"IF(AH877=\"\",\"\",IF(AH877>Inputs!$D$9,0,1))","v":""},{"$f":"IF(AI877=\"\",\"\",IF(AI877>Inputs!$D$9,0,1))","v":""},{"$f":"IF(AJ877=\"\",\"\",IF(AJ877>Inputs!$D$9,0,1))","v":""},{"$f":"IF(AK877=\"\",\"\",IF(AK877>Inputs!$D$9,0,1))","v":""},{"$f":"IF(AL877=\"\",\"\",IF(AL877>Inputs!$D$9,0,1))","v":""},"",0,null,"","","","","","","","","","","","","","",null,null,"","","","","","","","","","","","",""]
[null,null,null,null,null,null,null,null,null,null,null,null,null,null,"","","","","","","","","","","","","","","","","","","","","","","","",null,{"$f":"IF(AA878=\"\",\"\",IF(AA878>Inputs!$D$9,0,1))","v":""},{"$f":"IF(AB878=\"\",\"\",IF(AB878>Inputs!$D$9,0,1))","v":""},{"$f":"IF(AC878=\"\",\"\",IF(AC878>Inputs!$D$9,0,1))","v":""},{"$f":"IF(AD878=\"\",\"\",IF(AD878>Inputs!$D$9,0,1))","v":""},{"$f":"IF(AE878=\"\",\"\",IF(AE878>Inputs!$D$9,0,1))","v":""},{"$f":"IF(AF878=\"\",\"\",IF(AF878>Inputs!$D$9,0,1))","v":""},{"$f":"IF(AG878=\"\",\"\",IF(AG878>Inputs!$D$9,0,1))","v":""},{"$f":"IF(AH878=\"\",\"\",IF(AH878>Inputs!$D$9,0,1))","v":""},{"$f":"IF(AI878=\"\",\"\",IF(AI878>Inputs!$D$9,0,1))","v":""},{"$f":"IF(AJ878=\"\",\"\",IF(AJ878>Inputs!$D$9,0,1))","v":""},{"$f":"IF(AK878=\"\",\"\",IF(AK878>Inputs!$D$9,0,1))","v":""},{"$f":"IF(AL878=\"\",\"\",IF(AL878>Inputs!$D$9,0,1))","v":""},"",0,null,"","","","","","","","","","","","","","",null,null,"","","","","","","","","","","","",""]
[null,null,null,null,null,null,null,null,null,null,null,null,null,null,"","","","","","","","","","","","","","","","","","","","","","","","",null,{"$f":"IF(AA879=\"\",\"\",IF(AA879>Inputs!$D$9,0,1))","v":""},{"$f":"IF(AB879=\"\",\"\",IF(AB879>Inputs!$D$9,0,1))","v":""},{"$f":"IF(AC879=\"\",\"\",IF(AC879>Inputs!$D$9,0,1))","v":""},{"$f":"IF(AD879=\"\",\"\",IF(AD879>Inputs!$D$9,0,1))","v":""},{"$f":"IF(AE879=\"\",\"\",IF(AE879>Inputs!$D$9,0,1))","v":""},{"$f":"IF(AF879=\"\",\"\",IF(AF879>Inputs!$D$9,0,1))","v":""},{"$f":"IF(AG879=\"\",\"\",IF(AG879>Inputs!$D$9,0,1))","v":""},{"$f":"IF(AH879=\"\",\"\",IF(AH879>Inputs!$D$9,0,1))","v":""},{"$f":"IF(AI879=\"\",\"\",IF(AI879>Inputs!$D$9,0,1))","v":""},{"$f":"IF(AJ879=\"\",\"\",IF(AJ879>Inputs!$D$9,0,1))","v":""},{"$f":"IF(AK879=\"\",\"\",IF(AK879>Inputs!$D$9,0,1))","v":""},{"$f":"IF(AL879=\"\",\"\",IF(AL879>Inputs!$D$9,0,1))","v":""},"",0,null,"","","","","","","","","","","","","","",null,null,"","","","","","","","","","","","",""]
[null,null,null,null,null,null,null,null,null,null,null,null,null,null,"","","","","","","","","","","","","","","","","","","","","","","","",null,{"$f":"IF(AA880=\"\",\"\",IF(AA880>Inputs!$D$9,0,1))","v":""},{"$f":"IF(AB880=\"\",\"\",IF(AB880>Inputs!$D$9,0,1))","v":""},{"$f":"IF(AC880=\"\",\"\",IF(AC880>Inputs!$D$9,0,1))","v":""},{"$f":"IF(AD880=\"\",\"\",IF(AD880>Inputs!$D$9,0,1))","v":""},{"$f":"IF(AE880=\"\",\"\",IF(AE880>Inputs!$D$9,0,1))","v":""},{"$f":"IF(AF880=\"\",\"\",IF(AF880>Inputs!$D$9,0,1))","v":""},{"$f":"IF(AG880=\"\",\"\",IF(AG880>Inputs!$D$9,0,1))","v":""},{"$f":"IF(AH880=\"\",\"\",IF(AH880>Inputs!$D$9,0,1))","v":""},{"$f":"IF(AI880=\"\",\"\",IF(AI880>Inputs!$D$9,0,1))","v":""},{"$f":"IF(AJ880=\"\",\"\",IF(AJ880>Inputs!$D$9,0,1))","v":""},{"$f":"IF(AK880=\"\",\"\",IF(AK880>Inputs!$D$9,0,1))","v":""},{"$f":"IF(AL880=\"\",\"\",IF(AL880>Inputs!$D$9,0,1))","v":""},"",0,null,"","","","","","","","","","","","","","",null,null,"","","","","","","","","","","","",""]
[null,null,null,null,null,null,null,null,null,null,null,null,null,null,"","","","","","","","","","","","","","","","","","","","","","","","",null,{"$f":"IF(AA881=\"\",\"\",IF(AA881>Inputs!$D$9,0,1))","v":""},{"$f":"IF(AB881=\"\",\"\",IF(AB881>Inputs!$D$9,0,1))","v":""},{"$f":"IF(AC881=\"\",\"\",IF(AC881>Inputs!$D$9,0,1))","v":""},{"$f":"IF(AD881=\"\",\"\",IF(AD881>Inputs!$D$9,0,1))","v":""},{"$f":"IF(AE881=\"\",\"\",IF(AE881>Inputs!$D$9,0,1))","v":""},{"$f":"IF(AF881=\"\",\"\",IF(AF881>Inputs!$D$9,0,1))","v":""},{"$f":"IF(AG881=\"\",\"\",IF(AG881>Inputs!$D$9,0,1))","v":""},{"$f":"IF(AH881=\"\",\"\",IF(AH881>Inputs!$D$9,0,1))","v":""},{"$f":"IF(AI881=\"\",\"\",IF(AI881>Inputs!$D$9,0,1))","v":""},{"$f":"IF(AJ881=\"\",\"\",IF(AJ881>Inputs!$D$9,0,1))","v":""},{"$f":"IF(AK881=\"\",\"\",IF(AK881>Inputs!$D$9,0,1))","v":""},{"$f":"IF(AL881=\"\",\"\",IF(AL881>Inputs!$D$9,0,1))","v":""},"",0,null,"","","","","","","","","","","","","","",null,null,"","","","","","","","","","","","",""]
[null,null,null,null,null,null,null,null,null,null,null,null,null,null,"","","","","","","","","","","","","","","","","","","","","","","","",null,{"$f":"IF(AA882=\"\",\"\",IF(AA882>Inputs!$D$9,0,1))","v":""},{"$f":"IF(AB882=\"\",\"\",IF(AB882>Inputs!$D$9,0,1))","v":""},{"$f":"IF(AC882=\"\",\"\",IF(AC882>Inputs!$D$9,0,1))","v":""},{"$f":"IF(AD882=\"\",\"\",IF(AD882>Inputs!$D$9,0,1))","v":""},{"$f":"IF(AE882=\"\",\"\",IF(AE882>Inputs!$D$9,0,1))","v":""},{"$f":"IF(AF882=\"\",\"\",IF(AF882>Inputs!$D$9,0,1))","v":""},{"$f":"IF(AG882=\"\",\"\",IF(AG882>Inputs!$D$9,0,1))","v":""},{"$f":"IF(AH882=\"\",\"\",IF(AH882>Inputs!$D$9,0,1))","v":""},{"$f":"IF(AI882=\"\",\"\",IF(AI882>Inputs!$D$9,0,1))","v":""},{"$f":"IF(AJ882=\"\",\"\",IF(AJ882>Inputs!$D$9,0,1))","v":""},{"$f":"IF(AK882=\"\",\"\",IF(AK882>Inputs!$D$9,0,1))","v":""},{"$f":"IF(AL882=\"\",\"\",IF(AL882>Inputs!$D$9,0,1))","v":""},"",0,null,"","","","","","","","","","","","","","",null,null,"","","","","","","","","","","","",""]
[null,null,null,null,null,null,null,null,null,null,null,null,null,null,"","","","","","","","","","","","","","","","","","","","","","","","",null,{"$f":"IF(AA883=\"\",\"\",IF(AA883>Inputs!$D$9,0,1))","v":""},{"$f":"IF(AB883=\"\",\"\",IF(AB883>Inputs!$D$9,0,1))","v":""},{"$f":"IF(AC883=\"\",\"\",IF(AC883>Inputs!$D$9,0,1))","v":""},{"$f":"IF(AD883=\"\",\"\",IF(AD883>Inputs!$D$9,0,1))","v":""},{"$f":"IF(AE883=\"\",\"\",IF(AE883>Inputs!$D$9,0,1))","v":""},{"$f":"IF(AF883=\"\",\"\",IF(AF883>Inputs!$D$9,0,1))","v":""},{"$f":"IF(AG883=\"\",\"\",IF(AG883>Inputs!$D$9,0,1))","v":""},{"$f":"IF(AH883=\"\",\"\",IF(AH883>Inputs!$D$9,0,1))","v":""},{"$f":"IF(AI883=\"\",\"\",IF(AI883>Inputs!$D$9,0,1))","v":""},{"$f":"IF(AJ883=\"\",\"\",IF(AJ883>Inputs!$D$9,0,1))","v":""},{"$f":"IF(AK883=\"\",\"\",IF(AK883>Inputs!$D$9,0,1))","v":""},{"$f":"IF(AL883=\"\",\"\",IF(AL883>Inputs!$D$9,0,1))","v":""},"",0,null,"","","","","","","","","","","","","","",null,null,"","","","","","","","","","","","",""]
[null,null,null,null,null,null,null,null,null,null,null,null,null,null,"","","","","","","","","","","","","","","","","","","","","","","","",null,{"$f":"IF(AA884=\"\",\"\",IF(AA884>Inputs!$D$9,0,1))","v":""},{"$f":"IF(AB884=\"\",\"\",IF(AB884>Inputs!$D$9,0,1))","v":""},{"$f":"IF(AC884=\"\",\"\",IF(AC884>Inputs!$D$9,0,1))","v":""},{"$f":"IF(AD884=\"\",\"\",IF(AD884>Inputs!$D$9,0,1))","v":""},{"$f":"IF(AE884=\"\",\"\",IF(AE884>Inputs!$D$9,0,1))","v":""},{"$f":"IF(AF884=\"\",\"\",IF(AF884>Inputs!$D$9,0,1))","v":""},{"$f":"IF(AG884=\"\",\"\",IF(AG884>Inputs!$D$9,0,1))","v":""},{"$f":"IF(AH884=\"\",\"\",IF(AH884>Inputs!$D$9,0,1))","v":""},{"$f":"IF(AI884=\"\",\"\",IF(AI884>Inputs!$D$9,0,1))","v":""},{"$f":"IF(AJ884=\"\",\"\",IF(AJ884>Inputs!$D$9,0,1))","v":""},{"$f":"IF(AK884=\"\",\"\",IF(AK884>Inputs!$D$9,0,1))","v":""},{"$f":"IF(AL884=\"\",\"\",IF(AL884>Inputs!$D$9,0,1))","v":""},"",0,null,"","","","","","","","","","","","","","",null,null,"","","","","","","","","","","","",""]
[null,null,null,null,null,null,null,null,null,null,null,null,null,null,"","","","","","","","","","","","","","","","","","","","","","","","",null,{"$f":"IF(AA885=\"\",\"\",IF(AA885>Inputs!$D$9,0,1))","v":""},{"$f":"IF(AB885=\"\",\"\",IF(AB885>Inputs!$D$9,0,1))","v":""},{"$f":"IF(AC885=\"\",\"\",IF(AC885>Inputs!$D$9,0,1))","v":""},{"$f":"IF(AD885=\"\",\"\",IF(AD885>Inputs!$D$9,0,1))","v":""},{"$f":"IF(AE885=\"\",\"\",IF(AE885>Inputs!$D$9,0,1))","v":""},{"$f":"IF(AF885=\"\",\"\",IF(AF885>Inputs!$D$9,0,1))","v":""},{"$f":"IF(AG885=\"\",\"\",IF(AG885>Inputs!$D$9,0,1))","v":""},{"$f":"IF(AH885=\"\",\"\",IF(AH885>Inputs!$D$9,0,1))","v":""},{"$f":"IF(AI885=\"\",\"\",IF(AI885>Inputs!$D$9,0,1))","v":""},{"$f":"IF(AJ885=\"\",\"\",IF(AJ885>Inputs!$D$9,0,1))","v":""},{"$f":"IF(AK885=\"\",\"\",IF(AK885>Inputs!$D$9,0,1))","v":""},{"$f":"IF(AL885=\"\",\"\",IF(AL885>Inputs!$D$9,0,1))","v":""},"",0,null,"","","","","","","","","","","","","","",null,null,"","","","","","","","","","","","",""]
[null,null,null,null,null,null,null,null,null,null,null,null,null,null,"","","","","","","","","","","","","","","","","","","","","","","","",null,{"$f":"IF(AA886=\"\",\"\",IF(AA886>Inputs!$D$9,0,1))","v":""},{"$f":"IF(AB886=\"\",\"\",IF(AB886>Inputs!$D$9,0,1))","v":""},{"$f":"IF(AC886=\"\",\"\",IF(AC886>Inputs!$D$9,0,1))","v":""},{"$f":"IF(AD886=\"\",\"\",IF(AD886>Inputs!$D$9,0,1))","v":""},{"$f":"IF(AE886=\"\",\"\",IF(AE886>Inputs!$D$9,0,1))","v":""},{"$f":"IF(AF886=\"\",\"\",IF(AF886>Inputs!$D$9,0,1))","v":""},{"$f":"IF(AG886=\"\",\"\",IF(AG886>Inputs!$D$9,0,1))","v":""},{"$f":"IF(AH886=\"\",\"\",IF(AH886>Inputs!$D$9,0,1))","v":""},{"$f":"IF(AI886=\"\",\"\",IF(AI886>Inputs!$D$9,0,1))","v":""},{"$f":"IF(AJ886=\"\",\"\",IF(AJ886>Inputs!$D$9,0,1))","v":""},{"$f":"IF(AK886=\"\",\"\",IF(AK886>Inputs!$D$9,0,1))","v":""},{"$f":"IF(AL886=\"\",\"\",IF(AL886>Inputs!$D$9,0,1))","v":""},"",0,null,"","","","","","","","","","","","","","",null,null,"","","","","","","","","","","","",""]
[null,null,null,null,null,null,null,null,null,null,null,null,null,null,"","","","","","","","","","","","","","","","","","","","","","","","",null,{"$f":"IF(AA887=\"\",\"\",IF(AA887>Inputs!$D$9,0,1))","v":""},{"$f":"IF(AB887=\"\",\"\",IF(AB887>Inputs!$D$9,0,1))","v":""},{"$f":"IF(AC887=\"\",\"\",IF(AC887>Inputs!$D$9,0,1))","v":""},{"$f":"IF(AD887=\"\",\"\",IF(AD887>Inputs!$D$9,0,1))","v":""},{"$f":"IF(AE887=\"\",\"\",IF(AE887>Inputs!$D$9,0,1))","v":""},{"$f":"IF(AF887=\"\",\"\",IF(AF887>Inputs!$D$9,0,1))","v":""},{"$f":"IF(AG887=\"\",\"\",IF(AG887>Inputs!$D$9,0,1))","v":""},{"$f":"IF(AH887=\"\",\"\",IF(AH887>Inputs!$D$9,0,1))","v":""},{"$f":"IF(AI887=\"\",\"\",IF(AI887>Inputs!$D$9,0,1))","v":""},{"$f":"IF(AJ887=\"\",\"\",IF(AJ887>Inputs!$D$9,0,1))","v":""},{"$f":"IF(AK887=\"\",\"\",IF(AK887>Inputs!$D$9,0,1))","v":""},{"$f":"IF(AL887=\"\",\"\",IF(AL887>Inputs!$D$9,0,1))","v":""},"",0,null,"","","","","","","","","","","","","","",null,null,"","","","","","","","","","","","",""]
[null,null,null,null,null,null,null,null,null,null,null,null,null,null,"","","","","","","","","","","","","","","","","","","","","","","","",null,{"$f":"IF(AA888=\"\",\"\",IF(AA888>Inputs!$D$9,0,1))","v":""},{"$f":"IF(AB888=\"\",\"\",IF(AB888>Inputs!$D$9,0,1))","v":""},{"$f":"IF(AC888=\"\",\"\",IF(AC888>Inputs!$D$9,0,1))","v":""},{"$f":"IF(AD888=\"\",\"\",IF(AD888>Inputs!$D$9,0,1))","v":""},{"$f":"IF(AE888=\"\",\"\",IF(AE888>Inputs!$D$9,0,1))","v":""},{"$f":"IF(AF888=\"\",\"\",IF(AF888>Inputs!$D$9,0,1))","v":""},{"$f":"IF(AG888=\"\",\"\",IF(AG888>Inputs!$D$9,0,1))","v":""},{"$f":"IF(AH888=\"\",\"\",IF(AH888>Inputs!$D$9,0,1))","v":""},{"$f":"IF(AI888=\"\",\"\",IF(AI888>Inputs!$D$9,0,1))","v":""},{"$f":"IF(AJ888=\"\",\"\",IF(AJ888>Inputs!$D$9,0,1))","v":""},{"$f":"IF(AK888=\"\",\"\",IF(AK888>Inputs!$D$9,0,1))","v":""},{"$f":"IF(AL888=\"\",\"\",IF(AL888>Inputs!$D$9,0,1))","v":""},"",0,null,"","","","","","","","","","","","","","",null,null,"","","","","","","","","","","","",""]
[null,null,null,null,null,null,null,null,null,null,null,null,null,null,"","","","","","","","","","","","","","","","","","","","","","","","",null,{"$f":"IF(AA889=\"\",\"\",IF(AA889>Inputs!$D$9,0,1))","v":""},{"$f":"IF(AB889=\"\",\"\",IF(AB889>Inputs!$D$9,0,1))","v":""},{"$f":"IF(AC889=\"\",\"\",IF(AC889>Inputs!$D$9,0,1))","v":""},{"$f":"IF(AD889=\"\",\"\",IF(AD889>Inputs!$D$9,0,1))","v":""},{"$f":"IF(AE889=\"\",\"\",IF(AE889>Inputs!$D$9,0,1))","v":""},{"$f":"IF(AF889=\"\",\"\",IF(AF889>Inputs!$D$9,0,1))","v":""},{"$f":"IF(AG889=\"\",\"\",IF(AG889>Inputs!$D$9,0,1))","v":""},{"$f":"IF(AH889=\"\",\"\",IF(AH889>Inputs!$D$9,0,1))","v":""},{"$f":"IF(AI889=\"\",\"\",IF(AI889>Inputs!$D$9,0,1))","v":""},{"$f":"IF(AJ889=\"\",\"\",IF(AJ889>Inputs!$D$9,0,1))","v":""},{"$f":"IF(AK889=\"\",\"\",IF(AK889>Inputs!$D$9,0,1))","v":""},{"$f":"IF(AL889=\"\",\"\",IF(AL889>Inputs!$D$9,0,1))","v":""},"",0,null,"","","","","","","","","","","","","","",null,null,"","","","","","","","","","","","",""]
[null,null,null,null,null,null,null,null,null,null,null,null,null,null,"","","","","","","","","","","","","","","","","","","","","","","","",null,{"$f":"IF(AA890=\"\",\"\",IF(AA890>Inputs!$D$9,0,1))","v":""},{"$f":"IF(AB890=\"\",\"\",IF(AB890>Inputs!$D$9,0,1))","v":""},{"$f":"IF(AC890=\"\",\"\",IF(AC890>Inputs!$D$9,0,1))","v":""},{"$f":"IF(AD890=\"\",\"\",IF(AD890>Inputs!$D$9,0,1))","v":""},{"$f":"IF(AE890=\"\",\"\",IF(AE890>Inputs!$D$9,0,1))","v":""},{"$f":"IF(AF890=\"\",\"\",IF(AF890>Inputs!$D$9,0,1))","v":""},{"$f":"IF(AG890=\"\",\"\",IF(AG890>Inputs!$D$9,0,1))","v":""},{"$f":"IF(AH890=\"\",\"\",IF(AH890>Inputs!$D$9,0,1))","v":""},{"$f":"IF(AI890=\"\",\"\",IF(AI890>Inputs!$D$9,0,1))","v":""},{"$f":"IF(AJ890=\"\",\"\",IF(AJ890>Inputs!$D$9,0,1))","v":""},{"$f":"IF(AK890=\"\",\"\",IF(AK890>Inputs!$D$9,0,1))","v":""},{"$f":"IF(AL890=\"\",\"\",IF(AL890>Inputs!$D$9,0,1))","v":""},"",0,null,"","","","","","","","","","","","","","",null,null,"","","","","","","","","","","","",""]
[null,null,null,null,null,null,null,null,null,null,null,null,null,null,"","","","","","","","","","","","","","","","","","","","","","","","",null,{"$f":"IF(AA891=\"\",\"\",IF(AA891>Inputs!$D$9,0,1))","v":""},{"$f":"IF(AB891=\"\",\"\",IF(AB891>Inputs!$D$9,0,1))","v":""},{"$f":"IF(AC891=\"\",\"\",IF(AC891>Inputs!$D$9,0,1))","v":""},{"$f":"IF(AD891=\"\",\"\",IF(AD891>Inputs!$D$9,0,1))","v":""},{"$f":"IF(AE891=\"\",\"\",IF(AE891>Inputs!$D$9,0,1))","v":""},{"$f":"IF(AF891=\"\",\"\",IF(AF891>Inputs!$D$9,0,1))","v":""},{"$f":"IF(AG891=\"\",\"\",IF(AG891>Inputs!$D$9,0,1))","v":""},{"$f":"IF(AH891=\"\",\"\",IF(AH891>Inputs!$D$9,0,1))","v":""},{"$f":"IF(AI891=\"\",\"\",IF(AI891>Inputs!$D$9,0,1))","v":""},{"$f":"IF(AJ891=\"\",\"\",IF(AJ891>Inputs!$D$9,0,1))","v":""},{"$f":"IF(AK891=\"\",\"\",IF(AK891>Inputs!$D$9,0,1))","v":""},{"$f":"IF(AL891=\"\",\"\",IF(AL891>Inputs!$D$9,0,1))","v":""},"",0,null,"","","","","","","","","","","","","","",null,null,"","","","","","","","","","","","",""]
[null,null,null,null,null,null,null,null,null,null,null,null,null,null,"","","","","","","","","","","","","","","","","","","","","","","","",null,{"$f":"IF(AA892=\"\",\"\",IF(AA892>Inputs!$D$9,0,1))","v":""},{"$f":"IF(AB892=\"\",\"\",IF(AB892>Inputs!$D$9,0,1))","v":""},{"$f":"IF(AC892=\"\",\"\",IF(AC892>Inputs!$D$9,0,1))","v":""},{"$f":"IF(AD892=\"\",\"\",IF(AD892>Inputs!$D$9,0,1))","v":""},{"$f":"IF(AE892=\"\",\"\",IF(AE892>Inputs!$D$9,0,1))","v":""},{"$f":"IF(AF892=\"\",\"\",IF(AF892>Inputs!$D$9,0,1))","v":""},{"$f":"IF(AG892=\"\",\"\",IF(AG892>Inputs!$D$9,0,1))","v":""},{"$f":"IF(AH892=\"\",\"\",IF(AH892>Inputs!$D$9,0,1))","v":""},{"$f":"IF(AI892=\"\",\"\",IF(AI892>Inputs!$D$9,0,1))","v":""},{"$f":"IF(AJ892=\"\",\"\",IF(AJ892>Inputs!$D$9,0,1))","v":""},{"$f":"IF(AK892=\"\",\"\",IF(AK892>Inputs!$D$9,0,1))","v":""},{"$f":"IF(AL892=\"\",\"\",IF(AL892>Inputs!$D$9,0,1))","v":""},"",0,null,"","","","","","","","","","","","","","",null,null,"","","","","","","","","","","","",""]
[null,null,null,null,null,null,null,null,null,null,null,null,null,null,"","","","","","","","","","","","","","","","","","","","","","","","",null,{"$f":"IF(AA893=\"\",\"\",IF(AA893>Inputs!$D$9,0,1))","v":""},{"$f":"IF(AB893=\"\",\"\",IF(AB893>Inputs!$D$9,0,1))","v":""},{"$f":"IF(AC893=\"\",\"\",IF(AC893>Inputs!$D$9,0,1))","v":""},{"$f":"IF(AD893=\"\",\"\",IF(AD893>Inputs!$D$9,0,1))","v":""},{"$f":"IF(AE893=\"\",\"\",IF(AE893>Inputs!$D$9,0,1))","v":""},{"$f":"IF(AF893=\"\",\"\",IF(AF893>Inputs!$D$9,0,1))","v":""},{"$f":"IF(AG893=\"\",\"\",IF(AG893>Inputs!$D$9,0,1))","v":""},{"$f":"IF(AH893=\"\",\"\",IF(AH893>Inputs!$D$9,0,1))","v":""},{"$f":"IF(AI893=\"\",\"\",IF(AI893>Inputs!$D$9,0,1))","v":""},{"$f":"IF(AJ893=\"\",\"\",IF(AJ893>Inputs!$D$9,0,1))","v":""},{"$f":"IF(AK893=\"\",\"\",IF(AK893>Inputs!$D$9,0,1))","v":""},{"$f":"IF(AL893=\"\",\"\",IF(AL893>Inputs!$D$9,0,1))","v":""},"",0,null,"","","","","","","","","","","","","","",null,null,"","","","","","","","","","","","",""]
[null,null,null,null,null,null,null,null,null,null,null,null,null,null,"","","","","","","","","","","","","","","","","","","","","","","","",null,{"$f":"IF(AA894=\"\",\"\",IF(AA894>Inputs!$D$9,0,1))","v":""},{"$f":"IF(AB894=\"\",\"\",IF(AB894>Inputs!$D$9,0,1))","v":""},{"$f":"IF(AC894=\"\",\"\",IF(AC894>Inputs!$D$9,0,1))","v":""},{"$f":"IF(AD894=\"\",\"\",IF(AD894>Inputs!$D$9,0,1))","v":""},{"$f":"IF(AE894=\"\",\"\",IF(AE894>Inputs!$D$9,0,1))","v":""},{"$f":"IF(AF894=\"\",\"\",IF(AF894>Inputs!$D$9,0,1))","v":""},{"$f":"IF(AG894=\"\",\"\",IF(AG894>Inputs!$D$9,0,1))","v":""},{"$f":"IF(AH894=\"\",\"\",IF(AH894>Inputs!$D$9,0,1))","v":""},{"$f":"IF(AI894=\"\",\"\",IF(AI894>Inputs!$D$9,0,1))","v":""},{"$f":"IF(AJ894=\"\",\"\",IF(AJ894>Inputs!$D$9,0,1))","v":""},{"$f":"IF(AK894=\"\",\"\",IF(AK894>Inputs!$D$9,0,1))","v":""},{"$f":"IF(AL894=\"\",\"\",IF(AL894>Inputs!$D$9,0,1))","v":""},"",0,null,"","","","","","","","","","","","","","",null,null,"","","","","","","","","","","","",""]
[null,null,null,null,null,null,null,null,null,null,null,null,null,null,"","","","","","","","","","","","","","","","","","","","","","","","",null,{"$f":"IF(AA895=\"\",\"\",IF(AA895>Inputs!$D$9,0,1))","v":""},{"$f":"IF(AB895=\"\",\"\",IF(AB895>Inputs!$D$9,0,1))","v":""},{"$f":"IF(AC895=\"\",\"\",IF(AC895>Inputs!$D$9,0,1))","v":""},{"$f":"IF(AD895=\"\",\"\",IF(AD895>Inputs!$D$9,0,1))","v":""},{"$f":"IF(AE895=\"\",\"\",IF(AE895>Inputs!$D$9,0,1))","v":""},{"$f":"IF(AF895=\"\",\"\",IF(AF895>Inputs!$D$9,0,1))","v":""},{"$f":"IF(AG895=\"\",\"\",IF(AG895>Inputs!$D$9,0,1))","v":""},{"$f":"IF(AH895=\"\",\"\",IF(AH895>Inputs!$D$9,0,1))","v":""},{"$f":"IF(AI895=\"\",\"\",IF(AI895>Inputs!$D$9,0,1))","v":""},{"$f":"IF(AJ895=\"\",\"\",IF(AJ895>Inputs!$D$9,0,1))","v":""},{"$f":"IF(AK895=\"\",\"\",IF(AK895>Inputs!$D$9,0,1))","v":""},{"$f":"IF(AL895=\"\",\"\",IF(AL895>Inputs!$D$9,0,1))","v":""},"",0,null,"","","","","","","","","","","","","","",null,null,"","","","","","","","","","","","",""]
[null,null,null,null,null,null,null,null,null,null,null,null,null,null,"","","","","","","","","","","","","","","","","","","","","","","","",null,{"$f":"IF(AA896=\"\",\"\",IF(AA896>Inputs!$D$9,0,1))","v":""},{"$f":"IF(AB896=\"\",\"\",IF(AB896>Inputs!$D$9,0,1))","v":""},{"$f":"IF(AC896=\"\",\"\",IF(AC896>Inputs!$D$9,0,1))","v":""},{"$f":"IF(AD896=\"\",\"\",IF(AD896>Inputs!$D$9,0,1))","v":""},{"$f":"IF(AE896=\"\",\"\",IF(AE896>Inputs!$D$9,0,1))","v":""},{"$f":"IF(AF896=\"\",\"\",IF(AF896>Inputs!$D$9,0,1))","v":""},{"$f":"IF(AG896=\"\",\"\",IF(AG896>Inputs!$D$9,0,1))","v":""},{"$f":"IF(AH896=\"\",\"\",IF(AH896>Inputs!$D$9,0,1))","v":""},{"$f":"IF(AI896=\"\",\"\",IF(AI896>Inputs!$D$9,0,1))","v":""},{"$f":"IF(AJ896=\"\",\"\",IF(AJ896>Inputs!$D$9,0,1))","v":""},{"$f":"IF(AK896=\"\",\"\",IF(AK896>Inputs!$D$9,0,1))","v":""},{"$f":"IF(AL896=\"\",\"\",IF(AL896>Inputs!$D$9,0,1))","v":""},"",0,null,"","","","","","","","","","","","","","",null,null,"","","","","","","","","","","","",""]
[null,null,null,null,null,null,null,null,null,null,null,null,null,null,"","","","","","","","","","","","","","","","","","","","","","","","",null,{"$f":"IF(AA897=\"\",\"\",IF(AA897>Inputs!$D$9,0,1))","v":""},{"$f":"IF(AB897=\"\",\"\",IF(AB897>Inputs!$D$9,0,1))","v":""},{"$f":"IF(AC897=\"\",\"\",IF(AC897>Inputs!$D$9,0,1))","v":""},{"$f":"IF(AD897=\"\",\"\",IF(AD897>Inputs!$D$9,0,1))","v":""},{"$f":"IF(AE897=\"\",\"\",IF(AE897>Inputs!$D$9,0,1))","v":""},{"$f":"IF(AF897=\"\",\"\",IF(AF897>Inputs!$D$9,0,1))","v":""},{"$f":"IF(AG897=\"\",\"\",IF(AG897>Inputs!$D$9,0,1))","v":""},{"$f":"IF(AH897=\"\",\"\",IF(AH897>Inputs!$D$9,0,1))","v":""},{"$f":"IF(AI897=\"\",\"\",IF(AI897>Inputs!$D$9,0,1))","v":""},{"$f":"IF(AJ897=\"\",\"\",IF(AJ897>Inputs!$D$9,0,1))","v":""},{"$f":"IF(AK897=\"\",\"\",IF(AK897>Inputs!$D$9,0,1))","v":""},{"$f":"IF(AL897=\"\",\"\",IF(AL897>Inputs!$D$9,0,1))","v":""},"",0,null,"","","","","","","","","","","","","","",null,null,"","","","","","","","","","","","",""]
[null,null,null,null,null,null,null,null,null,null,null,null,null,null,"",{"$f":"IF(A898=\"\",\"\",IF(ISERROR(1+D898),\"\",IF(ISERROR(((1+D898/100)*(1+E898/100)*(1+F898/100)*(1+G898/100)*(1+H898/100)*(1+I898/100)*(1+J898/100)*(1+K898/100)*(1+L898/100)*(1+M898/100)*(1+N898/100))^(1/11)-1),\"\",((1+D898/100)*(1+E898/100)*(1+F898/100)*(1+G898/100)*(1+H898/100)*(1+I898/100)*(1+J898/100)*(1+K898/100)*(1+L898/100)*(1+M898/100)*(1+N898/100))^(1/11)-1)))","v":""},"","","","","","","","","","","","","","","","","","","","","","",null,{"$f":"IF(AA898=\"\",\"\",IF(AA898>Inputs!$D$9,0,1))","v":""},{"$f":"IF(AB898=\"\",\"\",IF(AB898>Inputs!$D$9,0,1))","v":""},{"$f":"IF(AC898=\"\",\"\",IF(AC898>Inputs!$D$9,0,1))","v":""},{"$f":"IF(AD898=\"\",\"\",IF(AD898>Inputs!$D$9,0,1))","v":""},{"$f":"IF(AE898=\"\",\"\",IF(AE898>Inputs!$D$9,0,1))","v":""},{"$f":"IF(AF898=\"\",\"\",IF(AF898>Inputs!$D$9,0,1))","v":""},{"$f":"IF(AG898=\"\",\"\",IF(AG898>Inputs!$D$9,0,1))","v":""},{"$f":"IF(AH898=\"\",\"\",IF(AH898>Inputs!$D$9,0,1))","v":""},{"$f":"IF(AI898=\"\",\"\",IF(AI898>Inputs!$D$9,0,1))","v":""},{"$f":"IF(AJ898=\"\",\"\",IF(AJ898>Inputs!$D$9,0,1))","v":""},{"$f":"IF(AK898=\"\",\"\",IF(AK898>Inputs!$D$9,0,1))","v":""},{"$f":"IF(AL898=\"\",\"\",IF(AL898>Inputs!$D$9,0,1))","v":""},"",0,null,"","","","","","","","","","","","","","",null,null,"","","","","","","","","","","","",""]
[null,null,null,null,null,null,null,null,null,null,null,null,null,null,{"$f":"IF(A899=\"\",\"\",IF(ISERROR(1+C899),\"\",IF(ISERROR(((1+C899/100)*(1+D899/100)*(1+E899/100)*(1+F899/100)*(1+G899/100)*(1+H899/100)*(1+I899/100)*(1+J899/100)*(1+K899/100)*(1+L899/100)*(1+M899/100)*(1+N899/100))^(1/12)-1),\"\",((1+C899/100)*(1+D899/100)*(1+E899/100)*(1+F899/100)*(1+G899/100)*(1+H899/100)*(1+I899/100)*(1+J899/100)*(1+K899/100)*(1+L899/100)*(1+M899/100)*(1+N899/100))^(1/12)-1)))","v":""},"",{"$f":"IF(A899=\"\",\"\",IF(ISERROR(1+E899),\"\",IF(ISERROR(((1+E899/100)*(1+F899/100)*(1+G899/100)*(1+H899/100)*(1+I899/100)*(1+J899/100)*(1+K899/100)*(1+L899/100)*(1+M899/100)*(1+N899/100))^(1/10)-1),\"\",((1+E899/100)*(1+F899/100)*(1+G899/100)*(1+H899/100)*(1+I899/100)*(1+J899/100)*(1+K899/100)*(1+L899/100)*(1+M899/100)*(1+N899/100))^(1/10)-1)))","v":""},{"$f":"IF(A899=\"\",\"\",IF(ISERROR(1+F899),\"\",IF(ISERROR(((1+F899/100)*(1+G899/100)*(1+H899/100)*(1+I899/100)*(1+J899/100)*(1+K899/100)*(1+L899/100)*(1+M899/100)*(1+N899/100))^(1/9)-1),\"\",((1+F899/100)*(1+G899/100)*(1+H899/100)*(1+I899/100)*(1+J899/100)*(1+K899/100)*(1+L899/100)*(1+M899/100)*(1+N899/100))^(1/9)-1)))","v":""},{"$f":"IF(A899=\"\",\"\",IF(ISERROR(1+G899),\"\",IF(ISERROR(((1+G899/100)*(1+H899/100)*(1+I899/100)*(1+J899/100)*(1+K899/100)*(1+L899/100)*(1+M899/100)*(1+N899/100))^(1/8)-1),\"\",((1+G899/100)*(1+H899/100)*(1+I899/100)*(1+J899/100)*(1+K899/100)*(1+L899/100)*(1+M899/100)*(1+N899/100))^(1/8)-1)))","v":""},{"$f":"IF(A899=\"\",\"\",IF(ISERROR(1+H899),\"\",IF(ISERROR(((1+H899/100)*(1+I899/100)*(1+J899/100)*(1+K899/100)*(1+L899/100)*(1+M899/100)*(1+N899/100))^(1/7)-1),\"\",((1+H899/100)*(1+I899/100)*(1+J899/100)*(1+K899/100)*(1+L899/100)*(1+M899/100)*(1+N899/100))^(1/7)-1)))","v":""},{"$f":"IF(A899=\"\",\"\",IF(ISERROR(1+I899),\"\",IF(ISERROR(((1+I899/100)*(1+J899/100)*(1+K899/100)*(1+L899/100)*(1+M899/100)*(1+N899/100))^(1/6)-1),\"\",((1+I899/100)*(1+J899/100)*(1+K899/100)*(1+L899/100)*(1+M899/100)*(1+N899/100))^(1/6)-1)))","v":""},{"$f":"IF(A899=\"\",\"\",IF(ISERROR(1+J899),\"\",IF(ISERROR(((1+J899/100)*(1+K899/100)*(1+L899/100)*(1+M899/100)*(1+N899/100))^(1/5)-1),\"\",((1+J899/100)*(1+K899/100)*(1+L899/100)*(1+M899/100)*(1+N899/100))^(1/5)-1)))","v":""},{"$f":"IF(A899=\"\",\"\",IF(ISERROR(1+K899),\"\",IF(ISERROR(((1+K899/100)*(1+L899/100)*(1+M899/100)*(1+N899/100))^(1/4)-1),\"\",((1+K899/100)*(1+L899/100)*(1+M899/100)*(1+N899/100))^(1/4)-1)))","v":""},{"$f":"IF(A899=\"\",\"\",IF(ISERROR(1+L899),\"\",IF(ISERROR(((1+L899/100)*(1+M899/100)*(1+N899/100))^(1/3)-1),\"\",((1+L899/100)*(1+M899/100)*(1+N899/100))^(1/3)-1)))","v":""},{"$f":"IF(A899=\"\",\"\",IF(ISERROR(1+M899),\"\",IF(ISERROR(((1+M899/100)*(1+N899/100))^(1/2)-1),\"\",((1+M899/100)*(1+N899/100))^(1/2)-1)))","v":""},{"$f":"IF(A899=\"\",\"\",IF(ISERROR(1+N899),\"\",IF(ISERROR(((1+N899/100))^(1/1)-1),\"\",((1+N899/100))^(1/1)-1)))","v":""},"","","","","","","","","","","","",null,{"$f":"IF(AA899=\"\",\"\",IF(AA899>Inputs!$D$9,0,1))","v":""},{"$f":"IF(AB899=\"\",\"\",IF(AB899>Inputs!$D$9,0,1))","v":""},{"$f":"IF(AC899=\"\",\"\",IF(AC899>Inputs!$D$9,0,1))","v":""},{"$f":"IF(AD899=\"\",\"\",IF(AD899>Inputs!$D$9,0,1))","v":""},{"$f":"IF(AE899=\"\",\"\",IF(AE899>Inputs!$D$9,0,1))","v":""},{"$f":"IF(AF899=\"\",\"\",IF(AF899>Inputs!$D$9,0,1))","v":""},{"$f":"IF(AG899=\"\",\"\",IF(AG899>Inputs!$D$9,0,1))","v":""},{"$f":"IF(AH899=\"\",\"\",IF(AH899>Inputs!$D$9,0,1))","v":""},{"$f":"IF(AI899=\"\",\"\",IF(AI899>Inputs!$D$9,0,1))","v":""},{"$f":"IF(AJ899=\"\",\"\",IF(AJ899>Inputs!$D$9,0,1))","v":""},{"$f":"IF(AK899=\"\",\"\",IF(AK899>Inputs!$D$9,0,1))","v":""},{"$f":"IF(AL899=\"\",\"\",IF(AL899>Inputs!$D$9,0,1))","v":""},"",{"$f":"COUNT(AN899:AY899)","v":0},null,{"$f":"IF(O899=\"\",\"\",IF(O899>AVERAGE($O$2:$O$1000),1,0))","v":""},{"$f":"IF(P899=\"\",\"\",IF(P899>AVERAGE($P$2:$P$1000),1,0))","v":""},{"$f":"IF(Q899=\"\",\"\",IF(Q899>AVERAGE($Q$2:$Q$1000),1,0))","v":""},{"$f":"IF(R899=\"\",\"\",IF(R899>AVERAGE($R$2:$R$1000),1,0))","v":""},{"$f":"IF(S899=\"\",\"\",IF(S899>AVERAGE($S$2:$S$1000),1,0))","v":""},{"$f":"IF(T899=\"\",\"\",IF(T899>AVERAGE($T$2:$T$1000),1,0))","v":""},{"$f":"IF(U899=\"\",\"\",IF(U899>AVERAGE($U$2:$U$1000),1,0))","v":""},{"$f":"IF(V899=\"\",\"\",IF(V899>AVERAGE($V$2:$V$1000),1,0))","v":""},{"$f":"IF(W899=\"\",\"\",IF(W899>AVERAGE($W$2:$W$1000),1,0))","v":""},{"$f":"IF(X899=\"\",\"\",IF(X899>AVERAGE($X$2:$X$1000),1,0))","v":""},{"$f":"IF(Y899=\"\",\"\",IF(Y899>AVERAGE($Y$2:$Y$1000),1,0))","v":""},{"$f":"IF(Z899=\"\",\"\",IF(Z899>AVERAGE($Z$2:$Z$1000),1,0))","v":""},{"$f":"IF(COUNT(BC899:BN899)=0,\"\",SUM(BC899:BN899)/COUNT(BC899:BN899))","v":""},{"$f":"IF(A899=\"\",\"\",COUNT(BC899:BN899))","v":""},null,null,{"$f":"IF($A899=\"\",\"\",IF(C899=\"-\",0,IF(C899>AVERAGE(C$2:C$1183),1,0)))","v":""},{"$f":"IF($A899=\"\",\"\",IF(D899=\"-\",0,IF(D899>AVERAGE(D$2:D$1183),1,0)))","v":""},{"$f":"IF($A899=\"\",\"\",IF(E899=\"-\",0,IF(E899>AVERAGE(E$2:E$1183),1,0)))","v":""},{"$f":"IF($A899=\"\",\"\",IF(F899=\"-\",0,IF(F899>AVERAGE(F$2:F$1183),1,0)))","v":""},{"$f":"IF($A899=\"\",\"\",IF(G899=\"-\",0,IF(G899>AVERAGE(G$2:G$1183),1,0)))","v":""},{"$f":"IF($A899=\"\",\"\",IF(H899=\"-\",0,IF(H899>AVERAGE(H$2:H$1183),1,0)))","v":""},{"$f":"IF($A899=\"\",\"\",IF(I899=\"-\",0,IF(I899>AVERAGE(I$2:I$1183),1,0)))","v":""},{"$f":"IF($A899=\"\",\"\",IF(J899=\"-\",0,IF(J899>AVERAGE(J$2:J$1183),1,0)))","v":""},{"$f":"IF($A899=\"\",\"\",IF(K899=\"-\",0,IF(K899>AVERAGE(K$2:K$1183),1,0)))","v":""},{"$f":"IF($A899=\"\",\"\",IF(L899=\"-\",0,IF(L899>AVERAGE(L$2:L$1183),1,0)))","v":""},{"$f":"IF($A899=\"\",\"\",IF(M899=\"-\",0,IF(M899>AVERAGE(M$2:M$1183),1,0)))","v":""},{"$f":"IF($A899=\"\",\"\",IF(N899=\"-\",0,IF(N899>AVERAGE(N$2:N$1183),1,0)))","v":""},""]
[null,null,null,null,null,null,null,null,null,null,null,null,null,null,"","","","","","","","","","","","","","","","","","","","","","","","",null,{"$f":"IF(AA900=\"\",\"\",IF(AA900>Inputs!$D$9,0,1))","v":""},{"$f":"IF(AB900=\"\",\"\",IF(AB900>Inputs!$D$9,0,1))","v":""},{"$f":"IF(AC900=\"\",\"\",IF(AC900>Inputs!$D$9,0,1))","v":""},{"$f":"IF(AD900=\"\",\"\",IF(AD900>Inputs!$D$9,0,1))","v":""},{"$f":"IF(AE900=\"\",\"\",IF(AE900>Inputs!$D$9,0,1))","v":""},{"$f":"IF(AF900=\"\",\"\",IF(AF900>Inputs!$D$9,0,1))","v":""},{"$f":"IF(AG900=\"\",\"\",IF(AG900>Inputs!$D$9,0,1))","v":""},{"$f":"IF(AH900=\"\",\"\",IF(AH900>Inputs!$D$9,0,1))","v":""},{"$f":"IF(AI900=\"\",\"\",IF(AI900>Inputs!$D$9,0,1))","v":""},{"$f":"IF(AJ900=\"\",\"\",IF(AJ900>Inputs!$D$9,0,1))","v":""},{"$f":"IF(AK900=\"\",\"\",IF(AK900>Inputs!$D$9,0,1))","v":""},{"$f":"IF(AL900=\"\",\"\",IF(AL900>Inputs!$D$9,0,1))","v":""},"",0,null,"","","","","","","","","","","","","","",null,null,"","","","","","","","","","","","",""]
[null,null,null,null,null,null,null,null,null,null,null,null,null,null,"","","","","","","","","","","","","","","","","","","","","","","","",null,{"$f":"IF(AA901=\"\",\"\",IF(AA901>Inputs!$D$9,0,1))","v":""},{"$f":"IF(AB901=\"\",\"\",IF(AB901>Inputs!$D$9,0,1))","v":""},{"$f":"IF(AC901=\"\",\"\",IF(AC901>Inputs!$D$9,0,1))","v":""},{"$f":"IF(AD901=\"\",\"\",IF(AD901>Inputs!$D$9,0,1))","v":""},{"$f":"IF(AE901=\"\",\"\",IF(AE901>Inputs!$D$9,0,1))","v":""},{"$f":"IF(AF901=\"\",\"\",IF(AF901>Inputs!$D$9,0,1))","v":""},{"$f":"IF(AG901=\"\",\"\",IF(AG901>Inputs!$D$9,0,1))","v":""},{"$f":"IF(AH901=\"\",\"\",IF(AH901>Inputs!$D$9,0,1))","v":""},{"$f":"IF(AI901=\"\",\"\",IF(AI901>Inputs!$D$9,0,1))","v":""},{"$f":"IF(AJ901=\"\",\"\",IF(AJ901>Inputs!$D$9,0,1))","v":""},{"$f":"IF(AK901=\"\",\"\",IF(AK901>Inputs!$D$9,0,1))","v":""},{"$f":"IF(AL901=\"\",\"\",IF(AL901>Inputs!$D$9,0,1))","v":""},"",0,null,"","","","","","","","","","","","","","",null,null,"","","","","","","","","","","","",""]
[null,null,null,null,null,null,null,null,null,null,null,null,null,null,"","","","","","","","","","","","","","","","","","","","","","","","",null,{"$f":"IF(AA902=\"\",\"\",IF(AA902>Inputs!$D$9,0,1))","v":""},{"$f":"IF(AB902=\"\",\"\",IF(AB902>Inputs!$D$9,0,1))","v":""},{"$f":"IF(AC902=\"\",\"\",IF(AC902>Inputs!$D$9,0,1))","v":""},{"$f":"IF(AD902=\"\",\"\",IF(AD902>Inputs!$D$9,0,1))","v":""},{"$f":"IF(AE902=\"\",\"\",IF(AE902>Inputs!$D$9,0,1))","v":""},{"$f":"IF(AF902=\"\",\"\",IF(AF902>Inputs!$D$9,0,1))","v":""},{"$f":"IF(AG902=\"\",\"\",IF(AG902>Inputs!$D$9,0,1))","v":""},{"$f":"IF(AH902=\"\",\"\",IF(AH902>Inputs!$D$9,0,1))","v":""},{"$f":"IF(AI902=\"\",\"\",IF(AI902>Inputs!$D$9,0,1))","v":""},{"$f":"IF(AJ902=\"\",\"\",IF(AJ902>Inputs!$D$9,0,1))","v":""},{"$f":"IF(AK902=\"\",\"\",IF(AK902>Inputs!$D$9,0,1))","v":""},{"$f":"IF(AL902=\"\",\"\",IF(AL902>Inputs!$D$9,0,1))","v":""},"",0,null,"","","","","","","","","","","","","","",null,null,"","","","","","","","","","","","",""]
[null,null,null,null,null,null,null,null,null,null,null,null,null,null,"","","","","","","","","","","","","","","","","","","","","","","","",null,{"$f":"IF(AA903=\"\",\"\",IF(AA903>Inputs!$D$9,0,1))","v":""},{"$f":"IF(AB903=\"\",\"\",IF(AB903>Inputs!$D$9,0,1))","v":""},{"$f":"IF(AC903=\"\",\"\",IF(AC903>Inputs!$D$9,0,1))","v":""},{"$f":"IF(AD903=\"\",\"\",IF(AD903>Inputs!$D$9,0,1))","v":""},{"$f":"IF(AE903=\"\",\"\",IF(AE903>Inputs!$D$9,0,1))","v":""},{"$f":"IF(AF903=\"\",\"\",IF(AF903>Inputs!$D$9,0,1))","v":""},{"$f":"IF(AG903=\"\",\"\",IF(AG903>Inputs!$D$9,0,1))","v":""},{"$f":"IF(AH903=\"\",\"\",IF(AH903>Inputs!$D$9,0,1))","v":""},{"$f":"IF(AI903=\"\",\"\",IF(AI903>Inputs!$D$9,0,1))","v":""},{"$f":"IF(AJ903=\"\",\"\",IF(AJ903>Inputs!$D$9,0,1))","v":""},{"$f":"IF(AK903=\"\",\"\",IF(AK903>Inputs!$D$9,0,1))","v":""},{"$f":"IF(AL903=\"\",\"\",IF(AL903>Inputs!$D$9,0,1))","v":""},"",0,null,"","","","","","","","","","","","","","",null,null,"","","","","","","","","","","","",""]
[null,null,null,null,null,null,null,null,null,null,null,null,null,null,"","","","","","","","","","","","","","","","","","","","","","","","",null,{"$f":"IF(AA904=\"\",\"\",IF(AA904>Inputs!$D$9,0,1))","v":""},{"$f":"IF(AB904=\"\",\"\",IF(AB904>Inputs!$D$9,0,1))","v":""},{"$f":"IF(AC904=\"\",\"\",IF(AC904>Inputs!$D$9,0,1))","v":""},{"$f":"IF(AD904=\"\",\"\",IF(AD904>Inputs!$D$9,0,1))","v":""},{"$f":"IF(AE904=\"\",\"\",IF(AE904>Inputs!$D$9,0,1))","v":""},{"$f":"IF(AF904=\"\",\"\",IF(AF904>Inputs!$D$9,0,1))","v":""},{"$f":"IF(AG904=\"\",\"\",IF(AG904>Inputs!$D$9,0,1))","v":""},{"$f":"IF(AH904=\"\",\"\",IF(AH904>Inputs!$D$9,0,1))","v":""},{"$f":"IF(AI904=\"\",\"\",IF(AI904>Inputs!$D$9,0,1))","v":""},{"$f":"IF(AJ904=\"\",\"\",IF(AJ904>Inputs!$D$9,0,1))","v":""},{"$f":"IF(AK904=\"\",\"\",IF(AK904>Inputs!$D$9,0,1))","v":""},{"$f":"IF(AL904=\"\",\"\",IF(AL904>Inputs!$D$9,0,1))","v":""},"",0,null,"","","","","","","","","","","","","","",null,null,"","","","","","","","","","","","",""]
[null,null,null,null,null,null,null,null,null,null,null,null,null,null,"","","","","","","","","","","","","","","","","","","","","","","","",null,{"$f":"IF(AA905=\"\",\"\",IF(AA905>Inputs!$D$9,0,1))","v":""},{"$f":"IF(AB905=\"\",\"\",IF(AB905>Inputs!$D$9,0,1))","v":""},{"$f":"IF(AC905=\"\",\"\",IF(AC905>Inputs!$D$9,0,1))","v":""},{"$f":"IF(AD905=\"\",\"\",IF(AD905>Inputs!$D$9,0,1))","v":""},{"$f":"IF(AE905=\"\",\"\",IF(AE905>Inputs!$D$9,0,1))","v":""},{"$f":"IF(AF905=\"\",\"\",IF(AF905>Inputs!$D$9,0,1))","v":""},{"$f":"IF(AG905=\"\",\"\",IF(AG905>Inputs!$D$9,0,1))","v":""},{"$f":"IF(AH905=\"\",\"\",IF(AH905>Inputs!$D$9,0,1))","v":""},{"$f":"IF(AI905=\"\",\"\",IF(AI905>Inputs!$D$9,0,1))","v":""},{"$f":"IF(AJ905=\"\",\"\",IF(AJ905>Inputs!$D$9,0,1))","v":""},{"$f":"IF(AK905=\"\",\"\",IF(AK905>Inputs!$D$9,0,1))","v":""},{"$f":"IF(AL905=\"\",\"\",IF(AL905>Inputs!$D$9,0,1))","v":""},"",0,null,"","","","","","","","","","","","","","",null,null,"","","","","","","","","","","","",""]
[null,null,null,null,null,null,null,null,null,null,null,null,null,null,"","","","","","","","","","","","","","","","","","","","","","","","",null,{"$f":"IF(AA906=\"\",\"\",IF(AA906>Inputs!$D$9,0,1))","v":""},{"$f":"IF(AB906=\"\",\"\",IF(AB906>Inputs!$D$9,0,1))","v":""},{"$f":"IF(AC906=\"\",\"\",IF(AC906>Inputs!$D$9,0,1))","v":""},{"$f":"IF(AD906=\"\",\"\",IF(AD906>Inputs!$D$9,0,1))","v":""},{"$f":"IF(AE906=\"\",\"\",IF(AE906>Inputs!$D$9,0,1))","v":""},{"$f":"IF(AF906=\"\",\"\",IF(AF906>Inputs!$D$9,0,1))","v":""},{"$f":"IF(AG906=\"\",\"\",IF(AG906>Inputs!$D$9,0,1))","v":""},{"$f":"IF(AH906=\"\",\"\",IF(AH906>Inputs!$D$9,0,1))","v":""},{"$f":"IF(AI906=\"\",\"\",IF(AI906>Inputs!$D$9,0,1))","v":""},{"$f":"IF(AJ906=\"\",\"\",IF(AJ906>Inputs!$D$9,0,1))","v":""},{"$f":"IF(AK906=\"\",\"\",IF(AK906>Inputs!$D$9,0,1))","v":""},{"$f":"IF(AL906=\"\",\"\",IF(AL906>Inputs!$D$9,0,1))","v":""},"",0,null,"","","","","","","","","","","","","","",null,null,"","","","","","","","","","","","",""]
[null,null,null,null,null,null,null,null,null,null,null,null,null,null,"","","","","","","","","","","","","","","","","","","","","","","","",null,{"$f":"IF(AA907=\"\",\"\",IF(AA907>Inputs!$D$9,0,1))","v":""},{"$f":"IF(AB907=\"\",\"\",IF(AB907>Inputs!$D$9,0,1))","v":""},{"$f":"IF(AC907=\"\",\"\",IF(AC907>Inputs!$D$9,0,1))","v":""},{"$f":"IF(AD907=\"\",\"\",IF(AD907>Inputs!$D$9,0,1))","v":""},{"$f":"IF(AE907=\"\",\"\",IF(AE907>Inputs!$D$9,0,1))","v":""},{"$f":"IF(AF907=\"\",\"\",IF(AF907>Inputs!$D$9,0,1))","v":""},{"$f":"IF(AG907=\"\",\"\",IF(AG907>Inputs!$D$9,0,1))","v":""},{"$f":"IF(AH907=\"\",\"\",IF(AH907>Inputs!$D$9,0,1))","v":""},{"$f":"IF(AI907=\"\",\"\",IF(AI907>Inputs!$D$9,0,1))","v":""},{"$f":"IF(AJ907=\"\",\"\",IF(AJ907>Inputs!$D$9,0,1))","v":""},{"$f":"IF(AK907=\"\",\"\",IF(AK907>Inputs!$D$9,0,1))","v":""},{"$f":"IF(AL907=\"\",\"\",IF(AL907>Inputs!$D$9,0,1))","v":""},"",0,null,"","","","","","","","","","","","","","",null,null,"","","","","","","","","","","","",""]
[null,null,null,null,null,null,null,null,null,null,null,null,null,null,"","","","","","","","","","","","","","","","","","","","","","","","",null,{"$f":"IF(AA908=\"\",\"\",IF(AA908>Inputs!$D$9,0,1))","v":""},{"$f":"IF(AB908=\"\",\"\",IF(AB908>Inputs!$D$9,0,1))","v":""},{"$f":"IF(AC908=\"\",\"\",IF(AC908>Inputs!$D$9,0,1))","v":""},{"$f":"IF(AD908=\"\",\"\",IF(AD908>Inputs!$D$9,0,1))","v":""},{"$f":"IF(AE908=\"\",\"\",IF(AE908>Inputs!$D$9,0,1))","v":""},{"$f":"IF(AF908=\"\",\"\",IF(AF908>Inputs!$D$9,0,1))","v":""},{"$f":"IF(AG908=\"\",\"\",IF(AG908>Inputs!$D$9,0,1))","v":""},{"$f":"IF(AH908=\"\",\"\",IF(AH908>Inputs!$D$9,0,1))","v":""},{"$f":"IF(AI908=\"\",\"\",IF(AI908>Inputs!$D$9,0,1))","v":""},{"$f":"IF(AJ908=\"\",\"\",IF(AJ908>Inputs!$D$9,0,1))","v":""},{"$f":"IF(AK908=\"\",\"\",IF(AK908>Inputs!$D$9,0,1))","v":""},{"$f":"IF(AL908=\"\",\"\",IF(AL908>Inputs!$D$9,0,1))","v":""},"",0,null,"","","","","","","","","","","","","","",null,null,"","","","","","","","","","","","",""]
[null,null,null,null,null,null,null,null,null,null,null,null,null,null,"","","","","","","","","","","","","","","","","","","","","","","","",null,{"$f":"IF(AA909=\"\",\"\",IF(AA909>Inputs!$D$9,0,1))","v":""},{"$f":"IF(AB909=\"\",\"\",IF(AB909>Inputs!$D$9,0,1))","v":""},{"$f":"IF(AC909=\"\",\"\",IF(AC909>Inputs!$D$9,0,1))","v":""},{"$f":"IF(AD909=\"\",\"\",IF(AD909>Inputs!$D$9,0,1))","v":""},{"$f":"IF(AE909=\"\",\"\",IF(AE909>Inputs!$D$9,0,1))","v":""},{"$f":"IF(AF909=\"\",\"\",IF(AF909>Inputs!$D$9,0,1))","v":""},{"$f":"IF(AG909=\"\",\"\",IF(AG909>Inputs!$D$9,0,1))","v":""},{"$f":"IF(AH909=\"\",\"\",IF(AH909>Inputs!$D$9,0,1))","v":""},{"$f":"IF(AI909=\"\",\"\",IF(AI909>Inputs!$D$9,0,1))","v":""},{"$f":"IF(AJ909=\"\",\"\",IF(AJ909>Inputs!$D$9,0,1))","v":""},{"$f":"IF(AK909=\"\",\"\",IF(AK909>Inputs!$D$9,0,1))","v":""},{"$f":"IF(AL909=\"\",\"\",IF(AL909>Inputs!$D$9,0,1))","v":""},"",0,null,"","","","","","","","","","","","","","",null,null,"","","","","","","","","","","","",""]
[null,null,null,null,null,null,null,null,null,null,null,null,null,null,"","","","","","","","","","","","","","","","","","","","","","","","",null,{"$f":"IF(AA910=\"\",\"\",IF(AA910>Inputs!$D$9,0,1))","v":""},{"$f":"IF(AB910=\"\",\"\",IF(AB910>Inputs!$D$9,0,1))","v":""},{"$f":"IF(AC910=\"\",\"\",IF(AC910>Inputs!$D$9,0,1))","v":""},{"$f":"IF(AD910=\"\",\"\",IF(AD910>Inputs!$D$9,0,1))","v":""},{"$f":"IF(AE910=\"\",\"\",IF(AE910>Inputs!$D$9,0,1))","v":""},{"$f":"IF(AF910=\"\",\"\",IF(AF910>Inputs!$D$9,0,1))","v":""},{"$f":"IF(AG910=\"\",\"\",IF(AG910>Inputs!$D$9,0,1))","v":""},{"$f":"IF(AH910=\"\",\"\",IF(AH910>Inputs!$D$9,0,1))","v":""},{"$f":"IF(AI910=\"\",\"\",IF(AI910>Inputs!$D$9,0,1))","v":""},{"$f":"IF(AJ910=\"\",\"\",IF(AJ910>Inputs!$D$9,0,1))","v":""},{"$f":"IF(AK910=\"\",\"\",IF(AK910>Inputs!$D$9,0,1))","v":""},{"$f":"IF(AL910=\"\",\"\",IF(AL910>Inputs!$D$9,0,1))","v":""},"",0,null,"","","","","","","","","","","","","","",null,null,"","","","","","","","","","","","",""]
[null,null,null,null,null,null,null,null,null,null,null,null,null,null,"","","","","","","","","","","","","","","","","","","","","","","","",null,{"$f":"IF(AA911=\"\",\"\",IF(AA911>Inputs!$D$9,0,1))","v":""},{"$f":"IF(AB911=\"\",\"\",IF(AB911>Inputs!$D$9,0,1))","v":""},{"$f":"IF(AC911=\"\",\"\",IF(AC911>Inputs!$D$9,0,1))","v":""},{"$f":"IF(AD911=\"\",\"\",IF(AD911>Inputs!$D$9,0,1))","v":""},{"$f":"IF(AE911=\"\",\"\",IF(AE911>Inputs!$D$9,0,1))","v":""},{"$f":"IF(AF911=\"\",\"\",IF(AF911>Inputs!$D$9,0,1))","v":""},{"$f":"IF(AG911=\"\",\"\",IF(AG911>Inputs!$D$9,0,1))","v":""},{"$f":"IF(AH911=\"\",\"\",IF(AH911>Inputs!$D$9,0,1))","v":""},{"$f":"IF(AI911=\"\",\"\",IF(AI911>Inputs!$D$9,0,1))","v":""},{"$f":"IF(AJ911=\"\",\"\",IF(AJ911>Inputs!$D$9,0,1))","v":""},{"$f":"IF(AK911=\"\",\"\",IF(AK911>Inputs!$D$9,0,1))","v":""},{"$f":"IF(AL911=\"\",\"\",IF(AL911>Inputs!$D$9,0,1))","v":""},"",0,null,"","","","","","","","","","","","","","",null,null,"","","","","","","","","","","","",""]
[null,null,null,null,null,null,null,null,null,null,null,null,null,null,"","","","","","","","","","","","","","","","","","","","","","","","",null,{"$f":"IF(AA912=\"\",\"\",IF(AA912>Inputs!$D$9,0,1))","v":""},{"$f":"IF(AB912=\"\",\"\",IF(AB912>Inputs!$D$9,0,1))","v":""},{"$f":"IF(AC912=\"\",\"\",IF(AC912>Inputs!$D$9,0,1))","v":""},{"$f":"IF(AD912=\"\",\"\",IF(AD912>Inputs!$D$9,0,1))","v":""},{"$f":"IF(AE912=\"\",\"\",IF(AE912>Inputs!$D$9,0,1))","v":""},{"$f":"IF(AF912=\"\",\"\",IF(AF912>Inputs!$D$9,0,1))","v":""},{"$f":"IF(AG912=\"\",\"\",IF(AG912>Inputs!$D$9,0,1))","v":""},{"$f":"IF(AH912=\"\",\"\",IF(AH912>Inputs!$D$9,0,1))","v":""},{"$f":"IF(AI912=\"\",\"\",IF(AI912>Inputs!$D$9,0,1))","v":""},{"$f":"IF(AJ912=\"\",\"\",IF(AJ912>Inputs!$D$9,0,1))","v":""},{"$f":"IF(AK912=\"\",\"\",IF(AK912>Inputs!$D$9,0,1))","v":""},{"$f":"IF(AL912=\"\",\"\",IF(AL912>Inputs!$D$9,0,1))","v":""},"",0,null,"","","","","","","","","","","","","","",null,null,"","","","","","","","","","","","",""]
[null,null,null,null,null,null,null,null,null,null,null,null,null,null,"","","","","","","","","","","","","","","","","","","","","","","","",null,{"$f":"IF(AA913=\"\",\"\",IF(AA913>Inputs!$D$9,0,1))","v":""},{"$f":"IF(AB913=\"\",\"\",IF(AB913>Inputs!$D$9,0,1))","v":""},{"$f":"IF(AC913=\"\",\"\",IF(AC913>Inputs!$D$9,0,1))","v":""},{"$f":"IF(AD913=\"\",\"\",IF(AD913>Inputs!$D$9,0,1))","v":""},{"$f":"IF(AE913=\"\",\"\",IF(AE913>Inputs!$D$9,0,1))","v":""},{"$f":"IF(AF913=\"\",\"\",IF(AF913>Inputs!$D$9,0,1))","v":""},{"$f":"IF(AG913=\"\",\"\",IF(AG913>Inputs!$D$9,0,1))","v":""},{"$f":"IF(AH913=\"\",\"\",IF(AH913>Inputs!$D$9,0,1))","v":""},{"$f":"IF(AI913=\"\",\"\",IF(AI913>Inputs!$D$9,0,1))","v":""},{"$f":"IF(AJ913=\"\",\"\",IF(AJ913>Inputs!$D$9,0,1))","v":""},{"$f":"IF(AK913=\"\",\"\",IF(AK913>Inputs!$D$9,0,1))","v":""},{"$f":"IF(AL913=\"\",\"\",IF(AL913>Inputs!$D$9,0,1))","v":""},"",0,null,"","","","","","","","","","","","","","",null,null,"","","","","","","","","","","","",""]
[null,null,null,null,null,null,null,null,null,null,null,null,null,null,"","","","","","","","","","","","","","","","","","","","","","","","",null,{"$f":"IF(AA914=\"\",\"\",IF(AA914>Inputs!$D$9,0,1))","v":""},{"$f":"IF(AB914=\"\",\"\",IF(AB914>Inputs!$D$9,0,1))","v":""},{"$f":"IF(AC914=\"\",\"\",IF(AC914>Inputs!$D$9,0,1))","v":""},{"$f":"IF(AD914=\"\",\"\",IF(AD914>Inputs!$D$9,0,1))","v":""},{"$f":"IF(AE914=\"\",\"\",IF(AE914>Inputs!$D$9,0,1))","v":""},{"$f":"IF(AF914=\"\",\"\",IF(AF914>Inputs!$D$9,0,1))","v":""},{"$f":"IF(AG914=\"\",\"\",IF(AG914>Inputs!$D$9,0,1))","v":""},{"$f":"IF(AH914=\"\",\"\",IF(AH914>Inputs!$D$9,0,1))","v":""},{"$f":"IF(AI914=\"\",\"\",IF(AI914>Inputs!$D$9,0,1))","v":""},{"$f":"IF(AJ914=\"\",\"\",IF(AJ914>Inputs!$D$9,0,1))","v":""},{"$f":"IF(AK914=\"\",\"\",IF(AK914>Inputs!$D$9,0,1))","v":""},{"$f":"IF(AL914=\"\",\"\",IF(AL914>Inputs!$D$9,0,1))","v":""},"",0,null,"","","","","","","","","","","","","","",null,null,"","","","","","","","","","","","",""]
[null,null,null,null,null,null,null,null,null,null,null,null,null,null,"","","","","","","","","","","","","","","","","","","","","","","","",null,{"$f":"IF(AA915=\"\",\"\",IF(AA915>Inputs!$D$9,0,1))","v":""},{"$f":"IF(AB915=\"\",\"\",IF(AB915>Inputs!$D$9,0,1))","v":""},{"$f":"IF(AC915=\"\",\"\",IF(AC915>Inputs!$D$9,0,1))","v":""},{"$f":"IF(AD915=\"\",\"\",IF(AD915>Inputs!$D$9,0,1))","v":""},{"$f":"IF(AE915=\"\",\"\",IF(AE915>Inputs!$D$9,0,1))","v":""},{"$f":"IF(AF915=\"\",\"\",IF(AF915>Inputs!$D$9,0,1))","v":""},{"$f":"IF(AG915=\"\",\"\",IF(AG915>Inputs!$D$9,0,1))","v":""},{"$f":"IF(AH915=\"\",\"\",IF(AH915>Inputs!$D$9,0,1))","v":""},{"$f":"IF(AI915=\"\",\"\",IF(AI915>Inputs!$D$9,0,1))","v":""},{"$f":"IF(AJ915=\"\",\"\",IF(AJ915>Inputs!$D$9,0,1))","v":""},{"$f":"IF(AK915=\"\",\"\",IF(AK915>Inputs!$D$9,0,1))","v":""},{"$f":"IF(AL915=\"\",\"\",IF(AL915>Inputs!$D$9,0,1))","v":""},"",0,null,"","","","","","","","","","","","","","",null,null,"","","","","","","","","","","","",{"$f":"IF(A915=\"\",\"\",SUM(BS915:CD915))","v":""}]
[null,null,null,null,null,null,null,null,null,null,null,null,null,null,"","","","","","","","","","","","","","","","","","","","","","","","",null,{"$f":"IF(AA916=\"\",\"\",IF(AA916>Inputs!$D$9,0,1))","v":""},{"$f":"IF(AB916=\"\",\"\",IF(AB916>Inputs!$D$9,0,1))","v":""},{"$f":"IF(AC916=\"\",\"\",IF(AC916>Inputs!$D$9,0,1))","v":""},{"$f":"IF(AD916=\"\",\"\",IF(AD916>Inputs!$D$9,0,1))","v":""},{"$f":"IF(AE916=\"\",\"\",IF(AE916>Inputs!$D$9,0,1))","v":""},{"$f":"IF(AF916=\"\",\"\",IF(AF916>Inputs!$D$9,0,1))","v":""},{"$f":"IF(AG916=\"\",\"\",IF(AG916>Inputs!$D$9,0,1))","v":""},{"$f":"IF(AH916=\"\",\"\",IF(AH916>Inputs!$D$9,0,1))","v":""},{"$f":"IF(AI916=\"\",\"\",IF(AI916>Inputs!$D$9,0,1))","v":""},{"$f":"IF(AJ916=\"\",\"\",IF(AJ916>Inputs!$D$9,0,1))","v":""},{"$f":"IF(AK916=\"\",\"\",IF(AK916>Inputs!$D$9,0,1))","v":""},{"$f":"IF(AL916=\"\",\"\",IF(AL916>Inputs!$D$9,0,1))","v":""},"",0,null,"","","","","","","","","","","","","","",null,null,"","","","","","","","","","","","",""]
[null,null,null,null,null,null,null,null,null,null,null,null,null,null,"","","","","","","","","","","","","","","","","","","","","","","","",null,{"$f":"IF(AA917=\"\",\"\",IF(AA917>Inputs!$D$9,0,1))","v":""},{"$f":"IF(AB917=\"\",\"\",IF(AB917>Inputs!$D$9,0,1))","v":""},{"$f":"IF(AC917=\"\",\"\",IF(AC917>Inputs!$D$9,0,1))","v":""},{"$f":"IF(AD917=\"\",\"\",IF(AD917>Inputs!$D$9,0,1))","v":""},{"$f":"IF(AE917=\"\",\"\",IF(AE917>Inputs!$D$9,0,1))","v":""},{"$f":"IF(AF917=\"\",\"\",IF(AF917>Inputs!$D$9,0,1))","v":""},{"$f":"IF(AG917=\"\",\"\",IF(AG917>Inputs!$D$9,0,1))","v":""},{"$f":"IF(AH917=\"\",\"\",IF(AH917>Inputs!$D$9,0,1))","v":""},{"$f":"IF(AI917=\"\",\"\",IF(AI917>Inputs!$D$9,0,1))","v":""},{"$f":"IF(AJ917=\"\",\"\",IF(AJ917>Inputs!$D$9,0,1))","v":""},{"$f":"IF(AK917=\"\",\"\",IF(AK917>Inputs!$D$9,0,1))","v":""},{"$f":"IF(AL917=\"\",\"\",IF(AL917>Inputs!$D$9,0,1))","v":""},"",0,null,"","","","","","","","","","","","","","",null,null,"","","","","","","","","","","","",""]
[null,null,null,null,null,null,null,null,null,null,null,null,null,null,"","","","","","","","","","","","","","","","","","","","","","","","",null,{"$f":"IF(AA918=\"\",\"\",IF(AA918>Inputs!$D$9,0,1))","v":""},{"$f":"IF(AB918=\"\",\"\",IF(AB918>Inputs!$D$9,0,1))","v":""},{"$f":"IF(AC918=\"\",\"\",IF(AC918>Inputs!$D$9,0,1))","v":""},{"$f":"IF(AD918=\"\",\"\",IF(AD918>Inputs!$D$9,0,1))","v":""},{"$f":"IF(AE918=\"\",\"\",IF(AE918>Inputs!$D$9,0,1))","v":""},{"$f":"IF(AF918=\"\",\"\",IF(AF918>Inputs!$D$9,0,1))","v":""},{"$f":"IF(AG918=\"\",\"\",IF(AG918>Inputs!$D$9,0,1))","v":""},{"$f":"IF(AH918=\"\",\"\",IF(AH918>Inputs!$D$9,0,1))","v":""},{"$f":"IF(AI918=\"\",\"\",IF(AI918>Inputs!$D$9,0,1))","v":""},{"$f":"IF(AJ918=\"\",\"\",IF(AJ918>Inputs!$D$9,0,1))","v":""},{"$f":"IF(AK918=\"\",\"\",IF(AK918>Inputs!$D$9,0,1))","v":""},{"$f":"IF(AL918=\"\",\"\",IF(AL918>Inputs!$D$9,0,1))","v":""},"",0,null,"","","","","","","","","","","","","","",null,null,"","","","","","","","","","","","",""]
[null,null,null,null,null,null,null,null,null,null,null,null,null,null,"","","","","","","","","","","","","","","","","","","","","","","","",null,{"$f":"IF(AA919=\"\",\"\",IF(AA919>Inputs!$D$9,0,1))","v":""},{"$f":"IF(AB919=\"\",\"\",IF(AB919>Inputs!$D$9,0,1))","v":""},{"$f":"IF(AC919=\"\",\"\",IF(AC919>Inputs!$D$9,0,1))","v":""},{"$f":"IF(AD919=\"\",\"\",IF(AD919>Inputs!$D$9,0,1))","v":""},{"$f":"IF(AE919=\"\",\"\",IF(AE919>Inputs!$D$9,0,1))","v":""},{"$f":"IF(AF919=\"\",\"\",IF(AF919>Inputs!$D$9,0,1))","v":""},{"$f":"IF(AG919=\"\",\"\",IF(AG919>Inputs!$D$9,0,1))","v":""},{"$f":"IF(AH919=\"\",\"\",IF(AH919>Inputs!$D$9,0,1))","v":""},{"$f":"IF(AI919=\"\",\"\",IF(AI919>Inputs!$D$9,0,1))","v":""},{"$f":"IF(AJ919=\"\",\"\",IF(AJ919>Inputs!$D$9,0,1))","v":""},{"$f":"IF(AK919=\"\",\"\",IF(AK919>Inputs!$D$9,0,1))","v":""},{"$f":"IF(AL919=\"\",\"\",IF(AL919>Inputs!$D$9,0,1))","v":""},"",0,null,"","","","","","","","","","","","","","",null,null,"","","","","","","","","","","","",""]
[null,null,null,null,null,null,null,null,null,null,null,null,null,null,"","","","","","","","","","","","","","","","","","","","","","","","",null,{"$f":"IF(AA920=\"\",\"\",IF(AA920>Inputs!$D$9,0,1))","v":""},{"$f":"IF(AB920=\"\",\"\",IF(AB920>Inputs!$D$9,0,1))","v":""},{"$f":"IF(AC920=\"\",\"\",IF(AC920>Inputs!$D$9,0,1))","v":""},{"$f":"IF(AD920=\"\",\"\",IF(AD920>Inputs!$D$9,0,1))","v":""},{"$f":"IF(AE920=\"\",\"\",IF(AE920>Inputs!$D$9,0,1))","v":""},{"$f":"IF(AF920=\"\",\"\",IF(AF920>Inputs!$D$9,0,1))","v":""},{"$f":"IF(AG920=\"\",\"\",IF(AG920>Inputs!$D$9,0,1))","v":""},{"$f":"IF(AH920=\"\",\"\",IF(AH920>Inputs!$D$9,0,1))","v":""},{"$f":"IF(AI920=\"\",\"\",IF(AI920>Inputs!$D$9,0,1))","v":""},{"$f":"IF(AJ920=\"\",\"\",IF(AJ920>Inputs!$D$9,0,1))","v":""},{"$f":"IF(AK920=\"\",\"\",IF(AK920>Inputs!$D$9,0,1))","v":""},{"$f":"IF(AL920=\"\",\"\",IF(AL920>Inputs!$D$9,0,1))","v":""},"",0,null,"","","","","","","","","","","","","","",null,null,"","","","","","","","","","","","",""]
[null,null,null,null,null,null,null,null,null,null,null,null,null,null,"","","","","","","","","","","","","","","","","","","","","","","","",null,{"$f":"IF(AA921=\"\",\"\",IF(AA921>Inputs!$D$9,0,1))","v":""},{"$f":"IF(AB921=\"\",\"\",IF(AB921>Inputs!$D$9,0,1))","v":""},{"$f":"IF(AC921=\"\",\"\",IF(AC921>Inputs!$D$9,0,1))","v":""},{"$f":"IF(AD921=\"\",\"\",IF(AD921>Inputs!$D$9,0,1))","v":""},{"$f":"IF(AE921=\"\",\"\",IF(AE921>Inputs!$D$9,0,1))","v":""},{"$f":"IF(AF921=\"\",\"\",IF(AF921>Inputs!$D$9,0,1))","v":""},{"$f":"IF(AG921=\"\",\"\",IF(AG921>Inputs!$D$9,0,1))","v":""},{"$f":"IF(AH921=\"\",\"\",IF(AH921>Inputs!$D$9,0,1))","v":""},{"$f":"IF(AI921=\"\",\"\",IF(AI921>Inputs!$D$9,0,1))","v":""},{"$f":"IF(AJ921=\"\",\"\",IF(AJ921>Inputs!$D$9,0,1))","v":""},{"$f":"IF(AK921=\"\",\"\",IF(AK921>Inputs!$D$9,0,1))","v":""},{"$f":"IF(AL921=\"\",\"\",IF(AL921>Inputs!$D$9,0,1))","v":""},"",0,null,"","","","","","","","","","","","","","",null,null,"","","","","","","","","","","","",""]
[null,null,null,null,null,null,null,null,null,null,null,null,null,null,"","","","","","","","","","","","","","","","","","","","","","","","",null,{"$f":"IF(AA922=\"\",\"\",IF(AA922>Inputs!$D$9,0,1))","v":""},{"$f":"IF(AB922=\"\",\"\",IF(AB922>Inputs!$D$9,0,1))","v":""},{"$f":"IF(AC922=\"\",\"\",IF(AC922>Inputs!$D$9,0,1))","v":""},{"$f":"IF(AD922=\"\",\"\",IF(AD922>Inputs!$D$9,0,1))","v":""},{"$f":"IF(AE922=\"\",\"\",IF(AE922>Inputs!$D$9,0,1))","v":""},{"$f":"IF(AF922=\"\",\"\",IF(AF922>Inputs!$D$9,0,1))","v":""},{"$f":"IF(AG922=\"\",\"\",IF(AG922>Inputs!$D$9,0,1))","v":""},{"$f":"IF(AH922=\"\",\"\",IF(AH922>Inputs!$D$9,0,1))","v":""},{"$f":"IF(AI922=\"\",\"\",IF(AI922>Inputs!$D$9,0,1))","v":""},{"$f":"IF(AJ922=\"\",\"\",IF(AJ922>Inputs!$D$9,0,1))","v":""},{"$f":"IF(AK922=\"\",\"\",IF(AK922>Inputs!$D$9,0,1))","v":""},{"$f":"IF(AL922=\"\",\"\",IF(AL922>Inputs!$D$9,0,1))","v":""},"",0,null,"","","","","","","","","","","","","","",null,null,"","","","","","","","","","","","",""]
[null,null,null,null,null,null,null,null,null,null,null,null,null,null,"","","","","","","","","","","","","","","","","","","","","","","","",null,{"$f":"IF(AA923=\"\",\"\",IF(AA923>Inputs!$D$9,0,1))","v":""},{"$f":"IF(AB923=\"\",\"\",IF(AB923>Inputs!$D$9,0,1))","v":""},{"$f":"IF(AC923=\"\",\"\",IF(AC923>Inputs!$D$9,0,1))","v":""},{"$f":"IF(AD923=\"\",\"\",IF(AD923>Inputs!$D$9,0,1))","v":""},{"$f":"IF(AE923=\"\",\"\",IF(AE923>Inputs!$D$9,0,1))","v":""},{"$f":"IF(AF923=\"\",\"\",IF(AF923>Inputs!$D$9,0,1))","v":""},{"$f":"IF(AG923=\"\",\"\",IF(AG923>Inputs!$D$9,0,1))","v":""},{"$f":"IF(AH923=\"\",\"\",IF(AH923>Inputs!$D$9,0,1))","v":""},{"$f":"IF(AI923=\"\",\"\",IF(AI923>Inputs!$D$9,0,1))","v":""},{"$f":"IF(AJ923=\"\",\"\",IF(AJ923>Inputs!$D$9,0,1))","v":""},{"$f":"IF(AK923=\"\",\"\",IF(AK923>Inputs!$D$9,0,1))","v":""},{"$f":"IF(AL923=\"\",\"\",IF(AL923>Inputs!$D$9,0,1))","v":""},"",0,null,"","","","","","","","","","","","","","",null,null,"","","","","","","","","","","","",""]
[null,null,null,null,null,null,null,null,null,null,null,null,null,null,"","","","","","","","","","","","","","","","","","","","","","","","",null,{"$f":"IF(AA924=\"\",\"\",IF(AA924>Inputs!$D$9,0,1))","v":""},{"$f":"IF(AB924=\"\",\"\",IF(AB924>Inputs!$D$9,0,1))","v":""},{"$f":"IF(AC924=\"\",\"\",IF(AC924>Inputs!$D$9,0,1))","v":""},{"$f":"IF(AD924=\"\",\"\",IF(AD924>Inputs!$D$9,0,1))","v":""},{"$f":"IF(AE924=\"\",\"\",IF(AE924>Inputs!$D$9,0,1))","v":""},{"$f":"IF(AF924=\"\",\"\",IF(AF924>Inputs!$D$9,0,1))","v":""},{"$f":"IF(AG924=\"\",\"\",IF(AG924>Inputs!$D$9,0,1))","v":""},{"$f":"IF(AH924=\"\",\"\",IF(AH924>Inputs!$D$9,0,1))","v":""},{"$f":"IF(AI924=\"\",\"\",IF(AI924>Inputs!$D$9,0,1))","v":""},{"$f":"IF(AJ924=\"\",\"\",IF(AJ924>Inputs!$D$9,0,1))","v":""},{"$f":"IF(AK924=\"\",\"\",IF(AK924>Inputs!$D$9,0,1))","v":""},{"$f":"IF(AL924=\"\",\"\",IF(AL924>Inputs!$D$9,0,1))","v":""},"",0,null,"","","","","","","","","","","","","","",null,null,"","","","","","","","","","","","",""]
[null,null,null,null,null,null,null,null,null,null,null,null,null,null,"","","","","","","","","","","","","","","","","","","","","","","","",null,{"$f":"IF(AA925=\"\",\"\",IF(AA925>Inputs!$D$9,0,1))","v":""},{"$f":"IF(AB925=\"\",\"\",IF(AB925>Inputs!$D$9,0,1))","v":""},{"$f":"IF(AC925=\"\",\"\",IF(AC925>Inputs!$D$9,0,1))","v":""},{"$f":"IF(AD925=\"\",\"\",IF(AD925>Inputs!$D$9,0,1))","v":""},{"$f":"IF(AE925=\"\",\"\",IF(AE925>Inputs!$D$9,0,1))","v":""},{"$f":"IF(AF925=\"\",\"\",IF(AF925>Inputs!$D$9,0,1))","v":""},{"$f":"IF(AG925=\"\",\"\",IF(AG925>Inputs!$D$9,0,1))","v":""},{"$f":"IF(AH925=\"\",\"\",IF(AH925>Inputs!$D$9,0,1))","v":""},{"$f":"IF(AI925=\"\",\"\",IF(AI925>Inputs!$D$9,0,1))","v":""},{"$f":"IF(AJ925=\"\",\"\",IF(AJ925>Inputs!$D$9,0,1))","v":""},{"$f":"IF(AK925=\"\",\"\",IF(AK925>Inputs!$D$9,0,1))","v":""},{"$f":"IF(AL925=\"\",\"\",IF(AL925>Inputs!$D$9,0,1))","v":""},"",0,null,"","","","","","","","","","","","","","",null,null,"","","","","","","","","","","","",""]
[null,null,null,null,null,null,null,null,null,null,null,null,null,null,"","","","","","","","","","","","","","","","","","","","","","","","",null,{"$f":"IF(AA926=\"\",\"\",IF(AA926>Inputs!$D$9,0,1))","v":""},{"$f":"IF(AB926=\"\",\"\",IF(AB926>Inputs!$D$9,0,1))","v":""},{"$f":"IF(AC926=\"\",\"\",IF(AC926>Inputs!$D$9,0,1))","v":""},{"$f":"IF(AD926=\"\",\"\",IF(AD926>Inputs!$D$9,0,1))","v":""},{"$f":"IF(AE926=\"\",\"\",IF(AE926>Inputs!$D$9,0,1))","v":""},{"$f":"IF(AF926=\"\",\"\",IF(AF926>Inputs!$D$9,0,1))","v":""},{"$f":"IF(AG926=\"\",\"\",IF(AG926>Inputs!$D$9,0,1))","v":""},{"$f":"IF(AH926=\"\",\"\",IF(AH926>Inputs!$D$9,0,1))","v":""},{"$f":"IF(AI926=\"\",\"\",IF(AI926>Inputs!$D$9,0,1))","v":""},{"$f":"IF(AJ926=\"\",\"\",IF(AJ926>Inputs!$D$9,0,1))","v":""},{"$f":"IF(AK926=\"\",\"\",IF(AK926>Inputs!$D$9,0,1))","v":""},{"$f":"IF(AL926=\"\",\"\",IF(AL926>Inputs!$D$9,0,1))","v":""},"",0,null,"","","","","","","","","","","","","","",null,null,"","","","","","","","","","","","",""]
[null,null,null,null,null,null,null,null,null,null,null,null,null,null,"","","","","","","","","","","","","","","","","","","","","","","","",null,{"$f":"IF(AA927=\"\",\"\",IF(AA927>Inputs!$D$9,0,1))","v":""},{"$f":"IF(AB927=\"\",\"\",IF(AB927>Inputs!$D$9,0,1))","v":""},{"$f":"IF(AC927=\"\",\"\",IF(AC927>Inputs!$D$9,0,1))","v":""},{"$f":"IF(AD927=\"\",\"\",IF(AD927>Inputs!$D$9,0,1))","v":""},{"$f":"IF(AE927=\"\",\"\",IF(AE927>Inputs!$D$9,0,1))","v":""},{"$f":"IF(AF927=\"\",\"\",IF(AF927>Inputs!$D$9,0,1))","v":""},{"$f":"IF(AG927=\"\",\"\",IF(AG927>Inputs!$D$9,0,1))","v":""},{"$f":"IF(AH927=\"\",\"\",IF(AH927>Inputs!$D$9,0,1))","v":""},{"$f":"IF(AI927=\"\",\"\",IF(AI927>Inputs!$D$9,0,1))","v":""},{"$f":"IF(AJ927=\"\",\"\",IF(AJ927>Inputs!$D$9,0,1))","v":""},{"$f":"IF(AK927=\"\",\"\",IF(AK927>Inputs!$D$9,0,1))","v":""},{"$f":"IF(AL927=\"\",\"\",IF(AL927>Inputs!$D$9,0,1))","v":""},"",0,null,"","","","","","","","","","","","","","",null,null,"","","","","","","","","","","","",""]
[null,null,null,null,null,null,null,null,null,null,null,null,null,null,"","","","","","","","","","","","","","","","","","","","","","","","",null,{"$f":"IF(AA928=\"\",\"\",IF(AA928>Inputs!$D$9,0,1))","v":""},{"$f":"IF(AB928=\"\",\"\",IF(AB928>Inputs!$D$9,0,1))","v":""},{"$f":"IF(AC928=\"\",\"\",IF(AC928>Inputs!$D$9,0,1))","v":""},{"$f":"IF(AD928=\"\",\"\",IF(AD928>Inputs!$D$9,0,1))","v":""},{"$f":"IF(AE928=\"\",\"\",IF(AE928>Inputs!$D$9,0,1))","v":""},{"$f":"IF(AF928=\"\",\"\",IF(AF928>Inputs!$D$9,0,1))","v":""},{"$f":"IF(AG928=\"\",\"\",IF(AG928>Inputs!$D$9,0,1))","v":""},{"$f":"IF(AH928=\"\",\"\",IF(AH928>Inputs!$D$9,0,1))","v":""},{"$f":"IF(AI928=\"\",\"\",IF(AI928>Inputs!$D$9,0,1))","v":""},{"$f":"IF(AJ928=\"\",\"\",IF(AJ928>Inputs!$D$9,0,1))","v":""},{"$f":"IF(AK928=\"\",\"\",IF(AK928>Inputs!$D$9,0,1))","v":""},{"$f":"IF(AL928=\"\",\"\",IF(AL928>Inputs!$D$9,0,1))","v":""},"",0,null,"","","","","","","","","","","","","","",null,null,"","","","","","","","","","","","",""]
[null,null,null,null,null,null,null,null,null,null,null,null,null,null,"","","","","","","","","","","","","","","","","","","","","","","","",null,{"$f":"IF(AA929=\"\",\"\",IF(AA929>Inputs!$D$9,0,1))","v":""},{"$f":"IF(AB929=\"\",\"\",IF(AB929>Inputs!$D$9,0,1))","v":""},{"$f":"IF(AC929=\"\",\"\",IF(AC929>Inputs!$D$9,0,1))","v":""},{"$f":"IF(AD929=\"\",\"\",IF(AD929>Inputs!$D$9,0,1))","v":""},{"$f":"IF(AE929=\"\",\"\",IF(AE929>Inputs!$D$9,0,1))","v":""},{"$f":"IF(AF929=\"\",\"\",IF(AF929>Inputs!$D$9,0,1))","v":""},{"$f":"IF(AG929=\"\",\"\",IF(AG929>Inputs!$D$9,0,1))","v":""},{"$f":"IF(AH929=\"\",\"\",IF(AH929>Inputs!$D$9,0,1))","v":""},{"$f":"IF(AI929=\"\",\"\",IF(AI929>Inputs!$D$9,0,1))","v":""},{"$f":"IF(AJ929=\"\",\"\",IF(AJ929>Inputs!$D$9,0,1))","v":""},{"$f":"IF(AK929=\"\",\"\",IF(AK929>Inputs!$D$9,0,1))","v":""},{"$f":"IF(AL929=\"\",\"\",IF(AL929>Inputs!$D$9,0,1))","v":""},"",0,null,"","","","","","","","","","","","","","",null,null,"","","","","","","","","","","","",""]
[null,null,null,null,null,null,null,null,null,null,null,null,null,null,"","","","","","","","","","","","","","","","","","","","","","","","",null,{"$f":"IF(AA930=\"\",\"\",IF(AA930>Inputs!$D$9,0,1))","v":""},{"$f":"IF(AB930=\"\",\"\",IF(AB930>Inputs!$D$9,0,1))","v":""},{"$f":"IF(AC930=\"\",\"\",IF(AC930>Inputs!$D$9,0,1))","v":""},{"$f":"IF(AD930=\"\",\"\",IF(AD930>Inputs!$D$9,0,1))","v":""},{"$f":"IF(AE930=\"\",\"\",IF(AE930>Inputs!$D$9,0,1))","v":""},{"$f":"IF(AF930=\"\",\"\",IF(AF930>Inputs!$D$9,0,1))","v":""},{"$f":"IF(AG930=\"\",\"\",IF(AG930>Inputs!$D$9,0,1))","v":""},{"$f":"IF(AH930=\"\",\"\",IF(AH930>Inputs!$D$9,0,1))","v":""},{"$f":"IF(AI930=\"\",\"\",IF(AI930>Inputs!$D$9,0,1))","v":""},{"$f":"IF(AJ930=\"\",\"\",IF(AJ930>Inputs!$D$9,0,1))","v":""},{"$f":"IF(AK930=\"\",\"\",IF(AK930>Inputs!$D$9,0,1))","v":""},{"$f":"IF(AL930=\"\",\"\",IF(AL930>Inputs!$D$9,0,1))","v":""},{"$f":"IF(COUNT(AN930:AY930)=0,\"\",SUM(AN930:AY930)/COUNT(AN930:AY930))","v":""},0,null,"","","","","","","","","","","","","","",null,null,"","","","","","","","","","","","",""]
[null,null,null,null,null,null,null,null,null,null,null,null,null,null,"","","","","","","","","","","","",{"$f":"IF($A931=\"\",\"\",IF(ISERROR(RANK(O931,$O$2:$O$1000,0)),\"\",RANK(O931,$O$2:$O$1000,0)))","v":""},{"$f":"IF($A931=\"\",\"\",IF(ISERROR(RANK(P931,$P$2:$P$1000,0)),\"\",RANK(P931,$P$2:$P$1000,0)))","v":""},{"$f":"IF($A931=\"\",\"\",IF(ISERROR(RANK(Q931,$Q$2:$Q$1000,0)),\"\",RANK(Q931,$Q$2:$Q$1000,0)))","v":""},{"$f":"IF($A931=\"\",\"\",IF(ISERROR(RANK(R931,$R$2:$R$1000,0)),\"\",RANK(R931,$R$2:$R$1000,0)))","v":""},{"$f":"IF($A931=\"\",\"\",IF(ISERROR(RANK(S931,$S$2:$S$1000,0)),\"\",RANK(S931,$S$2:$S$1000,0)))","v":""},{"$f":"IF($A931=\"\",\"\",IF(ISERROR(RANK(T931,$T$2:$T$1000,0)),\"\",RANK(T931,$T$2:$T$1000,0)))","v":""},{"$f":"IF($A931=\"\",\"\",IF(ISERROR(RANK(U931,$U$2:$U$1000,0)),\"\",RANK(U931,$U$2:$U$1000,0)))","v":""},{"$f":"IF($A931=\"\",\"\",IF(ISERROR(RANK(V931,$V$2:$V$1000,0)),\"\",RANK(V931,$V$2:$V$1000,0)))","v":""},{"$f":"IF($A931=\"\",\"\",IF(ISERROR(RANK(W931,$W$2:$W$1000,0)),\"\",RANK(W931,$W$2:$W$1000,0)))","v":""},{"$f":"IF($A931=\"\",\"\",IF(ISERROR(RANK(X931,$X$2:$X$1000,0)),\"\",RANK(X931,$X$2:$X$1000,0)))","v":""},{"$f":"IF($A931=\"\",\"\",IF(ISERROR(RANK(Y931,$Y$2:$Y$1000,0)),\"\",RANK(Y931,$Y$2:$Y$1000,0)))","v":""},{"$f":"IF($A931=\"\",\"\",IF(ISERROR(RANK(Z931,$Z$2:$Z$1000,0)),\"\",RANK(Z931,$Z$2:$Z$1000,0)))","v":""},null,{"$f":"IF(AA931=\"\",\"\",IF(AA931>Inputs!$D$9,0,1))","v":""},{"$f":"IF(AB931=\"\",\"\",IF(AB931>Inputs!$D$9,0,1))","v":""},{"$f":"IF(AC931=\"\",\"\",IF(AC931>Inputs!$D$9,0,1))","v":""},{"$f":"IF(AD931=\"\",\"\",IF(AD931>Inputs!$D$9,0,1))","v":""},{"$f":"IF(AE931=\"\",\"\",IF(AE931>Inputs!$D$9,0,1))","v":""},{"$f":"IF(AF931=\"\",\"\",IF(AF931>Inputs!$D$9,0,1))","v":""},{"$f":"IF(AG931=\"\",\"\",IF(AG931>Inputs!$D$9,0,1))","v":""},{"$f":"IF(AH931=\"\",\"\",IF(AH931>Inputs!$D$9,0,1))","v":""},{"$f":"IF(AI931=\"\",\"\",IF(AI931>Inputs!$D$9,0,1))","v":""},{"$f":"IF(AJ931=\"\",\"\",IF(AJ931>Inputs!$D$9,0,1))","v":""},{"$f":"IF(AK931=\"\",\"\",IF(AK931>Inputs!$D$9,0,1))","v":""},{"$f":"IF(AL931=\"\",\"\",IF(AL931>Inputs!$D$9,0,1))","v":""},"",0,null,"","","","","","","","","","","","","","",null,null,"","","","","","","","","","","","",""]
[null,null,null,null,null,null,null,null,null,null,null,null,null,null,"","","","","","","","","","","","","","","","","","","","","","","","",null,{"$f":"IF(AA932=\"\",\"\",IF(AA932>Inputs!$D$9,0,1))","v":""},{"$f":"IF(AB932=\"\",\"\",IF(AB932>Inputs!$D$9,0,1))","v":""},{"$f":"IF(AC932=\"\",\"\",IF(AC932>Inputs!$D$9,0,1))","v":""},{"$f":"IF(AD932=\"\",\"\",IF(AD932>Inputs!$D$9,0,1))","v":""},{"$f":"IF(AE932=\"\",\"\",IF(AE932>Inputs!$D$9,0,1))","v":""},{"$f":"IF(AF932=\"\",\"\",IF(AF932>Inputs!$D$9,0,1))","v":""},{"$f":"IF(AG932=\"\",\"\",IF(AG932>Inputs!$D$9,0,1))","v":""},{"$f":"IF(AH932=\"\",\"\",IF(AH932>Inputs!$D$9,0,1))","v":""},{"$f":"IF(AI932=\"\",\"\",IF(AI932>Inputs!$D$9,0,1))","v":""},{"$f":"IF(AJ932=\"\",\"\",IF(AJ932>Inputs!$D$9,0,1))","v":""},{"$f":"IF(AK932=\"\",\"\",IF(AK932>Inputs!$D$9,0,1))","v":""},{"$f":"IF(AL932=\"\",\"\",IF(AL932>Inputs!$D$9,0,1))","v":""},"",0,null,"","","","","","","","","","","","","","",null,null,"","","","","","","","","","","","",""]
[null,null,null,null,null,null,null,null,null,null,null,null,null,null,"","","","","","","","","","","","","","","","","","","","","","","","",null,{"$f":"IF(AA933=\"\",\"\",IF(AA933>Inputs!$D$9,0,1))","v":""},{"$f":"IF(AB933=\"\",\"\",IF(AB933>Inputs!$D$9,0,1))","v":""},{"$f":"IF(AC933=\"\",\"\",IF(AC933>Inputs!$D$9,0,1))","v":""},{"$f":"IF(AD933=\"\",\"\",IF(AD933>Inputs!$D$9,0,1))","v":""},{"$f":"IF(AE933=\"\",\"\",IF(AE933>Inputs!$D$9,0,1))","v":""},{"$f":"IF(AF933=\"\",\"\",IF(AF933>Inputs!$D$9,0,1))","v":""},{"$f":"IF(AG933=\"\",\"\",IF(AG933>Inputs!$D$9,0,1))","v":""},{"$f":"IF(AH933=\"\",\"\",IF(AH933>Inputs!$D$9,0,1))","v":""},{"$f":"IF(AI933=\"\",\"\",IF(AI933>Inputs!$D$9,0,1))","v":""},{"$f":"IF(AJ933=\"\",\"\",IF(AJ933>Inputs!$D$9,0,1))","v":""},{"$f":"IF(AK933=\"\",\"\",IF(AK933>Inputs!$D$9,0,1))","v":""},{"$f":"IF(AL933=\"\",\"\",IF(AL933>Inputs!$D$9,0,1))","v":""},"",0,null,"","","","","","","","","","","","","","",null,null,"","","","","","","","","","","","",""]
[null,null,null,null,null,null,null,null,null,null,null,null,null,null,"","","","","","","","","","","","","","","","","","","","","","","","",null,{"$f":"IF(AA934=\"\",\"\",IF(AA934>Inputs!$D$9,0,1))","v":""},{"$f":"IF(AB934=\"\",\"\",IF(AB934>Inputs!$D$9,0,1))","v":""},{"$f":"IF(AC934=\"\",\"\",IF(AC934>Inputs!$D$9,0,1))","v":""},{"$f":"IF(AD934=\"\",\"\",IF(AD934>Inputs!$D$9,0,1))","v":""},{"$f":"IF(AE934=\"\",\"\",IF(AE934>Inputs!$D$9,0,1))","v":""},{"$f":"IF(AF934=\"\",\"\",IF(AF934>Inputs!$D$9,0,1))","v":""},{"$f":"IF(AG934=\"\",\"\",IF(AG934>Inputs!$D$9,0,1))","v":""},{"$f":"IF(AH934=\"\",\"\",IF(AH934>Inputs!$D$9,0,1))","v":""},{"$f":"IF(AI934=\"\",\"\",IF(AI934>Inputs!$D$9,0,1))","v":""},{"$f":"IF(AJ934=\"\",\"\",IF(AJ934>Inputs!$D$9,0,1))","v":""},{"$f":"IF(AK934=\"\",\"\",IF(AK934>Inputs!$D$9,0,1))","v":""},{"$f":"IF(AL934=\"\",\"\",IF(AL934>Inputs!$D$9,0,1))","v":""},"",0,null,"","","","","","","","","","","","","","",null,null,"","","","","","","","","","","","",""]
[null,null,null,null,null,null,null,null,null,null,null,null,null,null,"","","","","","","","","","","","","","","","","","","","","","","","",null,{"$f":"IF(AA935=\"\",\"\",IF(AA935>Inputs!$D$9,0,1))","v":""},{"$f":"IF(AB935=\"\",\"\",IF(AB935>Inputs!$D$9,0,1))","v":""},{"$f":"IF(AC935=\"\",\"\",IF(AC935>Inputs!$D$9,0,1))","v":""},{"$f":"IF(AD935=\"\",\"\",IF(AD935>Inputs!$D$9,0,1))","v":""},{"$f":"IF(AE935=\"\",\"\",IF(AE935>Inputs!$D$9,0,1))","v":""},{"$f":"IF(AF935=\"\",\"\",IF(AF935>Inputs!$D$9,0,1))","v":""},{"$f":"IF(AG935=\"\",\"\",IF(AG935>Inputs!$D$9,0,1))","v":""},{"$f":"IF(AH935=\"\",\"\",IF(AH935>Inputs!$D$9,0,1))","v":""},{"$f":"IF(AI935=\"\",\"\",IF(AI935>Inputs!$D$9,0,1))","v":""},{"$f":"IF(AJ935=\"\",\"\",IF(AJ935>Inputs!$D$9,0,1))","v":""},{"$f":"IF(AK935=\"\",\"\",IF(AK935>Inputs!$D$9,0,1))","v":""},{"$f":"IF(AL935=\"\",\"\",IF(AL935>Inputs!$D$9,0,1))","v":""},"",0,null,"","","","","","","","","","","","","","",null,null,"","","","","","","","","","","","",""]
[null,null,null,null,null,null,null,null,null,null,null,null,null,null,"","","","","","","","","","","","","","","","","","","","","","","","",null,{"$f":"IF(AA936=\"\",\"\",IF(AA936>Inputs!$D$9,0,1))","v":""},{"$f":"IF(AB936=\"\",\"\",IF(AB936>Inputs!$D$9,0,1))","v":""},{"$f":"IF(AC936=\"\",\"\",IF(AC936>Inputs!$D$9,0,1))","v":""},{"$f":"IF(AD936=\"\",\"\",IF(AD936>Inputs!$D$9,0,1))","v":""},{"$f":"IF(AE936=\"\",\"\",IF(AE936>Inputs!$D$9,0,1))","v":""},{"$f":"IF(AF936=\"\",\"\",IF(AF936>Inputs!$D$9,0,1))","v":""},{"$f":"IF(AG936=\"\",\"\",IF(AG936>Inputs!$D$9,0,1))","v":""},{"$f":"IF(AH936=\"\",\"\",IF(AH936>Inputs!$D$9,0,1))","v":""},{"$f":"IF(AI936=\"\",\"\",IF(AI936>Inputs!$D$9,0,1))","v":""},{"$f":"IF(AJ936=\"\",\"\",IF(AJ936>Inputs!$D$9,0,1))","v":""},{"$f":"IF(AK936=\"\",\"\",IF(AK936>Inputs!$D$9,0,1))","v":""},{"$f":"IF(AL936=\"\",\"\",IF(AL936>Inputs!$D$9,0,1))","v":""},"",0,null,"","","","","","","","","","","","","","",null,null,"","","","","","","","","","","","",""]
[null,null,null,null,null,null,null,null,null,null,null,null,null,null,"","","","","","","","","","","","","","","","","","","","","","","","",null,{"$f":"IF(AA937=\"\",\"\",IF(AA937>Inputs!$D$9,0,1))","v":""},{"$f":"IF(AB937=\"\",\"\",IF(AB937>Inputs!$D$9,0,1))","v":""},{"$f":"IF(AC937=\"\",\"\",IF(AC937>Inputs!$D$9,0,1))","v":""},{"$f":"IF(AD937=\"\",\"\",IF(AD937>Inputs!$D$9,0,1))","v":""},{"$f":"IF(AE937=\"\",\"\",IF(AE937>Inputs!$D$9,0,1))","v":""},{"$f":"IF(AF937=\"\",\"\",IF(AF937>Inputs!$D$9,0,1))","v":""},{"$f":"IF(AG937=\"\",\"\",IF(AG937>Inputs!$D$9,0,1))","v":""},{"$f":"IF(AH937=\"\",\"\",IF(AH937>Inputs!$D$9,0,1))","v":""},{"$f":"IF(AI937=\"\",\"\",IF(AI937>Inputs!$D$9,0,1))","v":""},{"$f":"IF(AJ937=\"\",\"\",IF(AJ937>Inputs!$D$9,0,1))","v":""},{"$f":"IF(AK937=\"\",\"\",IF(AK937>Inputs!$D$9,0,1))","v":""},{"$f":"IF(AL937=\"\",\"\",IF(AL937>Inputs!$D$9,0,1))","v":""},"",0,null,"","","","","","","","","","","","","","",null,null,"","","","","","","","","","","","",""]
[null,null,null,null,null,null,null,null,null,null,null,null,null,null,"","","","","","","","","","","","","","","","","","","","","","","","",null,{"$f":"IF(AA938=\"\",\"\",IF(AA938>Inputs!$D$9,0,1))","v":""},{"$f":"IF(AB938=\"\",\"\",IF(AB938>Inputs!$D$9,0,1))","v":""},{"$f":"IF(AC938=\"\",\"\",IF(AC938>Inputs!$D$9,0,1))","v":""},{"$f":"IF(AD938=\"\",\"\",IF(AD938>Inputs!$D$9,0,1))","v":""},{"$f":"IF(AE938=\"\",\"\",IF(AE938>Inputs!$D$9,0,1))","v":""},{"$f":"IF(AF938=\"\",\"\",IF(AF938>Inputs!$D$9,0,1))","v":""},{"$f":"IF(AG938=\"\",\"\",IF(AG938>Inputs!$D$9,0,1))","v":""},{"$f":"IF(AH938=\"\",\"\",IF(AH938>Inputs!$D$9,0,1))","v":""},{"$f":"IF(AI938=\"\",\"\",IF(AI938>Inputs!$D$9,0,1))","v":""},{"$f":"IF(AJ938=\"\",\"\",IF(AJ938>Inputs!$D$9,0,1))","v":""},{"$f":"IF(AK938=\"\",\"\",IF(AK938>Inputs!$D$9,0,1))","v":""},{"$f":"IF(AL938=\"\",\"\",IF(AL938>Inputs!$D$9,0,1))","v":""},"",0,null,"","","","","","","","","","","","","","",null,null,"","","","","","","","","","","","",""]
[null,null,null,null,null,null,null,null,null,null,null,null,null,null,"","","","","","","","","","","","","","","","","","","","","","","","",null,{"$f":"IF(AA939=\"\",\"\",IF(AA939>Inputs!$D$9,0,1))","v":""},{"$f":"IF(AB939=\"\",\"\",IF(AB939>Inputs!$D$9,0,1))","v":""},{"$f":"IF(AC939=\"\",\"\",IF(AC939>Inputs!$D$9,0,1))","v":""},{"$f":"IF(AD939=\"\",\"\",IF(AD939>Inputs!$D$9,0,1))","v":""},{"$f":"IF(AE939=\"\",\"\",IF(AE939>Inputs!$D$9,0,1))","v":""},{"$f":"IF(AF939=\"\",\"\",IF(AF939>Inputs!$D$9,0,1))","v":""},{"$f":"IF(AG939=\"\",\"\",IF(AG939>Inputs!$D$9,0,1))","v":""},{"$f":"IF(AH939=\"\",\"\",IF(AH939>Inputs!$D$9,0,1))","v":""},{"$f":"IF(AI939=\"\",\"\",IF(AI939>Inputs!$D$9,0,1))","v":""},{"$f":"IF(AJ939=\"\",\"\",IF(AJ939>Inputs!$D$9,0,1))","v":""},{"$f":"IF(AK939=\"\",\"\",IF(AK939>Inputs!$D$9,0,1))","v":""},{"$f":"IF(AL939=\"\",\"\",IF(AL939>Inputs!$D$9,0,1))","v":""},"",0,null,"","","","","","","","","","","","","","",null,null,"","","","","","","","","","","","",""]
[null,null,null,null,null,null,null,null,null,null,null,null,null,null,"","","","","","","","","","","","","","","","","","","","","","","","",null,{"$f":"IF(AA940=\"\",\"\",IF(AA940>Inputs!$D$9,0,1))","v":""},{"$f":"IF(AB940=\"\",\"\",IF(AB940>Inputs!$D$9,0,1))","v":""},{"$f":"IF(AC940=\"\",\"\",IF(AC940>Inputs!$D$9,0,1))","v":""},{"$f":"IF(AD940=\"\",\"\",IF(AD940>Inputs!$D$9,0,1))","v":""},{"$f":"IF(AE940=\"\",\"\",IF(AE940>Inputs!$D$9,0,1))","v":""},{"$f":"IF(AF940=\"\",\"\",IF(AF940>Inputs!$D$9,0,1))","v":""},{"$f":"IF(AG940=\"\",\"\",IF(AG940>Inputs!$D$9,0,1))","v":""},{"$f":"IF(AH940=\"\",\"\",IF(AH940>Inputs!$D$9,0,1))","v":""},{"$f":"IF(AI940=\"\",\"\",IF(AI940>Inputs!$D$9,0,1))","v":""},{"$f":"IF(AJ940=\"\",\"\",IF(AJ940>Inputs!$D$9,0,1))","v":""},{"$f":"IF(AK940=\"\",\"\",IF(AK940>Inputs!$D$9,0,1))","v":""},{"$f":"IF(AL940=\"\",\"\",IF(AL940>Inputs!$D$9,0,1))","v":""},"",0,null,"","","","","","","","","","","","","","",null,null,"","","","","","","","","","","","",""]
[null,null,null,null,null,null,null,null,null,null,null,null,null,null,"","","","","","","","","","","","","","","","","","","","","","","","",null,{"$f":"IF(AA941=\"\",\"\",IF(AA941>Inputs!$D$9,0,1))","v":""},{"$f":"IF(AB941=\"\",\"\",IF(AB941>Inputs!$D$9,0,1))","v":""},{"$f":"IF(AC941=\"\",\"\",IF(AC941>Inputs!$D$9,0,1))","v":""},{"$f":"IF(AD941=\"\",\"\",IF(AD941>Inputs!$D$9,0,1))","v":""},{"$f":"IF(AE941=\"\",\"\",IF(AE941>Inputs!$D$9,0,1))","v":""},{"$f":"IF(AF941=\"\",\"\",IF(AF941>Inputs!$D$9,0,1))","v":""},{"$f":"IF(AG941=\"\",\"\",IF(AG941>Inputs!$D$9,0,1))","v":""},{"$f":"IF(AH941=\"\",\"\",IF(AH941>Inputs!$D$9,0,1))","v":""},{"$f":"IF(AI941=\"\",\"\",IF(AI941>Inputs!$D$9,0,1))","v":""},{"$f":"IF(AJ941=\"\",\"\",IF(AJ941>Inputs!$D$9,0,1))","v":""},{"$f":"IF(AK941=\"\",\"\",IF(AK941>Inputs!$D$9,0,1))","v":""},{"$f":"IF(AL941=\"\",\"\",IF(AL941>Inputs!$D$9,0,1))","v":""},"",0,null,"","","","","","","","","","","","","","",null,null,"","","","","","","","","","","","",""]
[null,null,null,null,null,null,null,null,null,null,null,null,null,null,"","","","","","","","","","","","","","","","","","","","","","","","",null,{"$f":"IF(AA942=\"\",\"\",IF(AA942>Inputs!$D$9,0,1))","v":""},{"$f":"IF(AB942=\"\",\"\",IF(AB942>Inputs!$D$9,0,1))","v":""},{"$f":"IF(AC942=\"\",\"\",IF(AC942>Inputs!$D$9,0,1))","v":""},{"$f":"IF(AD942=\"\",\"\",IF(AD942>Inputs!$D$9,0,1))","v":""},{"$f":"IF(AE942=\"\",\"\",IF(AE942>Inputs!$D$9,0,1))","v":""},{"$f":"IF(AF942=\"\",\"\",IF(AF942>Inputs!$D$9,0,1))","v":""},{"$f":"IF(AG942=\"\",\"\",IF(AG942>Inputs!$D$9,0,1))","v":""},{"$f":"IF(AH942=\"\",\"\",IF(AH942>Inputs!$D$9,0,1))","v":""},{"$f":"IF(AI942=\"\",\"\",IF(AI942>Inputs!$D$9,0,1))","v":""},{"$f":"IF(AJ942=\"\",\"\",IF(AJ942>Inputs!$D$9,0,1))","v":""},{"$f":"IF(AK942=\"\",\"\",IF(AK942>Inputs!$D$9,0,1))","v":""},{"$f":"IF(AL942=\"\",\"\",IF(AL942>Inputs!$D$9,0,1))","v":""},"",0,null,"","","","","","","","","","","","","","",null,null,"","","","","","","","","","","","",""]
[null,null,null,null,null,null,null,null,null,null,null,null,null,null,"","","","","","","","","","","","","","","","","","","","","","","","",null,{"$f":"IF(AA943=\"\",\"\",IF(AA943>Inputs!$D$9,0,1))","v":""},{"$f":"IF(AB943=\"\",\"\",IF(AB943>Inputs!$D$9,0,1))","v":""},{"$f":"IF(AC943=\"\",\"\",IF(AC943>Inputs!$D$9,0,1))","v":""},{"$f":"IF(AD943=\"\",\"\",IF(AD943>Inputs!$D$9,0,1))","v":""},{"$f":"IF(AE943=\"\",\"\",IF(AE943>Inputs!$D$9,0,1))","v":""},{"$f":"IF(AF943=\"\",\"\",IF(AF943>Inputs!$D$9,0,1))","v":""},{"$f":"IF(AG943=\"\",\"\",IF(AG943>Inputs!$D$9,0,1))","v":""},{"$f":"IF(AH943=\"\",\"\",IF(AH943>Inputs!$D$9,0,1))","v":""},{"$f":"IF(AI943=\"\",\"\",IF(AI943>Inputs!$D$9,0,1))","v":""},{"$f":"IF(AJ943=\"\",\"\",IF(AJ943>Inputs!$D$9,0,1))","v":""},{"$f":"IF(AK943=\"\",\"\",IF(AK943>Inputs!$D$9,0,1))","v":""},{"$f":"IF(AL943=\"\",\"\",IF(AL943>Inputs!$D$9,0,1))","v":""},"",0,null,"","","","","","","","","","","","","","",null,null,"","","","","","","","","","","","",""]
[null,null,null,null,null,null,null,null,null,null,null,null,null,null,"","","","","","","","","","","","","","","","","","","","","","","","",null,{"$f":"IF(AA944=\"\",\"\",IF(AA944>Inputs!$D$9,0,1))","v":""},{"$f":"IF(AB944=\"\",\"\",IF(AB944>Inputs!$D$9,0,1))","v":""},{"$f":"IF(AC944=\"\",\"\",IF(AC944>Inputs!$D$9,0,1))","v":""},{"$f":"IF(AD944=\"\",\"\",IF(AD944>Inputs!$D$9,0,1))","v":""},{"$f":"IF(AE944=\"\",\"\",IF(AE944>Inputs!$D$9,0,1))","v":""},{"$f":"IF(AF944=\"\",\"\",IF(AF944>Inputs!$D$9,0,1))","v":""},{"$f":"IF(AG944=\"\",\"\",IF(AG944>Inputs!$D$9,0,1))","v":""},{"$f":"IF(AH944=\"\",\"\",IF(AH944>Inputs!$D$9,0,1))","v":""},{"$f":"IF(AI944=\"\",\"\",IF(AI944>Inputs!$D$9,0,1))","v":""},{"$f":"IF(AJ944=\"\",\"\",IF(AJ944>Inputs!$D$9,0,1))","v":""},{"$f":"IF(AK944=\"\",\"\",IF(AK944>Inputs!$D$9,0,1))","v":""},{"$f":"IF(AL944=\"\",\"\",IF(AL944>Inputs!$D$9,0,1))","v":""},"",0,null,"","","","","","","","","","","","","","",null,null,"","","","","","","","","","","","",""]
[null,null,null,null,null,null,null,null,null,null,null,null,null,null,"","","","","","","","","","","","","","","","","","","","","","","","",null,{"$f":"IF(AA945=\"\",\"\",IF(AA945>Inputs!$D$9,0,1))","v":""},{"$f":"IF(AB945=\"\",\"\",IF(AB945>Inputs!$D$9,0,1))","v":""},{"$f":"IF(AC945=\"\",\"\",IF(AC945>Inputs!$D$9,0,1))","v":""},{"$f":"IF(AD945=\"\",\"\",IF(AD945>Inputs!$D$9,0,1))","v":""},{"$f":"IF(AE945=\"\",\"\",IF(AE945>Inputs!$D$9,0,1))","v":""},{"$f":"IF(AF945=\"\",\"\",IF(AF945>Inputs!$D$9,0,1))","v":""},{"$f":"IF(AG945=\"\",\"\",IF(AG945>Inputs!$D$9,0,1))","v":""},{"$f":"IF(AH945=\"\",\"\",IF(AH945>Inputs!$D$9,0,1))","v":""},{"$f":"IF(AI945=\"\",\"\",IF(AI945>Inputs!$D$9,0,1))","v":""},{"$f":"IF(AJ945=\"\",\"\",IF(AJ945>Inputs!$D$9,0,1))","v":""},{"$f":"IF(AK945=\"\",\"\",IF(AK945>Inputs!$D$9,0,1))","v":""},{"$f":"IF(AL945=\"\",\"\",IF(AL945>Inputs!$D$9,0,1))","v":""},"",0,null,"","","","","","","","","","","","","","",null,null,"","","","","","","","","","","","",""]
[null,null,null,null,null,null,null,null,null,null,null,null,null,null,"","","","","","","","","","","","","","","","","","","","","","","","",null,{"$f":"IF(AA946=\"\",\"\",IF(AA946>Inputs!$D$9,0,1))","v":""},{"$f":"IF(AB946=\"\",\"\",IF(AB946>Inputs!$D$9,0,1))","v":""},{"$f":"IF(AC946=\"\",\"\",IF(AC946>Inputs!$D$9,0,1))","v":""},{"$f":"IF(AD946=\"\",\"\",IF(AD946>Inputs!$D$9,0,1))","v":""},{"$f":"IF(AE946=\"\",\"\",IF(AE946>Inputs!$D$9,0,1))","v":""},{"$f":"IF(AF946=\"\",\"\",IF(AF946>Inputs!$D$9,0,1))","v":""},{"$f":"IF(AG946=\"\",\"\",IF(AG946>Inputs!$D$9,0,1))","v":""},{"$f":"IF(AH946=\"\",\"\",IF(AH946>Inputs!$D$9,0,1))","v":""},{"$f":"IF(AI946=\"\",\"\",IF(AI946>Inputs!$D$9,0,1))","v":""},{"$f":"IF(AJ946=\"\",\"\",IF(AJ946>Inputs!$D$9,0,1))","v":""},{"$f":"IF(AK946=\"\",\"\",IF(AK946>Inputs!$D$9,0,1))","v":""},{"$f":"IF(AL946=\"\",\"\",IF(AL946>Inputs!$D$9,0,1))","v":""},"",0,null,"","","","","","","","","","","","","","",null,null,"","","","","","","","","","","","",""]
[null,null,null,null,null,null,null,null,null,null,null,null,null,null,"","","","","","","","","","","","","","","","","","","","","","","","",null,{"$f":"IF(AA947=\"\",\"\",IF(AA947>Inputs!$D$9,0,1))","v":""},{"$f":"IF(AB947=\"\",\"\",IF(AB947>Inputs!$D$9,0,1))","v":""},{"$f":"IF(AC947=\"\",\"\",IF(AC947>Inputs!$D$9,0,1))","v":""},{"$f":"IF(AD947=\"\",\"\",IF(AD947>Inputs!$D$9,0,1))","v":""},{"$f":"IF(AE947=\"\",\"\",IF(AE947>Inputs!$D$9,0,1))","v":""},{"$f":"IF(AF947=\"\",\"\",IF(AF947>Inputs!$D$9,0,1))","v":""},{"$f":"IF(AG947=\"\",\"\",IF(AG947>Inputs!$D$9,0,1))","v":""},{"$f":"IF(AH947=\"\",\"\",IF(AH947>Inputs!$D$9,0,1))","v":""},{"$f":"IF(AI947=\"\",\"\",IF(AI947>Inputs!$D$9,0,1))","v":""},{"$f":"IF(AJ947=\"\",\"\",IF(AJ947>Inputs!$D$9,0,1))","v":""},{"$f":"IF(AK947=\"\",\"\",IF(AK947>Inputs!$D$9,0,1))","v":""},{"$f":"IF(AL947=\"\",\"\",IF(AL947>Inputs!$D$9,0,1))","v":""},"",0,null,"","","","","","","","","","","","","","",null,null,"","","","","","","","","","","","",""]
[null,null,null,null,null,null,null,null,null,null,null,null,null,null,"","","","","","","","","","","","","","","","","","","","","","","","",null,{"$f":"IF(AA948=\"\",\"\",IF(AA948>Inputs!$D$9,0,1))","v":""},{"$f":"IF(AB948=\"\",\"\",IF(AB948>Inputs!$D$9,0,1))","v":""},{"$f":"IF(AC948=\"\",\"\",IF(AC948>Inputs!$D$9,0,1))","v":""},{"$f":"IF(AD948=\"\",\"\",IF(AD948>Inputs!$D$9,0,1))","v":""},{"$f":"IF(AE948=\"\",\"\",IF(AE948>Inputs!$D$9,0,1))","v":""},{"$f":"IF(AF948=\"\",\"\",IF(AF948>Inputs!$D$9,0,1))","v":""},{"$f":"IF(AG948=\"\",\"\",IF(AG948>Inputs!$D$9,0,1))","v":""},{"$f":"IF(AH948=\"\",\"\",IF(AH948>Inputs!$D$9,0,1))","v":""},{"$f":"IF(AI948=\"\",\"\",IF(AI948>Inputs!$D$9,0,1))","v":""},{"$f":"IF(AJ948=\"\",\"\",IF(AJ948>Inputs!$D$9,0,1))","v":""},{"$f":"IF(AK948=\"\",\"\",IF(AK948>Inputs!$D$9,0,1))","v":""},{"$f":"IF(AL948=\"\",\"\",IF(AL948>Inputs!$D$9,0,1))","v":""},"",0,null,"","","","","","","","","","","","","","",null,null,"","","","","","","","","","","","",""]
[null,null,null,null,null,null,null,null,null,null,null,null,null,null,"","","","","","","","","","","","","","","","","","","","","","","","",null,{"$f":"IF(AA949=\"\",\"\",IF(AA949>Inputs!$D$9,0,1))","v":""},{"$f":"IF(AB949=\"\",\"\",IF(AB949>Inputs!$D$9,0,1))","v":""},{"$f":"IF(AC949=\"\",\"\",IF(AC949>Inputs!$D$9,0,1))","v":""},{"$f":"IF(AD949=\"\",\"\",IF(AD949>Inputs!$D$9,0,1))","v":""},{"$f":"IF(AE949=\"\",\"\",IF(AE949>Inputs!$D$9,0,1))","v":""},{"$f":"IF(AF949=\"\",\"\",IF(AF949>Inputs!$D$9,0,1))","v":""},{"$f":"IF(AG949=\"\",\"\",IF(AG949>Inputs!$D$9,0,1))","v":""},{"$f":"IF(AH949=\"\",\"\",IF(AH949>Inputs!$D$9,0,1))","v":""},{"$f":"IF(AI949=\"\",\"\",IF(AI949>Inputs!$D$9,0,1))","v":""},{"$f":"IF(AJ949=\"\",\"\",IF(AJ949>Inputs!$D$9,0,1))","v":""},{"$f":"IF(AK949=\"\",\"\",IF(AK949>Inputs!$D$9,0,1))","v":""},{"$f":"IF(AL949=\"\",\"\",IF(AL949>Inputs!$D$9,0,1))","v":""},"",0,null,"","","","","","","","","","","","","","",null,null,"","","","","","","","","","","","",""]
[null,null,null,null,null,null,null,null,null,null,null,null,null,null,"","","","","","","","","","","","","","","","","","","","","","","","",null,{"$f":"IF(AA950=\"\",\"\",IF(AA950>Inputs!$D$9,0,1))","v":""},{"$f":"IF(AB950=\"\",\"\",IF(AB950>Inputs!$D$9,0,1))","v":""},{"$f":"IF(AC950=\"\",\"\",IF(AC950>Inputs!$D$9,0,1))","v":""},{"$f":"IF(AD950=\"\",\"\",IF(AD950>Inputs!$D$9,0,1))","v":""},{"$f":"IF(AE950=\"\",\"\",IF(AE950>Inputs!$D$9,0,1))","v":""},{"$f":"IF(AF950=\"\",\"\",IF(AF950>Inputs!$D$9,0,1))","v":""},{"$f":"IF(AG950=\"\",\"\",IF(AG950>Inputs!$D$9,0,1))","v":""},{"$f":"IF(AH950=\"\",\"\",IF(AH950>Inputs!$D$9,0,1))","v":""},{"$f":"IF(AI950=\"\",\"\",IF(AI950>Inputs!$D$9,0,1))","v":""},{"$f":"IF(AJ950=\"\",\"\",IF(AJ950>Inputs!$D$9,0,1))","v":""},{"$f":"IF(AK950=\"\",\"\",IF(AK950>Inputs!$D$9,0,1))","v":""},{"$f":"IF(AL950=\"\",\"\",IF(AL950>Inputs!$D$9,0,1))","v":""},"",0,null,"","","","","","","","","","","","","","",null,null,"","","","","","","","","","","","",""]
[null,null,null,null,null,null,null,null,null,null,null,null,null,null,"","","","","","","","","","","","","","","","","","","","","","","","",null,{"$f":"IF(AA951=\"\",\"\",IF(AA951>Inputs!$D$9,0,1))","v":""},{"$f":"IF(AB951=\"\",\"\",IF(AB951>Inputs!$D$9,0,1))","v":""},{"$f":"IF(AC951=\"\",\"\",IF(AC951>Inputs!$D$9,0,1))","v":""},{"$f":"IF(AD951=\"\",\"\",IF(AD951>Inputs!$D$9,0,1))","v":""},{"$f":"IF(AE951=\"\",\"\",IF(AE951>Inputs!$D$9,0,1))","v":""},{"$f":"IF(AF951=\"\",\"\",IF(AF951>Inputs!$D$9,0,1))","v":""},{"$f":"IF(AG951=\"\",\"\",IF(AG951>Inputs!$D$9,0,1))","v":""},{"$f":"IF(AH951=\"\",\"\",IF(AH951>Inputs!$D$9,0,1))","v":""},{"$f":"IF(AI951=\"\",\"\",IF(AI951>Inputs!$D$9,0,1))","v":""},{"$f":"IF(AJ951=\"\",\"\",IF(AJ951>Inputs!$D$9,0,1))","v":""},{"$f":"IF(AK951=\"\",\"\",IF(AK951>Inputs!$D$9,0,1))","v":""},{"$f":"IF(AL951=\"\",\"\",IF(AL951>Inputs!$D$9,0,1))","v":""},"",0,null,"","","","","","","","","","","","","","",null,null,"","","","","","","","","","","","",""]
[null,null,null,null,null,null,null,null,null,null,null,null,null,null,"","","","","","","","","","","","","","","","","","","","","","","","",null,{"$f":"IF(AA952=\"\",\"\",IF(AA952>Inputs!$D$9,0,1))","v":""},{"$f":"IF(AB952=\"\",\"\",IF(AB952>Inputs!$D$9,0,1))","v":""},{"$f":"IF(AC952=\"\",\"\",IF(AC952>Inputs!$D$9,0,1))","v":""},{"$f":"IF(AD952=\"\",\"\",IF(AD952>Inputs!$D$9,0,1))","v":""},{"$f":"IF(AE952=\"\",\"\",IF(AE952>Inputs!$D$9,0,1))","v":""},{"$f":"IF(AF952=\"\",\"\",IF(AF952>Inputs!$D$9,0,1))","v":""},{"$f":"IF(AG952=\"\",\"\",IF(AG952>Inputs!$D$9,0,1))","v":""},{"$f":"IF(AH952=\"\",\"\",IF(AH952>Inputs!$D$9,0,1))","v":""},{"$f":"IF(AI952=\"\",\"\",IF(AI952>Inputs!$D$9,0,1))","v":""},{"$f":"IF(AJ952=\"\",\"\",IF(AJ952>Inputs!$D$9,0,1))","v":""},{"$f":"IF(AK952=\"\",\"\",IF(AK952>Inputs!$D$9,0,1))","v":""},{"$f":"IF(AL952=\"\",\"\",IF(AL952>Inputs!$D$9,0,1))","v":""},"",0,null,"","","","","","","","","","","","","","",null,null,"","","","","","","","","","","","",""]
[null,null,null,null,null,null,null,null,null,null,null,null,null,null,"","","","","","","","","","","","","","","","","","","","","","","","",null,{"$f":"IF(AA953=\"\",\"\",IF(AA953>Inputs!$D$9,0,1))","v":""},{"$f":"IF(AB953=\"\",\"\",IF(AB953>Inputs!$D$9,0,1))","v":""},{"$f":"IF(AC953=\"\",\"\",IF(AC953>Inputs!$D$9,0,1))","v":""},{"$f":"IF(AD953=\"\",\"\",IF(AD953>Inputs!$D$9,0,1))","v":""},{"$f":"IF(AE953=\"\",\"\",IF(AE953>Inputs!$D$9,0,1))","v":""},{"$f":"IF(AF953=\"\",\"\",IF(AF953>Inputs!$D$9,0,1))","v":""},{"$f":"IF(AG953=\"\",\"\",IF(AG953>Inputs!$D$9,0,1))","v":""},{"$f":"IF(AH953=\"\",\"\",IF(AH953>Inputs!$D$9,0,1))","v":""},{"$f":"IF(AI953=\"\",\"\",IF(AI953>Inputs!$D$9,0,1))","v":""},{"$f":"IF(AJ953=\"\",\"\",IF(AJ953>Inputs!$D$9,0,1))","v":""},{"$f":"IF(AK953=\"\",\"\",IF(AK953>Inputs!$D$9,0,1))","v":""},{"$f":"IF(AL953=\"\",\"\",IF(AL953>Inputs!$D$9,0,1))","v":""},"",0,null,"","","","","","","","","","","","","","",null,null,"","","","","","","","","","","","",""]
[null,null,null,null,null,null,null,null,null,null,null,null,null,null,"","","","","","","","","","","","","","","","","","","","","","","","",null,{"$f":"IF(AA954=\"\",\"\",IF(AA954>Inputs!$D$9,0,1))","v":""},{"$f":"IF(AB954=\"\",\"\",IF(AB954>Inputs!$D$9,0,1))","v":""},{"$f":"IF(AC954=\"\",\"\",IF(AC954>Inputs!$D$9,0,1))","v":""},{"$f":"IF(AD954=\"\",\"\",IF(AD954>Inputs!$D$9,0,1))","v":""},{"$f":"IF(AE954=\"\",\"\",IF(AE954>Inputs!$D$9,0,1))","v":""},{"$f":"IF(AF954=\"\",\"\",IF(AF954>Inputs!$D$9,0,1))","v":""},{"$f":"IF(AG954=\"\",\"\",IF(AG954>Inputs!$D$9,0,1))","v":""},{"$f":"IF(AH954=\"\",\"\",IF(AH954>Inputs!$D$9,0,1))","v":""},{"$f":"IF(AI954=\"\",\"\",IF(AI954>Inputs!$D$9,0,1))","v":""},{"$f":"IF(AJ954=\"\",\"\",IF(AJ954>Inputs!$D$9,0,1))","v":""},{"$f":"IF(AK954=\"\",\"\",IF(AK954>Inputs!$D$9,0,1))","v":""},{"$f":"IF(AL954=\"\",\"\",IF(AL954>Inputs!$D$9,0,1))","v":""},"",0,null,"","","","","","","","","","","","","","",null,null,"","","","","","","","","","","","",""]
[null,null,null,null,null,null,null,null,null,null,null,null,null,null,"","","","","","","","","","","","","","","","","","","","","","","","",null,{"$f":"IF(AA955=\"\",\"\",IF(AA955>Inputs!$D$9,0,1))","v":""},{"$f":"IF(AB955=\"\",\"\",IF(AB955>Inputs!$D$9,0,1))","v":""},{"$f":"IF(AC955=\"\",\"\",IF(AC955>Inputs!$D$9,0,1))","v":""},{"$f":"IF(AD955=\"\",\"\",IF(AD955>Inputs!$D$9,0,1))","v":""},{"$f":"IF(AE955=\"\",\"\",IF(AE955>Inputs!$D$9,0,1))","v":""},{"$f":"IF(AF955=\"\",\"\",IF(AF955>Inputs!$D$9,0,1))","v":""},{"$f":"IF(AG955=\"\",\"\",IF(AG955>Inputs!$D$9,0,1))","v":""},{"$f":"IF(AH955=\"\",\"\",IF(AH955>Inputs!$D$9,0,1))","v":""},{"$f":"IF(AI955=\"\",\"\",IF(AI955>Inputs!$D$9,0,1))","v":""},{"$f":"IF(AJ955=\"\",\"\",IF(AJ955>Inputs!$D$9,0,1))","v":""},{"$f":"IF(AK955=\"\",\"\",IF(AK955>Inputs!$D$9,0,1))","v":""},{"$f":"IF(AL955=\"\",\"\",IF(AL955>Inputs!$D$9,0,1))","v":""},"",0,null,"","","","","","","","","","","","","","",null,null,"","","","","","","","","","","","",""]
[null,null,null,null,null,null,null,null,null,null,null,null,null,null,"","","","","","","","","","","","","","","","","","","","","","","","",null,{"$f":"IF(AA956=\"\",\"\",IF(AA956>Inputs!$D$9,0,1))","v":""},{"$f":"IF(AB956=\"\",\"\",IF(AB956>Inputs!$D$9,0,1))","v":""},{"$f":"IF(AC956=\"\",\"\",IF(AC956>Inputs!$D$9,0,1))","v":""},{"$f":"IF(AD956=\"\",\"\",IF(AD956>Inputs!$D$9,0,1))","v":""},{"$f":"IF(AE956=\"\",\"\",IF(AE956>Inputs!$D$9,0,1))","v":""},{"$f":"IF(AF956=\"\",\"\",IF(AF956>Inputs!$D$9,0,1))","v":""},{"$f":"IF(AG956=\"\",\"\",IF(AG956>Inputs!$D$9,0,1))","v":""},{"$f":"IF(AH956=\"\",\"\",IF(AH956>Inputs!$D$9,0,1))","v":""},{"$f":"IF(AI956=\"\",\"\",IF(AI956>Inputs!$D$9,0,1))","v":""},{"$f":"IF(AJ956=\"\",\"\",IF(AJ956>Inputs!$D$9,0,1))","v":""},{"$f":"IF(AK956=\"\",\"\",IF(AK956>Inputs!$D$9,0,1))","v":""},{"$f":"IF(AL956=\"\",\"\",IF(AL956>Inputs!$D$9,0,1))","v":""},"",0,null,"","","","","","","","","","","","","","",null,null,"","","","","","","","","","","","",""]
[null,null,null,null,null,null,null,null,null,null,null,null,null,null,"","","","","","","","","","","","","","","","","","","","","","","","",null,{"$f":"IF(AA957=\"\",\"\",IF(AA957>Inputs!$D$9,0,1))","v":""},{"$f":"IF(AB957=\"\",\"\",IF(AB957>Inputs!$D$9,0,1))","v":""},{"$f":"IF(AC957=\"\",\"\",IF(AC957>Inputs!$D$9,0,1))","v":""},{"$f":"IF(AD957=\"\",\"\",IF(AD957>Inputs!$D$9,0,1))","v":""},{"$f":"IF(AE957=\"\",\"\",IF(AE957>Inputs!$D$9,0,1))","v":""},{"$f":"IF(AF957=\"\",\"\",IF(AF957>Inputs!$D$9,0,1))","v":""},{"$f":"IF(AG957=\"\",\"\",IF(AG957>Inputs!$D$9,0,1))","v":""},{"$f":"IF(AH957=\"\",\"\",IF(AH957>Inputs!$D$9,0,1))","v":""},{"$f":"IF(AI957=\"\",\"\",IF(AI957>Inputs!$D$9,0,1))","v":""},{"$f":"IF(AJ957=\"\",\"\",IF(AJ957>Inputs!$D$9,0,1))","v":""},{"$f":"IF(AK957=\"\",\"\",IF(AK957>Inputs!$D$9,0,1))","v":""},{"$f":"IF(AL957=\"\",\"\",IF(AL957>Inputs!$D$9,0,1))","v":""},"",0,null,"","","","","","","","","","","","","","",null,null,"","","","","","","","","","","","",""]
[null,null,null,null,null,null,null,null,null,null,null,null,null,null,"","","","","","","","","","","","","","","","","","","","","","","","",null,{"$f":"IF(AA958=\"\",\"\",IF(AA958>Inputs!$D$9,0,1))","v":""},{"$f":"IF(AB958=\"\",\"\",IF(AB958>Inputs!$D$9,0,1))","v":""},{"$f":"IF(AC958=\"\",\"\",IF(AC958>Inputs!$D$9,0,1))","v":""},{"$f":"IF(AD958=\"\",\"\",IF(AD958>Inputs!$D$9,0,1))","v":""},{"$f":"IF(AE958=\"\",\"\",IF(AE958>Inputs!$D$9,0,1))","v":""},{"$f":"IF(AF958=\"\",\"\",IF(AF958>Inputs!$D$9,0,1))","v":""},{"$f":"IF(AG958=\"\",\"\",IF(AG958>Inputs!$D$9,0,1))","v":""},{"$f":"IF(AH958=\"\",\"\",IF(AH958>Inputs!$D$9,0,1))","v":""},{"$f":"IF(AI958=\"\",\"\",IF(AI958>Inputs!$D$9,0,1))","v":""},{"$f":"IF(AJ958=\"\",\"\",IF(AJ958>Inputs!$D$9,0,1))","v":""},{"$f":"IF(AK958=\"\",\"\",IF(AK958>Inputs!$D$9,0,1))","v":""},{"$f":"IF(AL958=\"\",\"\",IF(AL958>Inputs!$D$9,0,1))","v":""},"",0,null,"","","","","","","","","","","","","","",null,null,"","","","","","","","","","","","",""]
[null,null,null,null,null,null,null,null,null,null,null,null,null,null,"","","","","","","","","","","","","","","","","","","","","","","","",null,{"$f":"IF(AA959=\"\",\"\",IF(AA959>Inputs!$D$9,0,1))","v":""},{"$f":"IF(AB959=\"\",\"\",IF(AB959>Inputs!$D$9,0,1))","v":""},{"$f":"IF(AC959=\"\",\"\",IF(AC959>Inputs!$D$9,0,1))","v":""},{"$f":"IF(AD959=\"\",\"\",IF(AD959>Inputs!$D$9,0,1))","v":""},{"$f":"IF(AE959=\"\",\"\",IF(AE959>Inputs!$D$9,0,1))","v":""},{"$f":"IF(AF959=\"\",\"\",IF(AF959>Inputs!$D$9,0,1))","v":""},{"$f":"IF(AG959=\"\",\"\",IF(AG959>Inputs!$D$9,0,1))","v":""},{"$f":"IF(AH959=\"\",\"\",IF(AH959>Inputs!$D$9,0,1))","v":""},{"$f":"IF(AI959=\"\",\"\",IF(AI959>Inputs!$D$9,0,1))","v":""},{"$f":"IF(AJ959=\"\",\"\",IF(AJ959>Inputs!$D$9,0,1))","v":""},{"$f":"IF(AK959=\"\",\"\",IF(AK959>Inputs!$D$9,0,1))","v":""},{"$f":"IF(AL959=\"\",\"\",IF(AL959>Inputs!$D$9,0,1))","v":""},"",0,null,"","","","","","","","","","","","","","",null,null,"","","","","","","","","","","","",""]
[null,null,null,null,null,null,null,null,null,null,null,null,null,null,"","","","","","","","","","","","","","","","","","","","","","","","",null,{"$f":"IF(AA960=\"\",\"\",IF(AA960>Inputs!$D$9,0,1))","v":""},{"$f":"IF(AB960=\"\",\"\",IF(AB960>Inputs!$D$9,0,1))","v":""},{"$f":"IF(AC960=\"\",\"\",IF(AC960>Inputs!$D$9,0,1))","v":""},{"$f":"IF(AD960=\"\",\"\",IF(AD960>Inputs!$D$9,0,1))","v":""},{"$f":"IF(AE960=\"\",\"\",IF(AE960>Inputs!$D$9,0,1))","v":""},{"$f":"IF(AF960=\"\",\"\",IF(AF960>Inputs!$D$9,0,1))","v":""},{"$f":"IF(AG960=\"\",\"\",IF(AG960>Inputs!$D$9,0,1))","v":""},{"$f":"IF(AH960=\"\",\"\",IF(AH960>Inputs!$D$9,0,1))","v":""},{"$f":"IF(AI960=\"\",\"\",IF(AI960>Inputs!$D$9,0,1))","v":""},{"$f":"IF(AJ960=\"\",\"\",IF(AJ960>Inputs!$D$9,0,1))","v":""},{"$f":"IF(AK960=\"\",\"\",IF(AK960>Inputs!$D$9,0,1))","v":""},{"$f":"IF(AL960=\"\",\"\",IF(AL960>Inputs!$D$9,0,1))","v":""},"",0,null,"","","","","","","","","","","","","","",null,null,"","","","","","","","","","","","",""]
[null,null,null,null,null,null,null,null,null,null,null,null,null,null,"","","","","","","","","","","","","","","","","","","","","","","","",null,{"$f":"IF(AA961=\"\",\"\",IF(AA961>Inputs!$D$9,0,1))","v":""},{"$f":"IF(AB961=\"\",\"\",IF(AB961>Inputs!$D$9,0,1))","v":""},{"$f":"IF(AC961=\"\",\"\",IF(AC961>Inputs!$D$9,0,1))","v":""},{"$f":"IF(AD961=\"\",\"\",IF(AD961>Inputs!$D$9,0,1))","v":""},{"$f":"IF(AE961=\"\",\"\",IF(AE961>Inputs!$D$9,0,1))","v":""},{"$f":"IF(AF961=\"\",\"\",IF(AF961>Inputs!$D$9,0,1))","v":""},{"$f":"IF(AG961=\"\",\"\",IF(AG961>Inputs!$D$9,0,1))","v":""},{"$f":"IF(AH961=\"\",\"\",IF(AH961>Inputs!$D$9,0,1))","v":""},{"$f":"IF(AI961=\"\",\"\",IF(AI961>Inputs!$D$9,0,1))","v":""},{"$f":"IF(AJ961=\"\",\"\",IF(AJ961>Inputs!$D$9,0,1))","v":""},{"$f":"IF(AK961=\"\",\"\",IF(AK961>Inputs!$D$9,0,1))","v":""},{"$f":"IF(AL961=\"\",\"\",IF(AL961>Inputs!$D$9,0,1))","v":""},"",0,null,"","","","","","","","","","","","","","",null,null,"","","","","","","","","","","","",""]
[null,null,null,null,null,null,null,null,null,null,null,null,null,null,"",{"$f":"IF(A962=\"\",\"\",IF(ISERROR(1+D962),\"\",IF(ISERROR(((1+D962/100)*(1+E962/100)*(1+F962/100)*(1+G962/100)*(1+H962/100)*(1+I962/100)*(1+J962/100)*(1+K962/100)*(1+L962/100)*(1+M962/100)*(1+N962/100))^(1/11)-1),\"\",((1+D962/100)*(1+E962/100)*(1+F962/100)*(1+G962/100)*(1+H962/100)*(1+I962/100)*(1+J962/100)*(1+K962/100)*(1+L962/100)*(1+M962/100)*(1+N962/100))^(1/11)-1)))","v":""},"","","","","","","","","","","","","","","","","","","","","","",null,{"$f":"IF(AA962=\"\",\"\",IF(AA962>Inputs!$D$9,0,1))","v":""},{"$f":"IF(AB962=\"\",\"\",IF(AB962>Inputs!$D$9,0,1))","v":""},{"$f":"IF(AC962=\"\",\"\",IF(AC962>Inputs!$D$9,0,1))","v":""},{"$f":"IF(AD962=\"\",\"\",IF(AD962>Inputs!$D$9,0,1))","v":""},{"$f":"IF(AE962=\"\",\"\",IF(AE962>Inputs!$D$9,0,1))","v":""},{"$f":"IF(AF962=\"\",\"\",IF(AF962>Inputs!$D$9,0,1))","v":""},{"$f":"IF(AG962=\"\",\"\",IF(AG962>Inputs!$D$9,0,1))","v":""},{"$f":"IF(AH962=\"\",\"\",IF(AH962>Inputs!$D$9,0,1))","v":""},{"$f":"IF(AI962=\"\",\"\",IF(AI962>Inputs!$D$9,0,1))","v":""},{"$f":"IF(AJ962=\"\",\"\",IF(AJ962>Inputs!$D$9,0,1))","v":""},{"$f":"IF(AK962=\"\",\"\",IF(AK962>Inputs!$D$9,0,1))","v":""},{"$f":"IF(AL962=\"\",\"\",IF(AL962>Inputs!$D$9,0,1))","v":""},"",0,null,"","","","","","","","","","","","","","",null,null,"","","","","","","","","","","","",""]
[null,null,null,null,null,null,null,null,null,null,null,null,null,null,{"$f":"IF(A963=\"\",\"\",IF(ISERROR(1+C963),\"\",IF(ISERROR(((1+C963/100)*(1+D963/100)*(1+E963/100)*(1+F963/100)*(1+G963/100)*(1+H963/100)*(1+I963/100)*(1+J963/100)*(1+K963/100)*(1+L963/100)*(1+M963/100)*(1+N963/100))^(1/12)-1),\"\",((1+C963/100)*(1+D963/100)*(1+E963/100)*(1+F963/100)*(1+G963/100)*(1+H963/100)*(1+I963/100)*(1+J963/100)*(1+K963/100)*(1+L963/100)*(1+M963/100)*(1+N963/100))^(1/12)-1)))","v":""},"",{"$f":"IF(A963=\"\",\"\",IF(ISERROR(1+E963),\"\",IF(ISERROR(((1+E963/100)*(1+F963/100)*(1+G963/100)*(1+H963/100)*(1+I963/100)*(1+J963/100)*(1+K963/100)*(1+L963/100)*(1+M963/100)*(1+N963/100))^(1/10)-1),\"\",((1+E963/100)*(1+F963/100)*(1+G963/100)*(1+H963/100)*(1+I963/100)*(1+J963/100)*(1+K963/100)*(1+L963/100)*(1+M963/100)*(1+N963/100))^(1/10)-1)))","v":""},{"$f":"IF(A963=\"\",\"\",IF(ISERROR(1+F963),\"\",IF(ISERROR(((1+F963/100)*(1+G963/100)*(1+H963/100)*(1+I963/100)*(1+J963/100)*(1+K963/100)*(1+L963/100)*(1+M963/100)*(1+N963/100))^(1/9)-1),\"\",((1+F963/100)*(1+G963/100)*(1+H963/100)*(1+I963/100)*(1+J963/100)*(1+K963/100)*(1+L963/100)*(1+M963/100)*(1+N963/100))^(1/9)-1)))","v":""},{"$f":"IF(A963=\"\",\"\",IF(ISERROR(1+G963),\"\",IF(ISERROR(((1+G963/100)*(1+H963/100)*(1+I963/100)*(1+J963/100)*(1+K963/100)*(1+L963/100)*(1+M963/100)*(1+N963/100))^(1/8)-1),\"\",((1+G963/100)*(1+H963/100)*(1+I963/100)*(1+J963/100)*(1+K963/100)*(1+L963/100)*(1+M963/100)*(1+N963/100))^(1/8)-1)))","v":""},{"$f":"IF(A963=\"\",\"\",IF(ISERROR(1+H963),\"\",IF(ISERROR(((1+H963/100)*(1+I963/100)*(1+J963/100)*(1+K963/100)*(1+L963/100)*(1+M963/100)*(1+N963/100))^(1/7)-1),\"\",((1+H963/100)*(1+I963/100)*(1+J963/100)*(1+K963/100)*(1+L963/100)*(1+M963/100)*(1+N963/100))^(1/7)-1)))","v":""},{"$f":"IF(A963=\"\",\"\",IF(ISERROR(1+I963),\"\",IF(ISERROR(((1+I963/100)*(1+J963/100)*(1+K963/100)*(1+L963/100)*(1+M963/100)*(1+N963/100))^(1/6)-1),\"\",((1+I963/100)*(1+J963/100)*(1+K963/100)*(1+L963/100)*(1+M963/100)*(1+N963/100))^(1/6)-1)))","v":""},{"$f":"IF(A963=\"\",\"\",IF(ISERROR(1+J963),\"\",IF(ISERROR(((1+J963/100)*(1+K963/100)*(1+L963/100)*(1+M963/100)*(1+N963/100))^(1/5)-1),\"\",((1+J963/100)*(1+K963/100)*(1+L963/100)*(1+M963/100)*(1+N963/100))^(1/5)-1)))","v":""},{"$f":"IF(A963=\"\",\"\",IF(ISERROR(1+K963),\"\",IF(ISERROR(((1+K963/100)*(1+L963/100)*(1+M963/100)*(1+N963/100))^(1/4)-1),\"\",((1+K963/100)*(1+L963/100)*(1+M963/100)*(1+N963/100))^(1/4)-1)))","v":""},{"$f":"IF(A963=\"\",\"\",IF(ISERROR(1+L963),\"\",IF(ISERROR(((1+L963/100)*(1+M963/100)*(1+N963/100))^(1/3)-1),\"\",((1+L963/100)*(1+M963/100)*(1+N963/100))^(1/3)-1)))","v":""},{"$f":"IF(A963=\"\",\"\",IF(ISERROR(1+M963),\"\",IF(ISERROR(((1+M963/100)*(1+N963/100))^(1/2)-1),\"\",((1+M963/100)*(1+N963/100))^(1/2)-1)))","v":""},{"$f":"IF(A963=\"\",\"\",IF(ISERROR(1+N963),\"\",IF(ISERROR(((1+N963/100))^(1/1)-1),\"\",((1+N963/100))^(1/1)-1)))","v":""},"","","","","","","","","","","","",null,{"$f":"IF(AA963=\"\",\"\",IF(AA963>Inputs!$D$9,0,1))","v":""},{"$f":"IF(AB963=\"\",\"\",IF(AB963>Inputs!$D$9,0,1))","v":""},{"$f":"IF(AC963=\"\",\"\",IF(AC963>Inputs!$D$9,0,1))","v":""},{"$f":"IF(AD963=\"\",\"\",IF(AD963>Inputs!$D$9,0,1))","v":""},{"$f":"IF(AE963=\"\",\"\",IF(AE963>Inputs!$D$9,0,1))","v":""},{"$f":"IF(AF963=\"\",\"\",IF(AF963>Inputs!$D$9,0,1))","v":""},{"$f":"IF(AG963=\"\",\"\",IF(AG963>Inputs!$D$9,0,1))","v":""},{"$f":"IF(AH963=\"\",\"\",IF(AH963>Inputs!$D$9,0,1))","v":""},{"$f":"IF(AI963=\"\",\"\",IF(AI963>Inputs!$D$9,0,1))","v":""},{"$f":"IF(AJ963=\"\",\"\",IF(AJ963>Inputs!$D$9,0,1))","v":""},{"$f":"IF(AK963=\"\",\"\",IF(AK963>Inputs!$D$9,0,1))","v":""},{"$f":"IF(AL963=\"\",\"\",IF(AL963>Inputs!$D$9,0,1))","v":""},"",{"$f":"COUNT(AN963:AY963)","v":0},null,{"$f":"IF(O963=\"\",\"\",IF(O963>AVERAGE($O$2:$O$1000),1,0))","v":""},{"$f":"IF(P963=\"\",\"\",IF(P963>AVERAGE($P$2:$P$1000),1,0))","v":""},{"$f":"IF(Q963=\"\",\"\",IF(Q963>AVERAGE($Q$2:$Q$1000),1,0))","v":""},{"$f":"IF(R963=\"\",\"\",IF(R963>AVERAGE($R$2:$R$1000),1,0))","v":""},{"$f":"IF(S963=\"\",\"\",IF(S963>AVERAGE($S$2:$S$1000),1,0))","v":""},{"$f":"IF(T963=\"\",\"\",IF(T963>AVERAGE($T$2:$T$1000),1,0))","v":""},{"$f":"IF(U963=\"\",\"\",IF(U963>AVERAGE($U$2:$U$1000),1,0))","v":""},{"$f":"IF(V963=\"\",\"\",IF(V963>AVERAGE($V$2:$V$1000),1,0))","v":""},{"$f":"IF(W963=\"\",\"\",IF(W963>AVERAGE($W$2:$W$1000),1,0))","v":""},{"$f":"IF(X963=\"\",\"\",IF(X963>AVERAGE($X$2:$X$1000),1,0))","v":""},{"$f":"IF(Y963=\"\",\"\",IF(Y963>AVERAGE($Y$2:$Y$1000),1,0))","v":""},{"$f":"IF(Z963=\"\",\"\",IF(Z963>AVERAGE($Z$2:$Z$1000),1,0))","v":""},{"$f":"IF(COUNT(BC963:BN963)=0,\"\",SUM(BC963:BN963)/COUNT(BC963:BN963))","v":""},{"$f":"IF(A963=\"\",\"\",COUNT(BC963:BN963))","v":""},null,null,{"$f":"IF($A963=\"\",\"\",IF(C963=\"-\",0,IF(C963>AVERAGE(C$2:C$1183),1,0)))","v":""},{"$f":"IF($A963=\"\",\"\",IF(D963=\"-\",0,IF(D963>AVERAGE(D$2:D$1183),1,0)))","v":""},{"$f":"IF($A963=\"\",\"\",IF(E963=\"-\",0,IF(E963>AVERAGE(E$2:E$1183),1,0)))","v":""},{"$f":"IF($A963=\"\",\"\",IF(F963=\"-\",0,IF(F963>AVERAGE(F$2:F$1183),1,0)))","v":""},{"$f":"IF($A963=\"\",\"\",IF(G963=\"-\",0,IF(G963>AVERAGE(G$2:G$1183),1,0)))","v":""},{"$f":"IF($A963=\"\",\"\",IF(H963=\"-\",0,IF(H963>AVERAGE(H$2:H$1183),1,0)))","v":""},{"$f":"IF($A963=\"\",\"\",IF(I963=\"-\",0,IF(I963>AVERAGE(I$2:I$1183),1,0)))","v":""},{"$f":"IF($A963=\"\",\"\",IF(J963=\"-\",0,IF(J963>AVERAGE(J$2:J$1183),1,0)))","v":""},{"$f":"IF($A963=\"\",\"\",IF(K963=\"-\",0,IF(K963>AVERAGE(K$2:K$1183),1,0)))","v":""},{"$f":"IF($A963=\"\",\"\",IF(L963=\"-\",0,IF(L963>AVERAGE(L$2:L$1183),1,0)))","v":""},{"$f":"IF($A963=\"\",\"\",IF(M963=\"-\",0,IF(M963>AVERAGE(M$2:M$1183),1,0)))","v":""},{"$f":"IF($A963=\"\",\"\",IF(N963=\"-\",0,IF(N963>AVERAGE(N$2:N$1183),1,0)))","v":""},""]
[null,null,null,null,null,null,null,null,null,null,null,null,null,null,"","","","","","","","","","","","","","","","","","","","","","","","",null,{"$f":"IF(AA964=\"\",\"\",IF(AA964>Inputs!$D$9,0,1))","v":""},{"$f":"IF(AB964=\"\",\"\",IF(AB964>Inputs!$D$9,0,1))","v":""},{"$f":"IF(AC964=\"\",\"\",IF(AC964>Inputs!$D$9,0,1))","v":""},{"$f":"IF(AD964=\"\",\"\",IF(AD964>Inputs!$D$9,0,1))","v":""},{"$f":"IF(AE964=\"\",\"\",IF(AE964>Inputs!$D$9,0,1))","v":""},{"$f":"IF(AF964=\"\",\"\",IF(AF964>Inputs!$D$9,0,1))","v":""},{"$f":"IF(AG964=\"\",\"\",IF(AG964>Inputs!$D$9,0,1))","v":""},{"$f":"IF(AH964=\"\",\"\",IF(AH964>Inputs!$D$9,0,1))","v":""},{"$f":"IF(AI964=\"\",\"\",IF(AI964>Inputs!$D$9,0,1))","v":""},{"$f":"IF(AJ964=\"\",\"\",IF(AJ964>Inputs!$D$9,0,1))","v":""},{"$f":"IF(AK964=\"\",\"\",IF(AK964>Inputs!$D$9,0,1))","v":""},{"$f":"IF(AL964=\"\",\"\",IF(AL964>Inputs!$D$9,0,1))","v":""},"",0,null,"","","","","","","","","","","","","","",null,null,"","","","","","","","","","","","",""]
[null,null,null,null,null,null,null,null,null,null,null,null,null,null,"","","","","","","","","","","","","","","","","","","","","","","","",null,{"$f":"IF(AA965=\"\",\"\",IF(AA965>Inputs!$D$9,0,1))","v":""},{"$f":"IF(AB965=\"\",\"\",IF(AB965>Inputs!$D$9,0,1))","v":""},{"$f":"IF(AC965=\"\",\"\",IF(AC965>Inputs!$D$9,0,1))","v":""},{"$f":"IF(AD965=\"\",\"\",IF(AD965>Inputs!$D$9,0,1))","v":""},{"$f":"IF(AE965=\"\",\"\",IF(AE965>Inputs!$D$9,0,1))","v":""},{"$f":"IF(AF965=\"\",\"\",IF(AF965>Inputs!$D$9,0,1))","v":""},{"$f":"IF(AG965=\"\",\"\",IF(AG965>Inputs!$D$9,0,1))","v":""},{"$f":"IF(AH965=\"\",\"\",IF(AH965>Inputs!$D$9,0,1))","v":""},{"$f":"IF(AI965=\"\",\"\",IF(AI965>Inputs!$D$9,0,1))","v":""},{"$f":"IF(AJ965=\"\",\"\",IF(AJ965>Inputs!$D$9,0,1))","v":""},{"$f":"IF(AK965=\"\",\"\",IF(AK965>Inputs!$D$9,0,1))","v":""},{"$f":"IF(AL965=\"\",\"\",IF(AL965>Inputs!$D$9,0,1))","v":""},"",0,null,"","","","","","","","","","","","","","",null,null,"","","","","","","","","","","","",""]
[null,null,null,null,null,null,null,null,null,null,null,null,null,null,"","","","","","","","","","","","","","","","","","","","","","","","",null,{"$f":"IF(AA966=\"\",\"\",IF(AA966>Inputs!$D$9,0,1))","v":""},{"$f":"IF(AB966=\"\",\"\",IF(AB966>Inputs!$D$9,0,1))","v":""},{"$f":"IF(AC966=\"\",\"\",IF(AC966>Inputs!$D$9,0,1))","v":""},{"$f":"IF(AD966=\"\",\"\",IF(AD966>Inputs!$D$9,0,1))","v":""},{"$f":"IF(AE966=\"\",\"\",IF(AE966>Inputs!$D$9,0,1))","v":""},{"$f":"IF(AF966=\"\",\"\",IF(AF966>Inputs!$D$9,0,1))","v":""},{"$f":"IF(AG966=\"\",\"\",IF(AG966>Inputs!$D$9,0,1))","v":""},{"$f":"IF(AH966=\"\",\"\",IF(AH966>Inputs!$D$9,0,1))","v":""},{"$f":"IF(AI966=\"\",\"\",IF(AI966>Inputs!$D$9,0,1))","v":""},{"$f":"IF(AJ966=\"\",\"\",IF(AJ966>Inputs!$D$9,0,1))","v":""},{"$f":"IF(AK966=\"\",\"\",IF(AK966>Inputs!$D$9,0,1))","v":""},{"$f":"IF(AL966=\"\",\"\",IF(AL966>Inputs!$D$9,0,1))","v":""},"",0,null,"","","","","","","","","","","","","","",null,null,"","","","","","","","","","","","",""]
[null,null,null,null,null,null,null,null,null,null,null,null,null,null,"","","","","","","","","","","","","","","","","","","","","","","","",null,{"$f":"IF(AA967=\"\",\"\",IF(AA967>Inputs!$D$9,0,1))","v":""},{"$f":"IF(AB967=\"\",\"\",IF(AB967>Inputs!$D$9,0,1))","v":""},{"$f":"IF(AC967=\"\",\"\",IF(AC967>Inputs!$D$9,0,1))","v":""},{"$f":"IF(AD967=\"\",\"\",IF(AD967>Inputs!$D$9,0,1))","v":""},{"$f":"IF(AE967=\"\",\"\",IF(AE967>Inputs!$D$9,0,1))","v":""},{"$f":"IF(AF967=\"\",\"\",IF(AF967>Inputs!$D$9,0,1))","v":""},{"$f":"IF(AG967=\"\",\"\",IF(AG967>Inputs!$D$9,0,1))","v":""},{"$f":"IF(AH967=\"\",\"\",IF(AH967>Inputs!$D$9,0,1))","v":""},{"$f":"IF(AI967=\"\",\"\",IF(AI967>Inputs!$D$9,0,1))","v":""},{"$f":"IF(AJ967=\"\",\"\",IF(AJ967>Inputs!$D$9,0,1))","v":""},{"$f":"IF(AK967=\"\",\"\",IF(AK967>Inputs!$D$9,0,1))","v":""},{"$f":"IF(AL967=\"\",\"\",IF(AL967>Inputs!$D$9,0,1))","v":""},"",0,null,"","","","","","","","","","","","","","",null,null,"","","","","","","","","","","","",""]
[null,null,null,null,null,null,null,null,null,null,null,null,null,null,"","","","","","","","","","","","","","","","","","","","","","","","",null,{"$f":"IF(AA968=\"\",\"\",IF(AA968>Inputs!$D$9,0,1))","v":""},{"$f":"IF(AB968=\"\",\"\",IF(AB968>Inputs!$D$9,0,1))","v":""},{"$f":"IF(AC968=\"\",\"\",IF(AC968>Inputs!$D$9,0,1))","v":""},{"$f":"IF(AD968=\"\",\"\",IF(AD968>Inputs!$D$9,0,1))","v":""},{"$f":"IF(AE968=\"\",\"\",IF(AE968>Inputs!$D$9,0,1))","v":""},{"$f":"IF(AF968=\"\",\"\",IF(AF968>Inputs!$D$9,0,1))","v":""},{"$f":"IF(AG968=\"\",\"\",IF(AG968>Inputs!$D$9,0,1))","v":""},{"$f":"IF(AH968=\"\",\"\",IF(AH968>Inputs!$D$9,0,1))","v":""},{"$f":"IF(AI968=\"\",\"\",IF(AI968>Inputs!$D$9,0,1))","v":""},{"$f":"IF(AJ968=\"\",\"\",IF(AJ968>Inputs!$D$9,0,1))","v":""},{"$f":"IF(AK968=\"\",\"\",IF(AK968>Inputs!$D$9,0,1))","v":""},{"$f":"IF(AL968=\"\",\"\",IF(AL968>Inputs!$D$9,0,1))","v":""},"",0,null,"","","","","","","","","","","","","","",null,null,"","","","","","","","","","","","",""]
[null,null,null,null,null,null,null,null,null,null,null,null,null,null,"","","","","","","","","","","","","","","","","","","","","","","","",null,{"$f":"IF(AA969=\"\",\"\",IF(AA969>Inputs!$D$9,0,1))","v":""},{"$f":"IF(AB969=\"\",\"\",IF(AB969>Inputs!$D$9,0,1))","v":""},{"$f":"IF(AC969=\"\",\"\",IF(AC969>Inputs!$D$9,0,1))","v":""},{"$f":"IF(AD969=\"\",\"\",IF(AD969>Inputs!$D$9,0,1))","v":""},{"$f":"IF(AE969=\"\",\"\",IF(AE969>Inputs!$D$9,0,1))","v":""},{"$f":"IF(AF969=\"\",\"\",IF(AF969>Inputs!$D$9,0,1))","v":""},{"$f":"IF(AG969=\"\",\"\",IF(AG969>Inputs!$D$9,0,1))","v":""},{"$f":"IF(AH969=\"\",\"\",IF(AH969>Inputs!$D$9,0,1))","v":""},{"$f":"IF(AI969=\"\",\"\",IF(AI969>Inputs!$D$9,0,1))","v":""},{"$f":"IF(AJ969=\"\",\"\",IF(AJ969>Inputs!$D$9,0,1))","v":""},{"$f":"IF(AK969=\"\",\"\",IF(AK969>Inputs!$D$9,0,1))","v":""},{"$f":"IF(AL969=\"\",\"\",IF(AL969>Inputs!$D$9,0,1))","v":""},"",0,null,"","","","","","","","","","","","","","",null,null,"","","","","","","","","","","","",""]
[null,null,null,null,null,null,null,null,null,null,null,null,null,null,"","","","","","","","","","","","","","","","","","","","","","","","",null,{"$f":"IF(AA970=\"\",\"\",IF(AA970>Inputs!$D$9,0,1))","v":""},{"$f":"IF(AB970=\"\",\"\",IF(AB970>Inputs!$D$9,0,1))","v":""},{"$f":"IF(AC970=\"\",\"\",IF(AC970>Inputs!$D$9,0,1))","v":""},{"$f":"IF(AD970=\"\",\"\",IF(AD970>Inputs!$D$9,0,1))","v":""},{"$f":"IF(AE970=\"\",\"\",IF(AE970>Inputs!$D$9,0,1))","v":""},{"$f":"IF(AF970=\"\",\"\",IF(AF970>Inputs!$D$9,0,1))","v":""},{"$f":"IF(AG970=\"\",\"\",IF(AG970>Inputs!$D$9,0,1))","v":""},{"$f":"IF(AH970=\"\",\"\",IF(AH970>Inputs!$D$9,0,1))","v":""},{"$f":"IF(AI970=\"\",\"\",IF(AI970>Inputs!$D$9,0,1))","v":""},{"$f":"IF(AJ970=\"\",\"\",IF(AJ970>Inputs!$D$9,0,1))","v":""},{"$f":"IF(AK970=\"\",\"\",IF(AK970>Inputs!$D$9,0,1))","v":""},{"$f":"IF(AL970=\"\",\"\",IF(AL970>Inputs!$D$9,0,1))","v":""},"",0,null,"","","","","","","","","","","","","","",null,null,"","","","","","","","","","","","",""]
[null,null,null,null,null,null,null,null,null,null,null,null,null,null,"","","","","","","","","","","","","","","","","","","","","","","","",null,{"$f":"IF(AA971=\"\",\"\",IF(AA971>Inputs!$D$9,0,1))","v":""},{"$f":"IF(AB971=\"\",\"\",IF(AB971>Inputs!$D$9,0,1))","v":""},{"$f":"IF(AC971=\"\",\"\",IF(AC971>Inputs!$D$9,0,1))","v":""},{"$f":"IF(AD971=\"\",\"\",IF(AD971>Inputs!$D$9,0,1))","v":""},{"$f":"IF(AE971=\"\",\"\",IF(AE971>Inputs!$D$9,0,1))","v":""},{"$f":"IF(AF971=\"\",\"\",IF(AF971>Inputs!$D$9,0,1))","v":""},{"$f":"IF(AG971=\"\",\"\",IF(AG971>Inputs!$D$9,0,1))","v":""},{"$f":"IF(AH971=\"\",\"\",IF(AH971>Inputs!$D$9,0,1))","v":""},{"$f":"IF(AI971=\"\",\"\",IF(AI971>Inputs!$D$9,0,1))","v":""},{"$f":"IF(AJ971=\"\",\"\",IF(AJ971>Inputs!$D$9,0,1))","v":""},{"$f":"IF(AK971=\"\",\"\",IF(AK971>Inputs!$D$9,0,1))","v":""},{"$f":"IF(AL971=\"\",\"\",IF(AL971>Inputs!$D$9,0,1))","v":""},"",0,null,"","","","","","","","","","","","","","",null,null,"","","","","","","","","","","","",""]
[null,null,null,null,null,null,null,null,null,null,null,null,null,null,"","","","","","","","","","","","","","","","","","","","","","","","",null,{"$f":"IF(AA972=\"\",\"\",IF(AA972>Inputs!$D$9,0,1))","v":""},{"$f":"IF(AB972=\"\",\"\",IF(AB972>Inputs!$D$9,0,1))","v":""},{"$f":"IF(AC972=\"\",\"\",IF(AC972>Inputs!$D$9,0,1))","v":""},{"$f":"IF(AD972=\"\",\"\",IF(AD972>Inputs!$D$9,0,1))","v":""},{"$f":"IF(AE972=\"\",\"\",IF(AE972>Inputs!$D$9,0,1))","v":""},{"$f":"IF(AF972=\"\",\"\",IF(AF972>Inputs!$D$9,0,1))","v":""},{"$f":"IF(AG972=\"\",\"\",IF(AG972>Inputs!$D$9,0,1))","v":""},{"$f":"IF(AH972=\"\",\"\",IF(AH972>Inputs!$D$9,0,1))","v":""},{"$f":"IF(AI972=\"\",\"\",IF(AI972>Inputs!$D$9,0,1))","v":""},{"$f":"IF(AJ972=\"\",\"\",IF(AJ972>Inputs!$D$9,0,1))","v":""},{"$f":"IF(AK972=\"\",\"\",IF(AK972>Inputs!$D$9,0,1))","v":""},{"$f":"IF(AL972=\"\",\"\",IF(AL972>Inputs!$D$9,0,1))","v":""},"",0,null,"","","","","","","","","","","","","","",null,null,"","","","","","","","","","","","",""]
[null,null,null,null,null,null,null,null,null,null,null,null,null,null,"","","","","","","","","","","","","","","","","","","","","","","","",null,{"$f":"IF(AA973=\"\",\"\",IF(AA973>Inputs!$D$9,0,1))","v":""},{"$f":"IF(AB973=\"\",\"\",IF(AB973>Inputs!$D$9,0,1))","v":""},{"$f":"IF(AC973=\"\",\"\",IF(AC973>Inputs!$D$9,0,1))","v":""},{"$f":"IF(AD973=\"\",\"\",IF(AD973>Inputs!$D$9,0,1))","v":""},{"$f":"IF(AE973=\"\",\"\",IF(AE973>Inputs!$D$9,0,1))","v":""},{"$f":"IF(AF973=\"\",\"\",IF(AF973>Inputs!$D$9,0,1))","v":""},{"$f":"IF(AG973=\"\",\"\",IF(AG973>Inputs!$D$9,0,1))","v":""},{"$f":"IF(AH973=\"\",\"\",IF(AH973>Inputs!$D$9,0,1))","v":""},{"$f":"IF(AI973=\"\",\"\",IF(AI973>Inputs!$D$9,0,1))","v":""},{"$f":"IF(AJ973=\"\",\"\",IF(AJ973>Inputs!$D$9,0,1))","v":""},{"$f":"IF(AK973=\"\",\"\",IF(AK973>Inputs!$D$9,0,1))","v":""},{"$f":"IF(AL973=\"\",\"\",IF(AL973>Inputs!$D$9,0,1))","v":""},"",0,null,"","","","","","","","","","","","","","",null,null,"","","","","","","","","","","","",""]
[null,null,null,null,null,null,null,null,null,null,null,null,null,null,"","","","","","","","","","","","","","","","","","","","","","","","",null,{"$f":"IF(AA974=\"\",\"\",IF(AA974>Inputs!$D$9,0,1))","v":""},{"$f":"IF(AB974=\"\",\"\",IF(AB974>Inputs!$D$9,0,1))","v":""},{"$f":"IF(AC974=\"\",\"\",IF(AC974>Inputs!$D$9,0,1))","v":""},{"$f":"IF(AD974=\"\",\"\",IF(AD974>Inputs!$D$9,0,1))","v":""},{"$f":"IF(AE974=\"\",\"\",IF(AE974>Inputs!$D$9,0,1))","v":""},{"$f":"IF(AF974=\"\",\"\",IF(AF974>Inputs!$D$9,0,1))","v":""},{"$f":"IF(AG974=\"\",\"\",IF(AG974>Inputs!$D$9,0,1))","v":""},{"$f":"IF(AH974=\"\",\"\",IF(AH974>Inputs!$D$9,0,1))","v":""},{"$f":"IF(AI974=\"\",\"\",IF(AI974>Inputs!$D$9,0,1))","v":""},{"$f":"IF(AJ974=\"\",\"\",IF(AJ974>Inputs!$D$9,0,1))","v":""},{"$f":"IF(AK974=\"\",\"\",IF(AK974>Inputs!$D$9,0,1))","v":""},{"$f":"IF(AL974=\"\",\"\",IF(AL974>Inputs!$D$9,0,1))","v":""},"",0,null,"","","","","","","","","","","","","","",null,null,"","","","","","","","","","","","",""]
[null,null,null,null,null,null,null,null,null,null,null,null,null,null,"","","","","","","","","","","","","","","","","","","","","","","","",null,{"$f":"IF(AA975=\"\",\"\",IF(AA975>Inputs!$D$9,0,1))","v":""},{"$f":"IF(AB975=\"\",\"\",IF(AB975>Inputs!$D$9,0,1))","v":""},{"$f":"IF(AC975=\"\",\"\",IF(AC975>Inputs!$D$9,0,1))","v":""},{"$f":"IF(AD975=\"\",\"\",IF(AD975>Inputs!$D$9,0,1))","v":""},{"$f":"IF(AE975=\"\",\"\",IF(AE975>Inputs!$D$9,0,1))","v":""},{"$f":"IF(AF975=\"\",\"\",IF(AF975>Inputs!$D$9,0,1))","v":""},{"$f":"IF(AG975=\"\",\"\",IF(AG975>Inputs!$D$9,0,1))","v":""},{"$f":"IF(AH975=\"\",\"\",IF(AH975>Inputs!$D$9,0,1))","v":""},{"$f":"IF(AI975=\"\",\"\",IF(AI975>Inputs!$D$9,0,1))","v":""},{"$f":"IF(AJ975=\"\",\"\",IF(AJ975>Inputs!$D$9,0,1))","v":""},{"$f":"IF(AK975=\"\",\"\",IF(AK975>Inputs!$D$9,0,1))","v":""},{"$f":"IF(AL975=\"\",\"\",IF(AL975>Inputs!$D$9,0,1))","v":""},"",0,null,"","","","","","","","","","","","","","",null,null,"","","","","","","","","","","","",""]
[null,null,null,null,null,null,null,null,null,null,null,null,null,null,"","","","","","","","","","","","","","","","","","","","","","","","",null,{"$f":"IF(AA976=\"\",\"\",IF(AA976>Inputs!$D$9,0,1))","v":""},{"$f":"IF(AB976=\"\",\"\",IF(AB976>Inputs!$D$9,0,1))","v":""},{"$f":"IF(AC976=\"\",\"\",IF(AC976>Inputs!$D$9,0,1))","v":""},{"$f":"IF(AD976=\"\",\"\",IF(AD976>Inputs!$D$9,0,1))","v":""},{"$f":"IF(AE976=\"\",\"\",IF(AE976>Inputs!$D$9,0,1))","v":""},{"$f":"IF(AF976=\"\",\"\",IF(AF976>Inputs!$D$9,0,1))","v":""},{"$f":"IF(AG976=\"\",\"\",IF(AG976>Inputs!$D$9,0,1))","v":""},{"$f":"IF(AH976=\"\",\"\",IF(AH976>Inputs!$D$9,0,1))","v":""},{"$f":"IF(AI976=\"\",\"\",IF(AI976>Inputs!$D$9,0,1))","v":""},{"$f":"IF(AJ976=\"\",\"\",IF(AJ976>Inputs!$D$9,0,1))","v":""},{"$f":"IF(AK976=\"\",\"\",IF(AK976>Inputs!$D$9,0,1))","v":""},{"$f":"IF(AL976=\"\",\"\",IF(AL976>Inputs!$D$9,0,1))","v":""},"",0,null,"","","","","","","","","","","","","","",null,null,"","","","","","","","","","","","",""]
[null,null,null,null,null,null,null,null,null,null,null,null,null,null,"","","","","","","","","","","","","","","","","","","","","","","","",null,{"$f":"IF(AA977=\"\",\"\",IF(AA977>Inputs!$D$9,0,1))","v":""},{"$f":"IF(AB977=\"\",\"\",IF(AB977>Inputs!$D$9,0,1))","v":""},{"$f":"IF(AC977=\"\",\"\",IF(AC977>Inputs!$D$9,0,1))","v":""},{"$f":"IF(AD977=\"\",\"\",IF(AD977>Inputs!$D$9,0,1))","v":""},{"$f":"IF(AE977=\"\",\"\",IF(AE977>Inputs!$D$9,0,1))","v":""},{"$f":"IF(AF977=\"\",\"\",IF(AF977>Inputs!$D$9,0,1))","v":""},{"$f":"IF(AG977=\"\",\"\",IF(AG977>Inputs!$D$9,0,1))","v":""},{"$f":"IF(AH977=\"\",\"\",IF(AH977>Inputs!$D$9,0,1))","v":""},{"$f":"IF(AI977=\"\",\"\",IF(AI977>Inputs!$D$9,0,1))","v":""},{"$f":"IF(AJ977=\"\",\"\",IF(AJ977>Inputs!$D$9,0,1))","v":""},{"$f":"IF(AK977=\"\",\"\",IF(AK977>Inputs!$D$9,0,1))","v":""},{"$f":"IF(AL977=\"\",\"\",IF(AL977>Inputs!$D$9,0,1))","v":""},"",0,null,"","","","","","","","","","","","","","",null,null,"","","","","","","","","","","","",""]
[null,null,null,null,null,null,null,null,null,null,null,null,null,null,"","","","","","","","","","","","","","","","","","","","","","","","",null,{"$f":"IF(AA978=\"\",\"\",IF(AA978>Inputs!$D$9,0,1))","v":""},{"$f":"IF(AB978=\"\",\"\",IF(AB978>Inputs!$D$9,0,1))","v":""},{"$f":"IF(AC978=\"\",\"\",IF(AC978>Inputs!$D$9,0,1))","v":""},{"$f":"IF(AD978=\"\",\"\",IF(AD978>Inputs!$D$9,0,1))","v":""},{"$f":"IF(AE978=\"\",\"\",IF(AE978>Inputs!$D$9,0,1))","v":""},{"$f":"IF(AF978=\"\",\"\",IF(AF978>Inputs!$D$9,0,1))","v":""},{"$f":"IF(AG978=\"\",\"\",IF(AG978>Inputs!$D$9,0,1))","v":""},{"$f":"IF(AH978=\"\",\"\",IF(AH978>Inputs!$D$9,0,1))","v":""},{"$f":"IF(AI978=\"\",\"\",IF(AI978>Inputs!$D$9,0,1))","v":""},{"$f":"IF(AJ978=\"\",\"\",IF(AJ978>Inputs!$D$9,0,1))","v":""},{"$f":"IF(AK978=\"\",\"\",IF(AK978>Inputs!$D$9,0,1))","v":""},{"$f":"IF(AL978=\"\",\"\",IF(AL978>Inputs!$D$9,0,1))","v":""},"",0,null,"","","","","","","","","","","","","","",null,null,"","","","","","","","","","","","",""]
[null,null,null,null,null,null,null,null,null,null,null,null,null,null,"","","","","","","","","","","","","","","","","","","","","","","","",null,{"$f":"IF(AA979=\"\",\"\",IF(AA979>Inputs!$D$9,0,1))","v":""},{"$f":"IF(AB979=\"\",\"\",IF(AB979>Inputs!$D$9,0,1))","v":""},{"$f":"IF(AC979=\"\",\"\",IF(AC979>Inputs!$D$9,0,1))","v":""},{"$f":"IF(AD979=\"\",\"\",IF(AD979>Inputs!$D$9,0,1))","v":""},{"$f":"IF(AE979=\"\",\"\",IF(AE979>Inputs!$D$9,0,1))","v":""},{"$f":"IF(AF979=\"\",\"\",IF(AF979>Inputs!$D$9,0,1))","v":""},{"$f":"IF(AG979=\"\",\"\",IF(AG979>Inputs!$D$9,0,1))","v":""},{"$f":"IF(AH979=\"\",\"\",IF(AH979>Inputs!$D$9,0,1))","v":""},{"$f":"IF(AI979=\"\",\"\",IF(AI979>Inputs!$D$9,0,1))","v":""},{"$f":"IF(AJ979=\"\",\"\",IF(AJ979>Inputs!$D$9,0,1))","v":""},{"$f":"IF(AK979=\"\",\"\",IF(AK979>Inputs!$D$9,0,1))","v":""},{"$f":"IF(AL979=\"\",\"\",IF(AL979>Inputs!$D$9,0,1))","v":""},"",0,null,"","","","","","","","","","","","","","",null,null,"","","","","","","","","","","","",{"$f":"IF(A979=\"\",\"\",SUM(BS979:CD979))","v":""}]
[null,null,null,null,null,null,null,null,null,null,null,null,null,null,"","","","","","","","","","","","","","","","","","","","","","","","",null,{"$f":"IF(AA980=\"\",\"\",IF(AA980>Inputs!$D$9,0,1))","v":""},{"$f":"IF(AB980=\"\",\"\",IF(AB980>Inputs!$D$9,0,1))","v":""},{"$f":"IF(AC980=\"\",\"\",IF(AC980>Inputs!$D$9,0,1))","v":""},{"$f":"IF(AD980=\"\",\"\",IF(AD980>Inputs!$D$9,0,1))","v":""},{"$f":"IF(AE980=\"\",\"\",IF(AE980>Inputs!$D$9,0,1))","v":""},{"$f":"IF(AF980=\"\",\"\",IF(AF980>Inputs!$D$9,0,1))","v":""},{"$f":"IF(AG980=\"\",\"\",IF(AG980>Inputs!$D$9,0,1))","v":""},{"$f":"IF(AH980=\"\",\"\",IF(AH980>Inputs!$D$9,0,1))","v":""},{"$f":"IF(AI980=\"\",\"\",IF(AI980>Inputs!$D$9,0,1))","v":""},{"$f":"IF(AJ980=\"\",\"\",IF(AJ980>Inputs!$D$9,0,1))","v":""},{"$f":"IF(AK980=\"\",\"\",IF(AK980>Inputs!$D$9,0,1))","v":""},{"$f":"IF(AL980=\"\",\"\",IF(AL980>Inputs!$D$9,0,1))","v":""},"",0,null,"","","","","","","","","","","","","","",null,null,"","","","","","","","","","","","",""]
[null,null,null,null,null,null,null,null,null,null,null,null,null,null,"","","","","","","","","","","","","","","","","","","","","","","","",null,{"$f":"IF(AA981=\"\",\"\",IF(AA981>Inputs!$D$9,0,1))","v":""},{"$f":"IF(AB981=\"\",\"\",IF(AB981>Inputs!$D$9,0,1))","v":""},{"$f":"IF(AC981=\"\",\"\",IF(AC981>Inputs!$D$9,0,1))","v":""},{"$f":"IF(AD981=\"\",\"\",IF(AD981>Inputs!$D$9,0,1))","v":""},{"$f":"IF(AE981=\"\",\"\",IF(AE981>Inputs!$D$9,0,1))","v":""},{"$f":"IF(AF981=\"\",\"\",IF(AF981>Inputs!$D$9,0,1))","v":""},{"$f":"IF(AG981=\"\",\"\",IF(AG981>Inputs!$D$9,0,1))","v":""},{"$f":"IF(AH981=\"\",\"\",IF(AH981>Inputs!$D$9,0,1))","v":""},{"$f":"IF(AI981=\"\",\"\",IF(AI981>Inputs!$D$9,0,1))","v":""},{"$f":"IF(AJ981=\"\",\"\",IF(AJ981>Inputs!$D$9,0,1))","v":""},{"$f":"IF(AK981=\"\",\"\",IF(AK981>Inputs!$D$9,0,1))","v":""},{"$f":"IF(AL981=\"\",\"\",IF(AL981>Inputs!$D$9,0,1))","v":""},"",0,null,"","","","","","","","","","","","","","",null,null,"","","","","","","","","","","","",""]
[null,null,null,null,null,null,null,null,null,null,null,null,null,null,"","","","","","","","","","","","","","","","","","","","","","","","",null,{"$f":"IF(AA982=\"\",\"\",IF(AA982>Inputs!$D$9,0,1))","v":""},{"$f":"IF(AB982=\"\",\"\",IF(AB982>Inputs!$D$9,0,1))","v":""},{"$f":"IF(AC982=\"\",\"\",IF(AC982>Inputs!$D$9,0,1))","v":""},{"$f":"IF(AD982=\"\",\"\",IF(AD982>Inputs!$D$9,0,1))","v":""},{"$f":"IF(AE982=\"\",\"\",IF(AE982>Inputs!$D$9,0,1))","v":""},{"$f":"IF(AF982=\"\",\"\",IF(AF982>Inputs!$D$9,0,1))","v":""},{"$f":"IF(AG982=\"\",\"\",IF(AG982>Inputs!$D$9,0,1))","v":""},{"$f":"IF(AH982=\"\",\"\",IF(AH982>Inputs!$D$9,0,1))","v":""},{"$f":"IF(AI982=\"\",\"\",IF(AI982>Inputs!$D$9,0,1))","v":""},{"$f":"IF(AJ982=\"\",\"\",IF(AJ982>Inputs!$D$9,0,1))","v":""},{"$f":"IF(AK982=\"\",\"\",IF(AK982>Inputs!$D$9,0,1))","v":""},{"$f":"IF(AL982=\"\",\"\",IF(AL982>Inputs!$D$9,0,1))","v":""},"",0,null,"","","","","","","","","","","","","","",null,null,"","","","","","","","","","","","",""]
[null,null,null,null,null,null,null,null,null,null,null,null,null,null,"","","","","","","","","","","","","","","","","","","","","","","","",null,{"$f":"IF(AA983=\"\",\"\",IF(AA983>Inputs!$D$9,0,1))","v":""},{"$f":"IF(AB983=\"\",\"\",IF(AB983>Inputs!$D$9,0,1))","v":""},{"$f":"IF(AC983=\"\",\"\",IF(AC983>Inputs!$D$9,0,1))","v":""},{"$f":"IF(AD983=\"\",\"\",IF(AD983>Inputs!$D$9,0,1))","v":""},{"$f":"IF(AE983=\"\",\"\",IF(AE983>Inputs!$D$9,0,1))","v":""},{"$f":"IF(AF983=\"\",\"\",IF(AF983>Inputs!$D$9,0,1))","v":""},{"$f":"IF(AG983=\"\",\"\",IF(AG983>Inputs!$D$9,0,1))","v":""},{"$f":"IF(AH983=\"\",\"\",IF(AH983>Inputs!$D$9,0,1))","v":""},{"$f":"IF(AI983=\"\",\"\",IF(AI983>Inputs!$D$9,0,1))","v":""},{"$f":"IF(AJ983=\"\",\"\",IF(AJ983>Inputs!$D$9,0,1))","v":""},{"$f":"IF(AK983=\"\",\"\",IF(AK983>Inputs!$D$9,0,1))","v":""},{"$f":"IF(AL983=\"\",\"\",IF(AL983>Inputs!$D$9,0,1))","v":""},"",0,null,"","","","","","","","","","","","","","",null,null,"","","","","","","","","","","","",""]
[null,null,null,null,null,null,null,null,null,null,null,null,null,null,"","","","","","","","","","","","","","","","","","","","","","","","",null,{"$f":"IF(AA984=\"\",\"\",IF(AA984>Inputs!$D$9,0,1))","v":""},{"$f":"IF(AB984=\"\",\"\",IF(AB984>Inputs!$D$9,0,1))","v":""},{"$f":"IF(AC984=\"\",\"\",IF(AC984>Inputs!$D$9,0,1))","v":""},{"$f":"IF(AD984=\"\",\"\",IF(AD984>Inputs!$D$9,0,1))","v":""},{"$f":"IF(AE984=\"\",\"\",IF(AE984>Inputs!$D$9,0,1))","v":""},{"$f":"IF(AF984=\"\",\"\",IF(AF984>Inputs!$D$9,0,1))","v":""},{"$f":"IF(AG984=\"\",\"\",IF(AG984>Inputs!$D$9,0,1))","v":""},{"$f":"IF(AH984=\"\",\"\",IF(AH984>Inputs!$D$9,0,1))","v":""},{"$f":"IF(AI984=\"\",\"\",IF(AI984>Inputs!$D$9,0,1))","v":""},{"$f":"IF(AJ984=\"\",\"\",IF(AJ984>Inputs!$D$9,0,1))","v":""},{"$f":"IF(AK984=\"\",\"\",IF(AK984>Inputs!$D$9,0,1))","v":""},{"$f":"IF(AL984=\"\",\"\",IF(AL984>Inputs!$D$9,0,1))","v":""},"",0,null,"","","","","","","","","","","","","","",null,null,"","","","","","","","","","","","",""]
[null,null,null,null,null,null,null,null,null,null,null,null,null,null,"","","","","","","","","","","","","","","","","","","","","","","","",null,{"$f":"IF(AA985=\"\",\"\",IF(AA985>Inputs!$D$9,0,1))","v":""},{"$f":"IF(AB985=\"\",\"\",IF(AB985>Inputs!$D$9,0,1))","v":""},{"$f":"IF(AC985=\"\",\"\",IF(AC985>Inputs!$D$9,0,1))","v":""},{"$f":"IF(AD985=\"\",\"\",IF(AD985>Inputs!$D$9,0,1))","v":""},{"$f":"IF(AE985=\"\",\"\",IF(AE985>Inputs!$D$9,0,1))","v":""},{"$f":"IF(AF985=\"\",\"\",IF(AF985>Inputs!$D$9,0,1))","v":""},{"$f":"IF(AG985=\"\",\"\",IF(AG985>Inputs!$D$9,0,1))","v":""},{"$f":"IF(AH985=\"\",\"\",IF(AH985>Inputs!$D$9,0,1))","v":""},{"$f":"IF(AI985=\"\",\"\",IF(AI985>Inputs!$D$9,0,1))","v":""},{"$f":"IF(AJ985=\"\",\"\",IF(AJ985>Inputs!$D$9,0,1))","v":""},{"$f":"IF(AK985=\"\",\"\",IF(AK985>Inputs!$D$9,0,1))","v":""},{"$f":"IF(AL985=\"\",\"\",IF(AL985>Inputs!$D$9,0,1))","v":""},"",0,null,"","","","","","","","","","","","","","",null,null,"","","","","","","","","","","","",""]
[null,null,null,null,null,null,null,null,null,null,null,null,null,null,"","","","","","","","","","","","","","","","","","","","","","","","",null,{"$f":"IF(AA986=\"\",\"\",IF(AA986>Inputs!$D$9,0,1))","v":""},{"$f":"IF(AB986=\"\",\"\",IF(AB986>Inputs!$D$9,0,1))","v":""},{"$f":"IF(AC986=\"\",\"\",IF(AC986>Inputs!$D$9,0,1))","v":""},{"$f":"IF(AD986=\"\",\"\",IF(AD986>Inputs!$D$9,0,1))","v":""},{"$f":"IF(AE986=\"\",\"\",IF(AE986>Inputs!$D$9,0,1))","v":""},{"$f":"IF(AF986=\"\",\"\",IF(AF986>Inputs!$D$9,0,1))","v":""},{"$f":"IF(AG986=\"\",\"\",IF(AG986>Inputs!$D$9,0,1))","v":""},{"$f":"IF(AH986=\"\",\"\",IF(AH986>Inputs!$D$9,0,1))","v":""},{"$f":"IF(AI986=\"\",\"\",IF(AI986>Inputs!$D$9,0,1))","v":""},{"$f":"IF(AJ986=\"\",\"\",IF(AJ986>Inputs!$D$9,0,1))","v":""},{"$f":"IF(AK986=\"\",\"\",IF(AK986>Inputs!$D$9,0,1))","v":""},{"$f":"IF(AL986=\"\",\"\",IF(AL986>Inputs!$D$9,0,1))","v":""},"",0,null,"","","","","","","","","","","","","","",null,null,"","","","","","","","","","","","",""]
[null,null,null,null,null,null,null,null,null,null,null,null,null,null,"","","","","","","","","","","","","","","","","","","","","","","","",null,{"$f":"IF(AA987=\"\",\"\",IF(AA987>Inputs!$D$9,0,1))","v":""},{"$f":"IF(AB987=\"\",\"\",IF(AB987>Inputs!$D$9,0,1))","v":""},{"$f":"IF(AC987=\"\",\"\",IF(AC987>Inputs!$D$9,0,1))","v":""},{"$f":"IF(AD987=\"\",\"\",IF(AD987>Inputs!$D$9,0,1))","v":""},{"$f":"IF(AE987=\"\",\"\",IF(AE987>Inputs!$D$9,0,1))","v":""},{"$f":"IF(AF987=\"\",\"\",IF(AF987>Inputs!$D$9,0,1))","v":""},{"$f":"IF(AG987=\"\",\"\",IF(AG987>Inputs!$D$9,0,1))","v":""},{"$f":"IF(AH987=\"\",\"\",IF(AH987>Inputs!$D$9,0,1))","v":""},{"$f":"IF(AI987=\"\",\"\",IF(AI987>Inputs!$D$9,0,1))","v":""},{"$f":"IF(AJ987=\"\",\"\",IF(AJ987>Inputs!$D$9,0,1))","v":""},{"$f":"IF(AK987=\"\",\"\",IF(AK987>Inputs!$D$9,0,1))","v":""},{"$f":"IF(AL987=\"\",\"\",IF(AL987>Inputs!$D$9,0,1))","v":""},"",0,null,"","","","","","","","","","","","","","",null,null,"","","","","","","","","","","","",""]
[null,null,null,null,null,null,null,null,null,null,null,null,null,null,"","","","","","","","","","","","","","","","","","","","","","","","",null,{"$f":"IF(AA988=\"\",\"\",IF(AA988>Inputs!$D$9,0,1))","v":""},{"$f":"IF(AB988=\"\",\"\",IF(AB988>Inputs!$D$9,0,1))","v":""},{"$f":"IF(AC988=\"\",\"\",IF(AC988>Inputs!$D$9,0,1))","v":""},{"$f":"IF(AD988=\"\",\"\",IF(AD988>Inputs!$D$9,0,1))","v":""},{"$f":"IF(AE988=\"\",\"\",IF(AE988>Inputs!$D$9,0,1))","v":""},{"$f":"IF(AF988=\"\",\"\",IF(AF988>Inputs!$D$9,0,1))","v":""},{"$f":"IF(AG988=\"\",\"\",IF(AG988>Inputs!$D$9,0,1))","v":""},{"$f":"IF(AH988=\"\",\"\",IF(AH988>Inputs!$D$9,0,1))","v":""},{"$f":"IF(AI988=\"\",\"\",IF(AI988>Inputs!$D$9,0,1))","v":""},{"$f":"IF(AJ988=\"\",\"\",IF(AJ988>Inputs!$D$9,0,1))","v":""},{"$f":"IF(AK988=\"\",\"\",IF(AK988>Inputs!$D$9,0,1))","v":""},{"$f":"IF(AL988=\"\",\"\",IF(AL988>Inputs!$D$9,0,1))","v":""},"",0,null,"","","","","","","","","","","","","","",null,null,"","","","","","","","","","","","",""]
[null,null,null,null,null,null,null,null,null,null,null,null,null,null,"","","","","","","","","","","","","","","","","","","","","","","","",null,{"$f":"IF(AA989=\"\",\"\",IF(AA989>Inputs!$D$9,0,1))","v":""},{"$f":"IF(AB989=\"\",\"\",IF(AB989>Inputs!$D$9,0,1))","v":""},{"$f":"IF(AC989=\"\",\"\",IF(AC989>Inputs!$D$9,0,1))","v":""},{"$f":"IF(AD989=\"\",\"\",IF(AD989>Inputs!$D$9,0,1))","v":""},{"$f":"IF(AE989=\"\",\"\",IF(AE989>Inputs!$D$9,0,1))","v":""},{"$f":"IF(AF989=\"\",\"\",IF(AF989>Inputs!$D$9,0,1))","v":""},{"$f":"IF(AG989=\"\",\"\",IF(AG989>Inputs!$D$9,0,1))","v":""},{"$f":"IF(AH989=\"\",\"\",IF(AH989>Inputs!$D$9,0,1))","v":""},{"$f":"IF(AI989=\"\",\"\",IF(AI989>Inputs!$D$9,0,1))","v":""},{"$f":"IF(AJ989=\"\",\"\",IF(AJ989>Inputs!$D$9,0,1))","v":""},{"$f":"IF(AK989=\"\",\"\",IF(AK989>Inputs!$D$9,0,1))","v":""},{"$f":"IF(AL989=\"\",\"\",IF(AL989>Inputs!$D$9,0,1))","v":""},"",0,null,"","","","","","","","","","","","","","",null,null,"","","","","","","","","","","","",""]
[null,null,null,null,null,null,null,null,null,null,null,null,null,null,"","","","","","","","","","","","","","","","","","","","","","","","",null,{"$f":"IF(AA990=\"\",\"\",IF(AA990>Inputs!$D$9,0,1))","v":""},{"$f":"IF(AB990=\"\",\"\",IF(AB990>Inputs!$D$9,0,1))","v":""},{"$f":"IF(AC990=\"\",\"\",IF(AC990>Inputs!$D$9,0,1))","v":""},{"$f":"IF(AD990=\"\",\"\",IF(AD990>Inputs!$D$9,0,1))","v":""},{"$f":"IF(AE990=\"\",\"\",IF(AE990>Inputs!$D$9,0,1))","v":""},{"$f":"IF(AF990=\"\",\"\",IF(AF990>Inputs!$D$9,0,1))","v":""},{"$f":"IF(AG990=\"\",\"\",IF(AG990>Inputs!$D$9,0,1))","v":""},{"$f":"IF(AH990=\"\",\"\",IF(AH990>Inputs!$D$9,0,1))","v":""},{"$f":"IF(AI990=\"\",\"\",IF(AI990>Inputs!$D$9,0,1))","v":""},{"$f":"IF(AJ990=\"\",\"\",IF(AJ990>Inputs!$D$9,0,1))","v":""},{"$f":"IF(AK990=\"\",\"\",IF(AK990>Inputs!$D$9,0,1))","v":""},{"$f":"IF(AL990=\"\",\"\",IF(AL990>Inputs!$D$9,0,1))","v":""},"",0,null,"","","","","","","","","","","","","","",null,null,"","","","","","","","","","","","",""]
[null,null,null,null,null,null,null,null,null,null,null,null,null,null,"","","","","","","","","","","","","","","","","","","","","","","","",null,{"$f":"IF(AA991=\"\",\"\",IF(AA991>Inputs!$D$9,0,1))","v":""},{"$f":"IF(AB991=\"\",\"\",IF(AB991>Inputs!$D$9,0,1))","v":""},{"$f":"IF(AC991=\"\",\"\",IF(AC991>Inputs!$D$9,0,1))","v":""},{"$f":"IF(AD991=\"\",\"\",IF(AD991>Inputs!$D$9,0,1))","v":""},{"$f":"IF(AE991=\"\",\"\",IF(AE991>Inputs!$D$9,0,1))","v":""},{"$f":"IF(AF991=\"\",\"\",IF(AF991>Inputs!$D$9,0,1))","v":""},{"$f":"IF(AG991=\"\",\"\",IF(AG991>Inputs!$D$9,0,1))","v":""},{"$f":"IF(AH991=\"\",\"\",IF(AH991>Inputs!$D$9,0,1))","v":""},{"$f":"IF(AI991=\"\",\"\",IF(AI991>Inputs!$D$9,0,1))","v":""},{"$f":"IF(AJ991=\"\",\"\",IF(AJ991>Inputs!$D$9,0,1))","v":""},{"$f":"IF(AK991=\"\",\"\",IF(AK991>Inputs!$D$9,0,1))","v":""},{"$f":"IF(AL991=\"\",\"\",IF(AL991>Inputs!$D$9,0,1))","v":""},"",0,null,"","","","","","","","","","","","","","",null,null,"","","","","","","","","","","","",""]
[null,null,null,null,null,null,null,null,null,null,null,null,null,null,"","","","","","","","","","","","","","","","","","","","","","","","",null,{"$f":"IF(AA992=\"\",\"\",IF(AA992>Inputs!$D$9,0,1))","v":""},{"$f":"IF(AB992=\"\",\"\",IF(AB992>Inputs!$D$9,0,1))","v":""},{"$f":"IF(AC992=\"\",\"\",IF(AC992>Inputs!$D$9,0,1))","v":""},{"$f":"IF(AD992=\"\",\"\",IF(AD992>Inputs!$D$9,0,1))","v":""},{"$f":"IF(AE992=\"\",\"\",IF(AE992>Inputs!$D$9,0,1))","v":""},{"$f":"IF(AF992=\"\",\"\",IF(AF992>Inputs!$D$9,0,1))","v":""},{"$f":"IF(AG992=\"\",\"\",IF(AG992>Inputs!$D$9,0,1))","v":""},{"$f":"IF(AH992=\"\",\"\",IF(AH992>Inputs!$D$9,0,1))","v":""},{"$f":"IF(AI992=\"\",\"\",IF(AI992>Inputs!$D$9,0,1))","v":""},{"$f":"IF(AJ992=\"\",\"\",IF(AJ992>Inputs!$D$9,0,1))","v":""},{"$f":"IF(AK992=\"\",\"\",IF(AK992>Inputs!$D$9,0,1))","v":""},{"$f":"IF(AL992=\"\",\"\",IF(AL992>Inputs!$D$9,0,1))","v":""},"",0,null,"","","","","","","","","","","","","","",null,null,"","","","","","","","","","","","",""]
[null,null,null,null,null,null,null,null,null,null,null,null,null,null,"","","","","","","","","","","","","","","","","","","","","","","","",null,{"$f":"IF(AA993=\"\",\"\",IF(AA993>Inputs!$D$9,0,1))","v":""},{"$f":"IF(AB993=\"\",\"\",IF(AB993>Inputs!$D$9,0,1))","v":""},{"$f":"IF(AC993=\"\",\"\",IF(AC993>Inputs!$D$9,0,1))","v":""},{"$f":"IF(AD993=\"\",\"\",IF(AD993>Inputs!$D$9,0,1))","v":""},{"$f":"IF(AE993=\"\",\"\",IF(AE993>Inputs!$D$9,0,1))","v":""},{"$f":"IF(AF993=\"\",\"\",IF(AF993>Inputs!$D$9,0,1))","v":""},{"$f":"IF(AG993=\"\",\"\",IF(AG993>Inputs!$D$9,0,1))","v":""},{"$f":"IF(AH993=\"\",\"\",IF(AH993>Inputs!$D$9,0,1))","v":""},{"$f":"IF(AI993=\"\",\"\",IF(AI993>Inputs!$D$9,0,1))","v":""},{"$f":"IF(AJ993=\"\",\"\",IF(AJ993>Inputs!$D$9,0,1))","v":""},{"$f":"IF(AK993=\"\",\"\",IF(AK993>Inputs!$D$9,0,1))","v":""},{"$f":"IF(AL993=\"\",\"\",IF(AL993>Inputs!$D$9,0,1))","v":""},"",0,null,"","","","","","","","","","","","","","",null,null,"","","","","","","","","","","","",""]
[null,null,null,null,null,null,null,null,null,null,null,null,null,null,"","","","","","","","","","","","","","","","","","","","","","","","",null,{"$f":"IF(AA994=\"\",\"\",IF(AA994>Inputs!$D$9,0,1))","v":""},{"$f":"IF(AB994=\"\",\"\",IF(AB994>Inputs!$D$9,0,1))","v":""},{"$f":"IF(AC994=\"\",\"\",IF(AC994>Inputs!$D$9,0,1))","v":""},{"$f":"IF(AD994=\"\",\"\",IF(AD994>Inputs!$D$9,0,1))","v":""},{"$f":"IF(AE994=\"\",\"\",IF(AE994>Inputs!$D$9,0,1))","v":""},{"$f":"IF(AF994=\"\",\"\",IF(AF994>Inputs!$D$9,0,1))","v":""},{"$f":"IF(AG994=\"\",\"\",IF(AG994>Inputs!$D$9,0,1))","v":""},{"$f":"IF(AH994=\"\",\"\",IF(AH994>Inputs!$D$9,0,1))","v":""},{"$f":"IF(AI994=\"\",\"\",IF(AI994>Inputs!$D$9,0,1))","v":""},{"$f":"IF(AJ994=\"\",\"\",IF(AJ994>Inputs!$D$9,0,1))","v":""},{"$f":"IF(AK994=\"\",\"\",IF(AK994>Inputs!$D$9,0,1))","v":""},{"$f":"IF(AL994=\"\",\"\",IF(AL994>Inputs!$D$9,0,1))","v":""},{"$f":"IF(COUNT(AN994:AY994)=0,\"\",SUM(AN994:AY994)/COUNT(AN994:AY994))","v":""},0,null,"","","","","","","","","","","","","","",null,null,"","","","","","","","","","","","",""]
[null,null,null,null,null,null,null,null,null,null,null,null,null,null,"","","","","","","","","","","","",{"$f":"IF($A995=\"\",\"\",IF(ISERROR(RANK(O995,$O$2:$O$1000,0)),\"\",RANK(O995,$O$2:$O$1000,0)))","v":""},{"$f":"IF($A995=\"\",\"\",IF(ISERROR(RANK(P995,$P$2:$P$1000,0)),\"\",RANK(P995,$P$2:$P$1000,0)))","v":""},{"$f":"IF($A995=\"\",\"\",IF(ISERROR(RANK(Q995,$Q$2:$Q$1000,0)),\"\",RANK(Q995,$Q$2:$Q$1000,0)))","v":""},{"$f":"IF($A995=\"\",\"\",IF(ISERROR(RANK(R995,$R$2:$R$1000,0)),\"\",RANK(R995,$R$2:$R$1000,0)))","v":""},{"$f":"IF($A995=\"\",\"\",IF(ISERROR(RANK(S995,$S$2:$S$1000,0)),\"\",RANK(S995,$S$2:$S$1000,0)))","v":""},{"$f":"IF($A995=\"\",\"\",IF(ISERROR(RANK(T995,$T$2:$T$1000,0)),\"\",RANK(T995,$T$2:$T$1000,0)))","v":""},{"$f":"IF($A995=\"\",\"\",IF(ISERROR(RANK(U995,$U$2:$U$1000,0)),\"\",RANK(U995,$U$2:$U$1000,0)))","v":""},{"$f":"IF($A995=\"\",\"\",IF(ISERROR(RANK(V995,$V$2:$V$1000,0)),\"\",RANK(V995,$V$2:$V$1000,0)))","v":""},{"$f":"IF($A995=\"\",\"\",IF(ISERROR(RANK(W995,$W$2:$W$1000,0)),\"\",RANK(W995,$W$2:$W$1000,0)))","v":""},{"$f":"IF($A995=\"\",\"\",IF(ISERROR(RANK(X995,$X$2:$X$1000,0)),\"\",RANK(X995,$X$2:$X$1000,0)))","v":""},{"$f":"IF($A995=\"\",\"\",IF(ISERROR(RANK(Y995,$Y$2:$Y$1000,0)),\"\",RANK(Y995,$Y$2:$Y$1000,0)))","v":""},{"$f":"IF($A995=\"\",\"\",IF(ISERROR(RANK(Z995,$Z$2:$Z$1000,0)),\"\",RANK(Z995,$Z$2:$Z$1000,0)))","v":""},null,{"$f":"IF(AA995=\"\",\"\",IF(AA995>Inputs!$D$9,0,1))","v":""},{"$f":"IF(AB995=\"\",\"\",IF(AB995>Inputs!$D$9,0,1))","v":""},{"$f":"IF(AC995=\"\",\"\",IF(AC995>Inputs!$D$9,0,1))","v":""},{"$f":"IF(AD995=\"\",\"\",IF(AD995>Inputs!$D$9,0,1))","v":""},{"$f":"IF(AE995=\"\",\"\",IF(AE995>Inputs!$D$9,0,1))","v":""},{"$f":"IF(AF995=\"\",\"\",IF(AF995>Inputs!$D$9,0,1))","v":""},{"$f":"IF(AG995=\"\",\"\",IF(AG995>Inputs!$D$9,0,1))","v":""},{"$f":"IF(AH995=\"\",\"\",IF(AH995>Inputs!$D$9,0,1))","v":""},{"$f":"IF(AI995=\"\",\"\",IF(AI995>Inputs!$D$9,0,1))","v":""},{"$f":"IF(AJ995=\"\",\"\",IF(AJ995>Inputs!$D$9,0,1))","v":""},{"$f":"IF(AK995=\"\",\"\",IF(AK995>Inputs!$D$9,0,1))","v":""},{"$f":"IF(AL995=\"\",\"\",IF(AL995>Inputs!$D$9,0,1))","v":""},"",0,null,"","","","","","","","","","","","","","",null,null,"","","","","","","","","","","","",""]
[null,null,null,null,null,null,null,null,null,null,null,null,null,null,"","","","","","","","","","","","","","","","","","","","","","","","",null,{"$f":"IF(AA996=\"\",\"\",IF(AA996>Inputs!$D$9,0,1))","v":""},{"$f":"IF(AB996=\"\",\"\",IF(AB996>Inputs!$D$9,0,1))","v":""},{"$f":"IF(AC996=\"\",\"\",IF(AC996>Inputs!$D$9,0,1))","v":""},{"$f":"IF(AD996=\"\",\"\",IF(AD996>Inputs!$D$9,0,1))","v":""},{"$f":"IF(AE996=\"\",\"\",IF(AE996>Inputs!$D$9,0,1))","v":""},{"$f":"IF(AF996=\"\",\"\",IF(AF996>Inputs!$D$9,0,1))","v":""},{"$f":"IF(AG996=\"\",\"\",IF(AG996>Inputs!$D$9,0,1))","v":""},{"$f":"IF(AH996=\"\",\"\",IF(AH996>Inputs!$D$9,0,1))","v":""},{"$f":"IF(AI996=\"\",\"\",IF(AI996>Inputs!$D$9,0,1))","v":""},{"$f":"IF(AJ996=\"\",\"\",IF(AJ996>Inputs!$D$9,0,1))","v":""},{"$f":"IF(AK996=\"\",\"\",IF(AK996>Inputs!$D$9,0,1))","v":""},{"$f":"IF(AL996=\"\",\"\",IF(AL996>Inputs!$D$9,0,1))","v":""},"",0,null,"","","","","","","","","","","","","","",null,null,"","","","","","","","","","","","",""]
[null,null,null,null,null,null,null,null,null,null,null,null,null,null,"","","","","","","","","","","","","","","","","","","","","","","","",null,{"$f":"IF(AA997=\"\",\"\",IF(AA997>Inputs!$D$9,0,1))","v":""},{"$f":"IF(AB997=\"\",\"\",IF(AB997>Inputs!$D$9,0,1))","v":""},{"$f":"IF(AC997=\"\",\"\",IF(AC997>Inputs!$D$9,0,1))","v":""},{"$f":"IF(AD997=\"\",\"\",IF(AD997>Inputs!$D$9,0,1))","v":""},{"$f":"IF(AE997=\"\",\"\",IF(AE997>Inputs!$D$9,0,1))","v":""},{"$f":"IF(AF997=\"\",\"\",IF(AF997>Inputs!$D$9,0,1))","v":""},{"$f":"IF(AG997=\"\",\"\",IF(AG997>Inputs!$D$9,0,1))","v":""},{"$f":"IF(AH997=\"\",\"\",IF(AH997>Inputs!$D$9,0,1))","v":""},{"$f":"IF(AI997=\"\",\"\",IF(AI997>Inputs!$D$9,0,1))","v":""},{"$f":"IF(AJ997=\"\",\"\",IF(AJ997>Inputs!$D$9,0,1))","v":""},{"$f":"IF(AK997=\"\",\"\",IF(AK997>Inputs!$D$9,0,1))","v":""},{"$f":"IF(AL997=\"\",\"\",IF(AL997>Inputs!$D$9,0,1))","v":""},"",0,null,"","","","","","","","","","","","","","",null,null,"","","","","","","","","","","","",""]
[null,null,null,null,null,null,null,null,null,null,null,null,null,null,"","","","","","","","","","","","","","","","","","","","","","","","",null,{"$f":"IF(AA998=\"\",\"\",IF(AA998>Inputs!$D$9,0,1))","v":""},{"$f":"IF(AB998=\"\",\"\",IF(AB998>Inputs!$D$9,0,1))","v":""},{"$f":"IF(AC998=\"\",\"\",IF(AC998>Inputs!$D$9,0,1))","v":""},{"$f":"IF(AD998=\"\",\"\",IF(AD998>Inputs!$D$9,0,1))","v":""},{"$f":"IF(AE998=\"\",\"\",IF(AE998>Inputs!$D$9,0,1))","v":""},{"$f":"IF(AF998=\"\",\"\",IF(AF998>Inputs!$D$9,0,1))","v":""},{"$f":"IF(AG998=\"\",\"\",IF(AG998>Inputs!$D$9,0,1))","v":""},{"$f":"IF(AH998=\"\",\"\",IF(AH998>Inputs!$D$9,0,1))","v":""},{"$f":"IF(AI998=\"\",\"\",IF(AI998>Inputs!$D$9,0,1))","v":""},{"$f":"IF(AJ998=\"\",\"\",IF(AJ998>Inputs!$D$9,0,1))","v":""},{"$f":"IF(AK998=\"\",\"\",IF(AK998>Inputs!$D$9,0,1))","v":""},{"$f":"IF(AL998=\"\",\"\",IF(AL998>Inputs!$D$9,0,1))","v":""},"",0,null,"","","","","","","","","","","","","","",null,null,"","","","","","","","","","","","",""]
[null,null,null,null,null,null,null,null,null,null,null,null,null,null,"","","","","","","","","","","","","","","","","","","","","","","","",null,{"$f":"IF(AA999=\"\",\"\",IF(AA999>Inputs!$D$9,0,1))","v":""},{"$f":"IF(AB999=\"\",\"\",IF(AB999>Inputs!$D$9,0,1))","v":""},{"$f":"IF(AC999=\"\",\"\",IF(AC999>Inputs!$D$9,0,1))","v":""},{"$f":"IF(AD999=\"\",\"\",IF(AD999>Inputs!$D$9,0,1))","v":""},{"$f":"IF(AE999=\"\",\"\",IF(AE999>Inputs!$D$9,0,1))","v":""},{"$f":"IF(AF999=\"\",\"\",IF(AF999>Inputs!$D$9,0,1))","v":""},{"$f":"IF(AG999=\"\",\"\",IF(AG999>Inputs!$D$9,0,1))","v":""},{"$f":"IF(AH999=\"\",\"\",IF(AH999>Inputs!$D$9,0,1))","v":""},{"$f":"IF(AI999=\"\",\"\",IF(AI999>Inputs!$D$9,0,1))","v":""},{"$f":"IF(AJ999=\"\",\"\",IF(AJ999>Inputs!$D$9,0,1))","v":""},{"$f":"IF(AK999=\"\",\"\",IF(AK999>Inputs!$D$9,0,1))","v":""},{"$f":"IF(AL999=\"\",\"\",IF(AL999>Inputs!$D$9,0,1))","v":""},"",0,null,"","","","","","","","","","","","","","",null,null,"","","","","","","","","","","","",""]
[null,null,null,null,null,null,null,null,null,null,null,null,null,null,"","","","","","","","","","","","","","","","","","","","","","","","",null,{"$f":"IF(AA1000=\"\",\"\",IF(AA1000>Inputs!$D$9,0,1))","v":""},{"$f":"IF(AB1000=\"\",\"\",IF(AB1000>Inputs!$D$9,0,1))","v":""},{"$f":"IF(AC1000=\"\",\"\",IF(AC1000>Inputs!$D$9,0,1))","v":""},{"$f":"IF(AD1000=\"\",\"\",IF(AD1000>Inputs!$D$9,0,1))","v":""},{"$f":"IF(AE1000=\"\",\"\",IF(AE1000>Inputs!$D$9,0,1))","v":""},{"$f":"IF(AF1000=\"\",\"\",IF(AF1000>Inputs!$D$9,0,1))","v":""},{"$f":"IF(AG1000=\"\",\"\",IF(AG1000>Inputs!$D$9,0,1))","v":""},{"$f":"IF(AH1000=\"\",\"\",IF(AH1000>Inputs!$D$9,0,1))","v":""},{"$f":"IF(AI1000=\"\",\"\",IF(AI1000>Inputs!$D$9,0,1))","v":""},{"$f":"IF(AJ1000=\"\",\"\",IF(AJ1000>Inputs!$D$9,0,1))","v":""},{"$f":"IF(AK1000=\"\",\"\",IF(AK1000>Inputs!$D$9,0,1))","v":""},{"$f":"IF(AL1000=\"\",\"\",IF(AL1000>Inputs!$D$9,0,1))","v":""},"",0,null,"","","","","","","","","","","","","","",null,null,"","","","","","","","","","","","",""]