{"text_format":"1","workbook":"xlsx","n_sheets":2,"sheets":["Fund","Account Statement"],"not_rendered":{"charts":0,"images":0,"macros":1,"external_links":0,"defined_names":21,"comments":0,"pivot_tables":0},"unopened":[],"bounds":{"document_bytes":16777216,"sheet_cells":100000,"rows_first":2000,"rows_last":500,"rows_between":2000,"halvings":0,"cell_chars":16384,"cell_head_chars":4096},"cells_cut":0,"cells_raw":0,"read":"whole","date_system":"1900"}

{"sheet":"Fund","index":0,"n_rows":4831,"n_cols":51,"rows_kept":2250,"cut":true,"hidden":false,"merged":[[0,0,0,1],[1,0,1,1],[2,0,2,1],[0,3,0,8],[3,3,3,7],[12,3,12,4],[6,0,6,1],[5,3,5,4],[8,3,8,4],[1,5,1,8],[10,3,10,8],[5,0,5,1]],"bounds":{"rows_first":1000,"rows_last":250,"rows_between":1000,"halvings":1}}
["Enter fund nav history below",null,null,"Calculate returns from your SIP investments using NAV history",null,null,null,null,null,null,null,null,null,{"$f":"SUM(N9:N4829)","v":1116},null,null,null,null,null,null,null,null,null,null,null,null,null,null,null,null,null,null,null,null,{"$f":"sipstart+90","v":"2006-01-04"},{"$f":"MONTH(AI1)","v":1},null,null,null,null,null,null,null,1,1,1994]
["Ensure list is in ascending order",null,null,null,null,"Fill only cells in green",null,null,null,null,null,null,null,{"$f":"sip*N1/N3","v":501.12258643915584},null,{"$f":"I7","v":"2005-10-06"},null,null,null,null,null,null,null,null,null,null,null,null,null,null,null,null,null,null,{"$f":"AI1+90","v":"2006-04-04"},{"$f":"MONTH(AI2)","v":4},null,null,null,null,null,null,null,{"$f":"AR1+1","v":2},{"$f":"AS1+1","v":2},{"$f":"AT1+1","v":1995}]
["That is the earliest date is first",null,null,"Monthly SIP amount",1000,null,null,null,null,null,null,null,null,{"$f":"SUM(R9:R4829)","v":2227},null,{"$f":"I9","v":"2015-04-06"},null,null,null,null,null,null,null,null,null,null,null,null,null,null,null,null,null,null,{"$f":"AI2+90","v":"2006-07-03"},7,null,null,null,null,null,null,null,{"$f":"AR2+1","v":3},3,{"$f":"AT2+1","v":1996}]
["The earliest date should be date",null,null,"Date of the 1st transaction should be the 1st entry in the NAV history. i.e.",null,null,null,null,{"$f":"A9","v":"2005-10-05"},null,null,null,null,{"$f":"DAY(sipstart)","v":6},null,null,null,null,null,null,null,null,null,null,null,null,null,null,null,null,null,null,null,null,"2006-10-01",10,null,null,null,null,null,null,null,4,4,1997]
["of your first transaction",null,null,null,null,null,null,null,null,null,null,null,null,null,{"$f":"IF(IF(M5>=sipstart,1,0)+IF(M5<=sipend,1,0)=2,K5,\"\")","v":""},{"$f":"SUM(Z9:Z4830)","v":"2130-07-12"},null,null,null,null,null,null,null,null,null,null,null,null,null,null,null,null,null,null,"2006-12-30",12,null,null,null,null,null,null,null,5,5,1998]
[null,null,null,"SIP start date (2nd transaction)",null,"Date","Month","year"]
[null,null,null,"not before",{"$f":"A9","v":"2005-10-05"},6,10,2005,{"$f":"DATE(H7,G7,F7)","v":"2005-10-06"},null,null,null,null,{"$f":"E10-I9","v":3},null,null,null,null,null,null,null,null,null,null,null,null,null,null,null,null,null,null,null,null,{"$f":"AI5+90","v":"2007-03-30"},3,null,null,null,null,null,null,null,{"$f":"AR5+1","v":6},{"$f":"AS5+1","v":6},{"$f":"AT5+1","v":1999}]
["Date","NAV (INR) ",null,null,null,"Date",9,"year",null,null,null,null,"Date",null,null,null,null,null,null,null,null,"Monthly SIP",null,null,null,null,null,null,null,null,null,null,null,null,"2007-06-28",6,null,null,null,null,null,null,null,7,7,2000]
["2005-10-05",9.9,null,"Date of last SIP transaction",null,{"$f":"F7","v":6},4,2015,{"$f":"DATE(H9,G9,F9)","v":"2015-04-06"},{"$f":"IF(DAY(A9)=sipdate,1,IF(J8=1,0,IF(J7=1,0,IF(J5=1,0,IF(J4=1,0,IF(J3=1,0,IF(J2=1,0,IF(DAY(A9)=sipdate+1,1,IF(DAY(A9)=sipdate+2,1,IF(DAY(A9)=sipdate+3,1,IF(DAY(A9)=sipdate+4,1,IF(DAY(A9)=sipdate+5,1,IF(DAY(A9)=sipdate+6,1,IF(DAY(A9)=sipdate+7,1,0))))))))))))))","v":0},{"$f":"IF(DAY(A9)=sipdate,-sip,IF(K8=-sip,0,IF(K7=-sip,0,IF(K5=-sip,0,IF(K4=-sip,0,IF(K3=-sip,0,IF(K2=-sip,0,IF(DAY(A9)=sipdate+1,-sip,IF(DAY(A9)=sipdate+2,-sip,IF(DAY(A9)=sipdate+3,-sip,IF(DAY(A9)=sipdate+4,-sip,IF(DAY(A9)=sipdate+5,-sip,IF(DAY(A9)=sipdate+6,-sip,IF(DAY(A9)=sipdate+7,-sip,0))))))))))))))","v":0},null,{"$f":"A9","v":"2005-10-05"},{"$f":"IF(IF(M9>=sipstart,1,0)+IF(M9<=sipend,1,0)=2,J9,0)","v":0},{"$f":"IF(IF(M9>=sipstart,1,0)+IF(M9<=sipend,1,0)=2,K9,0)","v":0},{"$f":"sip/B9","v":101.01010101010101},null,{"$f":"IF(IF(M9>=sipstart,1,0)+IF(M9<=sipend,1,0)=2,1,0)","v":0},null,{"$f":"IF((IF(M9>=sipstart,1,2)+IF(M9<=sipend,1,2))=2,M9,0)","v":0},{"$f":"A9","v":"2005-10-05"},{"$f":"-sip","v":-1000},{"$f":"IF(V9=-sip,U9,0)","v":38630},{"$f":"IF(V9=-sip,B9,0)","v":9.9},null,{"$f":"IF(R10=0,IF(R9=1,M9,0),0)","v":0},null,{"$f":"IF(INT((MONTH(M9)-MONTH(sipstart))/3)-(MONTH(M9)-MONTH(sipstart))/3=0,IF(DAY(A9)=sipdate,1,IF(AB8=1,0,IF(AB7=1,0,IF(AB5=1,0,IF(AB4=1,0,IF(AB3=1,0,IF(AB2=1,0,IF(DAY(A9)=sipdate+1,1,IF(DAY(A9)=sipdate+2,1,IF(DAY(A9)=sipdate+3,1,IF(DAY(A9)=sipdate+4,1,IF(DAY(A9)=sipdate+5,1,IF(DAY(A9)=sipdate+6,1,IF(DAY(A9)=sipdate+7,1,0)))))))))))))),0)","v":0},null,{"$f":"IF(INT((MONTH(M9)-MONTH(sipstart))/12)-(MONTH(M9)-MONTH(sipstart))/12=0,IF(DAY(A9)=sipdate,1,IF(AB8=1,0,IF(AB7=1,0,IF(AB5=1,0,IF(AB4=1,0,IF(AB3=1,0,IF(AB2=1,0,IF(DAY(A9)=sipdate+1,1,IF(DAY(A9)=sipdate+2,1,IF(DAY(A9)=sipdate+3,1,IF(DAY(A9)=sipdate+4,1,IF(DAY(A9)=sipdate+5,1,IF(DAY(A9)=sipdate+6,1,IF(DAY(A9)=sipdate+7,1,0)))))))))))))),0)","v":0},{"$f":"IF(AD9=1,A9,0)","v":"00:00:00"},{"$f":"IF(AD9=1,B9,0)","v":0},null,null,{"$f":"AI8+90","v":"2007-09-26"},9,null,null,null,null,null,null,null,{"$f":"AR8+1","v":8},{"$f":"AS8+1","v":8},{"$f":"AT8+1","v":2001},null,null,null,null,"First Transaction"]
["2005-10-06",9.74,null,"not after",{"$f":"MAX(A9:A10001)","v":"2015-04-09"},null,null,null,null,{"$f":"IF(DAY(A10)=sipdate,1,IF(J9=1,0,IF(J8=1,0,IF(J7=1,0,IF(J5=1,0,IF(J4=1,0,IF(J3=1,0,IF(DAY(A10)=sipdate+1,1,IF(DAY(A10)=sipdate+2,1,IF(DAY(A10)=sipdate+3,1,IF(DAY(A10)=sipdate+4,1,IF(DAY(A10)=sipdate+5,1,IF(DAY(A10)=sipdate+6,1,IF(DAY(A10)=sipdate+7,1,0))))))))))))))","v":1},{"$f":"IF(DAY(A10)=sipdate,-sip,IF(K9=-sip,0,IF(K8=-sip,0,IF(K7=-sip,0,IF(K5=-sip,0,IF(K4=-sip,0,IF(K3=-sip,0,IF(DAY(A10)=sipdate+1,-sip,IF(DAY(A10)=sipdate+2,-sip,IF(DAY(A10)=sipdate+3,-sip,IF(DAY(A10)=sipdate+4,-sip,IF(DAY(A10)=sipdate+5,-sip,IF(DAY(A10)=sipdate+6,-sip,IF(DAY(A10)=sipdate+7,-sip,0))))))))))))))","v":-1000},null,"2005-10-06",1,-1000,{"$f":"IF(O10=-sip,-O10/B10,\"\")","v":102.6694045174538},null,1,null,38631,{"$f":"IF((IF(M10>=sipstart,1,2)+IF(M10<=sipend,1,2))=2,M10,0)+IF(T9=actualsipend,actualsipend,0)","v":"2005-10-06"},{"$f":"IF(U10+U9=0,0,IF(U10=U9,sipunits*B9,O10))","v":-1000},38631,9.74,null,0,null,{"$f":"IF(INT((MONTH(M10)-MONTH(sipstart))/3)-(MONTH(M10)-MONTH(sipstart))/3=0,IF(DAY(A10)=sipdate,1,IF(AB9=1,0,IF(AB8=1,0,IF(AB7=1,0,IF(AB5=1,0,IF(AB4=1,0,IF(AB3=1,0,IF(DAY(A10)=sipdate+1,1,IF(DAY(A10)=sipdate+2,1,IF(DAY(A10)=sipdate+3,1,IF(DAY(A10)=sipdate+4,1,IF(DAY(A10)=sipdate+5,1,IF(DAY(A10)=sipdate+6,1,IF(DAY(A10)=sipdate+7,1,0)))))))))))))),0)","v":1},null,{"$f":"IF(INT((MONTH(M10)-MONTH(sipstart))/12)-(MONTH(M10)-MONTH(sipstart))/12=0,IF(DAY(A10)=sipdate,1,IF(AB9=1,0,IF(AB8=1,0,IF(AB7=1,0,IF(AB5=1,0,IF(AB4=1,0,IF(AB3=1,0,IF(DAY(A10)=sipdate+1,1,IF(DAY(A10)=sipdate+2,1,IF(DAY(A10)=sipdate+3,1,IF(DAY(A10)=sipdate+4,1,IF(DAY(A10)=sipdate+5,1,IF(DAY(A10)=sipdate+6,1,IF(DAY(A10)=sipdate+7,1,0)))))))))))))),0)","v":1},"2005-10-06",9.74,null,null,"2007-12-25",12,null,null,null,null,null,null,null,9,9,2002]
["2005-10-07",9.69,null,"The start and end days are assumed to be same",null,null,null,null,null,{"$f":"IF(DAY(A11)=sipdate,1,IF(J10=1,0,IF(J9=1,0,IF(J8=1,0,IF(J7=1,0,IF(J5=1,0,IF(J4=1,0,IF(DAY(A11)=sipdate+1,1,IF(DAY(A11)=sipdate+2,1,IF(DAY(A11)=sipdate+3,1,IF(DAY(A11)=sipdate+4,1,IF(DAY(A11)=sipdate+5,1,IF(DAY(A11)=sipdate+6,1,IF(DAY(A11)=sipdate+7,1,0))))))))))))))","v":0},{"$f":"IF(DAY(A11)=sipdate,-sip,IF(K10=-sip,0,IF(K9=-sip,0,IF(K8=-sip,0,IF(K7=-sip,0,IF(K5=-sip,0,IF(K4=-sip,0,IF(DAY(A11)=sipdate+1,-sip,IF(DAY(A11)=sipdate+2,-sip,IF(DAY(A11)=sipdate+3,-sip,IF(DAY(A11)=sipdate+4,-sip,IF(DAY(A11)=sipdate+5,-sip,IF(DAY(A11)=sipdate+6,-sip,IF(DAY(A11)=sipdate+7,-sip,0))))))))))))))","v":0},null,"2005-10-07",0,0,"",null,1,null,38632,"2005-10-07",0,0,0,null,0,null,{"$f":"IF(INT((MONTH(M11)-MONTH(sipstart))/3)-(MONTH(M11)-MONTH(sipstart))/3=0,IF(DAY(A11)=sipdate,1,IF(AB10=1,0,IF(AB9=1,0,IF(AB8=1,0,IF(AB7=1,0,IF(AB5=1,0,IF(AB4=1,0,IF(DAY(A11)=sipdate+1,1,IF(DAY(A11)=sipdate+2,1,IF(DAY(A11)=sipdate+3,1,IF(DAY(A11)=sipdate+4,1,IF(DAY(A11)=sipdate+5,1,IF(DAY(A11)=sipdate+6,1,IF(DAY(A11)=sipdate+7,1,0)))))))))))))),0)","v":0},null,{"$f":"IF(INT((MONTH(M11)-MONTH(sipstart))/12)-(MONTH(M11)-MONTH(sipstart))/12=0,IF(DAY(A11)=sipdate,1,IF(AB10=1,0,IF(AB9=1,0,IF(AB8=1,0,IF(AB7=1,0,IF(AB5=1,0,IF(AB4=1,0,IF(DAY(A11)=sipdate+1,1,IF(DAY(A11)=sipdate+2,1,IF(DAY(A11)=sipdate+3,1,IF(DAY(A11)=sipdate+4,1,IF(DAY(A11)=sipdate+5,1,IF(DAY(A11)=sipdate+6,1,IF(DAY(A11)=sipdate+7,1,0)))))))))))))),0)","v":0},"00:00:00",0,null,null,"2008-03-24",3,null,null,null,null,null,null,null,10,10,2003]
["2005-10-10",9.61,null,null,null,null,null,null,null,{"$f":"IF(DAY(A12)=sipdate,1,IF(J11=1,0,IF(J10=1,0,IF(J9=1,0,IF(J8=1,0,IF(J7=1,0,IF(J5=1,0,IF(DAY(A12)=sipdate+1,1,IF(DAY(A12)=sipdate+2,1,IF(DAY(A12)=sipdate+3,1,IF(DAY(A12)=sipdate+4,1,IF(DAY(A12)=sipdate+5,1,IF(DAY(A12)=sipdate+6,1,IF(DAY(A12)=sipdate+7,1,0))))))))))))))","v":0},{"$f":"IF(DAY(A12)=sipdate,-sip,IF(K11=-sip,0,IF(K10=-sip,0,IF(K9=-sip,0,IF(K8=-sip,0,IF(K7=-sip,0,IF(K5=-sip,0,IF(DAY(A12)=sipdate+1,-sip,IF(DAY(A12)=sipdate+2,-sip,IF(DAY(A12)=sipdate+3,-sip,IF(DAY(A12)=sipdate+4,-sip,IF(DAY(A12)=sipdate+5,-sip,IF(DAY(A12)=sipdate+6,-sip,IF(DAY(A12)=sipdate+7,-sip,0))))))))))))))","v":0},null,"2005-10-10",0,0,"",null,1,null,38635,"2005-10-10",0,0,0,null,0,null,{"$f":"IF(INT((MONTH(M12)-MONTH(sipstart))/3)-(MONTH(M12)-MONTH(sipstart))/3=0,IF(DAY(A12)=sipdate,1,IF(AB11=1,0,IF(AB10=1,0,IF(AB9=1,0,IF(AB8=1,0,IF(AB7=1,0,IF(AB5=1,0,IF(DAY(A12)=sipdate+1,1,IF(DAY(A12)=sipdate+2,1,IF(DAY(A12)=sipdate+3,1,IF(DAY(A12)=sipdate+4,1,IF(DAY(A12)=sipdate+5,1,IF(DAY(A12)=sipdate+6,1,IF(DAY(A12)=sipdate+7,1,0)))))))))))))),0)","v":0},null,{"$f":"IF(INT((MONTH(M12)-MONTH(sipstart))/12)-(MONTH(M12)-MONTH(sipstart))/12=0,IF(DAY(A12)=sipdate,1,IF(AB11=1,0,IF(AB10=1,0,IF(AB9=1,0,IF(AB8=1,0,IF(AB7=1,0,IF(AB5=1,0,IF(DAY(A12)=sipdate+1,1,IF(DAY(A12)=sipdate+2,1,IF(DAY(A12)=sipdate+3,1,IF(DAY(A12)=sipdate+4,1,IF(DAY(A12)=sipdate+5,1,IF(DAY(A12)=sipdate+6,1,IF(DAY(A12)=sipdate+7,1,0)))))))))))))),0)","v":0},"00:00:00",0,null,null,"2008-06-22",6,null,null,null,null,null,null,null,11,11,2004]
["2005-10-11",9.64,null,"Results",null,null,null,null,null,{"$f":"IF(DAY(A13)=sipdate,1,IF(J12=1,0,IF(J11=1,0,IF(J10=1,0,IF(J9=1,0,IF(J8=1,0,IF(J7=1,0,IF(DAY(A13)=sipdate+1,1,IF(DAY(A13)=sipdate+2,1,IF(DAY(A13)=sipdate+3,1,IF(DAY(A13)=sipdate+4,1,IF(DAY(A13)=sipdate+5,1,IF(DAY(A13)=sipdate+6,1,IF(DAY(A13)=sipdate+7,1,0))))))))))))))","v":0},{"$f":"IF(DAY(A13)=sipdate,-sip,IF(K12=-sip,0,IF(K11=-sip,0,IF(K10=-sip,0,IF(K9=-sip,0,IF(K8=-sip,0,IF(K7=-sip,0,IF(DAY(A13)=sipdate+1,-sip,IF(DAY(A13)=sipdate+2,-sip,IF(DAY(A13)=sipdate+3,-sip,IF(DAY(A13)=sipdate+4,-sip,IF(DAY(A13)=sipdate+5,-sip,IF(DAY(A13)=sipdate+6,-sip,IF(DAY(A13)=sipdate+7,-sip,0))))))))))))))","v":0},null,"2005-10-11",0,0,"",null,1,null,38636,"2005-10-11",0,0,0,null,0,null,{"$f":"IF(INT((MONTH(M13)-MONTH(sipstart))/3)-(MONTH(M13)-MONTH(sipstart))/3=0,IF(DAY(A13)=sipdate,1,IF(AB12=1,0,IF(AB11=1,0,IF(AB10=1,0,IF(AB9=1,0,IF(AB8=1,0,IF(AB7=1,0,IF(DAY(A13)=sipdate+1,1,IF(DAY(A13)=sipdate+2,1,IF(DAY(A13)=sipdate+3,1,IF(DAY(A13)=sipdate+4,1,IF(DAY(A13)=sipdate+5,1,IF(DAY(A13)=sipdate+6,1,IF(DAY(A13)=sipdate+7,1,0)))))))))))))),0)","v":0},null,{"$f":"IF(INT((MONTH(M13)-MONTH(sipstart))/12)-(MONTH(M13)-MONTH(sipstart))/12=0,IF(DAY(A13)=sipdate,1,IF(AB12=1,0,IF(AB11=1,0,IF(AB10=1,0,IF(AB9=1,0,IF(AB8=1,0,IF(AB7=1,0,IF(DAY(A13)=sipdate+1,1,IF(DAY(A13)=sipdate+2,1,IF(DAY(A13)=sipdate+3,1,IF(DAY(A13)=sipdate+4,1,IF(DAY(A13)=sipdate+5,1,IF(DAY(A13)=sipdate+6,1,IF(DAY(A13)=sipdate+7,1,0)))))))))))))),0)","v":0},"00:00:00",0,null,null,"2008-09-20",9,null,null,null,null,null,null,null,12,12,2005]
["2005-10-13",9.49,null,"Investment period",{"$f":"I7","v":"2005-10-06"},null,null,null,null,0,0,null,"2005-10-13",0,0,"",null,1,null,38638,"2005-10-13",0,0,0,null,0,null,0,null,0,"00:00:00",0,null,null,"2008-12-19",12,null,null,null,null,null,null,null,13,null,2006]
["2005-10-14",9.2899999999999991,null,"Investment amount",{"$f":"sip","v":1000},null,null,null,null,0,0,null,"2005-10-14",0,0,"",null,1,null,38639,"2005-10-14",0,0,0,null,0,null,0,null,0,"00:00:00",0,null,null,"2009-03-19",3,null,null,null,null,null,null,null,14,null,2007]
["2005-10-17",9.25,null,"No of installments",{"$f":"COUNTIF('Account Statement'!C2:C6000,\">0\")","v":117},null,null,null,null,0,0,null,"2005-10-17",0,0,"",null,1,null,38642,"2005-10-17",0,0,0,null,0,null,0,null,0,"00:00:00",0,null,null,"2009-06-17",6,null,null,null,null,null,null,null,15,null,2008]
["2005-10-18",9.19,null,"Total units",{"$f":"SUM(P9:P4829)","v":5320.8651216730368},null,null,null,null,0,0,null,"2005-10-18",0,0,"",null,1,null,38643,"2005-10-18",0,0,0,null,0,null,0,null,0,"00:00:00",0,null,null,"2009-09-15",9,null,null,null,null,null,null,null,16,null,2009]
["2005-10-19",8.9499999999999993,null,"CAGR*",{"$f":"'Account Statement'!G4","v":0.24916298985481258},null,null,null,null,0,0,null,"2005-10-19",0,0,"",null,1,null,38644,"2005-10-19",0,0,0,null,0,null,0,null,0,"00:00:00",0,null,null,"2009-12-14",12,null,null,null,null,null,null,null,17,null,2010]
["2005-10-20",8.8000000000000007,null,"Total value* ",{"$f":"-MIN('Account Statement'!C2:C6000)","v":407286.15282497479},null,null,null,null,0,0,null,"2005-10-20",0,0,"",null,1,null,38645,"2005-10-20",0,0,0,null,0,null,0,null,0,"00:00:00",0,null,null,"2010-03-14",3,null,null,null,null,null,null,null,18,null,2011]
["2005-10-21",8.91,null,"Total investment",{"$f":"E15*E16","v":117000},null,null,null,null,0,0,null,"2005-10-21",0,0,"",null,1,null,38646,"2005-10-21",0,0,0,null,0,null,0,null,0,"00:00:00",0,null,null,"2010-06-12",6,null,null,null,null,null,null,null,19,null,2012]
["2005-10-24",8.86,null,"* as on last date in NAV history",null,null,null,null,null,0,0,null,"2005-10-24",0,0,"",null,1,null,38649,"2005-10-24",0,0,0,null,0,null,0,null,0,"00:00:00",0,null,null,"2010-09-10",9,null,null,null,null,null,null,null,20,null,2013]
["2005-10-25",8.91,null,null,null,null,null,null,null,0,0,null,"2005-10-25",0,0,"",null,1,null,38650,"2005-10-25",0,0,0,null,0,null,0,null,0,"00:00:00",0,null,null,"2010-12-09",12,null,null,null,null,null,null,null,21]
["2005-10-26",8.86,null,"NAV history shown corresponds to Franklin India Blue Chip",null,null,null,null,null,0,0,null,"2005-10-26",0,0,"",null,1,null,38651,"2005-10-26",0,0,0,null,0,null,0,null,0,"00:00:00",0,null,null,"2011-03-09",3,null,null,null,null,null,null,null,22]
["2005-10-28",8.6,null,null,null,null,null,null,null,0,0,null,"2005-10-28",0,0,"",null,1,null,38653,"2005-10-28",0,0,0,null,0,null,0,null,0,"00:00:00",0,null,null,"2011-06-07",6,null,null,null,null,null,null,null,23]
["2005-10-31",8.76,null,null,null,null,null,null,null,0,0,null,"2005-10-31",0,0,"",null,1,null,38656,"2005-10-31",0,0,0,null,0,null,0,null,0,"00:00:00",0,null,null,"2011-09-05",9,null,null,null,null,null,null,null,24]
["2005-11-02",8.86,null,null,null,null,null,null,null,0,0,null,"2005-11-02",0,0,"",null,1,null,38658,"2005-11-02",0,0,0,null,0,null,0,null,0,"00:00:00",0,null,null,"2011-12-04",12,null,null,null,null,null,null,null,25]
["2005-11-07",8.99,null,null,null,null,null,null,null,1,-1000,null,"2005-11-07",1,-1000,111.23470522803115,null,1,null,38663,"2005-11-07",-1000,38663,8.99,null,0,null,0,null,0,"00:00:00",0,null,null,"2012-03-03",3,null,null,null,null,null,null,null,26]
["2005-11-08",9.07,null,null,null,null,null,null,null,0,0,null,"2005-11-08",0,0,"",null,1,null,38664,"2005-11-08",0,0,0,null,0,null,0,null,0,"00:00:00",0,null,null,"2012-06-01",6,null,null,null,null,null,null,null,27]
["2005-11-09",9.09,null,null,null,null,null,null,null,0,0,null,"2005-11-09",0,0,"",null,1,null,38665,"2005-11-09",0,0,0,null,0,null,0,null,0,"00:00:00",0,null,null,"2012-08-30",8,null,null,null,null,null,null,null,28]
["2005-11-10",9.11,null,null,null,null,null,null,null,0,0,null,"2005-11-10",0,0,"",null,1,null,38666,"2005-11-10",0,0,0,null,0,null,0,null,0,"00:00:00",0,null,null,"2012-11-28",11,null,null,null,null,null,null,null,29]
["2005-11-11",9.24,null,null,null,null,null,null,null,0,0,null,"2005-11-11",0,0,"",null,1,null,38667,"2005-11-11",0,0,0,null,{"$f":"IF(R32=0,IF(R31=1,M31,0),0)","v":0},null,0,null,0,"00:00:00",0,null,null,"2013-02-26",2,null,null,null,null,null,null,null,30]
["2005-11-14",9.3000000000000007,null,null,null,null,null,null,null,0,0,null,"2005-11-14",0,0,"",null,1,null,38670,"2005-11-14",0,0,0,null,0,null,0,null,0,"00:00:00",0,null,null,"2013-05-27",5,null,null,null,null,null,null,null,31]
["2005-11-16",9.4,null,null,null,null,null,null,null,0,0,null,"2005-11-16",0,0,"",null,1,null,38672,"2005-11-16",0,0,0,null,0,null,0,null,0,"00:00:00",0,null,null,"2013-08-25",8]
["2005-11-17",9.43,null,null,null,null,null,null,null,0,0,null,"2005-11-17",0,0,"",null,1,null,38673,"2005-11-17",0,0,0,null,0,null,0,null,0,"00:00:00",0,null,null,"2013-11-23",11]
["2005-11-18",9.4600000000000009,null,null,null,null,null,null,null,0,0,null,"2005-11-18",0,0,"",null,1,null,38674,"2005-11-18",0,0,0,null,0,null,0,null,0,"00:00:00",0,null,null,"2014-02-21",2]
["2005-11-21",9.34,null,null,null,null,null,null,null,0,0,null,"2005-11-21",0,0,"",null,1,null,38677,"2005-11-21",0,0,0,null,0,null,0,null,0,"00:00:00",0,null,null,"2014-05-22",5]
["2005-11-22",9.25,null,null,null,null,null,null,null,0,0,null,"2005-11-22",0,0,"",null,1,null,38678,"2005-11-22",0,0,0,null,0,null,0,null,0,"00:00:00",0,null,null,"2014-08-20",8]
["2005-11-23",9.3699999999999992,null,null,null,null,null,null,null,0,0,null,"2005-11-23",0,0,"",null,1,null,38679,"2005-11-23",0,0,0,null,0,null,0,null,0,"00:00:00",0,null,null,"2014-11-18",11]
["2005-11-24",9.42,null,null,null,null,null,null,null,0,0,null,"2005-11-24",0,0,"",null,1,null,38680,"2005-11-24",0,0,0,null,0,null,0,null,0,"00:00:00",0,null,null,"2015-02-16",2]
["2005-11-25",9.52,null,null,null,null,null,null,null,0,0,null,"2005-11-25",0,0,"",null,1,null,38681,"2005-11-25",0,0,0,null,0,null,0,null,0,"00:00:00",0,null,null,"2015-05-17",5]
["2005-11-28",9.6300000000000008,null,null,null,null,null,null,null,0,0,null,"2005-11-28",0,0,"",null,1,null,38684,"2005-11-28",0,0,0,null,0,null,0,null,0,"00:00:00",0,null,null,"2015-08-15",8]
["2005-11-29",9.5500000000000007,null,null,null,null,null,null,null,0,0,null,"2005-11-29",0,0,"",null,1,null,38685,"2005-11-29",0,0,0,null,0,null,0,null,0,"00:00:00",0,null,null,"2015-11-13",11]
["2005-11-30",9.5500000000000007,null,null,null,null,null,null,null,0,0,null,"2005-11-30",0,0,"",null,1,null,38686,"2005-11-30",0,0,0,null,0,null,0,null,0,"00:00:00",0,null,null,"2016-02-11",2]
["2005-12-01",9.6,null,null,null,null,null,null,null,0,0,null,"2005-12-01",0,0,"",null,1,null,38687,"2005-12-01",0,0,0,null,0,null,0,null,0,"00:00:00",0,null,null,"2016-05-11",5]
["2005-12-02",9.6199999999999992,null,null,null,null,null,null,null,0,0,null,"2005-12-02",0,0,"",null,1,null,38688,"2005-12-02",0,0,0,null,0,null,0,null,0,"00:00:00",0,null,null,"2016-08-09",8]
["2005-12-05",9.5399999999999991,null,null,null,null,null,null,null,0,0,null,"2005-12-05",0,0,"",null,1,null,38691,"2005-12-05",0,0,0,null,0,null,0,null,0,"00:00:00",0,null,null,"2016-11-07",11]
["2005-12-06",9.5299999999999994,null,null,null,null,null,null,null,1,-1000,null,"2005-12-06",1,-1000,104.93179433368311,null,1,null,38692,"2005-12-06",-1000,38692,9.5299999999999994,null,0,null,0,null,0,"00:00:00",0,null,null,"2017-02-05",2]
["2005-12-07",9.59,null,null,null,null,null,null,null,0,0,null,"2005-12-07",0,0,"",null,1,null,38693,"2005-12-07",0,0,0,null,0,null,0,null,0,"00:00:00",0,null,null,"2017-05-06",5]
["2005-12-08",9.69,null,null,null,null,null,null,null,0,0,null,"2005-12-08",0,0,"",null,1,null,38694,"2005-12-08",0,0,0,null,0,null,0,null,0,"00:00:00",0,null,null,"2017-08-04",8]
["2005-12-09",9.76,null,null,null,null,null,null,null,0,0,null,"2005-12-09",0,0,"",null,1,null,38695,"2005-12-09",0,0,0,null,0,null,0,null,0,"00:00:00",0,null,null,"2017-11-02",11]
["2005-12-12",9.77,null,null,null,null,null,null,null,0,0,null,"2005-12-12",0,0,"",null,1,null,38698,"2005-12-12",0,0,0,null,0,null,0,null,0,"00:00:00",0,null,null,"2018-01-31",1]
["2005-12-13",9.82,null,null,null,null,null,null,null,0,0,null,"2005-12-13",0,0,"",null,1,null,38699,"2005-12-13",0,0,0,null,0,null,0,null,0,"00:00:00",0,null,null,"2018-05-01",5]
["2005-12-14",9.7899999999999991,null,null,null,null,null,null,null,0,0,null,"2005-12-14",0,0,"",null,1,null,38700,"2005-12-14",0,0,0,null,0,null,0,null,0,"00:00:00",0,null,null,"2018-07-30",7]
["2005-12-15",9.77,null,null,null,null,null,null,null,0,0,null,"2005-12-15",0,0,"",null,1,null,38701,"2005-12-15",0,0,0,null,0,null,0,null,0,"00:00:00",0,null,null,"2018-10-28",10]
["2005-12-16",9.86,null,null,null,null,null,null,null,0,0,null,"2005-12-16",0,0,"",null,1,null,38702,"2005-12-16",0,0,0,null,0,null,0,null,0,"00:00:00",0,null,null,"2019-01-26",1]
["2005-12-19",9.99,null,null,null,null,null,null,null,0,0,null,"2005-12-19",0,0,"",null,1,null,38705,"2005-12-19",0,0,0,null,0,null,0,null,0,"00:00:00",0,null,null,"2019-04-26",4]
["2005-12-20",9.93,null,null,null,null,null,null,null,0,0,null,"2005-12-20",0,0,"",null,1,null,38706,"2005-12-20",0,0,0,null,0,null,0,null,0,"00:00:00",0,null,null,"2019-07-25",7]
["2005-12-21",9.9499999999999993,null,null,null,null,null,null,null,0,0,null,"2005-12-21",0,0,"",null,1,null,38707,"2005-12-21",0,0,0,null,0,null,0,null,0,"00:00:00",0,null,null,"2019-10-23",10]
["2005-12-22",9.93,null,null,null,null,null,null,null,0,0,null,"2005-12-22",0,0,"",null,1,null,38708,"2005-12-22",0,0,0,null,0,null,0,null,0,"00:00:00",0,null,null,"2020-01-21",1]
["2005-12-23",9.8000000000000007,null,null,null,null,null,null,null,0,0,null,"2005-12-23",0,0,"",null,1,null,38709,"2005-12-23",0,0,0,null,0,null,0,null,0,"00:00:00",0,null,null,"2020-04-20",4]
["2005-12-26",9.5801999999999996,null,null,null,null,null,null,null,0,0,null,"2005-12-26",0,0,"",null,1,null,38712,"2005-12-26",0,0,0,null,0,null,0,null,0,"00:00:00",0,null,null,"2020-07-19",7]
["2005-12-27",9.7799999999999994,null,null,null,null,null,null,null,0,0,null,"2005-12-27",0,0,"",null,1,null,38713,"2005-12-27",0,0,0,null,0,null,0,null,0,"00:00:00",0,null,null,"2020-10-17",10]
["2005-12-28",9.7899999999999991,null,null,null,null,null,null,null,0,0,null,"2005-12-28",0,0,"",null,1,null,38714,"2005-12-28",0,0,0,null,0,null,0,null,0,"00:00:00",0,null,null,"2021-01-15",1]
["2005-12-29",9.91,null,null,null,null,null,null,null,0,0,null,"2005-12-29",0,0,"",null,1,null,38715,"2005-12-29",0,0,0,null,0,null,0,null,0,"00:00:00",0,null,null,"2021-04-15",4]
["2005-12-30",10.023199999999999,null,null,null,null,null,null,null,0,0,null,"2005-12-30",0,0,"",null,1,null,38716,"2005-12-30",0,0,0,null,0,null,0,null,0,"00:00:00",0,null,null,"2021-07-14",7]
["2006-01-02",10.09,null,null,null,null,null,null,null,0,0,null,"2006-01-02",0,0,"",null,1,null,38719,"2006-01-02",0,0,0,null,0,null,0,null,0,"00:00:00",0,null,null,"2021-10-12",10]
["2006-01-03",10.17,null,null,null,null,null,null,null,0,0,null,"2006-01-03",0,0,"",null,1,null,38720,"2006-01-03",0,0,0,null,0,null,0,null,0,"00:00:00",0,null,null,"2022-01-10",{"$f":"MONTH(AI67)","v":1}]
["2006-01-04",10.17,null,null,null,null,null,null,null,0,0,null,"2006-01-04",0,0,"",null,1,null,38721,"2006-01-04",0,0,0,null,0,null,0,null,0,"00:00:00",0,null,null,{"$f":"AI67+90","v":"2022-04-10"},4]
["2006-01-05",10.130000000000001,null,null,null,null,null,null,null,0,0,null,"2006-01-05",0,0,"",null,1,null,38722,"2006-01-05",0,0,0,null,0,null,0,null,0,"00:00:00",0,null,null,"2022-07-09",7]
["2006-01-06",10.199999999999999,null,null,null,null,null,null,null,1,-1000,null,"2006-01-06",1,-1000,98.039215686274517,null,1,null,38723,"2006-01-06",-1000,38723,10.199999999999999,null,0,null,1,null,0,"00:00:00",0,null,null,"2022-10-07",10]
["2006-01-09",10.33,null,null,null,null,null,null,null,0,0,null,"2006-01-09",0,0,"",null,1,null,38726,"2006-01-09",0,0,0,null,0,null,0,null,0,"00:00:00",0,null,null,"2023-01-05",1]
["2006-01-10",10.31,null,null,null,null,null,null,null,0,0,null,"2006-01-10",0,0,"",null,1,null,38727,"2006-01-10",0,0,0,null,0,null,0,null,0,"00:00:00",0,null,null,"2023-04-05",4]
["2006-01-12",10.38,null,null,null,null,null,null,null,0,0,null,{"$f":"A73","v":"2006-01-12"},{"$f":"IF(IF(M73>=sipstart,1,0)+IF(M73<=sipend,1,0)=2,J73,0)","v":0},{"$f":"IF(IF(M73>=sipstart,1,0)+IF(M73<=sipend,1,0)=2,K73,0)","v":0},"",null,{"$f":"IF(IF(M73>=sipstart,1,0)+IF(M73<=sipend,1,0)=2,1,0)","v":1},null,{"$f":"IF((IF(M73>=sipstart,1,2)+IF(M73<=sipend,1,2))=2,M73,0)","v":38729},"2006-01-12",0,{"$f":"IF(V73=-sip,U73,0)","v":0},{"$f":"IF(V73=-sip,B73,0)","v":0},null,0,null,0,null,0,{"$f":"IF(AD73=1,A73,0)","v":"00:00:00"},{"$f":"IF(AD73=1,B73,0)","v":0},null,null,"2023-07-04",7]
["2006-01-13",10.51,null,null,null,null,null,null,null,0,0,null,"2006-01-13",0,0,{"$f":"IF(O74=-sip,-O74/B74,\"\")","v":""},null,1,null,38730,{"$f":"IF((IF(M74>=sipstart,1,2)+IF(M74<=sipend,1,2))=2,M74,0)+IF(T73=actualsipend,actualsipend,0)","v":"2006-01-13"},{"$f":"IF(U74+U73=0,0,IF(U74=U73,sipunits*B73,O74))","v":0},0,0,null,0,null,0,null,0,"00:00:00",0,null,null,"2023-10-02",10]
["2006-01-16",10.48,null,null,null,null,null,null,null,0,0,null,"2006-01-16",0,0,"",null,1,null,38733,"2006-01-16",0,0,0,null,0,null,0,null,0,"00:00:00",0,null,null,"2023-12-31",12]
["2006-01-17",10.37,null,null,null,null,null,null,null,0,0,null,"2006-01-17",0,0,"",null,1,null,38734,"2006-01-17",0,0,0,null,0,null,0,null,0,"00:00:00",0,null,null,"2024-03-30",3]
["2006-01-18",10.3,null,null,null,null,null,null,null,{"$f":"IF(DAY(A77)=sipdate,1,IF(J76=1,0,IF(J75=1,0,IF(J74=1,0,IF(J73=1,0,IF(J72=1,0,IF(J71=1,0,IF(DAY(A77)=sipdate+1,1,IF(DAY(A77)=sipdate+2,1,IF(DAY(A77)=sipdate+3,1,IF(DAY(A77)=sipdate+4,1,IF(DAY(A77)=sipdate+5,1,IF(DAY(A77)=sipdate+6,1,IF(DAY(A77)=sipdate+7,1,0))))))))))))))","v":0},{"$f":"IF(DAY(A77)=sipdate,-sip,IF(K76=-sip,0,IF(K75=-sip,0,IF(K74=-sip,0,IF(K73=-sip,0,IF(K72=-sip,0,IF(K71=-sip,0,IF(DAY(A77)=sipdate+1,-sip,IF(DAY(A77)=sipdate+2,-sip,IF(DAY(A77)=sipdate+3,-sip,IF(DAY(A77)=sipdate+4,-sip,IF(DAY(A77)=sipdate+5,-sip,IF(DAY(A77)=sipdate+6,-sip,IF(DAY(A77)=sipdate+7,-sip,0))))))))))))))","v":0},null,"2006-01-18",0,0,"",null,1,null,38735,"2006-01-18",0,0,0,null,0,null,{"$f":"IF(INT((MONTH(M77)-MONTH(sipstart))/3)-(MONTH(M77)-MONTH(sipstart))/3=0,IF(DAY(A77)=sipdate,1,IF(AB76=1,0,IF(AB75=1,0,IF(AB74=1,0,IF(AB73=1,0,IF(AB72=1,0,IF(AB71=1,0,IF(DAY(A77)=sipdate+1,1,IF(DAY(A77)=sipdate+2,1,IF(DAY(A77)=sipdate+3,1,IF(DAY(A77)=sipdate+4,1,IF(DAY(A77)=sipdate+5,1,IF(DAY(A77)=sipdate+6,1,IF(DAY(A77)=sipdate+7,1,0)))))))))))))),0)","v":0},null,{"$f":"IF(INT((MONTH(M77)-MONTH(sipstart))/12)-(MONTH(M77)-MONTH(sipstart))/12=0,IF(DAY(A77)=sipdate,1,IF(AB76=1,0,IF(AB75=1,0,IF(AB74=1,0,IF(AB73=1,0,IF(AB72=1,0,IF(AB71=1,0,IF(DAY(A77)=sipdate+1,1,IF(DAY(A77)=sipdate+2,1,IF(DAY(A77)=sipdate+3,1,IF(DAY(A77)=sipdate+4,1,IF(DAY(A77)=sipdate+5,1,IF(DAY(A77)=sipdate+6,1,IF(DAY(A77)=sipdate+7,1,0)))))))))))))),0)","v":0},"00:00:00",0,null,null,"2024-06-28",6]
["2006-01-19",10.52,null,null,null,null,null,null,null,0,0,null,"2006-01-19",0,0,"",null,1,null,38736,"2006-01-19",0,0,0,null,0,null,0,null,0,"00:00:00",0,null,null,"2024-09-26",9]
["2006-01-20",10.61,null,null,null,null,null,null,null,0,0,null,"2006-01-20",0,0,"",null,1,null,38737,"2006-01-20",0,0,0,null,0,null,0,null,0,"00:00:00",0,null,null,"2024-12-25",12]
["2006-01-23",10.69,null,null,null,null,null,null,null,0,0,null,"2006-01-23",0,0,"",null,1,null,38740,"2006-01-23",0,0,0,null,0,null,0,null,0,"00:00:00",0]
["2006-01-24",10.77,null,null,null,null,null,null,null,0,0,null,"2006-01-24",0,0,"",null,1,null,38741,"2006-01-24",0,0,0,null,0,null,0,null,0,"00:00:00",0]
["2006-01-25",10.65,null,null,null,null,null,null,null,0,0,null,"2006-01-25",0,0,"",null,1,null,38742,"2006-01-25",0,0,0,null,0,null,0,null,0,"00:00:00",0]
["2006-01-27",10.69,null,null,null,null,null,null,null,0,0,null,"2006-01-27",0,0,"",null,1,null,38744,"2006-01-27",0,0,0,null,0,null,0,null,0,"00:00:00",0]
["2006-01-30",10.6,null,null,null,null,null,null,null,0,0,null,"2006-01-30",0,0,"",null,1,null,38747,"2006-01-30",0,0,0,null,0,null,0,null,0,"00:00:00",0]
["2006-01-31",10.59,null,null,null,null,null,null,null,0,0,null,"2006-01-31",0,0,"",null,1,null,38748,"2006-01-31",0,0,0,null,0,null,0,null,0,"00:00:00",0]
["2006-02-01",10.49,null,null,null,null,null,null,null,0,0,null,"2006-02-01",0,0,"",null,1,null,38749,"2006-02-01",0,0,0,null,0,null,0,null,0,"00:00:00",0]
["2006-02-02",10.61,null,null,null,null,null,null,null,0,0,null,"2006-02-02",0,0,"",null,1,null,38750,"2006-02-02",0,0,0,null,0,null,0,null,0,"00:00:00",0]
["2006-02-03",10.74,null,null,null,null,null,null,null,0,0,null,"2006-02-03",0,0,"",null,1,null,38751,"2006-02-03",0,0,0,null,0,null,0,null,0,"00:00:00",0]
["2006-02-06",10.78,null,null,null,null,null,null,null,1,-1000,null,"2006-02-06",1,-1000,92.764378478664199,null,1,null,38754,"2006-02-06",-1000,38754,10.78,null,0,null,0,null,0,"00:00:00",0]
["2006-02-07",10.88,null,null,null,null,null,null,null,0,0,null,"2006-02-07",0,0,"",null,1,null,38755,"2006-02-07",0,0,0,null,0,null,0,null,0,"00:00:00",0]
["2006-02-08",10.85,null,null,null,null,null,null,null,0,0,null,"2006-02-08",0,0,"",null,1,null,38756,"2006-02-08",0,0,0,null,0,null,0,null,0,"00:00:00",0]
["2006-02-10",11,null,null,null,null,null,null,null,0,0,null,"2006-02-10",0,0,"",null,1,null,38758,"2006-02-10",0,0,0,null,0,null,0,null,0,"00:00:00",0]
["2006-02-13",11.17,null,null,null,null,null,null,null,0,0,null,"2006-02-13",0,0,"",null,1,null,38761,"2006-02-13",0,0,0,null,0,null,0,null,0,"00:00:00",0]
["2006-02-14",11.07,null,null,null,null,null,null,null,0,0,null,"2006-02-14",0,0,"",null,1,null,38762,"2006-02-14",0,0,0,null,0,null,0,null,0,"00:00:00",0]
["2006-02-15",11.08,null,null,null,null,null,null,null,0,0,null,"2006-02-15",0,0,"",null,1,null,38763,"2006-02-15",0,0,0,null,{"$f":"IF(R96=0,IF(R95=1,M95,0),0)","v":0},null,0,null,0,"00:00:00",0]
["2006-02-16",11.1,null,null,null,null,null,null,null,0,0,null,"2006-02-16",0,0,"",null,1,null,38764,"2006-02-16",0,0,0,null,0,null,0,null,0,"00:00:00",0]
["2006-02-17",10.92,null,null,null,null,null,null,null,0,0,null,"2006-02-17",0,0,"",null,1,null,38765,"2006-02-17",0,0,0,null,0,null,0,null,0,"00:00:00",0]
["2006-02-20",10.9,null,null,null,null,null,null,null,0,0,null,"2006-02-20",0,0,"",null,1,null,38768,"2006-02-20",0,0,0,null,0,null,0,null,0,"00:00:00",0]
["2006-02-21",10.93,null,null,null,null,null,null,null,0,0,null,"2006-02-21",0,0,"",null,1,null,38769,"2006-02-21",0,0,0,null,0,null,0,null,0,"00:00:00",0]
["2006-02-22",10.85,null,null,null,null,null,null,null,0,0,null,"2006-02-22",0,0,"",null,1,null,38770,"2006-02-22",0,0,0,null,0,null,0,null,0,"00:00:00",0]
["2006-02-23",10.82,null,null,null,null,null,null,null,0,0,null,"2006-02-23",0,0,"",null,1,null,38771,"2006-02-23",0,0,0,null,0,null,0,null,0,"00:00:00",0]
["2006-02-24",10.88,null,null,null,null,null,null,null,0,0,null,"2006-02-24",0,0,"",null,1,null,38772,"2006-02-24",0,0,0,null,0,null,0,null,0,"00:00:00",0]
["2006-02-27",11.09,null,null,null,null,null,null,null,0,0,null,"2006-02-27",0,0,"",null,1,null,38775,"2006-02-27",0,0,0,null,0,null,0,null,0,"00:00:00",0]
["2006-02-28",11.14,null,null,null,null,null,null,null,0,0,null,"2006-02-28",0,0,"",null,1,null,38776,"2006-02-28",0,0,0,null,0,null,0,null,0,"00:00:00",0]
["2006-03-02",11.41,null,null,null,null,null,null,null,0,0,null,"2006-03-02",0,0,"",null,1,null,38778,"2006-03-02",0,0,0,null,0,null,0,null,0,"00:00:00",0]
["2006-03-03",11.46,null,null,null,null,null,null,null,0,0,null,"2006-03-03",0,0,"",null,1,null,38779,"2006-03-03",0,0,0,null,0,null,0,null,0,"00:00:00",0]
["2006-03-06",11.66,null,null,null,null,null,null,null,1,-1000,null,"2006-03-06",1,-1000,85.763293310463126,null,1,null,38782,"2006-03-06",-1000,38782,11.66,null,0,null,0,null,0,"00:00:00",0]
["2006-03-07",11.6,null,null,null,null,null,null,null,0,0,null,"2006-03-07",0,0,"",null,1,null,38783,"2006-03-07",0,0,0,null,0,null,0,null,0,"00:00:00",0]
["2006-03-08",11.55,null,null,null,null,null,null,null,0,0,null,"2006-03-08",0,0,"",null,1,null,38784,"2006-03-08",0,0,0,null,0,null,0,null,0,"00:00:00",0]
["2006-03-09",11.64,null,null,null,null,null,null,null,0,0,null,"2006-03-09",0,0,"",null,1,null,38785,"2006-03-09",0,0,0,null,0,null,0,null,0,"00:00:00",0]
["2006-03-10",11.97,null,null,null,null,null,null,null,0,0,null,"2006-03-10",0,0,"",null,1,null,38786,"2006-03-10",0,0,0,null,0,null,0,null,0,"00:00:00",0]
["2006-03-13",12.09,null,null,null,null,null,null,null,0,0,null,"2006-03-13",0,0,"",null,1,null,38789,"2006-03-13",0,0,0,null,0,null,0,null,0,"00:00:00",0]
["2006-03-14",11.94,null,null,null,null,null,null,null,0,0,null,"2006-03-14",0,0,"",null,1,null,38790,"2006-03-14",0,0,0,null,0,null,0,null,0,"00:00:00",0]
["2006-03-16",11.92,null,null,null,null,null,null,null,0,0,null,"2006-03-16",0,0,"",null,1,null,38792,"2006-03-16",0,0,0,null,0,null,0,null,0,"00:00:00",0]
["2006-03-17",11.82,null,null,null,null,null,null,null,0,0,null,"2006-03-17",0,0,"",null,1,null,38793,"2006-03-17",0,0,0,null,0,null,0,null,0,"00:00:00",0]
["2006-03-20",11.95,null,null,null,null,null,null,null,0,0,null,"2006-03-20",0,0,"",null,1,null,38796,"2006-03-20",0,0,0,null,0,null,0,null,0,"00:00:00",0]
["2006-03-21",11.96,null,null,null,null,null,null,null,0,0,null,"2006-03-21",0,0,"",null,1,null,38797,"2006-03-21",0,0,0,null,0,null,0,null,0,"00:00:00",0]
["2006-03-22",11.89,null,null,null,null,null,null,null,0,0,null,"2006-03-22",0,0,"",null,1,null,38798,"2006-03-22",0,0,0,null,0,null,0,null,0,"00:00:00",0]
["2006-03-23",12.02,null,null,null,null,null,null,null,0,0,null,"2006-03-23",0,0,"",null,1,null,38799,"2006-03-23",0,0,0,null,0,null,0,null,0,"00:00:00",0]
["2006-03-24",12.01,null,null,null,null,null,null,null,0,0,null,"2006-03-24",0,0,"",null,1,null,38800,"2006-03-24",0,0,0,null,0,null,0,null,0,"00:00:00",0]
["2006-03-27",12.22,null,null,null,null,null,null,null,0,0,null,"2006-03-27",0,0,"",null,1,null,38803,"2006-03-27",0,0,0,null,0,null,0,null,0,"00:00:00",0]
["2006-03-28",12.19,null,null,null,null,null,null,null,0,0,null,"2006-03-28",0,0,"",null,1,null,38804,"2006-03-28",0,0,0,null,0,null,0,null,0,"00:00:00",0]
["2006-03-29",12.47,null,null,null,null,null,null,null,0,0,null,"2006-03-29",0,0,"",null,1,null,38805,"2006-03-29",0,0,0,null,0,null,0,null,0,"00:00:00",0]
["2006-03-30",12.71,null,null,null,null,null,null,null,0,0,null,"2006-03-30",0,0,"",null,1,null,38806,"2006-03-30",0,0,0,null,0,null,0,null,0,"00:00:00",0]
["2006-03-31",12.83,null,null,null,null,null,null,null,0,0,null,"2006-03-31",0,0,"",null,1,null,38807,"2006-03-31",0,0,0,null,0,null,0,null,0,"00:00:00",0]
["2006-04-03",12.98,null,null,null,null,null,null,null,0,0,null,"2006-04-03",0,0,"",null,1,null,38810,"2006-04-03",0,0,0,null,0,null,0,null,0,"00:00:00",0]
["2006-04-04",13.03,null,null,null,null,null,null,null,0,0,null,"2006-04-04",0,0,"",null,1,null,38811,"2006-04-04",0,0,0,null,0,null,0,null,0,"00:00:00",0]
["2006-04-05",13.14,null,null,null,null,null,null,null,0,0,null,"2006-04-05",0,0,"",null,1,null,38812,"2006-04-05",0,0,0,null,0,null,0,null,0,"00:00:00",0]
["2006-04-07",12.94,null,null,null,null,null,null,null,1,-1000,null,"2006-04-07",1,-1000,77.279752704791349,null,1,null,38814,"2006-04-07",-1000,38814,12.94,null,0,null,1,null,0,"00:00:00",0]
["2006-04-10",13.05,null,null,null,null,null,null,null,0,0,null,"2006-04-10",0,0,"",null,1,null,38817,"2006-04-10",0,0,0,null,0,null,0,null,0,"00:00:00",0]
["2006-04-12",12.88,null,null,null,null,null,null,null,0,0,null,"2006-04-12",0,0,"",null,1,null,38819,"2006-04-12",0,0,0,null,0,null,0,null,0,"00:00:00",0]
["2006-04-13",12.54,null,null,null,null,null,null,null,0,0,null,"2006-04-13",0,0,"",null,1,null,38820,"2006-04-13",0,0,0,null,0,null,0,null,0,"00:00:00",0]
["2006-04-17",12.67,null,null,null,null,null,null,null,0,0,null,"2006-04-17",0,0,"",null,1,null,38824,"2006-04-17",0,0,0,null,0,null,0,null,0,"00:00:00",0]
["2006-04-18",12.86,null,null,null,null,null,null,null,0,0,null,"2006-04-18",0,0,"",null,1,null,38825,"2006-04-18",0,0,0,null,0,null,0,null,0,"00:00:00",0]
["2006-04-19",12.76,null,null,null,null,null,null,null,0,0,null,"2006-04-19",0,0,"",null,1,null,38826,"2006-04-19",0,0,0,null,0,null,0,null,0,"00:00:00",0]
["2006-04-20",12.81,null,null,null,null,null,null,null,0,0,null,"2006-04-20",0,0,"",null,1,null,38827,"2006-04-20",0,0,0,null,0,null,0,null,0,"00:00:00",0]
["2006-04-21",12.89,null,null,null,null,null,null,null,0,0,null,{"$f":"A137","v":"2006-04-21"},{"$f":"IF(IF(M137>=sipstart,1,0)+IF(M137<=sipend,1,0)=2,J137,0)","v":0},{"$f":"IF(IF(M137>=sipstart,1,0)+IF(M137<=sipend,1,0)=2,K137,0)","v":0},"",null,{"$f":"IF(IF(M137>=sipstart,1,0)+IF(M137<=sipend,1,0)=2,1,0)","v":1},null,{"$f":"IF((IF(M137>=sipstart,1,2)+IF(M137<=sipend,1,2))=2,M137,0)","v":38828},"2006-04-21",0,{"$f":"IF(V137=-sip,U137,0)","v":0},{"$f":"IF(V137=-sip,B137,0)","v":0},null,0,null,0,null,0,{"$f":"IF(AD137=1,A137,0)","v":"00:00:00"},{"$f":"IF(AD137=1,B137,0)","v":0}]
["2006-04-24",12.96,null,null,null,null,null,null,null,0,0,null,"2006-04-24",0,0,{"$f":"IF(O138=-sip,-O138/B138,\"\")","v":""},null,1,null,38831,{"$f":"IF((IF(M138>=sipstart,1,2)+IF(M138<=sipend,1,2))=2,M138,0)+IF(T137=actualsipend,actualsipend,0)","v":"2006-04-24"},{"$f":"IF(U138+U137=0,0,IF(U138=U137,sipunits*B137,O138))","v":0},0,0,null,0,null,0,null,0,"00:00:00",0]
["2006-04-25",12.83,null,null,null,null,null,null,null,0,0,null,"2006-04-25",0,0,"",null,1,null,38832,"2006-04-25",0,0,0,null,0,null,0,null,0,"00:00:00",0]
["2006-04-26",13.03,null,null,null,null,null,null,null,0,0,null,"2006-04-26",0,0,"",null,1,null,38833,"2006-04-26",0,0,0,null,0,null,0,null,0,"00:00:00",0]
["2006-04-27",13.02,null,null,null,null,null,null,null,{"$f":"IF(DAY(A141)=sipdate,1,IF(J140=1,0,IF(J139=1,0,IF(J138=1,0,IF(J137=1,0,IF(J136=1,0,IF(J135=1,0,IF(DAY(A141)=sipdate+1,1,IF(DAY(A141)=sipdate+2,1,IF(DAY(A141)=sipdate+3,1,IF(DAY(A141)=sipdate+4,1,IF(DAY(A141)=sipdate+5,1,IF(DAY(A141)=sipdate+6,1,IF(DAY(A141)=sipdate+7,1,0))))))))))))))","v":0},{"$f":"IF(DAY(A141)=sipdate,-sip,IF(K140=-sip,0,IF(K139=-sip,0,IF(K138=-sip,0,IF(K137=-sip,0,IF(K136=-sip,0,IF(K135=-sip,0,IF(DAY(A141)=sipdate+1,-sip,IF(DAY(A141)=sipdate+2,-sip,IF(DAY(A141)=sipdate+3,-sip,IF(DAY(A141)=sipdate+4,-sip,IF(DAY(A141)=sipdate+5,-sip,IF(DAY(A141)=sipdate+6,-sip,IF(DAY(A141)=sipdate+7,-sip,0))))))))))))))","v":0},null,"2006-04-27",0,0,"",null,1,null,38834,"2006-04-27",0,0,0,null,0,null,{"$f":"IF(INT((MONTH(M141)-MONTH(sipstart))/3)-(MONTH(M141)-MONTH(sipstart))/3=0,IF(DAY(A141)=sipdate,1,IF(AB140=1,0,IF(AB139=1,0,IF(AB138=1,0,IF(AB137=1,0,IF(AB136=1,0,IF(AB135=1,0,IF(DAY(A141)=sipdate+1,1,IF(DAY(A141)=sipdate+2,1,IF(DAY(A141)=sipdate+3,1,IF(DAY(A141)=sipdate+4,1,IF(DAY(A141)=sipdate+5,1,IF(DAY(A141)=sipdate+6,1,IF(DAY(A141)=sipdate+7,1,0)))))))))))))),0)","v":0},null,{"$f":"IF(INT((MONTH(M141)-MONTH(sipstart))/12)-(MONTH(M141)-MONTH(sipstart))/12=0,IF(DAY(A141)=sipdate,1,IF(AB140=1,0,IF(AB139=1,0,IF(AB138=1,0,IF(AB137=1,0,IF(AB136=1,0,IF(AB135=1,0,IF(DAY(A141)=sipdate+1,1,IF(DAY(A141)=sipdate+2,1,IF(DAY(A141)=sipdate+3,1,IF(DAY(A141)=sipdate+4,1,IF(DAY(A141)=sipdate+5,1,IF(DAY(A141)=sipdate+6,1,IF(DAY(A141)=sipdate+7,1,0)))))))))))))),0)","v":0},"00:00:00",0]
["2006-04-28",12.95,null,null,null,null,null,null,null,0,0,null,"2006-04-28",0,0,"",null,1,null,38835,"2006-04-28",0,0,0,null,0,null,0,null,0,"00:00:00",0]
["2006-05-02",13.31,null,null,null,null,null,null,null,0,0,null,"2006-05-02",0,0,"",null,1,null,38839,"2006-05-02",0,0,0,null,0,null,0,null,0,"00:00:00",0]
["2006-05-03",13.22,null,null,null,null,null,null,null,0,0,null,"2006-05-03",0,0,"",null,1,null,38840,"2006-05-03",0,0,0,null,0,null,0,null,0,"00:00:00",0]
["2006-05-04",13.33,null,null,null,null,null,null,null,0,0,null,"2006-05-04",0,0,"",null,1,null,38841,"2006-05-04",0,0,0,null,0,null,0,null,0,"00:00:00",0]
["2006-05-05",13.5,null,null,null,null,null,null,null,0,0,null,"2006-05-05",0,0,"",null,1,null,38842,"2006-05-05",0,0,0,null,0,null,0,null,0,"00:00:00",0]
["2006-05-08",13.55,null,null,null,null,null,null,null,1,-1000,null,"2006-05-08",1,-1000,73.800738007380076,null,1,null,38845,"2006-05-08",-1000,38845,13.55,null,0,null,0,null,0,"00:00:00",0]
["2006-05-09",13.54,null,null,null,null,null,null,null,0,0,null,"2006-05-09",0,0,"",null,1,null,38846,"2006-05-09",0,0,0,null,0,null,0,null,0,"00:00:00",0]
["2006-05-10",13.77,null,null,null,null,null,null,null,0,0,null,"2006-05-10",0,0,"",null,1,null,38847,"2006-05-10",0,0,0,null,0,null,0,null,0,"00:00:00",0]
["2006-05-11",13.64,null,null,null,null,null,null,null,0,0,null,"2006-05-11",0,0,"",null,1,null,38848,"2006-05-11",0,0,0,null,0,null,0,null,0,"00:00:00",0]
["2006-05-12",13.57,null,null,null,null,null,null,null,0,0,null,"2006-05-12",0,0,"",null,1,null,38849,"2006-05-12",0,0,0,null,0,null,0,null,0,"00:00:00",0]
["2006-05-15",13.4,null,null,null,null,null,null,null,0,0,null,"2006-05-15",0,0,"",null,1,null,38852,"2006-05-15",0,0,0,null,0,null,0,null,0,"00:00:00",0]
["2006-05-16",13.38,null,null,null,null,null,null,null,0,0,null,"2006-05-16",0,0,"",null,1,null,38853,"2006-05-16",0,0,0,null,0,null,0,null,0,"00:00:00",0]
["2006-05-17",13.84,null,null,null,null,null,null,null,0,0,null,"2006-05-17",0,0,"",null,1,null,38854,"2006-05-17",0,0,0,null,0,null,0,null,0,"00:00:00",0]
["2006-05-18",12.93,null,null,null,null,null,null,null,0,0,null,"2006-05-18",0,0,"",null,1,null,38855,"2006-05-18",0,0,0,null,0,null,0,null,0,"00:00:00",0]
["2006-05-23",11.69,null,null,null,null,null,null,null,0,0,null,"2006-05-23",0,0,"",null,1,null,38860,"2006-05-23",0,0,0,null,0,null,0,null,0,"00:00:00",0]
["2006-05-24",11.61,null,null,null,null,null,null,null,0,0,null,"2006-05-24",0,0,"",null,1,null,38861,"2006-05-24",0,0,0,null,0,null,0,null,0,"00:00:00",0]
["2006-05-25",11.71,null,null,null,null,null,null,null,0,0,null,"2006-05-25",0,0,"",null,1,null,38862,"2006-05-25",0,0,0,null,0,null,0,null,0,"00:00:00",0]
["2006-05-26",11.82,null,null,null,null,null,null,null,0,0,null,"2006-05-26",0,0,"",null,1,null,38863,"2006-05-26",0,0,0,null,{"$f":"IF(R160=0,IF(R159=1,M159,0),0)","v":0},null,0,null,0,"00:00:00",0]
["2006-05-29",11.91,null,null,null,null,null,null,null,0,0,null,"2006-05-29",0,0,"",null,1,null,38866,"2006-05-29",0,0,0,null,0,null,0,null,0,"00:00:00",0]
["2006-05-30",11.78,null,null,null,null,null,null,null,0,0,null,"2006-05-30",0,0,"",null,1,null,38867,"2006-05-30",0,0,0,null,0,null,0,null,0,"00:00:00",0]
["2006-05-31",11.48,null,null,null,null,null,null,null,0,0,null,"2006-05-31",0,0,"",null,1,null,38868,"2006-05-31",0,0,0,null,0,null,0,null,0,"00:00:00",0]
["2006-06-01",11.07,null,null,null,null,null,null,null,0,0,null,"2006-06-01",0,0,"",null,1,null,38869,"2006-06-01",0,0,0,null,0,null,0,null,0,"00:00:00",0]
["2006-06-02",10.89,null,null,null,null,null,null,null,0,0,null,"2006-06-02",0,0,"",null,1,null,38870,"2006-06-02",0,0,0,null,0,null,0,null,0,"00:00:00",0]
["2006-06-05",10.71,null,null,null,null,null,null,null,0,0,null,"2006-06-05",0,0,"",null,1,null,38873,"2006-06-05",0,0,0,null,0,null,0,null,0,"00:00:00",0]
["2006-06-06",10.33,null,null,null,null,null,null,null,1,-1000,null,"2006-06-06",1,-1000,96.805421103581793,null,1,null,38874,"2006-06-06",-1000,38874,10.33,null,0,null,0,null,0,"00:00:00",0]
["2006-06-07",9.6,null,null,null,null,null,null,null,0,0,null,"2006-06-07",0,0,"",null,1,null,38875,"2006-06-07",0,0,0,null,0,null,0,null,0,"00:00:00",0]
["2006-06-08",8.77,null,null,null,null,null,null,null,0,0,null,"2006-06-08",0,0,"",null,1,null,38876,"2006-06-08",0,0,0,null,0,null,0,null,0,"00:00:00",0]
["2006-06-09",9.24,null,null,null,null,null,null,null,0,0,null,"2006-06-09",0,0,"",null,1,null,38877,"2006-06-09",0,0,0,null,0,null,0,null,0,"00:00:00",0]
["2006-06-12",9.3800000000000008,null,null,null,null,null,null,null,0,0,null,"2006-06-12",0,0,"",null,1,null,38880,"2006-06-12",0,0,0,null,0,null,0,null,0,"00:00:00",0]
["2006-06-13",8.77,null,null,null,null,null,null,null,0,0,null,"2006-06-13",0,0,"",null,1,null,38881,"2006-06-13",0,0,0,null,0,null,0,null,0,"00:00:00",0]
["2006-06-14",8.58,null,null,null,null,null,null,null,0,0,null,"2006-06-14",0,0,"",null,1,null,38882,"2006-06-14",0,0,0,null,0,null,0,null,0,"00:00:00",0]
["2006-06-15",8.9600000000000009,null,null,null,null,null,null,null,0,0,null,"2006-06-15",0,0,"",null,1,null,38883,"2006-06-15",0,0,0,null,0,null,0,null,0,"00:00:00",0]
["2006-06-16",9.3000000000000007,null,null,null,null,null,null,null,0,0,null,"2006-06-16",0,0,"",null,1,null,38884,"2006-06-16",0,0,0,null,0,null,0,null,0,"00:00:00",0]
["2006-06-19",9.42,null,null,null,null,null,null,null,0,0,null,"2006-06-19",0,0,"",null,1,null,38887,"2006-06-19",0,0,0,null,0,null,0,null,0,"00:00:00",0]
["2006-06-20",9.56,null,null,null,null,null,null,null,0,0,null,"2006-06-20",0,0,"",null,1,null,38888,"2006-06-20",0,0,0,null,0,null,0,null,0,"00:00:00",0]
["2006-06-21",9.74,null,null,null,null,null,null,null,0,0,null,"2006-06-21",0,0,"",null,1,null,38889,"2006-06-21",0,0,0,null,0,null,0,null,0,"00:00:00",0]
["2006-06-22",9.94,null,null,null,null,null,null,null,0,0,null,"2006-06-22",0,0,"",null,1,null,38890,"2006-06-22",0,0,0,null,0,null,0,null,0,"00:00:00",0]
["2006-06-23",9.9,null,null,null,null,null,null,null,0,0,null,"2006-06-23",0,0,"",null,1,null,38891,"2006-06-23",0,0,0,null,0,null,0,null,0,"00:00:00",0]
["2006-06-26",9.6300000000000008,null,null,null,null,null,null,null,0,0,null,"2006-06-26",0,0,"",null,1,null,38894,"2006-06-26",0,0,0,null,0,null,0,null,0,"00:00:00",0]
["2006-06-27",9.49,null,null,null,null,null,null,null,0,0,null,"2006-06-27",0,0,"",null,1,null,38895,"2006-06-27",0,0,0,null,0,null,0,null,0,"00:00:00",0]
["2006-06-28",9.4700000000000006,null,null,null,null,null,null,null,0,0,null,"2006-06-28",0,0,"",null,1,null,38896,"2006-06-28",0,0,0,null,0,null,0,null,0,"00:00:00",0]
["2006-06-29",9.49,null,null,null,null,null,null,null,0,0,null,"2006-06-29",0,0,"",null,1,null,38897,"2006-06-29",0,0,0,null,0,null,0,null,0,"00:00:00",0]
["2006-06-30",9.74,null,null,null,null,null,null,null,0,0,null,"2006-06-30",0,0,"",null,1,null,38898,"2006-06-30",0,0,0,null,0,null,0,null,0,"00:00:00",0]
["2006-07-03",9.7899999999999991,null,null,null,null,null,null,null,0,0,null,"2006-07-03",0,0,"",null,1,null,38901,"2006-07-03",0,0,0,null,0,null,0,null,0,"00:00:00",0]
["2006-07-04",9.7843,null,null,null,null,null,null,null,0,0,null,"2006-07-04",0,0,"",null,1,null,38902,"2006-07-04",0,0,0,null,0,null,0,null,0,"00:00:00",0]
["2006-07-05",9.7636000000000003,null,null,null,null,null,null,null,0,0,null,"2006-07-05",0,0,"",null,1,null,38903,"2006-07-05",0,0,0,null,0,null,0,null,0,"00:00:00",0]
["2006-07-06",9.7005999999999997,null,null,null,null,null,null,null,1,-1000,null,"2006-07-06",1,-1000,103.0864070263695,null,1,null,38904,"2006-07-06",-1000,38904,9.7005999999999997,null,0,null,1,null,0,"00:00:00",0]
["2006-07-07",9.5959000000000003,null,null,null,null,null,null,null,0,0,null,"2006-07-07",0,0,"",null,1,null,38905,"2006-07-07",0,0,0,null,0,null,0,null,0,"00:00:00",0]
["2006-07-10",9.5542999999999996,null,null,null,null,null,null,null,0,0,null,"2006-07-10",0,0,"",null,1,null,38908,"2006-07-10",0,0,0,null,0,null,0,null,0,"00:00:00",0]
["2006-07-11",9.5965000000000007,null,null,null,null,null,null,null,0,0,null,"2006-07-11",0,0,"",null,1,null,38909,"2006-07-11",0,0,0,null,0,null,0,null,0,"00:00:00",0]
["2006-07-12",9.6563999999999997,null,null,null,null,null,null,null,0,0,null,"2006-07-12",0,0,"",null,1,null,38910,"2006-07-12",0,0,0,null,0,null,0,null,0,"00:00:00",0]
["2006-07-13",9.6389999999999993,null,null,null,null,null,null,null,0,0,null,"2006-07-13",0,0,"",null,1,null,38911,"2006-07-13",0,0,0,null,0,null,0,null,0,"00:00:00",0]
["2006-07-14",9.5741999999999994,null,null,null,null,null,null,null,0,0,null,"2006-07-14",0,0,"",null,1,null,38912,"2006-07-14",0,0,0,null,0,null,0,null,0,"00:00:00",0]
["2006-07-17",9.4347999999999992,null,null,null,null,null,null,null,0,0,null,"2006-07-17",0,0,"",null,1,null,38915,"2006-07-17",0,0,0,null,0,null,0,null,0,"00:00:00",0]
["2006-07-18",9.3684999999999992,null,null,null,null,null,null,null,0,0,null,"2006-07-18",0,0,"",null,1,null,38916,"2006-07-18",0,0,0,null,0,null,0,null,0,"00:00:00",0]
["2006-07-19",9.1790000000000003,null,null,null,null,null,null,null,0,0,null,"2006-07-19",0,0,"",null,1,null,38917,"2006-07-19",0,0,0,null,0,null,0,null,0,"00:00:00",0]
["2006-07-20",9.2337000000000007,null,null,null,null,null,null,null,0,0,null,"2006-07-20",0,0,"",null,1,null,38918,"2006-07-20",0,0,0,null,0,null,0,null,0,"00:00:00",0]
["2006-07-21",9.1024999999999991,null,null,null,null,null,null,null,0,0,null,"2006-07-21",0,0,"",null,1,null,38919,"2006-07-21",0,0,0,null,0,null,0,null,0,"00:00:00",0]
["2006-07-24",9.0626999999999995,null,null,null,null,null,null,null,0,0,null,"2006-07-24",0,0,"",null,1,null,38922,"2006-07-24",0,0,0,null,0,null,0,null,0,"00:00:00",0]
["2006-07-25",9.2119999999999997,null,null,null,null,null,null,null,0,0,null,{"$f":"A201","v":"2006-07-25"},{"$f":"IF(IF(M201>=sipstart,1,0)+IF(M201<=sipend,1,0)=2,J201,0)","v":0},{"$f":"IF(IF(M201>=sipstart,1,0)+IF(M201<=sipend,1,0)=2,K201,0)","v":0},"",null,{"$f":"IF(IF(M201>=sipstart,1,0)+IF(M201<=sipend,1,0)=2,1,0)","v":1},null,{"$f":"IF((IF(M201>=sipstart,1,2)+IF(M201<=sipend,1,2))=2,M201,0)","v":38923},"2006-07-25",0,{"$f":"IF(V201=-sip,U201,0)","v":0},{"$f":"IF(V201=-sip,B201,0)","v":0},null,0,null,0,null,0,{"$f":"IF(AD201=1,A201,0)","v":"00:00:00"},{"$f":"IF(AD201=1,B201,0)","v":0}]
["2006-07-26",9.4353999999999996,null,null,null,null,null,null,null,0,0,null,"2006-07-26",0,0,{"$f":"IF(O202=-sip,-O202/B202,\"\")","v":""},null,1,null,38924,{"$f":"IF((IF(M202>=sipstart,1,2)+IF(M202<=sipend,1,2))=2,M202,0)+IF(T201=actualsipend,actualsipend,0)","v":"2006-07-26"},{"$f":"IF(U202+U201=0,0,IF(U202=U201,sipunits*B201,O202))","v":0},0,0,null,0,null,0,null,0,"00:00:00",0]
["2006-07-27",9.5349000000000004,null,null,null,null,null,null,null,0,0,null,"2006-07-27",0,0,"",null,1,null,38925,"2006-07-27",0,0,0,null,0,null,0,null,0,"00:00:00",0]
["2006-07-28",9.6167999999999996,null,null,null,null,null,null,null,0,0,null,"2006-07-28",0,0,"",null,1,null,38926,"2006-07-28",0,0,0,null,0,null,0,null,0,"00:00:00",0]
["2006-07-31",9.67,null,null,null,null,null,null,null,{"$f":"IF(DAY(A205)=sipdate,1,IF(J204=1,0,IF(J203=1,0,IF(J202=1,0,IF(J201=1,0,IF(J200=1,0,IF(J199=1,0,IF(DAY(A205)=sipdate+1,1,IF(DAY(A205)=sipdate+2,1,IF(DAY(A205)=sipdate+3,1,IF(DAY(A205)=sipdate+4,1,IF(DAY(A205)=sipdate+5,1,IF(DAY(A205)=sipdate+6,1,IF(DAY(A205)=sipdate+7,1,0))))))))))))))","v":0},{"$f":"IF(DAY(A205)=sipdate,-sip,IF(K204=-sip,0,IF(K203=-sip,0,IF(K202=-sip,0,IF(K201=-sip,0,IF(K200=-sip,0,IF(K199=-sip,0,IF(DAY(A205)=sipdate+1,-sip,IF(DAY(A205)=sipdate+2,-sip,IF(DAY(A205)=sipdate+3,-sip,IF(DAY(A205)=sipdate+4,-sip,IF(DAY(A205)=sipdate+5,-sip,IF(DAY(A205)=sipdate+6,-sip,IF(DAY(A205)=sipdate+7,-sip,0))))))))))))))","v":0},null,"2006-07-31",0,0,"",null,1,null,38929,"2006-07-31",0,0,0,null,0,null,{"$f":"IF(INT((MONTH(M205)-MONTH(sipstart))/3)-(MONTH(M205)-MONTH(sipstart))/3=0,IF(DAY(A205)=sipdate,1,IF(AB204=1,0,IF(AB203=1,0,IF(AB202=1,0,IF(AB201=1,0,IF(AB200=1,0,IF(AB199=1,0,IF(DAY(A205)=sipdate+1,1,IF(DAY(A205)=sipdate+2,1,IF(DAY(A205)=sipdate+3,1,IF(DAY(A205)=sipdate+4,1,IF(DAY(A205)=sipdate+5,1,IF(DAY(A205)=sipdate+6,1,IF(DAY(A205)=sipdate+7,1,0)))))))))))))),0)","v":0},null,{"$f":"IF(INT((MONTH(M205)-MONTH(sipstart))/12)-(MONTH(M205)-MONTH(sipstart))/12=0,IF(DAY(A205)=sipdate,1,IF(AB204=1,0,IF(AB203=1,0,IF(AB202=1,0,IF(AB201=1,0,IF(AB200=1,0,IF(AB199=1,0,IF(DAY(A205)=sipdate+1,1,IF(DAY(A205)=sipdate+2,1,IF(DAY(A205)=sipdate+3,1,IF(DAY(A205)=sipdate+4,1,IF(DAY(A205)=sipdate+5,1,IF(DAY(A205)=sipdate+6,1,IF(DAY(A205)=sipdate+7,1,0)))))))))))))),0)","v":0},"00:00:00",0]
["2006-08-01",9.6267999999999994,null,null,null,null,null,null,null,0,0,null,"2006-08-01",0,0,"",null,1,null,38930,"2006-08-01",0,0,0,null,0,null,0,null,0,"00:00:00",0]
["2006-08-02",9.7584,null,null,null,null,null,null,null,0,0,null,"2006-08-02",0,0,"",null,1,null,38931,"2006-08-02",0,0,0,null,0,null,0,null,0,"00:00:00",0]
["2006-08-03",9.7882999999999996,null,null,null,null,null,null,null,0,0,null,"2006-08-03",0,0,"",null,1,null,38932,"2006-08-03",0,0,0,null,0,null,0,null,0,"00:00:00",0]
["2006-08-04",9.8015000000000008,null,null,null,null,null,null,null,0,0,null,"2006-08-04",0,0,"",null,1,null,38933,"2006-08-04",0,0,0,null,0,null,0,null,0,"00:00:00",0]
["2006-08-07",9.8063000000000002,null,null,null,null,null,null,null,1,-1000,null,"2006-08-07",1,-1000,101.9752608017295,null,1,null,38936,"2006-08-07",-1000,38936,9.8063000000000002,null,0,null,0,null,0,"00:00:00",0]
["2006-08-08",9.9201999999999995,null,null,null,null,null,null,null,0,0,null,"2006-08-08",0,0,"",null,1,null,38937,"2006-08-08",0,0,0,null,0,null,0,null,0,"00:00:00",0]
["2006-08-09",10.097200000000001,null,null,null,null,null,null,null,0,0,null,"2006-08-09",0,0,"",null,1,null,38938,"2006-08-09",0,0,0,null,0,null,0,null,0,"00:00:00",0]
["2006-08-10",10.190200000000001,null,null,null,null,null,null,null,0,0,null,"2006-08-10",0,0,"",null,1,null,38939,"2006-08-10",0,0,0,null,0,null,0,null,0,"00:00:00",0]
["2006-08-11",10.2858,null,null,null,null,null,null,null,0,0,null,"2006-08-11",0,0,"",null,1,null,38940,"2006-08-11",0,0,0,null,0,null,0,null,0,"00:00:00",0]
["2006-08-14",10.3887,null,null,null,null,null,null,null,0,0,null,"2006-08-14",0,0,"",null,1,null,38943,"2006-08-14",0,0,0,null,0,null,0,null,0,"00:00:00",0]
["2006-08-16",10.5174,null,null,null,null,null,null,null,1000,0,null,"2006-08-16",1000,0,"",null,1,null,38945,"2006-08-16",0,0,0,null,0,null,0,null,0,"00:00:00",0]
["2006-08-17",10.4855,null,null,null,null,null,null,null,{"$f":"IF(DAY(A217)=sipdate,1,IF(J216=1,0,IF(J215=1,0,IF(J214=1,0,IF(J213=1,0,IF(J212=1,0,IF(J211=1,0,IF(DAY(A217)=sipdate+1,1,IF(DAY(A217)=sipdate+2,1,IF(DAY(A217)=sipdate+3,1,IF(DAY(A217)=sipdate+4,1,IF(DAY(A217)=sipdate+5,1,IF(DAY(A217)=sipdate+6,1,IF(DAY(A217)=sipdate+7,1,0))))))))))))))","v":0},0,null,"2006-08-17",0,0,"",null,1,null,38946,"2006-08-17",0,0,0,null,0,null,0,null,0,"00:00:00",0]
["2006-08-18",10.5365,null,null,null,null,null,null,null,0,0,null,"2006-08-18",0,0,"",null,1,null,38947,"2006-08-18",0,0,0,null,0,null,0,null,0,"00:00:00",0]
["2006-08-21",10.6122,null,null,null,null,null,null,null,0,0,null,"2006-08-21",0,0,"",null,1,null,38950,"2006-08-21",0,0,0,null,0,null,0,null,0,"00:00:00",0]
["2006-08-22",10.7402,null,null,null,null,null,null,null,0,0,null,"2006-08-22",0,0,"",null,1,null,38951,"2006-08-22",0,0,0,null,0,null,0,null,0,"00:00:00",0]
["2006-08-23",10.703200000000001,null,null,null,null,null,null,null,0,0,null,"2006-08-23",0,0,"",null,1,null,38952,"2006-08-23",0,0,0,null,0,null,0,null,0,"00:00:00",0]
["2006-08-24",10.728999999999999,null,null,null,null,null,null,null,0,0,null,"2006-08-24",0,0,"",null,1,null,38953,"2006-08-24",0,0,0,null,0,null,0,null,0,"00:00:00",0]
["2006-08-25",10.730600000000001,null,null,null,null,null,null,null,0,0,null,"2006-08-25",0,0,"",null,1,null,38954,"2006-08-25",0,0,0,null,{"$f":"IF(R224=0,IF(R223=1,M223,0),0)","v":0},null,0,null,0,"00:00:00",0]
["2006-08-28",10.781599999999999,null,null,null,null,null,null,null,0,0,null,"2006-08-28",0,0,"",null,1,null,38957,"2006-08-28",0,0,0,null,0,null,0,null,0,"00:00:00",0]
["2006-08-29",10.7857,null,null,null,null,null,null,null,0,0,null,"2006-08-29",0,0,"",null,1,null,38958,"2006-08-29",0,0,0,null,0,null,0,null,0,"00:00:00",0]
["2006-08-30",10.818899999999999,null,null,null,null,null,null,null,0,0,null,"2006-08-30",0,0,"",null,1,null,38959,"2006-08-30",0,0,0,null,0,null,0,null,0,"00:00:00",0]
["2006-08-31",10.690099999999999,null,null,null,null,null,null,null,0,0,null,"2006-08-31",0,0,"",null,1,null,38960,"2006-08-31",0,0,0,null,0,null,0,null,0,"00:00:00",0]
["2006-09-01",10.748699999999999,null,null,null,null,null,null,null,0,0,null,"2006-09-01",0,0,"",null,1,null,38961,"2006-09-01",0,0,0,null,0,null,0,null,0,"00:00:00",0]
["2006-09-04",10.9499,null,null,null,null,null,null,null,0,0,null,"2006-09-04",0,0,"",null,1,null,38964,"2006-09-04",0,0,0,null,0,null,0,null,0,"00:00:00",0]
["2006-09-05",11.0526,null,null,null,null,null,null,null,0,0,null,"2006-09-05",0,0,"",null,1,null,38965,"2006-09-05",0,0,0,null,0,null,0,null,0,"00:00:00",0]
["2006-09-06",11.132999999999999,null,null,null,null,null,null,null,1,-1000,null,"2006-09-06",1,-1000,89.823048594269295,null,1,null,38966,"2006-09-06",-1000,38966,11.132999999999999,null,0,null,0,null,0,"00:00:00",0]
["2006-09-07",11.124700000000001,null,null,null,null,null,null,null,0,0,null,"2006-09-07",0,0,"",null,1,null,38967,"2006-09-07",0,0,0,null,0,null,0,null,0,"00:00:00",0]
["2006-09-08",11.282999999999999,null,null,null,null,null,null,null,0,0,null,"2006-09-08",0,0,"",null,1,null,38968,"2006-09-08",0,0,0,null,0,null,0,null,0,"00:00:00",0]
["2006-09-11",10.943,null,null,null,null,null,null,null,0,0,null,"2006-09-11",0,0,"",null,1,null,38971,"2006-09-11",0,0,0,null,0,null,0,null,0,"00:00:00",0]
["2006-09-12",11.0023,null,null,null,null,null,null,null,0,0,null,"2006-09-12",0,0,"",null,1,null,38972,"2006-09-12",0,0,0,null,0,null,0,null,0,"00:00:00",0]
["2006-09-13",11.1706,null,null,null,null,null,null,null,0,0,null,"2006-09-13",0,0,"",null,1,null,38973,"2006-09-13",0,0,0,null,0,null,0,null,0,"00:00:00",0]
["2006-09-14",11.1731,null,null,null,null,null,null,null,0,0,null,"2006-09-14",0,0,"",null,1,null,38974,"2006-09-14",0,0,0,null,0,null,0,null,0,"00:00:00",0]
["2006-09-15",11.1937,null,null,null,null,null,null,null,0,0,null,"2006-09-15",0,0,"",null,1,null,38975,"2006-09-15",0,0,0,null,0,null,0,null,0,"00:00:00",0]
["2006-09-18",11.1816,null,null,null,null,null,null,null,0,0,null,"2006-09-18",0,0,"",null,1,null,38978,"2006-09-18",0,0,0,null,0,null,0,null,0,"00:00:00",0]
["2006-09-19",11.077,null,null,null,null,null,null,null,0,0,null,"2006-09-19",0,0,"",null,1,null,38979,"2006-09-19",0,0,0,{"$f":"IF((IF(M240>=sipstart,1,2)+IF(M240<=sipend,1,2))=2,M240,0)","v":38979},0,null,0,null,0,"00:00:00",0]
["2006-09-20",11.124700000000001,null,null,null,null,null,null,null,0,0,null,"2006-09-20",0,0,"",null,1,null,38980,"2006-09-20",0,0,0,{"$f":"IF((IF(M241>=sipstart,1,2)+IF(M241<=sipend,1,2))=2,M241,0)","v":38980},0,null,0,null,0,"00:00:00",0]
["2006-09-21",11.1508,null,null,null,null,null,null,null,0,0,null,"2006-09-21",0,0,"",null,1,null,38981,"2006-09-21",0,0,0,{"$f":"IF((IF(M242>=sipstart,1,2)+IF(M242<=sipend,1,2))=2,M242,0)","v":38981},0,null,0,null,0,"00:00:00",0]
["2006-09-22",11.1409,null,null,null,null,null,null,null,0,0,null,"2006-09-22",0,0,"",null,1,null,38982,"2006-09-22",0,0,0,{"$f":"IF((IF(M243>=sipstart,1,2)+IF(M243<=sipend,1,2))=2,M243,0)","v":38982},0,null,0,null,0,"00:00:00",0]
["2006-09-25",11.1058,null,null,null,null,null,null,null,0,0,null,"2006-09-25",0,0,"",null,1,null,38985,"2006-09-25",0,0,0,null,0,null,0,null,0,"00:00:00",0]
["2006-09-26",11.178800000000001,null,null,null,null,null,null,null,0,0,null,"2006-09-26",0,0,"",null,1,null,38986,"2006-09-26",0,0,0,null,0,null,0,null,0,"00:00:00",0]
["2006-09-27",11.1958,null,null,null,null,null,null,null,0,0,null,"2006-09-27",0,0,"",null,1,null,38987,"2006-09-27",0,0,0,null,0,null,0,null,0,"00:00:00",0]
["2006-09-28",11.258900000000001,null,null,null,null,null,null,null,0,0,null,"2006-09-28",0,0,"",null,1,null,38988,"2006-09-28",0,0,0,null,0,null,0,null,0,"00:00:00",0]
["2006-09-29",11.3329,null,null,null,null,null,null,null,0,0,null,"2006-09-29",0,0,"",null,1,null,38989,"2006-09-29",0,0,0,null,0,null,0,null,0,"00:00:00",0]
["2006-10-03",11.356,null,null,null,null,null,null,null,0,0,null,"2006-10-03",0,0,"",null,1,null,38993,"2006-10-03",0,0,0,null,0,null,0,null,0,"00:00:00",0]
["2006-10-04",11.286199999999999,null,null,null,null,null,null,null,0,0,null,"2006-10-04",0,0,"",null,1,null,38994,"2006-10-04",0,0,0,null,0,null,0,null,0,"00:00:00",0]
["2006-10-05",11.404500000000001,null,null,null,null,null,null,null,0,0,null,"2006-10-05",0,0,"",null,1,null,38995,"2006-10-05",0,0,0,null,0,null,0,null,0,"00:00:00",0]
["2006-10-06",11.531599999999999,null,null,null,null,null,null,null,1,-1000,null,"2006-10-06",1,-1000,86.718235110479043,null,1,null,38996,"2006-10-06",-1000,38996,11.531599999999999,null,0,null,1,null,1,"2006-10-06",11.531599999999999]
["2006-10-09",11.4918,null,null,null,null,null,null,null,0,0,null,"2006-10-09",0,0,"",null,1,null,38999,"2006-10-09",0,0,0,null,0,null,0,null,0,"00:00:00",0]
["2006-10-10",11.4552,null,null,null,null,null,null,null,0,0,null,"2006-10-10",0,0,"",null,1,null,39000,"2006-10-10",0,0,0,null,{"$f":"IF(R255=0,IF(R254=1,M254,0),0)","v":0},null,0,null,0,"00:00:00",0]
["2006-10-11",11.3576,null,null,null,null,null,null,null,0,0,null,"2006-10-11",0,0,"",null,1,null,39001,"2006-10-11",0,0,0,null,{"$f":"IF(R256=0,IF(R255=1,M255,0),0)","v":0},null,0,null,0,"00:00:00",0]
["2006-10-12",11.433999999999999,null,null,null,null,null,null,null,0,0,null,"2006-10-12",0,0,"",null,1,null,39002,"2006-10-12",0,0,0,null,0,null,0,null,0,"00:00:00",0]
["2006-10-13",11.4861,null,null,null,null,null,null,null,0,0,null,"2006-10-13",0,0,"",null,1,null,39003,"2006-10-13",0,0,0,null,0,null,0,null,0,"00:00:00",0]
["2006-10-16",11.451499999999999,null,null,null,null,null,null,null,0,0,null,"2006-10-16",0,0,"",null,1,null,39006,"2006-10-16",0,0,0,null,0,null,0,null,0,"00:00:00",0]
["2006-10-17",11.409000000000001,null,null,null,null,null,null,null,0,0,null,"2006-10-17",0,0,"",null,1,null,39007,"2006-10-17",0,0,0,null,0,null,0,null,0,"00:00:00",0]
["2006-10-18",11.403,null,null,null,null,null,null,null,0,0,null,"2006-10-18",0,0,"",null,1,null,39008,"2006-10-18",0,0,0,null,0,null,0,null,0,"00:00:00",0]
["2006-10-19",11.460599999999999,null,null,null,null,null,null,null,0,0,null,"2006-10-19",0,0,"",null,1,null,39009,"2006-10-19",0,0,0,null,0,null,0,null,0,"00:00:00",0]
["2006-10-20",11.501300000000001,null,null,null,null,null,null,null,0,0,null,"2006-10-20",0,0,"",null,1,null,39010,"2006-10-20",0,0,0,null,0,null,0,null,0,"00:00:00",0]
["2006-10-23",11.562099999999999,null,null,null,null,null,null,null,0,0,null,"2006-10-23",0,0,"",null,1,null,39013,"2006-10-23",0,0,0,null,0,null,0,null,0,"00:00:00",0]
["2006-10-26",11.6325,null,null,null,null,null,null,null,0,0,null,"2006-10-26",0,0,"",null,1,null,39016,"2006-10-26",0,0,0,null,0,null,0,null,0,"00:00:00",0]
["2006-10-27",11.696899999999999,null,null,null,null,null,null,null,0,0,null,{"$f":"A265","v":"2006-10-27"},{"$f":"IF(IF(M265>=sipstart,1,0)+IF(M265<=sipend,1,0)=2,J265,0)","v":0},{"$f":"IF(IF(M265>=sipstart,1,0)+IF(M265<=sipend,1,0)=2,K265,0)","v":0},"",null,{"$f":"IF(IF(M265>=sipstart,1,0)+IF(M265<=sipend,1,0)=2,1,0)","v":1},null,{"$f":"IF((IF(M265>=sipstart,1,2)+IF(M265<=sipend,1,2))=2,M265,0)","v":39017},"2006-10-27",0,{"$f":"IF(V265=-sip,U265,0)","v":0},{"$f":"IF(V265=-sip,B265,0)","v":0},null,0,null,0,null,0,{"$f":"IF(AD265=1,A265,0)","v":"00:00:00"},{"$f":"IF(AD265=1,B265,0)","v":0}]
["2006-10-30",11.794700000000001,null,null,null,null,null,null,null,0,0,null,"2006-10-30",0,0,{"$f":"IF(O266=-sip,-O266/B266,\"\")","v":""},null,1,null,39020,{"$f":"IF((IF(M266>=sipstart,1,2)+IF(M266<=sipend,1,2))=2,M266,0)+IF(T265=actualsipend,actualsipend,0)","v":"2006-10-30"},{"$f":"IF(U266+U265=0,0,IF(U266=U265,sipunits*B265,O266))","v":0},0,0,null,0,null,0,null,0,"00:00:00",0]
["2006-10-31",11.780900000000001,null,null,null,null,null,null,null,0,0,null,"2006-10-31",0,0,"",null,1,null,39021,"2006-10-31",0,0,0,null,0,null,0,null,0,"00:00:00",0]
["2006-11-01",11.8513,null,null,null,null,null,null,null,0,0,null,"2006-11-01",0,0,"",null,1,null,39022,"2006-11-01",0,0,0,null,0,null,0,null,0,"00:00:00",0]
["2006-11-02",11.8432,null,null,null,null,null,null,null,0,{"$f":"IF(DAY(A269)=sipdate,-sip,IF(K268=-sip,0,IF(K267=-sip,0,IF(K266=-sip,0,IF(K265=-sip,0,IF(K264=-sip,0,IF(K263=-sip,0,IF(DAY(A269)=sipdate+1,-sip,IF(DAY(A269)=sipdate+2,-sip,IF(DAY(A269)=sipdate+3,-sip,IF(DAY(A269)=sipdate+4,-sip,IF(DAY(A269)=sipdate+5,-sip,IF(DAY(A269)=sipdate+6,-sip,IF(DAY(A269)=sipdate+7,-sip,0))))))))))))))","v":0},null,"2006-11-02",0,0,"",null,1,null,39023,"2006-11-02",0,0,0,null,0,null,{"$f":"IF(INT((MONTH(M269)-MONTH(sipstart))/3)-(MONTH(M269)-MONTH(sipstart))/3=0,IF(DAY(A269)=sipdate,1,IF(AB268=1,0,IF(AB267=1,0,IF(AB266=1,0,IF(AB265=1,0,IF(AB264=1,0,IF(AB263=1,0,IF(DAY(A269)=sipdate+1,1,IF(DAY(A269)=sipdate+2,1,IF(DAY(A269)=sipdate+3,1,IF(DAY(A269)=sipdate+4,1,IF(DAY(A269)=sipdate+5,1,IF(DAY(A269)=sipdate+6,1,IF(DAY(A269)=sipdate+7,1,0)))))))))))))),0)","v":0},null,{"$f":"IF(INT((MONTH(M269)-MONTH(sipstart))/12)-(MONTH(M269)-MONTH(sipstart))/12=0,IF(DAY(A269)=sipdate,1,IF(AB268=1,0,IF(AB267=1,0,IF(AB266=1,0,IF(AB265=1,0,IF(AB264=1,0,IF(AB263=1,0,IF(DAY(A269)=sipdate+1,1,IF(DAY(A269)=sipdate+2,1,IF(DAY(A269)=sipdate+3,1,IF(DAY(A269)=sipdate+4,1,IF(DAY(A269)=sipdate+5,1,IF(DAY(A269)=sipdate+6,1,IF(DAY(A269)=sipdate+7,1,0)))))))))))))),0)","v":0},"00:00:00",0]
["2006-11-03",11.8058,null,null,null,null,null,null,null,0,0,null,"2006-11-03",0,0,"",null,1,null,39024,"2006-11-03",0,0,0,null,0,null,0,null,0,"00:00:00",0]
["2006-11-06",11.9826,null,null,null,null,null,null,null,1,-1000,null,"2006-11-06",1,-1000,83.454342129420994,null,1,null,39027,"2006-11-06",-1000,39027,11.9826,null,0,null,0,null,0,"00:00:00",0]
["2006-11-07",12.0947,null,null,null,null,null,null,null,0,0,null,"2006-11-07",0,0,"",null,1,null,39028,"2006-11-07",0,0,0,null,0,null,0,null,0,"00:00:00",0]
["2006-11-08",11.9138,null,null,null,null,null,null,null,0,0,null,"2006-11-08",0,0,"",null,1,null,39029,"2006-11-08",0,0,0,null,0,null,0,null,0,"00:00:00",0]
["2006-11-09",12.116899999999999,null,null,null,null,null,null,null,0,0,null,"2006-11-09",0,0,"",null,1,null,39030,"2006-11-09",0,0,0,null,0,null,0,null,0,"00:00:00",0]
["2006-11-10",12.1974,null,null,null,null,null,null,null,0,0,null,"2006-11-10",0,0,"",null,1,null,39031,"2006-11-10",0,0,0,null,0,null,0,null,0,"00:00:00",0]
["2006-11-13",12.376799999999999,null,null,null,null,null,null,null,0,0,null,"2006-11-13",0,0,"",null,1,null,39034,"2006-11-13",0,0,0,null,0,null,0,null,0,"00:00:00",0]
["2006-11-14",12.2545,null,null,null,null,null,null,null,0,0,null,"2006-11-14",0,0,"",null,1,null,39035,"2006-11-14",0,0,0,null,0,null,0,null,0,"00:00:00",0]
["2006-11-15",12.247,null,null,null,null,null,null,null,0,0,null,"2006-11-15",0,0,"",null,1,null,39036,"2006-11-15",0,0,0,null,0,null,0,null,0,"00:00:00",0]
["2006-11-16",12.2722,null,null,null,null,null,null,null,0,0,null,"2006-11-16",0,0,"",null,1,null,39037,"2006-11-16",0,0,0,null,0,null,0,null,0,"00:00:00",0]
["2006-11-17",12.209199999999999,null,null,null,null,null,null,null,0,0,null,"2006-11-17",0,0,"",null,1,null,39038,"2006-11-17",0,0,0,null,0,null,0,null,0,"00:00:00",0]
["2006-11-20",12.1065,null,null,null,null,null,null,null,{"$f":"IF(DAY(A281)=sipdate,1,IF(J280=1,0,IF(J279=1,0,IF(J278=1,0,IF(J277=1,0,IF(J276=1,0,IF(J275=1,0,IF(DAY(A281)=sipdate+1,1,IF(DAY(A281)=sipdate+2,1,IF(DAY(A281)=sipdate+3,1,IF(DAY(A281)=sipdate+4,1,IF(DAY(A281)=sipdate+5,1,IF(DAY(A281)=sipdate+6,1,IF(DAY(A281)=sipdate+7,1,0))))))))))))))","v":0},0,null,"2006-11-20",0,0,"",null,1,null,39041,"2006-11-20",0,0,0,null,0,null,0,null,0,"00:00:00",0]
["2006-11-21",12.3301,null,null,null,null,null,null,null,0,0,null,"2006-11-21",0,0,"",null,1,null,39042,"2006-11-21",0,0,0,null,0,null,0,null,0,"00:00:00",0]
["2006-11-22",12.5631,null,null,null,null,null,null,null,0,0,null,"2006-11-22",0,0,"",null,1,null,39043,"2006-11-22",0,0,0,null,0,null,0,null,0,"00:00:00",0]
["2006-11-23",12.529299999999999,null,null,null,null,null,null,null,0,0,null,"2006-11-23",0,0,"",null,1,null,39044,"2006-11-23",0,0,0,null,0,null,0,null,0,"00:00:00",0]
["2006-11-24",12.583299999999999,null,null,null,null,null,null,null,0,0,null,"2006-11-24",0,0,"",null,1,null,39045,"2006-11-24",0,0,0,null,0,null,0,null,0,"00:00:00",0]
["2006-11-27",12.6419,null,null,null,null,null,null,null,0,0,null,"2006-11-27",0,0,"",null,1,null,39048,"2006-11-27",0,0,0,null,0,null,0,null,0,"00:00:00",0]
["2006-11-28",12.6357,null,null,null,null,null,null,null,0,0,null,"2006-11-28",0,0,"",null,1,null,39049,"2006-11-28",0,0,0,null,0,null,0,null,0,"00:00:00",0]
["2006-11-29",12.753299999999999,null,null,null,null,null,null,null,0,0,null,"2006-11-29",0,0,"",null,1,null,39050,"2006-11-29",0,0,0,null,0,null,0,null,0,"00:00:00",0]
["2006-11-30",12.704499999999999,null,null,null,null,null,null,null,0,0,null,"2006-11-30",0,0,"",null,1,null,39051,"2006-11-30",0,0,0,null,0,null,0,null,0,"00:00:00",0]
["2006-12-01",12.9039,null,null,null,null,null,null,null,0,0,null,"2006-12-01",0,0,"",null,1,null,39052,"2006-12-01",0,0,0,null,0,null,0,null,0,"00:00:00",0]
["2006-12-04",12.9313,null,null,null,null,null,null,null,0,0,null,"2006-12-04",0,0,"",null,1,null,39055,"2006-12-04",0,0,0,null,0,null,0,null,0,"00:00:00",0]
["2006-12-05",12.972799999999999,null,null,null,null,null,null,null,0,0,null,"2006-12-05",0,0,"",null,1,null,39056,"2006-12-05",0,0,0,null,0,null,0,null,0,"00:00:00",0]
["2006-12-06",12.8672,null,null,null,null,null,null,null,1,-1000,null,"2006-12-06",1,-1000,77.716985824421783,null,1,null,39057,"2006-12-06",-1000,39057,12.8672,null,0,null,0,null,0,"00:00:00",0]
["2006-12-07",12.974500000000001,null,null,null,null,null,null,null,0,0,null,"2006-12-07",0,0,"",null,1,null,39058,"2006-12-07",0,0,0,null,0,null,0,null,0,"00:00:00",0]
["2006-12-08",12.869400000000001,null,null,null,null,null,null,null,0,0,null,"2006-12-08",0,0,"",null,1,null,39059,"2006-12-08",0,0,0,null,0,null,0,null,0,"00:00:00",0]
["2006-12-11",12.493600000000001,null,null,null,null,null,null,null,0,0,null,"2006-12-11",0,0,"",null,1,null,39062,"2006-12-11",0,0,0,null,0,null,0,null,0,"00:00:00",0]
["2006-12-12",12.0838,null,null,null,null,null,null,null,0,0,null,"2006-12-12",0,0,"",null,1,null,39063,"2006-12-12",0,0,0,null,0,null,0,null,0,"00:00:00",0]
["2006-12-13",12.3627,null,null,null,null,null,null,null,0,0,null,"2006-12-13",0,0,"",null,1,null,39064,"2006-12-13",0,0,0,null,0,null,0,null,0,"00:00:00",0]
["2006-12-14",12.683,null,null,null,null,null,null,null,0,0,null,"2006-12-14",0,0,"",null,1,null,39065,"2006-12-14",0,0,0,null,0,null,0,null,0,"00:00:00",0]
["2006-12-15",12.814399999999999,null,null,null,null,null,null,null,0,0,null,"2006-12-15",0,0,"",null,1,null,39066,"2006-12-15",0,0,0,null,0,null,0,null,0,"00:00:00",0]
["2006-12-18",12.9656,null,null,null,null,null,null,null,0,0,null,"2006-12-18",0,0,"",null,1,null,39069,"2006-12-18",0,0,0,null,0,null,0,null,0,"00:00:00",0]
["2006-12-19",12.811500000000001,null,null,null,null,null,null,null,0,0,null,"2006-12-19",0,0,"",null,1,null,39070,"2006-12-19",0,0,0,null,0,null,0,null,0,"00:00:00",0]
["2006-12-20",12.7227,null,null,null,null,null,null,null,0,0,null,"2006-12-20",0,0,"",null,1,null,39071,"2006-12-20",0,0,0,null,0,null,0,null,0,"00:00:00",0]
["2006-12-21",12.8605,null,null,null,null,null,null,null,0,0,null,"2006-12-21",0,0,"",null,1,null,39072,"2006-12-21",0,0,0,null,0,null,0,null,0,"00:00:00",0]
["2006-12-22",12.953799999999999,null,null,null,null,null,null,null,0,0,null,"2006-12-22",0,0,"",null,1,null,39073,"2006-12-22",0,0,0,null,0,null,0,null,0,"00:00:00",0]
["2006-12-26",13.107799999999999,null,null,null,null,null,null,null,0,0,null,"2006-12-26",0,0,"",null,1,null,39077,"2006-12-26",0,0,0,null,0,null,0,null,0,"00:00:00",0]
["2006-12-27",13.1311,null,null,null,null,null,null,null,0,0,null,"2006-12-27",0,0,"",null,1,null,39078,"2006-12-27",0,0,0,null,0,null,0,null,0,"00:00:00",0]
["2006-12-28",13.1153,null,null,null,null,null,null,null,0,0,null,"2006-12-28",0,0,"",null,1,null,39079,"2006-12-28",0,0,0,null,0,null,0,null,0,"00:00:00",0]
["2006-12-29",13.2165,null,null,null,null,null,null,null,0,0,null,"2006-12-29",0,0,"",null,1,null,39080,"2006-12-29",0,0,0,null,0,null,0,null,0,"00:00:00",0]
["2007-01-02",13.3157,null,null,null,null,null,null,null,0,0,null,"2007-01-02",0,0,"",null,1,null,39084,"2007-01-02",0,0,0,null,0,null,0,null,0,"00:00:00",0]
["2007-01-03",13.4903,null,null,null,null,null,null,null,0,0,null,"2007-01-03",0,0,"",null,1,null,39085,"2007-01-03",0,0,0,null,0,null,0,null,0,"00:00:00",0]
["2007-01-04",13.505699999999999,null,null,null,null,null,null,null,0,0,null,"2007-01-04",0,0,"",null,1,null,39086,"2007-01-04",0,0,0,null,0,null,0,null,0,"00:00:00",0]
["2007-01-05",13.5199,null,null,null,null,null,null,null,0,0,null,"2007-01-05",0,0,"",null,1,null,39087,"2007-01-05",0,0,0,null,0,null,0,null,0,"00:00:00",0]
["2007-01-08",13.4956,null,null,null,null,null,null,null,1,-1000,null,"2007-01-08",1,-1000,74.098224606538423,null,1,null,39090,"2007-01-08",-1000,39090,13.4956,null,0,null,1,null,0,"00:00:00",0]
["2007-01-09",13.3818,null,null,null,null,null,null,null,0,0,null,"2007-01-09",0,0,"",null,1,null,39091,"2007-01-09",0,0,0,null,0,null,0,null,0,"00:00:00",0]
["2007-01-10",13.1455,null,null,null,null,null,null,null,0,0,null,"2007-01-10",0,0,"",null,1,null,39092,"2007-01-10",0,0,0,null,0,null,0,null,0,"00:00:00",0]
["2007-01-11",13.3081,null,null,null,null,null,null,null,0,0,null,"2007-01-11",0,0,"",null,1,null,39093,"2007-01-11",0,0,0,null,0,null,0,null,0,"00:00:00",0]
["2007-01-12",13.473000000000001,null,null,null,null,null,null,null,0,0,null,"2007-01-12",0,0,"",null,1,null,39094,"2007-01-12",0,0,0,null,0,null,0,null,0,"00:00:00",0]
["2007-01-15",13.6092,null,null,null,null,null,null,null,0,0,null,"2007-01-15",0,0,"",null,1,null,39097,"2007-01-15",0,0,0,null,{"$f":"IF(R320=0,IF(R319=1,M319,0),0)","v":0},null,0,null,0,"00:00:00",0]
["2007-01-16",13.6714,null,null,null,null,null,null,null,0,0,null,"2007-01-16",0,0,"",null,1,null,39098,"2007-01-16",0,0,0,null,0,null,0,null,0,"00:00:00",0]
["2007-01-17",13.711,null,null,null,null,null,null,null,0,0,null,"2007-01-17",0,0,"",null,1,null,39099,"2007-01-17",0,0,0,null,0,null,0,null,0,"00:00:00",0]
["2007-01-18",13.7844,null,null,null,null,null,null,null,0,0,null,"2007-01-18",0,0,"",null,1,null,39100,"2007-01-18",0,0,0,null,0,null,0,null,0,"00:00:00",0]
["2007-01-19",13.764900000000001,null,null,null,null,null,null,null,0,0,null,"2007-01-19",0,0,"",null,1,null,39101,"2007-01-19",0,0,0,null,0,null,0,null,0,"00:00:00",0]
["2007-01-22",13.811400000000001,null,null,null,null,null,null,null,0,0,null,"2007-01-22",0,0,"",null,1,null,39104,"2007-01-22",0,0,0,null,0,null,0,null,0,"00:00:00",0]
["2007-01-23",13.7247,null,null,null,null,null,null,null,0,0,null,"2007-01-23",0,0,"",null,1,null,39105,"2007-01-23",0,0,0,null,0,null,0,null,0,"00:00:00",0]
["2007-01-24",13.7492,null,null,null,null,null,null,null,0,0,null,"2007-01-24",0,0,"",null,1,null,39106,"2007-01-24",0,0,0,null,0,null,0,null,0,"00:00:00",0]
["2007-01-25",13.8933,null,null,null,null,null,null,null,0,0,null,"2007-01-25",0,0,"",null,1,null,39107,"2007-01-25",0,0,0,null,0,null,0,null,0,"00:00:00",0]
["2007-01-29",13.8605,null,null,null,null,null,null,null,0,0,null,"2007-01-29",0,0,"",null,1,null,39111,"2007-01-29",0,0,0,null,0,null,0,null,0,"00:00:00",0]
["2007-01-31",13.731299999999999,null,null,null,null,null,null,null,0,0,null,{"$f":"A329","v":"2007-01-31"},{"$f":"IF(IF(M329>=sipstart,1,0)+IF(M329<=sipend,1,0)=2,J329,0)","v":0},{"$f":"IF(IF(M329>=sipstart,1,0)+IF(M329<=sipend,1,0)=2,K329,0)","v":0},"",null,{"$f":"IF(IF(M329>=sipstart,1,0)+IF(M329<=sipend,1,0)=2,1,0)","v":1},null,{"$f":"IF((IF(M329>=sipstart,1,2)+IF(M329<=sipend,1,2))=2,M329,0)","v":39113},"2007-01-31",0,{"$f":"IF(V329=-sip,U329,0)","v":0},{"$f":"IF(V329=-sip,B329,0)","v":0},null,0,null,0,null,0,{"$f":"IF(AD329=1,A329,0)","v":"00:00:00"},{"$f":"IF(AD329=1,B329,0)","v":0}]
["2007-02-01",14.0931,null,null,null,null,null,null,null,0,0,null,"2007-02-01",0,0,{"$f":"IF(O330=-sip,-O330/B330,\"\")","v":""},null,1,null,39114,{"$f":"IF((IF(M330>=sipstart,1,2)+IF(M330<=sipend,1,2))=2,M330,0)+IF(T329=actualsipend,actualsipend,0)","v":"2007-02-01"},{"$f":"IF(U330+U329=0,0,IF(U330=U329,sipunits*B329,O330))","v":0},0,0,null,0,null,0,null,0,"00:00:00",0]
["2007-02-02",14.4542,null,null,null,null,null,null,null,0,0,null,"2007-02-02",0,0,"",null,1,null,39115,"2007-02-02",0,0,0,null,0,null,0,null,0,"00:00:00",0]
["2007-02-05",14.5792,null,null,null,null,null,null,null,0,0,null,"2007-02-05",0,0,"",null,1,null,39118,"2007-02-05",0,0,0,null,0,null,0,null,0,"00:00:00",0]
["2007-02-06",14.6122,null,null,null,null,null,null,null,1,{"$f":"IF(DAY(A333)=sipdate,-sip,IF(K332=-sip,0,IF(K331=-sip,0,IF(K330=-sip,0,IF(K329=-sip,0,IF(K328=-sip,0,IF(K327=-sip,0,IF(DAY(A333)=sipdate+1,-sip,IF(DAY(A333)=sipdate+2,-sip,IF(DAY(A333)=sipdate+3,-sip,IF(DAY(A333)=sipdate+4,-sip,IF(DAY(A333)=sipdate+5,-sip,IF(DAY(A333)=sipdate+6,-sip,IF(DAY(A333)=sipdate+7,-sip,0))))))))))))))","v":-1000},null,"2007-02-06",1,-1000,68.435964468047246,null,1,null,39119,"2007-02-06",-1000,39119,14.6122,null,0,null,{"$f":"IF(INT((MONTH(M333)-MONTH(sipstart))/3)-(MONTH(M333)-MONTH(sipstart))/3=0,IF(DAY(A333)=sipdate,1,IF(AB332=1,0,IF(AB331=1,0,IF(AB330=1,0,IF(AB329=1,0,IF(AB328=1,0,IF(AB327=1,0,IF(DAY(A333)=sipdate+1,1,IF(DAY(A333)=sipdate+2,1,IF(DAY(A333)=sipdate+3,1,IF(DAY(A333)=sipdate+4,1,IF(DAY(A333)=sipdate+5,1,IF(DAY(A333)=sipdate+6,1,IF(DAY(A333)=sipdate+7,1,0)))))))))))))),0)","v":0},null,{"$f":"IF(INT((MONTH(M333)-MONTH(sipstart))/12)-(MONTH(M333)-MONTH(sipstart))/12=0,IF(DAY(A333)=sipdate,1,IF(AB332=1,0,IF(AB331=1,0,IF(AB330=1,0,IF(AB329=1,0,IF(AB328=1,0,IF(AB327=1,0,IF(DAY(A333)=sipdate+1,1,IF(DAY(A333)=sipdate+2,1,IF(DAY(A333)=sipdate+3,1,IF(DAY(A333)=sipdate+4,1,IF(DAY(A333)=sipdate+5,1,IF(DAY(A333)=sipdate+6,1,IF(DAY(A333)=sipdate+7,1,0)))))))))))))),0)","v":0},"00:00:00",0]
["2007-02-07",14.5604,null,null,null,null,null,null,null,0,0,null,"2007-02-07",0,0,"",null,1,null,39120,"2007-02-07",0,0,0,null,0,null,0,null,0,"00:00:00",0]
["2007-02-08",14.5457,null,null,null,null,null,null,null,0,0,null,"2007-02-08",0,0,"",null,1,null,39121,"2007-02-08",0,0,0,null,0,null,0,null,0,"00:00:00",0]
["2007-02-09",14.2872,null,null,null,null,null,null,null,0,0,null,"2007-02-09",0,0,"",null,1,null,39122,"2007-02-09",0,0,0,null,0,null,0,null,0,"00:00:00",0]
["2007-02-12",13.5456,null,null,null,null,null,null,null,0,0,null,"2007-02-12",0,0,"",null,1,null,39125,"2007-02-12",0,0,0,null,0,null,0,null,0,"00:00:00",0]
["2007-02-13",13.5342,null,null,null,null,null,null,null,0,0,null,"2007-02-13",0,0,"",null,1,null,39126,"2007-02-13",0,0,0,null,0,null,0,null,0,"00:00:00",0]
["2007-02-14",13.581200000000001,null,null,null,null,null,null,null,0,0,null,"2007-02-14",0,0,"",null,1,null,39127,"2007-02-14",0,0,0,null,0,null,0,null,0,"00:00:00",0]
["2007-02-15",14.140700000000001,null,null,null,null,null,null,null,0,0,null,"2007-02-15",0,0,"",null,1,null,39128,"2007-02-15",0,0,0,null,0,null,0,null,0,"00:00:00",0]
["2007-02-19",14.1469,null,null,null,null,null,null,null,0,0,null,"2007-02-19",0,0,"",null,1,null,39132,"2007-02-19",0,0,0,null,0,null,0,null,0,"00:00:00",0]
["2007-02-20",13.901300000000001,null,null,null,null,null,null,null,0,0,null,"2007-02-20",0,0,"",null,1,null,39133,"2007-02-20",0,0,0,null,0,null,0,null,0,"00:00:00",0]
["2007-02-21",14.0015,null,null,null,null,null,null,null,0,0,null,"2007-02-21",0,0,"",null,1,null,39134,"2007-02-21",0,0,0,null,0,null,0,null,0,"00:00:00",0]
["2007-02-22",13.869400000000001,null,null,null,null,null,null,null,0,0,null,"2007-02-22",0,0,"",null,1,null,39135,"2007-02-22",0,0,0,null,0,null,0,null,0,"00:00:00",0]
["2007-02-23",13.482200000000001,null,null,null,null,null,null,null,{"$f":"IF(DAY(A345)=sipdate,1,IF(J344=1,0,IF(J343=1,0,IF(J342=1,0,IF(J341=1,0,IF(J340=1,0,IF(J339=1,0,IF(DAY(A345)=sipdate+1,1,IF(DAY(A345)=sipdate+2,1,IF(DAY(A345)=sipdate+3,1,IF(DAY(A345)=sipdate+4,1,IF(DAY(A345)=sipdate+5,1,IF(DAY(A345)=sipdate+6,1,IF(DAY(A345)=sipdate+7,1,0))))))))))))))","v":0},0,null,"2007-02-23",0,0,"",null,1,null,39136,"2007-02-23",0,0,0,null,0,null,0,null,0,"00:00:00",0]
["2007-02-26",13.574,null,null,null,null,null,null,null,0,0,null,"2007-02-26",0,0,"",null,1,null,39139,"2007-02-26",0,0,0,null,0,null,0,null,0,"00:00:00",0]
["2007-02-27",13.597799999999999,null,null,null,null,null,null,null,0,0,null,"2007-02-27",0,0,"",null,1,null,39140,"2007-02-27",0,0,0,null,0,null,0,null,0,"00:00:00",0]
["2007-02-28",13.270200000000001,null,null,null,null,null,null,null,0,0,null,"2007-02-28",0,0,"",null,1,null,39141,"2007-02-28",0,0,0,null,0,null,0,null,0,"00:00:00",0]
["2007-03-01",13.308199999999999,null,null,null,null,null,null,null,0,0,null,"2007-03-01",0,0,"",null,1,null,39142,"2007-03-01",0,0,0,null,0,null,0,null,0,"00:00:00",0]
["2007-03-02",13.182399999999999,null,null,null,null,null,null,null,0,0,null,"2007-03-02",0,0,"",null,1,null,39143,"2007-03-02",0,0,0,null,0,null,0,null,0,"00:00:00",0]
["2007-03-05",12.6593,null,null,null,null,null,null,null,0,0,null,"2007-03-05",0,0,"",null,1,null,39146,"2007-03-05",0,0,0,null,0,null,0,null,0,"00:00:00",0]
["2007-03-06",12.710100000000001,null,null,null,null,null,null,null,1,-1000,null,"2007-03-06",1,-1000,78.677587115758328,null,1,null,39147,"2007-03-06",-1000,39147,12.710100000000001,null,0,null,0,null,0,"00:00:00",0]
["2007-03-07",12.3322,null,null,null,null,null,null,null,0,0,null,"2007-03-07",0,0,"",null,1,null,39148,"2007-03-07",0,0,0,null,0,null,0,null,0,"00:00:00",0]
["2007-03-08",12.5997,null,null,null,null,null,null,null,0,0,null,"2007-03-08",0,0,"",null,1,null,39149,"2007-03-08",0,0,0,null,0,null,0,null,0,"00:00:00",0]
["2007-03-09",12.6043,null,null,null,null,null,null,null,0,0,null,"2007-03-09",0,0,"",null,1,null,39150,"2007-03-09",0,0,0,null,0,null,0,null,0,"00:00:00",0]
["2007-03-12",12.811999999999999,null,null,null,null,null,null,null,0,0,null,"2007-03-12",0,0,"",null,1,null,39153,"2007-03-12",0,0,0,null,0,null,0,null,0,"00:00:00",0]
["2007-03-13",12.9468,null,null,null,null,null,null,null,0,0,null,"2007-03-13",0,0,"",null,1,null,39154,"2007-03-13",0,0,0,null,0,null,0,null,0,"00:00:00",0]
["2007-03-14",12.708,null,null,null,null,null,null,null,0,0,null,"2007-03-14",0,0,"",null,1,null,39155,"2007-03-14",0,0,0,null,0,null,0,null,0,"00:00:00",0]
["2007-03-15",12.755800000000001,null,null,null,null,null,null,null,0,0,null,"2007-03-15",0,0,"",null,1,null,39156,"2007-03-15",0,0,0,null,0,null,0,null,0,"00:00:00",0]
["2007-03-16",12.607900000000001,null,null,null,null,null,null,null,0,0,null,"2007-03-16",0,0,"",null,1,null,39157,"2007-03-16",0,0,0,null,0,null,0,null,0,"00:00:00",0]
["2007-03-19",12.7746,null,null,null,null,null,null,null,0,0,null,"2007-03-19",0,0,"",null,1,null,39160,"2007-03-19",0,0,0,null,0,null,0,null,0,"00:00:00",0]
["2007-03-20",12.892899999999999,null,null,null,null,null,null,null,0,0,null,"2007-03-20",0,0,"",null,1,null,39161,"2007-03-20",0,0,0,null,0,null,0,null,0,"00:00:00",0]
["2007-03-21",12.906000000000001,null,null,null,null,null,null,null,0,0,null,"2007-03-21",0,0,"",null,1,null,39162,"2007-03-21",0,0,0,null,0,null,0,null,0,"00:00:00",0]
["2007-03-22",13.1257,null,null,null,null,null,null,null,0,0,null,"2007-03-22",0,0,"",null,1,null,39163,"2007-03-22",0,0,0,null,0,null,0,null,0,"00:00:00",0]
["2007-03-23",13.1571,null,null,null,null,null,null,null,0,0,null,"2007-03-23",0,0,"",null,1,null,39164,"2007-03-23",0,0,0,null,0,null,0,null,0,"00:00:00",0]
["2007-03-26",12.9907,null,null,null,null,null,null,null,0,0,null,"2007-03-26",0,0,"",null,1,null,39167,"2007-03-26",0,0,0,null,0,null,0,null,0,"00:00:00",0]
["2007-03-28",12.797700000000001,null,null,null,null,null,null,null,0,0,null,"2007-03-28",0,0,"",null,1,null,39169,"2007-03-28",0,0,0,null,0,null,0,null,0,"00:00:00",0]
["2007-03-29",12.902900000000001,null,null,null,null,null,null,null,0,0,null,"2007-03-29",0,0,"",null,1,null,39170,"2007-03-29",0,0,0,null,0,null,0,null,0,"00:00:00",0]
["2007-03-30",13.034800000000001,null,null,null,null,null,null,null,0,0,null,"2007-03-30",0,0,"",null,1,null,39171,"2007-03-30",0,0,0,null,0,null,0,null,0,"00:00:00",0]
["2007-04-02",12.565099999999999,null,null,null,null,null,null,null,0,0,null,"2007-04-02",0,0,"",null,1,null,39174,"2007-04-02",0,0,0,null,0,null,0,null,0,"00:00:00",0]
["2007-04-03",12.7202,null,null,null,null,null,null,null,0,0,null,"2007-04-03",0,0,"",null,1,null,39175,"2007-04-03",0,0,0,null,0,null,0,null,0,"00:00:00",0]
["2007-04-04",12.8253,null,null,null,null,null,null,null,0,0,null,"2007-04-04",0,0,"",null,1,null,39176,"2007-04-04",0,0,0,null,0,null,0,null,0,"00:00:00",0]
["2007-04-05",13.0463,null,null,null,null,null,null,null,0,0,null,"2007-04-05",0,0,"",null,1,null,39177,"2007-04-05",0,0,0,null,0,null,0,null,0,"00:00:00",0]
["2007-04-09",13.466200000000001,null,null,null,null,null,null,null,1,-1000,null,"2007-04-09",1,-1000,74.25999910888001,null,1,null,39181,"2007-04-09",-1000,39181,13.466200000000001,null,0,null,1,null,0,"00:00:00",0]
["2007-04-10",13.479799999999999,null,null,null,null,null,null,null,0,0,null,"2007-04-10",0,0,"",null,1,null,39182,"2007-04-10",0,0,0,null,0,null,0,null,0,"00:00:00",0]
["2007-04-11",13.5931,null,null,null,null,null,null,null,0,0,null,"2007-04-11",0,0,"",null,1,null,39183,"2007-04-11",0,0,0,null,0,null,0,null,0,"00:00:00",0]
["2007-04-12",13.610900000000001,null,null,null,null,null,null,null,0,0,null,"2007-04-12",0,0,"",null,1,null,39184,"2007-04-12",0,0,0,null,0,null,0,null,0,"00:00:00",0]
["2007-04-13",13.834,null,null,null,null,null,null,null,0,0,null,"2007-04-13",0,0,"",null,1,null,39185,"2007-04-13",0,0,0,null,0,null,0,null,0,"00:00:00",0]
["2007-04-16",14.088900000000001,null,null,null,null,null,null,null,0,0,null,"2007-04-16",0,0,"",null,1,null,39188,"2007-04-16",0,0,0,null,0,null,0,null,0,"00:00:00",0]
["2007-04-17",13.916399999999999,null,null,null,null,null,null,null,0,0,null,"2007-04-17",0,0,"",null,1,null,39189,"2007-04-17",0,0,0,null,0,null,0,null,0,"00:00:00",0]
["2007-04-18",14.0747,null,null,null,null,null,null,null,0,0,null,"2007-04-18",0,0,"",null,1,null,39190,"2007-04-18",0,0,0,null,0,null,0,null,0,"00:00:00",0]
["2007-04-19",14.147399999999999,null,null,null,null,null,null,null,0,0,null,"2007-04-19",0,0,"",null,1,null,39191,"2007-04-19",0,0,0,null,0,null,0,null,0,"00:00:00",0]
["2007-04-20",14.277699999999999,null,null,null,null,null,null,null,0,0,null,"2007-04-20",0,0,"",null,1,null,39192,"2007-04-20",0,0,0,null,{"$f":"IF(R384=0,IF(R383=1,M383,0),0)","v":0},null,0,null,0,"00:00:00",0]
["2007-04-23",14.287599999999999,null,null,null,null,null,null,null,0,0,null,"2007-04-23",0,0,"",null,1,null,39195,"2007-04-23",0,0,0,null,0,null,0,null,0,"00:00:00",0]
["2007-04-24",14.2242,null,null,null,null,null,null,null,0,0,null,"2007-04-24",0,0,"",null,1,null,39196,"2007-04-24",0,0,0,null,0,null,0,null,0,"00:00:00",0]
["2007-04-25",14.3911,null,null,null,null,null,null,null,0,0,null,"2007-04-25",0,0,"",null,1,null,39197,"2007-04-25",0,0,0,null,0,null,0,null,0,"00:00:00",0]
["2007-04-26",14.3667,null,null,null,null,null,null,null,0,0,null,"2007-04-26",0,0,"",null,1,null,39198,"2007-04-26",0,0,0,null,0,null,0,null,0,"00:00:00",0]
["2007-04-27",14.2219,null,null,null,null,null,null,null,0,0,null,"2007-04-27",0,0,"",null,1,null,39199,"2007-04-27",0,0,0,null,0,null,0,null,0,"00:00:00",0]
["2007-04-30",14.327299999999999,null,null,null,null,null,null,null,0,0,null,"2007-04-30",0,0,"",null,1,null,39202,"2007-04-30",0,0,0,null,0,null,0,null,0,"00:00:00",0]
["2007-05-03",14.485200000000001,null,null,null,null,null,null,null,0,0,null,"2007-05-03",0,0,"",null,1,null,39205,"2007-05-03",0,0,0,null,0,null,0,null,0,"00:00:00",0]
["2007-05-04",14.4811,null,null,null,null,null,null,null,0,0,null,"2007-05-04",0,0,"",null,1,null,39206,"2007-05-04",0,0,0,null,0,null,0,null,0,"00:00:00",0]
["2007-05-07",14.472,null,null,null,null,null,null,null,1,-1000,null,"2007-05-07",1,-1000,69.09894969596462,null,1,null,39209,"2007-05-07",-1000,39209,14.472,null,0,null,0,null,0,"00:00:00",0]
["2007-05-08",14.3767,null,null,null,null,null,null,null,0,0,null,{"$f":"A393","v":"2007-05-08"},{"$f":"IF(IF(M393>=sipstart,1,0)+IF(M393<=sipend,1,0)=2,J393,0)","v":0},{"$f":"IF(IF(M393>=sipstart,1,0)+IF(M393<=sipend,1,0)=2,K393,0)","v":0},"",null,{"$f":"IF(IF(M393>=sipstart,1,0)+IF(M393<=sipend,1,0)=2,1,0)","v":1},null,{"$f":"IF((IF(M393>=sipstart,1,2)+IF(M393<=sipend,1,2))=2,M393,0)","v":39210},"2007-05-08",0,{"$f":"IF(V393=-sip,U393,0)","v":0},{"$f":"IF(V393=-sip,B393,0)","v":0},null,0,null,0,null,0,{"$f":"IF(AD393=1,A393,0)","v":"00:00:00"},{"$f":"IF(AD393=1,B393,0)","v":0}]
["2007-05-09",14.5047,null,null,null,null,null,null,null,0,0,null,"2007-05-09",0,0,{"$f":"IF(O394=-sip,-O394/B394,\"\")","v":""},null,1,null,39211,{"$f":"IF((IF(M394>=sipstart,1,2)+IF(M394<=sipend,1,2))=2,M394,0)+IF(T393=actualsipend,actualsipend,0)","v":"2007-05-09"},{"$f":"IF(U394+U393=0,0,IF(U394=U393,sipunits*B393,O394))","v":0},0,0,null,0,null,0,null,0,"00:00:00",0]
["2007-05-10",14.642799999999999,null,null,null,null,null,null,null,0,0,null,"2007-05-10",0,0,"",null,1,null,39212,"2007-05-10",0,0,0,null,0,null,0,null,0,"00:00:00",0]
["2007-05-11",14.832800000000001,null,null,null,null,null,null,null,0,0,null,"2007-05-11",0,0,"",null,1,null,39213,"2007-05-11",0,0,0,null,0,null,0,null,0,"00:00:00",0]
["2007-05-14",15.1631,null,null,null,null,null,null,null,0,{"$f":"IF(DAY(A397)=sipdate,-sip,IF(K396=-sip,0,IF(K395=-sip,0,IF(K394=-sip,0,IF(K393=-sip,0,IF(K392=-sip,0,IF(K391=-sip,0,IF(DAY(A397)=sipdate+1,-sip,IF(DAY(A397)=sipdate+2,-sip,IF(DAY(A397)=sipdate+3,-sip,IF(DAY(A397)=sipdate+4,-sip,IF(DAY(A397)=sipdate+5,-sip,IF(DAY(A397)=sipdate+6,-sip,IF(DAY(A397)=sipdate+7,-sip,0))))))))))))))","v":0},null,"2007-05-14",0,0,"",null,1,null,39216,"2007-05-14",0,0,0,null,0,null,{"$f":"IF(INT((MONTH(M397)-MONTH(sipstart))/3)-(MONTH(M397)-MONTH(sipstart))/3=0,IF(DAY(A397)=sipdate,1,IF(AB396=1,0,IF(AB395=1,0,IF(AB394=1,0,IF(AB393=1,0,IF(AB392=1,0,IF(AB391=1,0,IF(DAY(A397)=sipdate+1,1,IF(DAY(A397)=sipdate+2,1,IF(DAY(A397)=sipdate+3,1,IF(DAY(A397)=sipdate+4,1,IF(DAY(A397)=sipdate+5,1,IF(DAY(A397)=sipdate+6,1,IF(DAY(A397)=sipdate+7,1,0)))))))))))))),0)","v":0},null,{"$f":"IF(INT((MONTH(M397)-MONTH(sipstart))/12)-(MONTH(M397)-MONTH(sipstart))/12=0,IF(DAY(A397)=sipdate,1,IF(AB396=1,0,IF(AB395=1,0,IF(AB394=1,0,IF(AB393=1,0,IF(AB392=1,0,IF(AB391=1,0,IF(DAY(A397)=sipdate+1,1,IF(DAY(A397)=sipdate+2,1,IF(DAY(A397)=sipdate+3,1,IF(DAY(A397)=sipdate+4,1,IF(DAY(A397)=sipdate+5,1,IF(DAY(A397)=sipdate+6,1,IF(DAY(A397)=sipdate+7,1,0)))))))))))))),0)","v":0},"00:00:00",0]
["2007-05-15",15.1023,null,null,null,null,null,null,null,0,0,null,"2007-05-15",0,0,"",null,1,null,39217,"2007-05-15",0,0,0,null,0,null,0,null,0,"00:00:00",0]
["2007-05-16",15.246,null,null,null,null,null,null,null,0,0,null,"2007-05-16",0,0,"",null,1,null,39218,"2007-05-16",0,0,0,null,0,null,0,null,0,"00:00:00",0]
["2007-05-21",15.1541,null,null,null,null,null,null,null,0,0,null,"2007-05-21",0,0,"",null,1,null,39223,"2007-05-21",0,0,0,null,0,null,0,null,0,"00:00:00",0]
["2007-05-22",15.3241,null,null,null,null,null,null,null,0,0,null,"2007-05-22",0,0,"",null,1,null,39224,"2007-05-22",0,0,0,null,0,null,0,null,0,"00:00:00",0]
["2007-05-23",15.3813,null,null,null,null,null,null,null,0,0,null,"2007-05-23",0,0,"",null,1,null,39225,"2007-05-23",0,0,0,null,0,null,0,null,0,"00:00:00",0]
["2007-05-24",15.2422,null,null,null,null,null,null,null,0,0,null,"2007-05-24",0,0,"",null,1,null,39226,"2007-05-24",0,0,0,null,0,null,0,null,0,"00:00:00",0]
["2007-05-25",15.4091,null,null,null,null,null,null,null,0,0,null,"2007-05-25",0,0,"",null,1,null,39227,"2007-05-25",0,0,0,null,0,null,0,null,0,"00:00:00",0]
["2007-05-29",15.5015,null,null,null,null,null,null,null,0,0,null,"2007-05-29",0,0,"",null,1,null,39231,"2007-05-29",0,0,0,null,0,null,0,null,0,"00:00:00",0]
["2007-05-30",15.4321,null,null,null,null,null,null,null,0,0,null,"2007-05-30",0,0,"",null,1,null,39232,"2007-05-30",0,0,0,null,0,null,0,null,0,"00:00:00",0]
["2007-05-31",15.820399999999999,null,null,null,null,null,null,null,0,0,null,"2007-05-31",0,0,"",null,1,null,39233,"2007-05-31",0,0,0,null,0,null,0,null,0,"00:00:00",0]
["2007-06-01",16.003,null,null,null,null,null,null,null,0,0,null,"2007-06-01",0,0,"",null,1,null,39234,"2007-06-01",0,0,0,null,0,null,0,null,0,"00:00:00",0]
["2007-06-04",15.8751,null,null,null,null,null,null,null,{"$f":"IF(DAY(A409)=sipdate,1,IF(J408=1,0,IF(J407=1,0,IF(J406=1,0,IF(J405=1,0,IF(J404=1,0,IF(J403=1,0,IF(DAY(A409)=sipdate+1,1,IF(DAY(A409)=sipdate+2,1,IF(DAY(A409)=sipdate+3,1,IF(DAY(A409)=sipdate+4,1,IF(DAY(A409)=sipdate+5,1,IF(DAY(A409)=sipdate+6,1,IF(DAY(A409)=sipdate+7,1,0))))))))))))))","v":0},0,null,"2007-06-04",0,0,"",null,1,null,39237,"2007-06-04",0,0,0,null,0,null,0,null,0,"00:00:00",0]
["2007-06-05",15.984500000000001,null,null,null,null,null,null,null,0,0,null,"2007-06-05",0,0,"",null,1,null,39238,"2007-06-05",0,0,0,null,0,null,0,null,0,"00:00:00",0]
["2007-06-06",15.7553,null,null,null,null,null,null,null,1,-1000,null,"2007-06-06",1,-1000,63.470705096062915,null,1,null,39239,"2007-06-06",-1000,39239,15.7553,null,0,null,0,null,0,"00:00:00",0]
["2007-06-07",15.8101,null,null,null,null,null,null,null,0,0,null,"2007-06-07",0,0,"",null,1,null,39240,"2007-06-07",0,0,0,null,0,null,0,null,0,"00:00:00",0]
["2007-06-08",15.7761,null,null,null,null,null,null,null,0,0,null,"2007-06-08",0,0,"",null,1,null,39241,"2007-06-08",0,0,0,null,0,null,0,null,0,"00:00:00",0]
["2007-06-11",15.737,null,null,null,null,null,null,null,0,0,null,"2007-06-11",0,0,"",null,1,null,39244,"2007-06-11",0,0,0,null,0,null,0,null,0,"00:00:00",0]
["2007-06-12",15.454800000000001,null,null,null,null,null,null,null,0,0,null,"2007-06-12",0,0,"",null,1,null,39245,"2007-06-12",0,0,0,null,0,null,0,null,0,"00:00:00",0]
["2007-06-13",15.398899999999999,null,null,null,null,null,null,null,0,0,null,"2007-06-13",0,0,"",null,1,null,39246,"2007-06-13",0,0,0,null,0,null,0,null,0,"00:00:00",0]
["2007-06-14",15.671099999999999,null,null,null,null,null,null,null,0,0,null,"2007-06-14",0,0,"",null,1,null,39247,"2007-06-14",0,0,0,null,0,null,0,null,0,"00:00:00",0]
["2007-06-15",15.8878,null,null,null,null,null,null,null,0,0,null,"2007-06-15",0,0,"",null,1,null,39248,"2007-06-15",0,0,0,null,0,null,0,null,0,"00:00:00",0]
["2007-06-18",15.8788,null,null,null,null,null,null,null,0,0,null,"2007-06-18",0,0,"",null,1,null,39251,"2007-06-18",0,0,0,null,0,null,0,null,0,"00:00:00",0]
["2007-06-19",16.119599999999998,null,null,null,null,null,null,null,0,0,null,"2007-06-19",0,0,"",null,1,null,39252,"2007-06-19",0,0,0,null,0,null,0,null,0,"00:00:00",0]
["2007-06-20",16.3965,null,null,null,null,null,null,null,0,0,null,"2007-06-20",0,0,"",null,1,null,39253,"2007-06-20",0,0,0,null,0,null,0,null,0,"00:00:00",0]
["2007-06-21",16.529900000000001,null,null,null,null,null,null,null,0,0,null,"2007-06-21",0,0,"",null,1,null,39254,"2007-06-21",0,0,0,null,0,null,0,null,0,"00:00:00",0]
["2007-06-22",16.674800000000001,null,null,null,null,null,null,null,0,0,null,"2007-06-22",0,0,"",null,1,null,39255,"2007-06-22",0,0,0,null,0,null,0,null,0,"00:00:00",0]
["2007-06-25",16.857600000000001,null,null,null,null,null,null,null,0,0,null,"2007-06-25",0,0,"",null,1,null,39258,"2007-06-25",0,0,0,null,0,null,0,null,0,"00:00:00",0]
["2007-06-26",17.124600000000001,null,null,null,null,null,null,null,0,0,null,"2007-06-26",0,0,"",null,1,null,39259,"2007-06-26",0,0,0,null,0,null,0,null,0,"00:00:00",0]
["2007-06-27",17.208200000000001,null,null,null,null,null,null,null,0,0,null,"2007-06-27",0,0,"",null,1,null,39260,"2007-06-27",0,0,0,null,0,null,0,null,0,"00:00:00",0]
["2007-06-28",17.345600000000001,null,null,null,null,null,null,null,0,0,null,"2007-06-28",0,0,"",null,1,null,39261,"2007-06-28",0,0,0,null,0,null,0,null,0,"00:00:00",0]
["2007-06-29",17.473600000000001,null,null,null,null,null,null,null,0,0,null,"2007-06-29",0,0,"",null,1,null,39262,"2007-06-29",0,0,0,null,0,null,0,null,0,"00:00:00",0]
["2007-07-02",17.669599999999999,null,null,null,null,null,null,null,0,0,null,"2007-07-02",0,0,"",null,1,null,39265,"2007-07-02",0,0,0,null,0,null,0,null,0,"00:00:00",0]
["2007-07-03",17.8032,null,null,null,null,null,null,null,0,0,null,"2007-07-03",0,0,"",null,1,null,39266,"2007-07-03",0,0,0,null,0,null,0,null,0,"00:00:00",0]
["2007-07-04",17.7193,null,null,null,null,null,null,null,0,0,null,"2007-07-04",0,0,"",null,1,null,39267,"2007-07-04",0,0,0,null,0,null,0,null,0,"00:00:00",0]
["2007-07-05",17.476700000000001,null,null,null,null,null,null,null,0,0,null,"2007-07-05",0,0,"",null,1,null,39268,"2007-07-05",0,0,0,null,0,null,0,null,0,"00:00:00",0]
["2007-07-06",17.611899999999999,null,null,null,null,null,null,null,1,-1000,null,"2007-07-06",1,-1000,56.779790936809775,null,1,null,39269,"2007-07-06",-1000,39269,17.611899999999999,null,0,null,1,null,0,"00:00:00",0]
["2007-07-09",17.683399999999999,null,null,null,null,null,null,null,0,0,null,"2007-07-09",0,0,"",null,1,null,39272,"2007-07-09",0,0,0,null,0,null,0,null,0,"00:00:00",0]
["2007-07-10",17.601500000000001,null,null,null,null,null,null,null,0,0,null,"2007-07-10",0,0,"",null,1,null,39273,"2007-07-10",0,0,0,null,0,null,0,null,0,"00:00:00",0]
["2007-07-11",17.550599999999999,null,null,null,null,null,null,null,0,0,null,"2007-07-11",0,0,"",null,1,null,39274,"2007-07-11",0,0,0,null,0,null,0,null,0,"00:00:00",0]
["2007-07-12",17.795300000000001,null,null,null,null,null,null,null,0,0,null,"2007-07-12",0,0,"",null,1,null,39275,"2007-07-12",0,0,0,null,0,null,0,null,0,"00:00:00",0]
["2007-07-13",17.723500000000001,null,null,null,null,null,null,null,0,0,null,"2007-07-13",0,0,"",null,1,null,39276,"2007-07-13",0,0,0,null,0,null,0,null,0,"00:00:00",0]
["2007-07-16",17.7163,null,null,null,null,null,null,null,0,0,null,"2007-07-16",0,0,"",null,1,null,39279,"2007-07-16",0,0,0,null,0,null,0,null,0,"00:00:00",0]
["2007-07-17",17.6907,null,null,null,null,null,null,null,0,0,null,"2007-07-17",0,0,"",null,1,null,39280,"2007-07-17",0,0,0,null,0,null,0,null,0,"00:00:00",0]
["2007-07-18",17.634499999999999,null,null,null,null,null,null,null,0,0,null,"2007-07-18",0,0,"",null,1,null,39281,"2007-07-18",0,0,0,null,0,null,0,null,0,"00:00:00",0]
["2007-07-19",17.7393,null,null,null,null,null,null,null,0,0,null,"2007-07-19",0,0,"",null,1,null,39282,"2007-07-19",0,0,0,null,0,null,0,null,0,"00:00:00",0]
["2007-07-20",17.680399999999999,null,null,null,null,null,null,null,0,0,null,"2007-07-20",0,0,"",null,1,null,39283,"2007-07-20",0,0,0,null,0,null,0,null,0,"00:00:00",0]
["2007-07-23",17.730799999999999,null,null,null,null,null,null,null,0,0,null,"2007-07-23",0,0,"",null,1,null,39286,"2007-07-23",0,0,0,null,0,null,0,null,0,"00:00:00",0]
["2007-07-24",17.6799,null,null,null,null,null,null,null,0,0,null,"2007-07-24",0,0,"",null,1,null,39287,"2007-07-24",0,0,0,null,0,null,0,null,0,"00:00:00",0]
["2007-07-26",17.6388,null,null,null,null,null,null,null,0,0,null,"2007-07-26",0,0,"",null,1,null,39289,"2007-07-26",0,0,0,null,0,null,0,null,0,"00:00:00",0]
["2007-07-27",17.22,null,null,null,null,null,null,null,0,0,null,"2007-07-27",0,0,"",null,1,null,39290,"2007-07-27",0,0,0,null,{"$f":"IF(R448=0,IF(R447=1,M447,0),0)","v":0},null,0,null,0,"00:00:00",0]
["2007-07-30",17.206800000000001,null,null,null,null,null,null,null,0,0,null,"2007-07-30",0,0,"",null,1,null,39293,"2007-07-30",0,0,0,null,0,null,0,null,0,"00:00:00",0]
["2007-07-31",17.618099999999998,null,null,null,null,null,null,null,0,0,null,"2007-07-31",0,0,"",null,1,null,39294,"2007-07-31",0,0,0,null,0,null,0,null,0,"00:00:00",0]
["2007-08-01",16.950900000000001,null,null,null,null,null,null,null,0,0,null,"2007-08-01",0,0,"",null,1,null,39295,"2007-08-01",0,0,0,null,0,null,0,null,0,"00:00:00",0]
["2007-08-02",17.0502,null,null,null,null,null,null,null,0,0,null,"2007-08-02",0,0,"",null,1,null,39296,"2007-08-02",0,0,0,null,0,null,0,null,0,"00:00:00",0]
["2007-08-03",17.248200000000001,null,null,null,null,null,null,null,0,0,null,"2007-08-03",0,0,"",null,1,null,39297,"2007-08-03",0,0,0,null,0,null,0,null,0,"00:00:00",0]
["2007-08-06",17.0764,null,null,null,null,null,null,null,1,-1000,null,"2007-08-06",1,-1000,58.560352299079433,null,1,null,39300,"2007-08-06",-1000,39300,17.0764,null,0,null,0,null,0,"00:00:00",0]
["2007-08-07",17.174299999999999,null,null,null,null,null,null,null,0,0,null,"2007-08-07",0,0,"",null,1,null,39301,"2007-08-07",0,0,0,null,0,null,0,null,0,"00:00:00",0]
["2007-08-08",17.341799999999999,null,null,null,null,null,null,null,0,0,null,"2007-08-08",0,0,"",null,1,null,39302,"2007-08-08",0,0,0,null,0,null,0,null,0,"00:00:00",0]
["2007-08-09",17.185700000000001,null,null,null,null,null,null,null,0,0,null,"2007-08-09",0,0,"",null,1,null,39303,"2007-08-09",0,0,0,null,0,null,0,null,0,"00:00:00",0]
["2007-08-10",17.160799999999998,null,null,null,null,null,null,null,0,0,null,{"$f":"A457","v":"2007-08-10"},{"$f":"IF(IF(M457>=sipstart,1,0)+IF(M457<=sipend,1,0)=2,J457,0)","v":0},{"$f":"IF(IF(M457>=sipstart,1,0)+IF(M457<=sipend,1,0)=2,K457,0)","v":0},"",null,{"$f":"IF(IF(M457>=sipstart,1,0)+IF(M457<=sipend,1,0)=2,1,0)","v":1},null,{"$f":"IF((IF(M457>=sipstart,1,2)+IF(M457<=sipend,1,2))=2,M457,0)","v":39304},"2007-08-10",0,{"$f":"IF(V457=-sip,U457,0)","v":0},{"$f":"IF(V457=-sip,B457,0)","v":0},null,0,null,0,null,0,{"$f":"IF(AD457=1,A457,0)","v":"00:00:00"},{"$f":"IF(AD457=1,B457,0)","v":0}]
["2007-08-13",17.363,null,null,null,null,null,null,null,0,0,null,"2007-08-13",0,0,{"$f":"IF(O458=-sip,-O458/B458,\"\")","v":""},null,1,null,39307,{"$f":"IF((IF(M458>=sipstart,1,2)+IF(M458<=sipend,1,2))=2,M458,0)+IF(T457=actualsipend,actualsipend,0)","v":"2007-08-13"},{"$f":"IF(U458+U457=0,0,IF(U458=U457,sipunits*B457,O458))","v":0},0,0,null,0,null,0,null,0,"00:00:00",0]
["2007-08-14",17.246500000000001,null,null,null,null,null,null,null,0,0,null,"2007-08-14",0,0,"",null,1,null,39308,"2007-08-14",0,0,0,null,0,null,0,null,0,"00:00:00",0]
["2007-08-16",16.790400000000002,null,null,null,null,null,null,null,0,0,null,"2007-08-16",0,0,"",null,1,null,39310,"2007-08-16",0,0,0,null,0,null,0,null,0,"00:00:00",0]
["2007-08-17",16.523900000000001,null,null,null,null,null,null,null,0,{"$f":"IF(DAY(A461)=sipdate,-sip,IF(K460=-sip,0,IF(K459=-sip,0,IF(K458=-sip,0,IF(K457=-sip,0,IF(K456=-sip,0,IF(K455=-sip,0,IF(DAY(A461)=sipdate+1,-sip,IF(DAY(A461)=sipdate+2,-sip,IF(DAY(A461)=sipdate+3,-sip,IF(DAY(A461)=sipdate+4,-sip,IF(DAY(A461)=sipdate+5,-sip,IF(DAY(A461)=sipdate+6,-sip,IF(DAY(A461)=sipdate+7,-sip,0))))))))))))))","v":0},null,"2007-08-17",0,0,"",null,1,null,39311,"2007-08-17",0,0,0,null,0,null,{"$f":"IF(INT((MONTH(M461)-MONTH(sipstart))/3)-(MONTH(M461)-MONTH(sipstart))/3=0,IF(DAY(A461)=sipdate,1,IF(AB460=1,0,IF(AB459=1,0,IF(AB458=1,0,IF(AB457=1,0,IF(AB456=1,0,IF(AB455=1,0,IF(DAY(A461)=sipdate+1,1,IF(DAY(A461)=sipdate+2,1,IF(DAY(A461)=sipdate+3,1,IF(DAY(A461)=sipdate+4,1,IF(DAY(A461)=sipdate+5,1,IF(DAY(A461)=sipdate+6,1,IF(DAY(A461)=sipdate+7,1,0)))))))))))))),0)","v":0},null,{"$f":"IF(INT((MONTH(M461)-MONTH(sipstart))/12)-(MONTH(M461)-MONTH(sipstart))/12=0,IF(DAY(A461)=sipdate,1,IF(AB460=1,0,IF(AB459=1,0,IF(AB458=1,0,IF(AB457=1,0,IF(AB456=1,0,IF(AB455=1,0,IF(DAY(A461)=sipdate+1,1,IF(DAY(A461)=sipdate+2,1,IF(DAY(A461)=sipdate+3,1,IF(DAY(A461)=sipdate+4,1,IF(DAY(A461)=sipdate+5,1,IF(DAY(A461)=sipdate+6,1,IF(DAY(A461)=sipdate+7,1,0)))))))))))))),0)","v":0},"00:00:00",0]
["2007-08-20",16.725300000000001,null,null,null,null,null,null,null,0,0,null,"2007-08-20",0,0,"",null,1,null,39314,"2007-08-20",0,0,0,null,0,null,0,null,0,"00:00:00",0]
["2007-08-21",16.160299999999999,null,null,null,null,null,null,null,0,0,null,"2007-08-21",0,0,"",null,1,null,39315,"2007-08-21",0,0,0,null,0,null,0,null,0,"00:00:00",0]
["2007-08-22",16.268599999999999,null,null,null,null,null,null,null,0,0,null,"2007-08-22",0,0,"",null,1,null,39316,"2007-08-22",0,0,0,null,0,null,0,null,0,"00:00:00",0]
["2007-08-23",16.11,null,null,null,null,null,null,null,0,0,null,"2007-08-23",0,0,"",null,1,null,39317,"2007-08-23",0,0,0,null,0,null,0,null,0,"00:00:00",0]
["2007-08-24",16.3566,null,null,null,null,null,null,null,0,0,null,"2007-08-24",0,0,"",null,1,null,39318,"2007-08-24",0,0,0,null,0,null,0,null,0,"00:00:00",0]
["2007-08-27",16.793900000000001,null,null,null,null,null,null,null,0,0,null,"2007-08-27",0,0,"",null,1,null,39321,"2007-08-27",0,0,0,null,0,null,0,null,0,"00:00:00",0]
["2007-08-28",16.955400000000001,null,null,null,null,null,null,null,0,0,null,"2007-08-28",0,0,"",null,1,null,39322,"2007-08-28",0,0,0,null,0,null,0,null,0,"00:00:00",0]
["2007-08-29",17.055599999999998,null,null,null,null,null,null,null,0,0,null,"2007-08-29",0,0,"",null,1,null,39323,"2007-08-29",0,0,0,null,0,null,0,null,0,"00:00:00",0]
["2007-08-30",17.214099999999998,null,null,null,null,null,null,null,0,0,null,"2007-08-30",0,0,"",null,1,null,39324,"2007-08-30",0,0,0,null,0,null,0,null,0,"00:00:00",0]
["2007-08-31",17.440000000000001,null,null,null,null,null,null,null,0,0,null,"2007-08-31",0,0,"",null,1,null,39325,"2007-08-31",0,0,0,null,0,null,0,null,0,"00:00:00",0]
["2007-09-03",17.6814,null,null,null,null,null,null,null,0,0,null,"2007-09-03",0,0,"",null,1,null,39328,"2007-09-03",0,0,0,null,0,null,0,null,0,"00:00:00",0]
["2007-09-04",17.7392,null,null,null,null,null,null,null,{"$f":"IF(DAY(A473)=sipdate,1,IF(J472=1,0,IF(J471=1,0,IF(J470=1,0,IF(J469=1,0,IF(J468=1,0,IF(J467=1,0,IF(DAY(A473)=sipdate+1,1,IF(DAY(A473)=sipdate+2,1,IF(DAY(A473)=sipdate+3,1,IF(DAY(A473)=sipdate+4,1,IF(DAY(A473)=sipdate+5,1,IF(DAY(A473)=sipdate+6,1,IF(DAY(A473)=sipdate+7,1,0))))))))))))))","v":0},0,null,"2007-09-04",0,0,"",null,1,null,39329,"2007-09-04",0,0,0,null,0,null,0,null,0,"00:00:00",0]
["2007-09-05",17.822800000000001,null,null,null,null,null,null,null,0,0,null,"2007-09-05",0,0,"",null,1,null,39330,"2007-09-05",0,0,0,null,0,null,0,null,0,"00:00:00",0]
["2007-09-06",17.979399999999998,null,null,null,null,null,null,null,1,-1000,null,"2007-09-06",1,-1000,55.619208649899335,null,1,null,39331,"2007-09-06",-1000,39331,17.979399999999998,null,0,null,0,null,0,"00:00:00",0]
["2007-09-07",17.919799999999999,null,null,null,null,null,null,null,0,0,null,"2007-09-07",0,0,"",null,1,null,39332,"2007-09-07",0,0,0,null,0,null,0,null,0,"00:00:00",0]
["2007-09-10",17.999199999999998,null,null,null,null,null,null,null,0,0,null,"2007-09-10",0,0,"",null,1,null,39335,"2007-09-10",0,0,0,null,0,null,0,null,0,"00:00:00",0]
["2007-09-11",18.128799999999998,null,null,null,null,null,null,null,0,0,null,"2007-09-11",0,0,"",null,1,null,39336,"2007-09-11",0,0,0,null,0,null,0,null,0,"00:00:00",0]
["2007-09-12",18.146799999999999,null,null,null,null,null,null,null,0,0,null,"2007-09-12",0,0,"",null,1,null,39337,"2007-09-12",0,0,0,null,0,null,0,null,0,"00:00:00",0]
["2007-09-13",18.349699999999999,null,null,null,null,null,null,null,0,0,null,"2007-09-13",0,0,"",null,1,null,39338,"2007-09-13",0,0,0,null,0,null,0,null,0,"00:00:00",0]
["2007-09-14",18.298500000000001,null,null,null,null,null,null,null,0,0,null,"2007-09-14",0,0,"",null,1,null,39339,"2007-09-14",0,0,0,null,0,null,0,null,0,"00:00:00",0]
["2007-09-17",18.372299999999999,null,null,null,null,null,null,null,0,0,null,"2007-09-17",0,0,"",null,1,null,39342,"2007-09-17",0,0,0,null,0,null,0,null,0,"00:00:00",0]
["2007-09-18",18.453600000000002,null,null,null,null,null,null,null,0,0,null,"2007-09-18",0,0,"",null,1,null,39343,"2007-09-18",0,0,0,null,0,null,0,null,0,"00:00:00",0]
["2007-09-19",18.875900000000001,null,null,null,null,null,null,null,0,0,null,"2007-09-19",0,0,"",null,1,null,39344,"2007-09-19",0,0,0,null,0,null,0,null,0,"00:00:00",0]
["2007-09-20",18.850100000000001,null,null,null,null,null,null,null,0,0,null,"2007-09-20",0,0,"",null,1,null,39345,"2007-09-20",0,0,0,null,0,null,0,null,0,"00:00:00",0]
["2007-09-21",19.1831,null,null,null,null,null,null,null,0,0,null,"2007-09-21",0,0,"",null,1,null,39346,"2007-09-21",0,0,0,null,0,null,0,null,0,"00:00:00",0]
["2007-09-24",19.475100000000001,null,null,null,null,null,null,null,0,0,null,"2007-09-24",0,0,"",null,1,null,39349,"2007-09-24",0,0,0,null,0,null,0,null,0,"00:00:00",0]
["2007-09-25",19.470600000000001,null,null,null,null,null,null,null,0,0,null,"2007-09-25",0,0,"",null,1,null,39350,"2007-09-25",0,0,0,null,0,null,0,null,0,"00:00:00",0]
["2007-09-26",19.363800000000001,null,null,null,null,null,null,null,0,0,null,"2007-09-26",0,0,"",null,1,null,39351,"2007-09-26",0,0,0,null,0,null,0,null,0,"00:00:00",0]
["2007-09-27",19.374099999999999,null,null,null,null,null,null,null,0,0,null,"2007-09-27",0,0,"",null,1,null,39352,"2007-09-27",0,0,0,null,0,null,0,null,0,"00:00:00",0]
["2007-09-28",19.677,null,null,null,null,null,null,null,0,0,null,"2007-09-28",0,0,"",null,1,null,39353,"2007-09-28",0,0,0,null,0,null,0,null,0,"00:00:00",0]
["2007-10-01",19.7745,null,null,null,null,null,null,null,0,0,null,"2007-10-01",0,0,"",null,1,null,39356,"2007-10-01",0,0,0,null,0,null,0,null,0,"00:00:00",0]
["2007-10-03",19.7822,null,null,null,null,null,null,null,0,0,null,"2007-10-03",0,0,"",null,1,null,39358,"2007-10-03",0,0,0,null,0,null,0,null,0,"00:00:00",0]
["2007-10-04",19.910799999999998,null,null,null,null,null,null,null,0,0,null,"2007-10-04",0,0,"",null,1,null,39359,"2007-10-04",0,0,0,null,0,null,0,null,0,"00:00:00",0]
["2007-10-05",19.773800000000001,null,null,null,null,null,null,null,0,0,null,"2007-10-05",0,0,"",null,1,null,39360,"2007-10-05",0,0,0,null,0,null,0,null,0,"00:00:00",0]
["2007-10-08",19.085699999999999,null,null,null,null,null,null,null,1,-1000,null,"2007-10-08",1,-1000,52.395248798838921,null,1,null,39363,"2007-10-08",-1000,39363,19.085699999999999,null,0,null,1,null,1,"2007-10-08",19.085699999999999]
["2007-10-09",19.639099999999999,null,null,null,null,null,null,null,0,0,null,"2007-10-09",0,0,"",null,1,null,39364,"2007-10-09",0,0,0,null,0,null,0,null,0,"00:00:00",0]
["2007-10-10",19.8903,null,null,null,null,null,null,null,0,0,null,"2007-10-10",0,0,"",null,1,null,39365,"2007-10-10",0,0,0,null,0,null,0,null,0,"00:00:00",0]
["2007-10-11",20.404800000000002,null,null,null,null,null,null,null,0,0,null,"2007-10-11",0,0,"",null,1,null,39366,"2007-10-11",0,0,0,null,0,null,0,null,0,"00:00:00",0]
["2007-10-12",20.219200000000001,null,null,null,null,null,null,null,0,0,null,"2007-10-12",0,0,"",null,1,null,39367,"2007-10-12",0,0,0,null,0,null,0,null,0,"00:00:00",0]
["2007-10-16",20.942,null,null,null,null,null,null,null,0,0,null,"2007-10-16",0,0,"",null,1,null,39371,"2007-10-16",0,0,0,null,0,null,0,null,0,"00:00:00",0]
["2007-10-17",20.6433,null,null,null,null,null,null,null,0,0,null,"2007-10-17",0,0,"",null,1,null,39372,"2007-10-17",0,0,0,null,0,null,0,null,0,"00:00:00",0]
["2007-10-18",20.180700000000002,null,null,null,null,null,null,null,0,0,null,"2007-10-18",0,0,"",null,1,null,39373,"2007-10-18",0,0,0,null,0,null,0,null,0,"00:00:00",0]
["2007-10-19",19.5471,null,null,null,null,null,null,null,0,0,null,"2007-10-19",0,0,"",null,1,null,39374,"2007-10-19",0,0,0,null,0,null,0,null,0,"00:00:00",0]
["2007-10-22",19.509899999999998,null,null,null,null,null,null,null,0,0,null,"2007-10-22",0,0,"",null,1,null,39377,"2007-10-22",0,0,0,null,0,null,0,null,0,"00:00:00",0]
["2007-10-23",20.2347,null,null,null,null,null,null,null,0,0,null,"2007-10-23",0,0,"",null,1,null,39378,"2007-10-23",0,0,0,null,0,null,0,null,0,"00:00:00",0]
["2007-10-24",20.5564,null,null,null,null,null,null,null,0,0,null,"2007-10-24",0,0,"",null,1,null,39379,"2007-10-24",0,0,0,null,0,null,0,null,0,"00:00:00",0]
["2007-10-25",20.837499999999999,null,null,null,null,null,null,null,0,0,null,"2007-10-25",0,0,"",null,1,null,39380,"2007-10-25",0,0,0,null,0,null,0,null,0,"00:00:00",0]
["2007-10-26",21.2182,null,null,null,null,null,null,null,0,0,null,"2007-10-26",0,0,"",null,1,null,39381,"2007-10-26",0,0,0,null,0,null,0,null,0,"00:00:00",0]
["2007-10-29",21.7742,null,null,null,null,null,null,null,0,0,null,"2007-10-29",0,0,"",null,1,null,39384,"2007-10-29",0,0,0,null,0,null,0,null,0,"00:00:00",0]
["2007-10-30",21.727499999999999,null,null,null,null,null,null,null,0,0,null,"2007-10-30",0,0,"",null,1,null,39385,"2007-10-30",0,0,0,null,{"$f":"IF(R512=0,IF(R511=1,M511,0),0)","v":0},null,0,null,0,"00:00:00",0]
["2007-10-31",22.221699999999998,null,null,null,null,null,null,null,0,0,null,"2007-10-31",0,0,"",null,1,null,39386,"2007-10-31",0,0,0,null,0,null,0,null,0,"00:00:00",0]
["2007-11-01",21.953600000000002,null,null,null,null,null,null,null,0,0,null,"2007-11-01",0,0,"",null,1,null,39387,"2007-11-01",0,0,0,null,0,null,0,null,0,"00:00:00",0]
["2007-11-02",22.3108,null,null,null,null,null,null,null,0,0,null,"2007-11-02",0,0,"",null,1,null,39388,"2007-11-02",0,0,0,null,0,null,0,null,0,"00:00:00",0]
["2007-11-05",22.718800000000002,null,null,null,null,null,null,null,0,0,null,"2007-11-05",0,0,"",null,1,null,39391,"2007-11-05",0,0,0,null,0,null,0,null,0,"00:00:00",0]
["2007-11-06",22.604299999999999,null,null,null,null,null,null,null,1,-1000,null,"2007-11-06",1,-1000,44.239370385280679,null,1,null,39392,"2007-11-06",-1000,39392,22.604299999999999,null,0,null,0,null,0,"00:00:00",0]
["2007-11-07",22.487400000000001,null,null,null,null,null,null,null,0,0,null,"2007-11-07",0,0,"",null,1,null,39393,"2007-11-07",0,0,0,null,0,null,0,null,0,"00:00:00",0]
["2007-11-08",22.479900000000001,null,null,null,null,null,null,null,0,0,null,"2007-11-08",0,0,"",null,1,null,39394,"2007-11-08",0,0,0,null,0,null,0,null,0,"00:00:00",0]
["2007-11-13",22.887899999999998,null,null,null,null,null,null,null,0,0,null,"2007-11-13",0,0,"",null,1,null,39399,"2007-11-13",0,0,0,null,0,null,0,null,0,"00:00:00",0]
["2007-11-14",23.560600000000001,null,null,null,null,null,null,null,0,0,null,"2007-11-14",0,0,"",null,1,null,39400,"2007-11-14",0,0,0,null,0,null,0,null,0,"00:00:00",0]
["2007-11-15",23.885899999999999,null,null,null,null,null,null,null,0,0,null,{"$f":"A521","v":"2007-11-15"},{"$f":"IF(IF(M521>=sipstart,1,0)+IF(M521<=sipend,1,0)=2,J521,0)","v":0},{"$f":"IF(IF(M521>=sipstart,1,0)+IF(M521<=sipend,1,0)=2,K521,0)","v":0},"",null,{"$f":"IF(IF(M521>=sipstart,1,0)+IF(M521<=sipend,1,0)=2,1,0)","v":1},null,{"$f":"IF((IF(M521>=sipstart,1,2)+IF(M521<=sipend,1,2))=2,M521,0)","v":39401},"2007-11-15",0,{"$f":"IF(V521=-sip,U521,0)","v":0},{"$f":"IF(V521=-sip,B521,0)","v":0},null,0,null,0,null,0,{"$f":"IF(AD521=1,A521,0)","v":"00:00:00"},{"$f":"IF(AD521=1,B521,0)","v":0}]
["2007-11-16",23.928699999999999,null,null,null,null,null,null,null,0,0,null,"2007-11-16",0,0,{"$f":"IF(O522=-sip,-O522/B522,\"\")","v":""},null,1,null,39402,{"$f":"IF((IF(M522>=sipstart,1,2)+IF(M522<=sipend,1,2))=2,M522,0)+IF(T521=actualsipend,actualsipend,0)","v":"2007-11-16"},{"$f":"IF(U522+U521=0,0,IF(U522=U521,sipunits*B521,O522))","v":0},0,0,null,0,null,0,null,0,"00:00:00",0]
["2007-11-19",24.287400000000002,null,null,null,null,null,null,null,0,0,null,"2007-11-19",0,0,"",null,1,null,39405,"2007-11-19",0,0,0,null,0,null,0,null,0,"00:00:00",0]
["2007-11-20",23.976099999999999,null,null,null,null,null,null,null,0,0,null,"2007-11-20",0,0,"",null,1,null,39406,"2007-11-20",0,0,0,null,0,null,0,null,0,"00:00:00",0]
["2007-11-22",22.6646,null,null,null,null,null,null,null,0,{"$f":"IF(DAY(A525)=sipdate,-sip,IF(K524=-sip,0,IF(K523=-sip,0,IF(K522=-sip,0,IF(K521=-sip,0,IF(K520=-sip,0,IF(K519=-sip,0,IF(DAY(A525)=sipdate+1,-sip,IF(DAY(A525)=sipdate+2,-sip,IF(DAY(A525)=sipdate+3,-sip,IF(DAY(A525)=sipdate+4,-sip,IF(DAY(A525)=sipdate+5,-sip,IF(DAY(A525)=sipdate+6,-sip,IF(DAY(A525)=sipdate+7,-sip,0))))))))))))))","v":0},null,"2007-11-22",0,0,"",null,1,null,39408,"2007-11-22",0,0,0,null,0,null,{"$f":"IF(INT((MONTH(M525)-MONTH(sipstart))/3)-(MONTH(M525)-MONTH(sipstart))/3=0,IF(DAY(A525)=sipdate,1,IF(AB524=1,0,IF(AB523=1,0,IF(AB522=1,0,IF(AB521=1,0,IF(AB520=1,0,IF(AB519=1,0,IF(DAY(A525)=sipdate+1,1,IF(DAY(A525)=sipdate+2,1,IF(DAY(A525)=sipdate+3,1,IF(DAY(A525)=sipdate+4,1,IF(DAY(A525)=sipdate+5,1,IF(DAY(A525)=sipdate+6,1,IF(DAY(A525)=sipdate+7,1,0)))))))))))))),0)","v":0},null,{"$f":"IF(INT((MONTH(M525)-MONTH(sipstart))/12)-(MONTH(M525)-MONTH(sipstart))/12=0,IF(DAY(A525)=sipdate,1,IF(AB524=1,0,IF(AB523=1,0,IF(AB522=1,0,IF(AB521=1,0,IF(AB520=1,0,IF(AB519=1,0,IF(DAY(A525)=sipdate+1,1,IF(DAY(A525)=sipdate+2,1,IF(DAY(A525)=sipdate+3,1,IF(DAY(A525)=sipdate+4,1,IF(DAY(A525)=sipdate+5,1,IF(DAY(A525)=sipdate+6,1,IF(DAY(A525)=sipdate+7,1,0)))))))))))))),0)","v":0},"00:00:00",0]
["2007-11-23",22.970600000000001,null,null,null,null,null,null,null,0,0,null,"2007-11-23",0,0,"",null,1,null,39409,"2007-11-23",0,0,0,null,0,null,0,null,0,"00:00:00",0]
["2007-11-26",23.321000000000002,null,null,null,null,null,null,null,0,0,null,"2007-11-26",0,0,"",null,1,null,39412,"2007-11-26",0,0,0,null,0,null,0,null,0,"00:00:00",0]
["2007-11-27",23.312100000000001,null,null,null,null,null,null,null,0,0,null,"2007-11-27",0,0,"",null,1,null,39413,"2007-11-27",0,0,0,null,0,null,0,null,0,"00:00:00",0]
["2007-11-28",23.0732,null,null,null,null,null,null,null,0,0,null,"2007-11-28",0,0,"",null,1,null,39414,"2007-11-28",0,0,0,null,0,null,0,null,0,"00:00:00",0]
["2007-11-29",23.099599999999999,null,null,null,null,null,null,null,0,0,null,"2007-11-29",0,0,"",null,1,null,39415,"2007-11-29",0,0,0,null,0,null,0,null,0,"00:00:00",0]
["2007-11-30",23.492000000000001,null,null,null,null,null,null,null,0,0,null,"2007-11-30",0,0,"",null,1,null,39416,"2007-11-30",0,0,0,null,0,null,0,null,0,"00:00:00",0]
["2007-12-03",23.896799999999999,null,null,null,null,null,null,null,0,0,null,"2007-12-03",0,0,"",null,1,null,39419,"2007-12-03",0,0,0,null,0,null,0,null,0,"00:00:00",0]
["2007-12-04",24.4178,null,null,null,null,null,null,null,0,0,null,"2007-12-04",0,0,"",null,1,null,39420,"2007-12-04",0,0,0,null,0,null,0,null,0,"00:00:00",0]
["2007-12-05",24.702100000000002,null,null,null,null,null,null,null,0,0,null,"2007-12-05",0,0,"",null,1,null,39421,"2007-12-05",0,0,0,null,0,null,0,null,0,"00:00:00",0]
["2007-12-06",24.848800000000001,null,null,null,null,null,null,null,1,-1000,null,"2007-12-06",1,-1000,40.243392035027846,null,1,null,39422,"2007-12-06",-1000,39422,24.848800000000001,null,0,null,0,null,0,"00:00:00",0]
["2007-12-07",25.1157,null,null,null,null,null,null,null,0,0,null,"2007-12-07",0,0,"",null,1,null,39423,"2007-12-07",0,0,0,null,0,null,0,null,0,"00:00:00",0]
["2007-12-10",25.247499999999999,null,null,null,null,null,null,null,{"$f":"IF(DAY(A537)=sipdate,1,IF(J536=1,0,IF(J535=1,0,IF(J534=1,0,IF(J533=1,0,IF(J532=1,0,IF(J531=1,0,IF(DAY(A537)=sipdate+1,1,IF(DAY(A537)=sipdate+2,1,IF(DAY(A537)=sipdate+3,1,IF(DAY(A537)=sipdate+4,1,IF(DAY(A537)=sipdate+5,1,IF(DAY(A537)=sipdate+6,1,IF(DAY(A537)=sipdate+7,1,0))))))))))))))","v":0},0,null,"2007-12-10",0,0,"",null,1,null,39426,"2007-12-10",0,0,0,null,0,null,0,null,0,"00:00:00",0]
["2007-12-11",25.418700000000001,null,null,null,null,null,null,null,0,0,null,"2007-12-11",0,0,"",null,1,null,39427,"2007-12-11",0,0,0,null,0,null,0,null,0,"00:00:00",0]
["2007-12-12",25.733699999999999,null,null,null,null,null,null,null,0,0,null,"2007-12-12",0,0,"",null,1,null,39428,"2007-12-12",0,0,0,null,0,null,0,null,0,"00:00:00",0]
["2007-12-13",25.561499999999999,null,null,null,null,null,null,null,0,0,null,"2007-12-13",0,0,"",null,1,null,39429,"2007-12-13",0,0,0,null,0,null,0,null,0,"00:00:00",0]
["2007-12-14",25.8263,null,null,null,null,null,null,null,0,0,null,"2007-12-14",0,0,"",null,1,null,39430,"2007-12-14",0,0,0,null,0,null,0,null,0,"00:00:00",0]
["2007-12-17",25.1129,null,null,null,null,null,null,null,0,0,null,"2007-12-17",0,0,"",null,1,null,39433,"2007-12-17",0,0,0,null,0,null,0,null,0,"00:00:00",0]
["2007-12-18",25.206600000000002,null,null,null,null,null,null,null,0,0,null,"2007-12-18",0,0,"",null,1,null,39434,"2007-12-18",0,0,0,null,0,null,0,null,0,"00:00:00",0]
["2007-12-19",25.359400000000001,null,null,null,null,null,null,null,0,0,null,"2007-12-19",0,0,"",null,1,null,39435,"2007-12-19",0,0,0,null,0,null,0,null,0,"00:00:00",0]
["2007-12-20",25.3355,null,null,null,null,null,null,null,0,0,null,"2007-12-20",0,0,"",null,1,null,39436,"2007-12-20",0,0,0,null,0,null,0,null,0,"00:00:00",0]
["2007-12-24",25.997900000000001,null,null,null,null,null,null,null,0,0,null,"2007-12-24",0,0,"",null,1,null,39440,"2007-12-24",0,0,0,null,0,null,0,null,0,"00:00:00",0]
["2007-12-26",26.694800000000001,null,null,null,null,null,null,null,0,0,null,"2007-12-26",0,0,"",null,1,null,39442,"2007-12-26",0,0,0,null,0,null,0,null,0,"00:00:00",0]
["2007-12-27",26.864899999999999,null,null,null,null,null,null,null,0,0,null,"2007-12-27",0,0,"",null,1,null,39443,"2007-12-27",0,0,0,null,0,null,0,null,0,"00:00:00",0]
["2007-12-28",27.253499999999999,null,null,null,null,null,null,null,0,0,null,"2007-12-28",0,0,"",null,1,null,39444,"2007-12-28",0,0,0,null,0,null,0,null,0,"00:00:00",0]
["2007-12-31",27.817299999999999,null,null,null,null,null,null,null,0,0,null,"2007-12-31",0,0,"",null,1,null,39447,"2007-12-31",0,0,0,null,0,null,0,null,0,"00:00:00",0]
["2008-01-01",28.007000000000001,null,null,null,null,null,null,null,0,0,null,"2008-01-01",0,0,"",null,1,null,39448,"2008-01-01",0,0,0,null,0,null,0,null,0,"00:00:00",0]
["2008-01-02",28.2684,null,null,null,null,null,null,null,0,0,null,"2008-01-02",0,0,"",null,1,null,39449,"2008-01-02",0,0,0,null,0,null,0,null,0,"00:00:00",0]
["2008-01-03",28.187999999999999,null,null,null,null,null,null,null,0,0,null,"2008-01-03",0,0,"",null,1,null,39450,"2008-01-03",0,0,0,null,0,null,0,null,0,"00:00:00",0]
["2008-01-04",28.239899999999999,null,null,null,null,null,null,null,0,0,null,"2008-01-04",0,0,"",null,1,null,39451,"2008-01-04",0,0,0,null,0,null,0,null,0,"00:00:00",0]
["2008-01-07",28.331600000000002,null,null,null,null,null,null,null,1,-1000,null,"2008-01-07",1,-1000,35.296276948707451,null,1,null,39454,"2008-01-07",-1000,39454,28.331600000000002,null,0,null,1,null,0,"00:00:00",0]
["2008-01-08",28.090900000000001,null,null,null,null,null,null,null,0,0,null,"2008-01-08",0,0,"",null,1,null,39455,"2008-01-08",0,0,0,null,0,null,0,null,0,"00:00:00",0]
["2008-01-09",28.098199999999999,null,null,null,null,null,null,null,0,0,null,"2008-01-09",0,0,"",null,1,null,39456,"2008-01-09",0,0,0,null,0,null,0,null,0,"00:00:00",0]
["2008-01-10",27.502700000000001,null,null,null,null,null,null,null,0,0,null,"2008-01-10",0,0,"",null,1,null,39457,"2008-01-10",0,0,0,null,0,null,0,null,0,"00:00:00",0]
["2008-01-11",27.860399999999998,null,null,null,null,null,null,null,0,0,null,"2008-01-11",0,0,"",null,1,null,39458,"2008-01-11",0,0,0,null,0,null,0,null,0,"00:00:00",0]
["2008-01-14",28.2959,null,null,null,null,null,null,null,0,0,null,"2008-01-14",0,0,"",null,1,null,39461,"2008-01-14",0,0,0,null,0,null,0,null,0,"00:00:00",0]
["2008-01-15",28.143899999999999,null,null,null,null,null,null,null,0,0,null,"2008-01-15",0,0,"",null,1,null,39462,"2008-01-15",0,0,0,null,0,null,0,null,0,"00:00:00",0]
["2008-01-16",27.886900000000001,null,null,null,null,null,null,null,0,0,null,"2008-01-16",0,0,"",null,1,null,39463,"2008-01-16",0,0,0,null,0,null,0,null,0,"00:00:00",0]
["2008-01-17",28.127500000000001,null,null,null,null,null,null,null,0,0,null,"2008-01-17",0,0,"",null,1,null,39464,"2008-01-17",0,0,0,null,0,null,0,null,0,"00:00:00",0]
["2008-01-18",27.054200000000002,null,null,null,null,null,null,null,0,0,null,"2008-01-18",0,0,"",null,1,null,39465,"2008-01-18",0,0,0,null,0,null,0,null,0,"00:00:00",0]
["2008-01-21",25.208500000000001,null,null,null,null,null,null,null,0,0,null,"2008-01-21",0,0,"",null,1,null,39468,"2008-01-21",0,0,0,null,0,null,0,null,0,"00:00:00",0]
["2008-01-22",23.435199999999998,null,null,null,null,null,null,null,0,0,null,"2008-01-22",0,0,"",null,1,null,39469,"2008-01-22",0,0,0,null,0,null,0,null,0,"00:00:00",0]
["2008-01-23",24.335100000000001,null,null,null,null,null,null,null,0,0,null,"2008-01-23",0,0,"",null,1,null,39470,"2008-01-23",0,0,0,null,0,null,0,null,0,"00:00:00",0]
["2008-01-24",23.536200000000001,null,null,null,null,null,null,null,0,0,null,"2008-01-24",0,0,"",null,1,null,39471,"2008-01-24",0,0,0,null,0,null,0,null,0,"00:00:00",0]
["2008-01-25",24.481200000000001,null,null,null,null,null,null,null,0,0,null,"2008-01-25",0,0,"",null,1,null,39472,"2008-01-25",0,0,0,null,0,null,0,null,0,"00:00:00",0]
["2008-01-28",24.146699999999999,null,null,null,null,null,null,null,0,0,null,"2008-01-28",0,0,"",null,1,null,39475,"2008-01-28",0,0,0,null,0,null,0,null,0,"00:00:00",0]
["2008-01-29",24.340399999999999,null,null,null,null,null,null,null,0,0,null,"2008-01-29",0,0,"",null,1,null,39476,"2008-01-29",0,0,0,null,0,null,0,null,0,"00:00:00",0]
["2008-01-30",23.893899999999999,null,null,null,null,null,null,null,0,0,null,"2008-01-30",0,0,"",null,1,null,39477,"2008-01-30",0,0,0,null,0,null,0,null,0,"00:00:00",0]
["2008-01-31",23.747399999999999,null,null,null,null,null,null,null,0,0,null,"2008-01-31",0,0,"",null,1,null,39478,"2008-01-31",0,0,0,null,0,null,0,null,0,"00:00:00",0]
["2008-02-01",23.787800000000001,null,null,null,null,null,null,null,0,0,null,"2008-02-01",0,0,"",null,1,null,39479,"2008-02-01",0,0,0,null,0,null,0,null,0,"00:00:00",0]
["2008-02-04",24.4697,null,null,null,null,null,null,null,0,0,null,"2008-02-04",0,0,"",null,1,null,39482,"2008-02-04",0,0,0,null,{"$f":"IF(R576=0,IF(R575=1,M575,0),0)","v":0},null,0,null,0,"00:00:00",0]
["2008-02-05",24.622499999999999,null,null,null,null,null,null,null,0,0,null,"2008-02-05",0,0,"",null,1,null,39483,"2008-02-05",0,0,0,null,0,null,0,null,0,"00:00:00",0]
["2008-02-06",24.488700000000001,null,null,null,null,null,null,null,1,-1000,null,"2008-02-06",1,-1000,40.835160706774957,null,1,null,39484,"2008-02-06",-1000,39484,24.488700000000001,null,0,null,0,null,0,"00:00:00",0]
["2008-02-07",23.776599999999998,null,null,null,null,null,null,null,0,0,null,"2008-02-07",0,0,"",null,1,null,39485,"2008-02-07",0,0,0,null,0,null,0,null,0,"00:00:00",0]
["2008-02-08",23.297599999999999,null,null,null,null,null,null,null,0,0,null,"2008-02-08",0,0,"",null,1,null,39486,"2008-02-08",0,0,0,null,0,null,0,null,0,"00:00:00",0]
["2008-02-11",22.308199999999999,null,null,null,null,null,null,null,0,0,null,"2008-02-11",0,0,"",null,1,null,39489,"2008-02-11",0,0,0,null,0,null,0,null,0,"00:00:00",0]
["2008-02-12",22.025400000000001,null,null,null,null,null,null,null,0,0,null,"2008-02-12",0,0,"",null,1,null,39490,"2008-02-12",0,0,0,null,0,null,0,null,0,"00:00:00",0]
["2008-02-13",21.669,null,null,null,null,null,null,null,0,0,null,"2008-02-13",0,0,"",null,1,null,39491,"2008-02-13",0,0,0,null,0,null,0,null,0,"00:00:00",0]
["2008-02-14",22.4985,null,null,null,null,null,null,null,0,0,null,"2008-02-14",0,0,"",null,1,null,39492,"2008-02-14",0,0,0,null,0,null,0,null,0,"00:00:00",0]
["2008-02-15",22.994700000000002,null,null,null,null,null,null,null,0,0,null,"2008-02-15",0,0,"",null,1,null,39493,"2008-02-15",0,0,0,null,0,null,0,null,0,"00:00:00",0]
["2008-02-18",23.296399999999998,null,null,null,null,null,null,null,0,0,null,{"$f":"A585","v":"2008-02-18"},{"$f":"IF(IF(M585>=sipstart,1,0)+IF(M585<=sipend,1,0)=2,J585,0)","v":0},{"$f":"IF(IF(M585>=sipstart,1,0)+IF(M585<=sipend,1,0)=2,K585,0)","v":0},"",null,{"$f":"IF(IF(M585>=sipstart,1,0)+IF(M585<=sipend,1,0)=2,1,0)","v":1},null,{"$f":"IF((IF(M585>=sipstart,1,2)+IF(M585<=sipend,1,2))=2,M585,0)","v":39496},"2008-02-18",0,{"$f":"IF(V585=-sip,U585,0)","v":0},{"$f":"IF(V585=-sip,B585,0)","v":0},null,0,null,0,null,0,{"$f":"IF(AD585=1,A585,0)","v":"00:00:00"},{"$f":"IF(AD585=1,B585,0)","v":0}]
["2008-02-19",23.480899999999998,null,null,null,null,null,null,null,0,0,null,"2008-02-19",0,0,{"$f":"IF(O586=-sip,-O586/B586,\"\")","v":""},null,1,null,39497,{"$f":"IF((IF(M586>=sipstart,1,2)+IF(M586<=sipend,1,2))=2,M586,0)+IF(T585=actualsipend,actualsipend,0)","v":"2008-02-19"},{"$f":"IF(U586+U585=0,0,IF(U586=U585,sipunits*B585,O586))","v":0},0,0,null,0,null,0,null,0,"00:00:00",0]
["2008-02-20",23.116199999999999,null,null,null,null,null,null,null,0,0,null,"2008-02-20",0,0,"",null,1,null,39498,"2008-02-20",0,0,0,null,0,null,0,null,0,"00:00:00",0]
["2008-02-21",23.180599999999998,null,null,null,null,null,null,null,0,0,null,"2008-02-21",0,0,"",null,1,null,39499,"2008-02-21",0,0,0,null,0,null,0,null,0,"00:00:00",0]
["2008-02-22",22.9742,null,null,null,null,null,null,null,0,{"$f":"IF(DAY(A589)=sipdate,-sip,IF(K588=-sip,0,IF(K587=-sip,0,IF(K586=-sip,0,IF(K585=-sip,0,IF(K584=-sip,0,IF(K583=-sip,0,IF(DAY(A589)=sipdate+1,-sip,IF(DAY(A589)=sipdate+2,-sip,IF(DAY(A589)=sipdate+3,-sip,IF(DAY(A589)=sipdate+4,-sip,IF(DAY(A589)=sipdate+5,-sip,IF(DAY(A589)=sipdate+6,-sip,IF(DAY(A589)=sipdate+7,-sip,0))))))))))))))","v":0},null,"2008-02-22",0,0,"",null,1,null,39500,"2008-02-22",0,0,0,null,0,null,{"$f":"IF(INT((MONTH(M589)-MONTH(sipstart))/3)-(MONTH(M589)-MONTH(sipstart))/3=0,IF(DAY(A589)=sipdate,1,IF(AB588=1,0,IF(AB587=1,0,IF(AB586=1,0,IF(AB585=1,0,IF(AB584=1,0,IF(AB583=1,0,IF(DAY(A589)=sipdate+1,1,IF(DAY(A589)=sipdate+2,1,IF(DAY(A589)=sipdate+3,1,IF(DAY(A589)=sipdate+4,1,IF(DAY(A589)=sipdate+5,1,IF(DAY(A589)=sipdate+6,1,IF(DAY(A589)=sipdate+7,1,0)))))))))))))),0)","v":0},null,{"$f":"IF(INT((MONTH(M589)-MONTH(sipstart))/12)-(MONTH(M589)-MONTH(sipstart))/12=0,IF(DAY(A589)=sipdate,1,IF(AB588=1,0,IF(AB587=1,0,IF(AB586=1,0,IF(AB585=1,0,IF(AB584=1,0,IF(AB583=1,0,IF(DAY(A589)=sipdate+1,1,IF(DAY(A589)=sipdate+2,1,IF(DAY(A589)=sipdate+3,1,IF(DAY(A589)=sipdate+4,1,IF(DAY(A589)=sipdate+5,1,IF(DAY(A589)=sipdate+6,1,IF(DAY(A589)=sipdate+7,1,0)))))))))))))),0)","v":0},"00:00:00",0]
["2008-02-25",22.8,null,null,null,null,null,null,null,0,0,null,"2008-02-25",0,0,"",null,1,null,39503,"2008-02-25",0,0,0,null,0,null,0,null,0,"00:00:00",0]
["2008-02-26",23.225300000000001,null,null,null,null,null,null,null,0,0,null,"2008-02-26",0,0,"",null,1,null,39504,"2008-02-26",0,0,0,null,0,null,0,null,0,"00:00:00",0]
["2008-02-27",23.356300000000001,null,null,null,null,null,null,null,0,0,null,"2008-02-27",0,0,"",null,1,null,39505,"2008-02-27",0,0,0,null,0,null,0,null,0,"00:00:00",0]
["2008-02-28",23.475100000000001,null,null,null,null,null,null,null,0,0,null,"2008-02-28",0,0,"",null,1,null,39506,"2008-02-28",0,0,0,null,0,null,0,null,0,"00:00:00",0]
["2008-02-29",23.462,null,null,null,null,null,null,null,0,0,null,"2008-02-29",0,0,"",null,1,null,39507,"2008-02-29",0,0,0,null,0,null,0,null,0,"00:00:00",0]
["2008-03-03",22.4771,null,null,null,null,null,null,null,0,0,null,"2008-03-03",0,0,"",null,1,null,39510,"2008-03-03",0,0,0,null,0,null,0,null,0,"00:00:00",0]
["2008-03-04",22.040299999999998,null,null,null,null,null,null,null,0,0,null,"2008-03-04",0,0,"",null,1,null,39511,"2008-03-04",0,0,0,null,0,null,0,null,0,"00:00:00",0]
["2008-03-05",21.751100000000001,null,null,null,null,null,null,null,0,0,null,"2008-03-05",0,0,"",null,1,null,39512,"2008-03-05",0,0,0,null,0,null,0,null,0,"00:00:00",0]
["2008-03-07",20.8825,null,null,null,null,null,null,null,1,-1000,null,"2008-03-07",1,-1000,47.886986711361189,null,1,null,39514,"2008-03-07",-1000,39514,20.8825,null,0,null,0,null,0,"00:00:00",0]
["2008-03-10",20.642499999999998,null,null,null,null,null,null,null,0,0,null,"2008-03-10",0,0,"",null,1,null,39517,"2008-03-10",0,0,0,null,0,null,0,null,0,"00:00:00",0]
["2008-03-11",21.528700000000001,null,null,null,null,null,null,null,0,0,null,"2008-03-11",0,0,"",null,1,null,39518,"2008-03-11",0,0,0,null,0,null,0,null,0,"00:00:00",0]
["2008-03-12",21.335599999999999,null,null,null,null,null,null,null,{"$f":"IF(DAY(A601)=sipdate,1,IF(J600=1,0,IF(J599=1,0,IF(J598=1,0,IF(J597=1,0,IF(J596=1,0,IF(J595=1,0,IF(DAY(A601)=sipdate+1,1,IF(DAY(A601)=sipdate+2,1,IF(DAY(A601)=sipdate+3,1,IF(DAY(A601)=sipdate+4,1,IF(DAY(A601)=sipdate+5,1,IF(DAY(A601)=sipdate+6,1,IF(DAY(A601)=sipdate+7,1,0))))))))))))))","v":0},0,null,"2008-03-12",0,0,"",null,1,null,39519,"2008-03-12",0,0,0,null,0,null,0,null,0,"00:00:00",0]
["2008-03-13",20.248200000000001,null,null,null,null,null,null,null,0,0,null,"2008-03-13",0,0,"",null,1,null,39520,"2008-03-13",0,0,0,null,0,null,0,null,0,"00:00:00",0]
["2008-03-14",20.679400000000001,null,null,null,null,null,null,null,0,0,null,"2008-03-14",0,0,"",null,1,null,39521,"2008-03-14",0,0,0,null,0,null,0,null,0,"00:00:00",0]
["2008-03-17",19.479700000000001,null,null,null,null,null,null,null,0,0,null,"2008-03-17",0,0,"",null,1,null,39524,"2008-03-17",0,0,0,null,0,null,0,null,0,"00:00:00",0]
["2008-03-18",19.205300000000001,null,null,null,null,null,null,null,0,0,null,"2008-03-18",0,0,"",null,1,null,39525,"2008-03-18",0,0,0,null,0,null,0,null,0,"00:00:00",0]
["2008-03-19",19.177800000000001,null,null,null,null,null,null,null,0,0,null,"2008-03-19",0,0,"",null,1,null,39526,"2008-03-19",0,0,0,null,0,null,0,null,0,"00:00:00",0]
["2008-03-24",18.600999999999999,null,null,null,null,null,null,null,0,0,null,"2008-03-24",0,0,"",null,1,null,39531,"2008-03-24",0,0,0,null,0,null,0,null,0,"00:00:00",0]
["2008-03-25",19.656099999999999,null,null,null,null,null,null,null,0,0,null,"2008-03-25",0,0,"",null,1,null,39532,"2008-03-25",0,0,0,null,0,null,0,null,0,"00:00:00",0]
["2008-03-26",19.775200000000002,null,null,null,null,null,null,null,0,0,null,"2008-03-26",0,0,"",null,1,null,39533,"2008-03-26",0,0,0,null,0,null,0,null,0,"00:00:00",0]
["2008-03-27",19.639800000000001,null,null,null,null,null,null,null,0,0,null,"2008-03-27",0,0,"",null,1,null,39534,"2008-03-27",0,0,0,null,0,null,0,null,0,"00:00:00",0]
["2008-03-28",20.373999999999999,null,null,null,null,null,null,null,0,0,null,"2008-03-28",0,0,"",null,1,null,39535,"2008-03-28",0,0,0,null,0,null,0,null,0,"00:00:00",0]
["2008-03-31",20.035499999999999,null,null,null,null,null,null,null,0,0,null,"2008-03-31",0,0,"",null,1,null,39538,"2008-03-31",0,0,0,null,0,null,0,null,0,"00:00:00",0]
["2008-04-01",19.964700000000001,null,null,null,null,null,null,null,0,0,null,"2008-04-01",0,0,"",null,1,null,39539,"2008-04-01",0,0,0,null,0,null,0,null,0,"00:00:00",0]
["2008-04-02",20.0425,null,null,null,null,null,null,null,0,0,null,"2008-04-02",0,0,"",null,1,null,39540,"2008-04-02",0,0,0,null,0,null,0,null,0,"00:00:00",0]
["2008-04-03",19.770199999999999,null,null,null,null,null,null,null,0,0,null,"2008-04-03",0,0,"",null,1,null,39541,"2008-04-03",0,0,0,null,0,null,0,null,0,"00:00:00",0]
["2008-04-04",19.4621,null,null,null,null,null,null,null,0,0,null,"2008-04-04",0,0,"",null,1,null,39542,"2008-04-04",0,0,0,null,0,null,0,null,0,"00:00:00",0]
["2008-04-07",19.7973,null,null,null,null,null,null,null,1,-1000,null,"2008-04-07",1,-1000,50.511938496663689,null,1,null,39545,"2008-04-07",-1000,39545,19.7973,null,0,null,1,null,0,"00:00:00",0]
["2008-04-08",19.9543,null,null,null,null,null,null,null,0,0,null,"2008-04-08",0,0,"",null,1,null,39546,"2008-04-08",0,0,0,null,0,null,0,null,0,"00:00:00",0]
["2008-04-09",20.263400000000001,null,null,null,null,null,null,null,0,0,null,"2008-04-09",0,0,"",null,1,null,39547,"2008-04-09",0,0,0,null,0,null,0,null,0,"00:00:00",0]
["2008-04-10",20.364799999999999,null,null,null,null,null,null,null,0,0,null,"2008-04-10",0,0,"",null,1,null,39548,"2008-04-10",0,0,0,null,0,null,0,null,0,"00:00:00",0]
["2008-04-11",20.471900000000002,null,null,null,null,null,null,null,0,0,null,"2008-04-11",0,0,"",null,1,null,39549,"2008-04-11",0,0,0,null,0,null,0,null,0,"00:00:00",0]
["2008-04-15",20.658200000000001,null,null,null,null,null,null,null,0,0,null,"2008-04-15",0,0,"",null,1,null,39553,"2008-04-15",0,0,0,null,0,null,0,null,0,"00:00:00",0]
["2008-04-16",20.847000000000001,null,null,null,null,null,null,null,0,0,null,"2008-04-16",0,0,"",null,1,null,39554,"2008-04-16",0,0,0,null,0,null,0,null,0,"00:00:00",0]
["2008-04-17",21.100899999999999,null,null,null,null,null,null,null,0,0,null,"2008-04-17",0,0,"",null,1,null,39555,"2008-04-17",0,0,0,null,0,null,0,null,0,"00:00:00",0]
["2008-04-21",21.543500000000002,null,null,null,null,null,null,null,0,0,null,"2008-04-21",0,0,"",null,1,null,39559,"2008-04-21",0,0,0,null,0,null,0,null,0,"00:00:00",0]
["2008-04-22",21.557300000000001,null,null,null,null,null,null,null,0,0,null,"2008-04-22",0,0,"",null,1,null,39560,"2008-04-22",0,0,0,null,0,null,0,null,0,"00:00:00",0]
["2008-04-23",21.563099999999999,null,null,null,null,null,null,null,0,0,null,"2008-04-23",0,0,"",null,1,null,39561,"2008-04-23",0,0,0,null,0,null,0,null,0,"00:00:00",0]
["2008-04-24",21.393000000000001,null,null,null,null,null,null,null,0,0,null,"2008-04-24",0,0,"",null,1,null,39562,"2008-04-24",0,0,0,null,0,null,0,null,0,"00:00:00",0]
["2008-04-25",21.478899999999999,null,null,null,null,null,null,null,0,0,null,"2008-04-25",0,0,"",null,1,null,39563,"2008-04-25",0,0,0,null,0,null,0,null,0,"00:00:00",0]
["2008-04-28",21.5197,null,null,null,null,null,null,null,0,0,null,"2008-04-28",0,0,"",null,1,null,39566,"2008-04-28",0,0,0,null,0,null,0,null,0,"00:00:00",0]
["2008-04-29",21.7181,null,null,null,null,null,null,null,0,0,null,"2008-04-29",0,0,"",null,1,null,39567,"2008-04-29",0,0,0,null,0,null,0,null,0,"00:00:00",0]
["2008-04-30",21.602,null,null,null,null,null,null,null,0,0,null,"2008-04-30",0,0,"",null,1,null,39568,"2008-04-30",0,0,0,null,0,null,0,null,0,"00:00:00",0]
["2008-05-02",21.770499999999998,null,null,null,null,null,null,null,0,0,null,"2008-05-02",0,0,"",null,1,null,39570,"2008-05-02",0,0,0,null,0,null,0,null,0,"00:00:00",0]
["2008-05-05",21.784500000000001,null,null,null,null,null,null,null,0,0,null,"2008-05-05",0,0,"",null,1,null,39573,"2008-05-05",0,0,0,null,0,null,0,null,0,"00:00:00",0]
["2008-05-06",21.698499999999999,null,null,null,null,null,null,null,1,-1000,null,"2008-05-06",1,-1000,46.086134986289373,null,1,null,39574,"2008-05-06",-1000,39574,21.698499999999999,null,0,null,0,null,0,"00:00:00",0]
["2008-05-07",21.572399999999998,null,null,null,null,null,null,null,0,0,null,"2008-05-07",0,0,"",null,1,null,39575,"2008-05-07",0,0,0,null,0,null,0,null,0,"00:00:00",0]
["2008-05-08",21.605699999999999,null,null,null,null,null,null,null,0,0,null,"2008-05-08",0,0,"",null,1,null,39576,"2008-05-08",0,0,0,null,0,null,0,null,0,"00:00:00",0]
["2008-05-09",21.218599999999999,null,null,null,null,null,null,null,0,0,null,"2008-05-09",0,0,"",null,1,null,39577,"2008-05-09",0,0,0,null,0,null,0,null,0,"00:00:00",0]
["2008-05-12",21.2012,null,null,null,null,null,null,null,0,0,null,"2008-05-12",0,0,"",null,1,null,39580,"2008-05-12",0,0,0,null,{"$f":"IF(R640=0,IF(R639=1,M639,0),0)","v":0},null,0,null,0,"00:00:00",0]
["2008-05-13",21.160699999999999,null,null,null,null,null,null,null,0,0,null,"2008-05-13",0,0,"",null,1,null,39581,"2008-05-13",0,0,0,null,0,null,0,null,0,"00:00:00",0]
["2008-05-14",21.105699999999999,null,null,null,null,null,null,null,0,0,null,"2008-05-14",0,0,"",null,1,null,39582,"2008-05-14",0,0,0,null,0,null,0,null,0,"00:00:00",0]
["2008-05-15",21.3033,null,null,null,null,null,null,null,0,0,null,"2008-05-15",0,0,"",null,1,null,39583,"2008-05-15",0,0,0,null,0,null,0,null,0,"00:00:00",0]
["2008-05-16",21.427800000000001,null,null,null,null,null,null,null,0,0,null,"2008-05-16",0,0,"",null,1,null,39584,"2008-05-16",0,0,0,null,0,null,0,null,0,"00:00:00",0]
["2008-05-20",21.6037,null,null,null,null,null,null,null,0,0,null,"2008-05-20",0,0,"",null,1,null,39588,"2008-05-20",0,0,0,null,0,null,0,null,0,"00:00:00",0]
["2008-05-21",21.773199999999999,null,null,null,null,null,null,null,0,0,null,"2008-05-21",0,0,"",null,1,null,39589,"2008-05-21",0,0,0,null,0,null,0,null,0,"00:00:00",0]
["2008-05-22",21.564399999999999,null,null,null,null,null,null,null,0,0,null,"2008-05-22",0,0,"",null,1,null,39590,"2008-05-22",0,0,0,null,0,null,0,null,0,"00:00:00",0]
["2008-05-23",21.3965,null,null,null,null,null,null,null,0,0,null,"2008-05-23",0,0,"",null,1,null,39591,"2008-05-23",0,0,0,null,0,null,0,null,0,"00:00:00",0]
["2008-05-26",21.081299999999999,null,null,null,null,null,null,null,0,0,null,"2008-05-26",0,0,"",null,1,null,39594,"2008-05-26",0,0,0,null,0,null,0,null,0,"00:00:00",0]
["2008-05-27",20.892700000000001,null,null,null,null,null,null,null,0,0,null,{"$f":"A649","v":"2008-05-27"},{"$f":"IF(IF(M649>=sipstart,1,0)+IF(M649<=sipend,1,0)=2,J649,0)","v":0},{"$f":"IF(IF(M649>=sipstart,1,0)+IF(M649<=sipend,1,0)=2,K649,0)","v":0},"",null,{"$f":"IF(IF(M649>=sipstart,1,0)+IF(M649<=sipend,1,0)=2,1,0)","v":1},null,{"$f":"IF((IF(M649>=sipstart,1,2)+IF(M649<=sipend,1,2))=2,M649,0)","v":39595},"2008-05-27",0,{"$f":"IF(V649=-sip,U649,0)","v":0},{"$f":"IF(V649=-sip,B649,0)","v":0},null,0,null,0,null,0,{"$f":"IF(AD649=1,A649,0)","v":"00:00:00"},{"$f":"IF(AD649=1,B649,0)","v":0}]
["2008-05-28",20.943000000000001,null,null,null,null,null,null,null,0,0,null,"2008-05-28",0,0,{"$f":"IF(O650=-sip,-O650/B650,\"\")","v":""},null,1,null,39596,{"$f":"IF((IF(M650>=sipstart,1,2)+IF(M650<=sipend,1,2))=2,M650,0)+IF(T649=actualsipend,actualsipend,0)","v":"2008-05-28"},{"$f":"IF(U650+U649=0,0,IF(U650=U649,sipunits*B649,O650))","v":0},0,0,null,0,null,0,null,0,"00:00:00",0]
["2008-05-29",20.837499999999999,null,null,null,null,null,null,null,0,0,null,"2008-05-29",0,0,"",null,1,null,39597,"2008-05-29",0,0,0,null,0,null,0,null,0,"00:00:00",0]
["2008-05-30",20.794,null,null,null,null,null,null,null,0,0,null,"2008-05-30",0,0,"",null,1,null,39598,"2008-05-30",0,0,0,null,0,null,0,null,0,"00:00:00",0]
["2008-06-02",20.624500000000001,null,null,null,null,null,null,null,0,{"$f":"IF(DAY(A653)=sipdate,-sip,IF(K652=-sip,0,IF(K651=-sip,0,IF(K650=-sip,0,IF(K649=-sip,0,IF(K648=-sip,0,IF(K647=-sip,0,IF(DAY(A653)=sipdate+1,-sip,IF(DAY(A653)=sipdate+2,-sip,IF(DAY(A653)=sipdate+3,-sip,IF(DAY(A653)=sipdate+4,-sip,IF(DAY(A653)=sipdate+5,-sip,IF(DAY(A653)=sipdate+6,-sip,IF(DAY(A653)=sipdate+7,-sip,0))))))))))))))","v":0},null,"2008-06-02",0,0,"",null,1,null,39601,"2008-06-02",0,0,0,null,0,null,{"$f":"IF(INT((MONTH(M653)-MONTH(sipstart))/3)-(MONTH(M653)-MONTH(sipstart))/3=0,IF(DAY(A653)=sipdate,1,IF(AB652=1,0,IF(AB651=1,0,IF(AB650=1,0,IF(AB649=1,0,IF(AB648=1,0,IF(AB647=1,0,IF(DAY(A653)=sipdate+1,1,IF(DAY(A653)=sipdate+2,1,IF(DAY(A653)=sipdate+3,1,IF(DAY(A653)=sipdate+4,1,IF(DAY(A653)=sipdate+5,1,IF(DAY(A653)=sipdate+6,1,IF(DAY(A653)=sipdate+7,1,0)))))))))))))),0)","v":0},null,{"$f":"IF(INT((MONTH(M653)-MONTH(sipstart))/12)-(MONTH(M653)-MONTH(sipstart))/12=0,IF(DAY(A653)=sipdate,1,IF(AB652=1,0,IF(AB651=1,0,IF(AB650=1,0,IF(AB649=1,0,IF(AB648=1,0,IF(AB647=1,0,IF(DAY(A653)=sipdate+1,1,IF(DAY(A653)=sipdate+2,1,IF(DAY(A653)=sipdate+3,1,IF(DAY(A653)=sipdate+4,1,IF(DAY(A653)=sipdate+5,1,IF(DAY(A653)=sipdate+6,1,IF(DAY(A653)=sipdate+7,1,0)))))))))))))),0)","v":0},"00:00:00",0]
["2008-06-03",20.447600000000001,null,null,null,null,null,null,null,0,0,null,"2008-06-03",0,0,"",null,1,null,39602,"2008-06-03",0,0,0,null,0,null,0,null,0,"00:00:00",0]
["2008-06-04",20.082899999999999,null,null,null,null,null,null,null,0,0,null,"2008-06-04",0,0,"",null,1,null,39603,"2008-06-04",0,0,0,null,0,null,0,null,0,"00:00:00",0]
["2008-06-05",20.266300000000001,null,null,null,null,null,null,null,0,0,null,"2008-06-05",0,0,"",null,1,null,39604,"2008-06-05",0,0,0,null,0,null,0,null,0,"00:00:00",0]
["2008-06-06",20.206900000000001,null,null,null,null,null,null,null,1,-1000,null,"2008-06-06",1,-1000,49.488046162449457,null,1,null,39605,"2008-06-06",-1000,39605,20.206900000000001,null,0,null,0,null,0,"00:00:00",0]
["2008-06-09",19.746700000000001,null,null,null,null,null,null,null,0,0,null,"2008-06-09",0,0,"",null,1,null,39608,"2008-06-09",0,0,0,null,0,null,0,null,0,"00:00:00",0]
["2008-06-10",19.6523,null,null,null,null,null,null,null,0,0,null,"2008-06-10",0,0,"",null,1,null,39609,"2008-06-10",0,0,0,null,0,null,0,null,0,"00:00:00",0]
["2008-06-11",19.819500000000001,null,null,null,null,null,null,null,0,0,null,"2008-06-11",0,0,"",null,1,null,39610,"2008-06-11",0,0,0,null,0,null,0,null,0,"00:00:00",0]
["2008-06-12",19.902100000000001,null,null,null,null,null,null,null,0,0,null,"2008-06-12",0,0,"",null,1,null,39611,"2008-06-12",0,0,0,null,0,null,0,null,0,"00:00:00",0]
["2008-06-13",19.875800000000002,null,null,null,null,null,null,null,0,0,null,"2008-06-13",0,0,"",null,1,null,39612,"2008-06-13",0,0,0,null,0,null,0,null,0,"00:00:00",0]
["2008-06-16",20.070900000000002,null,null,null,null,null,null,null,0,0,null,"2008-06-16",0,0,"",null,1,null,39615,"2008-06-16",0,0,0,null,0,null,0,null,0,"00:00:00",0]
["2008-06-17",20.3492,null,null,null,null,null,null,null,0,0,null,"2008-06-17",0,0,"",null,1,null,39616,"2008-06-17",0,0,0,null,0,null,0,null,0,"00:00:00",0]
["2008-06-18",20.156099999999999,null,null,null,null,null,null,null,{"$f":"IF(DAY(A665)=sipdate,1,IF(J664=1,0,IF(J663=1,0,IF(J662=1,0,IF(J661=1,0,IF(J660=1,0,IF(J659=1,0,IF(DAY(A665)=sipdate+1,1,IF(DAY(A665)=sipdate+2,1,IF(DAY(A665)=sipdate+3,1,IF(DAY(A665)=sipdate+4,1,IF(DAY(A665)=sipdate+5,1,IF(DAY(A665)=sipdate+6,1,IF(DAY(A665)=sipdate+7,1,0))))))))))))))","v":0},0,null,"2008-06-18",0,0,"",null,1,null,39617,"2008-06-18",0,0,0,null,0,null,0,null,0,"00:00:00",0]
["2008-06-19",19.946400000000001,null,null,null,null,null,null,null,0,0,null,"2008-06-19",0,0,"",null,1,null,39618,"2008-06-19",0,0,0,null,0,null,0,null,0,"00:00:00",0]
["2008-06-20",19.4801,null,null,null,null,null,null,null,0,0,null,"2008-06-20",0,0,"",null,1,null,39619,"2008-06-20",0,0,0,null,0,null,0,null,0,"00:00:00",0]
["2008-06-23",18.987400000000001,null,null,null,null,null,null,null,0,0,null,"2008-06-23",0,0,"",null,1,null,39622,"2008-06-23",0,0,0,null,0,null,0,null,0,"00:00:00",0]
["2008-06-24",18.6938,null,null,null,null,null,null,null,0,0,null,"2008-06-24",0,0,"",null,1,null,39623,"2008-06-24",0,0,0,null,0,null,0,null,0,"00:00:00",0]
["2008-06-25",18.796900000000001,null,null,null,null,null,null,null,0,0,null,"2008-06-25",0,0,"",null,1,null,39624,"2008-06-25",0,0,0,null,0,null,0,null,0,"00:00:00",0]
["2008-06-26",18.8504,null,null,null,null,null,null,null,0,0,null,"2008-06-26",0,0,"",null,1,null,39625,"2008-06-26",0,0,0,null,0,null,0,null,0,"00:00:00",0]
["2008-06-27",18.471699999999998,null,null,null,null,null,null,null,0,0,null,"2008-06-27",0,0,"",null,1,null,39626,"2008-06-27",0,0,0,null,0,null,0,null,0,"00:00:00",0]
["2008-06-30",18.115200000000002,null,null,null,null,null,null,null,0,0,null,"2008-06-30",0,0,"",null,1,null,39629,"2008-06-30",0,0,0,null,0,null,0,null,0,"00:00:00",0]
["2008-07-01",17.6142,null,null,null,null,null,null,null,0,0,null,"2008-07-01",0,0,"",null,1,null,39630,"2008-07-01",0,0,0,null,0,null,0,null,0,"00:00:00",0]
["2008-07-02",18.1463,null,null,null,null,null,null,null,0,0,null,"2008-07-02",0,0,"",null,1,null,39631,"2008-07-02",0,0,0,null,0,null,0,null,0,"00:00:00",0]
["2008-07-03",17.7593,null,null,null,null,null,null,null,0,0,null,"2008-07-03",0,0,"",null,1,null,39632,"2008-07-03",0,0,0,null,0,null,0,null,0,"00:00:00",0]
["2008-07-04",17.970800000000001,null,null,null,null,null,null,null,0,0,null,"2008-07-04",0,0,"",null,1,null,39633,"2008-07-04",0,0,0,null,0,null,0,null,0,"00:00:00",0]
["2008-07-07",18.224699999999999,null,null,null,null,null,null,null,1,-1000,null,"2008-07-07",1,-1000,54.87058771886506,null,1,null,39636,"2008-07-07",-1000,39636,18.224699999999999,null,0,null,1,null,0,"00:00:00",0]
["2008-07-08",18.0931,null,null,null,null,null,null,null,0,0,null,"2008-07-08",0,0,"",null,1,null,39637,"2008-07-08",0,0,0,null,0,null,0,null,0,"00:00:00",0]
["2008-07-09",18.497599999999998,null,null,null,null,null,null,null,0,0,null,"2008-07-09",0,0,"",null,1,null,39638,"2008-07-09",0,0,0,null,0,null,0,null,0,"00:00:00",0]
["2008-07-10",18.422899999999998,null,null,null,null,null,null,null,0,0,null,"2008-07-10",0,0,"",null,1,null,39639,"2008-07-10",0,0,0,null,0,null,0,null,0,"00:00:00",0]
["2008-07-11",18.120200000000001,null,null,null,null,null,null,null,0,0,null,"2008-07-11",0,0,"",null,1,null,39640,"2008-07-11",0,0,0,null,0,null,0,null,0,"00:00:00",0]
["2008-07-14",18.027899999999999,null,null,null,null,null,null,null,0,0,null,"2008-07-14",0,0,"",null,1,null,39643,"2008-07-14",0,0,0,null,0,null,0,null,0,"00:00:00",0]
["2008-07-15",17.5931,null,null,null,null,null,null,null,0,0,null,"2008-07-15",0,0,"",null,1,null,39644,"2008-07-15",0,0,0,null,0,null,0,null,0,"00:00:00",0]
["2008-07-16",17.425799999999999,null,null,null,null,null,null,null,0,0,null,"2008-07-16",0,0,"",null,1,null,39645,"2008-07-16",0,0,0,null,0,null,0,null,0,"00:00:00",0]
["2008-07-17",17.628699999999998,null,null,null,null,null,null,null,0,0,null,"2008-07-17",0,0,"",null,1,null,39646,"2008-07-17",0,0,0,null,0,null,0,null,0,"00:00:00",0]
["2008-07-18",17.8155,null,null,null,null,null,null,null,0,0,null,"2008-07-18",0,0,"",null,1,null,39647,"2008-07-18",0,0,0,null,0,null,0,null,0,"00:00:00",0]
["2008-07-21",17.7654,null,null,null,null,null,null,null,0,0,null,"2008-07-21",0,0,"",null,1,null,39650,"2008-07-21",0,0,0,null,0,null,0,null,0,"00:00:00",0]
["2008-07-22",17.9377,null,null,null,null,null,null,null,0,0,null,"2008-07-22",0,0,"",null,1,null,39651,"2008-07-22",0,0,0,null,0,null,0,null,0,"00:00:00",0]
["2008-07-23",18.642800000000001,null,null,null,null,null,null,null,0,0,null,"2008-07-23",0,0,"",null,1,null,39652,"2008-07-23",0,0,0,null,0,null,0,null,0,"00:00:00",0]
["2008-07-24",18.546299999999999,null,null,null,null,null,null,null,0,0,null,"2008-07-24",0,0,"",null,1,null,39653,"2008-07-24",0,0,0,null,0,null,0,null,0,"00:00:00",0]
["2008-07-25",18.495699999999999,null,null,null,null,null,null,null,0,0,null,"2008-07-25",0,0,"",null,1,null,39654,"2008-07-25",0,0,0,null,0,null,0,null,0,"00:00:00",0]
["2008-07-28",18.6053,null,null,null,null,null,null,null,0,0,null,"2008-07-28",0,0,"",null,1,null,39657,"2008-07-28",0,0,0,null,0,null,0,null,0,"00:00:00",0]
["2008-07-29",18.2837,null,null,null,null,null,null,null,0,0,null,"2008-07-29",0,0,"",null,1,null,39658,"2008-07-29",0,0,0,null,0,null,0,null,0,"00:00:00",0]
["2008-07-30",18.572399999999998,null,null,null,null,null,null,null,0,0,null,"2008-07-30",0,0,"",null,1,null,39659,"2008-07-30",0,0,0,null,0,null,0,null,0,"00:00:00",0]
["2008-07-31",18.548200000000001,null,null,null,null,null,null,null,0,0,null,"2008-07-31",0,0,"",null,1,null,39660,"2008-07-31",0,0,0,null,0,null,0,null,0,"00:00:00",0]
["2008-08-01",18.752800000000001,null,null,null,null,null,null,null,0,0,null,"2008-08-01",0,0,"",null,1,null,39661,"2008-08-01",0,0,0,null,0,null,0,null,0,"00:00:00",0]
["2008-08-04",18.908000000000001,null,null,null,null,null,null,null,0,0,null,"2008-08-04",0,0,"",null,1,null,39664,"2008-08-04",0,0,0,null,0,null,0,null,0,"00:00:00",0]
["2008-08-05",19.062200000000001,null,null,null,null,null,null,null,0,0,null,"2008-08-05",0,0,"",null,1,null,39665,"2008-08-05",0,0,0,null,0,null,0,null,0,"00:00:00",0]
["2008-08-06",19.123200000000001,null,null,null,null,null,null,null,1,-1000,null,"2008-08-06",1,-1000,52.29250334672021,null,1,null,39666,"2008-08-06",-1000,39666,19.123200000000001,null,0,null,0,null,0,"00:00:00",0]
["2008-08-07",19.186499999999999,null,null,null,null,null,null,null,0,0,null,"2008-08-07",0,0,"",null,1,null,39667,"2008-08-07",0,0,0,null,0,null,0,null,0,"00:00:00",0]
["2008-08-08",19.3583,null,null,null,null,null,null,null,0,0,null,"2008-08-08",0,0,"",null,1,null,39668,"2008-08-08",0,0,0,null,0,null,0,null,0,"00:00:00",0]
["2008-08-11",19.653600000000001,null,null,null,null,null,null,null,0,0,null,"2008-08-11",0,0,"",null,1,null,39671,"2008-08-11",0,0,0,null,{"$f":"IF(R704=0,IF(R703=1,M703,0),0)","v":0},null,0,null,0,"00:00:00",0]
["2008-08-12",19.5291,null,null,null,null,null,null,null,0,0,null,"2008-08-12",0,0,"",null,1,null,39672,"2008-08-12",0,0,0,null,0,null,0,null,0,"00:00:00",0]
["2008-08-13",19.5427,null,null,null,null,null,null,null,0,0,null,"2008-08-13",0,0,"",null,1,null,39673,"2008-08-13",0,0,0,null,0,null,0,null,0,"00:00:00",0]
["2008-08-14",19.2743,null,null,null,null,null,null,null,0,0,null,"2008-08-14",0,0,"",null,1,null,39674,"2008-08-14",0,0,0,null,0,null,0,null,0,"00:00:00",0]
["2008-08-18",19.1096,null,null,null,null,null,null,null,0,0,null,"2008-08-18",0,0,"",null,1,null,39678,"2008-08-18",0,0,0,null,0,null,0,null,0,"00:00:00",0]
["2008-08-19",19.1038,null,null,null,null,null,null,null,0,0,null,"2008-08-19",0,0,"",null,1,null,39679,"2008-08-19",0,0,0,null,0,null,0,null,0,"00:00:00",0]
["2008-08-20",19.141400000000001,null,null,null,null,null,null,null,0,0,null,"2008-08-20",0,0,"",null,1,null,39680,"2008-08-20",0,0,0,null,0,null,0,null,0,"00:00:00",0]
["2008-08-21",18.732600000000001,null,null,null,null,null,null,null,0,0,null,"2008-08-21",0,0,"",null,1,null,39681,"2008-08-21",0,0,0,null,0,null,0,null,0,"00:00:00",0]
["2008-08-22",18.7822,null,null,null,null,null,null,null,0,0,null,"2008-08-22",0,0,"",null,1,null,39682,"2008-08-22",0,0,0,null,0,null,0,null,0,"00:00:00",0]
["2008-08-25",18.822800000000001,null,null,null,null,null,null,null,0,0,null,"2008-08-25",0,0,"",null,1,null,39685,"2008-08-25",0,0,0,null,0,null,0,null,0,"00:00:00",0]
["2008-08-26",18.780100000000001,null,null,null,null,null,null,null,0,0,null,{"$f":"A713","v":"2008-08-26"},{"$f":"IF(IF(M713>=sipstart,1,0)+IF(M713<=sipend,1,0)=2,J713,0)","v":0},{"$f":"IF(IF(M713>=sipstart,1,0)+IF(M713<=sipend,1,0)=2,K713,0)","v":0},"",null,{"$f":"IF(IF(M713>=sipstart,1,0)+IF(M713<=sipend,1,0)=2,1,0)","v":1},null,{"$f":"IF((IF(M713>=sipstart,1,2)+IF(M713<=sipend,1,2))=2,M713,0)","v":39686},"2008-08-26",0,{"$f":"IF(V713=-sip,U713,0)","v":0},{"$f":"IF(V713=-sip,B713,0)","v":0},null,0,null,0,null,0,{"$f":"IF(AD713=1,A713,0)","v":"00:00:00"},{"$f":"IF(AD713=1,B713,0)","v":0}]
["2008-08-27",18.665099999999999,null,null,null,null,null,null,null,0,0,null,"2008-08-27",0,0,{"$f":"IF(O714=-sip,-O714/B714,\"\")","v":""},null,1,null,39687,{"$f":"IF((IF(M714>=sipstart,1,2)+IF(M714<=sipend,1,2))=2,M714,0)+IF(T713=actualsipend,actualsipend,0)","v":"2008-08-27"},{"$f":"IF(U714+U713=0,0,IF(U714=U713,sipunits*B713,O714))","v":0},0,0,null,0,null,0,null,0,"00:00:00",0]
["2008-08-28",18.600200000000001,null,null,null,null,null,null,null,0,0,null,"2008-08-28",0,0,"",null,1,null,39688,"2008-08-28",0,0,0,null,0,null,0,null,0,"00:00:00",0]
["2008-08-29",18.9589,null,null,null,null,null,null,null,0,0,null,"2008-08-29",0,0,"",null,1,null,39689,"2008-08-29",0,0,0,null,0,null,0,null,0,"00:00:00",0]
["2008-09-01",19.0534,null,null,null,null,null,null,null,0,{"$f":"IF(DAY(A717)=sipdate,-sip,IF(K716=-sip,0,IF(K715=-sip,0,IF(K714=-sip,0,IF(K713=-sip,0,IF(K712=-sip,0,IF(K711=-sip,0,IF(DAY(A717)=sipdate+1,-sip,IF(DAY(A717)=sipdate+2,-sip,IF(DAY(A717)=sipdate+3,-sip,IF(DAY(A717)=sipdate+4,-sip,IF(DAY(A717)=sipdate+5,-sip,IF(DAY(A717)=sipdate+6,-sip,IF(DAY(A717)=sipdate+7,-sip,0))))))))))))))","v":0},null,"2008-09-01",0,0,"",null,1,null,39692,"2008-09-01",0,0,0,null,0,null,{"$f":"IF(INT((MONTH(M717)-MONTH(sipstart))/3)-(MONTH(M717)-MONTH(sipstart))/3=0,IF(DAY(A717)=sipdate,1,IF(AB716=1,0,IF(AB715=1,0,IF(AB714=1,0,IF(AB713=1,0,IF(AB712=1,0,IF(AB711=1,0,IF(DAY(A717)=sipdate+1,1,IF(DAY(A717)=sipdate+2,1,IF(DAY(A717)=sipdate+3,1,IF(DAY(A717)=sipdate+4,1,IF(DAY(A717)=sipdate+5,1,IF(DAY(A717)=sipdate+6,1,IF(DAY(A717)=sipdate+7,1,0)))))))))))))),0)","v":0},null,{"$f":"IF(INT((MONTH(M717)-MONTH(sipstart))/12)-(MONTH(M717)-MONTH(sipstart))/12=0,IF(DAY(A717)=sipdate,1,IF(AB716=1,0,IF(AB715=1,0,IF(AB714=1,0,IF(AB713=1,0,IF(AB712=1,0,IF(AB711=1,0,IF(DAY(A717)=sipdate+1,1,IF(DAY(A717)=sipdate+2,1,IF(DAY(A717)=sipdate+3,1,IF(DAY(A717)=sipdate+4,1,IF(DAY(A717)=sipdate+5,1,IF(DAY(A717)=sipdate+6,1,IF(DAY(A717)=sipdate+7,1,0)))))))))))))),0)","v":0},"00:00:00",0]
["2008-09-02",19.277100000000001,null,null,null,null,null,null,null,0,0,null,"2008-09-02",0,0,"",null,1,null,39693,"2008-09-02",0,0,0,null,0,null,0,null,0,"00:00:00",0]
["2008-09-04",19.165900000000001,null,null,null,null,null,null,null,0,0,null,"2008-09-04",0,0,"",null,1,null,39695,"2008-09-04",0,0,0,null,0,null,0,null,0,"00:00:00",0]
["2008-09-05",18.965800000000002,null,null,null,null,null,null,null,0,0,null,"2008-09-05",0,0,"",null,1,null,39696,"2008-09-05",0,0,0,null,0,null,0,null,0,"00:00:00",0]
["2008-09-08",19.279,null,null,null,null,null,null,null,1,-1000,null,"2008-09-08",1,-1000,51.869910265055239,null,1,null,39699,"2008-09-08",-1000,39699,19.279,null,0,null,0,null,0,"00:00:00",0]
["2008-09-09",19.265799999999999,null,null,null,null,null,null,null,0,0,null,"2008-09-09",0,0,"",null,1,null,39700,"2008-09-09",0,0,0,null,0,null,0,null,0,"00:00:00",0]
["2008-09-10",19.071300000000001,null,null,null,null,null,null,null,0,0,null,"2008-09-10",0,0,"",null,1,null,39701,"2008-09-10",0,0,0,null,0,null,0,null,0,"00:00:00",0]
["2008-09-11",18.947600000000001,null,null,null,null,null,null,null,0,0,null,"2008-09-11",0,0,"",null,1,null,39702,"2008-09-11",0,0,0,null,0,null,0,null,0,"00:00:00",0]
["2008-09-12",18.681799999999999,null,null,null,null,null,null,null,0,0,null,"2008-09-12",0,0,"",null,1,null,39703,"2008-09-12",0,0,0,null,0,null,0,null,0,"00:00:00",0]
["2008-09-15",18.026399999999999,null,null,null,null,null,null,null,0,0,null,"2008-09-15",0,0,"",null,1,null,39706,"2008-09-15",0,0,0,null,0,null,0,null,0,"00:00:00",0]
["2008-09-16",18.0138,null,null,null,null,null,null,null,0,0,null,"2008-09-16",0,0,"",null,1,null,39707,"2008-09-16",0,0,0,null,0,null,0,null,0,"00:00:00",0]
["2008-09-17",17.7819,null,null,null,null,null,null,null,0,0,null,"2008-09-17",0,0,"",null,1,null,39708,"2008-09-17",0,0,0,null,0,null,0,null,0,"00:00:00",0]
["2008-09-18",17.6721,null,null,null,null,null,null,null,{"$f":"IF(DAY(A729)=sipdate,1,IF(J728=1,0,IF(J727=1,0,IF(J726=1,0,IF(J725=1,0,IF(J724=1,0,IF(J723=1,0,IF(DAY(A729)=sipdate+1,1,IF(DAY(A729)=sipdate+2,1,IF(DAY(A729)=sipdate+3,1,IF(DAY(A729)=sipdate+4,1,IF(DAY(A729)=sipdate+5,1,IF(DAY(A729)=sipdate+6,1,IF(DAY(A729)=sipdate+7,1,0))))))))))))))","v":0},0,null,"2008-09-18",0,0,"",null,1,null,39709,"2008-09-18",0,0,0,null,0,null,0,null,0,"00:00:00",0]
["2008-09-19",17.991,null,null,null,null,null,null,null,0,0,null,"2008-09-19",0,0,"",null,1,null,39710,"2008-09-19",0,0,0,null,0,null,0,null,0,"00:00:00",0]
["2008-09-22",17.936900000000001,null,null,null,null,null,null,null,0,0,null,"2008-09-22",0,0,"",null,1,null,39713,"2008-09-22",0,0,0,null,0,null,0,null,0,"00:00:00",0]
["2008-09-23",17.641100000000002,null,null,null,null,null,null,null,0,0,null,"2008-09-23",0,0,"",null,1,null,39714,"2008-09-23",0,0,0,null,0,null,0,null,0,"00:00:00",0]
["2008-09-24",17.6877,null,null,null,null,null,null,null,0,0,null,"2008-09-24",0,0,"",null,1,null,39715,"2008-09-24",0,0,0,null,0,null,0,null,0,"00:00:00",0]
["2008-09-25",17.5764,null,null,null,null,null,null,null,0,0,null,"2008-09-25",0,0,"",null,1,null,39716,"2008-09-25",0,0,0,null,0,null,0,null,0,"00:00:00",0]
["2008-09-26",17.206399999999999,null,null,null,null,null,null,null,0,0,null,"2008-09-26",0,0,"",null,1,null,39717,"2008-09-26",0,0,0,null,0,null,0,null,0,"00:00:00",0]
["2008-09-29",16.6477,null,null,null,null,null,null,null,0,0,null,"2008-09-29",0,0,"",null,1,null,39720,"2008-09-29",0,0,0,null,0,null,0,null,0,"00:00:00",0]
["2008-09-30",16.7273,null,null,null,null,null,null,null,0,0,null,"2008-09-30",0,0,"",null,1,null,39721,"2008-09-30",0,0,0,null,0,null,0,null,0,"00:00:00",0]
["2008-10-03",16.491099999999999,null,null,null,null,null,null,null,0,0,null,"2008-10-03",0,0,"",null,1,null,39724,"2008-10-03",0,0,0,null,0,null,0,null,0,"00:00:00",0]
["2008-10-06",15.5137,null,null,null,null,null,null,null,1,-1000,null,"2008-10-06",1,-1000,64.459155456145211,null,1,null,39727,"2008-10-06",-1000,39727,15.5137,null,0,null,1,null,1,"2008-10-06",15.5137]
["2008-10-07",15.349600000000001,null,null,null,null,null,null,null,0,0,null,"2008-10-07",0,0,"",null,1,null,39728,"2008-10-07",0,0,0,null,0,null,0,null,0,"00:00:00",0]
["2008-10-08",14.6409,null,null,null,null,null,null,null,0,0,null,"2008-10-08",0,0,"",null,1,null,39729,"2008-10-08",0,0,0,null,0,null,0,null,0,"00:00:00",0]
["2008-10-10",13.798299999999999,null,null,null,null,null,null,null,0,0,null,"2008-10-10",0,0,"",null,1,null,39731,"2008-10-10",0,0,0,null,0,null,0,null,0,"00:00:00",0]
["2008-10-13",14.3965,null,null,null,null,null,null,null,0,0,null,"2008-10-13",0,0,"",null,1,null,39734,"2008-10-13",0,0,0,null,0,null,0,null,0,"00:00:00",0]
["2008-10-14",14.5085,null,null,null,null,null,null,null,0,0,null,"2008-10-14",0,0,"",null,1,null,39735,"2008-10-14",0,0,0,null,0,null,0,null,0,"00:00:00",0]
["2008-10-15",14.1088,null,null,null,null,null,null,null,0,0,null,"2008-10-15",0,0,"",null,1,null,39736,"2008-10-15",0,0,0,null,0,null,0,null,0,"00:00:00",0]
["2008-10-16",13.8545,null,null,null,null,null,null,null,0,0,null,"2008-10-16",0,0,"",null,1,null,39737,"2008-10-16",0,0,0,null,0,null,0,null,0,"00:00:00",0]
["2008-10-17",13.497199999999999,null,null,null,null,null,null,null,0,0,null,"2008-10-17",0,0,"",null,1,null,39738,"2008-10-17",0,0,0,null,0,null,0,null,0,"00:00:00",0]
["2008-10-20",13.3362,null,null,null,null,null,null,null,0,0,null,"2008-10-20",0,0,"",null,1,null,39741,"2008-10-20",0,0,0,null,0,null,0,null,0,"00:00:00",0]
["2008-10-21",13.711499999999999,null,null,null,null,null,null,null,0,0,null,"2008-10-21",0,0,"",null,1,null,39742,"2008-10-21",0,0,0,null,0,null,0,null,0,"00:00:00",0]
["2008-10-22",13.465299999999999,null,null,null,null,null,null,null,0,0,null,"2008-10-22",0,0,"",null,1,null,39743,"2008-10-22",0,0,0,null,0,null,0,null,0,"00:00:00",0]
["2008-10-23",13.1638,null,null,null,null,null,null,null,0,0,null,"2008-10-23",0,0,"",null,1,null,39744,"2008-10-23",0,0,0,null,0,null,0,null,0,"00:00:00",0]
["2008-10-24",12.4278,null,null,null,null,null,null,null,0,0,null,"2008-10-24",0,0,"",null,1,null,39745,"2008-10-24",0,0,0,null,0,null,0,null,0,"00:00:00",0]
["2008-10-27",11.9703,null,null,null,null,null,null,null,0,0,null,"2008-10-27",0,0,"",null,1,null,39748,"2008-10-27",0,0,0,null,0,null,0,null,0,"00:00:00",0]
["2008-10-29",12.2218,null,null,null,null,null,null,null,0,0,null,"2008-10-29",0,0,"",null,1,null,39750,"2008-10-29",0,0,0,null,0,null,0,null,0,"00:00:00",0]
["2008-10-31",12.593500000000001,null,null,null,null,null,null,null,0,0,null,"2008-10-31",0,0,"",null,1,null,39752,"2008-10-31",0,0,0,null,0,null,0,null,0,"00:00:00",0]
["2008-11-03",13.1343,null,null,null,null,null,null,null,0,0,null,"2008-11-03",0,0,"",null,1,null,39755,"2008-11-03",0,0,0,null,0,null,0,null,0,"00:00:00",0]
["2008-11-04",13.4506,null,null,null,null,null,null,null,0,0,null,"2008-11-04",0,0,"",null,1,null,39756,"2008-11-04",0,0,0,null,0,null,0,null,0,"00:00:00",0]
["2008-11-05",13.2895,null,null,null,null,null,null,null,0,0,null,"2008-11-05",0,0,"",null,1,null,39757,"2008-11-05",0,0,0,null,0,null,0,null,0,"00:00:00",0]
["2008-11-06",13.023099999999999,null,null,null,null,null,null,null,1,-1000,null,"2008-11-06",1,-1000,76.786632982930328,null,1,null,39758,"2008-11-06",-1000,39758,13.023099999999999,null,0,null,0,null,0,"00:00:00",0]
["2008-11-07",13.154,null,null,null,null,null,null,null,0,0,null,"2008-11-07",0,0,"",null,1,null,39759,"2008-11-07",0,0,0,null,0,null,0,null,0,"00:00:00",0]
["2008-11-10",13.574199999999999,null,null,null,null,null,null,null,0,0,null,"2008-11-10",0,0,"",null,1,null,39762,"2008-11-10",0,0,0,null,0,null,0,null,0,"00:00:00",0]
["2008-11-11",13.228199999999999,null,null,null,null,null,null,null,0,0,null,"2008-11-11",0,0,"",null,1,null,39763,"2008-11-11",0,0,0,null,0,null,0,null,0,"00:00:00",0]
["2008-11-12",12.9284,null,null,null,null,null,null,null,0,0,null,"2008-11-12",0,0,"",null,1,null,39764,"2008-11-12",0,0,0,null,0,null,0,null,0,"00:00:00",0]
["2008-11-14",12.664099999999999,null,null,null,null,null,null,null,0,0,null,"2008-11-14",0,0,"",null,1,null,39766,"2008-11-14",0,0,0,null,0,null,0,null,0,"00:00:00",0]
["2008-11-17",12.3849,null,null,null,null,null,null,null,0,0,null,"2008-11-17",0,0,"",null,1,null,39769,"2008-11-17",0,0,0,null,0,null,0,null,0,"00:00:00",0]
["2008-11-18",12.1974,null,null,null,null,null,null,null,0,0,null,"2008-11-18",0,0,"",null,1,null,39770,"2008-11-18",0,0,0,null,0,null,0,null,0,"00:00:00",0]
["2008-11-19",11.8377,null,null,null,null,null,null,null,0,0,null,"2008-11-19",0,0,"",null,1,null,39771,"2008-11-19",0,0,0,null,{"$f":"IF(R768=0,IF(R767=1,M767,0),0)","v":0},null,0,null,0,"00:00:00",0]
["2008-11-20",11.604900000000001,null,null,null,null,null,null,null,0,0,null,"2008-11-20",0,0,"",null,1,null,39772,"2008-11-20",0,0,0,null,0,null,0,null,0,"00:00:00",0]
["2008-11-21",11.690300000000001,null,null,null,null,null,null,null,0,0,null,"2008-11-21",0,0,"",null,1,null,39773,"2008-11-21",0,0,0,null,0,null,0,null,0,"00:00:00",0]
["2008-11-24",11.7004,null,null,null,null,null,null,null,0,0,null,"2008-11-24",0,0,"",null,1,null,39776,"2008-11-24",0,0,0,null,0,null,0,null,0,"00:00:00",0]
["2008-11-25",11.572900000000001,null,null,null,null,null,null,null,0,0,null,"2008-11-25",0,0,"",null,1,null,39777,"2008-11-25",0,0,0,null,0,null,0,null,0,"00:00:00",0]
["2008-11-26",11.5425,null,null,null,null,null,null,null,0,0,null,"2008-11-26",0,0,"",null,1,null,39778,"2008-11-26",0,0,0,null,0,null,0,null,0,"00:00:00",0]
["2008-11-28",11.731400000000001,null,null,null,null,null,null,null,0,0,null,"2008-11-28",0,0,"",null,1,null,39780,"2008-11-28",0,0,0,null,0,null,0,null,0,"00:00:00",0]
["2008-12-01",11.5975,null,null,null,null,null,null,null,0,0,null,"2008-12-01",0,0,"",null,1,null,39783,"2008-12-01",0,0,0,null,0,null,0,null,0,"00:00:00",0]
["2008-12-02",11.5121,null,null,null,null,null,null,null,0,0,null,"2008-12-02",0,0,"",null,1,null,39784,"2008-12-02",0,0,0,null,0,null,0,null,0,"00:00:00",0]
["2008-12-03",11.5297,null,null,null,null,null,null,null,0,0,null,"2008-12-03",0,0,"",null,1,null,39785,"2008-12-03",0,0,0,null,0,null,0,null,0,"00:00:00",0]
["2008-12-04",11.824,null,null,null,null,null,null,null,0,0,null,{"$f":"A777","v":"2008-12-04"},{"$f":"IF(IF(M777>=sipstart,1,0)+IF(M777<=sipend,1,0)=2,J777,0)","v":0},{"$f":"IF(IF(M777>=sipstart,1,0)+IF(M777<=sipend,1,0)=2,K777,0)","v":0},"",null,{"$f":"IF(IF(M777>=sipstart,1,0)+IF(M777<=sipend,1,0)=2,1,0)","v":1},null,{"$f":"IF((IF(M777>=sipstart,1,2)+IF(M777<=sipend,1,2))=2,M777,0)","v":39786},"2008-12-04",0,{"$f":"IF(V777=-sip,U777,0)","v":0},{"$f":"IF(V777=-sip,B777,0)","v":0},null,0,null,0,null,0,{"$f":"IF(AD777=1,A777,0)","v":"00:00:00"},{"$f":"IF(AD777=1,B777,0)","v":0}]
["2008-12-05",11.7309,null,null,null,null,null,null,null,0,0,null,"2008-12-05",0,0,{"$f":"IF(O778=-sip,-O778/B778,\"\")","v":""},null,1,null,39787,{"$f":"IF((IF(M778>=sipstart,1,2)+IF(M778<=sipend,1,2))=2,M778,0)+IF(T777=actualsipend,actualsipend,0)","v":"2008-12-05"},{"$f":"IF(U778+U777=0,0,IF(U778=U777,sipunits*B777,O778))","v":0},0,0,null,0,null,0,null,0,"00:00:00",0]
["2008-12-08",11.7403,null,null,null,null,null,null,null,1,-1000,null,"2008-12-08",1,-1000,85.176699062204548,null,1,null,39790,"2008-12-08",-1000,39790,11.7403,null,0,null,0,null,0,"00:00:00",0]
["2008-12-10",11.954599999999999,null,null,null,null,null,null,null,0,0,null,"2008-12-10",0,0,"",null,1,null,39792,"2008-12-10",0,0,0,null,0,null,0,null,0,"00:00:00",0]
["2008-12-11",12.2758,null,null,null,null,null,null,null,0,{"$f":"IF(DAY(A781)=sipdate,-sip,IF(K780=-sip,0,IF(K779=-sip,0,IF(K778=-sip,0,IF(K777=-sip,0,IF(K776=-sip,0,IF(K775=-sip,0,IF(DAY(A781)=sipdate+1,-sip,IF(DAY(A781)=sipdate+2,-sip,IF(DAY(A781)=sipdate+3,-sip,IF(DAY(A781)=sipdate+4,-sip,IF(DAY(A781)=sipdate+5,-sip,IF(DAY(A781)=sipdate+6,-sip,IF(DAY(A781)=sipdate+7,-sip,0))))))))))))))","v":0},null,"2008-12-11",0,0,"",null,1,null,39793,"2008-12-11",0,0,0,null,0,null,{"$f":"IF(INT((MONTH(M781)-MONTH(sipstart))/3)-(MONTH(M781)-MONTH(sipstart))/3=0,IF(DAY(A781)=sipdate,1,IF(AB780=1,0,IF(AB779=1,0,IF(AB778=1,0,IF(AB777=1,0,IF(AB776=1,0,IF(AB775=1,0,IF(DAY(A781)=sipdate+1,1,IF(DAY(A781)=sipdate+2,1,IF(DAY(A781)=sipdate+3,1,IF(DAY(A781)=sipdate+4,1,IF(DAY(A781)=sipdate+5,1,IF(DAY(A781)=sipdate+6,1,IF(DAY(A781)=sipdate+7,1,0)))))))))))))),0)","v":0},null,{"$f":"IF(INT((MONTH(M781)-MONTH(sipstart))/12)-(MONTH(M781)-MONTH(sipstart))/12=0,IF(DAY(A781)=sipdate,1,IF(AB780=1,0,IF(AB779=1,0,IF(AB778=1,0,IF(AB777=1,0,IF(AB776=1,0,IF(AB775=1,0,IF(DAY(A781)=sipdate+1,1,IF(DAY(A781)=sipdate+2,1,IF(DAY(A781)=sipdate+3,1,IF(DAY(A781)=sipdate+4,1,IF(DAY(A781)=sipdate+5,1,IF(DAY(A781)=sipdate+6,1,IF(DAY(A781)=sipdate+7,1,0)))))))))))))),0)","v":0},"00:00:00",0]
["2008-12-12",12.489800000000001,null,null,null,null,null,null,null,0,0,null,"2008-12-12",0,0,"",null,1,null,39794,"2008-12-12",0,0,0,null,0,null,0,null,0,"00:00:00",0]
["2008-12-15",12.8331,null,null,null,null,null,null,null,0,0,null,"2008-12-15",0,0,"",null,1,null,39797,"2008-12-15",0,0,0,null,0,null,0,null,0,"00:00:00",0]
["2008-12-16",13.0694,null,null,null,null,null,null,null,0,0,null,"2008-12-16",0,0,"",null,1,null,39798,"2008-12-16",0,0,0,null,0,null,0,null,0,"00:00:00",0]
["2008-12-17",12.7445,null,null,null,null,null,null,null,0,0,null,"2008-12-17",0,0,"",null,1,null,39799,"2008-12-17",0,0,0,null,0,null,0,null,0,"00:00:00",0]
["2008-12-18",13.0677,null,null,null,null,null,null,null,0,0,null,"2008-12-18",0,0,"",null,1,null,39800,"2008-12-18",0,0,0,null,0,null,0,null,0,"00:00:00",0]
["2008-12-19",13.1927,null,null,null,null,null,null,null,0,0,null,"2008-12-19",0,0,"",null,1,null,39801,"2008-12-19",0,0,0,null,0,null,0,null,0,"00:00:00",0]
["2008-12-22",13.117000000000001,null,null,null,null,null,null,null,0,0,null,"2008-12-22",0,0,"",null,1,null,39804,"2008-12-22",0,0,0,null,0,null,0,null,0,"00:00:00",0]
["2008-12-23",12.7658,null,null,null,null,null,null,null,0,0,null,"2008-12-23",0,0,"",null,1,null,39805,"2008-12-23",0,0,0,null,0,null,0,null,0,"00:00:00",0]
["2008-12-24",12.801299999999999,null,null,null,null,null,null,null,0,0,null,"2008-12-24",0,0,"",null,1,null,39806,"2008-12-24",0,0,0,null,0,null,0,null,0,"00:00:00",0]
["2008-12-26",12.6722,null,null,null,null,null,null,null,0,0,null,"2008-12-26",0,0,"",null,1,null,39808,"2008-12-26",0,0,0,null,0,null,0,null,0,"00:00:00",0]
["2008-12-29",12.803000000000001,null,null,null,null,null,null,null,0,0,null,"2008-12-29",0,0,"",null,1,null,39811,"2008-12-29",0,0,0,null,0,null,0,null,0,"00:00:00",0]
["2008-12-30",12.917199999999999,null,null,null,null,null,null,null,{"$f":"IF(DAY(A793)=sipdate,1,IF(J792=1,0,IF(J791=1,0,IF(J790=1,0,IF(J789=1,0,IF(J788=1,0,IF(J787=1,0,IF(DAY(A793)=sipdate+1,1,IF(DAY(A793)=sipdate+2,1,IF(DAY(A793)=sipdate+3,1,IF(DAY(A793)=sipdate+4,1,IF(DAY(A793)=sipdate+5,1,IF(DAY(A793)=sipdate+6,1,IF(DAY(A793)=sipdate+7,1,0))))))))))))))","v":0},0,null,"2008-12-30",0,0,"",null,1,null,39812,"2008-12-30",0,0,0,null,0,null,0,null,0,"00:00:00",0]
["2008-12-31",13.0345,null,null,null,null,null,null,null,0,0,null,"2008-12-31",0,0,"",null,1,null,39813,"2008-12-31",0,0,0,null,0,null,0,null,0,"00:00:00",0]
["2009-01-01",13.3156,null,null,null,null,null,null,null,0,0,null,"2009-01-01",0,0,"",null,1,null,39814,"2009-01-01",0,0,0,null,0,null,0,null,0,"00:00:00",0]
["2009-01-02",13.469799999999999,null,null,null,null,null,null,null,0,0,null,"2009-01-02",0,0,"",null,1,null,39815,"2009-01-02",0,0,0,null,0,null,0,null,0,"00:00:00",0]
["2009-01-05",13.725300000000001,null,null,null,null,null,null,null,0,0,null,"2009-01-05",0,0,"",null,1,null,39818,"2009-01-05",0,0,0,null,0,null,0,null,0,"00:00:00",0]
["2009-01-06",13.8009,null,null,null,null,null,null,null,1,-1000,null,"2009-01-06",1,-1000,72.459042526212059,null,1,null,39819,"2009-01-06",-1000,39819,13.8009,null,0,null,1,null,0,"00:00:00",0]
["2009-01-07",13.048299999999999,null,null,null,null,null,null,null,0,0,null,"2009-01-07",0,0,"",null,1,null,39820,"2009-01-07",0,0,0,null,0,null,0,null,0,"00:00:00",0]
["2009-01-09",12.6816,null,null,null,null,null,null,null,0,0,null,"2009-01-09",0,0,"",null,1,null,39822,"2009-01-09",0,0,0,null,0,null,0,null,0,"00:00:00",0]
["2009-01-12",12.4247,null,null,null,null,null,null,null,0,0,null,"2009-01-12",0,0,"",null,1,null,39825,"2009-01-12",0,0,0,null,0,null,0,null,0,"00:00:00",0]
["2009-01-13",12.2623,null,null,null,null,null,null,null,0,0,null,"2009-01-13",0,0,"",null,1,null,39826,"2009-01-13",0,0,0,null,0,null,0,null,0,"00:00:00",0]
["2009-01-14",12.4537,null,null,null,null,null,null,null,0,0,null,"2009-01-14",0,0,"",null,1,null,39827,"2009-01-14",0,0,0,null,0,null,0,null,0,"00:00:00",0]
["2009-01-15",12.254300000000001,null,null,null,null,null,null,null,0,0,null,"2009-01-15",0,0,"",null,1,null,39828,"2009-01-15",0,0,0,null,0,null,0,null,0,"00:00:00",0]
["2009-01-16",12.3653,null,null,null,null,null,null,null,0,0,null,"2009-01-16",0,0,"",null,1,null,39829,"2009-01-16",0,0,0,null,0,null,0,null,0,"00:00:00",0]
["2009-01-19",12.4346,null,null,null,null,null,null,null,0,0,null,"2009-01-19",0,0,"",null,1,null,39832,"2009-01-19",0,0,0,null,0,null,0,null,0,"00:00:00",0]
["2009-01-20",12.2422,null,null,null,null,null,null,null,0,0,null,"2009-01-20",0,0,"",null,1,null,39833,"2009-01-20",0,0,0,null,0,null,0,null,0,"00:00:00",0]
["2009-01-21",12.051600000000001,null,null,null,null,null,null,null,0,0,null,"2009-01-21",0,0,"",null,1,null,39834,"2009-01-21",0,0,0,null,0,null,0,null,0,"00:00:00",0]
["2009-01-22",11.9909,null,null,null,null,null,null,null,0,0,null,"2009-01-22",0,0,"",null,1,null,39835,"2009-01-22",0,0,0,null,0,null,0,null,0,"00:00:00",0]
["2009-01-23",11.965199999999999,null,null,null,null,null,null,null,0,0,null,"2009-01-23",0,0,"",null,1,null,39836,"2009-01-23",0,0,0,null,0,null,0,null,0,"00:00:00",0]
["2009-01-27",12.113200000000001,null,null,null,null,null,null,null,0,0,null,"2009-01-27",0,0,"",null,1,null,39840,"2009-01-27",0,0,0,null,0,null,0,null,0,"00:00:00",0]
["2009-01-28",12.2036,null,null,null,null,null,null,null,0,0,null,"2009-01-28",0,0,"",null,1,null,39841,"2009-01-28",0,0,0,null,0,null,0,null,0,"00:00:00",0]
["2009-01-29",12.180300000000001,null,null,null,null,null,null,null,0,0,null,"2009-01-29",0,0,"",null,1,null,39842,"2009-01-29",0,0,0,null,0,null,0,null,0,"00:00:00",0]
["2009-01-30",12.3485,null,null,null,null,null,null,null,0,0,null,"2009-01-30",0,0,"",null,1,null,39843,"2009-01-30",0,0,0,null,0,null,0,null,0,"00:00:00",0]
["2009-02-02",12.047700000000001,null,null,null,null,null,null,null,0,0,null,"2009-02-02",0,0,"",null,1,null,39846,"2009-02-02",0,0,0,null,0,null,0,null,0,"00:00:00",0]
["2009-02-03",12.093,null,null,null,null,null,null,null,0,0,null,"2009-02-03",0,0,"",null,1,null,39847,"2009-02-03",0,0,0,null,0,null,0,null,0,"00:00:00",0]
["2009-02-04",12.024800000000001,null,null,null,null,null,null,null,0,0,null,"2009-02-04",0,0,"",null,1,null,39848,"2009-02-04",0,0,0,null,0,null,0,null,0,"00:00:00",0]
["2009-02-05",11.9191,null,null,null,null,null,null,null,0,0,null,"2009-02-05",0,0,"",null,1,null,39849,"2009-02-05",0,0,0,null,0,null,0,null,0,"00:00:00",0]
["2009-02-06",12.137499999999999,null,null,null,null,null,null,null,1,-1000,null,"2009-02-06",1,-1000,82.389289392378998,null,1,null,39850,"2009-02-06",-1000,39850,12.137499999999999,null,0,null,0,null,0,"00:00:00",0]
["2009-02-09",12.283899999999999,null,null,null,null,null,null,null,0,0,null,"2009-02-09",0,0,"",null,1,null,39853,"2009-02-09",0,0,0,null,0,null,0,null,0,"00:00:00",0]
["2009-02-10",12.3543,null,null,null,null,null,null,null,0,0,null,"2009-02-10",0,0,"",null,1,null,39854,"2009-02-10",0,0,0,null,0,null,0,null,0,"00:00:00",0]
["2009-02-11",12.4841,null,null,null,null,null,null,null,0,0,null,"2009-02-11",0,0,"",null,1,null,39855,"2009-02-11",0,0,0,null,0,null,0,null,0,"00:00:00",0]
["2009-02-12",12.537800000000001,null,null,null,null,null,null,null,0,0,null,"2009-02-12",0,0,"",null,1,null,39856,"2009-02-12",0,0,0,null,0,null,0,null,0,"00:00:00",0]
["2009-02-13",12.873100000000001,null,null,null,null,null,null,null,0,0,null,"2009-02-13",0,0,"",null,1,null,39857,"2009-02-13",0,0,0,null,0,null,0,null,0,"00:00:00",0]
["2009-02-16",12.5129,null,null,null,null,null,null,null,0,0,null,"2009-02-16",0,0,"",null,1,null,39860,"2009-02-16",0,0,0,null,0,null,0,null,0,"00:00:00",0]
["2009-02-17",12.338100000000001,null,null,null,null,null,null,null,0,0,null,"2009-02-17",0,0,"",null,1,null,39861,"2009-02-17",0,0,0,null,0,null,0,null,0,"00:00:00",0]
["2009-02-18",12.3834,null,null,null,null,null,null,null,0,0,null,"2009-02-18",0,0,"",null,1,null,39862,"2009-02-18",0,0,0,null,0,null,0,null,0,"00:00:00",0]
["2009-02-19",12.2966,null,null,null,null,null,null,null,0,0,null,"2009-02-19",0,0,"",null,1,null,39863,"2009-02-19",0,0,0,null,0,null,0,null,0,"00:00:00",0]
["2009-02-20",12.0336,null,null,null,null,null,null,null,0,0,null,"2009-02-20",0,0,"",null,1,null,39864,"2009-02-20",0,0,0,null,0,null,0,null,0,"00:00:00",0]
["2009-02-24",11.728,null,null,null,null,null,null,null,0,0,null,"2009-02-24",0,0,"",null,1,null,39868,"2009-02-24",0,0,0,null,0,null,0,null,0,"00:00:00",0]
["2009-02-25",11.761100000000001,null,null,null,null,null,null,null,0,0,null,"2009-02-25",0,0,"",null,1,null,39869,"2009-02-25",0,0,0,null,{"$f":"IF(R832=0,IF(R831=1,M831,0),0)","v":0},null,0,null,0,"00:00:00",0]
["2009-02-26",11.845700000000001,null,null,null,null,null,null,null,0,0,null,"2009-02-26",0,0,"",null,1,null,39870,"2009-02-26",0,0,0,null,0,null,0,null,0,"00:00:00",0]
["2009-02-27",11.851100000000001,null,null,null,null,null,null,null,0,0,null,"2009-02-27",0,0,"",null,1,null,39871,"2009-02-27",0,0,0,null,0,null,0,null,0,"00:00:00",0]
["2009-03-02",11.661799999999999,null,null,null,null,null,null,null,0,0,null,"2009-03-02",0,0,"",null,1,null,39874,"2009-03-02",0,0,0,null,0,null,0,null,0,"00:00:00",0]
["2009-03-03",11.5419,null,null,null,null,null,null,null,0,0,null,"2009-03-03",0,0,"",null,1,null,39875,"2009-03-03",0,0,0,null,0,null,0,null,0,"00:00:00",0]
["2009-03-04",11.5627,null,null,null,null,null,null,null,0,0,null,"2009-03-04",0,0,"",null,1,null,39876,"2009-03-04",0,0,0,null,0,null,0,null,0,"00:00:00",0]
["2009-03-05",11.330299999999999,null,null,null,null,null,null,null,0,0,null,"2009-03-05",0,0,"",null,1,null,39877,"2009-03-05",0,0,0,null,0,null,0,null,0,"00:00:00",0]
["2009-03-06",11.3886,null,null,null,null,null,null,null,1,-1000,null,"2009-03-06",1,-1000,87.807105350965003,null,1,null,39878,"2009-03-06",-1000,39878,11.3886,null,0,null,0,null,0,"00:00:00",0]
["2009-03-09",11.239000000000001,null,null,null,null,null,null,null,0,0,null,"2009-03-09",0,0,"",null,1,null,39881,"2009-03-09",0,0,0,null,0,null,0,null,0,"00:00:00",0]
["2009-03-12",11.333299999999999,null,null,null,null,null,null,null,0,0,null,"2009-03-12",0,0,"",null,1,null,39884,"2009-03-12",0,0,0,null,0,null,0,null,0,"00:00:00",0]
["2009-03-13",11.661,null,null,null,null,null,null,null,0,0,null,{"$f":"A841","v":"2009-03-13"},{"$f":"IF(IF(M841>=sipstart,1,0)+IF(M841<=sipend,1,0)=2,J841,0)","v":0},{"$f":"IF(IF(M841>=sipstart,1,0)+IF(M841<=sipend,1,0)=2,K841,0)","v":0},"",null,{"$f":"IF(IF(M841>=sipstart,1,0)+IF(M841<=sipend,1,0)=2,1,0)","v":1},null,{"$f":"IF((IF(M841>=sipstart,1,2)+IF(M841<=sipend,1,2))=2,M841,0)","v":39885},"2009-03-13",0,{"$f":"IF(V841=-sip,U841,0)","v":0},{"$f":"IF(V841=-sip,B841,0)","v":0},null,0,null,0,null,0,{"$f":"IF(AD841=1,A841,0)","v":"00:00:00"},{"$f":"IF(AD841=1,B841,0)","v":0}]
["2009-03-16",11.938800000000001,null,null,null,null,null,null,null,0,0,null,"2009-03-16",0,0,{"$f":"IF(O842=-sip,-O842/B842,\"\")","v":""},null,1,null,39888,{"$f":"IF((IF(M842>=sipstart,1,2)+IF(M842<=sipend,1,2))=2,M842,0)+IF(T841=actualsipend,actualsipend,0)","v":"2009-03-16"},{"$f":"IF(U842+U841=0,0,IF(U842=U841,sipunits*B841,O842))","v":0},0,0,null,0,null,0,null,0,"00:00:00",0]
["2009-03-17",11.956799999999999,null,null,null,null,null,null,null,0,0,null,"2009-03-17",0,0,"",null,1,null,39889,"2009-03-17",0,0,0,null,0,null,0,null,0,"00:00:00",0]
["2009-03-18",12.1218,null,null,null,null,null,null,null,0,0,null,"2009-03-18",0,0,"",null,1,null,39890,"2009-03-18",0,0,0,null,0,null,0,null,0,"00:00:00",0]
["2009-03-19",12.224500000000001,null,null,null,null,null,null,null,0,{"$f":"IF(DAY(A845)=sipdate,-sip,IF(K844=-sip,0,IF(K843=-sip,0,IF(K842=-sip,0,IF(K841=-sip,0,IF(K840=-sip,0,IF(K839=-sip,0,IF(DAY(A845)=sipdate+1,-sip,IF(DAY(A845)=sipdate+2,-sip,IF(DAY(A845)=sipdate+3,-sip,IF(DAY(A845)=sipdate+4,-sip,IF(DAY(A845)=sipdate+5,-sip,IF(DAY(A845)=sipdate+6,-sip,IF(DAY(A845)=sipdate+7,-sip,0))))))))))))))","v":0},null,"2009-03-19",0,0,"",null,1,null,39891,"2009-03-19",0,0,0,null,0,null,{"$f":"IF(INT((MONTH(M845)-MONTH(sipstart))/3)-(MONTH(M845)-MONTH(sipstart))/3=0,IF(DAY(A845)=sipdate,1,IF(AB844=1,0,IF(AB843=1,0,IF(AB842=1,0,IF(AB841=1,0,IF(AB840=1,0,IF(AB839=1,0,IF(DAY(A845)=sipdate+1,1,IF(DAY(A845)=sipdate+2,1,IF(DAY(A845)=sipdate+3,1,IF(DAY(A845)=sipdate+4,1,IF(DAY(A845)=sipdate+5,1,IF(DAY(A845)=sipdate+6,1,IF(DAY(A845)=sipdate+7,1,0)))))))))))))),0)","v":0},null,{"$f":"IF(INT((MONTH(M845)-MONTH(sipstart))/12)-(MONTH(M845)-MONTH(sipstart))/12=0,IF(DAY(A845)=sipdate,1,IF(AB844=1,0,IF(AB843=1,0,IF(AB842=1,0,IF(AB841=1,0,IF(AB840=1,0,IF(AB839=1,0,IF(DAY(A845)=sipdate+1,1,IF(DAY(A845)=sipdate+2,1,IF(DAY(A845)=sipdate+3,1,IF(DAY(A845)=sipdate+4,1,IF(DAY(A845)=sipdate+5,1,IF(DAY(A845)=sipdate+6,1,IF(DAY(A845)=sipdate+7,1,0)))))))))))))),0)","v":0},"00:00:00",0]
["2009-03-20",12.2216,null,null,null,null,null,null,null,0,0,null,"2009-03-20",0,0,"",null,1,null,39892,"2009-03-20",0,0,0,null,0,null,0,null,0,"00:00:00",0]
["2009-03-23",12.4771,null,null,null,null,null,null,null,0,0,null,"2009-03-23",0,0,"",null,1,null,39895,"2009-03-23",0,0,0,null,0,null,0,null,0,"00:00:00",0]
["2009-03-24",12.454000000000001,null,null,null,null,null,null,null,0,0,null,"2009-03-24",0,0,"",null,1,null,39896,"2009-03-24",0,0,0,null,0,null,0,null,0,"00:00:00",0]
["2009-03-25",12.528700000000001,null,null,null,null,null,null,null,0,0,null,"2009-03-25",0,0,"",null,1,null,39897,"2009-03-25",0,0,0,null,0,null,0,null,0,"00:00:00",0]
["2009-03-26",12.711399999999999,null,null,null,null,null,null,null,0,0,null,"2009-03-26",0,0,"",null,1,null,39898,"2009-03-26",0,0,0,null,0,null,0,null,0,"00:00:00",0]
["2009-03-27",12.8589,null,null,null,null,null,null,null,0,0,null,"2009-03-27",0,0,"",null,1,null,39899,"2009-03-27",0,0,0,null,0,null,0,null,0,"00:00:00",0]
["2009-03-30",12.684200000000001,null,null,null,null,null,null,null,0,0,null,"2009-03-30",0,0,"",null,1,null,39902,"2009-03-30",0,0,0,null,0,null,0,null,0,"00:00:00",0]
["2009-03-31",12.877599999999999,null,null,null,null,null,null,null,0,0,null,"2009-03-31",0,0,"",null,1,null,39903,"2009-03-31",0,0,0,null,0,null,0,null,0,"00:00:00",0]
["2009-04-01",13.1096,null,null,null,null,null,null,null,0,0,null,"2009-04-01",0,0,"",null,1,null,39904,"2009-04-01",0,0,0,null,0,null,0,null,0,"00:00:00",0]
["2009-04-02",13.578200000000001,null,null,null,null,null,null,null,0,0,null,"2009-04-02",0,0,"",null,1,null,39905,"2009-04-02",0,0,0,null,0,null,0,null,0,"00:00:00",0]
["2009-04-06",13.6746,null,null,null,null,null,null,null,1,-1000,null,"2009-04-06",1,-1000,73.128281631638217,null,1,null,39909,"2009-04-06",-1000,39909,13.6746,null,0,null,1,null,0,"00:00:00",0]
["2009-04-08",13.9323,null,null,null,null,null,null,null,{"$f":"IF(DAY(A857)=sipdate,1,IF(J856=1,0,IF(J855=1,0,IF(J854=1,0,IF(J853=1,0,IF(J852=1,0,IF(J851=1,0,IF(DAY(A857)=sipdate+1,1,IF(DAY(A857)=sipdate+2,1,IF(DAY(A857)=sipdate+3,1,IF(DAY(A857)=sipdate+4,1,IF(DAY(A857)=sipdate+5,1,IF(DAY(A857)=sipdate+6,1,IF(DAY(A857)=sipdate+7,1,0))))))))))))))","v":0},0,null,"2009-04-08",0,0,"",null,1,null,39911,"2009-04-08",0,0,0,null,0,null,0,null,0,"00:00:00",0]
["2009-04-09",14.1081,null,null,null,null,null,null,null,0,0,null,"2009-04-09",0,0,"",null,1,null,39912,"2009-04-09",0,0,0,null,0,null,0,null,0,"00:00:00",0]
["2009-04-13",14.4992,null,null,null,null,null,null,null,0,0,null,"2009-04-13",0,0,"",null,1,null,39916,"2009-04-13",0,0,0,null,0,null,0,null,0,"00:00:00",0]
["2009-04-15",14.9763,null,null,null,null,null,null,null,0,0,null,"2009-04-15",0,0,"",null,1,null,39918,"2009-04-15",0,0,0,null,0,null,0,null,0,"00:00:00",0]
["2009-04-16",14.438599999999999,null,null,null,null,null,null,null,0,0,null,"2009-04-16",0,0,"",null,1,null,39919,"2009-04-16",0,0,0,null,0,null,0,null,0,"00:00:00",0]
["2009-04-17",14.823499999999999,null,null,null,null,null,null,null,0,0,null,"2009-04-17",0,0,"",null,1,null,39920,"2009-04-17",0,0,0,null,0,null,0,null,0,"00:00:00",0]
["2009-04-20",15.098699999999999,null,null,null,null,null,null,null,0,0,null,"2009-04-20",0,0,"",null,1,null,39923,"2009-04-20",0,0,0,null,0,null,0,null,0,"00:00:00",0]
["2009-04-21",15.142799999999999,null,null,null,null,null,null,null,0,0,null,"2009-04-21",0,0,"",null,1,null,39924,"2009-04-21",0,0,0,null,0,null,0,null,0,"00:00:00",0]
["2009-04-22",14.939500000000001,null,null,null,null,null,null,null,0,0,null,"2009-04-22",0,0,"",null,1,null,39925,"2009-04-22",0,0,0,null,0,null,0,null,0,"00:00:00",0]
["2009-04-23",15.0664,null,null,null,null,null,null,null,0,0,null,"2009-04-23",0,0,"",null,1,null,39926,"2009-04-23",0,0,0,null,0,null,0,null,0,"00:00:00",0]
["2009-04-24",15.2286,null,null,null,null,null,null,null,0,0,null,"2009-04-24",0,0,"",null,1,null,39927,"2009-04-24",0,0,0,null,0,null,0,null,0,"00:00:00",0]
["2009-04-27",15.1341,null,null,null,null,null,null,null,0,0,null,"2009-04-27",0,0,"",null,1,null,39930,"2009-04-27",0,0,0,null,0,null,0,null,0,"00:00:00",0]
["2009-04-28",14.5975,null,null,null,null,null,null,null,0,0,null,"2009-04-28",0,0,"",null,1,null,39931,"2009-04-28",0,0,0,null,0,null,0,null,0,"00:00:00",0]
["2009-04-29",14.841699999999999,null,null,null,null,null,null,null,0,0,null,"2009-04-29",0,0,"",null,1,null,39932,"2009-04-29",0,0,0,null,0,null,0,null,0,"00:00:00",0]
["2009-05-04",15.3261,null,null,null,null,null,null,null,0,0,null,"2009-05-04",0,0,"",null,1,null,39937,"2009-05-04",0,0,0,null,0,null,0,null,0,"00:00:00",0]
["2009-05-05",15.473699999999999,null,null,null,null,null,null,null,0,0,null,"2009-05-05",0,0,"",null,1,null,39938,"2009-05-05",0,0,0,null,0,null,0,null,0,"00:00:00",0]
["2009-05-06",15.2835,null,null,null,null,null,null,null,1,-1000,null,"2009-05-06",1,-1000,65.430038930873167,null,1,null,39939,"2009-05-06",-1000,39939,15.2835,null,0,null,0,null,0,"00:00:00",0]
["2009-05-07",15.6313,null,null,null,null,null,null,null,0,0,null,"2009-05-07",0,0,"",null,1,null,39940,"2009-05-07",0,0,0,null,0,null,0,null,0,"00:00:00",0]
["2009-05-08",15.553100000000001,null,null,null,null,null,null,null,0,0,null,"2009-05-08",0,0,"",null,1,null,39941,"2009-05-08",0,0,0,null,0,null,0,null,0,"00:00:00",0]
["2009-05-11",15.514200000000001,null,null,null,null,null,null,null,0,0,null,"2009-05-11",0,0,"",null,1,null,39944,"2009-05-11",0,0,0,null,0,null,0,null,0,"00:00:00",0]
["2009-05-12",15.6591,null,null,null,null,null,null,null,0,0,null,"2009-05-12",0,0,"",null,1,null,39945,"2009-05-12",0,0,0,null,0,null,0,null,0,"00:00:00",0]
["2009-05-13",15.5389,null,null,null,null,null,null,null,0,0,null,"2009-05-13",0,0,"",null,1,null,39946,"2009-05-13",0,0,0,null,0,null,0,null,0,"00:00:00",0]
["2009-05-14",15.529400000000001,null,null,null,null,null,null,null,0,0,null,"2009-05-14",0,0,"",null,1,null,39947,"2009-05-14",0,0,0,null,0,null,0,null,0,"00:00:00",0]
["2009-05-15",15.5167,null,null,null,null,null,null,null,0,0,null,"2009-05-15",0,0,"",null,1,null,39948,"2009-05-15",0,0,0,null,0,null,0,null,0,"00:00:00",0]
["2009-05-19",17.3932,null,null,null,null,null,null,null,0,0,null,"2009-05-19",0,0,"",null,1,null,39952,"2009-05-19",0,0,0,null,0,null,0,null,0,"00:00:00",0]
["2009-05-20",18.125499999999999,null,null,null,null,null,null,null,0,0,null,"2009-05-20",0,0,"",null,1,null,39953,"2009-05-20",0,0,0,null,0,null,0,null,0,"00:00:00",0]
["2009-05-21",18.170000000000002,null,null,null,null,null,null,null,0,0,null,"2009-05-21",0,0,"",null,1,null,39954,"2009-05-21",0,0,0,null,0,null,0,null,0,"00:00:00",0]
["2009-05-22",18.2742,null,null,null,null,null,null,null,0,0,null,"2009-05-22",0,0,"",null,1,null,39955,"2009-05-22",0,0,0,null,0,null,0,null,0,"00:00:00",0]
["2009-05-25",18.765799999999999,null,null,null,null,null,null,null,0,0,null,"2009-05-25",0,0,"",null,1,null,39958,"2009-05-25",0,0,0,null,0,null,0,null,0,"00:00:00",0]
["2009-05-26",18.279299999999999,null,null,null,null,null,null,null,0,0,null,"2009-05-26",0,0,"",null,1,null,39959,"2009-05-26",0,0,0,null,0,null,0,null,0,"00:00:00",0]
["2009-05-27",18.6768,null,null,null,null,null,null,null,0,0,null,"2009-05-27",0,0,"",null,1,null,39960,"2009-05-27",0,0,0,null,0,null,0,null,0,"00:00:00",0]
["2009-05-28",18.567399999999999,null,null,null,null,null,null,null,0,0,null,"2009-05-28",0,0,"",null,1,null,39961,"2009-05-28",0,0,0,null,0,null,0,null,0,"00:00:00",0]
["2009-05-29",18.8933,null,null,null,null,null,null,null,0,0,null,"2009-05-29",0,0,"",null,1,null,39962,"2009-05-29",0,0,0,null,0,null,0,null,0,"00:00:00",0]
["2009-06-01",19.364100000000001,null,null,null,null,null,null,null,0,0,null,"2009-06-01",0,0,"",null,1,null,39965,"2009-06-01",0,0,0,null,0,null,0,null,0,"00:00:00",0]
["2009-06-02",19.4665,null,null,null,null,null,null,null,0,0,null,"2009-06-02",0,0,"",null,1,null,39966,"2009-06-02",0,0,0,null,0,null,0,null,0,"00:00:00",0]
["2009-06-03",19.564399999999999,null,null,null,null,null,null,null,0,0,null,"2009-06-03",0,0,"",null,1,null,39967,"2009-06-03",0,0,0,null,0,null,0,null,0,"00:00:00",0]
["2009-06-04",19.850999999999999,null,null,null,null,null,null,null,0,0,null,"2009-06-04",0,0,"",null,1,null,39968,"2009-06-04",0,0,0,null,0,null,0,null,0,"00:00:00",0]
["2009-06-05",19.558700000000002,null,null,null,null,null,null,null,0,0,null,"2009-06-05",0,0,"",null,1,null,39969,"2009-06-05",0,0,0,null,0,null,0,null,0,"00:00:00",0]
["2009-06-08",18.965699999999998,null,null,null,null,null,null,null,1,-1000,null,"2009-06-08",1,-1000,52.726764632995362,null,1,null,39972,"2009-06-08",-1000,39972,18.965699999999998,null,{"$f":"IF(R896=0,IF(R895=1,M895,0),0)","v":0},null,0,null,0,"00:00:00",0]
["2009-06-09",19.3581,null,null,null,null,null,null,null,0,0,null,"2009-06-09",0,0,"",null,1,null,39973,"2009-06-09",0,0,0,null,0,null,0,null,0,"00:00:00",0]
["2009-06-10",19.7545,null,null,null,null,null,null,null,0,0,null,"2009-06-10",0,0,"",null,1,null,39974,"2009-06-10",0,0,0,null,0,null,0,null,0,"00:00:00",0]
["2009-06-11",19.8003,null,null,null,null,null,null,null,0,0,null,"2009-06-11",0,0,"",null,1,null,39975,"2009-06-11",0,0,0,null,0,null,0,null,0,"00:00:00",0]
["2009-06-12",19.5061,null,null,null,null,null,null,null,0,0,null,"2009-06-12",0,0,"",null,1,null,39976,"2009-06-12",0,0,0,null,0,null,0,null,0,"00:00:00",0]
["2009-06-15",19.255299999999998,null,null,null,null,null,null,null,0,0,null,"2009-06-15",0,0,"",null,1,null,39979,"2009-06-15",0,0,0,null,0,null,0,null,0,"00:00:00",0]
["2009-06-16",19.657299999999999,null,null,null,null,null,null,null,0,0,null,"2009-06-16",0,0,"",null,1,null,39980,"2009-06-16",0,0,0,null,0,null,0,null,0,"00:00:00",0]
["2009-06-17",19.0594,null,null,null,null,null,null,null,0,0,null,"2009-06-17",0,0,"",null,1,null,39981,"2009-06-17",0,0,0,null,0,null,0,null,0,"00:00:00",0]
["2009-06-18",18.667100000000001,null,null,null,null,null,null,null,0,0,null,"2009-06-18",0,0,"",null,1,null,39982,"2009-06-18",0,0,0,null,0,null,0,null,0,"00:00:00",0]
["2009-06-19",18.9907,null,null,null,null,null,null,null,0,0,null,"2009-06-19",0,0,"",null,1,null,39983,"2009-06-19",0,0,0,null,0,null,0,null,0,"00:00:00",0]
["2009-06-22",18.8629,null,null,null,null,null,null,null,0,0,null,{"$f":"A905","v":"2009-06-22"},{"$f":"IF(IF(M905>=sipstart,1,0)+IF(M905<=sipend,1,0)=2,J905,0)","v":0},{"$f":"IF(IF(M905>=sipstart,1,0)+IF(M905<=sipend,1,0)=2,K905,0)","v":0},"",null,{"$f":"IF(IF(M905>=sipstart,1,0)+IF(M905<=sipend,1,0)=2,1,0)","v":1},null,{"$f":"IF((IF(M905>=sipstart,1,2)+IF(M905<=sipend,1,2))=2,M905,0)","v":39986},"2009-06-22",0,{"$f":"IF(V905=-sip,U905,0)","v":0},{"$f":"IF(V905=-sip,B905,0)","v":0},null,0,null,0,null,0,{"$f":"IF(AD905=1,A905,0)","v":"00:00:00"},{"$f":"IF(AD905=1,B905,0)","v":0}]
["2009-06-23",18.8582,null,null,null,null,null,null,null,0,0,null,"2009-06-23",0,0,{"$f":"IF(O906=-sip,-O906/B906,\"\")","v":""},null,1,null,39987,{"$f":"IF((IF(M906>=sipstart,1,2)+IF(M906<=sipend,1,2))=2,M906,0)+IF(T905=actualsipend,actualsipend,0)","v":"2009-06-23"},{"$f":"IF(U906+U905=0,0,IF(U906=U905,sipunits*B905,O906))","v":0},0,0,null,0,null,0,null,0,"00:00:00",0]
["2009-06-24",19.326899999999998,null,null,null,null,null,null,null,0,0,null,"2009-06-24",0,0,"",null,1,null,39988,"2009-06-24",0,0,0,null,0,null,0,null,0,"00:00:00",0]
["2009-06-25",19.3428,null,null,null,null,null,null,null,0,0,null,"2009-06-25",0,0,"",null,1,null,39989,"2009-06-25",0,0,0,null,0,null,0,null,0,"00:00:00",0]
["2009-06-26",19.574200000000001,null,null,null,null,null,null,null,0,{"$f":"IF(DAY(A909)=sipdate,-sip,IF(K908=-sip,0,IF(K907=-sip,0,IF(K906=-sip,0,IF(K905=-sip,0,IF(K904=-sip,0,IF(K903=-sip,0,IF(DAY(A909)=sipdate+1,-sip,IF(DAY(A909)=sipdate+2,-sip,IF(DAY(A909)=sipdate+3,-sip,IF(DAY(A909)=sipdate+4,-sip,IF(DAY(A909)=sipdate+5,-sip,IF(DAY(A909)=sipdate+6,-sip,IF(DAY(A909)=sipdate+7,-sip,0))))))))))))))","v":0},null,"2009-06-26",0,0,"",null,1,null,39990,"2009-06-26",0,0,0,null,0,null,{"$f":"IF(INT((MONTH(M909)-MONTH(sipstart))/3)-(MONTH(M909)-MONTH(sipstart))/3=0,IF(DAY(A909)=sipdate,1,IF(AB908=1,0,IF(AB907=1,0,IF(AB906=1,0,IF(AB905=1,0,IF(AB904=1,0,IF(AB903=1,0,IF(DAY(A909)=sipdate+1,1,IF(DAY(A909)=sipdate+2,1,IF(DAY(A909)=sipdate+3,1,IF(DAY(A909)=sipdate+4,1,IF(DAY(A909)=sipdate+5,1,IF(DAY(A909)=sipdate+6,1,IF(DAY(A909)=sipdate+7,1,0)))))))))))))),0)","v":0},null,{"$f":"IF(INT((MONTH(M909)-MONTH(sipstart))/12)-(MONTH(M909)-MONTH(sipstart))/12=0,IF(DAY(A909)=sipdate,1,IF(AB908=1,0,IF(AB907=1,0,IF(AB906=1,0,IF(AB905=1,0,IF(AB904=1,0,IF(AB903=1,0,IF(DAY(A909)=sipdate+1,1,IF(DAY(A909)=sipdate+2,1,IF(DAY(A909)=sipdate+3,1,IF(DAY(A909)=sipdate+4,1,IF(DAY(A909)=sipdate+5,1,IF(DAY(A909)=sipdate+6,1,IF(DAY(A909)=sipdate+7,1,0)))))))))))))),0)","v":0},"00:00:00",0]
["2009-06-29",19.765499999999999,null,null,null,null,null,null,null,0,0,null,"2009-06-29",0,0,"",null,1,null,39993,"2009-06-29",0,0,0,null,0,null,0,null,0,"00:00:00",0]
["2009-06-30",19.6007,null,null,null,null,null,null,null,0,0,null,"2009-06-30",0,0,"",null,1,null,39994,"2009-06-30",0,0,0,null,0,null,0,null,0,"00:00:00",0]
["2009-07-01",19.746300000000002,null,null,null,null,null,null,null,0,0,null,"2009-07-01",0,0,"",null,1,null,39995,"2009-07-01",0,0,0,null,0,null,0,null,0,"00:00:00",0]
["2009-07-02",19.9163,null,null,null,null,null,null,null,0,0,null,"2009-07-02",0,0,"",null,1,null,39996,"2009-07-02",0,0,0,null,0,null,0,null,0,"00:00:00",0]
["2009-07-03",20.1111,null,null,null,null,null,null,null,0,0,null,"2009-07-03",0,0,"",null,1,null,39997,"2009-07-03",0,0,0,null,0,null,0,null,0,"00:00:00",0]
["2009-07-06",19.224,null,null,null,null,null,null,null,1,-1000,null,"2009-07-06",1,-1000,52.01831044527674,null,1,null,40000,"2009-07-06",-1000,40000,19.224,null,0,null,1,null,0,"00:00:00",0]
["2009-07-07",19.540199999999999,null,null,null,null,null,null,null,0,0,null,"2009-07-07",0,0,"",null,1,null,40001,"2009-07-07",0,0,0,null,0,null,0,null,0,"00:00:00",0]
["2009-07-08",19.0883,null,null,null,null,null,null,null,0,0,null,"2009-07-08",0,0,"",null,1,null,40002,"2009-07-08",0,0,0,null,0,null,0,null,0,"00:00:00",0]
["2009-07-09",19.1892,null,null,null,null,null,null,null,0,0,null,"2009-07-09",0,0,"",null,1,null,40003,"2009-07-09",0,0,0,null,0,null,0,null,0,"00:00:00",0]
["2009-07-10",18.905799999999999,null,null,null,null,null,null,null,0,0,null,"2009-07-10",0,0,"",null,1,null,40004,"2009-07-10",0,0,0,null,0,null,0,null,0,"00:00:00",0]
["2009-07-13",18.3703,null,null,null,null,null,null,null,0,0,null,"2009-07-13",0,0,"",null,1,null,40007,"2009-07-13",0,0,0,null,0,null,0,null,0,"00:00:00",0]
["2009-07-14",19.012,null,null,null,null,null,null,null,{"$f":"IF(DAY(A921)=sipdate,1,IF(J920=1,0,IF(J919=1,0,IF(J918=1,0,IF(J917=1,0,IF(J916=1,0,IF(J915=1,0,IF(DAY(A921)=sipdate+1,1,IF(DAY(A921)=sipdate+2,1,IF(DAY(A921)=sipdate+3,1,IF(DAY(A921)=sipdate+4,1,IF(DAY(A921)=sipdate+5,1,IF(DAY(A921)=sipdate+6,1,IF(DAY(A921)=sipdate+7,1,0))))))))))))))","v":0},0,null,"2009-07-14",0,0,"",null,1,null,40008,"2009-07-14",0,0,0,null,0,null,0,null,0,"00:00:00",0]
["2009-07-15",19.456099999999999,null,null,null,null,null,null,null,0,0,null,"2009-07-15",0,0,"",null,1,null,40009,"2009-07-15",0,0,0,null,0,null,0,null,0,"00:00:00",0]
["2009-07-16",19.495000000000001,null,null,null,null,null,null,null,0,0,null,"2009-07-16",0,0,"",null,1,null,40010,"2009-07-16",0,0,0,null,0,null,0,null,0,"00:00:00",0]
["2009-07-17",19.988700000000001,null,null,null,null,null,null,null,0,0,null,"2009-07-17",0,0,"",null,1,null,40011,"2009-07-17",0,0,0,null,0,null,0,null,0,"00:00:00",0]
["2009-07-20",20.191400000000002,null,null,null,null,null,null,null,0,0,null,"2009-07-20",0,0,"",null,1,null,40014,"2009-07-20",0,0,0,null,0,null,0,null,0,"00:00:00",0]
["2009-07-21",20.047000000000001,null,null,null,null,null,null,null,0,0,null,"2009-07-21",0,0,"",null,1,null,40015,"2009-07-21",0,0,0,null,0,null,0,null,0,"00:00:00",0]
["2009-07-22",19.954000000000001,null,null,null,null,null,null,null,0,0,null,"2009-07-22",0,0,"",null,1,null,40016,"2009-07-22",0,0,0,null,0,null,0,null,0,"00:00:00",0]
["2009-07-23",20.36,null,null,null,null,null,null,null,0,0,null,"2009-07-23",0,0,"",null,1,null,40017,"2009-07-23",0,0,0,null,0,null,0,null,0,"00:00:00",0]
["2009-07-24",20.6721,null,null,null,null,null,null,null,0,0,null,"2009-07-24",0,0,"",null,1,null,40018,"2009-07-24",0,0,0,null,0,null,0,null,0,"00:00:00",0]
["2009-07-27",20.9786,null,null,null,null,null,null,null,0,0,null,"2009-07-27",0,0,"",null,1,null,40021,"2009-07-27",0,0,0,null,0,null,0,null,0,"00:00:00",0]
["2009-07-28",21.2346,null,null,null,null,null,null,null,0,0,null,"2009-07-28",0,0,"",null,1,null,40022,"2009-07-28",0,0,0,null,0,null,0,null,0,"00:00:00",0]
["2009-07-29",21.174800000000001,null,null,null,null,null,null,null,0,0,null,"2009-07-29",0,0,"",null,1,null,40023,"2009-07-29",0,0,0,null,0,null,0,null,0,"00:00:00",0]
["2009-07-30",21.288599999999999,null,null,null,null,null,null,null,0,0,null,"2009-07-30",0,0,"",null,1,null,40024,"2009-07-30",0,0,0,null,0,null,0,null,0,"00:00:00",0]
["2009-07-31",21.468,null,null,null,null,null,null,null,0,0,null,"2009-07-31",0,0,"",null,1,null,40025,"2009-07-31",0,0,0,null,0,null,0,null,0,"00:00:00",0]
["2009-08-03",21.831099999999999,null,null,null,null,null,null,null,0,0,null,"2009-08-03",0,0,"",null,1,null,40028,"2009-08-03",0,0,0,null,0,null,0,null,0,"00:00:00",0]
["2009-08-04",21.8018,null,null,null,null,null,null,null,0,0,null,"2009-08-04",0,0,"",null,1,null,40029,"2009-08-04",0,0,0,null,0,null,0,null,0,"00:00:00",0]
["2009-08-05",21.8812,null,null,null,null,null,null,null,0,0,null,"2009-08-05",0,0,"",null,1,null,40030,"2009-08-05",0,0,0,null,0,null,0,null,0,"00:00:00",0]
["2009-08-06",21.522200000000002,null,null,null,null,null,null,null,1,-1000,null,"2009-08-06",1,-1000,46.463651485442938,null,1,null,40031,"2009-08-06",-1000,40031,21.522200000000002,null,0,null,0,null,0,"00:00:00",0]
["2009-08-07",21.1081,null,null,null,null,null,null,null,0,0,null,"2009-08-07",0,0,"",null,1,null,40032,"2009-08-07",0,0,0,null,0,null,0,null,0,"00:00:00",0]
["2009-08-10",20.846,null,null,null,null,null,null,null,0,0,null,"2009-08-10",0,0,"",null,1,null,40035,"2009-08-10",0,0,0,null,0,null,0,null,0,"00:00:00",0]
["2009-08-11",20.9679,null,null,null,null,null,null,null,0,0,null,"2009-08-11",0,0,"",null,1,null,40036,"2009-08-11",0,0,0,null,0,null,0,null,0,"00:00:00",0]
["2009-08-12",21.052099999999999,null,null,null,null,null,null,null,0,0,null,"2009-08-12",0,0,"",null,1,null,40037,"2009-08-12",0,0,0,null,0,null,0,null,0,"00:00:00",0]
["2009-08-13",21.577100000000002,null,null,null,null,null,null,null,0,0,null,"2009-08-13",0,0,"",null,1,null,40038,"2009-08-13",0,0,0,null,0,null,0,null,0,"00:00:00",0]
["2009-08-14",21.526499999999999,null,null,null,null,null,null,null,0,0,null,"2009-08-14",0,0,"",null,1,null,40039,"2009-08-14",0,0,0,null,0,null,0,null,0,"00:00:00",0]
["2009-08-17",20.763400000000001,null,null,null,null,null,null,null,0,0,null,"2009-08-17",0,0,"",null,1,null,40042,"2009-08-17",0,0,0,null,0,null,0,null,0,"00:00:00",0]
["2009-08-18",21.0642,null,null,null,null,null,null,null,0,0,null,"2009-08-18",0,0,"",null,1,null,40043,"2009-08-18",0,0,0,null,0,null,0,null,0,"00:00:00",0]
["2009-08-19",20.9438,null,null,null,null,null,null,null,0,0,null,"2009-08-19",0,0,"",null,1,null,40044,"2009-08-19",0,0,0,null,0,null,0,null,0,"00:00:00",0]
["2009-08-20",21.0623,null,null,null,null,null,null,null,0,0,null,"2009-08-20",0,0,"",null,1,null,40045,"2009-08-20",0,0,0,null,0,null,0,null,0,"00:00:00",0]
["2009-08-21",21.2776,null,null,null,null,null,null,null,0,0,null,"2009-08-21",0,0,"",null,1,null,40046,"2009-08-21",0,0,0,null,0,null,0,null,0,"00:00:00",0]
["2009-08-24",21.609100000000002,null,null,null,null,null,null,null,0,0,null,"2009-08-24",0,0,"",null,1,null,40049,"2009-08-24",0,0,0,null,0,null,0,null,0,"00:00:00",0]
["2009-08-25",21.7163,null,null,null,null,null,null,null,0,0,null,"2009-08-25",0,0,"",null,1,null,40050,"2009-08-25",0,0,0,null,0,null,0,null,0,"00:00:00",0]
["2009-08-26",22.209199999999999,null,null,null,null,null,null,null,0,0,null,"2009-08-26",0,0,"",null,1,null,40051,"2009-08-26",0,0,0,null,0,null,0,null,0,"00:00:00",0]
["2009-08-27",22.324200000000001,null,null,null,null,null,null,null,0,0,null,"2009-08-27",0,0,"",null,1,null,40052,"2009-08-27",0,0,0,null,0,null,0,null,0,"00:00:00",0]
["2009-08-28",22.400300000000001,null,null,null,null,null,null,null,0,0,null,"2009-08-28",0,0,"",null,1,null,40053,"2009-08-28",0,0,0,null,0,null,0,null,0,"00:00:00",0]
["2009-08-31",22.572299999999998,null,null,null,null,null,null,null,0,0,null,"2009-08-31",0,0,"",null,1,null,40056,"2009-08-31",0,0,0,null,0,null,0,null,0,"00:00:00",0]
["2009-09-01",22.336500000000001,null,null,null,null,null,null,null,0,0,null,"2009-09-01",0,0,"",null,1,null,40057,"2009-09-01",0,0,0,null,0,null,0,null,0,"00:00:00",0]
["2009-09-02",22.124400000000001,null,null,null,null,null,null,null,0,0,null,"2009-09-02",0,0,"",null,1,null,40058,"2009-09-02",0,0,0,null,0,null,0,null,0,"00:00:00",0]
["2009-09-03",22.223400000000002,null,null,null,null,null,null,null,0,0,null,"2009-09-03",0,0,"",null,1,null,40059,"2009-09-03",0,0,0,null,0,null,0,null,0,"00:00:00",0]
["2009-09-04",22.2287,null,null,null,null,null,null,null,0,0,null,"2009-09-04",0,0,"",null,1,null,40060,"2009-09-04",0,0,0,null,{"$f":"IF(R960=0,IF(R959=1,M959,0),0)","v":0},null,0,null,0,"00:00:00",0]
["2009-09-07",22.6021,null,null,null,null,null,null,null,1,-1000,null,"2009-09-07",1,-1000,44.243676472540159,null,1,null,40063,"2009-09-07",-1000,40063,22.6021,null,0,null,0,null,0,"00:00:00",0]
["2009-09-08",22.454499999999999,null,null,null,null,null,null,null,0,0,null,"2009-09-08",0,0,"",null,1,null,40064,"2009-09-08",0,0,0,null,0,null,0,null,0,"00:00:00",0]
["2009-09-09",22.436,null,null,null,null,null,null,null,0,0,null,"2009-09-09",0,0,"",null,1,null,40065,"2009-09-09",0,0,0,null,0,null,0,null,0,"00:00:00",0]
["2009-09-10",22.402000000000001,null,null,null,null,null,null,null,0,0,null,"2009-09-10",0,0,"",null,1,null,40066,"2009-09-10",0,0,0,null,0,null,0,null,0,"00:00:00",0]
["2009-09-11",22.365500000000001,null,null,null,null,null,null,null,0,0,null,"2009-09-11",0,0,"",null,1,null,40067,"2009-09-11",0,0,0,null,0,null,0,null,0,"00:00:00",0]
["2009-09-14",22.353400000000001,null,null,null,null,null,null,null,0,0,null,"2009-09-14",0,0,"",null,1,null,40070,"2009-09-14",0,0,0,null,0,null,0,null,0,"00:00:00",0]
["2009-09-15",22.584099999999999,null,null,null,null,null,null,null,0,0,null,"2009-09-15",0,0,"",null,1,null,40071,"2009-09-15",0,0,0,null,0,null,0,null,0,"00:00:00",0]
["2009-09-16",22.7209,null,null,null,null,null,null,null,0,0,null,"2009-09-16",0,0,"",null,1,null,40072,"2009-09-16",0,0,0,null,0,null,0,null,0,"00:00:00",0]
["2009-09-17",22.938400000000001,null,null,null,null,null,null,null,0,0,null,"2009-09-17",0,0,"",null,1,null,40073,"2009-09-17",0,0,0,null,0,null,0,null,0,"00:00:00",0]
["2009-09-18",23.298300000000001,null,null,null,null,null,null,null,0,0,null,{"$f":"A969","v":"2009-09-18"},{"$f":"IF(IF(M969>=sipstart,1,0)+IF(M969<=sipend,1,0)=2,J969,0)","v":0},{"$f":"IF(IF(M969>=sipstart,1,0)+IF(M969<=sipend,1,0)=2,K969,0)","v":0},"",null,{"$f":"IF(IF(M969>=sipstart,1,0)+IF(M969<=sipend,1,0)=2,1,0)","v":1},null,{"$f":"IF((IF(M969>=sipstart,1,2)+IF(M969<=sipend,1,2))=2,M969,0)","v":40074},"2009-09-18",0,{"$f":"IF(V969=-sip,U969,0)","v":0},{"$f":"IF(V969=-sip,B969,0)","v":0},null,0,null,0,null,0,{"$f":"IF(AD969=1,A969,0)","v":"00:00:00"},{"$f":"IF(AD969=1,B969,0)","v":0}]
["2009-09-22",23.333200000000001,null,null,null,null,null,null,null,0,0,null,"2009-09-22",0,0,{"$f":"IF(O970=-sip,-O970/B970,\"\")","v":""},null,1,null,40078,{"$f":"IF((IF(M970>=sipstart,1,2)+IF(M970<=sipend,1,2))=2,M970,0)+IF(T969=actualsipend,actualsipend,0)","v":"2009-09-22"},{"$f":"IF(U970+U969=0,0,IF(U970=U969,sipunits*B969,O970))","v":0},0,0,null,0,null,0,null,0,"00:00:00",0]
["2009-09-23",23.112300000000001,null,null,null,null,null,null,null,0,0,null,"2009-09-23",0,0,"",null,1,null,40079,"2009-09-23",0,0,0,null,0,null,0,null,0,"00:00:00",0]
["2009-09-24",23.274000000000001,null,null,null,null,null,null,null,0,0,null,"2009-09-24",0,0,"",null,1,null,40080,"2009-09-24",0,0,0,null,0,null,0,null,0,"00:00:00",0]
["2009-09-25",23.473500000000001,null,null,null,null,null,null,null,0,{"$f":"IF(DAY(A973)=sipdate,-sip,IF(K972=-sip,0,IF(K971=-sip,0,IF(K970=-sip,0,IF(K969=-sip,0,IF(K968=-sip,0,IF(K967=-sip,0,IF(DAY(A973)=sipdate+1,-sip,IF(DAY(A973)=sipdate+2,-sip,IF(DAY(A973)=sipdate+3,-sip,IF(DAY(A973)=sipdate+4,-sip,IF(DAY(A973)=sipdate+5,-sip,IF(DAY(A973)=sipdate+6,-sip,IF(DAY(A973)=sipdate+7,-sip,0))))))))))))))","v":0},null,"2009-09-25",0,0,"",null,1,null,40081,"2009-09-25",0,0,0,null,0,null,{"$f":"IF(INT((MONTH(M973)-MONTH(sipstart))/3)-(MONTH(M973)-MONTH(sipstart))/3=0,IF(DAY(A973)=sipdate,1,IF(AB972=1,0,IF(AB971=1,0,IF(AB970=1,0,IF(AB969=1,0,IF(AB968=1,0,IF(AB967=1,0,IF(DAY(A973)=sipdate+1,1,IF(DAY(A973)=sipdate+2,1,IF(DAY(A973)=sipdate+3,1,IF(DAY(A973)=sipdate+4,1,IF(DAY(A973)=sipdate+5,1,IF(DAY(A973)=sipdate+6,1,IF(DAY(A973)=sipdate+7,1,0)))))))))))))),0)","v":0},null,{"$f":"IF(INT((MONTH(M973)-MONTH(sipstart))/12)-(MONTH(M973)-MONTH(sipstart))/12=0,IF(DAY(A973)=sipdate,1,IF(AB972=1,0,IF(AB971=1,0,IF(AB970=1,0,IF(AB969=1,0,IF(AB968=1,0,IF(AB967=1,0,IF(DAY(A973)=sipdate+1,1,IF(DAY(A973)=sipdate+2,1,IF(DAY(A973)=sipdate+3,1,IF(DAY(A973)=sipdate+4,1,IF(DAY(A973)=sipdate+5,1,IF(DAY(A973)=sipdate+6,1,IF(DAY(A973)=sipdate+7,1,0)))))))))))))),0)","v":0},"00:00:00",0]
["2009-09-29",23.668900000000001,null,null,null,null,null,null,null,0,0,null,"2009-09-29",0,0,"",null,1,null,40085,"2009-09-29",0,0,0,null,0,null,0,null,0,"00:00:00",0]
["2009-09-30",23.836300000000001,null,null,null,null,null,null,null,0,0,null,"2009-09-30",0,0,"",null,1,null,40086,"2009-09-30",0,0,0,null,0,null,0,null,0,"00:00:00",0]
["2009-10-01",23.6965,null,null,null,null,null,null,null,0,0,null,"2009-10-01",0,0,"",null,1,null,40087,"2009-10-01",0,0,0,null,0,null,0,null,0,"00:00:00",0]
["2009-10-05",23.3187,null,null,null,null,null,null,null,0,0,null,"2009-10-05",0,0,"",null,1,null,40091,"2009-10-05",0,0,0,null,0,null,0,null,0,"00:00:00",0]
["2009-10-06",23.241700000000002,null,null,null,null,null,null,null,1,-1000,null,"2009-10-06",1,-1000,43.026112547705196,null,1,null,40092,"2009-10-06",-1000,40092,23.241700000000002,null,0,null,1,null,1,"2009-10-06",23.241700000000002]
["2009-10-07",23.558700000000002,null,null,null,null,null,null,null,0,0,null,"2009-10-07",0,0,"",null,1,null,40093,"2009-10-07",0,0,0,null,0,null,0,null,0,"00:00:00",0]
["2009-10-08",23.631799999999998,null,null,null,null,null,null,null,0,0,null,"2009-10-08",0,0,"",null,1,null,40094,"2009-10-08",0,0,0,null,0,null,0,null,0,"00:00:00",0]
["2009-10-09",23.606300000000001,null,null,null,null,null,null,null,0,0,null,"2009-10-09",0,0,"",null,1,null,40095,"2009-10-09",0,0,0,null,0,null,0,null,0,"00:00:00",0]
["2009-10-12",23.7822,null,null,null,null,null,null,null,0,0,null,"2009-10-12",0,0,"",null,1,null,40098,"2009-10-12",0,0,0,null,0,null,0,null,0,"00:00:00",0]
["2009-10-14",24.098600000000001,null,null,null,null,null,null,null,0,0,null,"2009-10-14",0,0,"",null,1,null,40100,"2009-10-14",0,0,0,null,0,null,0,null,0,"00:00:00",0]
["2009-10-15",24.308800000000002,null,null,null,null,null,null,null,0,0,null,"2009-10-15",0,0,"",null,1,null,40101,"2009-10-15",0,0,0,null,0,null,0,null,0,"00:00:00",0]
["2009-10-16",24.450800000000001,null,null,null,null,null,null,null,{"$f":"IF(DAY(A985)=sipdate,1,IF(J984=1,0,IF(J983=1,0,IF(J982=1,0,IF(J981=1,0,IF(J980=1,0,IF(J979=1,0,IF(DAY(A985)=sipdate+1,1,IF(DAY(A985)=sipdate+2,1,IF(DAY(A985)=sipdate+3,1,IF(DAY(A985)=sipdate+4,1,IF(DAY(A985)=sipdate+5,1,IF(DAY(A985)=sipdate+6,1,IF(DAY(A985)=sipdate+7,1,0))))))))))))))","v":0},0,null,"2009-10-16",0,0,"",null,1,null,40102,"2009-10-16",0,0,0,null,0,null,0,null,0,"00:00:00",0]
["2009-10-20",24.6233,null,null,null,null,null,null,null,0,0,null,"2009-10-20",0,0,"",null,1,null,40106,"2009-10-20",0,0,0,null,0,null,0,null,0,"00:00:00",0]
["2009-10-21",24.465900000000001,null,null,null,null,null,null,null,0,0,null,"2009-10-21",0,0,"",null,1,null,40107,"2009-10-21",0,0,0,null,0,null,0,null,0,"00:00:00",0]
["2009-10-22",23.9818,null,null,null,null,null,null,null,0,0,null,"2009-10-22",0,0,"",null,1,null,40108,"2009-10-22",0,0,0,null,0,null,0,null,0,"00:00:00",0]
["2009-10-23",24.359000000000002,null,null,null,null,null,null,null,0,0,null,"2009-10-23",0,0,"",null,1,null,40109,"2009-10-23",0,0,0,null,0,null,0,null,0,"00:00:00",0]
["2009-10-26",24.1312,null,null,null,null,null,null,null,0,0,null,"2009-10-26",0,0,"",null,1,null,40112,"2009-10-26",0,0,0,null,0,null,0,null,0,"00:00:00",0]
["2009-10-27",23.555299999999999,null,null,null,null,null,null,null,0,0,null,"2009-10-27",0,0,"",null,1,null,40113,"2009-10-27",0,0,0,null,0,null,0,null,0,"00:00:00",0]
["2009-10-28",23.6404,null,null,null,null,null,null,null,0,0,null,"2009-10-28",0,0,"",null,1,null,40114,"2009-10-28",0,0,0,null,0,null,0,null,0,"00:00:00",0]
["2009-10-29",23.317599999999999,null,null,null,null,null,null,null,0,0,null,"2009-10-29",0,0,"",null,1,null,40115,"2009-10-29",0,0,0,null,0,null,0,null,0,"00:00:00",0]
["2009-10-30",23.173200000000001,null,null,null,null,null,null,null,0,0,null,"2009-10-30",0,0,"",null,1,null,40116,"2009-10-30",0,0,0,null,0,null,0,null,0,"00:00:00",0]
["2009-11-03",22.5624,null,null,null,null,null,null,null,0,0,null,"2009-11-03",0,0,"",null,1,null,40120,"2009-11-03",0,0,0,null,0,null,0,null,0,"00:00:00",0]
["2009-11-04",23.188800000000001,null,null,null,null,null,null,null,0,0,null,"2009-11-04",0,0,"",null,1,null,40121,"2009-11-04",0,0,0,null,0,null,0,null,0,"00:00:00",0]
["2009-11-05",23.657599999999999,null,null,null,null,null,null,null,0,0,null,"2009-11-05",0,0,"",null,1,null,40122,"2009-11-05",0,0,0,null,0,null,0,null,0,"00:00:00",0]
["2009-11-06",23.981200000000001,null,null,null,null,null,null,null,1,-1000,null,"2009-11-06",1,-1000,41.699331142728468,null,1,null,40123,"2009-11-06",-1000,40123,23.981200000000001,null,0,null,0,null,0,"00:00:00",0]
["2009-11-09",24.281500000000001,null,null,null,null,null,null,null,0,0,null,"2009-11-09",0,0,"",null,1,null,40126,"2009-11-09",0,0,0,null,0,null,0,null,0,"00:00:00",0]
["2009-11-10",24.284199999999998,null,null,null,null,null,null,null,0,0,null,"2009-11-10",0,0,"",null,1,null,40127,"2009-11-10",0,0,0,null,0,null,0,null,0,"00:00:00",0]
["2009-11-11",24.703700000000001,null,null,null,null,null,null,null,0,0,null,"2009-11-11",0,0,"",null,1,null,40128,"2009-11-11",0,0,0,null,0,null,0,null,0,"00:00:00",0]
["2009-11-18",25.250800000000002,null,null,null,null,null,null,null,0,0,null,"2009-11-18",0,0,"",null,1,null,40135,"2009-11-18",0,0,0,null,0,null,0,null,0,"00:00:00",0]
["2009-11-23",25.1693,null,null,null,null,null,null,null,0,0,null,"2009-11-23",0,0,"",null,1,null,40140,"2009-11-23",0,0,0,null,0,null,0,null,0,"00:00:00",0]
["2009-11-25",25.060099999999998,null,null,null,null,null,null,null,0,0,null,"2009-11-25",0,0,"",null,1,null,40142,"2009-11-25",0,0,0,null,0,null,0,null,0,"00:00:00",0]
["2009-12-03",25.678000000000001,null,null,null,null,null,null,null,0,0,null,"2009-12-03",0,0,"",null,1,null,40150,"2009-12-03",0,0,0,null,0,null,0,null,0,"00:00:00",0]
["2009-12-08",25.827300000000001,null,null,null,null,null,null,null,0,0,null,"2009-12-08",0,0,"",null,1,null,40155,"2009-12-08",0,0,0,null,0,null,0,null,0,"00:00:00",0]
["2009-12-15",25.397300000000001,null,null,null,null,null,null,null,0,0,null,"2009-12-15",0,0,"",null,1,null,40162,"2009-12-15",0,0,0,null,0,null,0,null,0,"00:00:00",0]
["2009-12-16",25.4587,null,null,null,null,null,null,null,0,0,null,"2009-12-16",0,0,"",null,1,null,40163,"2009-12-16",0,0,0,null,0,null,0,null,0,"00:00:00",0]
["2009-12-22",25.4054,null,null,null,null,null,null,null,0,0,null,"2009-12-22",0,0,"",null,1,null,40169,"2009-12-22",0,0,0,null,0,null,0,null,0,"00:00:00",0]
["2009-12-30",26.1083,null,null,null,null,null,null,null,0,0,null,"2009-12-30",0,0,{"$f":"IF(O1034=-sip,-O1034/B1034,\"\")","v":""},null,1,null,40177,{"$f":"IF((IF(M1034>=sipstart,1,2)+IF(M1034<=sipend,1,2))=2,M1034,0)+IF(T1033=actualsipend,actualsipend,0)","v":"2009-12-30"},{"$f":"IF(U1034+U1033=0,0,IF(U1034=U1033,sipunits*B1033,O1034))","v":0},0,0,null,0,null,0,null,0,"00:00:00",0]
["2010-01-07",27.349599999999999,null,null,null,null,null,null,null,0,0,null,"2010-01-07",0,0,"",null,1,null,40185,"2010-01-07",0,0,0,null,0,null,0,null,0,"00:00:00",0]
["2010-01-12",27.577100000000002,null,null,null,null,null,null,null,0,0,null,"2010-01-12",0,0,"",null,1,null,40190,"2010-01-12",0,0,0,null,0,null,0,null,0,"00:00:00",0]
["2010-01-14",28.049199999999999,null,null,null,null,null,null,null,0,0,null,"2010-01-14",0,0,"",null,1,null,40192,"2010-01-14",0,0,0,null,0,null,0,null,0,"00:00:00",0]
["2010-01-21",27.157699999999998,null,null,null,null,null,null,null,{"$f":"IF(DAY(A1049)=sipdate,1,IF(J1048=1,0,IF(J1047=1,0,IF(J1046=1,0,IF(J1045=1,0,IF(J1044=1,0,IF(J1043=1,0,IF(DAY(A1049)=sipdate+1,1,IF(DAY(A1049)=sipdate+2,1,IF(DAY(A1049)=sipdate+3,1,IF(DAY(A1049)=sipdate+4,1,IF(DAY(A1049)=sipdate+5,1,IF(DAY(A1049)=sipdate+6,1,IF(DAY(A1049)=sipdate+7,1,0))))))))))))))","v":0},0,null,"2010-01-21",0,0,"",null,1,null,40199,"2010-01-21",0,0,0,null,0,null,0,null,0,"00:00:00",0]
["2010-01-25",26.910799999999998,null,null,null,null,null,null,null,0,0,null,"2010-01-25",0,0,"",null,1,null,40203,"2010-01-25",0,0,0,null,0,null,0,null,0,"00:00:00",0]
["2010-01-29",26.3901,null,null,null,null,null,null,null,0,0,null,"2010-01-29",0,0,"",null,1,null,40207,"2010-01-29",0,0,0,null,0,null,0,null,0,"00:00:00",0]
["2010-02-05",25.902200000000001,null,null,null,null,null,null,null,0,0,null,"2010-02-05",0,0,"",null,1,null,40214,"2010-02-05",0,0,0,null,0,null,0,null,0,"00:00:00",0]
["2010-02-11",26.4956,null,null,null,null,null,null,null,0,0,null,"2010-02-11",0,0,"",null,1,null,40220,"2010-02-11",0,0,0,null,0,null,0,null,0,"00:00:00",0]
["2010-02-19",26.2606,null,null,null,null,null,null,null,0,0,null,"2010-02-19",0,0,"",null,1,null,40228,"2010-02-19",0,0,0,null,0,null,0,null,0,"00:00:00",0]
["2010-02-24",25.923200000000001,null,null,null,null,null,null,null,0,0,null,"2010-02-24",0,0,"",null,1,null,40233,"2010-02-24",0,0,0,null,0,null,0,null,0,"00:00:00",0]
["2010-02-26",26.1493,null,null,null,null,null,null,null,0,0,null,"2010-02-26",0,0,"",null,1,null,40235,"2010-02-26",0,0,0,null,0,null,0,null,0,"00:00:00",0]
["2010-03-04",27.102499999999999,null,null,null,null,null,null,null,0,0,null,"2010-03-04",0,0,"",null,1,null,40241,"2010-03-04",0,0,0,null,0,null,0,null,0,"00:00:00",0]
["2010-03-12",27.352799999999998,null,null,null,null,null,null,null,0,0,null,"2010-03-12",0,0,"",null,1,null,40249,"2010-03-12",0,0,0,null,0,null,0,null,0,"00:00:00",0]
["2010-03-15",27.186399999999999,null,null,null,null,null,null,null,0,0,null,"2010-03-15",0,0,"",null,1,null,40252,"2010-03-15",0,0,0,null,0,null,0,null,0,"00:00:00",0]
["2010-03-19",27.603000000000002,null,null,null,null,null,null,null,0,0,null,"2010-03-19",0,0,"",null,1,null,40256,"2010-03-19",0,0,0,null,{"$f":"IF(R1088=0,IF(R1087=1,M1087,0),0)","v":0},null,0,null,0,"00:00:00",0]
["2010-03-29",27.571100000000001,null,null,null,null,null,null,null,0,0,null,"2010-03-29",0,0,"",null,1,null,40266,"2010-03-29",0,0,0,null,0,null,0,null,0,"00:00:00",0]
["2010-04-01",27.721499999999999,null,null,null,null,null,null,null,0,0,null,"2010-04-01",0,0,"",null,1,null,40269,"2010-04-01",0,0,0,null,0,null,0,null,0,"00:00:00",0]
["2010-04-06",28.4114,null,null,null,null,null,null,null,1,-1000,null,{"$f":"A1097","v":"2010-04-06"},{"$f":"IF(IF(M1097>=sipstart,1,0)+IF(M1097<=sipend,1,0)=2,J1097,0)","v":1},{"$f":"IF(IF(M1097>=sipstart,1,0)+IF(M1097<=sipend,1,0)=2,K1097,0)","v":-1000},35.197139176527735,null,{"$f":"IF(IF(M1097>=sipstart,1,0)+IF(M1097<=sipend,1,0)=2,1,0)","v":1},null,{"$f":"IF((IF(M1097>=sipstart,1,2)+IF(M1097<=sipend,1,2))=2,M1097,0)","v":40274},"2010-04-06",-1000,{"$f":"IF(V1097=-sip,U1097,0)","v":40274},{"$f":"IF(V1097=-sip,B1097,0)","v":28.4114},null,0,null,1,null,0,{"$f":"IF(AD1097=1,A1097,0)","v":"00:00:00"},{"$f":"IF(AD1097=1,B1097,0)","v":0}]
["2010-04-15",28.895700000000001,null,null,null,null,null,null,null,0,0,null,"2010-04-15",0,0,"",null,1,null,40283,"2010-04-15",0,0,0,null,0,null,0,null,0,"00:00:00",0]
["2010-04-20",28.905200000000001,null,null,null,null,null,null,null,0,0,null,"2010-04-20",0,0,"",null,1,null,40288,"2010-04-20",0,0,0,null,0,null,0,null,0,"00:00:00",0]
["2010-04-27",29.1677,null,null,null,null,null,null,null,0,0,null,"2010-04-27",0,0,"",null,1,null,40295,"2010-04-27",0,0,0,null,0,null,0,null,0,"00:00:00",0]
["2010-04-28",28.8108,null,null,null,null,null,null,null,0,0,null,"2010-04-28",0,0,"",null,1,null,40296,"2010-04-28",0,0,0,null,0,null,0,null,0,"00:00:00",0]
["2010-05-04",28.7818,null,null,null,null,null,null,null,0,0,null,"2010-05-04",0,0,"",null,1,null,40302,"2010-05-04",0,0,0,null,0,null,0,null,0,"00:00:00",0]
["2010-05-10",28.4648,null,null,null,null,null,null,null,0,0,null,"2010-05-10",0,0,"",null,1,null,40308,"2010-05-10",0,0,0,null,0,null,0,null,0,"00:00:00",0]
["2010-05-17",28.3916,null,null,null,null,null,null,null,0,0,null,"2010-05-17",0,0,"",null,1,null,40315,"2010-05-17",0,0,0,null,0,null,0,null,0,"00:00:00",0]
["2010-05-20",27.703800000000001,null,null,null,null,null,null,null,0,0,null,"2010-05-20",0,0,"",null,1,null,40318,"2010-05-20",0,0,0,null,0,null,0,null,0,"00:00:00",0]
["2010-05-24",27.551600000000001,null,null,null,null,null,null,null,0,0,null,"2010-05-24",0,0,"",null,1,null,40322,"2010-05-24",0,0,0,null,0,null,0,null,0,"00:00:00",0]
["2010-05-31",27.859500000000001,null,null,null,null,null,null,null,0,0,null,"2010-05-31",0,0,"",null,1,null,40329,"2010-05-31",0,0,0,null,0,null,0,null,0,"00:00:00",0]
["2010-06-02",27.930800000000001,null,null,null,null,null,null,null,0,0,null,"2010-06-02",0,0,"",null,1,null,40331,"2010-06-02",0,0,0,null,0,null,0,null,0,"00:00:00",0]
["2010-06-07",27.8536,null,null,null,null,null,null,null,1,-1000,null,"2010-06-07",1,-1000,35.902001895625702,null,1,null,40336,"2010-06-07",-1000,40336,27.8536,null,0,null,0,null,0,"00:00:00",0]
["2010-06-14",28.715599999999998,null,null,null,null,null,null,null,0,0,null,"2010-06-14",0,0,"",null,1,null,40343,"2010-06-14",0,0,0,null,0,null,0,null,0,"00:00:00",0]
["2010-06-18",29.262599999999999,null,null,null,null,null,null,null,0,0,null,"2010-06-18",0,0,"",null,1,null,40347,"2010-06-18",0,0,0,null,0,null,0,null,0,"00:00:00",0]
["2010-06-24",29.915500000000002,null,null,null,null,null,null,null,0,0,null,"2010-06-24",0,0,"",null,1,null,40353,"2010-06-24",0,0,0,null,0,null,0,null,0,"00:00:00",0]
["2010-06-25",29.6342,null,null,null,null,null,null,null,0,0,null,"2010-06-25",0,0,"",null,1,null,40354,"2010-06-25",0,0,0,null,0,null,0,null,0,"00:00:00",0]
["2010-07-02",29.7681,null,null,null,null,null,null,null,0,0,null,"2010-07-02",0,0,"",null,1,null,40361,"2010-07-02",0,0,0,null,0,null,0,null,0,"00:00:00",0]
["2010-07-07",29.970500000000001,null,null,null,null,null,null,null,0,0,null,"2010-07-07",0,0,{"$f":"IF(O1162=-sip,-O1162/B1162,\"\")","v":""},null,1,null,40366,{"$f":"IF((IF(M1162>=sipstart,1,2)+IF(M1162<=sipend,1,2))=2,M1162,0)+IF(T1161=actualsipend,actualsipend,0)","v":"2010-07-07"},{"$f":"IF(U1162+U1161=0,0,IF(U1162=U1161,sipunits*B1161,O1162))","v":0},0,0,null,0,null,0,null,0,"00:00:00",0]
["2010-07-15",30.679400000000001,null,null,null,null,null,null,null,0,0,null,"2010-07-15",0,0,"",null,1,null,40374,"2010-07-15",0,0,0,null,0,null,0,null,0,"00:00:00",0]
["2010-07-16",30.917000000000002,null,null,null,null,null,null,null,0,0,null,"2010-07-16",0,0,"",null,1,null,40375,"2010-07-16",0,0,0,null,0,null,0,null,0,"00:00:00",0]
["2010-07-22",31.224599999999999,null,null,null,null,null,null,null,0,0,null,"2010-07-22",0,0,"",null,1,null,40381,"2010-07-22",0,0,0,null,0,null,0,null,0,"00:00:00",0]
["2010-07-29",31.8231,null,null,null,null,null,null,null,0,0,null,"2010-07-29",0,0,"",null,1,null,40388,"2010-07-29",0,0,0,null,0,null,0,null,0,"00:00:00",0]
["2010-08-04",32.6646,null,null,null,null,null,null,null,0,0,null,"2010-08-04",0,0,"",null,1,null,40394,"2010-08-04",0,0,0,null,0,null,0,null,0,"00:00:00",0]
["2010-08-05",32.7102,null,null,null,null,null,null,null,0,0,null,"2010-08-05",0,0,"",null,1,null,40395,"2010-08-05",0,0,0,null,0,null,0,null,0,"00:00:00",0]
["2010-08-13",33.224800000000002,null,null,null,null,null,null,null,0,0,null,"2010-08-13",0,0,"",null,1,null,40403,"2010-08-13",0,0,0,null,0,null,0,null,0,"00:00:00",0]
["2010-08-18",33.287599999999998,null,null,null,null,null,null,null,0,0,null,"2010-08-18",0,0,"",null,1,null,40408,"2010-08-18",0,0,0,null,0,null,0,null,0,"00:00:00",0]
["2010-08-20",33.869199999999999,null,null,null,null,null,null,null,0,0,null,"2010-08-20",0,0,"",null,1,null,40410,"2010-08-20",0,0,0,null,0,null,0,null,0,"00:00:00",0]
["2010-08-25",33.571899999999999,null,null,null,null,null,null,null,0,0,null,"2010-08-25",0,0,"",null,1,null,40415,"2010-08-25",0,0,0,null,0,null,0,null,0,"00:00:00",0]
["2010-09-01",33.845300000000002,null,null,null,null,null,null,null,0,0,null,"2010-09-01",0,0,"",null,1,null,40422,"2010-09-01",0,0,0,null,0,null,0,null,0,"00:00:00",0]
["2010-09-07",34.723799999999997,null,null,null,null,null,null,null,0,0,null,"2010-09-07",0,0,"",null,1,null,40428,"2010-09-07",0,0,0,null,0,null,0,null,0,"00:00:00",0]
["2010-09-15",35.227499999999999,null,null,null,null,null,null,null,0,0,null,"2010-09-15",0,0,"",null,1,null,40436,"2010-09-15",0,0,0,null,0,null,0,null,0,"00:00:00",0]
["2010-09-20",35.489400000000003,null,null,null,null,null,null,null,0,0,null,"2010-09-20",0,0,"",null,1,null,40441,"2010-09-20",0,0,0,null,0,null,0,null,0,"00:00:00",0]
["2010-09-22",35.035499999999999,null,null,null,null,null,null,null,0,0,null,"2010-09-22",0,0,"",null,1,null,40443,"2010-09-22",0,0,0,null,0,null,0,null,0,"00:00:00",0]
["2010-09-29",34.983600000000003,null,null,null,null,null,null,null,0,0,null,"2010-09-29",0,0,"",null,1,null,40450,"2010-09-29",0,0,0,null,0,null,0,null,0,"00:00:00",0]
["2010-10-01",35.373199999999997,null,null,null,null,null,null,null,0,0,null,"2010-10-01",0,0,"",null,1,null,40452,"2010-10-01",0,0,0,null,0,null,0,null,0,"00:00:00",0]
["2010-10-06",35.8752,null,null,null,null,null,null,null,1,-1000,null,"2010-10-06",1,-1000,{"$f":"IF(O1226=-sip,-O1226/B1226,\"\")","v":27.874409062527874},null,1,null,40457,{"$f":"IF((IF(M1226>=sipstart,1,2)+IF(M1226<=sipend,1,2))=2,M1226,0)+IF(T1225=actualsipend,actualsipend,0)","v":"2010-10-06"},{"$f":"IF(U1226+U1225=0,0,IF(U1226=U1225,sipunits*B1225,O1226))","v":-1000},40457,35.8752,null,0,null,1,null,1,"2010-10-06",35.8752]
["2010-10-13",35.903300000000002,null,null,null,null,null,null,null,0,0,null,"2010-10-13",0,0,"",null,1,null,40464,"2010-10-13",0,0,0,null,0,null,0,null,0,"00:00:00",0]
["2010-10-19",35.566299999999998,null,null,null,null,null,null,null,0,0,null,"2010-10-19",0,0,"",null,1,null,40470,"2010-10-19",0,0,0,null,0,null,0,null,0,"00:00:00",0]
["2010-10-25",36.1355,null,null,null,null,null,null,null,0,0,null,"2010-10-25",0,0,"",null,1,null,40476,"2010-10-25",0,0,0,null,0,null,0,null,0,"00:00:00",0]
["2010-10-26",35.843200000000003,null,null,null,null,null,null,null,0,0,null,"2010-10-26",0,0,"",null,1,null,40477,"2010-10-26",0,0,0,null,0,null,0,null,0,"00:00:00",0]
["2010-11-02",35.7102,null,null,null,null,null,null,null,0,0,null,"2010-11-02",0,0,"",null,1,null,40484,"2010-11-02",0,0,0,null,0,null,0,null,0,"00:00:00",0]
["2010-11-08",36.420499999999997,null,null,null,null,null,null,null,1,-1000,null,"2010-11-08",1,-1000,27.457064016144756,null,1,null,40490,"2010-11-08",-1000,40490,36.420499999999997,null,0,null,0,null,0,"00:00:00",0]
["2010-11-18",35.451700000000002,null,null,null,null,null,null,null,0,0,null,"2010-11-18",0,0,"",null,1,null,40500,"2010-11-18",0,0,0,null,0,null,0,null,0,"00:00:00",0]
["2010-11-22",35.239199999999997,null,null,null,null,null,null,null,0,0,null,"2010-11-22",0,0,"",null,1,null,40504,"2010-11-22",0,0,0,null,0,null,0,null,0,"00:00:00",0]
["2010-11-25",33.9923,null,null,null,null,null,null,null,0,0,null,"2010-11-25",0,0,"",null,1,null,40507,"2010-11-25",0,0,0,null,0,null,0,null,0,"00:00:00",0]
["2010-12-01",34.899099999999997,null,null,null,null,null,null,null,0,0,null,"2010-12-01",0,0,"",null,1,null,40513,"2010-12-01",0,0,0,null,0,null,0,null,0,"00:00:00",0]
["2010-12-08",33.411499999999997,null,null,null,null,null,null,null,0,0,null,"2010-12-08",0,0,"",null,1,null,40520,"2010-12-08",0,0,0,null,0,null,0,null,0,"00:00:00",0]
["2010-12-09",32.112400000000001,null,null,null,null,null,null,null,0,0,null,"2010-12-09",0,0,"",null,1,null,40521,"2010-12-09",0,0,0,null,0,null,0,null,0,"00:00:00",0]
["2010-12-15",33.625700000000002,null,null,null,null,null,null,null,0,0,null,"2010-12-15",0,0,"",null,1,null,40527,"2010-12-15",0,0,0,null,0,null,0,null,0,"00:00:00",0]
["2010-12-23",34.0062,null,null,null,null,null,null,null,0,0,null,"2010-12-23",0,0,"",null,1,null,40535,"2010-12-23",0,0,0,null,0,null,0,null,0,"00:00:00",0]
["2010-12-27",33.967300000000002,null,null,null,null,null,null,null,0,0,null,"2010-12-27",0,0,"",null,1,null,40539,"2010-12-27",0,0,0,null,0,null,0,null,0,"00:00:00",0]
["2010-12-30",34.476599999999998,null,null,null,null,null,null,null,0,0,null,"2010-12-30",0,0,"",null,1,null,40542,"2010-12-30",0,0,0,null,0,null,0,null,0,"00:00:00",0]
["2011-01-06",34.234699999999997,null,null,null,null,null,null,null,1,-1000,null,"2011-01-06",1,-1000,29.210128904298859,null,1,null,40549,"2011-01-06",-1000,40549,34.234699999999997,null,0,null,1,null,0,"00:00:00",0]
["2011-01-12",32.784399999999998,null,null,null,null,null,null,null,0,0,null,"2011-01-12",0,0,"",null,1,null,40555,"2011-01-12",0,0,0,null,0,null,0,null,0,"00:00:00",0]
["2011-01-19",31.9587,null,null,null,null,null,null,null,0,0,null,"2011-01-19",0,0,"",null,1,null,40562,"2011-01-19",0,0,0,null,0,null,0,null,0,"00:00:00",0]
["2011-01-24",31.8245,null,null,null,null,null,null,null,0,0,null,"2011-01-24",0,0,"",null,1,null,40567,"2011-01-24",0,0,0,null,0,null,0,null,0,"00:00:00",0]
["2011-01-27",31.589300000000001,null,null,null,null,null,null,null,0,0,null,"2011-01-27",0,0,"",null,1,null,40570,"2011-01-27",0,0,0,null,0,null,0,null,0,"00:00:00",0]
["2011-02-01",30.1006,null,null,null,null,null,null,null,{"$f":"IF(DAY(A1305)=sipdate,1,IF(J1304=1,0,IF(J1303=1,0,IF(J1302=1,0,IF(J1301=1,0,IF(J1300=1,0,IF(J1299=1,0,IF(DAY(A1305)=sipdate+1,1,IF(DAY(A1305)=sipdate+2,1,IF(DAY(A1305)=sipdate+3,1,IF(DAY(A1305)=sipdate+4,1,IF(DAY(A1305)=sipdate+5,1,IF(DAY(A1305)=sipdate+6,1,IF(DAY(A1305)=sipdate+7,1,0))))))))))))))","v":0},0,null,"2011-02-01",0,0,"",null,1,null,40575,"2011-02-01",0,0,0,null,0,null,0,null,0,"00:00:00",0]
["2011-02-10",28.352599999999999,null,null,null,null,null,null,null,0,0,null,"2011-02-10",0,0,"",null,1,null,40584,"2011-02-10",0,0,0,null,0,null,0,null,0,"00:00:00",0]
["2011-02-11",29.2194,null,null,null,null,null,null,null,0,0,null,"2011-02-11",0,0,"",null,1,null,40585,"2011-02-11",0,0,0,null,0,null,0,null,0,"00:00:00",0]
["2011-02-22",30.166599999999999,null,null,null,null,null,null,null,0,0,null,"2011-02-22",0,0,"",null,1,null,40596,"2011-02-22",0,0,0,null,0,null,0,null,0,"00:00:00",0]
["2011-02-28",29.4239,null,null,null,null,null,null,null,0,0,null,"2011-02-28",0,0,"",null,1,null,40602,"2011-02-28",0,0,0,null,0,null,0,null,0,"00:00:00",0]
["2011-03-08",30.050799999999999,null,null,null,null,null,null,null,0,0,null,"2011-03-08",0,0,"",null,1,null,40610,"2011-03-08",0,0,0,null,0,null,0,null,0,"00:00:00",0]
["2011-03-09",30.258900000000001,null,null,null,null,null,null,null,0,0,null,"2011-03-09",0,0,"",null,1,null,40611,"2011-03-09",0,0,0,null,0,null,0,null,0,"00:00:00",0]
["2011-03-22",30.049299999999999,null,null,null,null,null,null,null,0,0,null,"2011-03-22",0,0,"",null,1,null,40624,"2011-03-22",0,0,0,null,0,null,0,null,0,"00:00:00",0]
["2011-03-25",30.646000000000001,null,null,null,null,null,null,null,0,0,null,"2011-03-25",0,0,"",null,1,null,40627,"2011-03-25",0,0,0,null,0,null,0,null,0,"00:00:00",0]
["2011-04-06",32.618000000000002,null,null,null,null,null,null,null,1,-1000,null,"2011-04-06",1,-1000,30.65791894046232,null,1,null,40639,"2011-04-06",-1000,40639,32.618000000000002,null,0,null,1,null,0,"00:00:00",0]
["2011-04-08",32.787300000000002,null,null,null,null,null,null,null,0,0,null,"2011-04-08",0,0,"",null,1,null,40641,"2011-04-08",0,0,0,null,0,null,0,null,0,"00:00:00",0]
["2011-04-15",32.959000000000003,null,null,null,null,null,null,null,0,0,null,"2011-04-15",0,0,"",null,1,null,40648,"2011-04-15",0,0,0,null,0,null,0,null,0,"00:00:00",0]
["2011-04-25",32.901899999999998,null,null,null,null,null,null,null,0,0,null,"2011-04-25",0,0,"",null,1,null,40658,"2011-04-25",0,0,0,null,0,null,0,null,0,"00:00:00",0]
["2011-04-29",32.577599999999997,null,null,null,null,null,null,null,0,0,null,"2011-04-29",0,0,{"$f":"IF(O1354=-sip,-O1354/B1354,\"\")","v":""},null,1,null,40662,{"$f":"IF((IF(M1354>=sipstart,1,2)+IF(M1354<=sipend,1,2))=2,M1354,0)+IF(T1353=actualsipend,actualsipend,0)","v":"2011-04-29"},{"$f":"IF(U1354+U1353=0,0,IF(U1354=U1353,sipunits*B1353,O1354))","v":0},0,0,null,0,null,0,null,0,"00:00:00",0]
["2011-05-02",32.286299999999997,null,null,null,null,null,null,null,0,0,null,"2011-05-02",0,0,"",null,1,null,40665,"2011-05-02",0,0,0,null,0,null,0,null,0,"00:00:00",0]
["2011-05-06",31.643899999999999,null,null,null,null,null,null,null,1,-1000,null,"2011-05-06",1,-1000,31.601667303966959,null,1,null,40669,"2011-05-06",-1000,40669,31.643899999999999,null,0,null,0,null,0,"00:00:00",0]
["2011-05-13",31.727900000000002,null,null,null,null,null,null,null,0,0,null,"2011-05-13",0,0,"",null,1,null,40676,"2011-05-13",0,0,0,null,0,null,0,null,0,"00:00:00",0]
["2011-05-17",31.540199999999999,null,null,null,null,null,null,null,0,0,null,"2011-05-17",0,0,"",null,1,null,40680,"2011-05-17",0,0,0,null,0,null,0,null,0,"00:00:00",0]
["2011-05-23",31.498699999999999,null,null,null,null,null,null,null,{"$f":"IF(DAY(A1369)=sipdate,1,IF(J1368=1,0,IF(J1367=1,0,IF(J1366=1,0,IF(J1365=1,0,IF(J1364=1,0,IF(J1363=1,0,IF(DAY(A1369)=sipdate+1,1,IF(DAY(A1369)=sipdate+2,1,IF(DAY(A1369)=sipdate+3,1,IF(DAY(A1369)=sipdate+4,1,IF(DAY(A1369)=sipdate+5,1,IF(DAY(A1369)=sipdate+6,1,IF(DAY(A1369)=sipdate+7,1,0))))))))))))))","v":0},0,null,"2011-05-23",0,0,"",null,1,null,40686,"2011-05-23",0,0,0,null,0,null,0,null,0,"00:00:00",0]
["2011-05-30",31.8262,null,null,null,null,null,null,null,0,0,null,"2011-05-30",0,0,"",null,1,null,40693,"2011-05-30",0,0,0,null,0,null,0,null,0,"00:00:00",0]
["2011-06-07",31.962900000000001,null,null,null,null,null,null,null,0,0,null,"2011-06-07",0,0,"",null,1,null,40701,"2011-06-07",0,0,0,null,0,null,0,null,0,"00:00:00",0]
["2011-06-14",32.3626,null,null,null,null,null,null,null,0,0,null,"2011-06-14",0,0,"",null,1,null,40708,"2011-06-14",0,0,0,null,0,null,0,null,0,"00:00:00",0]
["2011-06-17",31.759499999999999,null,null,null,null,null,null,null,0,0,null,"2011-06-17",0,0,"",null,1,null,40711,"2011-06-17",0,0,0,null,0,null,0,null,0,"00:00:00",0]
["2011-06-21",31.157399999999999,null,null,null,null,null,null,null,0,0,null,"2011-06-21",0,0,"",null,1,null,40715,"2011-06-21",0,0,0,null,0,null,0,null,0,"00:00:00",0]
["2011-06-24",31.3582,null,null,null,null,null,null,null,0,0,null,"2011-06-24",0,0,"",null,1,null,40718,"2011-06-24",0,0,0,null,0,null,0,null,0,"00:00:00",0]
["2011-07-05",32.771099999999997,null,null,null,null,null,null,null,0,0,null,"2011-07-05",0,0,"",null,1,null,40729,"2011-07-05",0,0,0,null,0,null,0,null,0,"00:00:00",0]
["2011-07-06",32.872399999999999,null,null,null,null,null,null,null,1,-1000,null,"2011-07-06",1,-1000,30.420656842822552,null,1,null,40730,"2011-07-06",-1000,40730,32.872399999999999,null,0,null,1,null,0,"00:00:00",0]
["2011-07-15",33.138300000000001,null,null,null,null,null,null,null,0,0,null,"2011-07-15",0,0,"",null,1,null,40739,"2011-07-15",0,0,0,null,0,null,0,null,0,"00:00:00",0]
["2011-07-22",33.859900000000003,null,null,null,null,null,null,null,0,0,null,"2011-07-22",0,0,"",null,1,null,40746,"2011-07-22",0,0,0,null,{"$f":"IF(R1408=0,IF(R1407=1,M1407,0),0)","v":0},null,0,null,0,"00:00:00",0]
["2011-07-29",33.289099999999998,null,null,null,null,null,null,null,0,0,null,"2011-07-29",0,0,"",null,1,null,40753,"2011-07-29",0,0,0,null,0,null,0,null,0,"00:00:00",0]
["2011-08-01",33.256599999999999,null,null,null,null,null,null,null,0,0,null,"2011-08-01",0,0,"",null,1,null,40756,"2011-08-01",0,0,0,null,0,null,0,null,0,"00:00:00",0]
["2011-08-05",32.296799999999998,null,null,null,null,null,null,null,0,0,null,"2011-08-05",0,0,"",null,1,null,40760,"2011-08-05",0,0,0,null,0,null,0,null,0,"00:00:00",0]
["2011-08-12",32.898099999999999,null,null,null,null,null,null,null,0,{"$f":"IF(DAY(A1421)=sipdate,-sip,IF(K1420=-sip,0,IF(K1419=-sip,0,IF(K1418=-sip,0,IF(K1417=-sip,0,IF(K1416=-sip,0,IF(K1415=-sip,0,IF(DAY(A1421)=sipdate+1,-sip,IF(DAY(A1421)=sipdate+2,-sip,IF(DAY(A1421)=sipdate+3,-sip,IF(DAY(A1421)=sipdate+4,-sip,IF(DAY(A1421)=sipdate+5,-sip,IF(DAY(A1421)=sipdate+6,-sip,IF(DAY(A1421)=sipdate+7,-sip,0))))))))))))))","v":0},null,"2011-08-12",0,0,"",null,1,null,40767,"2011-08-12",0,0,0,null,0,null,{"$f":"IF(INT((MONTH(M1421)-MONTH(sipstart))/3)-(MONTH(M1421)-MONTH(sipstart))/3=0,IF(DAY(A1421)=sipdate,1,IF(AB1420=1,0,IF(AB1419=1,0,IF(AB1418=1,0,IF(AB1417=1,0,IF(AB1416=1,0,IF(AB1415=1,0,IF(DAY(A1421)=sipdate+1,1,IF(DAY(A1421)=sipdate+2,1,IF(DAY(A1421)=sipdate+3,1,IF(DAY(A1421)=sipdate+4,1,IF(DAY(A1421)=sipdate+5,1,IF(DAY(A1421)=sipdate+6,1,IF(DAY(A1421)=sipdate+7,1,0)))))))))))))),0)","v":0},null,{"$f":"IF(INT((MONTH(M1421)-MONTH(sipstart))/12)-(MONTH(M1421)-MONTH(sipstart))/12=0,IF(DAY(A1421)=sipdate,1,IF(AB1420=1,0,IF(AB1419=1,0,IF(AB1418=1,0,IF(AB1417=1,0,IF(AB1416=1,0,IF(AB1415=1,0,IF(DAY(A1421)=sipdate+1,1,IF(DAY(A1421)=sipdate+2,1,IF(DAY(A1421)=sipdate+3,1,IF(DAY(A1421)=sipdate+4,1,IF(DAY(A1421)=sipdate+5,1,IF(DAY(A1421)=sipdate+6,1,IF(DAY(A1421)=sipdate+7,1,0)))))))))))))),0)","v":0},"00:00:00",0]
["2011-08-23",32.2639,null,null,null,null,null,null,null,0,0,null,"2011-08-23",0,0,"",null,1,null,40778,"2011-08-23",0,0,0,null,0,null,0,null,0,"00:00:00",0]
["2011-08-26",31.378399999999999,null,null,null,null,null,null,null,0,0,null,"2011-08-26",0,0,"",null,1,null,40781,"2011-08-26",0,0,0,null,0,null,0,null,0,"00:00:00",0]
["2011-09-02",32.481699999999996,null,null,null,null,null,null,null,0,0,null,"2011-09-02",0,0,"",null,1,null,40788,"2011-09-02",0,0,0,null,0,null,0,null,0,"00:00:00",0]
["2011-09-09",32.983499999999999,null,null,null,null,null,null,null,0,0,null,"2011-09-09",0,0,"",null,1,null,40795,"2011-09-09",0,0,0,null,0,null,0,null,0,"00:00:00",0]
["2011-09-15",32.846400000000003,null,null,null,null,null,null,null,0,0,null,"2011-09-15",0,0,"",null,1,null,40801,"2011-09-15",0,0,0,null,0,null,0,null,0,"00:00:00",0]
["2011-09-16",32.828099999999999,null,null,null,null,null,null,null,0,0,null,"2011-09-16",0,0,"",null,1,null,40802,"2011-09-16",0,0,0,null,0,null,0,null,0,"00:00:00",0]
["2011-09-23",31.9633,null,null,null,null,null,null,null,0,0,null,"2011-09-23",0,0,"",null,1,null,40809,"2011-09-23",0,0,0,null,0,null,0,null,0,"00:00:00",0]
["2011-09-30",31.9739,null,null,null,null,null,null,null,0,0,null,"2011-09-30",0,0,"",null,1,null,40816,"2011-09-30",0,0,0,null,0,null,0,null,0,"00:00:00",0]
["2011-10-05",31.239899999999999,null,null,null,null,null,null,null,0,0,null,"2011-10-05",0,0,"",null,1,null,40821,"2011-10-05",0,0,0,null,0,null,0,null,0,"00:00:00",0]
["2011-10-10",31.8398,null,null,null,null,null,null,null,0,0,null,"2011-10-10",0,0,"",null,1,null,40826,"2011-10-10",0,0,0,null,0,null,0,null,0,"00:00:00",0]
["2011-10-17",32.364600000000003,null,null,null,null,null,null,null,0,0,null,"2011-10-17",0,0,"",null,1,null,40833,"2011-10-17",0,0,0,null,0,null,0,null,0,"00:00:00",0]
["2011-10-21",32.228900000000003,null,null,null,null,null,null,null,0,0,null,"2011-10-21",0,0,"",null,1,null,40837,"2011-10-21",0,0,0,null,0,null,0,null,0,"00:00:00",0]
["2011-11-01",32.857900000000001,null,null,null,null,null,null,null,0,0,null,"2011-11-01",0,0,"",null,1,null,40848,"2011-11-01",0,0,0,null,0,null,0,null,0,"00:00:00",0]
["2011-11-02",32.872900000000001,null,null,null,null,null,null,null,0,0,null,"2011-11-02",0,0,"",null,1,null,40849,"2011-11-02",0,0,0,null,0,null,0,null,0,"00:00:00",0]
["2011-11-09",32.976900000000001,null,null,null,null,null,null,null,0,0,null,"2011-11-09",0,0,"",null,1,null,40856,"2011-11-09",0,0,0,null,0,null,0,null,0,"00:00:00",0]
["2011-11-15",31.699000000000002,null,null,null,null,null,null,null,0,0,null,"2011-11-15",0,0,"",null,1,null,40862,"2011-11-15",0,0,0,null,0,null,0,null,0,"00:00:00",0]
["2011-11-23",29.715399999999999,null,null,null,null,null,null,null,0,0,null,"2011-11-23",0,0,"",null,1,null,40870,"2011-11-23",0,0,0,null,0,null,0,null,0,"00:00:00",0]
["2011-11-24",29.9953,null,null,null,null,null,null,null,0,0,null,"2011-11-24",0,0,"",null,1,null,40871,"2011-11-24",0,0,0,null,0,null,0,null,0,"00:00:00",0]
["2011-12-01",30.304600000000001,null,null,null,null,null,null,null,0,0,null,"2011-12-01",0,0,"",null,1,null,40878,"2011-12-01",0,0,0,null,0,null,0,null,0,"00:00:00",0]
["2011-12-08",30.747800000000002,null,null,null,null,null,null,null,0,0,null,"2011-12-08",0,0,"",null,1,null,40885,"2011-12-08",0,0,0,null,0,null,0,null,0,"00:00:00",0]
["2011-12-14",29.829799999999999,null,null,null,null,null,null,null,{"$f":"IF(DAY(A1497)=sipdate,1,IF(J1496=1,0,IF(J1495=1,0,IF(J1494=1,0,IF(J1493=1,0,IF(J1492=1,0,IF(J1491=1,0,IF(DAY(A1497)=sipdate+1,1,IF(DAY(A1497)=sipdate+2,1,IF(DAY(A1497)=sipdate+3,1,IF(DAY(A1497)=sipdate+4,1,IF(DAY(A1497)=sipdate+5,1,IF(DAY(A1497)=sipdate+6,1,IF(DAY(A1497)=sipdate+7,1,0))))))))))))))","v":0},0,null,"2011-12-14",0,0,"",null,1,null,40891,"2011-12-14",0,0,0,null,0,null,0,null,0,"00:00:00",0]
["2011-12-16",29.270399999999999,null,null,null,null,null,null,null,0,0,null,"2011-12-16",0,0,"",null,1,null,40893,"2011-12-16",0,0,0,null,0,null,0,null,0,"00:00:00",0]
["2011-12-22",28.826699999999999,null,null,null,null,null,null,null,0,0,null,"2011-12-22",0,0,"",null,1,null,40899,"2011-12-22",0,0,0,null,0,null,0,null,0,"00:00:00",0]
["2012-01-02",28.4193,null,null,null,null,null,null,null,0,0,null,"2012-01-02",0,0,"",null,1,null,40910,"2012-01-02",0,0,0,null,0,null,0,null,0,"00:00:00",0]
["2012-01-09",28.9954,null,null,null,null,null,null,null,0,0,null,"2012-01-09",0,0,"",null,1,null,40917,"2012-01-09",0,0,0,null,0,null,0,null,0,"00:00:00",0]
["2012-01-11",29.6372,null,null,null,null,null,null,null,0,0,null,"2012-01-11",0,0,"",null,1,null,40919,"2012-01-11",0,0,0,null,0,null,0,null,0,"00:00:00",0]
["2012-01-16",30.149000000000001,null,null,null,null,null,null,null,0,0,null,"2012-01-16",0,0,"",null,1,null,40924,"2012-01-16",0,0,0,null,0,null,0,null,0,"00:00:00",0]
["2012-01-23",30.5458,null,null,null,null,null,null,null,0,0,null,"2012-01-23",0,0,"",null,1,null,40931,"2012-01-23",0,0,0,null,0,null,0,null,0,"00:00:00",0]
["2012-01-30",30.8645,null,null,null,null,null,null,null,0,0,null,"2012-01-30",0,0,"",null,1,null,40938,"2012-01-30",0,0,0,null,0,null,0,null,0,"00:00:00",0]
["2012-01-31",31.342500000000001,null,null,null,null,null,null,null,0,0,null,"2012-01-31",0,0,"",null,1,null,40939,"2012-01-31",0,0,0,null,0,null,0,null,0,"00:00:00",0]
["2012-02-06",32.504199999999997,null,null,null,null,null,null,null,1,-1000,null,"2012-02-06",1,-1000,30.765254951667789,null,1,null,40945,"2012-02-06",-1000,40945,32.504199999999997,null,0,null,0,null,0,"00:00:00",0]
["2012-02-13",32.6068,null,null,null,null,null,null,null,0,0,null,"2012-02-13",0,0,"",null,1,null,40952,"2012-02-13",0,0,0,null,0,null,0,null,0,"00:00:00",0]
["2012-02-17",33.509700000000002,null,null,null,null,null,null,null,0,0,null,"2012-02-17",0,0,"",null,1,null,40956,"2012-02-17",0,0,0,null,0,null,0,null,0,"00:00:00",0]
["2012-02-22",32.778399999999998,null,null,null,null,null,null,null,0,0,null,"2012-02-22",0,0,"",null,1,null,40961,"2012-02-22",0,0,0,null,0,null,0,null,0,"00:00:00",0]
["2012-03-02",32.686399999999999,null,null,null,null,null,null,null,0,0,null,"2012-03-02",0,0,"",null,1,null,40970,"2012-03-02",0,0,0,null,0,null,0,null,0,"00:00:00",0]
["2012-03-07",32.160899999999998,null,null,null,null,null,null,null,0,0,null,"2012-03-07",0,0,"",null,1,null,40975,"2012-03-07",0,0,0,null,0,null,0,null,0,"00:00:00",0]
["2012-03-15",33.129800000000003,null,null,null,null,null,null,null,0,0,null,"2012-03-15",0,0,"",null,1,null,40983,"2012-03-15",0,0,0,null,0,null,0,null,0,"00:00:00",0]
["2012-03-16",32.900700000000001,null,null,null,null,null,null,null,0,0,null,"2012-03-16",0,0,"",null,1,null,40984,"2012-03-16",0,0,0,null,0,null,0,null,0,"00:00:00",0]
["2012-03-22",32.6297,null,null,null,null,null,null,null,0,0,null,"2012-03-22",0,0,"",null,1,null,40990,"2012-03-22",0,0,0,null,0,null,0,null,0,"00:00:00",0]
["2012-03-27",32.378,null,null,null,null,null,null,null,0,0,null,"2012-03-27",0,0,"",null,1,null,40995,"2012-03-27",0,0,0,null,0,null,0,null,0,"00:00:00",0]
["2012-04-04",33.458300000000001,null,null,null,null,null,null,null,0,0,null,"2012-04-04",0,0,"",null,1,null,41003,"2012-04-04",0,0,0,null,0,null,0,null,0,"00:00:00",0]
["2012-04-10",33.115400000000001,null,null,null,null,null,null,null,0,0,null,"2012-04-10",0,0,"",null,1,null,41009,"2012-04-10",0,0,0,null,0,null,0,null,0,"00:00:00",0]
["2012-04-17",33.762599999999999,null,null,null,null,null,null,null,0,0,null,"2012-04-17",0,0,"",null,1,null,41016,"2012-04-17",0,0,0,null,0,null,0,null,0,"00:00:00",0]
["2012-04-25",33.302300000000002,null,null,null,null,null,null,null,0,0,null,"2012-04-25",0,0,"",null,1,null,41024,"2012-04-25",0,0,0,null,0,null,0,null,0,"00:00:00",0]
["2012-05-03",33.139400000000002,null,null,null,null,null,null,null,0,0,null,"2012-05-03",0,0,"",null,1,null,41032,"2012-05-03",0,0,0,null,0,null,0,null,0,"00:00:00",0]
["2012-05-04",32.507300000000001,null,null,null,null,null,null,null,0,0,null,"2012-05-04",0,0,"",null,1,null,41033,"2012-05-04",0,0,0,null,0,null,0,null,0,"00:00:00",0]
["2012-05-10",32.247599999999998,null,null,null,null,null,null,null,0,0,null,"2012-05-10",0,0,"",null,1,null,41039,"2012-05-10",0,0,0,null,0,null,0,null,0,"00:00:00",0]
["2012-05-18",31.969100000000001,null,null,null,null,null,null,null,0,0,null,"2012-05-18",0,0,"",null,1,null,41047,"2012-05-18",0,0,0,null,0,null,0,null,0,"00:00:00",0]
["2012-05-25",32.189900000000002,null,null,null,null,null,null,null,0,0,null,"2012-05-25",0,0,"",null,1,null,41054,"2012-05-25",0,0,0,null,0,null,0,null,0,"00:00:00",0]
["2012-05-29",32.525700000000001,null,null,null,null,null,null,null,0,0,null,"2012-05-29",0,0,"",null,1,null,41058,"2012-05-29",0,0,0,null,0,null,0,null,0,"00:00:00",0]
["2012-06-01",31.962700000000002,null,null,null,null,null,null,null,0,0,null,"2012-06-01",0,0,"",null,1,null,41061,"2012-06-01",0,0,0,null,0,null,0,null,0,"00:00:00",0]
["2012-06-08",32.380400000000002,null,null,null,null,null,null,null,0,0,null,"2012-06-08",0,0,"",null,1,null,41068,"2012-06-08",0,0,0,null,0,null,0,null,0,"00:00:00",0]
["2012-06-15",32.435899999999997,null,null,null,null,null,null,null,0,0,null,"2012-06-15",0,0,"",null,1,null,41075,"2012-06-15",0,0,0,null,0,null,0,null,0,"00:00:00",0]
["2012-06-18",32.090299999999999,null,null,null,null,null,null,null,0,{"$f":"IF(DAY(A1613)=sipdate,-sip,IF(K1612=-sip,0,IF(K1611=-sip,0,IF(K1610=-sip,0,IF(K1609=-sip,0,IF(K1608=-sip,0,IF(K1607=-sip,0,IF(DAY(A1613)=sipdate+1,-sip,IF(DAY(A1613)=sipdate+2,-sip,IF(DAY(A1613)=sipdate+3,-sip,IF(DAY(A1613)=sipdate+4,-sip,IF(DAY(A1613)=sipdate+5,-sip,IF(DAY(A1613)=sipdate+6,-sip,IF(DAY(A1613)=sipdate+7,-sip,0))))))))))))))","v":0},null,"2012-06-18",0,0,"",null,1,null,41078,"2012-06-18",0,0,0,null,0,null,{"$f":"IF(INT((MONTH(M1613)-MONTH(sipstart))/3)-(MONTH(M1613)-MONTH(sipstart))/3=0,IF(DAY(A1613)=sipdate,1,IF(AB1612=1,0,IF(AB1611=1,0,IF(AB1610=1,0,IF(AB1609=1,0,IF(AB1608=1,0,IF(AB1607=1,0,IF(DAY(A1613)=sipdate+1,1,IF(DAY(A1613)=sipdate+2,1,IF(DAY(A1613)=sipdate+3,1,IF(DAY(A1613)=sipdate+4,1,IF(DAY(A1613)=sipdate+5,1,IF(DAY(A1613)=sipdate+6,1,IF(DAY(A1613)=sipdate+7,1,0)))))))))))))),0)","v":0},null,{"$f":"IF(INT((MONTH(M1613)-MONTH(sipstart))/12)-(MONTH(M1613)-MONTH(sipstart))/12=0,IF(DAY(A1613)=sipdate,1,IF(AB1612=1,0,IF(AB1611=1,0,IF(AB1610=1,0,IF(AB1609=1,0,IF(AB1608=1,0,IF(AB1607=1,0,IF(DAY(A1613)=sipdate+1,1,IF(DAY(A1613)=sipdate+2,1,IF(DAY(A1613)=sipdate+3,1,IF(DAY(A1613)=sipdate+4,1,IF(DAY(A1613)=sipdate+5,1,IF(DAY(A1613)=sipdate+6,1,IF(DAY(A1613)=sipdate+7,1,0)))))))))))))),0)","v":0},"00:00:00",0]
["2012-06-22",32.455399999999997,null,null,null,null,null,null,null,0,0,null,"2012-06-22",0,0,"",null,1,null,41082,"2012-06-22",0,0,0,null,0,null,0,null,0,"00:00:00",0]
["2012-06-29",33.2224,null,null,null,null,null,null,null,0,0,null,"2012-06-29",0,0,"",null,1,null,41089,"2012-06-29",0,0,0,null,0,null,0,null,0,"00:00:00",0]
["2012-07-05",33.971800000000002,null,null,null,null,null,null,null,{"$f":"IF(DAY(A1625)=sipdate,1,IF(J1624=1,0,IF(J1623=1,0,IF(J1622=1,0,IF(J1621=1,0,IF(J1620=1,0,IF(J1619=1,0,IF(DAY(A1625)=sipdate+1,1,IF(DAY(A1625)=sipdate+2,1,IF(DAY(A1625)=sipdate+3,1,IF(DAY(A1625)=sipdate+4,1,IF(DAY(A1625)=sipdate+5,1,IF(DAY(A1625)=sipdate+6,1,IF(DAY(A1625)=sipdate+7,1,0))))))))))))))","v":0},0,null,"2012-07-05",0,0,"",null,1,null,41095,"2012-07-05",0,0,0,null,0,null,0,null,0,"00:00:00",0]
["2012-07-09",33.504600000000003,null,null,null,null,null,null,null,0,0,null,"2012-07-09",0,0,"",null,1,null,41099,"2012-07-09",0,0,0,null,0,null,0,null,0,"00:00:00",0]
["2012-07-18",33.176400000000001,null,null,null,null,null,null,null,0,0,null,"2012-07-18",0,0,"",null,1,null,41108,"2012-07-18",0,0,0,null,0,null,0,null,0,"00:00:00",0]
["2012-07-23",32.709099999999999,null,null,null,null,null,null,null,0,0,null,"2012-07-23",0,0,"",null,1,null,41113,"2012-07-23",0,0,0,null,0,null,0,null,0,"00:00:00",0]
["2012-07-30",32.730699999999999,null,null,null,null,null,null,null,0,0,null,"2012-07-30",0,0,"",null,1,null,41120,"2012-07-30",0,0,0,null,0,null,0,null,0,"00:00:00",0]
["2012-07-31",32.976100000000002,null,null,null,null,null,null,null,0,0,null,"2012-07-31",0,0,"",null,1,null,41121,"2012-07-31",0,0,0,null,0,null,0,null,0,"00:00:00",0]
["2012-08-07",33.691099999999999,null,null,null,null,null,null,null,0,0,null,"2012-08-07",0,0,"",null,1,null,41128,"2012-08-07",0,0,0,null,0,null,0,null,0,"00:00:00",0]
["2012-08-13",33.726799999999997,null,null,null,null,null,null,null,0,0,null,"2012-08-13",0,0,"",null,1,null,41134,"2012-08-13",0,0,0,null,0,null,0,null,0,"00:00:00",0]
["2012-08-22",34.054299999999998,null,null,null,null,null,null,null,0,0,null,"2012-08-22",0,0,"",null,1,null,41143,"2012-08-22",0,0,0,null,0,null,0,null,0,"00:00:00",0]
["2012-08-24",33.958399999999997,null,null,null,null,null,null,null,0,0,null,"2012-08-24",0,0,"",null,1,null,41145,"2012-08-24",0,0,0,null,0,null,0,null,0,"00:00:00",0]
["2012-08-29",33.619500000000002,null,null,null,null,null,null,null,0,0,null,"2012-08-29",0,0,"",null,1,null,41150,"2012-08-29",0,0,0,null,0,null,0,null,0,"00:00:00",0]
["2012-09-05",33.745600000000003,null,null,null,null,null,null,null,0,0,null,"2012-09-05",0,0,"",null,1,null,41157,"2012-09-05",0,0,0,null,0,null,0,null,0,"00:00:00",0]
["2012-09-07",33.913600000000002,null,null,null,null,null,null,null,0,0,null,"2012-09-07",0,0,"",null,1,null,41159,"2012-09-07",0,0,0,null,0,null,0,null,0,"00:00:00",0]
["2012-09-13",34.619199999999999,null,null,null,null,null,null,null,0,0,null,"2012-09-13",0,0,"",null,1,null,41165,"2012-09-13",0,0,0,null,0,null,0,null,0,"00:00:00",0]
["2012-09-20",34.943199999999997,null,null,null,null,null,null,null,0,0,null,"2012-09-20",0,0,{"$f":"IF(O1674=-sip,-O1674/B1674,\"\")","v":""},null,1,null,41172,{"$f":"IF((IF(M1674>=sipstart,1,2)+IF(M1674<=sipend,1,2))=2,M1674,0)+IF(T1673=actualsipend,actualsipend,0)","v":"2012-09-20"},{"$f":"IF(U1674+U1673=0,0,IF(U1674=U1673,sipunits*B1673,O1674))","v":0},0,0,null,0,null,0,null,0,"00:00:00",0]
["2012-09-27",36.146500000000003,null,null,null,null,null,null,null,0,0,null,"2012-09-27",0,0,"",null,1,null,41179,"2012-09-27",0,0,0,null,0,null,0,null,0,"00:00:00",0]
["2012-10-03",36.723500000000001,null,null,null,null,null,null,null,0,0,null,"2012-10-03",0,0,"",null,1,null,41185,"2012-10-03",0,0,0,null,0,null,0,null,0,"00:00:00",0]
["2012-10-05",36.743899999999996,null,null,null,null,null,null,null,0,0,null,"2012-10-05",0,0,"",null,1,null,41187,"2012-10-05",0,0,0,null,0,null,0,null,0,"00:00:00",0]
["2012-10-15",36.7211,null,null,null,null,null,null,null,{"$f":"IF(DAY(A1689)=sipdate,1,IF(J1688=1,0,IF(J1687=1,0,IF(J1686=1,0,IF(J1685=1,0,IF(J1684=1,0,IF(J1683=1,0,IF(DAY(A1689)=sipdate+1,1,IF(DAY(A1689)=sipdate+2,1,IF(DAY(A1689)=sipdate+3,1,IF(DAY(A1689)=sipdate+4,1,IF(DAY(A1689)=sipdate+5,1,IF(DAY(A1689)=sipdate+6,1,IF(DAY(A1689)=sipdate+7,1,0))))))))))))))","v":0},0,null,"2012-10-15",0,0,"",null,1,null,41197,"2012-10-15",0,0,0,null,0,null,0,null,0,"00:00:00",0]
["2012-10-25",36.601100000000002,null,null,null,null,null,null,null,0,0,null,"2012-10-25",0,0,"",null,1,null,41207,"2012-10-25",0,0,0,null,0,null,0,null,0,"00:00:00",0]
["2012-11-01",36.197499999999998,null,null,null,null,null,null,null,0,0,null,"2012-11-01",0,0,"",null,1,null,41214,"2012-11-01",0,0,0,null,0,null,0,null,0,"00:00:00",0]
["2012-11-02",36.441200000000002,null,null,null,null,null,null,null,0,0,null,"2012-11-02",0,0,"",null,1,null,41215,"2012-11-02",0,0,0,null,0,null,0,null,0,"00:00:00",0]
["2012-11-08",37.119799999999998,null,null,null,null,null,null,null,0,0,null,"2012-11-08",0,0,"",null,1,null,41221,"2012-11-08",0,0,0,null,0,null,0,null,0,"00:00:00",0]
["2012-11-20",36.948099999999997,null,null,null,null,null,null,null,0,0,null,"2012-11-20",0,0,"",null,1,null,41233,"2012-11-20",0,0,0,null,0,null,0,null,0,"00:00:00",0]
["2012-11-23",37.627699999999997,null,null,null,null,null,null,null,0,0,null,"2012-11-23",0,0,"",null,1,null,41236,"2012-11-23",0,0,0,null,0,null,0,null,0,"00:00:00",0]
["2012-11-27",38.595199999999998,null,null,null,null,null,null,null,0,0,null,"2012-11-27",0,0,"",null,1,null,41240,"2012-11-27",0,0,0,null,0,null,0,null,0,"00:00:00",0]
["2012-12-10",39.8568,null,null,null,null,null,null,null,0,0,null,"2012-12-10",0,0,"",null,1,null,41253,"2012-12-10",0,0,0,null,0,null,0,null,0,"00:00:00",0]
["2012-12-13",39.251899999999999,null,null,null,null,null,null,null,0,0,null,"2012-12-13",0,0,"",null,1,null,41256,"2012-12-13",0,0,0,null,0,null,0,null,0,"00:00:00",0]
["2012-12-19",40.137599999999999,null,null,null,null,null,null,null,0,0,null,"2012-12-19",0,0,"",null,1,null,41262,"2012-12-19",0,0,0,null,0,null,0,null,0,"00:00:00",0]
["2012-12-24",39.553100000000001,null,null,null,null,null,null,null,0,0,null,"2012-12-24",0,0,"",null,1,null,41267,"2012-12-24",0,0,0,null,{"$f":"IF(R1728=0,IF(R1727=1,M1727,0),0)","v":0},null,0,null,0,"00:00:00",0]
["2013-01-02",40.620399999999997,null,null,null,null,null,null,null,0,0,null,"2013-01-02",0,0,"",null,1,null,41276,"2013-01-02",0,0,0,null,0,null,0,null,0,"00:00:00",0]
["2013-01-10",40.688899999999997,null,null,null,null,null,null,null,0,0,null,"2013-01-10",0,0,"",null,1,null,41284,"2013-01-10",0,0,0,null,0,null,0,null,0,"00:00:00",0]
["2013-01-17",39.965200000000003,null,null,null,null,null,null,null,0,{"$f":"IF(DAY(A1741)=sipdate,-sip,IF(K1740=-sip,0,IF(K1739=-sip,0,IF(K1738=-sip,0,IF(K1737=-sip,0,IF(K1736=-sip,0,IF(K1735=-sip,0,IF(DAY(A1741)=sipdate+1,-sip,IF(DAY(A1741)=sipdate+2,-sip,IF(DAY(A1741)=sipdate+3,-sip,IF(DAY(A1741)=sipdate+4,-sip,IF(DAY(A1741)=sipdate+5,-sip,IF(DAY(A1741)=sipdate+6,-sip,IF(DAY(A1741)=sipdate+7,-sip,0))))))))))))))","v":0},null,"2013-01-17",0,0,"",null,1,null,41291,"2013-01-17",0,0,0,null,0,null,{"$f":"IF(INT((MONTH(M1741)-MONTH(sipstart))/3)-(MONTH(M1741)-MONTH(sipstart))/3=0,IF(DAY(A1741)=sipdate,1,IF(AB1740=1,0,IF(AB1739=1,0,IF(AB1738=1,0,IF(AB1737=1,0,IF(AB1736=1,0,IF(AB1735=1,0,IF(DAY(A1741)=sipdate+1,1,IF(DAY(A1741)=sipdate+2,1,IF(DAY(A1741)=sipdate+3,1,IF(DAY(A1741)=sipdate+4,1,IF(DAY(A1741)=sipdate+5,1,IF(DAY(A1741)=sipdate+6,1,IF(DAY(A1741)=sipdate+7,1,0)))))))))))))),0)","v":0},null,{"$f":"IF(INT((MONTH(M1741)-MONTH(sipstart))/12)-(MONTH(M1741)-MONTH(sipstart))/12=0,IF(DAY(A1741)=sipdate,1,IF(AB1740=1,0,IF(AB1739=1,0,IF(AB1738=1,0,IF(AB1737=1,0,IF(AB1736=1,0,IF(AB1735=1,0,IF(DAY(A1741)=sipdate+1,1,IF(DAY(A1741)=sipdate+2,1,IF(DAY(A1741)=sipdate+3,1,IF(DAY(A1741)=sipdate+4,1,IF(DAY(A1741)=sipdate+5,1,IF(DAY(A1741)=sipdate+6,1,IF(DAY(A1741)=sipdate+7,1,0)))))))))))))),0)","v":0},"00:00:00",0]
["2013-01-22",39.693300000000001,null,null,null,null,null,null,null,0,0,null,"2013-01-22",0,0,"",null,1,null,41296,"2013-01-22",0,0,0,null,0,null,0,null,0,"00:00:00",0]
["2013-01-24",38.956699999999998,null,null,null,null,null,null,null,0,0,null,"2013-01-24",0,0,"",null,1,null,41298,"2013-01-24",0,0,0,null,0,null,0,null,0,"00:00:00",0]
["2013-02-04",39.074800000000003,null,null,null,null,null,null,null,0,0,null,"2013-02-04",0,0,"",null,1,null,41309,"2013-02-04",0,0,0,null,0,null,0,null,0,"00:00:00",0]
["2013-02-06",38.829599999999999,null,null,null,null,null,null,null,{"$f":"IF(DAY(A1753)=sipdate,1,IF(J1752=1,0,IF(J1751=1,0,IF(J1750=1,0,IF(J1749=1,0,IF(J1748=1,0,IF(J1747=1,0,IF(DAY(A1753)=sipdate+1,1,IF(DAY(A1753)=sipdate+2,1,IF(DAY(A1753)=sipdate+3,1,IF(DAY(A1753)=sipdate+4,1,IF(DAY(A1753)=sipdate+5,1,IF(DAY(A1753)=sipdate+6,1,IF(DAY(A1753)=sipdate+7,1,0))))))))))))))","v":1},-1000,null,"2013-02-06",1,-1000,25.753548839030017,null,1,null,41311,"2013-02-06",-1000,41311,38.829599999999999,null,0,null,0,null,0,"00:00:00",0]
["2013-02-11",38.424100000000003,null,null,null,null,null,null,null,0,0,null,"2013-02-11",0,0,"",null,1,null,41316,"2013-02-11",0,0,0,null,0,null,0,null,0,"00:00:00",0]
["2013-02-18",38.386499999999998,null,null,null,null,null,null,null,0,0,null,"2013-02-18",0,0,"",null,1,null,41323,"2013-02-18",0,0,0,null,0,null,0,null,0,"00:00:00",0]
["2013-02-26",37.563000000000002,null,null,null,null,null,null,null,0,0,null,"2013-02-26",0,0,"",null,1,null,41331,"2013-02-26",0,0,0,null,0,null,0,null,0,"00:00:00",0]
["2013-03-05",37.459000000000003,null,null,null,null,null,null,null,0,0,null,"2013-03-05",0,0,"",null,1,null,41338,"2013-03-05",0,0,0,null,0,null,0,null,0,"00:00:00",0]
["2013-03-07",37.983699999999999,null,null,null,null,null,null,null,0,0,null,"2013-03-07",0,0,"",null,1,null,41340,"2013-03-07",0,0,0,null,0,null,0,null,0,"00:00:00",0]
["2013-03-14",37.899500000000003,null,null,null,null,null,null,null,0,0,null,"2013-03-14",0,0,"",null,1,null,41347,"2013-03-14",0,0,0,null,0,null,0,null,0,"00:00:00",0]
["2013-03-21",36.296599999999998,null,null,null,null,null,null,null,0,0,null,"2013-03-21",0,0,"",null,1,null,41354,"2013-03-21",0,0,0,null,0,null,0,null,0,"00:00:00",0]
["2013-03-28",36.504800000000003,null,null,null,null,null,null,null,0,0,null,"2013-03-28",0,0,"",null,1,null,41361,"2013-03-28",0,0,0,null,0,null,0,null,0,"00:00:00",0]
["2013-04-01",36.812100000000001,null,null,null,null,null,null,null,0,0,null,"2013-04-01",0,0,"",null,1,null,41365,"2013-04-01",0,0,0,null,0,null,0,null,0,"00:00:00",0]
["2013-04-09",35.9422,null,null,null,null,null,null,null,1,-1000,null,"2013-04-09",1,-1000,27.822448264157455,null,1,null,41373,"2013-04-09",-1000,41373,35.9422,null,0,null,1,null,0,"00:00:00",0]
["2013-04-16",36.537100000000002,null,null,null,null,null,null,null,0,0,null,"2013-04-16",0,0,"",null,1,null,41380,"2013-04-16",0,0,0,null,0,null,0,null,0,"00:00:00",0]
["2013-04-26",37.317700000000002,null,null,null,null,null,null,null,0,0,null,"2013-04-26",0,0,"",null,1,null,41390,"2013-04-26",0,0,0,null,0,null,0,null,0,"00:00:00",0]
["2013-04-29",37.505800000000001,null,null,null,null,null,null,null,0,0,null,"2013-04-29",0,0,"",null,1,null,41393,"2013-04-29",0,0,0,null,0,null,0,null,0,"00:00:00",0]
["2013-05-10",38.3568,null,null,null,null,null,null,null,0,{"$f":"IF(DAY(A1805)=sipdate,-sip,IF(K1804=-sip,0,IF(K1803=-sip,0,IF(K1802=-sip,0,IF(K1801=-sip,0,IF(K1800=-sip,0,IF(K1799=-sip,0,IF(DAY(A1805)=sipdate+1,-sip,IF(DAY(A1805)=sipdate+2,-sip,IF(DAY(A1805)=sipdate+3,-sip,IF(DAY(A1805)=sipdate+4,-sip,IF(DAY(A1805)=sipdate+5,-sip,IF(DAY(A1805)=sipdate+6,-sip,IF(DAY(A1805)=sipdate+7,-sip,0))))))))))))))","v":0},null,"2013-05-10",0,0,"",null,1,null,41404,"2013-05-10",0,0,0,null,0,null,{"$f":"IF(INT((MONTH(M1805)-MONTH(sipstart))/3)-(MONTH(M1805)-MONTH(sipstart))/3=0,IF(DAY(A1805)=sipdate,1,IF(AB1804=1,0,IF(AB1803=1,0,IF(AB1802=1,0,IF(AB1801=1,0,IF(AB1800=1,0,IF(AB1799=1,0,IF(DAY(A1805)=sipdate+1,1,IF(DAY(A1805)=sipdate+2,1,IF(DAY(A1805)=sipdate+3,1,IF(DAY(A1805)=sipdate+4,1,IF(DAY(A1805)=sipdate+5,1,IF(DAY(A1805)=sipdate+6,1,IF(DAY(A1805)=sipdate+7,1,0)))))))))))))),0)","v":0},null,{"$f":"IF(INT((MONTH(M1805)-MONTH(sipstart))/12)-(MONTH(M1805)-MONTH(sipstart))/12=0,IF(DAY(A1805)=sipdate,1,IF(AB1804=1,0,IF(AB1803=1,0,IF(AB1802=1,0,IF(AB1801=1,0,IF(AB1800=1,0,IF(AB1799=1,0,IF(DAY(A1805)=sipdate+1,1,IF(DAY(A1805)=sipdate+2,1,IF(DAY(A1805)=sipdate+3,1,IF(DAY(A1805)=sipdate+4,1,IF(DAY(A1805)=sipdate+5,1,IF(DAY(A1805)=sipdate+6,1,IF(DAY(A1805)=sipdate+7,1,0)))))))))))))),0)","v":0},"00:00:00",0]
["2013-05-17",38.948900000000002,null,null,null,null,null,null,null,0,0,null,"2013-05-17",0,0,"",null,1,null,41411,"2013-05-17",0,0,0,null,0,null,0,null,0,"00:00:00",0]
["2013-05-21",38.659300000000002,null,null,null,null,null,null,null,0,0,null,"2013-05-21",0,0,"",null,1,null,41415,"2013-05-21",0,0,0,null,0,null,0,null,0,"00:00:00",0]
["2013-05-24",38.193300000000001,null,null,null,null,null,null,null,0,0,null,"2013-05-24",0,0,"",null,1,null,41418,"2013-05-24",0,0,0,null,0,null,0,null,0,"00:00:00",0]
["2013-05-31",38.403599999999997,null,null,null,null,null,null,null,0,0,null,"2013-05-31",0,0,"",null,1,null,41425,"2013-05-31",0,0,0,null,0,null,0,null,0,"00:00:00",0]
["2013-06-06",38.596499999999999,null,null,null,null,null,null,null,1,-1000,null,"2013-06-06",1,-1000,25.909085020662495,null,1,null,41431,"2013-06-06",-1000,41431,38.596499999999999,null,0,null,0,null,0,"00:00:00",0]
["2013-06-13",37.291400000000003,null,null,null,null,null,null,null,0,0,null,"2013-06-13",0,0,"",null,1,null,41438,"2013-06-13",0,0,0,null,0,null,0,null,0,"00:00:00",0]
["2013-06-18",37.6738,null,null,null,null,null,null,null,0,0,null,"2013-06-18",0,0,"",null,1,null,41443,"2013-06-18",0,0,0,null,0,null,0,null,0,"00:00:00",0]
["2013-06-20",37.192799999999998,null,null,null,null,null,null,null,0,0,null,"2013-06-20",0,0,"",null,1,null,41445,"2013-06-20",0,0,0,null,0,null,0,null,0,"00:00:00",0]
["2013-06-27",36.220300000000002,null,null,null,null,null,null,null,0,0,null,"2013-06-27",0,0,"",null,1,null,41452,"2013-06-27",0,0,0,null,0,null,0,null,0,"00:00:00",0]
["2013-07-03",36.891800000000003,null,null,null,null,null,null,null,0,0,null,"2013-07-03",0,0,"",null,1,null,41458,"2013-07-03",0,0,0,null,0,null,0,null,0,"00:00:00",0]
["2013-07-04",37.120899999999999,null,null,null,null,null,null,null,0,0,null,"2013-07-04",0,0,"",null,1,null,41459,"2013-07-04",0,0,0,null,0,null,0,null,0,"00:00:00",0]
["2013-07-11",37.493499999999997,null,null,null,null,null,null,null,0,0,null,"2013-07-11",0,0,"",null,1,null,41466,"2013-07-11",0,0,0,null,0,null,0,null,0,"00:00:00",0]
["2013-07-18",37.921199999999999,null,null,null,null,null,null,null,0,0,null,"2013-07-18",0,0,"",null,1,null,41473,"2013-07-18",0,0,0,null,0,null,0,null,0,"00:00:00",0]
["2013-07-24",37.160299999999999,null,null,null,null,null,null,null,0,0,null,"2013-07-24",0,0,"",null,1,null,41479,"2013-07-24",0,0,0,null,0,null,0,null,0,"00:00:00",0]
["2013-07-26",36.784100000000002,null,null,null,null,null,null,null,0,0,null,"2013-07-26",0,0,"",null,1,null,41481,"2013-07-26",0,0,0,null,0,null,0,null,0,"00:00:00",0]
["2013-08-02",35.125100000000003,null,null,null,null,null,null,null,0,0,null,"2013-08-02",0,0,"",null,1,null,41488,"2013-08-02",0,0,0,null,0,null,0,null,0,"00:00:00",0]
["2013-08-07",34.655900000000003,null,null,null,null,null,null,null,0,0,null,"2013-08-07",0,0,"",null,1,null,41493,"2013-08-07",0,0,0,null,0,null,0,null,0,"00:00:00",0]
["2013-08-19",34.849800000000002,null,null,null,null,null,null,null,0,0,null,"2013-08-19",0,0,"",null,1,null,41505,"2013-08-19",0,0,0,null,0,null,0,null,0,"00:00:00",0]
["2013-08-20",34.674900000000001,null,null,null,null,null,null,null,0,0,null,"2013-08-20",0,0,"",null,1,null,41506,"2013-08-20",0,0,0,null,0,null,0,null,0,"00:00:00",0]
["2013-08-26",34.768599999999999,null,null,null,null,null,null,null,0,0,null,"2013-08-26",0,0,"",null,1,null,41512,"2013-08-26",0,0,0,null,0,null,0,null,0,"00:00:00",0]
["2013-09-03",33.879399999999997,null,null,null,null,null,null,null,0,0,null,"2013-09-03",0,0,"",null,1,null,41520,"2013-09-03",0,0,0,null,0,null,0,null,0,"00:00:00",0]
["2013-09-12",35.520400000000002,null,null,null,null,null,null,null,0,0,null,"2013-09-12",0,0,"",null,1,null,41529,"2013-09-12",0,0,0,null,0,null,0,null,0,"00:00:00",0]
["2013-09-13",35.630299999999998,null,null,null,null,null,null,null,0,0,null,"2013-09-13",0,0,"",null,1,null,41530,"2013-09-13",0,0,0,null,0,null,0,null,0,"00:00:00",0]
["2013-09-23",36.042299999999997,null,null,null,null,null,null,null,0,0,null,"2013-09-23",0,0,"",null,1,null,41540,"2013-09-23",0,0,0,null,0,null,0,null,0,"00:00:00",0]
["2013-09-26",36.045200000000001,null,null,null,null,null,null,null,0,0,null,"2013-09-26",0,0,"",null,1,null,41543,"2013-09-26",0,0,0,null,0,null,0,null,0,"00:00:00",0]
["2013-09-30",36.125100000000003,null,null,null,null,null,null,null,0,0,null,"2013-09-30",0,0,"",null,1,null,41547,"2013-09-30",0,0,0,null,0,null,0,null,0,"00:00:00",0]
["2013-10-04",36.616900000000001,null,null,null,null,null,null,null,0,0,null,"2013-10-04",0,0,"",null,1,null,41551,"2013-10-04",0,0,0,null,0,null,0,null,0,"00:00:00",0]
["2013-10-11",37.480800000000002,null,null,null,null,null,null,null,0,0,null,"2013-10-11",0,0,"",null,1,null,41558,"2013-10-11",0,0,0,null,0,null,0,null,0,"00:00:00",0]
["2013-10-18",37.528599999999997,null,null,null,null,null,null,null,0,0,null,"2013-10-18",0,0,"",null,1,null,41565,"2013-10-18",0,0,0,null,0,null,0,null,0,"00:00:00",0]
["2013-10-25",38.113700000000001,null,null,null,null,null,null,null,0,0,null,"2013-10-25",0,0,"",null,1,null,41572,"2013-10-25",0,0,0,null,0,null,0,null,0,"00:00:00",0]
["2013-10-31",38.851700000000001,null,null,null,null,null,null,null,0,0,null,"2013-10-31",0,0,"",null,1,null,41578,"2013-10-31",0,0,0,null,0,null,0,null,0,"00:00:00",0]
["2013-11-05",39.615600000000001,null,null,null,null,null,null,null,0,0,null,"2013-11-05",0,0,"",null,1,null,41583,"2013-11-05",0,0,0,null,0,null,0,null,0,"00:00:00",0]
["2013-11-08",38.884399999999999,null,null,null,null,null,null,null,0,0,null,"2013-11-08",0,0,"",null,1,null,41586,"2013-11-08",0,0,0,null,0,null,0,null,0,"00:00:00",0]
["2013-11-20",39.2393,null,null,null,null,null,null,null,0,0,null,"2013-11-20",0,0,"",null,1,null,41598,"2013-11-20",0,0,0,null,0,null,0,null,0,"00:00:00",0]
["2013-11-21",38.947499999999998,null,null,null,null,null,null,null,0,0,null,"2013-11-21",0,0,"",null,1,null,41599,"2013-11-21",0,0,0,null,0,null,0,null,0,"00:00:00",0]
["2013-11-28",39.960700000000003,null,null,null,null,null,null,null,0,{"$f":"IF(DAY(A1933)=sipdate,-sip,IF(K1932=-sip,0,IF(K1931=-sip,0,IF(K1930=-sip,0,IF(K1929=-sip,0,IF(K1928=-sip,0,IF(K1927=-sip,0,IF(DAY(A1933)=sipdate+1,-sip,IF(DAY(A1933)=sipdate+2,-sip,IF(DAY(A1933)=sipdate+3,-sip,IF(DAY(A1933)=sipdate+4,-sip,IF(DAY(A1933)=sipdate+5,-sip,IF(DAY(A1933)=sipdate+6,-sip,IF(DAY(A1933)=sipdate+7,-sip,0))))))))))))))","v":0},null,"2013-11-28",0,0,"",null,1,null,41606,"2013-11-28",0,0,0,null,0,null,{"$f":"IF(INT((MONTH(M1933)-MONTH(sipstart))/3)-(MONTH(M1933)-MONTH(sipstart))/3=0,IF(DAY(A1933)=sipdate,1,IF(AB1932=1,0,IF(AB1931=1,0,IF(AB1930=1,0,IF(AB1929=1,0,IF(AB1928=1,0,IF(AB1927=1,0,IF(DAY(A1933)=sipdate+1,1,IF(DAY(A1933)=sipdate+2,1,IF(DAY(A1933)=sipdate+3,1,IF(DAY(A1933)=sipdate+4,1,IF(DAY(A1933)=sipdate+5,1,IF(DAY(A1933)=sipdate+6,1,IF(DAY(A1933)=sipdate+7,1,0)))))))))))))),0)","v":0},null,{"$f":"IF(INT((MONTH(M1933)-MONTH(sipstart))/12)-(MONTH(M1933)-MONTH(sipstart))/12=0,IF(DAY(A1933)=sipdate,1,IF(AB1932=1,0,IF(AB1931=1,0,IF(AB1930=1,0,IF(AB1929=1,0,IF(AB1928=1,0,IF(AB1927=1,0,IF(DAY(A1933)=sipdate+1,1,IF(DAY(A1933)=sipdate+2,1,IF(DAY(A1933)=sipdate+3,1,IF(DAY(A1933)=sipdate+4,1,IF(DAY(A1933)=sipdate+5,1,IF(DAY(A1933)=sipdate+6,1,IF(DAY(A1933)=sipdate+7,1,0)))))))))))))),0)","v":0},"00:00:00",0]
["2013-12-05",40.7286,null,null,null,null,null,null,null,0,0,null,"2013-12-05",0,0,"",null,1,null,41613,"2013-12-05",0,0,0,null,0,null,0,null,0,"00:00:00",0]
["2013-12-12",40.976399999999998,null,null,null,null,null,null,null,0,0,null,"2013-12-12",0,0,"",null,1,null,41620,"2013-12-12",0,0,0,null,0,null,0,null,0,"00:00:00",0]
["2013-12-13",40.536299999999997,null,null,null,null,null,null,null,0,0,null,"2013-12-13",0,0,"",null,1,null,41621,"2013-12-13",0,0,0,null,0,null,0,null,0,"00:00:00",0]
["2013-12-23",41.766199999999998,null,null,null,null,null,null,null,0,0,null,"2013-12-23",0,0,"",null,1,null,41631,"2013-12-23",0,0,0,null,0,null,0,null,0,"00:00:00",0]
["2013-12-27",42.171399999999998,null,null,null,null,null,null,null,0,0,null,"2013-12-27",0,0,"",null,1,null,41635,"2013-12-27",0,0,0,null,0,null,0,null,0,"00:00:00",0]
["2014-01-03",41.952199999999998,null,null,null,null,null,null,null,0,0,null,"2014-01-03",0,0,"",null,1,null,41642,"2014-01-03",0,0,0,null,0,null,0,null,0,"00:00:00",0]
["2014-01-06",42.097700000000003,null,null,null,null,null,null,null,1,-1000,null,"2014-01-06",1,-1000,23.75426686018476,null,1,null,41645,"2014-01-06",-1000,41645,42.097700000000003,null,0,null,1,null,0,"00:00:00",0]
["2014-01-10",42.1098,null,null,null,null,null,null,null,0,0,null,"2014-01-10",0,0,"",null,1,null,41649,"2014-01-10",0,0,0,null,0,null,0,null,0,"00:00:00",0]
["2014-01-17",41.756300000000003,null,null,null,null,null,null,null,0,0,null,"2014-01-17",0,0,"",null,1,null,41656,"2014-01-17",0,0,0,null,0,null,0,null,0,"00:00:00",0]
["2014-01-24",42.073099999999997,null,null,null,null,null,null,null,0,0,null,"2014-01-24",0,0,"",null,1,null,41663,"2014-01-24",0,0,0,null,0,null,0,null,0,"00:00:00",0]
["2014-01-27",41.229500000000002,null,null,null,null,null,null,null,0,0,null,"2014-01-27",0,0,"",null,1,null,41666,"2014-01-27",0,0,0,null,0,null,0,null,0,"00:00:00",0]
["2014-02-04",41.245899999999999,null,null,null,null,null,null,null,0,0,null,"2014-02-04",0,0,"",null,1,null,41674,"2014-02-04",0,0,0,null,0,null,0,null,0,"00:00:00",0]
["2014-02-07",41.652700000000003,null,null,null,null,null,null,null,0,0,null,"2014-02-07",0,0,"",null,1,null,41677,"2014-02-07",0,0,0,null,0,null,0,null,0,"00:00:00",0]
["2014-02-11",41.9041,null,null,null,null,null,null,null,0,0,null,"2014-02-11",0,0,"",null,1,null,41681,"2014-02-11",0,0,0,null,0,null,0,null,0,"00:00:00",0]
["2014-02-17",41.410200000000003,null,null,null,null,null,null,null,0,0,null,"2014-02-17",0,0,"",null,1,null,41687,"2014-02-17",0,0,0,null,0,null,0,null,0,"00:00:00",0]
["2014-02-26",42.583599999999997,null,null,null,null,null,null,null,0,0,null,"2014-02-26",0,0,"",null,1,null,41696,"2014-02-26",0,0,0,null,0,null,0,null,0,"00:00:00",0]
["2014-03-05",43.770299999999999,null,null,null,null,null,null,null,0,0,null,"2014-03-05",0,0,{"$f":"IF(O1994=-sip,-O1994/B1994,\"\")","v":""},null,1,null,41703,{"$f":"IF((IF(M1994>=sipstart,1,2)+IF(M1994<=sipend,1,2))=2,M1994,0)+IF(T1993=actualsipend,actualsipend,0)","v":"2014-03-05"},{"$f":"IF(U1994+U1993=0,0,IF(U1994=U1993,sipunits*B1993,O1994))","v":0},0,0,null,0,null,0,null,0,"00:00:00",0]
["2014-03-12",44.539000000000001,null,null,null,null,null,null,null,0,0,null,"2014-03-12",0,0,"",null,1,null,41710,"2014-03-12",0,0,0,null,0,null,0,null,0,"00:00:00",0]
["2014-03-18",44.645499999999998,null,null,null,null,null,null,null,0,0,null,"2014-03-18",0,0,"",null,1,null,41716,"2014-03-18",0,0,0,null,0,null,0,null,0,"00:00:00",0]
["2014-03-20",44.903300000000002,null,null,null,null,null,null,null,0,0,null,"2014-03-20",0,0,"",null,1,null,41718,"2014-03-20",0,0,0,null,0,null,0,null,0,"00:00:00",0]
["2014-03-27",45.9041,null,null,null,null,null,null,null,0,0,null,"2014-03-27",0,0,"",null,1,null,41725,"2014-03-27",0,0,0,null,0,null,0,null,0,"00:00:00",0]
["2014-04-07",46.008099999999999,null,null,null,null,null,null,null,1,-1000,null,"2014-04-07",1,-1000,21.735303131405121,null,1,null,41736,"2014-04-07",-1000,41736,46.008099999999999,null,0,null,1,null,0,"00:00:00",0]
["2014-04-09",46.584000000000003,null,null,null,null,null,null,null,0,0,null,"2014-04-09",0,0,"",null,1,null,41738,"2014-04-09",0,0,0,null,0,null,0,null,0,"00:00:00",0]
["2014-04-17",46.703000000000003,null,null,null,null,null,null,null,0,0,null,"2014-04-17",0,0,"",null,1,null,41746,"2014-04-17",0,0,0,null,0,null,0,null,0,"00:00:00",0]
["2014-04-25",46.928800000000003,null,null,null,null,null,null,null,0,0,null,"2014-04-25",0,0,"",null,1,null,41754,"2014-04-25",0,0,0,null,0,null,0,null,0,"00:00:00",0]
["2014-05-02",46.440899999999999,null,null,null,null,null,null,null,0,0,null,"2014-05-02",0,0,"",null,1,null,41761,"2014-05-02",0,0,0,null,0,null,0,null,0,"00:00:00",0]
["2014-05-05",46.108199999999997,null,null,null,null,null,null,null,0,0,null,"2014-05-05",0,0,"",null,1,null,41764,"2014-05-05",0,0,0,null,0,null,0,null,0,"00:00:00",0]
["2014-05-09",46.499200000000002,null,null,null,null,null,null,null,0,0,null,"2014-05-09",0,0,"",null,1,null,41768,"2014-05-09",0,0,0,null,0,null,0,null,0,"00:00:00",0]
["2014-05-19",49.201000000000001,null,null,null,null,null,null,null,0,0,null,"2014-05-19",0,0,"",null,1,null,41778,"2014-05-19",0,0,0,null,0,null,0,null,0,"00:00:00",0]
["2014-05-26",50.959000000000003,null,null,null,null,null,null,null,0,0,null,"2014-05-26",0,0,"",null,1,null,41785,"2014-05-26",0,0,0,null,0,null,0,null,0,"00:00:00",0]
["2014-05-28",50.841500000000003,null,null,null,null,null,null,null,0,0,null,"2014-05-28",0,0,"",null,1,null,41787,"2014-05-28",0,0,0,null,0,null,0,null,0,"00:00:00",0]
["2014-06-02",52.162799999999997,null,null,null,null,null,null,null,0,0,null,"2014-06-02",0,0,"",null,1,null,41792,"2014-06-02",0,0,0,null,{"$f":"IF(R2048=0,IF(R2047=1,M2047,0),0)","v":0},null,0,null,0,"00:00:00",0]
["2014-06-06",53.556100000000001,null,null,null,null,null,null,null,1,-1000,null,"2014-06-06",1,-1000,18.672009350942282,null,1,null,41796,"2014-06-06",-1000,41796,53.556100000000001,null,0,null,0,null,0,"00:00:00",0]
["2014-06-16",52.907600000000002,null,null,null,null,null,null,null,0,0,null,"2014-06-16",0,0,"",null,1,null,41806,"2014-06-16",0,0,0,null,0,null,0,null,0,"00:00:00",0]
["2014-06-19",53.285499999999999,null,null,null,null,null,null,null,0,0,null,"2014-06-19",0,0,"",null,1,null,41809,"2014-06-19",0,0,0,null,0,null,0,null,0,"00:00:00",0]
["2014-06-23",53.401800000000001,null,null,null,null,null,null,null,0,{"$f":"IF(DAY(A2061)=sipdate,-sip,IF(K2060=-sip,0,IF(K2059=-sip,0,IF(K2058=-sip,0,IF(K2057=-sip,0,IF(K2056=-sip,0,IF(K2055=-sip,0,IF(DAY(A2061)=sipdate+1,-sip,IF(DAY(A2061)=sipdate+2,-sip,IF(DAY(A2061)=sipdate+3,-sip,IF(DAY(A2061)=sipdate+4,-sip,IF(DAY(A2061)=sipdate+5,-sip,IF(DAY(A2061)=sipdate+6,-sip,IF(DAY(A2061)=sipdate+7,-sip,0))))))))))))))","v":0},null,"2014-06-23",0,0,"",null,1,null,41813,"2014-06-23",0,0,0,null,0,null,{"$f":"IF(INT((MONTH(M2061)-MONTH(sipstart))/3)-(MONTH(M2061)-MONTH(sipstart))/3=0,IF(DAY(A2061)=sipdate,1,IF(AB2060=1,0,IF(AB2059=1,0,IF(AB2058=1,0,IF(AB2057=1,0,IF(AB2056=1,0,IF(AB2055=1,0,IF(DAY(A2061)=sipdate+1,1,IF(DAY(A2061)=sipdate+2,1,IF(DAY(A2061)=sipdate+3,1,IF(DAY(A2061)=sipdate+4,1,IF(DAY(A2061)=sipdate+5,1,IF(DAY(A2061)=sipdate+6,1,IF(DAY(A2061)=sipdate+7,1,0)))))))))))))),0)","v":0},null,{"$f":"IF(INT((MONTH(M2061)-MONTH(sipstart))/12)-(MONTH(M2061)-MONTH(sipstart))/12=0,IF(DAY(A2061)=sipdate,1,IF(AB2060=1,0,IF(AB2059=1,0,IF(AB2058=1,0,IF(AB2057=1,0,IF(AB2056=1,0,IF(AB2055=1,0,IF(DAY(A2061)=sipdate+1,1,IF(DAY(A2061)=sipdate+2,1,IF(DAY(A2061)=sipdate+3,1,IF(DAY(A2061)=sipdate+4,1,IF(DAY(A2061)=sipdate+5,1,IF(DAY(A2061)=sipdate+6,1,IF(DAY(A2061)=sipdate+7,1,0)))))))))))))),0)","v":0},"00:00:00",0]
["2014-06-30",55.982300000000002,null,null,null,null,null,null,null,0,0,null,"2014-06-30",0,0,"",null,1,null,41820,"2014-06-30",0,0,0,null,0,null,0,null,0,"00:00:00",0]
["2014-07-02",57.436399999999999,null,null,null,null,null,null,null,0,0,null,"2014-07-02",0,0,"",null,1,null,41822,"2014-07-02",0,0,0,null,0,null,0,null,0,"00:00:00",0]
["2014-07-07",57.708599999999997,null,null,null,null,null,null,null,1,-1000,null,"2014-07-07",1,-1000,17.328439781938915,null,1,null,41827,"2014-07-07",-1000,41827,57.708599999999997,null,0,null,1,null,0,"00:00:00",0]
["2014-07-16",56.0244,null,null,null,null,null,null,null,0,0,null,"2014-07-16",0,0,"",null,1,null,41836,"2014-07-16",0,0,0,null,0,null,0,null,0,"00:00:00",0]
["2014-07-22",57.7515,null,null,null,null,null,null,null,0,0,null,"2014-07-22",0,0,"",null,1,null,41842,"2014-07-22",0,0,0,null,0,null,0,null,0,"00:00:00",0]
["2014-07-30",56.7682,null,null,null,null,null,null,null,0,0,null,"2014-07-30",0,0,"",null,1,null,41850,"2014-07-30",0,0,0,null,0,null,0,null,0,"00:00:00",0]
["2014-08-04",56.2988,null,null,null,null,null,null,null,0,0,null,"2014-08-04",0,0,"",null,1,null,41855,"2014-08-04",0,0,0,null,0,null,0,null,0,"00:00:00",0]
["2014-08-06",56.849400000000003,null,null,null,null,null,null,null,1,-1000,null,"2014-08-06",1,-1000,17.590335166246255,null,1,null,41857,"2014-08-06",-1000,41857,56.849400000000003,null,0,null,0,null,0,"00:00:00",0]
["2014-08-11",56.083599999999997,null,null,null,null,null,null,null,0,0,null,"2014-08-11",0,0,"",null,1,null,41862,"2014-08-11",0,0,0,null,0,null,0,null,0,"00:00:00",0]
["2014-08-22",58.3583,null,null,null,null,null,null,null,0,0,null,"2014-08-22",0,0,"",null,1,null,41873,"2014-08-22",0,0,0,null,0,null,0,null,0,"00:00:00",0]
["2014-09-01",59.759099999999997,null,null,null,null,null,null,null,0,0,null,"2014-09-01",0,0,"",null,1,null,41883,"2014-09-01",0,0,0,null,0,null,0,null,0,"00:00:00",0]
["2014-09-04",60.6477,null,null,null,null,null,null,null,0,0,null,"2014-09-04",0,0,"",null,1,null,41886,"2014-09-04",0,0,0,null,0,null,0,null,0,"00:00:00",0]
["2014-09-11",62.213000000000001,null,null,null,null,null,null,null,0,0,null,"2014-09-11",0,0,"",null,1,null,41893,"2014-09-11",0,0,0,null,0,null,0,null,0,"00:00:00",0]
["2014-09-17",60.947499999999998,null,null,null,null,null,null,null,0,0,null,"2014-09-17",0,0,"",null,1,null,41899,"2014-09-17",0,0,0,null,0,null,0,null,0,"00:00:00",0]
["2014-09-18",62.039700000000003,null,null,null,null,null,null,null,0,0,null,"2014-09-18",0,0,"",null,1,null,41900,"2014-09-18",0,0,0,null,0,null,0,null,0,"00:00:00",0]
["2014-09-24",61.612299999999998,null,null,null,null,null,null,null,0,0,null,"2014-09-24",0,0,"",null,1,null,41906,"2014-09-24",0,0,0,null,0,null,0,null,0,"00:00:00",0]
["2014-10-01",61.680900000000001,null,null,null,null,null,null,null,0,0,null,"2014-10-01",0,0,"",null,1,null,41913,"2014-10-01",0,0,0,null,0,null,0,null,0,"00:00:00",0]
["2014-10-13",61.502499999999998,null,null,null,null,null,null,null,0,0,null,"2014-10-13",0,0,"",null,1,null,41925,"2014-10-13",0,0,0,null,0,null,0,null,0,"00:00:00",0]
["2014-10-20",60.239100000000001,null,null,null,null,null,null,null,0,0,null,"2014-10-20",0,0,"",null,1,null,41932,"2014-10-20",0,0,0,null,{"$f":"IF(R2131=0,IF(R2130=1,M2130,0),0)","v":0},null,0,null,0,"00:00:00",0]
["2014-10-27",61.828899999999997,null,null,null,null,null,null,null,0,0,null,"2014-10-27",0,0,"",null,1,null,41939,"2014-10-27",0,0,0,null,0,null,0,null,0,"00:00:00",0]
["2014-11-03",63.5929,null,null,null,null,null,null,null,0,0,null,"2014-11-03",0,0,"",null,1,null,41946,"2014-11-03",0,0,0,null,0,null,0,null,0,"00:00:00",0]
["2014-11-11",64.463800000000006,null,null,null,null,null,null,null,0,0,null,"2014-11-11",0,0,"",null,1,null,41954,"2014-11-11",0,0,0,null,0,null,0,null,0,"00:00:00",0]
["2014-11-17",65.558999999999997,null,null,null,null,null,null,null,0,0,null,"2014-11-17",0,0,"",null,1,null,41960,"2014-11-17",0,0,0,null,0,null,0,null,0,"00:00:00",0]
["2014-11-19",65.53,null,null,null,null,null,null,null,0,0,null,"2014-11-19",0,0,"",null,1,null,41962,"2014-11-19",0,0,0,null,0,null,0,null,0,"00:00:00",0]
["2014-11-27",65.427800000000005,null,null,null,null,null,null,null,0,0,null,"2014-11-27",0,0,"",null,1,null,41970,"2014-11-27",0,0,0,null,0,null,0,null,0,"00:00:00",0]
["2014-12-01",66.025400000000005,null,null,null,null,null,null,null,0,0,null,"2014-12-01",0,0,"",null,1,null,41974,"2014-12-01",0,0,0,null,0,null,0,null,0,"00:00:00",0]
["2014-12-04",67.255799999999994,null,null,null,null,null,null,null,0,0,null,"2014-12-04",0,0,"",null,1,null,41977,"2014-12-04",0,0,0,null,0,null,0,null,0,"00:00:00",0]
["2014-12-11",66.751599999999996,null,null,null,null,null,null,null,0,0,null,"2014-12-11",0,0,"",null,1,null,41984,"2014-12-11",0,0,0,null,0,null,0,null,0,"00:00:00",0]
["2014-12-17",64.256,null,null,null,null,null,null,null,0,0,null,"2014-12-17",0,0,"",null,1,null,41990,"2014-12-17",0,0,0,null,0,null,0,null,0,"00:00:00",0]
["2014-12-23",67.016800000000003,null,null,null,null,null,null,null,0,0,null,"2014-12-23",0,0,"",null,1,null,41996,"2014-12-23",0,0,0,null,0,null,0,null,0,"00:00:00",0]
["2014-12-24",66.597499999999997,null,null,null,null,null,null,null,0,0,null,"2014-12-24",0,0,"",null,1,null,41997,"2014-12-24",0,0,0,null,0,null,0,null,0,"00:00:00",0]
["2015-01-01",68.032700000000006,null,null,null,null,null,null,null,0,0,null,"2015-01-01",0,0,"",null,1,null,42005,"2015-01-01",0,0,0,null,0,null,0,null,0,"00:00:00",0]
["2015-01-06",67.330500000000001,null,null,null,null,null,null,null,1,-1000,null,"2015-01-06",1,-1000,14.852110113544382,null,1,null,42010,"2015-01-06",-1000,42010,67.330500000000001,null,0,null,1,null,0,"00:00:00",0]
["2015-01-14",69.339500000000001,null,null,null,null,null,null,null,0,0,null,"2015-01-14",{"$f":"IF(IF(M2185>=sipstart,1,0)+IF(M2185<=sipend,1,0)=2,J2185,0)","v":0},{"$f":"IF(IF(M2185>=sipstart,1,0)+IF(M2185<=sipend,1,0)=2,K2185,0)","v":0},{"$f":"IF(O2185=-sip,-O2185/B2185,\"\")","v":""},null,{"$f":"IF(IF(M2185>=sipstart,1,0)+IF(M2185<=sipend,1,0)=2,1,0)","v":1},null,{"$f":"IF((IF(M2185>=sipstart,1,2)+IF(M2185<=sipend,1,2))=2,M2185,0)","v":42018},"2015-01-14",0,{"$f":"IF(V2185=-sip,U2185,0)","v":0},{"$f":"IF(V2185=-sip,B2185,0)","v":0},null,0,null,0,null,0,{"$f":"IF(AD2185=1,A2185,0)","v":"00:00:00"},{"$f":"IF(AD2185=1,B2185,0)","v":0}]
["2015-01-16",70.259900000000002,null,null,null,null,null,null,null,0,0,null,"2015-01-16",0,0,"",null,1,null,42020,"2015-01-16",0,0,0,null,0,null,0,null,0,"00:00:00",0]
["2015-01-21",70.678299999999993,null,null,null,null,null,null,null,0,0,null,"2015-01-21",0,0,"",null,1,null,42025,"2015-01-21",0,0,0,null,0,null,0,null,0,"00:00:00",0]
["2015-01-29",70.9465,null,null,null,null,null,null,null,0,0,null,"2015-01-29",0,0,"",null,1,null,42033,"2015-01-29",0,0,0,null,0,null,0,null,0,"00:00:00",0]
["2015-02-04",70.955399999999997,null,null,null,null,null,null,null,0,0,null,"2015-02-04",0,0,"",null,1,null,42039,"2015-02-04",0,0,0,null,0,null,0,null,0,"00:00:00",0]
["2015-02-05",70.572699999999998,null,null,null,null,null,null,null,0,0,null,"2015-02-05",0,0,"",null,1,null,42040,"2015-02-05",0,0,0,null,0,null,0,null,0,"00:00:00",0]
["2015-02-11",69.764799999999994,null,null,null,null,null,null,null,0,0,null,"2015-02-11",0,0,"",null,1,null,42046,"2015-02-11",0,0,0,null,0,null,0,null,0,"00:00:00",0]
["2015-02-20",72.256299999999996,null,null,null,null,null,null,null,0,0,null,"2015-02-20",0,0,"",null,1,null,42055,"2015-02-20",0,0,0,null,0,null,0,null,0,"00:00:00",0]
["2015-02-25",71.770399999999995,null,null,null,null,null,null,null,0,0,null,"2015-02-25",0,0,"",null,1,null,42060,"2015-02-25",0,0,0,null,0,null,0,null,0,"00:00:00",0]
["2015-03-03",74.251999999999995,null,null,null,null,null,null,null,0,0,null,"2015-03-03",0,0,"",null,1,null,42066,"2015-03-03",0,0,0,null,0,null,0,null,0,"00:00:00",0]
["2015-03-11",73.558000000000007,null,null,null,null,null,null,null,0,0,null,"2015-03-11",0,0,"",null,1,null,42074,"2015-03-11",0,0,0,null,0,null,0,null,0,"00:00:00",0]
["2015-03-18",74.899900000000002,null,null,null,null,null,null,null,0,0,null,"2015-03-18",0,0,"",null,1,null,42081,"2015-03-18",0,0,0,null,0,null,0,null,0,"00:00:00",0]
["2015-03-24",73.165199999999999,null,null,null,null,null,null,null,0,0,null,"2015-03-24",0,0,"",null,1,null,42087,"2015-03-24",0,0,0,null,0,null,0,null,0,"00:00:00",0]
["2015-03-25",72.884900000000002,null,null,null,null,null,null,null,0,0,null,"2015-03-25",0,0,"",null,1,null,42088,"2015-03-25",0,0,0,null,0,null,0,null,0,"00:00:00",0]
["2015-03-31",73.941999999999993,null,null,null,null,null,null,null,0,0,null,"2015-03-31",0,0,"",null,1,null,42094,"2015-03-31",0,0,0,null,0,null,0,null,0,"00:00:00",0]
["2015-04-09",76.545100000000005,null,null,null,null,null,null,null,0,0,null,"2015-04-09",0,0,"",null,0,null,0,"00:00:00",0,0,0,null,0,null,0,null,0,"00:00:00",0]
["2015-04-08",118.83,null,null,null,null,null,null,null,0,0,null,"2015-04-08",0,0,"",null,0,null,0,"00:00:00",0,0,0,null,0,null,0,null,0,"00:00:00",0]
[null,null,null,null,null,null,null,null,null,0,0,null,"00:00:00",0,0,"",null,0,null,0,"00:00:00",0,0,0,null,0,null,0,null,0,"00:00:00",0]
[null,null,null,null,null,null,null,null,null,0,0,null,"00:00:00",0,0,"",null,0,null,0,"00:00:00",0,0,0,null,0,null,0,null,0,"00:00:00",0]
[null,null,null,null,null,null,null,null,null,0,0,null,"00:00:00",0,0,"",null,0,null,0,"00:00:00",0,0,0,null,0,null,0,null,0,"00:00:00",0]
[null,null,null,null,null,null,null,null,null,0,0,null,"00:00:00",0,0,"",null,0,null,0,"00:00:00",0,0,0,null,0,null,0,null,0,"00:00:00",0]
[null,null,null,null,null,null,null,null,null,0,0,null,"00:00:00",0,0,"",null,0,null,0,"00:00:00",0,0,0,null,0,null,0,null,0,"00:00:00",0]
[null,null,null,null,null,null,null,null,null,0,0,null,"00:00:00",0,0,"",null,0,null,0,"00:00:00",0,0,0,null,0,null,0,null,0,"00:00:00",0]
[null,null,null,null,null,null,null,null,null,0,0,null,"00:00:00",0,0,"",null,0,null,0,"00:00:00",0,0,0,null,0,null,0,null,0,"00:00:00",0]
[null,null,null,null,null,null,null,null,null,0,0,null,"00:00:00",0,0,"",null,0,null,0,"00:00:00",0,0,0,null,0,null,0,null,0,"00:00:00",0]
[null,null,null,null,null,null,null,null,null,0,0,null,"00:00:00",0,0,"",null,0,null,0,"00:00:00",0,0,0,null,0,null,0,null,0,"00:00:00",0]
[null,null,null,null,null,null,null,null,null,0,0,null,"00:00:00",0,0,"",null,0,null,0,"00:00:00",0,0,0,null,0,null,0,null,0,"00:00:00",0]
[null,null,null,null,null,null,null,null,null,0,0,null,"00:00:00",0,0,"",null,0,null,0,"00:00:00",0,0,0,null,0,null,0,null,0,"00:00:00",0]
[null,null,null,null,null,null,null,null,null,0,0,null,"00:00:00",0,0,"",null,0,null,0,"00:00:00",0,0,0,null,0,null,0,null,0,"00:00:00",0]
[null,null,null,null,null,null,null,null,null,0,0,null,"00:00:00",0,0,"",null,0,null,0,"00:00:00",0,0,0,null,0,null,0,null,0,"00:00:00",0]
[null,null,null,null,null,null,null,null,null,0,0,null,"00:00:00",0,0,"",null,0,null,0,"00:00:00",0,0,0,null,0,null,0,null,0,"00:00:00",0]
[null,null,null,null,null,null,null,null,null,0,0,null,"00:00:00",0,0,"",null,0,null,0,"00:00:00",0,0,0,null,0,null,0,null,0,"00:00:00",0]
[null,null,null,null,null,null,null,null,null,0,0,null,"00:00:00",0,0,"",null,0,null,0,"00:00:00",0,0,0,null,0,null,0,null,0,"00:00:00",0]
[null,null,null,null,null,null,null,null,null,0,0,null,"00:00:00",0,0,"",null,0,null,0,"00:00:00",0,0,0,null,0,null,0,null,0,"00:00:00",0]
[null,null,null,null,null,null,null,null,null,0,0,null,"00:00:00",0,0,"",null,0,null,0,"00:00:00",0,0,0,null,0,null,0,null,0,"00:00:00",0]
[null,null,null,null,null,null,null,null,null,0,0,null,"00:00:00",0,0,"",null,0,null,0,"00:00:00",0,0,0,null,0,null,0,null,0,"00:00:00",0]
[null,null,null,null,null,null,null,null,null,0,0,null,{"$f":"A2314","v":"00:00:00"},0,0,"",null,0,null,0,{"$f":"IF((IF(M2314>=sipstart,1,2)+IF(M2314<=sipend,1,2))=2,M2314,0)+IF(T2313=actualsipend,actualsipend,0)","v":"00:00:00"},{"$f":"IF(U2314+U2313=0,0,IF(U2314=U2313,sipunits*B2313,O2314))","v":0},0,0,null,0,null,0,null,0,"00:00:00",0]
[null,null,null,null,null,null,null,null,null,0,0,null,"00:00:00",0,0,"",null,0,null,0,"00:00:00",0,0,0,null,0,null,0,null,0,"00:00:00",0]
[null,null,null,null,null,null,null,null,null,0,0,null,"00:00:00",0,0,"",null,0,null,0,"00:00:00",0,0,0,null,0,null,0,null,0,"00:00:00",0]
[null,null,null,null,null,null,null,null,null,0,0,null,"00:00:00",0,0,"",null,0,null,0,"00:00:00",0,0,0,null,0,null,0,null,0,"00:00:00",0]
[null,null,null,null,null,null,null,null,null,0,0,null,"00:00:00",0,0,"",null,0,null,0,"00:00:00",0,0,0,null,0,null,0,null,0,"00:00:00",0]
[null,null,null,null,null,null,null,null,null,0,0,null,"00:00:00",0,0,"",null,0,null,0,"00:00:00",0,0,0,null,0,null,0,null,0,"00:00:00",0]
[null,null,null,null,null,null,null,null,null,0,0,null,"00:00:00",0,0,"",null,0,null,0,"00:00:00",0,0,0,null,0,null,0,null,0,"00:00:00",0]
[null,null,null,null,null,null,null,null,null,0,0,null,"00:00:00",0,0,"",null,0,null,0,"00:00:00",0,0,0,null,0,null,0,null,0,"00:00:00",0]
[null,null,null,null,null,null,null,null,null,0,0,null,"00:00:00",0,0,"",null,0,null,0,"00:00:00",0,0,0,null,0,null,0,null,0,"00:00:00",0]
[null,null,null,null,null,null,null,null,null,0,0,null,"00:00:00",0,0,"",null,0,null,0,"00:00:00",0,0,0,null,0,null,0,null,0,"00:00:00",0]
[null,null,null,null,null,null,null,null,null,0,0,null,"00:00:00",0,0,"",null,0,null,0,"00:00:00",0,0,0,null,0,null,0,null,0,"00:00:00",0]
[null,null,null,null,null,null,null,null,null,0,0,null,"00:00:00",0,0,"",null,0,null,0,"00:00:00",0,0,0,null,0,null,0,null,0,"00:00:00",0]
[null,null,null,null,null,null,null,null,null,0,0,null,"00:00:00",0,0,"",null,0,null,0,"00:00:00",0,0,0,null,0,null,0,null,0,"00:00:00",0]
[null,null,null,null,null,null,null,null,null,0,0,null,"00:00:00",0,0,"",null,0,null,0,"00:00:00",0,0,0,null,0,null,0,null,0,"00:00:00",0]
[null,null,null,null,null,null,null,null,null,0,0,null,"00:00:00",0,0,"",null,0,null,0,"00:00:00",0,0,0,null,0,null,0,null,0,"00:00:00",0]
[null,null,null,null,null,null,null,null,null,0,0,null,"00:00:00",0,0,"",null,0,null,0,"00:00:00",0,0,0,null,{"$f":"IF(R2368=0,IF(R2367=1,M2367,0),0)","v":0},null,0,null,0,"00:00:00",0]
[null,null,null,null,null,null,null,null,null,0,0,null,"00:00:00",0,0,"",null,0,null,0,"00:00:00",0,0,0,null,0,null,0,null,0,"00:00:00",0]
[null,null,null,null,null,null,null,null,null,0,0,null,"00:00:00",0,0,"",null,0,null,0,"00:00:00",0,0,0,null,0,null,0,null,0,"00:00:00",0]
[null,null,null,null,null,null,null,null,null,0,0,null,"00:00:00",0,0,"",null,0,null,0,"00:00:00",0,0,0,null,0,null,0,null,0,"00:00:00",0]
[null,null,null,null,null,null,null,null,null,{"$f":"IF(DAY(A2381)=sipdate,1,IF(J2380=1,0,IF(J2379=1,0,IF(J2378=1,0,IF(J2377=1,0,IF(J2376=1,0,IF(J2375=1,0,IF(DAY(A2381)=sipdate+1,1,IF(DAY(A2381)=sipdate+2,1,IF(DAY(A2381)=sipdate+3,1,IF(DAY(A2381)=sipdate+4,1,IF(DAY(A2381)=sipdate+5,1,IF(DAY(A2381)=sipdate+6,1,IF(DAY(A2381)=sipdate+7,1,0))))))))))))))","v":0},{"$f":"IF(DAY(A2381)=sipdate,-sip,IF(K2380=-sip,0,IF(K2379=-sip,0,IF(K2378=-sip,0,IF(K2377=-sip,0,IF(K2376=-sip,0,IF(K2375=-sip,0,IF(DAY(A2381)=sipdate+1,-sip,IF(DAY(A2381)=sipdate+2,-sip,IF(DAY(A2381)=sipdate+3,-sip,IF(DAY(A2381)=sipdate+4,-sip,IF(DAY(A2381)=sipdate+5,-sip,IF(DAY(A2381)=sipdate+6,-sip,IF(DAY(A2381)=sipdate+7,-sip,0))))))))))))))","v":0},null,"00:00:00",0,0,"",null,0,null,0,"00:00:00",0,0,0,null,0,null,{"$f":"IF(INT((MONTH(M2381)-MONTH(sipstart))/3)-(MONTH(M2381)-MONTH(sipstart))/3=0,IF(DAY(A2381)=sipdate,1,IF(AB2380=1,0,IF(AB2379=1,0,IF(AB2378=1,0,IF(AB2377=1,0,IF(AB2376=1,0,IF(AB2375=1,0,IF(DAY(A2381)=sipdate+1,1,IF(DAY(A2381)=sipdate+2,1,IF(DAY(A2381)=sipdate+3,1,IF(DAY(A2381)=sipdate+4,1,IF(DAY(A2381)=sipdate+5,1,IF(DAY(A2381)=sipdate+6,1,IF(DAY(A2381)=sipdate+7,1,0)))))))))))))),0)","v":0},null,{"$f":"IF(INT((MONTH(M2381)-MONTH(sipstart))/12)-(MONTH(M2381)-MONTH(sipstart))/12=0,IF(DAY(A2381)=sipdate,1,IF(AB2380=1,0,IF(AB2379=1,0,IF(AB2378=1,0,IF(AB2377=1,0,IF(AB2376=1,0,IF(AB2375=1,0,IF(DAY(A2381)=sipdate+1,1,IF(DAY(A2381)=sipdate+2,1,IF(DAY(A2381)=sipdate+3,1,IF(DAY(A2381)=sipdate+4,1,IF(DAY(A2381)=sipdate+5,1,IF(DAY(A2381)=sipdate+6,1,IF(DAY(A2381)=sipdate+7,1,0)))))))))))))),0)","v":0},"00:00:00",0]
[null,null,null,null,null,null,null,null,null,0,0,null,"00:00:00",0,0,"",null,0,null,0,"00:00:00",0,0,0,null,0,null,0,null,0,"00:00:00",0]
[null,null,null,null,null,null,null,null,null,0,0,null,"00:00:00",0,0,"",null,0,null,0,"00:00:00",0,0,0,null,0,null,0,null,0,"00:00:00",0]
[null,null,null,null,null,null,null,null,null,0,0,null,"00:00:00",0,0,"",null,0,null,0,"00:00:00",0,0,0,null,0,null,0,null,0,"00:00:00",0]
[null,null,null,null,null,null,null,null,null,0,0,null,"00:00:00",0,0,"",null,0,null,0,"00:00:00",0,0,0,null,0,null,0,null,0,"00:00:00",0]
[null,null,null,null,null,null,null,null,null,0,0,null,"00:00:00",0,0,"",null,0,null,0,"00:00:00",0,0,0,null,0,null,0,null,0,"00:00:00",0]
[null,null,null,null,null,null,null,null,null,0,0,null,"00:00:00",0,0,"",null,0,null,0,"00:00:00",0,0,0,null,0,null,0,null,0,"00:00:00",0]
[null,null,null,null,null,null,null,null,null,0,0,null,"00:00:00",0,0,"",null,0,null,0,"00:00:00",0,0,0,null,0,null,0,null,0,"00:00:00",0]
[null,null,null,null,null,null,null,null,null,0,0,null,"00:00:00",0,0,"",null,0,null,0,"00:00:00",0,0,0,null,0,null,0,null,0,"00:00:00",0]
[null,null,null,null,null,null,null,null,null,0,0,null,"00:00:00",0,0,"",null,0,null,0,"00:00:00",0,0,0,null,0,null,0,null,0,"00:00:00",0]
[null,null,null,null,null,null,null,null,null,0,0,null,"00:00:00",0,0,"",null,0,null,0,"00:00:00",0,0,0,null,0,null,0,null,0,"00:00:00",0]
[null,null,null,null,null,null,null,null,null,0,0,null,"00:00:00",0,0,"",null,0,null,0,"00:00:00",0,0,0,null,0,null,0,null,0,"00:00:00",0]
[null,null,null,null,null,null,null,null,null,0,0,null,"00:00:00",0,0,"",null,0,null,0,"00:00:00",0,0,0,null,0,null,0,null,0,"00:00:00",0]
[null,null,null,null,null,null,null,null,null,0,0,null,"00:00:00",0,0,"",null,0,null,0,"00:00:00",0,0,0,null,0,null,0,null,0,"00:00:00",0]
[null,null,null,null,null,null,null,null,null,0,0,null,"00:00:00",0,0,"",null,0,null,0,"00:00:00",0,0,0,null,0,null,0,null,0,"00:00:00",0]
[null,null,null,null,null,null,null,null,null,0,0,null,"00:00:00",0,0,"",null,0,null,0,"00:00:00",0,0,0,null,0,null,0,null,0,"00:00:00",0]
[null,null,null,null,null,null,null,null,null,0,0,null,"00:00:00",0,0,"",null,0,null,0,"00:00:00",0,0,0,null,0,null,0,null,0,"00:00:00",0]
[null,null,null,null,null,null,null,null,null,0,0,null,"00:00:00",0,0,"",null,0,null,0,"00:00:00",0,0,0,null,0,null,0,null,0,"00:00:00",0]
[null,null,null,null,null,null,null,null,null,{"$f":"IF(DAY(A2445)=sipdate,1,IF(J2444=1,0,IF(J2443=1,0,IF(J2442=1,0,IF(J2441=1,0,IF(J2440=1,0,IF(J2439=1,0,IF(DAY(A2445)=sipdate+1,1,IF(DAY(A2445)=sipdate+2,1,IF(DAY(A2445)=sipdate+3,1,IF(DAY(A2445)=sipdate+4,1,IF(DAY(A2445)=sipdate+5,1,IF(DAY(A2445)=sipdate+6,1,IF(DAY(A2445)=sipdate+7,1,0))))))))))))))","v":0},{"$f":"IF(DAY(A2445)=sipdate,-sip,IF(K2444=-sip,0,IF(K2443=-sip,0,IF(K2442=-sip,0,IF(K2441=-sip,0,IF(K2440=-sip,0,IF(K2439=-sip,0,IF(DAY(A2445)=sipdate+1,-sip,IF(DAY(A2445)=sipdate+2,-sip,IF(DAY(A2445)=sipdate+3,-sip,IF(DAY(A2445)=sipdate+4,-sip,IF(DAY(A2445)=sipdate+5,-sip,IF(DAY(A2445)=sipdate+6,-sip,IF(DAY(A2445)=sipdate+7,-sip,0))))))))))))))","v":0},null,"00:00:00",0,0,"",null,0,null,0,"00:00:00",0,0,0,null,0,null,{"$f":"IF(INT((MONTH(M2445)-MONTH(sipstart))/3)-(MONTH(M2445)-MONTH(sipstart))/3=0,IF(DAY(A2445)=sipdate,1,IF(AB2444=1,0,IF(AB2443=1,0,IF(AB2442=1,0,IF(AB2441=1,0,IF(AB2440=1,0,IF(AB2439=1,0,IF(DAY(A2445)=sipdate+1,1,IF(DAY(A2445)=sipdate+2,1,IF(DAY(A2445)=sipdate+3,1,IF(DAY(A2445)=sipdate+4,1,IF(DAY(A2445)=sipdate+5,1,IF(DAY(A2445)=sipdate+6,1,IF(DAY(A2445)=sipdate+7,1,0)))))))))))))),0)","v":0},null,{"$f":"IF(INT((MONTH(M2445)-MONTH(sipstart))/12)-(MONTH(M2445)-MONTH(sipstart))/12=0,IF(DAY(A2445)=sipdate,1,IF(AB2444=1,0,IF(AB2443=1,0,IF(AB2442=1,0,IF(AB2441=1,0,IF(AB2440=1,0,IF(AB2439=1,0,IF(DAY(A2445)=sipdate+1,1,IF(DAY(A2445)=sipdate+2,1,IF(DAY(A2445)=sipdate+3,1,IF(DAY(A2445)=sipdate+4,1,IF(DAY(A2445)=sipdate+5,1,IF(DAY(A2445)=sipdate+6,1,IF(DAY(A2445)=sipdate+7,1,0)))))))))))))),0)","v":0},"00:00:00",0]
[null,null,null,null,null,null,null,null,null,0,0,null,"00:00:00",0,0,"",null,0,null,0,"00:00:00",0,0,0,null,0,null,0,null,0,"00:00:00",0]
[null,null,null,null,null,null,null,null,null,0,0,null,"00:00:00",0,0,"",null,0,null,0,"00:00:00",0,0,0,null,0,null,0,null,0,"00:00:00",0]
[null,null,null,null,null,null,null,null,null,0,0,null,"00:00:00",0,0,"",null,0,null,0,"00:00:00",0,0,0,null,0,null,0,null,0,"00:00:00",0]
[null,null,null,null,null,null,null,null,null,0,0,null,"00:00:00",0,0,"",null,0,null,0,"00:00:00",0,0,0,null,0,null,0,null,0,"00:00:00",0]
[null,null,null,null,null,null,null,null,null,0,0,null,"00:00:00",0,0,"",null,0,null,0,"00:00:00",0,0,0,null,0,null,0,null,0,"00:00:00",0]
[null,null,null,null,null,null,null,null,null,0,0,null,"00:00:00",0,0,"",null,0,null,0,"00:00:00",0,0,0,null,0,null,0,null,0,"00:00:00",0]
[null,null,null,null,null,null,null,null,null,0,0,null,"00:00:00",0,0,"",null,0,null,0,"00:00:00",0,0,0,null,0,null,0,null,0,"00:00:00",0]
[null,null,null,null,null,null,null,null,null,0,0,null,"00:00:00",0,0,"",null,0,null,0,"00:00:00",0,0,0,null,0,null,0,null,0,"00:00:00",0]
[null,null,null,null,null,null,null,null,null,0,0,null,"00:00:00",0,0,"",null,0,null,0,"00:00:00",0,0,0,null,0,null,0,null,0,"00:00:00",0]
[null,null,null,null,null,null,null,null,null,0,0,null,"00:00:00",0,0,"",null,0,null,0,"00:00:00",0,0,0,null,0,null,0,null,0,"00:00:00",0]
[null,null,null,null,null,null,null,null,null,0,0,null,"00:00:00",0,0,"",null,0,null,0,"00:00:00",0,0,0,null,0,null,0,null,0,"00:00:00",0]
[null,null,null,null,null,null,null,null,null,0,0,null,"00:00:00",0,0,"",null,0,null,0,"00:00:00",0,0,0,null,0,null,0,null,0,"00:00:00",0]
[null,null,null,null,null,null,null,null,null,0,0,null,"00:00:00",0,0,"",null,0,null,0,"00:00:00",0,0,0,null,0,null,0,null,0,"00:00:00",0]
[null,null,null,null,null,null,null,null,null,0,0,null,"00:00:00",0,0,"",null,0,null,0,"00:00:00",0,0,0,null,{"$f":"IF(R2496=0,IF(R2495=1,M2495,0),0)","v":0},null,0,null,0,"00:00:00",0]
[null,null,null,null,null,null,null,null,null,0,0,null,"00:00:00",0,0,"",null,0,null,0,"00:00:00",0,0,0,null,0,null,0,null,0,"00:00:00",0]
[null,null,null,null,null,null,null,null,null,0,0,null,"00:00:00",0,0,"",null,0,null,0,"00:00:00",0,0,0,null,0,null,0,null,0,"00:00:00",0]
[null,null,null,null,null,null,null,null,null,0,0,null,"00:00:00",0,0,"",null,0,null,0,"00:00:00",0,0,0,null,0,null,0,null,0,"00:00:00",0]
[null,null,null,null,null,null,null,null,null,0,0,null,"00:00:00",0,0,"",null,0,null,0,"00:00:00",0,0,0,null,0,null,0,null,0,"00:00:00",0]
[null,null,null,null,null,null,null,null,null,0,0,null,"00:00:00",0,0,"",null,0,null,0,"00:00:00",0,0,0,null,0,null,0,null,0,"00:00:00",0]
[null,null,null,null,null,null,null,null,null,0,0,null,"00:00:00",0,0,"",null,0,null,0,"00:00:00",0,0,0,null,0,null,0,null,0,"00:00:00",0]
[null,null,null,null,null,null,null,null,null,0,0,null,"00:00:00",0,0,"",null,0,null,0,"00:00:00",0,0,0,null,0,null,0,null,0,"00:00:00",0]
[null,null,null,null,null,null,null,null,null,0,0,null,"00:00:00",0,0,"",null,0,null,0,"00:00:00",0,0,0,null,0,null,0,null,0,"00:00:00",0]
[null,null,null,null,null,null,null,null,null,0,0,null,"00:00:00",0,0,"",null,0,null,0,"00:00:00",0,0,0,null,0,null,0,null,0,"00:00:00",0]
[null,null,null,null,null,null,null,null,null,0,0,null,"00:00:00",0,0,"",null,0,null,0,"00:00:00",0,0,0,null,0,null,0,null,0,"00:00:00",0]
[null,null,null,null,null,null,null,null,null,0,0,null,"00:00:00",0,0,"",null,0,null,0,"00:00:00",0,0,0,null,0,null,0,null,0,"00:00:00",0]
[null,null,null,null,null,null,null,null,null,0,0,null,"00:00:00",0,0,"",null,0,null,0,"00:00:00",0,0,0,null,0,null,0,null,0,"00:00:00",0]
[null,null,null,null,null,null,null,null,null,0,0,null,"00:00:00",0,0,"",null,0,null,0,"00:00:00",0,0,0,null,0,null,0,null,0,"00:00:00",0]
[null,null,null,null,null,null,null,null,null,0,0,null,"00:00:00",0,0,"",null,0,null,0,"00:00:00",0,0,0,null,0,null,0,null,0,"00:00:00",0]
[null,null,null,null,null,null,null,null,null,0,0,null,"00:00:00",0,0,"",null,0,null,0,"00:00:00",0,0,0,null,0,null,0,null,0,"00:00:00",0]
[null,null,null,null,null,null,null,null,null,0,0,null,"00:00:00",0,0,"",null,0,null,0,"00:00:00",0,0,0,null,0,null,0,null,0,"00:00:00",0]
[null,null,null,null,null,null,null,null,null,0,0,null,"00:00:00",0,0,"",null,0,null,0,"00:00:00",0,0,0,null,0,null,0,null,0,"00:00:00",0]
[null,null,null,null,null,null,null,null,null,0,0,null,"00:00:00",0,0,"",null,0,null,0,"00:00:00",0,0,0,null,0,null,0,null,0,"00:00:00",0]
[null,null,null,null,null,null,null,null,null,0,0,null,"00:00:00",0,0,"",null,0,null,0,"00:00:00",0,0,0,null,0,null,0,null,0,"00:00:00",0]
[null,null,null,null,null,null,null,null,null,0,0,null,"00:00:00",0,0,"",null,0,null,0,"00:00:00",0,0,0,null,0,null,0,null,0,"00:00:00",0]
[null,null,null,null,null,null,null,null,null,0,0,null,"00:00:00",0,0,"",null,0,null,0,"00:00:00",0,0,0,null,0,null,0,null,0,"00:00:00",0]
[null,null,null,null,null,null,null,null,null,{"$f":"IF(DAY(A2573)=sipdate,1,IF(J2572=1,0,IF(J2571=1,0,IF(J2570=1,0,IF(J2569=1,0,IF(J2568=1,0,IF(J2567=1,0,IF(DAY(A2573)=sipdate+1,1,IF(DAY(A2573)=sipdate+2,1,IF(DAY(A2573)=sipdate+3,1,IF(DAY(A2573)=sipdate+4,1,IF(DAY(A2573)=sipdate+5,1,IF(DAY(A2573)=sipdate+6,1,IF(DAY(A2573)=sipdate+7,1,0))))))))))))))","v":0},{"$f":"IF(DAY(A2573)=sipdate,-sip,IF(K2572=-sip,0,IF(K2571=-sip,0,IF(K2570=-sip,0,IF(K2569=-sip,0,IF(K2568=-sip,0,IF(K2567=-sip,0,IF(DAY(A2573)=sipdate+1,-sip,IF(DAY(A2573)=sipdate+2,-sip,IF(DAY(A2573)=sipdate+3,-sip,IF(DAY(A2573)=sipdate+4,-sip,IF(DAY(A2573)=sipdate+5,-sip,IF(DAY(A2573)=sipdate+6,-sip,IF(DAY(A2573)=sipdate+7,-sip,0))))))))))))))","v":0},null,"00:00:00",0,0,"",null,0,null,0,"00:00:00",0,0,0,null,0,null,{"$f":"IF(INT((MONTH(M2573)-MONTH(sipstart))/3)-(MONTH(M2573)-MONTH(sipstart))/3=0,IF(DAY(A2573)=sipdate,1,IF(AB2572=1,0,IF(AB2571=1,0,IF(AB2570=1,0,IF(AB2569=1,0,IF(AB2568=1,0,IF(AB2567=1,0,IF(DAY(A2573)=sipdate+1,1,IF(DAY(A2573)=sipdate+2,1,IF(DAY(A2573)=sipdate+3,1,IF(DAY(A2573)=sipdate+4,1,IF(DAY(A2573)=sipdate+5,1,IF(DAY(A2573)=sipdate+6,1,IF(DAY(A2573)=sipdate+7,1,0)))))))))))))),0)","v":0},null,{"$f":"IF(INT((MONTH(M2573)-MONTH(sipstart))/12)-(MONTH(M2573)-MONTH(sipstart))/12=0,IF(DAY(A2573)=sipdate,1,IF(AB2572=1,0,IF(AB2571=1,0,IF(AB2570=1,0,IF(AB2569=1,0,IF(AB2568=1,0,IF(AB2567=1,0,IF(DAY(A2573)=sipdate+1,1,IF(DAY(A2573)=sipdate+2,1,IF(DAY(A2573)=sipdate+3,1,IF(DAY(A2573)=sipdate+4,1,IF(DAY(A2573)=sipdate+5,1,IF(DAY(A2573)=sipdate+6,1,IF(DAY(A2573)=sipdate+7,1,0)))))))))))))),0)","v":0},"00:00:00",0]
[null,null,null,null,null,null,null,null,null,0,0,null,"00:00:00",0,0,"",null,0,null,0,"00:00:00",0,0,0,null,0,null,0,null,0,"00:00:00",0]
[null,null,null,null,null,null,null,null,null,0,0,null,"00:00:00",0,0,"",null,0,null,0,"00:00:00",0,0,0,null,0,null,0,null,0,"00:00:00",0]
[null,null,null,null,null,null,null,null,null,0,0,null,"00:00:00",0,0,"",null,0,null,0,"00:00:00",0,0,0,null,0,null,0,null,0,"00:00:00",0]
[null,null,null,null,null,null,null,null,null,0,0,null,"00:00:00",0,0,"",null,0,null,0,"00:00:00",0,0,0,null,0,null,0,null,0,"00:00:00",0]
[null,null,null,null,null,null,null,null,null,0,0,null,"00:00:00",0,0,"",null,0,null,0,"00:00:00",0,0,0,null,0,null,0,null,0,"00:00:00",0]
[null,null,null,null,null,null,null,null,null,0,0,null,"00:00:00",0,0,"",null,0,null,0,"00:00:00",0,0,0,null,0,null,0,null,0,"00:00:00",0]
[null,null,null,null,null,null,null,null,null,0,0,null,"00:00:00",0,0,"",null,0,null,0,"00:00:00",0,0,0,null,0,null,0,null,0,"00:00:00",0]
[null,null,null,null,null,null,null,null,null,0,0,null,"00:00:00",0,0,"",null,0,null,0,"00:00:00",0,0,0,null,0,null,0,null,0,"00:00:00",0]
[null,null,null,null,null,null,null,null,null,0,0,null,"00:00:00",0,0,"",null,0,null,0,"00:00:00",0,0,0,null,0,null,0,null,0,"00:00:00",0]
[null,null,null,null,null,null,null,null,null,0,0,null,"00:00:00",0,0,"",null,0,null,0,"00:00:00",0,0,0,null,0,null,0,null,0,"00:00:00",0]
[null,null,null,null,null,null,null,null,null,0,0,null,"00:00:00",0,0,"",null,0,null,0,"00:00:00",0,0,0,null,0,null,0,null,0,"00:00:00",0]
[null,null,null,null,null,null,null,null,null,0,0,null,"00:00:00",0,0,"",null,0,null,0,"00:00:00",0,0,0,null,0,null,0,null,0,"00:00:00",0]
[null,null,null,null,null,null,null,null,null,0,0,null,"00:00:00",0,0,"",null,0,null,0,"00:00:00",0,0,0,null,0,null,0,null,0,"00:00:00",0]
[null,null,null,null,null,null,null,null,null,0,0,null,"00:00:00",0,0,"",null,0,null,0,"00:00:00",0,0,0,null,{"$f":"IF(R2624=0,IF(R2623=1,M2623,0),0)","v":0},null,0,null,0,"00:00:00",0]
[null,null,null,null,null,null,null,null,null,0,0,null,"00:00:00",0,0,"",null,0,null,0,"00:00:00",0,0,0,null,0,null,0,null,0,"00:00:00",0]
[null,null,null,null,null,null,null,null,null,0,0,null,"00:00:00",0,0,"",null,0,null,0,"00:00:00",0,0,0,null,0,null,0,null,0,"00:00:00",0]
[null,null,null,null,null,null,null,null,null,0,0,null,{"$f":"A2634","v":"00:00:00"},0,0,"",null,0,null,0,{"$f":"IF((IF(M2634>=sipstart,1,2)+IF(M2634<=sipend,1,2))=2,M2634,0)+IF(T2633=actualsipend,actualsipend,0)","v":"00:00:00"},{"$f":"IF(U2634+U2633=0,0,IF(U2634=U2633,sipunits*B2633,O2634))","v":0},0,0,null,0,null,0,null,0,"00:00:00",0]
[null,null,null,null,null,null,null,null,null,0,0,null,"00:00:00",0,0,"",null,0,null,0,"00:00:00",0,0,0,null,0,null,0,null,0,"00:00:00",0]
[null,null,null,null,null,null,null,null,null,0,0,null,"00:00:00",0,0,"",null,0,null,0,"00:00:00",0,0,0,null,0,null,0,null,0,"00:00:00",0]
[null,null,null,null,null,null,null,null,null,0,0,null,"00:00:00",0,0,"",null,0,null,0,"00:00:00",0,0,0,null,0,null,0,null,0,"00:00:00",0]
[null,null,null,null,null,null,null,null,null,0,0,null,"00:00:00",0,0,"",null,0,null,0,"00:00:00",0,0,0,null,0,null,0,null,0,"00:00:00",0]
[null,null,null,null,null,null,null,null,null,0,0,null,"00:00:00",0,0,"",null,0,null,0,"00:00:00",0,0,0,null,0,null,0,null,0,"00:00:00",0]
[null,null,null,null,null,null,null,null,null,0,0,null,"00:00:00",0,0,"",null,0,null,0,"00:00:00",0,0,0,null,0,null,0,null,0,"00:00:00",0]
[null,null,null,null,null,null,null,null,null,0,0,null,"00:00:00",0,0,"",null,0,null,0,"00:00:00",0,0,0,null,0,null,0,null,0,"00:00:00",0]
[null,null,null,null,null,null,null,null,null,0,0,null,"00:00:00",0,0,"",null,0,null,0,"00:00:00",0,0,0,null,0,null,0,null,0,"00:00:00",0]
[null,null,null,null,null,null,null,null,null,0,0,null,"00:00:00",0,0,"",null,0,null,0,"00:00:00",0,0,0,null,0,null,0,null,0,"00:00:00",0]
[null,null,null,null,null,null,null,null,null,0,0,null,"00:00:00",0,0,"",null,0,null,0,"00:00:00",0,0,0,null,0,null,0,null,0,"00:00:00",0]
[null,null,null,null,null,null,null,null,null,0,0,null,"00:00:00",0,0,"",null,0,null,0,"00:00:00",0,0,0,null,0,null,0,null,0,"00:00:00",0]
[null,null,null,null,null,null,null,null,null,0,0,null,"00:00:00",0,0,"",null,0,null,0,"00:00:00",0,0,0,null,0,null,0,null,0,"00:00:00",0]
[null,null,null,null,null,null,null,null,null,0,0,null,"00:00:00",0,0,"",null,0,null,0,"00:00:00",0,0,0,null,0,null,0,null,0,"00:00:00",0]
[null,null,null,null,null,null,null,null,null,0,0,null,"00:00:00",0,0,"",null,0,null,0,"00:00:00",0,0,0,null,0,null,0,null,0,"00:00:00",0]
[null,null,null,null,null,null,null,null,null,0,0,null,"00:00:00",0,0,"",null,0,null,0,"00:00:00",0,0,0,null,{"$f":"IF(R2688=0,IF(R2687=1,M2687,0),0)","v":0},null,0,null,0,"00:00:00",0]
[null,null,null,null,null,null,null,null,null,0,0,null,"00:00:00",0,0,"",null,0,null,0,"00:00:00",0,0,0,null,0,null,0,null,0,"00:00:00",0]
[null,null,null,null,null,null,null,null,null,0,0,null,"00:00:00",0,0,"",null,0,null,0,"00:00:00",0,0,0,null,0,null,0,null,0,"00:00:00",0]
[null,null,null,null,null,null,null,null,null,0,0,null,"00:00:00",0,0,"",null,0,null,0,"00:00:00",0,0,0,null,0,null,0,null,0,"00:00:00",0]
[null,null,null,null,null,null,null,null,null,{"$f":"IF(DAY(A2701)=sipdate,1,IF(J2700=1,0,IF(J2699=1,0,IF(J2698=1,0,IF(J2697=1,0,IF(J2696=1,0,IF(J2695=1,0,IF(DAY(A2701)=sipdate+1,1,IF(DAY(A2701)=sipdate+2,1,IF(DAY(A2701)=sipdate+3,1,IF(DAY(A2701)=sipdate+4,1,IF(DAY(A2701)=sipdate+5,1,IF(DAY(A2701)=sipdate+6,1,IF(DAY(A2701)=sipdate+7,1,0))))))))))))))","v":0},{"$f":"IF(DAY(A2701)=sipdate,-sip,IF(K2700=-sip,0,IF(K2699=-sip,0,IF(K2698=-sip,0,IF(K2697=-sip,0,IF(K2696=-sip,0,IF(K2695=-sip,0,IF(DAY(A2701)=sipdate+1,-sip,IF(DAY(A2701)=sipdate+2,-sip,IF(DAY(A2701)=sipdate+3,-sip,IF(DAY(A2701)=sipdate+4,-sip,IF(DAY(A2701)=sipdate+5,-sip,IF(DAY(A2701)=sipdate+6,-sip,IF(DAY(A2701)=sipdate+7,-sip,0))))))))))))))","v":0},null,"00:00:00",0,0,"",null,0,null,0,"00:00:00",0,0,0,null,0,null,{"$f":"IF(INT((MONTH(M2701)-MONTH(sipstart))/3)-(MONTH(M2701)-MONTH(sipstart))/3=0,IF(DAY(A2701)=sipdate,1,IF(AB2700=1,0,IF(AB2699=1,0,IF(AB2698=1,0,IF(AB2697=1,0,IF(AB2696=1,0,IF(AB2695=1,0,IF(DAY(A2701)=sipdate+1,1,IF(DAY(A2701)=sipdate+2,1,IF(DAY(A2701)=sipdate+3,1,IF(DAY(A2701)=sipdate+4,1,IF(DAY(A2701)=sipdate+5,1,IF(DAY(A2701)=sipdate+6,1,IF(DAY(A2701)=sipdate+7,1,0)))))))))))))),0)","v":0},null,{"$f":"IF(INT((MONTH(M2701)-MONTH(sipstart))/12)-(MONTH(M2701)-MONTH(sipstart))/12=0,IF(DAY(A2701)=sipdate,1,IF(AB2700=1,0,IF(AB2699=1,0,IF(AB2698=1,0,IF(AB2697=1,0,IF(AB2696=1,0,IF(AB2695=1,0,IF(DAY(A2701)=sipdate+1,1,IF(DAY(A2701)=sipdate+2,1,IF(DAY(A2701)=sipdate+3,1,IF(DAY(A2701)=sipdate+4,1,IF(DAY(A2701)=sipdate+5,1,IF(DAY(A2701)=sipdate+6,1,IF(DAY(A2701)=sipdate+7,1,0)))))))))))))),0)","v":0},"00:00:00",0]
[null,null,null,null,null,null,null,null,null,0,0,null,"00:00:00",0,0,"",null,0,null,0,"00:00:00",0,0,0,null,0,null,0,null,0,"00:00:00",0]
[null,null,null,null,null,null,null,null,null,0,0,null,"00:00:00",0,0,"",null,0,null,0,"00:00:00",0,0,0,null,0,null,0,null,0,"00:00:00",0]
[null,null,null,null,null,null,null,null,null,0,0,null,"00:00:00",0,0,"",null,0,null,0,"00:00:00",0,0,0,null,0,null,0,null,0,"00:00:00",0]
[null,null,null,null,null,null,null,null,null,0,0,null,"00:00:00",0,0,"",null,0,null,0,"00:00:00",0,0,0,null,0,null,0,null,0,"00:00:00",0]
[null,null,null,null,null,null,null,null,null,0,0,null,"00:00:00",0,0,"",null,0,null,0,"00:00:00",0,0,0,null,0,null,0,null,0,"00:00:00",0]
[null,null,null,null,null,null,null,null,null,0,0,null,"00:00:00",0,0,"",null,0,null,0,"00:00:00",0,0,0,null,0,null,0,null,0,"00:00:00",0]
[null,null,null,null,null,null,null,null,null,0,0,null,"00:00:00",0,0,"",null,0,null,0,"00:00:00",0,0,0,null,0,null,0,null,0,"00:00:00",0]
[null,null,null,null,null,null,null,null,null,0,0,null,"00:00:00",0,0,"",null,0,null,0,"00:00:00",0,0,0,null,0,null,0,null,0,"00:00:00",0]
[null,null,null,null,null,null,null,null,null,0,0,null,"00:00:00",0,0,"",null,0,null,0,"00:00:00",0,0,0,null,0,null,0,null,0,"00:00:00",0]
[null,null,null,null,null,null,null,null,null,0,0,null,"00:00:00",0,0,"",null,0,null,0,"00:00:00",0,0,0,null,0,null,0,null,0,"00:00:00",0]
[null,null,null,null,null,null,null,null,null,0,0,null,"00:00:00",0,0,"",null,0,null,0,"00:00:00",0,0,0,null,0,null,0,null,0,"00:00:00",0]
[null,null,null,null,null,null,null,null,null,0,0,null,"00:00:00",0,0,"",null,0,null,0,"00:00:00",0,0,0,null,0,null,0,null,0,"00:00:00",0]
[null,null,null,null,null,null,null,null,null,0,0,null,"00:00:00",0,0,"",null,0,null,0,"00:00:00",0,0,0,null,0,null,0,null,0,"00:00:00",0]
[null,null,null,null,null,null,null,null,null,0,0,null,"00:00:00",0,0,"",null,0,null,0,"00:00:00",0,0,0,null,0,null,0,null,0,"00:00:00",0]
[null,null,null,null,null,null,null,null,null,0,0,null,"00:00:00",0,0,"",null,0,null,0,"00:00:00",0,0,0,null,0,null,0,null,0,"00:00:00",0]
[null,null,null,null,null,null,null,null,null,0,0,null,"00:00:00",{"$f":"IF(IF(M2761>=sipstart,1,0)+IF(M2761<=sipend,1,0)=2,J2761,0)","v":0},{"$f":"IF(IF(M2761>=sipstart,1,0)+IF(M2761<=sipend,1,0)=2,K2761,0)","v":0},{"$f":"IF(O2761=-sip,-O2761/B2761,\"\")","v":""},null,{"$f":"IF(IF(M2761>=sipstart,1,0)+IF(M2761<=sipend,1,0)=2,1,0)","v":0},null,{"$f":"IF((IF(M2761>=sipstart,1,2)+IF(M2761<=sipend,1,2))=2,M2761,0)","v":0},"00:00:00",0,{"$f":"IF(V2761=-sip,U2761,0)","v":0},{"$f":"IF(V2761=-sip,B2761,0)","v":0},null,0,null,0,null,0,{"$f":"IF(AD2761=1,A2761,0)","v":"00:00:00"},{"$f":"IF(AD2761=1,B2761,0)","v":0}]
[null,null,null,null,null,null,null,null,null,0,0,null,"00:00:00",0,0,"",null,0,null,0,"00:00:00",0,0,0,null,0,null,0,null,0,"00:00:00",0]
[null,null,null,null,null,null,null,null,null,0,0,null,"00:00:00",0,0,"",null,0,null,0,"00:00:00",0,0,0,null,0,null,0,null,0,"00:00:00",0]
[null,null,null,null,null,null,null,null,null,0,0,null,"00:00:00",0,0,"",null,0,null,0,"00:00:00",0,0,0,null,0,null,0,null,0,"00:00:00",0]
[null,null,null,null,null,null,null,null,null,0,0,null,"00:00:00",0,0,"",null,0,null,0,"00:00:00",0,0,0,null,0,null,0,null,0,"00:00:00",0]
[null,null,null,null,null,null,null,null,null,0,0,null,"00:00:00",0,0,"",null,0,null,0,"00:00:00",0,0,0,null,0,null,0,null,0,"00:00:00",0]
[null,null,null,null,null,null,null,null,null,0,0,null,"00:00:00",0,0,"",null,0,null,0,"00:00:00",0,0,0,null,0,null,0,null,0,"00:00:00",0]
[null,null,null,null,null,null,null,null,null,0,0,null,"00:00:00",0,0,"",null,0,null,0,"00:00:00",0,0,0,null,0,null,0,null,0,"00:00:00",0]
[null,null,null,null,null,null,null,null,null,0,0,null,"00:00:00",0,0,"",null,0,null,0,"00:00:00",0,0,0,null,0,null,0,null,0,"00:00:00",0]
[null,null,null,null,null,null,null,null,null,0,0,null,"00:00:00",0,0,"",null,0,null,0,"00:00:00",0,0,0,null,0,null,0,null,0,"00:00:00",0]
[null,null,null,null,null,null,null,null,null,0,0,null,"00:00:00",0,0,"",null,0,null,0,"00:00:00",0,0,0,null,0,null,0,null,0,"00:00:00",0]
[null,null,null,null,null,null,null,null,null,0,0,null,"00:00:00",0,0,"",null,0,null,0,"00:00:00",0,0,0,null,0,null,0,null,0,"00:00:00",0]
[null,null,null,null,null,null,null,null,null,0,0,null,"00:00:00",0,0,"",null,0,null,0,"00:00:00",0,0,0,null,0,null,0,null,0,"00:00:00",0]
[null,null,null,null,null,null,null,null,null,0,0,null,"00:00:00",0,0,"",null,0,null,0,"00:00:00",0,0,0,null,0,null,0,null,0,"00:00:00",0]
[null,null,null,null,null,null,null,null,null,0,0,null,"00:00:00",0,0,"",null,0,null,0,"00:00:00",0,0,0,null,0,null,0,null,0,"00:00:00",0]
[null,null,null,null,null,null,null,null,null,0,0,null,"00:00:00",0,0,"",null,0,null,0,"00:00:00",0,0,0,null,{"$f":"IF(R2816=0,IF(R2815=1,M2815,0),0)","v":0},null,0,null,0,"00:00:00",0]
[null,null,null,null,null,null,null,null,null,0,0,null,"00:00:00",0,0,"",null,0,null,0,"00:00:00",0,0,0,null,0,null,0,null,0,"00:00:00",0]
[null,null,null,null,null,null,null,null,null,0,0,null,"00:00:00",0,0,"",null,0,null,0,"00:00:00",0,0,0,null,0,null,0,null,0,"00:00:00",0]
[null,null,null,null,null,null,null,null,null,0,0,null,"00:00:00",{"$f":"IF(IF(M2825>=sipstart,1,0)+IF(M2825<=sipend,1,0)=2,J2825,0)","v":0},{"$f":"IF(IF(M2825>=sipstart,1,0)+IF(M2825<=sipend,1,0)=2,K2825,0)","v":0},{"$f":"IF(O2825=-sip,-O2825/B2825,\"\")","v":""},null,{"$f":"IF(IF(M2825>=sipstart,1,0)+IF(M2825<=sipend,1,0)=2,1,0)","v":0},null,{"$f":"IF((IF(M2825>=sipstart,1,2)+IF(M2825<=sipend,1,2))=2,M2825,0)","v":0},"00:00:00",0,{"$f":"IF(V2825=-sip,U2825,0)","v":0},{"$f":"IF(V2825=-sip,B2825,0)","v":0},null,0,null,0,null,0,{"$f":"IF(AD2825=1,A2825,0)","v":"00:00:00"},{"$f":"IF(AD2825=1,B2825,0)","v":0}]
[null,null,null,null,null,null,null,null,null,0,0,null,"00:00:00",0,0,"",null,0,null,0,"00:00:00",0,0,0,null,0,null,0,null,0,"00:00:00",0]
[null,null,null,null,null,null,null,null,null,0,0,null,"00:00:00",0,0,"",null,0,null,0,"00:00:00",0,0,0,null,0,null,0,null,0,"00:00:00",0]
[null,null,null,null,null,null,null,null,null,0,0,null,"00:00:00",0,0,"",null,0,null,0,"00:00:00",0,0,0,null,0,null,0,null,0,"00:00:00",0]
[null,null,null,null,null,null,null,null,null,0,0,null,"00:00:00",0,0,"",null,0,null,0,"00:00:00",0,0,0,null,0,null,0,null,0,"00:00:00",0]
[null,null,null,null,null,null,null,null,null,0,0,null,"00:00:00",0,0,"",null,0,null,0,"00:00:00",0,0,0,null,0,null,0,null,0,"00:00:00",0]
[null,null,null,null,null,null,null,null,null,0,0,null,"00:00:00",0,0,"",null,0,null,0,"00:00:00",0,0,0,null,0,null,0,null,0,"00:00:00",0]
[null,null,null,null,null,null,null,null,null,0,0,null,"00:00:00",0,0,"",null,0,null,0,"00:00:00",0,0,0,null,0,null,0,null,0,"00:00:00",0]
[null,null,null,null,null,null,null,null,null,0,0,null,"00:00:00",0,0,"",null,0,null,0,"00:00:00",0,0,0,null,0,null,0,null,0,"00:00:00",0]
[null,null,null,null,null,null,null,null,null,0,0,null,"00:00:00",0,0,"",null,0,null,0,"00:00:00",0,0,0,null,0,null,0,null,0,"00:00:00",0]
[null,null,null,null,null,null,null,null,null,0,0,null,"00:00:00",0,0,"",null,0,null,0,"00:00:00",0,0,0,null,0,null,0,null,0,"00:00:00",0]
[null,null,null,null,null,null,null,null,null,0,0,null,"00:00:00",0,0,"",null,0,null,0,"00:00:00",0,0,0,null,0,null,0,null,0,"00:00:00",0]
[null,null,null,null,null,null,null,null,null,0,0,null,"00:00:00",0,0,"",null,0,null,0,"00:00:00",0,0,0,null,0,null,0,null,0,"00:00:00",0]
[null,null,null,null,null,null,null,null,null,0,0,null,"00:00:00",0,0,"",null,0,null,0,"00:00:00",0,0,0,null,0,null,0,null,0,"00:00:00",0]
[null,null,null,null,null,null,null,null,null,0,0,null,"00:00:00",0,0,"",null,0,null,0,"00:00:00",0,0,0,null,0,null,0,null,0,"00:00:00",0]
[null,null,null,null,null,null,null,null,null,0,0,null,"00:00:00",0,0,"",null,0,null,0,"00:00:00",0,0,0,null,0,null,0,null,0,"00:00:00",0]
[null,null,null,null,null,null,null,null,null,0,0,null,"00:00:00",0,0,"",null,0,null,0,"00:00:00",0,0,0,null,0,null,0,null,0,"00:00:00",0]
[null,null,null,null,null,null,null,null,null,0,0,null,"00:00:00",0,0,"",null,0,null,0,"00:00:00",0,0,0,null,0,null,0,null,0,"00:00:00",0]
[null,null,null,null,null,null,null,null,null,0,0,null,"00:00:00",{"$f":"IF(IF(M2889>=sipstart,1,0)+IF(M2889<=sipend,1,0)=2,J2889,0)","v":0},{"$f":"IF(IF(M2889>=sipstart,1,0)+IF(M2889<=sipend,1,0)=2,K2889,0)","v":0},{"$f":"IF(O2889=-sip,-O2889/B2889,\"\")","v":""},null,{"$f":"IF(IF(M2889>=sipstart,1,0)+IF(M2889<=sipend,1,0)=2,1,0)","v":0},null,{"$f":"IF((IF(M2889>=sipstart,1,2)+IF(M2889<=sipend,1,2))=2,M2889,0)","v":0},"00:00:00",0,{"$f":"IF(V2889=-sip,U2889,0)","v":0},{"$f":"IF(V2889=-sip,B2889,0)","v":0},null,0,null,0,null,0,{"$f":"IF(AD2889=1,A2889,0)","v":"00:00:00"},{"$f":"IF(AD2889=1,B2889,0)","v":0}]
[null,null,null,null,null,null,null,null,null,0,0,null,"00:00:00",0,0,"",null,0,null,0,"00:00:00",0,0,0,null,0,null,0,null,0,"00:00:00",0]
[null,null,null,null,null,null,null,null,null,0,0,null,"00:00:00",0,0,"",null,0,null,0,"00:00:00",0,0,0,null,0,null,0,null,0,"00:00:00",0]
[null,null,null,null,null,null,null,null,null,0,0,null,"00:00:00",0,0,"",null,0,null,0,"00:00:00",0,0,0,null,0,null,0,null,0,"00:00:00",0]
[null,null,null,null,null,null,null,null,null,0,0,null,"00:00:00",0,0,"",null,0,null,0,"00:00:00",0,0,0,null,0,null,0,null,0,"00:00:00",0]
[null,null,null,null,null,null,null,null,null,0,0,null,"00:00:00",0,0,"",null,0,null,0,"00:00:00",0,0,0,null,0,null,0,null,0,"00:00:00",0]
[null,null,null,null,null,null,null,null,null,0,0,null,"00:00:00",0,0,"",null,0,null,0,"00:00:00",0,0,0,null,0,null,0,null,0,"00:00:00",0]
[null,null,null,null,null,null,null,null,null,0,0,null,"00:00:00",0,0,"",null,0,null,0,"00:00:00",0,0,0,null,0,null,0,null,0,"00:00:00",0]
[null,null,null,null,null,null,null,null,null,0,0,null,"00:00:00",0,0,"",null,0,null,0,"00:00:00",0,0,0,null,0,null,0,null,0,"00:00:00",0]
[null,null,null,null,null,null,null,null,null,0,0,null,"00:00:00",0,0,"",null,0,null,0,"00:00:00",0,0,0,null,0,null,0,null,0,"00:00:00",0]
[null,null,null,null,null,null,null,null,null,0,0,null,"00:00:00",0,0,"",null,0,null,0,"00:00:00",0,0,0,null,0,null,0,null,0,"00:00:00",0]
[null,null,null,null,null,null,null,null,null,0,0,null,"00:00:00",0,0,"",null,0,null,0,"00:00:00",0,0,0,null,0,null,0,null,0,"00:00:00",0]
[null,null,null,null,null,null,null,null,null,0,0,null,"00:00:00",0,0,"",null,0,null,0,"00:00:00",0,0,0,null,0,null,0,null,0,"00:00:00",0]
[null,null,null,null,null,null,null,null,null,0,0,null,"00:00:00",0,0,"",null,0,null,0,"00:00:00",0,0,0,null,0,null,0,null,0,"00:00:00",0]
[null,null,null,null,null,null,null,null,null,0,0,null,"00:00:00",0,0,"",null,0,null,0,"00:00:00",0,0,0,null,0,null,0,null,0,"00:00:00",0]
[null,null,null,null,null,null,null,null,null,0,0,null,"00:00:00",0,0,"",null,0,null,0,"00:00:00",0,0,0,null,0,null,0,null,0,"00:00:00",0]
[null,null,null,null,null,null,null,null,null,0,0,null,"00:00:00",0,0,"",null,0,null,0,"00:00:00",0,0,0,null,0,null,0,null,0,"00:00:00",0]
[null,null,null,null,null,null,null,null,null,0,0,null,"00:00:00",0,0,"",null,0,null,0,"00:00:00",0,0,0,null,0,null,0,null,0,"00:00:00",0]
[null,null,null,null,null,null,null,null,null,0,0,null,{"$f":"A2954","v":"00:00:00"},0,0,"",null,0,null,0,{"$f":"IF((IF(M2954>=sipstart,1,2)+IF(M2954<=sipend,1,2))=2,M2954,0)+IF(T2953=actualsipend,actualsipend,0)","v":"00:00:00"},{"$f":"IF(U2954+U2953=0,0,IF(U2954=U2953,sipunits*B2953,O2954))","v":0},0,0,null,0,null,0,null,0,"00:00:00",0]
[null,null,null,null,null,null,null,null,null,0,0,null,"00:00:00",0,0,"",null,0,null,0,"00:00:00",0,0,0,null,0,null,0,null,0,"00:00:00",0]
[null,null,null,null,null,null,null,null,null,0,0,null,"00:00:00",0,0,"",null,0,null,0,"00:00:00",0,0,0,null,0,null,0,null,0,"00:00:00",0]
[null,null,null,null,null,null,null,null,null,0,0,null,"00:00:00",0,0,"",null,0,null,0,"00:00:00",0,0,0,null,0,null,0,null,0,"00:00:00",0]
[null,null,null,null,null,null,null,null,null,0,0,null,"00:00:00",0,0,"",null,0,null,0,"00:00:00",0,0,0,null,0,null,0,null,0,"00:00:00",0]
[null,null,null,null,null,null,null,null,null,0,0,null,"00:00:00",0,0,"",null,0,null,0,"00:00:00",0,0,0,null,0,null,0,null,0,"00:00:00",0]
[null,null,null,null,null,null,null,null,null,0,0,null,"00:00:00",0,0,"",null,0,null,0,"00:00:00",0,0,0,null,0,null,0,null,0,"00:00:00",0]
[null,null,null,null,null,null,null,null,null,0,0,null,"00:00:00",0,0,"",null,0,null,0,"00:00:00",0,0,0,null,0,null,0,null,0,"00:00:00",0]
[null,null,null,null,null,null,null,null,null,0,0,null,"00:00:00",0,0,"",null,0,null,0,"00:00:00",0,0,0,null,0,null,0,null,0,"00:00:00",0]
[null,null,null,null,null,null,null,null,null,0,0,null,"00:00:00",0,0,"",null,0,null,0,"00:00:00",0,0,0,null,0,null,0,null,0,"00:00:00",0]
[null,null,null,null,null,null,null,null,null,0,0,null,"00:00:00",0,0,"",null,0,null,0,"00:00:00",0,0,0,null,0,null,0,null,0,"00:00:00",0]
[null,null,null,null,null,null,null,null,null,0,0,null,"00:00:00",0,0,"",null,0,null,0,"00:00:00",0,0,0,null,0,null,0,null,0,"00:00:00",0]
[null,null,null,null,null,null,null,null,null,0,0,null,"00:00:00",0,0,"",null,0,null,0,"00:00:00",0,0,0,null,0,null,0,null,0,"00:00:00",0]
[null,null,null,null,null,null,null,null,null,0,0,null,"00:00:00",0,0,"",null,0,null,0,"00:00:00",0,0,0,null,0,null,0,null,0,"00:00:00",0]
[null,null,null,null,null,null,null,null,null,0,0,null,"00:00:00",0,0,"",null,0,null,0,"00:00:00",0,0,0,null,0,null,0,null,0,"00:00:00",0]
[null,null,null,null,null,null,null,null,null,0,0,null,"00:00:00",0,0,"",null,0,null,0,"00:00:00",0,0,0,null,{"$f":"IF(R3008=0,IF(R3007=1,M3007,0),0)","v":0},null,0,null,0,"00:00:00",0]
[null,null,null,null,null,null,null,null,null,0,0,null,"00:00:00",0,0,"",null,0,null,0,"00:00:00",0,0,0,null,0,null,0,null,0,"00:00:00",0]
[null,null,null,null,null,null,null,null,null,0,0,null,"00:00:00",0,0,"",null,0,null,0,"00:00:00",0,0,0,null,0,null,0,null,0,"00:00:00",0]
[null,null,null,null,null,null,null,null,null,0,0,null,"00:00:00",{"$f":"IF(IF(M3017>=sipstart,1,0)+IF(M3017<=sipend,1,0)=2,J3017,0)","v":0},{"$f":"IF(IF(M3017>=sipstart,1,0)+IF(M3017<=sipend,1,0)=2,K3017,0)","v":0},{"$f":"IF(O3017=-sip,-O3017/B3017,\"\")","v":""},null,{"$f":"IF(IF(M3017>=sipstart,1,0)+IF(M3017<=sipend,1,0)=2,1,0)","v":0},null,{"$f":"IF((IF(M3017>=sipstart,1,2)+IF(M3017<=sipend,1,2))=2,M3017,0)","v":0},"00:00:00",0,{"$f":"IF(V3017=-sip,U3017,0)","v":0},{"$f":"IF(V3017=-sip,B3017,0)","v":0},null,0,null,0,null,0,{"$f":"IF(AD3017=1,A3017,0)","v":"00:00:00"},{"$f":"IF(AD3017=1,B3017,0)","v":0}]
[null,null,null,null,null,null,null,null,null,{"$f":"IF(DAY(A3021)=sipdate,1,IF(J3020=1,0,IF(J3019=1,0,IF(J3018=1,0,IF(J3017=1,0,IF(J3016=1,0,IF(J3015=1,0,IF(DAY(A3021)=sipdate+1,1,IF(DAY(A3021)=sipdate+2,1,IF(DAY(A3021)=sipdate+3,1,IF(DAY(A3021)=sipdate+4,1,IF(DAY(A3021)=sipdate+5,1,IF(DAY(A3021)=sipdate+6,1,IF(DAY(A3021)=sipdate+7,1,0))))))))))))))","v":0},{"$f":"IF(DAY(A3021)=sipdate,-sip,IF(K3020=-sip,0,IF(K3019=-sip,0,IF(K3018=-sip,0,IF(K3017=-sip,0,IF(K3016=-sip,0,IF(K3015=-sip,0,IF(DAY(A3021)=sipdate+1,-sip,IF(DAY(A3021)=sipdate+2,-sip,IF(DAY(A3021)=sipdate+3,-sip,IF(DAY(A3021)=sipdate+4,-sip,IF(DAY(A3021)=sipdate+5,-sip,IF(DAY(A3021)=sipdate+6,-sip,IF(DAY(A3021)=sipdate+7,-sip,0))))))))))))))","v":0},null,"00:00:00",0,0,"",null,0,null,0,"00:00:00",0,0,0,null,0,null,{"$f":"IF(INT((MONTH(M3021)-MONTH(sipstart))/3)-(MONTH(M3021)-MONTH(sipstart))/3=0,IF(DAY(A3021)=sipdate,1,IF(AB3020=1,0,IF(AB3019=1,0,IF(AB3018=1,0,IF(AB3017=1,0,IF(AB3016=1,0,IF(AB3015=1,0,IF(DAY(A3021)=sipdate+1,1,IF(DAY(A3021)=sipdate+2,1,IF(DAY(A3021)=sipdate+3,1,IF(DAY(A3021)=sipdate+4,1,IF(DAY(A3021)=sipdate+5,1,IF(DAY(A3021)=sipdate+6,1,IF(DAY(A3021)=sipdate+7,1,0)))))))))))))),0)","v":0},null,{"$f":"IF(INT((MONTH(M3021)-MONTH(sipstart))/12)-(MONTH(M3021)-MONTH(sipstart))/12=0,IF(DAY(A3021)=sipdate,1,IF(AB3020=1,0,IF(AB3019=1,0,IF(AB3018=1,0,IF(AB3017=1,0,IF(AB3016=1,0,IF(AB3015=1,0,IF(DAY(A3021)=sipdate+1,1,IF(DAY(A3021)=sipdate+2,1,IF(DAY(A3021)=sipdate+3,1,IF(DAY(A3021)=sipdate+4,1,IF(DAY(A3021)=sipdate+5,1,IF(DAY(A3021)=sipdate+6,1,IF(DAY(A3021)=sipdate+7,1,0)))))))))))))),0)","v":0},"00:00:00",0]
[null,null,null,null,null,null,null,null,null,0,0,null,"00:00:00",0,0,"",null,0,null,0,"00:00:00",0,0,0,null,0,null,0,null,0,"00:00:00",0]
[null,null,null,null,null,null,null,null,null,0,0,null,"00:00:00",0,0,"",null,0,null,0,"00:00:00",0,0,0,null,0,null,0,null,0,"00:00:00",0]
[null,null,null,null,null,null,null,null,null,0,0,null,"00:00:00",0,0,"",null,0,null,0,"00:00:00",0,0,0,null,0,null,0,null,0,"00:00:00",0]
[null,null,null,null,null,null,null,null,null,0,0,null,"00:00:00",0,0,"",null,0,null,0,"00:00:00",0,0,0,null,0,null,0,null,0,"00:00:00",0]
[null,null,null,null,null,null,null,null,null,0,0,null,"00:00:00",0,0,"",null,0,null,0,"00:00:00",0,0,0,null,0,null,0,null,0,"00:00:00",0]
[null,null,null,null,null,null,null,null,null,0,0,null,"00:00:00",0,0,"",null,0,null,0,"00:00:00",0,0,0,null,0,null,0,null,0,"00:00:00",0]
[null,null,null,null,null,null,null,null,null,0,0,null,"00:00:00",0,0,"",null,0,null,0,"00:00:00",0,0,0,null,0,null,0,null,0,"00:00:00",0]
[null,null,null,null,null,null,null,null,null,0,0,null,"00:00:00",0,0,"",null,0,null,0,"00:00:00",0,0,0,null,0,null,0,null,0,"00:00:00",0]
[null,null,null,null,null,null,null,null,null,0,0,null,"00:00:00",0,0,"",null,0,null,0,"00:00:00",0,0,0,null,0,null,0,null,0,"00:00:00",0]
[null,null,null,null,null,null,null,null,null,0,0,null,"00:00:00",0,0,"",null,0,null,0,"00:00:00",0,0,0,null,0,null,0,null,0,"00:00:00",0]
[null,null,null,null,null,null,null,null,null,0,0,null,"00:00:00",0,0,"",null,0,null,0,"00:00:00",0,0,0,null,0,null,0,null,0,"00:00:00",0]
[null,null,null,null,null,null,null,null,null,0,0,null,"00:00:00",0,0,"",null,0,null,0,"00:00:00",0,0,0,null,0,null,0,null,0,"00:00:00",0]
[null,null,null,null,null,null,null,null,null,0,0,null,"00:00:00",0,0,"",null,0,null,0,"00:00:00",0,0,0,null,0,null,0,null,0,"00:00:00",0]
[null,null,null,null,null,null,null,null,null,0,0,null,"00:00:00",0,0,"",null,0,null,0,"00:00:00",0,0,0,null,0,null,0,null,0,"00:00:00",0]
[null,null,null,null,null,null,null,null,null,0,0,null,"00:00:00",0,0,"",null,0,null,0,"00:00:00",0,0,0,null,0,null,0,null,0,"00:00:00",0]
[null,null,null,null,null,null,null,null,null,0,0,null,"00:00:00",0,0,"",null,0,null,0,"00:00:00",0,0,0,null,0,null,0,null,0,"00:00:00",0]
[null,null,null,null,null,null,null,null,null,0,0,null,"00:00:00",0,0,"",null,0,null,0,"00:00:00",0,0,0,null,0,null,0,null,0,"00:00:00",0]
[null,null,null,null,null,null,null,null,null,0,0,null,"00:00:00",0,0,"",null,0,null,0,"00:00:00",0,0,0,null,0,null,0,null,0,"00:00:00",0]
[null,null,null,null,null,null,null,null,null,0,0,null,"00:00:00",0,0,"",null,0,null,0,"00:00:00",0,0,0,null,0,null,0,null,0,"00:00:00",0]
[null,null,null,null,null,null,null,null,null,0,0,null,"00:00:00",0,0,"",null,0,null,0,"00:00:00",0,0,0,null,0,null,0,null,0,"00:00:00",0]
[null,null,null,null,null,null,null,null,null,0,0,null,"00:00:00",0,0,"",null,0,null,0,"00:00:00",0,0,0,null,0,null,0,null,0,"00:00:00",0]
[null,null,null,null,null,null,null,null,null,0,0,null,"00:00:00",0,0,"",null,0,null,0,"00:00:00",0,0,0,null,0,null,0,null,0,"00:00:00",0]
[null,null,null,null,null,null,null,null,null,0,0,null,"00:00:00",0,0,"",null,0,null,0,"00:00:00",0,0,0,null,0,null,0,null,0,"00:00:00",0]
[null,null,null,null,null,null,null,null,null,0,0,null,"00:00:00",0,0,"",null,0,null,0,"00:00:00",0,0,0,null,0,null,0,null,0,"00:00:00",0]
[null,null,null,null,null,null,null,null,null,0,0,null,"00:00:00",0,0,"",null,0,null,0,"00:00:00",0,0,0,null,0,null,0,null,0,"00:00:00",0]
[null,null,null,null,null,null,null,null,null,0,0,null,"00:00:00",0,0,"",null,0,null,0,"00:00:00",0,0,0,null,0,null,0,null,0,"00:00:00",0]
[null,null,null,null,null,null,null,null,null,0,0,null,"00:00:00",0,0,"",null,0,null,0,"00:00:00",0,0,0,null,0,null,0,null,0,"00:00:00",0]
[null,null,null,null,null,null,null,null,null,0,0,null,"00:00:00",0,0,"",null,0,null,0,"00:00:00",0,0,0,null,0,null,0,null,0,"00:00:00",0]
[null,null,null,null,null,null,null,null,null,0,0,null,"00:00:00",0,0,"",null,0,null,0,"00:00:00",0,0,0,null,0,null,0,null,0,"00:00:00",0]
[null,null,null,null,null,null,null,null,null,0,0,null,"00:00:00",0,0,"",null,0,null,0,"00:00:00",0,0,0,null,0,null,0,null,0,"00:00:00",0]
[null,null,null,null,null,null,null,null,null,0,0,null,"00:00:00",0,0,"",null,0,null,0,"00:00:00",0,0,0,null,0,null,0,null,0,"00:00:00",0]
[null,null,null,null,null,null,null,null,null,0,0,null,"00:00:00",0,0,"",null,0,null,0,"00:00:00",0,0,0,null,{"$f":"IF(R3136=0,IF(R3135=1,M3135,0),0)","v":0},null,0,null,0,"00:00:00",0]
[null,null,null,null,null,null,null,null,null,0,0,null,"00:00:00",0,0,"",null,0,null,0,"00:00:00",0,0,0,null,0,null,0,null,0,"00:00:00",0]
[null,null,null,null,null,null,null,null,null,0,0,null,"00:00:00",{"$f":"IF(IF(M3145>=sipstart,1,0)+IF(M3145<=sipend,1,0)=2,J3145,0)","v":0},{"$f":"IF(IF(M3145>=sipstart,1,0)+IF(M3145<=sipend,1,0)=2,K3145,0)","v":0},{"$f":"IF(O3145=-sip,-O3145/B3145,\"\")","v":""},null,{"$f":"IF(IF(M3145>=sipstart,1,0)+IF(M3145<=sipend,1,0)=2,1,0)","v":0},null,{"$f":"IF((IF(M3145>=sipstart,1,2)+IF(M3145<=sipend,1,2))=2,M3145,0)","v":0},"00:00:00",0,{"$f":"IF(V3145=-sip,U3145,0)","v":0},{"$f":"IF(V3145=-sip,B3145,0)","v":0},null,0,null,0,null,0,{"$f":"IF(AD3145=1,A3145,0)","v":"00:00:00"},{"$f":"IF(AD3145=1,B3145,0)","v":0}]
[null,null,null,null,null,null,null,null,null,0,0,null,"00:00:00",0,0,"",null,0,null,0,"00:00:00",0,0,0,null,0,null,0,null,0,"00:00:00",0]
[null,null,null,null,null,null,null,null,null,0,0,null,"00:00:00",0,0,"",null,0,null,0,"00:00:00",0,0,0,null,0,null,0,null,0,"00:00:00",0]
[null,null,null,null,null,null,null,null,null,0,0,null,"00:00:00",0,0,"",null,0,null,0,"00:00:00",0,0,0,null,0,null,0,null,0,"00:00:00",0]
[null,null,null,null,null,null,null,null,null,0,0,null,"00:00:00",0,0,"",null,0,null,0,"00:00:00",0,0,0,null,0,null,0,null,0,"00:00:00",0]
[null,null,null,null,null,null,null,null,null,0,0,null,{"$f":"A3160","v":"00:00:00"},0,0,"",null,0,null,0,"00:00:00",0,0,0,null,0,null,0,null,0,"00:00:00",0]
[null,null,null,null,null,null,null,null,null,0,0,null,"00:00:00",0,0,"",null,0,null,0,"00:00:00",0,0,0,null,0,null,0,null,0,"00:00:00",0]
[null,null,null,null,null,null,null,null,null,0,0,null,"00:00:00",0,0,"",null,0,null,0,"00:00:00",0,0,0,null,0,null,0,null,0,"00:00:00",0]
[null,null,null,null,null,null,null,null,null,0,0,null,"00:00:00",0,0,"",null,0,null,0,"00:00:00",0,0,0,null,0,null,0,null,0,"00:00:00",0]
[null,null,null,null,null,null,null,null,null,0,0,null,"00:00:00",0,0,"",null,0,null,0,"00:00:00",0,0,0,null,0,null,0,null,0,"00:00:00",0]
[null,null,null,null,null,null,null,null,null,0,0,null,"00:00:00",0,0,"",null,0,null,0,"00:00:00",0,0,0,null,0,null,0,null,0,"00:00:00",0]
[null,null,null,null,null,null,null,null,null,0,0,null,"00:00:00",0,0,"",null,0,null,0,"00:00:00",0,0,0,null,0,null,0,null,0,"00:00:00",0]
[null,null,null,null,null,null,null,null,null,0,0,null,"00:00:00",0,0,"",null,0,null,0,"00:00:00",0,0,0,null,0,null,0,null,0,"00:00:00",0]
[null,null,null,null,null,null,null,null,null,0,0,null,"00:00:00",0,0,"",null,0,null,0,"00:00:00",0,0,0,null,0,null,0,null,0,"00:00:00",0]
[null,null,null,null,null,null,null,null,null,0,0,null,"00:00:00",0,0,"",null,0,null,0,"00:00:00",0,0,0,null,0,null,0,null,0,"00:00:00",0]
[null,null,null,null,null,null,null,null,null,0,0,null,"00:00:00",0,0,"",null,0,null,0,"00:00:00",0,0,0,null,0,null,0,null,0,"00:00:00",0]
[null,null,null,null,null,null,null,null,null,0,0,null,"00:00:00",0,0,"",null,0,null,0,"00:00:00",0,0,0,null,0,null,0,null,0,"00:00:00",0]
[null,null,null,null,null,null,null,null,null,0,0,null,"00:00:00",0,0,"",null,0,null,0,"00:00:00",0,0,0,null,0,null,0,null,0,"00:00:00",0]
[null,null,null,null,null,null,null,null,null,0,0,null,"00:00:00",0,0,"",null,0,null,0,"00:00:00",0,0,0,null,0,null,0,null,0,"00:00:00",0]
[null,null,null,null,null,null,null,null,null,0,0,null,"00:00:00",0,0,"",null,0,null,0,"00:00:00",0,0,0,null,0,null,0,null,0,"00:00:00",0]
[null,null,null,null,null,null,null,null,null,0,0,null,"00:00:00",0,0,"",null,0,null,0,"00:00:00",0,0,0,null,0,null,0,null,0,"00:00:00",0]
[null,null,null,null,null,null,null,null,null,0,0,null,"00:00:00",0,0,"",null,0,null,0,"00:00:00",0,0,0,null,0,null,0,null,0,"00:00:00",0]
[null,null,null,null,null,null,null,null,null,0,0,null,"00:00:00",0,0,"",null,0,null,0,"00:00:00",0,0,0,null,0,null,0,null,0,"00:00:00",0]
[null,null,null,null,null,null,null,null,null,0,0,null,"00:00:00",0,0,"",null,0,null,0,"00:00:00",0,0,0,null,0,null,0,null,0,"00:00:00",0]
[null,null,null,null,null,null,null,null,null,0,0,null,"00:00:00",0,0,"",null,0,null,0,"00:00:00",0,0,0,null,0,null,0,null,0,"00:00:00",0]
[null,null,null,null,null,null,null,null,null,0,0,null,"00:00:00",0,0,"",null,0,null,0,"00:00:00",0,0,0,null,0,null,0,null,0,"00:00:00",0]
[null,null,null,null,null,null,null,null,null,0,0,null,"00:00:00",0,0,"",null,0,null,0,"00:00:00",0,0,0,null,0,null,0,null,0,"00:00:00",0]
[null,null,null,null,null,null,null,null,null,0,0,null,"00:00:00",0,0,"",null,0,null,0,"00:00:00",0,0,0,null,0,null,0,null,0,"00:00:00",0]
[null,null,null,null,null,null,null,null,null,0,0,null,"00:00:00",0,0,"",null,0,null,0,"00:00:00",0,0,0,null,0,null,0,null,0,"00:00:00",0]
[null,null,null,null,null,null,null,null,null,0,0,null,"00:00:00",0,0,"",null,0,null,0,"00:00:00",0,0,0,null,0,null,0,null,0,"00:00:00",0]
[null,null,null,null,null,null,null,null,null,0,0,null,"00:00:00",0,0,"",null,0,null,0,"00:00:00",0,0,0,null,0,null,0,null,0,"00:00:00",0]
[null,null,null,null,null,null,null,null,null,0,0,null,"00:00:00",0,0,"",null,0,null,0,"00:00:00",0,0,0,null,0,null,0,null,0,"00:00:00",0]
[null,null,null,null,null,null,null,null,null,0,0,null,"00:00:00",0,0,"",null,0,null,0,"00:00:00",0,0,0,null,0,null,0,null,0,"00:00:00",0]
[null,null,null,null,null,null,null,null,null,0,0,null,"00:00:00",0,0,"",null,0,null,0,"00:00:00",0,0,0,null,0,null,0,null,0,"00:00:00",0]
[null,null,null,null,null,null,null,null,null,0,0,null,"00:00:00",0,0,"",null,0,null,0,"00:00:00",0,0,0,null,0,null,0,null,0,"00:00:00",0]
[null,null,null,null,null,null,null,null,null,0,0,null,"00:00:00",0,0,"",null,0,null,0,"00:00:00",0,0,0,null,0,null,0,null,0,"00:00:00",0]
[null,null,null,null,null,null,null,null,null,0,0,null,"00:00:00",0,0,"",null,0,null,0,"00:00:00",0,0,0,null,0,null,0,null,0,"00:00:00",0]
[null,null,null,null,null,null,null,null,null,0,0,null,"00:00:00",0,0,"",null,0,null,0,{"$f":"IF((IF(M3274>=sipstart,1,2)+IF(M3274<=sipend,1,2))=2,M3274,0)+IF(T3273=actualsipend,actualsipend,0)","v":"00:00:00"},{"$f":"IF(U3274+U3273=0,0,IF(U3274=U3273,sipunits*B3273,O3274))","v":0},0,0,null,0,null,0,null,0,"00:00:00",0]
[null,null,null,null,null,null,null,null,null,0,0,null,"00:00:00",0,0,"",null,0,null,0,"00:00:00",0,0,0,null,0,null,0,null,0,"00:00:00",0]
[null,null,null,null,null,null,null,null,null,0,0,null,"00:00:00",0,0,"",null,0,null,0,"00:00:00",0,0,0,null,0,null,0,null,0,"00:00:00",0]
[null,null,null,null,null,null,null,null,null,0,0,null,{"$f":"A3288","v":"00:00:00"},0,0,"",null,0,null,0,"00:00:00",0,0,0,null,0,null,0,null,0,"00:00:00",0]
[null,null,null,null,null,null,null,null,null,0,0,null,"00:00:00",0,0,"",null,0,null,0,"00:00:00",0,0,0,null,0,null,0,null,0,"00:00:00",0]
[null,null,null,null,null,null,null,null,null,0,0,null,"00:00:00",0,0,"",null,0,null,0,"00:00:00",0,0,0,null,0,null,0,null,0,"00:00:00",0]
[null,null,null,null,null,null,null,null,null,0,0,null,"00:00:00",0,0,"",null,0,null,0,"00:00:00",0,0,0,null,0,null,0,null,0,"00:00:00",0]
[null,null,null,null,null,null,null,null,null,0,0,null,"00:00:00",0,0,"",null,0,null,0,"00:00:00",0,0,0,null,0,null,0,null,0,"00:00:00",0]
[null,null,null,null,null,null,null,null,null,0,0,null,"00:00:00",0,0,"",null,0,null,0,"00:00:00",0,0,0,null,0,null,0,null,0,"00:00:00",0]
[null,null,null,null,null,null,null,null,null,0,0,null,"00:00:00",0,0,"",null,0,null,0,"00:00:00",0,0,0,null,0,null,0,null,0,"00:00:00",0]
[null,null,null,null,null,null,null,null,null,0,0,null,"00:00:00",0,0,"",null,0,null,0,"00:00:00",0,0,0,null,0,null,0,null,0,"00:00:00",0]
[null,null,null,null,null,null,null,null,null,0,0,null,"00:00:00",0,0,"",null,0,null,0,"00:00:00",0,0,0,null,0,null,0,null,0,"00:00:00",0]
[null,null,null,null,null,null,null,null,null,0,0,null,"00:00:00",0,0,"",null,0,null,0,"00:00:00",0,0,0,null,0,null,0,null,0,"00:00:00",0]
[null,null,null,null,null,null,null,null,null,0,0,null,"00:00:00",0,0,"",null,0,null,0,"00:00:00",0,0,0,null,0,null,0,null,0,"00:00:00",0]
[null,null,null,null,null,null,null,null,null,0,0,null,"00:00:00",0,0,"",null,0,null,0,"00:00:00",0,0,0,null,{"$f":"IF(R3328=0,IF(R3327=1,M3327,0),0)","v":0},null,0,null,0,"00:00:00",0]
[null,null,null,null,null,null,null,null,null,0,0,null,"00:00:00",0,0,"",null,0,null,0,"00:00:00",0,0,0,null,0,null,0,null,0,"00:00:00",0]
[null,null,null,null,null,null,null,null,null,0,0,null,"00:00:00",0,0,"",null,0,null,0,"00:00:00",0,0,0,null,0,null,0,null,0,"00:00:00",0]
[null,null,null,null,null,null,null,null,null,0,0,null,"00:00:00",0,0,"",null,0,null,0,"00:00:00",0,0,0,null,0,null,0,null,0,"00:00:00",0]
[null,null,null,null,null,null,null,null,null,0,0,null,"00:00:00",0,0,"",null,0,null,0,"00:00:00",0,0,0,null,0,null,0,null,0,"00:00:00",0]
[null,null,null,null,null,null,null,null,null,0,0,null,"00:00:00",0,0,"",null,0,null,0,"00:00:00",0,0,0,null,0,null,0,null,0,"00:00:00",0]
[null,null,null,null,null,null,null,null,null,0,0,null,"00:00:00",0,0,"",null,0,null,0,"00:00:00",0,0,0,null,0,null,0,null,0,"00:00:00",0]
[null,null,null,null,null,null,null,null,null,0,0,null,{"$f":"A3352","v":"00:00:00"},0,0,"",null,0,null,0,"00:00:00",0,0,0,null,0,null,0,null,0,"00:00:00",0]
[null,null,null,null,null,null,null,null,null,0,0,null,"00:00:00",0,0,"",null,0,null,0,"00:00:00",0,0,0,null,0,null,0,null,0,"00:00:00",0]
[null,null,null,null,null,null,null,null,null,0,0,null,"00:00:00",0,0,"",null,0,null,0,"00:00:00",0,0,0,null,0,null,0,null,0,"00:00:00",0]
[null,null,null,null,null,null,null,null,null,0,0,null,"00:00:00",0,0,"",null,0,null,0,"00:00:00",0,0,0,null,0,null,0,null,0,"00:00:00",0]
[null,null,null,null,null,null,null,null,null,0,0,null,"00:00:00",0,0,"",null,0,null,0,"00:00:00",0,0,0,null,0,null,0,null,0,"00:00:00",0]
[null,null,null,null,null,null,null,null,null,0,0,null,"00:00:00",0,0,"",null,0,null,0,"00:00:00",0,0,0,null,0,null,0,null,0,"00:00:00",0]
[null,null,null,null,null,null,null,null,null,0,0,null,"00:00:00",0,0,"",null,0,null,0,"00:00:00",0,0,0,null,0,null,0,null,0,"00:00:00",0]
[null,null,null,null,null,null,null,null,null,0,0,null,"00:00:00",0,0,"",null,0,null,0,"00:00:00",0,0,0,null,0,null,0,null,0,"00:00:00",0]
[null,null,null,null,null,null,null,null,null,0,0,null,"00:00:00",0,0,"",null,0,null,0,"00:00:00",0,0,0,null,0,null,0,null,0,"00:00:00",0]
[null,null,null,null,null,null,null,null,null,0,0,null,"00:00:00",0,0,"",null,0,null,0,"00:00:00",0,0,0,null,0,null,0,null,0,"00:00:00",0]
[null,null,null,null,null,null,null,null,null,0,0,null,"00:00:00",0,0,"",null,0,null,0,"00:00:00",0,0,0,null,0,null,0,null,0,"00:00:00",0]
[null,null,null,null,null,null,null,null,null,0,0,null,"00:00:00",0,0,"",null,0,null,0,"00:00:00",0,0,0,null,0,null,0,null,0,"00:00:00",0]
[null,null,null,null,null,null,null,null,null,0,0,null,"00:00:00",0,0,"",null,0,null,0,"00:00:00",0,0,0,null,0,null,0,null,0,"00:00:00",0]
[null,null,null,null,null,null,null,null,null,0,0,null,"00:00:00",0,0,"",null,0,null,0,"00:00:00",0,0,0,null,0,null,0,null,0,"00:00:00",0]
[null,null,null,null,null,null,null,null,null,0,0,null,"00:00:00",{"$f":"IF(IF(M3401>=sipstart,1,0)+IF(M3401<=sipend,1,0)=2,J3401,0)","v":0},{"$f":"IF(IF(M3401>=sipstart,1,0)+IF(M3401<=sipend,1,0)=2,K3401,0)","v":0},{"$f":"IF(O3401=-sip,-O3401/B3401,\"\")","v":""},null,{"$f":"IF(IF(M3401>=sipstart,1,0)+IF(M3401<=sipend,1,0)=2,1,0)","v":0},null,{"$f":"IF((IF(M3401>=sipstart,1,2)+IF(M3401<=sipend,1,2))=2,M3401,0)","v":0},"00:00:00",0,{"$f":"IF(V3401=-sip,U3401,0)","v":0},{"$f":"IF(V3401=-sip,B3401,0)","v":0},null,0,null,0,null,0,{"$f":"IF(AD3401=1,A3401,0)","v":"00:00:00"},{"$f":"IF(AD3401=1,B3401,0)","v":0}]
[null,null,null,null,null,null,null,null,null,0,0,null,"00:00:00",0,0,"",null,0,null,0,"00:00:00",0,0,0,null,0,null,0,null,0,"00:00:00",0]
[null,null,null,null,null,null,null,null,null,0,0,null,"00:00:00",0,0,"",null,0,null,0,"00:00:00",0,0,0,null,0,null,0,null,0,"00:00:00",0]
[null,null,null,null,null,null,null,null,null,0,0,null,"00:00:00",0,0,"",null,0,null,0,"00:00:00",0,0,0,null,0,null,0,null,0,"00:00:00",0]
[null,null,null,null,null,null,null,null,null,0,0,null,"00:00:00",0,0,"",null,0,null,0,"00:00:00",0,0,0,null,0,null,0,null,0,"00:00:00",0]
[null,null,null,null,null,null,null,null,null,0,0,null,"00:00:00",0,0,"",null,0,null,0,"00:00:00",0,0,0,null,0,null,0,null,0,"00:00:00",0]
[null,null,null,null,null,null,null,null,null,0,0,null,"00:00:00",0,0,"",null,0,null,0,"00:00:00",0,0,0,null,0,null,0,null,0,"00:00:00",0]
[null,null,null,null,null,null,null,null,null,0,0,null,"00:00:00",0,0,"",null,0,null,0,"00:00:00",0,0,0,null,0,null,0,null,0,"00:00:00",0]
[null,null,null,null,null,null,null,null,null,0,0,null,"00:00:00",0,0,"",null,0,null,0,"00:00:00",0,0,0,null,0,null,0,null,0,"00:00:00",0]
[null,null,null,null,null,null,null,null,null,0,0,null,"00:00:00",0,0,"",null,0,null,0,"00:00:00",0,0,0,null,0,null,0,null,0,"00:00:00",0]
[null,null,null,null,null,null,null,null,null,0,0,null,"00:00:00",0,0,"",null,0,null,0,"00:00:00",0,0,0,null,0,null,0,null,0,"00:00:00",0]
[null,null,null,null,null,null,null,null,null,0,0,null,"00:00:00",0,0,"",null,0,null,0,"00:00:00",0,0,0,null,0,null,0,null,0,"00:00:00",0]
[null,null,null,null,null,null,null,null,null,0,0,null,"00:00:00",0,0,"",null,0,null,0,"00:00:00",0,0,0,null,0,null,0,null,0,"00:00:00",0]
[null,null,null,null,null,null,null,null,null,0,0,null,"00:00:00",0,0,"",null,0,null,0,"00:00:00",0,0,0,null,0,null,0,null,0,"00:00:00",0]
[null,null,null,null,null,null,null,null,null,0,0,null,"00:00:00",0,0,"",null,0,null,0,"00:00:00",0,0,0,null,0,null,0,null,0,"00:00:00",0]
[null,null,null,null,null,null,null,null,null,0,0,null,"00:00:00",0,0,"",null,0,null,0,"00:00:00",0,0,0,null,{"$f":"IF(R3456=0,IF(R3455=1,M3455,0),0)","v":0},null,0,null,0,"00:00:00",0]
[null,null,null,null,null,null,null,null,null,0,0,null,"00:00:00",0,0,"",null,0,null,0,"00:00:00",0,0,0,null,0,null,0,null,0,"00:00:00",0]
[null,null,null,null,null,null,null,null,null,0,0,null,"00:00:00",0,0,"",null,0,null,0,"00:00:00",0,0,0,null,0,null,0,null,0,"00:00:00",0]
[null,null,null,null,null,null,null,null,null,0,0,null,"00:00:00",{"$f":"IF(IF(M3465>=sipstart,1,0)+IF(M3465<=sipend,1,0)=2,J3465,0)","v":0},{"$f":"IF(IF(M3465>=sipstart,1,0)+IF(M3465<=sipend,1,0)=2,K3465,0)","v":0},{"$f":"IF(O3465=-sip,-O3465/B3465,\"\")","v":""},null,{"$f":"IF(IF(M3465>=sipstart,1,0)+IF(M3465<=sipend,1,0)=2,1,0)","v":0},null,{"$f":"IF((IF(M3465>=sipstart,1,2)+IF(M3465<=sipend,1,2))=2,M3465,0)","v":0},"00:00:00",0,{"$f":"IF(V3465=-sip,U3465,0)","v":0},{"$f":"IF(V3465=-sip,B3465,0)","v":0},null,0,null,0,null,0,{"$f":"IF(AD3465=1,A3465,0)","v":"00:00:00"},{"$f":"IF(AD3465=1,B3465,0)","v":0}]
[null,null,null,null,null,null,null,null,null,0,0,null,"00:00:00",0,0,"",null,0,null,0,"00:00:00",0,0,0,null,0,null,0,null,0,"00:00:00",0]
[null,null,null,null,null,null,null,null,null,0,0,null,"00:00:00",0,0,"",null,0,null,0,"00:00:00",0,0,0,null,0,null,0,null,0,"00:00:00",0]
[null,null,null,null,null,null,null,null,null,0,0,null,"00:00:00",0,0,"",null,0,null,0,"00:00:00",0,0,0,null,0,null,0,null,0,"00:00:00",0]
[null,null,null,null,null,null,null,null,null,0,0,null,{"$f":"A3480","v":"00:00:00"},0,0,"",null,0,null,0,"00:00:00",0,0,0,null,0,null,0,null,0,"00:00:00",0]
[null,null,null,null,null,null,null,null,null,0,0,null,"00:00:00",0,0,"",null,0,null,0,"00:00:00",0,0,0,null,0,null,0,null,0,"00:00:00",0]
[null,null,null,null,null,null,null,null,null,0,0,null,"00:00:00",0,0,"",null,0,null,0,"00:00:00",0,0,0,null,0,null,0,null,0,"00:00:00",0]
[null,null,null,null,null,null,null,null,null,0,0,null,"00:00:00",0,0,"",null,0,null,0,"00:00:00",0,0,0,null,0,null,0,null,0,"00:00:00",0]
[null,null,null,null,null,null,null,null,null,0,0,null,"00:00:00",0,0,"",null,0,null,0,"00:00:00",0,0,0,null,0,null,0,null,0,"00:00:00",0]
[null,null,null,null,null,null,null,null,null,0,0,null,"00:00:00",0,0,"",null,0,null,0,"00:00:00",0,0,0,null,0,null,0,null,0,"00:00:00",0]
[null,null,null,null,null,null,null,null,null,0,0,null,"00:00:00",0,0,"",null,0,null,0,"00:00:00",0,0,0,null,0,null,0,null,0,"00:00:00",0]
[null,null,null,null,null,null,null,null,null,0,0,null,"00:00:00",0,0,"",null,0,null,0,"00:00:00",0,0,0,null,0,null,0,null,0,"00:00:00",0]
[null,null,null,null,null,null,null,null,null,0,0,null,"00:00:00",0,0,"",null,0,null,0,"00:00:00",0,0,0,null,0,null,0,null,0,"00:00:00",0]
[null,null,null,null,null,null,null,null,null,0,0,null,"00:00:00",0,0,"",null,0,null,0,"00:00:00",0,0,0,null,0,null,0,null,0,"00:00:00",0]
[null,null,null,null,null,null,null,null,null,0,0,null,"00:00:00",0,0,"",null,0,null,0,"00:00:00",0,0,0,null,0,null,0,null,0,"00:00:00",0]
[null,null,null,null,null,null,null,null,null,0,0,null,"00:00:00",0,0,"",null,0,null,0,"00:00:00",0,0,0,null,0,null,0,null,0,"00:00:00",0]
[null,null,null,null,null,null,null,null,null,0,0,null,"00:00:00",0,0,"",null,0,null,0,"00:00:00",0,0,0,null,0,null,0,null,0,"00:00:00",0]
[null,null,null,null,null,null,null,null,null,0,0,null,"00:00:00",0,0,"",null,0,null,0,"00:00:00",0,0,0,null,0,null,0,null,0,"00:00:00",0]
[null,null,null,null,null,null,null,null,null,0,0,null,"00:00:00",{"$f":"IF(IF(M3529>=sipstart,1,0)+IF(M3529<=sipend,1,0)=2,J3529,0)","v":0},{"$f":"IF(IF(M3529>=sipstart,1,0)+IF(M3529<=sipend,1,0)=2,K3529,0)","v":0},{"$f":"IF(O3529=-sip,-O3529/B3529,\"\")","v":""},null,{"$f":"IF(IF(M3529>=sipstart,1,0)+IF(M3529<=sipend,1,0)=2,1,0)","v":0},null,{"$f":"IF((IF(M3529>=sipstart,1,2)+IF(M3529<=sipend,1,2))=2,M3529,0)","v":0},"00:00:00",0,{"$f":"IF(V3529=-sip,U3529,0)","v":0},{"$f":"IF(V3529=-sip,B3529,0)","v":0},null,0,null,0,null,0,{"$f":"IF(AD3529=1,A3529,0)","v":"00:00:00"},{"$f":"IF(AD3529=1,B3529,0)","v":0}]
[null,null,null,null,null,null,null,null,null,0,0,null,"00:00:00",0,0,"",null,0,null,0,"00:00:00",0,0,0,null,0,null,0,null,0,"00:00:00",0]
[null,null,null,null,null,null,null,null,null,0,0,null,"00:00:00",0,0,"",null,0,null,0,"00:00:00",0,0,0,null,0,null,0,null,0,"00:00:00",0]
[null,null,null,null,null,null,null,null,null,0,0,null,"00:00:00",0,0,"",null,0,null,0,"00:00:00",0,0,0,null,0,null,0,null,0,"00:00:00",0]
[null,null,null,null,null,null,null,null,null,0,0,null,"00:00:00",0,0,"",null,0,null,0,"00:00:00",0,0,0,null,0,null,0,null,0,"00:00:00",0]
[null,null,null,null,null,null,null,null,null,0,0,null,"00:00:00",0,0,"",null,0,null,0,"00:00:00",0,0,0,null,0,null,0,null,0,"00:00:00",0]
[null,null,null,null,null,null,null,null,null,0,0,null,"00:00:00",0,0,"",null,0,null,0,"00:00:00",0,0,0,null,0,null,0,null,0,"00:00:00",0]
[null,null,null,null,null,null,null,null,null,0,0,null,"00:00:00",0,0,"",null,0,null,0,"00:00:00",0,0,0,null,0,null,0,null,0,"00:00:00",0]
[null,null,null,null,null,null,null,null,null,0,0,null,"00:00:00",0,0,"",null,0,null,0,"00:00:00",0,0,0,null,0,null,0,null,0,"00:00:00",0]
[null,null,null,null,null,null,null,null,null,0,0,null,"00:00:00",0,0,"",null,0,null,0,"00:00:00",0,0,0,null,0,null,0,null,0,"00:00:00",0]
[null,null,null,null,null,null,null,null,null,0,0,null,"00:00:00",0,0,"",null,0,null,0,"00:00:00",0,0,0,null,0,null,0,null,0,"00:00:00",0]
[null,null,null,null,null,null,null,null,null,0,0,null,"00:00:00",0,0,"",null,0,null,0,"00:00:00",0,0,0,null,0,null,0,null,0,"00:00:00",0]
[null,null,null,null,null,null,null,null,null,0,0,null,"00:00:00",0,0,"",null,0,null,0,"00:00:00",0,0,0,null,0,null,0,null,0,"00:00:00",0]
[null,null,null,null,null,null,null,null,null,0,0,null,"00:00:00",0,0,"",null,0,null,0,"00:00:00",0,0,0,null,0,null,0,null,0,"00:00:00",0]
[null,null,null,null,null,null,null,null,null,0,0,null,"00:00:00",0,0,"",null,0,null,0,"00:00:00",0,0,0,null,0,null,0,null,0,"00:00:00",0]
[null,null,null,null,null,null,null,null,null,0,0,null,"00:00:00",0,0,"",null,0,null,0,"00:00:00",0,0,0,null,0,null,0,null,0,"00:00:00",0]
[null,null,null,null,null,null,null,null,null,0,0,null,"00:00:00",0,0,"",null,0,null,0,"00:00:00",0,0,0,null,0,null,0,null,0,"00:00:00",0]
[null,null,null,null,null,null,null,null,null,0,0,null,"00:00:00",0,0,"",null,0,null,0,"00:00:00",0,0,0,null,0,null,0,null,0,"00:00:00",0]
[null,null,null,null,null,null,null,null,null,0,0,null,"00:00:00",0,0,"",null,0,null,0,{"$f":"IF((IF(M3594>=sipstart,1,2)+IF(M3594<=sipend,1,2))=2,M3594,0)+IF(T3593=actualsipend,actualsipend,0)","v":"00:00:00"},{"$f":"IF(U3594+U3593=0,0,IF(U3594=U3593,sipunits*B3593,O3594))","v":0},0,0,null,0,null,0,null,0,"00:00:00",0]
[null,null,null,null,null,null,null,null,null,0,0,null,"00:00:00",0,0,"",null,0,null,0,"00:00:00",0,0,0,null,0,null,0,null,0,"00:00:00",0]
[null,null,null,null,null,null,null,null,null,0,0,null,"00:00:00",0,0,"",null,0,null,0,"00:00:00",0,0,0,null,0,null,0,null,0,"00:00:00",0]
[null,null,null,null,null,null,null,null,null,0,0,null,"00:00:00",0,0,"",null,0,null,0,"00:00:00",0,0,0,null,0,null,0,null,0,"00:00:00",0]
[null,null,null,null,null,null,null,null,null,0,0,null,{"$f":"A3608","v":"00:00:00"},0,0,"",null,0,null,0,"00:00:00",0,0,0,null,0,null,0,null,0,"00:00:00",0]
[null,null,null,null,null,null,null,null,null,0,0,null,"00:00:00",0,0,"",null,0,null,0,"00:00:00",0,0,0,null,0,null,0,null,0,"00:00:00",0]
[null,null,null,null,null,null,null,null,null,0,0,null,"00:00:00",0,0,"",null,0,null,0,"00:00:00",0,0,0,null,0,null,0,null,0,"00:00:00",0]
[null,null,null,null,null,null,null,null,null,0,0,null,"00:00:00",0,0,"",null,0,null,0,"00:00:00",0,0,0,null,0,null,0,null,0,"00:00:00",0]
[null,null,null,null,null,null,null,null,null,0,0,null,"00:00:00",0,0,"",null,0,null,0,"00:00:00",0,0,0,null,0,null,0,null,0,"00:00:00",0]
[null,null,null,null,null,null,null,null,null,0,0,null,"00:00:00",0,0,"",null,0,null,0,"00:00:00",0,0,0,null,0,null,0,null,0,"00:00:00",0]
[null,null,null,null,null,null,null,null,null,0,0,null,"00:00:00",0,0,"",null,0,null,0,"00:00:00",0,0,0,null,0,null,0,null,0,"00:00:00",0]
[null,null,null,null,null,null,null,null,null,0,0,null,"00:00:00",0,0,"",null,0,null,0,"00:00:00",0,0,0,null,0,null,0,null,0,"00:00:00",0]
[null,null,null,null,null,null,null,null,null,0,0,null,"00:00:00",0,0,"",null,0,null,0,"00:00:00",0,0,0,null,0,null,0,null,0,"00:00:00",0]
[null,null,null,null,null,null,null,null,null,0,0,null,"00:00:00",0,0,"",null,0,null,0,"00:00:00",0,0,0,null,0,null,0,null,0,"00:00:00",0]
[null,null,null,null,null,null,null,null,null,0,0,null,"00:00:00",0,0,"",null,0,null,0,"00:00:00",0,0,0,null,0,null,0,null,0,"00:00:00",0]
[null,null,null,null,null,null,null,null,null,0,0,null,"00:00:00",0,0,"",null,0,null,0,"00:00:00",0,0,0,null,0,null,0,null,0,"00:00:00",0]
[null,null,null,null,null,null,null,null,null,0,0,null,"00:00:00",0,0,"",null,0,null,0,"00:00:00",0,0,0,null,0,null,0,null,0,"00:00:00",0]
[null,null,null,null,null,null,null,null,null,0,0,null,"00:00:00",0,0,"",null,0,null,0,"00:00:00",0,0,0,null,0,null,0,null,0,"00:00:00",0]
[null,null,null,null,null,null,null,null,null,0,0,null,"00:00:00",0,0,"",null,0,null,0,"00:00:00",0,0,0,null,0,null,0,null,0,"00:00:00",0]
[null,null,null,null,null,null,null,null,null,{"$f":"IF(DAY(A3661)=sipdate,1,IF(J3660=1,0,IF(J3659=1,0,IF(J3658=1,0,IF(J3657=1,0,IF(J3656=1,0,IF(J3655=1,0,IF(DAY(A3661)=sipdate+1,1,IF(DAY(A3661)=sipdate+2,1,IF(DAY(A3661)=sipdate+3,1,IF(DAY(A3661)=sipdate+4,1,IF(DAY(A3661)=sipdate+5,1,IF(DAY(A3661)=sipdate+6,1,IF(DAY(A3661)=sipdate+7,1,0))))))))))))))","v":0},{"$f":"IF(DAY(A3661)=sipdate,-sip,IF(K3660=-sip,0,IF(K3659=-sip,0,IF(K3658=-sip,0,IF(K3657=-sip,0,IF(K3656=-sip,0,IF(K3655=-sip,0,IF(DAY(A3661)=sipdate+1,-sip,IF(DAY(A3661)=sipdate+2,-sip,IF(DAY(A3661)=sipdate+3,-sip,IF(DAY(A3661)=sipdate+4,-sip,IF(DAY(A3661)=sipdate+5,-sip,IF(DAY(A3661)=sipdate+6,-sip,IF(DAY(A3661)=sipdate+7,-sip,0))))))))))))))","v":0},null,"00:00:00",0,0,"",null,0,null,0,"00:00:00",0,0,0,null,0,null,{"$f":"IF(INT((MONTH(M3661)-MONTH(sipstart))/3)-(MONTH(M3661)-MONTH(sipstart))/3=0,IF(DAY(A3661)=sipdate,1,IF(AB3660=1,0,IF(AB3659=1,0,IF(AB3658=1,0,IF(AB3657=1,0,IF(AB3656=1,0,IF(AB3655=1,0,IF(DAY(A3661)=sipdate+1,1,IF(DAY(A3661)=sipdate+2,1,IF(DAY(A3661)=sipdate+3,1,IF(DAY(A3661)=sipdate+4,1,IF(DAY(A3661)=sipdate+5,1,IF(DAY(A3661)=sipdate+6,1,IF(DAY(A3661)=sipdate+7,1,0)))))))))))))),0)","v":0},null,{"$f":"IF(INT((MONTH(M3661)-MONTH(sipstart))/12)-(MONTH(M3661)-MONTH(sipstart))/12=0,IF(DAY(A3661)=sipdate,1,IF(AB3660=1,0,IF(AB3659=1,0,IF(AB3658=1,0,IF(AB3657=1,0,IF(AB3656=1,0,IF(AB3655=1,0,IF(DAY(A3661)=sipdate+1,1,IF(DAY(A3661)=sipdate+2,1,IF(DAY(A3661)=sipdate+3,1,IF(DAY(A3661)=sipdate+4,1,IF(DAY(A3661)=sipdate+5,1,IF(DAY(A3661)=sipdate+6,1,IF(DAY(A3661)=sipdate+7,1,0)))))))))))))),0)","v":0},"00:00:00",0]
[null,null,null,null,null,null,null,null,null,0,0,null,"00:00:00",0,0,"",null,0,null,0,"00:00:00",0,0,0,null,0,null,0,null,0,"00:00:00",0]
[null,null,null,null,null,null,null,null,null,0,0,null,"00:00:00",0,0,"",null,0,null,0,"00:00:00",0,0,0,null,0,null,0,null,0,"00:00:00",0]
[null,null,null,null,null,null,null,null,null,0,0,null,"00:00:00",0,0,"",null,0,null,0,"00:00:00",0,0,0,null,0,null,0,null,0,"00:00:00",0]
[null,null,null,null,null,null,null,null,null,0,0,null,"00:00:00",0,0,"",null,0,null,0,"00:00:00",0,0,0,null,0,null,0,null,0,"00:00:00",0]
[null,null,null,null,null,null,null,null,null,0,0,null,"00:00:00",0,0,"",null,0,null,0,"00:00:00",0,0,0,null,0,null,0,null,0,"00:00:00",0]
[null,null,null,null,null,null,null,null,null,0,0,null,"00:00:00",0,0,"",null,0,null,0,"00:00:00",0,0,0,null,0,null,0,null,0,"00:00:00",0]
[null,null,null,null,null,null,null,null,null,0,0,null,"00:00:00",0,0,"",null,0,null,0,"00:00:00",0,0,0,null,0,null,0,null,0,"00:00:00",0]
[null,null,null,null,null,null,null,null,null,0,0,null,"00:00:00",0,0,"",null,0,null,0,"00:00:00",0,0,0,null,0,null,0,null,0,"00:00:00",0]
[null,null,null,null,null,null,null,null,null,0,0,null,"00:00:00",0,0,"",null,0,null,0,"00:00:00",0,0,0,null,0,null,0,null,0,"00:00:00",0]
[null,null,null,null,null,null,null,null,null,0,0,null,"00:00:00",0,0,"",null,0,null,0,"00:00:00",0,0,0,null,0,null,0,null,0,"00:00:00",0]
[null,null,null,null,null,null,null,null,null,0,0,null,"00:00:00",0,0,"",null,0,null,0,"00:00:00",0,0,0,null,0,null,0,null,0,"00:00:00",0]
[null,null,null,null,null,null,null,null,null,0,0,null,"00:00:00",0,0,"",null,0,null,0,"00:00:00",0,0,0,null,0,null,0,null,0,"00:00:00",0]
[null,null,null,null,null,null,null,null,null,0,0,null,"00:00:00",0,0,"",null,0,null,0,"00:00:00",0,0,0,null,0,null,0,null,0,"00:00:00",0]
[null,null,null,null,null,null,null,null,null,0,0,null,"00:00:00",0,0,"",null,0,null,0,"00:00:00",0,0,0,null,0,null,0,null,0,"00:00:00",0]
[null,null,null,null,null,null,null,null,null,0,0,null,"00:00:00",0,0,"",null,0,null,0,"00:00:00",0,0,0,null,0,null,0,null,0,"00:00:00",0]
[null,null,null,null,null,null,null,null,null,0,0,null,"00:00:00",0,0,"",null,0,null,0,"00:00:00",0,0,0,null,0,null,0,null,0,"00:00:00",0]
[null,null,null,null,null,null,null,null,null,0,0,null,"00:00:00",0,0,"",null,0,null,0,"00:00:00",0,0,0,null,0,null,0,null,0,"00:00:00",0]
[null,null,null,null,null,null,null,null,null,0,0,null,"00:00:00",0,0,"",null,0,null,0,"00:00:00",0,0,0,null,0,null,0,null,0,"00:00:00",0]
[null,null,null,null,null,null,null,null,null,0,0,null,"00:00:00",0,0,"",null,0,null,0,"00:00:00",0,0,0,null,0,null,0,null,0,"00:00:00",0]
[null,null,null,null,null,null,null,null,null,0,0,null,"00:00:00",0,0,"",null,0,null,0,"00:00:00",0,0,0,null,0,null,0,null,0,"00:00:00",0]
[null,null,null,null,null,null,null,null,null,0,0,null,"00:00:00",0,0,"",null,0,null,0,"00:00:00",0,0,0,null,0,null,0,null,0,"00:00:00",0]
[null,null,null,null,null,null,null,null,null,0,0,null,"00:00:00",0,0,"",null,0,null,0,"00:00:00",0,0,0,null,0,null,0,null,0,"00:00:00",0]
[null,null,null,null,null,null,null,null,null,0,0,null,"00:00:00",0,0,"",null,0,null,0,"00:00:00",0,0,0,null,0,null,0,null,0,"00:00:00",0]
[null,null,null,null,null,null,null,null,null,0,0,null,"00:00:00",0,0,"",null,0,null,0,"00:00:00",0,0,0,null,0,null,0,null,0,"00:00:00",0]
[null,null,null,null,null,null,null,null,null,0,0,null,"00:00:00",0,0,"",null,0,null,0,"00:00:00",0,0,0,null,0,null,0,null,0,"00:00:00",0]
[null,null,null,null,null,null,null,null,null,0,0,null,"00:00:00",0,0,"",null,0,null,0,"00:00:00",0,0,0,null,0,null,0,null,0,"00:00:00",0]
[null,null,null,null,null,null,null,null,null,0,0,null,"00:00:00",0,0,"",null,0,null,0,"00:00:00",0,0,0,null,0,null,0,null,0,"00:00:00",0]
[null,null,null,null,null,null,null,null,null,0,0,null,"00:00:00",0,0,"",null,0,null,0,"00:00:00",0,0,0,null,0,null,0,null,0,"00:00:00",0]
[null,null,null,null,null,null,null,null,null,0,0,null,"00:00:00",0,0,"",null,0,null,0,"00:00:00",0,0,0,null,0,null,0,null,0,"00:00:00",0]
[null,null,null,null,null,null,null,null,null,0,0,null,"00:00:00",0,0,"",null,0,null,0,"00:00:00",0,0,0,null,0,null,0,null,0,"00:00:00",0]
[null,null,null,null,null,null,null,null,null,0,0,null,"00:00:00",0,0,"",null,0,null,0,"00:00:00",0,0,0,null,{"$f":"IF(R3776=0,IF(R3775=1,M3775,0),0)","v":0},null,0,null,0,"00:00:00",0]
[null,null,null,null,null,null,null,null,null,0,0,null,"00:00:00",0,0,"",null,0,null,0,"00:00:00",0,0,0,null,0,null,0,null,0,"00:00:00",0]
[null,null,null,null,null,null,null,null,null,0,0,null,"00:00:00",0,0,"",null,0,null,0,"00:00:00",0,0,0,null,0,null,0,null,0,"00:00:00",0]
[null,null,null,null,null,null,null,null,null,0,0,null,"00:00:00",{"$f":"IF(IF(M3785>=sipstart,1,0)+IF(M3785<=sipend,1,0)=2,J3785,0)","v":0},{"$f":"IF(IF(M3785>=sipstart,1,0)+IF(M3785<=sipend,1,0)=2,K3785,0)","v":0},{"$f":"IF(O3785=-sip,-O3785/B3785,\"\")","v":""},null,{"$f":"IF(IF(M3785>=sipstart,1,0)+IF(M3785<=sipend,1,0)=2,1,0)","v":0},null,{"$f":"IF((IF(M3785>=sipstart,1,2)+IF(M3785<=sipend,1,2))=2,M3785,0)","v":0},"00:00:00",0,{"$f":"IF(V3785=-sip,U3785,0)","v":0},{"$f":"IF(V3785=-sip,B3785,0)","v":0},null,0,null,0,null,0,{"$f":"IF(AD3785=1,A3785,0)","v":"00:00:00"},{"$f":"IF(AD3785=1,B3785,0)","v":0}]
[null,null,null,null,null,null,null,null,null,0,0,null,"00:00:00",0,0,"",null,0,null,0,"00:00:00",0,0,0,null,0,null,0,null,0,"00:00:00",0]
[null,null,null,null,null,null,null,null,null,0,0,null,"00:00:00",0,0,"",null,0,null,0,"00:00:00",0,0,0,null,0,null,0,null,0,"00:00:00",0]
[null,null,null,null,null,null,null,null,null,0,0,null,"00:00:00",0,0,"",null,0,null,0,"00:00:00",0,0,0,null,0,null,0,null,0,"00:00:00",0]
[null,null,null,null,null,null,null,null,null,0,0,null,"00:00:00",0,0,"",null,0,null,0,"00:00:00",0,0,0,null,0,null,0,null,0,"00:00:00",0]
[null,null,null,null,null,null,null,null,null,0,0,null,"00:00:00",0,0,"",null,0,null,0,"00:00:00",0,0,0,null,0,null,0,null,0,"00:00:00",0]
[null,null,null,null,null,null,null,null,null,0,0,null,"00:00:00",0,0,"",null,0,null,0,"00:00:00",0,0,0,null,0,null,0,null,0,"00:00:00",0]
[null,null,null,null,null,null,null,null,null,0,0,null,"00:00:00",0,0,"",null,0,null,0,"00:00:00",0,0,0,null,0,null,0,null,0,"00:00:00",0]
[null,null,null,null,null,null,null,null,null,0,0,null,"00:00:00",0,0,"",null,0,null,0,"00:00:00",0,0,0,null,0,null,0,null,0,"00:00:00",0]
[null,null,null,null,null,null,null,null,null,0,0,null,"00:00:00",0,0,"",null,0,null,0,"00:00:00",0,0,0,null,0,null,0,null,0,"00:00:00",0]
[null,null,null,null,null,null,null,null,null,0,0,null,"00:00:00",0,0,"",null,0,null,0,"00:00:00",0,0,0,null,0,null,0,null,0,"00:00:00",0]
[null,null,null,null,null,null,null,null,null,0,0,null,"00:00:00",0,0,"",null,0,null,0,"00:00:00",0,0,0,null,0,null,0,null,0,"00:00:00",0]
[null,null,null,null,null,null,null,null,null,0,0,null,"00:00:00",0,0,"",null,0,null,0,"00:00:00",0,0,0,null,0,null,0,null,0,"00:00:00",0]
[null,null,null,null,null,null,null,null,null,0,0,null,"00:00:00",0,0,"",null,0,null,0,"00:00:00",0,0,0,null,0,null,0,null,0,"00:00:00",0]
[null,null,null,null,null,null,null,null,null,0,0,null,"00:00:00",0,0,"",null,0,null,0,"00:00:00",0,0,0,null,0,null,0,null,0,"00:00:00",0]
[null,null,null,null,null,null,null,null,null,0,0,null,"00:00:00",0,0,"",null,0,null,0,"00:00:00",0,0,0,null,0,null,0,null,0,"00:00:00",0]
[null,null,null,null,null,null,null,null,null,0,0,null,"00:00:00",0,0,"",null,0,null,0,"00:00:00",0,0,0,null,0,null,0,null,0,"00:00:00",0]
[null,null,null,null,null,null,null,null,null,0,0,null,"00:00:00",0,0,"",null,0,null,0,"00:00:00",0,0,0,null,0,null,0,null,0,"00:00:00",0]
[null,null,null,null,null,null,null,null,null,0,0,null,"00:00:00",0,0,"",null,0,null,0,"00:00:00",0,0,0,null,0,null,0,null,0,"00:00:00",0]
[null,null,null,null,null,null,null,null,null,0,0,null,"00:00:00",0,0,"",null,0,null,0,"00:00:00",0,0,0,null,0,null,0,null,0,"00:00:00",0]
[null,null,null,null,null,null,null,null,null,0,0,null,"00:00:00",0,0,"",null,0,null,0,"00:00:00",0,0,0,null,0,null,0,null,0,"00:00:00",0]
[null,null,null,null,null,null,null,null,null,0,0,null,"00:00:00",0,0,"",null,0,null,0,"00:00:00",0,0,0,null,0,null,0,null,0,"00:00:00",0]
[null,null,null,null,null,null,null,null,null,0,0,null,"00:00:00",0,0,"",null,0,null,0,"00:00:00",0,0,0,null,0,null,0,null,0,"00:00:00",0]
[null,null,null,null,null,null,null,null,null,0,0,null,"00:00:00",0,0,"",null,0,null,0,"00:00:00",0,0,0,null,0,null,0,null,0,"00:00:00",0]
[null,null,null,null,null,null,null,null,null,0,0,null,"00:00:00",0,0,"",null,0,null,0,"00:00:00",0,0,0,null,0,null,0,null,0,"00:00:00",0]
[null,null,null,null,null,null,null,null,null,0,0,null,"00:00:00",0,0,"",null,0,null,0,"00:00:00",0,0,0,null,0,null,0,null,0,"00:00:00",0]
[null,null,null,null,null,null,null,null,null,0,0,null,"00:00:00",0,0,"",null,0,null,0,"00:00:00",0,0,0,null,0,null,0,null,0,"00:00:00",0]
[null,null,null,null,null,null,null,null,null,0,0,null,"00:00:00",0,0,"",null,0,null,0,"00:00:00",0,0,0,null,0,null,0,null,0,"00:00:00",0]
[null,null,null,null,null,null,null,null,null,0,0,null,"00:00:00",0,0,"",null,0,null,0,"00:00:00",0,0,0,null,0,null,0,null,0,"00:00:00",0]
[null,null,null,null,null,null,null,null,null,0,0,null,"00:00:00",0,0,"",null,0,null,0,"00:00:00",0,0,0,null,0,null,0,null,0,"00:00:00",0]
[null,null,null,null,null,null,null,null,null,0,0,null,"00:00:00",0,0,"",null,0,null,0,"00:00:00",0,0,0,null,0,null,0,null,0,"00:00:00",0]
[null,null,null,null,null,null,null,null,null,0,0,null,"00:00:00",0,0,"",null,0,null,0,"00:00:00",0,0,0,null,0,null,0,null,0,"00:00:00",0]
[null,null,null,null,null,null,null,null,null,0,0,null,"00:00:00",0,0,"",null,0,null,0,"00:00:00",0,0,0,null,0,null,0,null,0,"00:00:00",0]
[null,null,null,null,null,null,null,null,null,0,0,null,"00:00:00",0,0,"",null,0,null,0,"00:00:00",0,0,0,null,0,null,0,null,0,"00:00:00",0]
[null,null,null,null,null,null,null,null,null,0,0,null,"00:00:00",0,0,"",null,0,null,0,"00:00:00",0,0,0,null,0,null,0,null,0,"00:00:00",0]
[null,null,null,null,null,null,null,null,null,0,0,null,"00:00:00",0,0,"",null,0,null,0,"00:00:00",0,0,0,null,0,null,0,null,0,"00:00:00",0]
[null,null,null,null,null,null,null,null,null,0,0,null,"00:00:00",0,0,"",null,0,null,0,{"$f":"IF((IF(M3914>=sipstart,1,2)+IF(M3914<=sipend,1,2))=2,M3914,0)+IF(T3913=actualsipend,actualsipend,0)","v":"00:00:00"},{"$f":"IF(U3914+U3913=0,0,IF(U3914=U3913,sipunits*B3913,O3914))","v":0},0,0,null,0,null,0,null,0,"00:00:00",0]
[null,null,null,null,null,null,null,null,null,0,0,null,"00:00:00",0,0,"",null,0,null,0,"00:00:00",0,0,0,null,0,null,0,null,0,"00:00:00",0]
[null,null,null,null,null,null,null,null,null,0,0,null,"00:00:00",0,0,"",null,0,null,0,"00:00:00",0,0,0,null,0,null,0,null,0,"00:00:00",0]
[null,null,null,null,null,null,null,null,null,0,0,null,"00:00:00",0,0,"",null,0,null,0,"00:00:00",0,0,0,null,0,null,0,null,0,"00:00:00",0]
[null,null,null,null,null,null,null,null,null,0,0,null,{"$f":"A3928","v":"00:00:00"},0,0,"",null,0,null,0,"00:00:00",0,0,0,null,0,null,0,null,0,"00:00:00",0]
[null,null,null,null,null,null,null,null,null,0,0,null,"00:00:00",0,0,"",null,0,null,0,"00:00:00",0,0,0,null,0,null,0,null,0,"00:00:00",0]
[null,null,null,null,null,null,null,null,null,0,0,null,"00:00:00",0,0,"",null,0,null,0,"00:00:00",0,0,0,null,0,null,0,null,0,"00:00:00",0]
[null,null,null,null,null,null,null,null,null,0,0,null,"00:00:00",0,0,"",null,0,null,0,"00:00:00",0,0,0,null,0,null,0,null,0,"00:00:00",0]
[null,null,null,null,null,null,null,null,null,0,0,null,"00:00:00",0,0,"",null,0,null,0,"00:00:00",0,0,0,null,0,null,0,null,0,"00:00:00",0]
[null,null,null,null,null,null,null,null,null,0,0,null,"00:00:00",0,0,"",null,0,null,0,"00:00:00",0,0,0,null,0,null,0,null,0,"00:00:00",0]
[null,null,null,null,null,null,null,null,null,0,0,null,"00:00:00",0,0,"",null,0,null,0,"00:00:00",0,0,0,null,0,null,0,null,0,"00:00:00",0]
[null,null,null,null,null,null,null,null,null,0,0,null,"00:00:00",0,0,"",null,0,null,0,"00:00:00",0,0,0,null,0,null,0,null,0,"00:00:00",0]
[null,null,null,null,null,null,null,null,null,0,0,null,"00:00:00",0,0,"",null,0,null,0,"00:00:00",0,0,0,null,0,null,0,null,0,"00:00:00",0]
[null,null,null,null,null,null,null,null,null,0,0,null,"00:00:00",0,0,"",null,0,null,0,"00:00:00",0,0,0,null,0,null,0,null,0,"00:00:00",0]
[null,null,null,null,null,null,null,null,null,0,0,null,"00:00:00",0,0,"",null,0,null,0,"00:00:00",0,0,0,null,0,null,0,null,0,"00:00:00",0]
[null,null,null,null,null,null,null,null,null,0,0,null,"00:00:00",0,0,"",null,0,null,0,"00:00:00",0,0,0,null,0,null,0,null,0,"00:00:00",0]
[null,null,null,null,null,null,null,null,null,0,0,null,"00:00:00",0,0,"",null,0,null,0,"00:00:00",0,0,0,null,0,null,0,null,0,"00:00:00",0]
[null,null,null,null,null,null,null,null,null,0,0,null,"00:00:00",0,0,"",null,0,null,0,"00:00:00",0,0,0,null,0,null,0,null,0,"00:00:00",0]
[null,null,null,null,null,null,null,null,null,0,0,null,"00:00:00",0,0,"",null,0,null,0,"00:00:00",0,0,0,null,0,null,0,null,0,"00:00:00",0]
[null,null,null,null,null,null,null,null,null,0,0,null,"00:00:00",0,0,"",null,0,null,0,"00:00:00",0,0,0,null,0,null,0,null,0,"00:00:00",0]
[null,null,null,null,null,null,null,null,null,0,0,null,"00:00:00",0,0,"",null,0,null,0,"00:00:00",0,0,0,null,0,null,0,null,0,"00:00:00",0]
[null,null,null,null,null,null,null,null,null,0,0,null,"00:00:00",0,0,"",null,0,null,0,"00:00:00",0,0,0,null,0,null,0,null,0,"00:00:00",0]
[null,null,null,null,null,null,null,null,null,0,0,null,{"$f":"A3992","v":"00:00:00"},0,0,"",null,0,null,0,"00:00:00",0,0,0,null,0,null,0,null,0,"00:00:00",0]
[null,null,null,null,null,null,null,null,null,0,0,null,"00:00:00",0,0,"",null,0,null,0,"00:00:00",0,0,0,null,0,null,0,null,0,"00:00:00",0]
[null,null,null,null,null,null,null,null,null,0,0,null,"00:00:00",0,0,"",null,0,null,0,"00:00:00",0,0,0,null,0,null,0,null,0,"00:00:00",0]
[null,null,null,null,null,null,null,null,null,0,0,null,"00:00:00",0,0,"",null,0,null,0,"00:00:00",0,0,0,null,0,null,0,null,0,"00:00:00",0]
[null,null,null,null,null,null,null,null,null,0,0,null,"00:00:00",0,0,"",null,0,null,0,"00:00:00",0,0,0,null,0,null,0,null,0,"00:00:00",0]
[null,null,null,null,null,null,null,null,null,0,0,null,"00:00:00",0,0,"",null,0,null,0,"00:00:00",0,0,0,null,0,null,0,null,0,"00:00:00",0]
[null,null,null,null,null,null,null,null,null,0,0,null,"00:00:00",0,0,"",null,0,null,0,"00:00:00",0,0,0,null,0,null,0,null,0,"00:00:00",0]
[null,null,null,null,null,null,null,null,null,0,0,null,"00:00:00",0,0,"",null,0,null,0,"00:00:00",0,0,0,null,0,null,0,null,0,"00:00:00",0]
[null,null,null,null,null,null,null,null,null,0,0,null,"00:00:00",0,0,"",null,0,null,0,"00:00:00",0,0,0,null,0,null,0,null,0,"00:00:00",0]
[null,null,null,null,null,null,null,null,null,0,0,null,"00:00:00",0,0,"",null,0,null,0,"00:00:00",0,0,0,null,0,null,0,null,0,"00:00:00",0]
[null,null,null,null,null,null,null,null,null,0,0,null,"00:00:00",0,0,"",null,0,null,0,"00:00:00",0,0,0,null,0,null,0,null,0,"00:00:00",0]
[null,null,null,null,null,null,null,null,null,0,0,null,"00:00:00",0,0,"",null,0,null,0,"00:00:00",0,0,0,null,0,null,0,null,0,"00:00:00",0]
[null,null,null,null,null,null,null,null,null,0,0,null,"00:00:00",0,0,"",null,0,null,0,"00:00:00",0,0,0,null,0,null,0,null,0,"00:00:00",0]
[null,null,null,null,null,null,null,null,null,0,0,null,"00:00:00",0,0,"",null,0,null,0,"00:00:00",0,0,0,null,0,null,0,null,0,"00:00:00",0]
[null,null,null,null,null,null,null,null,null,0,0,null,"00:00:00",0,0,"",null,0,null,0,{"$f":"IF((IF(M4042>=sipstart,1,2)+IF(M4042<=sipend,1,2))=2,M4042,0)+IF(T4041=actualsipend,actualsipend,0)","v":"00:00:00"},{"$f":"IF(U4042+U4041=0,0,IF(U4042=U4041,sipunits*B4041,O4042))","v":0},0,0,null,0,null,0,null,0,"00:00:00",0]
[null,null,null,null,null,null,null,null,null,0,0,null,"00:00:00",0,0,"",null,0,null,0,"00:00:00",0,0,0,null,0,null,0,null,0,"00:00:00",0]
[null,null,null,null,null,null,null,null,null,0,0,null,"00:00:00",0,0,"",null,0,null,0,"00:00:00",0,0,0,null,0,null,0,null,0,"00:00:00",0]
[null,null,null,null,null,null,null,null,null,0,0,null,"00:00:00",0,0,"",null,0,null,0,"00:00:00",0,0,0,null,0,null,0,null,0,"00:00:00",0]
[null,null,null,null,null,null,null,null,null,0,0,null,"00:00:00",0,0,"",null,0,null,0,"00:00:00",0,0,0,null,0,null,0,null,0,"00:00:00",0]
[null,null,null,null,null,null,null,null,null,0,0,null,"00:00:00",0,0,"",null,0,null,0,"00:00:00",0,0,0,null,0,null,0,null,0,"00:00:00",0]
[null,null,null,null,null,null,null,null,null,0,0,null,"00:00:00",0,0,"",null,0,null,0,"00:00:00",0,0,0,null,0,null,0,null,0,"00:00:00",0]
[null,null,null,null,null,null,null,null,null,0,0,null,"00:00:00",0,0,"",null,0,null,0,"00:00:00",0,0,0,null,0,null,0,null,0,"00:00:00",0]
[null,null,null,null,null,null,null,null,null,0,0,null,"00:00:00",0,0,"",null,0,null,0,"00:00:00",0,0,0,null,0,null,0,null,0,"00:00:00",0]
[null,null,null,null,null,null,null,null,null,0,0,null,"00:00:00",0,0,"",null,0,null,0,"00:00:00",0,0,0,null,0,null,0,null,0,"00:00:00",0]
[null,null,null,null,null,null,null,null,null,0,0,null,"00:00:00",0,0,"",null,0,null,0,"00:00:00",0,0,0,null,0,null,0,null,0,"00:00:00",0]
[null,null,null,null,null,null,null,null,null,0,0,null,"00:00:00",0,0,"",null,0,null,0,"00:00:00",0,0,0,null,0,null,0,null,0,"00:00:00",0]
[null,null,null,null,null,null,null,null,null,0,0,null,"00:00:00",0,0,"",null,0,null,0,"00:00:00",0,0,0,null,0,null,0,null,0,"00:00:00",0]
[null,null,null,null,null,null,null,null,null,0,0,null,"00:00:00",0,0,"",null,0,null,0,"00:00:00",0,0,0,null,0,null,0,null,0,"00:00:00",0]
[null,null,null,null,null,null,null,null,null,0,0,null,"00:00:00",0,0,"",null,0,null,0,"00:00:00",0,0,0,null,0,null,0,null,0,"00:00:00",0]
[null,null,null,null,null,null,null,null,null,0,0,null,"00:00:00",0,0,"",null,0,null,0,"00:00:00",0,0,0,null,{"$f":"IF(R4096=0,IF(R4095=1,M4095,0),0)","v":0},null,0,null,0,"00:00:00",0]
[null,null,null,null,null,null,null,null,null,0,0,null,"00:00:00",0,0,"",null,0,null,0,"00:00:00",0,0,0,null,0,null,0,null,0,"00:00:00",0]
[null,null,null,null,null,null,null,null,null,0,0,null,"00:00:00",0,0,"",null,0,null,0,"00:00:00",0,0,0,null,0,null,0,null,0,"00:00:00",0]
[null,null,null,null,null,null,null,null,null,0,0,null,"00:00:00",{"$f":"IF(IF(M4105>=sipstart,1,0)+IF(M4105<=sipend,1,0)=2,J4105,0)","v":0},{"$f":"IF(IF(M4105>=sipstart,1,0)+IF(M4105<=sipend,1,0)=2,K4105,0)","v":0},{"$f":"IF(O4105=-sip,-O4105/B4105,\"\")","v":""},null,{"$f":"IF(IF(M4105>=sipstart,1,0)+IF(M4105<=sipend,1,0)=2,1,0)","v":0},null,{"$f":"IF((IF(M4105>=sipstart,1,2)+IF(M4105<=sipend,1,2))=2,M4105,0)","v":0},"00:00:00",0,{"$f":"IF(V4105=-sip,U4105,0)","v":0},{"$f":"IF(V4105=-sip,B4105,0)","v":0},null,0,null,0,null,0,{"$f":"IF(AD4105=1,A4105,0)","v":"00:00:00"},{"$f":"IF(AD4105=1,B4105,0)","v":0}]
[null,null,null,null,null,null,null,null,null,0,0,null,"00:00:00",0,0,"",null,0,null,0,"00:00:00",0,0,0,null,0,null,0,null,0,"00:00:00",0]
[null,null,null,null,null,null,null,null,null,0,0,null,"00:00:00",0,0,"",null,0,null,0,"00:00:00",0,0,0,null,0,null,0,null,0,"00:00:00",0]
[null,null,null,null,null,null,null,null,null,0,0,null,"00:00:00",0,0,"",null,0,null,0,"00:00:00",0,0,0,null,0,null,0,null,0,"00:00:00",0]
[null,null,null,null,null,null,null,null,null,0,0,null,{"$f":"A4120","v":"00:00:00"},0,0,"",null,0,null,0,"00:00:00",0,0,0,null,0,null,0,null,0,"00:00:00",0]
[null,null,null,null,null,null,null,null,null,0,0,null,"00:00:00",0,0,"",null,0,null,0,"00:00:00",0,0,0,null,0,null,0,null,0,"00:00:00",0]
[null,null,null,null,null,null,null,null,null,0,0,null,"00:00:00",0,0,"",null,0,null,0,"00:00:00",0,0,0,null,0,null,0,null,0,"00:00:00",0]
[null,null,null,null,null,null,null,null,null,0,0,null,"00:00:00",0,0,"",null,0,null,0,"00:00:00",0,0,0,null,0,null,0,null,0,"00:00:00",0]
[null,null,null,null,null,null,null,null,null,0,0,null,"00:00:00",0,0,"",null,0,null,0,"00:00:00",0,0,0,null,0,null,0,null,0,"00:00:00",0]
[null,null,null,null,null,null,null,null,null,0,0,null,"00:00:00",0,0,"",null,0,null,0,"00:00:00",0,0,0,null,0,null,0,null,0,"00:00:00",0]
[null,null,null,null,null,null,null,null,null,0,0,null,"00:00:00",0,0,"",null,0,null,0,"00:00:00",0,0,0,null,0,null,0,null,0,"00:00:00",0]
[null,null,null,null,null,null,null,null,null,0,0,null,"00:00:00",0,0,"",null,0,null,0,"00:00:00",0,0,0,null,0,null,0,null,0,"00:00:00",0]
[null,null,null,null,null,null,null,null,null,0,0,null,"00:00:00",0,0,"",null,0,null,0,"00:00:00",0,0,0,null,0,null,0,null,0,"00:00:00",0]
[null,null,null,null,null,null,null,null,null,0,0,null,"00:00:00",0,0,"",null,0,null,0,"00:00:00",0,0,0,null,0,null,0,null,0,"00:00:00",0]
[null,null,null,null,null,null,null,null,null,0,0,null,"00:00:00",0,0,"",null,0,null,0,"00:00:00",0,0,0,null,0,null,0,null,0,"00:00:00",0]
[null,null,null,null,null,null,null,null,null,0,0,null,"00:00:00",0,0,"",null,0,null,0,"00:00:00",0,0,0,null,0,null,0,null,0,"00:00:00",0]
[null,null,null,null,null,null,null,null,null,0,0,null,"00:00:00",0,0,"",null,0,null,0,"00:00:00",0,0,0,null,0,null,0,null,0,"00:00:00",0]
[null,null,null,null,null,null,null,null,null,0,0,null,"00:00:00",0,0,"",null,0,null,0,"00:00:00",0,0,0,null,0,null,0,null,0,"00:00:00",0]
[null,null,null,null,null,null,null,null,null,0,0,null,"00:00:00",0,0,"",null,0,null,0,{"$f":"IF((IF(M4170>=sipstart,1,2)+IF(M4170<=sipend,1,2))=2,M4170,0)+IF(T4169=actualsipend,actualsipend,0)","v":"00:00:00"},{"$f":"IF(U4170+U4169=0,0,IF(U4170=U4169,sipunits*B4169,O4170))","v":0},0,0,null,0,null,0,null,0,"00:00:00",0]
[null,null,null,null,null,null,null,null,null,0,0,null,"00:00:00",0,0,"",null,0,null,0,"00:00:00",0,0,0,null,0,null,0,null,0,"00:00:00",0]
[null,null,null,null,null,null,null,null,null,0,0,null,"00:00:00",0,0,"",null,0,null,0,"00:00:00",0,0,0,null,0,null,0,null,0,"00:00:00",0]
[null,null,null,null,null,null,null,null,null,0,0,null,"00:00:00",0,0,"",null,0,null,0,"00:00:00",0,0,0,null,0,null,0,null,0,"00:00:00",0]
[null,null,null,null,null,null,null,null,null,0,0,null,"00:00:00",0,0,"",null,0,null,0,"00:00:00",0,0,0,null,0,null,0,null,0,"00:00:00",0]
[null,null,null,null,null,null,null,null,null,0,0,null,"00:00:00",0,0,"",null,0,null,0,"00:00:00",0,0,0,null,0,null,0,null,0,"00:00:00",0]
[null,null,null,null,null,null,null,null,null,0,0,null,"00:00:00",0,0,"",null,0,null,0,"00:00:00",0,0,0,null,0,null,0,null,0,"00:00:00",0]
[null,null,null,null,null,null,null,null,null,0,0,null,"00:00:00",0,0,"",null,0,null,0,"00:00:00",0,0,0,null,0,null,0,null,0,"00:00:00",0]
[null,null,null,null,null,null,null,null,null,0,0,null,"00:00:00",0,0,"",null,0,null,0,"00:00:00",0,0,0,null,0,null,0,null,0,"00:00:00",0]
[null,null,null,null,null,null,null,null,null,0,0,null,"00:00:00",0,0,"",null,0,null,0,"00:00:00",0,0,0,null,0,null,0,null,0,"00:00:00",0]
[null,null,null,null,null,null,null,null,null,0,0,null,"00:00:00",0,0,"",null,0,null,0,"00:00:00",0,0,0,null,0,null,0,null,0,"00:00:00",0]
[null,null,null,null,null,null,null,null,null,0,0,null,"00:00:00",0,0,"",null,0,null,0,"00:00:00",0,0,0,null,0,null,0,null,0,"00:00:00",0]
[null,null,null,null,null,null,null,null,null,0,0,null,"00:00:00",0,0,"",null,0,null,0,"00:00:00",0,0,0,null,0,null,0,null,0,"00:00:00",0]
[null,null,null,null,null,null,null,null,null,0,0,null,"00:00:00",0,0,"",null,0,null,0,"00:00:00",0,0,0,null,0,null,0,null,0,"00:00:00",0]
[null,null,null,null,null,null,null,null,null,0,0,null,"00:00:00",0,0,"",null,0,null,0,"00:00:00",0,0,0,null,0,null,0,null,0,"00:00:00",0]
[null,null,null,null,null,null,null,null,null,0,0,null,"00:00:00",0,0,"",null,0,null,0,"00:00:00",0,0,0,null,0,null,0,null,0,"00:00:00",0]
[null,null,null,null,null,null,null,null,null,0,0,null,"00:00:00",0,0,"",null,0,null,0,"00:00:00",0,0,0,null,0,null,0,null,0,"00:00:00",0]
[null,null,null,null,null,null,null,null,null,0,0,null,"00:00:00",0,0,"",null,0,null,0,"00:00:00",0,0,0,null,0,null,0,null,0,"00:00:00",0]
[null,null,null,null,null,null,null,null,null,0,0,null,"00:00:00",0,0,"",null,0,null,0,{"$f":"IF((IF(M4234>=sipstart,1,2)+IF(M4234<=sipend,1,2))=2,M4234,0)+IF(T4233=actualsipend,actualsipend,0)","v":"00:00:00"},{"$f":"IF(U4234+U4233=0,0,IF(U4234=U4233,sipunits*B4233,O4234))","v":0},0,0,null,0,null,0,null,0,"00:00:00",0]
[null,null,null,null,null,null,null,null,null,0,0,null,"00:00:00",0,0,"",null,0,null,0,"00:00:00",0,0,0,null,0,null,0,null,0,"00:00:00",0]
[null,null,null,null,null,null,null,null,null,0,0,null,"00:00:00",0,0,"",null,0,null,0,"00:00:00",0,0,0,null,0,null,0,null,0,"00:00:00",0]
[null,null,null,null,null,null,null,null,null,0,0,null,"00:00:00",0,0,"",null,0,null,0,"00:00:00",0,0,0,null,0,null,0,null,0,"00:00:00",0]
[null,null,null,null,null,null,null,null,null,0,0,null,{"$f":"A4248","v":"00:00:00"},0,0,"",null,0,null,0,"00:00:00",0,0,0,null,0,null,0,null,0,"00:00:00",0]
[null,null,null,null,null,null,null,null,null,0,0,null,"00:00:00",0,0,"",null,0,null,0,"00:00:00",0,0,0,null,0,null,0,null,0,"00:00:00",0]
[null,null,null,null,null,null,null,null,null,0,0,null,"00:00:00",0,0,"",null,0,null,0,"00:00:00",0,0,0,null,0,null,0,null,0,"00:00:00",0]
[null,null,null,null,null,null,null,null,null,0,0,null,"00:00:00",0,0,"",null,0,null,0,"00:00:00",0,0,0,null,0,null,0,null,0,"00:00:00",0]
[null,null,null,null,null,null,null,null,null,0,0,null,"00:00:00",0,0,"",null,0,null,0,"00:00:00",0,0,0,null,0,null,0,null,0,"00:00:00",0]
[null,null,null,null,null,null,null,null,null,0,0,null,"00:00:00",0,0,"",null,0,null,0,"00:00:00",0,0,0,null,0,null,0,null,0,"00:00:00",0]
[null,null,null,null,null,null,null,null,null,0,0,null,"00:00:00",0,0,"",null,0,null,0,"00:00:00",0,0,0,null,0,null,0,null,0,"00:00:00",0]
[null,null,null,null,null,null,null,null,null,0,0,null,"00:00:00",0,0,"",null,0,null,0,"00:00:00",0,0,0,null,0,null,0,null,0,"00:00:00",0]
[null,null,null,null,null,null,null,null,null,0,0,null,"00:00:00",0,0,"",null,0,null,0,"00:00:00",0,0,0,null,0,null,0,null,0,"00:00:00",0]
[null,null,null,null,null,null,null,null,null,0,0,null,"00:00:00",0,0,"",null,0,null,0,"00:00:00",0,0,0,null,0,null,0,null,0,"00:00:00",0]
[null,null,null,null,null,null,null,null,null,0,0,null,"00:00:00",0,0,"",null,0,null,0,"00:00:00",0,0,0,null,0,null,0,null,0,"00:00:00",0]
[null,null,null,null,null,null,null,null,null,0,0,null,"00:00:00",0,0,"",null,0,null,0,"00:00:00",0,0,0,null,0,null,0,null,0,"00:00:00",0]
[null,null,null,null,null,null,null,null,null,0,0,null,"00:00:00",0,0,"",null,0,null,0,"00:00:00",0,0,0,null,0,null,0,null,0,"00:00:00",0]
[null,null,null,null,null,null,null,null,null,0,0,null,"00:00:00",0,0,"",null,0,null,0,"00:00:00",0,0,0,null,0,null,0,null,0,"00:00:00",0]
[null,null,null,null,null,null,null,null,null,0,0,null,"00:00:00",0,0,"",null,0,null,0,"00:00:00",0,0,0,null,0,null,0,null,0,"00:00:00",0]
[null,null,null,null,null,null,null,null,null,0,0,null,"00:00:00",0,0,"",null,0,null,0,"00:00:00",0,0,0,null,0,null,0,null,0,"00:00:00",0]
[null,null,null,null,null,null,null,null,null,0,0,null,"00:00:00",0,0,"",null,0,null,0,"00:00:00",0,0,0,null,0,null,0,null,0,"00:00:00",0]
[null,null,null,null,null,null,null,null,null,0,0,null,"00:00:00",0,0,"",null,0,null,0,"00:00:00",0,0,0,null,0,null,0,null,0,"00:00:00",0]
[null,null,null,null,null,null,null,null,null,0,0,null,"00:00:00",0,0,"",null,0,null,0,"00:00:00",0,0,0,null,0,null,0,null,0,"00:00:00",0]
[null,null,null,null,null,null,null,null,null,0,0,null,"00:00:00",0,0,"",null,0,null,0,"00:00:00",0,0,0,null,0,null,0,null,0,"00:00:00",0]
[null,null,null,null,null,null,null,null,null,0,0,null,"00:00:00",0,0,"",null,0,null,0,"00:00:00",0,0,0,null,0,null,0,null,0,"00:00:00",0]
[null,null,null,null,null,null,null,null,null,0,0,null,"00:00:00",0,0,"",null,0,null,0,"00:00:00",0,0,0,null,0,null,0,null,0,"00:00:00",0]
[null,null,null,null,null,null,null,null,null,0,0,null,"00:00:00",0,0,"",null,0,null,0,"00:00:00",0,0,0,null,0,null,0,null,0,"00:00:00",0]
[null,null,null,null,null,null,null,null,null,0,0,null,"00:00:00",0,0,"",null,0,null,0,"00:00:00",0,0,0,null,0,null,0,null,0,"00:00:00",0]
[null,null,null,null,null,null,null,null,null,0,0,null,"00:00:00",0,0,"",null,0,null,0,"00:00:00",0,0,0,null,0,null,0,null,0,"00:00:00",0]
[null,null,null,null,null,null,null,null,null,0,0,null,"00:00:00",0,0,"",null,0,null,0,"00:00:00",0,0,0,null,0,null,0,null,0,"00:00:00",0]
[null,null,null,null,null,null,null,null,null,0,0,null,"00:00:00",0,0,"",null,0,null,0,"00:00:00",0,0,0,null,0,null,0,null,0,"00:00:00",0]
[null,null,null,null,null,null,null,null,null,0,0,null,"00:00:00",0,0,"",null,0,null,0,"00:00:00",0,0,0,null,0,null,0,null,0,"00:00:00",0]
[null,null,null,null,null,null,null,null,null,0,0,null,"00:00:00",0,0,"",null,0,null,0,"00:00:00",0,0,0,null,0,null,0,null,0,"00:00:00",0]
[null,null,null,null,null,null,null,null,null,0,0,null,"00:00:00",0,0,"",null,0,null,0,"00:00:00",0,0,0,null,0,null,0,null,0,"00:00:00",0]
[null,null,null,null,null,null,null,null,null,0,0,null,"00:00:00",0,0,"",null,0,null,0,"00:00:00",0,0,0,null,0,null,0,null,0,"00:00:00",0]
[null,null,null,null,null,null,null,null,null,0,0,null,"00:00:00",0,0,"",null,0,null,0,{"$f":"IF((IF(M4362>=sipstart,1,2)+IF(M4362<=sipend,1,2))=2,M4362,0)+IF(T4361=actualsipend,actualsipend,0)","v":"00:00:00"},{"$f":"IF(U4362+U4361=0,0,IF(U4362=U4361,sipunits*B4361,O4362))","v":0},0,0,null,0,null,0,null,0,"00:00:00",0]
[null,null,null,null,null,null,null,null,null,0,0,null,"00:00:00",0,0,"",null,0,null,0,"00:00:00",0,0,0,null,0,null,0,null,0,"00:00:00",0]
[null,null,null,null,null,null,null,null,null,0,0,null,"00:00:00",0,0,"",null,0,null,0,"00:00:00",0,0,0,null,0,null,0,null,0,"00:00:00",0]
[null,null,null,null,null,null,null,null,null,0,0,null,"00:00:00",0,0,"",null,0,null,0,"00:00:00",0,0,0,null,0,null,0,null,0,"00:00:00",0]
[null,null,null,null,null,null,null,null,null,0,0,null,"00:00:00",0,0,"",null,0,null,0,"00:00:00",0,0,0,null,0,null,0,null,0,"00:00:00",0]
[null,null,null,null,null,null,null,null,null,0,0,null,"00:00:00",0,0,"",null,0,null,0,"00:00:00",0,0,0,null,0,null,0,null,0,"00:00:00",0]
[null,null,null,null,null,null,null,null,null,0,0,null,"00:00:00",0,0,"",null,0,null,0,"00:00:00",0,0,0,null,0,null,0,null,0,"00:00:00",0]
[null,null,null,null,null,null,null,null,null,0,0,null,"00:00:00",0,0,"",null,0,null,0,"00:00:00",0,0,0,null,0,null,0,null,0,"00:00:00",0]
[null,null,null,null,null,null,null,null,null,0,0,null,"00:00:00",0,0,"",null,0,null,0,"00:00:00",0,0,0,null,0,null,0,null,0,"00:00:00",0]
[null,null,null,null,null,null,null,null,null,0,0,null,"00:00:00",0,0,"",null,0,null,0,"00:00:00",0,0,0,null,0,null,0,null,0,"00:00:00",0]
[null,null,null,null,null,null,null,null,null,0,0,null,"00:00:00",0,0,"",null,0,null,0,"00:00:00",0,0,0,null,0,null,0,null,0,"00:00:00",0]
[null,null,null,null,null,null,null,null,null,0,0,null,"00:00:00",0,0,"",null,0,null,0,"00:00:00",0,0,0,null,0,null,0,null,0,"00:00:00",0]
[null,null,null,null,null,null,null,null,null,0,0,null,"00:00:00",0,0,"",null,0,null,0,"00:00:00",0,0,0,null,0,null,0,null,0,"00:00:00",0]
[null,null,null,null,null,null,null,null,null,0,0,null,"00:00:00",0,0,"",null,0,null,0,"00:00:00",0,0,0,null,0,null,0,null,0,"00:00:00",0]
[null,null,null,null,null,null,null,null,null,0,0,null,"00:00:00",0,0,"",null,0,null,0,"00:00:00",0,0,0,null,0,null,0,null,0,"00:00:00",0]
[null,null,null,null,null,null,null,null,null,0,0,null,"00:00:00",0,0,"",null,0,null,0,"00:00:00",0,0,0,null,{"$f":"IF(R4416=0,IF(R4415=1,M4415,0),0)","v":0},null,0,null,0,"00:00:00",0]
[null,null,null,null,null,null,null,null,null,0,0,null,"00:00:00",0,0,"",null,0,null,0,"00:00:00",0,0,0,null,0,null,0,null,0,"00:00:00",0]
[null,null,null,null,null,null,null,null,null,0,0,null,"00:00:00",0,0,"",null,0,null,0,"00:00:00",0,0,0,null,0,null,0,null,0,"00:00:00",0]
[null,null,null,null,null,null,null,null,null,0,0,null,"00:00:00",{"$f":"IF(IF(M4425>=sipstart,1,0)+IF(M4425<=sipend,1,0)=2,J4425,0)","v":0},{"$f":"IF(IF(M4425>=sipstart,1,0)+IF(M4425<=sipend,1,0)=2,K4425,0)","v":0},{"$f":"IF(O4425=-sip,-O4425/B4425,\"\")","v":""},null,{"$f":"IF(IF(M4425>=sipstart,1,0)+IF(M4425<=sipend,1,0)=2,1,0)","v":0},null,{"$f":"IF((IF(M4425>=sipstart,1,2)+IF(M4425<=sipend,1,2))=2,M4425,0)","v":0},"00:00:00",0,{"$f":"IF(V4425=-sip,U4425,0)","v":0},{"$f":"IF(V4425=-sip,B4425,0)","v":0},null,0,null,0,null,0,{"$f":"IF(AD4425=1,A4425,0)","v":"00:00:00"},{"$f":"IF(AD4425=1,B4425,0)","v":0}]
[null,null,null,null,null,null,null,null,null,0,0,null,"00:00:00",0,0,"",null,0,null,0,"00:00:00",0,0,0,null,0,null,0,null,0,"00:00:00",0]
[null,null,null,null,null,null,null,null,null,0,0,null,"00:00:00",0,0,"",null,0,null,0,"00:00:00",0,0,0,null,0,null,0,null,0,"00:00:00",0]
[null,null,null,null,null,null,null,null,null,0,0,null,"00:00:00",0,0,"",null,0,null,0,"00:00:00",0,0,0,null,0,null,0,null,0,"00:00:00",0]
[null,null,null,null,null,null,null,null,null,0,0,null,"00:00:00",0,0,"",null,0,null,0,"00:00:00",0,0,0,null,0,null,0,null,0,"00:00:00",0]
[null,null,null,null,null,null,null,null,null,0,0,null,"00:00:00",0,0,"",null,0,null,0,"00:00:00",0,0,0,null,0,null,0,null,0,"00:00:00",0]
[null,null,null,null,null,null,null,null,null,0,0,null,"00:00:00",0,0,"",null,0,null,0,"00:00:00",0,0,0,null,0,null,0,null,0,"00:00:00",0]
[null,null,null,null,null,null,null,null,null,0,0,null,"00:00:00",0,0,"",null,0,null,0,"00:00:00",0,0,0,null,0,null,0,null,0,"00:00:00",0]
[null,null,null,null,null,null,null,null,null,0,0,null,"00:00:00",0,0,"",null,0,null,0,"00:00:00",0,0,0,null,0,null,0,null,0,"00:00:00",0]
[null,null,null,null,null,null,null,null,null,0,0,null,"00:00:00",0,0,"",null,0,null,0,"00:00:00",0,0,0,null,0,null,0,null,0,"00:00:00",0]
[null,null,null,null,null,null,null,null,null,0,0,null,"00:00:00",0,0,"",null,0,null,0,"00:00:00",0,0,0,null,0,null,0,null,0,"00:00:00",0]
[null,null,null,null,null,null,null,null,null,0,0,null,"00:00:00",0,0,"",null,0,null,0,"00:00:00",0,0,0,null,0,null,0,null,0,"00:00:00",0]
[null,null,null,null,null,null,null,null,null,0,0,null,"00:00:00",0,0,"",null,0,null,0,"00:00:00",0,0,0,null,0,null,0,null,0,"00:00:00",0]
[null,null,null,null,null,null,null,null,null,0,0,null,"00:00:00",0,0,"",null,0,null,0,"00:00:00",0,0,0,null,0,null,0,null,0,"00:00:00",0]
[null,null,null,null,null,null,null,null,null,0,0,null,"00:00:00",0,0,"",null,0,null,0,"00:00:00",0,0,0,null,0,null,0,null,0,"00:00:00",0]
[null,null,null,null,null,null,null,null,null,0,0,null,"00:00:00",0,0,"",null,0,null,0,"00:00:00",0,0,0,null,0,null,0,null,0,"00:00:00",0]
[null,null,null,null,null,null,null,null,null,0,0,null,"00:00:00",0,0,"",null,0,null,0,"00:00:00",0,0,0,null,0,null,0,null,0,"00:00:00",0]
[null,null,null,null,null,null,null,null,null,0,0,null,"00:00:00",0,0,"",null,0,null,0,"00:00:00",0,0,0,null,0,null,0,null,0,"00:00:00",0]
[null,null,null,null,null,null,null,null,null,0,0,null,"00:00:00",0,0,"",null,0,null,0,"00:00:00",0,0,0,null,0,null,0,null,0,"00:00:00",0]
[null,null,null,null,null,null,null,null,null,0,0,null,"00:00:00",0,0,"",null,0,null,0,"00:00:00",0,0,0,null,0,null,0,null,0,"00:00:00",0]
[null,null,null,null,null,null,null,null,null,0,0,null,"00:00:00",0,0,"",null,0,null,0,"00:00:00",0,0,0,null,0,null,0,null,0,"00:00:00",0]
[null,null,null,null,null,null,null,null,null,0,0,null,"00:00:00",0,0,"",null,0,null,0,"00:00:00",0,0,0,null,0,null,0,null,0,"00:00:00",0]
[null,null,null,null,null,null,null,null,null,0,0,null,"00:00:00",0,0,"",null,0,null,0,"00:00:00",0,0,0,null,0,null,0,null,0,"00:00:00",0]
[null,null,null,null,null,null,null,null,null,0,0,null,"00:00:00",0,0,"",null,0,null,0,"00:00:00",0,0,0,null,0,null,0,null,0,"00:00:00",0]
[null,null,null,null,null,null,null,null,null,0,0,null,"00:00:00",0,0,"",null,0,null,0,"00:00:00",0,0,0,null,0,null,0,null,0,"00:00:00",0]
[null,null,null,null,null,null,null,null,null,0,0,null,"00:00:00",0,0,"",null,0,null,0,"00:00:00",0,0,0,null,0,null,0,null,0,"00:00:00",0]
[null,null,null,null,null,null,null,null,null,0,0,null,"00:00:00",0,0,"",null,0,null,0,"00:00:00",0,0,0,null,0,null,0,null,0,"00:00:00",0]
[null,null,null,null,null,null,null,null,null,0,0,null,"00:00:00",0,0,"",null,0,null,0,"00:00:00",0,0,0,null,0,null,0,null,0,"00:00:00",0]
[null,null,null,null,null,null,null,null,null,0,0,null,"00:00:00",0,0,"",null,0,null,0,"00:00:00",0,0,0,null,0,null,0,null,0,"00:00:00",0]
[null,null,null,null,null,null,null,null,null,0,0,null,"00:00:00",0,0,"",null,0,null,0,"00:00:00",0,0,0,null,0,null,0,null,0,"00:00:00",0]
[null,null,null,null,null,null,null,null,null,0,0,null,"00:00:00",0,0,"",null,0,null,0,"00:00:00",0,0,0,null,0,null,0,null,0,"00:00:00",0]
[null,null,null,null,null,null,null,null,null,0,0,null,"00:00:00",0,0,"",null,0,null,0,"00:00:00",0,0,0,null,0,null,0,null,0,"00:00:00",0]
[null,null,null,null,null,null,null,null,null,0,0,null,"00:00:00",0,0,"",null,0,null,0,"00:00:00",0,0,0,null,0,null,0,null,0,"00:00:00",0]
[null,null,null,null,null,null,null,null,null,0,0,null,"00:00:00",0,0,"",null,0,null,0,"00:00:00",0,0,0,null,0,null,0,null,0,"00:00:00",0]
[null,null,null,null,null,null,null,null,null,0,0,null,"00:00:00",0,0,"",null,0,null,0,"00:00:00",0,0,0,null,0,null,0,null,0,"00:00:00",0]
[null,null,null,null,null,null,null,null,null,0,0,null,"00:00:00",0,0,"",null,0,null,0,"00:00:00",0,0,0,null,0,null,0,null,0,"00:00:00",0]
[null,null,null,null,null,null,null,null,null,0,0,null,"00:00:00",0,0,"",null,0,null,0,{"$f":"IF((IF(M4554>=sipstart,1,2)+IF(M4554<=sipend,1,2))=2,M4554,0)+IF(T4553=actualsipend,actualsipend,0)","v":"00:00:00"},{"$f":"IF(U4554+U4553=0,0,IF(U4554=U4553,sipunits*B4553,O4554))","v":0},0,0,null,0,null,0,null,0,"00:00:00",0]
[null,null,null,null,null,null,null,null,null,0,0,null,"00:00:00",0,0,"",null,0,null,0,"00:00:00",0,0,0,null,0,null,0,null,0,"00:00:00",0]
[null,null,null,null,null,null,null,null,null,0,0,null,"00:00:00",0,0,"",null,0,null,0,"00:00:00",0,0,0,null,0,null,0,null,0,"00:00:00",0]
[null,null,null,null,null,null,null,null,null,0,0,null,"00:00:00",0,0,"",null,0,null,0,"00:00:00",0,0,0,null,0,null,0,null,0,"00:00:00",0]
[null,null,null,null,null,null,null,null,null,0,0,null,{"$f":"A4568","v":"00:00:00"},0,0,"",null,0,null,0,"00:00:00",0,0,0,null,0,null,0,null,0,"00:00:00",0]
[null,null,null,null,null,null,null,null,null,0,0,null,"00:00:00",0,0,"",null,0,null,0,"00:00:00",0,0,0,null,0,null,0,null,0,"00:00:00",0]
[null,null,null,null,null,null,null,null,null,0,0,null,"00:00:00",0,0,"",null,0,null,0,"00:00:00",0,0,0,null,0,null,0,null,0,"00:00:00",0]
[null,null,null,null,null,null,null,null,null,0,0,null,"00:00:00",0,0,"",null,0,null,0,"00:00:00",0,0,0,null,0,null,0,null,0,"00:00:00",0]
[null,null,null,null,null,null,null,null,null,0,0,null,"00:00:00",0,0,"",null,0,null,0,"00:00:00",0,0,0,null,0,null,0,null,0,"00:00:00",0]
[null,null,null,null,null,null,null,null,null,0,0,null,"00:00:00",0,0,"",null,0,null,0,"00:00:00",0,0,0,null,0,null,0,null,0,"00:00:00",0]
[null,null,null,null,null,null,null,null,null,0,0,null,"00:00:00",0,0,"",null,0,null,0,"00:00:00",0,0,0,null,0,null,0,null,0,"00:00:00",0]
[null,null,null,null,null,null,null,null,null,0,0,null,"00:00:00",0,0,"",null,0,null,0,"00:00:00",0,0,0,null,0,null,0,null,0,"00:00:00",0]
[null,null,null,null,null,null,null,null,null,0,0,null,"00:00:00",0,0,"",null,0,null,0,"00:00:00",0,0,0,null,0,null,0,null,0,"00:00:00",0]
[null,null,null,null,null,null,null,null,null,0,0,null,"00:00:00",0,0,"",null,0,null,0,"00:00:00",0,0,0,null,0,null,0,null,0,"00:00:00",0]
[null,null,null,null,null,null,null,null,null,0,0,null,"00:00:00",0,0,"",null,0,null,0,"00:00:00",0,0,0,null,0,null,0,null,0,"00:00:00",0]
[null,null,null,null,null,null,null,null,null,0,0,null,"00:00:00",0,0,"",null,0,null,0,"00:00:00",0,0,0,null,0,null,0,null,0,"00:00:00",0]
[null,null,null,null,null,null,null,null,null,0,0,null,"00:00:00",0,0,"",null,0,null,0,"00:00:00",0,0,0,null,0,null,0,null,0,"00:00:00",0]
[null,null,null,null,null,null,null,null,null,0,0,null,"00:00:00",0,0,"",null,0,null,0,"00:00:00",0,0,0,null,0,null,0,null,0,"00:00:00",0]
[null,null,null,null,null,null,null,null,null,0,0,null,"00:00:00",0,0,"",null,0,null,0,"00:00:00",0,0,0,null,0,null,0,null,0,"00:00:00",0]
[null,null,null,null,null,null,null,null,null,0,0,null,"00:00:00",0,0,"",null,0,null,0,"00:00:00",0,0,0,null,0,null,0,null,0,"00:00:00",0]
[null,null,null,null,null,null,null,null,null,0,0,null,"00:00:00",0,0,"",null,0,null,0,"00:00:00",0,0,0,null,0,null,0,null,0,"00:00:00",0]
[null,null,null,null,null,null,null,null,null,0,0,null,"00:00:00",0,0,"",null,0,null,0,"00:00:00",0,0,0,null,0,null,0,null,0,"00:00:00",0]
[null,null,null,null,null,null,null,null,null,0,0,null,"00:00:00",0,0,"",null,0,null,0,"00:00:00",0,0,0,null,0,null,0,null,0,"00:00:00",0]
[null,null,null,null,null,null,null,null,null,0,0,null,"00:00:00",0,0,"",null,0,null,0,"00:00:00",0,0,0,null,0,null,0,null,0,"00:00:00",0]
[null,null,null,null,null,null,null,null,null,0,0,null,"00:00:00",0,0,"",null,0,null,0,"00:00:00",0,0,0,null,0,null,0,null,0,"00:00:00",0]
[null,null,null,null,null,null,null,null,null,0,0,null,"00:00:00",0,0,"",null,0,null,0,"00:00:00",0,0,0,null,0,null,0,null,0,"00:00:00",0]
[null,null,null,null,null,null,null,null,null,0,0,null,"00:00:00",0,0,"",null,0,null,0,"00:00:00",0,0,0,null,0,null,0,null,0,"00:00:00",0]
[null,null,null,null,null,null,null,null,null,0,0,null,"00:00:00",0,0,"",null,0,null,0,"00:00:00",0,0,0,null,0,null,0,null,0,"00:00:00",0]
[null,null,null,null,null,null,null,null,null,0,0,null,"00:00:00",0,0,"",null,0,null,0,"00:00:00",0,0,0,null,0,null,0,null,0,"00:00:00",0]
[null,null,null,null,null,null,null,null,null,0,0,null,"00:00:00",0,0,"",null,0,null,0,"00:00:00",0,0,0,null,0,null,0,null,0,"00:00:00",0]
[null,null,null,null,null,null,null,null,null,0,0,null,"00:00:00",0,0,"",null,0,null,0,"00:00:00",0,0,0,null,0,null,0,null,0,"00:00:00",0]
[null,null,null,null,null,null,null,null,null,0,0,null,"00:00:00",0,0,"",null,0,null,0,"00:00:00",0,0,0,null,0,null,0,null,0,"00:00:00",0]
[null,null,null,null,null,null,null,null,null,0,0,null,"00:00:00",0,0,"",null,0,null,0,"00:00:00",0,0,0,null,0,null,0,null,0,"00:00:00",0]
[null,null,null,null,null,null,null,null,null,0,0,null,"00:00:00",0,0,"",null,0,null,0,"00:00:00",0,0,0,null,{"$f":"IF(R4608=0,IF(R4607=1,M4607,0),0)","v":0},null,0,null,0,"00:00:00",0]
[null,null,null,null,null,null,null,null,null,0,0,null,"00:00:00",0,0,"",null,0,null,0,"00:00:00",0,0,0,null,0,null,0,null,0,"00:00:00",0]
[null,null,null,null,null,null,null,null,null,0,0,null,"00:00:00",0,0,"",null,0,null,0,"00:00:00",0,0,0,null,0,null,0,null,0,"00:00:00",0]
[null,null,null,null,null,null,null,null,null,0,0,null,"00:00:00",0,0,"",null,0,null,0,"00:00:00",0,0,0,null,0,null,0,null,0,"00:00:00",0]
[null,null,null,null,null,null,null,null,null,0,0,null,"00:00:00",0,0,"",null,0,null,0,"00:00:00",0,0,0,null,0,null,0,null,0,"00:00:00",0]
[null,null,null,null,null,null,null,null,null,0,0,null,"00:00:00",0,0,"",null,0,null,0,"00:00:00",0,0,0,null,0,null,0,null,0,"00:00:00",0]
[null,null,null,null,null,null,null,null,null,0,0,null,"00:00:00",0,0,"",null,0,null,0,"00:00:00",0,0,0,null,0,null,0,null,0,"00:00:00",0]
[null,null,null,null,null,null,null,null,null,0,0,null,"00:00:00",0,0,"",null,0,null,0,"00:00:00",0,0,0,null,0,null,0,null,0,"00:00:00",0]
[null,null,null,null,null,null,null,null,null,0,0,null,"00:00:00",0,0,"",null,0,null,0,"00:00:00",0,0,0,null,0,null,0,null,0,"00:00:00",0]
[null,null,null,null,null,null,null,null,null,0,0,null,"00:00:00",0,0,"",null,0,null,0,"00:00:00",0,0,0,null,0,null,0,null,0,"00:00:00",0]
[null,null,null,null,null,null,null,null,null,0,0,null,"00:00:00",{"$f":"IF(IF(M4617>=sipstart,1,0)+IF(M4617<=sipend,1,0)=2,J4617,0)","v":0},{"$f":"IF(IF(M4617>=sipstart,1,0)+IF(M4617<=sipend,1,0)=2,K4617,0)","v":0},{"$f":"IF(O4617=-sip,-O4617/B4617,\"\")","v":""},null,{"$f":"IF(IF(M4617>=sipstart,1,0)+IF(M4617<=sipend,1,0)=2,1,0)","v":0},null,{"$f":"IF((IF(M4617>=sipstart,1,2)+IF(M4617<=sipend,1,2))=2,M4617,0)","v":0},"00:00:00",0,{"$f":"IF(V4617=-sip,U4617,0)","v":0},{"$f":"IF(V4617=-sip,B4617,0)","v":0},null,0,null,0,null,0,{"$f":"IF(AD4617=1,A4617,0)","v":"00:00:00"},{"$f":"IF(AD4617=1,B4617,0)","v":0}]
[null,null,null,null,null,null,null,null,null,0,0,null,"00:00:00",0,0,"",null,0,null,0,{"$f":"IF((IF(M4618>=sipstart,1,2)+IF(M4618<=sipend,1,2))=2,M4618,0)+IF(T4617=actualsipend,actualsipend,0)","v":"00:00:00"},{"$f":"IF(U4618+U4617=0,0,IF(U4618=U4617,sipunits*B4617,O4618))","v":0},0,0,null,0,null,0,null,0,"00:00:00",0]
[null,null,null,null,null,null,null,null,null,0,0,null,"00:00:00",0,0,"",null,0,null,0,"00:00:00",0,0,0,null,0,null,0,null,0,"00:00:00",0]
[null,null,null,null,null,null,null,null,null,0,0,null,"00:00:00",0,0,"",null,0,null,0,"00:00:00",0,0,0,null,0,null,0,null,0,"00:00:00",0]
[null,null,null,null,null,null,null,null,null,{"$f":"IF(DAY(A4621)=sipdate,1,IF(J4620=1,0,IF(J4619=1,0,IF(J4618=1,0,IF(J4617=1,0,IF(J4616=1,0,IF(J4615=1,0,IF(DAY(A4621)=sipdate+1,1,IF(DAY(A4621)=sipdate+2,1,IF(DAY(A4621)=sipdate+3,1,IF(DAY(A4621)=sipdate+4,1,IF(DAY(A4621)=sipdate+5,1,IF(DAY(A4621)=sipdate+6,1,IF(DAY(A4621)=sipdate+7,1,0))))))))))))))","v":0},{"$f":"IF(DAY(A4621)=sipdate,-sip,IF(K4620=-sip,0,IF(K4619=-sip,0,IF(K4618=-sip,0,IF(K4617=-sip,0,IF(K4616=-sip,0,IF(K4615=-sip,0,IF(DAY(A4621)=sipdate+1,-sip,IF(DAY(A4621)=sipdate+2,-sip,IF(DAY(A4621)=sipdate+3,-sip,IF(DAY(A4621)=sipdate+4,-sip,IF(DAY(A4621)=sipdate+5,-sip,IF(DAY(A4621)=sipdate+6,-sip,IF(DAY(A4621)=sipdate+7,-sip,0))))))))))))))","v":0},null,"00:00:00",0,0,"",null,0,null,0,"00:00:00",0,0,0,null,0,null,{"$f":"IF(INT((MONTH(M4621)-MONTH(sipstart))/3)-(MONTH(M4621)-MONTH(sipstart))/3=0,IF(DAY(A4621)=sipdate,1,IF(AB4620=1,0,IF(AB4619=1,0,IF(AB4618=1,0,IF(AB4617=1,0,IF(AB4616=1,0,IF(AB4615=1,0,IF(DAY(A4621)=sipdate+1,1,IF(DAY(A4621)=sipdate+2,1,IF(DAY(A4621)=sipdate+3,1,IF(DAY(A4621)=sipdate+4,1,IF(DAY(A4621)=sipdate+5,1,IF(DAY(A4621)=sipdate+6,1,IF(DAY(A4621)=sipdate+7,1,0)))))))))))))),0)","v":0},null,{"$f":"IF(INT((MONTH(M4621)-MONTH(sipstart))/12)-(MONTH(M4621)-MONTH(sipstart))/12=0,IF(DAY(A4621)=sipdate,1,IF(AB4620=1,0,IF(AB4619=1,0,IF(AB4618=1,0,IF(AB4617=1,0,IF(AB4616=1,0,IF(AB4615=1,0,IF(DAY(A4621)=sipdate+1,1,IF(DAY(A4621)=sipdate+2,1,IF(DAY(A4621)=sipdate+3,1,IF(DAY(A4621)=sipdate+4,1,IF(DAY(A4621)=sipdate+5,1,IF(DAY(A4621)=sipdate+6,1,IF(DAY(A4621)=sipdate+7,1,0)))))))))))))),0)","v":0},"00:00:00",0]
[null,null,null,null,null,null,null,null,null,0,0,null,"00:00:00",0,0,"",null,0,null,0,"00:00:00",0,0,0,null,0,null,0,null,0,"00:00:00",0]
[null,null,null,null,null,null,null,null,null,0,0,null,"00:00:00",0,0,"",null,0,null,0,"00:00:00",0,0,0,null,0,null,0,null,0,"00:00:00",0]
[null,null,null,null,null,null,null,null,null,0,0,null,"00:00:00",0,0,"",null,0,null,0,"00:00:00",0,0,0,null,0,null,0,null,0,"00:00:00",0]
[null,null,null,null,null,null,null,null,null,0,0,null,"00:00:00",0,0,"",null,0,null,0,"00:00:00",0,0,0,null,0,null,0,null,0,"00:00:00",0]
[null,null,null,null,null,null,null,null,null,0,0,null,"00:00:00",0,0,"",null,0,null,0,"00:00:00",0,0,0,null,0,null,0,null,0,"00:00:00",0]
[null,null,null,null,null,null,null,null,null,0,0,null,"00:00:00",0,0,"",null,0,null,0,"00:00:00",0,0,0,null,0,null,0,null,0,"00:00:00",0]
[null,null,null,null,null,null,null,null,null,0,0,null,"00:00:00",0,0,"",null,0,null,0,"00:00:00",0,0,0,null,0,null,0,null,0,"00:00:00",0]
[null,null,null,null,null,null,null,null,null,0,0,null,"00:00:00",0,0,"",null,0,null,0,"00:00:00",0,0,0,null,0,null,0,null,0,"00:00:00",0]
[null,null,null,null,null,null,null,null,null,0,0,null,"00:00:00",0,0,"",null,0,null,0,"00:00:00",0,0,0,null,0,null,0,null,0,"00:00:00",0]
[null,null,null,null,null,null,null,null,null,0,0,null,"00:00:00",0,0,"",null,0,null,0,"00:00:00",0,0,0,null,0,null,0,null,0,"00:00:00",0]
[null,null,null,null,null,null,null,null,null,0,0,null,{"$f":"A4632","v":"00:00:00"},0,0,"",null,0,null,0,"00:00:00",0,0,0,null,0,null,0,null,0,"00:00:00",0]
[null,null,null,null,null,null,null,null,null,0,0,null,"00:00:00",0,0,"",null,0,null,0,"00:00:00",0,0,0,null,0,null,0,null,0,"00:00:00",0]
[null,null,null,null,null,null,null,null,null,0,0,null,"00:00:00",0,0,"",null,0,null,0,"00:00:00",0,0,0,null,0,null,0,null,0,"00:00:00",0]
[null,null,null,null,null,null,null,null,null,0,0,null,"00:00:00",0,0,"",null,0,null,0,"00:00:00",0,0,0,null,0,null,0,null,0,"00:00:00",0]
[null,null,null,null,null,null,null,null,null,0,0,null,"00:00:00",0,0,"",null,0,null,0,"00:00:00",0,0,0,null,0,null,0,null,0,"00:00:00",0]
[null,null,null,null,null,null,null,null,null,0,0,null,"00:00:00",0,0,"",null,0,null,0,"00:00:00",0,0,0,null,0,null,0,null,0,"00:00:00",0]
[null,null,null,null,null,null,null,null,null,0,0,null,"00:00:00",0,0,"",null,0,null,0,"00:00:00",0,0,0,null,0,null,0,null,0,"00:00:00",0]
[null,null,null,null,null,null,null,null,null,0,0,null,"00:00:00",0,0,"",null,0,null,0,"00:00:00",0,0,0,null,0,null,0,null,0,"00:00:00",0]
[null,null,null,null,null,null,null,null,null,0,0,null,"00:00:00",0,0,"",null,0,null,0,"00:00:00",0,0,0,null,0,null,0,null,0,"00:00:00",0]
[null,null,null,null,null,null,null,null,null,0,0,null,"00:00:00",0,0,"",null,0,null,0,"00:00:00",0,0,0,null,0,null,0,null,0,"00:00:00",0]
[null,null,null,null,null,null,null,null,null,0,0,null,"00:00:00",0,0,"",null,0,null,0,"00:00:00",0,0,0,null,0,null,0,null,0,"00:00:00",0]
[null,null,null,null,null,null,null,null,null,0,0,null,"00:00:00",0,0,"",null,0,null,0,"00:00:00",0,0,0,null,0,null,0,null,0,"00:00:00",0]
[null,null,null,null,null,null,null,null,null,0,0,null,"00:00:00",0,0,"",null,0,null,0,"00:00:00",0,0,0,null,0,null,0,null,0,"00:00:00",0]
[null,null,null,null,null,null,null,null,null,0,0,null,"00:00:00",0,0,"",null,0,null,0,"00:00:00",0,0,0,null,0,null,0,null,0,"00:00:00",0]
[null,null,null,null,null,null,null,null,null,0,0,null,"00:00:00",0,0,"",null,0,null,0,"00:00:00",0,0,0,null,0,null,0,null,0,"00:00:00",0]
[null,null,null,null,null,null,null,null,null,0,0,null,"00:00:00",0,0,"",null,0,null,0,"00:00:00",0,0,0,null,0,null,0,null,0,"00:00:00",0]
[null,null,null,null,null,null,null,null,null,0,0,null,"00:00:00",0,0,"",null,0,null,0,"00:00:00",0,0,0,null,0,null,0,null,0,"00:00:00",0]
[null,null,null,null,null,null,null,null,null,0,0,null,"00:00:00",0,0,"",null,0,null,0,"00:00:00",0,0,0,null,0,null,0,null,0,"00:00:00",0]
[null,null,null,null,null,null,null,null,null,0,0,null,"00:00:00",0,0,"",null,0,null,0,"00:00:00",0,0,0,null,0,null,0,null,0,"00:00:00",0]
[null,null,null,null,null,null,null,null,null,0,0,null,"00:00:00",0,0,"",null,0,null,0,"00:00:00",0,0,0,null,0,null,0,null,0,"00:00:00",0]
[null,null,null,null,null,null,null,null,null,0,0,null,"00:00:00",0,0,"",null,0,null,0,"00:00:00",0,0,0,null,0,null,0,null,0,"00:00:00",0]
[null,null,null,null,null,null,null,null,null,0,0,null,"00:00:00",0,0,"",null,0,null,0,"00:00:00",0,0,0,null,0,null,0,null,0,"00:00:00",0]
[null,null,null,null,null,null,null,null,null,0,0,null,"00:00:00",0,0,"",null,0,null,0,"00:00:00",0,0,0,null,0,null,0,null,0,"00:00:00",0]
[null,null,null,null,null,null,null,null,null,0,0,null,"00:00:00",0,0,"",null,0,null,0,"00:00:00",0,0,0,null,0,null,0,null,0,"00:00:00",0]
[null,null,null,null,null,null,null,null,null,0,0,null,"00:00:00",0,0,"",null,0,null,0,"00:00:00",0,0,0,null,0,null,0,null,0,"00:00:00",0]
[null,null,null,null,null,null,null,null,null,0,0,null,"00:00:00",0,0,"",null,0,null,0,"00:00:00",0,0,0,null,0,null,0,null,0,"00:00:00",0]
[null,null,null,null,null,null,null,null,null,0,0,null,"00:00:00",0,0,"",null,0,null,0,"00:00:00",0,0,0,null,0,null,0,null,0,"00:00:00",0]
[null,null,null,null,null,null,null,null,null,0,0,null,"00:00:00",0,0,"",null,0,null,0,"00:00:00",0,0,0,null,0,null,0,null,0,"00:00:00",0]
[null,null,null,null,null,null,null,null,null,0,0,null,"00:00:00",0,0,"",null,0,null,0,"00:00:00",0,0,0,null,0,null,0,null,0,"00:00:00",0]
[null,null,null,null,null,null,null,null,null,0,0,null,"00:00:00",0,0,"",null,0,null,0,"00:00:00",0,0,0,null,0,null,0,null,0,"00:00:00",0]
[null,null,null,null,null,null,null,null,null,0,0,null,"00:00:00",0,0,"",null,0,null,0,"00:00:00",0,0,0,null,0,null,0,null,0,"00:00:00",0]
[null,null,null,null,null,null,null,null,null,0,0,null,"00:00:00",0,0,"",null,0,null,0,"00:00:00",0,0,0,null,0,null,0,null,0,"00:00:00",0]
[null,null,null,null,null,null,null,null,null,0,0,null,"00:00:00",0,0,"",null,0,null,0,"00:00:00",0,0,0,null,0,null,0,null,0,"00:00:00",0]
[null,null,null,null,null,null,null,null,null,0,0,null,"00:00:00",0,0,"",null,0,null,0,"00:00:00",0,0,0,null,0,null,0,null,0,"00:00:00",0]
[null,null,null,null,null,null,null,null,null,0,0,null,"00:00:00",0,0,"",null,0,null,0,"00:00:00",0,0,0,null,0,null,0,null,0,"00:00:00",0]
[null,null,null,null,null,null,null,null,null,0,0,null,"00:00:00",0,0,"",null,0,null,0,"00:00:00",0,0,0,null,0,null,0,null,0,"00:00:00",0]
[null,null,null,null,null,null,null,null,null,0,0,null,"00:00:00",0,0,"",null,0,null,0,"00:00:00",0,0,0,null,0,null,0,null,0,"00:00:00",0]
[null,null,null,null,null,null,null,null,null,0,0,null,"00:00:00",0,0,"",null,0,null,0,"00:00:00",0,0,0,null,0,null,0,null,0,"00:00:00",0]
[null,null,null,null,null,null,null,null,null,0,0,null,"00:00:00",0,0,"",null,0,null,0,"00:00:00",0,0,0,null,0,null,0,null,0,"00:00:00",0]
[null,null,null,null,null,null,null,null,null,0,0,null,"00:00:00",0,0,"",null,0,null,0,"00:00:00",0,0,0,null,{"$f":"IF(R4672=0,IF(R4671=1,M4671,0),0)","v":0},null,0,null,0,"00:00:00",0]
[null,null,null,null,null,null,null,null,null,0,0,null,"00:00:00",0,0,"",null,0,null,0,"00:00:00",0,0,0,null,0,null,0,null,0,"00:00:00",0]
[null,null,null,null,null,null,null,null,null,0,0,null,"00:00:00",0,0,"",null,0,null,0,"00:00:00",0,0,0,null,0,null,0,null,0,"00:00:00",0]
[null,null,null,null,null,null,null,null,null,0,0,null,"00:00:00",0,0,"",null,0,null,0,"00:00:00",0,0,0,null,0,null,0,null,0,"00:00:00",0]
[null,null,null,null,null,null,null,null,null,0,0,null,"00:00:00",0,0,"",null,0,null,0,"00:00:00",0,0,0,null,0,null,0,null,0,"00:00:00",0]
[null,null,null,null,null,null,null,null,null,0,0,null,"00:00:00",0,0,"",null,0,null,0,"00:00:00",0,0,0,null,0,null,0,null,0,"00:00:00",0]
[null,null,null,null,null,null,null,null,null,0,0,null,"00:00:00",0,0,"",null,0,null,0,"00:00:00",0,0,0,null,0,null,0,null,0,"00:00:00",0]
[null,null,null,null,null,null,null,null,null,0,0,null,"00:00:00",0,0,"",null,0,null,0,"00:00:00",0,0,0,null,0,null,0,null,0,"00:00:00",0]
[null,null,null,null,null,null,null,null,null,0,0,null,"00:00:00",0,0,"",null,0,null,0,"00:00:00",0,0,0,null,0,null,0,null,0,"00:00:00",0]
[null,null,null,null,null,null,null,null,null,0,0,null,"00:00:00",0,0,"",null,0,null,0,"00:00:00",0,0,0,null,0,null,0,null,0,"00:00:00",0]
[null,null,null,null,null,null,null,null,null,0,0,null,"00:00:00",{"$f":"IF(IF(M4681>=sipstart,1,0)+IF(M4681<=sipend,1,0)=2,J4681,0)","v":0},{"$f":"IF(IF(M4681>=sipstart,1,0)+IF(M4681<=sipend,1,0)=2,K4681,0)","v":0},{"$f":"IF(O4681=-sip,-O4681/B4681,\"\")","v":""},null,{"$f":"IF(IF(M4681>=sipstart,1,0)+IF(M4681<=sipend,1,0)=2,1,0)","v":0},null,{"$f":"IF((IF(M4681>=sipstart,1,2)+IF(M4681<=sipend,1,2))=2,M4681,0)","v":0},"00:00:00",0,{"$f":"IF(V4681=-sip,U4681,0)","v":0},{"$f":"IF(V4681=-sip,B4681,0)","v":0},null,0,null,0,null,0,{"$f":"IF(AD4681=1,A4681,0)","v":"00:00:00"},{"$f":"IF(AD4681=1,B4681,0)","v":0}]
[null,null,null,null,null,null,null,null,null,0,0,null,"00:00:00",0,0,"",null,0,null,0,{"$f":"IF((IF(M4682>=sipstart,1,2)+IF(M4682<=sipend,1,2))=2,M4682,0)+IF(T4681=actualsipend,actualsipend,0)","v":"00:00:00"},{"$f":"IF(U4682+U4681=0,0,IF(U4682=U4681,sipunits*B4681,O4682))","v":0},0,0,null,0,null,0,null,0,"00:00:00",0]
[null,null,null,null,null,null,null,null,null,0,0,null,"00:00:00",0,0,"",null,0,null,0,"00:00:00",0,0,0,null,0,null,0,null,0,"00:00:00",0]
[null,null,null,null,null,null,null,null,null,0,0,null,"00:00:00",0,0,"",null,0,null,0,"00:00:00",0,0,0,null,0,null,0,null,0,"00:00:00",0]
[null,null,null,null,null,null,null,null,null,{"$f":"IF(DAY(A4685)=sipdate,1,IF(J4684=1,0,IF(J4683=1,0,IF(J4682=1,0,IF(J4681=1,0,IF(J4680=1,0,IF(J4679=1,0,IF(DAY(A4685)=sipdate+1,1,IF(DAY(A4685)=sipdate+2,1,IF(DAY(A4685)=sipdate+3,1,IF(DAY(A4685)=sipdate+4,1,IF(DAY(A4685)=sipdate+5,1,IF(DAY(A4685)=sipdate+6,1,IF(DAY(A4685)=sipdate+7,1,0))))))))))))))","v":0},{"$f":"IF(DAY(A4685)=sipdate,-sip,IF(K4684=-sip,0,IF(K4683=-sip,0,IF(K4682=-sip,0,IF(K4681=-sip,0,IF(K4680=-sip,0,IF(K4679=-sip,0,IF(DAY(A4685)=sipdate+1,-sip,IF(DAY(A4685)=sipdate+2,-sip,IF(DAY(A4685)=sipdate+3,-sip,IF(DAY(A4685)=sipdate+4,-sip,IF(DAY(A4685)=sipdate+5,-sip,IF(DAY(A4685)=sipdate+6,-sip,IF(DAY(A4685)=sipdate+7,-sip,0))))))))))))))","v":0},null,"00:00:00",0,0,"",null,0,null,0,"00:00:00",0,0,0,null,0,null,{"$f":"IF(INT((MONTH(M4685)-MONTH(sipstart))/3)-(MONTH(M4685)-MONTH(sipstart))/3=0,IF(DAY(A4685)=sipdate,1,IF(AB4684=1,0,IF(AB4683=1,0,IF(AB4682=1,0,IF(AB4681=1,0,IF(AB4680=1,0,IF(AB4679=1,0,IF(DAY(A4685)=sipdate+1,1,IF(DAY(A4685)=sipdate+2,1,IF(DAY(A4685)=sipdate+3,1,IF(DAY(A4685)=sipdate+4,1,IF(DAY(A4685)=sipdate+5,1,IF(DAY(A4685)=sipdate+6,1,IF(DAY(A4685)=sipdate+7,1,0)))))))))))))),0)","v":0},null,{"$f":"IF(INT((MONTH(M4685)-MONTH(sipstart))/12)-(MONTH(M4685)-MONTH(sipstart))/12=0,IF(DAY(A4685)=sipdate,1,IF(AB4684=1,0,IF(AB4683=1,0,IF(AB4682=1,0,IF(AB4681=1,0,IF(AB4680=1,0,IF(AB4679=1,0,IF(DAY(A4685)=sipdate+1,1,IF(DAY(A4685)=sipdate+2,1,IF(DAY(A4685)=sipdate+3,1,IF(DAY(A4685)=sipdate+4,1,IF(DAY(A4685)=sipdate+5,1,IF(DAY(A4685)=sipdate+6,1,IF(DAY(A4685)=sipdate+7,1,0)))))))))))))),0)","v":0},"00:00:00",0]
[null,null,null,null,null,null,null,null,null,0,0,null,"00:00:00",0,0,"",null,0,null,0,"00:00:00",0,0,0,null,0,null,0,null,0,"00:00:00",0]
[null,null,null,null,null,null,null,null,null,0,0,null,"00:00:00",0,0,"",null,0,null,0,"00:00:00",0,0,0,null,0,null,0,null,0,"00:00:00",0]
[null,null,null,null,null,null,null,null,null,0,0,null,"00:00:00",0,0,"",null,0,null,0,"00:00:00",0,0,0,null,0,null,0,null,0,"00:00:00",0]
[null,null,null,null,null,null,null,null,null,0,0,null,"00:00:00",0,0,"",null,0,null,0,"00:00:00",0,0,0,null,0,null,0,null,0,"00:00:00",0]
[null,null,null,null,null,null,null,null,null,0,0,null,"00:00:00",0,0,"",null,0,null,0,"00:00:00",0,0,0,null,0,null,0,null,0,"00:00:00",0]
[null,null,null,null,null,null,null,null,null,0,0,null,"00:00:00",0,0,"",null,0,null,0,"00:00:00",0,0,0,null,0,null,0,null,0,"00:00:00",0]
[null,null,null,null,null,null,null,null,null,0,0,null,"00:00:00",0,0,"",null,0,null,0,"00:00:00",0,0,0,null,0,null,0,null,0,"00:00:00",0]
[null,null,null,null,null,null,null,null,null,0,0,null,"00:00:00",0,0,"",null,0,null,0,"00:00:00",0,0,0,null,0,null,0,null,0,"00:00:00",0]
[null,null,null,null,null,null,null,null,null,0,0,null,"00:00:00",0,0,"",null,0,null,0,"00:00:00",0,0,0,null,0,null,0,null,0,"00:00:00",0]
[null,null,null,null,null,null,null,null,null,0,0,null,"00:00:00",0,0,"",null,0,null,0,"00:00:00",0,0,0,null,0,null,0,null,0,"00:00:00",0]
[null,null,null,null,null,null,null,null,null,0,0,null,{"$f":"A4696","v":"00:00:00"},0,0,"",null,0,null,0,"00:00:00",0,0,0,null,0,null,0,null,0,"00:00:00",0]
[null,null,null,null,null,null,null,null,null,0,0,null,"00:00:00",0,0,"",null,0,null,0,"00:00:00",0,0,0,null,0,null,0,null,0,"00:00:00",0]
[null,null,null,null,null,null,null,null,null,0,0,null,"00:00:00",0,0,"",null,0,null,0,"00:00:00",0,0,0,null,0,null,0,null,0,"00:00:00",0]
[null,null,null,null,null,null,null,null,null,0,0,null,"00:00:00",0,0,"",null,0,null,0,"00:00:00",0,0,0,null,0,null,0,null,0,"00:00:00",0]
[null,null,null,null,null,null,null,null,null,0,0,null,"00:00:00",0,0,"",null,0,null,0,"00:00:00",0,0,0,null,0,null,0,null,0,"00:00:00",0]
[null,null,null,null,null,null,null,null,null,0,0,null,"00:00:00",0,0,"",null,0,null,0,"00:00:00",0,0,0,null,0,null,0,null,0,"00:00:00",0]
[null,null,null,null,null,null,null,null,null,0,0,null,"00:00:00",0,0,"",null,0,null,0,"00:00:00",0,0,0,null,0,null,0,null,0,"00:00:00",0]
[null,null,null,null,null,null,null,null,null,0,0,null,"00:00:00",0,0,"",null,0,null,0,"00:00:00",0,0,0,null,0,null,0,null,0,"00:00:00",0]
[null,null,null,null,null,null,null,null,null,0,0,null,"00:00:00",0,0,"",null,0,null,0,"00:00:00",0,0,0,null,0,null,0,null,0,"00:00:00",0]
[null,null,null,null,null,null,null,null,null,0,0,null,"00:00:00",0,0,"",null,0,null,0,"00:00:00",0,0,0,null,0,null,0,null,0,"00:00:00",0]
[null,null,null,null,null,null,null,null,null,0,0,null,"00:00:00",0,0,"",null,0,null,0,"00:00:00",0,0,0,null,0,null,0,null,0,"00:00:00",0]
[null,null,null,null,null,null,null,null,null,0,0,null,"00:00:00",0,0,"",null,0,null,0,"00:00:00",0,0,0,null,0,null,0,null,0,"00:00:00",0]
[null,null,null,null,null,null,null,null,null,0,0,null,"00:00:00",0,0,"",null,0,null,0,"00:00:00",0,0,0,null,0,null,0,null,0,"00:00:00",0]
[null,null,null,null,null,null,null,null,null,0,0,null,"00:00:00",0,0,"",null,0,null,0,"00:00:00",0,0,0,null,0,null,0,null,0,"00:00:00",0]
[null,null,null,null,null,null,null,null,null,0,0,null,"00:00:00",0,0,"",null,0,null,0,"00:00:00",0,0,0,null,0,null,0,null,0,"00:00:00",0]
[null,null,null,null,null,null,null,null,null,0,0,null,"00:00:00",0,0,"",null,0,null,0,"00:00:00",0,0,0,null,0,null,0,null,0,"00:00:00",0]
[null,null,null,null,null,null,null,null,null,0,0,null,"00:00:00",0,0,"",null,0,null,0,"00:00:00",0,0,0,null,0,null,0,null,0,"00:00:00",0]
[null,null,null,null,null,null,null,null,null,0,0,null,"00:00:00",0,0,"",null,0,null,0,"00:00:00",0,0,0,null,0,null,0,null,0,"00:00:00",0]
[null,null,null,null,null,null,null,null,null,0,0,null,"00:00:00",0,0,"",null,0,null,0,"00:00:00",0,0,0,null,0,null,0,null,0,"00:00:00",0]
[null,null,null,null,null,null,null,null,null,0,0,null,"00:00:00",0,0,"",null,0,null,0,"00:00:00",0,0,0,null,0,null,0,null,0,"00:00:00",0]
[null,null,null,null,null,null,null,null,null,0,0,null,"00:00:00",0,0,"",null,0,null,0,"00:00:00",0,0,0,null,0,null,0,null,0,"00:00:00",0]
[null,null,null,null,null,null,null,null,null,0,0,null,"00:00:00",0,0,"",null,0,null,0,"00:00:00",0,0,0,null,0,null,0,null,0,"00:00:00",0]
[null,null,null,null,null,null,null,null,null,0,0,null,"00:00:00",0,0,"",null,0,null,0,"00:00:00",0,0,0,null,0,null,0,null,0,"00:00:00",0]
[null,null,null,null,null,null,null,null,null,0,0,null,"00:00:00",0,0,"",null,0,null,0,"00:00:00",0,0,0,null,0,null,0,null,0,"00:00:00",0]
[null,null,null,null,null,null,null,null,null,0,0,null,"00:00:00",0,0,"",null,0,null,0,"00:00:00",0,0,0,null,0,null,0,null,0,"00:00:00",0]
[null,null,null,null,null,null,null,null,null,0,0,null,"00:00:00",0,0,"",null,0,null,0,"00:00:00",0,0,0,null,0,null,0,null,0,"00:00:00",0]
[null,null,null,null,null,null,null,null,null,0,0,null,"00:00:00",0,0,"",null,0,null,0,"00:00:00",0,0,0,null,0,null,0,null,0,"00:00:00",0]
[null,null,null,null,null,null,null,null,null,0,0,null,"00:00:00",0,0,"",null,0,null,0,"00:00:00",0,0,0,null,0,null,0,null,0,"00:00:00",0]
[null,null,null,null,null,null,null,null,null,0,0,null,"00:00:00",0,0,"",null,0,null,0,"00:00:00",0,0,0,null,0,null,0,null,0,"00:00:00",0]
[null,null,null,null,null,null,null,null,null,0,0,null,"00:00:00",0,0,"",null,0,null,0,"00:00:00",0,0,0,null,0,null,0,null,0,"00:00:00",0]
[null,null,null,null,null,null,null,null,null,0,0,null,"00:00:00",0,0,"",null,0,null,0,"00:00:00",0,0,0,null,0,null,0,null,0,"00:00:00",0]
[null,null,null,null,null,null,null,null,null,0,0,null,"00:00:00",0,0,"",null,0,null,0,"00:00:00",0,0,0,null,0,null,0,null,0,"00:00:00",0]
[null,null,null,null,null,null,null,null,null,0,0,null,"00:00:00",0,0,"",null,0,null,0,"00:00:00",0,0,0,null,0,null,0,null,0,"00:00:00",0]
[null,null,null,null,null,null,null,null,null,0,0,null,"00:00:00",0,0,"",null,0,null,0,"00:00:00",0,0,0,null,0,null,0,null,0,"00:00:00",0]
[null,null,null,null,null,null,null,null,null,0,0,null,"00:00:00",0,0,"",null,0,null,0,"00:00:00",0,0,0,null,0,null,0,null,0,"00:00:00",0]
[null,null,null,null,null,null,null,null,null,0,0,null,"00:00:00",0,0,"",null,0,null,0,"00:00:00",0,0,0,null,0,null,0,null,0,"00:00:00",0]
[null,null,null,null,null,null,null,null,null,0,0,null,"00:00:00",0,0,"",null,0,null,0,"00:00:00",0,0,0,null,0,null,0,null,0,"00:00:00",0]
[null,null,null,null,null,null,null,null,null,0,0,null,"00:00:00",0,0,"",null,0,null,0,"00:00:00",0,0,0,null,0,null,0,null,0,"00:00:00",0]
[null,null,null,null,null,null,null,null,null,0,0,null,"00:00:00",0,0,"",null,0,null,0,"00:00:00",0,0,0,null,0,null,0,null,0,"00:00:00",0]
[null,null,null,null,null,null,null,null,null,0,0,null,"00:00:00",0,0,"",null,0,null,0,"00:00:00",0,0,0,null,{"$f":"IF(R4736=0,IF(R4735=1,M4735,0),0)","v":0},null,0,null,0,"00:00:00",0]
[null,null,null,null,null,null,null,null,null,0,0,null,"00:00:00",0,0,"",null,0,null,0,"00:00:00",0,0,0,null,0,null,0,null,0,"00:00:00",0]
[null,null,null,null,null,null,null,null,null,0,0,null,"00:00:00",0,0,"",null,0,null,0,"00:00:00",0,0,0,null,0,null,0,null,0,"00:00:00",0]
[null,null,null,null,null,null,null,null,null,0,0,null,"00:00:00",0,0,"",null,0,null,0,"00:00:00",0,0,0,null,0,null,0,null,0,"00:00:00",0]
[null,null,null,null,null,null,null,null,null,0,0,null,"00:00:00",0,0,"",null,0,null,0,"00:00:00",0,0,0,null,0,null,0,null,0,"00:00:00",0]
[null,null,null,null,null,null,null,null,null,0,0,null,"00:00:00",0,0,"",null,0,null,0,"00:00:00",0,0,0,null,0,null,0,null,0,"00:00:00",0]
[null,null,null,null,null,null,null,null,null,0,0,null,"00:00:00",0,0,"",null,0,null,0,"00:00:00",0,0,0,null,0,null,0,null,0,"00:00:00",0]
[null,null,null,null,null,null,null,null,null,0,0,null,"00:00:00",0,0,"",null,0,null,0,"00:00:00",0,0,0,null,0,null,0,null,0,"00:00:00",0]
[null,null,null,null,null,null,null,null,null,0,0,null,"00:00:00",0,0,"",null,0,null,0,"00:00:00",0,0,0,null,0,null,0,null,0,"00:00:00",0]
[null,null,null,null,null,null,null,null,null,0,0,null,"00:00:00",0,0,"",null,0,null,0,"00:00:00",0,0,0,null,0,null,0,null,0,"00:00:00",0]
[null,null,null,null,null,null,null,null,null,0,0,null,"00:00:00",{"$f":"IF(IF(M4745>=sipstart,1,0)+IF(M4745<=sipend,1,0)=2,J4745,0)","v":0},{"$f":"IF(IF(M4745>=sipstart,1,0)+IF(M4745<=sipend,1,0)=2,K4745,0)","v":0},{"$f":"IF(O4745=-sip,-O4745/B4745,\"\")","v":""},null,{"$f":"IF(IF(M4745>=sipstart,1,0)+IF(M4745<=sipend,1,0)=2,1,0)","v":0},null,{"$f":"IF((IF(M4745>=sipstart,1,2)+IF(M4745<=sipend,1,2))=2,M4745,0)","v":0},"00:00:00",0,{"$f":"IF(V4745=-sip,U4745,0)","v":0},{"$f":"IF(V4745=-sip,B4745,0)","v":0},null,0,null,0,null,0,{"$f":"IF(AD4745=1,A4745,0)","v":"00:00:00"},{"$f":"IF(AD4745=1,B4745,0)","v":0}]
[null,null,null,null,null,null,null,null,null,0,0,null,"00:00:00",0,0,"",null,0,null,0,{"$f":"IF((IF(M4746>=sipstart,1,2)+IF(M4746<=sipend,1,2))=2,M4746,0)+IF(T4745=actualsipend,actualsipend,0)","v":"00:00:00"},{"$f":"IF(U4746+U4745=0,0,IF(U4746=U4745,sipunits*B4745,O4746))","v":0},0,0,null,0,null,0,null,0,"00:00:00",0]
[null,null,null,null,null,null,null,null,null,0,0,null,"00:00:00",0,0,"",null,0,null,0,"00:00:00",0,0,0,null,0,null,0,null,0,"00:00:00",0]
[null,null,null,null,null,null,null,null,null,0,0,null,"00:00:00",0,0,"",null,0,null,0,"00:00:00",0,0,0,null,0,null,0,null,0,"00:00:00",0]
[null,null,null,null,null,null,null,null,null,{"$f":"IF(DAY(A4749)=sipdate,1,IF(J4748=1,0,IF(J4747=1,0,IF(J4746=1,0,IF(J4745=1,0,IF(J4744=1,0,IF(J4743=1,0,IF(DAY(A4749)=sipdate+1,1,IF(DAY(A4749)=sipdate+2,1,IF(DAY(A4749)=sipdate+3,1,IF(DAY(A4749)=sipdate+4,1,IF(DAY(A4749)=sipdate+5,1,IF(DAY(A4749)=sipdate+6,1,IF(DAY(A4749)=sipdate+7,1,0))))))))))))))","v":0},{"$f":"IF(DAY(A4749)=sipdate,-sip,IF(K4748=-sip,0,IF(K4747=-sip,0,IF(K4746=-sip,0,IF(K4745=-sip,0,IF(K4744=-sip,0,IF(K4743=-sip,0,IF(DAY(A4749)=sipdate+1,-sip,IF(DAY(A4749)=sipdate+2,-sip,IF(DAY(A4749)=sipdate+3,-sip,IF(DAY(A4749)=sipdate+4,-sip,IF(DAY(A4749)=sipdate+5,-sip,IF(DAY(A4749)=sipdate+6,-sip,IF(DAY(A4749)=sipdate+7,-sip,0))))))))))))))","v":0},null,"00:00:00",0,0,"",null,0,null,0,"00:00:00",0,0,0,null,0,null,{"$f":"IF(INT((MONTH(M4749)-MONTH(sipstart))/3)-(MONTH(M4749)-MONTH(sipstart))/3=0,IF(DAY(A4749)=sipdate,1,IF(AB4748=1,0,IF(AB4747=1,0,IF(AB4746=1,0,IF(AB4745=1,0,IF(AB4744=1,0,IF(AB4743=1,0,IF(DAY(A4749)=sipdate+1,1,IF(DAY(A4749)=sipdate+2,1,IF(DAY(A4749)=sipdate+3,1,IF(DAY(A4749)=sipdate+4,1,IF(DAY(A4749)=sipdate+5,1,IF(DAY(A4749)=sipdate+6,1,IF(DAY(A4749)=sipdate+7,1,0)))))))))))))),0)","v":0},null,{"$f":"IF(INT((MONTH(M4749)-MONTH(sipstart))/12)-(MONTH(M4749)-MONTH(sipstart))/12=0,IF(DAY(A4749)=sipdate,1,IF(AB4748=1,0,IF(AB4747=1,0,IF(AB4746=1,0,IF(AB4745=1,0,IF(AB4744=1,0,IF(AB4743=1,0,IF(DAY(A4749)=sipdate+1,1,IF(DAY(A4749)=sipdate+2,1,IF(DAY(A4749)=sipdate+3,1,IF(DAY(A4749)=sipdate+4,1,IF(DAY(A4749)=sipdate+5,1,IF(DAY(A4749)=sipdate+6,1,IF(DAY(A4749)=sipdate+7,1,0)))))))))))))),0)","v":0},"00:00:00",0]
[null,null,null,null,null,null,null,null,null,0,0,null,"00:00:00",0,0,"",null,0,null,0,"00:00:00",0,0,0,null,0,null,0,null,0,"00:00:00",0]
[null,null,null,null,null,null,null,null,null,0,0,null,"00:00:00",0,0,"",null,0,null,0,"00:00:00",0,0,0,null,0,null,0,null,0,"00:00:00",0]
[null,null,null,null,null,null,null,null,null,0,0,null,"00:00:00",0,0,"",null,0,null,0,"00:00:00",0,0,0,null,0,null,0,null,0,"00:00:00",0]
[null,null,null,null,null,null,null,null,null,0,0,null,"00:00:00",0,0,"",null,0,null,0,"00:00:00",0,0,0,null,0,null,0,null,0,"00:00:00",0]
[null,null,null,null,null,null,null,null,null,0,0,null,"00:00:00",0,0,"",null,0,null,0,"00:00:00",0,0,0,null,0,null,0,null,0,"00:00:00",0]
[null,null,null,null,null,null,null,null,null,0,0,null,"00:00:00",0,0,"",null,0,null,0,"00:00:00",0,0,0,null,0,null,0,null,0,"00:00:00",0]
[null,null,null,null,null,null,null,null,null,0,0,null,"00:00:00",0,0,"",null,0,null,0,"00:00:00",0,0,0,null,0,null,0,null,0,"00:00:00",0]
[null,null,null,null,null,null,null,null,null,0,0,null,"00:00:00",0,0,"",null,0,null,0,"00:00:00",0,0,0,null,0,null,0,null,0,"00:00:00",0]
[null,null,null,null,null,null,null,null,null,0,0,null,"00:00:00",0,0,"",null,0,null,0,"00:00:00",0,0,0,null,0,null,0,null,0,"00:00:00",0]
[null,null,null,null,null,null,null,null,null,0,0,null,"00:00:00",0,0,"",null,0,null,0,"00:00:00",0,0,0,null,0,null,0,null,0,"00:00:00",0]
[null,null,null,null,null,null,null,null,null,0,0,null,{"$f":"A4760","v":"00:00:00"},0,0,"",null,0,null,0,"00:00:00",0,0,0,null,0,null,0,null,0,"00:00:00",0]
[null,null,null,null,null,null,null,null,null,0,0,null,"00:00:00",0,0,"",null,0,null,0,"00:00:00",0,0,0,null,0,null,0,null,0,"00:00:00",0]
[null,null,null,null,null,null,null,null,null,0,0,null,"00:00:00",0,0,"",null,0,null,0,"00:00:00",0,0,0,null,0,null,0,null,0,"00:00:00",0]
[null,null,null,null,null,null,null,null,null,0,0,null,"00:00:00",0,0,"",null,0,null,0,"00:00:00",0,0,0,null,0,null,0,null,0,"00:00:00",0]
[null,null,null,null,null,null,null,null,null,0,0,null,"00:00:00",0,0,"",null,0,null,0,"00:00:00",0,0,0,null,0,null,0,null,0,"00:00:00",0]
[null,null,null,null,null,null,null,null,null,0,0,null,"00:00:00",0,0,"",null,0,null,0,"00:00:00",0,0,0,null,0,null,0,null,0,"00:00:00",0]
[null,null,null,null,null,null,null,null,null,0,0,null,"00:00:00",0,0,"",null,0,null,0,"00:00:00",0,0,0,null,0,null,0,null,0,"00:00:00",0]
[null,null,null,null,null,null,null,null,null,0,0,null,"00:00:00",0,0,"",null,0,null,0,"00:00:00",0,0,0,null,0,null,0,null,0,"00:00:00",0]
[null,null,null,null,null,null,null,null,null,0,0,null,"00:00:00",0,0,"",null,0,null,0,"00:00:00",0,0,0,null,0,null,0,null,0,"00:00:00",0]
[null,null,null,null,null,null,null,null,null,0,0,null,"00:00:00",0,0,"",null,0,null,0,"00:00:00",0,0,0,null,0,null,0,null,0,"00:00:00",0]
[null,null,null,null,null,null,null,null,null,0,0,null,"00:00:00",0,0,"",null,0,null,0,"00:00:00",0,0,0,null,0,null,0,null,0,"00:00:00",0]
[null,null,null,null,null,null,null,null,null,0,0,null,"00:00:00",0,0,"",null,0,null,0,"00:00:00",0,0,0,null,0,null,0,null,0,"00:00:00",0]
[null,null,null,null,null,null,null,null,null,0,0,null,"00:00:00",0,0,"",null,0,null,0,"00:00:00",0,0,0,null,0,null,0,null,0,"00:00:00",0]
[null,null,null,null,null,null,null,null,null,0,0,null,"00:00:00",0,0,"",null,0,null,0,"00:00:00",0,0,0,null,0,null,0,null,0,"00:00:00",0]
[null,null,null,null,null,null,null,null,null,0,0,null,"00:00:00",0,0,"",null,0,null,0,"00:00:00",0,0,0,null,0,null,0,null,0,"00:00:00",0]
[null,null,null,null,null,null,null,null,null,0,0,null,"00:00:00",0,0,"",null,0,null,0,"00:00:00",0,0,0,null,0,null,0,null,0,"00:00:00",0]
[null,null,null,null,null,null,null,null,null,0,0,null,"00:00:00",0,0,"",null,0,null,0,"00:00:00",0,0,0,null,0,null,0,null,0,"00:00:00",0]
[null,null,null,null,null,null,null,null,null,0,0,null,"00:00:00",0,0,"",null,0,null,0,"00:00:00",0,0,0,null,0,null,0,null,0,"00:00:00",0]
[null,null,null,null,null,null,null,null,null,0,0,null,"00:00:00",0,0,"",null,0,null,0,"00:00:00",0,0,0,null,0,null,0,null,0,"00:00:00",0]
[null,null,null,null,null,null,null,null,null,0,0,null,"00:00:00",0,0,"",null,0,null,0,"00:00:00",0,0,0,null,0,null,0,null,0,"00:00:00",0]
[null,null,null,null,null,null,null,null,null,0,0,null,"00:00:00",0,0,"",null,0,null,0,"00:00:00",0,0,0,null,0,null,0,null,0,"00:00:00",0]
[null,null,null,null,null,null,null,null,null,0,0,null,"00:00:00",0,0,"",null,0,null,0,"00:00:00",0,0,0,null,0,null,0,null,0,"00:00:00",0]
[null,null,null,null,null,null,null,null,null,0,0,null,"00:00:00",0,0,"",null,0,null,0,"00:00:00",0,0,0,null,0,null,0,null,0,"00:00:00",0]
[null,null,null,null,null,null,null,null,null,0,0,null,"00:00:00",0,0,"",null,0,null,0,"00:00:00",0,0,0,null,0,null,0,null,0,"00:00:00",0]
[null,null,null,null,null,null,null,null,null,0,0,null,"00:00:00",0,0,"",null,0,null,0,"00:00:00",0,0,0,null,0,null,0,null,0,"00:00:00",0]
[null,null,null,null,null,null,null,null,null,0,0,null,"00:00:00",0,0,"",null,0,null,0,"00:00:00",0,0,0,null,0,null,0,null,0,"00:00:00",0]
[null,null,null,null,null,null,null,null,null,0,0,null,"00:00:00",0,0,"",null,0,null,0,"00:00:00",0,0,0,null,0,null,0,null,0,"00:00:00",0]
[null,null,null,null,null,null,null,null,null,0,0,null,"00:00:00",0,0,"",null,0,null,0,"00:00:00",0,0,0,null,0,null,0,null,0,"00:00:00",0]
[null,null,null,null,null,null,null,null,null,0,0,null,"00:00:00",0,0,"",null,0,null,0,"00:00:00",0,0,0,null,0,null,0,null,0,"00:00:00",0]
[null,null,null,null,null,null,null,null,null,0,0,null,"00:00:00",0,0,"",null,0,null,0,"00:00:00",0,0,0,null,0,null,0,null,0,"00:00:00",0]
[null,null,null,null,null,null,null,null,null,0,0,null,"00:00:00",0,0,"",null,0,null,0,"00:00:00",0,0,0,null,0,null,0,null,0,"00:00:00",0]
[null,null,null,null,null,null,null,null,null,0,0,null,"00:00:00",0,0,"",null,0,null,0,"00:00:00",0,0,0,null,0,null,0,null,0,"00:00:00",0]
[null,null,null,null,null,null,null,null,null,0,0,null,"00:00:00",0,0,"",null,0,null,0,"00:00:00",0,0,0,null,0,null,0,null,0,"00:00:00",0]
[null,null,null,null,null,null,null,null,null,0,0,null,"00:00:00",0,0,"",null,0,null,0,"00:00:00",0,0,0,null,0,null,0,null,0,"00:00:00",0]
[null,null,null,null,null,null,null,null,null,0,0,null,"00:00:00",0,0,"",null,0,null,0,"00:00:00",0,0,0,null,0,null,0,null,0,"00:00:00",0]
[null,null,null,null,null,null,null,null,null,0,0,null,"00:00:00",0,0,"",null,0,null,0,"00:00:00",0,0,0,null,0,null,0,null,0,"00:00:00",0]
[null,null,null,null,null,null,null,null,null,0,0,null,"00:00:00",0,0,"",null,0,null,0,"00:00:00",0,0,0,null,0,null,0,null,0,"00:00:00",0]
[null,null,null,null,null,null,null,null,null,0,0,null,"00:00:00",0,0,"",null,0,null,0,"00:00:00",0,0,0,null,0,null,0,null,0,"00:00:00",0]
[null,null,null,null,null,null,null,null,null,0,0,null,"00:00:00",0,0,"",null,0,null,0,"00:00:00",0,0,0,null,0,null,0,null,0,"00:00:00",0]
[null,null,null,null,null,null,null,null,null,0,0,null,"00:00:00",0,0,"",null,0,null,0,"00:00:00",0,0,0,null,{"$f":"IF(R4800=0,IF(R4799=1,M4799,0),0)","v":0},null,0,null,0,"00:00:00",0]
[null,null,null,null,null,null,null,null,null,0,0,null,"00:00:00",0,0,"",null,0,null,0,"00:00:00",0,0,0,null,0,null,0,null,0,"00:00:00",0]
[null,null,null,null,null,null,null,null,null,0,0,null,"00:00:00",0,0,"",null,0,null,0,"00:00:00",0,0,0,null,0,null,0,null,0,"00:00:00",0]
[null,null,null,null,null,null,null,null,null,0,0,null,"00:00:00",0,0,"",null,0,null,0,"00:00:00",0,0,0,null,0,null,0,null,0,"00:00:00",0]
[null,null,null,null,null,null,null,null,null,0,0,null,"00:00:00",0,0,"",null,0,null,0,"00:00:00",0,0,0,null,0,null,0,null,0,"00:00:00",0]
[null,null,null,null,null,null,null,null,null,0,0,null,"00:00:00",0,0,"",null,0,null,0,"00:00:00",0,0,0,null,0,null,0,null,0,"00:00:00",0]
[null,null,null,null,null,null,null,null,null,0,0,null,"00:00:00",0,0,"",null,0,null,0,"00:00:00",0,0,0,null,0,null,0,null,0,"00:00:00",0]
[null,null,null,null,null,null,null,null,null,0,0,null,"00:00:00",0,0,"",null,0,null,0,"00:00:00",0,0,0,null,0,null,0,null,0,"00:00:00",0]
[null,null,null,null,null,null,null,null,null,0,0,null,"00:00:00",0,0,"",null,0,null,0,"00:00:00",0,0,0,null,0,null,0,null,0,"00:00:00",0]
[null,null,null,null,null,null,null,null,null,0,0,null,"00:00:00",0,0,"",null,0,null,0,"00:00:00",0,0,0,null,0,null,0,null,0,"00:00:00",0]
[null,null,null,null,null,null,null,null,null,0,0,null,"00:00:00",{"$f":"IF(IF(M4809>=sipstart,1,0)+IF(M4809<=sipend,1,0)=2,J4809,0)","v":0},{"$f":"IF(IF(M4809>=sipstart,1,0)+IF(M4809<=sipend,1,0)=2,K4809,0)","v":0},{"$f":"IF(O4809=-sip,-O4809/B4809,\"\")","v":""},null,{"$f":"IF(IF(M4809>=sipstart,1,0)+IF(M4809<=sipend,1,0)=2,1,0)","v":0},null,{"$f":"IF((IF(M4809>=sipstart,1,2)+IF(M4809<=sipend,1,2))=2,M4809,0)","v":0},"00:00:00",0,{"$f":"IF(V4809=-sip,U4809,0)","v":0},{"$f":"IF(V4809=-sip,B4809,0)","v":0},null,0,null,0,null,0,{"$f":"IF(AD4809=1,A4809,0)","v":"00:00:00"},{"$f":"IF(AD4809=1,B4809,0)","v":0}]
[null,null,null,null,null,null,null,null,null,0,0,null,"00:00:00",0,0,"",null,0,null,0,{"$f":"IF((IF(M4810>=sipstart,1,2)+IF(M4810<=sipend,1,2))=2,M4810,0)+IF(T4809=actualsipend,actualsipend,0)","v":"00:00:00"},{"$f":"IF(U4810+U4809=0,0,IF(U4810=U4809,sipunits*B4809,O4810))","v":0},0,0,null,0,null,0,null,0,"00:00:00",0]
[null,null,null,null,null,null,null,null,null,0,0,null,"00:00:00",0,0,"",null,0,null,0,"00:00:00",0,0,0,null,0,null,0,null,0,"00:00:00",0]
[null,null,null,null,null,null,null,null,null,0,0,null,"00:00:00",0,0,"",null,0,null,0,"00:00:00",0,0,0,null,0,null,0,null,0,"00:00:00",0]
[null,null,null,null,null,null,null,null,null,{"$f":"IF(DAY(A4813)=sipdate,1,IF(J4812=1,0,IF(J4811=1,0,IF(J4810=1,0,IF(J4809=1,0,IF(J4808=1,0,IF(J4807=1,0,IF(DAY(A4813)=sipdate+1,1,IF(DAY(A4813)=sipdate+2,1,IF(DAY(A4813)=sipdate+3,1,IF(DAY(A4813)=sipdate+4,1,IF(DAY(A4813)=sipdate+5,1,IF(DAY(A4813)=sipdate+6,1,IF(DAY(A4813)=sipdate+7,1,0))))))))))))))","v":0},{"$f":"IF(DAY(A4813)=sipdate,-sip,IF(K4812=-sip,0,IF(K4811=-sip,0,IF(K4810=-sip,0,IF(K4809=-sip,0,IF(K4808=-sip,0,IF(K4807=-sip,0,IF(DAY(A4813)=sipdate+1,-sip,IF(DAY(A4813)=sipdate+2,-sip,IF(DAY(A4813)=sipdate+3,-sip,IF(DAY(A4813)=sipdate+4,-sip,IF(DAY(A4813)=sipdate+5,-sip,IF(DAY(A4813)=sipdate+6,-sip,IF(DAY(A4813)=sipdate+7,-sip,0))))))))))))))","v":0},null,"00:00:00",0,0,"",null,0,null,0,"00:00:00",0,0,0,null,0,null,{"$f":"IF(INT((MONTH(M4813)-MONTH(sipstart))/3)-(MONTH(M4813)-MONTH(sipstart))/3=0,IF(DAY(A4813)=sipdate,1,IF(AB4812=1,0,IF(AB4811=1,0,IF(AB4810=1,0,IF(AB4809=1,0,IF(AB4808=1,0,IF(AB4807=1,0,IF(DAY(A4813)=sipdate+1,1,IF(DAY(A4813)=sipdate+2,1,IF(DAY(A4813)=sipdate+3,1,IF(DAY(A4813)=sipdate+4,1,IF(DAY(A4813)=sipdate+5,1,IF(DAY(A4813)=sipdate+6,1,IF(DAY(A4813)=sipdate+7,1,0)))))))))))))),0)","v":0},null,{"$f":"IF(INT((MONTH(M4813)-MONTH(sipstart))/12)-(MONTH(M4813)-MONTH(sipstart))/12=0,IF(DAY(A4813)=sipdate,1,IF(AB4812=1,0,IF(AB4811=1,0,IF(AB4810=1,0,IF(AB4809=1,0,IF(AB4808=1,0,IF(AB4807=1,0,IF(DAY(A4813)=sipdate+1,1,IF(DAY(A4813)=sipdate+2,1,IF(DAY(A4813)=sipdate+3,1,IF(DAY(A4813)=sipdate+4,1,IF(DAY(A4813)=sipdate+5,1,IF(DAY(A4813)=sipdate+6,1,IF(DAY(A4813)=sipdate+7,1,0)))))))))))))),0)","v":0},"00:00:00",0]
[null,null,null,null,null,null,null,null,null,0,0,null,"00:00:00",0,0,"",null,0,null,0,"00:00:00",0,0,0,null,0,null,0,null,0,"00:00:00",0]
[null,null,null,null,null,null,null,null,null,0,0,null,"00:00:00",0,0,"",null,0,null,0,"00:00:00",0,0,0,null,0,null,0,null,0,"00:00:00",0]
[null,null,null,null,null,null,null,null,null,0,0,null,"00:00:00",0,0,"",null,0,null,0,"00:00:00",0,0,0,null,0,null,0,null,0,"00:00:00",0]
[null,null,null,null,null,null,null,null,null,0,0,null,"00:00:00",0,0,"",null,0,null,0,"00:00:00",0,0,0,null,0,null,0,null,0,"00:00:00",0]
[null,null,null,null,null,null,null,null,null,0,0,null,"00:00:00",0,0,"",null,0,null,0,"00:00:00",0,0,0,null,0,null,0,null,0,"00:00:00",0]
[null,null,null,null,null,null,null,null,null,0,0,null,"00:00:00",0,0,"",null,0,null,0,"00:00:00",0,0,0,null,0,null,0,null,0,"00:00:00",0]
[null,null,null,null,null,null,null,null,null,0,0,null,"00:00:00",0,0,"",null,0,null,0,"00:00:00",0,0,0,null,0,null,0,null,0,"00:00:00",0]
[null,null,null,null,null,null,null,null,null,0,0,null,"00:00:00",0,0,"",null,0,null,0,"00:00:00",0,0,0,null,0,null,0,null,0,"00:00:00",0]
[null,null,null,null,null,null,null,null,null,0,0,null,"00:00:00",0,0,"",null,0,null,0,"00:00:00",0,0,0,null,0,null,0,null,0,"00:00:00",0]
[null,null,null,null,null,null,null,null,null,0,0,null,"00:00:00",0,0,"",null,0,null,0,"00:00:00",0,0,0,null,0,null,0,null,0,"00:00:00",0]
[null,null,null,null,null,null,null,null,null,0,0,null,{"$f":"A4824","v":"00:00:00"},0,0,"",null,0,null,0,"00:00:00",0,0,0,null,0,null,0,null,0,"00:00:00",0]
[null,null,null,null,null,null,null,null,null,0,0,null,"00:00:00",0,0,"",null,0,null,0,"00:00:00",0,0,0,null,0,null,0,null,0,"00:00:00",0]
[null,null,null,null,null,null,null,null,null,0,0,null,"00:00:00",0,0,"",null,0,null,0,"00:00:00",0,0,0,null,0,null,0,null,0,"00:00:00",0]
[null,null,null,null,null,null,null,null,null,0,0,null,"00:00:00",0,0,"",null,0,null,0,"00:00:00",0,0,0,null,0,null,0,null,0,"00:00:00",0]
[null,null,null,null,null,null,null,null,null,0,0,null,"00:00:00",0,0,"",null,0,null,0,"00:00:00",0,0,0,null,0,null,0,null,0,"00:00:00",0]
[null,null,null,null,null,null,null,null,null,0,0,null,"00:00:00",0,0,"",null,0,null,0,"00:00:00",0,0,0,null,0,null,0,null,0,"00:00:00",0]
[null,null,null,null,null,null,null,null,null,null,null,null,{"$f":"M4829+1","v":"1900-01-01"},null,{"$f":"SUM(P9:P4829)","v":5320.8651216730368},null,null,null,null,0,"00:00:00",0,0,0,null,0,null,0,null,0,"00:00:00",0]
[null,null,null,null,null,null,null,null,null,null,null,null,null,null,null,{"$f":"SUM(P9:P4830)","v":5320.8651216730368},null,null,null,null,null,{"$f":"P4831*X4831","v":407286.15282497479},{"$f":"INDEX($A$10:$B$4830,MATCH(MAX(A8:A4830),$A$10:$A$4830,0),1)","v":42103},{"$f":"INDEX($A$10:$B$4830,MATCH(MAX(A8:A4830),$A$10:$A$4830,0),2)","v":76.545100000000005}]

{"sheet":"Account Statement","index":1,"n_rows":4824,"n_cols":26,"rows_kept":4824,"cut":false,"hidden":false,"merged":[]}
["Date","NAV","Investments","inv","Units",{"$f":"STDEV(F3:F179)*SQRT(12)","v":{"$error":"#DIV/0!"}},"Date","NAV","Investments","inv","Units",null,"Date","NAV","Investments","inv","Units",null,null,null,"Nav",null,"Units"]
["2005-10-05",9.9,1000,-1000,101.01010101010101,null,"<>0",null,null,null,null,null,{"$f":"Fund!W9","v":"2005-10-05"},{"$f":"Fund!X9","v":9.9},{"$f":"-Fund!V9","v":1000},{"$f":"Fund!V9","v":-1000},{"$f":"Fund!P9","v":101.01010101010101},null,"2000-01-03",{"$f":"INDEX(Fund!$A$9:$B$3627,MATCH('Account Statement'!S2,Fund!$A$9:$A$3627,0),1)","v":{"$error":"#N/A"}},{"$f":"INDEX(Fund!$A$9:$B$3627,MATCH('Account Statement'!S2,Fund!$A$9:$A$3627,0),2)","v":{"$error":"#N/A"}},124.16,{"$f":"V2/U2","v":{"$error":"#N/A"}},{"$f":"SUM($W$2:W2)","v":{"$error":"#N/A"}},{"$f":"-V2","v":-124.16}]
["2005-10-06",9.74,1000,-1000,102.6694045174538,{"$f":"(B3-B2)/B2","v":-1.6161616161616175E-2},null,null,null,null,null,null,{"$f":"Fund!W10","v":"2005-10-06"},{"$f":"Fund!X10","v":9.74},{"$f":"-Fund!V10","v":1000},{"$f":"Fund!V10","v":-1000},{"$f":"Fund!P10","v":102.6694045174538},null,"2000-02-03",{"$f":"INDEX(Fund!$A$9:$B$3627,MATCH('Account Statement'!S3,Fund!$A$9:$A$3627,0),1)","v":{"$error":"#N/A"}},{"$f":"INDEX(Fund!$A$9:$B$3627,MATCH('Account Statement'!S3,Fund!$A$9:$A$3627,0),2)","v":{"$error":"#N/A"}},225.8,{"$f":"V3/U3","v":{"$error":"#N/A"}},{"$f":"SUM($W$2:W3)","v":{"$error":"#N/A"}},{"$f":"-V3","v":-225.8}]
["2005-11-07",8.99,1000,-1000,111.23470522803115,{"$f":"(B4-B3)/B3","v":-7.7002053388090352E-2},{"$f":"XIRR(D2:D234,A2:A234)","v":0.24916298985481258},null,null,null,null,null,{"$f":"Fund!W11","v":"00:00:00"},{"$f":"Fund!X11","v":0},{"$f":"-Fund!V11","v":0},{"$f":"Fund!V11","v":0},{"$f":"Fund!P11","v":""},null,"2000-03-03",{"$f":"INDEX(Fund!$A$9:$B$3627,MATCH('Account Statement'!S4,Fund!$A$9:$A$3627,0),1)","v":{"$error":"#N/A"}},{"$f":"INDEX(Fund!$A$9:$B$3627,MATCH('Account Statement'!S4,Fund!$A$9:$A$3627,0),2)","v":{"$error":"#N/A"}},310.79000000000002,{"$error":"#N/A"},{"$f":"SUM($W$2:W4)","v":{"$error":"#N/A"}},-310.79000000000002]
["2005-12-06",9.5299999999999994,1000,-1000,104.93179433368311,6.0066740823136726E-2,null,null,null,null,null,null,{"$f":"Fund!W12","v":"00:00:00"},{"$f":"Fund!X12","v":0},{"$f":"-Fund!V12","v":0},{"$f":"Fund!V12","v":0},{"$f":"Fund!P12","v":""},null,"2000-04-03",{"$f":"INDEX(Fund!$A$9:$B$3627,MATCH('Account Statement'!S5,Fund!$A$9:$A$3627,0),1)","v":{"$error":"#N/A"}},{"$f":"INDEX(Fund!$A$9:$B$3627,MATCH('Account Statement'!S5,Fund!$A$9:$A$3627,0),2)","v":{"$error":"#N/A"}},393.6,{"$error":"#N/A"},{"$f":"SUM($W$2:W5)","v":{"$error":"#N/A"}},-393.6]
["2006-01-06",10.199999999999999,1000,-1000,98.039215686274517,7.0304302203567676E-2,null,null,null,null,null,null,{"$f":"Fund!W13","v":"00:00:00"},{"$f":"Fund!X13","v":0},{"$f":"-Fund!V13","v":0},{"$f":"Fund!V13","v":0},{"$f":"Fund!P13","v":""},null,"2000-05-03",{"$f":"INDEX(Fund!$A$9:$B$3627,MATCH('Account Statement'!S6,Fund!$A$9:$A$3627,0),1)","v":{"$error":"#N/A"}},{"$f":"INDEX(Fund!$A$9:$B$3627,MATCH('Account Statement'!S6,Fund!$A$9:$A$3627,0),2)","v":{"$error":"#N/A"}},455.06,{"$error":"#N/A"},{"$f":"SUM($W$2:W6)","v":{"$error":"#N/A"}},-455.06]
["2006-02-06",10.78,1000,-1000,92.764378478664199,5.6862745098039229E-2,null,null,null,null,null,null,{"$f":"Fund!W14","v":"00:00:00"},{"$f":"Fund!X14","v":0},{"$f":"-Fund!V14","v":0},{"$f":"Fund!V14","v":0},{"$f":"Fund!P14","v":""},null,"2000-06-05",{"$f":"INDEX(Fund!$A$9:$B$3627,MATCH('Account Statement'!S7,Fund!$A$9:$A$3627,0),1)","v":{"$error":"#N/A"}},{"$f":"INDEX(Fund!$A$9:$B$3627,MATCH('Account Statement'!S7,Fund!$A$9:$A$3627,0),2)","v":{"$error":"#N/A"}},518.33000000000004,{"$error":"#N/A"},{"$f":"SUM($W$2:W7)","v":{"$error":"#N/A"}},-518.33000000000004]
["2006-03-06",11.66,1000,-1000,85.763293310463126,8.1632653061224567E-2,null,null,null,null,null,null,{"$f":"Fund!W15","v":"00:00:00"},{"$f":"Fund!X15","v":0},{"$f":"-Fund!V15","v":0},{"$f":"Fund!V15","v":0},{"$f":"Fund!P15","v":""},null,"2000-07-03",{"$f":"INDEX(Fund!$A$9:$B$3627,MATCH('Account Statement'!S8,Fund!$A$9:$A$3627,0),1)","v":{"$error":"#N/A"}},{"$f":"INDEX(Fund!$A$9:$B$3627,MATCH('Account Statement'!S8,Fund!$A$9:$A$3627,0),2)","v":{"$error":"#N/A"}},593.79,{"$error":"#N/A"},{"$f":"SUM($W$2:W8)","v":{"$error":"#N/A"}},-593.79]
["2006-04-07",12.94,1000,-1000,77.279752704791349,0.10977701543739274,null,null,null,null,null,null,{"$f":"Fund!W16","v":"00:00:00"},{"$f":"Fund!X16","v":0},{"$f":"-Fund!V16","v":0},{"$f":"Fund!V16","v":0},{"$f":"Fund!P16","v":""},null,"2000-08-03",{"$f":"INDEX(Fund!$A$9:$B$3627,MATCH('Account Statement'!S9,Fund!$A$9:$A$3627,0),1)","v":{"$error":"#N/A"}},{"$f":"INDEX(Fund!$A$9:$B$3627,MATCH('Account Statement'!S9,Fund!$A$9:$A$3627,0),2)","v":{"$error":"#N/A"}},662.11,{"$error":"#N/A"},{"$f":"SUM($W$2:W9)","v":{"$error":"#N/A"}},-662.11]
["2006-05-08",13.55,1000,-1000,73.800738007380076,4.7140649149922817E-2,null,null,null,null,null,null,{"$f":"Fund!W17","v":"00:00:00"},{"$f":"Fund!X17","v":0},{"$f":"-Fund!V17","v":0},{"$f":"Fund!V17","v":0},{"$f":"Fund!P17","v":""},null,"2000-09-04",{"$f":"INDEX(Fund!$A$9:$B$3627,MATCH('Account Statement'!S10,Fund!$A$9:$A$3627,0),1)","v":{"$error":"#N/A"}},{"$f":"INDEX(Fund!$A$9:$B$3627,MATCH('Account Statement'!S10,Fund!$A$9:$A$3627,0),2)","v":{"$error":"#N/A"}},730.67,{"$error":"#N/A"},{"$f":"SUM($W$2:W10)","v":{"$error":"#N/A"}},-730.67]
["2006-06-06",10.33,1000,-1000,96.805421103581793,-0.23763837638376387,null,null,null,null,null,null,{"$f":"Fund!W18","v":"00:00:00"},{"$f":"Fund!X18","v":0},{"$f":"-Fund!V18","v":0},{"$f":"Fund!V18","v":0},{"$f":"Fund!P18","v":""},null,"2000-10-03",{"$f":"INDEX(Fund!$A$9:$B$3627,MATCH('Account Statement'!S11,Fund!$A$9:$A$3627,0),1)","v":{"$error":"#N/A"}},{"$f":"INDEX(Fund!$A$9:$B$3627,MATCH('Account Statement'!S11,Fund!$A$9:$A$3627,0),2)","v":{"$error":"#N/A"}},788.59,{"$error":"#N/A"},{"$f":"SUM($W$2:W11)","v":{"$error":"#N/A"}},-788.59]
["2006-07-06",9.7005999999999997,1000,-1000,103.0864070263695,-6.0929332042594424E-2,null,null,null,null,null,null,{"$f":"Fund!W19","v":"00:00:00"},{"$f":"Fund!X19","v":0},{"$f":"-Fund!V19","v":0},{"$f":"Fund!V19","v":0},{"$f":"Fund!P19","v":""},null,"2000-11-03",{"$f":"INDEX(Fund!$A$9:$B$3627,MATCH('Account Statement'!S12,Fund!$A$9:$A$3627,0),1)","v":{"$error":"#N/A"}},{"$f":"INDEX(Fund!$A$9:$B$3627,MATCH('Account Statement'!S12,Fund!$A$9:$A$3627,0),2)","v":{"$error":"#N/A"}},849.63,{"$error":"#N/A"},{"$f":"SUM($W$2:W12)","v":{"$error":"#N/A"}},-849.63]
["2006-08-07",9.8063000000000002,1000,-1000,101.9752608017295,1.0896233222687316E-2,null,null,null,null,null,null,{"$f":"Fund!W20","v":"00:00:00"},{"$f":"Fund!X20","v":0},{"$f":"-Fund!V20","v":0},{"$f":"Fund!V20","v":0},{"$f":"Fund!P20","v":""},null,"2000-12-04",{"$f":"INDEX(Fund!$A$9:$B$3627,MATCH('Account Statement'!S13,Fund!$A$9:$A$3627,0),1)","v":{"$error":"#N/A"}},{"$f":"INDEX(Fund!$A$9:$B$3627,MATCH('Account Statement'!S13,Fund!$A$9:$A$3627,0),2)","v":{"$error":"#N/A"}},917.54,{"$error":"#N/A"},{"$f":"SUM($W$2:W13)","v":{"$error":"#N/A"}},-917.54]
["2006-09-06",11.132999999999999,1000,-1000,89.823048594269295,0.1352905785056544,null,null,null,null,null,null,{"$f":"Fund!W21","v":"00:00:00"},{"$f":"Fund!X21","v":0},{"$f":"-Fund!V21","v":0},{"$f":"Fund!V21","v":0},{"$f":"Fund!P21","v":""},null,"2001-01-03",{"$f":"INDEX(Fund!$A$9:$B$3627,MATCH('Account Statement'!S14,Fund!$A$9:$A$3627,0),1)","v":{"$error":"#N/A"}},{"$f":"INDEX(Fund!$A$9:$B$3627,MATCH('Account Statement'!S14,Fund!$A$9:$A$3627,0),2)","v":{"$error":"#N/A"}},992.77,{"$error":"#N/A"},{"$f":"SUM($W$2:W14)","v":{"$error":"#N/A"}},-992.77]
["2006-10-06",11.531599999999999,1000,-1000,86.718235110479043,3.5803467169675744E-2,null,null,null,null,null,null,{"$f":"Fund!W22","v":"00:00:00"},{"$f":"Fund!X22","v":0},{"$f":"-Fund!V22","v":0},{"$f":"Fund!V22","v":0},{"$f":"Fund!P22","v":""},null,"2001-02-05",{"$f":"INDEX(Fund!$A$9:$B$3627,MATCH('Account Statement'!S15,Fund!$A$9:$A$3627,0),1)","v":{"$error":"#N/A"}},{"$f":"INDEX(Fund!$A$9:$B$3627,MATCH('Account Statement'!S15,Fund!$A$9:$A$3627,0),2)","v":{"$error":"#N/A"}},1075.9100000000001,{"$error":"#N/A"},{"$f":"SUM($W$2:W15)","v":{"$error":"#N/A"}},-1075.9100000000001]
["2006-11-06",11.9826,1000,-1000,83.454342129420994,3.9109924034826091E-2,null,null,null,null,null,null,{"$f":"Fund!W23","v":"00:00:00"},{"$f":"Fund!X23","v":0},{"$f":"-Fund!V23","v":0},{"$f":"Fund!V23","v":0},{"$f":"Fund!P23","v":""},null,"2001-03-05",{"$f":"INDEX(Fund!$A$9:$B$3627,MATCH('Account Statement'!S16,Fund!$A$9:$A$3627,0),1)","v":{"$error":"#N/A"}},{"$f":"INDEX(Fund!$A$9:$B$3627,MATCH('Account Statement'!S16,Fund!$A$9:$A$3627,0),2)","v":{"$error":"#N/A"}},1154.93,{"$error":"#N/A"},{"$f":"SUM($W$2:W16)","v":{"$error":"#N/A"}},-1154.93]
["2006-12-06",12.8672,1000,-1000,77.716985824421783,7.3823711047685869E-2,null,null,null,null,null,null,{"$f":"Fund!W24","v":"00:00:00"},{"$f":"Fund!X24","v":0},{"$f":"-Fund!V24","v":0},{"$f":"Fund!V24","v":0},{"$f":"Fund!P24","v":""},null,"2001-04-03",{"$f":"INDEX(Fund!$A$9:$B$3627,MATCH('Account Statement'!S17,Fund!$A$9:$A$3627,0),1)","v":{"$error":"#N/A"}},{"$f":"INDEX(Fund!$A$9:$B$3627,MATCH('Account Statement'!S17,Fund!$A$9:$A$3627,0),2)","v":{"$error":"#N/A"}},1223.01,{"$error":"#N/A"},{"$f":"SUM($W$2:W17)","v":{"$error":"#N/A"}},-1223.01]
["2007-01-08",13.4956,1000,-1000,74.098224606538423,4.8837353892066587E-2,null,null,null,null,null,null,{"$f":"Fund!W25","v":"00:00:00"},{"$f":"Fund!X25","v":0},{"$f":"-Fund!V25","v":0},{"$f":"Fund!V25","v":0},{"$f":"Fund!P25","v":""},null,"2001-05-03",{"$f":"INDEX(Fund!$A$9:$B$3627,MATCH('Account Statement'!S18,Fund!$A$9:$A$3627,0),1)","v":{"$error":"#N/A"}},{"$f":"INDEX(Fund!$A$9:$B$3627,MATCH('Account Statement'!S18,Fund!$A$9:$A$3627,0),2)","v":{"$error":"#N/A"}},1295.1300000000001,{"$error":"#N/A"},{"$f":"SUM($W$2:W18)","v":{"$error":"#N/A"}},-1295.1300000000001]
["2007-02-06",14.6122,1000,-1000,68.435964468047246,8.2738077595660819E-2,null,null,null,null,null,null,{"$f":"Fund!W26","v":"00:00:00"},{"$f":"Fund!X26","v":0},{"$f":"-Fund!V26","v":0},{"$f":"Fund!V26","v":0},{"$f":"Fund!P26","v":""},null,"2001-06-04",{"$f":"INDEX(Fund!$A$9:$B$3627,MATCH('Account Statement'!S19,Fund!$A$9:$A$3627,0),1)","v":{"$error":"#N/A"}},{"$f":"INDEX(Fund!$A$9:$B$3627,MATCH('Account Statement'!S19,Fund!$A$9:$A$3627,0),2)","v":{"$error":"#N/A"}},1368.81,{"$error":"#N/A"},{"$f":"SUM($W$2:W19)","v":{"$error":"#N/A"}},-1368.81]
["2007-03-06",12.710100000000001,1000,-1000,78.677587115758328,-0.13017204801467261,null,null,null,null,null,null,{"$f":"Fund!W27","v":"2005-11-07"},{"$f":"Fund!X27","v":8.99},{"$f":"-Fund!V27","v":1000},{"$f":"Fund!V27","v":-1000},{"$f":"Fund!P27","v":111.23470522803115},null,"2001-07-03",{"$f":"INDEX(Fund!$A$9:$B$3627,MATCH('Account Statement'!S20,Fund!$A$9:$A$3627,0),1)","v":{"$error":"#N/A"}},{"$f":"INDEX(Fund!$A$9:$B$3627,MATCH('Account Statement'!S20,Fund!$A$9:$A$3627,0),2)","v":{"$error":"#N/A"}},1436.13,{"$error":"#N/A"},{"$f":"SUM($W$2:W20)","v":{"$error":"#N/A"}},-1436.13]
["2007-04-09",13.466200000000001,1000,-1000,74.25999910888001,5.9488123618224871E-2,null,null,null,null,null,null,{"$f":"Fund!W28","v":"00:00:00"},{"$f":"Fund!X28","v":0},{"$f":"-Fund!V28","v":0},{"$f":"Fund!V28","v":0},{"$f":"Fund!P28","v":""},null,"2001-08-03",{"$f":"INDEX(Fund!$A$9:$B$3627,MATCH('Account Statement'!S21,Fund!$A$9:$A$3627,0),1)","v":{"$error":"#N/A"}},{"$f":"INDEX(Fund!$A$9:$B$3627,MATCH('Account Statement'!S21,Fund!$A$9:$A$3627,0),2)","v":{"$error":"#N/A"}},1502.79,{"$error":"#N/A"},{"$f":"SUM($W$2:W21)","v":{"$error":"#N/A"}},-1502.79]
["2007-05-07",14.472,1000,-1000,69.09894969596462,7.4690707103711437E-2,null,null,null,null,null,null,{"$f":"Fund!W29","v":"00:00:00"},{"$f":"Fund!X29","v":0},{"$f":"-Fund!V29","v":0},{"$f":"Fund!V29","v":0},{"$f":"Fund!P29","v":""},null,"2001-09-03",{"$f":"INDEX(Fund!$A$9:$B$3627,MATCH('Account Statement'!S22,Fund!$A$9:$A$3627,0),1)","v":{"$error":"#N/A"}},{"$f":"INDEX(Fund!$A$9:$B$3627,MATCH('Account Statement'!S22,Fund!$A$9:$A$3627,0),2)","v":{"$error":"#N/A"}},1568.31,{"$error":"#N/A"},{"$f":"SUM($W$2:W22)","v":{"$error":"#N/A"}},-1568.31]
["2007-06-06",15.7553,1000,-1000,63.470705096062915,8.8674682144831443E-2,null,null,null,null,null,null,{"$f":"Fund!W30","v":"00:00:00"},{"$f":"Fund!X30","v":0},{"$f":"-Fund!V30","v":0},{"$f":"Fund!V30","v":0},{"$f":"Fund!P30","v":""},null,"2001-10-03",{"$f":"INDEX(Fund!$A$9:$B$3627,MATCH('Account Statement'!S23,Fund!$A$9:$A$3627,0),1)","v":{"$error":"#N/A"}},{"$f":"INDEX(Fund!$A$9:$B$3627,MATCH('Account Statement'!S23,Fund!$A$9:$A$3627,0),2)","v":{"$error":"#N/A"}},1620.55,{"$error":"#N/A"},{"$f":"SUM($W$2:W23)","v":{"$error":"#N/A"}},-1620.55]
["2007-07-06",17.611899999999999,1000,-1000,56.779790936809775,0.1178397110813503,null,null,null,null,null,null,{"$f":"Fund!W31","v":"00:00:00"},{"$f":"Fund!X31","v":0},{"$f":"-Fund!V31","v":0},{"$f":"Fund!V31","v":0},{"$f":"Fund!P31","v":""},null,"2001-11-05",{"$f":"INDEX(Fund!$A$9:$B$3627,MATCH('Account Statement'!S24,Fund!$A$9:$A$3627,0),1)","v":{"$error":"#N/A"}},{"$f":"INDEX(Fund!$A$9:$B$3627,MATCH('Account Statement'!S24,Fund!$A$9:$A$3627,0),2)","v":{"$error":"#N/A"}},1675.62,{"$error":"#N/A"},{"$f":"SUM($W$2:W24)","v":{"$error":"#N/A"}},-1675.62]
["2007-08-06",17.0764,1000,-1000,58.560352299079433,-3.0405578046661576E-2,null,null,null,null,null,null,{"$f":"Fund!W32","v":"00:00:00"},{"$f":"Fund!X32","v":0},{"$f":"-Fund!V32","v":0},{"$f":"Fund!V32","v":0},{"$f":"Fund!P32","v":""},null,"2001-12-03",{"$f":"INDEX(Fund!$A$9:$B$3627,MATCH('Account Statement'!S25,Fund!$A$9:$A$3627,0),1)","v":{"$error":"#N/A"}},{"$f":"INDEX(Fund!$A$9:$B$3627,MATCH('Account Statement'!S25,Fund!$A$9:$A$3627,0),2)","v":{"$error":"#N/A"}},1738.3,{"$error":"#N/A"},{"$f":"SUM($W$2:W25)","v":{"$error":"#N/A"}},-1738.3]
["2007-09-06",17.979399999999998,1000,-1000,55.619208649899335,5.2879998126068653E-2,null,null,null,null,null,null,{"$f":"Fund!W33","v":"00:00:00"},{"$f":"Fund!X33","v":0},{"$f":"-Fund!V33","v":0},{"$f":"Fund!V33","v":0},{"$f":"Fund!P33","v":""},null,"2002-01-03",{"$f":"INDEX(Fund!$A$9:$B$3627,MATCH('Account Statement'!S26,Fund!$A$9:$A$3627,0),1)","v":{"$error":"#N/A"}},{"$f":"INDEX(Fund!$A$9:$B$3627,MATCH('Account Statement'!S26,Fund!$A$9:$A$3627,0),2)","v":{"$error":"#N/A"}},1799.85,{"$error":"#N/A"},{"$f":"SUM($W$2:W26)","v":{"$error":"#N/A"}},-1799.85]
["2007-10-08",19.085699999999999,1000,-1000,52.395248798838921,6.1531530529383684E-2,null,null,null,null,null,null,{"$f":"Fund!W34","v":"00:00:00"},{"$f":"Fund!X34","v":0},{"$f":"-Fund!V34","v":0},{"$f":"Fund!V34","v":0},{"$f":"Fund!P34","v":""},null,"2002-02-04",{"$f":"INDEX(Fund!$A$9:$B$3627,MATCH('Account Statement'!S27,Fund!$A$9:$A$3627,0),1)","v":{"$error":"#N/A"}},{"$f":"INDEX(Fund!$A$9:$B$3627,MATCH('Account Statement'!S27,Fund!$A$9:$A$3627,0),2)","v":{"$error":"#N/A"}},1862.27,{"$error":"#N/A"},{"$f":"SUM($W$2:W27)","v":{"$error":"#N/A"}},-1862.27]
["2007-11-06",22.604299999999999,1000,-1000,44.239370385280679,0.18435792242359461,null,null,null,null,null,null,{"$f":"Fund!W35","v":"00:00:00"},{"$f":"Fund!X35","v":0},{"$f":"-Fund!V35","v":0},{"$f":"Fund!V35","v":0},{"$f":"Fund!P35","v":""},null,"2002-03-04",{"$f":"INDEX(Fund!$A$9:$B$3627,MATCH('Account Statement'!S28,Fund!$A$9:$A$3627,0),1)","v":{"$error":"#N/A"}},{"$f":"INDEX(Fund!$A$9:$B$3627,MATCH('Account Statement'!S28,Fund!$A$9:$A$3627,0),2)","v":{"$error":"#N/A"}},1929.4,{"$error":"#N/A"},{"$f":"SUM($W$2:W28)","v":{"$error":"#N/A"}},-1929.4]
["2007-12-06",24.848800000000001,1000,-1000,40.243392035027846,9.9295266829762585E-2,null,null,null,null,null,null,{"$f":"Fund!W36","v":"00:00:00"},{"$f":"Fund!X36","v":0},{"$f":"-Fund!V36","v":0},{"$f":"Fund!V36","v":0},{"$f":"Fund!P36","v":""},null,"2002-04-03",{"$f":"INDEX(Fund!$A$9:$B$3627,MATCH('Account Statement'!S29,Fund!$A$9:$A$3627,0),1)","v":{"$error":"#N/A"}},{"$f":"INDEX(Fund!$A$9:$B$3627,MATCH('Account Statement'!S29,Fund!$A$9:$A$3627,0),2)","v":{"$error":"#N/A"}},1991.54,{"$error":"#N/A"},{"$f":"SUM($W$2:W29)","v":{"$error":"#N/A"}},-1991.54]
["2008-01-07",28.331600000000002,1000,-1000,35.296276948707451,0.14015968577959503,null,null,null,null,null,null,{"$f":"Fund!W37","v":"00:00:00"},{"$f":"Fund!X37","v":0},{"$f":"-Fund!V37","v":0},{"$f":"Fund!V37","v":0},{"$f":"Fund!P37","v":""},null,"2002-05-03",{"$f":"INDEX(Fund!$A$9:$B$3627,MATCH('Account Statement'!S30,Fund!$A$9:$A$3627,0),1)","v":{"$error":"#N/A"}},{"$f":"INDEX(Fund!$A$9:$B$3627,MATCH('Account Statement'!S30,Fund!$A$9:$A$3627,0),2)","v":{"$error":"#N/A"}},2049.54,{"$error":"#N/A"},{"$f":"SUM($W$2:W30)","v":{"$error":"#N/A"}},-2049.54]
["2008-02-06",24.488700000000001,1000,-1000,40.835160706774957,-0.13564006268618786,null,null,null,null,null,null,{"$f":"Fund!W38","v":"00:00:00"},{"$f":"Fund!X38","v":0},{"$f":"-Fund!V38","v":0},{"$f":"Fund!V38","v":0},{"$f":"Fund!P38","v":""},null,"2002-06-03",{"$f":"INDEX(Fund!$A$9:$B$3627,MATCH('Account Statement'!S31,Fund!$A$9:$A$3627,0),1)","v":{"$error":"#N/A"}},{"$f":"INDEX(Fund!$A$9:$B$3627,MATCH('Account Statement'!S31,Fund!$A$9:$A$3627,0),2)","v":{"$error":"#N/A"}},2106.9699999999998,{"$error":"#N/A"},{"$f":"SUM($W$2:W31)","v":{"$error":"#N/A"}},-2106.9699999999998]
["2008-03-07",20.8825,1000,-1000,47.886986711361189,-0.14725975654077192,null,null,null,null,null,null,{"$f":"Fund!W39","v":"00:00:00"},{"$f":"Fund!X39","v":0},{"$f":"-Fund!V39","v":0},{"$f":"Fund!V39","v":0},{"$f":"Fund!P39","v":""},null,"2002-07-03",{"$f":"INDEX(Fund!$A$9:$B$3627,MATCH('Account Statement'!S32,Fund!$A$9:$A$3627,0),1)","v":{"$error":"#N/A"}},{"$f":"INDEX(Fund!$A$9:$B$3627,MATCH('Account Statement'!S32,Fund!$A$9:$A$3627,0),2)","v":{"$error":"#N/A"}},2168.3200000000002,{"$error":"#N/A"},{"$f":"SUM($W$2:W32)","v":{"$error":"#N/A"}},-2168.3200000000002]
["2008-04-07",19.7973,1000,-1000,50.511938496663689,-5.1966957979169177E-2,null,null,null,null,null,null,{"$f":"Fund!W40","v":"00:00:00"},{"$f":"Fund!X40","v":0},{"$f":"-Fund!V40","v":0},{"$f":"Fund!V40","v":0},{"$f":"Fund!P40","v":""},null,"2002-08-05",{"$f":"INDEX(Fund!$A$9:$B$3627,MATCH('Account Statement'!S33,Fund!$A$9:$A$3627,0),1)","v":{"$error":"#N/A"}},{"$f":"INDEX(Fund!$A$9:$B$3627,MATCH('Account Statement'!S33,Fund!$A$9:$A$3627,0),2)","v":{"$error":"#N/A"}},2224.3000000000002,{"$error":"#N/A"},{"$f":"SUM($W$2:W33)","v":{"$error":"#N/A"}},-2224.3000000000002]
["2008-05-06",21.698499999999999,1000,-1000,46.086134986289373,9.6033297469856962E-2,null,null,null,null,null,null,{"$f":"Fund!W41","v":"00:00:00"},{"$f":"Fund!X41","v":0},{"$f":"-Fund!V41","v":0},{"$f":"Fund!V41","v":0},{"$f":"Fund!P41","v":""},null,"2002-09-03",{"$f":"INDEX(Fund!$A$9:$B$3627,MATCH('Account Statement'!S34,Fund!$A$9:$A$3627,0),1)","v":{"$error":"#N/A"}},{"$f":"INDEX(Fund!$A$9:$B$3627,MATCH('Account Statement'!S34,Fund!$A$9:$A$3627,0),2)","v":{"$error":"#N/A"}},2284.8000000000002,{"$error":"#N/A"},{"$f":"SUM($W$2:W34)","v":{"$error":"#N/A"}},-2284.8000000000002]
["2008-06-06",20.206900000000001,1000,-1000,49.488046162449457,-6.8742078945549151E-2,null,null,null,null,null,null,{"$f":"Fund!W42","v":"00:00:00"},{"$f":"Fund!X42","v":0},{"$f":"-Fund!V42","v":0},{"$f":"Fund!V42","v":0},{"$f":"Fund!P42","v":""},null,"2002-10-03",{"$f":"INDEX(Fund!$A$9:$B$3627,MATCH('Account Statement'!S35,Fund!$A$9:$A$3627,0),1)","v":{"$error":"#N/A"}},{"$f":"INDEX(Fund!$A$9:$B$3627,MATCH('Account Statement'!S35,Fund!$A$9:$A$3627,0),2)","v":{"$error":"#N/A"}},2341.92,{"$error":"#N/A"},{"$f":"SUM($W$2:W35)","v":{"$error":"#N/A"}},-2341.92]
["2008-07-07",18.224699999999999,1000,-1000,54.87058771886506,-9.8095205103207433E-2,null,null,null,null,null,null,{"$f":"Fund!W43","v":"00:00:00"},{"$f":"Fund!X43","v":0},{"$f":"-Fund!V43","v":0},{"$f":"Fund!V43","v":0},{"$f":"Fund!P43","v":""},null,"2002-11-05",{"$f":"INDEX(Fund!$A$9:$B$3627,MATCH('Account Statement'!S36,Fund!$A$9:$A$3627,0),1)","v":{"$error":"#N/A"}},{"$f":"INDEX(Fund!$A$9:$B$3627,MATCH('Account Statement'!S36,Fund!$A$9:$A$3627,0),2)","v":{"$error":"#N/A"}},2401.79,{"$error":"#N/A"},{"$f":"SUM($W$2:W36)","v":{"$error":"#N/A"}},-2401.79]
["2008-08-06",19.123200000000001,1000,-1000,52.29250334672021,4.9301223065400371E-2,null,null,null,null,null,null,{"$f":"Fund!W44","v":"00:00:00"},{"$f":"Fund!X44","v":0},{"$f":"-Fund!V44","v":0},{"$f":"Fund!V44","v":0},{"$f":"Fund!P44","v":""},null,"2002-12-03",{"$f":"INDEX(Fund!$A$9:$B$3627,MATCH('Account Statement'!S37,Fund!$A$9:$A$3627,0),1)","v":{"$error":"#N/A"}},{"$f":"INDEX(Fund!$A$9:$B$3627,MATCH('Account Statement'!S37,Fund!$A$9:$A$3627,0),2)","v":{"$error":"#N/A"}},2465.4899999999998,{"$error":"#N/A"},{"$f":"SUM($W$2:W37)","v":{"$error":"#N/A"}},-2465.4899999999998]
["2008-09-08",19.279,1000,-1000,51.869910265055239,8.1471720214189719E-3,null,null,null,null,null,null,{"$f":"Fund!W45","v":"00:00:00"},{"$f":"Fund!X45","v":0},{"$f":"-Fund!V45","v":0},{"$f":"Fund!V45","v":0},{"$f":"Fund!P45","v":""},null,"2003-01-03",{"$f":"INDEX(Fund!$A$9:$B$3627,MATCH('Account Statement'!S38,Fund!$A$9:$A$3627,0),1)","v":{"$error":"#N/A"}},{"$f":"INDEX(Fund!$A$9:$B$3627,MATCH('Account Statement'!S38,Fund!$A$9:$A$3627,0),2)","v":{"$error":"#N/A"}},2531.75,{"$error":"#N/A"},{"$f":"SUM($W$2:W38)","v":{"$error":"#N/A"}},-2531.75]
["2008-10-06",15.5137,1000,-1000,64.459155456145211,-0.19530577312101249,null,null,null,null,null,null,{"$f":"Fund!W46","v":"00:00:00"},{"$f":"Fund!X46","v":0},{"$f":"-Fund!V46","v":0},{"$f":"Fund!V46","v":0},{"$f":"Fund!P46","v":""},null,"2003-02-03",{"$f":"INDEX(Fund!$A$9:$B$3627,MATCH('Account Statement'!S39,Fund!$A$9:$A$3627,0),1)","v":{"$error":"#N/A"}},{"$f":"INDEX(Fund!$A$9:$B$3627,MATCH('Account Statement'!S39,Fund!$A$9:$A$3627,0),2)","v":{"$error":"#N/A"}},2592.85,{"$error":"#N/A"},{"$f":"SUM($W$2:W39)","v":{"$error":"#N/A"}},-2592.85]
["2008-11-06",13.023099999999999,1000,-1000,76.786632982930328,-0.16054197257907529,null,null,null,null,null,null,{"$f":"Fund!W47","v":"2005-12-06"},{"$f":"Fund!X47","v":9.5299999999999994},{"$f":"-Fund!V47","v":1000},{"$f":"Fund!V47","v":-1000},{"$f":"Fund!P47","v":104.93179433368311},null,"2003-03-03",{"$f":"INDEX(Fund!$A$9:$B$3627,MATCH('Account Statement'!S40,Fund!$A$9:$A$3627,0),1)","v":{"$error":"#N/A"}},{"$f":"INDEX(Fund!$A$9:$B$3627,MATCH('Account Statement'!S40,Fund!$A$9:$A$3627,0),2)","v":{"$error":"#N/A"}},2657.28,{"$error":"#N/A"},{"$f":"SUM($W$2:W40)","v":{"$error":"#N/A"}},-2657.28]
["2008-12-08",11.7403,1000,-1000,85.176699062204548,-9.8501892790503032E-2,null,null,null,null,null,null,{"$f":"Fund!W48","v":"00:00:00"},{"$f":"Fund!X48","v":0},{"$f":"-Fund!V48","v":0},{"$f":"Fund!V48","v":0},{"$f":"Fund!P48","v":""},null,"2003-04-03",{"$f":"INDEX(Fund!$A$9:$B$3627,MATCH('Account Statement'!S41,Fund!$A$9:$A$3627,0),1)","v":{"$error":"#N/A"}},{"$f":"INDEX(Fund!$A$9:$B$3627,MATCH('Account Statement'!S41,Fund!$A$9:$A$3627,0),2)","v":{"$error":"#N/A"}},2717.36,{"$error":"#N/A"},{"$f":"SUM($W$2:W41)","v":{"$error":"#N/A"}},-2717.36]
["2009-01-06",13.8009,1000,-1000,72.459042526212059,0.17551510608757875,null,null,null,null,null,null,{"$f":"Fund!W49","v":"00:00:00"},{"$f":"Fund!X49","v":0},{"$f":"-Fund!V49","v":0},{"$f":"Fund!V49","v":0},{"$f":"Fund!P49","v":""},null,"2003-05-05",{"$f":"INDEX(Fund!$A$9:$B$3627,MATCH('Account Statement'!S42,Fund!$A$9:$A$3627,0),1)","v":{"$error":"#N/A"}},{"$f":"INDEX(Fund!$A$9:$B$3627,MATCH('Account Statement'!S42,Fund!$A$9:$A$3627,0),2)","v":{"$error":"#N/A"}},2783.6,{"$error":"#N/A"},{"$f":"SUM($W$2:W42)","v":{"$error":"#N/A"}},-2783.6]
["2009-02-06",12.137499999999999,1000,-1000,82.389289392378998,-0.12052837133810121,null,null,null,null,null,null,{"$f":"Fund!W50","v":"00:00:00"},{"$f":"Fund!X50","v":0},{"$f":"-Fund!V50","v":0},{"$f":"Fund!V50","v":0},{"$f":"Fund!P50","v":""},null,"2003-06-03",{"$f":"INDEX(Fund!$A$9:$B$3627,MATCH('Account Statement'!S43,Fund!$A$9:$A$3627,0),1)","v":{"$error":"#N/A"}},{"$f":"INDEX(Fund!$A$9:$B$3627,MATCH('Account Statement'!S43,Fund!$A$9:$A$3627,0),2)","v":{"$error":"#N/A"}},2855.19,{"$error":"#N/A"},{"$f":"SUM($W$2:W43)","v":{"$error":"#N/A"}},-2855.19]
["2009-03-06",11.3886,1000,-1000,87.807105350965003,-6.1701338825952551E-2,null,null,null,null,null,null,{"$f":"Fund!W51","v":"00:00:00"},{"$f":"Fund!X51","v":0},{"$f":"-Fund!V51","v":0},{"$f":"Fund!V51","v":0},{"$f":"Fund!P51","v":""},null,"2003-07-03",{"$f":"INDEX(Fund!$A$9:$B$3627,MATCH('Account Statement'!S44,Fund!$A$9:$A$3627,0),1)","v":{"$error":"#N/A"}},{"$f":"INDEX(Fund!$A$9:$B$3627,MATCH('Account Statement'!S44,Fund!$A$9:$A$3627,0),2)","v":{"$error":"#N/A"}},2932.17,{"$error":"#N/A"},{"$f":"SUM($W$2:W44)","v":{"$error":"#N/A"}},-2932.17]
["2009-04-06",13.6746,1000,-1000,73.128281631638217,0.20072704283230594,null,null,null,null,null,null,{"$f":"Fund!W52","v":"00:00:00"},{"$f":"Fund!X52","v":0},{"$f":"-Fund!V52","v":0},{"$f":"Fund!V52","v":0},{"$f":"Fund!P52","v":""},null,"2003-08-04",{"$f":"INDEX(Fund!$A$9:$B$3627,MATCH('Account Statement'!S45,Fund!$A$9:$A$3627,0),1)","v":{"$error":"#N/A"}},{"$f":"INDEX(Fund!$A$9:$B$3627,MATCH('Account Statement'!S45,Fund!$A$9:$A$3627,0),2)","v":{"$error":"#N/A"}},3020.08,{"$error":"#N/A"},{"$f":"SUM($W$2:W45)","v":{"$error":"#N/A"}},-3020.08]
["2009-05-06",15.2835,1000,-1000,65.430038930873167,0.11765609231714275,null,null,null,null,null,null,{"$f":"Fund!W53","v":"00:00:00"},{"$f":"Fund!X53","v":0},{"$f":"-Fund!V53","v":0},{"$f":"Fund!V53","v":0},{"$f":"Fund!P53","v":""},null,"2003-09-03",{"$f":"INDEX(Fund!$A$9:$B$3627,MATCH('Account Statement'!S46,Fund!$A$9:$A$3627,0),1)","v":{"$error":"#N/A"}},{"$f":"INDEX(Fund!$A$9:$B$3627,MATCH('Account Statement'!S46,Fund!$A$9:$A$3627,0),2)","v":{"$error":"#N/A"}},3114.46,{"$error":"#N/A"},{"$f":"SUM($W$2:W46)","v":{"$error":"#N/A"}},-3114.46]
["2009-06-08",18.965699999999998,1000,-1000,52.726764632995362,0.24092648935126104,null,null,null,null,null,null,{"$f":"Fund!W54","v":"00:00:00"},{"$f":"Fund!X54","v":0},{"$f":"-Fund!V54","v":0},{"$f":"Fund!V54","v":0},{"$f":"Fund!P54","v":""},null,"2003-10-03",{"$f":"INDEX(Fund!$A$9:$B$3627,MATCH('Account Statement'!S47,Fund!$A$9:$A$3627,0),1)","v":{"$error":"#N/A"}},{"$f":"INDEX(Fund!$A$9:$B$3627,MATCH('Account Statement'!S47,Fund!$A$9:$A$3627,0),2)","v":{"$error":"#N/A"}},3210.43,{"$error":"#N/A"},{"$f":"SUM($W$2:W47)","v":{"$error":"#N/A"}},-3210.43]
["2009-07-06",19.224,1000,-1000,52.01831044527674,1.3619323304702806E-2,null,null,null,null,null,null,{"$f":"Fund!W55","v":"00:00:00"},{"$f":"Fund!X55","v":0},{"$f":"-Fund!V55","v":0},{"$f":"Fund!V55","v":0},{"$f":"Fund!P55","v":""},null,"2003-11-03",{"$f":"INDEX(Fund!$A$9:$B$3627,MATCH('Account Statement'!S48,Fund!$A$9:$A$3627,0),1)","v":{"$error":"#N/A"}},{"$f":"INDEX(Fund!$A$9:$B$3627,MATCH('Account Statement'!S48,Fund!$A$9:$A$3627,0),2)","v":{"$error":"#N/A"}},3323.71,{"$error":"#N/A"},{"$f":"SUM($W$2:W48)","v":{"$error":"#N/A"}},-3323.71]
["2009-08-06",21.522200000000002,1000,-1000,46.463651485442938,0.11954848106533507,null,null,null,null,null,null,{"$f":"Fund!W56","v":"00:00:00"},{"$f":"Fund!X56","v":0},{"$f":"-Fund!V56","v":0},{"$f":"Fund!V56","v":0},{"$f":"Fund!P56","v":""},null,"2003-12-03",{"$f":"INDEX(Fund!$A$9:$B$3627,MATCH('Account Statement'!S49,Fund!$A$9:$A$3627,0),1)","v":{"$error":"#N/A"}},{"$f":"INDEX(Fund!$A$9:$B$3627,MATCH('Account Statement'!S49,Fund!$A$9:$A$3627,0),2)","v":{"$error":"#N/A"}},3440.05,{"$error":"#N/A"},{"$f":"SUM($W$2:W49)","v":{"$error":"#N/A"}},-3440.05]
["2009-09-07",22.6021,1000,-1000,44.243676472540159,5.0176097239129754E-2,null,null,null,null,null,null,{"$f":"Fund!W57","v":"00:00:00"},{"$f":"Fund!X57","v":0},{"$f":"-Fund!V57","v":0},{"$f":"Fund!V57","v":0},{"$f":"Fund!P57","v":""},null,"2004-01-05",{"$f":"INDEX(Fund!$A$9:$B$3627,MATCH('Account Statement'!S50,Fund!$A$9:$A$3627,0),1)","v":{"$error":"#N/A"}},{"$f":"INDEX(Fund!$A$9:$B$3627,MATCH('Account Statement'!S50,Fund!$A$9:$A$3627,0),2)","v":{"$error":"#N/A"}},3595.62,{"$error":"#N/A"},{"$f":"SUM($W$2:W50)","v":{"$error":"#N/A"}},-3595.62]
["2009-10-06",23.241700000000002,1000,-1000,43.026112547705196,2.8298255471836755E-2,null,null,null,null,null,null,{"$f":"Fund!W58","v":"00:00:00"},{"$f":"Fund!X58","v":0},{"$f":"-Fund!V58","v":0},{"$f":"Fund!V58","v":0},{"$f":"Fund!P58","v":""},null,"2004-02-03",{"$f":"INDEX(Fund!$A$9:$B$3627,MATCH('Account Statement'!S51,Fund!$A$9:$A$3627,0),1)","v":{"$error":"#N/A"}},{"$f":"INDEX(Fund!$A$9:$B$3627,MATCH('Account Statement'!S51,Fund!$A$9:$A$3627,0),2)","v":{"$error":"#N/A"}},3746.72,{"$error":"#N/A"},{"$f":"SUM($W$2:W51)","v":{"$error":"#N/A"}},-3746.72]
["2009-11-06",23.981200000000001,1000,-1000,41.699331142728468,3.1817810229027979E-2,null,null,null,null,null,null,{"$f":"Fund!W59","v":"00:00:00"},{"$f":"Fund!X59","v":0},{"$f":"-Fund!V59","v":0},{"$f":"Fund!V59","v":0},{"$f":"Fund!P59","v":""},null,"2004-03-03",{"$f":"INDEX(Fund!$A$9:$B$3627,MATCH('Account Statement'!S52,Fund!$A$9:$A$3627,0),1)","v":{"$error":"#N/A"}},{"$f":"INDEX(Fund!$A$9:$B$3627,MATCH('Account Statement'!S52,Fund!$A$9:$A$3627,0),2)","v":{"$error":"#N/A"}},3911.48,{"$error":"#N/A"},{"$f":"SUM($W$2:W52)","v":{"$error":"#N/A"}},-3911.48]
["2009-12-07",25.554600000000001,1000,-1000,39.131897975315596,6.5609727619968944E-2,null,null,null,null,null,null,{"$f":"Fund!W60","v":"00:00:00"},{"$f":"Fund!X60","v":0},{"$f":"-Fund!V60","v":0},{"$f":"Fund!V60","v":0},{"$f":"Fund!P60","v":""},null,"2004-04-05",{"$f":"INDEX(Fund!$A$9:$B$3627,MATCH('Account Statement'!S53,Fund!$A$9:$A$3627,0),1)","v":{"$error":"#N/A"}},{"$f":"INDEX(Fund!$A$9:$B$3627,MATCH('Account Statement'!S53,Fund!$A$9:$A$3627,0),2)","v":{"$error":"#N/A"}},4079.94,{"$error":"#N/A"},{"$f":"SUM($W$2:W53)","v":{"$error":"#N/A"}},-4079.94]
["2010-01-06",27.0989,1000,-1000,36.901866865444724,6.0431390043279867E-2,null,null,null,null,null,null,{"$f":"Fund!W61","v":"00:00:00"},{"$f":"Fund!X61","v":0},{"$f":"-Fund!V61","v":0},{"$f":"Fund!V61","v":0},{"$f":"Fund!P61","v":""},null,"2004-05-03",{"$f":"INDEX(Fund!$A$9:$B$3627,MATCH('Account Statement'!S54,Fund!$A$9:$A$3627,0),1)","v":{"$error":"#N/A"}},{"$f":"INDEX(Fund!$A$9:$B$3627,MATCH('Account Statement'!S54,Fund!$A$9:$A$3627,0),2)","v":{"$error":"#N/A"}},4241.18,{"$error":"#N/A"},{"$f":"SUM($W$2:W54)","v":{"$error":"#N/A"}},-4241.18]
["2010-02-08",26.133800000000001,1000,-1000,38.264622825612804,-3.5613991711840688E-2,null,null,null,null,null,null,{"$f":"Fund!W62","v":"00:00:00"},{"$f":"Fund!X62","v":0},{"$f":"-Fund!V62","v":0},{"$f":"Fund!V62","v":0},{"$f":"Fund!P62","v":""},null,"2004-07-05",{"$f":"INDEX(Fund!$A$9:$B$3627,MATCH('Account Statement'!S55,Fund!$A$9:$A$3627,0),1)","v":{"$error":"#N/A"}},{"$f":"INDEX(Fund!$A$9:$B$3627,MATCH('Account Statement'!S55,Fund!$A$9:$A$3627,0),2)","v":{"$error":"#N/A"}},4417.76,{"$error":"#N/A"},{"$f":"SUM($W$2:W55)","v":{"$error":"#N/A"}},-4417.76]
["2010-03-08",27.728899999999999,1000,-1000,36.06345725939363,6.1035899869134935E-2,null,null,null,null,null,null,{"$f":"Fund!W63","v":"00:00:00"},{"$f":"Fund!X63","v":0},{"$f":"-Fund!V63","v":0},{"$f":"Fund!V63","v":0},{"$f":"Fund!P63","v":""},null,"2004-08-03",{"$f":"INDEX(Fund!$A$9:$B$3627,MATCH('Account Statement'!S56,Fund!$A$9:$A$3627,0),1)","v":{"$error":"#N/A"}},{"$f":"INDEX(Fund!$A$9:$B$3627,MATCH('Account Statement'!S56,Fund!$A$9:$A$3627,0),2)","v":{"$error":"#N/A"}},4605.74,{"$error":"#N/A"},{"$f":"SUM($W$2:W56)","v":{"$error":"#N/A"}},-4605.74]
["2010-04-06",28.4114,1000,-1000,35.197139176527735,2.461330957953619E-2,null,null,null,null,null,null,{"$f":"Fund!W64","v":"00:00:00"},{"$f":"Fund!X64","v":0},{"$f":"-Fund!V64","v":0},{"$f":"Fund!V64","v":0},{"$f":"Fund!P64","v":""},null,"2004-09-03",{"$f":"INDEX(Fund!$A$9:$B$3627,MATCH('Account Statement'!S57,Fund!$A$9:$A$3627,0),1)","v":{"$error":"#N/A"}},{"$f":"INDEX(Fund!$A$9:$B$3627,MATCH('Account Statement'!S57,Fund!$A$9:$A$3627,0),2)","v":{"$error":"#N/A"}},4810.0600000000004,{"$error":"#N/A"},{"$f":"SUM($W$2:W57)","v":{"$error":"#N/A"}},-4810.0600000000004]
["2010-05-06",28.500299999999999,1000,-1000,35.087349957719745,3.1290256727932756E-3,null,null,null,null,null,null,{"$f":"Fund!W65","v":"00:00:00"},{"$f":"Fund!X65","v":0},{"$f":"-Fund!V65","v":0},{"$f":"Fund!V65","v":0},{"$f":"Fund!P65","v":""},null,"2004-10-04",{"$f":"INDEX(Fund!$A$9:$B$3627,MATCH('Account Statement'!S58,Fund!$A$9:$A$3627,0),1)","v":{"$error":"#N/A"}},{"$f":"INDEX(Fund!$A$9:$B$3627,MATCH('Account Statement'!S58,Fund!$A$9:$A$3627,0),2)","v":{"$error":"#N/A"}},5022.32,{"$error":"#N/A"},{"$f":"SUM($W$2:W58)","v":{"$error":"#N/A"}},-5022.32]
["2010-06-07",27.8536,1000,-1000,35.902001895625702,-2.2690989217657328E-2,null,null,null,null,null,null,{"$f":"Fund!W66","v":"00:00:00"},{"$f":"Fund!X66","v":0},{"$f":"-Fund!V66","v":0},{"$f":"Fund!V66","v":0},{"$f":"Fund!P66","v":""},null,"2004-11-03",{"$f":"INDEX(Fund!$A$9:$B$3627,MATCH('Account Statement'!S59,Fund!$A$9:$A$3627,0),1)","v":{"$error":"#N/A"}},{"$f":"INDEX(Fund!$A$9:$B$3627,MATCH('Account Statement'!S59,Fund!$A$9:$A$3627,0),2)","v":{"$error":"#N/A"}},5227.92,{"$error":"#N/A"},{"$f":"SUM($W$2:W59)","v":{"$error":"#N/A"}},-5227.92]
["2010-07-06",29.977499999999999,1000,-1000,33.358352097406389,7.6252261826119383E-2,null,null,null,null,null,null,{"$f":"Fund!W67","v":"00:00:00"},{"$f":"Fund!X67","v":0},{"$f":"-Fund!V67","v":0},{"$f":"Fund!V67","v":0},{"$f":"Fund!P67","v":""},null,"2004-12-03",{"$f":"INDEX(Fund!$A$9:$B$3627,MATCH('Account Statement'!S60,Fund!$A$9:$A$3627,0),1)","v":{"$error":"#N/A"}},{"$f":"INDEX(Fund!$A$9:$B$3627,MATCH('Account Statement'!S60,Fund!$A$9:$A$3627,0),2)","v":{"$error":"#N/A"}},5469.71,{"$error":"#N/A"},{"$f":"SUM($W$2:W60)","v":{"$error":"#N/A"}},-5469.71]
["2010-08-06",32.889400000000002,1000,-1000,30.404932896313095,9.7136185472437755E-2,null,null,null,null,null,null,{"$f":"Fund!W68","v":"00:00:00"},{"$f":"Fund!X68","v":0},{"$f":"-Fund!V68","v":0},{"$f":"Fund!V68","v":0},{"$f":"Fund!P68","v":""},null,"2005-01-03",{"$f":"INDEX(Fund!$A$9:$B$3627,MATCH('Account Statement'!S61,Fund!$A$9:$A$3627,0),1)","v":{"$error":"#N/A"}},{"$f":"INDEX(Fund!$A$9:$B$3627,MATCH('Account Statement'!S61,Fund!$A$9:$A$3627,0),2)","v":{"$error":"#N/A"}},5716.87,{"$error":"#N/A"},{"$f":"SUM($W$2:W61)","v":{"$error":"#N/A"}},-5716.87]
["2010-09-06",34.656500000000001,1000,-1000,28.854616017197351,5.3728556921074845E-2,null,null,null,null,null,null,{"$f":"Fund!W69","v":"00:00:00"},{"$f":"Fund!X69","v":0},{"$f":"-Fund!V69","v":0},{"$f":"Fund!V69","v":0},{"$f":"Fund!P69","v":""},null,"2005-02-03",{"$f":"INDEX(Fund!$A$9:$B$3627,MATCH('Account Statement'!S62,Fund!$A$9:$A$3627,0),1)","v":{"$error":"#N/A"}},{"$f":"INDEX(Fund!$A$9:$B$3627,MATCH('Account Statement'!S62,Fund!$A$9:$A$3627,0),2)","v":{"$error":"#N/A"}},5969.02,{"$error":"#N/A"},{"$f":"SUM($W$2:W62)","v":{"$error":"#N/A"}},-5969.02]
["2010-10-06",35.8752,1000,-1000,27.874409062527874,3.5165120540158364E-2,null,null,null,null,null,null,{"$f":"Fund!W70","v":"2006-01-06"},{"$f":"Fund!X70","v":10.199999999999999},{"$f":"-Fund!V70","v":1000},{"$f":"Fund!V70","v":-1000},{"$f":"Fund!P70","v":98.039215686274517},null,"2005-03-03",{"$f":"INDEX(Fund!$A$9:$B$3627,MATCH('Account Statement'!S63,Fund!$A$9:$A$3627,0),1)","v":{"$error":"#N/A"}},{"$f":"INDEX(Fund!$A$9:$B$3627,MATCH('Account Statement'!S63,Fund!$A$9:$A$3627,0),2)","v":{"$error":"#N/A"}},6247.38,{"$error":"#N/A"},{"$f":"SUM($W$2:W63)","v":{"$error":"#N/A"}},-6247.38]
["2010-11-08",36.420499999999997,1000,-1000,27.457064016144756,1.5199915261796379E-2,null,null,null,null,null,null,{"$f":"Fund!W71","v":"00:00:00"},{"$f":"Fund!X71","v":0},{"$f":"-Fund!V71","v":0},{"$f":"Fund!V71","v":0},{"$f":"Fund!P71","v":""},null,"2005-04-04",{"$f":"INDEX(Fund!$A$9:$B$3627,MATCH('Account Statement'!S64,Fund!$A$9:$A$3627,0),1)","v":{"$error":"#N/A"}},{"$f":"INDEX(Fund!$A$9:$B$3627,MATCH('Account Statement'!S64,Fund!$A$9:$A$3627,0),2)","v":{"$error":"#N/A"}},6513.4,{"$error":"#N/A"},{"$f":"SUM($W$2:W64)","v":{"$error":"#N/A"}},-6513.4]
["2010-12-06",34.587400000000002,1000,-1000,28.912262847163994,-5.0331544047994801E-2,null,null,null,null,null,null,{"$f":"Fund!W72","v":"00:00:00"},{"$f":"Fund!X72","v":0},{"$f":"-Fund!V72","v":0},{"$f":"Fund!V72","v":0},{"$f":"Fund!P72","v":""},null,"2005-05-03",{"$f":"INDEX(Fund!$A$9:$B$3627,MATCH('Account Statement'!S65,Fund!$A$9:$A$3627,0),1)","v":{"$error":"#N/A"}},{"$f":"INDEX(Fund!$A$9:$B$3627,MATCH('Account Statement'!S65,Fund!$A$9:$A$3627,0),2)","v":{"$error":"#N/A"}},6769.43,{"$error":"#N/A"},{"$f":"SUM($W$2:W65)","v":{"$error":"#N/A"}},-6769.43]
["2011-01-06",34.234699999999997,1000,-1000,29.210128904298859,-1.0197355106194909E-2,null,null,null,null,null,null,{"$f":"Fund!W73","v":"00:00:00"},{"$f":"Fund!X73","v":0},{"$f":"-Fund!V73","v":0},{"$f":"Fund!V73","v":0},{"$f":"Fund!P73","v":""},null,"2005-06-03",{"$f":"INDEX(Fund!$A$9:$B$3627,MATCH('Account Statement'!S66,Fund!$A$9:$A$3627,0),1)","v":{"$error":"#N/A"}},{"$f":"INDEX(Fund!$A$9:$B$3627,MATCH('Account Statement'!S66,Fund!$A$9:$A$3627,0),2)","v":{"$error":"#N/A"}},7048.74,{"$error":"#N/A"},{"$f":"SUM($W$2:W66)","v":{"$error":"#N/A"}},-7048.74]
["2011-02-08",28.9878,1000,-1000,34.497271265842869,-0.15326262534796559,null,null,null,null,null,null,{"$f":"Fund!W74","v":"00:00:00"},{"$f":"Fund!X74","v":0},{"$f":"-Fund!V74","v":0},{"$f":"Fund!V74","v":0},{"$f":"Fund!P74","v":""},null,"2005-07-04",{"$f":"INDEX(Fund!$A$9:$B$3627,MATCH('Account Statement'!S67,Fund!$A$9:$A$3627,0),1)","v":{"$error":"#N/A"}},{"$f":"INDEX(Fund!$A$9:$B$3627,MATCH('Account Statement'!S67,Fund!$A$9:$A$3627,0),2)","v":{"$error":"#N/A"}},7350.41,{"$f":"V67/U67","v":{"$error":"#N/A"}},{"$f":"SUM($W$2:W67)","v":{"$error":"#N/A"}},{"$f":"-V67","v":-7350.41}]
["2011-03-07",29.920200000000001,1000,-1000,33.422236482376455,{"$f":"(B68-B67)/B67","v":3.2165255728271933E-2},null,null,null,null,null,null,{"$f":"Fund!W75","v":"00:00:00"},{"$f":"Fund!X75","v":0},{"$f":"-Fund!V75","v":0},{"$f":"Fund!V75","v":0},{"$f":"Fund!P75","v":""},null,"2005-08-03",{"$f":"INDEX(Fund!$A$9:$B$3627,MATCH('Account Statement'!S68,Fund!$A$9:$A$3627,0),1)","v":{"$error":"#N/A"}},{"$f":"INDEX(Fund!$A$9:$B$3627,MATCH('Account Statement'!S68,Fund!$A$9:$A$3627,0),2)","v":{"$error":"#N/A"}},7673.19,{"$error":"#N/A"},{"$f":"SUM($W$2:W68)","v":{"$error":"#N/A"}},-7673.19]
["2011-04-06",32.618000000000002,1000,-1000,30.65791894046232,9.0166509582155219E-2,null,null,null,null,null,null,{"$f":"Fund!W76","v":"00:00:00"},{"$f":"Fund!X76","v":0},{"$f":"-Fund!V76","v":0},{"$f":"Fund!V76","v":0},{"$f":"Fund!P76","v":""},null,"2005-09-05",{"$f":"INDEX(Fund!$A$9:$B$3627,MATCH('Account Statement'!S69,Fund!$A$9:$A$3627,0),1)","v":{"$error":"#N/A"}},{"$f":"INDEX(Fund!$A$9:$B$3627,MATCH('Account Statement'!S69,Fund!$A$9:$A$3627,0),2)","v":{"$error":"#N/A"}},8006.86,{"$error":"#N/A"},{"$f":"SUM($W$2:W69)","v":{"$error":"#N/A"}},-8006.86]
["2011-05-06",31.643899999999999,1000,-1000,31.601667303966959,-2.9863878839904455E-2,null,null,null,null,null,null,{"$f":"Fund!W77","v":"00:00:00"},{"$f":"Fund!X77","v":0},{"$f":"-Fund!V77","v":0},{"$f":"Fund!V77","v":0},{"$f":"Fund!P77","v":""},null,"2005-10-03",{"$f":"INDEX(Fund!$A$9:$B$3627,MATCH('Account Statement'!S70,Fund!$A$9:$A$3627,0),1)","v":{"$error":"#N/A"}},{"$f":"INDEX(Fund!$A$9:$B$3627,MATCH('Account Statement'!S70,Fund!$A$9:$A$3627,0),2)","v":{"$error":"#N/A"}},8382.44,{"$error":"#N/A"},{"$f":"SUM($W$2:W70)","v":{"$error":"#N/A"}},-8382.44]
["2011-06-06",31.910299999999999,1000,-1000,31.337843893664427,8.4186841697768255E-3,null,null,null,null,null,null,{"$f":"Fund!W78","v":"00:00:00"},{"$f":"Fund!X78","v":0},{"$f":"-Fund!V78","v":0},{"$f":"Fund!V78","v":0},{"$f":"Fund!P78","v":""},null,"2005-11-07",{"$f":"INDEX(Fund!$A$9:$B$3627,MATCH('Account Statement'!S71,Fund!$A$9:$A$3627,0),1)","v":"2005-11-07"},{"$f":"INDEX(Fund!$A$9:$B$3627,MATCH('Account Statement'!S71,Fund!$A$9:$A$3627,0),2)","v":8.99},8744.09,972.64627363737486,{"$f":"SUM($W$2:W71)","v":{"$error":"#N/A"}},-8744.09]
["2011-07-06",32.872399999999999,1000,-1000,30.420656842822552,3.015013961009453E-2,null,null,null,null,null,null,{"$f":"Fund!W79","v":"00:00:00"},{"$f":"Fund!X79","v":0},{"$f":"-Fund!V79","v":0},{"$f":"Fund!V79","v":0},{"$f":"Fund!P79","v":""},null,"2005-12-05",{"$f":"INDEX(Fund!$A$9:$B$3627,MATCH('Account Statement'!S72,Fund!$A$9:$A$3627,0),1)","v":"2005-12-05"},{"$f":"INDEX(Fund!$A$9:$B$3627,MATCH('Account Statement'!S72,Fund!$A$9:$A$3627,0),2)","v":9.5399999999999991},9165.11,960.70335429769409,{"$f":"SUM($W$2:W72)","v":{"$error":"#N/A"}},-9165.11]
["2011-08-08",31.8857,1000,-1000,31.362021219543557,-3.0016062106812982E-2,null,null,null,null,null,null,{"$f":"Fund!W80","v":"00:00:00"},{"$f":"Fund!X80","v":0},{"$f":"-Fund!V80","v":0},{"$f":"Fund!V80","v":0},{"$f":"Fund!P80","v":""},null,"2006-01-03",{"$f":"INDEX(Fund!$A$9:$B$3627,MATCH('Account Statement'!S73,Fund!$A$9:$A$3627,0),1)","v":"2006-01-03"},{"$f":"INDEX(Fund!$A$9:$B$3627,MATCH('Account Statement'!S73,Fund!$A$9:$A$3627,0),2)","v":10.17},9601.34,944.08456243854471,{"$f":"SUM($W$2:W73)","v":{"$error":"#N/A"}},-9601.34]
["2011-09-06",32.655000000000001,1000,-1000,30.623181748583676,2.4126802924194897E-2,null,null,null,null,null,null,{"$f":"Fund!W81","v":"00:00:00"},{"$f":"Fund!X81","v":0},{"$f":"-Fund!V81","v":0},{"$f":"Fund!V81","v":0},{"$f":"Fund!P81","v":""},null,"2006-02-03",{"$f":"INDEX(Fund!$A$9:$B$3627,MATCH('Account Statement'!S74,Fund!$A$9:$A$3627,0),1)","v":"2006-02-03"},{"$f":"INDEX(Fund!$A$9:$B$3627,MATCH('Account Statement'!S74,Fund!$A$9:$A$3627,0),2)","v":10.74},10119.42,942.2178770949721,{"$f":"SUM($W$2:W74)","v":{"$error":"#N/A"}},-10119.42]
["2011-10-07",31.559899999999999,1000,-1000,31.685778472048391,-3.3535446332874051E-2,null,null,null,null,null,null,{"$f":"Fund!W82","v":"00:00:00"},{"$f":"Fund!X82","v":0},{"$f":"-Fund!V82","v":0},{"$f":"Fund!V82","v":0},{"$f":"Fund!P82","v":""},null,"2006-03-03",{"$f":"INDEX(Fund!$A$9:$B$3627,MATCH('Account Statement'!S75,Fund!$A$9:$A$3627,0),1)","v":"2006-03-03"},{"$f":"INDEX(Fund!$A$9:$B$3627,MATCH('Account Statement'!S75,Fund!$A$9:$A$3627,0),2)","v":11.46},10696.34,933.36300174520068,{"$f":"SUM($W$2:W75)","v":{"$error":"#N/A"}},-10696.34]
["2011-11-08",33.234400000000001,1000,-1000,30.089305057410392,5.3057836051445088E-2,null,null,null,null,null,null,{"$f":"Fund!W83","v":"00:00:00"},{"$f":"Fund!X83","v":0},{"$f":"-Fund!V83","v":0},{"$f":"Fund!V83","v":0},{"$f":"Fund!P83","v":""},null,"2006-04-03",{"$f":"INDEX(Fund!$A$9:$B$3627,MATCH('Account Statement'!S76,Fund!$A$9:$A$3627,0),1)","v":"2006-04-03"},{"$f":"INDEX(Fund!$A$9:$B$3627,MATCH('Account Statement'!S76,Fund!$A$9:$A$3627,0),2)","v":12.98},11271.36,868.36363636363637,{"$f":"SUM($W$2:W76)","v":{"$error":"#N/A"}},-11271.36]
["2011-12-07",31.090800000000002,1000,-1000,32.163855545691973,-6.4499434321064891E-2,null,null,null,null,null,null,{"$f":"Fund!W84","v":"00:00:00"},{"$f":"Fund!X84","v":0},{"$f":"-Fund!V84","v":0},{"$f":"Fund!V84","v":0},{"$f":"Fund!P84","v":""},null,"2006-05-03",{"$f":"INDEX(Fund!$A$9:$B$3627,MATCH('Account Statement'!S77,Fund!$A$9:$A$3627,0),1)","v":"2006-05-03"},{"$f":"INDEX(Fund!$A$9:$B$3627,MATCH('Account Statement'!S77,Fund!$A$9:$A$3627,0),2)","v":13.22},11882.01,898.79046898638421,{"$f":"SUM($W$2:W77)","v":{"$error":"#N/A"}},-11882.01]
["2012-01-06",28.880299999999998,1000,-1000,34.625679096131272,-7.1098202683752207E-2,null,null,null,null,null,null,{"$f":"Fund!W85","v":"00:00:00"},{"$f":"Fund!X85","v":0},{"$f":"-Fund!V85","v":0},{"$f":"Fund!V85","v":0},{"$f":"Fund!P85","v":""},null,"2006-06-05",{"$f":"INDEX(Fund!$A$9:$B$3627,MATCH('Account Statement'!S78,Fund!$A$9:$A$3627,0),1)","v":"2006-06-05"},{"$f":"INDEX(Fund!$A$9:$B$3627,MATCH('Account Statement'!S78,Fund!$A$9:$A$3627,0),2)","v":10.71},12399.02,1157.7049486461251,{"$f":"SUM($W$2:W78)","v":{"$error":"#N/A"}},-12399.02]
["2012-02-06",32.504199999999997,1000,-1000,30.765254951667789,0.12547999847647009,null,null,null,null,null,null,{"$f":"Fund!W86","v":"00:00:00"},{"$f":"Fund!X86","v":0},{"$f":"-Fund!V86","v":0},{"$f":"Fund!V86","v":0},{"$f":"Fund!P86","v":""},null,"2006-07-03",{"$f":"INDEX(Fund!$A$9:$B$3627,MATCH('Account Statement'!S79,Fund!$A$9:$A$3627,0),1)","v":"2006-07-03"},{"$f":"INDEX(Fund!$A$9:$B$3627,MATCH('Account Statement'!S79,Fund!$A$9:$A$3627,0),2)","v":9.7899999999999991},12919.28,1319.6404494382025,{"$f":"SUM($W$2:W79)","v":{"$error":"#N/A"}},-12919.28]
["2012-03-06",32.234400000000001,1000,-1000,31.022758295485566,-8.3004657859598614E-3,null,null,null,null,null,null,{"$f":"Fund!W87","v":"00:00:00"},{"$f":"Fund!X87","v":0},{"$f":"-Fund!V87","v":0},{"$f":"Fund!V87","v":0},{"$f":"Fund!P87","v":""},null,"2006-08-03",{"$f":"INDEX(Fund!$A$9:$B$3627,MATCH('Account Statement'!S80,Fund!$A$9:$A$3627,0),1)","v":"2006-08-03"},{"$f":"INDEX(Fund!$A$9:$B$3627,MATCH('Account Statement'!S80,Fund!$A$9:$A$3627,0),2)","v":9.7882999999999996},13452.88,1374.3837029923479,{"$f":"SUM($W$2:W80)","v":{"$error":"#N/A"}},-13452.88]
["2012-04-09",33.125100000000003,1000,-1000,30.188588109922684,2.7631970813789073E-2,null,null,null,null,null,null,{"$f":"Fund!W88","v":"00:00:00"},{"$f":"Fund!X88","v":0},{"$f":"-Fund!V88","v":0},{"$f":"Fund!V88","v":0},{"$f":"Fund!P88","v":""},null,"2006-09-04",{"$f":"INDEX(Fund!$A$9:$B$3627,MATCH('Account Statement'!S81,Fund!$A$9:$A$3627,0),1)","v":"2006-09-04"},{"$f":"INDEX(Fund!$A$9:$B$3627,MATCH('Account Statement'!S81,Fund!$A$9:$A$3627,0),2)","v":10.9499},14028.9,1281.1897825550918,{"$f":"SUM($W$2:W81)","v":{"$error":"#N/A"}},-14028.9]
["2012-05-07",32.613999999999997,1000,-1000,30.66167903354388,-1.5429387382981668E-2,null,null,null,null,null,null,{"$f":"Fund!W89","v":"2006-02-06"},{"$f":"Fund!X89","v":10.78},{"$f":"-Fund!V89","v":1000},{"$f":"Fund!V89","v":-1000},{"$f":"Fund!P89","v":92.764378478664199},null,"2006-10-03",{"$f":"INDEX(Fund!$A$9:$B$3627,MATCH('Account Statement'!S82,Fund!$A$9:$A$3627,0),1)","v":"2006-10-03"},{"$f":"INDEX(Fund!$A$9:$B$3627,MATCH('Account Statement'!S82,Fund!$A$9:$A$3627,0),2)","v":11.356},14624.07,1287.7835505459668,{"$f":"SUM($W$2:W82)","v":{"$error":"#N/A"}},-14624.07]
["2012-06-06",32.1417,1000,-1000,31.112231151432564,-1.4481511007542684E-2,null,null,null,null,null,null,{"$f":"Fund!W90","v":"00:00:00"},{"$f":"Fund!X90","v":0},{"$f":"-Fund!V90","v":0},{"$f":"Fund!V90","v":0},{"$f":"Fund!P90","v":""},null,"2006-11-03",{"$f":"INDEX(Fund!$A$9:$B$3627,MATCH('Account Statement'!S83,Fund!$A$9:$A$3627,0),1)","v":"2006-11-03"},{"$f":"INDEX(Fund!$A$9:$B$3627,MATCH('Account Statement'!S83,Fund!$A$9:$A$3627,0),2)","v":11.8058},15257.12,1292.3410527029089,{"$f":"SUM($W$2:W83)","v":{"$error":"#N/A"}},-15257.12]
["2012-07-06",33.8827,1000,-1000,29.513586579581911,5.4166394434644077E-2,null,null,null,null,null,null,{"$f":"Fund!W91","v":"00:00:00"},{"$f":"Fund!X91","v":0},{"$f":"-Fund!V91","v":0},{"$f":"Fund!V91","v":0},{"$f":"Fund!P91","v":""},null,"2006-12-04",{"$f":"INDEX(Fund!$A$9:$B$3627,MATCH('Account Statement'!S84,Fund!$A$9:$A$3627,0),1)","v":"2006-12-04"},{"$f":"INDEX(Fund!$A$9:$B$3627,MATCH('Account Statement'!S84,Fund!$A$9:$A$3627,0),2)","v":12.9313},15913.56,1230.6233712001113,{"$f":"SUM($W$2:W84)","v":{"$error":"#N/A"}},-15913.56]
["2012-08-06",33.6053,1000,-1000,29.757210916135254,-8.1870689171760248E-3,null,null,null,null,null,null,{"$f":"Fund!W92","v":"00:00:00"},{"$f":"Fund!X92","v":0},{"$f":"-Fund!V92","v":0},{"$f":"Fund!V92","v":0},{"$f":"Fund!P92","v":""},null,"2007-01-03",{"$f":"INDEX(Fund!$A$9:$B$3627,MATCH('Account Statement'!S85,Fund!$A$9:$A$3627,0),1)","v":"2007-01-03"},{"$f":"INDEX(Fund!$A$9:$B$3627,MATCH('Account Statement'!S85,Fund!$A$9:$A$3627,0),2)","v":13.4903},16587.28,1229.5708768522568,{"$f":"SUM($W$2:W85)","v":{"$error":"#N/A"}},-16587.28]
["2012-09-06",33.871000000000002,1000,-1000,29.52378140592247,7.9064909404172115E-3,null,null,null,null,null,null,{"$f":"Fund!W93","v":"00:00:00"},{"$f":"Fund!X93","v":0},{"$f":"-Fund!V93","v":0},{"$f":"Fund!V93","v":0},{"$f":"Fund!P93","v":""},null,"2007-02-05",{"$f":"INDEX(Fund!$A$9:$B$3627,MATCH('Account Statement'!S86,Fund!$A$9:$A$3627,0),1)","v":"2007-02-05"},{"$f":"INDEX(Fund!$A$9:$B$3627,MATCH('Account Statement'!S86,Fund!$A$9:$A$3627,0),2)","v":14.5792},17356.84,1190.5207418788411,{"$f":"SUM($W$2:W86)","v":{"$error":"#N/A"}},-17356.84]
["2012-10-08",36.555900000000001,1000,-1000,27.355365344581859,7.9268400696761207E-2,null,null,null,null,null,null,{"$f":"Fund!W94","v":"00:00:00"},{"$f":"Fund!X94","v":0},{"$f":"-Fund!V94","v":0},{"$f":"Fund!V94","v":0},{"$f":"Fund!P94","v":""},null,"2007-03-05",{"$f":"INDEX(Fund!$A$9:$B$3627,MATCH('Account Statement'!S87,Fund!$A$9:$A$3627,0),1)","v":"2007-03-05"},{"$f":"INDEX(Fund!$A$9:$B$3627,MATCH('Account Statement'!S87,Fund!$A$9:$A$3627,0),2)","v":12.6593},18016.07,1423.148989280608,{"$f":"SUM($W$2:W87)","v":{"$error":"#N/A"}},-18016.07]
["2012-11-06",36.780099999999997,1000,-1000,27.188615582883138,6.133072910255148E-3,null,null,null,null,null,null,{"$f":"Fund!W95","v":"00:00:00"},{"$f":"Fund!X95","v":0},{"$f":"-Fund!V95","v":0},{"$f":"Fund!V95","v":0},{"$f":"Fund!P95","v":""},null,"2007-04-03",{"$f":"INDEX(Fund!$A$9:$B$3627,MATCH('Account Statement'!S88,Fund!$A$9:$A$3627,0),1)","v":"2007-04-03"},{"$f":"INDEX(Fund!$A$9:$B$3627,MATCH('Account Statement'!S88,Fund!$A$9:$A$3627,0),2)","v":12.7202},18695.05,1469.7135265168786,{"$f":"SUM($W$2:W88)","v":{"$error":"#N/A"}},-18695.05]
["2012-12-06",39.932899999999997,1000,-1000,25.042007968366939,8.572026720971393E-2,null,null,null,null,null,null,{"$f":"Fund!W96","v":"00:00:00"},{"$f":"Fund!X96","v":0},{"$f":"-Fund!V96","v":0},{"$f":"Fund!V96","v":0},{"$f":"Fund!P96","v":""},null,"2007-05-03",{"$f":"INDEX(Fund!$A$9:$B$3627,MATCH('Account Statement'!S89,Fund!$A$9:$A$3627,0),1)","v":"2007-05-03"},{"$f":"INDEX(Fund!$A$9:$B$3627,MATCH('Account Statement'!S89,Fund!$A$9:$A$3627,0),2)","v":14.485200000000001},19442.599999999999,1342.2389749537458,{"$f":"SUM($W$2:W89)","v":{"$error":"#N/A"}},-19442.599999999999]
["2013-01-07",40.749699999999997,1000,-1000,24.540057963616913,2.045431210856213E-2,null,null,null,null,null,null,{"$f":"Fund!W97","v":"00:00:00"},{"$f":"Fund!X97","v":0},{"$f":"-Fund!V97","v":0},{"$f":"Fund!V97","v":0},{"$f":"Fund!P97","v":""},null,"2007-06-04",{"$f":"INDEX(Fund!$A$9:$B$3627,MATCH('Account Statement'!S90,Fund!$A$9:$A$3627,0),1)","v":"2007-06-04"},{"$f":"INDEX(Fund!$A$9:$B$3627,MATCH('Account Statement'!S90,Fund!$A$9:$A$3627,0),2)","v":15.8751},20312.63,1279.5276880145639,{"$f":"SUM($W$2:W90)","v":{"$error":"#N/A"}},-20312.63]
["2013-02-06",38.829599999999999,1000,-1000,25.753548839030017,-4.7119365295940782E-2,null,null,null,null,null,null,{"$f":"Fund!W98","v":"00:00:00"},{"$f":"Fund!X98","v":0},{"$f":"-Fund!V98","v":0},{"$f":"Fund!V98","v":0},{"$f":"Fund!P98","v":""},null,"2007-07-03",{"$f":"INDEX(Fund!$A$9:$B$3627,MATCH('Account Statement'!S91,Fund!$A$9:$A$3627,0),1)","v":"2007-07-03"},{"$f":"INDEX(Fund!$A$9:$B$3627,MATCH('Account Statement'!S91,Fund!$A$9:$A$3627,0),2)","v":17.8032},21266.76,1194.5470477217577,{"$f":"SUM($W$2:W91)","v":{"$error":"#N/A"}},-21266.76]
["2013-03-06",37.798499999999997,1000,-1000,26.456076299324049,-2.6554484207923907E-2,null,null,null,null,null,null,{"$f":"Fund!W99","v":"00:00:00"},{"$f":"Fund!X99","v":0},{"$f":"-Fund!V99","v":0},{"$f":"Fund!V99","v":0},{"$f":"Fund!P99","v":""},null,"2007-08-03",{"$f":"INDEX(Fund!$A$9:$B$3627,MATCH('Account Statement'!S92,Fund!$A$9:$A$3627,0),1)","v":"2007-08-03"},{"$f":"INDEX(Fund!$A$9:$B$3627,MATCH('Account Statement'!S92,Fund!$A$9:$A$3627,0),2)","v":17.248200000000001},22263.08,1290.7480200832551,{"$f":"SUM($W$2:W92)","v":{"$error":"#N/A"}},-22263.08]
["2013-04-09",35.9422,1000,-1000,27.822448264157455,-4.9110414434435166E-2,null,null,null,null,null,null,{"$f":"Fund!W100","v":"00:00:00"},{"$f":"Fund!X100","v":0},{"$f":"-Fund!V100","v":0},{"$f":"Fund!V100","v":0},{"$f":"Fund!P100","v":""},null,"2007-09-03",{"$f":"INDEX(Fund!$A$9:$B$3627,MATCH('Account Statement'!S93,Fund!$A$9:$A$3627,0),1)","v":"2007-09-03"},{"$f":"INDEX(Fund!$A$9:$B$3627,MATCH('Account Statement'!S93,Fund!$A$9:$A$3627,0),2)","v":17.6814},23363.48,1321.3591683916432,{"$f":"SUM($W$2:W93)","v":{"$error":"#N/A"}},-23363.48]
["2013-05-06",38.002000000000002,1000,-1000,26.314404505026051,5.7308678934511595E-2,null,null,null,null,null,null,{"$f":"Fund!W101","v":"00:00:00"},{"$f":"Fund!X101","v":0},{"$f":"-Fund!V101","v":0},{"$f":"Fund!V101","v":0},{"$f":"Fund!P101","v":""},null,"2007-10-03",{"$f":"INDEX(Fund!$A$9:$B$3627,MATCH('Account Statement'!S94,Fund!$A$9:$A$3627,0),1)","v":"2007-10-03"},{"$f":"INDEX(Fund!$A$9:$B$3627,MATCH('Account Statement'!S94,Fund!$A$9:$A$3627,0),2)","v":19.7822},24564.2,1241.7324665608478,{"$f":"SUM($W$2:W94)","v":{"$error":"#N/A"}},-24564.2]
["2013-06-06",38.596499999999999,1000,-1000,25.909085020662495,1.5643913478237893E-2,null,null,null,null,null,null,{"$f":"Fund!W102","v":"00:00:00"},{"$f":"Fund!X102","v":0},{"$f":"-Fund!V102","v":0},{"$f":"Fund!V102","v":0},{"$f":"Fund!P102","v":""},null,"2007-11-05",{"$f":"INDEX(Fund!$A$9:$B$3627,MATCH('Account Statement'!S95,Fund!$A$9:$A$3627,0),1)","v":"2007-11-05"},{"$f":"INDEX(Fund!$A$9:$B$3627,MATCH('Account Statement'!S95,Fund!$A$9:$A$3627,0),2)","v":22.718800000000002},26345.84,1159.649277250559,{"$f":"SUM($W$2:W95)","v":{"$error":"#N/A"}},-26345.84]
["2013-07-08",37.042700000000004,1000,-1000,26.995872331120569,-4.0257536305105264E-2,null,null,null,null,null,null,{"$f":"Fund!W103","v":"00:00:00"},{"$f":"Fund!X103","v":0},{"$f":"-Fund!V103","v":0},{"$f":"Fund!V103","v":0},{"$f":"Fund!P103","v":""},null,"2007-12-03",{"$f":"INDEX(Fund!$A$9:$B$3627,MATCH('Account Statement'!S96,Fund!$A$9:$A$3627,0),1)","v":"2007-12-03"},{"$f":"INDEX(Fund!$A$9:$B$3627,MATCH('Account Statement'!S96,Fund!$A$9:$A$3627,0),2)","v":23.896799999999999},28028.81,1172.9105989086406,{"$f":"SUM($W$2:W96)","v":{"$error":"#N/A"}},-28028.81]
["2013-08-06",34.429699999999997,1000,-1000,29.044691066143479,-7.0540214401218229E-2,null,null,null,null,null,null,{"$f":"Fund!W104","v":"00:00:00"},{"$f":"Fund!X104","v":0},{"$f":"-Fund!V104","v":0},{"$f":"Fund!V104","v":0},{"$f":"Fund!P104","v":""},null,"2008-01-03",{"$f":"INDEX(Fund!$A$9:$B$3627,MATCH('Account Statement'!S97,Fund!$A$9:$A$3627,0),1)","v":"2008-01-03"},{"$f":"INDEX(Fund!$A$9:$B$3627,MATCH('Account Statement'!S97,Fund!$A$9:$A$3627,0),2)","v":28.187999999999999},29731.919999999998,1054.7722435078756,{"$f":"SUM($W$2:W97)","v":{"$error":"#N/A"}},-29731.919999999998]
["2013-09-06",34.901000000000003,1000,-1000,28.652474141142086,1.368876289947361E-2,null,null,null,null,null,null,{"$f":"Fund!W105","v":"00:00:00"},{"$f":"Fund!X105","v":0},{"$f":"-Fund!V105","v":0},{"$f":"Fund!V105","v":0},{"$f":"Fund!P105","v":""},null,"2008-02-04",{"$f":"INDEX(Fund!$A$9:$B$3627,MATCH('Account Statement'!S98,Fund!$A$9:$A$3627,0),1)","v":"2008-02-04"},{"$f":"INDEX(Fund!$A$9:$B$3627,MATCH('Account Statement'!S98,Fund!$A$9:$A$3627,0),2)","v":24.4697},31329.42,1280.3352717851055,{"$f":"SUM($W$2:W98)","v":{"$error":"#N/A"}},-31329.42]
["2013-10-07",36.775700000000001,1000,-1000,27.191868543630711,5.3714793272398982E-2,null,null,null,null,null,null,{"$f":"Fund!W106","v":"00:00:00"},{"$f":"Fund!X106","v":0},{"$f":"-Fund!V106","v":0},{"$f":"Fund!V106","v":0},{"$f":"Fund!P106","v":""},null,"2008-03-03",{"$f":"INDEX(Fund!$A$9:$B$3627,MATCH('Account Statement'!S99,Fund!$A$9:$A$3627,0),1)","v":"2008-03-03"},{"$f":"INDEX(Fund!$A$9:$B$3627,MATCH('Account Statement'!S99,Fund!$A$9:$A$3627,0),2)","v":22.4771},32801.120000000003,1459.3128117061365,{"$f":"SUM($W$2:W99)","v":{"$error":"#N/A"}},-32801.120000000003]
["2013-11-06",39.598700000000001,1000,-1000,25.253354276781813,7.6762644898669505E-2,null,null,null,null,null,null,{"$f":"Fund!W107","v":"2006-03-06"},{"$f":"Fund!X107","v":11.66},{"$f":"-Fund!V107","v":1000},{"$f":"Fund!V107","v":-1000},{"$f":"Fund!P107","v":85.763293310463126},null,"2008-04-03",{"$f":"INDEX(Fund!$A$9:$B$3627,MATCH('Account Statement'!S100,Fund!$A$9:$A$3627,0),1)","v":"2008-04-03"},{"$f":"INDEX(Fund!$A$9:$B$3627,MATCH('Account Statement'!S100,Fund!$A$9:$A$3627,0),2)","v":19.770199999999999},34020.97,1720.8207301898819,{"$f":"SUM($W$2:W100)","v":{"$error":"#N/A"}},-34020.97]
["2013-12-06",40.933700000000002,1000,-1000,24.429748593457223,3.3713227959503739E-2,null,null,null,null,null,null,{"$f":"Fund!W108","v":"00:00:00"},{"$f":"Fund!X108","v":0},{"$f":"-Fund!V108","v":0},{"$f":"Fund!V108","v":0},{"$f":"Fund!P108","v":""},null,"2008-05-05",{"$f":"INDEX(Fund!$A$9:$B$3627,MATCH('Account Statement'!S101,Fund!$A$9:$A$3627,0),1)","v":"2008-05-05"},{"$f":"INDEX(Fund!$A$9:$B$3627,MATCH('Account Statement'!S101,Fund!$A$9:$A$3627,0),2)","v":21.784500000000001},35379.879999999997,1624.0850145745826,{"$f":"SUM($W$2:W101)","v":{"$error":"#N/A"}},-35379.879999999997]
["2014-01-06",42.097700000000003,1000,-1000,23.75426686018476,2.8436227362784245E-2,null,null,null,null,null,null,{"$f":"Fund!W109","v":"00:00:00"},{"$f":"Fund!X109","v":0},{"$f":"-Fund!V109","v":0},{"$f":"Fund!V109","v":0},{"$f":"Fund!P109","v":""},null,"2008-06-03",{"$f":"INDEX(Fund!$A$9:$B$3627,MATCH('Account Statement'!S102,Fund!$A$9:$A$3627,0),1)","v":"2008-06-03"},{"$f":"INDEX(Fund!$A$9:$B$3627,MATCH('Account Statement'!S102,Fund!$A$9:$A$3627,0),2)","v":20.447600000000001},36598.46,1789.8658033216611,{"$f":"SUM($W$2:W102)","v":{"$error":"#N/A"}},-36598.46]
["2014-02-06",41.517499999999998,1000,-1000,24.086228698741497,-1.3782225632279314E-2,null,null,null,null,null,null,{"$f":"Fund!W110","v":"00:00:00"},{"$f":"Fund!X110","v":0},{"$f":"-Fund!V110","v":0},{"$f":"Fund!V110","v":0},{"$f":"Fund!P110","v":""},null,"2008-07-03",{"$f":"INDEX(Fund!$A$9:$B$3627,MATCH('Account Statement'!S103,Fund!$A$9:$A$3627,0),1)","v":"2008-07-03"},{"$f":"INDEX(Fund!$A$9:$B$3627,MATCH('Account Statement'!S103,Fund!$A$9:$A$3627,0),2)","v":17.7593},37571.57,2115.5997139526894,{"$f":"SUM($W$2:W103)","v":{"$error":"#N/A"}},-37571.57]
["2014-03-06",44.2729,1000,-1000,22.587180871368265,6.6367194556512354E-2,null,null,null,null,null,null,{"$f":"Fund!W111","v":"00:00:00"},{"$f":"Fund!X111","v":0},{"$f":"-Fund!V111","v":0},{"$f":"Fund!V111","v":0},{"$f":"Fund!P111","v":""},null,"2008-08-04",{"$f":"INDEX(Fund!$A$9:$B$3627,MATCH('Account Statement'!S104,Fund!$A$9:$A$3627,0),1)","v":"2008-08-04"},{"$f":"INDEX(Fund!$A$9:$B$3627,MATCH('Account Statement'!S104,Fund!$A$9:$A$3627,0),2)","v":18.908000000000001},38698.839999999997,2046.6913475777446,{"$f":"SUM($W$2:W104)","v":{"$error":"#N/A"}},-38698.839999999997]
["2014-04-07",46.008099999999999,1000,-1000,21.735303131405121,3.9193276247998191E-2,null,null,null,null,null,null,{"$f":"Fund!W112","v":"00:00:00"},{"$f":"Fund!X112","v":0},{"$f":"-Fund!V112","v":0},{"$f":"Fund!V112","v":0},{"$f":"Fund!P112","v":""},null,"2008-09-04",{"$f":"INDEX(Fund!$A$9:$B$3627,MATCH('Account Statement'!S105,Fund!$A$9:$A$3627,0),1)","v":"2008-09-04"},{"$f":"INDEX(Fund!$A$9:$B$3627,MATCH('Account Statement'!S105,Fund!$A$9:$A$3627,0),2)","v":19.165900000000001},39834.17,2078.3876572454201,{"$f":"SUM($W$2:W105)","v":{"$error":"#N/A"}},-39834.17]
["2014-05-06",45.974800000000002,1000,-1000,21.751046225323439,-7.2378559427572532E-4,null,null,null,null,null,null,{"$f":"Fund!W113","v":"00:00:00"},{"$f":"Fund!X113","v":0},{"$f":"-Fund!V113","v":0},{"$f":"Fund!V113","v":0},{"$f":"Fund!P113","v":""},null,"2008-10-03",{"$f":"INDEX(Fund!$A$9:$B$3627,MATCH('Account Statement'!S106,Fund!$A$9:$A$3627,0),1)","v":"2008-10-03"},{"$f":"INDEX(Fund!$A$9:$B$3627,MATCH('Account Statement'!S106,Fund!$A$9:$A$3627,0),2)","v":16.491099999999999},40877.360000000001,2478.7527818035182,{"$f":"SUM($W$2:W106)","v":{"$error":"#N/A"}},-40877.360000000001]
["2014-06-06",53.556100000000001,1000,-1000,18.672009350942282,0.16490120674804454,null,null,null,null,null,null,{"$f":"Fund!W114","v":"00:00:00"},{"$f":"Fund!X114","v":0},{"$f":"-Fund!V114","v":0},{"$f":"Fund!V114","v":0},{"$f":"Fund!P114","v":""},null,"2008-11-03",{"$f":"INDEX(Fund!$A$9:$B$3627,MATCH('Account Statement'!S107,Fund!$A$9:$A$3627,0),1)","v":"2008-11-03"},{"$f":"INDEX(Fund!$A$9:$B$3627,MATCH('Account Statement'!S107,Fund!$A$9:$A$3627,0),2)","v":13.1343},41632.81,3169.7776052016475,{"$f":"SUM($W$2:W107)","v":{"$error":"#N/A"}},-41632.81]
["2014-07-07",57.708599999999997,1000,-1000,17.328439781938915,7.7535518829787764E-2,null,null,null,null,null,null,{"$f":"Fund!W115","v":"00:00:00"},{"$f":"Fund!X115","v":0},{"$f":"-Fund!V115","v":0},{"$f":"Fund!V115","v":0},{"$f":"Fund!P115","v":""},null,"2008-12-03",{"$f":"INDEX(Fund!$A$9:$B$3627,MATCH('Account Statement'!S108,Fund!$A$9:$A$3627,0),1)","v":"2008-12-03"},{"$f":"INDEX(Fund!$A$9:$B$3627,MATCH('Account Statement'!S108,Fund!$A$9:$A$3627,0),2)","v":11.5297},42273.91,3666.5229797826487,{"$f":"SUM($W$2:W108)","v":{"$error":"#N/A"}},-42273.91]
["2014-08-06",56.849400000000003,1000,-1000,17.590335166246255,-1.4888595460641816E-2,null,null,null,null,null,null,{"$f":"Fund!W116","v":"00:00:00"},{"$f":"Fund!X116","v":0},{"$f":"-Fund!V116","v":0},{"$f":"Fund!V116","v":0},{"$f":"Fund!P116","v":""},null,"2009-01-05",{"$f":"INDEX(Fund!$A$9:$B$3627,MATCH('Account Statement'!S109,Fund!$A$9:$A$3627,0),1)","v":"2009-01-05"},{"$f":"INDEX(Fund!$A$9:$B$3627,MATCH('Account Statement'!S109,Fund!$A$9:$A$3627,0),2)","v":13.725300000000001},43034.04,3135.3806474175426,{"$f":"SUM($W$2:W109)","v":{"$error":"#N/A"}},-43034.04]
["2014-09-08",61.645899999999997,1000,-1000,16.221678976217397,8.437204262490007E-2,null,null,null,null,null,null,{"$f":"Fund!W117","v":"00:00:00"},{"$f":"Fund!X117","v":0},{"$f":"-Fund!V117","v":0},{"$f":"Fund!V117","v":0},{"$f":"Fund!P117","v":""},null,"2009-02-03",{"$f":"INDEX(Fund!$A$9:$B$3627,MATCH('Account Statement'!S110,Fund!$A$9:$A$3627,0),1)","v":"2009-02-03"},{"$f":"INDEX(Fund!$A$9:$B$3627,MATCH('Account Statement'!S110,Fund!$A$9:$A$3627,0),2)","v":12.093},43656.959999999999,3610.1017117340612,{"$f":"SUM($W$2:W110)","v":{"$error":"#N/A"}},-43656.959999999999]
["2014-10-07",61.2151,1000,-1000,16.335838706462948,-6.9882993029544201E-3,null,null,null,null,null,null,{"$f":"Fund!W118","v":"00:00:00"},{"$f":"Fund!X118","v":0},{"$f":"-Fund!V118","v":0},{"$f":"Fund!V118","v":0},{"$f":"Fund!P118","v":""},null,"2009-03-03",{"$f":"INDEX(Fund!$A$9:$B$3627,MATCH('Account Statement'!S111,Fund!$A$9:$A$3627,0),1)","v":"2009-03-03"},{"$f":"INDEX(Fund!$A$9:$B$3627,MATCH('Account Statement'!S111,Fund!$A$9:$A$3627,0),2)","v":11.5419},44199.24,3829.4596210329319,{"$f":"SUM($W$2:W111)","v":{"$error":"#N/A"}},-44199.24]
["2014-11-07",64.068899999999999,1000,-1000,15.60819680063182,4.6619216500503956E-2,null,null,null,null,null,null,{"$f":"Fund!W119","v":"00:00:00"},{"$f":"Fund!X119","v":0},{"$f":"-Fund!V119","v":0},{"$f":"Fund!V119","v":0},{"$f":"Fund!P119","v":""},null,"2009-04-06",{"$f":"INDEX(Fund!$A$9:$B$3627,MATCH('Account Statement'!S112,Fund!$A$9:$A$3627,0),1)","v":"2009-04-06"},{"$f":"INDEX(Fund!$A$9:$B$3627,MATCH('Account Statement'!S112,Fund!$A$9:$A$3627,0),2)","v":13.6746},44868.11,3281.1277843593234,{"$f":"SUM($W$2:W112)","v":{"$error":"#N/A"}},-44868.11]
["2014-12-08",66.654499999999999,1000,-1000,15.002737999684943,4.0356553647713622E-2,null,null,null,null,null,null,{"$f":"Fund!W120","v":"00:00:00"},{"$f":"Fund!X120","v":0},{"$f":"-Fund!V120","v":0},{"$f":"Fund!V120","v":0},{"$f":"Fund!P120","v":""},null,"2009-05-04",{"$f":"INDEX(Fund!$A$9:$B$3627,MATCH('Account Statement'!S113,Fund!$A$9:$A$3627,0),1)","v":"2009-05-04"},{"$f":"INDEX(Fund!$A$9:$B$3627,MATCH('Account Statement'!S113,Fund!$A$9:$A$3627,0),2)","v":15.3261},45676.61,2980.3152791643015,{"$f":"SUM($W$2:W113)","v":{"$error":"#N/A"}},-45676.61]
["2015-01-06",67.330500000000001,1000,-1000,14.852110113544382,1.014185088778705E-2,null,null,null,null,null,null,{"$f":"Fund!W121","v":"00:00:00"},{"$f":"Fund!X121","v":0},{"$f":"-Fund!V121","v":0},{"$f":"Fund!V121","v":0},{"$f":"Fund!P121","v":""},null,"2009-06-03",{"$f":"INDEX(Fund!$A$9:$B$3627,MATCH('Account Statement'!S114,Fund!$A$9:$A$3627,0),1)","v":"2009-06-03"},{"$f":"INDEX(Fund!$A$9:$B$3627,MATCH('Account Statement'!S114,Fund!$A$9:$A$3627,0),2)","v":19.564399999999999},46871.06,2395.7320439165014,{"$f":"SUM($W$2:W114)","v":{"$error":"#N/A"}},-46871.06]
["2015-02-06",69.5214,1000,-1000,14.384060159893213,3.2539488047764374E-2,null,null,null,null,null,null,{"$f":"Fund!W122","v":"00:00:00"},{"$f":"Fund!X122","v":0},{"$f":"-Fund!V122","v":0},{"$f":"Fund!V122","v":0},{"$f":"Fund!P122","v":""},null,"2009-07-03",{"$f":"INDEX(Fund!$A$9:$B$3627,MATCH('Account Statement'!S115,Fund!$A$9:$A$3627,0),1)","v":"2009-07-03"},{"$f":"INDEX(Fund!$A$9:$B$3627,MATCH('Account Statement'!S115,Fund!$A$9:$A$3627,0),2)","v":20.1111},48169.99,2395.1941962398873,{"$f":"SUM($W$2:W115)","v":{"$error":"#N/A"}},-48169.99]
["2015-03-09",73.506900000000002,1000,-1000,13.604165051172066,5.7327671767254423E-2,null,null,null,null,null,null,{"$f":"Fund!W123","v":"00:00:00"},{"$f":"Fund!X123","v":0},{"$f":"-Fund!V123","v":0},{"$f":"Fund!V123","v":0},{"$f":"Fund!P123","v":""},null,"2009-08-03",{"$f":"INDEX(Fund!$A$9:$B$3627,MATCH('Account Statement'!S116,Fund!$A$9:$A$3627,0),1)","v":"2009-08-03"},{"$f":"INDEX(Fund!$A$9:$B$3627,MATCH('Account Statement'!S116,Fund!$A$9:$A$3627,0),2)","v":21.831099999999999},49496.62,2267.2526808085713,{"$f":"SUM($W$2:W116)","v":{"$error":"#N/A"}},-49496.62]
["2015-04-06",75.091999999999999,1000,-1000,13.316997816012359,2.1563962022612803E-2,null,null,null,null,null,null,{"$f":"Fund!W124","v":"00:00:00"},{"$f":"Fund!X124","v":0},{"$f":"-Fund!V124","v":0},{"$f":"Fund!V124","v":0},{"$f":"Fund!P124","v":""},null,"2009-09-03",{"$f":"INDEX(Fund!$A$9:$B$3627,MATCH('Account Statement'!S117,Fund!$A$9:$A$3627,0),1)","v":"2009-09-03"},{"$f":"INDEX(Fund!$A$9:$B$3627,MATCH('Account Statement'!S117,Fund!$A$9:$A$3627,0),2)","v":22.223400000000002},50827.82,2287.13068207385,{"$f":"SUM($W$2:W117)","v":{"$error":"#N/A"}},-50827.82]
["2015-04-06",117.25,1000,-1000,8.5287846481876333,0.56141799392744907,null,null,null,null,null,null,{"$f":"Fund!W125","v":"00:00:00"},{"$f":"Fund!X125","v":0},{"$f":"-Fund!V125","v":0},{"$f":"Fund!V125","v":0},{"$f":"Fund!P125","v":""},null,"2009-10-05",{"$f":"INDEX(Fund!$A$9:$B$3627,MATCH('Account Statement'!S118,Fund!$A$9:$A$3627,0),1)","v":"2009-10-05"},{"$f":"INDEX(Fund!$A$9:$B$3627,MATCH('Account Statement'!S118,Fund!$A$9:$A$3627,0),2)","v":23.3187},52250.09,2240.6948071719262,{"$f":"SUM($W$2:W118)","v":{"$error":"#N/A"}},-52250.09]
["2015-04-09",76.545100000000005,-407286.15282497479,407286.15282497479,5320.8651216730368,-0.34716332622601276,null,null,null,null,null,null,{"$f":"Fund!W126","v":"00:00:00"},{"$f":"Fund!X126","v":0},{"$f":"-Fund!V126","v":0},{"$f":"Fund!V126","v":0},{"$f":"Fund!P126","v":""},null,"2009-11-03",{"$f":"INDEX(Fund!$A$9:$B$3627,MATCH('Account Statement'!S119,Fund!$A$9:$A$3627,0),1)","v":"2009-11-03"},{"$f":"INDEX(Fund!$A$9:$B$3627,MATCH('Account Statement'!S119,Fund!$A$9:$A$3627,0),2)","v":22.5624},53608.28,2376.0007800588587,{"$f":"SUM($W$2:W119)","v":{"$error":"#N/A"}},-53608.28]
[null,null,null,null,null,-1,null,null,null,null,null,null,{"$f":"Fund!W127","v":"00:00:00"},{"$f":"Fund!X127","v":0},{"$f":"-Fund!V127","v":0},{"$f":"Fund!V127","v":0},{"$f":"Fund!P127","v":""},null,"2009-12-03",{"$f":"INDEX(Fund!$A$9:$B$3627,MATCH('Account Statement'!S120,Fund!$A$9:$A$3627,0),1)","v":"2009-12-03"},{"$f":"INDEX(Fund!$A$9:$B$3627,MATCH('Account Statement'!S120,Fund!$A$9:$A$3627,0),2)","v":25.678000000000001},55040.42,2143.4854739465691,{"$f":"SUM($W$2:W120)","v":{"$error":"#N/A"}},-55040.42]
[null,null,null,null,null,{"$error":"#DIV/0!"},null,null,null,null,null,null,{"$f":"Fund!W128","v":"00:00:00"},{"$f":"Fund!X128","v":0},{"$f":"-Fund!V128","v":0},{"$f":"Fund!V128","v":0},{"$f":"Fund!P128","v":""},null,"2010-01-04",{"$f":"INDEX(Fund!$A$9:$B$3627,MATCH('Account Statement'!S121,Fund!$A$9:$A$3627,0),1)","v":"2010-01-04"},{"$f":"INDEX(Fund!$A$9:$B$3627,MATCH('Account Statement'!S121,Fund!$A$9:$A$3627,0),2)","v":26.722300000000001},56503.38,2114.4654464623177,{"$f":"SUM($W$2:W121)","v":{"$error":"#N/A"}},-56503.38]
[null,null,null,null,null,{"$error":"#DIV/0!"},null,null,null,null,null,null,{"$f":"Fund!W129","v":"2006-04-07"},{"$f":"Fund!X129","v":12.94},{"$f":"-Fund!V129","v":1000},{"$f":"Fund!V129","v":-1000},{"$f":"Fund!P129","v":77.279752704791349},null,"2010-02-03",{"$f":"INDEX(Fund!$A$9:$B$3627,MATCH('Account Statement'!S122,Fund!$A$9:$A$3627,0),1)","v":"2010-02-03"},{"$f":"INDEX(Fund!$A$9:$B$3627,MATCH('Account Statement'!S122,Fund!$A$9:$A$3627,0),2)","v":27.02},57769.36,2138.0222057735014,{"$f":"SUM($W$2:W122)","v":{"$error":"#N/A"}},-57769.36]
[null,null,null,null,null,{"$error":"#DIV/0!"},null,null,null,null,null,null,{"$f":"Fund!W130","v":"00:00:00"},{"$f":"Fund!X130","v":0},{"$f":"-Fund!V130","v":0},{"$f":"Fund!V130","v":0},{"$f":"Fund!P130","v":""},null,"2010-03-03",{"$f":"INDEX(Fund!$A$9:$B$3627,MATCH('Account Statement'!S123,Fund!$A$9:$A$3627,0),1)","v":"2010-03-03"},{"$f":"INDEX(Fund!$A$9:$B$3627,MATCH('Account Statement'!S123,Fund!$A$9:$A$3627,0),2)","v":27.014900000000001},59187.62,2190.9250080511124,{"$f":"SUM($W$2:W123)","v":{"$error":"#N/A"}},-59187.62]
[null,null,null,null,null,{"$error":"#DIV/0!"},null,null,null,null,null,null,{"$f":"Fund!W131","v":"00:00:00"},{"$f":"Fund!X131","v":0},{"$f":"-Fund!V131","v":0},{"$f":"Fund!V131","v":0},{"$f":"Fund!P131","v":""},null,"2010-04-05",{"$f":"INDEX(Fund!$A$9:$B$3627,MATCH('Account Statement'!S124,Fund!$A$9:$A$3627,0),1)","v":"2010-04-05"},{"$f":"INDEX(Fund!$A$9:$B$3627,MATCH('Account Statement'!S124,Fund!$A$9:$A$3627,0),2)","v":28.162199999999999},60668.4,2154.2493129087929,{"$f":"SUM($W$2:W124)","v":{"$error":"#N/A"}},-60668.4]
[null,null,null,null,null,{"$error":"#DIV/0!"},null,null,null,null,null,null,{"$f":"Fund!W132","v":"00:00:00"},{"$f":"Fund!X132","v":0},{"$f":"-Fund!V132","v":0},{"$f":"Fund!V132","v":0},{"$f":"Fund!P132","v":""},null,"2010-05-03",{"$f":"INDEX(Fund!$A$9:$B$3627,MATCH('Account Statement'!S125,Fund!$A$9:$A$3627,0),1)","v":"2010-05-03"},{"$f":"INDEX(Fund!$A$9:$B$3627,MATCH('Account Statement'!S125,Fund!$A$9:$A$3627,0),2)","v":29.2104},62125.87,2126.8407827349165,{"$f":"SUM($W$2:W125)","v":{"$error":"#N/A"}},-62125.87]
[null,null,null,null,null,{"$error":"#DIV/0!"},null,null,null,null,null,null,{"$f":"Fund!W133","v":"00:00:00"},{"$f":"Fund!X133","v":0},{"$f":"-Fund!V133","v":0},{"$f":"Fund!V133","v":0},{"$f":"Fund!P133","v":""},null,"2010-06-03",{"$f":"INDEX(Fund!$A$9:$B$3627,MATCH('Account Statement'!S126,Fund!$A$9:$A$3627,0),1)","v":"2010-06-03"},{"$f":"INDEX(Fund!$A$9:$B$3627,MATCH('Account Statement'!S126,Fund!$A$9:$A$3627,0),2)","v":28.134499999999999},63609.77,2260.9170235831452,{"$f":"SUM($W$2:W126)","v":{"$error":"#N/A"}},-63609.77]
[null,null,null,null,null,{"$error":"#DIV/0!"},null,null,null,null,null,null,{"$f":"Fund!W134","v":"00:00:00"},{"$f":"Fund!X134","v":0},{"$f":"-Fund!V134","v":0},{"$f":"Fund!V134","v":0},{"$f":"Fund!P134","v":""},null,"2010-07-05",{"$f":"INDEX(Fund!$A$9:$B$3627,MATCH('Account Statement'!S127,Fund!$A$9:$A$3627,0),1)","v":"2010-07-05"},{"$f":"INDEX(Fund!$A$9:$B$3627,MATCH('Account Statement'!S127,Fund!$A$9:$A$3627,0),2)","v":29.849399999999999},65203.18,2184.4050466676049,{"$f":"SUM($W$2:W127)","v":{"$error":"#N/A"}},-65203.18]
[null,null,null,null,null,{"$error":"#DIV/0!"},null,null,null,null,null,null,{"$f":"Fund!W135","v":"00:00:00"},{"$f":"Fund!X135","v":0},{"$f":"-Fund!V135","v":0},{"$f":"Fund!V135","v":0},{"$f":"Fund!P135","v":""},null,"2010-08-03",{"$f":"INDEX(Fund!$A$9:$B$3627,MATCH('Account Statement'!S128,Fund!$A$9:$A$3627,0),1)","v":"2010-08-03"},{"$f":"INDEX(Fund!$A$9:$B$3627,MATCH('Account Statement'!S128,Fund!$A$9:$A$3627,0),2)","v":32.591700000000003},66854.679999999993,2051.2793134448339,{"$f":"SUM($W$2:W128)","v":{"$error":"#N/A"}},-66854.679999999993]
[null,null,null,null,null,{"$error":"#DIV/0!"},null,null,null,null,null,null,{"$f":"Fund!W136","v":"00:00:00"},{"$f":"Fund!X136","v":0},{"$f":"-Fund!V136","v":0},{"$f":"Fund!V136","v":0},{"$f":"Fund!P136","v":""},null,"2010-09-03",{"$f":"INDEX(Fund!$A$9:$B$3627,MATCH('Account Statement'!S129,Fund!$A$9:$A$3627,0),1)","v":"2010-09-03"},{"$f":"INDEX(Fund!$A$9:$B$3627,MATCH('Account Statement'!S129,Fund!$A$9:$A$3627,0),2)","v":34.273200000000003},68526.14,1999.4088675699961,{"$f":"SUM($W$2:W129)","v":{"$error":"#N/A"}},-68526.14]
[null,null,null,null,null,{"$error":"#DIV/0!"},null,null,null,null,null,null,{"$f":"Fund!W137","v":"00:00:00"},{"$f":"Fund!X137","v":0},{"$f":"-Fund!V137","v":0},{"$f":"Fund!V137","v":0},{"$f":"Fund!P137","v":""},null,"2010-10-04",{"$f":"INDEX(Fund!$A$9:$B$3627,MATCH('Account Statement'!S130,Fund!$A$9:$A$3627,0),1)","v":"2010-10-04"},{"$f":"INDEX(Fund!$A$9:$B$3627,MATCH('Account Statement'!S130,Fund!$A$9:$A$3627,0),2)","v":35.3431},70437.42,1992.9610022889899,{"$f":"SUM($W$2:W130)","v":{"$error":"#N/A"}},-70437.42]
[null,null,null,null,null,{"$error":"#DIV/0!"},null,null,null,null,null,null,{"$f":"Fund!W138","v":"00:00:00"},{"$f":"Fund!X138","v":0},{"$f":"-Fund!V138","v":0},{"$f":"Fund!V138","v":0},{"$f":"Fund!P138","v":""},null,"2010-11-03",{"$f":"INDEX(Fund!$A$9:$B$3627,MATCH('Account Statement'!S131,Fund!$A$9:$A$3627,0),1)","v":"2010-11-03"},{"$f":"INDEX(Fund!$A$9:$B$3627,MATCH('Account Statement'!S131,Fund!$A$9:$A$3627,0),2)","v":35.8932},72347.5,{"$f":"V131/U131","v":2015.6324874906668},{"$f":"SUM($W$2:W131)","v":{"$error":"#N/A"}},{"$f":"-V131","v":-72347.5}]
[null,null,null,null,null,{"$f":"(B132-B131)/B131","v":{"$error":"#DIV/0!"}},null,null,null,null,null,null,{"$f":"Fund!W139","v":"00:00:00"},{"$f":"Fund!X139","v":0},{"$f":"-Fund!V139","v":0},{"$f":"Fund!V139","v":0},{"$f":"Fund!P139","v":""},null,"2010-12-03",{"$f":"INDEX(Fund!$A$9:$B$3627,MATCH('Account Statement'!S132,Fund!$A$9:$A$3627,0),1)","v":"2010-12-03"},{"$f":"INDEX(Fund!$A$9:$B$3627,MATCH('Account Statement'!S132,Fund!$A$9:$A$3627,0),2)","v":34.718400000000003},74160.899999999994,2136.0690584819572,{"$f":"SUM($W$2:W132)","v":{"$error":"#N/A"}},-74160.899999999994]
[null,null,null,null,null,{"$error":"#DIV/0!"},null,null,null,null,null,null,{"$f":"Fund!W140","v":"00:00:00"},{"$f":"Fund!X140","v":0},{"$f":"-Fund!V140","v":0},{"$f":"Fund!V140","v":0},{"$f":"Fund!P140","v":""},null,"2011-01-03",{"$f":"INDEX(Fund!$A$9:$B$3627,MATCH('Account Statement'!S133,Fund!$A$9:$A$3627,0),1)","v":"2011-01-03"},{"$f":"INDEX(Fund!$A$9:$B$3627,MATCH('Account Statement'!S133,Fund!$A$9:$A$3627,0),2)","v":34.939599999999999},75941.45,2173.5065656160918,{"$f":"SUM($W$2:W133)","v":{"$error":"#N/A"}},-75941.45]
[null,null,null,null,null,{"$error":"#DIV/0!"},null,null,null,null,null,null,{"$f":"Fund!W141","v":"00:00:00"},{"$f":"Fund!X141","v":0},{"$f":"-Fund!V141","v":0},{"$f":"Fund!V141","v":0},{"$f":"Fund!P141","v":""},null,"2011-02-03",{"$f":"INDEX(Fund!$A$9:$B$3627,MATCH('Account Statement'!S134,Fund!$A$9:$A$3627,0),1)","v":"2011-02-03"},{"$f":"INDEX(Fund!$A$9:$B$3627,MATCH('Account Statement'!S134,Fund!$A$9:$A$3627,0),2)","v":30.481400000000001},77402.48,2539.3348074563501,{"$f":"SUM($W$2:W134)","v":{"$error":"#N/A"}},-77402.48]
[null,null,null,null,null,{"$error":"#DIV/0!"},null,null,null,null,null,null,{"$f":"Fund!W142","v":"00:00:00"},{"$f":"Fund!X142","v":0},{"$f":"-Fund!V142","v":0},{"$f":"Fund!V142","v":0},{"$f":"Fund!P142","v":""},null,"2011-03-03",{"$f":"INDEX(Fund!$A$9:$B$3627,MATCH('Account Statement'!S135,Fund!$A$9:$A$3627,0),1)","v":"2011-03-03"},{"$f":"INDEX(Fund!$A$9:$B$3627,MATCH('Account Statement'!S135,Fund!$A$9:$A$3627,0),2)","v":30.185500000000001},78911.09,2614.2051647314106,{"$f":"SUM($W$2:W135)","v":{"$error":"#N/A"}},-78911.09]
[null,null,null,null,null,{"$error":"#DIV/0!"},null,null,null,null,null,null,{"$f":"Fund!W143","v":"00:00:00"},{"$f":"Fund!X143","v":0},{"$f":"-Fund!V143","v":0},{"$f":"Fund!V143","v":0},{"$f":"Fund!P143","v":""},null,"2011-04-04",{"$f":"INDEX(Fund!$A$9:$B$3627,MATCH('Account Statement'!S136,Fund!$A$9:$A$3627,0),1)","v":"2011-04-04"},{"$f":"INDEX(Fund!$A$9:$B$3627,MATCH('Account Statement'!S136,Fund!$A$9:$A$3627,0),2)","v":32.052900000000001},80485.67,2511.026147400079,{"$f":"SUM($W$2:W136)","v":{"$error":"#N/A"}},-80485.67]
[null,null,null,null,null,{"$error":"#DIV/0!"},null,null,null,null,null,null,{"$f":"Fund!W144","v":"00:00:00"},{"$f":"Fund!X144","v":0},{"$f":"-Fund!V144","v":0},{"$f":"Fund!V144","v":0},{"$f":"Fund!P144","v":""},null,"2011-05-03",{"$f":"INDEX(Fund!$A$9:$B$3627,MATCH('Account Statement'!S137,Fund!$A$9:$A$3627,0),1)","v":"2011-05-03"},{"$f":"INDEX(Fund!$A$9:$B$3627,MATCH('Account Statement'!S137,Fund!$A$9:$A$3627,0),2)","v":31.835999999999999},82002.67,2575.7843322025383,{"$f":"SUM($W$2:W137)","v":{"$error":"#N/A"}},-82002.67]
[null,null,null,null,null,{"$error":"#DIV/0!"},null,null,null,null,null,null,{"$f":"Fund!W145","v":"00:00:00"},{"$f":"Fund!X145","v":0},{"$f":"-Fund!V145","v":0},{"$f":"Fund!V145","v":0},{"$f":"Fund!P145","v":""},null,"2011-06-03",{"$f":"INDEX(Fund!$A$9:$B$3627,MATCH('Account Statement'!S138,Fund!$A$9:$A$3627,0),1)","v":"2011-06-03"},{"$f":"INDEX(Fund!$A$9:$B$3627,MATCH('Account Statement'!S138,Fund!$A$9:$A$3627,0),2)","v":31.880600000000001},83580.14,2621.6614492826357,{"$f":"SUM($W$2:W138)","v":{"$error":"#N/A"}},-83580.14]
[null,null,null,null,null,{"$error":"#DIV/0!"},null,null,null,null,null,null,{"$f":"Fund!W146","v":"00:00:00"},{"$f":"Fund!X146","v":0},{"$f":"-Fund!V146","v":0},{"$f":"Fund!V146","v":0},{"$f":"Fund!P146","v":""},null,"2011-07-04",{"$f":"INDEX(Fund!$A$9:$B$3627,MATCH('Account Statement'!S139,Fund!$A$9:$A$3627,0),1)","v":{"$error":"#N/A"}},{"$f":"INDEX(Fund!$A$9:$B$3627,MATCH('Account Statement'!S139,Fund!$A$9:$A$3627,0),2)","v":{"$error":"#N/A"}},85261.49,{"$error":"#N/A"},{"$f":"SUM($W$2:W139)","v":{"$error":"#N/A"}},-85261.49]
[null,null,null,null,null,{"$error":"#DIV/0!"},null,null,null,null,null,null,{"$f":"Fund!W147","v":"2006-05-08"},{"$f":"Fund!X147","v":13.55},{"$f":"-Fund!V147","v":1000},{"$f":"Fund!V147","v":-1000},{"$f":"Fund!P147","v":73.800738007380076},null,"2011-08-03",{"$f":"INDEX(Fund!$A$9:$B$3627,MATCH('Account Statement'!S140,Fund!$A$9:$A$3627,0),1)","v":"2011-08-03"},{"$f":"INDEX(Fund!$A$9:$B$3627,MATCH('Account Statement'!S140,Fund!$A$9:$A$3627,0),2)","v":32.781999999999996},86880.87,2650.261423952169,{"$f":"SUM($W$2:W140)","v":{"$error":"#N/A"}},-86880.87]
[null,null,null,null,null,{"$error":"#DIV/0!"},null,null,null,null,null,null,{"$f":"Fund!W148","v":"00:00:00"},{"$f":"Fund!X148","v":0},{"$f":"-Fund!V148","v":0},{"$f":"Fund!V148","v":0},{"$f":"Fund!P148","v":""},null,"2011-09-05",{"$f":"INDEX(Fund!$A$9:$B$3627,MATCH('Account Statement'!S141,Fund!$A$9:$A$3627,0),1)","v":"2011-09-05"},{"$f":"INDEX(Fund!$A$9:$B$3627,MATCH('Account Statement'!S141,Fund!$A$9:$A$3627,0),2)","v":32.567900000000002},88359.65,2713.0901900337444,{"$f":"SUM($W$2:W141)","v":{"$error":"#N/A"}},-88359.65]
[null,null,null,null,null,{"$error":"#DIV/0!"},null,null,null,null,null,null,{"$f":"Fund!W149","v":"00:00:00"},{"$f":"Fund!X149","v":0},{"$f":"-Fund!V149","v":0},{"$f":"Fund!V149","v":0},{"$f":"Fund!P149","v":""},null,"2011-10-03",{"$f":"INDEX(Fund!$A$9:$B$3627,MATCH('Account Statement'!S142,Fund!$A$9:$A$3627,0),1)","v":"2011-10-03"},{"$f":"INDEX(Fund!$A$9:$B$3627,MATCH('Account Statement'!S142,Fund!$A$9:$A$3627,0),2)","v":31.724299999999999},89659.39,2826.2054639503472,{"$f":"SUM($W$2:W142)","v":{"$error":"#N/A"}},-89659.39]
[null,null,null,null,null,{"$error":"#DIV/0!"},null,null,null,null,null,null,{"$f":"Fund!W150","v":"00:00:00"},{"$f":"Fund!X150","v":0},{"$f":"-Fund!V150","v":0},{"$f":"Fund!V150","v":0},{"$f":"Fund!P150","v":""},null,"2011-11-03",{"$f":"INDEX(Fund!$A$9:$B$3627,MATCH('Account Statement'!S143,Fund!$A$9:$A$3627,0),1)","v":"2011-11-03"},{"$f":"INDEX(Fund!$A$9:$B$3627,MATCH('Account Statement'!S143,Fund!$A$9:$A$3627,0),2)","v":33.065300000000001},91022.38,2752.8067188260807,{"$f":"SUM($W$2:W143)","v":{"$error":"#N/A"}},-91022.38]
[null,null,null,null,null,{"$error":"#DIV/0!"},null,null,null,null,null,null,{"$f":"Fund!W151","v":"00:00:00"},{"$f":"Fund!X151","v":0},{"$f":"-Fund!V151","v":0},{"$f":"Fund!V151","v":0},{"$f":"Fund!P151","v":""},null,"2011-12-05",{"$f":"INDEX(Fund!$A$9:$B$3627,MATCH('Account Statement'!S144,Fund!$A$9:$A$3627,0),1)","v":"2011-12-05"},{"$f":"INDEX(Fund!$A$9:$B$3627,MATCH('Account Statement'!S144,Fund!$A$9:$A$3627,0),2)","v":30.8811},92301.42,2988.9291508398342,{"$f":"SUM($W$2:W144)","v":{"$error":"#N/A"}},-92301.42]
[null,null,null,null,null,{"$error":"#DIV/0!"},null,null,null,null,null,null,{"$f":"Fund!W152","v":"00:00:00"},{"$f":"Fund!X152","v":0},{"$f":"-Fund!V152","v":0},{"$f":"Fund!V152","v":0},{"$f":"Fund!P152","v":""},null,"2012-01-03",{"$f":"INDEX(Fund!$A$9:$B$3627,MATCH('Account Statement'!S145,Fund!$A$9:$A$3627,0),1)","v":"2012-01-03"},{"$f":"INDEX(Fund!$A$9:$B$3627,MATCH('Account Statement'!S145,Fund!$A$9:$A$3627,0),2)","v":28.881699999999999},93346.42,3232.0265081349089,{"$f":"SUM($W$2:W145)","v":{"$error":"#N/A"}},-93346.42]
[null,null,null,null,null,{"$error":"#DIV/0!"},null,null,null,null,null,null,{"$f":"Fund!W153","v":"00:00:00"},{"$f":"Fund!X153","v":0},{"$f":"-Fund!V153","v":0},{"$f":"Fund!V153","v":0},{"$f":"Fund!P153","v":""},null,"2012-02-03",{"$f":"INDEX(Fund!$A$9:$B$3627,MATCH('Account Statement'!S146,Fund!$A$9:$A$3627,0),1)","v":"2012-02-03"},{"$f":"INDEX(Fund!$A$9:$B$3627,MATCH('Account Statement'!S146,Fund!$A$9:$A$3627,0),2)","v":32.086199999999998},94669.99,2950.489306929459,{"$f":"SUM($W$2:W146)","v":{"$error":"#N/A"}},-94669.99]
[null,null,null,null,null,{"$error":"#DIV/0!"},null,null,null,null,null,null,{"$f":"Fund!W154","v":"00:00:00"},{"$f":"Fund!X154","v":0},{"$f":"-Fund!V154","v":0},{"$f":"Fund!V154","v":0},{"$f":"Fund!P154","v":""},null,"2012-03-05",{"$f":"INDEX(Fund!$A$9:$B$3627,MATCH('Account Statement'!S147,Fund!$A$9:$A$3627,0),1)","v":"2012-03-05"},{"$f":"INDEX(Fund!$A$9:$B$3627,MATCH('Account Statement'!S147,Fund!$A$9:$A$3627,0),2)","v":32.519300000000001},95986.26,2951.6705464139754,{"$f":"SUM($W$2:W147)","v":{"$error":"#N/A"}},-95986.26]
[null,null,null,null,null,{"$error":"#DIV/0!"},null,null,null,null,null,null,{"$f":"Fund!W155","v":"00:00:00"},{"$f":"Fund!X155","v":0},{"$f":"-Fund!V155","v":0},{"$f":"Fund!V155","v":0},{"$f":"Fund!P155","v":""},null,"2012-04-03",{"$f":"INDEX(Fund!$A$9:$B$3627,MATCH('Account Statement'!S148,Fund!$A$9:$A$3627,0),1)","v":"2012-04-03"},{"$f":"INDEX(Fund!$A$9:$B$3627,MATCH('Account Statement'!S148,Fund!$A$9:$A$3627,0),2)","v":33.564500000000002},97348.03,2900.3271313441282,{"$f":"SUM($W$2:W148)","v":{"$error":"#N/A"}},-97348.03]
[null,null,null,null,null,{"$error":"#DIV/0!"},null,null,null,null,null,null,{"$f":"Fund!W156","v":"00:00:00"},{"$f":"Fund!X156","v":0},{"$f":"-Fund!V156","v":0},{"$f":"Fund!V156","v":0},{"$f":"Fund!P156","v":""},null,"2012-05-03",{"$f":"INDEX(Fund!$A$9:$B$3627,MATCH('Account Statement'!S149,Fund!$A$9:$A$3627,0),1)","v":"2012-05-03"},{"$f":"INDEX(Fund!$A$9:$B$3627,MATCH('Account Statement'!S149,Fund!$A$9:$A$3627,0),2)","v":33.139400000000002},98621,2975.9440424389095,{"$f":"SUM($W$2:W149)","v":{"$error":"#N/A"}},-98621]
[null,null,null,null,null,{"$error":"#DIV/0!"},null,null,null,null,null,null,{"$f":"Fund!W157","v":"00:00:00"},{"$f":"Fund!X157","v":0},{"$f":"-Fund!V157","v":0},{"$f":"Fund!V157","v":0},{"$f":"Fund!P157","v":""},null,"2012-06-04",{"$f":"INDEX(Fund!$A$9:$B$3627,MATCH('Account Statement'!S150,Fund!$A$9:$A$3627,0),1)","v":"2012-06-04"},{"$f":"INDEX(Fund!$A$9:$B$3627,MATCH('Account Statement'!S150,Fund!$A$9:$A$3627,0),2)","v":31.710699999999999},99792.67,3146.971526960931,{"$f":"SUM($W$2:W150)","v":{"$error":"#N/A"}},-99792.67]
[null,null,null,null,null,{"$error":"#DIV/0!"},null,null,null,null,null,null,{"$f":"Fund!W158","v":"00:00:00"},{"$f":"Fund!X158","v":0},{"$f":"-Fund!V158","v":0},{"$f":"Fund!V158","v":0},{"$f":"Fund!P158","v":""},null,"2012-07-03",{"$f":"INDEX(Fund!$A$9:$B$3627,MATCH('Account Statement'!S151,Fund!$A$9:$A$3627,0),1)","v":{"$error":"#N/A"}},{"$f":"INDEX(Fund!$A$9:$B$3627,MATCH('Account Statement'!S151,Fund!$A$9:$A$3627,0),2)","v":{"$error":"#N/A"}},101191.33,{"$error":"#N/A"},{"$f":"SUM($W$2:W151)","v":{"$error":"#N/A"}},-101191.33]
[null,null,null,null,null,{"$error":"#DIV/0!"},null,null,null,null,null,null,{"$f":"Fund!W159","v":"00:00:00"},{"$f":"Fund!X159","v":0},{"$f":"-Fund!V159","v":0},{"$f":"Fund!V159","v":0},{"$f":"Fund!P159","v":""},null,"2012-08-03",{"$f":"INDEX(Fund!$A$9:$B$3627,MATCH('Account Statement'!S152,Fund!$A$9:$A$3627,0),1)","v":"2012-08-03"},{"$f":"INDEX(Fund!$A$9:$B$3627,MATCH('Account Statement'!S152,Fund!$A$9:$A$3627,0),2)","v":33.4},102586.13,3071.4410179640722,{"$f":"SUM($W$2:W152)","v":{"$error":"#N/A"}},-102586.13]
[null,null,null,null,null,{"$error":"#DIV/0!"},null,null,null,null,null,null,{"$f":"Fund!W160","v":"00:00:00"},{"$f":"Fund!X160","v":0},{"$f":"-Fund!V160","v":0},{"$f":"Fund!V160","v":0},{"$f":"Fund!P160","v":""},null,"2012-09-03",{"$f":"INDEX(Fund!$A$9:$B$3627,MATCH('Account Statement'!S153,Fund!$A$9:$A$3627,0),1)","v":"2012-09-03"},{"$f":"INDEX(Fund!$A$9:$B$3627,MATCH('Account Statement'!S153,Fund!$A$9:$A$3627,0),2)","v":33.691200000000002},103962.01,3085.7318825093789,{"$f":"SUM($W$2:W153)","v":{"$error":"#N/A"}},-103962.01]
[null,null,null,null,null,{"$error":"#DIV/0!"},null,null,null,null,null,null,{"$f":"Fund!W161","v":"00:00:00"},{"$f":"Fund!X161","v":0},{"$f":"-Fund!V161","v":0},{"$f":"Fund!V161","v":0},{"$f":"Fund!P161","v":""},null,"2012-10-03",{"$f":"INDEX(Fund!$A$9:$B$3627,MATCH('Account Statement'!S154,Fund!$A$9:$A$3627,0),1)","v":"2012-10-03"},{"$f":"INDEX(Fund!$A$9:$B$3627,MATCH('Account Statement'!S154,Fund!$A$9:$A$3627,0),2)","v":36.723500000000001},105538.32,2873.8633300202869,{"$f":"SUM($W$2:W154)","v":{"$error":"#N/A"}},-105538.32]
[null,null,null,null,null,{"$error":"#DIV/0!"},null,null,null,null,null,null,{"$f":"Fund!W162","v":"00:00:00"},{"$f":"Fund!X162","v":0},{"$f":"-Fund!V162","v":0},{"$f":"Fund!V162","v":0},{"$f":"Fund!P162","v":""},null,"2012-11-05",{"$f":"INDEX(Fund!$A$9:$B$3627,MATCH('Account Statement'!S155,Fund!$A$9:$A$3627,0),1)","v":"2012-11-05"},{"$f":"INDEX(Fund!$A$9:$B$3627,MATCH('Account Statement'!S155,Fund!$A$9:$A$3627,0),2)","v":36.573},107187.89,2930.7929346785882,{"$f":"SUM($W$2:W155)","v":{"$error":"#N/A"}},-107187.89]
[null,null,null,null,null,{"$error":"#DIV/0!"},null,null,null,null,null,null,{"$f":"Fund!W163","v":"00:00:00"},{"$f":"Fund!X163","v":0},{"$f":"-Fund!V163","v":0},{"$f":"Fund!V163","v":0},{"$f":"Fund!P163","v":""},null,"2012-12-03",{"$f":"INDEX(Fund!$A$9:$B$3627,MATCH('Account Statement'!S156,Fund!$A$9:$A$3627,0),1)","v":"2012-12-03"},{"$f":"INDEX(Fund!$A$9:$B$3627,MATCH('Account Statement'!S156,Fund!$A$9:$A$3627,0),2)","v":39.398899999999998},108865.64,2763.1644538299292,{"$f":"SUM($W$2:W156)","v":{"$error":"#N/A"}},-108865.64]
[null,null,null,null,null,{"$error":"#DIV/0!"},null,null,null,null,null,null,{"$f":"Fund!W164","v":"00:00:00"},{"$f":"Fund!X164","v":0},{"$f":"-Fund!V164","v":0},{"$f":"Fund!V164","v":0},{"$f":"Fund!P164","v":""},null,"2013-01-03",{"$f":"INDEX(Fund!$A$9:$B$3627,MATCH('Account Statement'!S157,Fund!$A$9:$A$3627,0),1)","v":{"$error":"#N/A"}},{"$f":"INDEX(Fund!$A$9:$B$3627,MATCH('Account Statement'!S157,Fund!$A$9:$A$3627,0),2)","v":{"$error":"#N/A"}},110538.42,{"$error":"#N/A"},{"$f":"SUM($W$2:W157)","v":{"$error":"#N/A"}},-110538.42]
[null,null,null,null,null,{"$error":"#DIV/0!"},null,null,null,null,null,null,{"$f":"Fund!W165","v":"00:00:00"},{"$f":"Fund!X165","v":0},{"$f":"-Fund!V165","v":0},{"$f":"Fund!V165","v":0},{"$f":"Fund!P165","v":""},null,"2013-02-04",{"$f":"INDEX(Fund!$A$9:$B$3627,MATCH('Account Statement'!S158,Fund!$A$9:$A$3627,0),1)","v":"2013-02-04"},{"$f":"INDEX(Fund!$A$9:$B$3627,MATCH('Account Statement'!S158,Fund!$A$9:$A$3627,0),2)","v":39.074800000000003},112175.51,2870.7891019275849,{"$f":"SUM($W$2:W158)","v":{"$error":"#N/A"}},-112175.51]
[null,null,null,null,null,{"$error":"#DIV/0!"},null,null,null,null,null,null,{"$f":"Fund!W166","v":"2006-06-06"},{"$f":"Fund!X166","v":10.33},{"$f":"-Fund!V166","v":1000},{"$f":"Fund!V166","v":-1000},{"$f":"Fund!P166","v":96.805421103581793},null,"2013-03-04",{"$f":"INDEX(Fund!$A$9:$B$3627,MATCH('Account Statement'!S159,Fund!$A$9:$A$3627,0),1)","v":{"$error":"#N/A"}},{"$f":"INDEX(Fund!$A$9:$B$3627,MATCH('Account Statement'!S159,Fund!$A$9:$A$3627,0),2)","v":{"$error":"#N/A"}},113670.06,{"$error":"#N/A"},{"$f":"SUM($W$2:W159)","v":{"$error":"#N/A"}},-113670.06]
[null,null,null,null,null,{"$error":"#DIV/0!"},null,null,null,null,null,null,{"$f":"Fund!W167","v":"00:00:00"},{"$f":"Fund!X167","v":0},{"$f":"-Fund!V167","v":0},{"$f":"Fund!V167","v":0},{"$f":"Fund!P167","v":""},null,"2013-04-03",{"$f":"INDEX(Fund!$A$9:$B$3627,MATCH('Account Statement'!S160,Fund!$A$9:$A$3627,0),1)","v":"2013-04-03"},{"$f":"INDEX(Fund!$A$9:$B$3627,MATCH('Account Statement'!S160,Fund!$A$9:$A$3627,0),2)","v":36.896299999999997},115186.9,3121.9092429322181,{"$f":"SUM($W$2:W160)","v":{"$error":"#N/A"}},-115186.9]
[null,null,null,null,null,{"$error":"#DIV/0!"},null,null,null,null,null,null,{"$f":"Fund!W168","v":"00:00:00"},{"$f":"Fund!X168","v":0},{"$f":"-Fund!V168","v":0},{"$f":"Fund!V168","v":0},{"$f":"Fund!P168","v":""},null,"2013-05-03",{"$f":"INDEX(Fund!$A$9:$B$3627,MATCH('Account Statement'!S161,Fund!$A$9:$A$3627,0),1)","v":"2013-05-03"},{"$f":"INDEX(Fund!$A$9:$B$3627,MATCH('Account Statement'!S161,Fund!$A$9:$A$3627,0),2)","v":37.832299999999996},116855.96,3088.7881519230928,{"$f":"SUM($W$2:W161)","v":{"$error":"#N/A"}},-116855.96]
[null,null,null,null,null,{"$error":"#DIV/0!"},null,null,null,null,null,null,{"$f":"Fund!W169","v":"00:00:00"},{"$f":"Fund!X169","v":0},{"$f":"-Fund!V169","v":0},{"$f":"Fund!V169","v":0},{"$f":"Fund!P169","v":""},null,"2013-06-03",{"$f":"INDEX(Fund!$A$9:$B$3627,MATCH('Account Statement'!S162,Fund!$A$9:$A$3627,0),1)","v":"2013-06-03"},{"$f":"INDEX(Fund!$A$9:$B$3627,MATCH('Account Statement'!S162,Fund!$A$9:$A$3627,0),2)","v":38.556600000000003},118423.56,3071.4212352748941,{"$f":"SUM($W$2:W162)","v":{"$error":"#N/A"}},-118423.56]
[null,null,null,null,null,{"$error":"#DIV/0!"},null,null,null,null,null,null,{"$f":"Fund!W170","v":"00:00:00"},{"$f":"Fund!X170","v":0},{"$f":"-Fund!V170","v":0},{"$f":"Fund!V170","v":0},{"$f":"Fund!P170","v":""},null,"2013-07-03",{"$f":"INDEX(Fund!$A$9:$B$3627,MATCH('Account Statement'!S163,Fund!$A$9:$A$3627,0),1)","v":"2013-07-03"},{"$f":"INDEX(Fund!$A$9:$B$3627,MATCH('Account Statement'!S163,Fund!$A$9:$A$3627,0),2)","v":36.891800000000003},119959.47,3251.6567367274024,{"$f":"SUM($W$2:W163)","v":{"$error":"#N/A"}},-119959.47]
[null,null,null,null,null,{"$error":"#DIV/0!"},null,null,null,null,null,null,{"$f":"Fund!W171","v":"00:00:00"},{"$f":"Fund!X171","v":0},{"$f":"-Fund!V171","v":0},{"$f":"Fund!V171","v":0},{"$f":"Fund!P171","v":""},null,"2013-08-05",{"$f":"INDEX(Fund!$A$9:$B$3627,MATCH('Account Statement'!S164,Fund!$A$9:$A$3627,0),1)","v":"2013-08-05"},{"$f":"INDEX(Fund!$A$9:$B$3627,MATCH('Account Statement'!S164,Fund!$A$9:$A$3627,0),2)","v":35.108199999999997},121346.13,3456.3472351188616,{"$f":"SUM($W$2:W164)","v":{"$error":"#N/A"}},-121346.13]
[null,null,null,null,null,{"$error":"#DIV/0!"},null,null,null,null,null,null,{"$f":"Fund!W172","v":"00:00:00"},{"$f":"Fund!X172","v":0},{"$f":"-Fund!V172","v":0},{"$f":"Fund!V172","v":0},{"$f":"Fund!P172","v":""},null,"2013-09-03",{"$f":"INDEX(Fund!$A$9:$B$3627,MATCH('Account Statement'!S165,Fund!$A$9:$A$3627,0),1)","v":"2013-09-03"},{"$f":"INDEX(Fund!$A$9:$B$3627,MATCH('Account Statement'!S165,Fund!$A$9:$A$3627,0),2)","v":33.879399999999997},122576.1,3618.0127156915419,{"$f":"SUM($W$2:W165)","v":{"$error":"#N/A"}},-122576.1]
[null,null,null,null,null,{"$error":"#DIV/0!"},null,null,null,null,null,null,{"$f":"Fund!W173","v":"00:00:00"},{"$f":"Fund!X173","v":0},{"$f":"-Fund!V173","v":0},{"$f":"Fund!V173","v":0},{"$f":"Fund!P173","v":""},null,"2013-10-03",{"$f":"INDEX(Fund!$A$9:$B$3627,MATCH('Account Statement'!S166,Fund!$A$9:$A$3627,0),1)","v":"2013-10-03"},{"$f":"INDEX(Fund!$A$9:$B$3627,MATCH('Account Statement'!S166,Fund!$A$9:$A$3627,0),2)","v":36.478099999999998},123939.6,3397.6440658915903,{"$f":"SUM($W$2:W166)","v":{"$error":"#N/A"}},-123939.6]
[null,null,null,null,null,{"$error":"#DIV/0!"},null,null,null,null,null,null,{"$f":"Fund!W174","v":"00:00:00"},{"$f":"Fund!X174","v":0},{"$f":"-Fund!V174","v":0},{"$f":"Fund!V174","v":0},{"$f":"Fund!P174","v":""},null,"2013-11-05",{"$f":"INDEX(Fund!$A$9:$B$3627,MATCH('Account Statement'!S167,Fund!$A$9:$A$3627,0),1)","v":"2013-11-05"},{"$f":"INDEX(Fund!$A$9:$B$3627,MATCH('Account Statement'!S167,Fund!$A$9:$A$3627,0),2)","v":39.615600000000001},125500.68,3167.9611062308786,{"$f":"SUM($W$2:W167)","v":{"$error":"#N/A"}},-125500.68]
[null,null,null,null,null,{"$error":"#DIV/0!"},null,null,null,null,null,null,{"$f":"Fund!W175","v":"00:00:00"},{"$f":"Fund!X175","v":0},{"$f":"-Fund!V175","v":0},{"$f":"Fund!V175","v":0},{"$f":"Fund!P175","v":""},null,"2013-12-03",{"$f":"INDEX(Fund!$A$9:$B$3627,MATCH('Account Statement'!S168,Fund!$A$9:$A$3627,0),1)","v":"2013-12-03"},{"$f":"INDEX(Fund!$A$9:$B$3627,MATCH('Account Statement'!S168,Fund!$A$9:$A$3627,0),2)","v":40.745699999999999},127122.71,3119.9049224826181,{"$f":"SUM($W$2:W168)","v":{"$error":"#N/A"}},-127122.71]
[null,null,null,null,null,{"$error":"#DIV/0!"},null,null,null,null,null,null,{"$f":"Fund!W176","v":"00:00:00"},{"$f":"Fund!X176","v":0},{"$f":"-Fund!V176","v":0},{"$f":"Fund!V176","v":0},{"$f":"Fund!P176","v":""},null,"2014-01-03",{"$f":"INDEX(Fund!$A$9:$B$3627,MATCH('Account Statement'!S169,Fund!$A$9:$A$3627,0),1)","v":"2014-01-03"},{"$f":"INDEX(Fund!$A$9:$B$3627,MATCH('Account Statement'!S169,Fund!$A$9:$A$3627,0),2)","v":41.952199999999998},128712.71,3068.0801006860193,{"$f":"SUM($W$2:W169)","v":{"$error":"#N/A"}},-128712.71]
[null,null,null,null,null,{"$error":"#DIV/0!"},null,null,null,null,null,null,{"$f":"Fund!W177","v":"00:00:00"},{"$f":"Fund!X177","v":0},{"$f":"-Fund!V177","v":0},{"$f":"Fund!V177","v":0},{"$f":"Fund!P177","v":""},null,"2014-02-03",{"$f":"INDEX(Fund!$A$9:$B$3627,MATCH('Account Statement'!S170,Fund!$A$9:$A$3627,0),1)","v":"2014-02-03"},{"$f":"INDEX(Fund!$A$9:$B$3627,MATCH('Account Statement'!S170,Fund!$A$9:$A$3627,0),2)","v":41.170099999999998},130246.66,3163.6226290438935,{"$f":"SUM($W$2:W170)","v":{"$error":"#N/A"}},-130246.66]
[null,null,null,null,null,{"$error":"#DIV/0!"},null,null,null,null,null,null,{"$f":"Fund!W178","v":"00:00:00"},{"$f":"Fund!X178","v":0},{"$f":"-Fund!V178","v":0},{"$f":"Fund!V178","v":0},{"$f":"Fund!P178","v":""},null,"2014-03-03",{"$f":"INDEX(Fund!$A$9:$B$3627,MATCH('Account Statement'!S171,Fund!$A$9:$A$3627,0),1)","v":"2014-03-03"},{"$f":"INDEX(Fund!$A$9:$B$3627,MATCH('Account Statement'!S171,Fund!$A$9:$A$3627,0),2)","v":43.066299999999998},131926.76,3063.3409417572443,{"$f":"SUM($W$2:W171)","v":{"$error":"#N/A"}},-131926.76]
[null,null,null,null,null,{"$error":"#DIV/0!"},null,null,null,null,null,null,{"$f":"Fund!W179","v":"00:00:00"},{"$f":"Fund!X179","v":0},{"$f":"-Fund!V179","v":0},{"$f":"Fund!V179","v":0},{"$f":"Fund!P179","v":""},null,"2014-04-03",{"$f":"INDEX(Fund!$A$9:$B$3627,MATCH('Account Statement'!S172,Fund!$A$9:$A$3627,0),1)","v":"2014-04-03"},{"$f":"INDEX(Fund!$A$9:$B$3627,MATCH('Account Statement'!S172,Fund!$A$9:$A$3627,0),2)","v":46.582700000000003},133860.76,2873.6153121223115,{"$f":"SUM($W$2:W172)","v":{"$error":"#N/A"}},-133860.76]
[null,null,null,null,null,{"$error":"#DIV/0!"},null,null,null,null,null,null,{"$f":"Fund!W180","v":"00:00:00"},{"$f":"Fund!X180","v":0},{"$f":"-Fund!V180","v":0},{"$f":"Fund!V180","v":0},{"$f":"Fund!P180","v":""},null,"2014-05-05",{"$f":"INDEX(Fund!$A$9:$B$3627,MATCH('Account Statement'!S173,Fund!$A$9:$A$3627,0),1)","v":"2014-05-05"},{"$f":"INDEX(Fund!$A$9:$B$3627,MATCH('Account Statement'!S173,Fund!$A$9:$A$3627,0),2)","v":46.108199999999997},135772.48000000001,2944.6493248489428,{"$f":"SUM($W$2:W173)","v":{"$error":"#N/A"}},-135772.48000000001]
[null,null,null,null,null,{"$error":"#DIV/0!"},null,null,null,null,null,null,{"$f":"Fund!W181","v":"00:00:00"},{"$f":"Fund!X181","v":0},{"$f":"-Fund!V181","v":0},{"$f":"Fund!V181","v":0},{"$f":"Fund!P181","v":""},null,"2014-06-03",{"$f":"INDEX(Fund!$A$9:$B$3627,MATCH('Account Statement'!S174,Fund!$A$9:$A$3627,0),1)","v":"2014-06-03"},{"$f":"INDEX(Fund!$A$9:$B$3627,MATCH('Account Statement'!S174,Fund!$A$9:$A$3627,0),2)","v":52.284700000000001},138137.78,2642.0306514142758,{"$f":"SUM($W$2:W174)","v":{"$error":"#N/A"}},-138137.78]
[null,null,null,null,null,{"$error":"#DIV/0!"},null,null,null,null,null,null,{"$f":"Fund!W182","v":"00:00:00"},{"$f":"Fund!X182","v":0},{"$f":"-Fund!V182","v":0},{"$f":"Fund!V182","v":0},{"$f":"Fund!P182","v":""},null,"2014-07-03",{"$f":"INDEX(Fund!$A$9:$B$3627,MATCH('Account Statement'!S175,Fund!$A$9:$A$3627,0),1)","v":"2014-07-03"},{"$f":"INDEX(Fund!$A$9:$B$3627,MATCH('Account Statement'!S175,Fund!$A$9:$A$3627,0),2)","v":57.548099999999998},140608.38,2443.3192407742395,{"$f":"SUM($W$2:W175)","v":{"$error":"#N/A"}},-140608.38]
[null,null,null,null,null,{"$error":"#DIV/0!"},null,null,null,null,null,null,{"$f":"Fund!W183","v":"00:00:00"},{"$f":"Fund!X183","v":0},{"$f":"-Fund!V183","v":0},{"$f":"Fund!V183","v":0},{"$f":"Fund!P183","v":""},null,"2014-08-04",{"$f":"INDEX(Fund!$A$9:$B$3627,MATCH('Account Statement'!S176,Fund!$A$9:$A$3627,0),1)","v":"2014-08-04"},{"$f":"INDEX(Fund!$A$9:$B$3627,MATCH('Account Statement'!S176,Fund!$A$9:$A$3627,0),2)","v":56.2988},142833.78,2537.0661541631439,{"$f":"SUM($W$2:W176)","v":{"$error":"#N/A"}},-142833.78]
[null,null,null,null,null,{"$error":"#DIV/0!"},null,null,null,null,null,null,{"$f":"Fund!W184","v":"00:00:00"},{"$f":"Fund!X184","v":0},{"$f":"-Fund!V184","v":0},{"$f":"Fund!V184","v":0},{"$f":"Fund!P184","v":""},null,"2014-09-03",{"$f":"INDEX(Fund!$A$9:$B$3627,MATCH('Account Statement'!S177,Fund!$A$9:$A$3627,0),1)","v":"2014-09-03"},{"$f":"INDEX(Fund!$A$9:$B$3627,MATCH('Account Statement'!S177,Fund!$A$9:$A$3627,0),2)","v":60.463099999999997},145185.78,2401.2295102302064,{"$f":"SUM($W$2:W177)","v":{"$error":"#N/A"}},-145185.78]
[null,null,null,null,null,{"$error":"#DIV/0!"},null,null,null,null,null,null,{"$f":"Fund!W185","v":"00:00:00"},{"$f":"Fund!X185","v":0},{"$f":"-Fund!V185","v":0},{"$f":"Fund!V185","v":0},{"$f":"Fund!P185","v":""},null,"2014-10-07",{"$f":"INDEX(Fund!$A$9:$B$3627,MATCH('Account Statement'!S178,Fund!$A$9:$A$3627,0),1)","v":"2014-10-07"},{"$f":"INDEX(Fund!$A$9:$B$3627,MATCH('Account Statement'!S178,Fund!$A$9:$A$3627,0),2)","v":61.2151},147370.88,2407.4269257095066,{"$f":"SUM($W$2:W178)","v":{"$error":"#N/A"}},{"$f":"-V178+(U178*X178)","v":{"$error":"#N/A"}}]
[null,null,null,null,null,{"$error":"#DIV/0!"},null,null,null,null,null,null,{"$f":"Fund!W186","v":"00:00:00"},{"$f":"Fund!X186","v":0},{"$f":"-Fund!V186","v":0},{"$f":"Fund!V186","v":0},{"$f":"Fund!P186","v":""}]
[null,null,null,null,null,null,null,null,null,null,null,null,{"$f":"Fund!W187","v":"00:00:00"},{"$f":"Fund!X187","v":0},{"$f":"-Fund!V187","v":0},{"$f":"Fund!V187","v":0},{"$f":"Fund!P187","v":""},null,null,null,null,null,null,null,null,"w"]
[null,null,null,null,null,null,null,null,null,null,null,null,{"$f":"Fund!W188","v":"2006-07-06"},{"$f":"Fund!X188","v":9.7005999999999997},{"$f":"-Fund!V188","v":1000},{"$f":"Fund!V188","v":-1000},{"$f":"Fund!P188","v":103.0864070263695}]
[null,null,null,null,null,null,null,null,null,null,null,null,{"$f":"Fund!W189","v":"00:00:00"},{"$f":"Fund!X189","v":0},{"$f":"-Fund!V189","v":0},{"$f":"Fund!V189","v":0},{"$f":"Fund!P189","v":""}]
[null,null,null,null,null,null,null,null,null,null,null,null,{"$f":"Fund!W190","v":"00:00:00"},{"$f":"Fund!X190","v":0},{"$f":"-Fund!V190","v":0},{"$f":"Fund!V190","v":0},{"$f":"Fund!P190","v":""}]
[null,null,null,null,null,null,null,null,null,null,null,null,{"$f":"Fund!W191","v":"00:00:00"},{"$f":"Fund!X191","v":0},{"$f":"-Fund!V191","v":0},{"$f":"Fund!V191","v":0},{"$f":"Fund!P191","v":""}]
[null,null,null,null,null,null,null,null,null,null,null,null,{"$f":"Fund!W192","v":"00:00:00"},{"$f":"Fund!X192","v":0},{"$f":"-Fund!V192","v":0},{"$f":"Fund!V192","v":0},{"$f":"Fund!P192","v":""}]
[null,null,null,null,null,null,null,null,null,null,null,null,{"$f":"Fund!W193","v":"00:00:00"},{"$f":"Fund!X193","v":0},{"$f":"-Fund!V193","v":0},{"$f":"Fund!V193","v":0},{"$f":"Fund!P193","v":""}]
[null,null,null,null,null,null,null,null,null,null,null,null,{"$f":"Fund!W194","v":"00:00:00"},{"$f":"Fund!X194","v":0},{"$f":"-Fund!V194","v":0},{"$f":"Fund!V194","v":0},{"$f":"Fund!P194","v":""}]
[null,null,null,null,null,null,null,null,null,null,null,null,{"$f":"Fund!W195","v":"00:00:00"},{"$f":"Fund!X195","v":0},{"$f":"-Fund!V195","v":0},{"$f":"Fund!V195","v":0},{"$f":"Fund!P195","v":""}]
[null,null,null,null,null,null,null,null,null,null,null,null,{"$f":"Fund!W196","v":"00:00:00"},{"$f":"Fund!X196","v":0},{"$f":"-Fund!V196","v":0},{"$f":"Fund!V196","v":0},{"$f":"Fund!P196","v":""}]
[null,null,null,null,null,null,null,null,null,null,null,null,{"$f":"Fund!W197","v":"00:00:00"},{"$f":"Fund!X197","v":0},{"$f":"-Fund!V197","v":0},{"$f":"Fund!V197","v":0},{"$f":"Fund!P197","v":""}]
[null,null,null,null,null,null,null,null,null,null,null,null,{"$f":"Fund!W198","v":"00:00:00"},{"$f":"Fund!X198","v":0},{"$f":"-Fund!V198","v":0},{"$f":"Fund!V198","v":0},{"$f":"Fund!P198","v":""}]
[null,null,null,null,null,null,null,null,null,null,null,null,{"$f":"Fund!W199","v":"00:00:00"},{"$f":"Fund!X199","v":0},{"$f":"-Fund!V199","v":0},{"$f":"Fund!V199","v":0},{"$f":"Fund!P199","v":""}]
[null,null,null,null,null,null,null,null,null,null,null,null,{"$f":"Fund!W200","v":"00:00:00"},{"$f":"Fund!X200","v":0},{"$f":"-Fund!V200","v":0},{"$f":"Fund!V200","v":0},{"$f":"Fund!P200","v":""}]
[null,null,null,null,null,null,null,null,null,null,null,null,{"$f":"Fund!W201","v":"00:00:00"},{"$f":"Fund!X201","v":0},{"$f":"-Fund!V201","v":0},{"$f":"Fund!V201","v":0},{"$f":"Fund!P201","v":""}]
[null,null,null,null,null,null,null,null,null,null,null,null,{"$f":"Fund!W202","v":"00:00:00"},{"$f":"Fund!X202","v":0},{"$f":"-Fund!V202","v":0},{"$f":"Fund!V202","v":0},{"$f":"Fund!P202","v":""}]
[null,null,null,null,null,null,null,null,null,null,null,null,{"$f":"Fund!W203","v":"00:00:00"},{"$f":"Fund!X203","v":0},{"$f":"-Fund!V203","v":0},{"$f":"Fund!V203","v":0},{"$f":"Fund!P203","v":""}]
[null,null,null,null,null,null,null,null,null,null,null,null,{"$f":"Fund!W204","v":"00:00:00"},{"$f":"Fund!X204","v":0},{"$f":"-Fund!V204","v":0},{"$f":"Fund!V204","v":0},{"$f":"Fund!P204","v":""}]
[null,null,null,null,null,null,null,null,null,null,null,null,{"$f":"Fund!W205","v":"00:00:00"},{"$f":"Fund!X205","v":0},{"$f":"-Fund!V205","v":0},{"$f":"Fund!V205","v":0},{"$f":"Fund!P205","v":""}]
[null,null,null,null,null,null,null,null,null,null,null,null,{"$f":"Fund!W206","v":"00:00:00"},{"$f":"Fund!X206","v":0},{"$f":"-Fund!V206","v":0},{"$f":"Fund!V206","v":0},{"$f":"Fund!P206","v":""}]
[null,null,null,null,null,null,null,null,null,null,null,null,{"$f":"Fund!W207","v":"00:00:00"},{"$f":"Fund!X207","v":0},{"$f":"-Fund!V207","v":0},{"$f":"Fund!V207","v":0},{"$f":"Fund!P207","v":""}]
[null,null,null,null,null,null,null,null,null,null,null,null,{"$f":"Fund!W208","v":"00:00:00"},{"$f":"Fund!X208","v":0},{"$f":"-Fund!V208","v":0},{"$f":"Fund!V208","v":0},{"$f":"Fund!P208","v":""}]
[null,null,null,null,null,null,null,null,null,null,null,null,{"$f":"Fund!W209","v":"00:00:00"},{"$f":"Fund!X209","v":0},{"$f":"-Fund!V209","v":0},{"$f":"Fund!V209","v":0},{"$f":"Fund!P209","v":""}]
[null,null,null,null,null,null,null,null,null,null,null,null,{"$f":"Fund!W210","v":"2006-08-07"},{"$f":"Fund!X210","v":9.8063000000000002},{"$f":"-Fund!V210","v":1000},{"$f":"Fund!V210","v":-1000},{"$f":"Fund!P210","v":101.9752608017295}]
[null,null,null,null,null,null,null,null,null,null,null,null,{"$f":"Fund!W211","v":"00:00:00"},{"$f":"Fund!X211","v":0},{"$f":"-Fund!V211","v":0},{"$f":"Fund!V211","v":0},{"$f":"Fund!P211","v":""}]
[null,null,null,null,null,null,null,null,null,null,null,null,{"$f":"Fund!W212","v":"00:00:00"},{"$f":"Fund!X212","v":0},{"$f":"-Fund!V212","v":0},{"$f":"Fund!V212","v":0},{"$f":"Fund!P212","v":""}]
[null,null,null,null,null,null,null,null,null,null,null,null,{"$f":"Fund!W213","v":"00:00:00"},{"$f":"Fund!X213","v":0},{"$f":"-Fund!V213","v":0},{"$f":"Fund!V213","v":0},{"$f":"Fund!P213","v":""}]
[null,null,null,null,null,null,null,null,null,null,null,null,{"$f":"Fund!W214","v":"00:00:00"},{"$f":"Fund!X214","v":0},{"$f":"-Fund!V214","v":0},{"$f":"Fund!V214","v":0},{"$f":"Fund!P214","v":""}]
[null,null,null,null,null,null,null,null,null,null,null,null,{"$f":"Fund!W215","v":"00:00:00"},{"$f":"Fund!X215","v":0},{"$f":"-Fund!V215","v":0},{"$f":"Fund!V215","v":0},{"$f":"Fund!P215","v":""}]
[null,null,null,null,null,null,null,null,null,null,null,null,{"$f":"Fund!W216","v":"00:00:00"},{"$f":"Fund!X216","v":0},{"$f":"-Fund!V216","v":0},{"$f":"Fund!V216","v":0},{"$f":"Fund!P216","v":""}]
[null,null,null,null,null,null,null,null,null,null,null,null,{"$f":"Fund!W217","v":"00:00:00"},{"$f":"Fund!X217","v":0},{"$f":"-Fund!V217","v":0},{"$f":"Fund!V217","v":0},{"$f":"Fund!P217","v":""}]
[null,null,null,null,null,null,null,null,null,null,null,null,{"$f":"Fund!W218","v":"00:00:00"},{"$f":"Fund!X218","v":0},{"$f":"-Fund!V218","v":0},{"$f":"Fund!V218","v":0},{"$f":"Fund!P218","v":""}]
[null,null,null,null,null,null,null,null,null,null,null,null,{"$f":"Fund!W219","v":"00:00:00"},{"$f":"Fund!X219","v":0},{"$f":"-Fund!V219","v":0},{"$f":"Fund!V219","v":0},{"$f":"Fund!P219","v":""}]
[null,null,null,null,null,null,null,null,null,null,null,null,{"$f":"Fund!W220","v":"00:00:00"},{"$f":"Fund!X220","v":0},{"$f":"-Fund!V220","v":0},{"$f":"Fund!V220","v":0},{"$f":"Fund!P220","v":""}]
[null,null,null,null,null,null,null,null,null,null,null,null,{"$f":"Fund!W221","v":"00:00:00"},{"$f":"Fund!X221","v":0},{"$f":"-Fund!V221","v":0},{"$f":"Fund!V221","v":0},{"$f":"Fund!P221","v":""}]
[null,null,null,null,null,null,null,null,null,null,null,null,{"$f":"Fund!W222","v":"00:00:00"},{"$f":"Fund!X222","v":0},{"$f":"-Fund!V222","v":0},{"$f":"Fund!V222","v":0},{"$f":"Fund!P222","v":""}]
[null,null,null,null,null,null,null,null,null,null,null,null,{"$f":"Fund!W223","v":"00:00:00"},{"$f":"Fund!X223","v":0},{"$f":"-Fund!V223","v":0},{"$f":"Fund!V223","v":0},{"$f":"Fund!P223","v":""}]
[null,null,null,null,null,null,null,null,null,null,null,null,{"$f":"Fund!W224","v":"00:00:00"},{"$f":"Fund!X224","v":0},{"$f":"-Fund!V224","v":0},{"$f":"Fund!V224","v":0},{"$f":"Fund!P224","v":""}]
[null,null,null,null,null,null,null,null,null,null,null,null,{"$f":"Fund!W225","v":"00:00:00"},{"$f":"Fund!X225","v":0},{"$f":"-Fund!V225","v":0},{"$f":"Fund!V225","v":0},{"$f":"Fund!P225","v":""}]
[null,null,null,null,null,null,null,null,null,null,null,null,{"$f":"Fund!W226","v":"00:00:00"},{"$f":"Fund!X226","v":0},{"$f":"-Fund!V226","v":0},{"$f":"Fund!V226","v":0},{"$f":"Fund!P226","v":""}]
[null,null,null,null,null,null,null,null,null,null,null,null,{"$f":"Fund!W227","v":"00:00:00"},{"$f":"Fund!X227","v":0},{"$f":"-Fund!V227","v":0},{"$f":"Fund!V227","v":0},{"$f":"Fund!P227","v":""}]
[null,null,null,null,null,null,null,null,null,null,null,null,{"$f":"Fund!W228","v":"00:00:00"},{"$f":"Fund!X228","v":0},{"$f":"-Fund!V228","v":0},{"$f":"Fund!V228","v":0},{"$f":"Fund!P228","v":""}]
[null,null,null,null,null,null,null,null,null,null,null,null,{"$f":"Fund!W229","v":"00:00:00"},{"$f":"Fund!X229","v":0},{"$f":"-Fund!V229","v":0},{"$f":"Fund!V229","v":0},{"$f":"Fund!P229","v":""}]
[null,null,null,null,null,null,null,null,null,null,null,null,{"$f":"Fund!W230","v":"00:00:00"},{"$f":"Fund!X230","v":0},{"$f":"-Fund!V230","v":0},{"$f":"Fund!V230","v":0},{"$f":"Fund!P230","v":""}]
[null,null,null,null,null,null,null,null,null,null,null,null,{"$f":"Fund!W231","v":"2006-09-06"},{"$f":"Fund!X231","v":11.132999999999999},{"$f":"-Fund!V231","v":1000},{"$f":"Fund!V231","v":-1000},{"$f":"Fund!P231","v":89.823048594269295}]
[null,null,null,null,null,null,null,null,null,null,null,null,{"$f":"Fund!W232","v":"00:00:00"},{"$f":"Fund!X232","v":0},{"$f":"-Fund!V232","v":0},{"$f":"Fund!V232","v":0},{"$f":"Fund!P232","v":""}]
[null,null,null,null,null,null,null,null,null,null,null,null,{"$f":"Fund!W233","v":"00:00:00"},{"$f":"Fund!X233","v":0},{"$f":"-Fund!V233","v":0},{"$f":"Fund!V233","v":0},{"$f":"Fund!P233","v":""}]
[null,null,null,null,null,null,null,null,null,null,null,null,{"$f":"Fund!W234","v":"00:00:00"},{"$f":"Fund!X234","v":0},{"$f":"-Fund!V234","v":0},{"$f":"Fund!V234","v":0},{"$f":"Fund!P234","v":""}]
[null,null,null,null,null,null,null,null,null,null,null,null,{"$f":"Fund!W235","v":"00:00:00"},{"$f":"Fund!X235","v":0},{"$f":"-Fund!V235","v":0},{"$f":"Fund!V235","v":0},{"$f":"Fund!P235","v":""}]
[null,null,null,null,null,null,null,null,null,null,null,null,{"$f":"Fund!W236","v":"00:00:00"},{"$f":"Fund!X236","v":0},{"$f":"-Fund!V236","v":0},{"$f":"Fund!V236","v":0},{"$f":"Fund!P236","v":""}]
[null,null,null,null,null,null,null,null,null,null,null,null,{"$f":"Fund!W237","v":"00:00:00"},{"$f":"Fund!X237","v":0},{"$f":"-Fund!V237","v":0},{"$f":"Fund!V237","v":0},{"$f":"Fund!P237","v":""}]
[null,null,null,null,null,null,null,null,null,null,null,null,{"$f":"Fund!W238","v":"00:00:00"},{"$f":"Fund!X238","v":0},{"$f":"-Fund!V238","v":0},{"$f":"Fund!V238","v":0},{"$f":"Fund!P238","v":""}]
[null,null,null,null,null,null,null,null,null,null,null,null,{"$f":"Fund!W239","v":"00:00:00"},{"$f":"Fund!X239","v":0},{"$f":"-Fund!V239","v":0},{"$f":"Fund!V239","v":0},{"$f":"Fund!P239","v":""}]
[null,null,null,null,null,null,null,null,null,null,null,null,{"$f":"Fund!W240","v":"00:00:00"},{"$f":"Fund!X240","v":0},{"$f":"-Fund!V240","v":0},{"$f":"Fund!V240","v":0},{"$f":"Fund!P240","v":""}]
[null,null,null,null,null,null,null,null,null,null,null,null,{"$f":"Fund!W241","v":"00:00:00"},{"$f":"Fund!X241","v":0},{"$f":"-Fund!V241","v":0},{"$f":"Fund!V241","v":0},{"$f":"Fund!P241","v":""}]
[null,null,null,null,null,null,null,null,null,null,null,null,{"$f":"Fund!W242","v":"00:00:00"},{"$f":"Fund!X242","v":0},{"$f":"-Fund!V242","v":0},{"$f":"Fund!V242","v":0},{"$f":"Fund!P242","v":""}]
[null,null,null,null,null,null,null,null,null,null,null,null,{"$f":"Fund!W243","v":"00:00:00"},{"$f":"Fund!X243","v":0},{"$f":"-Fund!V243","v":0},{"$f":"Fund!V243","v":0},{"$f":"Fund!P243","v":""}]
[null,null,null,null,null,null,null,null,null,null,null,null,{"$f":"Fund!W244","v":"00:00:00"},{"$f":"Fund!X244","v":0},{"$f":"-Fund!V244","v":0},{"$f":"Fund!V244","v":0},{"$f":"Fund!P244","v":""}]
[null,null,null,null,null,null,null,null,null,null,null,null,{"$f":"Fund!W245","v":"00:00:00"},{"$f":"Fund!X245","v":0},{"$f":"-Fund!V245","v":0},{"$f":"Fund!V245","v":0},{"$f":"Fund!P245","v":""}]
[null,null,null,null,null,null,null,null,null,null,null,null,{"$f":"Fund!W246","v":"00:00:00"},{"$f":"Fund!X246","v":0},{"$f":"-Fund!V246","v":0},{"$f":"Fund!V246","v":0},{"$f":"Fund!P246","v":""}]
[null,null,null,null,null,null,null,null,null,null,null,null,{"$f":"Fund!W247","v":"00:00:00"},{"$f":"Fund!X247","v":0},{"$f":"-Fund!V247","v":0},{"$f":"Fund!V247","v":0},{"$f":"Fund!P247","v":""}]
[null,null,null,null,null,null,null,null,null,null,null,null,{"$f":"Fund!W248","v":"00:00:00"},{"$f":"Fund!X248","v":0},{"$f":"-Fund!V248","v":0},{"$f":"Fund!V248","v":0},{"$f":"Fund!P248","v":""}]
[null,null,null,null,null,null,null,null,null,null,null,null,{"$f":"Fund!W249","v":"00:00:00"},{"$f":"Fund!X249","v":0},{"$f":"-Fund!V249","v":0},{"$f":"Fund!V249","v":0},{"$f":"Fund!P249","v":""}]
[null,null,null,null,null,null,null,null,null,null,null,null,{"$f":"Fund!W250","v":"00:00:00"},{"$f":"Fund!X250","v":0},{"$f":"-Fund!V250","v":0},{"$f":"Fund!V250","v":0},{"$f":"Fund!P250","v":""}]
[null,null,null,null,null,null,null,null,null,null,null,null,{"$f":"Fund!W251","v":"00:00:00"},{"$f":"Fund!X251","v":0},{"$f":"-Fund!V251","v":0},{"$f":"Fund!V251","v":0},{"$f":"Fund!P251","v":""}]
[null,null,null,null,null,null,null,null,null,null,null,null,{"$f":"Fund!W252","v":"2006-10-06"},{"$f":"Fund!X252","v":11.531599999999999},{"$f":"-Fund!V252","v":1000},{"$f":"Fund!V252","v":-1000},{"$f":"Fund!P252","v":86.718235110479043}]
[null,null,null,null,null,null,null,null,null,null,null,null,{"$f":"Fund!W253","v":"00:00:00"},{"$f":"Fund!X253","v":0},{"$f":"-Fund!V253","v":0},{"$f":"Fund!V253","v":0},{"$f":"Fund!P253","v":""}]
[null,null,null,null,null,null,null,null,null,null,null,null,{"$f":"Fund!W254","v":"00:00:00"},{"$f":"Fund!X254","v":0},{"$f":"-Fund!V254","v":0},{"$f":"Fund!V254","v":0},{"$f":"Fund!P254","v":""}]
[null,null,null,null,null,null,null,null,null,null,null,null,{"$f":"Fund!W255","v":"00:00:00"},{"$f":"Fund!X255","v":0},{"$f":"-Fund!V255","v":0},{"$f":"Fund!V255","v":0},{"$f":"Fund!P255","v":""}]
[null,null,null,null,null,null,null,null,null,null,null,null,{"$f":"Fund!W256","v":"00:00:00"},{"$f":"Fund!X256","v":0},{"$f":"-Fund!V256","v":0},{"$f":"Fund!V256","v":0},{"$f":"Fund!P256","v":""}]
[null,null,null,null,null,null,null,null,null,null,null,null,{"$f":"Fund!W257","v":"00:00:00"},{"$f":"Fund!X257","v":0},{"$f":"-Fund!V257","v":0},{"$f":"Fund!V257","v":0},{"$f":"Fund!P257","v":""}]
[null,null,null,null,null,null,null,null,null,null,null,null,{"$f":"Fund!W258","v":"00:00:00"},{"$f":"Fund!X258","v":0},{"$f":"-Fund!V258","v":0},{"$f":"Fund!V258","v":0},{"$f":"Fund!P258","v":""}]
[null,null,null,null,null,null,null,null,null,null,null,null,{"$f":"Fund!W259","v":"00:00:00"},{"$f":"Fund!X259","v":0},{"$f":"-Fund!V259","v":0},{"$f":"Fund!V259","v":0},{"$f":"Fund!P259","v":""}]
[null,null,null,null,null,null,null,null,null,null,null,null,{"$f":"Fund!W260","v":"00:00:00"},{"$f":"Fund!X260","v":0},{"$f":"-Fund!V260","v":0},{"$f":"Fund!V260","v":0},{"$f":"Fund!P260","v":""}]
[null,null,null,null,null,null,null,null,null,null,null,null,{"$f":"Fund!W261","v":"00:00:00"},{"$f":"Fund!X261","v":0},{"$f":"-Fund!V261","v":0},{"$f":"Fund!V261","v":0},{"$f":"Fund!P261","v":""}]
[null,null,null,null,null,null,null,null,null,null,null,null,{"$f":"Fund!W262","v":"00:00:00"},{"$f":"Fund!X262","v":0},{"$f":"-Fund!V262","v":0},{"$f":"Fund!V262","v":0},{"$f":"Fund!P262","v":""}]
[null,null,null,null,null,null,null,null,null,null,null,null,{"$f":"Fund!W263","v":"00:00:00"},{"$f":"Fund!X263","v":0},{"$f":"-Fund!V263","v":0},{"$f":"Fund!V263","v":0},{"$f":"Fund!P263","v":""}]
[null,null,null,null,null,null,null,null,null,null,null,null,{"$f":"Fund!W264","v":"00:00:00"},{"$f":"Fund!X264","v":0},{"$f":"-Fund!V264","v":0},{"$f":"Fund!V264","v":0},{"$f":"Fund!P264","v":""}]
[null,null,null,null,null,null,null,null,null,null,null,null,{"$f":"Fund!W265","v":"00:00:00"},{"$f":"Fund!X265","v":0},{"$f":"-Fund!V265","v":0},{"$f":"Fund!V265","v":0},{"$f":"Fund!P265","v":""}]
[null,null,null,null,null,null,null,null,null,null,null,null,{"$f":"Fund!W266","v":"00:00:00"},{"$f":"Fund!X266","v":0},{"$f":"-Fund!V266","v":0},{"$f":"Fund!V266","v":0},{"$f":"Fund!P266","v":""}]
[null,null,null,null,null,null,null,null,null,null,null,null,{"$f":"Fund!W267","v":"00:00:00"},{"$f":"Fund!X267","v":0},{"$f":"-Fund!V267","v":0},{"$f":"Fund!V267","v":0},{"$f":"Fund!P267","v":""}]
[null,null,null,null,null,null,null,null,null,null,null,null,{"$f":"Fund!W268","v":"00:00:00"},{"$f":"Fund!X268","v":0},{"$f":"-Fund!V268","v":0},{"$f":"Fund!V268","v":0},{"$f":"Fund!P268","v":""}]
[null,null,null,null,null,null,null,null,null,null,null,null,{"$f":"Fund!W269","v":"00:00:00"},{"$f":"Fund!X269","v":0},{"$f":"-Fund!V269","v":0},{"$f":"Fund!V269","v":0},{"$f":"Fund!P269","v":""}]
[null,null,null,null,null,null,null,null,null,null,null,null,{"$f":"Fund!W270","v":"00:00:00"},{"$f":"Fund!X270","v":0},{"$f":"-Fund!V270","v":0},{"$f":"Fund!V270","v":0},{"$f":"Fund!P270","v":""}]
[null,null,null,null,null,null,null,null,null,null,null,null,{"$f":"Fund!W271","v":"2006-11-06"},{"$f":"Fund!X271","v":11.9826},{"$f":"-Fund!V271","v":1000},{"$f":"Fund!V271","v":-1000},{"$f":"Fund!P271","v":83.454342129420994}]
[null,null,null,null,null,null,null,null,null,null,null,null,{"$f":"Fund!W272","v":"00:00:00"},{"$f":"Fund!X272","v":0},{"$f":"-Fund!V272","v":0},{"$f":"Fund!V272","v":0},{"$f":"Fund!P272","v":""}]
[null,null,null,null,null,null,null,null,null,null,null,null,{"$f":"Fund!W273","v":"00:00:00"},{"$f":"Fund!X273","v":0},{"$f":"-Fund!V273","v":0},{"$f":"Fund!V273","v":0},{"$f":"Fund!P273","v":""}]
[null,null,null,null,null,null,null,null,null,null,null,null,{"$f":"Fund!W274","v":"00:00:00"},{"$f":"Fund!X274","v":0},{"$f":"-Fund!V274","v":0},{"$f":"Fund!V274","v":0},{"$f":"Fund!P274","v":""}]
[null,null,null,null,null,null,null,null,null,null,null,null,{"$f":"Fund!W275","v":"00:00:00"},{"$f":"Fund!X275","v":0},{"$f":"-Fund!V275","v":0},{"$f":"Fund!V275","v":0},{"$f":"Fund!P275","v":""}]
[null,null,null,null,null,null,null,null,null,null,null,null,{"$f":"Fund!W276","v":"00:00:00"},{"$f":"Fund!X276","v":0},{"$f":"-Fund!V276","v":0},{"$f":"Fund!V276","v":0},{"$f":"Fund!P276","v":""}]
[null,null,null,null,null,null,null,null,null,null,null,null,{"$f":"Fund!W277","v":"00:00:00"},{"$f":"Fund!X277","v":0},{"$f":"-Fund!V277","v":0},{"$f":"Fund!V277","v":0},{"$f":"Fund!P277","v":""}]
[null,null,null,null,null,null,null,null,null,null,null,null,{"$f":"Fund!W278","v":"00:00:00"},{"$f":"Fund!X278","v":0},{"$f":"-Fund!V278","v":0},{"$f":"Fund!V278","v":0},{"$f":"Fund!P278","v":""}]
[null,null,null,null,null,null,null,null,null,null,null,null,{"$f":"Fund!W279","v":"00:00:00"},{"$f":"Fund!X279","v":0},{"$f":"-Fund!V279","v":0},{"$f":"Fund!V279","v":0},{"$f":"Fund!P279","v":""}]
[null,null,null,null,null,null,null,null,null,null,null,null,{"$f":"Fund!W280","v":"00:00:00"},{"$f":"Fund!X280","v":0},{"$f":"-Fund!V280","v":0},{"$f":"Fund!V280","v":0},{"$f":"Fund!P280","v":""}]
[null,null,null,null,null,null,null,null,null,null,null,null,{"$f":"Fund!W281","v":"00:00:00"},{"$f":"Fund!X281","v":0},{"$f":"-Fund!V281","v":0},{"$f":"Fund!V281","v":0},{"$f":"Fund!P281","v":""}]
[null,null,null,null,null,null,null,null,null,null,null,null,{"$f":"Fund!W282","v":"00:00:00"},{"$f":"Fund!X282","v":0},{"$f":"-Fund!V282","v":0},{"$f":"Fund!V282","v":0},{"$f":"Fund!P282","v":""}]
[null,null,null,null,null,null,null,null,null,null,null,null,{"$f":"Fund!W283","v":"00:00:00"},{"$f":"Fund!X283","v":0},{"$f":"-Fund!V283","v":0},{"$f":"Fund!V283","v":0},{"$f":"Fund!P283","v":""}]
[null,null,null,null,null,null,null,null,null,null,null,null,{"$f":"Fund!W284","v":"00:00:00"},{"$f":"Fund!X284","v":0},{"$f":"-Fund!V284","v":0},{"$f":"Fund!V284","v":0},{"$f":"Fund!P284","v":""}]
[null,null,null,null,null,null,null,null,null,null,null,null,{"$f":"Fund!W285","v":"00:00:00"},{"$f":"Fund!X285","v":0},{"$f":"-Fund!V285","v":0},{"$f":"Fund!V285","v":0},{"$f":"Fund!P285","v":""}]
[null,null,null,null,null,null,null,null,null,null,null,null,{"$f":"Fund!W286","v":"00:00:00"},{"$f":"Fund!X286","v":0},{"$f":"-Fund!V286","v":0},{"$f":"Fund!V286","v":0},{"$f":"Fund!P286","v":""}]
[null,null,null,null,null,null,null,null,null,null,null,null,{"$f":"Fund!W287","v":"00:00:00"},{"$f":"Fund!X287","v":0},{"$f":"-Fund!V287","v":0},{"$f":"Fund!V287","v":0},{"$f":"Fund!P287","v":""}]
[null,null,null,null,null,null,null,null,null,null,null,null,{"$f":"Fund!W288","v":"00:00:00"},{"$f":"Fund!X288","v":0},{"$f":"-Fund!V288","v":0},{"$f":"Fund!V288","v":0},{"$f":"Fund!P288","v":""}]
[null,null,null,null,null,null,null,null,null,null,null,null,{"$f":"Fund!W289","v":"00:00:00"},{"$f":"Fund!X289","v":0},{"$f":"-Fund!V289","v":0},{"$f":"Fund!V289","v":0},{"$f":"Fund!P289","v":""}]
[null,null,null,null,null,null,null,null,null,null,null,null,{"$f":"Fund!W290","v":"00:00:00"},{"$f":"Fund!X290","v":0},{"$f":"-Fund!V290","v":0},{"$f":"Fund!V290","v":0},{"$f":"Fund!P290","v":""}]
[null,null,null,null,null,null,null,null,null,null,null,null,{"$f":"Fund!W291","v":"00:00:00"},{"$f":"Fund!X291","v":0},{"$f":"-Fund!V291","v":0},{"$f":"Fund!V291","v":0},{"$f":"Fund!P291","v":""}]
[null,null,null,null,null,null,null,null,null,null,null,null,{"$f":"Fund!W292","v":"00:00:00"},{"$f":"Fund!X292","v":0},{"$f":"-Fund!V292","v":0},{"$f":"Fund!V292","v":0},{"$f":"Fund!P292","v":""}]
[null,null,null,null,null,null,null,null,null,null,null,null,{"$f":"Fund!W293","v":"2006-12-06"},{"$f":"Fund!X293","v":12.8672},{"$f":"-Fund!V293","v":1000},{"$f":"Fund!V293","v":-1000},{"$f":"Fund!P293","v":77.716985824421783}]
[null,null,null,null,null,null,null,null,null,null,null,null,{"$f":"Fund!W294","v":"00:00:00"},{"$f":"Fund!X294","v":0},{"$f":"-Fund!V294","v":0},{"$f":"Fund!V294","v":0},{"$f":"Fund!P294","v":""}]
[null,null,null,null,null,null,null,null,null,null,null,null,{"$f":"Fund!W295","v":"00:00:00"},{"$f":"Fund!X295","v":0},{"$f":"-Fund!V295","v":0},{"$f":"Fund!V295","v":0},{"$f":"Fund!P295","v":""}]
[null,null,null,null,null,null,null,null,null,null,null,null,{"$f":"Fund!W296","v":"00:00:00"},{"$f":"Fund!X296","v":0},{"$f":"-Fund!V296","v":0},{"$f":"Fund!V296","v":0},{"$f":"Fund!P296","v":""}]
[null,null,null,null,null,null,null,null,null,null,null,null,{"$f":"Fund!W297","v":"00:00:00"},{"$f":"Fund!X297","v":0},{"$f":"-Fund!V297","v":0},{"$f":"Fund!V297","v":0},{"$f":"Fund!P297","v":""}]
[null,null,null,null,null,null,null,null,null,null,null,null,{"$f":"Fund!W298","v":"00:00:00"},{"$f":"Fund!X298","v":0},{"$f":"-Fund!V298","v":0},{"$f":"Fund!V298","v":0},{"$f":"Fund!P298","v":""}]
[null,null,null,null,null,null,null,null,null,null,null,null,{"$f":"Fund!W299","v":"00:00:00"},{"$f":"Fund!X299","v":0},{"$f":"-Fund!V299","v":0},{"$f":"Fund!V299","v":0},{"$f":"Fund!P299","v":""}]
[null,null,null,null,null,null,null,null,null,null,null,null,{"$f":"Fund!W300","v":"00:00:00"},{"$f":"Fund!X300","v":0},{"$f":"-Fund!V300","v":0},{"$f":"Fund!V300","v":0},{"$f":"Fund!P300","v":""}]
[null,null,null,null,null,null,null,null,null,null,null,null,{"$f":"Fund!W301","v":"00:00:00"},{"$f":"Fund!X301","v":0},{"$f":"-Fund!V301","v":0},{"$f":"Fund!V301","v":0},{"$f":"Fund!P301","v":""}]
[null,null,null,null,null,null,null,null,null,null,null,null,{"$f":"Fund!W302","v":"00:00:00"},{"$f":"Fund!X302","v":0},{"$f":"-Fund!V302","v":0},{"$f":"Fund!V302","v":0},{"$f":"Fund!P302","v":""}]
[null,null,null,null,null,null,null,null,null,null,null,null,{"$f":"Fund!W303","v":"00:00:00"},{"$f":"Fund!X303","v":0},{"$f":"-Fund!V303","v":0},{"$f":"Fund!V303","v":0},{"$f":"Fund!P303","v":""}]
[null,null,null,null,null,null,null,null,null,null,null,null,{"$f":"Fund!W304","v":"00:00:00"},{"$f":"Fund!X304","v":0},{"$f":"-Fund!V304","v":0},{"$f":"Fund!V304","v":0},{"$f":"Fund!P304","v":""}]
[null,null,null,null,null,null,null,null,null,null,null,null,{"$f":"Fund!W305","v":"00:00:00"},{"$f":"Fund!X305","v":0},{"$f":"-Fund!V305","v":0},{"$f":"Fund!V305","v":0},{"$f":"Fund!P305","v":""}]
[null,null,null,null,null,null,null,null,null,null,null,null,{"$f":"Fund!W306","v":"00:00:00"},{"$f":"Fund!X306","v":0},{"$f":"-Fund!V306","v":0},{"$f":"Fund!V306","v":0},{"$f":"Fund!P306","v":""}]
[null,null,null,null,null,null,null,null,null,null,null,null,{"$f":"Fund!W307","v":"00:00:00"},{"$f":"Fund!X307","v":0},{"$f":"-Fund!V307","v":0},{"$f":"Fund!V307","v":0},{"$f":"Fund!P307","v":""}]
[null,null,null,null,null,null,null,null,null,null,null,null,{"$f":"Fund!W308","v":"00:00:00"},{"$f":"Fund!X308","v":0},{"$f":"-Fund!V308","v":0},{"$f":"Fund!V308","v":0},{"$f":"Fund!P308","v":""}]
[null,null,null,null,null,null,null,null,null,null,null,null,{"$f":"Fund!W309","v":"00:00:00"},{"$f":"Fund!X309","v":0},{"$f":"-Fund!V309","v":0},{"$f":"Fund!V309","v":0},{"$f":"Fund!P309","v":""}]
[null,null,null,null,null,null,null,null,null,null,null,null,{"$f":"Fund!W310","v":"00:00:00"},{"$f":"Fund!X310","v":0},{"$f":"-Fund!V310","v":0},{"$f":"Fund!V310","v":0},{"$f":"Fund!P310","v":""}]
[null,null,null,null,null,null,null,null,null,null,null,null,{"$f":"Fund!W311","v":"00:00:00"},{"$f":"Fund!X311","v":0},{"$f":"-Fund!V311","v":0},{"$f":"Fund!V311","v":0},{"$f":"Fund!P311","v":""}]
[null,null,null,null,null,null,null,null,null,null,null,null,{"$f":"Fund!W312","v":"00:00:00"},{"$f":"Fund!X312","v":0},{"$f":"-Fund!V312","v":0},{"$f":"Fund!V312","v":0},{"$f":"Fund!P312","v":""}]
[null,null,null,null,null,null,null,null,null,null,null,null,{"$f":"Fund!W313","v":"00:00:00"},{"$f":"Fund!X313","v":0},{"$f":"-Fund!V313","v":0},{"$f":"Fund!V313","v":0},{"$f":"Fund!P313","v":""}]
[null,null,null,null,null,null,null,null,null,null,null,null,{"$f":"Fund!W314","v":"2007-01-08"},{"$f":"Fund!X314","v":13.4956},{"$f":"-Fund!V314","v":1000},{"$f":"Fund!V314","v":-1000},{"$f":"Fund!P314","v":74.098224606538423}]
[null,null,null,null,null,null,null,null,null,null,null,null,{"$f":"Fund!W315","v":"00:00:00"},{"$f":"Fund!X315","v":0},{"$f":"-Fund!V315","v":0},{"$f":"Fund!V315","v":0},{"$f":"Fund!P315","v":""}]
[null,null,null,null,null,null,null,null,null,null,null,null,{"$f":"Fund!W316","v":"00:00:00"},{"$f":"Fund!X316","v":0},{"$f":"-Fund!V316","v":0},{"$f":"Fund!V316","v":0},{"$f":"Fund!P316","v":""}]
[null,null,null,null,null,null,null,null,null,null,null,null,{"$f":"Fund!W317","v":"00:00:00"},{"$f":"Fund!X317","v":0},{"$f":"-Fund!V317","v":0},{"$f":"Fund!V317","v":0},{"$f":"Fund!P317","v":""}]
[null,null,null,null,null,null,null,null,null,null,null,null,{"$f":"Fund!W318","v":"00:00:00"},{"$f":"Fund!X318","v":0},{"$f":"-Fund!V318","v":0},{"$f":"Fund!V318","v":0},{"$f":"Fund!P318","v":""}]
[null,null,null,null,null,null,null,null,null,null,null,null,{"$f":"Fund!W319","v":"00:00:00"},{"$f":"Fund!X319","v":0},{"$f":"-Fund!V319","v":0},{"$f":"Fund!V319","v":0},{"$f":"Fund!P319","v":""}]
[null,null,null,null,null,null,null,null,null,null,null,null,{"$f":"Fund!W320","v":"00:00:00"},{"$f":"Fund!X320","v":0},{"$f":"-Fund!V320","v":0},{"$f":"Fund!V320","v":0},{"$f":"Fund!P320","v":""}]
[null,null,null,null,null,null,null,null,null,null,null,null,{"$f":"Fund!W321","v":"00:00:00"},{"$f":"Fund!X321","v":0},{"$f":"-Fund!V321","v":0},{"$f":"Fund!V321","v":0},{"$f":"Fund!P321","v":""}]
[null,null,null,null,null,null,null,null,null,null,null,null,{"$f":"Fund!W322","v":"00:00:00"},{"$f":"Fund!X322","v":0},{"$f":"-Fund!V322","v":0},{"$f":"Fund!V322","v":0},{"$f":"Fund!P322","v":""}]
[null,null,null,null,null,null,null,null,null,null,null,null,{"$f":"Fund!W323","v":"00:00:00"},{"$f":"Fund!X323","v":0},{"$f":"-Fund!V323","v":0},{"$f":"Fund!V323","v":0},{"$f":"Fund!P323","v":""}]
[null,null,null,null,null,null,null,null,null,null,null,null,{"$f":"Fund!W324","v":"00:00:00"},{"$f":"Fund!X324","v":0},{"$f":"-Fund!V324","v":0},{"$f":"Fund!V324","v":0},{"$f":"Fund!P324","v":""}]
[null,null,null,null,null,null,null,null,null,null,null,null,{"$f":"Fund!W325","v":"00:00:00"},{"$f":"Fund!X325","v":0},{"$f":"-Fund!V325","v":0},{"$f":"Fund!V325","v":0},{"$f":"Fund!P325","v":""}]
[null,null,null,null,null,null,null,null,null,null,null,null,{"$f":"Fund!W326","v":"00:00:00"},{"$f":"Fund!X326","v":0},{"$f":"-Fund!V326","v":0},{"$f":"Fund!V326","v":0},{"$f":"Fund!P326","v":""}]
[null,null,null,null,null,null,null,null,null,null,null,null,{"$f":"Fund!W327","v":"00:00:00"},{"$f":"Fund!X327","v":0},{"$f":"-Fund!V327","v":0},{"$f":"Fund!V327","v":0},{"$f":"Fund!P327","v":""}]
[null,null,null,null,null,null,null,null,null,null,null,null,{"$f":"Fund!W328","v":"00:00:00"},{"$f":"Fund!X328","v":0},{"$f":"-Fund!V328","v":0},{"$f":"Fund!V328","v":0},{"$f":"Fund!P328","v":""}]
[null,null,null,null,null,null,null,null,null,null,null,null,{"$f":"Fund!W329","v":"00:00:00"},{"$f":"Fund!X329","v":0},{"$f":"-Fund!V329","v":0},{"$f":"Fund!V329","v":0},{"$f":"Fund!P329","v":""}]
[null,null,null,null,null,null,null,null,null,null,null,null,{"$f":"Fund!W330","v":"00:00:00"},{"$f":"Fund!X330","v":0},{"$f":"-Fund!V330","v":0},{"$f":"Fund!V330","v":0},{"$f":"Fund!P330","v":""}]
[null,null,null,null,null,null,null,null,null,null,null,null,{"$f":"Fund!W331","v":"00:00:00"},{"$f":"Fund!X331","v":0},{"$f":"-Fund!V331","v":0},{"$f":"Fund!V331","v":0},{"$f":"Fund!P331","v":""}]
[null,null,null,null,null,null,null,null,null,null,null,null,{"$f":"Fund!W332","v":"00:00:00"},{"$f":"Fund!X332","v":0},{"$f":"-Fund!V332","v":0},{"$f":"Fund!V332","v":0},{"$f":"Fund!P332","v":""}]
[null,null,null,null,null,null,null,null,null,null,null,null,{"$f":"Fund!W333","v":"2007-02-06"},{"$f":"Fund!X333","v":14.6122},{"$f":"-Fund!V333","v":1000},{"$f":"Fund!V333","v":-1000},{"$f":"Fund!P333","v":68.435964468047246}]
[null,null,null,null,null,null,null,null,null,null,null,null,{"$f":"Fund!W334","v":"00:00:00"},{"$f":"Fund!X334","v":0},{"$f":"-Fund!V334","v":0},{"$f":"Fund!V334","v":0},{"$f":"Fund!P334","v":""}]
[null,null,null,null,null,null,null,null,null,null,null,null,{"$f":"Fund!W335","v":"00:00:00"},{"$f":"Fund!X335","v":0},{"$f":"-Fund!V335","v":0},{"$f":"Fund!V335","v":0},{"$f":"Fund!P335","v":""}]
[null,null,null,null,null,null,null,null,null,null,null,null,{"$f":"Fund!W336","v":"00:00:00"},{"$f":"Fund!X336","v":0},{"$f":"-Fund!V336","v":0},{"$f":"Fund!V336","v":0},{"$f":"Fund!P336","v":""}]
[null,null,null,null,null,null,null,null,null,null,null,null,{"$f":"Fund!W337","v":"00:00:00"},{"$f":"Fund!X337","v":0},{"$f":"-Fund!V337","v":0},{"$f":"Fund!V337","v":0},{"$f":"Fund!P337","v":""}]
[null,null,null,null,null,null,null,null,null,null,null,null,{"$f":"Fund!W338","v":"00:00:00"},{"$f":"Fund!X338","v":0},{"$f":"-Fund!V338","v":0},{"$f":"Fund!V338","v":0},{"$f":"Fund!P338","v":""}]
[null,null,null,null,null,null,null,null,null,null,null,null,{"$f":"Fund!W339","v":"00:00:00"},{"$f":"Fund!X339","v":0},{"$f":"-Fund!V339","v":0},{"$f":"Fund!V339","v":0},{"$f":"Fund!P339","v":""}]
[null,null,null,null,null,null,null,null,null,null,null,null,{"$f":"Fund!W340","v":"00:00:00"},{"$f":"Fund!X340","v":0},{"$f":"-Fund!V340","v":0},{"$f":"Fund!V340","v":0},{"$f":"Fund!P340","v":""}]
[null,null,null,null,null,null,null,null,null,null,null,null,{"$f":"Fund!W341","v":"00:00:00"},{"$f":"Fund!X341","v":0},{"$f":"-Fund!V341","v":0},{"$f":"Fund!V341","v":0},{"$f":"Fund!P341","v":""}]
[null,null,null,null,null,null,null,null,null,null,null,null,{"$f":"Fund!W342","v":"00:00:00"},{"$f":"Fund!X342","v":0},{"$f":"-Fund!V342","v":0},{"$f":"Fund!V342","v":0},{"$f":"Fund!P342","v":""}]
[null,null,null,null,null,null,null,null,null,null,null,null,{"$f":"Fund!W343","v":"00:00:00"},{"$f":"Fund!X343","v":0},{"$f":"-Fund!V343","v":0},{"$f":"Fund!V343","v":0},{"$f":"Fund!P343","v":""}]
[null,null,null,null,null,null,null,null,null,null,null,null,{"$f":"Fund!W344","v":"00:00:00"},{"$f":"Fund!X344","v":0},{"$f":"-Fund!V344","v":0},{"$f":"Fund!V344","v":0},{"$f":"Fund!P344","v":""}]
[null,null,null,null,null,null,null,null,null,null,null,null,{"$f":"Fund!W345","v":"00:00:00"},{"$f":"Fund!X345","v":0},{"$f":"-Fund!V345","v":0},{"$f":"Fund!V345","v":0},{"$f":"Fund!P345","v":""}]
[null,null,null,null,null,null,null,null,null,null,null,null,{"$f":"Fund!W346","v":"00:00:00"},{"$f":"Fund!X346","v":0},{"$f":"-Fund!V346","v":0},{"$f":"Fund!V346","v":0},{"$f":"Fund!P346","v":""}]
[null,null,null,null,null,null,null,null,null,null,null,null,{"$f":"Fund!W347","v":"00:00:00"},{"$f":"Fund!X347","v":0},{"$f":"-Fund!V347","v":0},{"$f":"Fund!V347","v":0},{"$f":"Fund!P347","v":""}]
[null,null,null,null,null,null,null,null,null,null,null,null,{"$f":"Fund!W348","v":"00:00:00"},{"$f":"Fund!X348","v":0},{"$f":"-Fund!V348","v":0},{"$f":"Fund!V348","v":0},{"$f":"Fund!P348","v":""}]
[null,null,null,null,null,null,null,null,null,null,null,null,{"$f":"Fund!W349","v":"00:00:00"},{"$f":"Fund!X349","v":0},{"$f":"-Fund!V349","v":0},{"$f":"Fund!V349","v":0},{"$f":"Fund!P349","v":""}]
[null,null,null,null,null,null,null,null,null,null,null,null,{"$f":"Fund!W350","v":"00:00:00"},{"$f":"Fund!X350","v":0},{"$f":"-Fund!V350","v":0},{"$f":"Fund!V350","v":0},{"$f":"Fund!P350","v":""}]
[null,null,null,null,null,null,null,null,null,null,null,null,{"$f":"Fund!W351","v":"00:00:00"},{"$f":"Fund!X351","v":0},{"$f":"-Fund!V351","v":0},{"$f":"Fund!V351","v":0},{"$f":"Fund!P351","v":""}]
[null,null,null,null,null,null,null,null,null,null,null,null,{"$f":"Fund!W352","v":"2007-03-06"},{"$f":"Fund!X352","v":12.710100000000001},{"$f":"-Fund!V352","v":1000},{"$f":"Fund!V352","v":-1000},{"$f":"Fund!P352","v":78.677587115758328}]
[null,null,null,null,null,null,null,null,null,null,null,null,{"$f":"Fund!W353","v":"00:00:00"},{"$f":"Fund!X353","v":0},{"$f":"-Fund!V353","v":0},{"$f":"Fund!V353","v":0},{"$f":"Fund!P353","v":""}]
[null,null,null,null,null,null,null,null,null,null,null,null,{"$f":"Fund!W354","v":"00:00:00"},{"$f":"Fund!X354","v":0},{"$f":"-Fund!V354","v":0},{"$f":"Fund!V354","v":0},{"$f":"Fund!P354","v":""}]
[null,null,null,null,null,null,null,null,null,null,null,null,{"$f":"Fund!W355","v":"00:00:00"},{"$f":"Fund!X355","v":0},{"$f":"-Fund!V355","v":0},{"$f":"Fund!V355","v":0},{"$f":"Fund!P355","v":""}]
[null,null,null,null,null,null,null,null,null,null,null,null,{"$f":"Fund!W356","v":"00:00:00"},{"$f":"Fund!X356","v":0},{"$f":"-Fund!V356","v":0},{"$f":"Fund!V356","v":0},{"$f":"Fund!P356","v":""}]
[null,null,null,null,null,null,null,null,null,null,null,null,{"$f":"Fund!W357","v":"00:00:00"},{"$f":"Fund!X357","v":0},{"$f":"-Fund!V357","v":0},{"$f":"Fund!V357","v":0},{"$f":"Fund!P357","v":""}]
[null,null,null,null,null,null,null,null,null,null,null,null,{"$f":"Fund!W358","v":"00:00:00"},{"$f":"Fund!X358","v":0},{"$f":"-Fund!V358","v":0},{"$f":"Fund!V358","v":0},{"$f":"Fund!P358","v":""}]
[null,null,null,null,null,null,null,null,null,null,null,null,{"$f":"Fund!W359","v":"00:00:00"},{"$f":"Fund!X359","v":0},{"$f":"-Fund!V359","v":0},{"$f":"Fund!V359","v":0},{"$f":"Fund!P359","v":""}]
[null,null,null,null,null,null,null,null,null,null,null,null,{"$f":"Fund!W360","v":"00:00:00"},{"$f":"Fund!X360","v":0},{"$f":"-Fund!V360","v":0},{"$f":"Fund!V360","v":0},{"$f":"Fund!P360","v":""}]
[null,null,null,null,null,null,null,null,null,null,null,null,{"$f":"Fund!W361","v":"00:00:00"},{"$f":"Fund!X361","v":0},{"$f":"-Fund!V361","v":0},{"$f":"Fund!V361","v":0},{"$f":"Fund!P361","v":""}]
[null,null,null,null,null,null,null,null,null,null,null,null,{"$f":"Fund!W362","v":"00:00:00"},{"$f":"Fund!X362","v":0},{"$f":"-Fund!V362","v":0},{"$f":"Fund!V362","v":0},{"$f":"Fund!P362","v":""}]
[null,null,null,null,null,null,null,null,null,null,null,null,{"$f":"Fund!W363","v":"00:00:00"},{"$f":"Fund!X363","v":0},{"$f":"-Fund!V363","v":0},{"$f":"Fund!V363","v":0},{"$f":"Fund!P363","v":""}]
[null,null,null,null,null,null,null,null,null,null,null,null,{"$f":"Fund!W364","v":"00:00:00"},{"$f":"Fund!X364","v":0},{"$f":"-Fund!V364","v":0},{"$f":"Fund!V364","v":0},{"$f":"Fund!P364","v":""}]
[null,null,null,null,null,null,null,null,null,null,null,null,{"$f":"Fund!W365","v":"00:00:00"},{"$f":"Fund!X365","v":0},{"$f":"-Fund!V365","v":0},{"$f":"Fund!V365","v":0},{"$f":"Fund!P365","v":""}]
[null,null,null,null,null,null,null,null,null,null,null,null,{"$f":"Fund!W366","v":"00:00:00"},{"$f":"Fund!X366","v":0},{"$f":"-Fund!V366","v":0},{"$f":"Fund!V366","v":0},{"$f":"Fund!P366","v":""}]
[null,null,null,null,null,null,null,null,null,null,null,null,{"$f":"Fund!W367","v":"00:00:00"},{"$f":"Fund!X367","v":0},{"$f":"-Fund!V367","v":0},{"$f":"Fund!V367","v":0},{"$f":"Fund!P367","v":""}]
[null,null,null,null,null,null,null,null,null,null,null,null,{"$f":"Fund!W368","v":"00:00:00"},{"$f":"Fund!X368","v":0},{"$f":"-Fund!V368","v":0},{"$f":"Fund!V368","v":0},{"$f":"Fund!P368","v":""}]
[null,null,null,null,null,null,null,null,null,null,null,null,{"$f":"Fund!W369","v":"00:00:00"},{"$f":"Fund!X369","v":0},{"$f":"-Fund!V369","v":0},{"$f":"Fund!V369","v":0},{"$f":"Fund!P369","v":""}]
[null,null,null,null,null,null,null,null,null,null,null,null,{"$f":"Fund!W370","v":"00:00:00"},{"$f":"Fund!X370","v":0},{"$f":"-Fund!V370","v":0},{"$f":"Fund!V370","v":0},{"$f":"Fund!P370","v":""}]
[null,null,null,null,null,null,null,null,null,null,null,null,{"$f":"Fund!W371","v":"00:00:00"},{"$f":"Fund!X371","v":0},{"$f":"-Fund!V371","v":0},{"$f":"Fund!V371","v":0},{"$f":"Fund!P371","v":""}]
[null,null,null,null,null,null,null,null,null,null,null,null,{"$f":"Fund!W372","v":"00:00:00"},{"$f":"Fund!X372","v":0},{"$f":"-Fund!V372","v":0},{"$f":"Fund!V372","v":0},{"$f":"Fund!P372","v":""}]
[null,null,null,null,null,null,null,null,null,null,null,null,{"$f":"Fund!W373","v":"00:00:00"},{"$f":"Fund!X373","v":0},{"$f":"-Fund!V373","v":0},{"$f":"Fund!V373","v":0},{"$f":"Fund!P373","v":""}]
[null,null,null,null,null,null,null,null,null,null,null,null,{"$f":"Fund!W374","v":"2007-04-09"},{"$f":"Fund!X374","v":13.466200000000001},{"$f":"-Fund!V374","v":1000},{"$f":"Fund!V374","v":-1000},{"$f":"Fund!P374","v":74.25999910888001}]
[null,null,null,null,null,null,null,null,null,null,null,null,{"$f":"Fund!W375","v":"00:00:00"},{"$f":"Fund!X375","v":0},{"$f":"-Fund!V375","v":0},{"$f":"Fund!V375","v":0},{"$f":"Fund!P375","v":""}]
[null,null,null,null,null,null,null,null,null,null,null,null,{"$f":"Fund!W376","v":"00:00:00"},{"$f":"Fund!X376","v":0},{"$f":"-Fund!V376","v":0},{"$f":"Fund!V376","v":0},{"$f":"Fund!P376","v":""}]
[null,null,null,null,null,null,null,null,null,null,null,null,{"$f":"Fund!W377","v":"00:00:00"},{"$f":"Fund!X377","v":0},{"$f":"-Fund!V377","v":0},{"$f":"Fund!V377","v":0},{"$f":"Fund!P377","v":""}]
[null,null,null,null,null,null,null,null,null,null,null,null,{"$f":"Fund!W378","v":"00:00:00"},{"$f":"Fund!X378","v":0},{"$f":"-Fund!V378","v":0},{"$f":"Fund!V378","v":0},{"$f":"Fund!P378","v":""}]
[null,null,null,null,null,null,null,null,null,null,null,null,{"$f":"Fund!W379","v":"00:00:00"},{"$f":"Fund!X379","v":0},{"$f":"-Fund!V379","v":0},{"$f":"Fund!V379","v":0},{"$f":"Fund!P379","v":""}]
[null,null,null,null,null,null,null,null,null,null,null,null,{"$f":"Fund!W380","v":"00:00:00"},{"$f":"Fund!X380","v":0},{"$f":"-Fund!V380","v":0},{"$f":"Fund!V380","v":0},{"$f":"Fund!P380","v":""}]
[null,null,null,null,null,null,null,null,null,null,null,null,{"$f":"Fund!W381","v":"00:00:00"},{"$f":"Fund!X381","v":0},{"$f":"-Fund!V381","v":0},{"$f":"Fund!V381","v":0},{"$f":"Fund!P381","v":""}]
[null,null,null,null,null,null,null,null,null,null,null,null,{"$f":"Fund!W382","v":"00:00:00"},{"$f":"Fund!X382","v":0},{"$f":"-Fund!V382","v":0},{"$f":"Fund!V382","v":0},{"$f":"Fund!P382","v":""}]
[null,null,null,null,null,null,null,null,null,null,null,null,{"$f":"Fund!W383","v":"00:00:00"},{"$f":"Fund!X383","v":0},{"$f":"-Fund!V383","v":0},{"$f":"Fund!V383","v":0},{"$f":"Fund!P383","v":""}]
[null,null,null,null,null,null,null,null,null,null,null,null,{"$f":"Fund!W384","v":"00:00:00"},{"$f":"Fund!X384","v":0},{"$f":"-Fund!V384","v":0},{"$f":"Fund!V384","v":0},{"$f":"Fund!P384","v":""}]
[null,null,null,null,null,null,null,null,null,null,null,null,{"$f":"Fund!W385","v":"00:00:00"},{"$f":"Fund!X385","v":0},{"$f":"-Fund!V385","v":0},{"$f":"Fund!V385","v":0},{"$f":"Fund!P385","v":""}]
[null,null,null,null,null,null,null,null,null,null,null,null,{"$f":"Fund!W386","v":"00:00:00"},{"$f":"Fund!X386","v":0},{"$f":"-Fund!V386","v":0},{"$f":"Fund!V386","v":0},{"$f":"Fund!P386","v":""}]
[null,null,null,null,null,null,null,null,null,null,null,null,{"$f":"Fund!W387","v":"00:00:00"},{"$f":"Fund!X387","v":0},{"$f":"-Fund!V387","v":0},{"$f":"Fund!V387","v":0},{"$f":"Fund!P387","v":""}]
[null,null,null,null,null,null,null,null,null,null,null,null,{"$f":"Fund!W388","v":"00:00:00"},{"$f":"Fund!X388","v":0},{"$f":"-Fund!V388","v":0},{"$f":"Fund!V388","v":0},{"$f":"Fund!P388","v":""}]
[null,null,null,null,null,null,null,null,null,null,null,null,{"$f":"Fund!W389","v":"00:00:00"},{"$f":"Fund!X389","v":0},{"$f":"-Fund!V389","v":0},{"$f":"Fund!V389","v":0},{"$f":"Fund!P389","v":""}]
[null,null,null,null,null,null,null,null,null,null,null,null,{"$f":"Fund!W390","v":"00:00:00"},{"$f":"Fund!X390","v":0},{"$f":"-Fund!V390","v":0},{"$f":"Fund!V390","v":0},{"$f":"Fund!P390","v":""}]
[null,null,null,null,null,null,null,null,null,null,null,null,{"$f":"Fund!W391","v":"00:00:00"},{"$f":"Fund!X391","v":0},{"$f":"-Fund!V391","v":0},{"$f":"Fund!V391","v":0},{"$f":"Fund!P391","v":""}]
[null,null,null,null,null,null,null,null,null,null,null,null,{"$f":"Fund!W392","v":"2007-05-07"},{"$f":"Fund!X392","v":14.472},{"$f":"-Fund!V392","v":1000},{"$f":"Fund!V392","v":-1000},{"$f":"Fund!P392","v":69.09894969596462}]
[null,null,null,null,null,null,null,null,null,null,null,null,{"$f":"Fund!W393","v":"00:00:00"},{"$f":"Fund!X393","v":0},{"$f":"-Fund!V393","v":0},{"$f":"Fund!V393","v":0},{"$f":"Fund!P393","v":""}]
[null,null,null,null,null,null,null,null,null,null,null,null,{"$f":"Fund!W394","v":"00:00:00"},{"$f":"Fund!X394","v":0},{"$f":"-Fund!V394","v":0},{"$f":"Fund!V394","v":0},{"$f":"Fund!P394","v":""}]
[null,null,null,null,null,null,null,null,null,null,null,null,{"$f":"Fund!W395","v":"00:00:00"},{"$f":"Fund!X395","v":0},{"$f":"-Fund!V395","v":0},{"$f":"Fund!V395","v":0},{"$f":"Fund!P395","v":""}]
[null,null,null,null,null,null,null,null,null,null,null,null,{"$f":"Fund!W396","v":"00:00:00"},{"$f":"Fund!X396","v":0},{"$f":"-Fund!V396","v":0},{"$f":"Fund!V396","v":0},{"$f":"Fund!P396","v":""}]
[null,null,null,null,null,null,null,null,null,null,null,null,{"$f":"Fund!W397","v":"00:00:00"},{"$f":"Fund!X397","v":0},{"$f":"-Fund!V397","v":0},{"$f":"Fund!V397","v":0},{"$f":"Fund!P397","v":""}]
[null,null,null,null,null,null,null,null,null,null,null,null,{"$f":"Fund!W398","v":"00:00:00"},{"$f":"Fund!X398","v":0},{"$f":"-Fund!V398","v":0},{"$f":"Fund!V398","v":0},{"$f":"Fund!P398","v":""}]
[null,null,null,null,null,null,null,null,null,null,null,null,{"$f":"Fund!W399","v":"00:00:00"},{"$f":"Fund!X399","v":0},{"$f":"-Fund!V399","v":0},{"$f":"Fund!V399","v":0},{"$f":"Fund!P399","v":""}]
[null,null,null,null,null,null,null,null,null,null,null,null,{"$f":"Fund!W400","v":"00:00:00"},{"$f":"Fund!X400","v":0},{"$f":"-Fund!V400","v":0},{"$f":"Fund!V400","v":0},{"$f":"Fund!P400","v":""}]
[null,null,null,null,null,null,null,null,null,null,null,null,{"$f":"Fund!W401","v":"00:00:00"},{"$f":"Fund!X401","v":0},{"$f":"-Fund!V401","v":0},{"$f":"Fund!V401","v":0},{"$f":"Fund!P401","v":""}]
[null,null,null,null,null,null,null,null,null,null,null,null,{"$f":"Fund!W402","v":"00:00:00"},{"$f":"Fund!X402","v":0},{"$f":"-Fund!V402","v":0},{"$f":"Fund!V402","v":0},{"$f":"Fund!P402","v":""}]
[null,null,null,null,null,null,null,null,null,null,null,null,{"$f":"Fund!W403","v":"00:00:00"},{"$f":"Fund!X403","v":0},{"$f":"-Fund!V403","v":0},{"$f":"Fund!V403","v":0},{"$f":"Fund!P403","v":""}]
[null,null,null,null,null,null,null,null,null,null,null,null,{"$f":"Fund!W404","v":"00:00:00"},{"$f":"Fund!X404","v":0},{"$f":"-Fund!V404","v":0},{"$f":"Fund!V404","v":0},{"$f":"Fund!P404","v":""}]
[null,null,null,null,null,null,null,null,null,null,null,null,{"$f":"Fund!W405","v":"00:00:00"},{"$f":"Fund!X405","v":0},{"$f":"-Fund!V405","v":0},{"$f":"Fund!V405","v":0},{"$f":"Fund!P405","v":""}]
[null,null,null,null,null,null,null,null,null,null,null,null,{"$f":"Fund!W406","v":"00:00:00"},{"$f":"Fund!X406","v":0},{"$f":"-Fund!V406","v":0},{"$f":"Fund!V406","v":0},{"$f":"Fund!P406","v":""}]
[null,null,null,null,null,null,null,null,null,null,null,null,{"$f":"Fund!W407","v":"00:00:00"},{"$f":"Fund!X407","v":0},{"$f":"-Fund!V407","v":0},{"$f":"Fund!V407","v":0},{"$f":"Fund!P407","v":""}]
[null,null,null,null,null,null,null,null,null,null,null,null,{"$f":"Fund!W408","v":"00:00:00"},{"$f":"Fund!X408","v":0},{"$f":"-Fund!V408","v":0},{"$f":"Fund!V408","v":0},{"$f":"Fund!P408","v":""}]
[null,null,null,null,null,null,null,null,null,null,null,null,{"$f":"Fund!W409","v":"00:00:00"},{"$f":"Fund!X409","v":0},{"$f":"-Fund!V409","v":0},{"$f":"Fund!V409","v":0},{"$f":"Fund!P409","v":""}]
[null,null,null,null,null,null,null,null,null,null,null,null,{"$f":"Fund!W410","v":"00:00:00"},{"$f":"Fund!X410","v":0},{"$f":"-Fund!V410","v":0},{"$f":"Fund!V410","v":0},{"$f":"Fund!P410","v":""}]
[null,null,null,null,null,null,null,null,null,null,null,null,{"$f":"Fund!W411","v":"2007-06-06"},{"$f":"Fund!X411","v":15.7553},{"$f":"-Fund!V411","v":1000},{"$f":"Fund!V411","v":-1000},{"$f":"Fund!P411","v":63.470705096062915}]
[null,null,null,null,null,null,null,null,null,null,null,null,{"$f":"Fund!W412","v":"00:00:00"},{"$f":"Fund!X412","v":0},{"$f":"-Fund!V412","v":0},{"$f":"Fund!V412","v":0},{"$f":"Fund!P412","v":""}]
[null,null,null,null,null,null,null,null,null,null,null,null,{"$f":"Fund!W413","v":"00:00:00"},{"$f":"Fund!X413","v":0},{"$f":"-Fund!V413","v":0},{"$f":"Fund!V413","v":0},{"$f":"Fund!P413","v":""}]
[null,null,null,null,null,null,null,null,null,null,null,null,{"$f":"Fund!W414","v":"00:00:00"},{"$f":"Fund!X414","v":0},{"$f":"-Fund!V414","v":0},{"$f":"Fund!V414","v":0},{"$f":"Fund!P414","v":""}]
[null,null,null,null,null,null,null,null,null,null,null,null,{"$f":"Fund!W415","v":"00:00:00"},{"$f":"Fund!X415","v":0},{"$f":"-Fund!V415","v":0},{"$f":"Fund!V415","v":0},{"$f":"Fund!P415","v":""}]
[null,null,null,null,null,null,null,null,null,null,null,null,{"$f":"Fund!W416","v":"00:00:00"},{"$f":"Fund!X416","v":0},{"$f":"-Fund!V416","v":0},{"$f":"Fund!V416","v":0},{"$f":"Fund!P416","v":""}]
[null,null,null,null,null,null,null,null,null,null,null,null,{"$f":"Fund!W417","v":"00:00:00"},{"$f":"Fund!X417","v":0},{"$f":"-Fund!V417","v":0},{"$f":"Fund!V417","v":0},{"$f":"Fund!P417","v":""}]
[null,null,null,null,null,null,null,null,null,null,null,null,{"$f":"Fund!W418","v":"00:00:00"},{"$f":"Fund!X418","v":0},{"$f":"-Fund!V418","v":0},{"$f":"Fund!V418","v":0},{"$f":"Fund!P418","v":""}]
[null,null,null,null,null,null,null,null,null,null,null,null,{"$f":"Fund!W419","v":"00:00:00"},{"$f":"Fund!X419","v":0},{"$f":"-Fund!V419","v":0},{"$f":"Fund!V419","v":0},{"$f":"Fund!P419","v":""}]
[null,null,null,null,null,null,null,null,null,null,null,null,{"$f":"Fund!W420","v":"00:00:00"},{"$f":"Fund!X420","v":0},{"$f":"-Fund!V420","v":0},{"$f":"Fund!V420","v":0},{"$f":"Fund!P420","v":""}]
[null,null,null,null,null,null,null,null,null,null,null,null,{"$f":"Fund!W421","v":"00:00:00"},{"$f":"Fund!X421","v":0},{"$f":"-Fund!V421","v":0},{"$f":"Fund!V421","v":0},{"$f":"Fund!P421","v":""}]
[null,null,null,null,null,null,null,null,null,null,null,null,{"$f":"Fund!W422","v":"00:00:00"},{"$f":"Fund!X422","v":0},{"$f":"-Fund!V422","v":0},{"$f":"Fund!V422","v":0},{"$f":"Fund!P422","v":""}]
[null,null,null,null,null,null,null,null,null,null,null,null,{"$f":"Fund!W423","v":"00:00:00"},{"$f":"Fund!X423","v":0},{"$f":"-Fund!V423","v":0},{"$f":"Fund!V423","v":0},{"$f":"Fund!P423","v":""}]
[null,null,null,null,null,null,null,null,null,null,null,null,{"$f":"Fund!W424","v":"00:00:00"},{"$f":"Fund!X424","v":0},{"$f":"-Fund!V424","v":0},{"$f":"Fund!V424","v":0},{"$f":"Fund!P424","v":""}]
[null,null,null,null,null,null,null,null,null,null,null,null,{"$f":"Fund!W425","v":"00:00:00"},{"$f":"Fund!X425","v":0},{"$f":"-Fund!V425","v":0},{"$f":"Fund!V425","v":0},{"$f":"Fund!P425","v":""}]
[null,null,null,null,null,null,null,null,null,null,null,null,{"$f":"Fund!W426","v":"00:00:00"},{"$f":"Fund!X426","v":0},{"$f":"-Fund!V426","v":0},{"$f":"Fund!V426","v":0},{"$f":"Fund!P426","v":""}]
[null,null,null,null,null,null,null,null,null,null,null,null,{"$f":"Fund!W427","v":"00:00:00"},{"$f":"Fund!X427","v":0},{"$f":"-Fund!V427","v":0},{"$f":"Fund!V427","v":0},{"$f":"Fund!P427","v":""}]
[null,null,null,null,null,null,null,null,null,null,null,null,{"$f":"Fund!W428","v":"00:00:00"},{"$f":"Fund!X428","v":0},{"$f":"-Fund!V428","v":0},{"$f":"Fund!V428","v":0},{"$f":"Fund!P428","v":""}]
[null,null,null,null,null,null,null,null,null,null,null,null,{"$f":"Fund!W429","v":"00:00:00"},{"$f":"Fund!X429","v":0},{"$f":"-Fund!V429","v":0},{"$f":"Fund!V429","v":0},{"$f":"Fund!P429","v":""}]
[null,null,null,null,null,null,null,null,null,null,null,null,{"$f":"Fund!W430","v":"00:00:00"},{"$f":"Fund!X430","v":0},{"$f":"-Fund!V430","v":0},{"$f":"Fund!V430","v":0},{"$f":"Fund!P430","v":""}]
[null,null,null,null,null,null,null,null,null,null,null,null,{"$f":"Fund!W431","v":"00:00:00"},{"$f":"Fund!X431","v":0},{"$f":"-Fund!V431","v":0},{"$f":"Fund!V431","v":0},{"$f":"Fund!P431","v":""}]
[null,null,null,null,null,null,null,null,null,null,null,null,{"$f":"Fund!W432","v":"00:00:00"},{"$f":"Fund!X432","v":0},{"$f":"-Fund!V432","v":0},{"$f":"Fund!V432","v":0},{"$f":"Fund!P432","v":""}]
[null,null,null,null,null,null,null,null,null,null,null,null,{"$f":"Fund!W433","v":"2007-07-06"},{"$f":"Fund!X433","v":17.611899999999999},{"$f":"-Fund!V433","v":1000},{"$f":"Fund!V433","v":-1000},{"$f":"Fund!P433","v":56.779790936809775}]
[null,null,null,null,null,null,null,null,null,null,null,null,{"$f":"Fund!W434","v":"00:00:00"},{"$f":"Fund!X434","v":0},{"$f":"-Fund!V434","v":0},{"$f":"Fund!V434","v":0},{"$f":"Fund!P434","v":""}]
[null,null,null,null,null,null,null,null,null,null,null,null,{"$f":"Fund!W435","v":"00:00:00"},{"$f":"Fund!X435","v":0},{"$f":"-Fund!V435","v":0},{"$f":"Fund!V435","v":0},{"$f":"Fund!P435","v":""}]
[null,null,null,null,null,null,null,null,null,null,null,null,{"$f":"Fund!W436","v":"00:00:00"},{"$f":"Fund!X436","v":0},{"$f":"-Fund!V436","v":0},{"$f":"Fund!V436","v":0},{"$f":"Fund!P436","v":""}]
[null,null,null,null,null,null,null,null,null,null,null,null,{"$f":"Fund!W437","v":"00:00:00"},{"$f":"Fund!X437","v":0},{"$f":"-Fund!V437","v":0},{"$f":"Fund!V437","v":0},{"$f":"Fund!P437","v":""}]
[null,null,null,null,null,null,null,null,null,null,null,null,{"$f":"Fund!W438","v":"00:00:00"},{"$f":"Fund!X438","v":0},{"$f":"-Fund!V438","v":0},{"$f":"Fund!V438","v":0},{"$f":"Fund!P438","v":""}]
[null,null,null,null,null,null,null,null,null,null,null,null,{"$f":"Fund!W439","v":"00:00:00"},{"$f":"Fund!X439","v":0},{"$f":"-Fund!V439","v":0},{"$f":"Fund!V439","v":0},{"$f":"Fund!P439","v":""}]
[null,null,null,null,null,null,null,null,null,null,null,null,{"$f":"Fund!W440","v":"00:00:00"},{"$f":"Fund!X440","v":0},{"$f":"-Fund!V440","v":0},{"$f":"Fund!V440","v":0},{"$f":"Fund!P440","v":""}]
[null,null,null,null,null,null,null,null,null,null,null,null,{"$f":"Fund!W441","v":"00:00:00"},{"$f":"Fund!X441","v":0},{"$f":"-Fund!V441","v":0},{"$f":"Fund!V441","v":0},{"$f":"Fund!P441","v":""}]
[null,null,null,null,null,null,null,null,null,null,null,null,{"$f":"Fund!W442","v":"00:00:00"},{"$f":"Fund!X442","v":0},{"$f":"-Fund!V442","v":0},{"$f":"Fund!V442","v":0},{"$f":"Fund!P442","v":""}]
[null,null,null,null,null,null,null,null,null,null,null,null,{"$f":"Fund!W443","v":"00:00:00"},{"$f":"Fund!X443","v":0},{"$f":"-Fund!V443","v":0},{"$f":"Fund!V443","v":0},{"$f":"Fund!P443","v":""}]
[null,null,null,null,null,null,null,null,null,null,null,null,{"$f":"Fund!W444","v":"00:00:00"},{"$f":"Fund!X444","v":0},{"$f":"-Fund!V444","v":0},{"$f":"Fund!V444","v":0},{"$f":"Fund!P444","v":""}]
[null,null,null,null,null,null,null,null,null,null,null,null,{"$f":"Fund!W445","v":"00:00:00"},{"$f":"Fund!X445","v":0},{"$f":"-Fund!V445","v":0},{"$f":"Fund!V445","v":0},{"$f":"Fund!P445","v":""}]
[null,null,null,null,null,null,null,null,null,null,null,null,{"$f":"Fund!W446","v":"00:00:00"},{"$f":"Fund!X446","v":0},{"$f":"-Fund!V446","v":0},{"$f":"Fund!V446","v":0},{"$f":"Fund!P446","v":""}]
[null,null,null,null,null,null,null,null,null,null,null,null,{"$f":"Fund!W447","v":"00:00:00"},{"$f":"Fund!X447","v":0},{"$f":"-Fund!V447","v":0},{"$f":"Fund!V447","v":0},{"$f":"Fund!P447","v":""}]
[null,null,null,null,null,null,null,null,null,null,null,null,{"$f":"Fund!W448","v":"00:00:00"},{"$f":"Fund!X448","v":0},{"$f":"-Fund!V448","v":0},{"$f":"Fund!V448","v":0},{"$f":"Fund!P448","v":""}]
[null,null,null,null,null,null,null,null,null,null,null,null,{"$f":"Fund!W449","v":"00:00:00"},{"$f":"Fund!X449","v":0},{"$f":"-Fund!V449","v":0},{"$f":"Fund!V449","v":0},{"$f":"Fund!P449","v":""}]
[null,null,null,null,null,null,null,null,null,null,null,null,{"$f":"Fund!W450","v":"00:00:00"},{"$f":"Fund!X450","v":0},{"$f":"-Fund!V450","v":0},{"$f":"Fund!V450","v":0},{"$f":"Fund!P450","v":""}]
[null,null,null,null,null,null,null,null,null,null,null,null,{"$f":"Fund!W451","v":"00:00:00"},{"$f":"Fund!X451","v":0},{"$f":"-Fund!V451","v":0},{"$f":"Fund!V451","v":0},{"$f":"Fund!P451","v":""}]
[null,null,null,null,null,null,null,null,null,null,null,null,{"$f":"Fund!W452","v":"00:00:00"},{"$f":"Fund!X452","v":0},{"$f":"-Fund!V452","v":0},{"$f":"Fund!V452","v":0},{"$f":"Fund!P452","v":""}]
[null,null,null,null,null,null,null,null,null,null,null,null,{"$f":"Fund!W453","v":"2007-08-06"},{"$f":"Fund!X453","v":17.0764},{"$f":"-Fund!V453","v":1000},{"$f":"Fund!V453","v":-1000},{"$f":"Fund!P453","v":58.560352299079433}]
[null,null,null,null,null,null,null,null,null,null,null,null,{"$f":"Fund!W454","v":"00:00:00"},{"$f":"Fund!X454","v":0},{"$f":"-Fund!V454","v":0},{"$f":"Fund!V454","v":0},{"$f":"Fund!P454","v":""}]
[null,null,null,null,null,null,null,null,null,null,null,null,{"$f":"Fund!W455","v":"00:00:00"},{"$f":"Fund!X455","v":0},{"$f":"-Fund!V455","v":0},{"$f":"Fund!V455","v":0},{"$f":"Fund!P455","v":""}]
[null,null,null,null,null,null,null,null,null,null,null,null,{"$f":"Fund!W456","v":"00:00:00"},{"$f":"Fund!X456","v":0},{"$f":"-Fund!V456","v":0},{"$f":"Fund!V456","v":0},{"$f":"Fund!P456","v":""}]
[null,null,null,null,null,null,null,null,null,null,null,null,{"$f":"Fund!W457","v":"00:00:00"},{"$f":"Fund!X457","v":0},{"$f":"-Fund!V457","v":0},{"$f":"Fund!V457","v":0},{"$f":"Fund!P457","v":""}]
[null,null,null,null,null,null,null,null,null,null,null,null,{"$f":"Fund!W458","v":"00:00:00"},{"$f":"Fund!X458","v":0},{"$f":"-Fund!V458","v":0},{"$f":"Fund!V458","v":0},{"$f":"Fund!P458","v":""}]
[null,null,null,null,null,null,null,null,null,null,null,null,{"$f":"Fund!W459","v":"00:00:00"},{"$f":"Fund!X459","v":0},{"$f":"-Fund!V459","v":0},{"$f":"Fund!V459","v":0},{"$f":"Fund!P459","v":""}]
[null,null,null,null,null,null,null,null,null,null,null,null,{"$f":"Fund!W460","v":"00:00:00"},{"$f":"Fund!X460","v":0},{"$f":"-Fund!V460","v":0},{"$f":"Fund!V460","v":0},{"$f":"Fund!P460","v":""}]
[null,null,null,null,null,null,null,null,null,null,null,null,{"$f":"Fund!W461","v":"00:00:00"},{"$f":"Fund!X461","v":0},{"$f":"-Fund!V461","v":0},{"$f":"Fund!V461","v":0},{"$f":"Fund!P461","v":""}]
[null,null,null,null,null,null,null,null,null,null,null,null,{"$f":"Fund!W462","v":"00:00:00"},{"$f":"Fund!X462","v":0},{"$f":"-Fund!V462","v":0},{"$f":"Fund!V462","v":0},{"$f":"Fund!P462","v":""}]
[null,null,null,null,null,null,null,null,null,null,null,null,{"$f":"Fund!W463","v":"00:00:00"},{"$f":"Fund!X463","v":0},{"$f":"-Fund!V463","v":0},{"$f":"Fund!V463","v":0},{"$f":"Fund!P463","v":""}]
[null,null,null,null,null,null,null,null,null,null,null,null,{"$f":"Fund!W464","v":"00:00:00"},{"$f":"Fund!X464","v":0},{"$f":"-Fund!V464","v":0},{"$f":"Fund!V464","v":0},{"$f":"Fund!P464","v":""}]
[null,null,null,null,null,null,null,null,null,null,null,null,{"$f":"Fund!W465","v":"00:00:00"},{"$f":"Fund!X465","v":0},{"$f":"-Fund!V465","v":0},{"$f":"Fund!V465","v":0},{"$f":"Fund!P465","v":""}]
[null,null,null,null,null,null,null,null,null,null,null,null,{"$f":"Fund!W466","v":"00:00:00"},{"$f":"Fund!X466","v":0},{"$f":"-Fund!V466","v":0},{"$f":"Fund!V466","v":0},{"$f":"Fund!P466","v":""}]
[null,null,null,null,null,null,null,null,null,null,null,null,{"$f":"Fund!W467","v":"00:00:00"},{"$f":"Fund!X467","v":0},{"$f":"-Fund!V467","v":0},{"$f":"Fund!V467","v":0},{"$f":"Fund!P467","v":""}]
[null,null,null,null,null,null,null,null,null,null,null,null,{"$f":"Fund!W468","v":"00:00:00"},{"$f":"Fund!X468","v":0},{"$f":"-Fund!V468","v":0},{"$f":"Fund!V468","v":0},{"$f":"Fund!P468","v":""}]
[null,null,null,null,null,null,null,null,null,null,null,null,{"$f":"Fund!W469","v":"00:00:00"},{"$f":"Fund!X469","v":0},{"$f":"-Fund!V469","v":0},{"$f":"Fund!V469","v":0},{"$f":"Fund!P469","v":""}]
[null,null,null,null,null,null,null,null,null,null,null,null,{"$f":"Fund!W470","v":"00:00:00"},{"$f":"Fund!X470","v":0},{"$f":"-Fund!V470","v":0},{"$f":"Fund!V470","v":0},{"$f":"Fund!P470","v":""}]
[null,null,null,null,null,null,null,null,null,null,null,null,{"$f":"Fund!W471","v":"00:00:00"},{"$f":"Fund!X471","v":0},{"$f":"-Fund!V471","v":0},{"$f":"Fund!V471","v":0},{"$f":"Fund!P471","v":""}]
[null,null,null,null,null,null,null,null,null,null,null,null,{"$f":"Fund!W472","v":"00:00:00"},{"$f":"Fund!X472","v":0},{"$f":"-Fund!V472","v":0},{"$f":"Fund!V472","v":0},{"$f":"Fund!P472","v":""}]
[null,null,null,null,null,null,null,null,null,null,null,null,{"$f":"Fund!W473","v":"00:00:00"},{"$f":"Fund!X473","v":0},{"$f":"-Fund!V473","v":0},{"$f":"Fund!V473","v":0},{"$f":"Fund!P473","v":""}]
[null,null,null,null,null,null,null,null,null,null,null,null,{"$f":"Fund!W474","v":"00:00:00"},{"$f":"Fund!X474","v":0},{"$f":"-Fund!V474","v":0},{"$f":"Fund!V474","v":0},{"$f":"Fund!P474","v":""}]
[null,null,null,null,null,null,null,null,null,null,null,null,{"$f":"Fund!W475","v":"2007-09-06"},{"$f":"Fund!X475","v":17.979399999999998},{"$f":"-Fund!V475","v":1000},{"$f":"Fund!V475","v":-1000},{"$f":"Fund!P475","v":55.619208649899335}]
[null,null,null,null,null,null,null,null,null,null,null,null,{"$f":"Fund!W476","v":"00:00:00"},{"$f":"Fund!X476","v":0},{"$f":"-Fund!V476","v":0},{"$f":"Fund!V476","v":0},{"$f":"Fund!P476","v":""}]
[null,null,null,null,null,null,null,null,null,null,null,null,{"$f":"Fund!W477","v":"00:00:00"},{"$f":"Fund!X477","v":0},{"$f":"-Fund!V477","v":0},{"$f":"Fund!V477","v":0},{"$f":"Fund!P477","v":""}]
[null,null,null,null,null,null,null,null,null,null,null,null,{"$f":"Fund!W478","v":"00:00:00"},{"$f":"Fund!X478","v":0},{"$f":"-Fund!V478","v":0},{"$f":"Fund!V478","v":0},{"$f":"Fund!P478","v":""}]
[null,null,null,null,null,null,null,null,null,null,null,null,{"$f":"Fund!W479","v":"00:00:00"},{"$f":"Fund!X479","v":0},{"$f":"-Fund!V479","v":0},{"$f":"Fund!V479","v":0},{"$f":"Fund!P479","v":""}]
[null,null,null,null,null,null,null,null,null,null,null,null,{"$f":"Fund!W480","v":"00:00:00"},{"$f":"Fund!X480","v":0},{"$f":"-Fund!V480","v":0},{"$f":"Fund!V480","v":0},{"$f":"Fund!P480","v":""}]
[null,null,null,null,null,null,null,null,null,null,null,null,{"$f":"Fund!W481","v":"00:00:00"},{"$f":"Fund!X481","v":0},{"$f":"-Fund!V481","v":0},{"$f":"Fund!V481","v":0},{"$f":"Fund!P481","v":""}]
[null,null,null,null,null,null,null,null,null,null,null,null,{"$f":"Fund!W482","v":"00:00:00"},{"$f":"Fund!X482","v":0},{"$f":"-Fund!V482","v":0},{"$f":"Fund!V482","v":0},{"$f":"Fund!P482","v":""}]
[null,null,null,null,null,null,null,null,null,null,null,null,{"$f":"Fund!W483","v":"00:00:00"},{"$f":"Fund!X483","v":0},{"$f":"-Fund!V483","v":0},{"$f":"Fund!V483","v":0},{"$f":"Fund!P483","v":""}]
[null,null,null,null,null,null,null,null,null,null,null,null,{"$f":"Fund!W484","v":"00:00:00"},{"$f":"Fund!X484","v":0},{"$f":"-Fund!V484","v":0},{"$f":"Fund!V484","v":0},{"$f":"Fund!P484","v":""}]
[null,null,null,null,null,null,null,null,null,null,null,null,{"$f":"Fund!W485","v":"00:00:00"},{"$f":"Fund!X485","v":0},{"$f":"-Fund!V485","v":0},{"$f":"Fund!V485","v":0},{"$f":"Fund!P485","v":""}]
[null,null,null,null,null,null,null,null,null,null,null,null,{"$f":"Fund!W486","v":"00:00:00"},{"$f":"Fund!X486","v":0},{"$f":"-Fund!V486","v":0},{"$f":"Fund!V486","v":0},{"$f":"Fund!P486","v":""}]
[null,null,null,null,null,null,null,null,null,null,null,null,{"$f":"Fund!W487","v":"00:00:00"},{"$f":"Fund!X487","v":0},{"$f":"-Fund!V487","v":0},{"$f":"Fund!V487","v":0},{"$f":"Fund!P487","v":""}]
[null,null,null,null,null,null,null,null,null,null,null,null,{"$f":"Fund!W488","v":"00:00:00"},{"$f":"Fund!X488","v":0},{"$f":"-Fund!V488","v":0},{"$f":"Fund!V488","v":0},{"$f":"Fund!P488","v":""}]
[null,null,null,null,null,null,null,null,null,null,null,null,{"$f":"Fund!W489","v":"00:00:00"},{"$f":"Fund!X489","v":0},{"$f":"-Fund!V489","v":0},{"$f":"Fund!V489","v":0},{"$f":"Fund!P489","v":""}]
[null,null,null,null,null,null,null,null,null,null,null,null,{"$f":"Fund!W490","v":"00:00:00"},{"$f":"Fund!X490","v":0},{"$f":"-Fund!V490","v":0},{"$f":"Fund!V490","v":0},{"$f":"Fund!P490","v":""}]
[null,null,null,null,null,null,null,null,null,null,null,null,{"$f":"Fund!W491","v":"00:00:00"},{"$f":"Fund!X491","v":0},{"$f":"-Fund!V491","v":0},{"$f":"Fund!V491","v":0},{"$f":"Fund!P491","v":""}]
[null,null,null,null,null,null,null,null,null,null,null,null,{"$f":"Fund!W492","v":"00:00:00"},{"$f":"Fund!X492","v":0},{"$f":"-Fund!V492","v":0},{"$f":"Fund!V492","v":0},{"$f":"Fund!P492","v":""}]
[null,null,null,null,null,null,null,null,null,null,null,null,{"$f":"Fund!W493","v":"00:00:00"},{"$f":"Fund!X493","v":0},{"$f":"-Fund!V493","v":0},{"$f":"Fund!V493","v":0},{"$f":"Fund!P493","v":""}]
[null,null,null,null,null,null,null,null,null,null,null,null,{"$f":"Fund!W494","v":"00:00:00"},{"$f":"Fund!X494","v":0},{"$f":"-Fund!V494","v":0},{"$f":"Fund!V494","v":0},{"$f":"Fund!P494","v":""}]
[null,null,null,null,null,null,null,null,null,null,null,null,{"$f":"Fund!W495","v":"00:00:00"},{"$f":"Fund!X495","v":0},{"$f":"-Fund!V495","v":0},{"$f":"Fund!V495","v":0},{"$f":"Fund!P495","v":""}]
[null,null,null,null,null,null,null,null,null,null,null,null,{"$f":"Fund!W496","v":"2007-10-08"},{"$f":"Fund!X496","v":19.085699999999999},{"$f":"-Fund!V496","v":1000},{"$f":"Fund!V496","v":-1000},{"$f":"Fund!P496","v":52.395248798838921}]
[null,null,null,null,null,null,null,null,null,null,null,null,{"$f":"Fund!W497","v":"00:00:00"},{"$f":"Fund!X497","v":0},{"$f":"-Fund!V497","v":0},{"$f":"Fund!V497","v":0},{"$f":"Fund!P497","v":""}]
[null,null,null,null,null,null,null,null,null,null,null,null,{"$f":"Fund!W498","v":"00:00:00"},{"$f":"Fund!X498","v":0},{"$f":"-Fund!V498","v":0},{"$f":"Fund!V498","v":0},{"$f":"Fund!P498","v":""}]
[null,null,null,null,null,null,null,null,null,null,null,null,{"$f":"Fund!W499","v":"00:00:00"},{"$f":"Fund!X499","v":0},{"$f":"-Fund!V499","v":0},{"$f":"Fund!V499","v":0},{"$f":"Fund!P499","v":""}]
[null,null,null,null,null,null,null,null,null,null,null,null,{"$f":"Fund!W500","v":"00:00:00"},{"$f":"Fund!X500","v":0},{"$f":"-Fund!V500","v":0},{"$f":"Fund!V500","v":0},{"$f":"Fund!P500","v":""}]
[null,null,null,null,null,null,null,null,null,null,null,null,{"$f":"Fund!W501","v":"00:00:00"},{"$f":"Fund!X501","v":0},{"$f":"-Fund!V501","v":0},{"$f":"Fund!V501","v":0},{"$f":"Fund!P501","v":""}]
[null,null,null,null,null,null,null,null,null,null,null,null,{"$f":"Fund!W502","v":"00:00:00"},{"$f":"Fund!X502","v":0},{"$f":"-Fund!V502","v":0},{"$f":"Fund!V502","v":0},{"$f":"Fund!P502","v":""}]
[null,null,null,null,null,null,null,null,null,null,null,null,{"$f":"Fund!W503","v":"00:00:00"},{"$f":"Fund!X503","v":0},{"$f":"-Fund!V503","v":0},{"$f":"Fund!V503","v":0},{"$f":"Fund!P503","v":""}]
[null,null,null,null,null,null,null,null,null,null,null,null,{"$f":"Fund!W504","v":"00:00:00"},{"$f":"Fund!X504","v":0},{"$f":"-Fund!V504","v":0},{"$f":"Fund!V504","v":0},{"$f":"Fund!P504","v":""}]
[null,null,null,null,null,null,null,null,null,null,null,null,{"$f":"Fund!W505","v":"00:00:00"},{"$f":"Fund!X505","v":0},{"$f":"-Fund!V505","v":0},{"$f":"Fund!V505","v":0},{"$f":"Fund!P505","v":""}]
[null,null,null,null,null,null,null,null,null,null,null,null,{"$f":"Fund!W506","v":"00:00:00"},{"$f":"Fund!X506","v":0},{"$f":"-Fund!V506","v":0},{"$f":"Fund!V506","v":0},{"$f":"Fund!P506","v":""}]
[null,null,null,null,null,null,null,null,null,null,null,null,{"$f":"Fund!W507","v":"00:00:00"},{"$f":"Fund!X507","v":0},{"$f":"-Fund!V507","v":0},{"$f":"Fund!V507","v":0},{"$f":"Fund!P507","v":""}]
[null,null,null,null,null,null,null,null,null,null,null,null,{"$f":"Fund!W508","v":"00:00:00"},{"$f":"Fund!X508","v":0},{"$f":"-Fund!V508","v":0},{"$f":"Fund!V508","v":0},{"$f":"Fund!P508","v":""}]
[null,null,null,null,null,null,null,null,null,null,null,null,{"$f":"Fund!W509","v":"00:00:00"},{"$f":"Fund!X509","v":0},{"$f":"-Fund!V509","v":0},{"$f":"Fund!V509","v":0},{"$f":"Fund!P509","v":""}]
[null,null,null,null,null,null,null,null,null,null,null,null,{"$f":"Fund!W510","v":"00:00:00"},{"$f":"Fund!X510","v":0},{"$f":"-Fund!V510","v":0},{"$f":"Fund!V510","v":0},{"$f":"Fund!P510","v":""}]
[null,null,null,null,null,null,null,null,null,null,null,null,{"$f":"Fund!W511","v":"00:00:00"},{"$f":"Fund!X511","v":0},{"$f":"-Fund!V511","v":0},{"$f":"Fund!V511","v":0},{"$f":"Fund!P511","v":""}]
[null,null,null,null,null,null,null,null,null,null,null,null,{"$f":"Fund!W512","v":"00:00:00"},{"$f":"Fund!X512","v":0},{"$f":"-Fund!V512","v":0},{"$f":"Fund!V512","v":0},{"$f":"Fund!P512","v":""}]
[null,null,null,null,null,null,null,null,null,null,null,null,{"$f":"Fund!W513","v":"00:00:00"},{"$f":"Fund!X513","v":0},{"$f":"-Fund!V513","v":0},{"$f":"Fund!V513","v":0},{"$f":"Fund!P513","v":""}]
[null,null,null,null,null,null,null,null,null,null,null,null,{"$f":"Fund!W514","v":"00:00:00"},{"$f":"Fund!X514","v":0},{"$f":"-Fund!V514","v":0},{"$f":"Fund!V514","v":0},{"$f":"Fund!P514","v":""}]
[null,null,null,null,null,null,null,null,null,null,null,null,{"$f":"Fund!W515","v":"00:00:00"},{"$f":"Fund!X515","v":0},{"$f":"-Fund!V515","v":0},{"$f":"Fund!V515","v":0},{"$f":"Fund!P515","v":""}]
[null,null,null,null,null,null,null,null,null,null,null,null,{"$f":"Fund!W516","v":"2007-11-06"},{"$f":"Fund!X516","v":22.604299999999999},{"$f":"-Fund!V516","v":1000},{"$f":"Fund!V516","v":-1000},{"$f":"Fund!P516","v":44.239370385280679}]
[null,null,null,null,null,null,null,null,null,null,null,null,{"$f":"Fund!W517","v":"00:00:00"},{"$f":"Fund!X517","v":0},{"$f":"-Fund!V517","v":0},{"$f":"Fund!V517","v":0},{"$f":"Fund!P517","v":""}]
[null,null,null,null,null,null,null,null,null,null,null,null,{"$f":"Fund!W518","v":"00:00:00"},{"$f":"Fund!X518","v":0},{"$f":"-Fund!V518","v":0},{"$f":"Fund!V518","v":0},{"$f":"Fund!P518","v":""}]
[null,null,null,null,null,null,null,null,null,null,null,null,{"$f":"Fund!W519","v":"00:00:00"},{"$f":"Fund!X519","v":0},{"$f":"-Fund!V519","v":0},{"$f":"Fund!V519","v":0},{"$f":"Fund!P519","v":""}]
[null,null,null,null,null,null,null,null,null,null,null,null,{"$f":"Fund!W520","v":"00:00:00"},{"$f":"Fund!X520","v":0},{"$f":"-Fund!V520","v":0},{"$f":"Fund!V520","v":0},{"$f":"Fund!P520","v":""}]
[null,null,null,null,null,null,null,null,null,null,null,null,{"$f":"Fund!W521","v":"00:00:00"},{"$f":"Fund!X521","v":0},{"$f":"-Fund!V521","v":0},{"$f":"Fund!V521","v":0},{"$f":"Fund!P521","v":""}]
[null,null,null,null,null,null,null,null,null,null,null,null,{"$f":"Fund!W522","v":"00:00:00"},{"$f":"Fund!X522","v":0},{"$f":"-Fund!V522","v":0},{"$f":"Fund!V522","v":0},{"$f":"Fund!P522","v":""}]
[null,null,null,null,null,null,null,null,null,null,null,null,{"$f":"Fund!W523","v":"00:00:00"},{"$f":"Fund!X523","v":0},{"$f":"-Fund!V523","v":0},{"$f":"Fund!V523","v":0},{"$f":"Fund!P523","v":""}]
[null,null,null,null,null,null,null,null,null,null,null,null,{"$f":"Fund!W524","v":"00:00:00"},{"$f":"Fund!X524","v":0},{"$f":"-Fund!V524","v":0},{"$f":"Fund!V524","v":0},{"$f":"Fund!P524","v":""}]
[null,null,null,null,null,null,null,null,null,null,null,null,{"$f":"Fund!W525","v":"00:00:00"},{"$f":"Fund!X525","v":0},{"$f":"-Fund!V525","v":0},{"$f":"Fund!V525","v":0},{"$f":"Fund!P525","v":""}]
[null,null,null,null,null,null,null,null,null,null,null,null,{"$f":"Fund!W526","v":"00:00:00"},{"$f":"Fund!X526","v":0},{"$f":"-Fund!V526","v":0},{"$f":"Fund!V526","v":0},{"$f":"Fund!P526","v":""}]
[null,null,null,null,null,null,null,null,null,null,null,null,{"$f":"Fund!W527","v":"00:00:00"},{"$f":"Fund!X527","v":0},{"$f":"-Fund!V527","v":0},{"$f":"Fund!V527","v":0},{"$f":"Fund!P527","v":""}]
[null,null,null,null,null,null,null,null,null,null,null,null,{"$f":"Fund!W528","v":"00:00:00"},{"$f":"Fund!X528","v":0},{"$f":"-Fund!V528","v":0},{"$f":"Fund!V528","v":0},{"$f":"Fund!P528","v":""}]
[null,null,null,null,null,null,null,null,null,null,null,null,{"$f":"Fund!W529","v":"00:00:00"},{"$f":"Fund!X529","v":0},{"$f":"-Fund!V529","v":0},{"$f":"Fund!V529","v":0},{"$f":"Fund!P529","v":""}]
[null,null,null,null,null,null,null,null,null,null,null,null,{"$f":"Fund!W530","v":"00:00:00"},{"$f":"Fund!X530","v":0},{"$f":"-Fund!V530","v":0},{"$f":"Fund!V530","v":0},{"$f":"Fund!P530","v":""}]
[null,null,null,null,null,null,null,null,null,null,null,null,{"$f":"Fund!W531","v":"00:00:00"},{"$f":"Fund!X531","v":0},{"$f":"-Fund!V531","v":0},{"$f":"Fund!V531","v":0},{"$f":"Fund!P531","v":""}]
[null,null,null,null,null,null,null,null,null,null,null,null,{"$f":"Fund!W532","v":"00:00:00"},{"$f":"Fund!X532","v":0},{"$f":"-Fund!V532","v":0},{"$f":"Fund!V532","v":0},{"$f":"Fund!P532","v":""}]
[null,null,null,null,null,null,null,null,null,null,null,null,{"$f":"Fund!W533","v":"00:00:00"},{"$f":"Fund!X533","v":0},{"$f":"-Fund!V533","v":0},{"$f":"Fund!V533","v":0},{"$f":"Fund!P533","v":""}]
[null,null,null,null,null,null,null,null,null,null,null,null,{"$f":"Fund!W534","v":"00:00:00"},{"$f":"Fund!X534","v":0},{"$f":"-Fund!V534","v":0},{"$f":"Fund!V534","v":0},{"$f":"Fund!P534","v":""}]
[null,null,null,null,null,null,null,null,null,null,null,null,{"$f":"Fund!W535","v":"2007-12-06"},{"$f":"Fund!X535","v":24.848800000000001},{"$f":"-Fund!V535","v":1000},{"$f":"Fund!V535","v":-1000},{"$f":"Fund!P535","v":40.243392035027846}]
[null,null,null,null,null,null,null,null,null,null,null,null,{"$f":"Fund!W536","v":"00:00:00"},{"$f":"Fund!X536","v":0},{"$f":"-Fund!V536","v":0},{"$f":"Fund!V536","v":0},{"$f":"Fund!P536","v":""}]
[null,null,null,null,null,null,null,null,null,null,null,null,{"$f":"Fund!W537","v":"00:00:00"},{"$f":"Fund!X537","v":0},{"$f":"-Fund!V537","v":0},{"$f":"Fund!V537","v":0},{"$f":"Fund!P537","v":""}]
[null,null,null,null,null,null,null,null,null,null,null,null,{"$f":"Fund!W538","v":"00:00:00"},{"$f":"Fund!X538","v":0},{"$f":"-Fund!V538","v":0},{"$f":"Fund!V538","v":0},{"$f":"Fund!P538","v":""}]
[null,null,null,null,null,null,null,null,null,null,null,null,{"$f":"Fund!W539","v":"00:00:00"},{"$f":"Fund!X539","v":0},{"$f":"-Fund!V539","v":0},{"$f":"Fund!V539","v":0},{"$f":"Fund!P539","v":""}]
[null,null,null,null,null,null,null,null,null,null,null,null,{"$f":"Fund!W540","v":"00:00:00"},{"$f":"Fund!X540","v":0},{"$f":"-Fund!V540","v":0},{"$f":"Fund!V540","v":0},{"$f":"Fund!P540","v":""}]
[null,null,null,null,null,null,null,null,null,null,null,null,{"$f":"Fund!W541","v":"00:00:00"},{"$f":"Fund!X541","v":0},{"$f":"-Fund!V541","v":0},{"$f":"Fund!V541","v":0},{"$f":"Fund!P541","v":""}]
[null,null,null,null,null,null,null,null,null,null,null,null,{"$f":"Fund!W542","v":"00:00:00"},{"$f":"Fund!X542","v":0},{"$f":"-Fund!V542","v":0},{"$f":"Fund!V542","v":0},{"$f":"Fund!P542","v":""}]
[null,null,null,null,null,null,null,null,null,null,null,null,{"$f":"Fund!W543","v":"00:00:00"},{"$f":"Fund!X543","v":0},{"$f":"-Fund!V543","v":0},{"$f":"Fund!V543","v":0},{"$f":"Fund!P543","v":""}]
[null,null,null,null,null,null,null,null,null,null,null,null,{"$f":"Fund!W544","v":"00:00:00"},{"$f":"Fund!X544","v":0},{"$f":"-Fund!V544","v":0},{"$f":"Fund!V544","v":0},{"$f":"Fund!P544","v":""}]
[null,null,null,null,null,null,null,null,null,null,null,null,{"$f":"Fund!W545","v":"00:00:00"},{"$f":"Fund!X545","v":0},{"$f":"-Fund!V545","v":0},{"$f":"Fund!V545","v":0},{"$f":"Fund!P545","v":""}]
[null,null,null,null,null,null,null,null,null,null,null,null,{"$f":"Fund!W546","v":"00:00:00"},{"$f":"Fund!X546","v":0},{"$f":"-Fund!V546","v":0},{"$f":"Fund!V546","v":0},{"$f":"Fund!P546","v":""}]
[null,null,null,null,null,null,null,null,null,null,null,null,{"$f":"Fund!W547","v":"00:00:00"},{"$f":"Fund!X547","v":0},{"$f":"-Fund!V547","v":0},{"$f":"Fund!V547","v":0},{"$f":"Fund!P547","v":""}]
[null,null,null,null,null,null,null,null,null,null,null,null,{"$f":"Fund!W548","v":"00:00:00"},{"$f":"Fund!X548","v":0},{"$f":"-Fund!V548","v":0},{"$f":"Fund!V548","v":0},{"$f":"Fund!P548","v":""}]
[null,null,null,null,null,null,null,null,null,null,null,null,{"$f":"Fund!W549","v":"00:00:00"},{"$f":"Fund!X549","v":0},{"$f":"-Fund!V549","v":0},{"$f":"Fund!V549","v":0},{"$f":"Fund!P549","v":""}]
[null,null,null,null,null,null,null,null,null,null,null,null,{"$f":"Fund!W550","v":"00:00:00"},{"$f":"Fund!X550","v":0},{"$f":"-Fund!V550","v":0},{"$f":"Fund!V550","v":0},{"$f":"Fund!P550","v":""}]
[null,null,null,null,null,null,null,null,null,null,null,null,{"$f":"Fund!W551","v":"00:00:00"},{"$f":"Fund!X551","v":0},{"$f":"-Fund!V551","v":0},{"$f":"Fund!V551","v":0},{"$f":"Fund!P551","v":""}]
[null,null,null,null,null,null,null,null,null,null,null,null,{"$f":"Fund!W552","v":"00:00:00"},{"$f":"Fund!X552","v":0},{"$f":"-Fund!V552","v":0},{"$f":"Fund!V552","v":0},{"$f":"Fund!P552","v":""}]
[null,null,null,null,null,null,null,null,null,null,null,null,{"$f":"Fund!W553","v":"00:00:00"},{"$f":"Fund!X553","v":0},{"$f":"-Fund!V553","v":0},{"$f":"Fund!V553","v":0},{"$f":"Fund!P553","v":""}]
[null,null,null,null,null,null,null,null,null,null,null,null,{"$f":"Fund!W554","v":"00:00:00"},{"$f":"Fund!X554","v":0},{"$f":"-Fund!V554","v":0},{"$f":"Fund!V554","v":0},{"$f":"Fund!P554","v":""}]
[null,null,null,null,null,null,null,null,null,null,null,null,{"$f":"Fund!W555","v":"2008-01-07"},{"$f":"Fund!X555","v":28.331600000000002},{"$f":"-Fund!V555","v":1000},{"$f":"Fund!V555","v":-1000},{"$f":"Fund!P555","v":35.296276948707451}]
[null,null,null,null,null,null,null,null,null,null,null,null,{"$f":"Fund!W556","v":"00:00:00"},{"$f":"Fund!X556","v":0},{"$f":"-Fund!V556","v":0},{"$f":"Fund!V556","v":0},{"$f":"Fund!P556","v":""}]
[null,null,null,null,null,null,null,null,null,null,null,null,{"$f":"Fund!W557","v":"00:00:00"},{"$f":"Fund!X557","v":0},{"$f":"-Fund!V557","v":0},{"$f":"Fund!V557","v":0},{"$f":"Fund!P557","v":""}]
[null,null,null,null,null,null,null,null,null,null,null,null,{"$f":"Fund!W558","v":"00:00:00"},{"$f":"Fund!X558","v":0},{"$f":"-Fund!V558","v":0},{"$f":"Fund!V558","v":0},{"$f":"Fund!P558","v":""}]
[null,null,null,null,null,null,null,null,null,null,null,null,{"$f":"Fund!W559","v":"00:00:00"},{"$f":"Fund!X559","v":0},{"$f":"-Fund!V559","v":0},{"$f":"Fund!V559","v":0},{"$f":"Fund!P559","v":""}]
[null,null,null,null,null,null,null,null,null,null,null,null,{"$f":"Fund!W560","v":"00:00:00"},{"$f":"Fund!X560","v":0},{"$f":"-Fund!V560","v":0},{"$f":"Fund!V560","v":0},{"$f":"Fund!P560","v":""}]
[null,null,null,null,null,null,null,null,null,null,null,null,{"$f":"Fund!W561","v":"00:00:00"},{"$f":"Fund!X561","v":0},{"$f":"-Fund!V561","v":0},{"$f":"Fund!V561","v":0},{"$f":"Fund!P561","v":""}]
[null,null,null,null,null,null,null,null,null,null,null,null,{"$f":"Fund!W562","v":"00:00:00"},{"$f":"Fund!X562","v":0},{"$f":"-Fund!V562","v":0},{"$f":"Fund!V562","v":0},{"$f":"Fund!P562","v":""}]
[null,null,null,null,null,null,null,null,null,null,null,null,{"$f":"Fund!W563","v":"00:00:00"},{"$f":"Fund!X563","v":0},{"$f":"-Fund!V563","v":0},{"$f":"Fund!V563","v":0},{"$f":"Fund!P563","v":""}]
[null,null,null,null,null,null,null,null,null,null,null,null,{"$f":"Fund!W564","v":"00:00:00"},{"$f":"Fund!X564","v":0},{"$f":"-Fund!V564","v":0},{"$f":"Fund!V564","v":0},{"$f":"Fund!P564","v":""}]
[null,null,null,null,null,null,null,null,null,null,null,null,{"$f":"Fund!W565","v":"00:00:00"},{"$f":"Fund!X565","v":0},{"$f":"-Fund!V565","v":0},{"$f":"Fund!V565","v":0},{"$f":"Fund!P565","v":""}]
[null,null,null,null,null,null,null,null,null,null,null,null,{"$f":"Fund!W566","v":"00:00:00"},{"$f":"Fund!X566","v":0},{"$f":"-Fund!V566","v":0},{"$f":"Fund!V566","v":0},{"$f":"Fund!P566","v":""}]
[null,null,null,null,null,null,null,null,null,null,null,null,{"$f":"Fund!W567","v":"00:00:00"},{"$f":"Fund!X567","v":0},{"$f":"-Fund!V567","v":0},{"$f":"Fund!V567","v":0},{"$f":"Fund!P567","v":""}]
[null,null,null,null,null,null,null,null,null,null,null,null,{"$f":"Fund!W568","v":"00:00:00"},{"$f":"Fund!X568","v":0},{"$f":"-Fund!V568","v":0},{"$f":"Fund!V568","v":0},{"$f":"Fund!P568","v":""}]
[null,null,null,null,null,null,null,null,null,null,null,null,{"$f":"Fund!W569","v":"00:00:00"},{"$f":"Fund!X569","v":0},{"$f":"-Fund!V569","v":0},{"$f":"Fund!V569","v":0},{"$f":"Fund!P569","v":""}]
[null,null,null,null,null,null,null,null,null,null,null,null,{"$f":"Fund!W570","v":"00:00:00"},{"$f":"Fund!X570","v":0},{"$f":"-Fund!V570","v":0},{"$f":"Fund!V570","v":0},{"$f":"Fund!P570","v":""}]
[null,null,null,null,null,null,null,null,null,null,null,null,{"$f":"Fund!W571","v":"00:00:00"},{"$f":"Fund!X571","v":0},{"$f":"-Fund!V571","v":0},{"$f":"Fund!V571","v":0},{"$f":"Fund!P571","v":""}]
[null,null,null,null,null,null,null,null,null,null,null,null,{"$f":"Fund!W572","v":"00:00:00"},{"$f":"Fund!X572","v":0},{"$f":"-Fund!V572","v":0},{"$f":"Fund!V572","v":0},{"$f":"Fund!P572","v":""}]
[null,null,null,null,null,null,null,null,null,null,null,null,{"$f":"Fund!W573","v":"00:00:00"},{"$f":"Fund!X573","v":0},{"$f":"-Fund!V573","v":0},{"$f":"Fund!V573","v":0},{"$f":"Fund!P573","v":""}]
[null,null,null,null,null,null,null,null,null,null,null,null,{"$f":"Fund!W574","v":"00:00:00"},{"$f":"Fund!X574","v":0},{"$f":"-Fund!V574","v":0},{"$f":"Fund!V574","v":0},{"$f":"Fund!P574","v":""}]
[null,null,null,null,null,null,null,null,null,null,null,null,{"$f":"Fund!W575","v":"00:00:00"},{"$f":"Fund!X575","v":0},{"$f":"-Fund!V575","v":0},{"$f":"Fund!V575","v":0},{"$f":"Fund!P575","v":""}]
[null,null,null,null,null,null,null,null,null,null,null,null,{"$f":"Fund!W576","v":"00:00:00"},{"$f":"Fund!X576","v":0},{"$f":"-Fund!V576","v":0},{"$f":"Fund!V576","v":0},{"$f":"Fund!P576","v":""}]
[null,null,null,null,null,null,null,null,null,null,null,null,{"$f":"Fund!W577","v":"2008-02-06"},{"$f":"Fund!X577","v":24.488700000000001},{"$f":"-Fund!V577","v":1000},{"$f":"Fund!V577","v":-1000},{"$f":"Fund!P577","v":40.835160706774957}]
[null,null,null,null,null,null,null,null,null,null,null,null,{"$f":"Fund!W578","v":"00:00:00"},{"$f":"Fund!X578","v":0},{"$f":"-Fund!V578","v":0},{"$f":"Fund!V578","v":0},{"$f":"Fund!P578","v":""}]
[null,null,null,null,null,null,null,null,null,null,null,null,{"$f":"Fund!W579","v":"00:00:00"},{"$f":"Fund!X579","v":0},{"$f":"-Fund!V579","v":0},{"$f":"Fund!V579","v":0},{"$f":"Fund!P579","v":""}]
[null,null,null,null,null,null,null,null,null,null,null,null,{"$f":"Fund!W580","v":"00:00:00"},{"$f":"Fund!X580","v":0},{"$f":"-Fund!V580","v":0},{"$f":"Fund!V580","v":0},{"$f":"Fund!P580","v":""}]
[null,null,null,null,null,null,null,null,null,null,null,null,{"$f":"Fund!W581","v":"00:00:00"},{"$f":"Fund!X581","v":0},{"$f":"-Fund!V581","v":0},{"$f":"Fund!V581","v":0},{"$f":"Fund!P581","v":""}]
[null,null,null,null,null,null,null,null,null,null,null,null,{"$f":"Fund!W582","v":"00:00:00"},{"$f":"Fund!X582","v":0},{"$f":"-Fund!V582","v":0},{"$f":"Fund!V582","v":0},{"$f":"Fund!P582","v":""}]
[null,null,null,null,null,null,null,null,null,null,null,null,{"$f":"Fund!W583","v":"00:00:00"},{"$f":"Fund!X583","v":0},{"$f":"-Fund!V583","v":0},{"$f":"Fund!V583","v":0},{"$f":"Fund!P583","v":""}]
[null,null,null,null,null,null,null,null,null,null,null,null,{"$f":"Fund!W584","v":"00:00:00"},{"$f":"Fund!X584","v":0},{"$f":"-Fund!V584","v":0},{"$f":"Fund!V584","v":0},{"$f":"Fund!P584","v":""}]
[null,null,null,null,null,null,null,null,null,null,null,null,{"$f":"Fund!W585","v":"00:00:00"},{"$f":"Fund!X585","v":0},{"$f":"-Fund!V585","v":0},{"$f":"Fund!V585","v":0},{"$f":"Fund!P585","v":""}]
[null,null,null,null,null,null,null,null,null,null,null,null,{"$f":"Fund!W586","v":"00:00:00"},{"$f":"Fund!X586","v":0},{"$f":"-Fund!V586","v":0},{"$f":"Fund!V586","v":0},{"$f":"Fund!P586","v":""}]
[null,null,null,null,null,null,null,null,null,null,null,null,{"$f":"Fund!W587","v":"00:00:00"},{"$f":"Fund!X587","v":0},{"$f":"-Fund!V587","v":0},{"$f":"Fund!V587","v":0},{"$f":"Fund!P587","v":""}]
[null,null,null,null,null,null,null,null,null,null,null,null,{"$f":"Fund!W588","v":"00:00:00"},{"$f":"Fund!X588","v":0},{"$f":"-Fund!V588","v":0},{"$f":"Fund!V588","v":0},{"$f":"Fund!P588","v":""}]
[null,null,null,null,null,null,null,null,null,null,null,null,{"$f":"Fund!W589","v":"00:00:00"},{"$f":"Fund!X589","v":0},{"$f":"-Fund!V589","v":0},{"$f":"Fund!V589","v":0},{"$f":"Fund!P589","v":""}]
[null,null,null,null,null,null,null,null,null,null,null,null,{"$f":"Fund!W590","v":"00:00:00"},{"$f":"Fund!X590","v":0},{"$f":"-Fund!V590","v":0},{"$f":"Fund!V590","v":0},{"$f":"Fund!P590","v":""}]
[null,null,null,null,null,null,null,null,null,null,null,null,{"$f":"Fund!W591","v":"00:00:00"},{"$f":"Fund!X591","v":0},{"$f":"-Fund!V591","v":0},{"$f":"Fund!V591","v":0},{"$f":"Fund!P591","v":""}]
[null,null,null,null,null,null,null,null,null,null,null,null,{"$f":"Fund!W592","v":"00:00:00"},{"$f":"Fund!X592","v":0},{"$f":"-Fund!V592","v":0},{"$f":"Fund!V592","v":0},{"$f":"Fund!P592","v":""}]
[null,null,null,null,null,null,null,null,null,null,null,null,{"$f":"Fund!W593","v":"00:00:00"},{"$f":"Fund!X593","v":0},{"$f":"-Fund!V593","v":0},{"$f":"Fund!V593","v":0},{"$f":"Fund!P593","v":""}]
[null,null,null,null,null,null,null,null,null,null,null,null,{"$f":"Fund!W594","v":"00:00:00"},{"$f":"Fund!X594","v":0},{"$f":"-Fund!V594","v":0},{"$f":"Fund!V594","v":0},{"$f":"Fund!P594","v":""}]
[null,null,null,null,null,null,null,null,null,null,null,null,{"$f":"Fund!W595","v":"00:00:00"},{"$f":"Fund!X595","v":0},{"$f":"-Fund!V595","v":0},{"$f":"Fund!V595","v":0},{"$f":"Fund!P595","v":""}]
[null,null,null,null,null,null,null,null,null,null,null,null,{"$f":"Fund!W596","v":"00:00:00"},{"$f":"Fund!X596","v":0},{"$f":"-Fund!V596","v":0},{"$f":"Fund!V596","v":0},{"$f":"Fund!P596","v":""}]
[null,null,null,null,null,null,null,null,null,null,null,null,{"$f":"Fund!W597","v":"00:00:00"},{"$f":"Fund!X597","v":0},{"$f":"-Fund!V597","v":0},{"$f":"Fund!V597","v":0},{"$f":"Fund!P597","v":""}]
[null,null,null,null,null,null,null,null,null,null,null,null,{"$f":"Fund!W598","v":"2008-03-07"},{"$f":"Fund!X598","v":20.8825},{"$f":"-Fund!V598","v":1000},{"$f":"Fund!V598","v":-1000},{"$f":"Fund!P598","v":47.886986711361189}]
[null,null,null,null,null,null,null,null,null,null,null,null,{"$f":"Fund!W599","v":"00:00:00"},{"$f":"Fund!X599","v":0},{"$f":"-Fund!V599","v":0},{"$f":"Fund!V599","v":0},{"$f":"Fund!P599","v":""}]
[null,null,null,null,null,null,null,null,null,null,null,null,{"$f":"Fund!W600","v":"00:00:00"},{"$f":"Fund!X600","v":0},{"$f":"-Fund!V600","v":0},{"$f":"Fund!V600","v":0},{"$f":"Fund!P600","v":""}]
[null,null,null,null,null,null,null,null,null,null,null,null,{"$f":"Fund!W601","v":"00:00:00"},{"$f":"Fund!X601","v":0},{"$f":"-Fund!V601","v":0},{"$f":"Fund!V601","v":0},{"$f":"Fund!P601","v":""}]
[null,null,null,null,null,null,null,null,null,null,null,null,{"$f":"Fund!W602","v":"00:00:00"},{"$f":"Fund!X602","v":0},{"$f":"-Fund!V602","v":0},{"$f":"Fund!V602","v":0},{"$f":"Fund!P602","v":""}]
[null,null,null,null,null,null,null,null,null,null,null,null,{"$f":"Fund!W603","v":"00:00:00"},{"$f":"Fund!X603","v":0},{"$f":"-Fund!V603","v":0},{"$f":"Fund!V603","v":0},{"$f":"Fund!P603","v":""}]
[null,null,null,null,null,null,null,null,null,null,null,null,{"$f":"Fund!W604","v":"00:00:00"},{"$f":"Fund!X604","v":0},{"$f":"-Fund!V604","v":0},{"$f":"Fund!V604","v":0},{"$f":"Fund!P604","v":""}]
[null,null,null,null,null,null,null,null,null,null,null,null,{"$f":"Fund!W605","v":"00:00:00"},{"$f":"Fund!X605","v":0},{"$f":"-Fund!V605","v":0},{"$f":"Fund!V605","v":0},{"$f":"Fund!P605","v":""}]
[null,null,null,null,null,null,null,null,null,null,null,null,{"$f":"Fund!W606","v":"00:00:00"},{"$f":"Fund!X606","v":0},{"$f":"-Fund!V606","v":0},{"$f":"Fund!V606","v":0},{"$f":"Fund!P606","v":""}]
[null,null,null,null,null,null,null,null,null,null,null,null,{"$f":"Fund!W607","v":"00:00:00"},{"$f":"Fund!X607","v":0},{"$f":"-Fund!V607","v":0},{"$f":"Fund!V607","v":0},{"$f":"Fund!P607","v":""}]
[null,null,null,null,null,null,null,null,null,null,null,null,{"$f":"Fund!W608","v":"00:00:00"},{"$f":"Fund!X608","v":0},{"$f":"-Fund!V608","v":0},{"$f":"Fund!V608","v":0},{"$f":"Fund!P608","v":""}]
[null,null,null,null,null,null,null,null,null,null,null,null,{"$f":"Fund!W609","v":"00:00:00"},{"$f":"Fund!X609","v":0},{"$f":"-Fund!V609","v":0},{"$f":"Fund!V609","v":0},{"$f":"Fund!P609","v":""}]
[null,null,null,null,null,null,null,null,null,null,null,null,{"$f":"Fund!W610","v":"00:00:00"},{"$f":"Fund!X610","v":0},{"$f":"-Fund!V610","v":0},{"$f":"Fund!V610","v":0},{"$f":"Fund!P610","v":""}]
[null,null,null,null,null,null,null,null,null,null,null,null,{"$f":"Fund!W611","v":"00:00:00"},{"$f":"Fund!X611","v":0},{"$f":"-Fund!V611","v":0},{"$f":"Fund!V611","v":0},{"$f":"Fund!P611","v":""}]
[null,null,null,null,null,null,null,null,null,null,null,null,{"$f":"Fund!W612","v":"00:00:00"},{"$f":"Fund!X612","v":0},{"$f":"-Fund!V612","v":0},{"$f":"Fund!V612","v":0},{"$f":"Fund!P612","v":""}]
[null,null,null,null,null,null,null,null,null,null,null,null,{"$f":"Fund!W613","v":"00:00:00"},{"$f":"Fund!X613","v":0},{"$f":"-Fund!V613","v":0},{"$f":"Fund!V613","v":0},{"$f":"Fund!P613","v":""}]
[null,null,null,null,null,null,null,null,null,null,null,null,{"$f":"Fund!W614","v":"00:00:00"},{"$f":"Fund!X614","v":0},{"$f":"-Fund!V614","v":0},{"$f":"Fund!V614","v":0},{"$f":"Fund!P614","v":""}]
[null,null,null,null,null,null,null,null,null,null,null,null,{"$f":"Fund!W615","v":"00:00:00"},{"$f":"Fund!X615","v":0},{"$f":"-Fund!V615","v":0},{"$f":"Fund!V615","v":0},{"$f":"Fund!P615","v":""}]
[null,null,null,null,null,null,null,null,null,null,null,null,{"$f":"Fund!W616","v":"00:00:00"},{"$f":"Fund!X616","v":0},{"$f":"-Fund!V616","v":0},{"$f":"Fund!V616","v":0},{"$f":"Fund!P616","v":""}]
[null,null,null,null,null,null,null,null,null,null,null,null,{"$f":"Fund!W617","v":"2008-04-07"},{"$f":"Fund!X617","v":19.7973},{"$f":"-Fund!V617","v":1000},{"$f":"Fund!V617","v":-1000},{"$f":"Fund!P617","v":50.511938496663689}]
[null,null,null,null,null,null,null,null,null,null,null,null,{"$f":"Fund!W618","v":"00:00:00"},{"$f":"Fund!X618","v":0},{"$f":"-Fund!V618","v":0},{"$f":"Fund!V618","v":0},{"$f":"Fund!P618","v":""}]
[null,null,null,null,null,null,null,null,null,null,null,null,{"$f":"Fund!W619","v":"00:00:00"},{"$f":"Fund!X619","v":0},{"$f":"-Fund!V619","v":0},{"$f":"Fund!V619","v":0},{"$f":"Fund!P619","v":""}]
[null,null,null,null,null,null,null,null,null,null,null,null,{"$f":"Fund!W620","v":"00:00:00"},{"$f":"Fund!X620","v":0},{"$f":"-Fund!V620","v":0},{"$f":"Fund!V620","v":0},{"$f":"Fund!P620","v":""}]
[null,null,null,null,null,null,null,null,null,null,null,null,{"$f":"Fund!W621","v":"00:00:00"},{"$f":"Fund!X621","v":0},{"$f":"-Fund!V621","v":0},{"$f":"Fund!V621","v":0},{"$f":"Fund!P621","v":""}]
[null,null,null,null,null,null,null,null,null,null,null,null,{"$f":"Fund!W622","v":"00:00:00"},{"$f":"Fund!X622","v":0},{"$f":"-Fund!V622","v":0},{"$f":"Fund!V622","v":0},{"$f":"Fund!P622","v":""}]
[null,null,null,null,null,null,null,null,null,null,null,null,{"$f":"Fund!W623","v":"00:00:00"},{"$f":"Fund!X623","v":0},{"$f":"-Fund!V623","v":0},{"$f":"Fund!V623","v":0},{"$f":"Fund!P623","v":""}]
[null,null,null,null,null,null,null,null,null,null,null,null,{"$f":"Fund!W624","v":"00:00:00"},{"$f":"Fund!X624","v":0},{"$f":"-Fund!V624","v":0},{"$f":"Fund!V624","v":0},{"$f":"Fund!P624","v":""}]
[null,null,null,null,null,null,null,null,null,null,null,null,{"$f":"Fund!W625","v":"00:00:00"},{"$f":"Fund!X625","v":0},{"$f":"-Fund!V625","v":0},{"$f":"Fund!V625","v":0},{"$f":"Fund!P625","v":""}]
[null,null,null,null,null,null,null,null,null,null,null,null,{"$f":"Fund!W626","v":"00:00:00"},{"$f":"Fund!X626","v":0},{"$f":"-Fund!V626","v":0},{"$f":"Fund!V626","v":0},{"$f":"Fund!P626","v":""}]
[null,null,null,null,null,null,null,null,null,null,null,null,{"$f":"Fund!W627","v":"00:00:00"},{"$f":"Fund!X627","v":0},{"$f":"-Fund!V627","v":0},{"$f":"Fund!V627","v":0},{"$f":"Fund!P627","v":""}]
[null,null,null,null,null,null,null,null,null,null,null,null,{"$f":"Fund!W628","v":"00:00:00"},{"$f":"Fund!X628","v":0},{"$f":"-Fund!V628","v":0},{"$f":"Fund!V628","v":0},{"$f":"Fund!P628","v":""}]
[null,null,null,null,null,null,null,null,null,null,null,null,{"$f":"Fund!W629","v":"00:00:00"},{"$f":"Fund!X629","v":0},{"$f":"-Fund!V629","v":0},{"$f":"Fund!V629","v":0},{"$f":"Fund!P629","v":""}]
[null,null,null,null,null,null,null,null,null,null,null,null,{"$f":"Fund!W630","v":"00:00:00"},{"$f":"Fund!X630","v":0},{"$f":"-Fund!V630","v":0},{"$f":"Fund!V630","v":0},{"$f":"Fund!P630","v":""}]
[null,null,null,null,null,null,null,null,null,null,null,null,{"$f":"Fund!W631","v":"00:00:00"},{"$f":"Fund!X631","v":0},{"$f":"-Fund!V631","v":0},{"$f":"Fund!V631","v":0},{"$f":"Fund!P631","v":""}]
[null,null,null,null,null,null,null,null,null,null,null,null,{"$f":"Fund!W632","v":"00:00:00"},{"$f":"Fund!X632","v":0},{"$f":"-Fund!V632","v":0},{"$f":"Fund!V632","v":0},{"$f":"Fund!P632","v":""}]
[null,null,null,null,null,null,null,null,null,null,null,null,{"$f":"Fund!W633","v":"00:00:00"},{"$f":"Fund!X633","v":0},{"$f":"-Fund!V633","v":0},{"$f":"Fund!V633","v":0},{"$f":"Fund!P633","v":""}]
[null,null,null,null,null,null,null,null,null,null,null,null,{"$f":"Fund!W634","v":"00:00:00"},{"$f":"Fund!X634","v":0},{"$f":"-Fund!V634","v":0},{"$f":"Fund!V634","v":0},{"$f":"Fund!P634","v":""}]
[null,null,null,null,null,null,null,null,null,null,null,null,{"$f":"Fund!W635","v":"2008-05-06"},{"$f":"Fund!X635","v":21.698499999999999},{"$f":"-Fund!V635","v":1000},{"$f":"Fund!V635","v":-1000},{"$f":"Fund!P635","v":46.086134986289373}]
[null,null,null,null,null,null,null,null,null,null,null,null,{"$f":"Fund!W636","v":"00:00:00"},{"$f":"Fund!X636","v":0},{"$f":"-Fund!V636","v":0},{"$f":"Fund!V636","v":0},{"$f":"Fund!P636","v":""}]
[null,null,null,null,null,null,null,null,null,null,null,null,{"$f":"Fund!W637","v":"00:00:00"},{"$f":"Fund!X637","v":0},{"$f":"-Fund!V637","v":0},{"$f":"Fund!V637","v":0},{"$f":"Fund!P637","v":""}]
[null,null,null,null,null,null,null,null,null,null,null,null,{"$f":"Fund!W638","v":"00:00:00"},{"$f":"Fund!X638","v":0},{"$f":"-Fund!V638","v":0},{"$f":"Fund!V638","v":0},{"$f":"Fund!P638","v":""}]
[null,null,null,null,null,null,null,null,null,null,null,null,{"$f":"Fund!W639","v":"00:00:00"},{"$f":"Fund!X639","v":0},{"$f":"-Fund!V639","v":0},{"$f":"Fund!V639","v":0},{"$f":"Fund!P639","v":""}]
[null,null,null,null,null,null,null,null,null,null,null,null,{"$f":"Fund!W640","v":"00:00:00"},{"$f":"Fund!X640","v":0},{"$f":"-Fund!V640","v":0},{"$f":"Fund!V640","v":0},{"$f":"Fund!P640","v":""}]
[null,null,null,null,null,null,null,null,null,null,null,null,{"$f":"Fund!W641","v":"00:00:00"},{"$f":"Fund!X641","v":0},{"$f":"-Fund!V641","v":0},{"$f":"Fund!V641","v":0},{"$f":"Fund!P641","v":""}]
[null,null,null,null,null,null,null,null,null,null,null,null,{"$f":"Fund!W642","v":"00:00:00"},{"$f":"Fund!X642","v":0},{"$f":"-Fund!V642","v":0},{"$f":"Fund!V642","v":0},{"$f":"Fund!P642","v":""}]
[null,null,null,null,null,null,null,null,null,null,null,null,{"$f":"Fund!W643","v":"00:00:00"},{"$f":"Fund!X643","v":0},{"$f":"-Fund!V643","v":0},{"$f":"Fund!V643","v":0},{"$f":"Fund!P643","v":""}]
[null,null,null,null,null,null,null,null,null,null,null,null,{"$f":"Fund!W644","v":"00:00:00"},{"$f":"Fund!X644","v":0},{"$f":"-Fund!V644","v":0},{"$f":"Fund!V644","v":0},{"$f":"Fund!P644","v":""}]
[null,null,null,null,null,null,null,null,null,null,null,null,{"$f":"Fund!W645","v":"00:00:00"},{"$f":"Fund!X645","v":0},{"$f":"-Fund!V645","v":0},{"$f":"Fund!V645","v":0},{"$f":"Fund!P645","v":""}]
[null,null,null,null,null,null,null,null,null,null,null,null,{"$f":"Fund!W646","v":"00:00:00"},{"$f":"Fund!X646","v":0},{"$f":"-Fund!V646","v":0},{"$f":"Fund!V646","v":0},{"$f":"Fund!P646","v":""}]
[null,null,null,null,null,null,null,null,null,null,null,null,{"$f":"Fund!W647","v":"00:00:00"},{"$f":"Fund!X647","v":0},{"$f":"-Fund!V647","v":0},{"$f":"Fund!V647","v":0},{"$f":"Fund!P647","v":""}]
[null,null,null,null,null,null,null,null,null,null,null,null,{"$f":"Fund!W648","v":"00:00:00"},{"$f":"Fund!X648","v":0},{"$f":"-Fund!V648","v":0},{"$f":"Fund!V648","v":0},{"$f":"Fund!P648","v":""}]
[null,null,null,null,null,null,null,null,null,null,null,null,{"$f":"Fund!W649","v":"00:00:00"},{"$f":"Fund!X649","v":0},{"$f":"-Fund!V649","v":0},{"$f":"Fund!V649","v":0},{"$f":"Fund!P649","v":""}]
[null,null,null,null,null,null,null,null,null,null,null,null,{"$f":"Fund!W650","v":"00:00:00"},{"$f":"Fund!X650","v":0},{"$f":"-Fund!V650","v":0},{"$f":"Fund!V650","v":0},{"$f":"Fund!P650","v":""}]
[null,null,null,null,null,null,null,null,null,null,null,null,{"$f":"Fund!W651","v":"00:00:00"},{"$f":"Fund!X651","v":0},{"$f":"-Fund!V651","v":0},{"$f":"Fund!V651","v":0},{"$f":"Fund!P651","v":""}]
[null,null,null,null,null,null,null,null,null,null,null,null,{"$f":"Fund!W652","v":"00:00:00"},{"$f":"Fund!X652","v":0},{"$f":"-Fund!V652","v":0},{"$f":"Fund!V652","v":0},{"$f":"Fund!P652","v":""}]
[null,null,null,null,null,null,null,null,null,null,null,null,{"$f":"Fund!W653","v":"00:00:00"},{"$f":"Fund!X653","v":0},{"$f":"-Fund!V653","v":0},{"$f":"Fund!V653","v":0},{"$f":"Fund!P653","v":""}]
[null,null,null,null,null,null,null,null,null,null,null,null,{"$f":"Fund!W654","v":"00:00:00"},{"$f":"Fund!X654","v":0},{"$f":"-Fund!V654","v":0},{"$f":"Fund!V654","v":0},{"$f":"Fund!P654","v":""}]
[null,null,null,null,null,null,null,null,null,null,null,null,{"$f":"Fund!W655","v":"00:00:00"},{"$f":"Fund!X655","v":0},{"$f":"-Fund!V655","v":0},{"$f":"Fund!V655","v":0},{"$f":"Fund!P655","v":""}]
[null,null,null,null,null,null,null,null,null,null,null,null,{"$f":"Fund!W656","v":"00:00:00"},{"$f":"Fund!X656","v":0},{"$f":"-Fund!V656","v":0},{"$f":"Fund!V656","v":0},{"$f":"Fund!P656","v":""}]
[null,null,null,null,null,null,null,null,null,null,null,null,{"$f":"Fund!W657","v":"2008-06-06"},{"$f":"Fund!X657","v":20.206900000000001},{"$f":"-Fund!V657","v":1000},{"$f":"Fund!V657","v":-1000},{"$f":"Fund!P657","v":49.488046162449457}]
[null,null,null,null,null,null,null,null,null,null,null,null,{"$f":"Fund!W658","v":"00:00:00"},{"$f":"Fund!X658","v":0},{"$f":"-Fund!V658","v":0},{"$f":"Fund!V658","v":0},{"$f":"Fund!P658","v":""}]
[null,null,null,null,null,null,null,null,null,null,null,null,{"$f":"Fund!W659","v":"00:00:00"},{"$f":"Fund!X659","v":0},{"$f":"-Fund!V659","v":0},{"$f":"Fund!V659","v":0},{"$f":"Fund!P659","v":""}]
[null,null,null,null,null,null,null,null,null,null,null,null,{"$f":"Fund!W660","v":"00:00:00"},{"$f":"Fund!X660","v":0},{"$f":"-Fund!V660","v":0},{"$f":"Fund!V660","v":0},{"$f":"Fund!P660","v":""}]
[null,null,null,null,null,null,null,null,null,null,null,null,{"$f":"Fund!W661","v":"00:00:00"},{"$f":"Fund!X661","v":0},{"$f":"-Fund!V661","v":0},{"$f":"Fund!V661","v":0},{"$f":"Fund!P661","v":""}]
[null,null,null,null,null,null,null,null,null,null,null,null,{"$f":"Fund!W662","v":"00:00:00"},{"$f":"Fund!X662","v":0},{"$f":"-Fund!V662","v":0},{"$f":"Fund!V662","v":0},{"$f":"Fund!P662","v":""}]
[null,null,null,null,null,null,null,null,null,null,null,null,{"$f":"Fund!W663","v":"00:00:00"},{"$f":"Fund!X663","v":0},{"$f":"-Fund!V663","v":0},{"$f":"Fund!V663","v":0},{"$f":"Fund!P663","v":""}]
[null,null,null,null,null,null,null,null,null,null,null,null,{"$f":"Fund!W664","v":"00:00:00"},{"$f":"Fund!X664","v":0},{"$f":"-Fund!V664","v":0},{"$f":"Fund!V664","v":0},{"$f":"Fund!P664","v":""}]
[null,null,null,null,null,null,null,null,null,null,null,null,{"$f":"Fund!W665","v":"00:00:00"},{"$f":"Fund!X665","v":0},{"$f":"-Fund!V665","v":0},{"$f":"Fund!V665","v":0},{"$f":"Fund!P665","v":""}]
[null,null,null,null,null,null,null,null,null,null,null,null,{"$f":"Fund!W666","v":"00:00:00"},{"$f":"Fund!X666","v":0},{"$f":"-Fund!V666","v":0},{"$f":"Fund!V666","v":0},{"$f":"Fund!P666","v":""}]
[null,null,null,null,null,null,null,null,null,null,null,null,{"$f":"Fund!W667","v":"00:00:00"},{"$f":"Fund!X667","v":0},{"$f":"-Fund!V667","v":0},{"$f":"Fund!V667","v":0},{"$f":"Fund!P667","v":""}]
[null,null,null,null,null,null,null,null,null,null,null,null,{"$f":"Fund!W668","v":"00:00:00"},{"$f":"Fund!X668","v":0},{"$f":"-Fund!V668","v":0},{"$f":"Fund!V668","v":0},{"$f":"Fund!P668","v":""}]
[null,null,null,null,null,null,null,null,null,null,null,null,{"$f":"Fund!W669","v":"00:00:00"},{"$f":"Fund!X669","v":0},{"$f":"-Fund!V669","v":0},{"$f":"Fund!V669","v":0},{"$f":"Fund!P669","v":""}]
[null,null,null,null,null,null,null,null,null,null,null,null,{"$f":"Fund!W670","v":"00:00:00"},{"$f":"Fund!X670","v":0},{"$f":"-Fund!V670","v":0},{"$f":"Fund!V670","v":0},{"$f":"Fund!P670","v":""}]
[null,null,null,null,null,null,null,null,null,null,null,null,{"$f":"Fund!W671","v":"00:00:00"},{"$f":"Fund!X671","v":0},{"$f":"-Fund!V671","v":0},{"$f":"Fund!V671","v":0},{"$f":"Fund!P671","v":""}]
[null,null,null,null,null,null,null,null,null,null,null,null,{"$f":"Fund!W672","v":"00:00:00"},{"$f":"Fund!X672","v":0},{"$f":"-Fund!V672","v":0},{"$f":"Fund!V672","v":0},{"$f":"Fund!P672","v":""}]
[null,null,null,null,null,null,null,null,null,null,null,null,{"$f":"Fund!W673","v":"00:00:00"},{"$f":"Fund!X673","v":0},{"$f":"-Fund!V673","v":0},{"$f":"Fund!V673","v":0},{"$f":"Fund!P673","v":""}]
[null,null,null,null,null,null,null,null,null,null,null,null,{"$f":"Fund!W674","v":"00:00:00"},{"$f":"Fund!X674","v":0},{"$f":"-Fund!V674","v":0},{"$f":"Fund!V674","v":0},{"$f":"Fund!P674","v":""}]
[null,null,null,null,null,null,null,null,null,null,null,null,{"$f":"Fund!W675","v":"00:00:00"},{"$f":"Fund!X675","v":0},{"$f":"-Fund!V675","v":0},{"$f":"Fund!V675","v":0},{"$f":"Fund!P675","v":""}]
[null,null,null,null,null,null,null,null,null,null,null,null,{"$f":"Fund!W676","v":"00:00:00"},{"$f":"Fund!X676","v":0},{"$f":"-Fund!V676","v":0},{"$f":"Fund!V676","v":0},{"$f":"Fund!P676","v":""}]
[null,null,null,null,null,null,null,null,null,null,null,null,{"$f":"Fund!W677","v":"00:00:00"},{"$f":"Fund!X677","v":0},{"$f":"-Fund!V677","v":0},{"$f":"Fund!V677","v":0},{"$f":"Fund!P677","v":""}]
[null,null,null,null,null,null,null,null,null,null,null,null,{"$f":"Fund!W678","v":"2008-07-07"},{"$f":"Fund!X678","v":18.224699999999999},{"$f":"-Fund!V678","v":1000},{"$f":"Fund!V678","v":-1000},{"$f":"Fund!P678","v":54.87058771886506}]
[null,null,null,null,null,null,null,null,null,null,null,null,{"$f":"Fund!W679","v":"00:00:00"},{"$f":"Fund!X679","v":0},{"$f":"-Fund!V679","v":0},{"$f":"Fund!V679","v":0},{"$f":"Fund!P679","v":""}]
[null,null,null,null,null,null,null,null,null,null,null,null,{"$f":"Fund!W680","v":"00:00:00"},{"$f":"Fund!X680","v":0},{"$f":"-Fund!V680","v":0},{"$f":"Fund!V680","v":0},{"$f":"Fund!P680","v":""}]
[null,null,null,null,null,null,null,null,null,null,null,null,{"$f":"Fund!W681","v":"00:00:00"},{"$f":"Fund!X681","v":0},{"$f":"-Fund!V681","v":0},{"$f":"Fund!V681","v":0},{"$f":"Fund!P681","v":""}]
[null,null,null,null,null,null,null,null,null,null,null,null,{"$f":"Fund!W682","v":"00:00:00"},{"$f":"Fund!X682","v":0},{"$f":"-Fund!V682","v":0},{"$f":"Fund!V682","v":0},{"$f":"Fund!P682","v":""}]
[null,null,null,null,null,null,null,null,null,null,null,null,{"$f":"Fund!W683","v":"00:00:00"},{"$f":"Fund!X683","v":0},{"$f":"-Fund!V683","v":0},{"$f":"Fund!V683","v":0},{"$f":"Fund!P683","v":""}]
[null,null,null,null,null,null,null,null,null,null,null,null,{"$f":"Fund!W684","v":"00:00:00"},{"$f":"Fund!X684","v":0},{"$f":"-Fund!V684","v":0},{"$f":"Fund!V684","v":0},{"$f":"Fund!P684","v":""}]
[null,null,null,null,null,null,null,null,null,null,null,null,{"$f":"Fund!W685","v":"00:00:00"},{"$f":"Fund!X685","v":0},{"$f":"-Fund!V685","v":0},{"$f":"Fund!V685","v":0},{"$f":"Fund!P685","v":""}]
[null,null,null,null,null,null,null,null,null,null,null,null,{"$f":"Fund!W686","v":"00:00:00"},{"$f":"Fund!X686","v":0},{"$f":"-Fund!V686","v":0},{"$f":"Fund!V686","v":0},{"$f":"Fund!P686","v":""}]
[null,null,null,null,null,null,null,null,null,null,null,null,{"$f":"Fund!W687","v":"00:00:00"},{"$f":"Fund!X687","v":0},{"$f":"-Fund!V687","v":0},{"$f":"Fund!V687","v":0},{"$f":"Fund!P687","v":""}]
[null,null,null,null,null,null,null,null,null,null,null,null,{"$f":"Fund!W688","v":"00:00:00"},{"$f":"Fund!X688","v":0},{"$f":"-Fund!V688","v":0},{"$f":"Fund!V688","v":0},{"$f":"Fund!P688","v":""}]
[null,null,null,null,null,null,null,null,null,null,null,null,{"$f":"Fund!W689","v":"00:00:00"},{"$f":"Fund!X689","v":0},{"$f":"-Fund!V689","v":0},{"$f":"Fund!V689","v":0},{"$f":"Fund!P689","v":""}]
[null,null,null,null,null,null,null,null,null,null,null,null,{"$f":"Fund!W690","v":"00:00:00"},{"$f":"Fund!X690","v":0},{"$f":"-Fund!V690","v":0},{"$f":"Fund!V690","v":0},{"$f":"Fund!P690","v":""}]
[null,null,null,null,null,null,null,null,null,null,null,null,{"$f":"Fund!W691","v":"00:00:00"},{"$f":"Fund!X691","v":0},{"$f":"-Fund!V691","v":0},{"$f":"Fund!V691","v":0},{"$f":"Fund!P691","v":""}]
[null,null,null,null,null,null,null,null,null,null,null,null,{"$f":"Fund!W692","v":"00:00:00"},{"$f":"Fund!X692","v":0},{"$f":"-Fund!V692","v":0},{"$f":"Fund!V692","v":0},{"$f":"Fund!P692","v":""}]
[null,null,null,null,null,null,null,null,null,null,null,null,{"$f":"Fund!W693","v":"00:00:00"},{"$f":"Fund!X693","v":0},{"$f":"-Fund!V693","v":0},{"$f":"Fund!V693","v":0},{"$f":"Fund!P693","v":""}]
[null,null,null,null,null,null,null,null,null,null,null,null,{"$f":"Fund!W694","v":"00:00:00"},{"$f":"Fund!X694","v":0},{"$f":"-Fund!V694","v":0},{"$f":"Fund!V694","v":0},{"$f":"Fund!P694","v":""}]
[null,null,null,null,null,null,null,null,null,null,null,null,{"$f":"Fund!W695","v":"00:00:00"},{"$f":"Fund!X695","v":0},{"$f":"-Fund!V695","v":0},{"$f":"Fund!V695","v":0},{"$f":"Fund!P695","v":""}]
[null,null,null,null,null,null,null,null,null,null,null,null,{"$f":"Fund!W696","v":"00:00:00"},{"$f":"Fund!X696","v":0},{"$f":"-Fund!V696","v":0},{"$f":"Fund!V696","v":0},{"$f":"Fund!P696","v":""}]
[null,null,null,null,null,null,null,null,null,null,null,null,{"$f":"Fund!W697","v":"00:00:00"},{"$f":"Fund!X697","v":0},{"$f":"-Fund!V697","v":0},{"$f":"Fund!V697","v":0},{"$f":"Fund!P697","v":""}]
[null,null,null,null,null,null,null,null,null,null,null,null,{"$f":"Fund!W698","v":"00:00:00"},{"$f":"Fund!X698","v":0},{"$f":"-Fund!V698","v":0},{"$f":"Fund!V698","v":0},{"$f":"Fund!P698","v":""}]
[null,null,null,null,null,null,null,null,null,null,null,null,{"$f":"Fund!W699","v":"00:00:00"},{"$f":"Fund!X699","v":0},{"$f":"-Fund!V699","v":0},{"$f":"Fund!V699","v":0},{"$f":"Fund!P699","v":""}]
[null,null,null,null,null,null,null,null,null,null,null,null,{"$f":"Fund!W700","v":"2008-08-06"},{"$f":"Fund!X700","v":19.123200000000001},{"$f":"-Fund!V700","v":1000},{"$f":"Fund!V700","v":-1000},{"$f":"Fund!P700","v":52.29250334672021}]
[null,null,null,null,null,null,null,null,null,null,null,null,{"$f":"Fund!W701","v":"00:00:00"},{"$f":"Fund!X701","v":0},{"$f":"-Fund!V701","v":0},{"$f":"Fund!V701","v":0},{"$f":"Fund!P701","v":""}]
[null,null,null,null,null,null,null,null,null,null,null,null,{"$f":"Fund!W702","v":"00:00:00"},{"$f":"Fund!X702","v":0},{"$f":"-Fund!V702","v":0},{"$f":"Fund!V702","v":0},{"$f":"Fund!P702","v":""}]
[null,null,null,null,null,null,null,null,null,null,null,null,{"$f":"Fund!W703","v":"00:00:00"},{"$f":"Fund!X703","v":0},{"$f":"-Fund!V703","v":0},{"$f":"Fund!V703","v":0},{"$f":"Fund!P703","v":""}]
[null,null,null,null,null,null,null,null,null,null,null,null,{"$f":"Fund!W704","v":"00:00:00"},{"$f":"Fund!X704","v":0},{"$f":"-Fund!V704","v":0},{"$f":"Fund!V704","v":0},{"$f":"Fund!P704","v":""}]
[null,null,null,null,null,null,null,null,null,null,null,null,{"$f":"Fund!W705","v":"00:00:00"},{"$f":"Fund!X705","v":0},{"$f":"-Fund!V705","v":0},{"$f":"Fund!V705","v":0},{"$f":"Fund!P705","v":""}]
[null,null,null,null,null,null,null,null,null,null,null,null,{"$f":"Fund!W706","v":"00:00:00"},{"$f":"Fund!X706","v":0},{"$f":"-Fund!V706","v":0},{"$f":"Fund!V706","v":0},{"$f":"Fund!P706","v":""}]
[null,null,null,null,null,null,null,null,null,null,null,null,{"$f":"Fund!W707","v":"00:00:00"},{"$f":"Fund!X707","v":0},{"$f":"-Fund!V707","v":0},{"$f":"Fund!V707","v":0},{"$f":"Fund!P707","v":""}]
[null,null,null,null,null,null,null,null,null,null,null,null,{"$f":"Fund!W708","v":"00:00:00"},{"$f":"Fund!X708","v":0},{"$f":"-Fund!V708","v":0},{"$f":"Fund!V708","v":0},{"$f":"Fund!P708","v":""}]
[null,null,null,null,null,null,null,null,null,null,null,null,{"$f":"Fund!W709","v":"00:00:00"},{"$f":"Fund!X709","v":0},{"$f":"-Fund!V709","v":0},{"$f":"Fund!V709","v":0},{"$f":"Fund!P709","v":""}]
[null,null,null,null,null,null,null,null,null,null,null,null,{"$f":"Fund!W710","v":"00:00:00"},{"$f":"Fund!X710","v":0},{"$f":"-Fund!V710","v":0},{"$f":"Fund!V710","v":0},{"$f":"Fund!P710","v":""}]
[null,null,null,null,null,null,null,null,null,null,null,null,{"$f":"Fund!W711","v":"00:00:00"},{"$f":"Fund!X711","v":0},{"$f":"-Fund!V711","v":0},{"$f":"Fund!V711","v":0},{"$f":"Fund!P711","v":""}]
[null,null,null,null,null,null,null,null,null,null,null,null,{"$f":"Fund!W712","v":"00:00:00"},{"$f":"Fund!X712","v":0},{"$f":"-Fund!V712","v":0},{"$f":"Fund!V712","v":0},{"$f":"Fund!P712","v":""}]
[null,null,null,null,null,null,null,null,null,null,null,null,{"$f":"Fund!W713","v":"00:00:00"},{"$f":"Fund!X713","v":0},{"$f":"-Fund!V713","v":0},{"$f":"Fund!V713","v":0},{"$f":"Fund!P713","v":""}]
[null,null,null,null,null,null,null,null,null,null,null,null,{"$f":"Fund!W714","v":"00:00:00"},{"$f":"Fund!X714","v":0},{"$f":"-Fund!V714","v":0},{"$f":"Fund!V714","v":0},{"$f":"Fund!P714","v":""}]
[null,null,null,null,null,null,null,null,null,null,null,null,{"$f":"Fund!W715","v":"00:00:00"},{"$f":"Fund!X715","v":0},{"$f":"-Fund!V715","v":0},{"$f":"Fund!V715","v":0},{"$f":"Fund!P715","v":""}]
[null,null,null,null,null,null,null,null,null,null,null,null,{"$f":"Fund!W716","v":"00:00:00"},{"$f":"Fund!X716","v":0},{"$f":"-Fund!V716","v":0},{"$f":"Fund!V716","v":0},{"$f":"Fund!P716","v":""}]
[null,null,null,null,null,null,null,null,null,null,null,null,{"$f":"Fund!W717","v":"00:00:00"},{"$f":"Fund!X717","v":0},{"$f":"-Fund!V717","v":0},{"$f":"Fund!V717","v":0},{"$f":"Fund!P717","v":""}]
[null,null,null,null,null,null,null,null,null,null,null,null,{"$f":"Fund!W718","v":"00:00:00"},{"$f":"Fund!X718","v":0},{"$f":"-Fund!V718","v":0},{"$f":"Fund!V718","v":0},{"$f":"Fund!P718","v":""}]
[null,null,null,null,null,null,null,null,null,null,null,null,{"$f":"Fund!W719","v":"00:00:00"},{"$f":"Fund!X719","v":0},{"$f":"-Fund!V719","v":0},{"$f":"Fund!V719","v":0},{"$f":"Fund!P719","v":""}]
[null,null,null,null,null,null,null,null,null,null,null,null,{"$f":"Fund!W720","v":"00:00:00"},{"$f":"Fund!X720","v":0},{"$f":"-Fund!V720","v":0},{"$f":"Fund!V720","v":0},{"$f":"Fund!P720","v":""}]
[null,null,null,null,null,null,null,null,null,null,null,null,{"$f":"Fund!W721","v":"2008-09-08"},{"$f":"Fund!X721","v":19.279},{"$f":"-Fund!V721","v":1000},{"$f":"Fund!V721","v":-1000},{"$f":"Fund!P721","v":51.869910265055239}]
[null,null,null,null,null,null,null,null,null,null,null,null,{"$f":"Fund!W722","v":"00:00:00"},{"$f":"Fund!X722","v":0},{"$f":"-Fund!V722","v":0},{"$f":"Fund!V722","v":0},{"$f":"Fund!P722","v":""}]
[null,null,null,null,null,null,null,null,null,null,null,null,{"$f":"Fund!W723","v":"00:00:00"},{"$f":"Fund!X723","v":0},{"$f":"-Fund!V723","v":0},{"$f":"Fund!V723","v":0},{"$f":"Fund!P723","v":""}]
[null,null,null,null,null,null,null,null,null,null,null,null,{"$f":"Fund!W724","v":"00:00:00"},{"$f":"Fund!X724","v":0},{"$f":"-Fund!V724","v":0},{"$f":"Fund!V724","v":0},{"$f":"Fund!P724","v":""}]
[null,null,null,null,null,null,null,null,null,null,null,null,{"$f":"Fund!W725","v":"00:00:00"},{"$f":"Fund!X725","v":0},{"$f":"-Fund!V725","v":0},{"$f":"Fund!V725","v":0},{"$f":"Fund!P725","v":""}]
[null,null,null,null,null,null,null,null,null,null,null,null,{"$f":"Fund!W726","v":"00:00:00"},{"$f":"Fund!X726","v":0},{"$f":"-Fund!V726","v":0},{"$f":"Fund!V726","v":0},{"$f":"Fund!P726","v":""}]
[null,null,null,null,null,null,null,null,null,null,null,null,{"$f":"Fund!W727","v":"00:00:00"},{"$f":"Fund!X727","v":0},{"$f":"-Fund!V727","v":0},{"$f":"Fund!V727","v":0},{"$f":"Fund!P727","v":""}]
[null,null,null,null,null,null,null,null,null,null,null,null,{"$f":"Fund!W728","v":"00:00:00"},{"$f":"Fund!X728","v":0},{"$f":"-Fund!V728","v":0},{"$f":"Fund!V728","v":0},{"$f":"Fund!P728","v":""}]
[null,null,null,null,null,null,null,null,null,null,null,null,{"$f":"Fund!W729","v":"00:00:00"},{"$f":"Fund!X729","v":0},{"$f":"-Fund!V729","v":0},{"$f":"Fund!V729","v":0},{"$f":"Fund!P729","v":""}]
[null,null,null,null,null,null,null,null,null,null,null,null,{"$f":"Fund!W730","v":"00:00:00"},{"$f":"Fund!X730","v":0},{"$f":"-Fund!V730","v":0},{"$f":"Fund!V730","v":0},{"$f":"Fund!P730","v":""}]
[null,null,null,null,null,null,null,null,null,null,null,null,{"$f":"Fund!W731","v":"00:00:00"},{"$f":"Fund!X731","v":0},{"$f":"-Fund!V731","v":0},{"$f":"Fund!V731","v":0},{"$f":"Fund!P731","v":""}]
[null,null,null,null,null,null,null,null,null,null,null,null,{"$f":"Fund!W732","v":"00:00:00"},{"$f":"Fund!X732","v":0},{"$f":"-Fund!V732","v":0},{"$f":"Fund!V732","v":0},{"$f":"Fund!P732","v":""}]
[null,null,null,null,null,null,null,null,null,null,null,null,{"$f":"Fund!W733","v":"00:00:00"},{"$f":"Fund!X733","v":0},{"$f":"-Fund!V733","v":0},{"$f":"Fund!V733","v":0},{"$f":"Fund!P733","v":""}]
[null,null,null,null,null,null,null,null,null,null,null,null,{"$f":"Fund!W734","v":"00:00:00"},{"$f":"Fund!X734","v":0},{"$f":"-Fund!V734","v":0},{"$f":"Fund!V734","v":0},{"$f":"Fund!P734","v":""}]
[null,null,null,null,null,null,null,null,null,null,null,null,{"$f":"Fund!W735","v":"00:00:00"},{"$f":"Fund!X735","v":0},{"$f":"-Fund!V735","v":0},{"$f":"Fund!V735","v":0},{"$f":"Fund!P735","v":""}]
[null,null,null,null,null,null,null,null,null,null,null,null,{"$f":"Fund!W736","v":"00:00:00"},{"$f":"Fund!X736","v":0},{"$f":"-Fund!V736","v":0},{"$f":"Fund!V736","v":0},{"$f":"Fund!P736","v":""}]
[null,null,null,null,null,null,null,null,null,null,null,null,{"$f":"Fund!W737","v":"00:00:00"},{"$f":"Fund!X737","v":0},{"$f":"-Fund!V737","v":0},{"$f":"Fund!V737","v":0},{"$f":"Fund!P737","v":""}]
[null,null,null,null,null,null,null,null,null,null,null,null,{"$f":"Fund!W738","v":"00:00:00"},{"$f":"Fund!X738","v":0},{"$f":"-Fund!V738","v":0},{"$f":"Fund!V738","v":0},{"$f":"Fund!P738","v":""}]
[null,null,null,null,null,null,null,null,null,null,null,null,{"$f":"Fund!W739","v":"2008-10-06"},{"$f":"Fund!X739","v":15.5137},{"$f":"-Fund!V739","v":1000},{"$f":"Fund!V739","v":-1000},{"$f":"Fund!P739","v":64.459155456145211}]
[null,null,null,null,null,null,null,null,null,null,null,null,{"$f":"Fund!W740","v":"00:00:00"},{"$f":"Fund!X740","v":0},{"$f":"-Fund!V740","v":0},{"$f":"Fund!V740","v":0},{"$f":"Fund!P740","v":""}]
[null,null,null,null,null,null,null,null,null,null,null,null,{"$f":"Fund!W741","v":"00:00:00"},{"$f":"Fund!X741","v":0},{"$f":"-Fund!V741","v":0},{"$f":"Fund!V741","v":0},{"$f":"Fund!P741","v":""}]
[null,null,null,null,null,null,null,null,null,null,null,null,{"$f":"Fund!W742","v":"00:00:00"},{"$f":"Fund!X742","v":0},{"$f":"-Fund!V742","v":0},{"$f":"Fund!V742","v":0},{"$f":"Fund!P742","v":""}]
[null,null,null,null,null,null,null,null,null,null,null,null,{"$f":"Fund!W743","v":"00:00:00"},{"$f":"Fund!X743","v":0},{"$f":"-Fund!V743","v":0},{"$f":"Fund!V743","v":0},{"$f":"Fund!P743","v":""}]
[null,null,null,null,null,null,null,null,null,null,null,null,{"$f":"Fund!W744","v":"00:00:00"},{"$f":"Fund!X744","v":0},{"$f":"-Fund!V744","v":0},{"$f":"Fund!V744","v":0},{"$f":"Fund!P744","v":""}]
[null,null,null,null,null,null,null,null,null,null,null,null,{"$f":"Fund!W745","v":"00:00:00"},{"$f":"Fund!X745","v":0},{"$f":"-Fund!V745","v":0},{"$f":"Fund!V745","v":0},{"$f":"Fund!P745","v":""}]
[null,null,null,null,null,null,null,null,null,null,null,null,{"$f":"Fund!W746","v":"00:00:00"},{"$f":"Fund!X746","v":0},{"$f":"-Fund!V746","v":0},{"$f":"Fund!V746","v":0},{"$f":"Fund!P746","v":""}]
[null,null,null,null,null,null,null,null,null,null,null,null,{"$f":"Fund!W747","v":"00:00:00"},{"$f":"Fund!X747","v":0},{"$f":"-Fund!V747","v":0},{"$f":"Fund!V747","v":0},{"$f":"Fund!P747","v":""}]
[null,null,null,null,null,null,null,null,null,null,null,null,{"$f":"Fund!W748","v":"00:00:00"},{"$f":"Fund!X748","v":0},{"$f":"-Fund!V748","v":0},{"$f":"Fund!V748","v":0},{"$f":"Fund!P748","v":""}]
[null,null,null,null,null,null,null,null,null,null,null,null,{"$f":"Fund!W749","v":"00:00:00"},{"$f":"Fund!X749","v":0},{"$f":"-Fund!V749","v":0},{"$f":"Fund!V749","v":0},{"$f":"Fund!P749","v":""}]
[null,null,null,null,null,null,null,null,null,null,null,null,{"$f":"Fund!W750","v":"00:00:00"},{"$f":"Fund!X750","v":0},{"$f":"-Fund!V750","v":0},{"$f":"Fund!V750","v":0},{"$f":"Fund!P750","v":""}]
[null,null,null,null,null,null,null,null,null,null,null,null,{"$f":"Fund!W751","v":"00:00:00"},{"$f":"Fund!X751","v":0},{"$f":"-Fund!V751","v":0},{"$f":"Fund!V751","v":0},{"$f":"Fund!P751","v":""}]
[null,null,null,null,null,null,null,null,null,null,null,null,{"$f":"Fund!W752","v":"00:00:00"},{"$f":"Fund!X752","v":0},{"$f":"-Fund!V752","v":0},{"$f":"Fund!V752","v":0},{"$f":"Fund!P752","v":""}]
[null,null,null,null,null,null,null,null,null,null,null,null,{"$f":"Fund!W753","v":"00:00:00"},{"$f":"Fund!X753","v":0},{"$f":"-Fund!V753","v":0},{"$f":"Fund!V753","v":0},{"$f":"Fund!P753","v":""}]
[null,null,null,null,null,null,null,null,null,null,null,null,{"$f":"Fund!W754","v":"00:00:00"},{"$f":"Fund!X754","v":0},{"$f":"-Fund!V754","v":0},{"$f":"Fund!V754","v":0},{"$f":"Fund!P754","v":""}]
[null,null,null,null,null,null,null,null,null,null,null,null,{"$f":"Fund!W755","v":"00:00:00"},{"$f":"Fund!X755","v":0},{"$f":"-Fund!V755","v":0},{"$f":"Fund!V755","v":0},{"$f":"Fund!P755","v":""}]
[null,null,null,null,null,null,null,null,null,null,null,null,{"$f":"Fund!W756","v":"00:00:00"},{"$f":"Fund!X756","v":0},{"$f":"-Fund!V756","v":0},{"$f":"Fund!V756","v":0},{"$f":"Fund!P756","v":""}]
[null,null,null,null,null,null,null,null,null,null,null,null,{"$f":"Fund!W757","v":"00:00:00"},{"$f":"Fund!X757","v":0},{"$f":"-Fund!V757","v":0},{"$f":"Fund!V757","v":0},{"$f":"Fund!P757","v":""}]
[null,null,null,null,null,null,null,null,null,null,null,null,{"$f":"Fund!W758","v":"00:00:00"},{"$f":"Fund!X758","v":0},{"$f":"-Fund!V758","v":0},{"$f":"Fund!V758","v":0},{"$f":"Fund!P758","v":""}]
[null,null,null,null,null,null,null,null,null,null,null,null,{"$f":"Fund!W759","v":"2008-11-06"},{"$f":"Fund!X759","v":13.023099999999999},{"$f":"-Fund!V759","v":1000},{"$f":"Fund!V759","v":-1000},{"$f":"Fund!P759","v":76.786632982930328}]
[null,null,null,null,null,null,null,null,null,null,null,null,{"$f":"Fund!W760","v":"00:00:00"},{"$f":"Fund!X760","v":0},{"$f":"-Fund!V760","v":0},{"$f":"Fund!V760","v":0},{"$f":"Fund!P760","v":""}]
[null,null,null,null,null,null,null,null,null,null,null,null,{"$f":"Fund!W761","v":"00:00:00"},{"$f":"Fund!X761","v":0},{"$f":"-Fund!V761","v":0},{"$f":"Fund!V761","v":0},{"$f":"Fund!P761","v":""}]
[null,null,null,null,null,null,null,null,null,null,null,null,{"$f":"Fund!W762","v":"00:00:00"},{"$f":"Fund!X762","v":0},{"$f":"-Fund!V762","v":0},{"$f":"Fund!V762","v":0},{"$f":"Fund!P762","v":""}]
[null,null,null,null,null,null,null,null,null,null,null,null,{"$f":"Fund!W763","v":"00:00:00"},{"$f":"Fund!X763","v":0},{"$f":"-Fund!V763","v":0},{"$f":"Fund!V763","v":0},{"$f":"Fund!P763","v":""}]
[null,null,null,null,null,null,null,null,null,null,null,null,{"$f":"Fund!W764","v":"00:00:00"},{"$f":"Fund!X764","v":0},{"$f":"-Fund!V764","v":0},{"$f":"Fund!V764","v":0},{"$f":"Fund!P764","v":""}]
[null,null,null,null,null,null,null,null,null,null,null,null,{"$f":"Fund!W765","v":"00:00:00"},{"$f":"Fund!X765","v":0},{"$f":"-Fund!V765","v":0},{"$f":"Fund!V765","v":0},{"$f":"Fund!P765","v":""}]
[null,null,null,null,null,null,null,null,null,null,null,null,{"$f":"Fund!W766","v":"00:00:00"},{"$f":"Fund!X766","v":0},{"$f":"-Fund!V766","v":0},{"$f":"Fund!V766","v":0},{"$f":"Fund!P766","v":""}]
[null,null,null,null,null,null,null,null,null,null,null,null,{"$f":"Fund!W767","v":"00:00:00"},{"$f":"Fund!X767","v":0},{"$f":"-Fund!V767","v":0},{"$f":"Fund!V767","v":0},{"$f":"Fund!P767","v":""}]
[null,null,null,null,null,null,null,null,null,null,null,null,{"$f":"Fund!W768","v":"00:00:00"},{"$f":"Fund!X768","v":0},{"$f":"-Fund!V768","v":0},{"$f":"Fund!V768","v":0},{"$f":"Fund!P768","v":""}]
[null,null,null,null,null,null,null,null,null,null,null,null,{"$f":"Fund!W769","v":"00:00:00"},{"$f":"Fund!X769","v":0},{"$f":"-Fund!V769","v":0},{"$f":"Fund!V769","v":0},{"$f":"Fund!P769","v":""}]
[null,null,null,null,null,null,null,null,null,null,null,null,{"$f":"Fund!W770","v":"00:00:00"},{"$f":"Fund!X770","v":0},{"$f":"-Fund!V770","v":0},{"$f":"Fund!V770","v":0},{"$f":"Fund!P770","v":""}]
[null,null,null,null,null,null,null,null,null,null,null,null,{"$f":"Fund!W771","v":"00:00:00"},{"$f":"Fund!X771","v":0},{"$f":"-Fund!V771","v":0},{"$f":"Fund!V771","v":0},{"$f":"Fund!P771","v":""}]
[null,null,null,null,null,null,null,null,null,null,null,null,{"$f":"Fund!W772","v":"00:00:00"},{"$f":"Fund!X772","v":0},{"$f":"-Fund!V772","v":0},{"$f":"Fund!V772","v":0},{"$f":"Fund!P772","v":""}]
[null,null,null,null,null,null,null,null,null,null,null,null,{"$f":"Fund!W773","v":"00:00:00"},{"$f":"Fund!X773","v":0},{"$f":"-Fund!V773","v":0},{"$f":"Fund!V773","v":0},{"$f":"Fund!P773","v":""}]
[null,null,null,null,null,null,null,null,null,null,null,null,{"$f":"Fund!W774","v":"00:00:00"},{"$f":"Fund!X774","v":0},{"$f":"-Fund!V774","v":0},{"$f":"Fund!V774","v":0},{"$f":"Fund!P774","v":""}]
[null,null,null,null,null,null,null,null,null,null,null,null,{"$f":"Fund!W775","v":"00:00:00"},{"$f":"Fund!X775","v":0},{"$f":"-Fund!V775","v":0},{"$f":"Fund!V775","v":0},{"$f":"Fund!P775","v":""}]
[null,null,null,null,null,null,null,null,null,null,null,null,{"$f":"Fund!W776","v":"00:00:00"},{"$f":"Fund!X776","v":0},{"$f":"-Fund!V776","v":0},{"$f":"Fund!V776","v":0},{"$f":"Fund!P776","v":""}]
[null,null,null,null,null,null,null,null,null,null,null,null,{"$f":"Fund!W777","v":"00:00:00"},{"$f":"Fund!X777","v":0},{"$f":"-Fund!V777","v":0},{"$f":"Fund!V777","v":0},{"$f":"Fund!P777","v":""}]
[null,null,null,null,null,null,null,null,null,null,null,null,{"$f":"Fund!W778","v":"00:00:00"},{"$f":"Fund!X778","v":0},{"$f":"-Fund!V778","v":0},{"$f":"Fund!V778","v":0},{"$f":"Fund!P778","v":""}]
[null,null,null,null,null,null,null,null,null,null,null,null,{"$f":"Fund!W779","v":"2008-12-08"},{"$f":"Fund!X779","v":11.7403},{"$f":"-Fund!V779","v":1000},{"$f":"Fund!V779","v":-1000},{"$f":"Fund!P779","v":85.176699062204548}]
[null,null,null,null,null,null,null,null,null,null,null,null,{"$f":"Fund!W780","v":"00:00:00"},{"$f":"Fund!X780","v":0},{"$f":"-Fund!V780","v":0},{"$f":"Fund!V780","v":0},{"$f":"Fund!P780","v":""}]
[null,null,null,null,null,null,null,null,null,null,null,null,{"$f":"Fund!W781","v":"00:00:00"},{"$f":"Fund!X781","v":0},{"$f":"-Fund!V781","v":0},{"$f":"Fund!V781","v":0},{"$f":"Fund!P781","v":""}]
[null,null,null,null,null,null,null,null,null,null,null,null,{"$f":"Fund!W782","v":"00:00:00"},{"$f":"Fund!X782","v":0},{"$f":"-Fund!V782","v":0},{"$f":"Fund!V782","v":0},{"$f":"Fund!P782","v":""}]
[null,null,null,null,null,null,null,null,null,null,null,null,{"$f":"Fund!W783","v":"00:00:00"},{"$f":"Fund!X783","v":0},{"$f":"-Fund!V783","v":0},{"$f":"Fund!V783","v":0},{"$f":"Fund!P783","v":""}]
[null,null,null,null,null,null,null,null,null,null,null,null,{"$f":"Fund!W784","v":"00:00:00"},{"$f":"Fund!X784","v":0},{"$f":"-Fund!V784","v":0},{"$f":"Fund!V784","v":0},{"$f":"Fund!P784","v":""}]
[null,null,null,null,null,null,null,null,null,null,null,null,{"$f":"Fund!W785","v":"00:00:00"},{"$f":"Fund!X785","v":0},{"$f":"-Fund!V785","v":0},{"$f":"Fund!V785","v":0},{"$f":"Fund!P785","v":""}]
[null,null,null,null,null,null,null,null,null,null,null,null,{"$f":"Fund!W786","v":"00:00:00"},{"$f":"Fund!X786","v":0},{"$f":"-Fund!V786","v":0},{"$f":"Fund!V786","v":0},{"$f":"Fund!P786","v":""}]
[null,null,null,null,null,null,null,null,null,null,null,null,{"$f":"Fund!W787","v":"00:00:00"},{"$f":"Fund!X787","v":0},{"$f":"-Fund!V787","v":0},{"$f":"Fund!V787","v":0},{"$f":"Fund!P787","v":""}]
[null,null,null,null,null,null,null,null,null,null,null,null,{"$f":"Fund!W788","v":"00:00:00"},{"$f":"Fund!X788","v":0},{"$f":"-Fund!V788","v":0},{"$f":"Fund!V788","v":0},{"$f":"Fund!P788","v":""}]
[null,null,null,null,null,null,null,null,null,null,null,null,{"$f":"Fund!W789","v":"00:00:00"},{"$f":"Fund!X789","v":0},{"$f":"-Fund!V789","v":0},{"$f":"Fund!V789","v":0},{"$f":"Fund!P789","v":""}]
[null,null,null,null,null,null,null,null,null,null,null,null,{"$f":"Fund!W790","v":"00:00:00"},{"$f":"Fund!X790","v":0},{"$f":"-Fund!V790","v":0},{"$f":"Fund!V790","v":0},{"$f":"Fund!P790","v":""}]
[null,null,null,null,null,null,null,null,null,null,null,null,{"$f":"Fund!W791","v":"00:00:00"},{"$f":"Fund!X791","v":0},{"$f":"-Fund!V791","v":0},{"$f":"Fund!V791","v":0},{"$f":"Fund!P791","v":""}]
[null,null,null,null,null,null,null,null,null,null,null,null,{"$f":"Fund!W792","v":"00:00:00"},{"$f":"Fund!X792","v":0},{"$f":"-Fund!V792","v":0},{"$f":"Fund!V792","v":0},{"$f":"Fund!P792","v":""}]
[null,null,null,null,null,null,null,null,null,null,null,null,{"$f":"Fund!W793","v":"00:00:00"},{"$f":"Fund!X793","v":0},{"$f":"-Fund!V793","v":0},{"$f":"Fund!V793","v":0},{"$f":"Fund!P793","v":""}]
[null,null,null,null,null,null,null,null,null,null,null,null,{"$f":"Fund!W794","v":"00:00:00"},{"$f":"Fund!X794","v":0},{"$f":"-Fund!V794","v":0},{"$f":"Fund!V794","v":0},{"$f":"Fund!P794","v":""}]
[null,null,null,null,null,null,null,null,null,null,null,null,{"$f":"Fund!W795","v":"00:00:00"},{"$f":"Fund!X795","v":0},{"$f":"-Fund!V795","v":0},{"$f":"Fund!V795","v":0},{"$f":"Fund!P795","v":""}]
[null,null,null,null,null,null,null,null,null,null,null,null,{"$f":"Fund!W796","v":"00:00:00"},{"$f":"Fund!X796","v":0},{"$f":"-Fund!V796","v":0},{"$f":"Fund!V796","v":0},{"$f":"Fund!P796","v":""}]
[null,null,null,null,null,null,null,null,null,null,null,null,{"$f":"Fund!W797","v":"00:00:00"},{"$f":"Fund!X797","v":0},{"$f":"-Fund!V797","v":0},{"$f":"Fund!V797","v":0},{"$f":"Fund!P797","v":""}]
[null,null,null,null,null,null,null,null,null,null,null,null,{"$f":"Fund!W798","v":"2009-01-06"},{"$f":"Fund!X798","v":13.8009},{"$f":"-Fund!V798","v":1000},{"$f":"Fund!V798","v":-1000},{"$f":"Fund!P798","v":72.459042526212059}]
[null,null,null,null,null,null,null,null,null,null,null,null,{"$f":"Fund!W799","v":"00:00:00"},{"$f":"Fund!X799","v":0},{"$f":"-Fund!V799","v":0},{"$f":"Fund!V799","v":0},{"$f":"Fund!P799","v":""}]
[null,null,null,null,null,null,null,null,null,null,null,null,{"$f":"Fund!W800","v":"00:00:00"},{"$f":"Fund!X800","v":0},{"$f":"-Fund!V800","v":0},{"$f":"Fund!V800","v":0},{"$f":"Fund!P800","v":""}]
[null,null,null,null,null,null,null,null,null,null,null,null,{"$f":"Fund!W801","v":"00:00:00"},{"$f":"Fund!X801","v":0},{"$f":"-Fund!V801","v":0},{"$f":"Fund!V801","v":0},{"$f":"Fund!P801","v":""}]
[null,null,null,null,null,null,null,null,null,null,null,null,{"$f":"Fund!W802","v":"00:00:00"},{"$f":"Fund!X802","v":0},{"$f":"-Fund!V802","v":0},{"$f":"Fund!V802","v":0},{"$f":"Fund!P802","v":""}]
[null,null,null,null,null,null,null,null,null,null,null,null,{"$f":"Fund!W803","v":"00:00:00"},{"$f":"Fund!X803","v":0},{"$f":"-Fund!V803","v":0},{"$f":"Fund!V803","v":0},{"$f":"Fund!P803","v":""}]
[null,null,null,null,null,null,null,null,null,null,null,null,{"$f":"Fund!W804","v":"00:00:00"},{"$f":"Fund!X804","v":0},{"$f":"-Fund!V804","v":0},{"$f":"Fund!V804","v":0},{"$f":"Fund!P804","v":""}]
[null,null,null,null,null,null,null,null,null,null,null,null,{"$f":"Fund!W805","v":"00:00:00"},{"$f":"Fund!X805","v":0},{"$f":"-Fund!V805","v":0},{"$f":"Fund!V805","v":0},{"$f":"Fund!P805","v":""}]
[null,null,null,null,null,null,null,null,null,null,null,null,{"$f":"Fund!W806","v":"00:00:00"},{"$f":"Fund!X806","v":0},{"$f":"-Fund!V806","v":0},{"$f":"Fund!V806","v":0},{"$f":"Fund!P806","v":""}]
[null,null,null,null,null,null,null,null,null,null,null,null,{"$f":"Fund!W807","v":"00:00:00"},{"$f":"Fund!X807","v":0},{"$f":"-Fund!V807","v":0},{"$f":"Fund!V807","v":0},{"$f":"Fund!P807","v":""}]
[null,null,null,null,null,null,null,null,null,null,null,null,{"$f":"Fund!W808","v":"00:00:00"},{"$f":"Fund!X808","v":0},{"$f":"-Fund!V808","v":0},{"$f":"Fund!V808","v":0},{"$f":"Fund!P808","v":""}]
[null,null,null,null,null,null,null,null,null,null,null,null,{"$f":"Fund!W809","v":"00:00:00"},{"$f":"Fund!X809","v":0},{"$f":"-Fund!V809","v":0},{"$f":"Fund!V809","v":0},{"$f":"Fund!P809","v":""}]
[null,null,null,null,null,null,null,null,null,null,null,null,{"$f":"Fund!W810","v":"00:00:00"},{"$f":"Fund!X810","v":0},{"$f":"-Fund!V810","v":0},{"$f":"Fund!V810","v":0},{"$f":"Fund!P810","v":""}]
[null,null,null,null,null,null,null,null,null,null,null,null,{"$f":"Fund!W811","v":"00:00:00"},{"$f":"Fund!X811","v":0},{"$f":"-Fund!V811","v":0},{"$f":"Fund!V811","v":0},{"$f":"Fund!P811","v":""}]
[null,null,null,null,null,null,null,null,null,null,null,null,{"$f":"Fund!W812","v":"00:00:00"},{"$f":"Fund!X812","v":0},{"$f":"-Fund!V812","v":0},{"$f":"Fund!V812","v":0},{"$f":"Fund!P812","v":""}]
[null,null,null,null,null,null,null,null,null,null,null,null,{"$f":"Fund!W813","v":"00:00:00"},{"$f":"Fund!X813","v":0},{"$f":"-Fund!V813","v":0},{"$f":"Fund!V813","v":0},{"$f":"Fund!P813","v":""}]
[null,null,null,null,null,null,null,null,null,null,null,null,{"$f":"Fund!W814","v":"00:00:00"},{"$f":"Fund!X814","v":0},{"$f":"-Fund!V814","v":0},{"$f":"Fund!V814","v":0},{"$f":"Fund!P814","v":""}]
[null,null,null,null,null,null,null,null,null,null,null,null,{"$f":"Fund!W815","v":"00:00:00"},{"$f":"Fund!X815","v":0},{"$f":"-Fund!V815","v":0},{"$f":"Fund!V815","v":0},{"$f":"Fund!P815","v":""}]
[null,null,null,null,null,null,null,null,null,null,null,null,{"$f":"Fund!W816","v":"00:00:00"},{"$f":"Fund!X816","v":0},{"$f":"-Fund!V816","v":0},{"$f":"Fund!V816","v":0},{"$f":"Fund!P816","v":""}]
[null,null,null,null,null,null,null,null,null,null,null,null,{"$f":"Fund!W817","v":"00:00:00"},{"$f":"Fund!X817","v":0},{"$f":"-Fund!V817","v":0},{"$f":"Fund!V817","v":0},{"$f":"Fund!P817","v":""}]
[null,null,null,null,null,null,null,null,null,null,null,null,{"$f":"Fund!W818","v":"00:00:00"},{"$f":"Fund!X818","v":0},{"$f":"-Fund!V818","v":0},{"$f":"Fund!V818","v":0},{"$f":"Fund!P818","v":""}]
[null,null,null,null,null,null,null,null,null,null,null,null,{"$f":"Fund!W819","v":"2009-02-06"},{"$f":"Fund!X819","v":12.137499999999999},{"$f":"-Fund!V819","v":1000},{"$f":"Fund!V819","v":-1000},{"$f":"Fund!P819","v":82.389289392378998}]
[null,null,null,null,null,null,null,null,null,null,null,null,{"$f":"Fund!W820","v":"00:00:00"},{"$f":"Fund!X820","v":0},{"$f":"-Fund!V820","v":0},{"$f":"Fund!V820","v":0},{"$f":"Fund!P820","v":""}]
[null,null,null,null,null,null,null,null,null,null,null,null,{"$f":"Fund!W821","v":"00:00:00"},{"$f":"Fund!X821","v":0},{"$f":"-Fund!V821","v":0},{"$f":"Fund!V821","v":0},{"$f":"Fund!P821","v":""}]
[null,null,null,null,null,null,null,null,null,null,null,null,{"$f":"Fund!W822","v":"00:00:00"},{"$f":"Fund!X822","v":0},{"$f":"-Fund!V822","v":0},{"$f":"Fund!V822","v":0},{"$f":"Fund!P822","v":""}]
[null,null,null,null,null,null,null,null,null,null,null,null,{"$f":"Fund!W823","v":"00:00:00"},{"$f":"Fund!X823","v":0},{"$f":"-Fund!V823","v":0},{"$f":"Fund!V823","v":0},{"$f":"Fund!P823","v":""}]
[null,null,null,null,null,null,null,null,null,null,null,null,{"$f":"Fund!W824","v":"00:00:00"},{"$f":"Fund!X824","v":0},{"$f":"-Fund!V824","v":0},{"$f":"Fund!V824","v":0},{"$f":"Fund!P824","v":""}]
[null,null,null,null,null,null,null,null,null,null,null,null,{"$f":"Fund!W825","v":"00:00:00"},{"$f":"Fund!X825","v":0},{"$f":"-Fund!V825","v":0},{"$f":"Fund!V825","v":0},{"$f":"Fund!P825","v":""}]
[null,null,null,null,null,null,null,null,null,null,null,null,{"$f":"Fund!W826","v":"00:00:00"},{"$f":"Fund!X826","v":0},{"$f":"-Fund!V826","v":0},{"$f":"Fund!V826","v":0},{"$f":"Fund!P826","v":""}]
[null,null,null,null,null,null,null,null,null,null,null,null,{"$f":"Fund!W827","v":"00:00:00"},{"$f":"Fund!X827","v":0},{"$f":"-Fund!V827","v":0},{"$f":"Fund!V827","v":0},{"$f":"Fund!P827","v":""}]
[null,null,null,null,null,null,null,null,null,null,null,null,{"$f":"Fund!W828","v":"00:00:00"},{"$f":"Fund!X828","v":0},{"$f":"-Fund!V828","v":0},{"$f":"Fund!V828","v":0},{"$f":"Fund!P828","v":""}]
[null,null,null,null,null,null,null,null,null,null,null,null,{"$f":"Fund!W829","v":"00:00:00"},{"$f":"Fund!X829","v":0},{"$f":"-Fund!V829","v":0},{"$f":"Fund!V829","v":0},{"$f":"Fund!P829","v":""}]
[null,null,null,null,null,null,null,null,null,null,null,null,{"$f":"Fund!W830","v":"00:00:00"},{"$f":"Fund!X830","v":0},{"$f":"-Fund!V830","v":0},{"$f":"Fund!V830","v":0},{"$f":"Fund!P830","v":""}]
[null,null,null,null,null,null,null,null,null,null,null,null,{"$f":"Fund!W831","v":"00:00:00"},{"$f":"Fund!X831","v":0},{"$f":"-Fund!V831","v":0},{"$f":"Fund!V831","v":0},{"$f":"Fund!P831","v":""}]
[null,null,null,null,null,null,null,null,null,null,null,null,{"$f":"Fund!W832","v":"00:00:00"},{"$f":"Fund!X832","v":0},{"$f":"-Fund!V832","v":0},{"$f":"Fund!V832","v":0},{"$f":"Fund!P832","v":""}]
[null,null,null,null,null,null,null,null,null,null,null,null,{"$f":"Fund!W833","v":"00:00:00"},{"$f":"Fund!X833","v":0},{"$f":"-Fund!V833","v":0},{"$f":"Fund!V833","v":0},{"$f":"Fund!P833","v":""}]
[null,null,null,null,null,null,null,null,null,null,null,null,{"$f":"Fund!W834","v":"00:00:00"},{"$f":"Fund!X834","v":0},{"$f":"-Fund!V834","v":0},{"$f":"Fund!V834","v":0},{"$f":"Fund!P834","v":""}]
[null,null,null,null,null,null,null,null,null,null,null,null,{"$f":"Fund!W835","v":"00:00:00"},{"$f":"Fund!X835","v":0},{"$f":"-Fund!V835","v":0},{"$f":"Fund!V835","v":0},{"$f":"Fund!P835","v":""}]
[null,null,null,null,null,null,null,null,null,null,null,null,{"$f":"Fund!W836","v":"00:00:00"},{"$f":"Fund!X836","v":0},{"$f":"-Fund!V836","v":0},{"$f":"Fund!V836","v":0},{"$f":"Fund!P836","v":""}]
[null,null,null,null,null,null,null,null,null,null,null,null,{"$f":"Fund!W837","v":"00:00:00"},{"$f":"Fund!X837","v":0},{"$f":"-Fund!V837","v":0},{"$f":"Fund!V837","v":0},{"$f":"Fund!P837","v":""}]
[null,null,null,null,null,null,null,null,null,null,null,null,{"$f":"Fund!W838","v":"2009-03-06"},{"$f":"Fund!X838","v":11.3886},{"$f":"-Fund!V838","v":1000},{"$f":"Fund!V838","v":-1000},{"$f":"Fund!P838","v":87.807105350965003}]
[null,null,null,null,null,null,null,null,null,null,null,null,{"$f":"Fund!W839","v":"00:00:00"},{"$f":"Fund!X839","v":0},{"$f":"-Fund!V839","v":0},{"$f":"Fund!V839","v":0},{"$f":"Fund!P839","v":""}]
[null,null,null,null,null,null,null,null,null,null,null,null,{"$f":"Fund!W840","v":"00:00:00"},{"$f":"Fund!X840","v":0},{"$f":"-Fund!V840","v":0},{"$f":"Fund!V840","v":0},{"$f":"Fund!P840","v":""}]
[null,null,null,null,null,null,null,null,null,null,null,null,{"$f":"Fund!W841","v":"00:00:00"},{"$f":"Fund!X841","v":0},{"$f":"-Fund!V841","v":0},{"$f":"Fund!V841","v":0},{"$f":"Fund!P841","v":""}]
[null,null,null,null,null,null,null,null,null,null,null,null,{"$f":"Fund!W842","v":"00:00:00"},{"$f":"Fund!X842","v":0},{"$f":"-Fund!V842","v":0},{"$f":"Fund!V842","v":0},{"$f":"Fund!P842","v":""}]
[null,null,null,null,null,null,null,null,null,null,null,null,{"$f":"Fund!W843","v":"00:00:00"},{"$f":"Fund!X843","v":0},{"$f":"-Fund!V843","v":0},{"$f":"Fund!V843","v":0},{"$f":"Fund!P843","v":""}]
[null,null,null,null,null,null,null,null,null,null,null,null,{"$f":"Fund!W844","v":"00:00:00"},{"$f":"Fund!X844","v":0},{"$f":"-Fund!V844","v":0},{"$f":"Fund!V844","v":0},{"$f":"Fund!P844","v":""}]
[null,null,null,null,null,null,null,null,null,null,null,null,{"$f":"Fund!W845","v":"00:00:00"},{"$f":"Fund!X845","v":0},{"$f":"-Fund!V845","v":0},{"$f":"Fund!V845","v":0},{"$f":"Fund!P845","v":""}]
[null,null,null,null,null,null,null,null,null,null,null,null,{"$f":"Fund!W846","v":"00:00:00"},{"$f":"Fund!X846","v":0},{"$f":"-Fund!V846","v":0},{"$f":"Fund!V846","v":0},{"$f":"Fund!P846","v":""}]
[null,null,null,null,null,null,null,null,null,null,null,null,{"$f":"Fund!W847","v":"00:00:00"},{"$f":"Fund!X847","v":0},{"$f":"-Fund!V847","v":0},{"$f":"Fund!V847","v":0},{"$f":"Fund!P847","v":""}]
[null,null,null,null,null,null,null,null,null,null,null,null,{"$f":"Fund!W848","v":"00:00:00"},{"$f":"Fund!X848","v":0},{"$f":"-Fund!V848","v":0},{"$f":"Fund!V848","v":0},{"$f":"Fund!P848","v":""}]
[null,null,null,null,null,null,null,null,null,null,null,null,{"$f":"Fund!W849","v":"00:00:00"},{"$f":"Fund!X849","v":0},{"$f":"-Fund!V849","v":0},{"$f":"Fund!V849","v":0},{"$f":"Fund!P849","v":""}]
[null,null,null,null,null,null,null,null,null,null,null,null,{"$f":"Fund!W850","v":"00:00:00"},{"$f":"Fund!X850","v":0},{"$f":"-Fund!V850","v":0},{"$f":"Fund!V850","v":0},{"$f":"Fund!P850","v":""}]
[null,null,null,null,null,null,null,null,null,null,null,null,{"$f":"Fund!W851","v":"00:00:00"},{"$f":"Fund!X851","v":0},{"$f":"-Fund!V851","v":0},{"$f":"Fund!V851","v":0},{"$f":"Fund!P851","v":""}]
[null,null,null,null,null,null,null,null,null,null,null,null,{"$f":"Fund!W852","v":"00:00:00"},{"$f":"Fund!X852","v":0},{"$f":"-Fund!V852","v":0},{"$f":"Fund!V852","v":0},{"$f":"Fund!P852","v":""}]
[null,null,null,null,null,null,null,null,null,null,null,null,{"$f":"Fund!W853","v":"00:00:00"},{"$f":"Fund!X853","v":0},{"$f":"-Fund!V853","v":0},{"$f":"Fund!V853","v":0},{"$f":"Fund!P853","v":""}]
[null,null,null,null,null,null,null,null,null,null,null,null,{"$f":"Fund!W854","v":"00:00:00"},{"$f":"Fund!X854","v":0},{"$f":"-Fund!V854","v":0},{"$f":"Fund!V854","v":0},{"$f":"Fund!P854","v":""}]
[null,null,null,null,null,null,null,null,null,null,null,null,{"$f":"Fund!W855","v":"00:00:00"},{"$f":"Fund!X855","v":0},{"$f":"-Fund!V855","v":0},{"$f":"Fund!V855","v":0},{"$f":"Fund!P855","v":""}]
[null,null,null,null,null,null,null,null,null,null,null,null,{"$f":"Fund!W856","v":"2009-04-06"},{"$f":"Fund!X856","v":13.6746},{"$f":"-Fund!V856","v":1000},{"$f":"Fund!V856","v":-1000},{"$f":"Fund!P856","v":73.128281631638217}]
[null,null,null,null,null,null,null,null,null,null,null,null,{"$f":"Fund!W857","v":"00:00:00"},{"$f":"Fund!X857","v":0},{"$f":"-Fund!V857","v":0},{"$f":"Fund!V857","v":0},{"$f":"Fund!P857","v":""}]
[null,null,null,null,null,null,null,null,null,null,null,null,{"$f":"Fund!W858","v":"00:00:00"},{"$f":"Fund!X858","v":0},{"$f":"-Fund!V858","v":0},{"$f":"Fund!V858","v":0},{"$f":"Fund!P858","v":""}]
[null,null,null,null,null,null,null,null,null,null,null,null,{"$f":"Fund!W859","v":"00:00:00"},{"$f":"Fund!X859","v":0},{"$f":"-Fund!V859","v":0},{"$f":"Fund!V859","v":0},{"$f":"Fund!P859","v":""}]
[null,null,null,null,null,null,null,null,null,null,null,null,{"$f":"Fund!W860","v":"00:00:00"},{"$f":"Fund!X860","v":0},{"$f":"-Fund!V860","v":0},{"$f":"Fund!V860","v":0},{"$f":"Fund!P860","v":""}]
[null,null,null,null,null,null,null,null,null,null,null,null,{"$f":"Fund!W861","v":"00:00:00"},{"$f":"Fund!X861","v":0},{"$f":"-Fund!V861","v":0},{"$f":"Fund!V861","v":0},{"$f":"Fund!P861","v":""}]
[null,null,null,null,null,null,null,null,null,null,null,null,{"$f":"Fund!W862","v":"00:00:00"},{"$f":"Fund!X862","v":0},{"$f":"-Fund!V862","v":0},{"$f":"Fund!V862","v":0},{"$f":"Fund!P862","v":""}]
[null,null,null,null,null,null,null,null,null,null,null,null,{"$f":"Fund!W863","v":"00:00:00"},{"$f":"Fund!X863","v":0},{"$f":"-Fund!V863","v":0},{"$f":"Fund!V863","v":0},{"$f":"Fund!P863","v":""}]
[null,null,null,null,null,null,null,null,null,null,null,null,{"$f":"Fund!W864","v":"00:00:00"},{"$f":"Fund!X864","v":0},{"$f":"-Fund!V864","v":0},{"$f":"Fund!V864","v":0},{"$f":"Fund!P864","v":""}]
[null,null,null,null,null,null,null,null,null,null,null,null,{"$f":"Fund!W865","v":"00:00:00"},{"$f":"Fund!X865","v":0},{"$f":"-Fund!V865","v":0},{"$f":"Fund!V865","v":0},{"$f":"Fund!P865","v":""}]
[null,null,null,null,null,null,null,null,null,null,null,null,{"$f":"Fund!W866","v":"00:00:00"},{"$f":"Fund!X866","v":0},{"$f":"-Fund!V866","v":0},{"$f":"Fund!V866","v":0},{"$f":"Fund!P866","v":""}]
[null,null,null,null,null,null,null,null,null,null,null,null,{"$f":"Fund!W867","v":"00:00:00"},{"$f":"Fund!X867","v":0},{"$f":"-Fund!V867","v":0},{"$f":"Fund!V867","v":0},{"$f":"Fund!P867","v":""}]
[null,null,null,null,null,null,null,null,null,null,null,null,{"$f":"Fund!W868","v":"00:00:00"},{"$f":"Fund!X868","v":0},{"$f":"-Fund!V868","v":0},{"$f":"Fund!V868","v":0},{"$f":"Fund!P868","v":""}]
[null,null,null,null,null,null,null,null,null,null,null,null,{"$f":"Fund!W869","v":"00:00:00"},{"$f":"Fund!X869","v":0},{"$f":"-Fund!V869","v":0},{"$f":"Fund!V869","v":0},{"$f":"Fund!P869","v":""}]
[null,null,null,null,null,null,null,null,null,null,null,null,{"$f":"Fund!W870","v":"00:00:00"},{"$f":"Fund!X870","v":0},{"$f":"-Fund!V870","v":0},{"$f":"Fund!V870","v":0},{"$f":"Fund!P870","v":""}]
[null,null,null,null,null,null,null,null,null,null,null,null,{"$f":"Fund!W871","v":"00:00:00"},{"$f":"Fund!X871","v":0},{"$f":"-Fund!V871","v":0},{"$f":"Fund!V871","v":0},{"$f":"Fund!P871","v":""}]
[null,null,null,null,null,null,null,null,null,null,null,null,{"$f":"Fund!W872","v":"00:00:00"},{"$f":"Fund!X872","v":0},{"$f":"-Fund!V872","v":0},{"$f":"Fund!V872","v":0},{"$f":"Fund!P872","v":""}]
[null,null,null,null,null,null,null,null,null,null,null,null,{"$f":"Fund!W873","v":"2009-05-06"},{"$f":"Fund!X873","v":15.2835},{"$f":"-Fund!V873","v":1000},{"$f":"Fund!V873","v":-1000},{"$f":"Fund!P873","v":65.430038930873167}]
[null,null,null,null,null,null,null,null,null,null,null,null,{"$f":"Fund!W874","v":"00:00:00"},{"$f":"Fund!X874","v":0},{"$f":"-Fund!V874","v":0},{"$f":"Fund!V874","v":0},{"$f":"Fund!P874","v":""}]
[null,null,null,null,null,null,null,null,null,null,null,null,{"$f":"Fund!W875","v":"00:00:00"},{"$f":"Fund!X875","v":0},{"$f":"-Fund!V875","v":0},{"$f":"Fund!V875","v":0},{"$f":"Fund!P875","v":""}]
[null,null,null,null,null,null,null,null,null,null,null,null,{"$f":"Fund!W876","v":"00:00:00"},{"$f":"Fund!X876","v":0},{"$f":"-Fund!V876","v":0},{"$f":"Fund!V876","v":0},{"$f":"Fund!P876","v":""}]
[null,null,null,null,null,null,null,null,null,null,null,null,{"$f":"Fund!W877","v":"00:00:00"},{"$f":"Fund!X877","v":0},{"$f":"-Fund!V877","v":0},{"$f":"Fund!V877","v":0},{"$f":"Fund!P877","v":""}]
[null,null,null,null,null,null,null,null,null,null,null,null,{"$f":"Fund!W878","v":"00:00:00"},{"$f":"Fund!X878","v":0},{"$f":"-Fund!V878","v":0},{"$f":"Fund!V878","v":0},{"$f":"Fund!P878","v":""}]
[null,null,null,null,null,null,null,null,null,null,null,null,{"$f":"Fund!W879","v":"00:00:00"},{"$f":"Fund!X879","v":0},{"$f":"-Fund!V879","v":0},{"$f":"Fund!V879","v":0},{"$f":"Fund!P879","v":""}]
[null,null,null,null,null,null,null,null,null,null,null,null,{"$f":"Fund!W880","v":"00:00:00"},{"$f":"Fund!X880","v":0},{"$f":"-Fund!V880","v":0},{"$f":"Fund!V880","v":0},{"$f":"Fund!P880","v":""}]
[null,null,null,null,null,null,null,null,null,null,null,null,{"$f":"Fund!W881","v":"00:00:00"},{"$f":"Fund!X881","v":0},{"$f":"-Fund!V881","v":0},{"$f":"Fund!V881","v":0},{"$f":"Fund!P881","v":""}]
[null,null,null,null,null,null,null,null,null,null,null,null,{"$f":"Fund!W882","v":"00:00:00"},{"$f":"Fund!X882","v":0},{"$f":"-Fund!V882","v":0},{"$f":"Fund!V882","v":0},{"$f":"Fund!P882","v":""}]
[null,null,null,null,null,null,null,null,null,null,null,null,{"$f":"Fund!W883","v":"00:00:00"},{"$f":"Fund!X883","v":0},{"$f":"-Fund!V883","v":0},{"$f":"Fund!V883","v":0},{"$f":"Fund!P883","v":""}]
[null,null,null,null,null,null,null,null,null,null,null,null,{"$f":"Fund!W884","v":"00:00:00"},{"$f":"Fund!X884","v":0},{"$f":"-Fund!V884","v":0},{"$f":"Fund!V884","v":0},{"$f":"Fund!P884","v":""}]
[null,null,null,null,null,null,null,null,null,null,null,null,{"$f":"Fund!W885","v":"00:00:00"},{"$f":"Fund!X885","v":0},{"$f":"-Fund!V885","v":0},{"$f":"Fund!V885","v":0},{"$f":"Fund!P885","v":""}]
[null,null,null,null,null,null,null,null,null,null,null,null,{"$f":"Fund!W886","v":"00:00:00"},{"$f":"Fund!X886","v":0},{"$f":"-Fund!V886","v":0},{"$f":"Fund!V886","v":0},{"$f":"Fund!P886","v":""}]
[null,null,null,null,null,null,null,null,null,null,null,null,{"$f":"Fund!W887","v":"00:00:00"},{"$f":"Fund!X887","v":0},{"$f":"-Fund!V887","v":0},{"$f":"Fund!V887","v":0},{"$f":"Fund!P887","v":""}]
[null,null,null,null,null,null,null,null,null,null,null,null,{"$f":"Fund!W888","v":"00:00:00"},{"$f":"Fund!X888","v":0},{"$f":"-Fund!V888","v":0},{"$f":"Fund!V888","v":0},{"$f":"Fund!P888","v":""}]
[null,null,null,null,null,null,null,null,null,null,null,null,{"$f":"Fund!W889","v":"00:00:00"},{"$f":"Fund!X889","v":0},{"$f":"-Fund!V889","v":0},{"$f":"Fund!V889","v":0},{"$f":"Fund!P889","v":""}]
[null,null,null,null,null,null,null,null,null,null,null,null,{"$f":"Fund!W890","v":"00:00:00"},{"$f":"Fund!X890","v":0},{"$f":"-Fund!V890","v":0},{"$f":"Fund!V890","v":0},{"$f":"Fund!P890","v":""}]
[null,null,null,null,null,null,null,null,null,null,null,null,{"$f":"Fund!W891","v":"00:00:00"},{"$f":"Fund!X891","v":0},{"$f":"-Fund!V891","v":0},{"$f":"Fund!V891","v":0},{"$f":"Fund!P891","v":""}]
[null,null,null,null,null,null,null,null,null,null,null,null,{"$f":"Fund!W892","v":"00:00:00"},{"$f":"Fund!X892","v":0},{"$f":"-Fund!V892","v":0},{"$f":"Fund!V892","v":0},{"$f":"Fund!P892","v":""}]
[null,null,null,null,null,null,null,null,null,null,null,null,{"$f":"Fund!W893","v":"00:00:00"},{"$f":"Fund!X893","v":0},{"$f":"-Fund!V893","v":0},{"$f":"Fund!V893","v":0},{"$f":"Fund!P893","v":""}]
[null,null,null,null,null,null,null,null,null,null,null,null,{"$f":"Fund!W894","v":"00:00:00"},{"$f":"Fund!X894","v":0},{"$f":"-Fund!V894","v":0},{"$f":"Fund!V894","v":0},{"$f":"Fund!P894","v":""}]
[null,null,null,null,null,null,null,null,null,null,null,null,{"$f":"Fund!W895","v":"2009-06-08"},{"$f":"Fund!X895","v":18.965699999999998},{"$f":"-Fund!V895","v":1000},{"$f":"Fund!V895","v":-1000},{"$f":"Fund!P895","v":52.726764632995362}]
[null,null,null,null,null,null,null,null,null,null,null,null,{"$f":"Fund!W896","v":"00:00:00"},{"$f":"Fund!X896","v":0},{"$f":"-Fund!V896","v":0},{"$f":"Fund!V896","v":0},{"$f":"Fund!P896","v":""}]
[null,null,null,null,null,null,null,null,null,null,null,null,{"$f":"Fund!W897","v":"00:00:00"},{"$f":"Fund!X897","v":0},{"$f":"-Fund!V897","v":0},{"$f":"Fund!V897","v":0},{"$f":"Fund!P897","v":""}]
[null,null,null,null,null,null,null,null,null,null,null,null,{"$f":"Fund!W898","v":"00:00:00"},{"$f":"Fund!X898","v":0},{"$f":"-Fund!V898","v":0},{"$f":"Fund!V898","v":0},{"$f":"Fund!P898","v":""}]
[null,null,null,null,null,null,null,null,null,null,null,null,{"$f":"Fund!W899","v":"00:00:00"},{"$f":"Fund!X899","v":0},{"$f":"-Fund!V899","v":0},{"$f":"Fund!V899","v":0},{"$f":"Fund!P899","v":""}]
[null,null,null,null,null,null,null,null,null,null,null,null,{"$f":"Fund!W900","v":"00:00:00"},{"$f":"Fund!X900","v":0},{"$f":"-Fund!V900","v":0},{"$f":"Fund!V900","v":0},{"$f":"Fund!P900","v":""}]
[null,null,null,null,null,null,null,null,null,null,null,null,{"$f":"Fund!W901","v":"00:00:00"},{"$f":"Fund!X901","v":0},{"$f":"-Fund!V901","v":0},{"$f":"Fund!V901","v":0},{"$f":"Fund!P901","v":""}]
[null,null,null,null,null,null,null,null,null,null,null,null,{"$f":"Fund!W902","v":"00:00:00"},{"$f":"Fund!X902","v":0},{"$f":"-Fund!V902","v":0},{"$f":"Fund!V902","v":0},{"$f":"Fund!P902","v":""}]
[null,null,null,null,null,null,null,null,null,null,null,null,{"$f":"Fund!W903","v":"00:00:00"},{"$f":"Fund!X903","v":0},{"$f":"-Fund!V903","v":0},{"$f":"Fund!V903","v":0},{"$f":"Fund!P903","v":""}]
[null,null,null,null,null,null,null,null,null,null,null,null,{"$f":"Fund!W904","v":"00:00:00"},{"$f":"Fund!X904","v":0},{"$f":"-Fund!V904","v":0},{"$f":"Fund!V904","v":0},{"$f":"Fund!P904","v":""}]
[null,null,null,null,null,null,null,null,null,null,null,null,{"$f":"Fund!W905","v":"00:00:00"},{"$f":"Fund!X905","v":0},{"$f":"-Fund!V905","v":0},{"$f":"Fund!V905","v":0},{"$f":"Fund!P905","v":""}]
[null,null,null,null,null,null,null,null,null,null,null,null,{"$f":"Fund!W906","v":"00:00:00"},{"$f":"Fund!X906","v":0},{"$f":"-Fund!V906","v":0},{"$f":"Fund!V906","v":0},{"$f":"Fund!P906","v":""}]
[null,null,null,null,null,null,null,null,null,null,null,null,{"$f":"Fund!W907","v":"00:00:00"},{"$f":"Fund!X907","v":0},{"$f":"-Fund!V907","v":0},{"$f":"Fund!V907","v":0},{"$f":"Fund!P907","v":""}]
[null,null,null,null,null,null,null,null,null,null,null,null,{"$f":"Fund!W908","v":"00:00:00"},{"$f":"Fund!X908","v":0},{"$f":"-Fund!V908","v":0},{"$f":"Fund!V908","v":0},{"$f":"Fund!P908","v":""}]
[null,null,null,null,null,null,null,null,null,null,null,null,{"$f":"Fund!W909","v":"00:00:00"},{"$f":"Fund!X909","v":0},{"$f":"-Fund!V909","v":0},{"$f":"Fund!V909","v":0},{"$f":"Fund!P909","v":""}]
[null,null,null,null,null,null,null,null,null,null,null,null,{"$f":"Fund!W910","v":"00:00:00"},{"$f":"Fund!X910","v":0},{"$f":"-Fund!V910","v":0},{"$f":"Fund!V910","v":0},{"$f":"Fund!P910","v":""}]
[null,null,null,null,null,null,null,null,null,null,null,null,{"$f":"Fund!W911","v":"00:00:00"},{"$f":"Fund!X911","v":0},{"$f":"-Fund!V911","v":0},{"$f":"Fund!V911","v":0},{"$f":"Fund!P911","v":""}]
[null,null,null,null,null,null,null,null,null,null,null,null,{"$f":"Fund!W912","v":"00:00:00"},{"$f":"Fund!X912","v":0},{"$f":"-Fund!V912","v":0},{"$f":"Fund!V912","v":0},{"$f":"Fund!P912","v":""}]
[null,null,null,null,null,null,null,null,null,null,null,null,{"$f":"Fund!W913","v":"00:00:00"},{"$f":"Fund!X913","v":0},{"$f":"-Fund!V913","v":0},{"$f":"Fund!V913","v":0},{"$f":"Fund!P913","v":""}]
[null,null,null,null,null,null,null,null,null,null,null,null,{"$f":"Fund!W914","v":"00:00:00"},{"$f":"Fund!X914","v":0},{"$f":"-Fund!V914","v":0},{"$f":"Fund!V914","v":0},{"$f":"Fund!P914","v":""}]
[null,null,null,null,null,null,null,null,null,null,null,null,{"$f":"Fund!W915","v":"2009-07-06"},{"$f":"Fund!X915","v":19.224},{"$f":"-Fund!V915","v":1000},{"$f":"Fund!V915","v":-1000},{"$f":"Fund!P915","v":52.01831044527674}]
[null,null,null,null,null,null,null,null,null,null,null,null,{"$f":"Fund!W916","v":"00:00:00"},{"$f":"Fund!X916","v":0},{"$f":"-Fund!V916","v":0},{"$f":"Fund!V916","v":0},{"$f":"Fund!P916","v":""}]
[null,null,null,null,null,null,null,null,null,null,null,null,{"$f":"Fund!W917","v":"00:00:00"},{"$f":"Fund!X917","v":0},{"$f":"-Fund!V917","v":0},{"$f":"Fund!V917","v":0},{"$f":"Fund!P917","v":""}]
[null,null,null,null,null,null,null,null,null,null,null,null,{"$f":"Fund!W918","v":"00:00:00"},{"$f":"Fund!X918","v":0},{"$f":"-Fund!V918","v":0},{"$f":"Fund!V918","v":0},{"$f":"Fund!P918","v":""}]
[null,null,null,null,null,null,null,null,null,null,null,null,{"$f":"Fund!W919","v":"00:00:00"},{"$f":"Fund!X919","v":0},{"$f":"-Fund!V919","v":0},{"$f":"Fund!V919","v":0},{"$f":"Fund!P919","v":""}]
[null,null,null,null,null,null,null,null,null,null,null,null,{"$f":"Fund!W920","v":"00:00:00"},{"$f":"Fund!X920","v":0},{"$f":"-Fund!V920","v":0},{"$f":"Fund!V920","v":0},{"$f":"Fund!P920","v":""}]
[null,null,null,null,null,null,null,null,null,null,null,null,{"$f":"Fund!W921","v":"00:00:00"},{"$f":"Fund!X921","v":0},{"$f":"-Fund!V921","v":0},{"$f":"Fund!V921","v":0},{"$f":"Fund!P921","v":""}]
[null,null,null,null,null,null,null,null,null,null,null,null,{"$f":"Fund!W922","v":"00:00:00"},{"$f":"Fund!X922","v":0},{"$f":"-Fund!V922","v":0},{"$f":"Fund!V922","v":0},{"$f":"Fund!P922","v":""}]
[null,null,null,null,null,null,null,null,null,null,null,null,{"$f":"Fund!W923","v":"00:00:00"},{"$f":"Fund!X923","v":0},{"$f":"-Fund!V923","v":0},{"$f":"Fund!V923","v":0},{"$f":"Fund!P923","v":""}]
[null,null,null,null,null,null,null,null,null,null,null,null,{"$f":"Fund!W924","v":"00:00:00"},{"$f":"Fund!X924","v":0},{"$f":"-Fund!V924","v":0},{"$f":"Fund!V924","v":0},{"$f":"Fund!P924","v":""}]
[null,null,null,null,null,null,null,null,null,null,null,null,{"$f":"Fund!W925","v":"00:00:00"},{"$f":"Fund!X925","v":0},{"$f":"-Fund!V925","v":0},{"$f":"Fund!V925","v":0},{"$f":"Fund!P925","v":""}]
[null,null,null,null,null,null,null,null,null,null,null,null,{"$f":"Fund!W926","v":"00:00:00"},{"$f":"Fund!X926","v":0},{"$f":"-Fund!V926","v":0},{"$f":"Fund!V926","v":0},{"$f":"Fund!P926","v":""}]
[null,null,null,null,null,null,null,null,null,null,null,null,{"$f":"Fund!W927","v":"00:00:00"},{"$f":"Fund!X927","v":0},{"$f":"-Fund!V927","v":0},{"$f":"Fund!V927","v":0},{"$f":"Fund!P927","v":""}]
[null,null,null,null,null,null,null,null,null,null,null,null,{"$f":"Fund!W928","v":"00:00:00"},{"$f":"Fund!X928","v":0},{"$f":"-Fund!V928","v":0},{"$f":"Fund!V928","v":0},{"$f":"Fund!P928","v":""}]
[null,null,null,null,null,null,null,null,null,null,null,null,{"$f":"Fund!W929","v":"00:00:00"},{"$f":"Fund!X929","v":0},{"$f":"-Fund!V929","v":0},{"$f":"Fund!V929","v":0},{"$f":"Fund!P929","v":""}]
[null,null,null,null,null,null,null,null,null,null,null,null,{"$f":"Fund!W930","v":"00:00:00"},{"$f":"Fund!X930","v":0},{"$f":"-Fund!V930","v":0},{"$f":"Fund!V930","v":0},{"$f":"Fund!P930","v":""}]
[null,null,null,null,null,null,null,null,null,null,null,null,{"$f":"Fund!W931","v":"00:00:00"},{"$f":"Fund!X931","v":0},{"$f":"-Fund!V931","v":0},{"$f":"Fund!V931","v":0},{"$f":"Fund!P931","v":""}]
[null,null,null,null,null,null,null,null,null,null,null,null,{"$f":"Fund!W932","v":"00:00:00"},{"$f":"Fund!X932","v":0},{"$f":"-Fund!V932","v":0},{"$f":"Fund!V932","v":0},{"$f":"Fund!P932","v":""}]
[null,null,null,null,null,null,null,null,null,null,null,null,{"$f":"Fund!W933","v":"00:00:00"},{"$f":"Fund!X933","v":0},{"$f":"-Fund!V933","v":0},{"$f":"Fund!V933","v":0},{"$f":"Fund!P933","v":""}]
[null,null,null,null,null,null,null,null,null,null,null,null,{"$f":"Fund!W934","v":"00:00:00"},{"$f":"Fund!X934","v":0},{"$f":"-Fund!V934","v":0},{"$f":"Fund!V934","v":0},{"$f":"Fund!P934","v":""}]
[null,null,null,null,null,null,null,null,null,null,null,null,{"$f":"Fund!W935","v":"00:00:00"},{"$f":"Fund!X935","v":0},{"$f":"-Fund!V935","v":0},{"$f":"Fund!V935","v":0},{"$f":"Fund!P935","v":""}]
[null,null,null,null,null,null,null,null,null,null,null,null,{"$f":"Fund!W936","v":"00:00:00"},{"$f":"Fund!X936","v":0},{"$f":"-Fund!V936","v":0},{"$f":"Fund!V936","v":0},{"$f":"Fund!P936","v":""}]
[null,null,null,null,null,null,null,null,null,null,null,null,{"$f":"Fund!W937","v":"00:00:00"},{"$f":"Fund!X937","v":0},{"$f":"-Fund!V937","v":0},{"$f":"Fund!V937","v":0},{"$f":"Fund!P937","v":""}]
[null,null,null,null,null,null,null,null,null,null,null,null,{"$f":"Fund!W938","v":"2009-08-06"},{"$f":"Fund!X938","v":21.522200000000002},{"$f":"-Fund!V938","v":1000},{"$f":"Fund!V938","v":-1000},{"$f":"Fund!P938","v":46.463651485442938}]
[null,null,null,null,null,null,null,null,null,null,null,null,{"$f":"Fund!W939","v":"00:00:00"},{"$f":"Fund!X939","v":0},{"$f":"-Fund!V939","v":0},{"$f":"Fund!V939","v":0},{"$f":"Fund!P939","v":""}]
[null,null,null,null,null,null,null,null,null,null,null,null,{"$f":"Fund!W940","v":"00:00:00"},{"$f":"Fund!X940","v":0},{"$f":"-Fund!V940","v":0},{"$f":"Fund!V940","v":0},{"$f":"Fund!P940","v":""}]
[null,null,null,null,null,null,null,null,null,null,null,null,{"$f":"Fund!W941","v":"00:00:00"},{"$f":"Fund!X941","v":0},{"$f":"-Fund!V941","v":0},{"$f":"Fund!V941","v":0},{"$f":"Fund!P941","v":""}]
[null,null,null,null,null,null,null,null,null,null,null,null,{"$f":"Fund!W942","v":"00:00:00"},{"$f":"Fund!X942","v":0},{"$f":"-Fund!V942","v":0},{"$f":"Fund!V942","v":0},{"$f":"Fund!P942","v":""}]
[null,null,null,null,null,null,null,null,null,null,null,null,{"$f":"Fund!W943","v":"00:00:00"},{"$f":"Fund!X943","v":0},{"$f":"-Fund!V943","v":0},{"$f":"Fund!V943","v":0},{"$f":"Fund!P943","v":""}]
[null,null,null,null,null,null,null,null,null,null,null,null,{"$f":"Fund!W944","v":"00:00:00"},{"$f":"Fund!X944","v":0},{"$f":"-Fund!V944","v":0},{"$f":"Fund!V944","v":0},{"$f":"Fund!P944","v":""}]
[null,null,null,null,null,null,null,null,null,null,null,null,{"$f":"Fund!W945","v":"00:00:00"},{"$f":"Fund!X945","v":0},{"$f":"-Fund!V945","v":0},{"$f":"Fund!V945","v":0},{"$f":"Fund!P945","v":""}]
[null,null,null,null,null,null,null,null,null,null,null,null,{"$f":"Fund!W946","v":"00:00:00"},{"$f":"Fund!X946","v":0},{"$f":"-Fund!V946","v":0},{"$f":"Fund!V946","v":0},{"$f":"Fund!P946","v":""}]
[null,null,null,null,null,null,null,null,null,null,null,null,{"$f":"Fund!W947","v":"00:00:00"},{"$f":"Fund!X947","v":0},{"$f":"-Fund!V947","v":0},{"$f":"Fund!V947","v":0},{"$f":"Fund!P947","v":""}]
[null,null,null,null,null,null,null,null,null,null,null,null,{"$f":"Fund!W948","v":"00:00:00"},{"$f":"Fund!X948","v":0},{"$f":"-Fund!V948","v":0},{"$f":"Fund!V948","v":0},{"$f":"Fund!P948","v":""}]
[null,null,null,null,null,null,null,null,null,null,null,null,{"$f":"Fund!W949","v":"00:00:00"},{"$f":"Fund!X949","v":0},{"$f":"-Fund!V949","v":0},{"$f":"Fund!V949","v":0},{"$f":"Fund!P949","v":""}]
[null,null,null,null,null,null,null,null,null,null,null,null,{"$f":"Fund!W950","v":"00:00:00"},{"$f":"Fund!X950","v":0},{"$f":"-Fund!V950","v":0},{"$f":"Fund!V950","v":0},{"$f":"Fund!P950","v":""}]
[null,null,null,null,null,null,null,null,null,null,null,null,{"$f":"Fund!W951","v":"00:00:00"},{"$f":"Fund!X951","v":0},{"$f":"-Fund!V951","v":0},{"$f":"Fund!V951","v":0},{"$f":"Fund!P951","v":""}]
[null,null,null,null,null,null,null,null,null,null,null,null,{"$f":"Fund!W952","v":"00:00:00"},{"$f":"Fund!X952","v":0},{"$f":"-Fund!V952","v":0},{"$f":"Fund!V952","v":0},{"$f":"Fund!P952","v":""}]
[null,null,null,null,null,null,null,null,null,null,null,null,{"$f":"Fund!W953","v":"00:00:00"},{"$f":"Fund!X953","v":0},{"$f":"-Fund!V953","v":0},{"$f":"Fund!V953","v":0},{"$f":"Fund!P953","v":""}]
[null,null,null,null,null,null,null,null,null,null,null,null,{"$f":"Fund!W954","v":"00:00:00"},{"$f":"Fund!X954","v":0},{"$f":"-Fund!V954","v":0},{"$f":"Fund!V954","v":0},{"$f":"Fund!P954","v":""}]
[null,null,null,null,null,null,null,null,null,null,null,null,{"$f":"Fund!W955","v":"00:00:00"},{"$f":"Fund!X955","v":0},{"$f":"-Fund!V955","v":0},{"$f":"Fund!V955","v":0},{"$f":"Fund!P955","v":""}]
[null,null,null,null,null,null,null,null,null,null,null,null,{"$f":"Fund!W956","v":"00:00:00"},{"$f":"Fund!X956","v":0},{"$f":"-Fund!V956","v":0},{"$f":"Fund!V956","v":0},{"$f":"Fund!P956","v":""}]
[null,null,null,null,null,null,null,null,null,null,null,null,{"$f":"Fund!W957","v":"00:00:00"},{"$f":"Fund!X957","v":0},{"$f":"-Fund!V957","v":0},{"$f":"Fund!V957","v":0},{"$f":"Fund!P957","v":""}]
[null,null,null,null,null,null,null,null,null,null,null,null,{"$f":"Fund!W958","v":"00:00:00"},{"$f":"Fund!X958","v":0},{"$f":"-Fund!V958","v":0},{"$f":"Fund!V958","v":0},{"$f":"Fund!P958","v":""}]
[null,null,null,null,null,null,null,null,null,null,null,null,{"$f":"Fund!W959","v":"00:00:00"},{"$f":"Fund!X959","v":0},{"$f":"-Fund!V959","v":0},{"$f":"Fund!V959","v":0},{"$f":"Fund!P959","v":""}]
[null,null,null,null,null,null,null,null,null,null,null,null,{"$f":"Fund!W960","v":"2009-09-07"},{"$f":"Fund!X960","v":22.6021},{"$f":"-Fund!V960","v":1000},{"$f":"Fund!V960","v":-1000},{"$f":"Fund!P960","v":44.243676472540159}]
[null,null,null,null,null,null,null,null,null,null,null,null,{"$f":"Fund!W961","v":"00:00:00"},{"$f":"Fund!X961","v":0},{"$f":"-Fund!V961","v":0},{"$f":"Fund!V961","v":0},{"$f":"Fund!P961","v":""}]
[null,null,null,null,null,null,null,null,null,null,null,null,{"$f":"Fund!W962","v":"00:00:00"},{"$f":"Fund!X962","v":0},{"$f":"-Fund!V962","v":0},{"$f":"Fund!V962","v":0},{"$f":"Fund!P962","v":""}]
[null,null,null,null,null,null,null,null,null,null,null,null,{"$f":"Fund!W963","v":"00:00:00"},{"$f":"Fund!X963","v":0},{"$f":"-Fund!V963","v":0},{"$f":"Fund!V963","v":0},{"$f":"Fund!P963","v":""}]
[null,null,null,null,null,null,null,null,null,null,null,null,{"$f":"Fund!W964","v":"00:00:00"},{"$f":"Fund!X964","v":0},{"$f":"-Fund!V964","v":0},{"$f":"Fund!V964","v":0},{"$f":"Fund!P964","v":""}]
[null,null,null,null,null,null,null,null,null,null,null,null,{"$f":"Fund!W965","v":"00:00:00"},{"$f":"Fund!X965","v":0},{"$f":"-Fund!V965","v":0},{"$f":"Fund!V965","v":0},{"$f":"Fund!P965","v":""}]
[null,null,null,null,null,null,null,null,null,null,null,null,{"$f":"Fund!W966","v":"00:00:00"},{"$f":"Fund!X966","v":0},{"$f":"-Fund!V966","v":0},{"$f":"Fund!V966","v":0},{"$f":"Fund!P966","v":""}]
[null,null,null,null,null,null,null,null,null,null,null,null,{"$f":"Fund!W967","v":"00:00:00"},{"$f":"Fund!X967","v":0},{"$f":"-Fund!V967","v":0},{"$f":"Fund!V967","v":0},{"$f":"Fund!P967","v":""}]
[null,null,null,null,null,null,null,null,null,null,null,null,{"$f":"Fund!W968","v":"00:00:00"},{"$f":"Fund!X968","v":0},{"$f":"-Fund!V968","v":0},{"$f":"Fund!V968","v":0},{"$f":"Fund!P968","v":""}]
[null,null,null,null,null,null,null,null,null,null,null,null,{"$f":"Fund!W969","v":"00:00:00"},{"$f":"Fund!X969","v":0},{"$f":"-Fund!V969","v":0},{"$f":"Fund!V969","v":0},{"$f":"Fund!P969","v":""}]
[null,null,null,null,null,null,null,null,null,null,null,null,{"$f":"Fund!W970","v":"00:00:00"},{"$f":"Fund!X970","v":0},{"$f":"-Fund!V970","v":0},{"$f":"Fund!V970","v":0},{"$f":"Fund!P970","v":""}]
[null,null,null,null,null,null,null,null,null,null,null,null,{"$f":"Fund!W971","v":"00:00:00"},{"$f":"Fund!X971","v":0},{"$f":"-Fund!V971","v":0},{"$f":"Fund!V971","v":0},{"$f":"Fund!P971","v":""}]
[null,null,null,null,null,null,null,null,null,null,null,null,{"$f":"Fund!W972","v":"00:00:00"},{"$f":"Fund!X972","v":0},{"$f":"-Fund!V972","v":0},{"$f":"Fund!V972","v":0},{"$f":"Fund!P972","v":""}]
[null,null,null,null,null,null,null,null,null,null,null,null,{"$f":"Fund!W973","v":"00:00:00"},{"$f":"Fund!X973","v":0},{"$f":"-Fund!V973","v":0},{"$f":"Fund!V973","v":0},{"$f":"Fund!P973","v":""}]
[null,null,null,null,null,null,null,null,null,null,null,null,{"$f":"Fund!W974","v":"00:00:00"},{"$f":"Fund!X974","v":0},{"$f":"-Fund!V974","v":0},{"$f":"Fund!V974","v":0},{"$f":"Fund!P974","v":""}]
[null,null,null,null,null,null,null,null,null,null,null,null,{"$f":"Fund!W975","v":"00:00:00"},{"$f":"Fund!X975","v":0},{"$f":"-Fund!V975","v":0},{"$f":"Fund!V975","v":0},{"$f":"Fund!P975","v":""}]
[null,null,null,null,null,null,null,null,null,null,null,null,{"$f":"Fund!W976","v":"00:00:00"},{"$f":"Fund!X976","v":0},{"$f":"-Fund!V976","v":0},{"$f":"Fund!V976","v":0},{"$f":"Fund!P976","v":""}]
[null,null,null,null,null,null,null,null,null,null,null,null,{"$f":"Fund!W977","v":"00:00:00"},{"$f":"Fund!X977","v":0},{"$f":"-Fund!V977","v":0},{"$f":"Fund!V977","v":0},{"$f":"Fund!P977","v":""}]
[null,null,null,null,null,null,null,null,null,null,null,null,{"$f":"Fund!W978","v":"2009-10-06"},{"$f":"Fund!X978","v":23.241700000000002},{"$f":"-Fund!V978","v":1000},{"$f":"Fund!V978","v":-1000},{"$f":"Fund!P978","v":43.026112547705196}]
[null,null,null,null,null,null,null,null,null,null,null,null,{"$f":"Fund!W979","v":"00:00:00"},{"$f":"Fund!X979","v":0},{"$f":"-Fund!V979","v":0},{"$f":"Fund!V979","v":0},{"$f":"Fund!P979","v":""}]
[null,null,null,null,null,null,null,null,null,null,null,null,{"$f":"Fund!W980","v":"00:00:00"},{"$f":"Fund!X980","v":0},{"$f":"-Fund!V980","v":0},{"$f":"Fund!V980","v":0},{"$f":"Fund!P980","v":""}]
[null,null,null,null,null,null,null,null,null,null,null,null,{"$f":"Fund!W981","v":"00:00:00"},{"$f":"Fund!X981","v":0},{"$f":"-Fund!V981","v":0},{"$f":"Fund!V981","v":0},{"$f":"Fund!P981","v":""}]
[null,null,null,null,null,null,null,null,null,null,null,null,{"$f":"Fund!W982","v":"00:00:00"},{"$f":"Fund!X982","v":0},{"$f":"-Fund!V982","v":0},{"$f":"Fund!V982","v":0},{"$f":"Fund!P982","v":""}]
[null,null,null,null,null,null,null,null,null,null,null,null,{"$f":"Fund!W983","v":"00:00:00"},{"$f":"Fund!X983","v":0},{"$f":"-Fund!V983","v":0},{"$f":"Fund!V983","v":0},{"$f":"Fund!P983","v":""}]
[null,null,null,null,null,null,null,null,null,null,null,null,{"$f":"Fund!W984","v":"00:00:00"},{"$f":"Fund!X984","v":0},{"$f":"-Fund!V984","v":0},{"$f":"Fund!V984","v":0},{"$f":"Fund!P984","v":""}]
[null,null,null,null,null,null,null,null,null,null,null,null,{"$f":"Fund!W985","v":"00:00:00"},{"$f":"Fund!X985","v":0},{"$f":"-Fund!V985","v":0},{"$f":"Fund!V985","v":0},{"$f":"Fund!P985","v":""}]
[null,null,null,null,null,null,null,null,null,null,null,null,{"$f":"Fund!W986","v":"00:00:00"},{"$f":"Fund!X986","v":0},{"$f":"-Fund!V986","v":0},{"$f":"Fund!V986","v":0},{"$f":"Fund!P986","v":""}]
[null,null,null,null,null,null,null,null,null,null,null,null,{"$f":"Fund!W987","v":"00:00:00"},{"$f":"Fund!X987","v":0},{"$f":"-Fund!V987","v":0},{"$f":"Fund!V987","v":0},{"$f":"Fund!P987","v":""}]
[null,null,null,null,null,null,null,null,null,null,null,null,{"$f":"Fund!W988","v":"00:00:00"},{"$f":"Fund!X988","v":0},{"$f":"-Fund!V988","v":0},{"$f":"Fund!V988","v":0},{"$f":"Fund!P988","v":""}]
[null,null,null,null,null,null,null,null,null,null,null,null,{"$f":"Fund!W989","v":"00:00:00"},{"$f":"Fund!X989","v":0},{"$f":"-Fund!V989","v":0},{"$f":"Fund!V989","v":0},{"$f":"Fund!P989","v":""}]
[null,null,null,null,null,null,null,null,null,null,null,null,{"$f":"Fund!W990","v":"00:00:00"},{"$f":"Fund!X990","v":0},{"$f":"-Fund!V990","v":0},{"$f":"Fund!V990","v":0},{"$f":"Fund!P990","v":""}]
[null,null,null,null,null,null,null,null,null,null,null,null,{"$f":"Fund!W991","v":"00:00:00"},{"$f":"Fund!X991","v":0},{"$f":"-Fund!V991","v":0},{"$f":"Fund!V991","v":0},{"$f":"Fund!P991","v":""}]
[null,null,null,null,null,null,null,null,null,null,null,null,{"$f":"Fund!W992","v":"00:00:00"},{"$f":"Fund!X992","v":0},{"$f":"-Fund!V992","v":0},{"$f":"Fund!V992","v":0},{"$f":"Fund!P992","v":""}]
[null,null,null,null,null,null,null,null,null,null,null,null,{"$f":"Fund!W993","v":"00:00:00"},{"$f":"Fund!X993","v":0},{"$f":"-Fund!V993","v":0},{"$f":"Fund!V993","v":0},{"$f":"Fund!P993","v":""}]
[null,null,null,null,null,null,null,null,null,null,null,null,{"$f":"Fund!W994","v":"00:00:00"},{"$f":"Fund!X994","v":0},{"$f":"-Fund!V994","v":0},{"$f":"Fund!V994","v":0},{"$f":"Fund!P994","v":""}]
[null,null,null,null,null,null,null,null,null,null,null,null,{"$f":"Fund!W995","v":"00:00:00"},{"$f":"Fund!X995","v":0},{"$f":"-Fund!V995","v":0},{"$f":"Fund!V995","v":0},{"$f":"Fund!P995","v":""}]
[null,null,null,null,null,null,null,null,null,null,null,null,{"$f":"Fund!W996","v":"00:00:00"},{"$f":"Fund!X996","v":0},{"$f":"-Fund!V996","v":0},{"$f":"Fund!V996","v":0},{"$f":"Fund!P996","v":""}]
[null,null,null,null,null,null,null,null,null,null,null,null,{"$f":"Fund!W997","v":"00:00:00"},{"$f":"Fund!X997","v":0},{"$f":"-Fund!V997","v":0},{"$f":"Fund!V997","v":0},{"$f":"Fund!P997","v":""}]
[null,null,null,null,null,null,null,null,null,null,null,null,{"$f":"Fund!W998","v":"2009-11-06"},{"$f":"Fund!X998","v":23.981200000000001},{"$f":"-Fund!V998","v":1000},{"$f":"Fund!V998","v":-1000},{"$f":"Fund!P998","v":41.699331142728468}]
[null,null,null,null,null,null,null,null,null,null,null,null,{"$f":"Fund!W999","v":"00:00:00"},{"$f":"Fund!X999","v":0},{"$f":"-Fund!V999","v":0},{"$f":"Fund!V999","v":0},{"$f":"Fund!P999","v":""}]
[null,null,null,null,null,null,null,null,null,null,null,null,{"$f":"Fund!W1000","v":"00:00:00"},{"$f":"Fund!X1000","v":0},{"$f":"-Fund!V1000","v":0},{"$f":"Fund!V1000","v":0},{"$f":"Fund!P1000","v":""}]
[null,null,null,null,null,null,null,null,null,null,null,null,{"$f":"Fund!W1001","v":"00:00:00"},{"$f":"Fund!X1001","v":0},{"$f":"-Fund!V1001","v":0},{"$f":"Fund!V1001","v":0},{"$f":"Fund!P1001","v":""}]
[null,null,null,null,null,null,null,null,null,null,null,null,{"$f":"Fund!W1002","v":"00:00:00"},{"$f":"Fund!X1002","v":0},{"$f":"-Fund!V1002","v":0},{"$f":"Fund!V1002","v":0},{"$f":"Fund!P1002","v":""}]
[null,null,null,null,null,null,null,null,null,null,null,null,{"$f":"Fund!W1003","v":"00:00:00"},{"$f":"Fund!X1003","v":0},{"$f":"-Fund!V1003","v":0},{"$f":"Fund!V1003","v":0},{"$f":"Fund!P1003","v":""}]
[null,null,null,null,null,null,null,null,null,null,null,null,{"$f":"Fund!W1004","v":"00:00:00"},{"$f":"Fund!X1004","v":0},{"$f":"-Fund!V1004","v":0},{"$f":"Fund!V1004","v":0},{"$f":"Fund!P1004","v":""}]
[null,null,null,null,null,null,null,null,null,null,null,null,{"$f":"Fund!W1005","v":"00:00:00"},{"$f":"Fund!X1005","v":0},{"$f":"-Fund!V1005","v":0},{"$f":"Fund!V1005","v":0},{"$f":"Fund!P1005","v":""}]
[null,null,null,null,null,null,null,null,null,null,null,null,{"$f":"Fund!W1006","v":"00:00:00"},{"$f":"Fund!X1006","v":0},{"$f":"-Fund!V1006","v":0},{"$f":"Fund!V1006","v":0},{"$f":"Fund!P1006","v":""}]
[null,null,null,null,null,null,null,null,null,null,null,null,{"$f":"Fund!W1007","v":"00:00:00"},{"$f":"Fund!X1007","v":0},{"$f":"-Fund!V1007","v":0},{"$f":"Fund!V1007","v":0},{"$f":"Fund!P1007","v":""}]
[null,null,null,null,null,null,null,null,null,null,null,null,{"$f":"Fund!W1008","v":"00:00:00"},{"$f":"Fund!X1008","v":0},{"$f":"-Fund!V1008","v":0},{"$f":"Fund!V1008","v":0},{"$f":"Fund!P1008","v":""}]
[null,null,null,null,null,null,null,null,null,null,null,null,{"$f":"Fund!W1009","v":"00:00:00"},{"$f":"Fund!X1009","v":0},{"$f":"-Fund!V1009","v":0},{"$f":"Fund!V1009","v":0},{"$f":"Fund!P1009","v":""}]
[null,null,null,null,null,null,null,null,null,null,null,null,{"$f":"Fund!W1010","v":"00:00:00"},{"$f":"Fund!X1010","v":0},{"$f":"-Fund!V1010","v":0},{"$f":"Fund!V1010","v":0},{"$f":"Fund!P1010","v":""}]
[null,null,null,null,null,null,null,null,null,null,null,null,{"$f":"Fund!W1011","v":"00:00:00"},{"$f":"Fund!X1011","v":0},{"$f":"-Fund!V1011","v":0},{"$f":"Fund!V1011","v":0},{"$f":"Fund!P1011","v":""}]
[null,null,null,null,null,null,null,null,null,null,null,null,{"$f":"Fund!W1012","v":"00:00:00"},{"$f":"Fund!X1012","v":0},{"$f":"-Fund!V1012","v":0},{"$f":"Fund!V1012","v":0},{"$f":"Fund!P1012","v":""}]
[null,null,null,null,null,null,null,null,null,null,null,null,{"$f":"Fund!W1013","v":"00:00:00"},{"$f":"Fund!X1013","v":0},{"$f":"-Fund!V1013","v":0},{"$f":"Fund!V1013","v":0},{"$f":"Fund!P1013","v":""}]
[null,null,null,null,null,null,null,null,null,null,null,null,{"$f":"Fund!W1014","v":"00:00:00"},{"$f":"Fund!X1014","v":0},{"$f":"-Fund!V1014","v":0},{"$f":"Fund!V1014","v":0},{"$f":"Fund!P1014","v":""}]
[null,null,null,null,null,null,null,null,null,null,null,null,{"$f":"Fund!W1015","v":"00:00:00"},{"$f":"Fund!X1015","v":0},{"$f":"-Fund!V1015","v":0},{"$f":"Fund!V1015","v":0},{"$f":"Fund!P1015","v":""}]
[null,null,null,null,null,null,null,null,null,null,null,null,{"$f":"Fund!W1016","v":"00:00:00"},{"$f":"Fund!X1016","v":0},{"$f":"-Fund!V1016","v":0},{"$f":"Fund!V1016","v":0},{"$f":"Fund!P1016","v":""}]
[null,null,null,null,null,null,null,null,null,null,null,null,{"$f":"Fund!W1017","v":"00:00:00"},{"$f":"Fund!X1017","v":0},{"$f":"-Fund!V1017","v":0},{"$f":"Fund!V1017","v":0},{"$f":"Fund!P1017","v":""}]
[null,null,null,null,null,null,null,null,null,null,null,null,{"$f":"Fund!W1018","v":"00:00:00"},{"$f":"Fund!X1018","v":0},{"$f":"-Fund!V1018","v":0},{"$f":"Fund!V1018","v":0},{"$f":"Fund!P1018","v":""}]
[null,null,null,null,null,null,null,null,null,null,null,null,{"$f":"Fund!W1019","v":"2009-12-07"},{"$f":"Fund!X1019","v":25.554600000000001},{"$f":"-Fund!V1019","v":1000},{"$f":"Fund!V1019","v":-1000},{"$f":"Fund!P1019","v":39.131897975315596}]
[null,null,null,null,null,null,null,null,null,null,null,null,{"$f":"Fund!W1020","v":"00:00:00"},{"$f":"Fund!X1020","v":0},{"$f":"-Fund!V1020","v":0},{"$f":"Fund!V1020","v":0},{"$f":"Fund!P1020","v":""}]
[null,null,null,null,null,null,null,null,null,null,null,null,{"$f":"Fund!W1021","v":"00:00:00"},{"$f":"Fund!X1021","v":0},{"$f":"-Fund!V1021","v":0},{"$f":"Fund!V1021","v":0},{"$f":"Fund!P1021","v":""}]
[null,null,null,null,null,null,null,null,null,null,null,null,{"$f":"Fund!W1022","v":"00:00:00"},{"$f":"Fund!X1022","v":0},{"$f":"-Fund!V1022","v":0},{"$f":"Fund!V1022","v":0},{"$f":"Fund!P1022","v":""}]
[null,null,null,null,null,null,null,null,null,null,null,null,{"$f":"Fund!W1023","v":"00:00:00"},{"$f":"Fund!X1023","v":0},{"$f":"-Fund!V1023","v":0},{"$f":"Fund!V1023","v":0},{"$f":"Fund!P1023","v":""}]
[null,null,null,null,null,null,null,null,null,null,null,null,{"$f":"Fund!W1024","v":"00:00:00"},{"$f":"Fund!X1024","v":0},{"$f":"-Fund!V1024","v":0},{"$f":"Fund!V1024","v":0},{"$f":"Fund!P1024","v":""}]
[null,null,null,null,null,null,null,null,null,null,null,null,{"$f":"Fund!W1025","v":"00:00:00"},{"$f":"Fund!X1025","v":0},{"$f":"-Fund!V1025","v":0},{"$f":"Fund!V1025","v":0},{"$f":"Fund!P1025","v":""}]
[null,null,null,null,null,null,null,null,null,null,null,null,{"$f":"Fund!W1026","v":"00:00:00"},{"$f":"Fund!X1026","v":0},{"$f":"-Fund!V1026","v":0},{"$f":"Fund!V1026","v":0},{"$f":"Fund!P1026","v":""}]
[null,null,null,null,null,null,null,null,null,null,null,null,{"$f":"Fund!W1027","v":"00:00:00"},{"$f":"Fund!X1027","v":0},{"$f":"-Fund!V1027","v":0},{"$f":"Fund!V1027","v":0},{"$f":"Fund!P1027","v":""}]
[null,null,null,null,null,null,null,null,null,null,null,null,{"$f":"Fund!W1028","v":"00:00:00"},{"$f":"Fund!X1028","v":0},{"$f":"-Fund!V1028","v":0},{"$f":"Fund!V1028","v":0},{"$f":"Fund!P1028","v":""}]
[null,null,null,null,null,null,null,null,null,null,null,null,{"$f":"Fund!W1029","v":"00:00:00"},{"$f":"Fund!X1029","v":0},{"$f":"-Fund!V1029","v":0},{"$f":"Fund!V1029","v":0},{"$f":"Fund!P1029","v":""}]
[null,null,null,null,null,null,null,null,null,null,null,null,{"$f":"Fund!W1030","v":"00:00:00"},{"$f":"Fund!X1030","v":0},{"$f":"-Fund!V1030","v":0},{"$f":"Fund!V1030","v":0},{"$f":"Fund!P1030","v":""}]
[null,null,null,null,null,null,null,null,null,null,null,null,{"$f":"Fund!W1031","v":"00:00:00"},{"$f":"Fund!X1031","v":0},{"$f":"-Fund!V1031","v":0},{"$f":"Fund!V1031","v":0},{"$f":"Fund!P1031","v":""}]
[null,null,null,null,null,null,null,null,null,null,null,null,{"$f":"Fund!W1032","v":"00:00:00"},{"$f":"Fund!X1032","v":0},{"$f":"-Fund!V1032","v":0},{"$f":"Fund!V1032","v":0},{"$f":"Fund!P1032","v":""}]
[null,null,null,null,null,null,null,null,null,null,null,null,{"$f":"Fund!W1033","v":"00:00:00"},{"$f":"Fund!X1033","v":0},{"$f":"-Fund!V1033","v":0},{"$f":"Fund!V1033","v":0},{"$f":"Fund!P1033","v":""}]
[null,null,null,null,null,null,null,null,null,null,null,null,{"$f":"Fund!W1034","v":"00:00:00"},{"$f":"Fund!X1034","v":0},{"$f":"-Fund!V1034","v":0},{"$f":"Fund!V1034","v":0},{"$f":"Fund!P1034","v":""}]
[null,null,null,null,null,null,null,null,null,null,null,null,{"$f":"Fund!W1035","v":"00:00:00"},{"$f":"Fund!X1035","v":0},{"$f":"-Fund!V1035","v":0},{"$f":"Fund!V1035","v":0},{"$f":"Fund!P1035","v":""}]
[null,null,null,null,null,null,null,null,null,null,null,null,{"$f":"Fund!W1036","v":"00:00:00"},{"$f":"Fund!X1036","v":0},{"$f":"-Fund!V1036","v":0},{"$f":"Fund!V1036","v":0},{"$f":"Fund!P1036","v":""}]
[null,null,null,null,null,null,null,null,null,null,null,null,{"$f":"Fund!W1037","v":"00:00:00"},{"$f":"Fund!X1037","v":0},{"$f":"-Fund!V1037","v":0},{"$f":"Fund!V1037","v":0},{"$f":"Fund!P1037","v":""}]
[null,null,null,null,null,null,null,null,null,null,null,null,{"$f":"Fund!W1038","v":"2010-01-06"},{"$f":"Fund!X1038","v":27.0989},{"$f":"-Fund!V1038","v":1000},{"$f":"Fund!V1038","v":-1000},{"$f":"Fund!P1038","v":36.901866865444724}]
[null,null,null,null,null,null,null,null,null,null,null,null,{"$f":"Fund!W1039","v":"00:00:00"},{"$f":"Fund!X1039","v":0},{"$f":"-Fund!V1039","v":0},{"$f":"Fund!V1039","v":0},{"$f":"Fund!P1039","v":""}]
[null,null,null,null,null,null,null,null,null,null,null,null,{"$f":"Fund!W1040","v":"00:00:00"},{"$f":"Fund!X1040","v":0},{"$f":"-Fund!V1040","v":0},{"$f":"Fund!V1040","v":0},{"$f":"Fund!P1040","v":""}]
[null,null,null,null,null,null,null,null,null,null,null,null,{"$f":"Fund!W1041","v":"00:00:00"},{"$f":"Fund!X1041","v":0},{"$f":"-Fund!V1041","v":0},{"$f":"Fund!V1041","v":0},{"$f":"Fund!P1041","v":""}]
[null,null,null,null,null,null,null,null,null,null,null,null,{"$f":"Fund!W1042","v":"00:00:00"},{"$f":"Fund!X1042","v":0},{"$f":"-Fund!V1042","v":0},{"$f":"Fund!V1042","v":0},{"$f":"Fund!P1042","v":""}]
[null,null,null,null,null,null,null,null,null,null,null,null,{"$f":"Fund!W1043","v":"00:00:00"},{"$f":"Fund!X1043","v":0},{"$f":"-Fund!V1043","v":0},{"$f":"Fund!V1043","v":0},{"$f":"Fund!P1043","v":""}]
[null,null,null,null,null,null,null,null,null,null,null,null,{"$f":"Fund!W1044","v":"00:00:00"},{"$f":"Fund!X1044","v":0},{"$f":"-Fund!V1044","v":0},{"$f":"Fund!V1044","v":0},{"$f":"Fund!P1044","v":""}]
[null,null,null,null,null,null,null,null,null,null,null,null,{"$f":"Fund!W1045","v":"00:00:00"},{"$f":"Fund!X1045","v":0},{"$f":"-Fund!V1045","v":0},{"$f":"Fund!V1045","v":0},{"$f":"Fund!P1045","v":""}]
[null,null,null,null,null,null,null,null,null,null,null,null,{"$f":"Fund!W1046","v":"00:00:00"},{"$f":"Fund!X1046","v":0},{"$f":"-Fund!V1046","v":0},{"$f":"Fund!V1046","v":0},{"$f":"Fund!P1046","v":""}]
[null,null,null,null,null,null,null,null,null,null,null,null,{"$f":"Fund!W1047","v":"00:00:00"},{"$f":"Fund!X1047","v":0},{"$f":"-Fund!V1047","v":0},{"$f":"Fund!V1047","v":0},{"$f":"Fund!P1047","v":""}]
[null,null,null,null,null,null,null,null,null,null,null,null,{"$f":"Fund!W1048","v":"00:00:00"},{"$f":"Fund!X1048","v":0},{"$f":"-Fund!V1048","v":0},{"$f":"Fund!V1048","v":0},{"$f":"Fund!P1048","v":""}]
[null,null,null,null,null,null,null,null,null,null,null,null,{"$f":"Fund!W1049","v":"00:00:00"},{"$f":"Fund!X1049","v":0},{"$f":"-Fund!V1049","v":0},{"$f":"Fund!V1049","v":0},{"$f":"Fund!P1049","v":""}]
[null,null,null,null,null,null,null,null,null,null,null,null,{"$f":"Fund!W1050","v":"00:00:00"},{"$f":"Fund!X1050","v":0},{"$f":"-Fund!V1050","v":0},{"$f":"Fund!V1050","v":0},{"$f":"Fund!P1050","v":""}]
[null,null,null,null,null,null,null,null,null,null,null,null,{"$f":"Fund!W1051","v":"00:00:00"},{"$f":"Fund!X1051","v":0},{"$f":"-Fund!V1051","v":0},{"$f":"Fund!V1051","v":0},{"$f":"Fund!P1051","v":""}]
[null,null,null,null,null,null,null,null,null,null,null,null,{"$f":"Fund!W1052","v":"00:00:00"},{"$f":"Fund!X1052","v":0},{"$f":"-Fund!V1052","v":0},{"$f":"Fund!V1052","v":0},{"$f":"Fund!P1052","v":""}]
[null,null,null,null,null,null,null,null,null,null,null,null,{"$f":"Fund!W1053","v":"00:00:00"},{"$f":"Fund!X1053","v":0},{"$f":"-Fund!V1053","v":0},{"$f":"Fund!V1053","v":0},{"$f":"Fund!P1053","v":""}]
[null,null,null,null,null,null,null,null,null,null,null,null,{"$f":"Fund!W1054","v":"00:00:00"},{"$f":"Fund!X1054","v":0},{"$f":"-Fund!V1054","v":0},{"$f":"Fund!V1054","v":0},{"$f":"Fund!P1054","v":""}]
[null,null,null,null,null,null,null,null,null,null,null,null,{"$f":"Fund!W1055","v":"00:00:00"},{"$f":"Fund!X1055","v":0},{"$f":"-Fund!V1055","v":0},{"$f":"Fund!V1055","v":0},{"$f":"Fund!P1055","v":""}]
[null,null,null,null,null,null,null,null,null,null,null,null,{"$f":"Fund!W1056","v":"00:00:00"},{"$f":"Fund!X1056","v":0},{"$f":"-Fund!V1056","v":0},{"$f":"Fund!V1056","v":0},{"$f":"Fund!P1056","v":""}]
[null,null,null,null,null,null,null,null,null,null,null,null,{"$f":"Fund!W1057","v":"00:00:00"},{"$f":"Fund!X1057","v":0},{"$f":"-Fund!V1057","v":0},{"$f":"Fund!V1057","v":0},{"$f":"Fund!P1057","v":""}]
[null,null,null,null,null,null,null,null,null,null,null,null,{"$f":"Fund!W1058","v":"00:00:00"},{"$f":"Fund!X1058","v":0},{"$f":"-Fund!V1058","v":0},{"$f":"Fund!V1058","v":0},{"$f":"Fund!P1058","v":""}]
[null,null,null,null,null,null,null,null,null,null,null,null,{"$f":"Fund!W1059","v":"00:00:00"},{"$f":"Fund!X1059","v":0},{"$f":"-Fund!V1059","v":0},{"$f":"Fund!V1059","v":0},{"$f":"Fund!P1059","v":""}]
[null,null,null,null,null,null,null,null,null,null,null,null,{"$f":"Fund!W1060","v":"2010-02-08"},{"$f":"Fund!X1060","v":26.133800000000001},{"$f":"-Fund!V1060","v":1000},{"$f":"Fund!V1060","v":-1000},{"$f":"Fund!P1060","v":38.264622825612804}]
[null,null,null,null,null,null,null,null,null,null,null,null,{"$f":"Fund!W1061","v":"00:00:00"},{"$f":"Fund!X1061","v":0},{"$f":"-Fund!V1061","v":0},{"$f":"Fund!V1061","v":0},{"$f":"Fund!P1061","v":""}]
[null,null,null,null,null,null,null,null,null,null,null,null,{"$f":"Fund!W1062","v":"00:00:00"},{"$f":"Fund!X1062","v":0},{"$f":"-Fund!V1062","v":0},{"$f":"Fund!V1062","v":0},{"$f":"Fund!P1062","v":""}]
[null,null,null,null,null,null,null,null,null,null,null,null,{"$f":"Fund!W1063","v":"00:00:00"},{"$f":"Fund!X1063","v":0},{"$f":"-Fund!V1063","v":0},{"$f":"Fund!V1063","v":0},{"$f":"Fund!P1063","v":""}]
[null,null,null,null,null,null,null,null,null,null,null,null,{"$f":"Fund!W1064","v":"00:00:00"},{"$f":"Fund!X1064","v":0},{"$f":"-Fund!V1064","v":0},{"$f":"Fund!V1064","v":0},{"$f":"Fund!P1064","v":""}]
[null,null,null,null,null,null,null,null,null,null,null,null,{"$f":"Fund!W1065","v":"00:00:00"},{"$f":"Fund!X1065","v":0},{"$f":"-Fund!V1065","v":0},{"$f":"Fund!V1065","v":0},{"$f":"Fund!P1065","v":""}]
[null,null,null,null,null,null,null,null,null,null,null,null,{"$f":"Fund!W1066","v":"00:00:00"},{"$f":"Fund!X1066","v":0},{"$f":"-Fund!V1066","v":0},{"$f":"Fund!V1066","v":0},{"$f":"Fund!P1066","v":""}]
[null,null,null,null,null,null,null,null,null,null,null,null,{"$f":"Fund!W1067","v":"00:00:00"},{"$f":"Fund!X1067","v":0},{"$f":"-Fund!V1067","v":0},{"$f":"Fund!V1067","v":0},{"$f":"Fund!P1067","v":""}]
[null,null,null,null,null,null,null,null,null,null,null,null,{"$f":"Fund!W1068","v":"00:00:00"},{"$f":"Fund!X1068","v":0},{"$f":"-Fund!V1068","v":0},{"$f":"Fund!V1068","v":0},{"$f":"Fund!P1068","v":""}]
[null,null,null,null,null,null,null,null,null,null,null,null,{"$f":"Fund!W1069","v":"00:00:00"},{"$f":"Fund!X1069","v":0},{"$f":"-Fund!V1069","v":0},{"$f":"Fund!V1069","v":0},{"$f":"Fund!P1069","v":""}]
[null,null,null,null,null,null,null,null,null,null,null,null,{"$f":"Fund!W1070","v":"00:00:00"},{"$f":"Fund!X1070","v":0},{"$f":"-Fund!V1070","v":0},{"$f":"Fund!V1070","v":0},{"$f":"Fund!P1070","v":""}]
[null,null,null,null,null,null,null,null,null,null,null,null,{"$f":"Fund!W1071","v":"00:00:00"},{"$f":"Fund!X1071","v":0},{"$f":"-Fund!V1071","v":0},{"$f":"Fund!V1071","v":0},{"$f":"Fund!P1071","v":""}]
[null,null,null,null,null,null,null,null,null,null,null,null,{"$f":"Fund!W1072","v":"00:00:00"},{"$f":"Fund!X1072","v":0},{"$f":"-Fund!V1072","v":0},{"$f":"Fund!V1072","v":0},{"$f":"Fund!P1072","v":""}]
[null,null,null,null,null,null,null,null,null,null,null,null,{"$f":"Fund!W1073","v":"00:00:00"},{"$f":"Fund!X1073","v":0},{"$f":"-Fund!V1073","v":0},{"$f":"Fund!V1073","v":0},{"$f":"Fund!P1073","v":""}]
[null,null,null,null,null,null,null,null,null,null,null,null,{"$f":"Fund!W1074","v":"00:00:00"},{"$f":"Fund!X1074","v":0},{"$f":"-Fund!V1074","v":0},{"$f":"Fund!V1074","v":0},{"$f":"Fund!P1074","v":""}]
[null,null,null,null,null,null,null,null,null,null,null,null,{"$f":"Fund!W1075","v":"00:00:00"},{"$f":"Fund!X1075","v":0},{"$f":"-Fund!V1075","v":0},{"$f":"Fund!V1075","v":0},{"$f":"Fund!P1075","v":""}]
[null,null,null,null,null,null,null,null,null,null,null,null,{"$f":"Fund!W1076","v":"00:00:00"},{"$f":"Fund!X1076","v":0},{"$f":"-Fund!V1076","v":0},{"$f":"Fund!V1076","v":0},{"$f":"Fund!P1076","v":""}]
[null,null,null,null,null,null,null,null,null,null,null,null,{"$f":"Fund!W1077","v":"00:00:00"},{"$f":"Fund!X1077","v":0},{"$f":"-Fund!V1077","v":0},{"$f":"Fund!V1077","v":0},{"$f":"Fund!P1077","v":""}]
[null,null,null,null,null,null,null,null,null,null,null,null,{"$f":"Fund!W1078","v":"2010-03-08"},{"$f":"Fund!X1078","v":27.728899999999999},{"$f":"-Fund!V1078","v":1000},{"$f":"Fund!V1078","v":-1000},{"$f":"Fund!P1078","v":36.06345725939363}]
[null,null,null,null,null,null,null,null,null,null,null,null,{"$f":"Fund!W1079","v":"00:00:00"},{"$f":"Fund!X1079","v":0},{"$f":"-Fund!V1079","v":0},{"$f":"Fund!V1079","v":0},{"$f":"Fund!P1079","v":""}]
[null,null,null,null,null,null,null,null,null,null,null,null,{"$f":"Fund!W1080","v":"00:00:00"},{"$f":"Fund!X1080","v":0},{"$f":"-Fund!V1080","v":0},{"$f":"Fund!V1080","v":0},{"$f":"Fund!P1080","v":""}]
[null,null,null,null,null,null,null,null,null,null,null,null,{"$f":"Fund!W1081","v":"00:00:00"},{"$f":"Fund!X1081","v":0},{"$f":"-Fund!V1081","v":0},{"$f":"Fund!V1081","v":0},{"$f":"Fund!P1081","v":""}]
[null,null,null,null,null,null,null,null,null,null,null,null,{"$f":"Fund!W1082","v":"00:00:00"},{"$f":"Fund!X1082","v":0},{"$f":"-Fund!V1082","v":0},{"$f":"Fund!V1082","v":0},{"$f":"Fund!P1082","v":""}]
[null,null,null,null,null,null,null,null,null,null,null,null,{"$f":"Fund!W1083","v":"00:00:00"},{"$f":"Fund!X1083","v":0},{"$f":"-Fund!V1083","v":0},{"$f":"Fund!V1083","v":0},{"$f":"Fund!P1083","v":""}]
[null,null,null,null,null,null,null,null,null,null,null,null,{"$f":"Fund!W1084","v":"00:00:00"},{"$f":"Fund!X1084","v":0},{"$f":"-Fund!V1084","v":0},{"$f":"Fund!V1084","v":0},{"$f":"Fund!P1084","v":""}]
[null,null,null,null,null,null,null,null,null,null,null,null,{"$f":"Fund!W1085","v":"00:00:00"},{"$f":"Fund!X1085","v":0},{"$f":"-Fund!V1085","v":0},{"$f":"Fund!V1085","v":0},{"$f":"Fund!P1085","v":""}]
[null,null,null,null,null,null,null,null,null,null,null,null,{"$f":"Fund!W1086","v":"00:00:00"},{"$f":"Fund!X1086","v":0},{"$f":"-Fund!V1086","v":0},{"$f":"Fund!V1086","v":0},{"$f":"Fund!P1086","v":""}]
[null,null,null,null,null,null,null,null,null,null,null,null,{"$f":"Fund!W1087","v":"00:00:00"},{"$f":"Fund!X1087","v":0},{"$f":"-Fund!V1087","v":0},{"$f":"Fund!V1087","v":0},{"$f":"Fund!P1087","v":""}]
[null,null,null,null,null,null,null,null,null,null,null,null,{"$f":"Fund!W1088","v":"00:00:00"},{"$f":"Fund!X1088","v":0},{"$f":"-Fund!V1088","v":0},{"$f":"Fund!V1088","v":0},{"$f":"Fund!P1088","v":""}]
[null,null,null,null,null,null,null,null,null,null,null,null,{"$f":"Fund!W1089","v":"00:00:00"},{"$f":"Fund!X1089","v":0},{"$f":"-Fund!V1089","v":0},{"$f":"Fund!V1089","v":0},{"$f":"Fund!P1089","v":""}]
[null,null,null,null,null,null,null,null,null,null,null,null,{"$f":"Fund!W1090","v":"00:00:00"},{"$f":"Fund!X1090","v":0},{"$f":"-Fund!V1090","v":0},{"$f":"Fund!V1090","v":0},{"$f":"Fund!P1090","v":""}]
[null,null,null,null,null,null,null,null,null,null,null,null,{"$f":"Fund!W1091","v":"00:00:00"},{"$f":"Fund!X1091","v":0},{"$f":"-Fund!V1091","v":0},{"$f":"Fund!V1091","v":0},{"$f":"Fund!P1091","v":""}]
[null,null,null,null,null,null,null,null,null,null,null,null,{"$f":"Fund!W1092","v":"00:00:00"},{"$f":"Fund!X1092","v":0},{"$f":"-Fund!V1092","v":0},{"$f":"Fund!V1092","v":0},{"$f":"Fund!P1092","v":""}]
[null,null,null,null,null,null,null,null,null,null,null,null,{"$f":"Fund!W1093","v":"00:00:00"},{"$f":"Fund!X1093","v":0},{"$f":"-Fund!V1093","v":0},{"$f":"Fund!V1093","v":0},{"$f":"Fund!P1093","v":""}]
[null,null,null,null,null,null,null,null,null,null,null,null,{"$f":"Fund!W1094","v":"00:00:00"},{"$f":"Fund!X1094","v":0},{"$f":"-Fund!V1094","v":0},{"$f":"Fund!V1094","v":0},{"$f":"Fund!P1094","v":""}]
[null,null,null,null,null,null,null,null,null,null,null,null,{"$f":"Fund!W1095","v":"00:00:00"},{"$f":"Fund!X1095","v":0},{"$f":"-Fund!V1095","v":0},{"$f":"Fund!V1095","v":0},{"$f":"Fund!P1095","v":""}]
[null,null,null,null,null,null,null,null,null,null,null,null,{"$f":"Fund!W1096","v":"00:00:00"},{"$f":"Fund!X1096","v":0},{"$f":"-Fund!V1096","v":0},{"$f":"Fund!V1096","v":0},{"$f":"Fund!P1096","v":""}]
[null,null,null,null,null,null,null,null,null,null,null,null,{"$f":"Fund!W1097","v":"2010-04-06"},{"$f":"Fund!X1097","v":28.4114},{"$f":"-Fund!V1097","v":1000},{"$f":"Fund!V1097","v":-1000},{"$f":"Fund!P1097","v":35.197139176527735}]
[null,null,null,null,null,null,null,null,null,null,null,null,{"$f":"Fund!W1098","v":"00:00:00"},{"$f":"Fund!X1098","v":0},{"$f":"-Fund!V1098","v":0},{"$f":"Fund!V1098","v":0},{"$f":"Fund!P1098","v":""}]
[null,null,null,null,null,null,null,null,null,null,null,null,{"$f":"Fund!W1099","v":"00:00:00"},{"$f":"Fund!X1099","v":0},{"$f":"-Fund!V1099","v":0},{"$f":"Fund!V1099","v":0},{"$f":"Fund!P1099","v":""}]
[null,null,null,null,null,null,null,null,null,null,null,null,{"$f":"Fund!W1100","v":"00:00:00"},{"$f":"Fund!X1100","v":0},{"$f":"-Fund!V1100","v":0},{"$f":"Fund!V1100","v":0},{"$f":"Fund!P1100","v":""}]
[null,null,null,null,null,null,null,null,null,null,null,null,{"$f":"Fund!W1101","v":"00:00:00"},{"$f":"Fund!X1101","v":0},{"$f":"-Fund!V1101","v":0},{"$f":"Fund!V1101","v":0},{"$f":"Fund!P1101","v":""}]
[null,null,null,null,null,null,null,null,null,null,null,null,{"$f":"Fund!W1102","v":"00:00:00"},{"$f":"Fund!X1102","v":0},{"$f":"-Fund!V1102","v":0},{"$f":"Fund!V1102","v":0},{"$f":"Fund!P1102","v":""}]
[null,null,null,null,null,null,null,null,null,null,null,null,{"$f":"Fund!W1103","v":"00:00:00"},{"$f":"Fund!X1103","v":0},{"$f":"-Fund!V1103","v":0},{"$f":"Fund!V1103","v":0},{"$f":"Fund!P1103","v":""}]
[null,null,null,null,null,null,null,null,null,null,null,null,{"$f":"Fund!W1104","v":"00:00:00"},{"$f":"Fund!X1104","v":0},{"$f":"-Fund!V1104","v":0},{"$f":"Fund!V1104","v":0},{"$f":"Fund!P1104","v":""}]
[null,null,null,null,null,null,null,null,null,null,null,null,{"$f":"Fund!W1105","v":"00:00:00"},{"$f":"Fund!X1105","v":0},{"$f":"-Fund!V1105","v":0},{"$f":"Fund!V1105","v":0},{"$f":"Fund!P1105","v":""}]
[null,null,null,null,null,null,null,null,null,null,null,null,{"$f":"Fund!W1106","v":"00:00:00"},{"$f":"Fund!X1106","v":0},{"$f":"-Fund!V1106","v":0},{"$f":"Fund!V1106","v":0},{"$f":"Fund!P1106","v":""}]
[null,null,null,null,null,null,null,null,null,null,null,null,{"$f":"Fund!W1107","v":"00:00:00"},{"$f":"Fund!X1107","v":0},{"$f":"-Fund!V1107","v":0},{"$f":"Fund!V1107","v":0},{"$f":"Fund!P1107","v":""}]
[null,null,null,null,null,null,null,null,null,null,null,null,{"$f":"Fund!W1108","v":"00:00:00"},{"$f":"Fund!X1108","v":0},{"$f":"-Fund!V1108","v":0},{"$f":"Fund!V1108","v":0},{"$f":"Fund!P1108","v":""}]
[null,null,null,null,null,null,null,null,null,null,null,null,{"$f":"Fund!W1109","v":"00:00:00"},{"$f":"Fund!X1109","v":0},{"$f":"-Fund!V1109","v":0},{"$f":"Fund!V1109","v":0},{"$f":"Fund!P1109","v":""}]
[null,null,null,null,null,null,null,null,null,null,null,null,{"$f":"Fund!W1110","v":"00:00:00"},{"$f":"Fund!X1110","v":0},{"$f":"-Fund!V1110","v":0},{"$f":"Fund!V1110","v":0},{"$f":"Fund!P1110","v":""}]
[null,null,null,null,null,null,null,null,null,null,null,null,{"$f":"Fund!W1111","v":"00:00:00"},{"$f":"Fund!X1111","v":0},{"$f":"-Fund!V1111","v":0},{"$f":"Fund!V1111","v":0},{"$f":"Fund!P1111","v":""}]
[null,null,null,null,null,null,null,null,null,null,null,null,{"$f":"Fund!W1112","v":"00:00:00"},{"$f":"Fund!X1112","v":0},{"$f":"-Fund!V1112","v":0},{"$f":"Fund!V1112","v":0},{"$f":"Fund!P1112","v":""}]
[null,null,null,null,null,null,null,null,null,null,null,null,{"$f":"Fund!W1113","v":"00:00:00"},{"$f":"Fund!X1113","v":0},{"$f":"-Fund!V1113","v":0},{"$f":"Fund!V1113","v":0},{"$f":"Fund!P1113","v":""}]
[null,null,null,null,null,null,null,null,null,null,null,null,{"$f":"Fund!W1114","v":"00:00:00"},{"$f":"Fund!X1114","v":0},{"$f":"-Fund!V1114","v":0},{"$f":"Fund!V1114","v":0},{"$f":"Fund!P1114","v":""}]
[null,null,null,null,null,null,null,null,null,null,null,null,{"$f":"Fund!W1115","v":"00:00:00"},{"$f":"Fund!X1115","v":0},{"$f":"-Fund!V1115","v":0},{"$f":"Fund!V1115","v":0},{"$f":"Fund!P1115","v":""}]
[null,null,null,null,null,null,null,null,null,null,null,null,{"$f":"Fund!W1116","v":"00:00:00"},{"$f":"Fund!X1116","v":0},{"$f":"-Fund!V1116","v":0},{"$f":"Fund!V1116","v":0},{"$f":"Fund!P1116","v":""}]
[null,null,null,null,null,null,null,null,null,null,null,null,{"$f":"Fund!W1117","v":"00:00:00"},{"$f":"Fund!X1117","v":0},{"$f":"-Fund!V1117","v":0},{"$f":"Fund!V1117","v":0},{"$f":"Fund!P1117","v":""}]
[null,null,null,null,null,null,null,null,null,null,null,null,{"$f":"Fund!W1118","v":"2010-05-06"},{"$f":"Fund!X1118","v":28.500299999999999},{"$f":"-Fund!V1118","v":1000},{"$f":"Fund!V1118","v":-1000},{"$f":"Fund!P1118","v":35.087349957719745}]
[null,null,null,null,null,null,null,null,null,null,null,null,{"$f":"Fund!W1119","v":"00:00:00"},{"$f":"Fund!X1119","v":0},{"$f":"-Fund!V1119","v":0},{"$f":"Fund!V1119","v":0},{"$f":"Fund!P1119","v":""}]
[null,null,null,null,null,null,null,null,null,null,null,null,{"$f":"Fund!W1120","v":"00:00:00"},{"$f":"Fund!X1120","v":0},{"$f":"-Fund!V1120","v":0},{"$f":"Fund!V1120","v":0},{"$f":"Fund!P1120","v":""}]
[null,null,null,null,null,null,null,null,null,null,null,null,{"$f":"Fund!W1121","v":"00:00:00"},{"$f":"Fund!X1121","v":0},{"$f":"-Fund!V1121","v":0},{"$f":"Fund!V1121","v":0},{"$f":"Fund!P1121","v":""}]
[null,null,null,null,null,null,null,null,null,null,null,null,{"$f":"Fund!W1122","v":"00:00:00"},{"$f":"Fund!X1122","v":0},{"$f":"-Fund!V1122","v":0},{"$f":"Fund!V1122","v":0},{"$f":"Fund!P1122","v":""}]
[null,null,null,null,null,null,null,null,null,null,null,null,{"$f":"Fund!W1123","v":"00:00:00"},{"$f":"Fund!X1123","v":0},{"$f":"-Fund!V1123","v":0},{"$f":"Fund!V1123","v":0},{"$f":"Fund!P1123","v":""}]
[null,null,null,null,null,null,null,null,null,null,null,null,{"$f":"Fund!W1124","v":"00:00:00"},{"$f":"Fund!X1124","v":0},{"$f":"-Fund!V1124","v":0},{"$f":"Fund!V1124","v":0},{"$f":"Fund!P1124","v":""}]
[null,null,null,null,null,null,null,null,null,null,null,null,{"$f":"Fund!W1125","v":"00:00:00"},{"$f":"Fund!X1125","v":0},{"$f":"-Fund!V1125","v":0},{"$f":"Fund!V1125","v":0},{"$f":"Fund!P1125","v":""}]
[null,null,null,null,null,null,null,null,null,null,null,null,{"$f":"Fund!W1126","v":"00:00:00"},{"$f":"Fund!X1126","v":0},{"$f":"-Fund!V1126","v":0},{"$f":"Fund!V1126","v":0},{"$f":"Fund!P1126","v":""}]
[null,null,null,null,null,null,null,null,null,null,null,null,{"$f":"Fund!W1127","v":"00:00:00"},{"$f":"Fund!X1127","v":0},{"$f":"-Fund!V1127","v":0},{"$f":"Fund!V1127","v":0},{"$f":"Fund!P1127","v":""}]
[null,null,null,null,null,null,null,null,null,null,null,null,{"$f":"Fund!W1128","v":"00:00:00"},{"$f":"Fund!X1128","v":0},{"$f":"-Fund!V1128","v":0},{"$f":"Fund!V1128","v":0},{"$f":"Fund!P1128","v":""}]
[null,null,null,null,null,null,null,null,null,null,null,null,{"$f":"Fund!W1129","v":"00:00:00"},{"$f":"Fund!X1129","v":0},{"$f":"-Fund!V1129","v":0},{"$f":"Fund!V1129","v":0},{"$f":"Fund!P1129","v":""}]
[null,null,null,null,null,null,null,null,null,null,null,null,{"$f":"Fund!W1130","v":"00:00:00"},{"$f":"Fund!X1130","v":0},{"$f":"-Fund!V1130","v":0},{"$f":"Fund!V1130","v":0},{"$f":"Fund!P1130","v":""}]
[null,null,null,null,null,null,null,null,null,null,null,null,{"$f":"Fund!W1131","v":"00:00:00"},{"$f":"Fund!X1131","v":0},{"$f":"-Fund!V1131","v":0},{"$f":"Fund!V1131","v":0},{"$f":"Fund!P1131","v":""}]
[null,null,null,null,null,null,null,null,null,null,null,null,{"$f":"Fund!W1132","v":"00:00:00"},{"$f":"Fund!X1132","v":0},{"$f":"-Fund!V1132","v":0},{"$f":"Fund!V1132","v":0},{"$f":"Fund!P1132","v":""}]
[null,null,null,null,null,null,null,null,null,null,null,null,{"$f":"Fund!W1133","v":"00:00:00"},{"$f":"Fund!X1133","v":0},{"$f":"-Fund!V1133","v":0},{"$f":"Fund!V1133","v":0},{"$f":"Fund!P1133","v":""}]
[null,null,null,null,null,null,null,null,null,null,null,null,{"$f":"Fund!W1134","v":"00:00:00"},{"$f":"Fund!X1134","v":0},{"$f":"-Fund!V1134","v":0},{"$f":"Fund!V1134","v":0},{"$f":"Fund!P1134","v":""}]
[null,null,null,null,null,null,null,null,null,null,null,null,{"$f":"Fund!W1135","v":"00:00:00"},{"$f":"Fund!X1135","v":0},{"$f":"-Fund!V1135","v":0},{"$f":"Fund!V1135","v":0},{"$f":"Fund!P1135","v":""}]
[null,null,null,null,null,null,null,null,null,null,null,null,{"$f":"Fund!W1136","v":"00:00:00"},{"$f":"Fund!X1136","v":0},{"$f":"-Fund!V1136","v":0},{"$f":"Fund!V1136","v":0},{"$f":"Fund!P1136","v":""}]
[null,null,null,null,null,null,null,null,null,null,null,null,{"$f":"Fund!W1137","v":"00:00:00"},{"$f":"Fund!X1137","v":0},{"$f":"-Fund!V1137","v":0},{"$f":"Fund!V1137","v":0},{"$f":"Fund!P1137","v":""}]
[null,null,null,null,null,null,null,null,null,null,null,null,{"$f":"Fund!W1138","v":"00:00:00"},{"$f":"Fund!X1138","v":0},{"$f":"-Fund!V1138","v":0},{"$f":"Fund!V1138","v":0},{"$f":"Fund!P1138","v":""}]
[null,null,null,null,null,null,null,null,null,null,null,null,{"$f":"Fund!W1139","v":"00:00:00"},{"$f":"Fund!X1139","v":0},{"$f":"-Fund!V1139","v":0},{"$f":"Fund!V1139","v":0},{"$f":"Fund!P1139","v":""}]
[null,null,null,null,null,null,null,null,null,null,null,null,{"$f":"Fund!W1140","v":"2010-06-07"},{"$f":"Fund!X1140","v":27.8536},{"$f":"-Fund!V1140","v":1000},{"$f":"Fund!V1140","v":-1000},{"$f":"Fund!P1140","v":35.902001895625702}]
[null,null,null,null,null,null,null,null,null,null,null,null,{"$f":"Fund!W1141","v":"00:00:00"},{"$f":"Fund!X1141","v":0},{"$f":"-Fund!V1141","v":0},{"$f":"Fund!V1141","v":0},{"$f":"Fund!P1141","v":""}]
[null,null,null,null,null,null,null,null,null,null,null,null,{"$f":"Fund!W1142","v":"00:00:00"},{"$f":"Fund!X1142","v":0},{"$f":"-Fund!V1142","v":0},{"$f":"Fund!V1142","v":0},{"$f":"Fund!P1142","v":""}]
[null,null,null,null,null,null,null,null,null,null,null,null,{"$f":"Fund!W1143","v":"00:00:00"},{"$f":"Fund!X1143","v":0},{"$f":"-Fund!V1143","v":0},{"$f":"Fund!V1143","v":0},{"$f":"Fund!P1143","v":""}]
[null,null,null,null,null,null,null,null,null,null,null,null,{"$f":"Fund!W1144","v":"00:00:00"},{"$f":"Fund!X1144","v":0},{"$f":"-Fund!V1144","v":0},{"$f":"Fund!V1144","v":0},{"$f":"Fund!P1144","v":""}]
[null,null,null,null,null,null,null,null,null,null,null,null,{"$f":"Fund!W1145","v":"00:00:00"},{"$f":"Fund!X1145","v":0},{"$f":"-Fund!V1145","v":0},{"$f":"Fund!V1145","v":0},{"$f":"Fund!P1145","v":""}]
[null,null,null,null,null,null,null,null,null,null,null,null,{"$f":"Fund!W1146","v":"00:00:00"},{"$f":"Fund!X1146","v":0},{"$f":"-Fund!V1146","v":0},{"$f":"Fund!V1146","v":0},{"$f":"Fund!P1146","v":""}]
[null,null,null,null,null,null,null,null,null,null,null,null,{"$f":"Fund!W1147","v":"00:00:00"},{"$f":"Fund!X1147","v":0},{"$f":"-Fund!V1147","v":0},{"$f":"Fund!V1147","v":0},{"$f":"Fund!P1147","v":""}]
[null,null,null,null,null,null,null,null,null,null,null,null,{"$f":"Fund!W1148","v":"00:00:00"},{"$f":"Fund!X1148","v":0},{"$f":"-Fund!V1148","v":0},{"$f":"Fund!V1148","v":0},{"$f":"Fund!P1148","v":""}]
[null,null,null,null,null,null,null,null,null,null,null,null,{"$f":"Fund!W1149","v":"00:00:00"},{"$f":"Fund!X1149","v":0},{"$f":"-Fund!V1149","v":0},{"$f":"Fund!V1149","v":0},{"$f":"Fund!P1149","v":""}]
[null,null,null,null,null,null,null,null,null,null,null,null,{"$f":"Fund!W1150","v":"00:00:00"},{"$f":"Fund!X1150","v":0},{"$f":"-Fund!V1150","v":0},{"$f":"Fund!V1150","v":0},{"$f":"Fund!P1150","v":""}]
[null,null,null,null,null,null,null,null,null,null,null,null,{"$f":"Fund!W1151","v":"00:00:00"},{"$f":"Fund!X1151","v":0},{"$f":"-Fund!V1151","v":0},{"$f":"Fund!V1151","v":0},{"$f":"Fund!P1151","v":""}]
[null,null,null,null,null,null,null,null,null,null,null,null,{"$f":"Fund!W1152","v":"00:00:00"},{"$f":"Fund!X1152","v":0},{"$f":"-Fund!V1152","v":0},{"$f":"Fund!V1152","v":0},{"$f":"Fund!P1152","v":""}]
[null,null,null,null,null,null,null,null,null,null,null,null,{"$f":"Fund!W1153","v":"00:00:00"},{"$f":"Fund!X1153","v":0},{"$f":"-Fund!V1153","v":0},{"$f":"Fund!V1153","v":0},{"$f":"Fund!P1153","v":""}]
[null,null,null,null,null,null,null,null,null,null,null,null,{"$f":"Fund!W1154","v":"00:00:00"},{"$f":"Fund!X1154","v":0},{"$f":"-Fund!V1154","v":0},{"$f":"Fund!V1154","v":0},{"$f":"Fund!P1154","v":""}]
[null,null,null,null,null,null,null,null,null,null,null,null,{"$f":"Fund!W1155","v":"00:00:00"},{"$f":"Fund!X1155","v":0},{"$f":"-Fund!V1155","v":0},{"$f":"Fund!V1155","v":0},{"$f":"Fund!P1155","v":""}]
[null,null,null,null,null,null,null,null,null,null,null,null,{"$f":"Fund!W1156","v":"00:00:00"},{"$f":"Fund!X1156","v":0},{"$f":"-Fund!V1156","v":0},{"$f":"Fund!V1156","v":0},{"$f":"Fund!P1156","v":""}]
[null,null,null,null,null,null,null,null,null,null,null,null,{"$f":"Fund!W1157","v":"00:00:00"},{"$f":"Fund!X1157","v":0},{"$f":"-Fund!V1157","v":0},{"$f":"Fund!V1157","v":0},{"$f":"Fund!P1157","v":""}]
[null,null,null,null,null,null,null,null,null,null,null,null,{"$f":"Fund!W1158","v":"00:00:00"},{"$f":"Fund!X1158","v":0},{"$f":"-Fund!V1158","v":0},{"$f":"Fund!V1158","v":0},{"$f":"Fund!P1158","v":""}]
[null,null,null,null,null,null,null,null,null,null,null,null,{"$f":"Fund!W1159","v":"00:00:00"},{"$f":"Fund!X1159","v":0},{"$f":"-Fund!V1159","v":0},{"$f":"Fund!V1159","v":0},{"$f":"Fund!P1159","v":""}]
[null,null,null,null,null,null,null,null,null,null,null,null,{"$f":"Fund!W1160","v":"00:00:00"},{"$f":"Fund!X1160","v":0},{"$f":"-Fund!V1160","v":0},{"$f":"Fund!V1160","v":0},{"$f":"Fund!P1160","v":""}]
[null,null,null,null,null,null,null,null,null,null,null,null,{"$f":"Fund!W1161","v":"2010-07-06"},{"$f":"Fund!X1161","v":29.977499999999999},{"$f":"-Fund!V1161","v":1000},{"$f":"Fund!V1161","v":-1000},{"$f":"Fund!P1161","v":33.358352097406389}]
[null,null,null,null,null,null,null,null,null,null,null,null,{"$f":"Fund!W1162","v":"00:00:00"},{"$f":"Fund!X1162","v":0},{"$f":"-Fund!V1162","v":0},{"$f":"Fund!V1162","v":0},{"$f":"Fund!P1162","v":""}]
[null,null,null,null,null,null,null,null,null,null,null,null,{"$f":"Fund!W1163","v":"00:00:00"},{"$f":"Fund!X1163","v":0},{"$f":"-Fund!V1163","v":0},{"$f":"Fund!V1163","v":0},{"$f":"Fund!P1163","v":""}]
[null,null,null,null,null,null,null,null,null,null,null,null,{"$f":"Fund!W1164","v":"00:00:00"},{"$f":"Fund!X1164","v":0},{"$f":"-Fund!V1164","v":0},{"$f":"Fund!V1164","v":0},{"$f":"Fund!P1164","v":""}]
[null,null,null,null,null,null,null,null,null,null,null,null,{"$f":"Fund!W1165","v":"00:00:00"},{"$f":"Fund!X1165","v":0},{"$f":"-Fund!V1165","v":0},{"$f":"Fund!V1165","v":0},{"$f":"Fund!P1165","v":""}]
[null,null,null,null,null,null,null,null,null,null,null,null,{"$f":"Fund!W1166","v":"00:00:00"},{"$f":"Fund!X1166","v":0},{"$f":"-Fund!V1166","v":0},{"$f":"Fund!V1166","v":0},{"$f":"Fund!P1166","v":""}]
[null,null,null,null,null,null,null,null,null,null,null,null,{"$f":"Fund!W1167","v":"00:00:00"},{"$f":"Fund!X1167","v":0},{"$f":"-Fund!V1167","v":0},{"$f":"Fund!V1167","v":0},{"$f":"Fund!P1167","v":""}]
[null,null,null,null,null,null,null,null,null,null,null,null,{"$f":"Fund!W1168","v":"00:00:00"},{"$f":"Fund!X1168","v":0},{"$f":"-Fund!V1168","v":0},{"$f":"Fund!V1168","v":0},{"$f":"Fund!P1168","v":""}]
[null,null,null,null,null,null,null,null,null,null,null,null,{"$f":"Fund!W1169","v":"00:00:00"},{"$f":"Fund!X1169","v":0},{"$f":"-Fund!V1169","v":0},{"$f":"Fund!V1169","v":0},{"$f":"Fund!P1169","v":""}]
[null,null,null,null,null,null,null,null,null,null,null,null,{"$f":"Fund!W1170","v":"00:00:00"},{"$f":"Fund!X1170","v":0},{"$f":"-Fund!V1170","v":0},{"$f":"Fund!V1170","v":0},{"$f":"Fund!P1170","v":""}]
[null,null,null,null,null,null,null,null,null,null,null,null,{"$f":"Fund!W1171","v":"00:00:00"},{"$f":"Fund!X1171","v":0},{"$f":"-Fund!V1171","v":0},{"$f":"Fund!V1171","v":0},{"$f":"Fund!P1171","v":""}]
[null,null,null,null,null,null,null,null,null,null,null,null,{"$f":"Fund!W1172","v":"00:00:00"},{"$f":"Fund!X1172","v":0},{"$f":"-Fund!V1172","v":0},{"$f":"Fund!V1172","v":0},{"$f":"Fund!P1172","v":""}]
[null,null,null,null,null,null,null,null,null,null,null,null,{"$f":"Fund!W1173","v":"00:00:00"},{"$f":"Fund!X1173","v":0},{"$f":"-Fund!V1173","v":0},{"$f":"Fund!V1173","v":0},{"$f":"Fund!P1173","v":""}]
[null,null,null,null,null,null,null,null,null,null,null,null,{"$f":"Fund!W1174","v":"00:00:00"},{"$f":"Fund!X1174","v":0},{"$f":"-Fund!V1174","v":0},{"$f":"Fund!V1174","v":0},{"$f":"Fund!P1174","v":""}]
[null,null,null,null,null,null,null,null,null,null,null,null,{"$f":"Fund!W1175","v":"00:00:00"},{"$f":"Fund!X1175","v":0},{"$f":"-Fund!V1175","v":0},{"$f":"Fund!V1175","v":0},{"$f":"Fund!P1175","v":""}]
[null,null,null,null,null,null,null,null,null,null,null,null,{"$f":"Fund!W1176","v":"00:00:00"},{"$f":"Fund!X1176","v":0},{"$f":"-Fund!V1176","v":0},{"$f":"Fund!V1176","v":0},{"$f":"Fund!P1176","v":""}]
[null,null,null,null,null,null,null,null,null,null,null,null,{"$f":"Fund!W1177","v":"00:00:00"},{"$f":"Fund!X1177","v":0},{"$f":"-Fund!V1177","v":0},{"$f":"Fund!V1177","v":0},{"$f":"Fund!P1177","v":""}]
[null,null,null,null,null,null,null,null,null,null,null,null,{"$f":"Fund!W1178","v":"00:00:00"},{"$f":"Fund!X1178","v":0},{"$f":"-Fund!V1178","v":0},{"$f":"Fund!V1178","v":0},{"$f":"Fund!P1178","v":""}]
[null,null,null,null,null,null,null,null,null,null,null,null,{"$f":"Fund!W1179","v":"00:00:00"},{"$f":"Fund!X1179","v":0},{"$f":"-Fund!V1179","v":0},{"$f":"Fund!V1179","v":0},{"$f":"Fund!P1179","v":""}]
[null,null,null,null,null,null,null,null,null,null,null,null,{"$f":"Fund!W1180","v":"00:00:00"},{"$f":"Fund!X1180","v":0},{"$f":"-Fund!V1180","v":0},{"$f":"Fund!V1180","v":0},{"$f":"Fund!P1180","v":""}]
[null,null,null,null,null,null,null,null,null,null,null,null,{"$f":"Fund!W1181","v":"00:00:00"},{"$f":"Fund!X1181","v":0},{"$f":"-Fund!V1181","v":0},{"$f":"Fund!V1181","v":0},{"$f":"Fund!P1181","v":""}]
[null,null,null,null,null,null,null,null,null,null,null,null,{"$f":"Fund!W1182","v":"00:00:00"},{"$f":"Fund!X1182","v":0},{"$f":"-Fund!V1182","v":0},{"$f":"Fund!V1182","v":0},{"$f":"Fund!P1182","v":""}]
[null,null,null,null,null,null,null,null,null,null,null,null,{"$f":"Fund!W1183","v":"00:00:00"},{"$f":"Fund!X1183","v":0},{"$f":"-Fund!V1183","v":0},{"$f":"Fund!V1183","v":0},{"$f":"Fund!P1183","v":""}]
[null,null,null,null,null,null,null,null,null,null,null,null,{"$f":"Fund!W1184","v":"2010-08-06"},{"$f":"Fund!X1184","v":32.889400000000002},{"$f":"-Fund!V1184","v":1000},{"$f":"Fund!V1184","v":-1000},{"$f":"Fund!P1184","v":30.404932896313095}]
[null,null,null,null,null,null,null,null,null,null,null,null,{"$f":"Fund!W1185","v":"00:00:00"},{"$f":"Fund!X1185","v":0},{"$f":"-Fund!V1185","v":0},{"$f":"Fund!V1185","v":0},{"$f":"Fund!P1185","v":""}]
[null,null,null,null,null,null,null,null,null,null,null,null,{"$f":"Fund!W1186","v":"00:00:00"},{"$f":"Fund!X1186","v":0},{"$f":"-Fund!V1186","v":0},{"$f":"Fund!V1186","v":0},{"$f":"Fund!P1186","v":""}]
[null,null,null,null,null,null,null,null,null,null,null,null,{"$f":"Fund!W1187","v":"00:00:00"},{"$f":"Fund!X1187","v":0},{"$f":"-Fund!V1187","v":0},{"$f":"Fund!V1187","v":0},{"$f":"Fund!P1187","v":""}]
[null,null,null,null,null,null,null,null,null,null,null,null,{"$f":"Fund!W1188","v":"00:00:00"},{"$f":"Fund!X1188","v":0},{"$f":"-Fund!V1188","v":0},{"$f":"Fund!V1188","v":0},{"$f":"Fund!P1188","v":""}]
[null,null,null,null,null,null,null,null,null,null,null,null,{"$f":"Fund!W1189","v":"00:00:00"},{"$f":"Fund!X1189","v":0},{"$f":"-Fund!V1189","v":0},{"$f":"Fund!V1189","v":0},{"$f":"Fund!P1189","v":""}]
[null,null,null,null,null,null,null,null,null,null,null,null,{"$f":"Fund!W1190","v":"00:00:00"},{"$f":"Fund!X1190","v":0},{"$f":"-Fund!V1190","v":0},{"$f":"Fund!V1190","v":0},{"$f":"Fund!P1190","v":""}]
[null,null,null,null,null,null,null,null,null,null,null,null,{"$f":"Fund!W1191","v":"00:00:00"},{"$f":"Fund!X1191","v":0},{"$f":"-Fund!V1191","v":0},{"$f":"Fund!V1191","v":0},{"$f":"Fund!P1191","v":""}]
[null,null,null,null,null,null,null,null,null,null,null,null,{"$f":"Fund!W1192","v":"00:00:00"},{"$f":"Fund!X1192","v":0},{"$f":"-Fund!V1192","v":0},{"$f":"Fund!V1192","v":0},{"$f":"Fund!P1192","v":""}]
[null,null,null,null,null,null,null,null,null,null,null,null,{"$f":"Fund!W1193","v":"00:00:00"},{"$f":"Fund!X1193","v":0},{"$f":"-Fund!V1193","v":0},{"$f":"Fund!V1193","v":0},{"$f":"Fund!P1193","v":""}]
[null,null,null,null,null,null,null,null,null,null,null,null,{"$f":"Fund!W1194","v":"00:00:00"},{"$f":"Fund!X1194","v":0},{"$f":"-Fund!V1194","v":0},{"$f":"Fund!V1194","v":0},{"$f":"Fund!P1194","v":""}]
[null,null,null,null,null,null,null,null,null,null,null,null,{"$f":"Fund!W1195","v":"00:00:00"},{"$f":"Fund!X1195","v":0},{"$f":"-Fund!V1195","v":0},{"$f":"Fund!V1195","v":0},{"$f":"Fund!P1195","v":""}]
[null,null,null,null,null,null,null,null,null,null,null,null,{"$f":"Fund!W1196","v":"00:00:00"},{"$f":"Fund!X1196","v":0},{"$f":"-Fund!V1196","v":0},{"$f":"Fund!V1196","v":0},{"$f":"Fund!P1196","v":""}]
[null,null,null,null,null,null,null,null,null,null,null,null,{"$f":"Fund!W1197","v":"00:00:00"},{"$f":"Fund!X1197","v":0},{"$f":"-Fund!V1197","v":0},{"$f":"Fund!V1197","v":0},{"$f":"Fund!P1197","v":""}]
[null,null,null,null,null,null,null,null,null,null,null,null,{"$f":"Fund!W1198","v":"00:00:00"},{"$f":"Fund!X1198","v":0},{"$f":"-Fund!V1198","v":0},{"$f":"Fund!V1198","v":0},{"$f":"Fund!P1198","v":""}]
[null,null,null,null,null,null,null,null,null,null,null,null,{"$f":"Fund!W1199","v":"00:00:00"},{"$f":"Fund!X1199","v":0},{"$f":"-Fund!V1199","v":0},{"$f":"Fund!V1199","v":0},{"$f":"Fund!P1199","v":""}]
[null,null,null,null,null,null,null,null,null,null,null,null,{"$f":"Fund!W1200","v":"00:00:00"},{"$f":"Fund!X1200","v":0},{"$f":"-Fund!V1200","v":0},{"$f":"Fund!V1200","v":0},{"$f":"Fund!P1200","v":""}]
[null,null,null,null,null,null,null,null,null,null,null,null,{"$f":"Fund!W1201","v":"00:00:00"},{"$f":"Fund!X1201","v":0},{"$f":"-Fund!V1201","v":0},{"$f":"Fund!V1201","v":0},{"$f":"Fund!P1201","v":""}]
[null,null,null,null,null,null,null,null,null,null,null,null,{"$f":"Fund!W1202","v":"00:00:00"},{"$f":"Fund!X1202","v":0},{"$f":"-Fund!V1202","v":0},{"$f":"Fund!V1202","v":0},{"$f":"Fund!P1202","v":""}]
[null,null,null,null,null,null,null,null,null,null,null,null,{"$f":"Fund!W1203","v":"00:00:00"},{"$f":"Fund!X1203","v":0},{"$f":"-Fund!V1203","v":0},{"$f":"Fund!V1203","v":0},{"$f":"Fund!P1203","v":""}]
[null,null,null,null,null,null,null,null,null,null,null,null,{"$f":"Fund!W1204","v":"00:00:00"},{"$f":"Fund!X1204","v":0},{"$f":"-Fund!V1204","v":0},{"$f":"Fund!V1204","v":0},{"$f":"Fund!P1204","v":""}]
[null,null,null,null,null,null,null,null,null,null,null,null,{"$f":"Fund!W1205","v":"2010-09-06"},{"$f":"Fund!X1205","v":34.656500000000001},{"$f":"-Fund!V1205","v":1000},{"$f":"Fund!V1205","v":-1000},{"$f":"Fund!P1205","v":28.854616017197351}]
[null,null,null,null,null,null,null,null,null,null,null,null,{"$f":"Fund!W1206","v":"00:00:00"},{"$f":"Fund!X1206","v":0},{"$f":"-Fund!V1206","v":0},{"$f":"Fund!V1206","v":0},{"$f":"Fund!P1206","v":""}]
[null,null,null,null,null,null,null,null,null,null,null,null,{"$f":"Fund!W1207","v":"00:00:00"},{"$f":"Fund!X1207","v":0},{"$f":"-Fund!V1207","v":0},{"$f":"Fund!V1207","v":0},{"$f":"Fund!P1207","v":""}]
[null,null,null,null,null,null,null,null,null,null,null,null,{"$f":"Fund!W1208","v":"00:00:00"},{"$f":"Fund!X1208","v":0},{"$f":"-Fund!V1208","v":0},{"$f":"Fund!V1208","v":0},{"$f":"Fund!P1208","v":""}]
[null,null,null,null,null,null,null,null,null,null,null,null,{"$f":"Fund!W1209","v":"00:00:00"},{"$f":"Fund!X1209","v":0},{"$f":"-Fund!V1209","v":0},{"$f":"Fund!V1209","v":0},{"$f":"Fund!P1209","v":""}]
[null,null,null,null,null,null,null,null,null,null,null,null,{"$f":"Fund!W1210","v":"00:00:00"},{"$f":"Fund!X1210","v":0},{"$f":"-Fund!V1210","v":0},{"$f":"Fund!V1210","v":0},{"$f":"Fund!P1210","v":""}]
[null,null,null,null,null,null,null,null,null,null,null,null,{"$f":"Fund!W1211","v":"00:00:00"},{"$f":"Fund!X1211","v":0},{"$f":"-Fund!V1211","v":0},{"$f":"Fund!V1211","v":0},{"$f":"Fund!P1211","v":""}]
[null,null,null,null,null,null,null,null,null,null,null,null,{"$f":"Fund!W1212","v":"00:00:00"},{"$f":"Fund!X1212","v":0},{"$f":"-Fund!V1212","v":0},{"$f":"Fund!V1212","v":0},{"$f":"Fund!P1212","v":""}]
[null,null,null,null,null,null,null,null,null,null,null,null,{"$f":"Fund!W1213","v":"00:00:00"},{"$f":"Fund!X1213","v":0},{"$f":"-Fund!V1213","v":0},{"$f":"Fund!V1213","v":0},{"$f":"Fund!P1213","v":""}]
[null,null,null,null,null,null,null,null,null,null,null,null,{"$f":"Fund!W1214","v":"00:00:00"},{"$f":"Fund!X1214","v":0},{"$f":"-Fund!V1214","v":0},{"$f":"Fund!V1214","v":0},{"$f":"Fund!P1214","v":""}]
[null,null,null,null,null,null,null,null,null,null,null,null,{"$f":"Fund!W1215","v":"00:00:00"},{"$f":"Fund!X1215","v":0},{"$f":"-Fund!V1215","v":0},{"$f":"Fund!V1215","v":0},{"$f":"Fund!P1215","v":""}]
[null,null,null,null,null,null,null,null,null,null,null,null,{"$f":"Fund!W1216","v":"00:00:00"},{"$f":"Fund!X1216","v":0},{"$f":"-Fund!V1216","v":0},{"$f":"Fund!V1216","v":0},{"$f":"Fund!P1216","v":""}]
[null,null,null,null,null,null,null,null,null,null,null,null,{"$f":"Fund!W1217","v":"00:00:00"},{"$f":"Fund!X1217","v":0},{"$f":"-Fund!V1217","v":0},{"$f":"Fund!V1217","v":0},{"$f":"Fund!P1217","v":""}]
[null,null,null,null,null,null,null,null,null,null,null,null,{"$f":"Fund!W1218","v":"00:00:00"},{"$f":"Fund!X1218","v":0},{"$f":"-Fund!V1218","v":0},{"$f":"Fund!V1218","v":0},{"$f":"Fund!P1218","v":""}]
[null,null,null,null,null,null,null,null,null,null,null,null,{"$f":"Fund!W1219","v":"00:00:00"},{"$f":"Fund!X1219","v":0},{"$f":"-Fund!V1219","v":0},{"$f":"Fund!V1219","v":0},{"$f":"Fund!P1219","v":""}]
[null,null,null,null,null,null,null,null,null,null,null,null,{"$f":"Fund!W1220","v":"00:00:00"},{"$f":"Fund!X1220","v":0},{"$f":"-Fund!V1220","v":0},{"$f":"Fund!V1220","v":0},{"$f":"Fund!P1220","v":""}]
[null,null,null,null,null,null,null,null,null,null,null,null,{"$f":"Fund!W1221","v":"00:00:00"},{"$f":"Fund!X1221","v":0},{"$f":"-Fund!V1221","v":0},{"$f":"Fund!V1221","v":0},{"$f":"Fund!P1221","v":""}]
[null,null,null,null,null,null,null,null,null,null,null,null,{"$f":"Fund!W1222","v":"00:00:00"},{"$f":"Fund!X1222","v":0},{"$f":"-Fund!V1222","v":0},{"$f":"Fund!V1222","v":0},{"$f":"Fund!P1222","v":""}]
[null,null,null,null,null,null,null,null,null,null,null,null,{"$f":"Fund!W1223","v":"00:00:00"},{"$f":"Fund!X1223","v":0},{"$f":"-Fund!V1223","v":0},{"$f":"Fund!V1223","v":0},{"$f":"Fund!P1223","v":""}]
[null,null,null,null,null,null,null,null,null,null,null,null,{"$f":"Fund!W1224","v":"00:00:00"},{"$f":"Fund!X1224","v":0},{"$f":"-Fund!V1224","v":0},{"$f":"Fund!V1224","v":0},{"$f":"Fund!P1224","v":""}]
[null,null,null,null,null,null,null,null,null,null,null,null,{"$f":"Fund!W1225","v":"00:00:00"},{"$f":"Fund!X1225","v":0},{"$f":"-Fund!V1225","v":0},{"$f":"Fund!V1225","v":0},{"$f":"Fund!P1225","v":""}]
[null,null,null,null,null,null,null,null,null,null,null,null,{"$f":"Fund!W1226","v":"2010-10-06"},{"$f":"Fund!X1226","v":35.8752},{"$f":"-Fund!V1226","v":1000},{"$f":"Fund!V1226","v":-1000},{"$f":"Fund!P1226","v":27.874409062527874}]
[null,null,null,null,null,null,null,null,null,null,null,null,{"$f":"Fund!W1227","v":"00:00:00"},{"$f":"Fund!X1227","v":0},{"$f":"-Fund!V1227","v":0},{"$f":"Fund!V1227","v":0},{"$f":"Fund!P1227","v":""}]
[null,null,null,null,null,null,null,null,null,null,null,null,{"$f":"Fund!W1228","v":"00:00:00"},{"$f":"Fund!X1228","v":0},{"$f":"-Fund!V1228","v":0},{"$f":"Fund!V1228","v":0},{"$f":"Fund!P1228","v":""}]
[null,null,null,null,null,null,null,null,null,null,null,null,{"$f":"Fund!W1229","v":"00:00:00"},{"$f":"Fund!X1229","v":0},{"$f":"-Fund!V1229","v":0},{"$f":"Fund!V1229","v":0},{"$f":"Fund!P1229","v":""}]
[null,null,null,null,null,null,null,null,null,null,null,null,{"$f":"Fund!W1230","v":"00:00:00"},{"$f":"Fund!X1230","v":0},{"$f":"-Fund!V1230","v":0},{"$f":"Fund!V1230","v":0},{"$f":"Fund!P1230","v":""}]
[null,null,null,null,null,null,null,null,null,null,null,null,{"$f":"Fund!W1231","v":"00:00:00"},{"$f":"Fund!X1231","v":0},{"$f":"-Fund!V1231","v":0},{"$f":"Fund!V1231","v":0},{"$f":"Fund!P1231","v":""}]
[null,null,null,null,null,null,null,null,null,null,null,null,{"$f":"Fund!W1232","v":"00:00:00"},{"$f":"Fund!X1232","v":0},{"$f":"-Fund!V1232","v":0},{"$f":"Fund!V1232","v":0},{"$f":"Fund!P1232","v":""}]
[null,null,null,null,null,null,null,null,null,null,null,null,{"$f":"Fund!W1233","v":"00:00:00"},{"$f":"Fund!X1233","v":0},{"$f":"-Fund!V1233","v":0},{"$f":"Fund!V1233","v":0},{"$f":"Fund!P1233","v":""}]
[null,null,null,null,null,null,null,null,null,null,null,null,{"$f":"Fund!W1234","v":"00:00:00"},{"$f":"Fund!X1234","v":0},{"$f":"-Fund!V1234","v":0},{"$f":"Fund!V1234","v":0},{"$f":"Fund!P1234","v":""}]
[null,null,null,null,null,null,null,null,null,null,null,null,{"$f":"Fund!W1235","v":"00:00:00"},{"$f":"Fund!X1235","v":0},{"$f":"-Fund!V1235","v":0},{"$f":"Fund!V1235","v":0},{"$f":"Fund!P1235","v":""}]
[null,null,null,null,null,null,null,null,null,null,null,null,{"$f":"Fund!W1236","v":"00:00:00"},{"$f":"Fund!X1236","v":0},{"$f":"-Fund!V1236","v":0},{"$f":"Fund!V1236","v":0},{"$f":"Fund!P1236","v":""}]
[null,null,null,null,null,null,null,null,null,null,null,null,{"$f":"Fund!W1237","v":"00:00:00"},{"$f":"Fund!X1237","v":0},{"$f":"-Fund!V1237","v":0},{"$f":"Fund!V1237","v":0},{"$f":"Fund!P1237","v":""}]
[null,null,null,null,null,null,null,null,null,null,null,null,{"$f":"Fund!W1238","v":"00:00:00"},{"$f":"Fund!X1238","v":0},{"$f":"-Fund!V1238","v":0},{"$f":"Fund!V1238","v":0},{"$f":"Fund!P1238","v":""}]
[null,null,null,null,null,null,null,null,null,null,null,null,{"$f":"Fund!W1239","v":"00:00:00"},{"$f":"Fund!X1239","v":0},{"$f":"-Fund!V1239","v":0},{"$f":"Fund!V1239","v":0},{"$f":"Fund!P1239","v":""}]
[null,null,null,null,null,null,null,null,null,null,null,null,{"$f":"Fund!W1240","v":"00:00:00"},{"$f":"Fund!X1240","v":0},{"$f":"-Fund!V1240","v":0},{"$f":"Fund!V1240","v":0},{"$f":"Fund!P1240","v":""}]
[null,null,null,null,null,null,null,null,null,null,null,null,{"$f":"Fund!W1241","v":"00:00:00"},{"$f":"Fund!X1241","v":0},{"$f":"-Fund!V1241","v":0},{"$f":"Fund!V1241","v":0},{"$f":"Fund!P1241","v":""}]
[null,null,null,null,null,null,null,null,null,null,null,null,{"$f":"Fund!W1242","v":"00:00:00"},{"$f":"Fund!X1242","v":0},{"$f":"-Fund!V1242","v":0},{"$f":"Fund!V1242","v":0},{"$f":"Fund!P1242","v":""}]
[null,null,null,null,null,null,null,null,null,null,null,null,{"$f":"Fund!W1243","v":"00:00:00"},{"$f":"Fund!X1243","v":0},{"$f":"-Fund!V1243","v":0},{"$f":"Fund!V1243","v":0},{"$f":"Fund!P1243","v":""}]
[null,null,null,null,null,null,null,null,null,null,null,null,{"$f":"Fund!W1244","v":"00:00:00"},{"$f":"Fund!X1244","v":0},{"$f":"-Fund!V1244","v":0},{"$f":"Fund!V1244","v":0},{"$f":"Fund!P1244","v":""}]
[null,null,null,null,null,null,null,null,null,null,null,null,{"$f":"Fund!W1245","v":"00:00:00"},{"$f":"Fund!X1245","v":0},{"$f":"-Fund!V1245","v":0},{"$f":"Fund!V1245","v":0},{"$f":"Fund!P1245","v":""}]
[null,null,null,null,null,null,null,null,null,null,null,null,{"$f":"Fund!W1246","v":"00:00:00"},{"$f":"Fund!X1246","v":0},{"$f":"-Fund!V1246","v":0},{"$f":"Fund!V1246","v":0},{"$f":"Fund!P1246","v":""}]
[null,null,null,null,null,null,null,null,null,null,null,null,{"$f":"Fund!W1247","v":"00:00:00"},{"$f":"Fund!X1247","v":0},{"$f":"-Fund!V1247","v":0},{"$f":"Fund!V1247","v":0},{"$f":"Fund!P1247","v":""}]
[null,null,null,null,null,null,null,null,null,null,null,null,{"$f":"Fund!W1248","v":"2010-11-08"},{"$f":"Fund!X1248","v":36.420499999999997},{"$f":"-Fund!V1248","v":1000},{"$f":"Fund!V1248","v":-1000},{"$f":"Fund!P1248","v":27.457064016144756}]
[null,null,null,null,null,null,null,null,null,null,null,null,{"$f":"Fund!W1249","v":"00:00:00"},{"$f":"Fund!X1249","v":0},{"$f":"-Fund!V1249","v":0},{"$f":"Fund!V1249","v":0},{"$f":"Fund!P1249","v":""}]
[null,null,null,null,null,null,null,null,null,null,null,null,{"$f":"Fund!W1250","v":"00:00:00"},{"$f":"Fund!X1250","v":0},{"$f":"-Fund!V1250","v":0},{"$f":"Fund!V1250","v":0},{"$f":"Fund!P1250","v":""}]
[null,null,null,null,null,null,null,null,null,null,null,null,{"$f":"Fund!W1251","v":"00:00:00"},{"$f":"Fund!X1251","v":0},{"$f":"-Fund!V1251","v":0},{"$f":"Fund!V1251","v":0},{"$f":"Fund!P1251","v":""}]
[null,null,null,null,null,null,null,null,null,null,null,null,{"$f":"Fund!W1252","v":"00:00:00"},{"$f":"Fund!X1252","v":0},{"$f":"-Fund!V1252","v":0},{"$f":"Fund!V1252","v":0},{"$f":"Fund!P1252","v":""}]
[null,null,null,null,null,null,null,null,null,null,null,null,{"$f":"Fund!W1253","v":"00:00:00"},{"$f":"Fund!X1253","v":0},{"$f":"-Fund!V1253","v":0},{"$f":"Fund!V1253","v":0},{"$f":"Fund!P1253","v":""}]
[null,null,null,null,null,null,null,null,null,null,null,null,{"$f":"Fund!W1254","v":"00:00:00"},{"$f":"Fund!X1254","v":0},{"$f":"-Fund!V1254","v":0},{"$f":"Fund!V1254","v":0},{"$f":"Fund!P1254","v":""}]
[null,null,null,null,null,null,null,null,null,null,null,null,{"$f":"Fund!W1255","v":"00:00:00"},{"$f":"Fund!X1255","v":0},{"$f":"-Fund!V1255","v":0},{"$f":"Fund!V1255","v":0},{"$f":"Fund!P1255","v":""}]
[null,null,null,null,null,null,null,null,null,null,null,null,{"$f":"Fund!W1256","v":"00:00:00"},{"$f":"Fund!X1256","v":0},{"$f":"-Fund!V1256","v":0},{"$f":"Fund!V1256","v":0},{"$f":"Fund!P1256","v":""}]
[null,null,null,null,null,null,null,null,null,null,null,null,{"$f":"Fund!W1257","v":"00:00:00"},{"$f":"Fund!X1257","v":0},{"$f":"-Fund!V1257","v":0},{"$f":"Fund!V1257","v":0},{"$f":"Fund!P1257","v":""}]
[null,null,null,null,null,null,null,null,null,null,null,null,{"$f":"Fund!W1258","v":"00:00:00"},{"$f":"Fund!X1258","v":0},{"$f":"-Fund!V1258","v":0},{"$f":"Fund!V1258","v":0},{"$f":"Fund!P1258","v":""}]
[null,null,null,null,null,null,null,null,null,null,null,null,{"$f":"Fund!W1259","v":"00:00:00"},{"$f":"Fund!X1259","v":0},{"$f":"-Fund!V1259","v":0},{"$f":"Fund!V1259","v":0},{"$f":"Fund!P1259","v":""}]
[null,null,null,null,null,null,null,null,null,null,null,null,{"$f":"Fund!W1260","v":"00:00:00"},{"$f":"Fund!X1260","v":0},{"$f":"-Fund!V1260","v":0},{"$f":"Fund!V1260","v":0},{"$f":"Fund!P1260","v":""}]
[null,null,null,null,null,null,null,null,null,null,null,null,{"$f":"Fund!W1261","v":"00:00:00"},{"$f":"Fund!X1261","v":0},{"$f":"-Fund!V1261","v":0},{"$f":"Fund!V1261","v":0},{"$f":"Fund!P1261","v":""}]
[null,null,null,null,null,null,null,null,null,null,null,null,{"$f":"Fund!W1262","v":"00:00:00"},{"$f":"Fund!X1262","v":0},{"$f":"-Fund!V1262","v":0},{"$f":"Fund!V1262","v":0},{"$f":"Fund!P1262","v":""}]
[null,null,null,null,null,null,null,null,null,null,null,null,{"$f":"Fund!W1263","v":"00:00:00"},{"$f":"Fund!X1263","v":0},{"$f":"-Fund!V1263","v":0},{"$f":"Fund!V1263","v":0},{"$f":"Fund!P1263","v":""}]
[null,null,null,null,null,null,null,null,null,null,null,null,{"$f":"Fund!W1264","v":"00:00:00"},{"$f":"Fund!X1264","v":0},{"$f":"-Fund!V1264","v":0},{"$f":"Fund!V1264","v":0},{"$f":"Fund!P1264","v":""}]
[null,null,null,null,null,null,null,null,null,null,null,null,{"$f":"Fund!W1265","v":"00:00:00"},{"$f":"Fund!X1265","v":0},{"$f":"-Fund!V1265","v":0},{"$f":"Fund!V1265","v":0},{"$f":"Fund!P1265","v":""}]
[null,null,null,null,null,null,null,null,null,null,null,null,{"$f":"Fund!W1266","v":"2010-12-06"},{"$f":"Fund!X1266","v":34.587400000000002},{"$f":"-Fund!V1266","v":1000},{"$f":"Fund!V1266","v":-1000},{"$f":"Fund!P1266","v":28.912262847163994}]
[null,null,null,null,null,null,null,null,null,null,null,null,{"$f":"Fund!W1267","v":"00:00:00"},{"$f":"Fund!X1267","v":0},{"$f":"-Fund!V1267","v":0},{"$f":"Fund!V1267","v":0},{"$f":"Fund!P1267","v":""}]
[null,null,null,null,null,null,null,null,null,null,null,null,{"$f":"Fund!W1268","v":"00:00:00"},{"$f":"Fund!X1268","v":0},{"$f":"-Fund!V1268","v":0},{"$f":"Fund!V1268","v":0},{"$f":"Fund!P1268","v":""}]
[null,null,null,null,null,null,null,null,null,null,null,null,{"$f":"Fund!W1269","v":"00:00:00"},{"$f":"Fund!X1269","v":0},{"$f":"-Fund!V1269","v":0},{"$f":"Fund!V1269","v":0},{"$f":"Fund!P1269","v":""}]
[null,null,null,null,null,null,null,null,null,null,null,null,{"$f":"Fund!W1270","v":"00:00:00"},{"$f":"Fund!X1270","v":0},{"$f":"-Fund!V1270","v":0},{"$f":"Fund!V1270","v":0},{"$f":"Fund!P1270","v":""}]
[null,null,null,null,null,null,null,null,null,null,null,null,{"$f":"Fund!W1271","v":"00:00:00"},{"$f":"Fund!X1271","v":0},{"$f":"-Fund!V1271","v":0},{"$f":"Fund!V1271","v":0},{"$f":"Fund!P1271","v":""}]
[null,null,null,null,null,null,null,null,null,null,null,null,{"$f":"Fund!W1272","v":"00:00:00"},{"$f":"Fund!X1272","v":0},{"$f":"-Fund!V1272","v":0},{"$f":"Fund!V1272","v":0},{"$f":"Fund!P1272","v":""}]
[null,null,null,null,null,null,null,null,null,null,null,null,{"$f":"Fund!W1273","v":"00:00:00"},{"$f":"Fund!X1273","v":0},{"$f":"-Fund!V1273","v":0},{"$f":"Fund!V1273","v":0},{"$f":"Fund!P1273","v":""}]
[null,null,null,null,null,null,null,null,null,null,null,null,{"$f":"Fund!W1274","v":"00:00:00"},{"$f":"Fund!X1274","v":0},{"$f":"-Fund!V1274","v":0},{"$f":"Fund!V1274","v":0},{"$f":"Fund!P1274","v":""}]
[null,null,null,null,null,null,null,null,null,null,null,null,{"$f":"Fund!W1275","v":"00:00:00"},{"$f":"Fund!X1275","v":0},{"$f":"-Fund!V1275","v":0},{"$f":"Fund!V1275","v":0},{"$f":"Fund!P1275","v":""}]
[null,null,null,null,null,null,null,null,null,null,null,null,{"$f":"Fund!W1276","v":"00:00:00"},{"$f":"Fund!X1276","v":0},{"$f":"-Fund!V1276","v":0},{"$f":"Fund!V1276","v":0},{"$f":"Fund!P1276","v":""}]
[null,null,null,null,null,null,null,null,null,null,null,null,{"$f":"Fund!W1277","v":"00:00:00"},{"$f":"Fund!X1277","v":0},{"$f":"-Fund!V1277","v":0},{"$f":"Fund!V1277","v":0},{"$f":"Fund!P1277","v":""}]
[null,null,null,null,null,null,null,null,null,null,null,null,{"$f":"Fund!W1278","v":"00:00:00"},{"$f":"Fund!X1278","v":0},{"$f":"-Fund!V1278","v":0},{"$f":"Fund!V1278","v":0},{"$f":"Fund!P1278","v":""}]
[null,null,null,null,null,null,null,null,null,null,null,null,{"$f":"Fund!W1279","v":"00:00:00"},{"$f":"Fund!X1279","v":0},{"$f":"-Fund!V1279","v":0},{"$f":"Fund!V1279","v":0},{"$f":"Fund!P1279","v":""}]
[null,null,null,null,null,null,null,null,null,null,null,null,{"$f":"Fund!W1280","v":"00:00:00"},{"$f":"Fund!X1280","v":0},{"$f":"-Fund!V1280","v":0},{"$f":"Fund!V1280","v":0},{"$f":"Fund!P1280","v":""}]
[null,null,null,null,null,null,null,null,null,null,null,null,{"$f":"Fund!W1281","v":"00:00:00"},{"$f":"Fund!X1281","v":0},{"$f":"-Fund!V1281","v":0},{"$f":"Fund!V1281","v":0},{"$f":"Fund!P1281","v":""}]
[null,null,null,null,null,null,null,null,null,null,null,null,{"$f":"Fund!W1282","v":"00:00:00"},{"$f":"Fund!X1282","v":0},{"$f":"-Fund!V1282","v":0},{"$f":"Fund!V1282","v":0},{"$f":"Fund!P1282","v":""}]
[null,null,null,null,null,null,null,null,null,null,null,null,{"$f":"Fund!W1283","v":"00:00:00"},{"$f":"Fund!X1283","v":0},{"$f":"-Fund!V1283","v":0},{"$f":"Fund!V1283","v":0},{"$f":"Fund!P1283","v":""}]
[null,null,null,null,null,null,null,null,null,null,null,null,{"$f":"Fund!W1284","v":"00:00:00"},{"$f":"Fund!X1284","v":0},{"$f":"-Fund!V1284","v":0},{"$f":"Fund!V1284","v":0},{"$f":"Fund!P1284","v":""}]
[null,null,null,null,null,null,null,null,null,null,null,null,{"$f":"Fund!W1285","v":"00:00:00"},{"$f":"Fund!X1285","v":0},{"$f":"-Fund!V1285","v":0},{"$f":"Fund!V1285","v":0},{"$f":"Fund!P1285","v":""}]
[null,null,null,null,null,null,null,null,null,null,null,null,{"$f":"Fund!W1286","v":"00:00:00"},{"$f":"Fund!X1286","v":0},{"$f":"-Fund!V1286","v":0},{"$f":"Fund!V1286","v":0},{"$f":"Fund!P1286","v":""}]
[null,null,null,null,null,null,null,null,null,null,null,null,{"$f":"Fund!W1287","v":"00:00:00"},{"$f":"Fund!X1287","v":0},{"$f":"-Fund!V1287","v":0},{"$f":"Fund!V1287","v":0},{"$f":"Fund!P1287","v":""}]
[null,null,null,null,null,null,null,null,null,null,null,null,{"$f":"Fund!W1288","v":"2011-01-06"},{"$f":"Fund!X1288","v":34.234699999999997},{"$f":"-Fund!V1288","v":1000},{"$f":"Fund!V1288","v":-1000},{"$f":"Fund!P1288","v":29.210128904298859}]
[null,null,null,null,null,null,null,null,null,null,null,null,{"$f":"Fund!W1289","v":"00:00:00"},{"$f":"Fund!X1289","v":0},{"$f":"-Fund!V1289","v":0},{"$f":"Fund!V1289","v":0},{"$f":"Fund!P1289","v":""}]
[null,null,null,null,null,null,null,null,null,null,null,null,{"$f":"Fund!W1290","v":"00:00:00"},{"$f":"Fund!X1290","v":0},{"$f":"-Fund!V1290","v":0},{"$f":"Fund!V1290","v":0},{"$f":"Fund!P1290","v":""}]
[null,null,null,null,null,null,null,null,null,null,null,null,{"$f":"Fund!W1291","v":"00:00:00"},{"$f":"Fund!X1291","v":0},{"$f":"-Fund!V1291","v":0},{"$f":"Fund!V1291","v":0},{"$f":"Fund!P1291","v":""}]
[null,null,null,null,null,null,null,null,null,null,null,null,{"$f":"Fund!W1292","v":"00:00:00"},{"$f":"Fund!X1292","v":0},{"$f":"-Fund!V1292","v":0},{"$f":"Fund!V1292","v":0},{"$f":"Fund!P1292","v":""}]
[null,null,null,null,null,null,null,null,null,null,null,null,{"$f":"Fund!W1293","v":"00:00:00"},{"$f":"Fund!X1293","v":0},{"$f":"-Fund!V1293","v":0},{"$f":"Fund!V1293","v":0},{"$f":"Fund!P1293","v":""}]
[null,null,null,null,null,null,null,null,null,null,null,null,{"$f":"Fund!W1294","v":"00:00:00"},{"$f":"Fund!X1294","v":0},{"$f":"-Fund!V1294","v":0},{"$f":"Fund!V1294","v":0},{"$f":"Fund!P1294","v":""}]
[null,null,null,null,null,null,null,null,null,null,null,null,{"$f":"Fund!W1295","v":"00:00:00"},{"$f":"Fund!X1295","v":0},{"$f":"-Fund!V1295","v":0},{"$f":"Fund!V1295","v":0},{"$f":"Fund!P1295","v":""}]
[null,null,null,null,null,null,null,null,null,null,null,null,{"$f":"Fund!W1296","v":"00:00:00"},{"$f":"Fund!X1296","v":0},{"$f":"-Fund!V1296","v":0},{"$f":"Fund!V1296","v":0},{"$f":"Fund!P1296","v":""}]
[null,null,null,null,null,null,null,null,null,null,null,null,{"$f":"Fund!W1297","v":"00:00:00"},{"$f":"Fund!X1297","v":0},{"$f":"-Fund!V1297","v":0},{"$f":"Fund!V1297","v":0},{"$f":"Fund!P1297","v":""}]
[null,null,null,null,null,null,null,null,null,null,null,null,{"$f":"Fund!W1298","v":"00:00:00"},{"$f":"Fund!X1298","v":0},{"$f":"-Fund!V1298","v":0},{"$f":"Fund!V1298","v":0},{"$f":"Fund!P1298","v":""}]
[null,null,null,null,null,null,null,null,null,null,null,null,{"$f":"Fund!W1299","v":"00:00:00"},{"$f":"Fund!X1299","v":0},{"$f":"-Fund!V1299","v":0},{"$f":"Fund!V1299","v":0},{"$f":"Fund!P1299","v":""}]
[null,null,null,null,null,null,null,null,null,null,null,null,{"$f":"Fund!W1300","v":"00:00:00"},{"$f":"Fund!X1300","v":0},{"$f":"-Fund!V1300","v":0},{"$f":"Fund!V1300","v":0},{"$f":"Fund!P1300","v":""}]
[null,null,null,null,null,null,null,null,null,null,null,null,{"$f":"Fund!W1301","v":"00:00:00"},{"$f":"Fund!X1301","v":0},{"$f":"-Fund!V1301","v":0},{"$f":"Fund!V1301","v":0},{"$f":"Fund!P1301","v":""}]
[null,null,null,null,null,null,null,null,null,null,null,null,{"$f":"Fund!W1302","v":"00:00:00"},{"$f":"Fund!X1302","v":0},{"$f":"-Fund!V1302","v":0},{"$f":"Fund!V1302","v":0},{"$f":"Fund!P1302","v":""}]
[null,null,null,null,null,null,null,null,null,null,null,null,{"$f":"Fund!W1303","v":"00:00:00"},{"$f":"Fund!X1303","v":0},{"$f":"-Fund!V1303","v":0},{"$f":"Fund!V1303","v":0},{"$f":"Fund!P1303","v":""}]
[null,null,null,null,null,null,null,null,null,null,null,null,{"$f":"Fund!W1304","v":"00:00:00"},{"$f":"Fund!X1304","v":0},{"$f":"-Fund!V1304","v":0},{"$f":"Fund!V1304","v":0},{"$f":"Fund!P1304","v":""}]
[null,null,null,null,null,null,null,null,null,null,null,null,{"$f":"Fund!W1305","v":"00:00:00"},{"$f":"Fund!X1305","v":0},{"$f":"-Fund!V1305","v":0},{"$f":"Fund!V1305","v":0},{"$f":"Fund!P1305","v":""}]
[null,null,null,null,null,null,null,null,null,null,null,null,{"$f":"Fund!W1306","v":"00:00:00"},{"$f":"Fund!X1306","v":0},{"$f":"-Fund!V1306","v":0},{"$f":"Fund!V1306","v":0},{"$f":"Fund!P1306","v":""}]
[null,null,null,null,null,null,null,null,null,null,null,null,{"$f":"Fund!W1307","v":"00:00:00"},{"$f":"Fund!X1307","v":0},{"$f":"-Fund!V1307","v":0},{"$f":"Fund!V1307","v":0},{"$f":"Fund!P1307","v":""}]
[null,null,null,null,null,null,null,null,null,null,null,null,{"$f":"Fund!W1308","v":"00:00:00"},{"$f":"Fund!X1308","v":0},{"$f":"-Fund!V1308","v":0},{"$f":"Fund!V1308","v":0},{"$f":"Fund!P1308","v":""}]
[null,null,null,null,null,null,null,null,null,null,null,null,{"$f":"Fund!W1309","v":"2011-02-08"},{"$f":"Fund!X1309","v":28.9878},{"$f":"-Fund!V1309","v":1000},{"$f":"Fund!V1309","v":-1000},{"$f":"Fund!P1309","v":34.497271265842869}]
[null,null,null,null,null,null,null,null,null,null,null,null,{"$f":"Fund!W1310","v":"00:00:00"},{"$f":"Fund!X1310","v":0},{"$f":"-Fund!V1310","v":0},{"$f":"Fund!V1310","v":0},{"$f":"Fund!P1310","v":""}]
[null,null,null,null,null,null,null,null,null,null,null,null,{"$f":"Fund!W1311","v":"00:00:00"},{"$f":"Fund!X1311","v":0},{"$f":"-Fund!V1311","v":0},{"$f":"Fund!V1311","v":0},{"$f":"Fund!P1311","v":""}]
[null,null,null,null,null,null,null,null,null,null,null,null,{"$f":"Fund!W1312","v":"00:00:00"},{"$f":"Fund!X1312","v":0},{"$f":"-Fund!V1312","v":0},{"$f":"Fund!V1312","v":0},{"$f":"Fund!P1312","v":""}]
[null,null,null,null,null,null,null,null,null,null,null,null,{"$f":"Fund!W1313","v":"00:00:00"},{"$f":"Fund!X1313","v":0},{"$f":"-Fund!V1313","v":0},{"$f":"Fund!V1313","v":0},{"$f":"Fund!P1313","v":""}]
[null,null,null,null,null,null,null,null,null,null,null,null,{"$f":"Fund!W1314","v":"00:00:00"},{"$f":"Fund!X1314","v":0},{"$f":"-Fund!V1314","v":0},{"$f":"Fund!V1314","v":0},{"$f":"Fund!P1314","v":""}]
[null,null,null,null,null,null,null,null,null,null,null,null,{"$f":"Fund!W1315","v":"00:00:00"},{"$f":"Fund!X1315","v":0},{"$f":"-Fund!V1315","v":0},{"$f":"Fund!V1315","v":0},{"$f":"Fund!P1315","v":""}]
[null,null,null,null,null,null,null,null,null,null,null,null,{"$f":"Fund!W1316","v":"00:00:00"},{"$f":"Fund!X1316","v":0},{"$f":"-Fund!V1316","v":0},{"$f":"Fund!V1316","v":0},{"$f":"Fund!P1316","v":""}]
[null,null,null,null,null,null,null,null,null,null,null,null,{"$f":"Fund!W1317","v":"00:00:00"},{"$f":"Fund!X1317","v":0},{"$f":"-Fund!V1317","v":0},{"$f":"Fund!V1317","v":0},{"$f":"Fund!P1317","v":""}]
[null,null,null,null,null,null,null,null,null,null,null,null,{"$f":"Fund!W1318","v":"00:00:00"},{"$f":"Fund!X1318","v":0},{"$f":"-Fund!V1318","v":0},{"$f":"Fund!V1318","v":0},{"$f":"Fund!P1318","v":""}]
[null,null,null,null,null,null,null,null,null,null,null,null,{"$f":"Fund!W1319","v":"00:00:00"},{"$f":"Fund!X1319","v":0},{"$f":"-Fund!V1319","v":0},{"$f":"Fund!V1319","v":0},{"$f":"Fund!P1319","v":""}]
[null,null,null,null,null,null,null,null,null,null,null,null,{"$f":"Fund!W1320","v":"00:00:00"},{"$f":"Fund!X1320","v":0},{"$f":"-Fund!V1320","v":0},{"$f":"Fund!V1320","v":0},{"$f":"Fund!P1320","v":""}]
[null,null,null,null,null,null,null,null,null,null,null,null,{"$f":"Fund!W1321","v":"00:00:00"},{"$f":"Fund!X1321","v":0},{"$f":"-Fund!V1321","v":0},{"$f":"Fund!V1321","v":0},{"$f":"Fund!P1321","v":""}]
[null,null,null,null,null,null,null,null,null,null,null,null,{"$f":"Fund!W1322","v":"00:00:00"},{"$f":"Fund!X1322","v":0},{"$f":"-Fund!V1322","v":0},{"$f":"Fund!V1322","v":0},{"$f":"Fund!P1322","v":""}]
[null,null,null,null,null,null,null,null,null,null,null,null,{"$f":"Fund!W1323","v":"00:00:00"},{"$f":"Fund!X1323","v":0},{"$f":"-Fund!V1323","v":0},{"$f":"Fund!V1323","v":0},{"$f":"Fund!P1323","v":""}]
[null,null,null,null,null,null,null,null,null,null,null,null,{"$f":"Fund!W1324","v":"2011-03-07"},{"$f":"Fund!X1324","v":29.920200000000001},{"$f":"-Fund!V1324","v":1000},{"$f":"Fund!V1324","v":-1000},{"$f":"Fund!P1324","v":33.422236482376455}]
[null,null,null,null,null,null,null,null,null,null,null,null,{"$f":"Fund!W1325","v":"00:00:00"},{"$f":"Fund!X1325","v":0},{"$f":"-Fund!V1325","v":0},{"$f":"Fund!V1325","v":0},{"$f":"Fund!P1325","v":""}]
[null,null,null,null,null,null,null,null,null,null,null,null,{"$f":"Fund!W1326","v":"00:00:00"},{"$f":"Fund!X1326","v":0},{"$f":"-Fund!V1326","v":0},{"$f":"Fund!V1326","v":0},{"$f":"Fund!P1326","v":""}]
[null,null,null,null,null,null,null,null,null,null,null,null,{"$f":"Fund!W1327","v":"00:00:00"},{"$f":"Fund!X1327","v":0},{"$f":"-Fund!V1327","v":0},{"$f":"Fund!V1327","v":0},{"$f":"Fund!P1327","v":""}]
[null,null,null,null,null,null,null,null,null,null,null,null,{"$f":"Fund!W1328","v":"00:00:00"},{"$f":"Fund!X1328","v":0},{"$f":"-Fund!V1328","v":0},{"$f":"Fund!V1328","v":0},{"$f":"Fund!P1328","v":""}]
[null,null,null,null,null,null,null,null,null,null,null,null,{"$f":"Fund!W1329","v":"00:00:00"},{"$f":"Fund!X1329","v":0},{"$f":"-Fund!V1329","v":0},{"$f":"Fund!V1329","v":0},{"$f":"Fund!P1329","v":""}]
[null,null,null,null,null,null,null,null,null,null,null,null,{"$f":"Fund!W1330","v":"00:00:00"},{"$f":"Fund!X1330","v":0},{"$f":"-Fund!V1330","v":0},{"$f":"Fund!V1330","v":0},{"$f":"Fund!P1330","v":""}]
[null,null,null,null,null,null,null,null,null,null,null,null,{"$f":"Fund!W1331","v":"00:00:00"},{"$f":"Fund!X1331","v":0},{"$f":"-Fund!V1331","v":0},{"$f":"Fund!V1331","v":0},{"$f":"Fund!P1331","v":""}]
[null,null,null,null,null,null,null,null,null,null,null,null,{"$f":"Fund!W1332","v":"00:00:00"},{"$f":"Fund!X1332","v":0},{"$f":"-Fund!V1332","v":0},{"$f":"Fund!V1332","v":0},{"$f":"Fund!P1332","v":""}]
[null,null,null,null,null,null,null,null,null,null,null,null,{"$f":"Fund!W1333","v":"00:00:00"},{"$f":"Fund!X1333","v":0},{"$f":"-Fund!V1333","v":0},{"$f":"Fund!V1333","v":0},{"$f":"Fund!P1333","v":""}]
[null,null,null,null,null,null,null,null,null,null,null,null,{"$f":"Fund!W1334","v":"00:00:00"},{"$f":"Fund!X1334","v":0},{"$f":"-Fund!V1334","v":0},{"$f":"Fund!V1334","v":0},{"$f":"Fund!P1334","v":""}]
[null,null,null,null,null,null,null,null,null,null,null,null,{"$f":"Fund!W1335","v":"00:00:00"},{"$f":"Fund!X1335","v":0},{"$f":"-Fund!V1335","v":0},{"$f":"Fund!V1335","v":0},{"$f":"Fund!P1335","v":""}]
[null,null,null,null,null,null,null,null,null,null,null,null,{"$f":"Fund!W1336","v":"00:00:00"},{"$f":"Fund!X1336","v":0},{"$f":"-Fund!V1336","v":0},{"$f":"Fund!V1336","v":0},{"$f":"Fund!P1336","v":""}]
[null,null,null,null,null,null,null,null,null,null,null,null,{"$f":"Fund!W1337","v":"00:00:00"},{"$f":"Fund!X1337","v":0},{"$f":"-Fund!V1337","v":0},{"$f":"Fund!V1337","v":0},{"$f":"Fund!P1337","v":""}]
[null,null,null,null,null,null,null,null,null,null,null,null,{"$f":"Fund!W1338","v":"00:00:00"},{"$f":"Fund!X1338","v":0},{"$f":"-Fund!V1338","v":0},{"$f":"Fund!V1338","v":0},{"$f":"Fund!P1338","v":""}]
[null,null,null,null,null,null,null,null,null,null,null,null,{"$f":"Fund!W1339","v":"00:00:00"},{"$f":"Fund!X1339","v":0},{"$f":"-Fund!V1339","v":0},{"$f":"Fund!V1339","v":0},{"$f":"Fund!P1339","v":""}]
[null,null,null,null,null,null,null,null,null,null,null,null,{"$f":"Fund!W1340","v":"2011-04-06"},{"$f":"Fund!X1340","v":32.618000000000002},{"$f":"-Fund!V1340","v":1000},{"$f":"Fund!V1340","v":-1000},{"$f":"Fund!P1340","v":30.65791894046232}]
[null,null,null,null,null,null,null,null,null,null,null,null,{"$f":"Fund!W1341","v":"00:00:00"},{"$f":"Fund!X1341","v":0},{"$f":"-Fund!V1341","v":0},{"$f":"Fund!V1341","v":0},{"$f":"Fund!P1341","v":""}]
[null,null,null,null,null,null,null,null,null,null,null,null,{"$f":"Fund!W1342","v":"00:00:00"},{"$f":"Fund!X1342","v":0},{"$f":"-Fund!V1342","v":0},{"$f":"Fund!V1342","v":0},{"$f":"Fund!P1342","v":""}]
[null,null,null,null,null,null,null,null,null,null,null,null,{"$f":"Fund!W1343","v":"00:00:00"},{"$f":"Fund!X1343","v":0},{"$f":"-Fund!V1343","v":0},{"$f":"Fund!V1343","v":0},{"$f":"Fund!P1343","v":""}]
[null,null,null,null,null,null,null,null,null,null,null,null,{"$f":"Fund!W1344","v":"00:00:00"},{"$f":"Fund!X1344","v":0},{"$f":"-Fund!V1344","v":0},{"$f":"Fund!V1344","v":0},{"$f":"Fund!P1344","v":""}]
[null,null,null,null,null,null,null,null,null,null,null,null,{"$f":"Fund!W1345","v":"00:00:00"},{"$f":"Fund!X1345","v":0},{"$f":"-Fund!V1345","v":0},{"$f":"Fund!V1345","v":0},{"$f":"Fund!P1345","v":""}]
[null,null,null,null,null,null,null,null,null,null,null,null,{"$f":"Fund!W1346","v":"00:00:00"},{"$f":"Fund!X1346","v":0},{"$f":"-Fund!V1346","v":0},{"$f":"Fund!V1346","v":0},{"$f":"Fund!P1346","v":""}]
[null,null,null,null,null,null,null,null,null,null,null,null,{"$f":"Fund!W1347","v":"00:00:00"},{"$f":"Fund!X1347","v":0},{"$f":"-Fund!V1347","v":0},{"$f":"Fund!V1347","v":0},{"$f":"Fund!P1347","v":""}]
[null,null,null,null,null,null,null,null,null,null,null,null,{"$f":"Fund!W1348","v":"00:00:00"},{"$f":"Fund!X1348","v":0},{"$f":"-Fund!V1348","v":0},{"$f":"Fund!V1348","v":0},{"$f":"Fund!P1348","v":""}]
[null,null,null,null,null,null,null,null,null,null,null,null,{"$f":"Fund!W1349","v":"00:00:00"},{"$f":"Fund!X1349","v":0},{"$f":"-Fund!V1349","v":0},{"$f":"Fund!V1349","v":0},{"$f":"Fund!P1349","v":""}]
[null,null,null,null,null,null,null,null,null,null,null,null,{"$f":"Fund!W1350","v":"00:00:00"},{"$f":"Fund!X1350","v":0},{"$f":"-Fund!V1350","v":0},{"$f":"Fund!V1350","v":0},{"$f":"Fund!P1350","v":""}]
[null,null,null,null,null,null,null,null,null,null,null,null,{"$f":"Fund!W1351","v":"00:00:00"},{"$f":"Fund!X1351","v":0},{"$f":"-Fund!V1351","v":0},{"$f":"Fund!V1351","v":0},{"$f":"Fund!P1351","v":""}]
[null,null,null,null,null,null,null,null,null,null,null,null,{"$f":"Fund!W1352","v":"00:00:00"},{"$f":"Fund!X1352","v":0},{"$f":"-Fund!V1352","v":0},{"$f":"Fund!V1352","v":0},{"$f":"Fund!P1352","v":""}]
[null,null,null,null,null,null,null,null,null,null,null,null,{"$f":"Fund!W1353","v":"00:00:00"},{"$f":"Fund!X1353","v":0},{"$f":"-Fund!V1353","v":0},{"$f":"Fund!V1353","v":0},{"$f":"Fund!P1353","v":""}]
[null,null,null,null,null,null,null,null,null,null,null,null,{"$f":"Fund!W1354","v":"00:00:00"},{"$f":"Fund!X1354","v":0},{"$f":"-Fund!V1354","v":0},{"$f":"Fund!V1354","v":0},{"$f":"Fund!P1354","v":""}]
[null,null,null,null,null,null,null,null,null,null,null,null,{"$f":"Fund!W1355","v":"00:00:00"},{"$f":"Fund!X1355","v":0},{"$f":"-Fund!V1355","v":0},{"$f":"Fund!V1355","v":0},{"$f":"Fund!P1355","v":""}]
[null,null,null,null,null,null,null,null,null,null,null,null,{"$f":"Fund!W1356","v":"00:00:00"},{"$f":"Fund!X1356","v":0},{"$f":"-Fund!V1356","v":0},{"$f":"Fund!V1356","v":0},{"$f":"Fund!P1356","v":""}]
[null,null,null,null,null,null,null,null,null,null,null,null,{"$f":"Fund!W1357","v":"00:00:00"},{"$f":"Fund!X1357","v":0},{"$f":"-Fund!V1357","v":0},{"$f":"Fund!V1357","v":0},{"$f":"Fund!P1357","v":""}]
[null,null,null,null,null,null,null,null,null,null,null,null,{"$f":"Fund!W1358","v":"00:00:00"},{"$f":"Fund!X1358","v":0},{"$f":"-Fund!V1358","v":0},{"$f":"Fund!V1358","v":0},{"$f":"Fund!P1358","v":""}]
[null,null,null,null,null,null,null,null,null,null,null,null,{"$f":"Fund!W1359","v":"2011-05-06"},{"$f":"Fund!X1359","v":31.643899999999999},{"$f":"-Fund!V1359","v":1000},{"$f":"Fund!V1359","v":-1000},{"$f":"Fund!P1359","v":31.601667303966959}]
[null,null,null,null,null,null,null,null,null,null,null,null,{"$f":"Fund!W1360","v":"00:00:00"},{"$f":"Fund!X1360","v":0},{"$f":"-Fund!V1360","v":0},{"$f":"Fund!V1360","v":0},{"$f":"Fund!P1360","v":""}]
[null,null,null,null,null,null,null,null,null,null,null,null,{"$f":"Fund!W1361","v":"00:00:00"},{"$f":"Fund!X1361","v":0},{"$f":"-Fund!V1361","v":0},{"$f":"Fund!V1361","v":0},{"$f":"Fund!P1361","v":""}]
[null,null,null,null,null,null,null,null,null,null,null,null,{"$f":"Fund!W1362","v":"00:00:00"},{"$f":"Fund!X1362","v":0},{"$f":"-Fund!V1362","v":0},{"$f":"Fund!V1362","v":0},{"$f":"Fund!P1362","v":""}]
[null,null,null,null,null,null,null,null,null,null,null,null,{"$f":"Fund!W1363","v":"00:00:00"},{"$f":"Fund!X1363","v":0},{"$f":"-Fund!V1363","v":0},{"$f":"Fund!V1363","v":0},{"$f":"Fund!P1363","v":""}]
[null,null,null,null,null,null,null,null,null,null,null,null,{"$f":"Fund!W1364","v":"00:00:00"},{"$f":"Fund!X1364","v":0},{"$f":"-Fund!V1364","v":0},{"$f":"Fund!V1364","v":0},{"$f":"Fund!P1364","v":""}]
[null,null,null,null,null,null,null,null,null,null,null,null,{"$f":"Fund!W1365","v":"00:00:00"},{"$f":"Fund!X1365","v":0},{"$f":"-Fund!V1365","v":0},{"$f":"Fund!V1365","v":0},{"$f":"Fund!P1365","v":""}]
[null,null,null,null,null,null,null,null,null,null,null,null,{"$f":"Fund!W1366","v":"00:00:00"},{"$f":"Fund!X1366","v":0},{"$f":"-Fund!V1366","v":0},{"$f":"Fund!V1366","v":0},{"$f":"Fund!P1366","v":""}]
[null,null,null,null,null,null,null,null,null,null,null,null,{"$f":"Fund!W1367","v":"00:00:00"},{"$f":"Fund!X1367","v":0},{"$f":"-Fund!V1367","v":0},{"$f":"Fund!V1367","v":0},{"$f":"Fund!P1367","v":""}]
[null,null,null,null,null,null,null,null,null,null,null,null,{"$f":"Fund!W1368","v":"00:00:00"},{"$f":"Fund!X1368","v":0},{"$f":"-Fund!V1368","v":0},{"$f":"Fund!V1368","v":0},{"$f":"Fund!P1368","v":""}]
[null,null,null,null,null,null,null,null,null,null,null,null,{"$f":"Fund!W1369","v":"00:00:00"},{"$f":"Fund!X1369","v":0},{"$f":"-Fund!V1369","v":0},{"$f":"Fund!V1369","v":0},{"$f":"Fund!P1369","v":""}]
[null,null,null,null,null,null,null,null,null,null,null,null,{"$f":"Fund!W1370","v":"00:00:00"},{"$f":"Fund!X1370","v":0},{"$f":"-Fund!V1370","v":0},{"$f":"Fund!V1370","v":0},{"$f":"Fund!P1370","v":""}]
[null,null,null,null,null,null,null,null,null,null,null,null,{"$f":"Fund!W1371","v":"00:00:00"},{"$f":"Fund!X1371","v":0},{"$f":"-Fund!V1371","v":0},{"$f":"Fund!V1371","v":0},{"$f":"Fund!P1371","v":""}]
[null,null,null,null,null,null,null,null,null,null,null,null,{"$f":"Fund!W1372","v":"00:00:00"},{"$f":"Fund!X1372","v":0},{"$f":"-Fund!V1372","v":0},{"$f":"Fund!V1372","v":0},{"$f":"Fund!P1372","v":""}]
[null,null,null,null,null,null,null,null,null,null,null,null,{"$f":"Fund!W1373","v":"00:00:00"},{"$f":"Fund!X1373","v":0},{"$f":"-Fund!V1373","v":0},{"$f":"Fund!V1373","v":0},{"$f":"Fund!P1373","v":""}]
[null,null,null,null,null,null,null,null,null,null,null,null,{"$f":"Fund!W1374","v":"00:00:00"},{"$f":"Fund!X1374","v":0},{"$f":"-Fund!V1374","v":0},{"$f":"Fund!V1374","v":0},{"$f":"Fund!P1374","v":""}]
[null,null,null,null,null,null,null,null,null,null,null,null,{"$f":"Fund!W1375","v":"00:00:00"},{"$f":"Fund!X1375","v":0},{"$f":"-Fund!V1375","v":0},{"$f":"Fund!V1375","v":0},{"$f":"Fund!P1375","v":""}]
[null,null,null,null,null,null,null,null,null,null,null,null,{"$f":"Fund!W1376","v":"00:00:00"},{"$f":"Fund!X1376","v":0},{"$f":"-Fund!V1376","v":0},{"$f":"Fund!V1376","v":0},{"$f":"Fund!P1376","v":""}]
[null,null,null,null,null,null,null,null,null,null,null,null,{"$f":"Fund!W1377","v":"00:00:00"},{"$f":"Fund!X1377","v":0},{"$f":"-Fund!V1377","v":0},{"$f":"Fund!V1377","v":0},{"$f":"Fund!P1377","v":""}]
[null,null,null,null,null,null,null,null,null,null,null,null,{"$f":"Fund!W1378","v":"2011-06-06"},{"$f":"Fund!X1378","v":31.910299999999999},{"$f":"-Fund!V1378","v":1000},{"$f":"Fund!V1378","v":-1000},{"$f":"Fund!P1378","v":31.337843893664427}]
[null,null,null,null,null,null,null,null,null,null,null,null,{"$f":"Fund!W1379","v":"00:00:00"},{"$f":"Fund!X1379","v":0},{"$f":"-Fund!V1379","v":0},{"$f":"Fund!V1379","v":0},{"$f":"Fund!P1379","v":""}]
[null,null,null,null,null,null,null,null,null,null,null,null,{"$f":"Fund!W1380","v":"00:00:00"},{"$f":"Fund!X1380","v":0},{"$f":"-Fund!V1380","v":0},{"$f":"Fund!V1380","v":0},{"$f":"Fund!P1380","v":""}]
[null,null,null,null,null,null,null,null,null,null,null,null,{"$f":"Fund!W1381","v":"00:00:00"},{"$f":"Fund!X1381","v":0},{"$f":"-Fund!V1381","v":0},{"$f":"Fund!V1381","v":0},{"$f":"Fund!P1381","v":""}]
[null,null,null,null,null,null,null,null,null,null,null,null,{"$f":"Fund!W1382","v":"00:00:00"},{"$f":"Fund!X1382","v":0},{"$f":"-Fund!V1382","v":0},{"$f":"Fund!V1382","v":0},{"$f":"Fund!P1382","v":""}]
[null,null,null,null,null,null,null,null,null,null,null,null,{"$f":"Fund!W1383","v":"00:00:00"},{"$f":"Fund!X1383","v":0},{"$f":"-Fund!V1383","v":0},{"$f":"Fund!V1383","v":0},{"$f":"Fund!P1383","v":""}]
[null,null,null,null,null,null,null,null,null,null,null,null,{"$f":"Fund!W1384","v":"00:00:00"},{"$f":"Fund!X1384","v":0},{"$f":"-Fund!V1384","v":0},{"$f":"Fund!V1384","v":0},{"$f":"Fund!P1384","v":""}]
[null,null,null,null,null,null,null,null,null,null,null,null,{"$f":"Fund!W1385","v":"00:00:00"},{"$f":"Fund!X1385","v":0},{"$f":"-Fund!V1385","v":0},{"$f":"Fund!V1385","v":0},{"$f":"Fund!P1385","v":""}]
[null,null,null,null,null,null,null,null,null,null,null,null,{"$f":"Fund!W1386","v":"00:00:00"},{"$f":"Fund!X1386","v":0},{"$f":"-Fund!V1386","v":0},{"$f":"Fund!V1386","v":0},{"$f":"Fund!P1386","v":""}]
[null,null,null,null,null,null,null,null,null,null,null,null,{"$f":"Fund!W1387","v":"00:00:00"},{"$f":"Fund!X1387","v":0},{"$f":"-Fund!V1387","v":0},{"$f":"Fund!V1387","v":0},{"$f":"Fund!P1387","v":""}]
[null,null,null,null,null,null,null,null,null,null,null,null,{"$f":"Fund!W1388","v":"00:00:00"},{"$f":"Fund!X1388","v":0},{"$f":"-Fund!V1388","v":0},{"$f":"Fund!V1388","v":0},{"$f":"Fund!P1388","v":""}]
[null,null,null,null,null,null,null,null,null,null,null,null,{"$f":"Fund!W1389","v":"00:00:00"},{"$f":"Fund!X1389","v":0},{"$f":"-Fund!V1389","v":0},{"$f":"Fund!V1389","v":0},{"$f":"Fund!P1389","v":""}]
[null,null,null,null,null,null,null,null,null,null,null,null,{"$f":"Fund!W1390","v":"00:00:00"},{"$f":"Fund!X1390","v":0},{"$f":"-Fund!V1390","v":0},{"$f":"Fund!V1390","v":0},{"$f":"Fund!P1390","v":""}]
[null,null,null,null,null,null,null,null,null,null,null,null,{"$f":"Fund!W1391","v":"00:00:00"},{"$f":"Fund!X1391","v":0},{"$f":"-Fund!V1391","v":0},{"$f":"Fund!V1391","v":0},{"$f":"Fund!P1391","v":""}]
[null,null,null,null,null,null,null,null,null,null,null,null,{"$f":"Fund!W1392","v":"00:00:00"},{"$f":"Fund!X1392","v":0},{"$f":"-Fund!V1392","v":0},{"$f":"Fund!V1392","v":0},{"$f":"Fund!P1392","v":""}]
[null,null,null,null,null,null,null,null,null,null,null,null,{"$f":"Fund!W1393","v":"00:00:00"},{"$f":"Fund!X1393","v":0},{"$f":"-Fund!V1393","v":0},{"$f":"Fund!V1393","v":0},{"$f":"Fund!P1393","v":""}]
[null,null,null,null,null,null,null,null,null,null,null,null,{"$f":"Fund!W1394","v":"00:00:00"},{"$f":"Fund!X1394","v":0},{"$f":"-Fund!V1394","v":0},{"$f":"Fund!V1394","v":0},{"$f":"Fund!P1394","v":""}]
[null,null,null,null,null,null,null,null,null,null,null,null,{"$f":"Fund!W1395","v":"00:00:00"},{"$f":"Fund!X1395","v":0},{"$f":"-Fund!V1395","v":0},{"$f":"Fund!V1395","v":0},{"$f":"Fund!P1395","v":""}]
[null,null,null,null,null,null,null,null,null,null,null,null,{"$f":"Fund!W1396","v":"00:00:00"},{"$f":"Fund!X1396","v":0},{"$f":"-Fund!V1396","v":0},{"$f":"Fund!V1396","v":0},{"$f":"Fund!P1396","v":""}]
[null,null,null,null,null,null,null,null,null,null,null,null,{"$f":"Fund!W1397","v":"00:00:00"},{"$f":"Fund!X1397","v":0},{"$f":"-Fund!V1397","v":0},{"$f":"Fund!V1397","v":0},{"$f":"Fund!P1397","v":""}]
[null,null,null,null,null,null,null,null,null,null,null,null,{"$f":"Fund!W1398","v":"2011-07-06"},{"$f":"Fund!X1398","v":32.872399999999999},{"$f":"-Fund!V1398","v":1000},{"$f":"Fund!V1398","v":-1000},{"$f":"Fund!P1398","v":30.420656842822552}]
[null,null,null,null,null,null,null,null,null,null,null,null,{"$f":"Fund!W1399","v":"00:00:00"},{"$f":"Fund!X1399","v":0},{"$f":"-Fund!V1399","v":0},{"$f":"Fund!V1399","v":0},{"$f":"Fund!P1399","v":""}]
[null,null,null,null,null,null,null,null,null,null,null,null,{"$f":"Fund!W1400","v":"00:00:00"},{"$f":"Fund!X1400","v":0},{"$f":"-Fund!V1400","v":0},{"$f":"Fund!V1400","v":0},{"$f":"Fund!P1400","v":""}]
[null,null,null,null,null,null,null,null,null,null,null,null,{"$f":"Fund!W1401","v":"00:00:00"},{"$f":"Fund!X1401","v":0},{"$f":"-Fund!V1401","v":0},{"$f":"Fund!V1401","v":0},{"$f":"Fund!P1401","v":""}]
[null,null,null,null,null,null,null,null,null,null,null,null,{"$f":"Fund!W1402","v":"00:00:00"},{"$f":"Fund!X1402","v":0},{"$f":"-Fund!V1402","v":0},{"$f":"Fund!V1402","v":0},{"$f":"Fund!P1402","v":""}]
[null,null,null,null,null,null,null,null,null,null,null,null,{"$f":"Fund!W1403","v":"00:00:00"},{"$f":"Fund!X1403","v":0},{"$f":"-Fund!V1403","v":0},{"$f":"Fund!V1403","v":0},{"$f":"Fund!P1403","v":""}]
[null,null,null,null,null,null,null,null,null,null,null,null,{"$f":"Fund!W1404","v":"00:00:00"},{"$f":"Fund!X1404","v":0},{"$f":"-Fund!V1404","v":0},{"$f":"Fund!V1404","v":0},{"$f":"Fund!P1404","v":""}]
[null,null,null,null,null,null,null,null,null,null,null,null,{"$f":"Fund!W1405","v":"00:00:00"},{"$f":"Fund!X1405","v":0},{"$f":"-Fund!V1405","v":0},{"$f":"Fund!V1405","v":0},{"$f":"Fund!P1405","v":""}]
[null,null,null,null,null,null,null,null,null,null,null,null,{"$f":"Fund!W1406","v":"00:00:00"},{"$f":"Fund!X1406","v":0},{"$f":"-Fund!V1406","v":0},{"$f":"Fund!V1406","v":0},{"$f":"Fund!P1406","v":""}]
[null,null,null,null,null,null,null,null,null,null,null,null,{"$f":"Fund!W1407","v":"00:00:00"},{"$f":"Fund!X1407","v":0},{"$f":"-Fund!V1407","v":0},{"$f":"Fund!V1407","v":0},{"$f":"Fund!P1407","v":""}]
[null,null,null,null,null,null,null,null,null,null,null,null,{"$f":"Fund!W1408","v":"00:00:00"},{"$f":"Fund!X1408","v":0},{"$f":"-Fund!V1408","v":0},{"$f":"Fund!V1408","v":0},{"$f":"Fund!P1408","v":""}]
[null,null,null,null,null,null,null,null,null,null,null,null,{"$f":"Fund!W1409","v":"00:00:00"},{"$f":"Fund!X1409","v":0},{"$f":"-Fund!V1409","v":0},{"$f":"Fund!V1409","v":0},{"$f":"Fund!P1409","v":""}]
[null,null,null,null,null,null,null,null,null,null,null,null,{"$f":"Fund!W1410","v":"00:00:00"},{"$f":"Fund!X1410","v":0},{"$f":"-Fund!V1410","v":0},{"$f":"Fund!V1410","v":0},{"$f":"Fund!P1410","v":""}]
[null,null,null,null,null,null,null,null,null,null,null,null,{"$f":"Fund!W1411","v":"00:00:00"},{"$f":"Fund!X1411","v":0},{"$f":"-Fund!V1411","v":0},{"$f":"Fund!V1411","v":0},{"$f":"Fund!P1411","v":""}]
[null,null,null,null,null,null,null,null,null,null,null,null,{"$f":"Fund!W1412","v":"00:00:00"},{"$f":"Fund!X1412","v":0},{"$f":"-Fund!V1412","v":0},{"$f":"Fund!V1412","v":0},{"$f":"Fund!P1412","v":""}]
[null,null,null,null,null,null,null,null,null,null,null,null,{"$f":"Fund!W1413","v":"00:00:00"},{"$f":"Fund!X1413","v":0},{"$f":"-Fund!V1413","v":0},{"$f":"Fund!V1413","v":0},{"$f":"Fund!P1413","v":""}]
[null,null,null,null,null,null,null,null,null,null,null,null,{"$f":"Fund!W1414","v":"00:00:00"},{"$f":"Fund!X1414","v":0},{"$f":"-Fund!V1414","v":0},{"$f":"Fund!V1414","v":0},{"$f":"Fund!P1414","v":""}]
[null,null,null,null,null,null,null,null,null,null,null,null,{"$f":"Fund!W1415","v":"00:00:00"},{"$f":"Fund!X1415","v":0},{"$f":"-Fund!V1415","v":0},{"$f":"Fund!V1415","v":0},{"$f":"Fund!P1415","v":""}]
[null,null,null,null,null,null,null,null,null,null,null,null,{"$f":"Fund!W1416","v":"00:00:00"},{"$f":"Fund!X1416","v":0},{"$f":"-Fund!V1416","v":0},{"$f":"Fund!V1416","v":0},{"$f":"Fund!P1416","v":""}]
[null,null,null,null,null,null,null,null,null,null,null,null,{"$f":"Fund!W1417","v":"2011-08-08"},{"$f":"Fund!X1417","v":31.8857},{"$f":"-Fund!V1417","v":1000},{"$f":"Fund!V1417","v":-1000},{"$f":"Fund!P1417","v":31.362021219543557}]
[null,null,null,null,null,null,null,null,null,null,null,null,{"$f":"Fund!W1418","v":"00:00:00"},{"$f":"Fund!X1418","v":0},{"$f":"-Fund!V1418","v":0},{"$f":"Fund!V1418","v":0},{"$f":"Fund!P1418","v":""}]
[null,null,null,null,null,null,null,null,null,null,null,null,{"$f":"Fund!W1419","v":"00:00:00"},{"$f":"Fund!X1419","v":0},{"$f":"-Fund!V1419","v":0},{"$f":"Fund!V1419","v":0},{"$f":"Fund!P1419","v":""}]
[null,null,null,null,null,null,null,null,null,null,null,null,{"$f":"Fund!W1420","v":"00:00:00"},{"$f":"Fund!X1420","v":0},{"$f":"-Fund!V1420","v":0},{"$f":"Fund!V1420","v":0},{"$f":"Fund!P1420","v":""}]
[null,null,null,null,null,null,null,null,null,null,null,null,{"$f":"Fund!W1421","v":"00:00:00"},{"$f":"Fund!X1421","v":0},{"$f":"-Fund!V1421","v":0},{"$f":"Fund!V1421","v":0},{"$f":"Fund!P1421","v":""}]
[null,null,null,null,null,null,null,null,null,null,null,null,{"$f":"Fund!W1422","v":"00:00:00"},{"$f":"Fund!X1422","v":0},{"$f":"-Fund!V1422","v":0},{"$f":"Fund!V1422","v":0},{"$f":"Fund!P1422","v":""}]
[null,null,null,null,null,null,null,null,null,null,null,null,{"$f":"Fund!W1423","v":"00:00:00"},{"$f":"Fund!X1423","v":0},{"$f":"-Fund!V1423","v":0},{"$f":"Fund!V1423","v":0},{"$f":"Fund!P1423","v":""}]
[null,null,null,null,null,null,null,null,null,null,null,null,{"$f":"Fund!W1424","v":"00:00:00"},{"$f":"Fund!X1424","v":0},{"$f":"-Fund!V1424","v":0},{"$f":"Fund!V1424","v":0},{"$f":"Fund!P1424","v":""}]
[null,null,null,null,null,null,null,null,null,null,null,null,{"$f":"Fund!W1425","v":"00:00:00"},{"$f":"Fund!X1425","v":0},{"$f":"-Fund!V1425","v":0},{"$f":"Fund!V1425","v":0},{"$f":"Fund!P1425","v":""}]
[null,null,null,null,null,null,null,null,null,null,null,null,{"$f":"Fund!W1426","v":"00:00:00"},{"$f":"Fund!X1426","v":0},{"$f":"-Fund!V1426","v":0},{"$f":"Fund!V1426","v":0},{"$f":"Fund!P1426","v":""}]
[null,null,null,null,null,null,null,null,null,null,null,null,{"$f":"Fund!W1427","v":"00:00:00"},{"$f":"Fund!X1427","v":0},{"$f":"-Fund!V1427","v":0},{"$f":"Fund!V1427","v":0},{"$f":"Fund!P1427","v":""}]
[null,null,null,null,null,null,null,null,null,null,null,null,{"$f":"Fund!W1428","v":"00:00:00"},{"$f":"Fund!X1428","v":0},{"$f":"-Fund!V1428","v":0},{"$f":"Fund!V1428","v":0},{"$f":"Fund!P1428","v":""}]
[null,null,null,null,null,null,null,null,null,null,null,null,{"$f":"Fund!W1429","v":"00:00:00"},{"$f":"Fund!X1429","v":0},{"$f":"-Fund!V1429","v":0},{"$f":"Fund!V1429","v":0},{"$f":"Fund!P1429","v":""}]
[null,null,null,null,null,null,null,null,null,null,null,null,{"$f":"Fund!W1430","v":"00:00:00"},{"$f":"Fund!X1430","v":0},{"$f":"-Fund!V1430","v":0},{"$f":"Fund!V1430","v":0},{"$f":"Fund!P1430","v":""}]
[null,null,null,null,null,null,null,null,null,null,null,null,{"$f":"Fund!W1431","v":"00:00:00"},{"$f":"Fund!X1431","v":0},{"$f":"-Fund!V1431","v":0},{"$f":"Fund!V1431","v":0},{"$f":"Fund!P1431","v":""}]
[null,null,null,null,null,null,null,null,null,null,null,null,{"$f":"Fund!W1432","v":"00:00:00"},{"$f":"Fund!X1432","v":0},{"$f":"-Fund!V1432","v":0},{"$f":"Fund!V1432","v":0},{"$f":"Fund!P1432","v":""}]
[null,null,null,null,null,null,null,null,null,null,null,null,{"$f":"Fund!W1433","v":"2011-09-06"},{"$f":"Fund!X1433","v":32.655000000000001},{"$f":"-Fund!V1433","v":1000},{"$f":"Fund!V1433","v":-1000},{"$f":"Fund!P1433","v":30.623181748583676}]
[null,null,null,null,null,null,null,null,null,null,null,null,{"$f":"Fund!W1434","v":"00:00:00"},{"$f":"Fund!X1434","v":0},{"$f":"-Fund!V1434","v":0},{"$f":"Fund!V1434","v":0},{"$f":"Fund!P1434","v":""}]
[null,null,null,null,null,null,null,null,null,null,null,null,{"$f":"Fund!W1435","v":"00:00:00"},{"$f":"Fund!X1435","v":0},{"$f":"-Fund!V1435","v":0},{"$f":"Fund!V1435","v":0},{"$f":"Fund!P1435","v":""}]
[null,null,null,null,null,null,null,null,null,null,null,null,{"$f":"Fund!W1436","v":"00:00:00"},{"$f":"Fund!X1436","v":0},{"$f":"-Fund!V1436","v":0},{"$f":"Fund!V1436","v":0},{"$f":"Fund!P1436","v":""}]
[null,null,null,null,null,null,null,null,null,null,null,null,{"$f":"Fund!W1437","v":"00:00:00"},{"$f":"Fund!X1437","v":0},{"$f":"-Fund!V1437","v":0},{"$f":"Fund!V1437","v":0},{"$f":"Fund!P1437","v":""}]
[null,null,null,null,null,null,null,null,null,null,null,null,{"$f":"Fund!W1438","v":"00:00:00"},{"$f":"Fund!X1438","v":0},{"$f":"-Fund!V1438","v":0},{"$f":"Fund!V1438","v":0},{"$f":"Fund!P1438","v":""}]
[null,null,null,null,null,null,null,null,null,null,null,null,{"$f":"Fund!W1439","v":"00:00:00"},{"$f":"Fund!X1439","v":0},{"$f":"-Fund!V1439","v":0},{"$f":"Fund!V1439","v":0},{"$f":"Fund!P1439","v":""}]
[null,null,null,null,null,null,null,null,null,null,null,null,{"$f":"Fund!W1440","v":"00:00:00"},{"$f":"Fund!X1440","v":0},{"$f":"-Fund!V1440","v":0},{"$f":"Fund!V1440","v":0},{"$f":"Fund!P1440","v":""}]
[null,null,null,null,null,null,null,null,null,null,null,null,{"$f":"Fund!W1441","v":"00:00:00"},{"$f":"Fund!X1441","v":0},{"$f":"-Fund!V1441","v":0},{"$f":"Fund!V1441","v":0},{"$f":"Fund!P1441","v":""}]
[null,null,null,null,null,null,null,null,null,null,null,null,{"$f":"Fund!W1442","v":"00:00:00"},{"$f":"Fund!X1442","v":0},{"$f":"-Fund!V1442","v":0},{"$f":"Fund!V1442","v":0},{"$f":"Fund!P1442","v":""}]
[null,null,null,null,null,null,null,null,null,null,null,null,{"$f":"Fund!W1443","v":"00:00:00"},{"$f":"Fund!X1443","v":0},{"$f":"-Fund!V1443","v":0},{"$f":"Fund!V1443","v":0},{"$f":"Fund!P1443","v":""}]
[null,null,null,null,null,null,null,null,null,null,null,null,{"$f":"Fund!W1444","v":"00:00:00"},{"$f":"Fund!X1444","v":0},{"$f":"-Fund!V1444","v":0},{"$f":"Fund!V1444","v":0},{"$f":"Fund!P1444","v":""}]
[null,null,null,null,null,null,null,null,null,null,null,null,{"$f":"Fund!W1445","v":"00:00:00"},{"$f":"Fund!X1445","v":0},{"$f":"-Fund!V1445","v":0},{"$f":"Fund!V1445","v":0},{"$f":"Fund!P1445","v":""}]
[null,null,null,null,null,null,null,null,null,null,null,null,{"$f":"Fund!W1446","v":"00:00:00"},{"$f":"Fund!X1446","v":0},{"$f":"-Fund!V1446","v":0},{"$f":"Fund!V1446","v":0},{"$f":"Fund!P1446","v":""}]
[null,null,null,null,null,null,null,null,null,null,null,null,{"$f":"Fund!W1447","v":"00:00:00"},{"$f":"Fund!X1447","v":0},{"$f":"-Fund!V1447","v":0},{"$f":"Fund!V1447","v":0},{"$f":"Fund!P1447","v":""}]
[null,null,null,null,null,null,null,null,null,null,null,null,{"$f":"Fund!W1448","v":"00:00:00"},{"$f":"Fund!X1448","v":0},{"$f":"-Fund!V1448","v":0},{"$f":"Fund!V1448","v":0},{"$f":"Fund!P1448","v":""}]
[null,null,null,null,null,null,null,null,null,null,null,null,{"$f":"Fund!W1449","v":"00:00:00"},{"$f":"Fund!X1449","v":0},{"$f":"-Fund!V1449","v":0},{"$f":"Fund!V1449","v":0},{"$f":"Fund!P1449","v":""}]
[null,null,null,null,null,null,null,null,null,null,null,null,{"$f":"Fund!W1450","v":"00:00:00"},{"$f":"Fund!X1450","v":0},{"$f":"-Fund!V1450","v":0},{"$f":"Fund!V1450","v":0},{"$f":"Fund!P1450","v":""}]
[null,null,null,null,null,null,null,null,null,null,null,null,{"$f":"Fund!W1451","v":"00:00:00"},{"$f":"Fund!X1451","v":0},{"$f":"-Fund!V1451","v":0},{"$f":"Fund!V1451","v":0},{"$f":"Fund!P1451","v":""}]
[null,null,null,null,null,null,null,null,null,null,null,null,{"$f":"Fund!W1452","v":"00:00:00"},{"$f":"Fund!X1452","v":0},{"$f":"-Fund!V1452","v":0},{"$f":"Fund!V1452","v":0},{"$f":"Fund!P1452","v":""}]
[null,null,null,null,null,null,null,null,null,null,null,null,{"$f":"Fund!W1453","v":"00:00:00"},{"$f":"Fund!X1453","v":0},{"$f":"-Fund!V1453","v":0},{"$f":"Fund!V1453","v":0},{"$f":"Fund!P1453","v":""}]
[null,null,null,null,null,null,null,null,null,null,null,null,{"$f":"Fund!W1454","v":"2011-10-07"},{"$f":"Fund!X1454","v":31.559899999999999},{"$f":"-Fund!V1454","v":1000},{"$f":"Fund!V1454","v":-1000},{"$f":"Fund!P1454","v":31.685778472048391}]
[null,null,null,null,null,null,null,null,null,null,null,null,{"$f":"Fund!W1455","v":"00:00:00"},{"$f":"Fund!X1455","v":0},{"$f":"-Fund!V1455","v":0},{"$f":"Fund!V1455","v":0},{"$f":"Fund!P1455","v":""}]
[null,null,null,null,null,null,null,null,null,null,null,null,{"$f":"Fund!W1456","v":"00:00:00"},{"$f":"Fund!X1456","v":0},{"$f":"-Fund!V1456","v":0},{"$f":"Fund!V1456","v":0},{"$f":"Fund!P1456","v":""}]
[null,null,null,null,null,null,null,null,null,null,null,null,{"$f":"Fund!W1457","v":"00:00:00"},{"$f":"Fund!X1457","v":0},{"$f":"-Fund!V1457","v":0},{"$f":"Fund!V1457","v":0},{"$f":"Fund!P1457","v":""}]
[null,null,null,null,null,null,null,null,null,null,null,null,{"$f":"Fund!W1458","v":"00:00:00"},{"$f":"Fund!X1458","v":0},{"$f":"-Fund!V1458","v":0},{"$f":"Fund!V1458","v":0},{"$f":"Fund!P1458","v":""}]
[null,null,null,null,null,null,null,null,null,null,null,null,{"$f":"Fund!W1459","v":"00:00:00"},{"$f":"Fund!X1459","v":0},{"$f":"-Fund!V1459","v":0},{"$f":"Fund!V1459","v":0},{"$f":"Fund!P1459","v":""}]
[null,null,null,null,null,null,null,null,null,null,null,null,{"$f":"Fund!W1460","v":"00:00:00"},{"$f":"Fund!X1460","v":0},{"$f":"-Fund!V1460","v":0},{"$f":"Fund!V1460","v":0},{"$f":"Fund!P1460","v":""}]
[null,null,null,null,null,null,null,null,null,null,null,null,{"$f":"Fund!W1461","v":"00:00:00"},{"$f":"Fund!X1461","v":0},{"$f":"-Fund!V1461","v":0},{"$f":"Fund!V1461","v":0},{"$f":"Fund!P1461","v":""}]
[null,null,null,null,null,null,null,null,null,null,null,null,{"$f":"Fund!W1462","v":"00:00:00"},{"$f":"Fund!X1462","v":0},{"$f":"-Fund!V1462","v":0},{"$f":"Fund!V1462","v":0},{"$f":"Fund!P1462","v":""}]
[null,null,null,null,null,null,null,null,null,null,null,null,{"$f":"Fund!W1463","v":"00:00:00"},{"$f":"Fund!X1463","v":0},{"$f":"-Fund!V1463","v":0},{"$f":"Fund!V1463","v":0},{"$f":"Fund!P1463","v":""}]
[null,null,null,null,null,null,null,null,null,null,null,null,{"$f":"Fund!W1464","v":"00:00:00"},{"$f":"Fund!X1464","v":0},{"$f":"-Fund!V1464","v":0},{"$f":"Fund!V1464","v":0},{"$f":"Fund!P1464","v":""}]
[null,null,null,null,null,null,null,null,null,null,null,null,{"$f":"Fund!W1465","v":"00:00:00"},{"$f":"Fund!X1465","v":0},{"$f":"-Fund!V1465","v":0},{"$f":"Fund!V1465","v":0},{"$f":"Fund!P1465","v":""}]
[null,null,null,null,null,null,null,null,null,null,null,null,{"$f":"Fund!W1466","v":"00:00:00"},{"$f":"Fund!X1466","v":0},{"$f":"-Fund!V1466","v":0},{"$f":"Fund!V1466","v":0},{"$f":"Fund!P1466","v":""}]
[null,null,null,null,null,null,null,null,null,null,null,null,{"$f":"Fund!W1467","v":"00:00:00"},{"$f":"Fund!X1467","v":0},{"$f":"-Fund!V1467","v":0},{"$f":"Fund!V1467","v":0},{"$f":"Fund!P1467","v":""}]
[null,null,null,null,null,null,null,null,null,null,null,null,{"$f":"Fund!W1468","v":"00:00:00"},{"$f":"Fund!X1468","v":0},{"$f":"-Fund!V1468","v":0},{"$f":"Fund!V1468","v":0},{"$f":"Fund!P1468","v":""}]
[null,null,null,null,null,null,null,null,null,null,null,null,{"$f":"Fund!W1469","v":"00:00:00"},{"$f":"Fund!X1469","v":0},{"$f":"-Fund!V1469","v":0},{"$f":"Fund!V1469","v":0},{"$f":"Fund!P1469","v":""}]
[null,null,null,null,null,null,null,null,null,null,null,null,{"$f":"Fund!W1470","v":"00:00:00"},{"$f":"Fund!X1470","v":0},{"$f":"-Fund!V1470","v":0},{"$f":"Fund!V1470","v":0},{"$f":"Fund!P1470","v":""}]
[null,null,null,null,null,null,null,null,null,null,null,null,{"$f":"Fund!W1471","v":"00:00:00"},{"$f":"Fund!X1471","v":0},{"$f":"-Fund!V1471","v":0},{"$f":"Fund!V1471","v":0},{"$f":"Fund!P1471","v":""}]
[null,null,null,null,null,null,null,null,null,null,null,null,{"$f":"Fund!W1472","v":"00:00:00"},{"$f":"Fund!X1472","v":0},{"$f":"-Fund!V1472","v":0},{"$f":"Fund!V1472","v":0},{"$f":"Fund!P1472","v":""}]
[null,null,null,null,null,null,null,null,null,null,null,null,{"$f":"Fund!W1473","v":"2011-11-08"},{"$f":"Fund!X1473","v":33.234400000000001},{"$f":"-Fund!V1473","v":1000},{"$f":"Fund!V1473","v":-1000},{"$f":"Fund!P1473","v":30.089305057410392}]
[null,null,null,null,null,null,null,null,null,null,null,null,{"$f":"Fund!W1474","v":"00:00:00"},{"$f":"Fund!X1474","v":0},{"$f":"-Fund!V1474","v":0},{"$f":"Fund!V1474","v":0},{"$f":"Fund!P1474","v":""}]
[null,null,null,null,null,null,null,null,null,null,null,null,{"$f":"Fund!W1475","v":"00:00:00"},{"$f":"Fund!X1475","v":0},{"$f":"-Fund!V1475","v":0},{"$f":"Fund!V1475","v":0},{"$f":"Fund!P1475","v":""}]
[null,null,null,null,null,null,null,null,null,null,null,null,{"$f":"Fund!W1476","v":"00:00:00"},{"$f":"Fund!X1476","v":0},{"$f":"-Fund!V1476","v":0},{"$f":"Fund!V1476","v":0},{"$f":"Fund!P1476","v":""}]
[null,null,null,null,null,null,null,null,null,null,null,null,{"$f":"Fund!W1477","v":"00:00:00"},{"$f":"Fund!X1477","v":0},{"$f":"-Fund!V1477","v":0},{"$f":"Fund!V1477","v":0},{"$f":"Fund!P1477","v":""}]
[null,null,null,null,null,null,null,null,null,null,null,null,{"$f":"Fund!W1478","v":"00:00:00"},{"$f":"Fund!X1478","v":0},{"$f":"-Fund!V1478","v":0},{"$f":"Fund!V1478","v":0},{"$f":"Fund!P1478","v":""}]
[null,null,null,null,null,null,null,null,null,null,null,null,{"$f":"Fund!W1479","v":"00:00:00"},{"$f":"Fund!X1479","v":0},{"$f":"-Fund!V1479","v":0},{"$f":"Fund!V1479","v":0},{"$f":"Fund!P1479","v":""}]
[null,null,null,null,null,null,null,null,null,null,null,null,{"$f":"Fund!W1480","v":"00:00:00"},{"$f":"Fund!X1480","v":0},{"$f":"-Fund!V1480","v":0},{"$f":"Fund!V1480","v":0},{"$f":"Fund!P1480","v":""}]
[null,null,null,null,null,null,null,null,null,null,null,null,{"$f":"Fund!W1481","v":"00:00:00"},{"$f":"Fund!X1481","v":0},{"$f":"-Fund!V1481","v":0},{"$f":"Fund!V1481","v":0},{"$f":"Fund!P1481","v":""}]
[null,null,null,null,null,null,null,null,null,null,null,null,{"$f":"Fund!W1482","v":"00:00:00"},{"$f":"Fund!X1482","v":0},{"$f":"-Fund!V1482","v":0},{"$f":"Fund!V1482","v":0},{"$f":"Fund!P1482","v":""}]
[null,null,null,null,null,null,null,null,null,null,null,null,{"$f":"Fund!W1483","v":"00:00:00"},{"$f":"Fund!X1483","v":0},{"$f":"-Fund!V1483","v":0},{"$f":"Fund!V1483","v":0},{"$f":"Fund!P1483","v":""}]
[null,null,null,null,null,null,null,null,null,null,null,null,{"$f":"Fund!W1484","v":"00:00:00"},{"$f":"Fund!X1484","v":0},{"$f":"-Fund!V1484","v":0},{"$f":"Fund!V1484","v":0},{"$f":"Fund!P1484","v":""}]
[null,null,null,null,null,null,null,null,null,null,null,null,{"$f":"Fund!W1485","v":"00:00:00"},{"$f":"Fund!X1485","v":0},{"$f":"-Fund!V1485","v":0},{"$f":"Fund!V1485","v":0},{"$f":"Fund!P1485","v":""}]
[null,null,null,null,null,null,null,null,null,null,null,null,{"$f":"Fund!W1486","v":"00:00:00"},{"$f":"Fund!X1486","v":0},{"$f":"-Fund!V1486","v":0},{"$f":"Fund!V1486","v":0},{"$f":"Fund!P1486","v":""}]
[null,null,null,null,null,null,null,null,null,null,null,null,{"$f":"Fund!W1487","v":"00:00:00"},{"$f":"Fund!X1487","v":0},{"$f":"-Fund!V1487","v":0},{"$f":"Fund!V1487","v":0},{"$f":"Fund!P1487","v":""}]
[null,null,null,null,null,null,null,null,null,null,null,null,{"$f":"Fund!W1488","v":"00:00:00"},{"$f":"Fund!X1488","v":0},{"$f":"-Fund!V1488","v":0},{"$f":"Fund!V1488","v":0},{"$f":"Fund!P1488","v":""}]
[null,null,null,null,null,null,null,null,null,null,null,null,{"$f":"Fund!W1489","v":"00:00:00"},{"$f":"Fund!X1489","v":0},{"$f":"-Fund!V1489","v":0},{"$f":"Fund!V1489","v":0},{"$f":"Fund!P1489","v":""}]
[null,null,null,null,null,null,null,null,null,null,null,null,{"$f":"Fund!W1490","v":"00:00:00"},{"$f":"Fund!X1490","v":0},{"$f":"-Fund!V1490","v":0},{"$f":"Fund!V1490","v":0},{"$f":"Fund!P1490","v":""}]
[null,null,null,null,null,null,null,null,null,null,null,null,{"$f":"Fund!W1491","v":"00:00:00"},{"$f":"Fund!X1491","v":0},{"$f":"-Fund!V1491","v":0},{"$f":"Fund!V1491","v":0},{"$f":"Fund!P1491","v":""}]
[null,null,null,null,null,null,null,null,null,null,null,null,{"$f":"Fund!W1492","v":"2011-12-07"},{"$f":"Fund!X1492","v":31.090800000000002},{"$f":"-Fund!V1492","v":1000},{"$f":"Fund!V1492","v":-1000},{"$f":"Fund!P1492","v":32.163855545691973}]
[null,null,null,null,null,null,null,null,null,null,null,null,{"$f":"Fund!W1493","v":"00:00:00"},{"$f":"Fund!X1493","v":0},{"$f":"-Fund!V1493","v":0},{"$f":"Fund!V1493","v":0},{"$f":"Fund!P1493","v":""}]
[null,null,null,null,null,null,null,null,null,null,null,null,{"$f":"Fund!W1494","v":"00:00:00"},{"$f":"Fund!X1494","v":0},{"$f":"-Fund!V1494","v":0},{"$f":"Fund!V1494","v":0},{"$f":"Fund!P1494","v":""}]
[null,null,null,null,null,null,null,null,null,null,null,null,{"$f":"Fund!W1495","v":"00:00:00"},{"$f":"Fund!X1495","v":0},{"$f":"-Fund!V1495","v":0},{"$f":"Fund!V1495","v":0},{"$f":"Fund!P1495","v":""}]
[null,null,null,null,null,null,null,null,null,null,null,null,{"$f":"Fund!W1496","v":"00:00:00"},{"$f":"Fund!X1496","v":0},{"$f":"-Fund!V1496","v":0},{"$f":"Fund!V1496","v":0},{"$f":"Fund!P1496","v":""}]
[null,null,null,null,null,null,null,null,null,null,null,null,{"$f":"Fund!W1497","v":"00:00:00"},{"$f":"Fund!X1497","v":0},{"$f":"-Fund!V1497","v":0},{"$f":"Fund!V1497","v":0},{"$f":"Fund!P1497","v":""}]
[null,null,null,null,null,null,null,null,null,null,null,null,{"$f":"Fund!W1498","v":"00:00:00"},{"$f":"Fund!X1498","v":0},{"$f":"-Fund!V1498","v":0},{"$f":"Fund!V1498","v":0},{"$f":"Fund!P1498","v":""}]
[null,null,null,null,null,null,null,null,null,null,null,null,{"$f":"Fund!W1499","v":"00:00:00"},{"$f":"Fund!X1499","v":0},{"$f":"-Fund!V1499","v":0},{"$f":"Fund!V1499","v":0},{"$f":"Fund!P1499","v":""}]
[null,null,null,null,null,null,null,null,null,null,null,null,{"$f":"Fund!W1500","v":"00:00:00"},{"$f":"Fund!X1500","v":0},{"$f":"-Fund!V1500","v":0},{"$f":"Fund!V1500","v":0},{"$f":"Fund!P1500","v":""}]
[null,null,null,null,null,null,null,null,null,null,null,null,{"$f":"Fund!W1501","v":"00:00:00"},{"$f":"Fund!X1501","v":0},{"$f":"-Fund!V1501","v":0},{"$f":"Fund!V1501","v":0},{"$f":"Fund!P1501","v":""}]
[null,null,null,null,null,null,null,null,null,null,null,null,{"$f":"Fund!W1502","v":"00:00:00"},{"$f":"Fund!X1502","v":0},{"$f":"-Fund!V1502","v":0},{"$f":"Fund!V1502","v":0},{"$f":"Fund!P1502","v":""}]
[null,null,null,null,null,null,null,null,null,null,null,null,{"$f":"Fund!W1503","v":"00:00:00"},{"$f":"Fund!X1503","v":0},{"$f":"-Fund!V1503","v":0},{"$f":"Fund!V1503","v":0},{"$f":"Fund!P1503","v":""}]
[null,null,null,null,null,null,null,null,null,null,null,null,{"$f":"Fund!W1504","v":"00:00:00"},{"$f":"Fund!X1504","v":0},{"$f":"-Fund!V1504","v":0},{"$f":"Fund!V1504","v":0},{"$f":"Fund!P1504","v":""}]
[null,null,null,null,null,null,null,null,null,null,null,null,{"$f":"Fund!W1505","v":"00:00:00"},{"$f":"Fund!X1505","v":0},{"$f":"-Fund!V1505","v":0},{"$f":"Fund!V1505","v":0},{"$f":"Fund!P1505","v":""}]
[null,null,null,null,null,null,null,null,null,null,null,null,{"$f":"Fund!W1506","v":"00:00:00"},{"$f":"Fund!X1506","v":0},{"$f":"-Fund!V1506","v":0},{"$f":"Fund!V1506","v":0},{"$f":"Fund!P1506","v":""}]
[null,null,null,null,null,null,null,null,null,null,null,null,{"$f":"Fund!W1507","v":"00:00:00"},{"$f":"Fund!X1507","v":0},{"$f":"-Fund!V1507","v":0},{"$f":"Fund!V1507","v":0},{"$f":"Fund!P1507","v":""}]
[null,null,null,null,null,null,null,null,null,null,null,null,{"$f":"Fund!W1508","v":"00:00:00"},{"$f":"Fund!X1508","v":0},{"$f":"-Fund!V1508","v":0},{"$f":"Fund!V1508","v":0},{"$f":"Fund!P1508","v":""}]
[null,null,null,null,null,null,null,null,null,null,null,null,{"$f":"Fund!W1509","v":"00:00:00"},{"$f":"Fund!X1509","v":0},{"$f":"-Fund!V1509","v":0},{"$f":"Fund!V1509","v":0},{"$f":"Fund!P1509","v":""}]
[null,null,null,null,null,null,null,null,null,null,null,null,{"$f":"Fund!W1510","v":"00:00:00"},{"$f":"Fund!X1510","v":0},{"$f":"-Fund!V1510","v":0},{"$f":"Fund!V1510","v":0},{"$f":"Fund!P1510","v":""}]
[null,null,null,null,null,null,null,null,null,null,null,null,{"$f":"Fund!W1511","v":"2012-01-06"},{"$f":"Fund!X1511","v":28.880299999999998},{"$f":"-Fund!V1511","v":1000},{"$f":"Fund!V1511","v":-1000},{"$f":"Fund!P1511","v":34.625679096131272}]
[null,null,null,null,null,null,null,null,null,null,null,null,{"$f":"Fund!W1512","v":"00:00:00"},{"$f":"Fund!X1512","v":0},{"$f":"-Fund!V1512","v":0},{"$f":"Fund!V1512","v":0},{"$f":"Fund!P1512","v":""}]
[null,null,null,null,null,null,null,null,null,null,null,null,{"$f":"Fund!W1513","v":"00:00:00"},{"$f":"Fund!X1513","v":0},{"$f":"-Fund!V1513","v":0},{"$f":"Fund!V1513","v":0},{"$f":"Fund!P1513","v":""}]
[null,null,null,null,null,null,null,null,null,null,null,null,{"$f":"Fund!W1514","v":"00:00:00"},{"$f":"Fund!X1514","v":0},{"$f":"-Fund!V1514","v":0},{"$f":"Fund!V1514","v":0},{"$f":"Fund!P1514","v":""}]
[null,null,null,null,null,null,null,null,null,null,null,null,{"$f":"Fund!W1515","v":"00:00:00"},{"$f":"Fund!X1515","v":0},{"$f":"-Fund!V1515","v":0},{"$f":"Fund!V1515","v":0},{"$f":"Fund!P1515","v":""}]
[null,null,null,null,null,null,null,null,null,null,null,null,{"$f":"Fund!W1516","v":"00:00:00"},{"$f":"Fund!X1516","v":0},{"$f":"-Fund!V1516","v":0},{"$f":"Fund!V1516","v":0},{"$f":"Fund!P1516","v":""}]
[null,null,null,null,null,null,null,null,null,null,null,null,{"$f":"Fund!W1517","v":"00:00:00"},{"$f":"Fund!X1517","v":0},{"$f":"-Fund!V1517","v":0},{"$f":"Fund!V1517","v":0},{"$f":"Fund!P1517","v":""}]
[null,null,null,null,null,null,null,null,null,null,null,null,{"$f":"Fund!W1518","v":"00:00:00"},{"$f":"Fund!X1518","v":0},{"$f":"-Fund!V1518","v":0},{"$f":"Fund!V1518","v":0},{"$f":"Fund!P1518","v":""}]
[null,null,null,null,null,null,null,null,null,null,null,null,{"$f":"Fund!W1519","v":"00:00:00"},{"$f":"Fund!X1519","v":0},{"$f":"-Fund!V1519","v":0},{"$f":"Fund!V1519","v":0},{"$f":"Fund!P1519","v":""}]
[null,null,null,null,null,null,null,null,null,null,null,null,{"$f":"Fund!W1520","v":"00:00:00"},{"$f":"Fund!X1520","v":0},{"$f":"-Fund!V1520","v":0},{"$f":"Fund!V1520","v":0},{"$f":"Fund!P1520","v":""}]
[null,null,null,null,null,null,null,null,null,null,null,null,{"$f":"Fund!W1521","v":"00:00:00"},{"$f":"Fund!X1521","v":0},{"$f":"-Fund!V1521","v":0},{"$f":"Fund!V1521","v":0},{"$f":"Fund!P1521","v":""}]
[null,null,null,null,null,null,null,null,null,null,null,null,{"$f":"Fund!W1522","v":"00:00:00"},{"$f":"Fund!X1522","v":0},{"$f":"-Fund!V1522","v":0},{"$f":"Fund!V1522","v":0},{"$f":"Fund!P1522","v":""}]
[null,null,null,null,null,null,null,null,null,null,null,null,{"$f":"Fund!W1523","v":"00:00:00"},{"$f":"Fund!X1523","v":0},{"$f":"-Fund!V1523","v":0},{"$f":"Fund!V1523","v":0},{"$f":"Fund!P1523","v":""}]
[null,null,null,null,null,null,null,null,null,null,null,null,{"$f":"Fund!W1524","v":"00:00:00"},{"$f":"Fund!X1524","v":0},{"$f":"-Fund!V1524","v":0},{"$f":"Fund!V1524","v":0},{"$f":"Fund!P1524","v":""}]
[null,null,null,null,null,null,null,null,null,null,null,null,{"$f":"Fund!W1525","v":"00:00:00"},{"$f":"Fund!X1525","v":0},{"$f":"-Fund!V1525","v":0},{"$f":"Fund!V1525","v":0},{"$f":"Fund!P1525","v":""}]
[null,null,null,null,null,null,null,null,null,null,null,null,{"$f":"Fund!W1526","v":"00:00:00"},{"$f":"Fund!X1526","v":0},{"$f":"-Fund!V1526","v":0},{"$f":"Fund!V1526","v":0},{"$f":"Fund!P1526","v":""}]
[null,null,null,null,null,null,null,null,null,null,null,null,{"$f":"Fund!W1527","v":"00:00:00"},{"$f":"Fund!X1527","v":0},{"$f":"-Fund!V1527","v":0},{"$f":"Fund!V1527","v":0},{"$f":"Fund!P1527","v":""}]
[null,null,null,null,null,null,null,null,null,null,null,null,{"$f":"Fund!W1528","v":"00:00:00"},{"$f":"Fund!X1528","v":0},{"$f":"-Fund!V1528","v":0},{"$f":"Fund!V1528","v":0},{"$f":"Fund!P1528","v":""}]
[null,null,null,null,null,null,null,null,null,null,null,null,{"$f":"Fund!W1529","v":"00:00:00"},{"$f":"Fund!X1529","v":0},{"$f":"-Fund!V1529","v":0},{"$f":"Fund!V1529","v":0},{"$f":"Fund!P1529","v":""}]
[null,null,null,null,null,null,null,null,null,null,null,null,{"$f":"Fund!W1530","v":"00:00:00"},{"$f":"Fund!X1530","v":0},{"$f":"-Fund!V1530","v":0},{"$f":"Fund!V1530","v":0},{"$f":"Fund!P1530","v":""}]
[null,null,null,null,null,null,null,null,null,null,null,null,{"$f":"Fund!W1531","v":"2012-02-06"},{"$f":"Fund!X1531","v":32.504199999999997},{"$f":"-Fund!V1531","v":1000},{"$f":"Fund!V1531","v":-1000},{"$f":"Fund!P1531","v":30.765254951667789}]
[null,null,null,null,null,null,null,null,null,null,null,null,{"$f":"Fund!W1532","v":"00:00:00"},{"$f":"Fund!X1532","v":0},{"$f":"-Fund!V1532","v":0},{"$f":"Fund!V1532","v":0},{"$f":"Fund!P1532","v":""}]
[null,null,null,null,null,null,null,null,null,null,null,null,{"$f":"Fund!W1533","v":"00:00:00"},{"$f":"Fund!X1533","v":0},{"$f":"-Fund!V1533","v":0},{"$f":"Fund!V1533","v":0},{"$f":"Fund!P1533","v":""}]
[null,null,null,null,null,null,null,null,null,null,null,null,{"$f":"Fund!W1534","v":"00:00:00"},{"$f":"Fund!X1534","v":0},{"$f":"-Fund!V1534","v":0},{"$f":"Fund!V1534","v":0},{"$f":"Fund!P1534","v":""}]
[null,null,null,null,null,null,null,null,null,null,null,null,{"$f":"Fund!W1535","v":"00:00:00"},{"$f":"Fund!X1535","v":0},{"$f":"-Fund!V1535","v":0},{"$f":"Fund!V1535","v":0},{"$f":"Fund!P1535","v":""}]
[null,null,null,null,null,null,null,null,null,null,null,null,{"$f":"Fund!W1536","v":"00:00:00"},{"$f":"Fund!X1536","v":0},{"$f":"-Fund!V1536","v":0},{"$f":"Fund!V1536","v":0},{"$f":"Fund!P1536","v":""}]
[null,null,null,null,null,null,null,null,null,null,null,null,{"$f":"Fund!W1537","v":"00:00:00"},{"$f":"Fund!X1537","v":0},{"$f":"-Fund!V1537","v":0},{"$f":"Fund!V1537","v":0},{"$f":"Fund!P1537","v":""}]
[null,null,null,null,null,null,null,null,null,null,null,null,{"$f":"Fund!W1538","v":"00:00:00"},{"$f":"Fund!X1538","v":0},{"$f":"-Fund!V1538","v":0},{"$f":"Fund!V1538","v":0},{"$f":"Fund!P1538","v":""}]
[null,null,null,null,null,null,null,null,null,null,null,null,{"$f":"Fund!W1539","v":"00:00:00"},{"$f":"Fund!X1539","v":0},{"$f":"-Fund!V1539","v":0},{"$f":"Fund!V1539","v":0},{"$f":"Fund!P1539","v":""}]
[null,null,null,null,null,null,null,null,null,null,null,null,{"$f":"Fund!W1540","v":"00:00:00"},{"$f":"Fund!X1540","v":0},{"$f":"-Fund!V1540","v":0},{"$f":"Fund!V1540","v":0},{"$f":"Fund!P1540","v":""}]
[null,null,null,null,null,null,null,null,null,null,null,null,{"$f":"Fund!W1541","v":"00:00:00"},{"$f":"Fund!X1541","v":0},{"$f":"-Fund!V1541","v":0},{"$f":"Fund!V1541","v":0},{"$f":"Fund!P1541","v":""}]
[null,null,null,null,null,null,null,null,null,null,null,null,{"$f":"Fund!W1542","v":"00:00:00"},{"$f":"Fund!X1542","v":0},{"$f":"-Fund!V1542","v":0},{"$f":"Fund!V1542","v":0},{"$f":"Fund!P1542","v":""}]
[null,null,null,null,null,null,null,null,null,null,null,null,{"$f":"Fund!W1543","v":"00:00:00"},{"$f":"Fund!X1543","v":0},{"$f":"-Fund!V1543","v":0},{"$f":"Fund!V1543","v":0},{"$f":"Fund!P1543","v":""}]
[null,null,null,null,null,null,null,null,null,null,null,null,{"$f":"Fund!W1544","v":"00:00:00"},{"$f":"Fund!X1544","v":0},{"$f":"-Fund!V1544","v":0},{"$f":"Fund!V1544","v":0},{"$f":"Fund!P1544","v":""}]
[null,null,null,null,null,null,null,null,null,null,null,null,{"$f":"Fund!W1545","v":"00:00:00"},{"$f":"Fund!X1545","v":0},{"$f":"-Fund!V1545","v":0},{"$f":"Fund!V1545","v":0},{"$f":"Fund!P1545","v":""}]
[null,null,null,null,null,null,null,null,null,null,null,null,{"$f":"Fund!W1546","v":"00:00:00"},{"$f":"Fund!X1546","v":0},{"$f":"-Fund!V1546","v":0},{"$f":"Fund!V1546","v":0},{"$f":"Fund!P1546","v":""}]
[null,null,null,null,null,null,null,null,null,null,null,null,{"$f":"Fund!W1547","v":"00:00:00"},{"$f":"Fund!X1547","v":0},{"$f":"-Fund!V1547","v":0},{"$f":"Fund!V1547","v":0},{"$f":"Fund!P1547","v":""}]
[null,null,null,null,null,null,null,null,null,null,null,null,{"$f":"Fund!W1548","v":"00:00:00"},{"$f":"Fund!X1548","v":0},{"$f":"-Fund!V1548","v":0},{"$f":"Fund!V1548","v":0},{"$f":"Fund!P1548","v":""}]
[null,null,null,null,null,null,null,null,null,null,null,null,{"$f":"Fund!W1549","v":"2012-03-06"},{"$f":"Fund!X1549","v":32.234400000000001},{"$f":"-Fund!V1549","v":1000},{"$f":"Fund!V1549","v":-1000},{"$f":"Fund!P1549","v":31.022758295485566}]
[null,null,null,null,null,null,null,null,null,null,null,null,{"$f":"Fund!W1550","v":"00:00:00"},{"$f":"Fund!X1550","v":0},{"$f":"-Fund!V1550","v":0},{"$f":"Fund!V1550","v":0},{"$f":"Fund!P1550","v":""}]
[null,null,null,null,null,null,null,null,null,null,null,null,{"$f":"Fund!W1551","v":"00:00:00"},{"$f":"Fund!X1551","v":0},{"$f":"-Fund!V1551","v":0},{"$f":"Fund!V1551","v":0},{"$f":"Fund!P1551","v":""}]
[null,null,null,null,null,null,null,null,null,null,null,null,{"$f":"Fund!W1552","v":"00:00:00"},{"$f":"Fund!X1552","v":0},{"$f":"-Fund!V1552","v":0},{"$f":"Fund!V1552","v":0},{"$f":"Fund!P1552","v":""}]
[null,null,null,null,null,null,null,null,null,null,null,null,{"$f":"Fund!W1553","v":"00:00:00"},{"$f":"Fund!X1553","v":0},{"$f":"-Fund!V1553","v":0},{"$f":"Fund!V1553","v":0},{"$f":"Fund!P1553","v":""}]
[null,null,null,null,null,null,null,null,null,null,null,null,{"$f":"Fund!W1554","v":"00:00:00"},{"$f":"Fund!X1554","v":0},{"$f":"-Fund!V1554","v":0},{"$f":"Fund!V1554","v":0},{"$f":"Fund!P1554","v":""}]
[null,null,null,null,null,null,null,null,null,null,null,null,{"$f":"Fund!W1555","v":"00:00:00"},{"$f":"Fund!X1555","v":0},{"$f":"-Fund!V1555","v":0},{"$f":"Fund!V1555","v":0},{"$f":"Fund!P1555","v":""}]
[null,null,null,null,null,null,null,null,null,null,null,null,{"$f":"Fund!W1556","v":"00:00:00"},{"$f":"Fund!X1556","v":0},{"$f":"-Fund!V1556","v":0},{"$f":"Fund!V1556","v":0},{"$f":"Fund!P1556","v":""}]
[null,null,null,null,null,null,null,null,null,null,null,null,{"$f":"Fund!W1557","v":"00:00:00"},{"$f":"Fund!X1557","v":0},{"$f":"-Fund!V1557","v":0},{"$f":"Fund!V1557","v":0},{"$f":"Fund!P1557","v":""}]
[null,null,null,null,null,null,null,null,null,null,null,null,{"$f":"Fund!W1558","v":"00:00:00"},{"$f":"Fund!X1558","v":0},{"$f":"-Fund!V1558","v":0},{"$f":"Fund!V1558","v":0},{"$f":"Fund!P1558","v":""}]
[null,null,null,null,null,null,null,null,null,null,null,null,{"$f":"Fund!W1559","v":"00:00:00"},{"$f":"Fund!X1559","v":0},{"$f":"-Fund!V1559","v":0},{"$f":"Fund!V1559","v":0},{"$f":"Fund!P1559","v":""}]
[null,null,null,null,null,null,null,null,null,null,null,null,{"$f":"Fund!W1560","v":"00:00:00"},{"$f":"Fund!X1560","v":0},{"$f":"-Fund!V1560","v":0},{"$f":"Fund!V1560","v":0},{"$f":"Fund!P1560","v":""}]
[null,null,null,null,null,null,null,null,null,null,null,null,{"$f":"Fund!W1561","v":"00:00:00"},{"$f":"Fund!X1561","v":0},{"$f":"-Fund!V1561","v":0},{"$f":"Fund!V1561","v":0},{"$f":"Fund!P1561","v":""}]
[null,null,null,null,null,null,null,null,null,null,null,null,{"$f":"Fund!W1562","v":"00:00:00"},{"$f":"Fund!X1562","v":0},{"$f":"-Fund!V1562","v":0},{"$f":"Fund!V1562","v":0},{"$f":"Fund!P1562","v":""}]
[null,null,null,null,null,null,null,null,null,null,null,null,{"$f":"Fund!W1563","v":"00:00:00"},{"$f":"Fund!X1563","v":0},{"$f":"-Fund!V1563","v":0},{"$f":"Fund!V1563","v":0},{"$f":"Fund!P1563","v":""}]
[null,null,null,null,null,null,null,null,null,null,null,null,{"$f":"Fund!W1564","v":"00:00:00"},{"$f":"Fund!X1564","v":0},{"$f":"-Fund!V1564","v":0},{"$f":"Fund!V1564","v":0},{"$f":"Fund!P1564","v":""}]
[null,null,null,null,null,null,null,null,null,null,null,null,{"$f":"Fund!W1565","v":"00:00:00"},{"$f":"Fund!X1565","v":0},{"$f":"-Fund!V1565","v":0},{"$f":"Fund!V1565","v":0},{"$f":"Fund!P1565","v":""}]
[null,null,null,null,null,null,null,null,null,null,null,null,{"$f":"Fund!W1566","v":"00:00:00"},{"$f":"Fund!X1566","v":0},{"$f":"-Fund!V1566","v":0},{"$f":"Fund!V1566","v":0},{"$f":"Fund!P1566","v":""}]
[null,null,null,null,null,null,null,null,null,null,null,null,{"$f":"Fund!W1567","v":"00:00:00"},{"$f":"Fund!X1567","v":0},{"$f":"-Fund!V1567","v":0},{"$f":"Fund!V1567","v":0},{"$f":"Fund!P1567","v":""}]
[null,null,null,null,null,null,null,null,null,null,null,null,{"$f":"Fund!W1568","v":"00:00:00"},{"$f":"Fund!X1568","v":0},{"$f":"-Fund!V1568","v":0},{"$f":"Fund!V1568","v":0},{"$f":"Fund!P1568","v":""}]
[null,null,null,null,null,null,null,null,null,null,null,null,{"$f":"Fund!W1569","v":"00:00:00"},{"$f":"Fund!X1569","v":0},{"$f":"-Fund!V1569","v":0},{"$f":"Fund!V1569","v":0},{"$f":"Fund!P1569","v":""}]
[null,null,null,null,null,null,null,null,null,null,null,null,{"$f":"Fund!W1570","v":"2012-04-09"},{"$f":"Fund!X1570","v":33.125100000000003},{"$f":"-Fund!V1570","v":1000},{"$f":"Fund!V1570","v":-1000},{"$f":"Fund!P1570","v":30.188588109922684}]
[null,null,null,null,null,null,null,null,null,null,null,null,{"$f":"Fund!W1571","v":"00:00:00"},{"$f":"Fund!X1571","v":0},{"$f":"-Fund!V1571","v":0},{"$f":"Fund!V1571","v":0},{"$f":"Fund!P1571","v":""}]
[null,null,null,null,null,null,null,null,null,null,null,null,{"$f":"Fund!W1572","v":"00:00:00"},{"$f":"Fund!X1572","v":0},{"$f":"-Fund!V1572","v":0},{"$f":"Fund!V1572","v":0},{"$f":"Fund!P1572","v":""}]
[null,null,null,null,null,null,null,null,null,null,null,null,{"$f":"Fund!W1573","v":"00:00:00"},{"$f":"Fund!X1573","v":0},{"$f":"-Fund!V1573","v":0},{"$f":"Fund!V1573","v":0},{"$f":"Fund!P1573","v":""}]
[null,null,null,null,null,null,null,null,null,null,null,null,{"$f":"Fund!W1574","v":"00:00:00"},{"$f":"Fund!X1574","v":0},{"$f":"-Fund!V1574","v":0},{"$f":"Fund!V1574","v":0},{"$f":"Fund!P1574","v":""}]
[null,null,null,null,null,null,null,null,null,null,null,null,{"$f":"Fund!W1575","v":"00:00:00"},{"$f":"Fund!X1575","v":0},{"$f":"-Fund!V1575","v":0},{"$f":"Fund!V1575","v":0},{"$f":"Fund!P1575","v":""}]
[null,null,null,null,null,null,null,null,null,null,null,null,{"$f":"Fund!W1576","v":"00:00:00"},{"$f":"Fund!X1576","v":0},{"$f":"-Fund!V1576","v":0},{"$f":"Fund!V1576","v":0},{"$f":"Fund!P1576","v":""}]
[null,null,null,null,null,null,null,null,null,null,null,null,{"$f":"Fund!W1577","v":"00:00:00"},{"$f":"Fund!X1577","v":0},{"$f":"-Fund!V1577","v":0},{"$f":"Fund!V1577","v":0},{"$f":"Fund!P1577","v":""}]
[null,null,null,null,null,null,null,null,null,null,null,null,{"$f":"Fund!W1578","v":"00:00:00"},{"$f":"Fund!X1578","v":0},{"$f":"-Fund!V1578","v":0},{"$f":"Fund!V1578","v":0},{"$f":"Fund!P1578","v":""}]
[null,null,null,null,null,null,null,null,null,null,null,null,{"$f":"Fund!W1579","v":"00:00:00"},{"$f":"Fund!X1579","v":0},{"$f":"-Fund!V1579","v":0},{"$f":"Fund!V1579","v":0},{"$f":"Fund!P1579","v":""}]
[null,null,null,null,null,null,null,null,null,null,null,null,{"$f":"Fund!W1580","v":"00:00:00"},{"$f":"Fund!X1580","v":0},{"$f":"-Fund!V1580","v":0},{"$f":"Fund!V1580","v":0},{"$f":"Fund!P1580","v":""}]
[null,null,null,null,null,null,null,null,null,null,null,null,{"$f":"Fund!W1581","v":"00:00:00"},{"$f":"Fund!X1581","v":0},{"$f":"-Fund!V1581","v":0},{"$f":"Fund!V1581","v":0},{"$f":"Fund!P1581","v":""}]
[null,null,null,null,null,null,null,null,null,null,null,null,{"$f":"Fund!W1582","v":"00:00:00"},{"$f":"Fund!X1582","v":0},{"$f":"-Fund!V1582","v":0},{"$f":"Fund!V1582","v":0},{"$f":"Fund!P1582","v":""}]
[null,null,null,null,null,null,null,null,null,null,null,null,{"$f":"Fund!W1583","v":"00:00:00"},{"$f":"Fund!X1583","v":0},{"$f":"-Fund!V1583","v":0},{"$f":"Fund!V1583","v":0},{"$f":"Fund!P1583","v":""}]
[null,null,null,null,null,null,null,null,null,null,null,null,{"$f":"Fund!W1584","v":"00:00:00"},{"$f":"Fund!X1584","v":0},{"$f":"-Fund!V1584","v":0},{"$f":"Fund!V1584","v":0},{"$f":"Fund!P1584","v":""}]
[null,null,null,null,null,null,null,null,null,null,null,null,{"$f":"Fund!W1585","v":"2012-05-07"},{"$f":"Fund!X1585","v":32.613999999999997},{"$f":"-Fund!V1585","v":1000},{"$f":"Fund!V1585","v":-1000},{"$f":"Fund!P1585","v":30.66167903354388}]
[null,null,null,null,null,null,null,null,null,null,null,null,{"$f":"Fund!W1586","v":"00:00:00"},{"$f":"Fund!X1586","v":0},{"$f":"-Fund!V1586","v":0},{"$f":"Fund!V1586","v":0},{"$f":"Fund!P1586","v":""}]
[null,null,null,null,null,null,null,null,null,null,null,null,{"$f":"Fund!W1587","v":"00:00:00"},{"$f":"Fund!X1587","v":0},{"$f":"-Fund!V1587","v":0},{"$f":"Fund!V1587","v":0},{"$f":"Fund!P1587","v":""}]
[null,null,null,null,null,null,null,null,null,null,null,null,{"$f":"Fund!W1588","v":"00:00:00"},{"$f":"Fund!X1588","v":0},{"$f":"-Fund!V1588","v":0},{"$f":"Fund!V1588","v":0},{"$f":"Fund!P1588","v":""}]
[null,null,null,null,null,null,null,null,null,null,null,null,{"$f":"Fund!W1589","v":"00:00:00"},{"$f":"Fund!X1589","v":0},{"$f":"-Fund!V1589","v":0},{"$f":"Fund!V1589","v":0},{"$f":"Fund!P1589","v":""}]
[null,null,null,null,null,null,null,null,null,null,null,null,{"$f":"Fund!W1590","v":"00:00:00"},{"$f":"Fund!X1590","v":0},{"$f":"-Fund!V1590","v":0},{"$f":"Fund!V1590","v":0},{"$f":"Fund!P1590","v":""}]
[null,null,null,null,null,null,null,null,null,null,null,null,{"$f":"Fund!W1591","v":"00:00:00"},{"$f":"Fund!X1591","v":0},{"$f":"-Fund!V1591","v":0},{"$f":"Fund!V1591","v":0},{"$f":"Fund!P1591","v":""}]
[null,null,null,null,null,null,null,null,null,null,null,null,{"$f":"Fund!W1592","v":"00:00:00"},{"$f":"Fund!X1592","v":0},{"$f":"-Fund!V1592","v":0},{"$f":"Fund!V1592","v":0},{"$f":"Fund!P1592","v":""}]
[null,null,null,null,null,null,null,null,null,null,null,null,{"$f":"Fund!W1593","v":"00:00:00"},{"$f":"Fund!X1593","v":0},{"$f":"-Fund!V1593","v":0},{"$f":"Fund!V1593","v":0},{"$f":"Fund!P1593","v":""}]
[null,null,null,null,null,null,null,null,null,null,null,null,{"$f":"Fund!W1594","v":"00:00:00"},{"$f":"Fund!X1594","v":0},{"$f":"-Fund!V1594","v":0},{"$f":"Fund!V1594","v":0},{"$f":"Fund!P1594","v":""}]
[null,null,null,null,null,null,null,null,null,null,null,null,{"$f":"Fund!W1595","v":"00:00:00"},{"$f":"Fund!X1595","v":0},{"$f":"-Fund!V1595","v":0},{"$f":"Fund!V1595","v":0},{"$f":"Fund!P1595","v":""}]
[null,null,null,null,null,null,null,null,null,null,null,null,{"$f":"Fund!W1596","v":"00:00:00"},{"$f":"Fund!X1596","v":0},{"$f":"-Fund!V1596","v":0},{"$f":"Fund!V1596","v":0},{"$f":"Fund!P1596","v":""}]
[null,null,null,null,null,null,null,null,null,null,null,null,{"$f":"Fund!W1597","v":"00:00:00"},{"$f":"Fund!X1597","v":0},{"$f":"-Fund!V1597","v":0},{"$f":"Fund!V1597","v":0},{"$f":"Fund!P1597","v":""}]
[null,null,null,null,null,null,null,null,null,null,null,null,{"$f":"Fund!W1598","v":"00:00:00"},{"$f":"Fund!X1598","v":0},{"$f":"-Fund!V1598","v":0},{"$f":"Fund!V1598","v":0},{"$f":"Fund!P1598","v":""}]
[null,null,null,null,null,null,null,null,null,null,null,null,{"$f":"Fund!W1599","v":"00:00:00"},{"$f":"Fund!X1599","v":0},{"$f":"-Fund!V1599","v":0},{"$f":"Fund!V1599","v":0},{"$f":"Fund!P1599","v":""}]
[null,null,null,null,null,null,null,null,null,null,null,null,{"$f":"Fund!W1600","v":"00:00:00"},{"$f":"Fund!X1600","v":0},{"$f":"-Fund!V1600","v":0},{"$f":"Fund!V1600","v":0},{"$f":"Fund!P1600","v":""}]
[null,null,null,null,null,null,null,null,null,null,null,null,{"$f":"Fund!W1601","v":"00:00:00"},{"$f":"Fund!X1601","v":0},{"$f":"-Fund!V1601","v":0},{"$f":"Fund!V1601","v":0},{"$f":"Fund!P1601","v":""}]
[null,null,null,null,null,null,null,null,null,null,null,null,{"$f":"Fund!W1602","v":"00:00:00"},{"$f":"Fund!X1602","v":0},{"$f":"-Fund!V1602","v":0},{"$f":"Fund!V1602","v":0},{"$f":"Fund!P1602","v":""}]
[null,null,null,null,null,null,null,null,null,null,null,null,{"$f":"Fund!W1603","v":"00:00:00"},{"$f":"Fund!X1603","v":0},{"$f":"-Fund!V1603","v":0},{"$f":"Fund!V1603","v":0},{"$f":"Fund!P1603","v":""}]
[null,null,null,null,null,null,null,null,null,null,null,null,{"$f":"Fund!W1604","v":"00:00:00"},{"$f":"Fund!X1604","v":0},{"$f":"-Fund!V1604","v":0},{"$f":"Fund!V1604","v":0},{"$f":"Fund!P1604","v":""}]
[null,null,null,null,null,null,null,null,null,null,null,null,{"$f":"Fund!W1605","v":"00:00:00"},{"$f":"Fund!X1605","v":0},{"$f":"-Fund!V1605","v":0},{"$f":"Fund!V1605","v":0},{"$f":"Fund!P1605","v":""}]
[null,null,null,null,null,null,null,null,null,null,null,null,{"$f":"Fund!W1606","v":"2012-06-06"},{"$f":"Fund!X1606","v":32.1417},{"$f":"-Fund!V1606","v":1000},{"$f":"Fund!V1606","v":-1000},{"$f":"Fund!P1606","v":31.112231151432564}]
[null,null,null,null,null,null,null,null,null,null,null,null,{"$f":"Fund!W1607","v":"00:00:00"},{"$f":"Fund!X1607","v":0},{"$f":"-Fund!V1607","v":0},{"$f":"Fund!V1607","v":0},{"$f":"Fund!P1607","v":""}]
[null,null,null,null,null,null,null,null,null,null,null,null,{"$f":"Fund!W1608","v":"00:00:00"},{"$f":"Fund!X1608","v":0},{"$f":"-Fund!V1608","v":0},{"$f":"Fund!V1608","v":0},{"$f":"Fund!P1608","v":""}]
[null,null,null,null,null,null,null,null,null,null,null,null,{"$f":"Fund!W1609","v":"00:00:00"},{"$f":"Fund!X1609","v":0},{"$f":"-Fund!V1609","v":0},{"$f":"Fund!V1609","v":0},{"$f":"Fund!P1609","v":""}]
[null,null,null,null,null,null,null,null,null,null,null,null,{"$f":"Fund!W1610","v":"00:00:00"},{"$f":"Fund!X1610","v":0},{"$f":"-Fund!V1610","v":0},{"$f":"Fund!V1610","v":0},{"$f":"Fund!P1610","v":""}]
[null,null,null,null,null,null,null,null,null,null,null,null,{"$f":"Fund!W1611","v":"00:00:00"},{"$f":"Fund!X1611","v":0},{"$f":"-Fund!V1611","v":0},{"$f":"Fund!V1611","v":0},{"$f":"Fund!P1611","v":""}]
[null,null,null,null,null,null,null,null,null,null,null,null,{"$f":"Fund!W1612","v":"00:00:00"},{"$f":"Fund!X1612","v":0},{"$f":"-Fund!V1612","v":0},{"$f":"Fund!V1612","v":0},{"$f":"Fund!P1612","v":""}]
[null,null,null,null,null,null,null,null,null,null,null,null,{"$f":"Fund!W1613","v":"00:00:00"},{"$f":"Fund!X1613","v":0},{"$f":"-Fund!V1613","v":0},{"$f":"Fund!V1613","v":0},{"$f":"Fund!P1613","v":""}]
[null,null,null,null,null,null,null,null,null,null,null,null,{"$f":"Fund!W1614","v":"00:00:00"},{"$f":"Fund!X1614","v":0},{"$f":"-Fund!V1614","v":0},{"$f":"Fund!V1614","v":0},{"$f":"Fund!P1614","v":""}]
[null,null,null,null,null,null,null,null,null,null,null,null,{"$f":"Fund!W1615","v":"00:00:00"},{"$f":"Fund!X1615","v":0},{"$f":"-Fund!V1615","v":0},{"$f":"Fund!V1615","v":0},{"$f":"Fund!P1615","v":""}]
[null,null,null,null,null,null,null,null,null,null,null,null,{"$f":"Fund!W1616","v":"00:00:00"},{"$f":"Fund!X1616","v":0},{"$f":"-Fund!V1616","v":0},{"$f":"Fund!V1616","v":0},{"$f":"Fund!P1616","v":""}]
[null,null,null,null,null,null,null,null,null,null,null,null,{"$f":"Fund!W1617","v":"00:00:00"},{"$f":"Fund!X1617","v":0},{"$f":"-Fund!V1617","v":0},{"$f":"Fund!V1617","v":0},{"$f":"Fund!P1617","v":""}]
[null,null,null,null,null,null,null,null,null,null,null,null,{"$f":"Fund!W1618","v":"00:00:00"},{"$f":"Fund!X1618","v":0},{"$f":"-Fund!V1618","v":0},{"$f":"Fund!V1618","v":0},{"$f":"Fund!P1618","v":""}]
[null,null,null,null,null,null,null,null,null,null,null,null,{"$f":"Fund!W1619","v":"00:00:00"},{"$f":"Fund!X1619","v":0},{"$f":"-Fund!V1619","v":0},{"$f":"Fund!V1619","v":0},{"$f":"Fund!P1619","v":""}]
[null,null,null,null,null,null,null,null,null,null,null,null,{"$f":"Fund!W1620","v":"00:00:00"},{"$f":"Fund!X1620","v":0},{"$f":"-Fund!V1620","v":0},{"$f":"Fund!V1620","v":0},{"$f":"Fund!P1620","v":""}]
[null,null,null,null,null,null,null,null,null,null,null,null,{"$f":"Fund!W1621","v":"00:00:00"},{"$f":"Fund!X1621","v":0},{"$f":"-Fund!V1621","v":0},{"$f":"Fund!V1621","v":0},{"$f":"Fund!P1621","v":""}]
[null,null,null,null,null,null,null,null,null,null,null,null,{"$f":"Fund!W1622","v":"00:00:00"},{"$f":"Fund!X1622","v":0},{"$f":"-Fund!V1622","v":0},{"$f":"Fund!V1622","v":0},{"$f":"Fund!P1622","v":""}]
[null,null,null,null,null,null,null,null,null,null,null,null,{"$f":"Fund!W1623","v":"00:00:00"},{"$f":"Fund!X1623","v":0},{"$f":"-Fund!V1623","v":0},{"$f":"Fund!V1623","v":0},{"$f":"Fund!P1623","v":""}]
[null,null,null,null,null,null,null,null,null,null,null,null,{"$f":"Fund!W1624","v":"00:00:00"},{"$f":"Fund!X1624","v":0},{"$f":"-Fund!V1624","v":0},{"$f":"Fund!V1624","v":0},{"$f":"Fund!P1624","v":""}]
[null,null,null,null,null,null,null,null,null,null,null,null,{"$f":"Fund!W1625","v":"00:00:00"},{"$f":"Fund!X1625","v":0},{"$f":"-Fund!V1625","v":0},{"$f":"Fund!V1625","v":0},{"$f":"Fund!P1625","v":""}]
[null,null,null,null,null,null,null,null,null,null,null,null,{"$f":"Fund!W1626","v":"2012-07-06"},{"$f":"Fund!X1626","v":33.8827},{"$f":"-Fund!V1626","v":1000},{"$f":"Fund!V1626","v":-1000},{"$f":"Fund!P1626","v":29.513586579581911}]
[null,null,null,null,null,null,null,null,null,null,null,null,{"$f":"Fund!W1627","v":"00:00:00"},{"$f":"Fund!X1627","v":0},{"$f":"-Fund!V1627","v":0},{"$f":"Fund!V1627","v":0},{"$f":"Fund!P1627","v":""}]
[null,null,null,null,null,null,null,null,null,null,null,null,{"$f":"Fund!W1628","v":"00:00:00"},{"$f":"Fund!X1628","v":0},{"$f":"-Fund!V1628","v":0},{"$f":"Fund!V1628","v":0},{"$f":"Fund!P1628","v":""}]
[null,null,null,null,null,null,null,null,null,null,null,null,{"$f":"Fund!W1629","v":"00:00:00"},{"$f":"Fund!X1629","v":0},{"$f":"-Fund!V1629","v":0},{"$f":"Fund!V1629","v":0},{"$f":"Fund!P1629","v":""}]
[null,null,null,null,null,null,null,null,null,null,null,null,{"$f":"Fund!W1630","v":"00:00:00"},{"$f":"Fund!X1630","v":0},{"$f":"-Fund!V1630","v":0},{"$f":"Fund!V1630","v":0},{"$f":"Fund!P1630","v":""}]
[null,null,null,null,null,null,null,null,null,null,null,null,{"$f":"Fund!W1631","v":"00:00:00"},{"$f":"Fund!X1631","v":0},{"$f":"-Fund!V1631","v":0},{"$f":"Fund!V1631","v":0},{"$f":"Fund!P1631","v":""}]
[null,null,null,null,null,null,null,null,null,null,null,null,{"$f":"Fund!W1632","v":"00:00:00"},{"$f":"Fund!X1632","v":0},{"$f":"-Fund!V1632","v":0},{"$f":"Fund!V1632","v":0},{"$f":"Fund!P1632","v":""}]
[null,null,null,null,null,null,null,null,null,null,null,null,{"$f":"Fund!W1633","v":"00:00:00"},{"$f":"Fund!X1633","v":0},{"$f":"-Fund!V1633","v":0},{"$f":"Fund!V1633","v":0},{"$f":"Fund!P1633","v":""}]
[null,null,null,null,null,null,null,null,null,null,null,null,{"$f":"Fund!W1634","v":"00:00:00"},{"$f":"Fund!X1634","v":0},{"$f":"-Fund!V1634","v":0},{"$f":"Fund!V1634","v":0},{"$f":"Fund!P1634","v":""}]
[null,null,null,null,null,null,null,null,null,null,null,null,{"$f":"Fund!W1635","v":"00:00:00"},{"$f":"Fund!X1635","v":0},{"$f":"-Fund!V1635","v":0},{"$f":"Fund!V1635","v":0},{"$f":"Fund!P1635","v":""}]
[null,null,null,null,null,null,null,null,null,null,null,null,{"$f":"Fund!W1636","v":"00:00:00"},{"$f":"Fund!X1636","v":0},{"$f":"-Fund!V1636","v":0},{"$f":"Fund!V1636","v":0},{"$f":"Fund!P1636","v":""}]
[null,null,null,null,null,null,null,null,null,null,null,null,{"$f":"Fund!W1637","v":"00:00:00"},{"$f":"Fund!X1637","v":0},{"$f":"-Fund!V1637","v":0},{"$f":"Fund!V1637","v":0},{"$f":"Fund!P1637","v":""}]
[null,null,null,null,null,null,null,null,null,null,null,null,{"$f":"Fund!W1638","v":"00:00:00"},{"$f":"Fund!X1638","v":0},{"$f":"-Fund!V1638","v":0},{"$f":"Fund!V1638","v":0},{"$f":"Fund!P1638","v":""}]
[null,null,null,null,null,null,null,null,null,null,null,null,{"$f":"Fund!W1639","v":"00:00:00"},{"$f":"Fund!X1639","v":0},{"$f":"-Fund!V1639","v":0},{"$f":"Fund!V1639","v":0},{"$f":"Fund!P1639","v":""}]
[null,null,null,null,null,null,null,null,null,null,null,null,{"$f":"Fund!W1640","v":"00:00:00"},{"$f":"Fund!X1640","v":0},{"$f":"-Fund!V1640","v":0},{"$f":"Fund!V1640","v":0},{"$f":"Fund!P1640","v":""}]
[null,null,null,null,null,null,null,null,null,null,null,null,{"$f":"Fund!W1641","v":"00:00:00"},{"$f":"Fund!X1641","v":0},{"$f":"-Fund!V1641","v":0},{"$f":"Fund!V1641","v":0},{"$f":"Fund!P1641","v":""}]
[null,null,null,null,null,null,null,null,null,null,null,null,{"$f":"Fund!W1642","v":"00:00:00"},{"$f":"Fund!X1642","v":0},{"$f":"-Fund!V1642","v":0},{"$f":"Fund!V1642","v":0},{"$f":"Fund!P1642","v":""}]
[null,null,null,null,null,null,null,null,null,null,null,null,{"$f":"Fund!W1643","v":"00:00:00"},{"$f":"Fund!X1643","v":0},{"$f":"-Fund!V1643","v":0},{"$f":"Fund!V1643","v":0},{"$f":"Fund!P1643","v":""}]
[null,null,null,null,null,null,null,null,null,null,null,null,{"$f":"Fund!W1644","v":"00:00:00"},{"$f":"Fund!X1644","v":0},{"$f":"-Fund!V1644","v":0},{"$f":"Fund!V1644","v":0},{"$f":"Fund!P1644","v":""}]
[null,null,null,null,null,null,null,null,null,null,null,null,{"$f":"Fund!W1645","v":"2012-08-06"},{"$f":"Fund!X1645","v":33.6053},{"$f":"-Fund!V1645","v":1000},{"$f":"Fund!V1645","v":-1000},{"$f":"Fund!P1645","v":29.757210916135254}]
[null,null,null,null,null,null,null,null,null,null,null,null,{"$f":"Fund!W1646","v":"00:00:00"},{"$f":"Fund!X1646","v":0},{"$f":"-Fund!V1646","v":0},{"$f":"Fund!V1646","v":0},{"$f":"Fund!P1646","v":""}]
[null,null,null,null,null,null,null,null,null,null,null,null,{"$f":"Fund!W1647","v":"00:00:00"},{"$f":"Fund!X1647","v":0},{"$f":"-Fund!V1647","v":0},{"$f":"Fund!V1647","v":0},{"$f":"Fund!P1647","v":""}]
[null,null,null,null,null,null,null,null,null,null,null,null,{"$f":"Fund!W1648","v":"00:00:00"},{"$f":"Fund!X1648","v":0},{"$f":"-Fund!V1648","v":0},{"$f":"Fund!V1648","v":0},{"$f":"Fund!P1648","v":""}]
[null,null,null,null,null,null,null,null,null,null,null,null,{"$f":"Fund!W1649","v":"00:00:00"},{"$f":"Fund!X1649","v":0},{"$f":"-Fund!V1649","v":0},{"$f":"Fund!V1649","v":0},{"$f":"Fund!P1649","v":""}]
[null,null,null,null,null,null,null,null,null,null,null,null,{"$f":"Fund!W1650","v":"00:00:00"},{"$f":"Fund!X1650","v":0},{"$f":"-Fund!V1650","v":0},{"$f":"Fund!V1650","v":0},{"$f":"Fund!P1650","v":""}]
[null,null,null,null,null,null,null,null,null,null,null,null,{"$f":"Fund!W1651","v":"00:00:00"},{"$f":"Fund!X1651","v":0},{"$f":"-Fund!V1651","v":0},{"$f":"Fund!V1651","v":0},{"$f":"Fund!P1651","v":""}]
[null,null,null,null,null,null,null,null,null,null,null,null,{"$f":"Fund!W1652","v":"00:00:00"},{"$f":"Fund!X1652","v":0},{"$f":"-Fund!V1652","v":0},{"$f":"Fund!V1652","v":0},{"$f":"Fund!P1652","v":""}]
[null,null,null,null,null,null,null,null,null,null,null,null,{"$f":"Fund!W1653","v":"00:00:00"},{"$f":"Fund!X1653","v":0},{"$f":"-Fund!V1653","v":0},{"$f":"Fund!V1653","v":0},{"$f":"Fund!P1653","v":""}]
[null,null,null,null,null,null,null,null,null,null,null,null,{"$f":"Fund!W1654","v":"00:00:00"},{"$f":"Fund!X1654","v":0},{"$f":"-Fund!V1654","v":0},{"$f":"Fund!V1654","v":0},{"$f":"Fund!P1654","v":""}]
[null,null,null,null,null,null,null,null,null,null,null,null,{"$f":"Fund!W1655","v":"00:00:00"},{"$f":"Fund!X1655","v":0},{"$f":"-Fund!V1655","v":0},{"$f":"Fund!V1655","v":0},{"$f":"Fund!P1655","v":""}]
[null,null,null,null,null,null,null,null,null,null,null,null,{"$f":"Fund!W1656","v":"00:00:00"},{"$f":"Fund!X1656","v":0},{"$f":"-Fund!V1656","v":0},{"$f":"Fund!V1656","v":0},{"$f":"Fund!P1656","v":""}]
[null,null,null,null,null,null,null,null,null,null,null,null,{"$f":"Fund!W1657","v":"00:00:00"},{"$f":"Fund!X1657","v":0},{"$f":"-Fund!V1657","v":0},{"$f":"Fund!V1657","v":0},{"$f":"Fund!P1657","v":""}]
[null,null,null,null,null,null,null,null,null,null,null,null,{"$f":"Fund!W1658","v":"00:00:00"},{"$f":"Fund!X1658","v":0},{"$f":"-Fund!V1658","v":0},{"$f":"Fund!V1658","v":0},{"$f":"Fund!P1658","v":""}]
[null,null,null,null,null,null,null,null,null,null,null,null,{"$f":"Fund!W1659","v":"00:00:00"},{"$f":"Fund!X1659","v":0},{"$f":"-Fund!V1659","v":0},{"$f":"Fund!V1659","v":0},{"$f":"Fund!P1659","v":""}]
[null,null,null,null,null,null,null,null,null,null,null,null,{"$f":"Fund!W1660","v":"00:00:00"},{"$f":"Fund!X1660","v":0},{"$f":"-Fund!V1660","v":0},{"$f":"Fund!V1660","v":0},{"$f":"Fund!P1660","v":""}]
[null,null,null,null,null,null,null,null,null,null,null,null,{"$f":"Fund!W1661","v":"00:00:00"},{"$f":"Fund!X1661","v":0},{"$f":"-Fund!V1661","v":0},{"$f":"Fund!V1661","v":0},{"$f":"Fund!P1661","v":""}]
[null,null,null,null,null,null,null,null,null,null,null,null,{"$f":"Fund!W1662","v":"00:00:00"},{"$f":"Fund!X1662","v":0},{"$f":"-Fund!V1662","v":0},{"$f":"Fund!V1662","v":0},{"$f":"Fund!P1662","v":""}]
[null,null,null,null,null,null,null,null,null,null,null,null,{"$f":"Fund!W1663","v":"00:00:00"},{"$f":"Fund!X1663","v":0},{"$f":"-Fund!V1663","v":0},{"$f":"Fund!V1663","v":0},{"$f":"Fund!P1663","v":""}]
[null,null,null,null,null,null,null,null,null,null,null,null,{"$f":"Fund!W1664","v":"00:00:00"},{"$f":"Fund!X1664","v":0},{"$f":"-Fund!V1664","v":0},{"$f":"Fund!V1664","v":0},{"$f":"Fund!P1664","v":""}]
[null,null,null,null,null,null,null,null,null,null,null,null,{"$f":"Fund!W1665","v":"00:00:00"},{"$f":"Fund!X1665","v":0},{"$f":"-Fund!V1665","v":0},{"$f":"Fund!V1665","v":0},{"$f":"Fund!P1665","v":""}]
[null,null,null,null,null,null,null,null,null,null,null,null,{"$f":"Fund!W1666","v":"2012-09-06"},{"$f":"Fund!X1666","v":33.871000000000002},{"$f":"-Fund!V1666","v":1000},{"$f":"Fund!V1666","v":-1000},{"$f":"Fund!P1666","v":29.52378140592247}]
[null,null,null,null,null,null,null,null,null,null,null,null,{"$f":"Fund!W1667","v":"00:00:00"},{"$f":"Fund!X1667","v":0},{"$f":"-Fund!V1667","v":0},{"$f":"Fund!V1667","v":0},{"$f":"Fund!P1667","v":""}]
[null,null,null,null,null,null,null,null,null,null,null,null,{"$f":"Fund!W1668","v":"00:00:00"},{"$f":"Fund!X1668","v":0},{"$f":"-Fund!V1668","v":0},{"$f":"Fund!V1668","v":0},{"$f":"Fund!P1668","v":""}]
[null,null,null,null,null,null,null,null,null,null,null,null,{"$f":"Fund!W1669","v":"00:00:00"},{"$f":"Fund!X1669","v":0},{"$f":"-Fund!V1669","v":0},{"$f":"Fund!V1669","v":0},{"$f":"Fund!P1669","v":""}]
[null,null,null,null,null,null,null,null,null,null,null,null,{"$f":"Fund!W1670","v":"00:00:00"},{"$f":"Fund!X1670","v":0},{"$f":"-Fund!V1670","v":0},{"$f":"Fund!V1670","v":0},{"$f":"Fund!P1670","v":""}]
[null,null,null,null,null,null,null,null,null,null,null,null,{"$f":"Fund!W1671","v":"00:00:00"},{"$f":"Fund!X1671","v":0},{"$f":"-Fund!V1671","v":0},{"$f":"Fund!V1671","v":0},{"$f":"Fund!P1671","v":""}]
[null,null,null,null,null,null,null,null,null,null,null,null,{"$f":"Fund!W1672","v":"00:00:00"},{"$f":"Fund!X1672","v":0},{"$f":"-Fund!V1672","v":0},{"$f":"Fund!V1672","v":0},{"$f":"Fund!P1672","v":""}]
[null,null,null,null,null,null,null,null,null,null,null,null,{"$f":"Fund!W1673","v":"00:00:00"},{"$f":"Fund!X1673","v":0},{"$f":"-Fund!V1673","v":0},{"$f":"Fund!V1673","v":0},{"$f":"Fund!P1673","v":""}]
[null,null,null,null,null,null,null,null,null,null,null,null,{"$f":"Fund!W1674","v":"00:00:00"},{"$f":"Fund!X1674","v":0},{"$f":"-Fund!V1674","v":0},{"$f":"Fund!V1674","v":0},{"$f":"Fund!P1674","v":""}]
[null,null,null,null,null,null,null,null,null,null,null,null,{"$f":"Fund!W1675","v":"00:00:00"},{"$f":"Fund!X1675","v":0},{"$f":"-Fund!V1675","v":0},{"$f":"Fund!V1675","v":0},{"$f":"Fund!P1675","v":""}]
[null,null,null,null,null,null,null,null,null,null,null,null,{"$f":"Fund!W1676","v":"00:00:00"},{"$f":"Fund!X1676","v":0},{"$f":"-Fund!V1676","v":0},{"$f":"Fund!V1676","v":0},{"$f":"Fund!P1676","v":""}]
[null,null,null,null,null,null,null,null,null,null,null,null,{"$f":"Fund!W1677","v":"00:00:00"},{"$f":"Fund!X1677","v":0},{"$f":"-Fund!V1677","v":0},{"$f":"Fund!V1677","v":0},{"$f":"Fund!P1677","v":""}]
[null,null,null,null,null,null,null,null,null,null,null,null,{"$f":"Fund!W1678","v":"00:00:00"},{"$f":"Fund!X1678","v":0},{"$f":"-Fund!V1678","v":0},{"$f":"Fund!V1678","v":0},{"$f":"Fund!P1678","v":""}]
[null,null,null,null,null,null,null,null,null,null,null,null,{"$f":"Fund!W1679","v":"00:00:00"},{"$f":"Fund!X1679","v":0},{"$f":"-Fund!V1679","v":0},{"$f":"Fund!V1679","v":0},{"$f":"Fund!P1679","v":""}]
[null,null,null,null,null,null,null,null,null,null,null,null,{"$f":"Fund!W1680","v":"00:00:00"},{"$f":"Fund!X1680","v":0},{"$f":"-Fund!V1680","v":0},{"$f":"Fund!V1680","v":0},{"$f":"Fund!P1680","v":""}]
[null,null,null,null,null,null,null,null,null,null,null,null,{"$f":"Fund!W1681","v":"00:00:00"},{"$f":"Fund!X1681","v":0},{"$f":"-Fund!V1681","v":0},{"$f":"Fund!V1681","v":0},{"$f":"Fund!P1681","v":""}]
[null,null,null,null,null,null,null,null,null,null,null,null,{"$f":"Fund!W1682","v":"00:00:00"},{"$f":"Fund!X1682","v":0},{"$f":"-Fund!V1682","v":0},{"$f":"Fund!V1682","v":0},{"$f":"Fund!P1682","v":""}]
[null,null,null,null,null,null,null,null,null,null,null,null,{"$f":"Fund!W1683","v":"00:00:00"},{"$f":"Fund!X1683","v":0},{"$f":"-Fund!V1683","v":0},{"$f":"Fund!V1683","v":0},{"$f":"Fund!P1683","v":""}]
[null,null,null,null,null,null,null,null,null,null,null,null,{"$f":"Fund!W1684","v":"00:00:00"},{"$f":"Fund!X1684","v":0},{"$f":"-Fund!V1684","v":0},{"$f":"Fund!V1684","v":0},{"$f":"Fund!P1684","v":""}]
[null,null,null,null,null,null,null,null,null,null,null,null,{"$f":"Fund!W1685","v":"2012-10-08"},{"$f":"Fund!X1685","v":36.555900000000001},{"$f":"-Fund!V1685","v":1000},{"$f":"Fund!V1685","v":-1000},{"$f":"Fund!P1685","v":27.355365344581859}]
[null,null,null,null,null,null,null,null,null,null,null,null,{"$f":"Fund!W1686","v":"00:00:00"},{"$f":"Fund!X1686","v":0},{"$f":"-Fund!V1686","v":0},{"$f":"Fund!V1686","v":0},{"$f":"Fund!P1686","v":""}]
[null,null,null,null,null,null,null,null,null,null,null,null,{"$f":"Fund!W1687","v":"00:00:00"},{"$f":"Fund!X1687","v":0},{"$f":"-Fund!V1687","v":0},{"$f":"Fund!V1687","v":0},{"$f":"Fund!P1687","v":""}]
[null,null,null,null,null,null,null,null,null,null,null,null,{"$f":"Fund!W1688","v":"00:00:00"},{"$f":"Fund!X1688","v":0},{"$f":"-Fund!V1688","v":0},{"$f":"Fund!V1688","v":0},{"$f":"Fund!P1688","v":""}]
[null,null,null,null,null,null,null,null,null,null,null,null,{"$f":"Fund!W1689","v":"00:00:00"},{"$f":"Fund!X1689","v":0},{"$f":"-Fund!V1689","v":0},{"$f":"Fund!V1689","v":0},{"$f":"Fund!P1689","v":""}]
[null,null,null,null,null,null,null,null,null,null,null,null,{"$f":"Fund!W1690","v":"00:00:00"},{"$f":"Fund!X1690","v":0},{"$f":"-Fund!V1690","v":0},{"$f":"Fund!V1690","v":0},{"$f":"Fund!P1690","v":""}]
[null,null,null,null,null,null,null,null,null,null,null,null,{"$f":"Fund!W1691","v":"00:00:00"},{"$f":"Fund!X1691","v":0},{"$f":"-Fund!V1691","v":0},{"$f":"Fund!V1691","v":0},{"$f":"Fund!P1691","v":""}]
[null,null,null,null,null,null,null,null,null,null,null,null,{"$f":"Fund!W1692","v":"00:00:00"},{"$f":"Fund!X1692","v":0},{"$f":"-Fund!V1692","v":0},{"$f":"Fund!V1692","v":0},{"$f":"Fund!P1692","v":""}]
[null,null,null,null,null,null,null,null,null,null,null,null,{"$f":"Fund!W1693","v":"00:00:00"},{"$f":"Fund!X1693","v":0},{"$f":"-Fund!V1693","v":0},{"$f":"Fund!V1693","v":0},{"$f":"Fund!P1693","v":""}]
[null,null,null,null,null,null,null,null,null,null,null,null,{"$f":"Fund!W1694","v":"00:00:00"},{"$f":"Fund!X1694","v":0},{"$f":"-Fund!V1694","v":0},{"$f":"Fund!V1694","v":0},{"$f":"Fund!P1694","v":""}]
[null,null,null,null,null,null,null,null,null,null,null,null,{"$f":"Fund!W1695","v":"00:00:00"},{"$f":"Fund!X1695","v":0},{"$f":"-Fund!V1695","v":0},{"$f":"Fund!V1695","v":0},{"$f":"Fund!P1695","v":""}]
[null,null,null,null,null,null,null,null,null,null,null,null,{"$f":"Fund!W1696","v":"00:00:00"},{"$f":"Fund!X1696","v":0},{"$f":"-Fund!V1696","v":0},{"$f":"Fund!V1696","v":0},{"$f":"Fund!P1696","v":""}]
[null,null,null,null,null,null,null,null,null,null,null,null,{"$f":"Fund!W1697","v":"00:00:00"},{"$f":"Fund!X1697","v":0},{"$f":"-Fund!V1697","v":0},{"$f":"Fund!V1697","v":0},{"$f":"Fund!P1697","v":""}]
[null,null,null,null,null,null,null,null,null,null,null,null,{"$f":"Fund!W1698","v":"00:00:00"},{"$f":"Fund!X1698","v":0},{"$f":"-Fund!V1698","v":0},{"$f":"Fund!V1698","v":0},{"$f":"Fund!P1698","v":""}]
[null,null,null,null,null,null,null,null,null,null,null,null,{"$f":"Fund!W1699","v":"00:00:00"},{"$f":"Fund!X1699","v":0},{"$f":"-Fund!V1699","v":0},{"$f":"Fund!V1699","v":0},{"$f":"Fund!P1699","v":""}]
[null,null,null,null,null,null,null,null,null,null,null,null,{"$f":"Fund!W1700","v":"00:00:00"},{"$f":"Fund!X1700","v":0},{"$f":"-Fund!V1700","v":0},{"$f":"Fund!V1700","v":0},{"$f":"Fund!P1700","v":""}]
[null,null,null,null,null,null,null,null,null,null,null,null,{"$f":"Fund!W1701","v":"2012-11-06"},{"$f":"Fund!X1701","v":36.780099999999997},{"$f":"-Fund!V1701","v":1000},{"$f":"Fund!V1701","v":-1000},{"$f":"Fund!P1701","v":27.188615582883138}]
[null,null,null,null,null,null,null,null,null,null,null,null,{"$f":"Fund!W1702","v":"00:00:00"},{"$f":"Fund!X1702","v":0},{"$f":"-Fund!V1702","v":0},{"$f":"Fund!V1702","v":0},{"$f":"Fund!P1702","v":""}]
[null,null,null,null,null,null,null,null,null,null,null,null,{"$f":"Fund!W1703","v":"00:00:00"},{"$f":"Fund!X1703","v":0},{"$f":"-Fund!V1703","v":0},{"$f":"Fund!V1703","v":0},{"$f":"Fund!P1703","v":""}]
[null,null,null,null,null,null,null,null,null,null,null,null,{"$f":"Fund!W1704","v":"00:00:00"},{"$f":"Fund!X1704","v":0},{"$f":"-Fund!V1704","v":0},{"$f":"Fund!V1704","v":0},{"$f":"Fund!P1704","v":""}]
[null,null,null,null,null,null,null,null,null,null,null,null,{"$f":"Fund!W1705","v":"00:00:00"},{"$f":"Fund!X1705","v":0},{"$f":"-Fund!V1705","v":0},{"$f":"Fund!V1705","v":0},{"$f":"Fund!P1705","v":""}]
[null,null,null,null,null,null,null,null,null,null,null,null,{"$f":"Fund!W1706","v":"00:00:00"},{"$f":"Fund!X1706","v":0},{"$f":"-Fund!V1706","v":0},{"$f":"Fund!V1706","v":0},{"$f":"Fund!P1706","v":""}]
[null,null,null,null,null,null,null,null,null,null,null,null,{"$f":"Fund!W1707","v":"00:00:00"},{"$f":"Fund!X1707","v":0},{"$f":"-Fund!V1707","v":0},{"$f":"Fund!V1707","v":0},{"$f":"Fund!P1707","v":""}]
[null,null,null,null,null,null,null,null,null,null,null,null,{"$f":"Fund!W1708","v":"00:00:00"},{"$f":"Fund!X1708","v":0},{"$f":"-Fund!V1708","v":0},{"$f":"Fund!V1708","v":0},{"$f":"Fund!P1708","v":""}]
[null,null,null,null,null,null,null,null,null,null,null,null,{"$f":"Fund!W1709","v":"00:00:00"},{"$f":"Fund!X1709","v":0},{"$f":"-Fund!V1709","v":0},{"$f":"Fund!V1709","v":0},{"$f":"Fund!P1709","v":""}]
[null,null,null,null,null,null,null,null,null,null,null,null,{"$f":"Fund!W1710","v":"00:00:00"},{"$f":"Fund!X1710","v":0},{"$f":"-Fund!V1710","v":0},{"$f":"Fund!V1710","v":0},{"$f":"Fund!P1710","v":""}]
[null,null,null,null,null,null,null,null,null,null,null,null,{"$f":"Fund!W1711","v":"00:00:00"},{"$f":"Fund!X1711","v":0},{"$f":"-Fund!V1711","v":0},{"$f":"Fund!V1711","v":0},{"$f":"Fund!P1711","v":""}]
[null,null,null,null,null,null,null,null,null,null,null,null,{"$f":"Fund!W1712","v":"00:00:00"},{"$f":"Fund!X1712","v":0},{"$f":"-Fund!V1712","v":0},{"$f":"Fund!V1712","v":0},{"$f":"Fund!P1712","v":""}]
[null,null,null,null,null,null,null,null,null,null,null,null,{"$f":"Fund!W1713","v":"00:00:00"},{"$f":"Fund!X1713","v":0},{"$f":"-Fund!V1713","v":0},{"$f":"Fund!V1713","v":0},{"$f":"Fund!P1713","v":""}]
[null,null,null,null,null,null,null,null,null,null,null,null,{"$f":"Fund!W1714","v":"00:00:00"},{"$f":"Fund!X1714","v":0},{"$f":"-Fund!V1714","v":0},{"$f":"Fund!V1714","v":0},{"$f":"Fund!P1714","v":""}]
[null,null,null,null,null,null,null,null,null,null,null,null,{"$f":"Fund!W1715","v":"00:00:00"},{"$f":"Fund!X1715","v":0},{"$f":"-Fund!V1715","v":0},{"$f":"Fund!V1715","v":0},{"$f":"Fund!P1715","v":""}]
[null,null,null,null,null,null,null,null,null,null,null,null,{"$f":"Fund!W1716","v":"00:00:00"},{"$f":"Fund!X1716","v":0},{"$f":"-Fund!V1716","v":0},{"$f":"Fund!V1716","v":0},{"$f":"Fund!P1716","v":""}]
[null,null,null,null,null,null,null,null,null,null,null,null,{"$f":"Fund!W1717","v":"2012-12-06"},{"$f":"Fund!X1717","v":39.932899999999997},{"$f":"-Fund!V1717","v":1000},{"$f":"Fund!V1717","v":-1000},{"$f":"Fund!P1717","v":25.042007968366939}]
[null,null,null,null,null,null,null,null,null,null,null,null,{"$f":"Fund!W1718","v":"00:00:00"},{"$f":"Fund!X1718","v":0},{"$f":"-Fund!V1718","v":0},{"$f":"Fund!V1718","v":0},{"$f":"Fund!P1718","v":""}]
[null,null,null,null,null,null,null,null,null,null,null,null,{"$f":"Fund!W1719","v":"00:00:00"},{"$f":"Fund!X1719","v":0},{"$f":"-Fund!V1719","v":0},{"$f":"Fund!V1719","v":0},{"$f":"Fund!P1719","v":""}]
[null,null,null,null,null,null,null,null,null,null,null,null,{"$f":"Fund!W1720","v":"00:00:00"},{"$f":"Fund!X1720","v":0},{"$f":"-Fund!V1720","v":0},{"$f":"Fund!V1720","v":0},{"$f":"Fund!P1720","v":""}]
[null,null,null,null,null,null,null,null,null,null,null,null,{"$f":"Fund!W1721","v":"00:00:00"},{"$f":"Fund!X1721","v":0},{"$f":"-Fund!V1721","v":0},{"$f":"Fund!V1721","v":0},{"$f":"Fund!P1721","v":""}]
[null,null,null,null,null,null,null,null,null,null,null,null,{"$f":"Fund!W1722","v":"00:00:00"},{"$f":"Fund!X1722","v":0},{"$f":"-Fund!V1722","v":0},{"$f":"Fund!V1722","v":0},{"$f":"Fund!P1722","v":""}]
[null,null,null,null,null,null,null,null,null,null,null,null,{"$f":"Fund!W1723","v":"00:00:00"},{"$f":"Fund!X1723","v":0},{"$f":"-Fund!V1723","v":0},{"$f":"Fund!V1723","v":0},{"$f":"Fund!P1723","v":""}]
[null,null,null,null,null,null,null,null,null,null,null,null,{"$f":"Fund!W1724","v":"00:00:00"},{"$f":"Fund!X1724","v":0},{"$f":"-Fund!V1724","v":0},{"$f":"Fund!V1724","v":0},{"$f":"Fund!P1724","v":""}]
[null,null,null,null,null,null,null,null,null,null,null,null,{"$f":"Fund!W1725","v":"00:00:00"},{"$f":"Fund!X1725","v":0},{"$f":"-Fund!V1725","v":0},{"$f":"Fund!V1725","v":0},{"$f":"Fund!P1725","v":""}]
[null,null,null,null,null,null,null,null,null,null,null,null,{"$f":"Fund!W1726","v":"00:00:00"},{"$f":"Fund!X1726","v":0},{"$f":"-Fund!V1726","v":0},{"$f":"Fund!V1726","v":0},{"$f":"Fund!P1726","v":""}]
[null,null,null,null,null,null,null,null,null,null,null,null,{"$f":"Fund!W1727","v":"00:00:00"},{"$f":"Fund!X1727","v":0},{"$f":"-Fund!V1727","v":0},{"$f":"Fund!V1727","v":0},{"$f":"Fund!P1727","v":""}]
[null,null,null,null,null,null,null,null,null,null,null,null,{"$f":"Fund!W1728","v":"00:00:00"},{"$f":"Fund!X1728","v":0},{"$f":"-Fund!V1728","v":0},{"$f":"Fund!V1728","v":0},{"$f":"Fund!P1728","v":""}]
[null,null,null,null,null,null,null,null,null,null,null,null,{"$f":"Fund!W1729","v":"00:00:00"},{"$f":"Fund!X1729","v":0},{"$f":"-Fund!V1729","v":0},{"$f":"Fund!V1729","v":0},{"$f":"Fund!P1729","v":""}]
[null,null,null,null,null,null,null,null,null,null,null,null,{"$f":"Fund!W1730","v":"00:00:00"},{"$f":"Fund!X1730","v":0},{"$f":"-Fund!V1730","v":0},{"$f":"Fund!V1730","v":0},{"$f":"Fund!P1730","v":""}]
[null,null,null,null,null,null,null,null,null,null,null,null,{"$f":"Fund!W1731","v":"00:00:00"},{"$f":"Fund!X1731","v":0},{"$f":"-Fund!V1731","v":0},{"$f":"Fund!V1731","v":0},{"$f":"Fund!P1731","v":""}]
[null,null,null,null,null,null,null,null,null,null,null,null,{"$f":"Fund!W1732","v":"00:00:00"},{"$f":"Fund!X1732","v":0},{"$f":"-Fund!V1732","v":0},{"$f":"Fund!V1732","v":0},{"$f":"Fund!P1732","v":""}]
[null,null,null,null,null,null,null,null,null,null,null,null,{"$f":"Fund!W1733","v":"00:00:00"},{"$f":"Fund!X1733","v":0},{"$f":"-Fund!V1733","v":0},{"$f":"Fund!V1733","v":0},{"$f":"Fund!P1733","v":""}]
[null,null,null,null,null,null,null,null,null,null,null,null,{"$f":"Fund!W1734","v":"2013-01-07"},{"$f":"Fund!X1734","v":40.749699999999997},{"$f":"-Fund!V1734","v":1000},{"$f":"Fund!V1734","v":-1000},{"$f":"Fund!P1734","v":24.540057963616913}]
[null,null,null,null,null,null,null,null,null,null,null,null,{"$f":"Fund!W1735","v":"00:00:00"},{"$f":"Fund!X1735","v":0},{"$f":"-Fund!V1735","v":0},{"$f":"Fund!V1735","v":0},{"$f":"Fund!P1735","v":""}]
[null,null,null,null,null,null,null,null,null,null,null,null,{"$f":"Fund!W1736","v":"00:00:00"},{"$f":"Fund!X1736","v":0},{"$f":"-Fund!V1736","v":0},{"$f":"Fund!V1736","v":0},{"$f":"Fund!P1736","v":""}]
[null,null,null,null,null,null,null,null,null,null,null,null,{"$f":"Fund!W1737","v":"00:00:00"},{"$f":"Fund!X1737","v":0},{"$f":"-Fund!V1737","v":0},{"$f":"Fund!V1737","v":0},{"$f":"Fund!P1737","v":""}]
[null,null,null,null,null,null,null,null,null,null,null,null,{"$f":"Fund!W1738","v":"00:00:00"},{"$f":"Fund!X1738","v":0},{"$f":"-Fund!V1738","v":0},{"$f":"Fund!V1738","v":0},{"$f":"Fund!P1738","v":""}]
[null,null,null,null,null,null,null,null,null,null,null,null,{"$f":"Fund!W1739","v":"00:00:00"},{"$f":"Fund!X1739","v":0},{"$f":"-Fund!V1739","v":0},{"$f":"Fund!V1739","v":0},{"$f":"Fund!P1739","v":""}]
[null,null,null,null,null,null,null,null,null,null,null,null,{"$f":"Fund!W1740","v":"00:00:00"},{"$f":"Fund!X1740","v":0},{"$f":"-Fund!V1740","v":0},{"$f":"Fund!V1740","v":0},{"$f":"Fund!P1740","v":""}]
[null,null,null,null,null,null,null,null,null,null,null,null,{"$f":"Fund!W1741","v":"00:00:00"},{"$f":"Fund!X1741","v":0},{"$f":"-Fund!V1741","v":0},{"$f":"Fund!V1741","v":0},{"$f":"Fund!P1741","v":""}]
[null,null,null,null,null,null,null,null,null,null,null,null,{"$f":"Fund!W1742","v":"00:00:00"},{"$f":"Fund!X1742","v":0},{"$f":"-Fund!V1742","v":0},{"$f":"Fund!V1742","v":0},{"$f":"Fund!P1742","v":""}]
[null,null,null,null,null,null,null,null,null,null,null,null,{"$f":"Fund!W1743","v":"00:00:00"},{"$f":"Fund!X1743","v":0},{"$f":"-Fund!V1743","v":0},{"$f":"Fund!V1743","v":0},{"$f":"Fund!P1743","v":""}]
[null,null,null,null,null,null,null,null,null,null,null,null,{"$f":"Fund!W1744","v":"00:00:00"},{"$f":"Fund!X1744","v":0},{"$f":"-Fund!V1744","v":0},{"$f":"Fund!V1744","v":0},{"$f":"Fund!P1744","v":""}]
[null,null,null,null,null,null,null,null,null,null,null,null,{"$f":"Fund!W1745","v":"00:00:00"},{"$f":"Fund!X1745","v":0},{"$f":"-Fund!V1745","v":0},{"$f":"Fund!V1745","v":0},{"$f":"Fund!P1745","v":""}]
[null,null,null,null,null,null,null,null,null,null,null,null,{"$f":"Fund!W1746","v":"00:00:00"},{"$f":"Fund!X1746","v":0},{"$f":"-Fund!V1746","v":0},{"$f":"Fund!V1746","v":0},{"$f":"Fund!P1746","v":""}]
[null,null,null,null,null,null,null,null,null,null,null,null,{"$f":"Fund!W1747","v":"00:00:00"},{"$f":"Fund!X1747","v":0},{"$f":"-Fund!V1747","v":0},{"$f":"Fund!V1747","v":0},{"$f":"Fund!P1747","v":""}]
[null,null,null,null,null,null,null,null,null,null,null,null,{"$f":"Fund!W1748","v":"00:00:00"},{"$f":"Fund!X1748","v":0},{"$f":"-Fund!V1748","v":0},{"$f":"Fund!V1748","v":0},{"$f":"Fund!P1748","v":""}]
[null,null,null,null,null,null,null,null,null,null,null,null,{"$f":"Fund!W1749","v":"00:00:00"},{"$f":"Fund!X1749","v":0},{"$f":"-Fund!V1749","v":0},{"$f":"Fund!V1749","v":0},{"$f":"Fund!P1749","v":""}]
[null,null,null,null,null,null,null,null,null,null,null,null,{"$f":"Fund!W1750","v":"00:00:00"},{"$f":"Fund!X1750","v":0},{"$f":"-Fund!V1750","v":0},{"$f":"Fund!V1750","v":0},{"$f":"Fund!P1750","v":""}]
[null,null,null,null,null,null,null,null,null,null,null,null,{"$f":"Fund!W1751","v":"00:00:00"},{"$f":"Fund!X1751","v":0},{"$f":"-Fund!V1751","v":0},{"$f":"Fund!V1751","v":0},{"$f":"Fund!P1751","v":""}]
[null,null,null,null,null,null,null,null,null,null,null,null,{"$f":"Fund!W1752","v":"00:00:00"},{"$f":"Fund!X1752","v":0},{"$f":"-Fund!V1752","v":0},{"$f":"Fund!V1752","v":0},{"$f":"Fund!P1752","v":""}]
[null,null,null,null,null,null,null,null,null,null,null,null,{"$f":"Fund!W1753","v":"2013-02-06"},{"$f":"Fund!X1753","v":38.829599999999999},{"$f":"-Fund!V1753","v":1000},{"$f":"Fund!V1753","v":-1000},{"$f":"Fund!P1753","v":25.753548839030017}]
[null,null,null,null,null,null,null,null,null,null,null,null,{"$f":"Fund!W1754","v":"00:00:00"},{"$f":"Fund!X1754","v":0},{"$f":"-Fund!V1754","v":0},{"$f":"Fund!V1754","v":0},{"$f":"Fund!P1754","v":""}]
[null,null,null,null,null,null,null,null,null,null,null,null,{"$f":"Fund!W1755","v":"00:00:00"},{"$f":"Fund!X1755","v":0},{"$f":"-Fund!V1755","v":0},{"$f":"Fund!V1755","v":0},{"$f":"Fund!P1755","v":""}]
[null,null,null,null,null,null,null,null,null,null,null,null,{"$f":"Fund!W1756","v":"00:00:00"},{"$f":"Fund!X1756","v":0},{"$f":"-Fund!V1756","v":0},{"$f":"Fund!V1756","v":0},{"$f":"Fund!P1756","v":""}]
[null,null,null,null,null,null,null,null,null,null,null,null,{"$f":"Fund!W1757","v":"00:00:00"},{"$f":"Fund!X1757","v":0},{"$f":"-Fund!V1757","v":0},{"$f":"Fund!V1757","v":0},{"$f":"Fund!P1757","v":""}]
[null,null,null,null,null,null,null,null,null,null,null,null,{"$f":"Fund!W1758","v":"00:00:00"},{"$f":"Fund!X1758","v":0},{"$f":"-Fund!V1758","v":0},{"$f":"Fund!V1758","v":0},{"$f":"Fund!P1758","v":""}]
[null,null,null,null,null,null,null,null,null,null,null,null,{"$f":"Fund!W1759","v":"00:00:00"},{"$f":"Fund!X1759","v":0},{"$f":"-Fund!V1759","v":0},{"$f":"Fund!V1759","v":0},{"$f":"Fund!P1759","v":""}]
[null,null,null,null,null,null,null,null,null,null,null,null,{"$f":"Fund!W1760","v":"00:00:00"},{"$f":"Fund!X1760","v":0},{"$f":"-Fund!V1760","v":0},{"$f":"Fund!V1760","v":0},{"$f":"Fund!P1760","v":""}]
[null,null,null,null,null,null,null,null,null,null,null,null,{"$f":"Fund!W1761","v":"00:00:00"},{"$f":"Fund!X1761","v":0},{"$f":"-Fund!V1761","v":0},{"$f":"Fund!V1761","v":0},{"$f":"Fund!P1761","v":""}]
[null,null,null,null,null,null,null,null,null,null,null,null,{"$f":"Fund!W1762","v":"00:00:00"},{"$f":"Fund!X1762","v":0},{"$f":"-Fund!V1762","v":0},{"$f":"Fund!V1762","v":0},{"$f":"Fund!P1762","v":""}]
[null,null,null,null,null,null,null,null,null,null,null,null,{"$f":"Fund!W1763","v":"00:00:00"},{"$f":"Fund!X1763","v":0},{"$f":"-Fund!V1763","v":0},{"$f":"Fund!V1763","v":0},{"$f":"Fund!P1763","v":""}]
[null,null,null,null,null,null,null,null,null,null,null,null,{"$f":"Fund!W1764","v":"00:00:00"},{"$f":"Fund!X1764","v":0},{"$f":"-Fund!V1764","v":0},{"$f":"Fund!V1764","v":0},{"$f":"Fund!P1764","v":""}]
[null,null,null,null,null,null,null,null,null,null,null,null,{"$f":"Fund!W1765","v":"00:00:00"},{"$f":"Fund!X1765","v":0},{"$f":"-Fund!V1765","v":0},{"$f":"Fund!V1765","v":0},{"$f":"Fund!P1765","v":""}]
[null,null,null,null,null,null,null,null,null,null,null,null,{"$f":"Fund!W1766","v":"00:00:00"},{"$f":"Fund!X1766","v":0},{"$f":"-Fund!V1766","v":0},{"$f":"Fund!V1766","v":0},{"$f":"Fund!P1766","v":""}]
[null,null,null,null,null,null,null,null,null,null,null,null,{"$f":"Fund!W1767","v":"00:00:00"},{"$f":"Fund!X1767","v":0},{"$f":"-Fund!V1767","v":0},{"$f":"Fund!V1767","v":0},{"$f":"Fund!P1767","v":""}]
[null,null,null,null,null,null,null,null,null,null,null,null,{"$f":"Fund!W1768","v":"00:00:00"},{"$f":"Fund!X1768","v":0},{"$f":"-Fund!V1768","v":0},{"$f":"Fund!V1768","v":0},{"$f":"Fund!P1768","v":""}]
[null,null,null,null,null,null,null,null,null,null,null,null,{"$f":"Fund!W1769","v":"2013-03-06"},{"$f":"Fund!X1769","v":37.798499999999997},{"$f":"-Fund!V1769","v":1000},{"$f":"Fund!V1769","v":-1000},{"$f":"Fund!P1769","v":26.456076299324049}]
[null,null,null,null,null,null,null,null,null,null,null,null,{"$f":"Fund!W1770","v":"00:00:00"},{"$f":"Fund!X1770","v":0},{"$f":"-Fund!V1770","v":0},{"$f":"Fund!V1770","v":0},{"$f":"Fund!P1770","v":""}]
[null,null,null,null,null,null,null,null,null,null,null,null,{"$f":"Fund!W1771","v":"00:00:00"},{"$f":"Fund!X1771","v":0},{"$f":"-Fund!V1771","v":0},{"$f":"Fund!V1771","v":0},{"$f":"Fund!P1771","v":""}]
[null,null,null,null,null,null,null,null,null,null,null,null,{"$f":"Fund!W1772","v":"00:00:00"},{"$f":"Fund!X1772","v":0},{"$f":"-Fund!V1772","v":0},{"$f":"Fund!V1772","v":0},{"$f":"Fund!P1772","v":""}]
[null,null,null,null,null,null,null,null,null,null,null,null,{"$f":"Fund!W1773","v":"00:00:00"},{"$f":"Fund!X1773","v":0},{"$f":"-Fund!V1773","v":0},{"$f":"Fund!V1773","v":0},{"$f":"Fund!P1773","v":""}]
[null,null,null,null,null,null,null,null,null,null,null,null,{"$f":"Fund!W1774","v":"00:00:00"},{"$f":"Fund!X1774","v":0},{"$f":"-Fund!V1774","v":0},{"$f":"Fund!V1774","v":0},{"$f":"Fund!P1774","v":""}]
[null,null,null,null,null,null,null,null,null,null,null,null,{"$f":"Fund!W1775","v":"00:00:00"},{"$f":"Fund!X1775","v":0},{"$f":"-Fund!V1775","v":0},{"$f":"Fund!V1775","v":0},{"$f":"Fund!P1775","v":""}]
[null,null,null,null,null,null,null,null,null,null,null,null,{"$f":"Fund!W1776","v":"00:00:00"},{"$f":"Fund!X1776","v":0},{"$f":"-Fund!V1776","v":0},{"$f":"Fund!V1776","v":0},{"$f":"Fund!P1776","v":""}]
[null,null,null,null,null,null,null,null,null,null,null,null,{"$f":"Fund!W1777","v":"00:00:00"},{"$f":"Fund!X1777","v":0},{"$f":"-Fund!V1777","v":0},{"$f":"Fund!V1777","v":0},{"$f":"Fund!P1777","v":""}]
[null,null,null,null,null,null,null,null,null,null,null,null,{"$f":"Fund!W1778","v":"00:00:00"},{"$f":"Fund!X1778","v":0},{"$f":"-Fund!V1778","v":0},{"$f":"Fund!V1778","v":0},{"$f":"Fund!P1778","v":""}]
[null,null,null,null,null,null,null,null,null,null,null,null,{"$f":"Fund!W1779","v":"00:00:00"},{"$f":"Fund!X1779","v":0},{"$f":"-Fund!V1779","v":0},{"$f":"Fund!V1779","v":0},{"$f":"Fund!P1779","v":""}]
[null,null,null,null,null,null,null,null,null,null,null,null,{"$f":"Fund!W1780","v":"00:00:00"},{"$f":"Fund!X1780","v":0},{"$f":"-Fund!V1780","v":0},{"$f":"Fund!V1780","v":0},{"$f":"Fund!P1780","v":""}]
[null,null,null,null,null,null,null,null,null,null,null,null,{"$f":"Fund!W1781","v":"00:00:00"},{"$f":"Fund!X1781","v":0},{"$f":"-Fund!V1781","v":0},{"$f":"Fund!V1781","v":0},{"$f":"Fund!P1781","v":""}]
[null,null,null,null,null,null,null,null,null,null,null,null,{"$f":"Fund!W1782","v":"00:00:00"},{"$f":"Fund!X1782","v":0},{"$f":"-Fund!V1782","v":0},{"$f":"Fund!V1782","v":0},{"$f":"Fund!P1782","v":""}]
[null,null,null,null,null,null,null,null,null,null,null,null,{"$f":"Fund!W1783","v":"00:00:00"},{"$f":"Fund!X1783","v":0},{"$f":"-Fund!V1783","v":0},{"$f":"Fund!V1783","v":0},{"$f":"Fund!P1783","v":""}]
[null,null,null,null,null,null,null,null,null,null,null,null,{"$f":"Fund!W1784","v":"00:00:00"},{"$f":"Fund!X1784","v":0},{"$f":"-Fund!V1784","v":0},{"$f":"Fund!V1784","v":0},{"$f":"Fund!P1784","v":""}]
[null,null,null,null,null,null,null,null,null,null,null,null,{"$f":"Fund!W1785","v":"00:00:00"},{"$f":"Fund!X1785","v":0},{"$f":"-Fund!V1785","v":0},{"$f":"Fund!V1785","v":0},{"$f":"Fund!P1785","v":""}]
[null,null,null,null,null,null,null,null,null,null,null,null,{"$f":"Fund!W1786","v":"00:00:00"},{"$f":"Fund!X1786","v":0},{"$f":"-Fund!V1786","v":0},{"$f":"Fund!V1786","v":0},{"$f":"Fund!P1786","v":""}]
[null,null,null,null,null,null,null,null,null,null,null,null,{"$f":"Fund!W1787","v":"00:00:00"},{"$f":"Fund!X1787","v":0},{"$f":"-Fund!V1787","v":0},{"$f":"Fund!V1787","v":0},{"$f":"Fund!P1787","v":""}]
[null,null,null,null,null,null,null,null,null,null,null,null,{"$f":"Fund!W1788","v":"00:00:00"},{"$f":"Fund!X1788","v":0},{"$f":"-Fund!V1788","v":0},{"$f":"Fund!V1788","v":0},{"$f":"Fund!P1788","v":""}]
[null,null,null,null,null,null,null,null,null,null,null,null,{"$f":"Fund!W1789","v":"2013-04-09"},{"$f":"Fund!X1789","v":35.9422},{"$f":"-Fund!V1789","v":1000},{"$f":"Fund!V1789","v":-1000},{"$f":"Fund!P1789","v":27.822448264157455}]
[null,null,null,null,null,null,null,null,null,null,null,null,{"$f":"Fund!W1790","v":"00:00:00"},{"$f":"Fund!X1790","v":0},{"$f":"-Fund!V1790","v":0},{"$f":"Fund!V1790","v":0},{"$f":"Fund!P1790","v":""}]
[null,null,null,null,null,null,null,null,null,null,null,null,{"$f":"Fund!W1791","v":"00:00:00"},{"$f":"Fund!X1791","v":0},{"$f":"-Fund!V1791","v":0},{"$f":"Fund!V1791","v":0},{"$f":"Fund!P1791","v":""}]
[null,null,null,null,null,null,null,null,null,null,null,null,{"$f":"Fund!W1792","v":"00:00:00"},{"$f":"Fund!X1792","v":0},{"$f":"-Fund!V1792","v":0},{"$f":"Fund!V1792","v":0},{"$f":"Fund!P1792","v":""}]
[null,null,null,null,null,null,null,null,null,null,null,null,{"$f":"Fund!W1793","v":"00:00:00"},{"$f":"Fund!X1793","v":0},{"$f":"-Fund!V1793","v":0},{"$f":"Fund!V1793","v":0},{"$f":"Fund!P1793","v":""}]
[null,null,null,null,null,null,null,null,null,null,null,null,{"$f":"Fund!W1794","v":"00:00:00"},{"$f":"Fund!X1794","v":0},{"$f":"-Fund!V1794","v":0},{"$f":"Fund!V1794","v":0},{"$f":"Fund!P1794","v":""}]
[null,null,null,null,null,null,null,null,null,null,null,null,{"$f":"Fund!W1795","v":"00:00:00"},{"$f":"Fund!X1795","v":0},{"$f":"-Fund!V1795","v":0},{"$f":"Fund!V1795","v":0},{"$f":"Fund!P1795","v":""}]
[null,null,null,null,null,null,null,null,null,null,null,null,{"$f":"Fund!W1796","v":"00:00:00"},{"$f":"Fund!X1796","v":0},{"$f":"-Fund!V1796","v":0},{"$f":"Fund!V1796","v":0},{"$f":"Fund!P1796","v":""}]
[null,null,null,null,null,null,null,null,null,null,null,null,{"$f":"Fund!W1797","v":"00:00:00"},{"$f":"Fund!X1797","v":0},{"$f":"-Fund!V1797","v":0},{"$f":"Fund!V1797","v":0},{"$f":"Fund!P1797","v":""}]
[null,null,null,null,null,null,null,null,null,null,null,null,{"$f":"Fund!W1798","v":"00:00:00"},{"$f":"Fund!X1798","v":0},{"$f":"-Fund!V1798","v":0},{"$f":"Fund!V1798","v":0},{"$f":"Fund!P1798","v":""}]
[null,null,null,null,null,null,null,null,null,null,null,null,{"$f":"Fund!W1799","v":"00:00:00"},{"$f":"Fund!X1799","v":0},{"$f":"-Fund!V1799","v":0},{"$f":"Fund!V1799","v":0},{"$f":"Fund!P1799","v":""}]
[null,null,null,null,null,null,null,null,null,null,null,null,{"$f":"Fund!W1800","v":"00:00:00"},{"$f":"Fund!X1800","v":0},{"$f":"-Fund!V1800","v":0},{"$f":"Fund!V1800","v":0},{"$f":"Fund!P1800","v":""}]
[null,null,null,null,null,null,null,null,null,null,null,null,{"$f":"Fund!W1801","v":"00:00:00"},{"$f":"Fund!X1801","v":0},{"$f":"-Fund!V1801","v":0},{"$f":"Fund!V1801","v":0},{"$f":"Fund!P1801","v":""}]
[null,null,null,null,null,null,null,null,null,null,null,null,{"$f":"Fund!W1802","v":"2013-05-06"},{"$f":"Fund!X1802","v":38.002000000000002},{"$f":"-Fund!V1802","v":1000},{"$f":"Fund!V1802","v":-1000},{"$f":"Fund!P1802","v":26.314404505026051}]
[null,null,null,null,null,null,null,null,null,null,null,null,{"$f":"Fund!W1803","v":"00:00:00"},{"$f":"Fund!X1803","v":0},{"$f":"-Fund!V1803","v":0},{"$f":"Fund!V1803","v":0},{"$f":"Fund!P1803","v":""}]
[null,null,null,null,null,null,null,null,null,null,null,null,{"$f":"Fund!W1804","v":"00:00:00"},{"$f":"Fund!X1804","v":0},{"$f":"-Fund!V1804","v":0},{"$f":"Fund!V1804","v":0},{"$f":"Fund!P1804","v":""}]
[null,null,null,null,null,null,null,null,null,null,null,null,{"$f":"Fund!W1805","v":"00:00:00"},{"$f":"Fund!X1805","v":0},{"$f":"-Fund!V1805","v":0},{"$f":"Fund!V1805","v":0},{"$f":"Fund!P1805","v":""}]
[null,null,null,null,null,null,null,null,null,null,null,null,{"$f":"Fund!W1806","v":"00:00:00"},{"$f":"Fund!X1806","v":0},{"$f":"-Fund!V1806","v":0},{"$f":"Fund!V1806","v":0},{"$f":"Fund!P1806","v":""}]
[null,null,null,null,null,null,null,null,null,null,null,null,{"$f":"Fund!W1807","v":"00:00:00"},{"$f":"Fund!X1807","v":0},{"$f":"-Fund!V1807","v":0},{"$f":"Fund!V1807","v":0},{"$f":"Fund!P1807","v":""}]
[null,null,null,null,null,null,null,null,null,null,null,null,{"$f":"Fund!W1808","v":"00:00:00"},{"$f":"Fund!X1808","v":0},{"$f":"-Fund!V1808","v":0},{"$f":"Fund!V1808","v":0},{"$f":"Fund!P1808","v":""}]
[null,null,null,null,null,null,null,null,null,null,null,null,{"$f":"Fund!W1809","v":"00:00:00"},{"$f":"Fund!X1809","v":0},{"$f":"-Fund!V1809","v":0},{"$f":"Fund!V1809","v":0},{"$f":"Fund!P1809","v":""}]
[null,null,null,null,null,null,null,null,null,null,null,null,{"$f":"Fund!W1810","v":"00:00:00"},{"$f":"Fund!X1810","v":0},{"$f":"-Fund!V1810","v":0},{"$f":"Fund!V1810","v":0},{"$f":"Fund!P1810","v":""}]
[null,null,null,null,null,null,null,null,null,null,null,null,{"$f":"Fund!W1811","v":"00:00:00"},{"$f":"Fund!X1811","v":0},{"$f":"-Fund!V1811","v":0},{"$f":"Fund!V1811","v":0},{"$f":"Fund!P1811","v":""}]
[null,null,null,null,null,null,null,null,null,null,null,null,{"$f":"Fund!W1812","v":"00:00:00"},{"$f":"Fund!X1812","v":0},{"$f":"-Fund!V1812","v":0},{"$f":"Fund!V1812","v":0},{"$f":"Fund!P1812","v":""}]
[null,null,null,null,null,null,null,null,null,null,null,null,{"$f":"Fund!W1813","v":"00:00:00"},{"$f":"Fund!X1813","v":0},{"$f":"-Fund!V1813","v":0},{"$f":"Fund!V1813","v":0},{"$f":"Fund!P1813","v":""}]
[null,null,null,null,null,null,null,null,null,null,null,null,{"$f":"Fund!W1814","v":"00:00:00"},{"$f":"Fund!X1814","v":0},{"$f":"-Fund!V1814","v":0},{"$f":"Fund!V1814","v":0},{"$f":"Fund!P1814","v":""}]
[null,null,null,null,null,null,null,null,null,null,null,null,{"$f":"Fund!W1815","v":"00:00:00"},{"$f":"Fund!X1815","v":0},{"$f":"-Fund!V1815","v":0},{"$f":"Fund!V1815","v":0},{"$f":"Fund!P1815","v":""}]
[null,null,null,null,null,null,null,null,null,null,null,null,{"$f":"Fund!W1816","v":"00:00:00"},{"$f":"Fund!X1816","v":0},{"$f":"-Fund!V1816","v":0},{"$f":"Fund!V1816","v":0},{"$f":"Fund!P1816","v":""}]
[null,null,null,null,null,null,null,null,null,null,null,null,{"$f":"Fund!W1817","v":"00:00:00"},{"$f":"Fund!X1817","v":0},{"$f":"-Fund!V1817","v":0},{"$f":"Fund!V1817","v":0},{"$f":"Fund!P1817","v":""}]
[null,null,null,null,null,null,null,null,null,null,null,null,{"$f":"Fund!W1818","v":"00:00:00"},{"$f":"Fund!X1818","v":0},{"$f":"-Fund!V1818","v":0},{"$f":"Fund!V1818","v":0},{"$f":"Fund!P1818","v":""}]
[null,null,null,null,null,null,null,null,null,null,null,null,{"$f":"Fund!W1819","v":"00:00:00"},{"$f":"Fund!X1819","v":0},{"$f":"-Fund!V1819","v":0},{"$f":"Fund!V1819","v":0},{"$f":"Fund!P1819","v":""}]
[null,null,null,null,null,null,null,null,null,null,null,null,{"$f":"Fund!W1820","v":"00:00:00"},{"$f":"Fund!X1820","v":0},{"$f":"-Fund!V1820","v":0},{"$f":"Fund!V1820","v":0},{"$f":"Fund!P1820","v":""}]
[null,null,null,null,null,null,null,null,null,null,null,null,{"$f":"Fund!W1821","v":"00:00:00"},{"$f":"Fund!X1821","v":0},{"$f":"-Fund!V1821","v":0},{"$f":"Fund!V1821","v":0},{"$f":"Fund!P1821","v":""}]
[null,null,null,null,null,null,null,null,null,null,null,null,{"$f":"Fund!W1822","v":"2013-06-06"},{"$f":"Fund!X1822","v":38.596499999999999},{"$f":"-Fund!V1822","v":1000},{"$f":"Fund!V1822","v":-1000},{"$f":"Fund!P1822","v":25.909085020662495}]
[null,null,null,null,null,null,null,null,null,null,null,null,{"$f":"Fund!W1823","v":"00:00:00"},{"$f":"Fund!X1823","v":0},{"$f":"-Fund!V1823","v":0},{"$f":"Fund!V1823","v":0},{"$f":"Fund!P1823","v":""}]
[null,null,null,null,null,null,null,null,null,null,null,null,{"$f":"Fund!W1824","v":"00:00:00"},{"$f":"Fund!X1824","v":0},{"$f":"-Fund!V1824","v":0},{"$f":"Fund!V1824","v":0},{"$f":"Fund!P1824","v":""}]
[null,null,null,null,null,null,null,null,null,null,null,null,{"$f":"Fund!W1825","v":"00:00:00"},{"$f":"Fund!X1825","v":0},{"$f":"-Fund!V1825","v":0},{"$f":"Fund!V1825","v":0},{"$f":"Fund!P1825","v":""}]
[null,null,null,null,null,null,null,null,null,null,null,null,{"$f":"Fund!W1826","v":"00:00:00"},{"$f":"Fund!X1826","v":0},{"$f":"-Fund!V1826","v":0},{"$f":"Fund!V1826","v":0},{"$f":"Fund!P1826","v":""}]
[null,null,null,null,null,null,null,null,null,null,null,null,{"$f":"Fund!W1827","v":"00:00:00"},{"$f":"Fund!X1827","v":0},{"$f":"-Fund!V1827","v":0},{"$f":"Fund!V1827","v":0},{"$f":"Fund!P1827","v":""}]
[null,null,null,null,null,null,null,null,null,null,null,null,{"$f":"Fund!W1828","v":"00:00:00"},{"$f":"Fund!X1828","v":0},{"$f":"-Fund!V1828","v":0},{"$f":"Fund!V1828","v":0},{"$f":"Fund!P1828","v":""}]
[null,null,null,null,null,null,null,null,null,null,null,null,{"$f":"Fund!W1829","v":"00:00:00"},{"$f":"Fund!X1829","v":0},{"$f":"-Fund!V1829","v":0},{"$f":"Fund!V1829","v":0},{"$f":"Fund!P1829","v":""}]
[null,null,null,null,null,null,null,null,null,null,null,null,{"$f":"Fund!W1830","v":"00:00:00"},{"$f":"Fund!X1830","v":0},{"$f":"-Fund!V1830","v":0},{"$f":"Fund!V1830","v":0},{"$f":"Fund!P1830","v":""}]
[null,null,null,null,null,null,null,null,null,null,null,null,{"$f":"Fund!W1831","v":"00:00:00"},{"$f":"Fund!X1831","v":0},{"$f":"-Fund!V1831","v":0},{"$f":"Fund!V1831","v":0},{"$f":"Fund!P1831","v":""}]
[null,null,null,null,null,null,null,null,null,null,null,null,{"$f":"Fund!W1832","v":"00:00:00"},{"$f":"Fund!X1832","v":0},{"$f":"-Fund!V1832","v":0},{"$f":"Fund!V1832","v":0},{"$f":"Fund!P1832","v":""}]
[null,null,null,null,null,null,null,null,null,null,null,null,{"$f":"Fund!W1833","v":"00:00:00"},{"$f":"Fund!X1833","v":0},{"$f":"-Fund!V1833","v":0},{"$f":"Fund!V1833","v":0},{"$f":"Fund!P1833","v":""}]
[null,null,null,null,null,null,null,null,null,null,null,null,{"$f":"Fund!W1834","v":"00:00:00"},{"$f":"Fund!X1834","v":0},{"$f":"-Fund!V1834","v":0},{"$f":"Fund!V1834","v":0},{"$f":"Fund!P1834","v":""}]
[null,null,null,null,null,null,null,null,null,null,null,null,{"$f":"Fund!W1835","v":"00:00:00"},{"$f":"Fund!X1835","v":0},{"$f":"-Fund!V1835","v":0},{"$f":"Fund!V1835","v":0},{"$f":"Fund!P1835","v":""}]
[null,null,null,null,null,null,null,null,null,null,null,null,{"$f":"Fund!W1836","v":"00:00:00"},{"$f":"Fund!X1836","v":0},{"$f":"-Fund!V1836","v":0},{"$f":"Fund!V1836","v":0},{"$f":"Fund!P1836","v":""}]
[null,null,null,null,null,null,null,null,null,null,null,null,{"$f":"Fund!W1837","v":"00:00:00"},{"$f":"Fund!X1837","v":0},{"$f":"-Fund!V1837","v":0},{"$f":"Fund!V1837","v":0},{"$f":"Fund!P1837","v":""}]
[null,null,null,null,null,null,null,null,null,null,null,null,{"$f":"Fund!W1838","v":"00:00:00"},{"$f":"Fund!X1838","v":0},{"$f":"-Fund!V1838","v":0},{"$f":"Fund!V1838","v":0},{"$f":"Fund!P1838","v":""}]
[null,null,null,null,null,null,null,null,null,null,null,null,{"$f":"Fund!W1839","v":"00:00:00"},{"$f":"Fund!X1839","v":0},{"$f":"-Fund!V1839","v":0},{"$f":"Fund!V1839","v":0},{"$f":"Fund!P1839","v":""}]
[null,null,null,null,null,null,null,null,null,null,null,null,{"$f":"Fund!W1840","v":"00:00:00"},{"$f":"Fund!X1840","v":0},{"$f":"-Fund!V1840","v":0},{"$f":"Fund!V1840","v":0},{"$f":"Fund!P1840","v":""}]
[null,null,null,null,null,null,null,null,null,null,null,null,{"$f":"Fund!W1841","v":"00:00:00"},{"$f":"Fund!X1841","v":0},{"$f":"-Fund!V1841","v":0},{"$f":"Fund!V1841","v":0},{"$f":"Fund!P1841","v":""}]
[null,null,null,null,null,null,null,null,null,null,null,null,{"$f":"Fund!W1842","v":"00:00:00"},{"$f":"Fund!X1842","v":0},{"$f":"-Fund!V1842","v":0},{"$f":"Fund!V1842","v":0},{"$f":"Fund!P1842","v":""}]
[null,null,null,null,null,null,null,null,null,null,null,null,{"$f":"Fund!W1843","v":"00:00:00"},{"$f":"Fund!X1843","v":0},{"$f":"-Fund!V1843","v":0},{"$f":"Fund!V1843","v":0},{"$f":"Fund!P1843","v":""}]
[null,null,null,null,null,null,null,null,null,null,null,null,{"$f":"Fund!W1844","v":"2013-07-08"},{"$f":"Fund!X1844","v":37.042700000000004},{"$f":"-Fund!V1844","v":1000},{"$f":"Fund!V1844","v":-1000},{"$f":"Fund!P1844","v":26.995872331120569}]
[null,null,null,null,null,null,null,null,null,null,null,null,{"$f":"Fund!W1845","v":"00:00:00"},{"$f":"Fund!X1845","v":0},{"$f":"-Fund!V1845","v":0},{"$f":"Fund!V1845","v":0},{"$f":"Fund!P1845","v":""}]
[null,null,null,null,null,null,null,null,null,null,null,null,{"$f":"Fund!W1846","v":"00:00:00"},{"$f":"Fund!X1846","v":0},{"$f":"-Fund!V1846","v":0},{"$f":"Fund!V1846","v":0},{"$f":"Fund!P1846","v":""}]
[null,null,null,null,null,null,null,null,null,null,null,null,{"$f":"Fund!W1847","v":"00:00:00"},{"$f":"Fund!X1847","v":0},{"$f":"-Fund!V1847","v":0},{"$f":"Fund!V1847","v":0},{"$f":"Fund!P1847","v":""}]
[null,null,null,null,null,null,null,null,null,null,null,null,{"$f":"Fund!W1848","v":"00:00:00"},{"$f":"Fund!X1848","v":0},{"$f":"-Fund!V1848","v":0},{"$f":"Fund!V1848","v":0},{"$f":"Fund!P1848","v":""}]
[null,null,null,null,null,null,null,null,null,null,null,null,{"$f":"Fund!W1849","v":"00:00:00"},{"$f":"Fund!X1849","v":0},{"$f":"-Fund!V1849","v":0},{"$f":"Fund!V1849","v":0},{"$f":"Fund!P1849","v":""}]
[null,null,null,null,null,null,null,null,null,null,null,null,{"$f":"Fund!W1850","v":"00:00:00"},{"$f":"Fund!X1850","v":0},{"$f":"-Fund!V1850","v":0},{"$f":"Fund!V1850","v":0},{"$f":"Fund!P1850","v":""}]
[null,null,null,null,null,null,null,null,null,null,null,null,{"$f":"Fund!W1851","v":"00:00:00"},{"$f":"Fund!X1851","v":0},{"$f":"-Fund!V1851","v":0},{"$f":"Fund!V1851","v":0},{"$f":"Fund!P1851","v":""}]
[null,null,null,null,null,null,null,null,null,null,null,null,{"$f":"Fund!W1852","v":"00:00:00"},{"$f":"Fund!X1852","v":0},{"$f":"-Fund!V1852","v":0},{"$f":"Fund!V1852","v":0},{"$f":"Fund!P1852","v":""}]
[null,null,null,null,null,null,null,null,null,null,null,null,{"$f":"Fund!W1853","v":"00:00:00"},{"$f":"Fund!X1853","v":0},{"$f":"-Fund!V1853","v":0},{"$f":"Fund!V1853","v":0},{"$f":"Fund!P1853","v":""}]
[null,null,null,null,null,null,null,null,null,null,null,null,{"$f":"Fund!W1854","v":"00:00:00"},{"$f":"Fund!X1854","v":0},{"$f":"-Fund!V1854","v":0},{"$f":"Fund!V1854","v":0},{"$f":"Fund!P1854","v":""}]
[null,null,null,null,null,null,null,null,null,null,null,null,{"$f":"Fund!W1855","v":"00:00:00"},{"$f":"Fund!X1855","v":0},{"$f":"-Fund!V1855","v":0},{"$f":"Fund!V1855","v":0},{"$f":"Fund!P1855","v":""}]
[null,null,null,null,null,null,null,null,null,null,null,null,{"$f":"Fund!W1856","v":"00:00:00"},{"$f":"Fund!X1856","v":0},{"$f":"-Fund!V1856","v":0},{"$f":"Fund!V1856","v":0},{"$f":"Fund!P1856","v":""}]
[null,null,null,null,null,null,null,null,null,null,null,null,{"$f":"Fund!W1857","v":"00:00:00"},{"$f":"Fund!X1857","v":0},{"$f":"-Fund!V1857","v":0},{"$f":"Fund!V1857","v":0},{"$f":"Fund!P1857","v":""}]
[null,null,null,null,null,null,null,null,null,null,null,null,{"$f":"Fund!W1858","v":"00:00:00"},{"$f":"Fund!X1858","v":0},{"$f":"-Fund!V1858","v":0},{"$f":"Fund!V1858","v":0},{"$f":"Fund!P1858","v":""}]
[null,null,null,null,null,null,null,null,null,null,null,null,{"$f":"Fund!W1859","v":"00:00:00"},{"$f":"Fund!X1859","v":0},{"$f":"-Fund!V1859","v":0},{"$f":"Fund!V1859","v":0},{"$f":"Fund!P1859","v":""}]
[null,null,null,null,null,null,null,null,null,null,null,null,{"$f":"Fund!W1860","v":"00:00:00"},{"$f":"Fund!X1860","v":0},{"$f":"-Fund!V1860","v":0},{"$f":"Fund!V1860","v":0},{"$f":"Fund!P1860","v":""}]
[null,null,null,null,null,null,null,null,null,null,null,null,{"$f":"Fund!W1861","v":"00:00:00"},{"$f":"Fund!X1861","v":0},{"$f":"-Fund!V1861","v":0},{"$f":"Fund!V1861","v":0},{"$f":"Fund!P1861","v":""}]
[null,null,null,null,null,null,null,null,null,null,null,null,{"$f":"Fund!W1862","v":"00:00:00"},{"$f":"Fund!X1862","v":0},{"$f":"-Fund!V1862","v":0},{"$f":"Fund!V1862","v":0},{"$f":"Fund!P1862","v":""}]
[null,null,null,null,null,null,null,null,null,null,null,null,{"$f":"Fund!W1863","v":"2013-08-06"},{"$f":"Fund!X1863","v":34.429699999999997},{"$f":"-Fund!V1863","v":1000},{"$f":"Fund!V1863","v":-1000},{"$f":"Fund!P1863","v":29.044691066143479}]
[null,null,null,null,null,null,null,null,null,null,null,null,{"$f":"Fund!W1864","v":"00:00:00"},{"$f":"Fund!X1864","v":0},{"$f":"-Fund!V1864","v":0},{"$f":"Fund!V1864","v":0},{"$f":"Fund!P1864","v":""}]
[null,null,null,null,null,null,null,null,null,null,null,null,{"$f":"Fund!W1865","v":"00:00:00"},{"$f":"Fund!X1865","v":0},{"$f":"-Fund!V1865","v":0},{"$f":"Fund!V1865","v":0},{"$f":"Fund!P1865","v":""}]
[null,null,null,null,null,null,null,null,null,null,null,null,{"$f":"Fund!W1866","v":"00:00:00"},{"$f":"Fund!X1866","v":0},{"$f":"-Fund!V1866","v":0},{"$f":"Fund!V1866","v":0},{"$f":"Fund!P1866","v":""}]
[null,null,null,null,null,null,null,null,null,null,null,null,{"$f":"Fund!W1867","v":"00:00:00"},{"$f":"Fund!X1867","v":0},{"$f":"-Fund!V1867","v":0},{"$f":"Fund!V1867","v":0},{"$f":"Fund!P1867","v":""}]
[null,null,null,null,null,null,null,null,null,null,null,null,{"$f":"Fund!W1868","v":"00:00:00"},{"$f":"Fund!X1868","v":0},{"$f":"-Fund!V1868","v":0},{"$f":"Fund!V1868","v":0},{"$f":"Fund!P1868","v":""}]
[null,null,null,null,null,null,null,null,null,null,null,null,{"$f":"Fund!W1869","v":"00:00:00"},{"$f":"Fund!X1869","v":0},{"$f":"-Fund!V1869","v":0},{"$f":"Fund!V1869","v":0},{"$f":"Fund!P1869","v":""}]
[null,null,null,null,null,null,null,null,null,null,null,null,{"$f":"Fund!W1870","v":"00:00:00"},{"$f":"Fund!X1870","v":0},{"$f":"-Fund!V1870","v":0},{"$f":"Fund!V1870","v":0},{"$f":"Fund!P1870","v":""}]
[null,null,null,null,null,null,null,null,null,null,null,null,{"$f":"Fund!W1871","v":"00:00:00"},{"$f":"Fund!X1871","v":0},{"$f":"-Fund!V1871","v":0},{"$f":"Fund!V1871","v":0},{"$f":"Fund!P1871","v":""}]
[null,null,null,null,null,null,null,null,null,null,null,null,{"$f":"Fund!W1872","v":"00:00:00"},{"$f":"Fund!X1872","v":0},{"$f":"-Fund!V1872","v":0},{"$f":"Fund!V1872","v":0},{"$f":"Fund!P1872","v":""}]
[null,null,null,null,null,null,null,null,null,null,null,null,{"$f":"Fund!W1873","v":"00:00:00"},{"$f":"Fund!X1873","v":0},{"$f":"-Fund!V1873","v":0},{"$f":"Fund!V1873","v":0},{"$f":"Fund!P1873","v":""}]
[null,null,null,null,null,null,null,null,null,null,null,null,{"$f":"Fund!W1874","v":"00:00:00"},{"$f":"Fund!X1874","v":0},{"$f":"-Fund!V1874","v":0},{"$f":"Fund!V1874","v":0},{"$f":"Fund!P1874","v":""}]
[null,null,null,null,null,null,null,null,null,null,null,null,{"$f":"Fund!W1875","v":"00:00:00"},{"$f":"Fund!X1875","v":0},{"$f":"-Fund!V1875","v":0},{"$f":"Fund!V1875","v":0},{"$f":"Fund!P1875","v":""}]
[null,null,null,null,null,null,null,null,null,null,null,null,{"$f":"Fund!W1876","v":"00:00:00"},{"$f":"Fund!X1876","v":0},{"$f":"-Fund!V1876","v":0},{"$f":"Fund!V1876","v":0},{"$f":"Fund!P1876","v":""}]
[null,null,null,null,null,null,null,null,null,null,null,null,{"$f":"Fund!W1877","v":"00:00:00"},{"$f":"Fund!X1877","v":0},{"$f":"-Fund!V1877","v":0},{"$f":"Fund!V1877","v":0},{"$f":"Fund!P1877","v":""}]
[null,null,null,null,null,null,null,null,null,null,null,null,{"$f":"Fund!W1878","v":"00:00:00"},{"$f":"Fund!X1878","v":0},{"$f":"-Fund!V1878","v":0},{"$f":"Fund!V1878","v":0},{"$f":"Fund!P1878","v":""}]
[null,null,null,null,null,null,null,null,null,null,null,null,{"$f":"Fund!W1879","v":"00:00:00"},{"$f":"Fund!X1879","v":0},{"$f":"-Fund!V1879","v":0},{"$f":"Fund!V1879","v":0},{"$f":"Fund!P1879","v":""}]
[null,null,null,null,null,null,null,null,null,null,null,null,{"$f":"Fund!W1880","v":"00:00:00"},{"$f":"Fund!X1880","v":0},{"$f":"-Fund!V1880","v":0},{"$f":"Fund!V1880","v":0},{"$f":"Fund!P1880","v":""}]
[null,null,null,null,null,null,null,null,null,null,null,null,{"$f":"Fund!W1881","v":"2013-09-06"},{"$f":"Fund!X1881","v":34.901000000000003},{"$f":"-Fund!V1881","v":1000},{"$f":"Fund!V1881","v":-1000},{"$f":"Fund!P1881","v":28.652474141142086}]
[null,null,null,null,null,null,null,null,null,null,null,null,{"$f":"Fund!W1882","v":"00:00:00"},{"$f":"Fund!X1882","v":0},{"$f":"-Fund!V1882","v":0},{"$f":"Fund!V1882","v":0},{"$f":"Fund!P1882","v":""}]
[null,null,null,null,null,null,null,null,null,null,null,null,{"$f":"Fund!W1883","v":"00:00:00"},{"$f":"Fund!X1883","v":0},{"$f":"-Fund!V1883","v":0},{"$f":"Fund!V1883","v":0},{"$f":"Fund!P1883","v":""}]
[null,null,null,null,null,null,null,null,null,null,null,null,{"$f":"Fund!W1884","v":"00:00:00"},{"$f":"Fund!X1884","v":0},{"$f":"-Fund!V1884","v":0},{"$f":"Fund!V1884","v":0},{"$f":"Fund!P1884","v":""}]
[null,null,null,null,null,null,null,null,null,null,null,null,{"$f":"Fund!W1885","v":"00:00:00"},{"$f":"Fund!X1885","v":0},{"$f":"-Fund!V1885","v":0},{"$f":"Fund!V1885","v":0},{"$f":"Fund!P1885","v":""}]
[null,null,null,null,null,null,null,null,null,null,null,null,{"$f":"Fund!W1886","v":"00:00:00"},{"$f":"Fund!X1886","v":0},{"$f":"-Fund!V1886","v":0},{"$f":"Fund!V1886","v":0},{"$f":"Fund!P1886","v":""}]
[null,null,null,null,null,null,null,null,null,null,null,null,{"$f":"Fund!W1887","v":"00:00:00"},{"$f":"Fund!X1887","v":0},{"$f":"-Fund!V1887","v":0},{"$f":"Fund!V1887","v":0},{"$f":"Fund!P1887","v":""}]
[null,null,null,null,null,null,null,null,null,null,null,null,{"$f":"Fund!W1888","v":"00:00:00"},{"$f":"Fund!X1888","v":0},{"$f":"-Fund!V1888","v":0},{"$f":"Fund!V1888","v":0},{"$f":"Fund!P1888","v":""}]
[null,null,null,null,null,null,null,null,null,null,null,null,{"$f":"Fund!W1889","v":"00:00:00"},{"$f":"Fund!X1889","v":0},{"$f":"-Fund!V1889","v":0},{"$f":"Fund!V1889","v":0},{"$f":"Fund!P1889","v":""}]
[null,null,null,null,null,null,null,null,null,null,null,null,{"$f":"Fund!W1890","v":"00:00:00"},{"$f":"Fund!X1890","v":0},{"$f":"-Fund!V1890","v":0},{"$f":"Fund!V1890","v":0},{"$f":"Fund!P1890","v":""}]
[null,null,null,null,null,null,null,null,null,null,null,null,{"$f":"Fund!W1891","v":"00:00:00"},{"$f":"Fund!X1891","v":0},{"$f":"-Fund!V1891","v":0},{"$f":"Fund!V1891","v":0},{"$f":"Fund!P1891","v":""}]
[null,null,null,null,null,null,null,null,null,null,null,null,{"$f":"Fund!W1892","v":"00:00:00"},{"$f":"Fund!X1892","v":0},{"$f":"-Fund!V1892","v":0},{"$f":"Fund!V1892","v":0},{"$f":"Fund!P1892","v":""}]
[null,null,null,null,null,null,null,null,null,null,null,null,{"$f":"Fund!W1893","v":"00:00:00"},{"$f":"Fund!X1893","v":0},{"$f":"-Fund!V1893","v":0},{"$f":"Fund!V1893","v":0},{"$f":"Fund!P1893","v":""}]
[null,null,null,null,null,null,null,null,null,null,null,null,{"$f":"Fund!W1894","v":"00:00:00"},{"$f":"Fund!X1894","v":0},{"$f":"-Fund!V1894","v":0},{"$f":"Fund!V1894","v":0},{"$f":"Fund!P1894","v":""}]
[null,null,null,null,null,null,null,null,null,null,null,null,{"$f":"Fund!W1895","v":"00:00:00"},{"$f":"Fund!X1895","v":0},{"$f":"-Fund!V1895","v":0},{"$f":"Fund!V1895","v":0},{"$f":"Fund!P1895","v":""}]
[null,null,null,null,null,null,null,null,null,null,null,null,{"$f":"Fund!W1896","v":"00:00:00"},{"$f":"Fund!X1896","v":0},{"$f":"-Fund!V1896","v":0},{"$f":"Fund!V1896","v":0},{"$f":"Fund!P1896","v":""}]
[null,null,null,null,null,null,null,null,null,null,null,null,{"$f":"Fund!W1897","v":"00:00:00"},{"$f":"Fund!X1897","v":0},{"$f":"-Fund!V1897","v":0},{"$f":"Fund!V1897","v":0},{"$f":"Fund!P1897","v":""}]
[null,null,null,null,null,null,null,null,null,null,null,null,{"$f":"Fund!W1898","v":"00:00:00"},{"$f":"Fund!X1898","v":0},{"$f":"-Fund!V1898","v":0},{"$f":"Fund!V1898","v":0},{"$f":"Fund!P1898","v":""}]
[null,null,null,null,null,null,null,null,null,null,null,null,{"$f":"Fund!W1899","v":"00:00:00"},{"$f":"Fund!X1899","v":0},{"$f":"-Fund!V1899","v":0},{"$f":"Fund!V1899","v":0},{"$f":"Fund!P1899","v":""}]
[null,null,null,null,null,null,null,null,null,null,null,null,{"$f":"Fund!W1900","v":"2013-10-07"},{"$f":"Fund!X1900","v":36.775700000000001},{"$f":"-Fund!V1900","v":1000},{"$f":"Fund!V1900","v":-1000},{"$f":"Fund!P1900","v":27.191868543630711}]
[null,null,null,null,null,null,null,null,null,null,null,null,{"$f":"Fund!W1901","v":"00:00:00"},{"$f":"Fund!X1901","v":0},{"$f":"-Fund!V1901","v":0},{"$f":"Fund!V1901","v":0},{"$f":"Fund!P1901","v":""}]
[null,null,null,null,null,null,null,null,null,null,null,null,{"$f":"Fund!W1902","v":"00:00:00"},{"$f":"Fund!X1902","v":0},{"$f":"-Fund!V1902","v":0},{"$f":"Fund!V1902","v":0},{"$f":"Fund!P1902","v":""}]
[null,null,null,null,null,null,null,null,null,null,null,null,{"$f":"Fund!W1903","v":"00:00:00"},{"$f":"Fund!X1903","v":0},{"$f":"-Fund!V1903","v":0},{"$f":"Fund!V1903","v":0},{"$f":"Fund!P1903","v":""}]
[null,null,null,null,null,null,null,null,null,null,null,null,{"$f":"Fund!W1904","v":"00:00:00"},{"$f":"Fund!X1904","v":0},{"$f":"-Fund!V1904","v":0},{"$f":"Fund!V1904","v":0},{"$f":"Fund!P1904","v":""}]
[null,null,null,null,null,null,null,null,null,null,null,null,{"$f":"Fund!W1905","v":"00:00:00"},{"$f":"Fund!X1905","v":0},{"$f":"-Fund!V1905","v":0},{"$f":"Fund!V1905","v":0},{"$f":"Fund!P1905","v":""}]
[null,null,null,null,null,null,null,null,null,null,null,null,{"$f":"Fund!W1906","v":"00:00:00"},{"$f":"Fund!X1906","v":0},{"$f":"-Fund!V1906","v":0},{"$f":"Fund!V1906","v":0},{"$f":"Fund!P1906","v":""}]
[null,null,null,null,null,null,null,null,null,null,null,null,{"$f":"Fund!W1907","v":"00:00:00"},{"$f":"Fund!X1907","v":0},{"$f":"-Fund!V1907","v":0},{"$f":"Fund!V1907","v":0},{"$f":"Fund!P1907","v":""}]
[null,null,null,null,null,null,null,null,null,null,null,null,{"$f":"Fund!W1908","v":"00:00:00"},{"$f":"Fund!X1908","v":0},{"$f":"-Fund!V1908","v":0},{"$f":"Fund!V1908","v":0},{"$f":"Fund!P1908","v":""}]
[null,null,null,null,null,null,null,null,null,null,null,null,{"$f":"Fund!W1909","v":"00:00:00"},{"$f":"Fund!X1909","v":0},{"$f":"-Fund!V1909","v":0},{"$f":"Fund!V1909","v":0},{"$f":"Fund!P1909","v":""}]
[null,null,null,null,null,null,null,null,null,null,null,null,{"$f":"Fund!W1910","v":"00:00:00"},{"$f":"Fund!X1910","v":0},{"$f":"-Fund!V1910","v":0},{"$f":"Fund!V1910","v":0},{"$f":"Fund!P1910","v":""}]
[null,null,null,null,null,null,null,null,null,null,null,null,{"$f":"Fund!W1911","v":"00:00:00"},{"$f":"Fund!X1911","v":0},{"$f":"-Fund!V1911","v":0},{"$f":"Fund!V1911","v":0},{"$f":"Fund!P1911","v":""}]
[null,null,null,null,null,null,null,null,null,null,null,null,{"$f":"Fund!W1912","v":"00:00:00"},{"$f":"Fund!X1912","v":0},{"$f":"-Fund!V1912","v":0},{"$f":"Fund!V1912","v":0},{"$f":"Fund!P1912","v":""}]
[null,null,null,null,null,null,null,null,null,null,null,null,{"$f":"Fund!W1913","v":"00:00:00"},{"$f":"Fund!X1913","v":0},{"$f":"-Fund!V1913","v":0},{"$f":"Fund!V1913","v":0},{"$f":"Fund!P1913","v":""}]
[null,null,null,null,null,null,null,null,null,null,null,null,{"$f":"Fund!W1914","v":"00:00:00"},{"$f":"Fund!X1914","v":0},{"$f":"-Fund!V1914","v":0},{"$f":"Fund!V1914","v":0},{"$f":"Fund!P1914","v":""}]
[null,null,null,null,null,null,null,null,null,null,null,null,{"$f":"Fund!W1915","v":"00:00:00"},{"$f":"Fund!X1915","v":0},{"$f":"-Fund!V1915","v":0},{"$f":"Fund!V1915","v":0},{"$f":"Fund!P1915","v":""}]
[null,null,null,null,null,null,null,null,null,null,null,null,{"$f":"Fund!W1916","v":"00:00:00"},{"$f":"Fund!X1916","v":0},{"$f":"-Fund!V1916","v":0},{"$f":"Fund!V1916","v":0},{"$f":"Fund!P1916","v":""}]
[null,null,null,null,null,null,null,null,null,null,null,null,{"$f":"Fund!W1917","v":"00:00:00"},{"$f":"Fund!X1917","v":0},{"$f":"-Fund!V1917","v":0},{"$f":"Fund!V1917","v":0},{"$f":"Fund!P1917","v":""}]
[null,null,null,null,null,null,null,null,null,null,null,null,{"$f":"Fund!W1918","v":"00:00:00"},{"$f":"Fund!X1918","v":0},{"$f":"-Fund!V1918","v":0},{"$f":"Fund!V1918","v":0},{"$f":"Fund!P1918","v":""}]
[null,null,null,null,null,null,null,null,null,null,null,null,{"$f":"Fund!W1919","v":"2013-11-06"},{"$f":"Fund!X1919","v":39.598700000000001},{"$f":"-Fund!V1919","v":1000},{"$f":"Fund!V1919","v":-1000},{"$f":"Fund!P1919","v":25.253354276781813}]
[null,null,null,null,null,null,null,null,null,null,null,null,{"$f":"Fund!W1920","v":"00:00:00"},{"$f":"Fund!X1920","v":0},{"$f":"-Fund!V1920","v":0},{"$f":"Fund!V1920","v":0},{"$f":"Fund!P1920","v":""}]
[null,null,null,null,null,null,null,null,null,null,null,null,{"$f":"Fund!W1921","v":"00:00:00"},{"$f":"Fund!X1921","v":0},{"$f":"-Fund!V1921","v":0},{"$f":"Fund!V1921","v":0},{"$f":"Fund!P1921","v":""}]
[null,null,null,null,null,null,null,null,null,null,null,null,{"$f":"Fund!W1922","v":"00:00:00"},{"$f":"Fund!X1922","v":0},{"$f":"-Fund!V1922","v":0},{"$f":"Fund!V1922","v":0},{"$f":"Fund!P1922","v":""}]
[null,null,null,null,null,null,null,null,null,null,null,null,{"$f":"Fund!W1923","v":"00:00:00"},{"$f":"Fund!X1923","v":0},{"$f":"-Fund!V1923","v":0},{"$f":"Fund!V1923","v":0},{"$f":"Fund!P1923","v":""}]
[null,null,null,null,null,null,null,null,null,null,null,null,{"$f":"Fund!W1924","v":"00:00:00"},{"$f":"Fund!X1924","v":0},{"$f":"-Fund!V1924","v":0},{"$f":"Fund!V1924","v":0},{"$f":"Fund!P1924","v":""}]
[null,null,null,null,null,null,null,null,null,null,null,null,{"$f":"Fund!W1925","v":"00:00:00"},{"$f":"Fund!X1925","v":0},{"$f":"-Fund!V1925","v":0},{"$f":"Fund!V1925","v":0},{"$f":"Fund!P1925","v":""}]
[null,null,null,null,null,null,null,null,null,null,null,null,{"$f":"Fund!W1926","v":"00:00:00"},{"$f":"Fund!X1926","v":0},{"$f":"-Fund!V1926","v":0},{"$f":"Fund!V1926","v":0},{"$f":"Fund!P1926","v":""}]
[null,null,null,null,null,null,null,null,null,null,null,null,{"$f":"Fund!W1927","v":"00:00:00"},{"$f":"Fund!X1927","v":0},{"$f":"-Fund!V1927","v":0},{"$f":"Fund!V1927","v":0},{"$f":"Fund!P1927","v":""}]
[null,null,null,null,null,null,null,null,null,null,null,null,{"$f":"Fund!W1928","v":"00:00:00"},{"$f":"Fund!X1928","v":0},{"$f":"-Fund!V1928","v":0},{"$f":"Fund!V1928","v":0},{"$f":"Fund!P1928","v":""}]
[null,null,null,null,null,null,null,null,null,null,null,null,{"$f":"Fund!W1929","v":"00:00:00"},{"$f":"Fund!X1929","v":0},{"$f":"-Fund!V1929","v":0},{"$f":"Fund!V1929","v":0},{"$f":"Fund!P1929","v":""}]
[null,null,null,null,null,null,null,null,null,null,null,null,{"$f":"Fund!W1930","v":"00:00:00"},{"$f":"Fund!X1930","v":0},{"$f":"-Fund!V1930","v":0},{"$f":"Fund!V1930","v":0},{"$f":"Fund!P1930","v":""}]
[null,null,null,null,null,null,null,null,null,null,null,null,{"$f":"Fund!W1931","v":"00:00:00"},{"$f":"Fund!X1931","v":0},{"$f":"-Fund!V1931","v":0},{"$f":"Fund!V1931","v":0},{"$f":"Fund!P1931","v":""}]
[null,null,null,null,null,null,null,null,null,null,null,null,{"$f":"Fund!W1932","v":"00:00:00"},{"$f":"Fund!X1932","v":0},{"$f":"-Fund!V1932","v":0},{"$f":"Fund!V1932","v":0},{"$f":"Fund!P1932","v":""}]
[null,null,null,null,null,null,null,null,null,null,null,null,{"$f":"Fund!W1933","v":"00:00:00"},{"$f":"Fund!X1933","v":0},{"$f":"-Fund!V1933","v":0},{"$f":"Fund!V1933","v":0},{"$f":"Fund!P1933","v":""}]
[null,null,null,null,null,null,null,null,null,null,null,null,{"$f":"Fund!W1934","v":"00:00:00"},{"$f":"Fund!X1934","v":0},{"$f":"-Fund!V1934","v":0},{"$f":"Fund!V1934","v":0},{"$f":"Fund!P1934","v":""}]
[null,null,null,null,null,null,null,null,null,null,null,null,{"$f":"Fund!W1935","v":"00:00:00"},{"$f":"Fund!X1935","v":0},{"$f":"-Fund!V1935","v":0},{"$f":"Fund!V1935","v":0},{"$f":"Fund!P1935","v":""}]
[null,null,null,null,null,null,null,null,null,null,null,null,{"$f":"Fund!W1936","v":"00:00:00"},{"$f":"Fund!X1936","v":0},{"$f":"-Fund!V1936","v":0},{"$f":"Fund!V1936","v":0},{"$f":"Fund!P1936","v":""}]
[null,null,null,null,null,null,null,null,null,null,null,null,{"$f":"Fund!W1937","v":"00:00:00"},{"$f":"Fund!X1937","v":0},{"$f":"-Fund!V1937","v":0},{"$f":"Fund!V1937","v":0},{"$f":"Fund!P1937","v":""}]
[null,null,null,null,null,null,null,null,null,null,null,null,{"$f":"Fund!W1938","v":"2013-12-06"},{"$f":"Fund!X1938","v":40.933700000000002},{"$f":"-Fund!V1938","v":1000},{"$f":"Fund!V1938","v":-1000},{"$f":"Fund!P1938","v":24.429748593457223}]
[null,null,null,null,null,null,null,null,null,null,null,null,{"$f":"Fund!W1939","v":"00:00:00"},{"$f":"Fund!X1939","v":0},{"$f":"-Fund!V1939","v":0},{"$f":"Fund!V1939","v":0},{"$f":"Fund!P1939","v":""}]
[null,null,null,null,null,null,null,null,null,null,null,null,{"$f":"Fund!W1940","v":"00:00:00"},{"$f":"Fund!X1940","v":0},{"$f":"-Fund!V1940","v":0},{"$f":"Fund!V1940","v":0},{"$f":"Fund!P1940","v":""}]
[null,null,null,null,null,null,null,null,null,null,null,null,{"$f":"Fund!W1941","v":"00:00:00"},{"$f":"Fund!X1941","v":0},{"$f":"-Fund!V1941","v":0},{"$f":"Fund!V1941","v":0},{"$f":"Fund!P1941","v":""}]
[null,null,null,null,null,null,null,null,null,null,null,null,{"$f":"Fund!W1942","v":"00:00:00"},{"$f":"Fund!X1942","v":0},{"$f":"-Fund!V1942","v":0},{"$f":"Fund!V1942","v":0},{"$f":"Fund!P1942","v":""}]
[null,null,null,null,null,null,null,null,null,null,null,null,{"$f":"Fund!W1943","v":"00:00:00"},{"$f":"Fund!X1943","v":0},{"$f":"-Fund!V1943","v":0},{"$f":"Fund!V1943","v":0},{"$f":"Fund!P1943","v":""}]
[null,null,null,null,null,null,null,null,null,null,null,null,{"$f":"Fund!W1944","v":"00:00:00"},{"$f":"Fund!X1944","v":0},{"$f":"-Fund!V1944","v":0},{"$f":"Fund!V1944","v":0},{"$f":"Fund!P1944","v":""}]
[null,null,null,null,null,null,null,null,null,null,null,null,{"$f":"Fund!W1945","v":"00:00:00"},{"$f":"Fund!X1945","v":0},{"$f":"-Fund!V1945","v":0},{"$f":"Fund!V1945","v":0},{"$f":"Fund!P1945","v":""}]
[null,null,null,null,null,null,null,null,null,null,null,null,{"$f":"Fund!W1946","v":"00:00:00"},{"$f":"Fund!X1946","v":0},{"$f":"-Fund!V1946","v":0},{"$f":"Fund!V1946","v":0},{"$f":"Fund!P1946","v":""}]
[null,null,null,null,null,null,null,null,null,null,null,null,{"$f":"Fund!W1947","v":"00:00:00"},{"$f":"Fund!X1947","v":0},{"$f":"-Fund!V1947","v":0},{"$f":"Fund!V1947","v":0},{"$f":"Fund!P1947","v":""}]
[null,null,null,null,null,null,null,null,null,null,null,null,{"$f":"Fund!W1948","v":"00:00:00"},{"$f":"Fund!X1948","v":0},{"$f":"-Fund!V1948","v":0},{"$f":"Fund!V1948","v":0},{"$f":"Fund!P1948","v":""}]
[null,null,null,null,null,null,null,null,null,null,null,null,{"$f":"Fund!W1949","v":"00:00:00"},{"$f":"Fund!X1949","v":0},{"$f":"-Fund!V1949","v":0},{"$f":"Fund!V1949","v":0},{"$f":"Fund!P1949","v":""}]
[null,null,null,null,null,null,null,null,null,null,null,null,{"$f":"Fund!W1950","v":"00:00:00"},{"$f":"Fund!X1950","v":0},{"$f":"-Fund!V1950","v":0},{"$f":"Fund!V1950","v":0},{"$f":"Fund!P1950","v":""}]
[null,null,null,null,null,null,null,null,null,null,null,null,{"$f":"Fund!W1951","v":"00:00:00"},{"$f":"Fund!X1951","v":0},{"$f":"-Fund!V1951","v":0},{"$f":"Fund!V1951","v":0},{"$f":"Fund!P1951","v":""}]
[null,null,null,null,null,null,null,null,null,null,null,null,{"$f":"Fund!W1952","v":"00:00:00"},{"$f":"Fund!X1952","v":0},{"$f":"-Fund!V1952","v":0},{"$f":"Fund!V1952","v":0},{"$f":"Fund!P1952","v":""}]
[null,null,null,null,null,null,null,null,null,null,null,null,{"$f":"Fund!W1953","v":"00:00:00"},{"$f":"Fund!X1953","v":0},{"$f":"-Fund!V1953","v":0},{"$f":"Fund!V1953","v":0},{"$f":"Fund!P1953","v":""}]
[null,null,null,null,null,null,null,null,null,null,null,null,{"$f":"Fund!W1954","v":"00:00:00"},{"$f":"Fund!X1954","v":0},{"$f":"-Fund!V1954","v":0},{"$f":"Fund!V1954","v":0},{"$f":"Fund!P1954","v":""}]
[null,null,null,null,null,null,null,null,null,null,null,null,{"$f":"Fund!W1955","v":"00:00:00"},{"$f":"Fund!X1955","v":0},{"$f":"-Fund!V1955","v":0},{"$f":"Fund!V1955","v":0},{"$f":"Fund!P1955","v":""}]
[null,null,null,null,null,null,null,null,null,null,null,null,{"$f":"Fund!W1956","v":"00:00:00"},{"$f":"Fund!X1956","v":0},{"$f":"-Fund!V1956","v":0},{"$f":"Fund!V1956","v":0},{"$f":"Fund!P1956","v":""}]
[null,null,null,null,null,null,null,null,null,null,null,null,{"$f":"Fund!W1957","v":"2014-01-06"},{"$f":"Fund!X1957","v":42.097700000000003},{"$f":"-Fund!V1957","v":1000},{"$f":"Fund!V1957","v":-1000},{"$f":"Fund!P1957","v":23.75426686018476}]
[null,null,null,null,null,null,null,null,null,null,null,null,{"$f":"Fund!W1958","v":"00:00:00"},{"$f":"Fund!X1958","v":0},{"$f":"-Fund!V1958","v":0},{"$f":"Fund!V1958","v":0},{"$f":"Fund!P1958","v":""}]
[null,null,null,null,null,null,null,null,null,null,null,null,{"$f":"Fund!W1959","v":"00:00:00"},{"$f":"Fund!X1959","v":0},{"$f":"-Fund!V1959","v":0},{"$f":"Fund!V1959","v":0},{"$f":"Fund!P1959","v":""}]
[null,null,null,null,null,null,null,null,null,null,null,null,{"$f":"Fund!W1960","v":"00:00:00"},{"$f":"Fund!X1960","v":0},{"$f":"-Fund!V1960","v":0},{"$f":"Fund!V1960","v":0},{"$f":"Fund!P1960","v":""}]
[null,null,null,null,null,null,null,null,null,null,null,null,{"$f":"Fund!W1961","v":"00:00:00"},{"$f":"Fund!X1961","v":0},{"$f":"-Fund!V1961","v":0},{"$f":"Fund!V1961","v":0},{"$f":"Fund!P1961","v":""}]
[null,null,null,null,null,null,null,null,null,null,null,null,{"$f":"Fund!W1962","v":"00:00:00"},{"$f":"Fund!X1962","v":0},{"$f":"-Fund!V1962","v":0},{"$f":"Fund!V1962","v":0},{"$f":"Fund!P1962","v":""}]
[null,null,null,null,null,null,null,null,null,null,null,null,{"$f":"Fund!W1963","v":"00:00:00"},{"$f":"Fund!X1963","v":0},{"$f":"-Fund!V1963","v":0},{"$f":"Fund!V1963","v":0},{"$f":"Fund!P1963","v":""}]
[null,null,null,null,null,null,null,null,null,null,null,null,{"$f":"Fund!W1964","v":"00:00:00"},{"$f":"Fund!X1964","v":0},{"$f":"-Fund!V1964","v":0},{"$f":"Fund!V1964","v":0},{"$f":"Fund!P1964","v":""}]
[null,null,null,null,null,null,null,null,null,null,null,null,{"$f":"Fund!W1965","v":"00:00:00"},{"$f":"Fund!X1965","v":0},{"$f":"-Fund!V1965","v":0},{"$f":"Fund!V1965","v":0},{"$f":"Fund!P1965","v":""}]
[null,null,null,null,null,null,null,null,null,null,null,null,{"$f":"Fund!W1966","v":"00:00:00"},{"$f":"Fund!X1966","v":0},{"$f":"-Fund!V1966","v":0},{"$f":"Fund!V1966","v":0},{"$f":"Fund!P1966","v":""}]
[null,null,null,null,null,null,null,null,null,null,null,null,{"$f":"Fund!W1967","v":"00:00:00"},{"$f":"Fund!X1967","v":0},{"$f":"-Fund!V1967","v":0},{"$f":"Fund!V1967","v":0},{"$f":"Fund!P1967","v":""}]
[null,null,null,null,null,null,null,null,null,null,null,null,{"$f":"Fund!W1968","v":"00:00:00"},{"$f":"Fund!X1968","v":0},{"$f":"-Fund!V1968","v":0},{"$f":"Fund!V1968","v":0},{"$f":"Fund!P1968","v":""}]
[null,null,null,null,null,null,null,null,null,null,null,null,{"$f":"Fund!W1969","v":"00:00:00"},{"$f":"Fund!X1969","v":0},{"$f":"-Fund!V1969","v":0},{"$f":"Fund!V1969","v":0},{"$f":"Fund!P1969","v":""}]
[null,null,null,null,null,null,null,null,null,null,null,null,{"$f":"Fund!W1970","v":"00:00:00"},{"$f":"Fund!X1970","v":0},{"$f":"-Fund!V1970","v":0},{"$f":"Fund!V1970","v":0},{"$f":"Fund!P1970","v":""}]
[null,null,null,null,null,null,null,null,null,null,null,null,{"$f":"Fund!W1971","v":"00:00:00"},{"$f":"Fund!X1971","v":0},{"$f":"-Fund!V1971","v":0},{"$f":"Fund!V1971","v":0},{"$f":"Fund!P1971","v":""}]
[null,null,null,null,null,null,null,null,null,null,null,null,{"$f":"Fund!W1972","v":"00:00:00"},{"$f":"Fund!X1972","v":0},{"$f":"-Fund!V1972","v":0},{"$f":"Fund!V1972","v":0},{"$f":"Fund!P1972","v":""}]
[null,null,null,null,null,null,null,null,null,null,null,null,{"$f":"Fund!W1973","v":"00:00:00"},{"$f":"Fund!X1973","v":0},{"$f":"-Fund!V1973","v":0},{"$f":"Fund!V1973","v":0},{"$f":"Fund!P1973","v":""}]
[null,null,null,null,null,null,null,null,null,null,null,null,{"$f":"Fund!W1974","v":"00:00:00"},{"$f":"Fund!X1974","v":0},{"$f":"-Fund!V1974","v":0},{"$f":"Fund!V1974","v":0},{"$f":"Fund!P1974","v":""}]
[null,null,null,null,null,null,null,null,null,null,null,null,{"$f":"Fund!W1975","v":"00:00:00"},{"$f":"Fund!X1975","v":0},{"$f":"-Fund!V1975","v":0},{"$f":"Fund!V1975","v":0},{"$f":"Fund!P1975","v":""}]
[null,null,null,null,null,null,null,null,null,null,null,null,{"$f":"Fund!W1976","v":"00:00:00"},{"$f":"Fund!X1976","v":0},{"$f":"-Fund!V1976","v":0},{"$f":"Fund!V1976","v":0},{"$f":"Fund!P1976","v":""}]
[null,null,null,null,null,null,null,null,null,null,null,null,{"$f":"Fund!W1977","v":"00:00:00"},{"$f":"Fund!X1977","v":0},{"$f":"-Fund!V1977","v":0},{"$f":"Fund!V1977","v":0},{"$f":"Fund!P1977","v":""}]
[null,null,null,null,null,null,null,null,null,null,null,null,{"$f":"Fund!W1978","v":"00:00:00"},{"$f":"Fund!X1978","v":0},{"$f":"-Fund!V1978","v":0},{"$f":"Fund!V1978","v":0},{"$f":"Fund!P1978","v":""}]
[null,null,null,null,null,null,null,null,null,null,null,null,{"$f":"Fund!W1979","v":"2014-02-06"},{"$f":"Fund!X1979","v":41.517499999999998},{"$f":"-Fund!V1979","v":1000},{"$f":"Fund!V1979","v":-1000},{"$f":"Fund!P1979","v":24.086228698741497}]
[null,null,null,null,null,null,null,null,null,null,null,null,{"$f":"Fund!W1980","v":"00:00:00"},{"$f":"Fund!X1980","v":0},{"$f":"-Fund!V1980","v":0},{"$f":"Fund!V1980","v":0},{"$f":"Fund!P1980","v":""}]
[null,null,null,null,null,null,null,null,null,null,null,null,{"$f":"Fund!W1981","v":"00:00:00"},{"$f":"Fund!X1981","v":0},{"$f":"-Fund!V1981","v":0},{"$f":"Fund!V1981","v":0},{"$f":"Fund!P1981","v":""}]
[null,null,null,null,null,null,null,null,null,null,null,null,{"$f":"Fund!W1982","v":"00:00:00"},{"$f":"Fund!X1982","v":0},{"$f":"-Fund!V1982","v":0},{"$f":"Fund!V1982","v":0},{"$f":"Fund!P1982","v":""}]
[null,null,null,null,null,null,null,null,null,null,null,null,{"$f":"Fund!W1983","v":"00:00:00"},{"$f":"Fund!X1983","v":0},{"$f":"-Fund!V1983","v":0},{"$f":"Fund!V1983","v":0},{"$f":"Fund!P1983","v":""}]
[null,null,null,null,null,null,null,null,null,null,null,null,{"$f":"Fund!W1984","v":"00:00:00"},{"$f":"Fund!X1984","v":0},{"$f":"-Fund!V1984","v":0},{"$f":"Fund!V1984","v":0},{"$f":"Fund!P1984","v":""}]
[null,null,null,null,null,null,null,null,null,null,null,null,{"$f":"Fund!W1985","v":"00:00:00"},{"$f":"Fund!X1985","v":0},{"$f":"-Fund!V1985","v":0},{"$f":"Fund!V1985","v":0},{"$f":"Fund!P1985","v":""}]
[null,null,null,null,null,null,null,null,null,null,null,null,{"$f":"Fund!W1986","v":"00:00:00"},{"$f":"Fund!X1986","v":0},{"$f":"-Fund!V1986","v":0},{"$f":"Fund!V1986","v":0},{"$f":"Fund!P1986","v":""}]
[null,null,null,null,null,null,null,null,null,null,null,null,{"$f":"Fund!W1987","v":"00:00:00"},{"$f":"Fund!X1987","v":0},{"$f":"-Fund!V1987","v":0},{"$f":"Fund!V1987","v":0},{"$f":"Fund!P1987","v":""}]
[null,null,null,null,null,null,null,null,null,null,null,null,{"$f":"Fund!W1988","v":"00:00:00"},{"$f":"Fund!X1988","v":0},{"$f":"-Fund!V1988","v":0},{"$f":"Fund!V1988","v":0},{"$f":"Fund!P1988","v":""}]
[null,null,null,null,null,null,null,null,null,null,null,null,{"$f":"Fund!W1989","v":"00:00:00"},{"$f":"Fund!X1989","v":0},{"$f":"-Fund!V1989","v":0},{"$f":"Fund!V1989","v":0},{"$f":"Fund!P1989","v":""}]
[null,null,null,null,null,null,null,null,null,null,null,null,{"$f":"Fund!W1990","v":"00:00:00"},{"$f":"Fund!X1990","v":0},{"$f":"-Fund!V1990","v":0},{"$f":"Fund!V1990","v":0},{"$f":"Fund!P1990","v":""}]
[null,null,null,null,null,null,null,null,null,null,null,null,{"$f":"Fund!W1991","v":"00:00:00"},{"$f":"Fund!X1991","v":0},{"$f":"-Fund!V1991","v":0},{"$f":"Fund!V1991","v":0},{"$f":"Fund!P1991","v":""}]
[null,null,null,null,null,null,null,null,null,null,null,null,{"$f":"Fund!W1992","v":"00:00:00"},{"$f":"Fund!X1992","v":0},{"$f":"-Fund!V1992","v":0},{"$f":"Fund!V1992","v":0},{"$f":"Fund!P1992","v":""}]
[null,null,null,null,null,null,null,null,null,null,null,null,{"$f":"Fund!W1993","v":"00:00:00"},{"$f":"Fund!X1993","v":0},{"$f":"-Fund!V1993","v":0},{"$f":"Fund!V1993","v":0},{"$f":"Fund!P1993","v":""}]
[null,null,null,null,null,null,null,null,null,null,null,null,{"$f":"Fund!W1994","v":"00:00:00"},{"$f":"Fund!X1994","v":0},{"$f":"-Fund!V1994","v":0},{"$f":"Fund!V1994","v":0},{"$f":"Fund!P1994","v":""}]
[null,null,null,null,null,null,null,null,null,null,null,null,{"$f":"Fund!W1995","v":"2014-03-06"},{"$f":"Fund!X1995","v":44.2729},{"$f":"-Fund!V1995","v":1000},{"$f":"Fund!V1995","v":-1000},{"$f":"Fund!P1995","v":22.587180871368265}]
[null,null,null,null,null,null,null,null,null,null,null,null,{"$f":"Fund!W1996","v":"00:00:00"},{"$f":"Fund!X1996","v":0},{"$f":"-Fund!V1996","v":0},{"$f":"Fund!V1996","v":0},{"$f":"Fund!P1996","v":""}]
[null,null,null,null,null,null,null,null,null,null,null,null,{"$f":"Fund!W1997","v":"00:00:00"},{"$f":"Fund!X1997","v":0},{"$f":"-Fund!V1997","v":0},{"$f":"Fund!V1997","v":0},{"$f":"Fund!P1997","v":""}]
[null,null,null,null,null,null,null,null,null,null,null,null,{"$f":"Fund!W1998","v":"00:00:00"},{"$f":"Fund!X1998","v":0},{"$f":"-Fund!V1998","v":0},{"$f":"Fund!V1998","v":0},{"$f":"Fund!P1998","v":""}]
[null,null,null,null,null,null,null,null,null,null,null,null,{"$f":"Fund!W1999","v":"00:00:00"},{"$f":"Fund!X1999","v":0},{"$f":"-Fund!V1999","v":0},{"$f":"Fund!V1999","v":0},{"$f":"Fund!P1999","v":""}]
[null,null,null,null,null,null,null,null,null,null,null,null,{"$f":"Fund!W2000","v":"00:00:00"},{"$f":"Fund!X2000","v":0},{"$f":"-Fund!V2000","v":0},{"$f":"Fund!V2000","v":0},{"$f":"Fund!P2000","v":""}]
[null,null,null,null,null,null,null,null,null,null,null,null,{"$f":"Fund!W2001","v":"00:00:00"},{"$f":"Fund!X2001","v":0},{"$f":"-Fund!V2001","v":0},{"$f":"Fund!V2001","v":0},{"$f":"Fund!P2001","v":""}]
[null,null,null,null,null,null,null,null,null,null,null,null,{"$f":"Fund!W2002","v":"00:00:00"},{"$f":"Fund!X2002","v":0},{"$f":"-Fund!V2002","v":0},{"$f":"Fund!V2002","v":0},{"$f":"Fund!P2002","v":""}]
[null,null,null,null,null,null,null,null,null,null,null,null,{"$f":"Fund!W2003","v":"00:00:00"},{"$f":"Fund!X2003","v":0},{"$f":"-Fund!V2003","v":0},{"$f":"Fund!V2003","v":0},{"$f":"Fund!P2003","v":""}]
[null,null,null,null,null,null,null,null,null,null,null,null,{"$f":"Fund!W2004","v":"00:00:00"},{"$f":"Fund!X2004","v":0},{"$f":"-Fund!V2004","v":0},{"$f":"Fund!V2004","v":0},{"$f":"Fund!P2004","v":""}]
[null,null,null,null,null,null,null,null,null,null,null,null,{"$f":"Fund!W2005","v":"00:00:00"},{"$f":"Fund!X2005","v":0},{"$f":"-Fund!V2005","v":0},{"$f":"Fund!V2005","v":0},{"$f":"Fund!P2005","v":""}]
[null,null,null,null,null,null,null,null,null,null,null,null,{"$f":"Fund!W2006","v":"00:00:00"},{"$f":"Fund!X2006","v":0},{"$f":"-Fund!V2006","v":0},{"$f":"Fund!V2006","v":0},{"$f":"Fund!P2006","v":""}]
[null,null,null,null,null,null,null,null,null,null,null,null,{"$f":"Fund!W2007","v":"00:00:00"},{"$f":"Fund!X2007","v":0},{"$f":"-Fund!V2007","v":0},{"$f":"Fund!V2007","v":0},{"$f":"Fund!P2007","v":""}]
[null,null,null,null,null,null,null,null,null,null,null,null,{"$f":"Fund!W2008","v":"00:00:00"},{"$f":"Fund!X2008","v":0},{"$f":"-Fund!V2008","v":0},{"$f":"Fund!V2008","v":0},{"$f":"Fund!P2008","v":""}]
[null,null,null,null,null,null,null,null,null,null,null,null,{"$f":"Fund!W2009","v":"00:00:00"},{"$f":"Fund!X2009","v":0},{"$f":"-Fund!V2009","v":0},{"$f":"Fund!V2009","v":0},{"$f":"Fund!P2009","v":""}]
[null,null,null,null,null,null,null,null,null,null,null,null,{"$f":"Fund!W2010","v":"00:00:00"},{"$f":"Fund!X2010","v":0},{"$f":"-Fund!V2010","v":0},{"$f":"Fund!V2010","v":0},{"$f":"Fund!P2010","v":""}]
[null,null,null,null,null,null,null,null,null,null,null,null,{"$f":"Fund!W2011","v":"00:00:00"},{"$f":"Fund!X2011","v":0},{"$f":"-Fund!V2011","v":0},{"$f":"Fund!V2011","v":0},{"$f":"Fund!P2011","v":""}]
[null,null,null,null,null,null,null,null,null,null,null,null,{"$f":"Fund!W2012","v":"00:00:00"},{"$f":"Fund!X2012","v":0},{"$f":"-Fund!V2012","v":0},{"$f":"Fund!V2012","v":0},{"$f":"Fund!P2012","v":""}]
[null,null,null,null,null,null,null,null,null,null,null,null,{"$f":"Fund!W2013","v":"2014-04-07"},{"$f":"Fund!X2013","v":46.008099999999999},{"$f":"-Fund!V2013","v":1000},{"$f":"Fund!V2013","v":-1000},{"$f":"Fund!P2013","v":21.735303131405121}]
[null,null,null,null,null,null,null,null,null,null,null,null,{"$f":"Fund!W2014","v":"00:00:00"},{"$f":"Fund!X2014","v":0},{"$f":"-Fund!V2014","v":0},{"$f":"Fund!V2014","v":0},{"$f":"Fund!P2014","v":""}]
[null,null,null,null,null,null,null,null,null,null,null,null,{"$f":"Fund!W2015","v":"00:00:00"},{"$f":"Fund!X2015","v":0},{"$f":"-Fund!V2015","v":0},{"$f":"Fund!V2015","v":0},{"$f":"Fund!P2015","v":""}]
[null,null,null,null,null,null,null,null,null,null,null,null,{"$f":"Fund!W2016","v":"00:00:00"},{"$f":"Fund!X2016","v":0},{"$f":"-Fund!V2016","v":0},{"$f":"Fund!V2016","v":0},{"$f":"Fund!P2016","v":""}]
[null,null,null,null,null,null,null,null,null,null,null,null,{"$f":"Fund!W2017","v":"00:00:00"},{"$f":"Fund!X2017","v":0},{"$f":"-Fund!V2017","v":0},{"$f":"Fund!V2017","v":0},{"$f":"Fund!P2017","v":""}]
[null,null,null,null,null,null,null,null,null,null,null,null,{"$f":"Fund!W2018","v":"00:00:00"},{"$f":"Fund!X2018","v":0},{"$f":"-Fund!V2018","v":0},{"$f":"Fund!V2018","v":0},{"$f":"Fund!P2018","v":""}]
[null,null,null,null,null,null,null,null,null,null,null,null,{"$f":"Fund!W2019","v":"00:00:00"},{"$f":"Fund!X2019","v":0},{"$f":"-Fund!V2019","v":0},{"$f":"Fund!V2019","v":0},{"$f":"Fund!P2019","v":""}]
[null,null,null,null,null,null,null,null,null,null,null,null,{"$f":"Fund!W2020","v":"00:00:00"},{"$f":"Fund!X2020","v":0},{"$f":"-Fund!V2020","v":0},{"$f":"Fund!V2020","v":0},{"$f":"Fund!P2020","v":""}]
[null,null,null,null,null,null,null,null,null,null,null,null,{"$f":"Fund!W2021","v":"00:00:00"},{"$f":"Fund!X2021","v":0},{"$f":"-Fund!V2021","v":0},{"$f":"Fund!V2021","v":0},{"$f":"Fund!P2021","v":""}]
[null,null,null,null,null,null,null,null,null,null,null,null,{"$f":"Fund!W2022","v":"00:00:00"},{"$f":"Fund!X2022","v":0},{"$f":"-Fund!V2022","v":0},{"$f":"Fund!V2022","v":0},{"$f":"Fund!P2022","v":""}]
[null,null,null,null,null,null,null,null,null,null,null,null,{"$f":"Fund!W2023","v":"00:00:00"},{"$f":"Fund!X2023","v":0},{"$f":"-Fund!V2023","v":0},{"$f":"Fund!V2023","v":0},{"$f":"Fund!P2023","v":""}]
[null,null,null,null,null,null,null,null,null,null,null,null,{"$f":"Fund!W2024","v":"00:00:00"},{"$f":"Fund!X2024","v":0},{"$f":"-Fund!V2024","v":0},{"$f":"Fund!V2024","v":0},{"$f":"Fund!P2024","v":""}]
[null,null,null,null,null,null,null,null,null,null,null,null,{"$f":"Fund!W2025","v":"00:00:00"},{"$f":"Fund!X2025","v":0},{"$f":"-Fund!V2025","v":0},{"$f":"Fund!V2025","v":0},{"$f":"Fund!P2025","v":""}]
[null,null,null,null,null,null,null,null,null,null,null,null,{"$f":"Fund!W2026","v":"00:00:00"},{"$f":"Fund!X2026","v":0},{"$f":"-Fund!V2026","v":0},{"$f":"Fund!V2026","v":0},{"$f":"Fund!P2026","v":""}]
[null,null,null,null,null,null,null,null,null,null,null,null,{"$f":"Fund!W2027","v":"00:00:00"},{"$f":"Fund!X2027","v":0},{"$f":"-Fund!V2027","v":0},{"$f":"Fund!V2027","v":0},{"$f":"Fund!P2027","v":""}]
[null,null,null,null,null,null,null,null,null,null,null,null,{"$f":"Fund!W2028","v":"00:00:00"},{"$f":"Fund!X2028","v":0},{"$f":"-Fund!V2028","v":0},{"$f":"Fund!V2028","v":0},{"$f":"Fund!P2028","v":""}]
[null,null,null,null,null,null,null,null,null,null,null,null,{"$f":"Fund!W2029","v":"2014-05-06"},{"$f":"Fund!X2029","v":45.974800000000002},{"$f":"-Fund!V2029","v":1000},{"$f":"Fund!V2029","v":-1000},{"$f":"Fund!P2029","v":21.751046225323439}]
[null,null,null,null,null,null,null,null,null,null,null,null,{"$f":"Fund!W2030","v":"00:00:00"},{"$f":"Fund!X2030","v":0},{"$f":"-Fund!V2030","v":0},{"$f":"Fund!V2030","v":0},{"$f":"Fund!P2030","v":""}]
[null,null,null,null,null,null,null,null,null,null,null,null,{"$f":"Fund!W2031","v":"00:00:00"},{"$f":"Fund!X2031","v":0},{"$f":"-Fund!V2031","v":0},{"$f":"Fund!V2031","v":0},{"$f":"Fund!P2031","v":""}]
[null,null,null,null,null,null,null,null,null,null,null,null,{"$f":"Fund!W2032","v":"00:00:00"},{"$f":"Fund!X2032","v":0},{"$f":"-Fund!V2032","v":0},{"$f":"Fund!V2032","v":0},{"$f":"Fund!P2032","v":""}]
[null,null,null,null,null,null,null,null,null,null,null,null,{"$f":"Fund!W2033","v":"00:00:00"},{"$f":"Fund!X2033","v":0},{"$f":"-Fund!V2033","v":0},{"$f":"Fund!V2033","v":0},{"$f":"Fund!P2033","v":""}]
[null,null,null,null,null,null,null,null,null,null,null,null,{"$f":"Fund!W2034","v":"00:00:00"},{"$f":"Fund!X2034","v":0},{"$f":"-Fund!V2034","v":0},{"$f":"Fund!V2034","v":0},{"$f":"Fund!P2034","v":""}]
[null,null,null,null,null,null,null,null,null,null,null,null,{"$f":"Fund!W2035","v":"00:00:00"},{"$f":"Fund!X2035","v":0},{"$f":"-Fund!V2035","v":0},{"$f":"Fund!V2035","v":0},{"$f":"Fund!P2035","v":""}]
[null,null,null,null,null,null,null,null,null,null,null,null,{"$f":"Fund!W2036","v":"00:00:00"},{"$f":"Fund!X2036","v":0},{"$f":"-Fund!V2036","v":0},{"$f":"Fund!V2036","v":0},{"$f":"Fund!P2036","v":""}]
[null,null,null,null,null,null,null,null,null,null,null,null,{"$f":"Fund!W2037","v":"00:00:00"},{"$f":"Fund!X2037","v":0},{"$f":"-Fund!V2037","v":0},{"$f":"Fund!V2037","v":0},{"$f":"Fund!P2037","v":""}]
[null,null,null,null,null,null,null,null,null,null,null,null,{"$f":"Fund!W2038","v":"00:00:00"},{"$f":"Fund!X2038","v":0},{"$f":"-Fund!V2038","v":0},{"$f":"Fund!V2038","v":0},{"$f":"Fund!P2038","v":""}]
[null,null,null,null,null,null,null,null,null,null,null,null,{"$f":"Fund!W2039","v":"00:00:00"},{"$f":"Fund!X2039","v":0},{"$f":"-Fund!V2039","v":0},{"$f":"Fund!V2039","v":0},{"$f":"Fund!P2039","v":""}]
[null,null,null,null,null,null,null,null,null,null,null,null,{"$f":"Fund!W2040","v":"00:00:00"},{"$f":"Fund!X2040","v":0},{"$f":"-Fund!V2040","v":0},{"$f":"Fund!V2040","v":0},{"$f":"Fund!P2040","v":""}]
[null,null,null,null,null,null,null,null,null,null,null,null,{"$f":"Fund!W2041","v":"00:00:00"},{"$f":"Fund!X2041","v":0},{"$f":"-Fund!V2041","v":0},{"$f":"Fund!V2041","v":0},{"$f":"Fund!P2041","v":""}]
[null,null,null,null,null,null,null,null,null,null,null,null,{"$f":"Fund!W2042","v":"00:00:00"},{"$f":"Fund!X2042","v":0},{"$f":"-Fund!V2042","v":0},{"$f":"Fund!V2042","v":0},{"$f":"Fund!P2042","v":""}]
[null,null,null,null,null,null,null,null,null,null,null,null,{"$f":"Fund!W2043","v":"00:00:00"},{"$f":"Fund!X2043","v":0},{"$f":"-Fund!V2043","v":0},{"$f":"Fund!V2043","v":0},{"$f":"Fund!P2043","v":""}]
[null,null,null,null,null,null,null,null,null,null,null,null,{"$f":"Fund!W2044","v":"00:00:00"},{"$f":"Fund!X2044","v":0},{"$f":"-Fund!V2044","v":0},{"$f":"Fund!V2044","v":0},{"$f":"Fund!P2044","v":""}]
[null,null,null,null,null,null,null,null,null,null,null,null,{"$f":"Fund!W2045","v":"00:00:00"},{"$f":"Fund!X2045","v":0},{"$f":"-Fund!V2045","v":0},{"$f":"Fund!V2045","v":0},{"$f":"Fund!P2045","v":""}]
[null,null,null,null,null,null,null,null,null,null,null,null,{"$f":"Fund!W2046","v":"00:00:00"},{"$f":"Fund!X2046","v":0},{"$f":"-Fund!V2046","v":0},{"$f":"Fund!V2046","v":0},{"$f":"Fund!P2046","v":""}]
[null,null,null,null,null,null,null,null,null,null,null,null,{"$f":"Fund!W2047","v":"00:00:00"},{"$f":"Fund!X2047","v":0},{"$f":"-Fund!V2047","v":0},{"$f":"Fund!V2047","v":0},{"$f":"Fund!P2047","v":""}]
[null,null,null,null,null,null,null,null,null,null,null,null,{"$f":"Fund!W2048","v":"00:00:00"},{"$f":"Fund!X2048","v":0},{"$f":"-Fund!V2048","v":0},{"$f":"Fund!V2048","v":0},{"$f":"Fund!P2048","v":""}]
[null,null,null,null,null,null,null,null,null,null,null,null,{"$f":"Fund!W2049","v":"00:00:00"},{"$f":"Fund!X2049","v":0},{"$f":"-Fund!V2049","v":0},{"$f":"Fund!V2049","v":0},{"$f":"Fund!P2049","v":""}]
[null,null,null,null,null,null,null,null,null,null,null,null,{"$f":"Fund!W2050","v":"00:00:00"},{"$f":"Fund!X2050","v":0},{"$f":"-Fund!V2050","v":0},{"$f":"Fund!V2050","v":0},{"$f":"Fund!P2050","v":""}]
[null,null,null,null,null,null,null,null,null,null,null,null,{"$f":"Fund!W2051","v":"2014-06-06"},{"$f":"Fund!X2051","v":53.556100000000001},{"$f":"-Fund!V2051","v":1000},{"$f":"Fund!V2051","v":-1000},{"$f":"Fund!P2051","v":18.672009350942282}]
[null,null,null,null,null,null,null,null,null,null,null,null,{"$f":"Fund!W2052","v":"00:00:00"},{"$f":"Fund!X2052","v":0},{"$f":"-Fund!V2052","v":0},{"$f":"Fund!V2052","v":0},{"$f":"Fund!P2052","v":""}]
[null,null,null,null,null,null,null,null,null,null,null,null,{"$f":"Fund!W2053","v":"00:00:00"},{"$f":"Fund!X2053","v":0},{"$f":"-Fund!V2053","v":0},{"$f":"Fund!V2053","v":0},{"$f":"Fund!P2053","v":""}]
[null,null,null,null,null,null,null,null,null,null,null,null,{"$f":"Fund!W2054","v":"00:00:00"},{"$f":"Fund!X2054","v":0},{"$f":"-Fund!V2054","v":0},{"$f":"Fund!V2054","v":0},{"$f":"Fund!P2054","v":""}]
[null,null,null,null,null,null,null,null,null,null,null,null,{"$f":"Fund!W2055","v":"00:00:00"},{"$f":"Fund!X2055","v":0},{"$f":"-Fund!V2055","v":0},{"$f":"Fund!V2055","v":0},{"$f":"Fund!P2055","v":""}]
[null,null,null,null,null,null,null,null,null,null,null,null,{"$f":"Fund!W2056","v":"00:00:00"},{"$f":"Fund!X2056","v":0},{"$f":"-Fund!V2056","v":0},{"$f":"Fund!V2056","v":0},{"$f":"Fund!P2056","v":""}]
[null,null,null,null,null,null,null,null,null,null,null,null,{"$f":"Fund!W2057","v":"00:00:00"},{"$f":"Fund!X2057","v":0},{"$f":"-Fund!V2057","v":0},{"$f":"Fund!V2057","v":0},{"$f":"Fund!P2057","v":""}]
[null,null,null,null,null,null,null,null,null,null,null,null,{"$f":"Fund!W2058","v":"00:00:00"},{"$f":"Fund!X2058","v":0},{"$f":"-Fund!V2058","v":0},{"$f":"Fund!V2058","v":0},{"$f":"Fund!P2058","v":""}]
[null,null,null,null,null,null,null,null,null,null,null,null,{"$f":"Fund!W2059","v":"00:00:00"},{"$f":"Fund!X2059","v":0},{"$f":"-Fund!V2059","v":0},{"$f":"Fund!V2059","v":0},{"$f":"Fund!P2059","v":""}]
[null,null,null,null,null,null,null,null,null,null,null,null,{"$f":"Fund!W2060","v":"00:00:00"},{"$f":"Fund!X2060","v":0},{"$f":"-Fund!V2060","v":0},{"$f":"Fund!V2060","v":0},{"$f":"Fund!P2060","v":""}]
[null,null,null,null,null,null,null,null,null,null,null,null,{"$f":"Fund!W2061","v":"00:00:00"},{"$f":"Fund!X2061","v":0},{"$f":"-Fund!V2061","v":0},{"$f":"Fund!V2061","v":0},{"$f":"Fund!P2061","v":""}]
[null,null,null,null,null,null,null,null,null,null,null,null,{"$f":"Fund!W2062","v":"00:00:00"},{"$f":"Fund!X2062","v":0},{"$f":"-Fund!V2062","v":0},{"$f":"Fund!V2062","v":0},{"$f":"Fund!P2062","v":""}]
[null,null,null,null,null,null,null,null,null,null,null,null,{"$f":"Fund!W2063","v":"00:00:00"},{"$f":"Fund!X2063","v":0},{"$f":"-Fund!V2063","v":0},{"$f":"Fund!V2063","v":0},{"$f":"Fund!P2063","v":""}]
[null,null,null,null,null,null,null,null,null,null,null,null,{"$f":"Fund!W2064","v":"00:00:00"},{"$f":"Fund!X2064","v":0},{"$f":"-Fund!V2064","v":0},{"$f":"Fund!V2064","v":0},{"$f":"Fund!P2064","v":""}]
[null,null,null,null,null,null,null,null,null,null,null,null,{"$f":"Fund!W2065","v":"00:00:00"},{"$f":"Fund!X2065","v":0},{"$f":"-Fund!V2065","v":0},{"$f":"Fund!V2065","v":0},{"$f":"Fund!P2065","v":""}]
[null,null,null,null,null,null,null,null,null,null,null,null,{"$f":"Fund!W2066","v":"00:00:00"},{"$f":"Fund!X2066","v":0},{"$f":"-Fund!V2066","v":0},{"$f":"Fund!V2066","v":0},{"$f":"Fund!P2066","v":""}]
[null,null,null,null,null,null,null,null,null,null,null,null,{"$f":"Fund!W2067","v":"00:00:00"},{"$f":"Fund!X2067","v":0},{"$f":"-Fund!V2067","v":0},{"$f":"Fund!V2067","v":0},{"$f":"Fund!P2067","v":""}]
[null,null,null,null,null,null,null,null,null,null,null,null,{"$f":"Fund!W2068","v":"00:00:00"},{"$f":"Fund!X2068","v":0},{"$f":"-Fund!V2068","v":0},{"$f":"Fund!V2068","v":0},{"$f":"Fund!P2068","v":""}]
[null,null,null,null,null,null,null,null,null,null,null,null,{"$f":"Fund!W2069","v":"00:00:00"},{"$f":"Fund!X2069","v":0},{"$f":"-Fund!V2069","v":0},{"$f":"Fund!V2069","v":0},{"$f":"Fund!P2069","v":""}]
[null,null,null,null,null,null,null,null,null,null,null,null,{"$f":"Fund!W2070","v":"00:00:00"},{"$f":"Fund!X2070","v":0},{"$f":"-Fund!V2070","v":0},{"$f":"Fund!V2070","v":0},{"$f":"Fund!P2070","v":""}]
[null,null,null,null,null,null,null,null,null,null,null,null,{"$f":"Fund!W2071","v":"2014-07-07"},{"$f":"Fund!X2071","v":57.708599999999997},{"$f":"-Fund!V2071","v":1000},{"$f":"Fund!V2071","v":-1000},{"$f":"Fund!P2071","v":17.328439781938915}]
[null,null,null,null,null,null,null,null,null,null,null,null,{"$f":"Fund!W2072","v":"00:00:00"},{"$f":"Fund!X2072","v":0},{"$f":"-Fund!V2072","v":0},{"$f":"Fund!V2072","v":0},{"$f":"Fund!P2072","v":""}]
[null,null,null,null,null,null,null,null,null,null,null,null,{"$f":"Fund!W2073","v":"00:00:00"},{"$f":"Fund!X2073","v":0},{"$f":"-Fund!V2073","v":0},{"$f":"Fund!V2073","v":0},{"$f":"Fund!P2073","v":""}]
[null,null,null,null,null,null,null,null,null,null,null,null,{"$f":"Fund!W2074","v":"00:00:00"},{"$f":"Fund!X2074","v":0},{"$f":"-Fund!V2074","v":0},{"$f":"Fund!V2074","v":0},{"$f":"Fund!P2074","v":""}]
[null,null,null,null,null,null,null,null,null,null,null,null,{"$f":"Fund!W2075","v":"00:00:00"},{"$f":"Fund!X2075","v":0},{"$f":"-Fund!V2075","v":0},{"$f":"Fund!V2075","v":0},{"$f":"Fund!P2075","v":""}]
[null,null,null,null,null,null,null,null,null,null,null,null,{"$f":"Fund!W2076","v":"00:00:00"},{"$f":"Fund!X2076","v":0},{"$f":"-Fund!V2076","v":0},{"$f":"Fund!V2076","v":0},{"$f":"Fund!P2076","v":""}]
[null,null,null,null,null,null,null,null,null,null,null,null,{"$f":"Fund!W2077","v":"00:00:00"},{"$f":"Fund!X2077","v":0},{"$f":"-Fund!V2077","v":0},{"$f":"Fund!V2077","v":0},{"$f":"Fund!P2077","v":""}]
[null,null,null,null,null,null,null,null,null,null,null,null,{"$f":"Fund!W2078","v":"00:00:00"},{"$f":"Fund!X2078","v":0},{"$f":"-Fund!V2078","v":0},{"$f":"Fund!V2078","v":0},{"$f":"Fund!P2078","v":""}]
[null,null,null,null,null,null,null,null,null,null,null,null,{"$f":"Fund!W2079","v":"00:00:00"},{"$f":"Fund!X2079","v":0},{"$f":"-Fund!V2079","v":0},{"$f":"Fund!V2079","v":0},{"$f":"Fund!P2079","v":""}]
[null,null,null,null,null,null,null,null,null,null,null,null,{"$f":"Fund!W2080","v":"00:00:00"},{"$f":"Fund!X2080","v":0},{"$f":"-Fund!V2080","v":0},{"$f":"Fund!V2080","v":0},{"$f":"Fund!P2080","v":""}]
[null,null,null,null,null,null,null,null,null,null,null,null,{"$f":"Fund!W2081","v":"00:00:00"},{"$f":"Fund!X2081","v":0},{"$f":"-Fund!V2081","v":0},{"$f":"Fund!V2081","v":0},{"$f":"Fund!P2081","v":""}]
[null,null,null,null,null,null,null,null,null,null,null,null,{"$f":"Fund!W2082","v":"00:00:00"},{"$f":"Fund!X2082","v":0},{"$f":"-Fund!V2082","v":0},{"$f":"Fund!V2082","v":0},{"$f":"Fund!P2082","v":""}]
[null,null,null,null,null,null,null,null,null,null,null,null,{"$f":"Fund!W2083","v":"00:00:00"},{"$f":"Fund!X2083","v":0},{"$f":"-Fund!V2083","v":0},{"$f":"Fund!V2083","v":0},{"$f":"Fund!P2083","v":""}]
[null,null,null,null,null,null,null,null,null,null,null,null,{"$f":"Fund!W2084","v":"00:00:00"},{"$f":"Fund!X2084","v":0},{"$f":"-Fund!V2084","v":0},{"$f":"Fund!V2084","v":0},{"$f":"Fund!P2084","v":""}]
[null,null,null,null,null,null,null,null,null,null,null,null,{"$f":"Fund!W2085","v":"00:00:00"},{"$f":"Fund!X2085","v":0},{"$f":"-Fund!V2085","v":0},{"$f":"Fund!V2085","v":0},{"$f":"Fund!P2085","v":""}]
[null,null,null,null,null,null,null,null,null,null,null,null,{"$f":"Fund!W2086","v":"00:00:00"},{"$f":"Fund!X2086","v":0},{"$f":"-Fund!V2086","v":0},{"$f":"Fund!V2086","v":0},{"$f":"Fund!P2086","v":""}]
[null,null,null,null,null,null,null,null,null,null,null,null,{"$f":"Fund!W2087","v":"00:00:00"},{"$f":"Fund!X2087","v":0},{"$f":"-Fund!V2087","v":0},{"$f":"Fund!V2087","v":0},{"$f":"Fund!P2087","v":""}]
[null,null,null,null,null,null,null,null,null,null,null,null,{"$f":"Fund!W2088","v":"00:00:00"},{"$f":"Fund!X2088","v":0},{"$f":"-Fund!V2088","v":0},{"$f":"Fund!V2088","v":0},{"$f":"Fund!P2088","v":""}]
[null,null,null,null,null,null,null,null,null,null,null,null,{"$f":"Fund!W2089","v":"00:00:00"},{"$f":"Fund!X2089","v":0},{"$f":"-Fund!V2089","v":0},{"$f":"Fund!V2089","v":0},{"$f":"Fund!P2089","v":""}]
[null,null,null,null,null,null,null,null,null,null,null,null,{"$f":"Fund!W2090","v":"2014-08-06"},{"$f":"Fund!X2090","v":56.849400000000003},{"$f":"-Fund!V2090","v":1000},{"$f":"Fund!V2090","v":-1000},{"$f":"Fund!P2090","v":17.590335166246255}]
[null,null,null,null,null,null,null,null,null,null,null,null,{"$f":"Fund!W2091","v":"00:00:00"},{"$f":"Fund!X2091","v":0},{"$f":"-Fund!V2091","v":0},{"$f":"Fund!V2091","v":0},{"$f":"Fund!P2091","v":""}]
[null,null,null,null,null,null,null,null,null,null,null,null,{"$f":"Fund!W2092","v":"00:00:00"},{"$f":"Fund!X2092","v":0},{"$f":"-Fund!V2092","v":0},{"$f":"Fund!V2092","v":0},{"$f":"Fund!P2092","v":""}]
[null,null,null,null,null,null,null,null,null,null,null,null,{"$f":"Fund!W2093","v":"00:00:00"},{"$f":"Fund!X2093","v":0},{"$f":"-Fund!V2093","v":0},{"$f":"Fund!V2093","v":0},{"$f":"Fund!P2093","v":""}]
[null,null,null,null,null,null,null,null,null,null,null,null,{"$f":"Fund!W2094","v":"00:00:00"},{"$f":"Fund!X2094","v":0},{"$f":"-Fund!V2094","v":0},{"$f":"Fund!V2094","v":0},{"$f":"Fund!P2094","v":""}]
[null,null,null,null,null,null,null,null,null,null,null,null,{"$f":"Fund!W2095","v":"00:00:00"},{"$f":"Fund!X2095","v":0},{"$f":"-Fund!V2095","v":0},{"$f":"Fund!V2095","v":0},{"$f":"Fund!P2095","v":""}]
[null,null,null,null,null,null,null,null,null,null,null,null,{"$f":"Fund!W2096","v":"00:00:00"},{"$f":"Fund!X2096","v":0},{"$f":"-Fund!V2096","v":0},{"$f":"Fund!V2096","v":0},{"$f":"Fund!P2096","v":""}]
[null,null,null,null,null,null,null,null,null,null,null,null,{"$f":"Fund!W2097","v":"00:00:00"},{"$f":"Fund!X2097","v":0},{"$f":"-Fund!V2097","v":0},{"$f":"Fund!V2097","v":0},{"$f":"Fund!P2097","v":""}]
[null,null,null,null,null,null,null,null,null,null,null,null,{"$f":"Fund!W2098","v":"00:00:00"},{"$f":"Fund!X2098","v":0},{"$f":"-Fund!V2098","v":0},{"$f":"Fund!V2098","v":0},{"$f":"Fund!P2098","v":""}]
[null,null,null,null,null,null,null,null,null,null,null,null,{"$f":"Fund!W2099","v":"00:00:00"},{"$f":"Fund!X2099","v":0},{"$f":"-Fund!V2099","v":0},{"$f":"Fund!V2099","v":0},{"$f":"Fund!P2099","v":""}]
[null,null,null,null,null,null,null,null,null,null,null,null,{"$f":"Fund!W2100","v":"00:00:00"},{"$f":"Fund!X2100","v":0},{"$f":"-Fund!V2100","v":0},{"$f":"Fund!V2100","v":0},{"$f":"Fund!P2100","v":""}]
[null,null,null,null,null,null,null,null,null,null,null,null,{"$f":"Fund!W2101","v":"00:00:00"},{"$f":"Fund!X2101","v":0},{"$f":"-Fund!V2101","v":0},{"$f":"Fund!V2101","v":0},{"$f":"Fund!P2101","v":""}]
[null,null,null,null,null,null,null,null,null,null,null,null,{"$f":"Fund!W2102","v":"00:00:00"},{"$f":"Fund!X2102","v":0},{"$f":"-Fund!V2102","v":0},{"$f":"Fund!V2102","v":0},{"$f":"Fund!P2102","v":""}]
[null,null,null,null,null,null,null,null,null,null,null,null,{"$f":"Fund!W2103","v":"00:00:00"},{"$f":"Fund!X2103","v":0},{"$f":"-Fund!V2103","v":0},{"$f":"Fund!V2103","v":0},{"$f":"Fund!P2103","v":""}]
[null,null,null,null,null,null,null,null,null,null,null,null,{"$f":"Fund!W2104","v":"00:00:00"},{"$f":"Fund!X2104","v":0},{"$f":"-Fund!V2104","v":0},{"$f":"Fund!V2104","v":0},{"$f":"Fund!P2104","v":""}]
[null,null,null,null,null,null,null,null,null,null,null,null,{"$f":"Fund!W2105","v":"00:00:00"},{"$f":"Fund!X2105","v":0},{"$f":"-Fund!V2105","v":0},{"$f":"Fund!V2105","v":0},{"$f":"Fund!P2105","v":""}]
[null,null,null,null,null,null,null,null,null,null,null,null,{"$f":"Fund!W2106","v":"2014-09-08"},{"$f":"Fund!X2106","v":61.645899999999997},{"$f":"-Fund!V2106","v":1000},{"$f":"Fund!V2106","v":-1000},{"$f":"Fund!P2106","v":16.221678976217397}]
[null,null,null,null,null,null,null,null,null,null,null,null,{"$f":"Fund!W2107","v":"00:00:00"},{"$f":"Fund!X2107","v":0},{"$f":"-Fund!V2107","v":0},{"$f":"Fund!V2107","v":0},{"$f":"Fund!P2107","v":""}]
[null,null,null,null,null,null,null,null,null,null,null,null,{"$f":"Fund!W2108","v":"00:00:00"},{"$f":"Fund!X2108","v":0},{"$f":"-Fund!V2108","v":0},{"$f":"Fund!V2108","v":0},{"$f":"Fund!P2108","v":""}]
[null,null,null,null,null,null,null,null,null,null,null,null,{"$f":"Fund!W2109","v":"00:00:00"},{"$f":"Fund!X2109","v":0},{"$f":"-Fund!V2109","v":0},{"$f":"Fund!V2109","v":0},{"$f":"Fund!P2109","v":""}]
[null,null,null,null,null,null,null,null,null,null,null,null,{"$f":"Fund!W2110","v":"00:00:00"},{"$f":"Fund!X2110","v":0},{"$f":"-Fund!V2110","v":0},{"$f":"Fund!V2110","v":0},{"$f":"Fund!P2110","v":""}]
[null,null,null,null,null,null,null,null,null,null,null,null,{"$f":"Fund!W2111","v":"00:00:00"},{"$f":"Fund!X2111","v":0},{"$f":"-Fund!V2111","v":0},{"$f":"Fund!V2111","v":0},{"$f":"Fund!P2111","v":""}]
[null,null,null,null,null,null,null,null,null,null,null,null,{"$f":"Fund!W2112","v":"00:00:00"},{"$f":"Fund!X2112","v":0},{"$f":"-Fund!V2112","v":0},{"$f":"Fund!V2112","v":0},{"$f":"Fund!P2112","v":""}]
[null,null,null,null,null,null,null,null,null,null,null,null,{"$f":"Fund!W2113","v":"00:00:00"},{"$f":"Fund!X2113","v":0},{"$f":"-Fund!V2113","v":0},{"$f":"Fund!V2113","v":0},{"$f":"Fund!P2113","v":""}]
[null,null,null,null,null,null,null,null,null,null,null,null,{"$f":"Fund!W2114","v":"00:00:00"},{"$f":"Fund!X2114","v":0},{"$f":"-Fund!V2114","v":0},{"$f":"Fund!V2114","v":0},{"$f":"Fund!P2114","v":""}]
[null,null,null,null,null,null,null,null,null,null,null,null,{"$f":"Fund!W2115","v":"00:00:00"},{"$f":"Fund!X2115","v":0},{"$f":"-Fund!V2115","v":0},{"$f":"Fund!V2115","v":0},{"$f":"Fund!P2115","v":""}]
[null,null,null,null,null,null,null,null,null,null,null,null,{"$f":"Fund!W2116","v":"00:00:00"},{"$f":"Fund!X2116","v":0},{"$f":"-Fund!V2116","v":0},{"$f":"Fund!V2116","v":0},{"$f":"Fund!P2116","v":""}]
[null,null,null,null,null,null,null,null,null,null,null,null,{"$f":"Fund!W2117","v":"00:00:00"},{"$f":"Fund!X2117","v":0},{"$f":"-Fund!V2117","v":0},{"$f":"Fund!V2117","v":0},{"$f":"Fund!P2117","v":""}]
[null,null,null,null,null,null,null,null,null,null,null,null,{"$f":"Fund!W2118","v":"00:00:00"},{"$f":"Fund!X2118","v":0},{"$f":"-Fund!V2118","v":0},{"$f":"Fund!V2118","v":0},{"$f":"Fund!P2118","v":""}]
[null,null,null,null,null,null,null,null,null,null,null,null,{"$f":"Fund!W2119","v":"00:00:00"},{"$f":"Fund!X2119","v":0},{"$f":"-Fund!V2119","v":0},{"$f":"Fund!V2119","v":0},{"$f":"Fund!P2119","v":""}]
[null,null,null,null,null,null,null,null,null,null,null,null,{"$f":"Fund!W2120","v":"00:00:00"},{"$f":"Fund!X2120","v":0},{"$f":"-Fund!V2120","v":0},{"$f":"Fund!V2120","v":0},{"$f":"Fund!P2120","v":""}]
[null,null,null,null,null,null,null,null,null,null,null,null,{"$f":"Fund!W2121","v":"00:00:00"},{"$f":"Fund!X2121","v":0},{"$f":"-Fund!V2121","v":0},{"$f":"Fund!V2121","v":0},{"$f":"Fund!P2121","v":""}]
[null,null,null,null,null,null,null,null,null,null,null,null,{"$f":"Fund!W2122","v":"00:00:00"},{"$f":"Fund!X2122","v":0},{"$f":"-Fund!V2122","v":0},{"$f":"Fund!V2122","v":0},{"$f":"Fund!P2122","v":""}]
[null,null,null,null,null,null,null,null,null,null,null,null,{"$f":"Fund!W2123","v":"00:00:00"},{"$f":"Fund!X2123","v":0},{"$f":"-Fund!V2123","v":0},{"$f":"Fund!V2123","v":0},{"$f":"Fund!P2123","v":""}]
[null,null,null,null,null,null,null,null,null,null,null,null,{"$f":"Fund!W2124","v":"2014-10-07"},{"$f":"Fund!X2124","v":61.2151},{"$f":"-Fund!V2124","v":1000},{"$f":"Fund!V2124","v":-1000},{"$f":"Fund!P2124","v":16.335838706462948}]
[null,null,null,null,null,null,null,null,null,null,null,null,{"$f":"Fund!W2125","v":"00:00:00"},{"$f":"Fund!X2125","v":0},{"$f":"-Fund!V2125","v":0},{"$f":"Fund!V2125","v":0},{"$f":"Fund!P2125","v":""}]
[null,null,null,null,null,null,null,null,null,null,null,null,{"$f":"Fund!W2126","v":"00:00:00"},{"$f":"Fund!X2126","v":0},{"$f":"-Fund!V2126","v":0},{"$f":"Fund!V2126","v":0},{"$f":"Fund!P2126","v":""}]
[null,null,null,null,null,null,null,null,null,null,null,null,{"$f":"Fund!W2127","v":"00:00:00"},{"$f":"Fund!X2127","v":0},{"$f":"-Fund!V2127","v":0},{"$f":"Fund!V2127","v":0},{"$f":"Fund!P2127","v":""}]
[null,null,null,null,null,null,null,null,null,null,null,null,{"$f":"Fund!W2128","v":"00:00:00"},{"$f":"Fund!X2128","v":0},{"$f":"-Fund!V2128","v":0},{"$f":"Fund!V2128","v":0},{"$f":"Fund!P2128","v":""}]
[null,null,null,null,null,null,null,null,null,null,null,null,{"$f":"Fund!W2129","v":"00:00:00"},{"$f":"Fund!X2129","v":0},{"$f":"-Fund!V2129","v":0},{"$f":"Fund!V2129","v":0},{"$f":"Fund!P2129","v":""}]
[null,null,null,null,null,null,null,null,null,null,null,null,{"$f":"Fund!W2130","v":"00:00:00"},{"$f":"Fund!X2130","v":0},{"$f":"-Fund!V2130","v":0},{"$f":"Fund!V2130","v":0},{"$f":"Fund!P2130","v":""}]
[null,null,null,null,null,null,null,null,null,null,null,null,{"$f":"Fund!W2131","v":"00:00:00"},{"$f":"Fund!X2131","v":0},{"$f":"-Fund!V2131","v":0},{"$f":"Fund!V2131","v":0},{"$f":"Fund!P2131","v":""}]
[null,null,null,null,null,null,null,null,null,null,null,null,{"$f":"Fund!W2132","v":"00:00:00"},{"$f":"Fund!X2132","v":0},{"$f":"-Fund!V2132","v":0},{"$f":"Fund!V2132","v":0},{"$f":"Fund!P2132","v":""}]
[null,null,null,null,null,null,null,null,null,null,null,null,{"$f":"Fund!W2133","v":"00:00:00"},{"$f":"Fund!X2133","v":0},{"$f":"-Fund!V2133","v":0},{"$f":"Fund!V2133","v":0},{"$f":"Fund!P2133","v":""}]
[null,null,null,null,null,null,null,null,null,null,null,null,{"$f":"Fund!W2134","v":"00:00:00"},{"$f":"Fund!X2134","v":0},{"$f":"-Fund!V2134","v":0},{"$f":"Fund!V2134","v":0},{"$f":"Fund!P2134","v":""}]
[null,null,null,null,null,null,null,null,null,null,null,null,{"$f":"Fund!W2135","v":"00:00:00"},{"$f":"Fund!X2135","v":0},{"$f":"-Fund!V2135","v":0},{"$f":"Fund!V2135","v":0},{"$f":"Fund!P2135","v":""}]
[null,null,null,null,null,null,null,null,null,null,null,null,{"$f":"Fund!W2136","v":"00:00:00"},{"$f":"Fund!X2136","v":0},{"$f":"-Fund!V2136","v":0},{"$f":"Fund!V2136","v":0},{"$f":"Fund!P2136","v":""}]
[null,null,null,null,null,null,null,null,null,null,null,null,{"$f":"Fund!W2137","v":"00:00:00"},{"$f":"Fund!X2137","v":0},{"$f":"-Fund!V2137","v":0},{"$f":"Fund!V2137","v":0},{"$f":"Fund!P2137","v":""}]
[null,null,null,null,null,null,null,null,null,null,null,null,{"$f":"Fund!W2138","v":"00:00:00"},{"$f":"Fund!X2138","v":0},{"$f":"-Fund!V2138","v":0},{"$f":"Fund!V2138","v":0},{"$f":"Fund!P2138","v":""}]
[null,null,null,null,null,null,null,null,null,null,null,null,{"$f":"Fund!W2139","v":"00:00:00"},{"$f":"Fund!X2139","v":0},{"$f":"-Fund!V2139","v":0},{"$f":"Fund!V2139","v":0},{"$f":"Fund!P2139","v":""}]
[null,null,null,null,null,null,null,null,null,null,null,null,{"$f":"Fund!W2140","v":"2014-11-07"},{"$f":"Fund!X2140","v":64.068899999999999},{"$f":"-Fund!V2140","v":1000},{"$f":"Fund!V2140","v":-1000},{"$f":"Fund!P2140","v":15.60819680063182}]
[null,null,null,null,null,null,null,null,null,null,null,null,{"$f":"Fund!W2141","v":"00:00:00"},{"$f":"Fund!X2141","v":0},{"$f":"-Fund!V2141","v":0},{"$f":"Fund!V2141","v":0},{"$f":"Fund!P2141","v":""}]
[null,null,null,null,null,null,null,null,null,null,null,null,{"$f":"Fund!W2142","v":"00:00:00"},{"$f":"Fund!X2142","v":0},{"$f":"-Fund!V2142","v":0},{"$f":"Fund!V2142","v":0},{"$f":"Fund!P2142","v":""}]
[null,null,null,null,null,null,null,null,null,null,null,null,{"$f":"Fund!W2143","v":"00:00:00"},{"$f":"Fund!X2143","v":0},{"$f":"-Fund!V2143","v":0},{"$f":"Fund!V2143","v":0},{"$f":"Fund!P2143","v":""}]
[null,null,null,null,null,null,null,null,null,null,null,null,{"$f":"Fund!W2144","v":"00:00:00"},{"$f":"Fund!X2144","v":0},{"$f":"-Fund!V2144","v":0},{"$f":"Fund!V2144","v":0},{"$f":"Fund!P2144","v":""}]
[null,null,null,null,null,null,null,null,null,null,null,null,{"$f":"Fund!W2145","v":"00:00:00"},{"$f":"Fund!X2145","v":0},{"$f":"-Fund!V2145","v":0},{"$f":"Fund!V2145","v":0},{"$f":"Fund!P2145","v":""}]
[null,null,null,null,null,null,null,null,null,null,null,null,{"$f":"Fund!W2146","v":"00:00:00"},{"$f":"Fund!X2146","v":0},{"$f":"-Fund!V2146","v":0},{"$f":"Fund!V2146","v":0},{"$f":"Fund!P2146","v":""}]
[null,null,null,null,null,null,null,null,null,null,null,null,{"$f":"Fund!W2147","v":"00:00:00"},{"$f":"Fund!X2147","v":0},{"$f":"-Fund!V2147","v":0},{"$f":"Fund!V2147","v":0},{"$f":"Fund!P2147","v":""}]
[null,null,null,null,null,null,null,null,null,null,null,null,{"$f":"Fund!W2148","v":"00:00:00"},{"$f":"Fund!X2148","v":0},{"$f":"-Fund!V2148","v":0},{"$f":"Fund!V2148","v":0},{"$f":"Fund!P2148","v":""}]
[null,null,null,null,null,null,null,null,null,null,null,null,{"$f":"Fund!W2149","v":"00:00:00"},{"$f":"Fund!X2149","v":0},{"$f":"-Fund!V2149","v":0},{"$f":"Fund!V2149","v":0},{"$f":"Fund!P2149","v":""}]
[null,null,null,null,null,null,null,null,null,null,null,null,{"$f":"Fund!W2150","v":"00:00:00"},{"$f":"Fund!X2150","v":0},{"$f":"-Fund!V2150","v":0},{"$f":"Fund!V2150","v":0},{"$f":"Fund!P2150","v":""}]
[null,null,null,null,null,null,null,null,null,null,null,null,{"$f":"Fund!W2151","v":"00:00:00"},{"$f":"Fund!X2151","v":0},{"$f":"-Fund!V2151","v":0},{"$f":"Fund!V2151","v":0},{"$f":"Fund!P2151","v":""}]
[null,null,null,null,null,null,null,null,null,null,null,null,{"$f":"Fund!W2152","v":"00:00:00"},{"$f":"Fund!X2152","v":0},{"$f":"-Fund!V2152","v":0},{"$f":"Fund!V2152","v":0},{"$f":"Fund!P2152","v":""}]
[null,null,null,null,null,null,null,null,null,null,null,null,{"$f":"Fund!W2153","v":"00:00:00"},{"$f":"Fund!X2153","v":0},{"$f":"-Fund!V2153","v":0},{"$f":"Fund!V2153","v":0},{"$f":"Fund!P2153","v":""}]
[null,null,null,null,null,null,null,null,null,null,null,null,{"$f":"Fund!W2154","v":"00:00:00"},{"$f":"Fund!X2154","v":0},{"$f":"-Fund!V2154","v":0},{"$f":"Fund!V2154","v":0},{"$f":"Fund!P2154","v":""}]
[null,null,null,null,null,null,null,null,null,null,null,null,{"$f":"Fund!W2155","v":"00:00:00"},{"$f":"Fund!X2155","v":0},{"$f":"-Fund!V2155","v":0},{"$f":"Fund!V2155","v":0},{"$f":"Fund!P2155","v":""}]
[null,null,null,null,null,null,null,null,null,null,null,null,{"$f":"Fund!W2156","v":"00:00:00"},{"$f":"Fund!X2156","v":0},{"$f":"-Fund!V2156","v":0},{"$f":"Fund!V2156","v":0},{"$f":"Fund!P2156","v":""}]
[null,null,null,null,null,null,null,null,null,null,null,null,{"$f":"Fund!W2157","v":"00:00:00"},{"$f":"Fund!X2157","v":0},{"$f":"-Fund!V2157","v":0},{"$f":"Fund!V2157","v":0},{"$f":"Fund!P2157","v":""}]
[null,null,null,null,null,null,null,null,null,null,null,null,{"$f":"Fund!W2158","v":"00:00:00"},{"$f":"Fund!X2158","v":0},{"$f":"-Fund!V2158","v":0},{"$f":"Fund!V2158","v":0},{"$f":"Fund!P2158","v":""}]
[null,null,null,null,null,null,null,null,null,null,null,null,{"$f":"Fund!W2159","v":"2014-12-08"},{"$f":"Fund!X2159","v":66.654499999999999},{"$f":"-Fund!V2159","v":1000},{"$f":"Fund!V2159","v":-1000},{"$f":"Fund!P2159","v":15.002737999684943}]
[null,null,null,null,null,null,null,null,null,null,null,null,{"$f":"Fund!W2160","v":"00:00:00"},{"$f":"Fund!X2160","v":0},{"$f":"-Fund!V2160","v":0},{"$f":"Fund!V2160","v":0},{"$f":"Fund!P2160","v":""}]
[null,null,null,null,null,null,null,null,null,null,null,null,{"$f":"Fund!W2161","v":"00:00:00"},{"$f":"Fund!X2161","v":0},{"$f":"-Fund!V2161","v":0},{"$f":"Fund!V2161","v":0},{"$f":"Fund!P2161","v":""}]
[null,null,null,null,null,null,null,null,null,null,null,null,{"$f":"Fund!W2162","v":"00:00:00"},{"$f":"Fund!X2162","v":0},{"$f":"-Fund!V2162","v":0},{"$f":"Fund!V2162","v":0},{"$f":"Fund!P2162","v":""}]
[null,null,null,null,null,null,null,null,null,null,null,null,{"$f":"Fund!W2163","v":"00:00:00"},{"$f":"Fund!X2163","v":0},{"$f":"-Fund!V2163","v":0},{"$f":"Fund!V2163","v":0},{"$f":"Fund!P2163","v":""}]
[null,null,null,null,null,null,null,null,null,null,null,null,{"$f":"Fund!W2164","v":"00:00:00"},{"$f":"Fund!X2164","v":0},{"$f":"-Fund!V2164","v":0},{"$f":"Fund!V2164","v":0},{"$f":"Fund!P2164","v":""}]
[null,null,null,null,null,null,null,null,null,null,null,null,{"$f":"Fund!W2165","v":"00:00:00"},{"$f":"Fund!X2165","v":0},{"$f":"-Fund!V2165","v":0},{"$f":"Fund!V2165","v":0},{"$f":"Fund!P2165","v":""}]
[null,null,null,null,null,null,null,null,null,null,null,null,{"$f":"Fund!W2166","v":"00:00:00"},{"$f":"Fund!X2166","v":0},{"$f":"-Fund!V2166","v":0},{"$f":"Fund!V2166","v":0},{"$f":"Fund!P2166","v":""}]
[null,null,null,null,null,null,null,null,null,null,null,null,{"$f":"Fund!W2167","v":"00:00:00"},{"$f":"Fund!X2167","v":0},{"$f":"-Fund!V2167","v":0},{"$f":"Fund!V2167","v":0},{"$f":"Fund!P2167","v":""}]
[null,null,null,null,null,null,null,null,null,null,null,null,{"$f":"Fund!W2168","v":"00:00:00"},{"$f":"Fund!X2168","v":0},{"$f":"-Fund!V2168","v":0},{"$f":"Fund!V2168","v":0},{"$f":"Fund!P2168","v":""}]
[null,null,null,null,null,null,null,null,null,null,null,null,{"$f":"Fund!W2169","v":"00:00:00"},{"$f":"Fund!X2169","v":0},{"$f":"-Fund!V2169","v":0},{"$f":"Fund!V2169","v":0},{"$f":"Fund!P2169","v":""}]
[null,null,null,null,null,null,null,null,null,null,null,null,{"$f":"Fund!W2170","v":"00:00:00"},{"$f":"Fund!X2170","v":0},{"$f":"-Fund!V2170","v":0},{"$f":"Fund!V2170","v":0},{"$f":"Fund!P2170","v":""}]
[null,null,null,null,null,null,null,null,null,null,null,null,{"$f":"Fund!W2171","v":"00:00:00"},{"$f":"Fund!X2171","v":0},{"$f":"-Fund!V2171","v":0},{"$f":"Fund!V2171","v":0},{"$f":"Fund!P2171","v":""}]
[null,null,null,null,null,null,null,null,null,null,null,null,{"$f":"Fund!W2172","v":"00:00:00"},{"$f":"Fund!X2172","v":0},{"$f":"-Fund!V2172","v":0},{"$f":"Fund!V2172","v":0},{"$f":"Fund!P2172","v":""}]
[null,null,null,null,null,null,null,null,null,null,null,null,{"$f":"Fund!W2173","v":"00:00:00"},{"$f":"Fund!X2173","v":0},{"$f":"-Fund!V2173","v":0},{"$f":"Fund!V2173","v":0},{"$f":"Fund!P2173","v":""}]
[null,null,null,null,null,null,null,null,null,null,null,null,{"$f":"Fund!W2174","v":"00:00:00"},{"$f":"Fund!X2174","v":0},{"$f":"-Fund!V2174","v":0},{"$f":"Fund!V2174","v":0},{"$f":"Fund!P2174","v":""}]
[null,null,null,null,null,null,null,null,null,null,null,null,{"$f":"Fund!W2175","v":"00:00:00"},{"$f":"Fund!X2175","v":0},{"$f":"-Fund!V2175","v":0},{"$f":"Fund!V2175","v":0},{"$f":"Fund!P2175","v":""}]
[null,null,null,null,null,null,null,null,null,null,null,null,{"$f":"Fund!W2176","v":"00:00:00"},{"$f":"Fund!X2176","v":0},{"$f":"-Fund!V2176","v":0},{"$f":"Fund!V2176","v":0},{"$f":"Fund!P2176","v":""}]
[null,null,null,null,null,null,null,null,null,null,null,null,{"$f":"Fund!W2177","v":"00:00:00"},{"$f":"Fund!X2177","v":0},{"$f":"-Fund!V2177","v":0},{"$f":"Fund!V2177","v":0},{"$f":"Fund!P2177","v":""}]
[null,null,null,null,null,null,null,null,null,null,null,null,{"$f":"Fund!W2178","v":"00:00:00"},{"$f":"Fund!X2178","v":0},{"$f":"-Fund!V2178","v":0},{"$f":"Fund!V2178","v":0},{"$f":"Fund!P2178","v":""}]
[null,null,null,null,null,null,null,null,null,null,null,null,{"$f":"Fund!W2179","v":"2015-01-06"},{"$f":"Fund!X2179","v":67.330500000000001},{"$f":"-Fund!V2179","v":1000},{"$f":"Fund!V2179","v":-1000},{"$f":"Fund!P2179","v":14.852110113544382}]
[null,null,null,null,null,null,null,null,null,null,null,null,{"$f":"Fund!W2180","v":"00:00:00"},{"$f":"Fund!X2180","v":0},{"$f":"-Fund!V2180","v":0},{"$f":"Fund!V2180","v":0},{"$f":"Fund!P2180","v":""}]
[null,null,null,null,null,null,null,null,null,null,null,null,{"$f":"Fund!W2181","v":"00:00:00"},{"$f":"Fund!X2181","v":0},{"$f":"-Fund!V2181","v":0},{"$f":"Fund!V2181","v":0},{"$f":"Fund!P2181","v":""}]
[null,null,null,null,null,null,null,null,null,null,null,null,{"$f":"Fund!W2182","v":"00:00:00"},{"$f":"Fund!X2182","v":0},{"$f":"-Fund!V2182","v":0},{"$f":"Fund!V2182","v":0},{"$f":"Fund!P2182","v":""}]
[null,null,null,null,null,null,null,null,null,null,null,null,{"$f":"Fund!W2183","v":"00:00:00"},{"$f":"Fund!X2183","v":0},{"$f":"-Fund!V2183","v":0},{"$f":"Fund!V2183","v":0},{"$f":"Fund!P2183","v":""}]
[null,null,null,null,null,null,null,null,null,null,null,null,{"$f":"Fund!W2184","v":"00:00:00"},{"$f":"Fund!X2184","v":0},{"$f":"-Fund!V2184","v":0},{"$f":"Fund!V2184","v":0},{"$f":"Fund!P2184","v":""}]
[null,null,null,null,null,null,null,null,null,null,null,null,{"$f":"Fund!W2185","v":"00:00:00"},{"$f":"Fund!X2185","v":0},{"$f":"-Fund!V2185","v":0},{"$f":"Fund!V2185","v":0},{"$f":"Fund!P2185","v":""}]
[null,null,null,null,null,null,null,null,null,null,null,null,{"$f":"Fund!W2186","v":"00:00:00"},{"$f":"Fund!X2186","v":0},{"$f":"-Fund!V2186","v":0},{"$f":"Fund!V2186","v":0},{"$f":"Fund!P2186","v":""}]
[null,null,null,null,null,null,null,null,null,null,null,null,{"$f":"Fund!W2187","v":"00:00:00"},{"$f":"Fund!X2187","v":0},{"$f":"-Fund!V2187","v":0},{"$f":"Fund!V2187","v":0},{"$f":"Fund!P2187","v":""}]
[null,null,null,null,null,null,null,null,null,null,null,null,{"$f":"Fund!W2188","v":"00:00:00"},{"$f":"Fund!X2188","v":0},{"$f":"-Fund!V2188","v":0},{"$f":"Fund!V2188","v":0},{"$f":"Fund!P2188","v":""}]
[null,null,null,null,null,null,null,null,null,null,null,null,{"$f":"Fund!W2189","v":"00:00:00"},{"$f":"Fund!X2189","v":0},{"$f":"-Fund!V2189","v":0},{"$f":"Fund!V2189","v":0},{"$f":"Fund!P2189","v":""}]
[null,null,null,null,null,null,null,null,null,null,null,null,{"$f":"Fund!W2190","v":"00:00:00"},{"$f":"Fund!X2190","v":0},{"$f":"-Fund!V2190","v":0},{"$f":"Fund!V2190","v":0},{"$f":"Fund!P2190","v":""}]
[null,null,null,null,null,null,null,null,null,null,null,null,{"$f":"Fund!W2191","v":"00:00:00"},{"$f":"Fund!X2191","v":0},{"$f":"-Fund!V2191","v":0},{"$f":"Fund!V2191","v":0},{"$f":"Fund!P2191","v":""}]
[null,null,null,null,null,null,null,null,null,null,null,null,{"$f":"Fund!W2192","v":"00:00:00"},{"$f":"Fund!X2192","v":0},{"$f":"-Fund!V2192","v":0},{"$f":"Fund!V2192","v":0},{"$f":"Fund!P2192","v":""}]
[null,null,null,null,null,null,null,null,null,null,null,null,{"$f":"Fund!W2193","v":"00:00:00"},{"$f":"Fund!X2193","v":0},{"$f":"-Fund!V2193","v":0},{"$f":"Fund!V2193","v":0},{"$f":"Fund!P2193","v":""}]
[null,null,null,null,null,null,null,null,null,null,null,null,{"$f":"Fund!W2194","v":"00:00:00"},{"$f":"Fund!X2194","v":0},{"$f":"-Fund!V2194","v":0},{"$f":"Fund!V2194","v":0},{"$f":"Fund!P2194","v":""}]
[null,null,null,null,null,null,null,null,null,null,null,null,{"$f":"Fund!W2195","v":"00:00:00"},{"$f":"Fund!X2195","v":0},{"$f":"-Fund!V2195","v":0},{"$f":"Fund!V2195","v":0},{"$f":"Fund!P2195","v":""}]
[null,null,null,null,null,null,null,null,null,null,null,null,{"$f":"Fund!W2196","v":"00:00:00"},{"$f":"Fund!X2196","v":0},{"$f":"-Fund!V2196","v":0},{"$f":"Fund!V2196","v":0},{"$f":"Fund!P2196","v":""}]
[null,null,null,null,null,null,null,null,null,null,null,null,{"$f":"Fund!W2197","v":"00:00:00"},{"$f":"Fund!X2197","v":0},{"$f":"-Fund!V2197","v":0},{"$f":"Fund!V2197","v":0},{"$f":"Fund!P2197","v":""}]
[null,null,null,null,null,null,null,null,null,null,null,null,{"$f":"Fund!W2198","v":"00:00:00"},{"$f":"Fund!X2198","v":0},{"$f":"-Fund!V2198","v":0},{"$f":"Fund!V2198","v":0},{"$f":"Fund!P2198","v":""}]
[null,null,null,null,null,null,null,null,null,null,null,null,{"$f":"Fund!W2199","v":"00:00:00"},{"$f":"Fund!X2199","v":0},{"$f":"-Fund!V2199","v":0},{"$f":"Fund!V2199","v":0},{"$f":"Fund!P2199","v":""}]
[null,null,null,null,null,null,null,null,null,null,null,null,{"$f":"Fund!W2200","v":"00:00:00"},{"$f":"Fund!X2200","v":0},{"$f":"-Fund!V2200","v":0},{"$f":"Fund!V2200","v":0},{"$f":"Fund!P2200","v":""}]
[null,null,null,null,null,null,null,null,null,null,null,null,{"$f":"Fund!W2201","v":"2015-02-06"},{"$f":"Fund!X2201","v":69.5214},{"$f":"-Fund!V2201","v":1000},{"$f":"Fund!V2201","v":-1000},{"$f":"Fund!P2201","v":14.384060159893213}]
[null,null,null,null,null,null,null,null,null,null,null,null,{"$f":"Fund!W2202","v":"00:00:00"},{"$f":"Fund!X2202","v":0},{"$f":"-Fund!V2202","v":0},{"$f":"Fund!V2202","v":0},{"$f":"Fund!P2202","v":""}]
[null,null,null,null,null,null,null,null,null,null,null,null,{"$f":"Fund!W2203","v":"00:00:00"},{"$f":"Fund!X2203","v":0},{"$f":"-Fund!V2203","v":0},{"$f":"Fund!V2203","v":0},{"$f":"Fund!P2203","v":""}]
[null,null,null,null,null,null,null,null,null,null,null,null,{"$f":"Fund!W2204","v":"00:00:00"},{"$f":"Fund!X2204","v":0},{"$f":"-Fund!V2204","v":0},{"$f":"Fund!V2204","v":0},{"$f":"Fund!P2204","v":""}]
[null,null,null,null,null,null,null,null,null,null,null,null,{"$f":"Fund!W2205","v":"00:00:00"},{"$f":"Fund!X2205","v":0},{"$f":"-Fund!V2205","v":0},{"$f":"Fund!V2205","v":0},{"$f":"Fund!P2205","v":""}]
[null,null,null,null,null,null,null,null,null,null,null,null,{"$f":"Fund!W2206","v":"00:00:00"},{"$f":"Fund!X2206","v":0},{"$f":"-Fund!V2206","v":0},{"$f":"Fund!V2206","v":0},{"$f":"Fund!P2206","v":""}]
[null,null,null,null,null,null,null,null,null,null,null,null,{"$f":"Fund!W2207","v":"00:00:00"},{"$f":"Fund!X2207","v":0},{"$f":"-Fund!V2207","v":0},{"$f":"Fund!V2207","v":0},{"$f":"Fund!P2207","v":""}]
[null,null,null,null,null,null,null,null,null,null,null,null,{"$f":"Fund!W2208","v":"00:00:00"},{"$f":"Fund!X2208","v":0},{"$f":"-Fund!V2208","v":0},{"$f":"Fund!V2208","v":0},{"$f":"Fund!P2208","v":""}]
[null,null,null,null,null,null,null,null,null,null,null,null,{"$f":"Fund!W2209","v":"00:00:00"},{"$f":"Fund!X2209","v":0},{"$f":"-Fund!V2209","v":0},{"$f":"Fund!V2209","v":0},{"$f":"Fund!P2209","v":""}]
[null,null,null,null,null,null,null,null,null,null,null,null,{"$f":"Fund!W2210","v":"00:00:00"},{"$f":"Fund!X2210","v":0},{"$f":"-Fund!V2210","v":0},{"$f":"Fund!V2210","v":0},{"$f":"Fund!P2210","v":""}]
[null,null,null,null,null,null,null,null,null,null,null,null,{"$f":"Fund!W2211","v":"00:00:00"},{"$f":"Fund!X2211","v":0},{"$f":"-Fund!V2211","v":0},{"$f":"Fund!V2211","v":0},{"$f":"Fund!P2211","v":""}]
[null,null,null,null,null,null,null,null,null,null,null,null,{"$f":"Fund!W2212","v":"00:00:00"},{"$f":"Fund!X2212","v":0},{"$f":"-Fund!V2212","v":0},{"$f":"Fund!V2212","v":0},{"$f":"Fund!P2212","v":""}]
[null,null,null,null,null,null,null,null,null,null,null,null,{"$f":"Fund!W2213","v":"00:00:00"},{"$f":"Fund!X2213","v":0},{"$f":"-Fund!V2213","v":0},{"$f":"Fund!V2213","v":0},{"$f":"Fund!P2213","v":""}]
[null,null,null,null,null,null,null,null,null,null,null,null,{"$f":"Fund!W2214","v":"00:00:00"},{"$f":"Fund!X2214","v":0},{"$f":"-Fund!V2214","v":0},{"$f":"Fund!V2214","v":0},{"$f":"Fund!P2214","v":""}]
[null,null,null,null,null,null,null,null,null,null,null,null,{"$f":"Fund!W2215","v":"00:00:00"},{"$f":"Fund!X2215","v":0},{"$f":"-Fund!V2215","v":0},{"$f":"Fund!V2215","v":0},{"$f":"Fund!P2215","v":""}]
[null,null,null,null,null,null,null,null,null,null,null,null,{"$f":"Fund!W2216","v":"00:00:00"},{"$f":"Fund!X2216","v":0},{"$f":"-Fund!V2216","v":0},{"$f":"Fund!V2216","v":0},{"$f":"Fund!P2216","v":""}]
[null,null,null,null,null,null,null,null,null,null,null,null,{"$f":"Fund!W2217","v":"2015-03-09"},{"$f":"Fund!X2217","v":73.506900000000002},{"$f":"-Fund!V2217","v":1000},{"$f":"Fund!V2217","v":-1000},{"$f":"Fund!P2217","v":13.604165051172066}]
[null,null,null,null,null,null,null,null,null,null,null,null,{"$f":"Fund!W2218","v":"00:00:00"},{"$f":"Fund!X2218","v":0},{"$f":"-Fund!V2218","v":0},{"$f":"Fund!V2218","v":0},{"$f":"Fund!P2218","v":""}]
[null,null,null,null,null,null,null,null,null,null,null,null,{"$f":"Fund!W2219","v":"00:00:00"},{"$f":"Fund!X2219","v":0},{"$f":"-Fund!V2219","v":0},{"$f":"Fund!V2219","v":0},{"$f":"Fund!P2219","v":""}]
[null,null,null,null,null,null,null,null,null,null,null,null,{"$f":"Fund!W2220","v":"00:00:00"},{"$f":"Fund!X2220","v":0},{"$f":"-Fund!V2220","v":0},{"$f":"Fund!V2220","v":0},{"$f":"Fund!P2220","v":""}]
[null,null,null,null,null,null,null,null,null,null,null,null,{"$f":"Fund!W2221","v":"00:00:00"},{"$f":"Fund!X2221","v":0},{"$f":"-Fund!V2221","v":0},{"$f":"Fund!V2221","v":0},{"$f":"Fund!P2221","v":""}]
[null,null,null,null,null,null,null,null,null,null,null,null,{"$f":"Fund!W2222","v":"00:00:00"},{"$f":"Fund!X2222","v":0},{"$f":"-Fund!V2222","v":0},{"$f":"Fund!V2222","v":0},{"$f":"Fund!P2222","v":""}]
[null,null,null,null,null,null,null,null,null,null,null,null,{"$f":"Fund!W2223","v":"00:00:00"},{"$f":"Fund!X2223","v":0},{"$f":"-Fund!V2223","v":0},{"$f":"Fund!V2223","v":0},{"$f":"Fund!P2223","v":""}]
[null,null,null,null,null,null,null,null,null,null,null,null,{"$f":"Fund!W2224","v":"00:00:00"},{"$f":"Fund!X2224","v":0},{"$f":"-Fund!V2224","v":0},{"$f":"Fund!V2224","v":0},{"$f":"Fund!P2224","v":""}]
[null,null,null,null,null,null,null,null,null,null,null,null,{"$f":"Fund!W2225","v":"00:00:00"},{"$f":"Fund!X2225","v":0},{"$f":"-Fund!V2225","v":0},{"$f":"Fund!V2225","v":0},{"$f":"Fund!P2225","v":""}]
[null,null,null,null,null,null,null,null,null,null,null,null,{"$f":"Fund!W2226","v":"00:00:00"},{"$f":"Fund!X2226","v":0},{"$f":"-Fund!V2226","v":0},{"$f":"Fund!V2226","v":0},{"$f":"Fund!P2226","v":""}]
[null,null,null,null,null,null,null,null,null,null,null,null,{"$f":"Fund!W2227","v":"00:00:00"},{"$f":"Fund!X2227","v":0},{"$f":"-Fund!V2227","v":0},{"$f":"Fund!V2227","v":0},{"$f":"Fund!P2227","v":""}]
[null,null,null,null,null,null,null,null,null,null,null,null,{"$f":"Fund!W2228","v":"00:00:00"},{"$f":"Fund!X2228","v":0},{"$f":"-Fund!V2228","v":0},{"$f":"Fund!V2228","v":0},{"$f":"Fund!P2228","v":""}]
[null,null,null,null,null,null,null,null,null,null,null,null,{"$f":"Fund!W2229","v":"00:00:00"},{"$f":"Fund!X2229","v":0},{"$f":"-Fund!V2229","v":0},{"$f":"Fund!V2229","v":0},{"$f":"Fund!P2229","v":""}]
[null,null,null,null,null,null,null,null,null,null,null,null,{"$f":"Fund!W2230","v":"00:00:00"},{"$f":"Fund!X2230","v":0},{"$f":"-Fund!V2230","v":0},{"$f":"Fund!V2230","v":0},{"$f":"Fund!P2230","v":""}]
[null,null,null,null,null,null,null,null,null,null,null,null,{"$f":"Fund!W2231","v":"00:00:00"},{"$f":"Fund!X2231","v":0},{"$f":"-Fund!V2231","v":0},{"$f":"Fund!V2231","v":0},{"$f":"Fund!P2231","v":""}]
[null,null,null,null,null,null,null,null,null,null,null,null,{"$f":"Fund!W2232","v":"00:00:00"},{"$f":"Fund!X2232","v":0},{"$f":"-Fund!V2232","v":0},{"$f":"Fund!V2232","v":0},{"$f":"Fund!P2232","v":""}]
[null,null,null,null,null,null,null,null,null,null,null,null,{"$f":"Fund!W2233","v":"00:00:00"},{"$f":"Fund!X2233","v":0},{"$f":"-Fund!V2233","v":0},{"$f":"Fund!V2233","v":0},{"$f":"Fund!P2233","v":""}]
[null,null,null,null,null,null,null,null,null,null,null,null,{"$f":"Fund!W2234","v":"00:00:00"},{"$f":"Fund!X2234","v":0},{"$f":"-Fund!V2234","v":0},{"$f":"Fund!V2234","v":0},{"$f":"Fund!P2234","v":""}]
[null,null,null,null,null,null,null,null,null,null,null,null,{"$f":"Fund!W2235","v":"2015-04-06"},{"$f":"Fund!X2235","v":75.091999999999999},{"$f":"-Fund!V2235","v":1000},{"$f":"Fund!V2235","v":-1000},{"$f":"Fund!P2235","v":13.316997816012359}]
[null,null,null,null,null,null,null,null,null,null,null,null,{"$f":"Fund!W2236","v":"00:00:00"},{"$f":"Fund!X2236","v":0},{"$f":"-Fund!V2236","v":0},{"$f":"Fund!V2236","v":0},{"$f":"Fund!P2236","v":""}]
[null,null,null,null,null,null,null,null,null,null,null,null,{"$f":"Fund!W2237","v":"00:00:00"},{"$f":"Fund!X2237","v":0},{"$f":"-Fund!V2237","v":0},{"$f":"Fund!V2237","v":0},{"$f":"Fund!P2237","v":""}]
[null,null,null,null,null,null,null,null,null,null,null,null,{"$f":"Fund!W2238","v":"00:00:00"},{"$f":"Fund!X2238","v":0},{"$f":"-Fund!V2238","v":0},{"$f":"Fund!V2238","v":0},{"$f":"Fund!P2238","v":""}]
[null,null,null,null,null,null,null,null,null,null,null,null,{"$f":"Fund!W2239","v":"2015-04-06"},{"$f":"Fund!X2239","v":117.25},{"$f":"-Fund!V2239","v":1000},{"$f":"Fund!V2239","v":-1000},{"$f":"Fund!P2239","v":8.5287846481876333}]
[null,null,null,null,null,null,null,null,null,null,null,null,{"$f":"Fund!W2240","v":"00:00:00"},{"$f":"Fund!X2240","v":0},{"$f":"-Fund!V2240","v":0},{"$f":"Fund!V2240","v":0},{"$f":"Fund!P2240","v":""}]
[null,null,null,null,null,null,null,null,null,null,null,null,{"$f":"Fund!W2241","v":"00:00:00"},{"$f":"Fund!X2241","v":0},{"$f":"-Fund!V2241","v":0},{"$f":"Fund!V2241","v":0},{"$f":"Fund!P2241","v":""}]
[null,null,null,null,null,null,null,null,null,null,null,null,{"$f":"Fund!W2242","v":"00:00:00"},{"$f":"Fund!X2242","v":0},{"$f":"-Fund!V2242","v":0},{"$f":"Fund!V2242","v":0},{"$f":"Fund!P2242","v":""}]
[null,null,null,null,null,null,null,null,null,null,null,null,{"$f":"Fund!W2243","v":"00:00:00"},{"$f":"Fund!X2243","v":0},{"$f":"-Fund!V2243","v":0},{"$f":"Fund!V2243","v":0},{"$f":"Fund!P2243","v":""}]
[null,null,null,null,null,null,null,null,null,null,null,null,{"$f":"Fund!W2244","v":"00:00:00"},{"$f":"Fund!X2244","v":0},{"$f":"-Fund!V2244","v":0},{"$f":"Fund!V2244","v":0},{"$f":"Fund!P2244","v":""}]
[null,null,null,null,null,null,null,null,null,null,null,null,{"$f":"Fund!W2245","v":"00:00:00"},{"$f":"Fund!X2245","v":0},{"$f":"-Fund!V2245","v":0},{"$f":"Fund!V2245","v":0},{"$f":"Fund!P2245","v":""}]
[null,null,null,null,null,null,null,null,null,null,null,null,{"$f":"Fund!W2246","v":"00:00:00"},{"$f":"Fund!X2246","v":0},{"$f":"-Fund!V2246","v":0},{"$f":"Fund!V2246","v":0},{"$f":"Fund!P2246","v":""}]
[null,null,null,null,null,null,null,null,null,null,null,null,{"$f":"Fund!W2247","v":"00:00:00"},{"$f":"Fund!X2247","v":0},{"$f":"-Fund!V2247","v":0},{"$f":"Fund!V2247","v":0},{"$f":"Fund!P2247","v":""}]
[null,null,null,null,null,null,null,null,null,null,null,null,{"$f":"Fund!W2248","v":"00:00:00"},{"$f":"Fund!X2248","v":0},{"$f":"-Fund!V2248","v":0},{"$f":"Fund!V2248","v":0},{"$f":"Fund!P2248","v":""}]
[null,null,null,null,null,null,null,null,null,null,null,null,{"$f":"Fund!W2249","v":"00:00:00"},{"$f":"Fund!X2249","v":0},{"$f":"-Fund!V2249","v":0},{"$f":"Fund!V2249","v":0},{"$f":"Fund!P2249","v":""}]
[null,null,null,null,null,null,null,null,null,null,null,null,{"$f":"Fund!W2250","v":"00:00:00"},{"$f":"Fund!X2250","v":0},{"$f":"-Fund!V2250","v":0},{"$f":"Fund!V2250","v":0},{"$f":"Fund!P2250","v":""}]
[null,null,null,null,null,null,null,null,null,null,null,null,{"$f":"Fund!W2251","v":"00:00:00"},{"$f":"Fund!X2251","v":0},{"$f":"-Fund!V2251","v":0},{"$f":"Fund!V2251","v":0},{"$f":"Fund!P2251","v":""}]
[null,null,null,null,null,null,null,null,null,null,null,null,{"$f":"Fund!W2252","v":"00:00:00"},{"$f":"Fund!X2252","v":0},{"$f":"-Fund!V2252","v":0},{"$f":"Fund!V2252","v":0},{"$f":"Fund!P2252","v":""}]
[null,null,null,null,null,null,null,null,null,null,null,null,{"$f":"Fund!W2253","v":"00:00:00"},{"$f":"Fund!X2253","v":0},{"$f":"-Fund!V2253","v":0},{"$f":"Fund!V2253","v":0},{"$f":"Fund!P2253","v":""}]
[null,null,null,null,null,null,null,null,null,null,null,null,{"$f":"Fund!W2254","v":"00:00:00"},{"$f":"Fund!X2254","v":0},{"$f":"-Fund!V2254","v":0},{"$f":"Fund!V2254","v":0},{"$f":"Fund!P2254","v":""}]
[null,null,null,null,null,null,null,null,null,null,null,null,{"$f":"Fund!W2255","v":"00:00:00"},{"$f":"Fund!X2255","v":0},{"$f":"-Fund!V2255","v":0},{"$f":"Fund!V2255","v":0},{"$f":"Fund!P2255","v":""}]
[null,null,null,null,null,null,null,null,null,null,null,null,{"$f":"Fund!W2256","v":"00:00:00"},{"$f":"Fund!X2256","v":0},{"$f":"-Fund!V2256","v":0},{"$f":"Fund!V2256","v":0},{"$f":"Fund!P2256","v":""}]
[null,null,null,null,null,null,null,null,null,null,null,null,{"$f":"Fund!W2257","v":"00:00:00"},{"$f":"Fund!X2257","v":0},{"$f":"-Fund!V2257","v":0},{"$f":"Fund!V2257","v":0},{"$f":"Fund!P2257","v":""}]
[null,null,null,null,null,null,null,null,null,null,null,null,{"$f":"Fund!W2258","v":"00:00:00"},{"$f":"Fund!X2258","v":0},{"$f":"-Fund!V2258","v":0},{"$f":"Fund!V2258","v":0},{"$f":"Fund!P2258","v":""}]
[null,null,null,null,null,null,null,null,null,null,null,null,{"$f":"Fund!W2259","v":"00:00:00"},{"$f":"Fund!X2259","v":0},{"$f":"-Fund!V2259","v":0},{"$f":"Fund!V2259","v":0},{"$f":"Fund!P2259","v":""}]
[null,null,null,null,null,null,null,null,null,null,null,null,{"$f":"Fund!W2260","v":"00:00:00"},{"$f":"Fund!X2260","v":0},{"$f":"-Fund!V2260","v":0},{"$f":"Fund!V2260","v":0},{"$f":"Fund!P2260","v":""}]
[null,null,null,null,null,null,null,null,null,null,null,null,{"$f":"Fund!W2261","v":"00:00:00"},{"$f":"Fund!X2261","v":0},{"$f":"-Fund!V2261","v":0},{"$f":"Fund!V2261","v":0},{"$f":"Fund!P2261","v":""}]
[null,null,null,null,null,null,null,null,null,null,null,null,{"$f":"Fund!W2262","v":"00:00:00"},{"$f":"Fund!X2262","v":0},{"$f":"-Fund!V2262","v":0},{"$f":"Fund!V2262","v":0},{"$f":"Fund!P2262","v":""}]
[null,null,null,null,null,null,null,null,null,null,null,null,{"$f":"Fund!W2263","v":"00:00:00"},{"$f":"Fund!X2263","v":0},{"$f":"-Fund!V2263","v":0},{"$f":"Fund!V2263","v":0},{"$f":"Fund!P2263","v":""}]
[null,null,null,null,null,null,null,null,null,null,null,null,{"$f":"Fund!W2264","v":"00:00:00"},{"$f":"Fund!X2264","v":0},{"$f":"-Fund!V2264","v":0},{"$f":"Fund!V2264","v":0},{"$f":"Fund!P2264","v":""}]
[null,null,null,null,null,null,null,null,null,null,null,null,{"$f":"Fund!W2265","v":"00:00:00"},{"$f":"Fund!X2265","v":0},{"$f":"-Fund!V2265","v":0},{"$f":"Fund!V2265","v":0},{"$f":"Fund!P2265","v":""}]
[null,null,null,null,null,null,null,null,null,null,null,null,{"$f":"Fund!W2266","v":"00:00:00"},{"$f":"Fund!X2266","v":0},{"$f":"-Fund!V2266","v":0},{"$f":"Fund!V2266","v":0},{"$f":"Fund!P2266","v":""}]
[null,null,null,null,null,null,null,null,null,null,null,null,{"$f":"Fund!W2267","v":"00:00:00"},{"$f":"Fund!X2267","v":0},{"$f":"-Fund!V2267","v":0},{"$f":"Fund!V2267","v":0},{"$f":"Fund!P2267","v":""}]
[null,null,null,null,null,null,null,null,null,null,null,null,{"$f":"Fund!W2268","v":"00:00:00"},{"$f":"Fund!X2268","v":0},{"$f":"-Fund!V2268","v":0},{"$f":"Fund!V2268","v":0},{"$f":"Fund!P2268","v":""}]
[null,null,null,null,null,null,null,null,null,null,null,null,{"$f":"Fund!W2269","v":"00:00:00"},{"$f":"Fund!X2269","v":0},{"$f":"-Fund!V2269","v":0},{"$f":"Fund!V2269","v":0},{"$f":"Fund!P2269","v":""}]
[null,null,null,null,null,null,null,null,null,null,null,null,{"$f":"Fund!W2270","v":"00:00:00"},{"$f":"Fund!X2270","v":0},{"$f":"-Fund!V2270","v":0},{"$f":"Fund!V2270","v":0},{"$f":"Fund!P2270","v":""}]
[null,null,null,null,null,null,null,null,null,null,null,null,{"$f":"Fund!W2271","v":"00:00:00"},{"$f":"Fund!X2271","v":0},{"$f":"-Fund!V2271","v":0},{"$f":"Fund!V2271","v":0},{"$f":"Fund!P2271","v":""}]
[null,null,null,null,null,null,null,null,null,null,null,null,{"$f":"Fund!W2272","v":"00:00:00"},{"$f":"Fund!X2272","v":0},{"$f":"-Fund!V2272","v":0},{"$f":"Fund!V2272","v":0},{"$f":"Fund!P2272","v":""}]
[null,null,null,null,null,null,null,null,null,null,null,null,{"$f":"Fund!W2273","v":"00:00:00"},{"$f":"Fund!X2273","v":0},{"$f":"-Fund!V2273","v":0},{"$f":"Fund!V2273","v":0},{"$f":"Fund!P2273","v":""}]
[null,null,null,null,null,null,null,null,null,null,null,null,{"$f":"Fund!W2274","v":"00:00:00"},{"$f":"Fund!X2274","v":0},{"$f":"-Fund!V2274","v":0},{"$f":"Fund!V2274","v":0},{"$f":"Fund!P2274","v":""}]
[null,null,null,null,null,null,null,null,null,null,null,null,{"$f":"Fund!W2275","v":"00:00:00"},{"$f":"Fund!X2275","v":0},{"$f":"-Fund!V2275","v":0},{"$f":"Fund!V2275","v":0},{"$f":"Fund!P2275","v":""}]
[null,null,null,null,null,null,null,null,null,null,null,null,{"$f":"Fund!W2276","v":"00:00:00"},{"$f":"Fund!X2276","v":0},{"$f":"-Fund!V2276","v":0},{"$f":"Fund!V2276","v":0},{"$f":"Fund!P2276","v":""}]
[null,null,null,null,null,null,null,null,null,null,null,null,{"$f":"Fund!W2277","v":"00:00:00"},{"$f":"Fund!X2277","v":0},{"$f":"-Fund!V2277","v":0},{"$f":"Fund!V2277","v":0},{"$f":"Fund!P2277","v":""}]
[null,null,null,null,null,null,null,null,null,null,null,null,{"$f":"Fund!W2278","v":"00:00:00"},{"$f":"Fund!X2278","v":0},{"$f":"-Fund!V2278","v":0},{"$f":"Fund!V2278","v":0},{"$f":"Fund!P2278","v":""}]
[null,null,null,null,null,null,null,null,null,null,null,null,{"$f":"Fund!W2279","v":"00:00:00"},{"$f":"Fund!X2279","v":0},{"$f":"-Fund!V2279","v":0},{"$f":"Fund!V2279","v":0},{"$f":"Fund!P2279","v":""}]
[null,null,null,null,null,null,null,null,null,null,null,null,{"$f":"Fund!W2280","v":"00:00:00"},{"$f":"Fund!X2280","v":0},{"$f":"-Fund!V2280","v":0},{"$f":"Fund!V2280","v":0},{"$f":"Fund!P2280","v":""}]
[null,null,null,null,null,null,null,null,null,null,null,null,{"$f":"Fund!W2281","v":"00:00:00"},{"$f":"Fund!X2281","v":0},{"$f":"-Fund!V2281","v":0},{"$f":"Fund!V2281","v":0},{"$f":"Fund!P2281","v":""}]
[null,null,null,null,null,null,null,null,null,null,null,null,{"$f":"Fund!W2282","v":"00:00:00"},{"$f":"Fund!X2282","v":0},{"$f":"-Fund!V2282","v":0},{"$f":"Fund!V2282","v":0},{"$f":"Fund!P2282","v":""}]
[null,null,null,null,null,null,null,null,null,null,null,null,{"$f":"Fund!W2283","v":"00:00:00"},{"$f":"Fund!X2283","v":0},{"$f":"-Fund!V2283","v":0},{"$f":"Fund!V2283","v":0},{"$f":"Fund!P2283","v":""}]
[null,null,null,null,null,null,null,null,null,null,null,null,{"$f":"Fund!W2284","v":"00:00:00"},{"$f":"Fund!X2284","v":0},{"$f":"-Fund!V2284","v":0},{"$f":"Fund!V2284","v":0},{"$f":"Fund!P2284","v":""}]
[null,null,null,null,null,null,null,null,null,null,null,null,{"$f":"Fund!W2285","v":"00:00:00"},{"$f":"Fund!X2285","v":0},{"$f":"-Fund!V2285","v":0},{"$f":"Fund!V2285","v":0},{"$f":"Fund!P2285","v":""}]
[null,null,null,null,null,null,null,null,null,null,null,null,{"$f":"Fund!W2286","v":"00:00:00"},{"$f":"Fund!X2286","v":0},{"$f":"-Fund!V2286","v":0},{"$f":"Fund!V2286","v":0},{"$f":"Fund!P2286","v":""}]
[null,null,null,null,null,null,null,null,null,null,null,null,{"$f":"Fund!W2287","v":"00:00:00"},{"$f":"Fund!X2287","v":0},{"$f":"-Fund!V2287","v":0},{"$f":"Fund!V2287","v":0},{"$f":"Fund!P2287","v":""}]
[null,null,null,null,null,null,null,null,null,null,null,null,{"$f":"Fund!W2288","v":"00:00:00"},{"$f":"Fund!X2288","v":0},{"$f":"-Fund!V2288","v":0},{"$f":"Fund!V2288","v":0},{"$f":"Fund!P2288","v":""}]
[null,null,null,null,null,null,null,null,null,null,null,null,{"$f":"Fund!W2289","v":"00:00:00"},{"$f":"Fund!X2289","v":0},{"$f":"-Fund!V2289","v":0},{"$f":"Fund!V2289","v":0},{"$f":"Fund!P2289","v":""}]
[null,null,null,null,null,null,null,null,null,null,null,null,{"$f":"Fund!W2290","v":"00:00:00"},{"$f":"Fund!X2290","v":0},{"$f":"-Fund!V2290","v":0},{"$f":"Fund!V2290","v":0},{"$f":"Fund!P2290","v":""}]
[null,null,null,null,null,null,null,null,null,null,null,null,{"$f":"Fund!W2291","v":"00:00:00"},{"$f":"Fund!X2291","v":0},{"$f":"-Fund!V2291","v":0},{"$f":"Fund!V2291","v":0},{"$f":"Fund!P2291","v":""}]
[null,null,null,null,null,null,null,null,null,null,null,null,{"$f":"Fund!W2292","v":"00:00:00"},{"$f":"Fund!X2292","v":0},{"$f":"-Fund!V2292","v":0},{"$f":"Fund!V2292","v":0},{"$f":"Fund!P2292","v":""}]
[null,null,null,null,null,null,null,null,null,null,null,null,{"$f":"Fund!W2293","v":"00:00:00"},{"$f":"Fund!X2293","v":0},{"$f":"-Fund!V2293","v":0},{"$f":"Fund!V2293","v":0},{"$f":"Fund!P2293","v":""}]
[null,null,null,null,null,null,null,null,null,null,null,null,{"$f":"Fund!W2294","v":"00:00:00"},{"$f":"Fund!X2294","v":0},{"$f":"-Fund!V2294","v":0},{"$f":"Fund!V2294","v":0},{"$f":"Fund!P2294","v":""}]
[null,null,null,null,null,null,null,null,null,null,null,null,{"$f":"Fund!W2295","v":"00:00:00"},{"$f":"Fund!X2295","v":0},{"$f":"-Fund!V2295","v":0},{"$f":"Fund!V2295","v":0},{"$f":"Fund!P2295","v":""}]
[null,null,null,null,null,null,null,null,null,null,null,null,{"$f":"Fund!W2296","v":"00:00:00"},{"$f":"Fund!X2296","v":0},{"$f":"-Fund!V2296","v":0},{"$f":"Fund!V2296","v":0},{"$f":"Fund!P2296","v":""}]
[null,null,null,null,null,null,null,null,null,null,null,null,{"$f":"Fund!W2297","v":"00:00:00"},{"$f":"Fund!X2297","v":0},{"$f":"-Fund!V2297","v":0},{"$f":"Fund!V2297","v":0},{"$f":"Fund!P2297","v":""}]
[null,null,null,null,null,null,null,null,null,null,null,null,{"$f":"Fund!W2298","v":"00:00:00"},{"$f":"Fund!X2298","v":0},{"$f":"-Fund!V2298","v":0},{"$f":"Fund!V2298","v":0},{"$f":"Fund!P2298","v":""}]
[null,null,null,null,null,null,null,null,null,null,null,null,{"$f":"Fund!W2299","v":"00:00:00"},{"$f":"Fund!X2299","v":0},{"$f":"-Fund!V2299","v":0},{"$f":"Fund!V2299","v":0},{"$f":"Fund!P2299","v":""}]
[null,null,null,null,null,null,null,null,null,null,null,null,{"$f":"Fund!W2300","v":"00:00:00"},{"$f":"Fund!X2300","v":0},{"$f":"-Fund!V2300","v":0},{"$f":"Fund!V2300","v":0},{"$f":"Fund!P2300","v":""}]
[null,null,null,null,null,null,null,null,null,null,null,null,{"$f":"Fund!W2301","v":"00:00:00"},{"$f":"Fund!X2301","v":0},{"$f":"-Fund!V2301","v":0},{"$f":"Fund!V2301","v":0},{"$f":"Fund!P2301","v":""}]
[null,null,null,null,null,null,null,null,null,null,null,null,{"$f":"Fund!W2302","v":"00:00:00"},{"$f":"Fund!X2302","v":0},{"$f":"-Fund!V2302","v":0},{"$f":"Fund!V2302","v":0},{"$f":"Fund!P2302","v":""}]
[null,null,null,null,null,null,null,null,null,null,null,null,{"$f":"Fund!W2303","v":"00:00:00"},{"$f":"Fund!X2303","v":0},{"$f":"-Fund!V2303","v":0},{"$f":"Fund!V2303","v":0},{"$f":"Fund!P2303","v":""}]
[null,null,null,null,null,null,null,null,null,null,null,null,{"$f":"Fund!W2304","v":"00:00:00"},{"$f":"Fund!X2304","v":0},{"$f":"-Fund!V2304","v":0},{"$f":"Fund!V2304","v":0},{"$f":"Fund!P2304","v":""}]
[null,null,null,null,null,null,null,null,null,null,null,null,{"$f":"Fund!W2305","v":"00:00:00"},{"$f":"Fund!X2305","v":0},{"$f":"-Fund!V2305","v":0},{"$f":"Fund!V2305","v":0},{"$f":"Fund!P2305","v":""}]
[null,null,null,null,null,null,null,null,null,null,null,null,{"$f":"Fund!W2306","v":"00:00:00"},{"$f":"Fund!X2306","v":0},{"$f":"-Fund!V2306","v":0},{"$f":"Fund!V2306","v":0},{"$f":"Fund!P2306","v":""}]
[null,null,null,null,null,null,null,null,null,null,null,null,{"$f":"Fund!W2307","v":"00:00:00"},{"$f":"Fund!X2307","v":0},{"$f":"-Fund!V2307","v":0},{"$f":"Fund!V2307","v":0},{"$f":"Fund!P2307","v":""}]
[null,null,null,null,null,null,null,null,null,null,null,null,{"$f":"Fund!W2308","v":"00:00:00"},{"$f":"Fund!X2308","v":0},{"$f":"-Fund!V2308","v":0},{"$f":"Fund!V2308","v":0},{"$f":"Fund!P2308","v":""}]
[null,null,null,null,null,null,null,null,null,null,null,null,{"$f":"Fund!W2309","v":"00:00:00"},{"$f":"Fund!X2309","v":0},{"$f":"-Fund!V2309","v":0},{"$f":"Fund!V2309","v":0},{"$f":"Fund!P2309","v":""}]
[null,null,null,null,null,null,null,null,null,null,null,null,{"$f":"Fund!W2310","v":"00:00:00"},{"$f":"Fund!X2310","v":0},{"$f":"-Fund!V2310","v":0},{"$f":"Fund!V2310","v":0},{"$f":"Fund!P2310","v":""}]
[null,null,null,null,null,null,null,null,null,null,null,null,{"$f":"Fund!W2311","v":"00:00:00"},{"$f":"Fund!X2311","v":0},{"$f":"-Fund!V2311","v":0},{"$f":"Fund!V2311","v":0},{"$f":"Fund!P2311","v":""}]
[null,null,null,null,null,null,null,null,null,null,null,null,{"$f":"Fund!W2312","v":"00:00:00"},{"$f":"Fund!X2312","v":0},{"$f":"-Fund!V2312","v":0},{"$f":"Fund!V2312","v":0},{"$f":"Fund!P2312","v":""}]
[null,null,null,null,null,null,null,null,null,null,null,null,{"$f":"Fund!W2313","v":"00:00:00"},{"$f":"Fund!X2313","v":0},{"$f":"-Fund!V2313","v":0},{"$f":"Fund!V2313","v":0},{"$f":"Fund!P2313","v":""}]
[null,null,null,null,null,null,null,null,null,null,null,null,{"$f":"Fund!W2314","v":"00:00:00"},{"$f":"Fund!X2314","v":0},{"$f":"-Fund!V2314","v":0},{"$f":"Fund!V2314","v":0},{"$f":"Fund!P2314","v":""}]
[null,null,null,null,null,null,null,null,null,null,null,null,{"$f":"Fund!W2315","v":"00:00:00"},{"$f":"Fund!X2315","v":0},{"$f":"-Fund!V2315","v":0},{"$f":"Fund!V2315","v":0},{"$f":"Fund!P2315","v":""}]
[null,null,null,null,null,null,null,null,null,null,null,null,{"$f":"Fund!W2316","v":"00:00:00"},{"$f":"Fund!X2316","v":0},{"$f":"-Fund!V2316","v":0},{"$f":"Fund!V2316","v":0},{"$f":"Fund!P2316","v":""}]
[null,null,null,null,null,null,null,null,null,null,null,null,{"$f":"Fund!W2317","v":"00:00:00"},{"$f":"Fund!X2317","v":0},{"$f":"-Fund!V2317","v":0},{"$f":"Fund!V2317","v":0},{"$f":"Fund!P2317","v":""}]
[null,null,null,null,null,null,null,null,null,null,null,null,{"$f":"Fund!W2318","v":"00:00:00"},{"$f":"Fund!X2318","v":0},{"$f":"-Fund!V2318","v":0},{"$f":"Fund!V2318","v":0},{"$f":"Fund!P2318","v":""}]
[null,null,null,null,null,null,null,null,null,null,null,null,{"$f":"Fund!W2319","v":"00:00:00"},{"$f":"Fund!X2319","v":0},{"$f":"-Fund!V2319","v":0},{"$f":"Fund!V2319","v":0},{"$f":"Fund!P2319","v":""}]
[null,null,null,null,null,null,null,null,null,null,null,null,{"$f":"Fund!W2320","v":"00:00:00"},{"$f":"Fund!X2320","v":0},{"$f":"-Fund!V2320","v":0},{"$f":"Fund!V2320","v":0},{"$f":"Fund!P2320","v":""}]
[null,null,null,null,null,null,null,null,null,null,null,null,{"$f":"Fund!W2321","v":"00:00:00"},{"$f":"Fund!X2321","v":0},{"$f":"-Fund!V2321","v":0},{"$f":"Fund!V2321","v":0},{"$f":"Fund!P2321","v":""}]
[null,null,null,null,null,null,null,null,null,null,null,null,{"$f":"Fund!W2322","v":"00:00:00"},{"$f":"Fund!X2322","v":0},{"$f":"-Fund!V2322","v":0},{"$f":"Fund!V2322","v":0},{"$f":"Fund!P2322","v":""}]
[null,null,null,null,null,null,null,null,null,null,null,null,{"$f":"Fund!W2323","v":"00:00:00"},{"$f":"Fund!X2323","v":0},{"$f":"-Fund!V2323","v":0},{"$f":"Fund!V2323","v":0},{"$f":"Fund!P2323","v":""}]
[null,null,null,null,null,null,null,null,null,null,null,null,{"$f":"Fund!W2324","v":"00:00:00"},{"$f":"Fund!X2324","v":0},{"$f":"-Fund!V2324","v":0},{"$f":"Fund!V2324","v":0},{"$f":"Fund!P2324","v":""}]
[null,null,null,null,null,null,null,null,null,null,null,null,{"$f":"Fund!W2325","v":"00:00:00"},{"$f":"Fund!X2325","v":0},{"$f":"-Fund!V2325","v":0},{"$f":"Fund!V2325","v":0},{"$f":"Fund!P2325","v":""}]
[null,null,null,null,null,null,null,null,null,null,null,null,{"$f":"Fund!W2326","v":"00:00:00"},{"$f":"Fund!X2326","v":0},{"$f":"-Fund!V2326","v":0},{"$f":"Fund!V2326","v":0},{"$f":"Fund!P2326","v":""}]
[null,null,null,null,null,null,null,null,null,null,null,null,{"$f":"Fund!W2327","v":"00:00:00"},{"$f":"Fund!X2327","v":0},{"$f":"-Fund!V2327","v":0},{"$f":"Fund!V2327","v":0},{"$f":"Fund!P2327","v":""}]
[null,null,null,null,null,null,null,null,null,null,null,null,{"$f":"Fund!W2328","v":"00:00:00"},{"$f":"Fund!X2328","v":0},{"$f":"-Fund!V2328","v":0},{"$f":"Fund!V2328","v":0},{"$f":"Fund!P2328","v":""}]
[null,null,null,null,null,null,null,null,null,null,null,null,{"$f":"Fund!W2329","v":"00:00:00"},{"$f":"Fund!X2329","v":0},{"$f":"-Fund!V2329","v":0},{"$f":"Fund!V2329","v":0},{"$f":"Fund!P2329","v":""}]
[null,null,null,null,null,null,null,null,null,null,null,null,{"$f":"Fund!W2330","v":"00:00:00"},{"$f":"Fund!X2330","v":0},{"$f":"-Fund!V2330","v":0},{"$f":"Fund!V2330","v":0},{"$f":"Fund!P2330","v":""}]
[null,null,null,null,null,null,null,null,null,null,null,null,{"$f":"Fund!W2331","v":"00:00:00"},{"$f":"Fund!X2331","v":0},{"$f":"-Fund!V2331","v":0},{"$f":"Fund!V2331","v":0},{"$f":"Fund!P2331","v":""}]
[null,null,null,null,null,null,null,null,null,null,null,null,{"$f":"Fund!W2332","v":"00:00:00"},{"$f":"Fund!X2332","v":0},{"$f":"-Fund!V2332","v":0},{"$f":"Fund!V2332","v":0},{"$f":"Fund!P2332","v":""}]
[null,null,null,null,null,null,null,null,null,null,null,null,{"$f":"Fund!W2333","v":"00:00:00"},{"$f":"Fund!X2333","v":0},{"$f":"-Fund!V2333","v":0},{"$f":"Fund!V2333","v":0},{"$f":"Fund!P2333","v":""}]
[null,null,null,null,null,null,null,null,null,null,null,null,{"$f":"Fund!W2334","v":"00:00:00"},{"$f":"Fund!X2334","v":0},{"$f":"-Fund!V2334","v":0},{"$f":"Fund!V2334","v":0},{"$f":"Fund!P2334","v":""}]
[null,null,null,null,null,null,null,null,null,null,null,null,{"$f":"Fund!W2335","v":"00:00:00"},{"$f":"Fund!X2335","v":0},{"$f":"-Fund!V2335","v":0},{"$f":"Fund!V2335","v":0},{"$f":"Fund!P2335","v":""}]
[null,null,null,null,null,null,null,null,null,null,null,null,{"$f":"Fund!W2336","v":"00:00:00"},{"$f":"Fund!X2336","v":0},{"$f":"-Fund!V2336","v":0},{"$f":"Fund!V2336","v":0},{"$f":"Fund!P2336","v":""}]
[null,null,null,null,null,null,null,null,null,null,null,null,{"$f":"Fund!W2337","v":"00:00:00"},{"$f":"Fund!X2337","v":0},{"$f":"-Fund!V2337","v":0},{"$f":"Fund!V2337","v":0},{"$f":"Fund!P2337","v":""}]
[null,null,null,null,null,null,null,null,null,null,null,null,{"$f":"Fund!W2338","v":"00:00:00"},{"$f":"Fund!X2338","v":0},{"$f":"-Fund!V2338","v":0},{"$f":"Fund!V2338","v":0},{"$f":"Fund!P2338","v":""}]
[null,null,null,null,null,null,null,null,null,null,null,null,{"$f":"Fund!W2339","v":"00:00:00"},{"$f":"Fund!X2339","v":0},{"$f":"-Fund!V2339","v":0},{"$f":"Fund!V2339","v":0},{"$f":"Fund!P2339","v":""}]
[null,null,null,null,null,null,null,null,null,null,null,null,{"$f":"Fund!W2340","v":"00:00:00"},{"$f":"Fund!X2340","v":0},{"$f":"-Fund!V2340","v":0},{"$f":"Fund!V2340","v":0},{"$f":"Fund!P2340","v":""}]
[null,null,null,null,null,null,null,null,null,null,null,null,{"$f":"Fund!W2341","v":"00:00:00"},{"$f":"Fund!X2341","v":0},{"$f":"-Fund!V2341","v":0},{"$f":"Fund!V2341","v":0},{"$f":"Fund!P2341","v":""}]
[null,null,null,null,null,null,null,null,null,null,null,null,{"$f":"Fund!W2342","v":"00:00:00"},{"$f":"Fund!X2342","v":0},{"$f":"-Fund!V2342","v":0},{"$f":"Fund!V2342","v":0},{"$f":"Fund!P2342","v":""}]
[null,null,null,null,null,null,null,null,null,null,null,null,{"$f":"Fund!W2343","v":"00:00:00"},{"$f":"Fund!X2343","v":0},{"$f":"-Fund!V2343","v":0},{"$f":"Fund!V2343","v":0},{"$f":"Fund!P2343","v":""}]
[null,null,null,null,null,null,null,null,null,null,null,null,{"$f":"Fund!W2344","v":"00:00:00"},{"$f":"Fund!X2344","v":0},{"$f":"-Fund!V2344","v":0},{"$f":"Fund!V2344","v":0},{"$f":"Fund!P2344","v":""}]
[null,null,null,null,null,null,null,null,null,null,null,null,{"$f":"Fund!W2345","v":"00:00:00"},{"$f":"Fund!X2345","v":0},{"$f":"-Fund!V2345","v":0},{"$f":"Fund!V2345","v":0},{"$f":"Fund!P2345","v":""}]
[null,null,null,null,null,null,null,null,null,null,null,null,{"$f":"Fund!W2346","v":"00:00:00"},{"$f":"Fund!X2346","v":0},{"$f":"-Fund!V2346","v":0},{"$f":"Fund!V2346","v":0},{"$f":"Fund!P2346","v":""}]
[null,null,null,null,null,null,null,null,null,null,null,null,{"$f":"Fund!W2347","v":"00:00:00"},{"$f":"Fund!X2347","v":0},{"$f":"-Fund!V2347","v":0},{"$f":"Fund!V2347","v":0},{"$f":"Fund!P2347","v":""}]
[null,null,null,null,null,null,null,null,null,null,null,null,{"$f":"Fund!W2348","v":"00:00:00"},{"$f":"Fund!X2348","v":0},{"$f":"-Fund!V2348","v":0},{"$f":"Fund!V2348","v":0},{"$f":"Fund!P2348","v":""}]
[null,null,null,null,null,null,null,null,null,null,null,null,{"$f":"Fund!W2349","v":"00:00:00"},{"$f":"Fund!X2349","v":0},{"$f":"-Fund!V2349","v":0},{"$f":"Fund!V2349","v":0},{"$f":"Fund!P2349","v":""}]
[null,null,null,null,null,null,null,null,null,null,null,null,{"$f":"Fund!W2350","v":"00:00:00"},{"$f":"Fund!X2350","v":0},{"$f":"-Fund!V2350","v":0},{"$f":"Fund!V2350","v":0},{"$f":"Fund!P2350","v":""}]
[null,null,null,null,null,null,null,null,null,null,null,null,{"$f":"Fund!W2351","v":"00:00:00"},{"$f":"Fund!X2351","v":0},{"$f":"-Fund!V2351","v":0},{"$f":"Fund!V2351","v":0},{"$f":"Fund!P2351","v":""}]
[null,null,null,null,null,null,null,null,null,null,null,null,{"$f":"Fund!W2352","v":"00:00:00"},{"$f":"Fund!X2352","v":0},{"$f":"-Fund!V2352","v":0},{"$f":"Fund!V2352","v":0},{"$f":"Fund!P2352","v":""}]
[null,null,null,null,null,null,null,null,null,null,null,null,{"$f":"Fund!W2353","v":"00:00:00"},{"$f":"Fund!X2353","v":0},{"$f":"-Fund!V2353","v":0},{"$f":"Fund!V2353","v":0},{"$f":"Fund!P2353","v":""}]
[null,null,null,null,null,null,null,null,null,null,null,null,{"$f":"Fund!W2354","v":"00:00:00"},{"$f":"Fund!X2354","v":0},{"$f":"-Fund!V2354","v":0},{"$f":"Fund!V2354","v":0},{"$f":"Fund!P2354","v":""}]
[null,null,null,null,null,null,null,null,null,null,null,null,{"$f":"Fund!W2355","v":"00:00:00"},{"$f":"Fund!X2355","v":0},{"$f":"-Fund!V2355","v":0},{"$f":"Fund!V2355","v":0},{"$f":"Fund!P2355","v":""}]
[null,null,null,null,null,null,null,null,null,null,null,null,{"$f":"Fund!W2356","v":"00:00:00"},{"$f":"Fund!X2356","v":0},{"$f":"-Fund!V2356","v":0},{"$f":"Fund!V2356","v":0},{"$f":"Fund!P2356","v":""}]
[null,null,null,null,null,null,null,null,null,null,null,null,{"$f":"Fund!W2357","v":"00:00:00"},{"$f":"Fund!X2357","v":0},{"$f":"-Fund!V2357","v":0},{"$f":"Fund!V2357","v":0},{"$f":"Fund!P2357","v":""}]
[null,null,null,null,null,null,null,null,null,null,null,null,{"$f":"Fund!W2358","v":"00:00:00"},{"$f":"Fund!X2358","v":0},{"$f":"-Fund!V2358","v":0},{"$f":"Fund!V2358","v":0},{"$f":"Fund!P2358","v":""}]
[null,null,null,null,null,null,null,null,null,null,null,null,{"$f":"Fund!W2359","v":"00:00:00"},{"$f":"Fund!X2359","v":0},{"$f":"-Fund!V2359","v":0},{"$f":"Fund!V2359","v":0},{"$f":"Fund!P2359","v":""}]
[null,null,null,null,null,null,null,null,null,null,null,null,{"$f":"Fund!W2360","v":"00:00:00"},{"$f":"Fund!X2360","v":0},{"$f":"-Fund!V2360","v":0},{"$f":"Fund!V2360","v":0},{"$f":"Fund!P2360","v":""}]
[null,null,null,null,null,null,null,null,null,null,null,null,{"$f":"Fund!W2361","v":"00:00:00"},{"$f":"Fund!X2361","v":0},{"$f":"-Fund!V2361","v":0},{"$f":"Fund!V2361","v":0},{"$f":"Fund!P2361","v":""}]
[null,null,null,null,null,null,null,null,null,null,null,null,{"$f":"Fund!W2362","v":"00:00:00"},{"$f":"Fund!X2362","v":0},{"$f":"-Fund!V2362","v":0},{"$f":"Fund!V2362","v":0},{"$f":"Fund!P2362","v":""}]
[null,null,null,null,null,null,null,null,null,null,null,null,{"$f":"Fund!W2363","v":"00:00:00"},{"$f":"Fund!X2363","v":0},{"$f":"-Fund!V2363","v":0},{"$f":"Fund!V2363","v":0},{"$f":"Fund!P2363","v":""}]
[null,null,null,null,null,null,null,null,null,null,null,null,{"$f":"Fund!W2364","v":"00:00:00"},{"$f":"Fund!X2364","v":0},{"$f":"-Fund!V2364","v":0},{"$f":"Fund!V2364","v":0},{"$f":"Fund!P2364","v":""}]
[null,null,null,null,null,null,null,null,null,null,null,null,{"$f":"Fund!W2365","v":"00:00:00"},{"$f":"Fund!X2365","v":0},{"$f":"-Fund!V2365","v":0},{"$f":"Fund!V2365","v":0},{"$f":"Fund!P2365","v":""}]
[null,null,null,null,null,null,null,null,null,null,null,null,{"$f":"Fund!W2366","v":"00:00:00"},{"$f":"Fund!X2366","v":0},{"$f":"-Fund!V2366","v":0},{"$f":"Fund!V2366","v":0},{"$f":"Fund!P2366","v":""}]
[null,null,null,null,null,null,null,null,null,null,null,null,{"$f":"Fund!W2367","v":"00:00:00"},{"$f":"Fund!X2367","v":0},{"$f":"-Fund!V2367","v":0},{"$f":"Fund!V2367","v":0},{"$f":"Fund!P2367","v":""}]
[null,null,null,null,null,null,null,null,null,null,null,null,{"$f":"Fund!W2368","v":"00:00:00"},{"$f":"Fund!X2368","v":0},{"$f":"-Fund!V2368","v":0},{"$f":"Fund!V2368","v":0},{"$f":"Fund!P2368","v":""}]
[null,null,null,null,null,null,null,null,null,null,null,null,{"$f":"Fund!W2369","v":"00:00:00"},{"$f":"Fund!X2369","v":0},{"$f":"-Fund!V2369","v":0},{"$f":"Fund!V2369","v":0},{"$f":"Fund!P2369","v":""}]
[null,null,null,null,null,null,null,null,null,null,null,null,{"$f":"Fund!W2370","v":"00:00:00"},{"$f":"Fund!X2370","v":0},{"$f":"-Fund!V2370","v":0},{"$f":"Fund!V2370","v":0},{"$f":"Fund!P2370","v":""}]
[null,null,null,null,null,null,null,null,null,null,null,null,{"$f":"Fund!W2371","v":"00:00:00"},{"$f":"Fund!X2371","v":0},{"$f":"-Fund!V2371","v":0},{"$f":"Fund!V2371","v":0},{"$f":"Fund!P2371","v":""}]
[null,null,null,null,null,null,null,null,null,null,null,null,{"$f":"Fund!W2372","v":"00:00:00"},{"$f":"Fund!X2372","v":0},{"$f":"-Fund!V2372","v":0},{"$f":"Fund!V2372","v":0},{"$f":"Fund!P2372","v":""}]
[null,null,null,null,null,null,null,null,null,null,null,null,{"$f":"Fund!W2373","v":"00:00:00"},{"$f":"Fund!X2373","v":0},{"$f":"-Fund!V2373","v":0},{"$f":"Fund!V2373","v":0},{"$f":"Fund!P2373","v":""}]
[null,null,null,null,null,null,null,null,null,null,null,null,{"$f":"Fund!W2374","v":"00:00:00"},{"$f":"Fund!X2374","v":0},{"$f":"-Fund!V2374","v":0},{"$f":"Fund!V2374","v":0},{"$f":"Fund!P2374","v":""}]
[null,null,null,null,null,null,null,null,null,null,null,null,{"$f":"Fund!W2375","v":"00:00:00"},{"$f":"Fund!X2375","v":0},{"$f":"-Fund!V2375","v":0},{"$f":"Fund!V2375","v":0},{"$f":"Fund!P2375","v":""}]
[null,null,null,null,null,null,null,null,null,null,null,null,{"$f":"Fund!W2376","v":"00:00:00"},{"$f":"Fund!X2376","v":0},{"$f":"-Fund!V2376","v":0},{"$f":"Fund!V2376","v":0},{"$f":"Fund!P2376","v":""}]
[null,null,null,null,null,null,null,null,null,null,null,null,{"$f":"Fund!W2377","v":"00:00:00"},{"$f":"Fund!X2377","v":0},{"$f":"-Fund!V2377","v":0},{"$f":"Fund!V2377","v":0},{"$f":"Fund!P2377","v":""}]
[null,null,null,null,null,null,null,null,null,null,null,null,{"$f":"Fund!W2378","v":"00:00:00"},{"$f":"Fund!X2378","v":0},{"$f":"-Fund!V2378","v":0},{"$f":"Fund!V2378","v":0},{"$f":"Fund!P2378","v":""}]
[null,null,null,null,null,null,null,null,null,null,null,null,{"$f":"Fund!W2379","v":"00:00:00"},{"$f":"Fund!X2379","v":0},{"$f":"-Fund!V2379","v":0},{"$f":"Fund!V2379","v":0},{"$f":"Fund!P2379","v":""}]
[null,null,null,null,null,null,null,null,null,null,null,null,{"$f":"Fund!W2380","v":"00:00:00"},{"$f":"Fund!X2380","v":0},{"$f":"-Fund!V2380","v":0},{"$f":"Fund!V2380","v":0},{"$f":"Fund!P2380","v":""}]
[null,null,null,null,null,null,null,null,null,null,null,null,{"$f":"Fund!W2381","v":"00:00:00"},{"$f":"Fund!X2381","v":0},{"$f":"-Fund!V2381","v":0},{"$f":"Fund!V2381","v":0},{"$f":"Fund!P2381","v":""}]
[null,null,null,null,null,null,null,null,null,null,null,null,{"$f":"Fund!W2382","v":"00:00:00"},{"$f":"Fund!X2382","v":0},{"$f":"-Fund!V2382","v":0},{"$f":"Fund!V2382","v":0},{"$f":"Fund!P2382","v":""}]
[null,null,null,null,null,null,null,null,null,null,null,null,{"$f":"Fund!W2383","v":"00:00:00"},{"$f":"Fund!X2383","v":0},{"$f":"-Fund!V2383","v":0},{"$f":"Fund!V2383","v":0},{"$f":"Fund!P2383","v":""}]
[null,null,null,null,null,null,null,null,null,null,null,null,{"$f":"Fund!W2384","v":"00:00:00"},{"$f":"Fund!X2384","v":0},{"$f":"-Fund!V2384","v":0},{"$f":"Fund!V2384","v":0},{"$f":"Fund!P2384","v":""}]
[null,null,null,null,null,null,null,null,null,null,null,null,{"$f":"Fund!W2385","v":"00:00:00"},{"$f":"Fund!X2385","v":0},{"$f":"-Fund!V2385","v":0},{"$f":"Fund!V2385","v":0},{"$f":"Fund!P2385","v":""}]
[null,null,null,null,null,null,null,null,null,null,null,null,{"$f":"Fund!W2386","v":"00:00:00"},{"$f":"Fund!X2386","v":0},{"$f":"-Fund!V2386","v":0},{"$f":"Fund!V2386","v":0},{"$f":"Fund!P2386","v":""}]
[null,null,null,null,null,null,null,null,null,null,null,null,{"$f":"Fund!W2387","v":"00:00:00"},{"$f":"Fund!X2387","v":0},{"$f":"-Fund!V2387","v":0},{"$f":"Fund!V2387","v":0},{"$f":"Fund!P2387","v":""}]
[null,null,null,null,null,null,null,null,null,null,null,null,{"$f":"Fund!W2388","v":"00:00:00"},{"$f":"Fund!X2388","v":0},{"$f":"-Fund!V2388","v":0},{"$f":"Fund!V2388","v":0},{"$f":"Fund!P2388","v":""}]
[null,null,null,null,null,null,null,null,null,null,null,null,{"$f":"Fund!W2389","v":"00:00:00"},{"$f":"Fund!X2389","v":0},{"$f":"-Fund!V2389","v":0},{"$f":"Fund!V2389","v":0},{"$f":"Fund!P2389","v":""}]
[null,null,null,null,null,null,null,null,null,null,null,null,{"$f":"Fund!W2390","v":"00:00:00"},{"$f":"Fund!X2390","v":0},{"$f":"-Fund!V2390","v":0},{"$f":"Fund!V2390","v":0},{"$f":"Fund!P2390","v":""}]
[null,null,null,null,null,null,null,null,null,null,null,null,{"$f":"Fund!W2391","v":"00:00:00"},{"$f":"Fund!X2391","v":0},{"$f":"-Fund!V2391","v":0},{"$f":"Fund!V2391","v":0},{"$f":"Fund!P2391","v":""}]
[null,null,null,null,null,null,null,null,null,null,null,null,{"$f":"Fund!W2392","v":"00:00:00"},{"$f":"Fund!X2392","v":0},{"$f":"-Fund!V2392","v":0},{"$f":"Fund!V2392","v":0},{"$f":"Fund!P2392","v":""}]
[null,null,null,null,null,null,null,null,null,null,null,null,{"$f":"Fund!W2393","v":"00:00:00"},{"$f":"Fund!X2393","v":0},{"$f":"-Fund!V2393","v":0},{"$f":"Fund!V2393","v":0},{"$f":"Fund!P2393","v":""}]
[null,null,null,null,null,null,null,null,null,null,null,null,{"$f":"Fund!W2394","v":"00:00:00"},{"$f":"Fund!X2394","v":0},{"$f":"-Fund!V2394","v":0},{"$f":"Fund!V2394","v":0},{"$f":"Fund!P2394","v":""}]
[null,null,null,null,null,null,null,null,null,null,null,null,{"$f":"Fund!W2395","v":"00:00:00"},{"$f":"Fund!X2395","v":0},{"$f":"-Fund!V2395","v":0},{"$f":"Fund!V2395","v":0},{"$f":"Fund!P2395","v":""}]
[null,null,null,null,null,null,null,null,null,null,null,null,{"$f":"Fund!W2396","v":"00:00:00"},{"$f":"Fund!X2396","v":0},{"$f":"-Fund!V2396","v":0},{"$f":"Fund!V2396","v":0},{"$f":"Fund!P2396","v":""}]
[null,null,null,null,null,null,null,null,null,null,null,null,{"$f":"Fund!W2397","v":"00:00:00"},{"$f":"Fund!X2397","v":0},{"$f":"-Fund!V2397","v":0},{"$f":"Fund!V2397","v":0},{"$f":"Fund!P2397","v":""}]
[null,null,null,null,null,null,null,null,null,null,null,null,{"$f":"Fund!W2398","v":"00:00:00"},{"$f":"Fund!X2398","v":0},{"$f":"-Fund!V2398","v":0},{"$f":"Fund!V2398","v":0},{"$f":"Fund!P2398","v":""}]
[null,null,null,null,null,null,null,null,null,null,null,null,{"$f":"Fund!W2399","v":"00:00:00"},{"$f":"Fund!X2399","v":0},{"$f":"-Fund!V2399","v":0},{"$f":"Fund!V2399","v":0},{"$f":"Fund!P2399","v":""}]
[null,null,null,null,null,null,null,null,null,null,null,null,{"$f":"Fund!W2400","v":"00:00:00"},{"$f":"Fund!X2400","v":0},{"$f":"-Fund!V2400","v":0},{"$f":"Fund!V2400","v":0},{"$f":"Fund!P2400","v":""}]
[null,null,null,null,null,null,null,null,null,null,null,null,{"$f":"Fund!W2401","v":"00:00:00"},{"$f":"Fund!X2401","v":0},{"$f":"-Fund!V2401","v":0},{"$f":"Fund!V2401","v":0},{"$f":"Fund!P2401","v":""}]
[null,null,null,null,null,null,null,null,null,null,null,null,{"$f":"Fund!W2402","v":"00:00:00"},{"$f":"Fund!X2402","v":0},{"$f":"-Fund!V2402","v":0},{"$f":"Fund!V2402","v":0},{"$f":"Fund!P2402","v":""}]
[null,null,null,null,null,null,null,null,null,null,null,null,{"$f":"Fund!W2403","v":"00:00:00"},{"$f":"Fund!X2403","v":0},{"$f":"-Fund!V2403","v":0},{"$f":"Fund!V2403","v":0},{"$f":"Fund!P2403","v":""}]
[null,null,null,null,null,null,null,null,null,null,null,null,{"$f":"Fund!W2404","v":"00:00:00"},{"$f":"Fund!X2404","v":0},{"$f":"-Fund!V2404","v":0},{"$f":"Fund!V2404","v":0},{"$f":"Fund!P2404","v":""}]
[null,null,null,null,null,null,null,null,null,null,null,null,{"$f":"Fund!W2405","v":"00:00:00"},{"$f":"Fund!X2405","v":0},{"$f":"-Fund!V2405","v":0},{"$f":"Fund!V2405","v":0},{"$f":"Fund!P2405","v":""}]
[null,null,null,null,null,null,null,null,null,null,null,null,{"$f":"Fund!W2406","v":"00:00:00"},{"$f":"Fund!X2406","v":0},{"$f":"-Fund!V2406","v":0},{"$f":"Fund!V2406","v":0},{"$f":"Fund!P2406","v":""}]
[null,null,null,null,null,null,null,null,null,null,null,null,{"$f":"Fund!W2407","v":"00:00:00"},{"$f":"Fund!X2407","v":0},{"$f":"-Fund!V2407","v":0},{"$f":"Fund!V2407","v":0},{"$f":"Fund!P2407","v":""}]
[null,null,null,null,null,null,null,null,null,null,null,null,{"$f":"Fund!W2408","v":"00:00:00"},{"$f":"Fund!X2408","v":0},{"$f":"-Fund!V2408","v":0},{"$f":"Fund!V2408","v":0},{"$f":"Fund!P2408","v":""}]
[null,null,null,null,null,null,null,null,null,null,null,null,{"$f":"Fund!W2409","v":"00:00:00"},{"$f":"Fund!X2409","v":0},{"$f":"-Fund!V2409","v":0},{"$f":"Fund!V2409","v":0},{"$f":"Fund!P2409","v":""}]
[null,null,null,null,null,null,null,null,null,null,null,null,{"$f":"Fund!W2410","v":"00:00:00"},{"$f":"Fund!X2410","v":0},{"$f":"-Fund!V2410","v":0},{"$f":"Fund!V2410","v":0},{"$f":"Fund!P2410","v":""}]
[null,null,null,null,null,null,null,null,null,null,null,null,{"$f":"Fund!W2411","v":"00:00:00"},{"$f":"Fund!X2411","v":0},{"$f":"-Fund!V2411","v":0},{"$f":"Fund!V2411","v":0},{"$f":"Fund!P2411","v":""}]
[null,null,null,null,null,null,null,null,null,null,null,null,{"$f":"Fund!W2412","v":"00:00:00"},{"$f":"Fund!X2412","v":0},{"$f":"-Fund!V2412","v":0},{"$f":"Fund!V2412","v":0},{"$f":"Fund!P2412","v":""}]
[null,null,null,null,null,null,null,null,null,null,null,null,{"$f":"Fund!W2413","v":"00:00:00"},{"$f":"Fund!X2413","v":0},{"$f":"-Fund!V2413","v":0},{"$f":"Fund!V2413","v":0},{"$f":"Fund!P2413","v":""}]
[null,null,null,null,null,null,null,null,null,null,null,null,{"$f":"Fund!W2414","v":"00:00:00"},{"$f":"Fund!X2414","v":0},{"$f":"-Fund!V2414","v":0},{"$f":"Fund!V2414","v":0},{"$f":"Fund!P2414","v":""}]
[null,null,null,null,null,null,null,null,null,null,null,null,{"$f":"Fund!W2415","v":"00:00:00"},{"$f":"Fund!X2415","v":0},{"$f":"-Fund!V2415","v":0},{"$f":"Fund!V2415","v":0},{"$f":"Fund!P2415","v":""}]
[null,null,null,null,null,null,null,null,null,null,null,null,{"$f":"Fund!W2416","v":"00:00:00"},{"$f":"Fund!X2416","v":0},{"$f":"-Fund!V2416","v":0},{"$f":"Fund!V2416","v":0},{"$f":"Fund!P2416","v":""}]
[null,null,null,null,null,null,null,null,null,null,null,null,{"$f":"Fund!W2417","v":"00:00:00"},{"$f":"Fund!X2417","v":0},{"$f":"-Fund!V2417","v":0},{"$f":"Fund!V2417","v":0},{"$f":"Fund!P2417","v":""}]
[null,null,null,null,null,null,null,null,null,null,null,null,{"$f":"Fund!W2418","v":"00:00:00"},{"$f":"Fund!X2418","v":0},{"$f":"-Fund!V2418","v":0},{"$f":"Fund!V2418","v":0},{"$f":"Fund!P2418","v":""}]
[null,null,null,null,null,null,null,null,null,null,null,null,{"$f":"Fund!W2419","v":"00:00:00"},{"$f":"Fund!X2419","v":0},{"$f":"-Fund!V2419","v":0},{"$f":"Fund!V2419","v":0},{"$f":"Fund!P2419","v":""}]
[null,null,null,null,null,null,null,null,null,null,null,null,{"$f":"Fund!W2420","v":"00:00:00"},{"$f":"Fund!X2420","v":0},{"$f":"-Fund!V2420","v":0},{"$f":"Fund!V2420","v":0},{"$f":"Fund!P2420","v":""}]
[null,null,null,null,null,null,null,null,null,null,null,null,{"$f":"Fund!W2421","v":"00:00:00"},{"$f":"Fund!X2421","v":0},{"$f":"-Fund!V2421","v":0},{"$f":"Fund!V2421","v":0},{"$f":"Fund!P2421","v":""}]
[null,null,null,null,null,null,null,null,null,null,null,null,{"$f":"Fund!W2422","v":"00:00:00"},{"$f":"Fund!X2422","v":0},{"$f":"-Fund!V2422","v":0},{"$f":"Fund!V2422","v":0},{"$f":"Fund!P2422","v":""}]
[null,null,null,null,null,null,null,null,null,null,null,null,{"$f":"Fund!W2423","v":"00:00:00"},{"$f":"Fund!X2423","v":0},{"$f":"-Fund!V2423","v":0},{"$f":"Fund!V2423","v":0},{"$f":"Fund!P2423","v":""}]
[null,null,null,null,null,null,null,null,null,null,null,null,{"$f":"Fund!W2424","v":"00:00:00"},{"$f":"Fund!X2424","v":0},{"$f":"-Fund!V2424","v":0},{"$f":"Fund!V2424","v":0},{"$f":"Fund!P2424","v":""}]
[null,null,null,null,null,null,null,null,null,null,null,null,{"$f":"Fund!W2425","v":"00:00:00"},{"$f":"Fund!X2425","v":0},{"$f":"-Fund!V2425","v":0},{"$f":"Fund!V2425","v":0},{"$f":"Fund!P2425","v":""}]
[null,null,null,null,null,null,null,null,null,null,null,null,{"$f":"Fund!W2426","v":"00:00:00"},{"$f":"Fund!X2426","v":0},{"$f":"-Fund!V2426","v":0},{"$f":"Fund!V2426","v":0},{"$f":"Fund!P2426","v":""}]
[null,null,null,null,null,null,null,null,null,null,null,null,{"$f":"Fund!W2427","v":"00:00:00"},{"$f":"Fund!X2427","v":0},{"$f":"-Fund!V2427","v":0},{"$f":"Fund!V2427","v":0},{"$f":"Fund!P2427","v":""}]
[null,null,null,null,null,null,null,null,null,null,null,null,{"$f":"Fund!W2428","v":"00:00:00"},{"$f":"Fund!X2428","v":0},{"$f":"-Fund!V2428","v":0},{"$f":"Fund!V2428","v":0},{"$f":"Fund!P2428","v":""}]
[null,null,null,null,null,null,null,null,null,null,null,null,{"$f":"Fund!W2429","v":"00:00:00"},{"$f":"Fund!X2429","v":0},{"$f":"-Fund!V2429","v":0},{"$f":"Fund!V2429","v":0},{"$f":"Fund!P2429","v":""}]
[null,null,null,null,null,null,null,null,null,null,null,null,{"$f":"Fund!W2430","v":"00:00:00"},{"$f":"Fund!X2430","v":0},{"$f":"-Fund!V2430","v":0},{"$f":"Fund!V2430","v":0},{"$f":"Fund!P2430","v":""}]
[null,null,null,null,null,null,null,null,null,null,null,null,{"$f":"Fund!W2431","v":"00:00:00"},{"$f":"Fund!X2431","v":0},{"$f":"-Fund!V2431","v":0},{"$f":"Fund!V2431","v":0},{"$f":"Fund!P2431","v":""}]
[null,null,null,null,null,null,null,null,null,null,null,null,{"$f":"Fund!W2432","v":"00:00:00"},{"$f":"Fund!X2432","v":0},{"$f":"-Fund!V2432","v":0},{"$f":"Fund!V2432","v":0},{"$f":"Fund!P2432","v":""}]
[null,null,null,null,null,null,null,null,null,null,null,null,{"$f":"Fund!W2433","v":"00:00:00"},{"$f":"Fund!X2433","v":0},{"$f":"-Fund!V2433","v":0},{"$f":"Fund!V2433","v":0},{"$f":"Fund!P2433","v":""}]
[null,null,null,null,null,null,null,null,null,null,null,null,{"$f":"Fund!W2434","v":"00:00:00"},{"$f":"Fund!X2434","v":0},{"$f":"-Fund!V2434","v":0},{"$f":"Fund!V2434","v":0},{"$f":"Fund!P2434","v":""}]
[null,null,null,null,null,null,null,null,null,null,null,null,{"$f":"Fund!W2435","v":"00:00:00"},{"$f":"Fund!X2435","v":0},{"$f":"-Fund!V2435","v":0},{"$f":"Fund!V2435","v":0},{"$f":"Fund!P2435","v":""}]
[null,null,null,null,null,null,null,null,null,null,null,null,{"$f":"Fund!W2436","v":"00:00:00"},{"$f":"Fund!X2436","v":0},{"$f":"-Fund!V2436","v":0},{"$f":"Fund!V2436","v":0},{"$f":"Fund!P2436","v":""}]
[null,null,null,null,null,null,null,null,null,null,null,null,{"$f":"Fund!W2437","v":"00:00:00"},{"$f":"Fund!X2437","v":0},{"$f":"-Fund!V2437","v":0},{"$f":"Fund!V2437","v":0},{"$f":"Fund!P2437","v":""}]
[null,null,null,null,null,null,null,null,null,null,null,null,{"$f":"Fund!W2438","v":"00:00:00"},{"$f":"Fund!X2438","v":0},{"$f":"-Fund!V2438","v":0},{"$f":"Fund!V2438","v":0},{"$f":"Fund!P2438","v":""}]
[null,null,null,null,null,null,null,null,null,null,null,null,{"$f":"Fund!W2439","v":"00:00:00"},{"$f":"Fund!X2439","v":0},{"$f":"-Fund!V2439","v":0},{"$f":"Fund!V2439","v":0},{"$f":"Fund!P2439","v":""}]
[null,null,null,null,null,null,null,null,null,null,null,null,{"$f":"Fund!W2440","v":"00:00:00"},{"$f":"Fund!X2440","v":0},{"$f":"-Fund!V2440","v":0},{"$f":"Fund!V2440","v":0},{"$f":"Fund!P2440","v":""}]
[null,null,null,null,null,null,null,null,null,null,null,null,{"$f":"Fund!W2441","v":"00:00:00"},{"$f":"Fund!X2441","v":0},{"$f":"-Fund!V2441","v":0},{"$f":"Fund!V2441","v":0},{"$f":"Fund!P2441","v":""}]
[null,null,null,null,null,null,null,null,null,null,null,null,{"$f":"Fund!W2442","v":"00:00:00"},{"$f":"Fund!X2442","v":0},{"$f":"-Fund!V2442","v":0},{"$f":"Fund!V2442","v":0},{"$f":"Fund!P2442","v":""}]
[null,null,null,null,null,null,null,null,null,null,null,null,{"$f":"Fund!W2443","v":"00:00:00"},{"$f":"Fund!X2443","v":0},{"$f":"-Fund!V2443","v":0},{"$f":"Fund!V2443","v":0},{"$f":"Fund!P2443","v":""}]
[null,null,null,null,null,null,null,null,null,null,null,null,{"$f":"Fund!W2444","v":"00:00:00"},{"$f":"Fund!X2444","v":0},{"$f":"-Fund!V2444","v":0},{"$f":"Fund!V2444","v":0},{"$f":"Fund!P2444","v":""}]
[null,null,null,null,null,null,null,null,null,null,null,null,{"$f":"Fund!W2445","v":"00:00:00"},{"$f":"Fund!X2445","v":0},{"$f":"-Fund!V2445","v":0},{"$f":"Fund!V2445","v":0},{"$f":"Fund!P2445","v":""}]
[null,null,null,null,null,null,null,null,null,null,null,null,{"$f":"Fund!W2446","v":"00:00:00"},{"$f":"Fund!X2446","v":0},{"$f":"-Fund!V2446","v":0},{"$f":"Fund!V2446","v":0},{"$f":"Fund!P2446","v":""}]
[null,null,null,null,null,null,null,null,null,null,null,null,{"$f":"Fund!W2447","v":"00:00:00"},{"$f":"Fund!X2447","v":0},{"$f":"-Fund!V2447","v":0},{"$f":"Fund!V2447","v":0},{"$f":"Fund!P2447","v":""}]
[null,null,null,null,null,null,null,null,null,null,null,null,{"$f":"Fund!W2448","v":"00:00:00"},{"$f":"Fund!X2448","v":0},{"$f":"-Fund!V2448","v":0},{"$f":"Fund!V2448","v":0},{"$f":"Fund!P2448","v":""}]
[null,null,null,null,null,null,null,null,null,null,null,null,{"$f":"Fund!W2449","v":"00:00:00"},{"$f":"Fund!X2449","v":0},{"$f":"-Fund!V2449","v":0},{"$f":"Fund!V2449","v":0},{"$f":"Fund!P2449","v":""}]
[null,null,null,null,null,null,null,null,null,null,null,null,{"$f":"Fund!W2450","v":"00:00:00"},{"$f":"Fund!X2450","v":0},{"$f":"-Fund!V2450","v":0},{"$f":"Fund!V2450","v":0},{"$f":"Fund!P2450","v":""}]
[null,null,null,null,null,null,null,null,null,null,null,null,{"$f":"Fund!W2451","v":"00:00:00"},{"$f":"Fund!X2451","v":0},{"$f":"-Fund!V2451","v":0},{"$f":"Fund!V2451","v":0},{"$f":"Fund!P2451","v":""}]
[null,null,null,null,null,null,null,null,null,null,null,null,{"$f":"Fund!W2452","v":"00:00:00"},{"$f":"Fund!X2452","v":0},{"$f":"-Fund!V2452","v":0},{"$f":"Fund!V2452","v":0},{"$f":"Fund!P2452","v":""}]
[null,null,null,null,null,null,null,null,null,null,null,null,{"$f":"Fund!W2453","v":"00:00:00"},{"$f":"Fund!X2453","v":0},{"$f":"-Fund!V2453","v":0},{"$f":"Fund!V2453","v":0},{"$f":"Fund!P2453","v":""}]
[null,null,null,null,null,null,null,null,null,null,null,null,{"$f":"Fund!W2454","v":"00:00:00"},{"$f":"Fund!X2454","v":0},{"$f":"-Fund!V2454","v":0},{"$f":"Fund!V2454","v":0},{"$f":"Fund!P2454","v":""}]
[null,null,null,null,null,null,null,null,null,null,null,null,{"$f":"Fund!W2455","v":"00:00:00"},{"$f":"Fund!X2455","v":0},{"$f":"-Fund!V2455","v":0},{"$f":"Fund!V2455","v":0},{"$f":"Fund!P2455","v":""}]
[null,null,null,null,null,null,null,null,null,null,null,null,{"$f":"Fund!W2456","v":"00:00:00"},{"$f":"Fund!X2456","v":0},{"$f":"-Fund!V2456","v":0},{"$f":"Fund!V2456","v":0},{"$f":"Fund!P2456","v":""}]
[null,null,null,null,null,null,null,null,null,null,null,null,{"$f":"Fund!W2457","v":"00:00:00"},{"$f":"Fund!X2457","v":0},{"$f":"-Fund!V2457","v":0},{"$f":"Fund!V2457","v":0},{"$f":"Fund!P2457","v":""}]
[null,null,null,null,null,null,null,null,null,null,null,null,{"$f":"Fund!W2458","v":"00:00:00"},{"$f":"Fund!X2458","v":0},{"$f":"-Fund!V2458","v":0},{"$f":"Fund!V2458","v":0},{"$f":"Fund!P2458","v":""}]
[null,null,null,null,null,null,null,null,null,null,null,null,{"$f":"Fund!W2459","v":"00:00:00"},{"$f":"Fund!X2459","v":0},{"$f":"-Fund!V2459","v":0},{"$f":"Fund!V2459","v":0},{"$f":"Fund!P2459","v":""}]
[null,null,null,null,null,null,null,null,null,null,null,null,{"$f":"Fund!W2460","v":"00:00:00"},{"$f":"Fund!X2460","v":0},{"$f":"-Fund!V2460","v":0},{"$f":"Fund!V2460","v":0},{"$f":"Fund!P2460","v":""}]
[null,null,null,null,null,null,null,null,null,null,null,null,{"$f":"Fund!W2461","v":"00:00:00"},{"$f":"Fund!X2461","v":0},{"$f":"-Fund!V2461","v":0},{"$f":"Fund!V2461","v":0},{"$f":"Fund!P2461","v":""}]
[null,null,null,null,null,null,null,null,null,null,null,null,{"$f":"Fund!W2462","v":"00:00:00"},{"$f":"Fund!X2462","v":0},{"$f":"-Fund!V2462","v":0},{"$f":"Fund!V2462","v":0},{"$f":"Fund!P2462","v":""}]
[null,null,null,null,null,null,null,null,null,null,null,null,{"$f":"Fund!W2463","v":"00:00:00"},{"$f":"Fund!X2463","v":0},{"$f":"-Fund!V2463","v":0},{"$f":"Fund!V2463","v":0},{"$f":"Fund!P2463","v":""}]
[null,null,null,null,null,null,null,null,null,null,null,null,{"$f":"Fund!W2464","v":"00:00:00"},{"$f":"Fund!X2464","v":0},{"$f":"-Fund!V2464","v":0},{"$f":"Fund!V2464","v":0},{"$f":"Fund!P2464","v":""}]
[null,null,null,null,null,null,null,null,null,null,null,null,{"$f":"Fund!W2465","v":"00:00:00"},{"$f":"Fund!X2465","v":0},{"$f":"-Fund!V2465","v":0},{"$f":"Fund!V2465","v":0},{"$f":"Fund!P2465","v":""}]
[null,null,null,null,null,null,null,null,null,null,null,null,{"$f":"Fund!W2466","v":"00:00:00"},{"$f":"Fund!X2466","v":0},{"$f":"-Fund!V2466","v":0},{"$f":"Fund!V2466","v":0},{"$f":"Fund!P2466","v":""}]
[null,null,null,null,null,null,null,null,null,null,null,null,{"$f":"Fund!W2467","v":"00:00:00"},{"$f":"Fund!X2467","v":0},{"$f":"-Fund!V2467","v":0},{"$f":"Fund!V2467","v":0},{"$f":"Fund!P2467","v":""}]
[null,null,null,null,null,null,null,null,null,null,null,null,{"$f":"Fund!W2468","v":"00:00:00"},{"$f":"Fund!X2468","v":0},{"$f":"-Fund!V2468","v":0},{"$f":"Fund!V2468","v":0},{"$f":"Fund!P2468","v":""}]
[null,null,null,null,null,null,null,null,null,null,null,null,{"$f":"Fund!W2469","v":"00:00:00"},{"$f":"Fund!X2469","v":0},{"$f":"-Fund!V2469","v":0},{"$f":"Fund!V2469","v":0},{"$f":"Fund!P2469","v":""}]
[null,null,null,null,null,null,null,null,null,null,null,null,{"$f":"Fund!W2470","v":"00:00:00"},{"$f":"Fund!X2470","v":0},{"$f":"-Fund!V2470","v":0},{"$f":"Fund!V2470","v":0},{"$f":"Fund!P2470","v":""}]
[null,null,null,null,null,null,null,null,null,null,null,null,{"$f":"Fund!W2471","v":"00:00:00"},{"$f":"Fund!X2471","v":0},{"$f":"-Fund!V2471","v":0},{"$f":"Fund!V2471","v":0},{"$f":"Fund!P2471","v":""}]
[null,null,null,null,null,null,null,null,null,null,null,null,{"$f":"Fund!W2472","v":"00:00:00"},{"$f":"Fund!X2472","v":0},{"$f":"-Fund!V2472","v":0},{"$f":"Fund!V2472","v":0},{"$f":"Fund!P2472","v":""}]
[null,null,null,null,null,null,null,null,null,null,null,null,{"$f":"Fund!W2473","v":"00:00:00"},{"$f":"Fund!X2473","v":0},{"$f":"-Fund!V2473","v":0},{"$f":"Fund!V2473","v":0},{"$f":"Fund!P2473","v":""}]
[null,null,null,null,null,null,null,null,null,null,null,null,{"$f":"Fund!W2474","v":"00:00:00"},{"$f":"Fund!X2474","v":0},{"$f":"-Fund!V2474","v":0},{"$f":"Fund!V2474","v":0},{"$f":"Fund!P2474","v":""}]
[null,null,null,null,null,null,null,null,null,null,null,null,{"$f":"Fund!W2475","v":"00:00:00"},{"$f":"Fund!X2475","v":0},{"$f":"-Fund!V2475","v":0},{"$f":"Fund!V2475","v":0},{"$f":"Fund!P2475","v":""}]
[null,null,null,null,null,null,null,null,null,null,null,null,{"$f":"Fund!W2476","v":"00:00:00"},{"$f":"Fund!X2476","v":0},{"$f":"-Fund!V2476","v":0},{"$f":"Fund!V2476","v":0},{"$f":"Fund!P2476","v":""}]
[null,null,null,null,null,null,null,null,null,null,null,null,{"$f":"Fund!W2477","v":"00:00:00"},{"$f":"Fund!X2477","v":0},{"$f":"-Fund!V2477","v":0},{"$f":"Fund!V2477","v":0},{"$f":"Fund!P2477","v":""}]
[null,null,null,null,null,null,null,null,null,null,null,null,{"$f":"Fund!W2478","v":"00:00:00"},{"$f":"Fund!X2478","v":0},{"$f":"-Fund!V2478","v":0},{"$f":"Fund!V2478","v":0},{"$f":"Fund!P2478","v":""}]
[null,null,null,null,null,null,null,null,null,null,null,null,{"$f":"Fund!W2479","v":"00:00:00"},{"$f":"Fund!X2479","v":0},{"$f":"-Fund!V2479","v":0},{"$f":"Fund!V2479","v":0},{"$f":"Fund!P2479","v":""}]
[null,null,null,null,null,null,null,null,null,null,null,null,{"$f":"Fund!W2480","v":"00:00:00"},{"$f":"Fund!X2480","v":0},{"$f":"-Fund!V2480","v":0},{"$f":"Fund!V2480","v":0},{"$f":"Fund!P2480","v":""}]
[null,null,null,null,null,null,null,null,null,null,null,null,{"$f":"Fund!W2481","v":"00:00:00"},{"$f":"Fund!X2481","v":0},{"$f":"-Fund!V2481","v":0},{"$f":"Fund!V2481","v":0},{"$f":"Fund!P2481","v":""}]
[null,null,null,null,null,null,null,null,null,null,null,null,{"$f":"Fund!W2482","v":"00:00:00"},{"$f":"Fund!X2482","v":0},{"$f":"-Fund!V2482","v":0},{"$f":"Fund!V2482","v":0},{"$f":"Fund!P2482","v":""}]
[null,null,null,null,null,null,null,null,null,null,null,null,{"$f":"Fund!W2483","v":"00:00:00"},{"$f":"Fund!X2483","v":0},{"$f":"-Fund!V2483","v":0},{"$f":"Fund!V2483","v":0},{"$f":"Fund!P2483","v":""}]
[null,null,null,null,null,null,null,null,null,null,null,null,{"$f":"Fund!W2484","v":"00:00:00"},{"$f":"Fund!X2484","v":0},{"$f":"-Fund!V2484","v":0},{"$f":"Fund!V2484","v":0},{"$f":"Fund!P2484","v":""}]
[null,null,null,null,null,null,null,null,null,null,null,null,{"$f":"Fund!W2485","v":"00:00:00"},{"$f":"Fund!X2485","v":0},{"$f":"-Fund!V2485","v":0},{"$f":"Fund!V2485","v":0},{"$f":"Fund!P2485","v":""}]
[null,null,null,null,null,null,null,null,null,null,null,null,{"$f":"Fund!W2486","v":"00:00:00"},{"$f":"Fund!X2486","v":0},{"$f":"-Fund!V2486","v":0},{"$f":"Fund!V2486","v":0},{"$f":"Fund!P2486","v":""}]
[null,null,null,null,null,null,null,null,null,null,null,null,{"$f":"Fund!W2487","v":"00:00:00"},{"$f":"Fund!X2487","v":0},{"$f":"-Fund!V2487","v":0},{"$f":"Fund!V2487","v":0},{"$f":"Fund!P2487","v":""}]
[null,null,null,null,null,null,null,null,null,null,null,null,{"$f":"Fund!W2488","v":"00:00:00"},{"$f":"Fund!X2488","v":0},{"$f":"-Fund!V2488","v":0},{"$f":"Fund!V2488","v":0},{"$f":"Fund!P2488","v":""}]
[null,null,null,null,null,null,null,null,null,null,null,null,{"$f":"Fund!W2489","v":"00:00:00"},{"$f":"Fund!X2489","v":0},{"$f":"-Fund!V2489","v":0},{"$f":"Fund!V2489","v":0},{"$f":"Fund!P2489","v":""}]
[null,null,null,null,null,null,null,null,null,null,null,null,{"$f":"Fund!W2490","v":"00:00:00"},{"$f":"Fund!X2490","v":0},{"$f":"-Fund!V2490","v":0},{"$f":"Fund!V2490","v":0},{"$f":"Fund!P2490","v":""}]
[null,null,null,null,null,null,null,null,null,null,null,null,{"$f":"Fund!W2491","v":"00:00:00"},{"$f":"Fund!X2491","v":0},{"$f":"-Fund!V2491","v":0},{"$f":"Fund!V2491","v":0},{"$f":"Fund!P2491","v":""}]
[null,null,null,null,null,null,null,null,null,null,null,null,{"$f":"Fund!W2492","v":"00:00:00"},{"$f":"Fund!X2492","v":0},{"$f":"-Fund!V2492","v":0},{"$f":"Fund!V2492","v":0},{"$f":"Fund!P2492","v":""}]
[null,null,null,null,null,null,null,null,null,null,null,null,{"$f":"Fund!W2493","v":"00:00:00"},{"$f":"Fund!X2493","v":0},{"$f":"-Fund!V2493","v":0},{"$f":"Fund!V2493","v":0},{"$f":"Fund!P2493","v":""}]
[null,null,null,null,null,null,null,null,null,null,null,null,{"$f":"Fund!W2494","v":"00:00:00"},{"$f":"Fund!X2494","v":0},{"$f":"-Fund!V2494","v":0},{"$f":"Fund!V2494","v":0},{"$f":"Fund!P2494","v":""}]
[null,null,null,null,null,null,null,null,null,null,null,null,{"$f":"Fund!W2495","v":"00:00:00"},{"$f":"Fund!X2495","v":0},{"$f":"-Fund!V2495","v":0},{"$f":"Fund!V2495","v":0},{"$f":"Fund!P2495","v":""}]
[null,null,null,null,null,null,null,null,null,null,null,null,{"$f":"Fund!W2496","v":"00:00:00"},{"$f":"Fund!X2496","v":0},{"$f":"-Fund!V2496","v":0},{"$f":"Fund!V2496","v":0},{"$f":"Fund!P2496","v":""}]
[null,null,null,null,null,null,null,null,null,null,null,null,{"$f":"Fund!W2497","v":"00:00:00"},{"$f":"Fund!X2497","v":0},{"$f":"-Fund!V2497","v":0},{"$f":"Fund!V2497","v":0},{"$f":"Fund!P2497","v":""}]
[null,null,null,null,null,null,null,null,null,null,null,null,{"$f":"Fund!W2498","v":"00:00:00"},{"$f":"Fund!X2498","v":0},{"$f":"-Fund!V2498","v":0},{"$f":"Fund!V2498","v":0},{"$f":"Fund!P2498","v":""}]
[null,null,null,null,null,null,null,null,null,null,null,null,{"$f":"Fund!W2499","v":"00:00:00"},{"$f":"Fund!X2499","v":0},{"$f":"-Fund!V2499","v":0},{"$f":"Fund!V2499","v":0},{"$f":"Fund!P2499","v":""}]
[null,null,null,null,null,null,null,null,null,null,null,null,{"$f":"Fund!W2500","v":"00:00:00"},{"$f":"Fund!X2500","v":0},{"$f":"-Fund!V2500","v":0},{"$f":"Fund!V2500","v":0},{"$f":"Fund!P2500","v":""}]
[null,null,null,null,null,null,null,null,null,null,null,null,{"$f":"Fund!W2501","v":"00:00:00"},{"$f":"Fund!X2501","v":0},{"$f":"-Fund!V2501","v":0},{"$f":"Fund!V2501","v":0},{"$f":"Fund!P2501","v":""}]
[null,null,null,null,null,null,null,null,null,null,null,null,{"$f":"Fund!W2502","v":"00:00:00"},{"$f":"Fund!X2502","v":0},{"$f":"-Fund!V2502","v":0},{"$f":"Fund!V2502","v":0},{"$f":"Fund!P2502","v":""}]
[null,null,null,null,null,null,null,null,null,null,null,null,{"$f":"Fund!W2503","v":"00:00:00"},{"$f":"Fund!X2503","v":0},{"$f":"-Fund!V2503","v":0},{"$f":"Fund!V2503","v":0},{"$f":"Fund!P2503","v":""}]
[null,null,null,null,null,null,null,null,null,null,null,null,{"$f":"Fund!W2504","v":"00:00:00"},{"$f":"Fund!X2504","v":0},{"$f":"-Fund!V2504","v":0},{"$f":"Fund!V2504","v":0},{"$f":"Fund!P2504","v":""}]
[null,null,null,null,null,null,null,null,null,null,null,null,{"$f":"Fund!W2505","v":"00:00:00"},{"$f":"Fund!X2505","v":0},{"$f":"-Fund!V2505","v":0},{"$f":"Fund!V2505","v":0},{"$f":"Fund!P2505","v":""}]
[null,null,null,null,null,null,null,null,null,null,null,null,{"$f":"Fund!W2506","v":"00:00:00"},{"$f":"Fund!X2506","v":0},{"$f":"-Fund!V2506","v":0},{"$f":"Fund!V2506","v":0},{"$f":"Fund!P2506","v":""}]
[null,null,null,null,null,null,null,null,null,null,null,null,{"$f":"Fund!W2507","v":"00:00:00"},{"$f":"Fund!X2507","v":0},{"$f":"-Fund!V2507","v":0},{"$f":"Fund!V2507","v":0},{"$f":"Fund!P2507","v":""}]
[null,null,null,null,null,null,null,null,null,null,null,null,{"$f":"Fund!W2508","v":"00:00:00"},{"$f":"Fund!X2508","v":0},{"$f":"-Fund!V2508","v":0},{"$f":"Fund!V2508","v":0},{"$f":"Fund!P2508","v":""}]
[null,null,null,null,null,null,null,null,null,null,null,null,{"$f":"Fund!W2509","v":"00:00:00"},{"$f":"Fund!X2509","v":0},{"$f":"-Fund!V2509","v":0},{"$f":"Fund!V2509","v":0},{"$f":"Fund!P2509","v":""}]
[null,null,null,null,null,null,null,null,null,null,null,null,{"$f":"Fund!W2510","v":"00:00:00"},{"$f":"Fund!X2510","v":0},{"$f":"-Fund!V2510","v":0},{"$f":"Fund!V2510","v":0},{"$f":"Fund!P2510","v":""}]
[null,null,null,null,null,null,null,null,null,null,null,null,{"$f":"Fund!W2511","v":"00:00:00"},{"$f":"Fund!X2511","v":0},{"$f":"-Fund!V2511","v":0},{"$f":"Fund!V2511","v":0},{"$f":"Fund!P2511","v":""}]
[null,null,null,null,null,null,null,null,null,null,null,null,{"$f":"Fund!W2512","v":"00:00:00"},{"$f":"Fund!X2512","v":0},{"$f":"-Fund!V2512","v":0},{"$f":"Fund!V2512","v":0},{"$f":"Fund!P2512","v":""}]
[null,null,null,null,null,null,null,null,null,null,null,null,{"$f":"Fund!W2513","v":"00:00:00"},{"$f":"Fund!X2513","v":0},{"$f":"-Fund!V2513","v":0},{"$f":"Fund!V2513","v":0},{"$f":"Fund!P2513","v":""}]
[null,null,null,null,null,null,null,null,null,null,null,null,{"$f":"Fund!W2514","v":"00:00:00"},{"$f":"Fund!X2514","v":0},{"$f":"-Fund!V2514","v":0},{"$f":"Fund!V2514","v":0},{"$f":"Fund!P2514","v":""}]
[null,null,null,null,null,null,null,null,null,null,null,null,{"$f":"Fund!W2515","v":"00:00:00"},{"$f":"Fund!X2515","v":0},{"$f":"-Fund!V2515","v":0},{"$f":"Fund!V2515","v":0},{"$f":"Fund!P2515","v":""}]
[null,null,null,null,null,null,null,null,null,null,null,null,{"$f":"Fund!W2516","v":"00:00:00"},{"$f":"Fund!X2516","v":0},{"$f":"-Fund!V2516","v":0},{"$f":"Fund!V2516","v":0},{"$f":"Fund!P2516","v":""}]
[null,null,null,null,null,null,null,null,null,null,null,null,{"$f":"Fund!W2517","v":"00:00:00"},{"$f":"Fund!X2517","v":0},{"$f":"-Fund!V2517","v":0},{"$f":"Fund!V2517","v":0},{"$f":"Fund!P2517","v":""}]
[null,null,null,null,null,null,null,null,null,null,null,null,{"$f":"Fund!W2518","v":"00:00:00"},{"$f":"Fund!X2518","v":0},{"$f":"-Fund!V2518","v":0},{"$f":"Fund!V2518","v":0},{"$f":"Fund!P2518","v":""}]
[null,null,null,null,null,null,null,null,null,null,null,null,{"$f":"Fund!W2519","v":"00:00:00"},{"$f":"Fund!X2519","v":0},{"$f":"-Fund!V2519","v":0},{"$f":"Fund!V2519","v":0},{"$f":"Fund!P2519","v":""}]
[null,null,null,null,null,null,null,null,null,null,null,null,{"$f":"Fund!W2520","v":"00:00:00"},{"$f":"Fund!X2520","v":0},{"$f":"-Fund!V2520","v":0},{"$f":"Fund!V2520","v":0},{"$f":"Fund!P2520","v":""}]
[null,null,null,null,null,null,null,null,null,null,null,null,{"$f":"Fund!W2521","v":"00:00:00"},{"$f":"Fund!X2521","v":0},{"$f":"-Fund!V2521","v":0},{"$f":"Fund!V2521","v":0},{"$f":"Fund!P2521","v":""}]
[null,null,null,null,null,null,null,null,null,null,null,null,{"$f":"Fund!W2522","v":"00:00:00"},{"$f":"Fund!X2522","v":0},{"$f":"-Fund!V2522","v":0},{"$f":"Fund!V2522","v":0},{"$f":"Fund!P2522","v":""}]
[null,null,null,null,null,null,null,null,null,null,null,null,{"$f":"Fund!W2523","v":"00:00:00"},{"$f":"Fund!X2523","v":0},{"$f":"-Fund!V2523","v":0},{"$f":"Fund!V2523","v":0},{"$f":"Fund!P2523","v":""}]
[null,null,null,null,null,null,null,null,null,null,null,null,{"$f":"Fund!W2524","v":"00:00:00"},{"$f":"Fund!X2524","v":0},{"$f":"-Fund!V2524","v":0},{"$f":"Fund!V2524","v":0},{"$f":"Fund!P2524","v":""}]
[null,null,null,null,null,null,null,null,null,null,null,null,{"$f":"Fund!W2525","v":"00:00:00"},{"$f":"Fund!X2525","v":0},{"$f":"-Fund!V2525","v":0},{"$f":"Fund!V2525","v":0},{"$f":"Fund!P2525","v":""}]
[null,null,null,null,null,null,null,null,null,null,null,null,{"$f":"Fund!W2526","v":"00:00:00"},{"$f":"Fund!X2526","v":0},{"$f":"-Fund!V2526","v":0},{"$f":"Fund!V2526","v":0},{"$f":"Fund!P2526","v":""}]
[null,null,null,null,null,null,null,null,null,null,null,null,{"$f":"Fund!W2527","v":"00:00:00"},{"$f":"Fund!X2527","v":0},{"$f":"-Fund!V2527","v":0},{"$f":"Fund!V2527","v":0},{"$f":"Fund!P2527","v":""}]
[null,null,null,null,null,null,null,null,null,null,null,null,{"$f":"Fund!W2528","v":"00:00:00"},{"$f":"Fund!X2528","v":0},{"$f":"-Fund!V2528","v":0},{"$f":"Fund!V2528","v":0},{"$f":"Fund!P2528","v":""}]
[null,null,null,null,null,null,null,null,null,null,null,null,{"$f":"Fund!W2529","v":"00:00:00"},{"$f":"Fund!X2529","v":0},{"$f":"-Fund!V2529","v":0},{"$f":"Fund!V2529","v":0},{"$f":"Fund!P2529","v":""}]
[null,null,null,null,null,null,null,null,null,null,null,null,{"$f":"Fund!W2530","v":"00:00:00"},{"$f":"Fund!X2530","v":0},{"$f":"-Fund!V2530","v":0},{"$f":"Fund!V2530","v":0},{"$f":"Fund!P2530","v":""}]
[null,null,null,null,null,null,null,null,null,null,null,null,{"$f":"Fund!W2531","v":"00:00:00"},{"$f":"Fund!X2531","v":0},{"$f":"-Fund!V2531","v":0},{"$f":"Fund!V2531","v":0},{"$f":"Fund!P2531","v":""}]
[null,null,null,null,null,null,null,null,null,null,null,null,{"$f":"Fund!W2532","v":"00:00:00"},{"$f":"Fund!X2532","v":0},{"$f":"-Fund!V2532","v":0},{"$f":"Fund!V2532","v":0},{"$f":"Fund!P2532","v":""}]
[null,null,null,null,null,null,null,null,null,null,null,null,{"$f":"Fund!W2533","v":"00:00:00"},{"$f":"Fund!X2533","v":0},{"$f":"-Fund!V2533","v":0},{"$f":"Fund!V2533","v":0},{"$f":"Fund!P2533","v":""}]
[null,null,null,null,null,null,null,null,null,null,null,null,{"$f":"Fund!W2534","v":"00:00:00"},{"$f":"Fund!X2534","v":0},{"$f":"-Fund!V2534","v":0},{"$f":"Fund!V2534","v":0},{"$f":"Fund!P2534","v":""}]
[null,null,null,null,null,null,null,null,null,null,null,null,{"$f":"Fund!W2535","v":"00:00:00"},{"$f":"Fund!X2535","v":0},{"$f":"-Fund!V2535","v":0},{"$f":"Fund!V2535","v":0},{"$f":"Fund!P2535","v":""}]
[null,null,null,null,null,null,null,null,null,null,null,null,{"$f":"Fund!W2536","v":"00:00:00"},{"$f":"Fund!X2536","v":0},{"$f":"-Fund!V2536","v":0},{"$f":"Fund!V2536","v":0},{"$f":"Fund!P2536","v":""}]
[null,null,null,null,null,null,null,null,null,null,null,null,{"$f":"Fund!W2537","v":"00:00:00"},{"$f":"Fund!X2537","v":0},{"$f":"-Fund!V2537","v":0},{"$f":"Fund!V2537","v":0},{"$f":"Fund!P2537","v":""}]
[null,null,null,null,null,null,null,null,null,null,null,null,{"$f":"Fund!W2538","v":"00:00:00"},{"$f":"Fund!X2538","v":0},{"$f":"-Fund!V2538","v":0},{"$f":"Fund!V2538","v":0},{"$f":"Fund!P2538","v":""}]
[null,null,null,null,null,null,null,null,null,null,null,null,{"$f":"Fund!W2539","v":"00:00:00"},{"$f":"Fund!X2539","v":0},{"$f":"-Fund!V2539","v":0},{"$f":"Fund!V2539","v":0},{"$f":"Fund!P2539","v":""}]
[null,null,null,null,null,null,null,null,null,null,null,null,{"$f":"Fund!W2540","v":"00:00:00"},{"$f":"Fund!X2540","v":0},{"$f":"-Fund!V2540","v":0},{"$f":"Fund!V2540","v":0},{"$f":"Fund!P2540","v":""}]
[null,null,null,null,null,null,null,null,null,null,null,null,{"$f":"Fund!W2541","v":"00:00:00"},{"$f":"Fund!X2541","v":0},{"$f":"-Fund!V2541","v":0},{"$f":"Fund!V2541","v":0},{"$f":"Fund!P2541","v":""}]
[null,null,null,null,null,null,null,null,null,null,null,null,{"$f":"Fund!W2542","v":"00:00:00"},{"$f":"Fund!X2542","v":0},{"$f":"-Fund!V2542","v":0},{"$f":"Fund!V2542","v":0},{"$f":"Fund!P2542","v":""}]
[null,null,null,null,null,null,null,null,null,null,null,null,{"$f":"Fund!W2543","v":"00:00:00"},{"$f":"Fund!X2543","v":0},{"$f":"-Fund!V2543","v":0},{"$f":"Fund!V2543","v":0},{"$f":"Fund!P2543","v":""}]
[null,null,null,null,null,null,null,null,null,null,null,null,{"$f":"Fund!W2544","v":"00:00:00"},{"$f":"Fund!X2544","v":0},{"$f":"-Fund!V2544","v":0},{"$f":"Fund!V2544","v":0},{"$f":"Fund!P2544","v":""}]
[null,null,null,null,null,null,null,null,null,null,null,null,{"$f":"Fund!W2545","v":"00:00:00"},{"$f":"Fund!X2545","v":0},{"$f":"-Fund!V2545","v":0},{"$f":"Fund!V2545","v":0},{"$f":"Fund!P2545","v":""}]
[null,null,null,null,null,null,null,null,null,null,null,null,{"$f":"Fund!W2546","v":"00:00:00"},{"$f":"Fund!X2546","v":0},{"$f":"-Fund!V2546","v":0},{"$f":"Fund!V2546","v":0},{"$f":"Fund!P2546","v":""}]
[null,null,null,null,null,null,null,null,null,null,null,null,{"$f":"Fund!W2547","v":"00:00:00"},{"$f":"Fund!X2547","v":0},{"$f":"-Fund!V2547","v":0},{"$f":"Fund!V2547","v":0},{"$f":"Fund!P2547","v":""}]
[null,null,null,null,null,null,null,null,null,null,null,null,{"$f":"Fund!W2548","v":"00:00:00"},{"$f":"Fund!X2548","v":0},{"$f":"-Fund!V2548","v":0},{"$f":"Fund!V2548","v":0},{"$f":"Fund!P2548","v":""}]
[null,null,null,null,null,null,null,null,null,null,null,null,{"$f":"Fund!W2549","v":"00:00:00"},{"$f":"Fund!X2549","v":0},{"$f":"-Fund!V2549","v":0},{"$f":"Fund!V2549","v":0},{"$f":"Fund!P2549","v":""}]
[null,null,null,null,null,null,null,null,null,null,null,null,{"$f":"Fund!W2550","v":"00:00:00"},{"$f":"Fund!X2550","v":0},{"$f":"-Fund!V2550","v":0},{"$f":"Fund!V2550","v":0},{"$f":"Fund!P2550","v":""}]
[null,null,null,null,null,null,null,null,null,null,null,null,{"$f":"Fund!W2551","v":"00:00:00"},{"$f":"Fund!X2551","v":0},{"$f":"-Fund!V2551","v":0},{"$f":"Fund!V2551","v":0},{"$f":"Fund!P2551","v":""}]
[null,null,null,null,null,null,null,null,null,null,null,null,{"$f":"Fund!W2552","v":"00:00:00"},{"$f":"Fund!X2552","v":0},{"$f":"-Fund!V2552","v":0},{"$f":"Fund!V2552","v":0},{"$f":"Fund!P2552","v":""}]
[null,null,null,null,null,null,null,null,null,null,null,null,{"$f":"Fund!W2553","v":"00:00:00"},{"$f":"Fund!X2553","v":0},{"$f":"-Fund!V2553","v":0},{"$f":"Fund!V2553","v":0},{"$f":"Fund!P2553","v":""}]
[null,null,null,null,null,null,null,null,null,null,null,null,{"$f":"Fund!W2554","v":"00:00:00"},{"$f":"Fund!X2554","v":0},{"$f":"-Fund!V2554","v":0},{"$f":"Fund!V2554","v":0},{"$f":"Fund!P2554","v":""}]
[null,null,null,null,null,null,null,null,null,null,null,null,{"$f":"Fund!W2555","v":"00:00:00"},{"$f":"Fund!X2555","v":0},{"$f":"-Fund!V2555","v":0},{"$f":"Fund!V2555","v":0},{"$f":"Fund!P2555","v":""}]
[null,null,null,null,null,null,null,null,null,null,null,null,{"$f":"Fund!W2556","v":"00:00:00"},{"$f":"Fund!X2556","v":0},{"$f":"-Fund!V2556","v":0},{"$f":"Fund!V2556","v":0},{"$f":"Fund!P2556","v":""}]
[null,null,null,null,null,null,null,null,null,null,null,null,{"$f":"Fund!W2557","v":"00:00:00"},{"$f":"Fund!X2557","v":0},{"$f":"-Fund!V2557","v":0},{"$f":"Fund!V2557","v":0},{"$f":"Fund!P2557","v":""}]
[null,null,null,null,null,null,null,null,null,null,null,null,{"$f":"Fund!W2558","v":"00:00:00"},{"$f":"Fund!X2558","v":0},{"$f":"-Fund!V2558","v":0},{"$f":"Fund!V2558","v":0},{"$f":"Fund!P2558","v":""}]
[null,null,null,null,null,null,null,null,null,null,null,null,{"$f":"Fund!W2559","v":"00:00:00"},{"$f":"Fund!X2559","v":0},{"$f":"-Fund!V2559","v":0},{"$f":"Fund!V2559","v":0},{"$f":"Fund!P2559","v":""}]
[null,null,null,null,null,null,null,null,null,null,null,null,{"$f":"Fund!W2560","v":"00:00:00"},{"$f":"Fund!X2560","v":0},{"$f":"-Fund!V2560","v":0},{"$f":"Fund!V2560","v":0},{"$f":"Fund!P2560","v":""}]
[null,null,null,null,null,null,null,null,null,null,null,null,{"$f":"Fund!W2561","v":"00:00:00"},{"$f":"Fund!X2561","v":0},{"$f":"-Fund!V2561","v":0},{"$f":"Fund!V2561","v":0},{"$f":"Fund!P2561","v":""}]
[null,null,null,null,null,null,null,null,null,null,null,null,{"$f":"Fund!W2562","v":"00:00:00"},{"$f":"Fund!X2562","v":0},{"$f":"-Fund!V2562","v":0},{"$f":"Fund!V2562","v":0},{"$f":"Fund!P2562","v":""}]
[null,null,null,null,null,null,null,null,null,null,null,null,{"$f":"Fund!W2563","v":"00:00:00"},{"$f":"Fund!X2563","v":0},{"$f":"-Fund!V2563","v":0},{"$f":"Fund!V2563","v":0},{"$f":"Fund!P2563","v":""}]
[null,null,null,null,null,null,null,null,null,null,null,null,{"$f":"Fund!W2564","v":"00:00:00"},{"$f":"Fund!X2564","v":0},{"$f":"-Fund!V2564","v":0},{"$f":"Fund!V2564","v":0},{"$f":"Fund!P2564","v":""}]
[null,null,null,null,null,null,null,null,null,null,null,null,{"$f":"Fund!W2565","v":"00:00:00"},{"$f":"Fund!X2565","v":0},{"$f":"-Fund!V2565","v":0},{"$f":"Fund!V2565","v":0},{"$f":"Fund!P2565","v":""}]
[null,null,null,null,null,null,null,null,null,null,null,null,{"$f":"Fund!W2566","v":"00:00:00"},{"$f":"Fund!X2566","v":0},{"$f":"-Fund!V2566","v":0},{"$f":"Fund!V2566","v":0},{"$f":"Fund!P2566","v":""}]
[null,null,null,null,null,null,null,null,null,null,null,null,{"$f":"Fund!W2567","v":"00:00:00"},{"$f":"Fund!X2567","v":0},{"$f":"-Fund!V2567","v":0},{"$f":"Fund!V2567","v":0},{"$f":"Fund!P2567","v":""}]
[null,null,null,null,null,null,null,null,null,null,null,null,{"$f":"Fund!W2568","v":"00:00:00"},{"$f":"Fund!X2568","v":0},{"$f":"-Fund!V2568","v":0},{"$f":"Fund!V2568","v":0},{"$f":"Fund!P2568","v":""}]
[null,null,null,null,null,null,null,null,null,null,null,null,{"$f":"Fund!W2569","v":"00:00:00"},{"$f":"Fund!X2569","v":0},{"$f":"-Fund!V2569","v":0},{"$f":"Fund!V2569","v":0},{"$f":"Fund!P2569","v":""}]
[null,null,null,null,null,null,null,null,null,null,null,null,{"$f":"Fund!W2570","v":"00:00:00"},{"$f":"Fund!X2570","v":0},{"$f":"-Fund!V2570","v":0},{"$f":"Fund!V2570","v":0},{"$f":"Fund!P2570","v":""}]
[null,null,null,null,null,null,null,null,null,null,null,null,{"$f":"Fund!W2571","v":"00:00:00"},{"$f":"Fund!X2571","v":0},{"$f":"-Fund!V2571","v":0},{"$f":"Fund!V2571","v":0},{"$f":"Fund!P2571","v":""}]
[null,null,null,null,null,null,null,null,null,null,null,null,{"$f":"Fund!W2572","v":"00:00:00"},{"$f":"Fund!X2572","v":0},{"$f":"-Fund!V2572","v":0},{"$f":"Fund!V2572","v":0},{"$f":"Fund!P2572","v":""}]
[null,null,null,null,null,null,null,null,null,null,null,null,{"$f":"Fund!W2573","v":"00:00:00"},{"$f":"Fund!X2573","v":0},{"$f":"-Fund!V2573","v":0},{"$f":"Fund!V2573","v":0},{"$f":"Fund!P2573","v":""}]
[null,null,null,null,null,null,null,null,null,null,null,null,{"$f":"Fund!W2574","v":"00:00:00"},{"$f":"Fund!X2574","v":0},{"$f":"-Fund!V2574","v":0},{"$f":"Fund!V2574","v":0},{"$f":"Fund!P2574","v":""}]
[null,null,null,null,null,null,null,null,null,null,null,null,{"$f":"Fund!W2575","v":"00:00:00"},{"$f":"Fund!X2575","v":0},{"$f":"-Fund!V2575","v":0},{"$f":"Fund!V2575","v":0},{"$f":"Fund!P2575","v":""}]
[null,null,null,null,null,null,null,null,null,null,null,null,{"$f":"Fund!W2576","v":"00:00:00"},{"$f":"Fund!X2576","v":0},{"$f":"-Fund!V2576","v":0},{"$f":"Fund!V2576","v":0},{"$f":"Fund!P2576","v":""}]
[null,null,null,null,null,null,null,null,null,null,null,null,{"$f":"Fund!W2577","v":"00:00:00"},{"$f":"Fund!X2577","v":0},{"$f":"-Fund!V2577","v":0},{"$f":"Fund!V2577","v":0},{"$f":"Fund!P2577","v":""}]
[null,null,null,null,null,null,null,null,null,null,null,null,{"$f":"Fund!W2578","v":"00:00:00"},{"$f":"Fund!X2578","v":0},{"$f":"-Fund!V2578","v":0},{"$f":"Fund!V2578","v":0},{"$f":"Fund!P2578","v":""}]
[null,null,null,null,null,null,null,null,null,null,null,null,{"$f":"Fund!W2579","v":"00:00:00"},{"$f":"Fund!X2579","v":0},{"$f":"-Fund!V2579","v":0},{"$f":"Fund!V2579","v":0},{"$f":"Fund!P2579","v":""}]
[null,null,null,null,null,null,null,null,null,null,null,null,{"$f":"Fund!W2580","v":"00:00:00"},{"$f":"Fund!X2580","v":0},{"$f":"-Fund!V2580","v":0},{"$f":"Fund!V2580","v":0},{"$f":"Fund!P2580","v":""}]
[null,null,null,null,null,null,null,null,null,null,null,null,{"$f":"Fund!W2581","v":"00:00:00"},{"$f":"Fund!X2581","v":0},{"$f":"-Fund!V2581","v":0},{"$f":"Fund!V2581","v":0},{"$f":"Fund!P2581","v":""}]
[null,null,null,null,null,null,null,null,null,null,null,null,{"$f":"Fund!W2582","v":"00:00:00"},{"$f":"Fund!X2582","v":0},{"$f":"-Fund!V2582","v":0},{"$f":"Fund!V2582","v":0},{"$f":"Fund!P2582","v":""}]
[null,null,null,null,null,null,null,null,null,null,null,null,{"$f":"Fund!W2583","v":"00:00:00"},{"$f":"Fund!X2583","v":0},{"$f":"-Fund!V2583","v":0},{"$f":"Fund!V2583","v":0},{"$f":"Fund!P2583","v":""}]
[null,null,null,null,null,null,null,null,null,null,null,null,{"$f":"Fund!W2584","v":"00:00:00"},{"$f":"Fund!X2584","v":0},{"$f":"-Fund!V2584","v":0},{"$f":"Fund!V2584","v":0},{"$f":"Fund!P2584","v":""}]
[null,null,null,null,null,null,null,null,null,null,null,null,{"$f":"Fund!W2585","v":"00:00:00"},{"$f":"Fund!X2585","v":0},{"$f":"-Fund!V2585","v":0},{"$f":"Fund!V2585","v":0},{"$f":"Fund!P2585","v":""}]
[null,null,null,null,null,null,null,null,null,null,null,null,{"$f":"Fund!W2586","v":"00:00:00"},{"$f":"Fund!X2586","v":0},{"$f":"-Fund!V2586","v":0},{"$f":"Fund!V2586","v":0},{"$f":"Fund!P2586","v":""}]
[null,null,null,null,null,null,null,null,null,null,null,null,{"$f":"Fund!W2587","v":"00:00:00"},{"$f":"Fund!X2587","v":0},{"$f":"-Fund!V2587","v":0},{"$f":"Fund!V2587","v":0},{"$f":"Fund!P2587","v":""}]
[null,null,null,null,null,null,null,null,null,null,null,null,{"$f":"Fund!W2588","v":"00:00:00"},{"$f":"Fund!X2588","v":0},{"$f":"-Fund!V2588","v":0},{"$f":"Fund!V2588","v":0},{"$f":"Fund!P2588","v":""}]
[null,null,null,null,null,null,null,null,null,null,null,null,{"$f":"Fund!W2589","v":"00:00:00"},{"$f":"Fund!X2589","v":0},{"$f":"-Fund!V2589","v":0},{"$f":"Fund!V2589","v":0},{"$f":"Fund!P2589","v":""}]
[null,null,null,null,null,null,null,null,null,null,null,null,{"$f":"Fund!W2590","v":"00:00:00"},{"$f":"Fund!X2590","v":0},{"$f":"-Fund!V2590","v":0},{"$f":"Fund!V2590","v":0},{"$f":"Fund!P2590","v":""}]
[null,null,null,null,null,null,null,null,null,null,null,null,{"$f":"Fund!W2591","v":"00:00:00"},{"$f":"Fund!X2591","v":0},{"$f":"-Fund!V2591","v":0},{"$f":"Fund!V2591","v":0},{"$f":"Fund!P2591","v":""}]
[null,null,null,null,null,null,null,null,null,null,null,null,{"$f":"Fund!W2592","v":"00:00:00"},{"$f":"Fund!X2592","v":0},{"$f":"-Fund!V2592","v":0},{"$f":"Fund!V2592","v":0},{"$f":"Fund!P2592","v":""}]
[null,null,null,null,null,null,null,null,null,null,null,null,{"$f":"Fund!W2593","v":"00:00:00"},{"$f":"Fund!X2593","v":0},{"$f":"-Fund!V2593","v":0},{"$f":"Fund!V2593","v":0},{"$f":"Fund!P2593","v":""}]
[null,null,null,null,null,null,null,null,null,null,null,null,{"$f":"Fund!W2594","v":"00:00:00"},{"$f":"Fund!X2594","v":0},{"$f":"-Fund!V2594","v":0},{"$f":"Fund!V2594","v":0},{"$f":"Fund!P2594","v":""}]
[null,null,null,null,null,null,null,null,null,null,null,null,{"$f":"Fund!W2595","v":"00:00:00"},{"$f":"Fund!X2595","v":0},{"$f":"-Fund!V2595","v":0},{"$f":"Fund!V2595","v":0},{"$f":"Fund!P2595","v":""}]
[null,null,null,null,null,null,null,null,null,null,null,null,{"$f":"Fund!W2596","v":"00:00:00"},{"$f":"Fund!X2596","v":0},{"$f":"-Fund!V2596","v":0},{"$f":"Fund!V2596","v":0},{"$f":"Fund!P2596","v":""}]
[null,null,null,null,null,null,null,null,null,null,null,null,{"$f":"Fund!W2597","v":"00:00:00"},{"$f":"Fund!X2597","v":0},{"$f":"-Fund!V2597","v":0},{"$f":"Fund!V2597","v":0},{"$f":"Fund!P2597","v":""}]
[null,null,null,null,null,null,null,null,null,null,null,null,{"$f":"Fund!W2598","v":"00:00:00"},{"$f":"Fund!X2598","v":0},{"$f":"-Fund!V2598","v":0},{"$f":"Fund!V2598","v":0},{"$f":"Fund!P2598","v":""}]
[null,null,null,null,null,null,null,null,null,null,null,null,{"$f":"Fund!W2599","v":"00:00:00"},{"$f":"Fund!X2599","v":0},{"$f":"-Fund!V2599","v":0},{"$f":"Fund!V2599","v":0},{"$f":"Fund!P2599","v":""}]
[null,null,null,null,null,null,null,null,null,null,null,null,{"$f":"Fund!W2600","v":"00:00:00"},{"$f":"Fund!X2600","v":0},{"$f":"-Fund!V2600","v":0},{"$f":"Fund!V2600","v":0},{"$f":"Fund!P2600","v":""}]
[null,null,null,null,null,null,null,null,null,null,null,null,{"$f":"Fund!W2601","v":"00:00:00"},{"$f":"Fund!X2601","v":0},{"$f":"-Fund!V2601","v":0},{"$f":"Fund!V2601","v":0},{"$f":"Fund!P2601","v":""}]
[null,null,null,null,null,null,null,null,null,null,null,null,{"$f":"Fund!W2602","v":"00:00:00"},{"$f":"Fund!X2602","v":0},{"$f":"-Fund!V2602","v":0},{"$f":"Fund!V2602","v":0},{"$f":"Fund!P2602","v":""}]
[null,null,null,null,null,null,null,null,null,null,null,null,{"$f":"Fund!W2603","v":"00:00:00"},{"$f":"Fund!X2603","v":0},{"$f":"-Fund!V2603","v":0},{"$f":"Fund!V2603","v":0},{"$f":"Fund!P2603","v":""}]
[null,null,null,null,null,null,null,null,null,null,null,null,{"$f":"Fund!W2604","v":"00:00:00"},{"$f":"Fund!X2604","v":0},{"$f":"-Fund!V2604","v":0},{"$f":"Fund!V2604","v":0},{"$f":"Fund!P2604","v":""}]
[null,null,null,null,null,null,null,null,null,null,null,null,{"$f":"Fund!W2605","v":"00:00:00"},{"$f":"Fund!X2605","v":0},{"$f":"-Fund!V2605","v":0},{"$f":"Fund!V2605","v":0},{"$f":"Fund!P2605","v":""}]
[null,null,null,null,null,null,null,null,null,null,null,null,{"$f":"Fund!W2606","v":"00:00:00"},{"$f":"Fund!X2606","v":0},{"$f":"-Fund!V2606","v":0},{"$f":"Fund!V2606","v":0},{"$f":"Fund!P2606","v":""}]
[null,null,null,null,null,null,null,null,null,null,null,null,{"$f":"Fund!W2607","v":"00:00:00"},{"$f":"Fund!X2607","v":0},{"$f":"-Fund!V2607","v":0},{"$f":"Fund!V2607","v":0},{"$f":"Fund!P2607","v":""}]
[null,null,null,null,null,null,null,null,null,null,null,null,{"$f":"Fund!W2608","v":"00:00:00"},{"$f":"Fund!X2608","v":0},{"$f":"-Fund!V2608","v":0},{"$f":"Fund!V2608","v":0},{"$f":"Fund!P2608","v":""}]
[null,null,null,null,null,null,null,null,null,null,null,null,{"$f":"Fund!W2609","v":"00:00:00"},{"$f":"Fund!X2609","v":0},{"$f":"-Fund!V2609","v":0},{"$f":"Fund!V2609","v":0},{"$f":"Fund!P2609","v":""}]
[null,null,null,null,null,null,null,null,null,null,null,null,{"$f":"Fund!W2610","v":"00:00:00"},{"$f":"Fund!X2610","v":0},{"$f":"-Fund!V2610","v":0},{"$f":"Fund!V2610","v":0},{"$f":"Fund!P2610","v":""}]
[null,null,null,null,null,null,null,null,null,null,null,null,{"$f":"Fund!W2611","v":"00:00:00"},{"$f":"Fund!X2611","v":0},{"$f":"-Fund!V2611","v":0},{"$f":"Fund!V2611","v":0},{"$f":"Fund!P2611","v":""}]
[null,null,null,null,null,null,null,null,null,null,null,null,{"$f":"Fund!W2612","v":"00:00:00"},{"$f":"Fund!X2612","v":0},{"$f":"-Fund!V2612","v":0},{"$f":"Fund!V2612","v":0},{"$f":"Fund!P2612","v":""}]
[null,null,null,null,null,null,null,null,null,null,null,null,{"$f":"Fund!W2613","v":"00:00:00"},{"$f":"Fund!X2613","v":0},{"$f":"-Fund!V2613","v":0},{"$f":"Fund!V2613","v":0},{"$f":"Fund!P2613","v":""}]
[null,null,null,null,null,null,null,null,null,null,null,null,{"$f":"Fund!W2614","v":"00:00:00"},{"$f":"Fund!X2614","v":0},{"$f":"-Fund!V2614","v":0},{"$f":"Fund!V2614","v":0},{"$f":"Fund!P2614","v":""}]
[null,null,null,null,null,null,null,null,null,null,null,null,{"$f":"Fund!W2615","v":"00:00:00"},{"$f":"Fund!X2615","v":0},{"$f":"-Fund!V2615","v":0},{"$f":"Fund!V2615","v":0},{"$f":"Fund!P2615","v":""}]
[null,null,null,null,null,null,null,null,null,null,null,null,{"$f":"Fund!W2616","v":"00:00:00"},{"$f":"Fund!X2616","v":0},{"$f":"-Fund!V2616","v":0},{"$f":"Fund!V2616","v":0},{"$f":"Fund!P2616","v":""}]
[null,null,null,null,null,null,null,null,null,null,null,null,{"$f":"Fund!W2617","v":"00:00:00"},{"$f":"Fund!X2617","v":0},{"$f":"-Fund!V2617","v":0},{"$f":"Fund!V2617","v":0},{"$f":"Fund!P2617","v":""}]
[null,null,null,null,null,null,null,null,null,null,null,null,{"$f":"Fund!W2618","v":"00:00:00"},{"$f":"Fund!X2618","v":0},{"$f":"-Fund!V2618","v":0},{"$f":"Fund!V2618","v":0},{"$f":"Fund!P2618","v":""}]
[null,null,null,null,null,null,null,null,null,null,null,null,{"$f":"Fund!W2619","v":"00:00:00"},{"$f":"Fund!X2619","v":0},{"$f":"-Fund!V2619","v":0},{"$f":"Fund!V2619","v":0},{"$f":"Fund!P2619","v":""}]
[null,null,null,null,null,null,null,null,null,null,null,null,{"$f":"Fund!W2620","v":"00:00:00"},{"$f":"Fund!X2620","v":0},{"$f":"-Fund!V2620","v":0},{"$f":"Fund!V2620","v":0},{"$f":"Fund!P2620","v":""}]
[null,null,null,null,null,null,null,null,null,null,null,null,{"$f":"Fund!W2621","v":"00:00:00"},{"$f":"Fund!X2621","v":0},{"$f":"-Fund!V2621","v":0},{"$f":"Fund!V2621","v":0},{"$f":"Fund!P2621","v":""}]
[null,null,null,null,null,null,null,null,null,null,null,null,{"$f":"Fund!W2622","v":"00:00:00"},{"$f":"Fund!X2622","v":0},{"$f":"-Fund!V2622","v":0},{"$f":"Fund!V2622","v":0},{"$f":"Fund!P2622","v":""}]
[null,null,null,null,null,null,null,null,null,null,null,null,{"$f":"Fund!W2623","v":"00:00:00"},{"$f":"Fund!X2623","v":0},{"$f":"-Fund!V2623","v":0},{"$f":"Fund!V2623","v":0},{"$f":"Fund!P2623","v":""}]
[null,null,null,null,null,null,null,null,null,null,null,null,{"$f":"Fund!W2624","v":"00:00:00"},{"$f":"Fund!X2624","v":0},{"$f":"-Fund!V2624","v":0},{"$f":"Fund!V2624","v":0},{"$f":"Fund!P2624","v":""}]
[null,null,null,null,null,null,null,null,null,null,null,null,{"$f":"Fund!W2625","v":"00:00:00"},{"$f":"Fund!X2625","v":0},{"$f":"-Fund!V2625","v":0},{"$f":"Fund!V2625","v":0},{"$f":"Fund!P2625","v":""}]
[null,null,null,null,null,null,null,null,null,null,null,null,{"$f":"Fund!W2626","v":"00:00:00"},{"$f":"Fund!X2626","v":0},{"$f":"-Fund!V2626","v":0},{"$f":"Fund!V2626","v":0},{"$f":"Fund!P2626","v":""}]
[null,null,null,null,null,null,null,null,null,null,null,null,{"$f":"Fund!W2627","v":"00:00:00"},{"$f":"Fund!X2627","v":0},{"$f":"-Fund!V2627","v":0},{"$f":"Fund!V2627","v":0},{"$f":"Fund!P2627","v":""}]
[null,null,null,null,null,null,null,null,null,null,null,null,{"$f":"Fund!W2628","v":"00:00:00"},{"$f":"Fund!X2628","v":0},{"$f":"-Fund!V2628","v":0},{"$f":"Fund!V2628","v":0},{"$f":"Fund!P2628","v":""}]
[null,null,null,null,null,null,null,null,null,null,null,null,{"$f":"Fund!W2629","v":"00:00:00"},{"$f":"Fund!X2629","v":0},{"$f":"-Fund!V2629","v":0},{"$f":"Fund!V2629","v":0},{"$f":"Fund!P2629","v":""}]
[null,null,null,null,null,null,null,null,null,null,null,null,{"$f":"Fund!W2630","v":"00:00:00"},{"$f":"Fund!X2630","v":0},{"$f":"-Fund!V2630","v":0},{"$f":"Fund!V2630","v":0},{"$f":"Fund!P2630","v":""}]
[null,null,null,null,null,null,null,null,null,null,null,null,{"$f":"Fund!W2631","v":"00:00:00"},{"$f":"Fund!X2631","v":0},{"$f":"-Fund!V2631","v":0},{"$f":"Fund!V2631","v":0},{"$f":"Fund!P2631","v":""}]
[null,null,null,null,null,null,null,null,null,null,null,null,{"$f":"Fund!W2632","v":"00:00:00"},{"$f":"Fund!X2632","v":0},{"$f":"-Fund!V2632","v":0},{"$f":"Fund!V2632","v":0},{"$f":"Fund!P2632","v":""}]
[null,null,null,null,null,null,null,null,null,null,null,null,{"$f":"Fund!W2633","v":"00:00:00"},{"$f":"Fund!X2633","v":0},{"$f":"-Fund!V2633","v":0},{"$f":"Fund!V2633","v":0},{"$f":"Fund!P2633","v":""}]
[null,null,null,null,null,null,null,null,null,null,null,null,{"$f":"Fund!W2634","v":"00:00:00"},{"$f":"Fund!X2634","v":0},{"$f":"-Fund!V2634","v":0},{"$f":"Fund!V2634","v":0},{"$f":"Fund!P2634","v":""}]
[null,null,null,null,null,null,null,null,null,null,null,null,{"$f":"Fund!W2635","v":"00:00:00"},{"$f":"Fund!X2635","v":0},{"$f":"-Fund!V2635","v":0},{"$f":"Fund!V2635","v":0},{"$f":"Fund!P2635","v":""}]
[null,null,null,null,null,null,null,null,null,null,null,null,{"$f":"Fund!W2636","v":"00:00:00"},{"$f":"Fund!X2636","v":0},{"$f":"-Fund!V2636","v":0},{"$f":"Fund!V2636","v":0},{"$f":"Fund!P2636","v":""}]
[null,null,null,null,null,null,null,null,null,null,null,null,{"$f":"Fund!W2637","v":"00:00:00"},{"$f":"Fund!X2637","v":0},{"$f":"-Fund!V2637","v":0},{"$f":"Fund!V2637","v":0},{"$f":"Fund!P2637","v":""}]
[null,null,null,null,null,null,null,null,null,null,null,null,{"$f":"Fund!W2638","v":"00:00:00"},{"$f":"Fund!X2638","v":0},{"$f":"-Fund!V2638","v":0},{"$f":"Fund!V2638","v":0},{"$f":"Fund!P2638","v":""}]
[null,null,null,null,null,null,null,null,null,null,null,null,{"$f":"Fund!W2639","v":"00:00:00"},{"$f":"Fund!X2639","v":0},{"$f":"-Fund!V2639","v":0},{"$f":"Fund!V2639","v":0},{"$f":"Fund!P2639","v":""}]
[null,null,null,null,null,null,null,null,null,null,null,null,{"$f":"Fund!W2640","v":"00:00:00"},{"$f":"Fund!X2640","v":0},{"$f":"-Fund!V2640","v":0},{"$f":"Fund!V2640","v":0},{"$f":"Fund!P2640","v":""}]
[null,null,null,null,null,null,null,null,null,null,null,null,{"$f":"Fund!W2641","v":"00:00:00"},{"$f":"Fund!X2641","v":0},{"$f":"-Fund!V2641","v":0},{"$f":"Fund!V2641","v":0},{"$f":"Fund!P2641","v":""}]
[null,null,null,null,null,null,null,null,null,null,null,null,{"$f":"Fund!W2642","v":"00:00:00"},{"$f":"Fund!X2642","v":0},{"$f":"-Fund!V2642","v":0},{"$f":"Fund!V2642","v":0},{"$f":"Fund!P2642","v":""}]
[null,null,null,null,null,null,null,null,null,null,null,null,{"$f":"Fund!W2643","v":"00:00:00"},{"$f":"Fund!X2643","v":0},{"$f":"-Fund!V2643","v":0},{"$f":"Fund!V2643","v":0},{"$f":"Fund!P2643","v":""}]
[null,null,null,null,null,null,null,null,null,null,null,null,{"$f":"Fund!W2644","v":"00:00:00"},{"$f":"Fund!X2644","v":0},{"$f":"-Fund!V2644","v":0},{"$f":"Fund!V2644","v":0},{"$f":"Fund!P2644","v":""}]
[null,null,null,null,null,null,null,null,null,null,null,null,{"$f":"Fund!W2645","v":"00:00:00"},{"$f":"Fund!X2645","v":0},{"$f":"-Fund!V2645","v":0},{"$f":"Fund!V2645","v":0},{"$f":"Fund!P2645","v":""}]
[null,null,null,null,null,null,null,null,null,null,null,null,{"$f":"Fund!W2646","v":"00:00:00"},{"$f":"Fund!X2646","v":0},{"$f":"-Fund!V2646","v":0},{"$f":"Fund!V2646","v":0},{"$f":"Fund!P2646","v":""}]
[null,null,null,null,null,null,null,null,null,null,null,null,{"$f":"Fund!W2647","v":"00:00:00"},{"$f":"Fund!X2647","v":0},{"$f":"-Fund!V2647","v":0},{"$f":"Fund!V2647","v":0},{"$f":"Fund!P2647","v":""}]
[null,null,null,null,null,null,null,null,null,null,null,null,{"$f":"Fund!W2648","v":"00:00:00"},{"$f":"Fund!X2648","v":0},{"$f":"-Fund!V2648","v":0},{"$f":"Fund!V2648","v":0},{"$f":"Fund!P2648","v":""}]
[null,null,null,null,null,null,null,null,null,null,null,null,{"$f":"Fund!W2649","v":"00:00:00"},{"$f":"Fund!X2649","v":0},{"$f":"-Fund!V2649","v":0},{"$f":"Fund!V2649","v":0},{"$f":"Fund!P2649","v":""}]
[null,null,null,null,null,null,null,null,null,null,null,null,{"$f":"Fund!W2650","v":"00:00:00"},{"$f":"Fund!X2650","v":0},{"$f":"-Fund!V2650","v":0},{"$f":"Fund!V2650","v":0},{"$f":"Fund!P2650","v":""}]
[null,null,null,null,null,null,null,null,null,null,null,null,{"$f":"Fund!W2651","v":"00:00:00"},{"$f":"Fund!X2651","v":0},{"$f":"-Fund!V2651","v":0},{"$f":"Fund!V2651","v":0},{"$f":"Fund!P2651","v":""}]
[null,null,null,null,null,null,null,null,null,null,null,null,{"$f":"Fund!W2652","v":"00:00:00"},{"$f":"Fund!X2652","v":0},{"$f":"-Fund!V2652","v":0},{"$f":"Fund!V2652","v":0},{"$f":"Fund!P2652","v":""}]
[null,null,null,null,null,null,null,null,null,null,null,null,{"$f":"Fund!W2653","v":"00:00:00"},{"$f":"Fund!X2653","v":0},{"$f":"-Fund!V2653","v":0},{"$f":"Fund!V2653","v":0},{"$f":"Fund!P2653","v":""}]
[null,null,null,null,null,null,null,null,null,null,null,null,{"$f":"Fund!W2654","v":"00:00:00"},{"$f":"Fund!X2654","v":0},{"$f":"-Fund!V2654","v":0},{"$f":"Fund!V2654","v":0},{"$f":"Fund!P2654","v":""}]
[null,null,null,null,null,null,null,null,null,null,null,null,{"$f":"Fund!W2655","v":"00:00:00"},{"$f":"Fund!X2655","v":0},{"$f":"-Fund!V2655","v":0},{"$f":"Fund!V2655","v":0},{"$f":"Fund!P2655","v":""}]
[null,null,null,null,null,null,null,null,null,null,null,null,{"$f":"Fund!W2656","v":"00:00:00"},{"$f":"Fund!X2656","v":0},{"$f":"-Fund!V2656","v":0},{"$f":"Fund!V2656","v":0},{"$f":"Fund!P2656","v":""}]
[null,null,null,null,null,null,null,null,null,null,null,null,{"$f":"Fund!W2657","v":"00:00:00"},{"$f":"Fund!X2657","v":0},{"$f":"-Fund!V2657","v":0},{"$f":"Fund!V2657","v":0},{"$f":"Fund!P2657","v":""}]
[null,null,null,null,null,null,null,null,null,null,null,null,{"$f":"Fund!W2658","v":"00:00:00"},{"$f":"Fund!X2658","v":0},{"$f":"-Fund!V2658","v":0},{"$f":"Fund!V2658","v":0},{"$f":"Fund!P2658","v":""}]
[null,null,null,null,null,null,null,null,null,null,null,null,{"$f":"Fund!W2659","v":"00:00:00"},{"$f":"Fund!X2659","v":0},{"$f":"-Fund!V2659","v":0},{"$f":"Fund!V2659","v":0},{"$f":"Fund!P2659","v":""}]
[null,null,null,null,null,null,null,null,null,null,null,null,{"$f":"Fund!W2660","v":"00:00:00"},{"$f":"Fund!X2660","v":0},{"$f":"-Fund!V2660","v":0},{"$f":"Fund!V2660","v":0},{"$f":"Fund!P2660","v":""}]
[null,null,null,null,null,null,null,null,null,null,null,null,{"$f":"Fund!W2661","v":"00:00:00"},{"$f":"Fund!X2661","v":0},{"$f":"-Fund!V2661","v":0},{"$f":"Fund!V2661","v":0},{"$f":"Fund!P2661","v":""}]
[null,null,null,null,null,null,null,null,null,null,null,null,{"$f":"Fund!W2662","v":"00:00:00"},{"$f":"Fund!X2662","v":0},{"$f":"-Fund!V2662","v":0},{"$f":"Fund!V2662","v":0},{"$f":"Fund!P2662","v":""}]
[null,null,null,null,null,null,null,null,null,null,null,null,{"$f":"Fund!W2663","v":"00:00:00"},{"$f":"Fund!X2663","v":0},{"$f":"-Fund!V2663","v":0},{"$f":"Fund!V2663","v":0},{"$f":"Fund!P2663","v":""}]
[null,null,null,null,null,null,null,null,null,null,null,null,{"$f":"Fund!W2664","v":"00:00:00"},{"$f":"Fund!X2664","v":0},{"$f":"-Fund!V2664","v":0},{"$f":"Fund!V2664","v":0},{"$f":"Fund!P2664","v":""}]
[null,null,null,null,null,null,null,null,null,null,null,null,{"$f":"Fund!W2665","v":"00:00:00"},{"$f":"Fund!X2665","v":0},{"$f":"-Fund!V2665","v":0},{"$f":"Fund!V2665","v":0},{"$f":"Fund!P2665","v":""}]
[null,null,null,null,null,null,null,null,null,null,null,null,{"$f":"Fund!W2666","v":"00:00:00"},{"$f":"Fund!X2666","v":0},{"$f":"-Fund!V2666","v":0},{"$f":"Fund!V2666","v":0},{"$f":"Fund!P2666","v":""}]
[null,null,null,null,null,null,null,null,null,null,null,null,{"$f":"Fund!W2667","v":"00:00:00"},{"$f":"Fund!X2667","v":0},{"$f":"-Fund!V2667","v":0},{"$f":"Fund!V2667","v":0},{"$f":"Fund!P2667","v":""}]
[null,null,null,null,null,null,null,null,null,null,null,null,{"$f":"Fund!W2668","v":"00:00:00"},{"$f":"Fund!X2668","v":0},{"$f":"-Fund!V2668","v":0},{"$f":"Fund!V2668","v":0},{"$f":"Fund!P2668","v":""}]
[null,null,null,null,null,null,null,null,null,null,null,null,{"$f":"Fund!W2669","v":"00:00:00"},{"$f":"Fund!X2669","v":0},{"$f":"-Fund!V2669","v":0},{"$f":"Fund!V2669","v":0},{"$f":"Fund!P2669","v":""}]
[null,null,null,null,null,null,null,null,null,null,null,null,{"$f":"Fund!W2670","v":"00:00:00"},{"$f":"Fund!X2670","v":0},{"$f":"-Fund!V2670","v":0},{"$f":"Fund!V2670","v":0},{"$f":"Fund!P2670","v":""}]
[null,null,null,null,null,null,null,null,null,null,null,null,{"$f":"Fund!W2671","v":"00:00:00"},{"$f":"Fund!X2671","v":0},{"$f":"-Fund!V2671","v":0},{"$f":"Fund!V2671","v":0},{"$f":"Fund!P2671","v":""}]
[null,null,null,null,null,null,null,null,null,null,null,null,{"$f":"Fund!W2672","v":"00:00:00"},{"$f":"Fund!X2672","v":0},{"$f":"-Fund!V2672","v":0},{"$f":"Fund!V2672","v":0},{"$f":"Fund!P2672","v":""}]
[null,null,null,null,null,null,null,null,null,null,null,null,{"$f":"Fund!W2673","v":"00:00:00"},{"$f":"Fund!X2673","v":0},{"$f":"-Fund!V2673","v":0},{"$f":"Fund!V2673","v":0},{"$f":"Fund!P2673","v":""}]
[null,null,null,null,null,null,null,null,null,null,null,null,{"$f":"Fund!W2674","v":"00:00:00"},{"$f":"Fund!X2674","v":0},{"$f":"-Fund!V2674","v":0},{"$f":"Fund!V2674","v":0},{"$f":"Fund!P2674","v":""}]
[null,null,null,null,null,null,null,null,null,null,null,null,{"$f":"Fund!W2675","v":"00:00:00"},{"$f":"Fund!X2675","v":0},{"$f":"-Fund!V2675","v":0},{"$f":"Fund!V2675","v":0},{"$f":"Fund!P2675","v":""}]
[null,null,null,null,null,null,null,null,null,null,null,null,{"$f":"Fund!W2676","v":"00:00:00"},{"$f":"Fund!X2676","v":0},{"$f":"-Fund!V2676","v":0},{"$f":"Fund!V2676","v":0},{"$f":"Fund!P2676","v":""}]
[null,null,null,null,null,null,null,null,null,null,null,null,{"$f":"Fund!W2677","v":"00:00:00"},{"$f":"Fund!X2677","v":0},{"$f":"-Fund!V2677","v":0},{"$f":"Fund!V2677","v":0},{"$f":"Fund!P2677","v":""}]
[null,null,null,null,null,null,null,null,null,null,null,null,{"$f":"Fund!W2678","v":"00:00:00"},{"$f":"Fund!X2678","v":0},{"$f":"-Fund!V2678","v":0},{"$f":"Fund!V2678","v":0},{"$f":"Fund!P2678","v":""}]
[null,null,null,null,null,null,null,null,null,null,null,null,{"$f":"Fund!W2679","v":"00:00:00"},{"$f":"Fund!X2679","v":0},{"$f":"-Fund!V2679","v":0},{"$f":"Fund!V2679","v":0},{"$f":"Fund!P2679","v":""}]
[null,null,null,null,null,null,null,null,null,null,null,null,{"$f":"Fund!W2680","v":"00:00:00"},{"$f":"Fund!X2680","v":0},{"$f":"-Fund!V2680","v":0},{"$f":"Fund!V2680","v":0},{"$f":"Fund!P2680","v":""}]
[null,null,null,null,null,null,null,null,null,null,null,null,{"$f":"Fund!W2681","v":"00:00:00"},{"$f":"Fund!X2681","v":0},{"$f":"-Fund!V2681","v":0},{"$f":"Fund!V2681","v":0},{"$f":"Fund!P2681","v":""}]
[null,null,null,null,null,null,null,null,null,null,null,null,{"$f":"Fund!W2682","v":"00:00:00"},{"$f":"Fund!X2682","v":0},{"$f":"-Fund!V2682","v":0},{"$f":"Fund!V2682","v":0},{"$f":"Fund!P2682","v":""}]
[null,null,null,null,null,null,null,null,null,null,null,null,{"$f":"Fund!W2683","v":"00:00:00"},{"$f":"Fund!X2683","v":0},{"$f":"-Fund!V2683","v":0},{"$f":"Fund!V2683","v":0},{"$f":"Fund!P2683","v":""}]
[null,null,null,null,null,null,null,null,null,null,null,null,{"$f":"Fund!W2684","v":"00:00:00"},{"$f":"Fund!X2684","v":0},{"$f":"-Fund!V2684","v":0},{"$f":"Fund!V2684","v":0},{"$f":"Fund!P2684","v":""}]
[null,null,null,null,null,null,null,null,null,null,null,null,{"$f":"Fund!W2685","v":"00:00:00"},{"$f":"Fund!X2685","v":0},{"$f":"-Fund!V2685","v":0},{"$f":"Fund!V2685","v":0},{"$f":"Fund!P2685","v":""}]
[null,null,null,null,null,null,null,null,null,null,null,null,{"$f":"Fund!W2686","v":"00:00:00"},{"$f":"Fund!X2686","v":0},{"$f":"-Fund!V2686","v":0},{"$f":"Fund!V2686","v":0},{"$f":"Fund!P2686","v":""}]
[null,null,null,null,null,null,null,null,null,null,null,null,{"$f":"Fund!W2687","v":"00:00:00"},{"$f":"Fund!X2687","v":0},{"$f":"-Fund!V2687","v":0},{"$f":"Fund!V2687","v":0},{"$f":"Fund!P2687","v":""}]
[null,null,null,null,null,null,null,null,null,null,null,null,{"$f":"Fund!W2688","v":"00:00:00"},{"$f":"Fund!X2688","v":0},{"$f":"-Fund!V2688","v":0},{"$f":"Fund!V2688","v":0},{"$f":"Fund!P2688","v":""}]
[null,null,null,null,null,null,null,null,null,null,null,null,{"$f":"Fund!W2689","v":"00:00:00"},{"$f":"Fund!X2689","v":0},{"$f":"-Fund!V2689","v":0},{"$f":"Fund!V2689","v":0},{"$f":"Fund!P2689","v":""}]
[null,null,null,null,null,null,null,null,null,null,null,null,{"$f":"Fund!W2690","v":"00:00:00"},{"$f":"Fund!X2690","v":0},{"$f":"-Fund!V2690","v":0},{"$f":"Fund!V2690","v":0},{"$f":"Fund!P2690","v":""}]
[null,null,null,null,null,null,null,null,null,null,null,null,{"$f":"Fund!W2691","v":"00:00:00"},{"$f":"Fund!X2691","v":0},{"$f":"-Fund!V2691","v":0},{"$f":"Fund!V2691","v":0},{"$f":"Fund!P2691","v":""}]
[null,null,null,null,null,null,null,null,null,null,null,null,{"$f":"Fund!W2692","v":"00:00:00"},{"$f":"Fund!X2692","v":0},{"$f":"-Fund!V2692","v":0},{"$f":"Fund!V2692","v":0},{"$f":"Fund!P2692","v":""}]
[null,null,null,null,null,null,null,null,null,null,null,null,{"$f":"Fund!W2693","v":"00:00:00"},{"$f":"Fund!X2693","v":0},{"$f":"-Fund!V2693","v":0},{"$f":"Fund!V2693","v":0},{"$f":"Fund!P2693","v":""}]
[null,null,null,null,null,null,null,null,null,null,null,null,{"$f":"Fund!W2694","v":"00:00:00"},{"$f":"Fund!X2694","v":0},{"$f":"-Fund!V2694","v":0},{"$f":"Fund!V2694","v":0},{"$f":"Fund!P2694","v":""}]
[null,null,null,null,null,null,null,null,null,null,null,null,{"$f":"Fund!W2695","v":"00:00:00"},{"$f":"Fund!X2695","v":0},{"$f":"-Fund!V2695","v":0},{"$f":"Fund!V2695","v":0},{"$f":"Fund!P2695","v":""}]
[null,null,null,null,null,null,null,null,null,null,null,null,{"$f":"Fund!W2696","v":"00:00:00"},{"$f":"Fund!X2696","v":0},{"$f":"-Fund!V2696","v":0},{"$f":"Fund!V2696","v":0},{"$f":"Fund!P2696","v":""}]
[null,null,null,null,null,null,null,null,null,null,null,null,{"$f":"Fund!W2697","v":"00:00:00"},{"$f":"Fund!X2697","v":0},{"$f":"-Fund!V2697","v":0},{"$f":"Fund!V2697","v":0},{"$f":"Fund!P2697","v":""}]
[null,null,null,null,null,null,null,null,null,null,null,null,{"$f":"Fund!W2698","v":"00:00:00"},{"$f":"Fund!X2698","v":0},{"$f":"-Fund!V2698","v":0},{"$f":"Fund!V2698","v":0},{"$f":"Fund!P2698","v":""}]
[null,null,null,null,null,null,null,null,null,null,null,null,{"$f":"Fund!W2699","v":"00:00:00"},{"$f":"Fund!X2699","v":0},{"$f":"-Fund!V2699","v":0},{"$f":"Fund!V2699","v":0},{"$f":"Fund!P2699","v":""}]
[null,null,null,null,null,null,null,null,null,null,null,null,{"$f":"Fund!W2700","v":"00:00:00"},{"$f":"Fund!X2700","v":0},{"$f":"-Fund!V2700","v":0},{"$f":"Fund!V2700","v":0},{"$f":"Fund!P2700","v":""}]
[null,null,null,null,null,null,null,null,null,null,null,null,{"$f":"Fund!W2701","v":"00:00:00"},{"$f":"Fund!X2701","v":0},{"$f":"-Fund!V2701","v":0},{"$f":"Fund!V2701","v":0},{"$f":"Fund!P2701","v":""}]
[null,null,null,null,null,null,null,null,null,null,null,null,{"$f":"Fund!W2702","v":"00:00:00"},{"$f":"Fund!X2702","v":0},{"$f":"-Fund!V2702","v":0},{"$f":"Fund!V2702","v":0},{"$f":"Fund!P2702","v":""}]
[null,null,null,null,null,null,null,null,null,null,null,null,{"$f":"Fund!W2703","v":"00:00:00"},{"$f":"Fund!X2703","v":0},{"$f":"-Fund!V2703","v":0},{"$f":"Fund!V2703","v":0},{"$f":"Fund!P2703","v":""}]
[null,null,null,null,null,null,null,null,null,null,null,null,{"$f":"Fund!W2704","v":"00:00:00"},{"$f":"Fund!X2704","v":0},{"$f":"-Fund!V2704","v":0},{"$f":"Fund!V2704","v":0},{"$f":"Fund!P2704","v":""}]
[null,null,null,null,null,null,null,null,null,null,null,null,{"$f":"Fund!W2705","v":"00:00:00"},{"$f":"Fund!X2705","v":0},{"$f":"-Fund!V2705","v":0},{"$f":"Fund!V2705","v":0},{"$f":"Fund!P2705","v":""}]
[null,null,null,null,null,null,null,null,null,null,null,null,{"$f":"Fund!W2706","v":"00:00:00"},{"$f":"Fund!X2706","v":0},{"$f":"-Fund!V2706","v":0},{"$f":"Fund!V2706","v":0},{"$f":"Fund!P2706","v":""}]
[null,null,null,null,null,null,null,null,null,null,null,null,{"$f":"Fund!W2707","v":"00:00:00"},{"$f":"Fund!X2707","v":0},{"$f":"-Fund!V2707","v":0},{"$f":"Fund!V2707","v":0},{"$f":"Fund!P2707","v":""}]
[null,null,null,null,null,null,null,null,null,null,null,null,{"$f":"Fund!W2708","v":"00:00:00"},{"$f":"Fund!X2708","v":0},{"$f":"-Fund!V2708","v":0},{"$f":"Fund!V2708","v":0},{"$f":"Fund!P2708","v":""}]
[null,null,null,null,null,null,null,null,null,null,null,null,{"$f":"Fund!W2709","v":"00:00:00"},{"$f":"Fund!X2709","v":0},{"$f":"-Fund!V2709","v":0},{"$f":"Fund!V2709","v":0},{"$f":"Fund!P2709","v":""}]
[null,null,null,null,null,null,null,null,null,null,null,null,{"$f":"Fund!W2710","v":"00:00:00"},{"$f":"Fund!X2710","v":0},{"$f":"-Fund!V2710","v":0},{"$f":"Fund!V2710","v":0},{"$f":"Fund!P2710","v":""}]
[null,null,null,null,null,null,null,null,null,null,null,null,{"$f":"Fund!W2711","v":"00:00:00"},{"$f":"Fund!X2711","v":0},{"$f":"-Fund!V2711","v":0},{"$f":"Fund!V2711","v":0},{"$f":"Fund!P2711","v":""}]
[null,null,null,null,null,null,null,null,null,null,null,null,{"$f":"Fund!W2712","v":"00:00:00"},{"$f":"Fund!X2712","v":0},{"$f":"-Fund!V2712","v":0},{"$f":"Fund!V2712","v":0},{"$f":"Fund!P2712","v":""}]
[null,null,null,null,null,null,null,null,null,null,null,null,{"$f":"Fund!W2713","v":"00:00:00"},{"$f":"Fund!X2713","v":0},{"$f":"-Fund!V2713","v":0},{"$f":"Fund!V2713","v":0},{"$f":"Fund!P2713","v":""}]
[null,null,null,null,null,null,null,null,null,null,null,null,{"$f":"Fund!W2714","v":"00:00:00"},{"$f":"Fund!X2714","v":0},{"$f":"-Fund!V2714","v":0},{"$f":"Fund!V2714","v":0},{"$f":"Fund!P2714","v":""}]
[null,null,null,null,null,null,null,null,null,null,null,null,{"$f":"Fund!W2715","v":"00:00:00"},{"$f":"Fund!X2715","v":0},{"$f":"-Fund!V2715","v":0},{"$f":"Fund!V2715","v":0},{"$f":"Fund!P2715","v":""}]
[null,null,null,null,null,null,null,null,null,null,null,null,{"$f":"Fund!W2716","v":"00:00:00"},{"$f":"Fund!X2716","v":0},{"$f":"-Fund!V2716","v":0},{"$f":"Fund!V2716","v":0},{"$f":"Fund!P2716","v":""}]
[null,null,null,null,null,null,null,null,null,null,null,null,{"$f":"Fund!W2717","v":"00:00:00"},{"$f":"Fund!X2717","v":0},{"$f":"-Fund!V2717","v":0},{"$f":"Fund!V2717","v":0},{"$f":"Fund!P2717","v":""}]
[null,null,null,null,null,null,null,null,null,null,null,null,{"$f":"Fund!W2718","v":"00:00:00"},{"$f":"Fund!X2718","v":0},{"$f":"-Fund!V2718","v":0},{"$f":"Fund!V2718","v":0},{"$f":"Fund!P2718","v":""}]
[null,null,null,null,null,null,null,null,null,null,null,null,{"$f":"Fund!W2719","v":"00:00:00"},{"$f":"Fund!X2719","v":0},{"$f":"-Fund!V2719","v":0},{"$f":"Fund!V2719","v":0},{"$f":"Fund!P2719","v":""}]
[null,null,null,null,null,null,null,null,null,null,null,null,{"$f":"Fund!W2720","v":"00:00:00"},{"$f":"Fund!X2720","v":0},{"$f":"-Fund!V2720","v":0},{"$f":"Fund!V2720","v":0},{"$f":"Fund!P2720","v":""}]
[null,null,null,null,null,null,null,null,null,null,null,null,{"$f":"Fund!W2721","v":"00:00:00"},{"$f":"Fund!X2721","v":0},{"$f":"-Fund!V2721","v":0},{"$f":"Fund!V2721","v":0},{"$f":"Fund!P2721","v":""}]
[null,null,null,null,null,null,null,null,null,null,null,null,{"$f":"Fund!W2722","v":"00:00:00"},{"$f":"Fund!X2722","v":0},{"$f":"-Fund!V2722","v":0},{"$f":"Fund!V2722","v":0},{"$f":"Fund!P2722","v":""}]
[null,null,null,null,null,null,null,null,null,null,null,null,{"$f":"Fund!W2723","v":"00:00:00"},{"$f":"Fund!X2723","v":0},{"$f":"-Fund!V2723","v":0},{"$f":"Fund!V2723","v":0},{"$f":"Fund!P2723","v":""}]
[null,null,null,null,null,null,null,null,null,null,null,null,{"$f":"Fund!W2724","v":"00:00:00"},{"$f":"Fund!X2724","v":0},{"$f":"-Fund!V2724","v":0},{"$f":"Fund!V2724","v":0},{"$f":"Fund!P2724","v":""}]
[null,null,null,null,null,null,null,null,null,null,null,null,{"$f":"Fund!W2725","v":"00:00:00"},{"$f":"Fund!X2725","v":0},{"$f":"-Fund!V2725","v":0},{"$f":"Fund!V2725","v":0},{"$f":"Fund!P2725","v":""}]
[null,null,null,null,null,null,null,null,null,null,null,null,{"$f":"Fund!W2726","v":"00:00:00"},{"$f":"Fund!X2726","v":0},{"$f":"-Fund!V2726","v":0},{"$f":"Fund!V2726","v":0},{"$f":"Fund!P2726","v":""}]
[null,null,null,null,null,null,null,null,null,null,null,null,{"$f":"Fund!W2727","v":"00:00:00"},{"$f":"Fund!X2727","v":0},{"$f":"-Fund!V2727","v":0},{"$f":"Fund!V2727","v":0},{"$f":"Fund!P2727","v":""}]
[null,null,null,null,null,null,null,null,null,null,null,null,{"$f":"Fund!W2728","v":"00:00:00"},{"$f":"Fund!X2728","v":0},{"$f":"-Fund!V2728","v":0},{"$f":"Fund!V2728","v":0},{"$f":"Fund!P2728","v":""}]
[null,null,null,null,null,null,null,null,null,null,null,null,{"$f":"Fund!W2729","v":"00:00:00"},{"$f":"Fund!X2729","v":0},{"$f":"-Fund!V2729","v":0},{"$f":"Fund!V2729","v":0},{"$f":"Fund!P2729","v":""}]
[null,null,null,null,null,null,null,null,null,null,null,null,{"$f":"Fund!W2730","v":"00:00:00"},{"$f":"Fund!X2730","v":0},{"$f":"-Fund!V2730","v":0},{"$f":"Fund!V2730","v":0},{"$f":"Fund!P2730","v":""}]
[null,null,null,null,null,null,null,null,null,null,null,null,{"$f":"Fund!W2731","v":"00:00:00"},{"$f":"Fund!X2731","v":0},{"$f":"-Fund!V2731","v":0},{"$f":"Fund!V2731","v":0},{"$f":"Fund!P2731","v":""}]
[null,null,null,null,null,null,null,null,null,null,null,null,{"$f":"Fund!W2732","v":"00:00:00"},{"$f":"Fund!X2732","v":0},{"$f":"-Fund!V2732","v":0},{"$f":"Fund!V2732","v":0},{"$f":"Fund!P2732","v":""}]
[null,null,null,null,null,null,null,null,null,null,null,null,{"$f":"Fund!W2733","v":"00:00:00"},{"$f":"Fund!X2733","v":0},{"$f":"-Fund!V2733","v":0},{"$f":"Fund!V2733","v":0},{"$f":"Fund!P2733","v":""}]
[null,null,null,null,null,null,null,null,null,null,null,null,{"$f":"Fund!W2734","v":"00:00:00"},{"$f":"Fund!X2734","v":0},{"$f":"-Fund!V2734","v":0},{"$f":"Fund!V2734","v":0},{"$f":"Fund!P2734","v":""}]
[null,null,null,null,null,null,null,null,null,null,null,null,{"$f":"Fund!W2735","v":"00:00:00"},{"$f":"Fund!X2735","v":0},{"$f":"-Fund!V2735","v":0},{"$f":"Fund!V2735","v":0},{"$f":"Fund!P2735","v":""}]
[null,null,null,null,null,null,null,null,null,null,null,null,{"$f":"Fund!W2736","v":"00:00:00"},{"$f":"Fund!X2736","v":0},{"$f":"-Fund!V2736","v":0},{"$f":"Fund!V2736","v":0},{"$f":"Fund!P2736","v":""}]
[null,null,null,null,null,null,null,null,null,null,null,null,{"$f":"Fund!W2737","v":"00:00:00"},{"$f":"Fund!X2737","v":0},{"$f":"-Fund!V2737","v":0},{"$f":"Fund!V2737","v":0},{"$f":"Fund!P2737","v":""}]
[null,null,null,null,null,null,null,null,null,null,null,null,{"$f":"Fund!W2738","v":"00:00:00"},{"$f":"Fund!X2738","v":0},{"$f":"-Fund!V2738","v":0},{"$f":"Fund!V2738","v":0},{"$f":"Fund!P2738","v":""}]
[null,null,null,null,null,null,null,null,null,null,null,null,{"$f":"Fund!W2739","v":"00:00:00"},{"$f":"Fund!X2739","v":0},{"$f":"-Fund!V2739","v":0},{"$f":"Fund!V2739","v":0},{"$f":"Fund!P2739","v":""}]
[null,null,null,null,null,null,null,null,null,null,null,null,{"$f":"Fund!W2740","v":"00:00:00"},{"$f":"Fund!X2740","v":0},{"$f":"-Fund!V2740","v":0},{"$f":"Fund!V2740","v":0},{"$f":"Fund!P2740","v":""}]
[null,null,null,null,null,null,null,null,null,null,null,null,{"$f":"Fund!W2741","v":"00:00:00"},{"$f":"Fund!X2741","v":0},{"$f":"-Fund!V2741","v":0},{"$f":"Fund!V2741","v":0},{"$f":"Fund!P2741","v":""}]
[null,null,null,null,null,null,null,null,null,null,null,null,{"$f":"Fund!W2742","v":"00:00:00"},{"$f":"Fund!X2742","v":0},{"$f":"-Fund!V2742","v":0},{"$f":"Fund!V2742","v":0},{"$f":"Fund!P2742","v":""}]
[null,null,null,null,null,null,null,null,null,null,null,null,{"$f":"Fund!W2743","v":"00:00:00"},{"$f":"Fund!X2743","v":0},{"$f":"-Fund!V2743","v":0},{"$f":"Fund!V2743","v":0},{"$f":"Fund!P2743","v":""}]
[null,null,null,null,null,null,null,null,null,null,null,null,{"$f":"Fund!W2744","v":"00:00:00"},{"$f":"Fund!X2744","v":0},{"$f":"-Fund!V2744","v":0},{"$f":"Fund!V2744","v":0},{"$f":"Fund!P2744","v":""}]
[null,null,null,null,null,null,null,null,null,null,null,null,{"$f":"Fund!W2745","v":"00:00:00"},{"$f":"Fund!X2745","v":0},{"$f":"-Fund!V2745","v":0},{"$f":"Fund!V2745","v":0},{"$f":"Fund!P2745","v":""}]
[null,null,null,null,null,null,null,null,null,null,null,null,{"$f":"Fund!W2746","v":"00:00:00"},{"$f":"Fund!X2746","v":0},{"$f":"-Fund!V2746","v":0},{"$f":"Fund!V2746","v":0},{"$f":"Fund!P2746","v":""}]
[null,null,null,null,null,null,null,null,null,null,null,null,{"$f":"Fund!W2747","v":"00:00:00"},{"$f":"Fund!X2747","v":0},{"$f":"-Fund!V2747","v":0},{"$f":"Fund!V2747","v":0},{"$f":"Fund!P2747","v":""}]
[null,null,null,null,null,null,null,null,null,null,null,null,{"$f":"Fund!W2748","v":"00:00:00"},{"$f":"Fund!X2748","v":0},{"$f":"-Fund!V2748","v":0},{"$f":"Fund!V2748","v":0},{"$f":"Fund!P2748","v":""}]
[null,null,null,null,null,null,null,null,null,null,null,null,{"$f":"Fund!W2749","v":"00:00:00"},{"$f":"Fund!X2749","v":0},{"$f":"-Fund!V2749","v":0},{"$f":"Fund!V2749","v":0},{"$f":"Fund!P2749","v":""}]
[null,null,null,null,null,null,null,null,null,null,null,null,{"$f":"Fund!W2750","v":"00:00:00"},{"$f":"Fund!X2750","v":0},{"$f":"-Fund!V2750","v":0},{"$f":"Fund!V2750","v":0},{"$f":"Fund!P2750","v":""}]
[null,null,null,null,null,null,null,null,null,null,null,null,{"$f":"Fund!W2751","v":"00:00:00"},{"$f":"Fund!X2751","v":0},{"$f":"-Fund!V2751","v":0},{"$f":"Fund!V2751","v":0},{"$f":"Fund!P2751","v":""}]
[null,null,null,null,null,null,null,null,null,null,null,null,{"$f":"Fund!W2752","v":"00:00:00"},{"$f":"Fund!X2752","v":0},{"$f":"-Fund!V2752","v":0},{"$f":"Fund!V2752","v":0},{"$f":"Fund!P2752","v":""}]
[null,null,null,null,null,null,null,null,null,null,null,null,{"$f":"Fund!W2753","v":"00:00:00"},{"$f":"Fund!X2753","v":0},{"$f":"-Fund!V2753","v":0},{"$f":"Fund!V2753","v":0},{"$f":"Fund!P2753","v":""}]
[null,null,null,null,null,null,null,null,null,null,null,null,{"$f":"Fund!W2754","v":"00:00:00"},{"$f":"Fund!X2754","v":0},{"$f":"-Fund!V2754","v":0},{"$f":"Fund!V2754","v":0},{"$f":"Fund!P2754","v":""}]
[null,null,null,null,null,null,null,null,null,null,null,null,{"$f":"Fund!W2755","v":"00:00:00"},{"$f":"Fund!X2755","v":0},{"$f":"-Fund!V2755","v":0},{"$f":"Fund!V2755","v":0},{"$f":"Fund!P2755","v":""}]
[null,null,null,null,null,null,null,null,null,null,null,null,{"$f":"Fund!W2756","v":"00:00:00"},{"$f":"Fund!X2756","v":0},{"$f":"-Fund!V2756","v":0},{"$f":"Fund!V2756","v":0},{"$f":"Fund!P2756","v":""}]
[null,null,null,null,null,null,null,null,null,null,null,null,{"$f":"Fund!W2757","v":"00:00:00"},{"$f":"Fund!X2757","v":0},{"$f":"-Fund!V2757","v":0},{"$f":"Fund!V2757","v":0},{"$f":"Fund!P2757","v":""}]
[null,null,null,null,null,null,null,null,null,null,null,null,{"$f":"Fund!W2758","v":"00:00:00"},{"$f":"Fund!X2758","v":0},{"$f":"-Fund!V2758","v":0},{"$f":"Fund!V2758","v":0},{"$f":"Fund!P2758","v":""}]
[null,null,null,null,null,null,null,null,null,null,null,null,{"$f":"Fund!W2759","v":"00:00:00"},{"$f":"Fund!X2759","v":0},{"$f":"-Fund!V2759","v":0},{"$f":"Fund!V2759","v":0},{"$f":"Fund!P2759","v":""}]
[null,null,null,null,null,null,null,null,null,null,null,null,{"$f":"Fund!W2760","v":"00:00:00"},{"$f":"Fund!X2760","v":0},{"$f":"-Fund!V2760","v":0},{"$f":"Fund!V2760","v":0},{"$f":"Fund!P2760","v":""}]
[null,null,null,null,null,null,null,null,null,null,null,null,{"$f":"Fund!W2761","v":"00:00:00"},{"$f":"Fund!X2761","v":0},{"$f":"-Fund!V2761","v":0},{"$f":"Fund!V2761","v":0},{"$f":"Fund!P2761","v":""}]
[null,null,null,null,null,null,null,null,null,null,null,null,{"$f":"Fund!W2762","v":"00:00:00"},{"$f":"Fund!X2762","v":0},{"$f":"-Fund!V2762","v":0},{"$f":"Fund!V2762","v":0},{"$f":"Fund!P2762","v":""}]
[null,null,null,null,null,null,null,null,null,null,null,null,{"$f":"Fund!W2763","v":"00:00:00"},{"$f":"Fund!X2763","v":0},{"$f":"-Fund!V2763","v":0},{"$f":"Fund!V2763","v":0},{"$f":"Fund!P2763","v":""}]
[null,null,null,null,null,null,null,null,null,null,null,null,{"$f":"Fund!W2764","v":"00:00:00"},{"$f":"Fund!X2764","v":0},{"$f":"-Fund!V2764","v":0},{"$f":"Fund!V2764","v":0},{"$f":"Fund!P2764","v":""}]
[null,null,null,null,null,null,null,null,null,null,null,null,{"$f":"Fund!W2765","v":"00:00:00"},{"$f":"Fund!X2765","v":0},{"$f":"-Fund!V2765","v":0},{"$f":"Fund!V2765","v":0},{"$f":"Fund!P2765","v":""}]
[null,null,null,null,null,null,null,null,null,null,null,null,{"$f":"Fund!W2766","v":"00:00:00"},{"$f":"Fund!X2766","v":0},{"$f":"-Fund!V2766","v":0},{"$f":"Fund!V2766","v":0},{"$f":"Fund!P2766","v":""}]
[null,null,null,null,null,null,null,null,null,null,null,null,{"$f":"Fund!W2767","v":"00:00:00"},{"$f":"Fund!X2767","v":0},{"$f":"-Fund!V2767","v":0},{"$f":"Fund!V2767","v":0},{"$f":"Fund!P2767","v":""}]
[null,null,null,null,null,null,null,null,null,null,null,null,{"$f":"Fund!W2768","v":"00:00:00"},{"$f":"Fund!X2768","v":0},{"$f":"-Fund!V2768","v":0},{"$f":"Fund!V2768","v":0},{"$f":"Fund!P2768","v":""}]
[null,null,null,null,null,null,null,null,null,null,null,null,{"$f":"Fund!W2769","v":"00:00:00"},{"$f":"Fund!X2769","v":0},{"$f":"-Fund!V2769","v":0},{"$f":"Fund!V2769","v":0},{"$f":"Fund!P2769","v":""}]
[null,null,null,null,null,null,null,null,null,null,null,null,{"$f":"Fund!W2770","v":"00:00:00"},{"$f":"Fund!X2770","v":0},{"$f":"-Fund!V2770","v":0},{"$f":"Fund!V2770","v":0},{"$f":"Fund!P2770","v":""}]
[null,null,null,null,null,null,null,null,null,null,null,null,{"$f":"Fund!W2771","v":"00:00:00"},{"$f":"Fund!X2771","v":0},{"$f":"-Fund!V2771","v":0},{"$f":"Fund!V2771","v":0},{"$f":"Fund!P2771","v":""}]
[null,null,null,null,null,null,null,null,null,null,null,null,{"$f":"Fund!W2772","v":"00:00:00"},{"$f":"Fund!X2772","v":0},{"$f":"-Fund!V2772","v":0},{"$f":"Fund!V2772","v":0},{"$f":"Fund!P2772","v":""}]
[null,null,null,null,null,null,null,null,null,null,null,null,{"$f":"Fund!W2773","v":"00:00:00"},{"$f":"Fund!X2773","v":0},{"$f":"-Fund!V2773","v":0},{"$f":"Fund!V2773","v":0},{"$f":"Fund!P2773","v":""}]
[null,null,null,null,null,null,null,null,null,null,null,null,{"$f":"Fund!W2774","v":"00:00:00"},{"$f":"Fund!X2774","v":0},{"$f":"-Fund!V2774","v":0},{"$f":"Fund!V2774","v":0},{"$f":"Fund!P2774","v":""}]
[null,null,null,null,null,null,null,null,null,null,null,null,{"$f":"Fund!W2775","v":"00:00:00"},{"$f":"Fund!X2775","v":0},{"$f":"-Fund!V2775","v":0},{"$f":"Fund!V2775","v":0},{"$f":"Fund!P2775","v":""}]
[null,null,null,null,null,null,null,null,null,null,null,null,{"$f":"Fund!W2776","v":"00:00:00"},{"$f":"Fund!X2776","v":0},{"$f":"-Fund!V2776","v":0},{"$f":"Fund!V2776","v":0},{"$f":"Fund!P2776","v":""}]
[null,null,null,null,null,null,null,null,null,null,null,null,{"$f":"Fund!W2777","v":"00:00:00"},{"$f":"Fund!X2777","v":0},{"$f":"-Fund!V2777","v":0},{"$f":"Fund!V2777","v":0},{"$f":"Fund!P2777","v":""}]
[null,null,null,null,null,null,null,null,null,null,null,null,{"$f":"Fund!W2778","v":"00:00:00"},{"$f":"Fund!X2778","v":0},{"$f":"-Fund!V2778","v":0},{"$f":"Fund!V2778","v":0},{"$f":"Fund!P2778","v":""}]
[null,null,null,null,null,null,null,null,null,null,null,null,{"$f":"Fund!W2779","v":"00:00:00"},{"$f":"Fund!X2779","v":0},{"$f":"-Fund!V2779","v":0},{"$f":"Fund!V2779","v":0},{"$f":"Fund!P2779","v":""}]
[null,null,null,null,null,null,null,null,null,null,null,null,{"$f":"Fund!W2780","v":"00:00:00"},{"$f":"Fund!X2780","v":0},{"$f":"-Fund!V2780","v":0},{"$f":"Fund!V2780","v":0},{"$f":"Fund!P2780","v":""}]
[null,null,null,null,null,null,null,null,null,null,null,null,{"$f":"Fund!W2781","v":"00:00:00"},{"$f":"Fund!X2781","v":0},{"$f":"-Fund!V2781","v":0},{"$f":"Fund!V2781","v":0},{"$f":"Fund!P2781","v":""}]
[null,null,null,null,null,null,null,null,null,null,null,null,{"$f":"Fund!W2782","v":"00:00:00"},{"$f":"Fund!X2782","v":0},{"$f":"-Fund!V2782","v":0},{"$f":"Fund!V2782","v":0},{"$f":"Fund!P2782","v":""}]
[null,null,null,null,null,null,null,null,null,null,null,null,{"$f":"Fund!W2783","v":"00:00:00"},{"$f":"Fund!X2783","v":0},{"$f":"-Fund!V2783","v":0},{"$f":"Fund!V2783","v":0},{"$f":"Fund!P2783","v":""}]
[null,null,null,null,null,null,null,null,null,null,null,null,{"$f":"Fund!W2784","v":"00:00:00"},{"$f":"Fund!X2784","v":0},{"$f":"-Fund!V2784","v":0},{"$f":"Fund!V2784","v":0},{"$f":"Fund!P2784","v":""}]
[null,null,null,null,null,null,null,null,null,null,null,null,{"$f":"Fund!W2785","v":"00:00:00"},{"$f":"Fund!X2785","v":0},{"$f":"-Fund!V2785","v":0},{"$f":"Fund!V2785","v":0},{"$f":"Fund!P2785","v":""}]
[null,null,null,null,null,null,null,null,null,null,null,null,{"$f":"Fund!W2786","v":"00:00:00"},{"$f":"Fund!X2786","v":0},{"$f":"-Fund!V2786","v":0},{"$f":"Fund!V2786","v":0},{"$f":"Fund!P2786","v":""}]
[null,null,null,null,null,null,null,null,null,null,null,null,{"$f":"Fund!W2787","v":"00:00:00"},{"$f":"Fund!X2787","v":0},{"$f":"-Fund!V2787","v":0},{"$f":"Fund!V2787","v":0},{"$f":"Fund!P2787","v":""}]
[null,null,null,null,null,null,null,null,null,null,null,null,{"$f":"Fund!W2788","v":"00:00:00"},{"$f":"Fund!X2788","v":0},{"$f":"-Fund!V2788","v":0},{"$f":"Fund!V2788","v":0},{"$f":"Fund!P2788","v":""}]
[null,null,null,null,null,null,null,null,null,null,null,null,{"$f":"Fund!W2789","v":"00:00:00"},{"$f":"Fund!X2789","v":0},{"$f":"-Fund!V2789","v":0},{"$f":"Fund!V2789","v":0},{"$f":"Fund!P2789","v":""}]
[null,null,null,null,null,null,null,null,null,null,null,null,{"$f":"Fund!W2790","v":"00:00:00"},{"$f":"Fund!X2790","v":0},{"$f":"-Fund!V2790","v":0},{"$f":"Fund!V2790","v":0},{"$f":"Fund!P2790","v":""}]
[null,null,null,null,null,null,null,null,null,null,null,null,{"$f":"Fund!W2791","v":"00:00:00"},{"$f":"Fund!X2791","v":0},{"$f":"-Fund!V2791","v":0},{"$f":"Fund!V2791","v":0},{"$f":"Fund!P2791","v":""}]
[null,null,null,null,null,null,null,null,null,null,null,null,{"$f":"Fund!W2792","v":"00:00:00"},{"$f":"Fund!X2792","v":0},{"$f":"-Fund!V2792","v":0},{"$f":"Fund!V2792","v":0},{"$f":"Fund!P2792","v":""}]
[null,null,null,null,null,null,null,null,null,null,null,null,{"$f":"Fund!W2793","v":"00:00:00"},{"$f":"Fund!X2793","v":0},{"$f":"-Fund!V2793","v":0},{"$f":"Fund!V2793","v":0},{"$f":"Fund!P2793","v":""}]
[null,null,null,null,null,null,null,null,null,null,null,null,{"$f":"Fund!W2794","v":"00:00:00"},{"$f":"Fund!X2794","v":0},{"$f":"-Fund!V2794","v":0},{"$f":"Fund!V2794","v":0},{"$f":"Fund!P2794","v":""}]
[null,null,null,null,null,null,null,null,null,null,null,null,{"$f":"Fund!W2795","v":"00:00:00"},{"$f":"Fund!X2795","v":0},{"$f":"-Fund!V2795","v":0},{"$f":"Fund!V2795","v":0},{"$f":"Fund!P2795","v":""}]
[null,null,null,null,null,null,null,null,null,null,null,null,{"$f":"Fund!W2796","v":"00:00:00"},{"$f":"Fund!X2796","v":0},{"$f":"-Fund!V2796","v":0},{"$f":"Fund!V2796","v":0},{"$f":"Fund!P2796","v":""}]
[null,null,null,null,null,null,null,null,null,null,null,null,{"$f":"Fund!W2797","v":"00:00:00"},{"$f":"Fund!X2797","v":0},{"$f":"-Fund!V2797","v":0},{"$f":"Fund!V2797","v":0},{"$f":"Fund!P2797","v":""}]
[null,null,null,null,null,null,null,null,null,null,null,null,{"$f":"Fund!W2798","v":"00:00:00"},{"$f":"Fund!X2798","v":0},{"$f":"-Fund!V2798","v":0},{"$f":"Fund!V2798","v":0},{"$f":"Fund!P2798","v":""}]
[null,null,null,null,null,null,null,null,null,null,null,null,{"$f":"Fund!W2799","v":"00:00:00"},{"$f":"Fund!X2799","v":0},{"$f":"-Fund!V2799","v":0},{"$f":"Fund!V2799","v":0},{"$f":"Fund!P2799","v":""}]
[null,null,null,null,null,null,null,null,null,null,null,null,{"$f":"Fund!W2800","v":"00:00:00"},{"$f":"Fund!X2800","v":0},{"$f":"-Fund!V2800","v":0},{"$f":"Fund!V2800","v":0},{"$f":"Fund!P2800","v":""}]
[null,null,null,null,null,null,null,null,null,null,null,null,{"$f":"Fund!W2801","v":"00:00:00"},{"$f":"Fund!X2801","v":0},{"$f":"-Fund!V2801","v":0},{"$f":"Fund!V2801","v":0},{"$f":"Fund!P2801","v":""}]
[null,null,null,null,null,null,null,null,null,null,null,null,{"$f":"Fund!W2802","v":"00:00:00"},{"$f":"Fund!X2802","v":0},{"$f":"-Fund!V2802","v":0},{"$f":"Fund!V2802","v":0},{"$f":"Fund!P2802","v":""}]
[null,null,null,null,null,null,null,null,null,null,null,null,{"$f":"Fund!W2803","v":"00:00:00"},{"$f":"Fund!X2803","v":0},{"$f":"-Fund!V2803","v":0},{"$f":"Fund!V2803","v":0},{"$f":"Fund!P2803","v":""}]
[null,null,null,null,null,null,null,null,null,null,null,null,{"$f":"Fund!W2804","v":"00:00:00"},{"$f":"Fund!X2804","v":0},{"$f":"-Fund!V2804","v":0},{"$f":"Fund!V2804","v":0},{"$f":"Fund!P2804","v":""}]
[null,null,null,null,null,null,null,null,null,null,null,null,{"$f":"Fund!W2805","v":"00:00:00"},{"$f":"Fund!X2805","v":0},{"$f":"-Fund!V2805","v":0},{"$f":"Fund!V2805","v":0},{"$f":"Fund!P2805","v":""}]
[null,null,null,null,null,null,null,null,null,null,null,null,{"$f":"Fund!W2806","v":"00:00:00"},{"$f":"Fund!X2806","v":0},{"$f":"-Fund!V2806","v":0},{"$f":"Fund!V2806","v":0},{"$f":"Fund!P2806","v":""}]
[null,null,null,null,null,null,null,null,null,null,null,null,{"$f":"Fund!W2807","v":"00:00:00"},{"$f":"Fund!X2807","v":0},{"$f":"-Fund!V2807","v":0},{"$f":"Fund!V2807","v":0},{"$f":"Fund!P2807","v":""}]
[null,null,null,null,null,null,null,null,null,null,null,null,{"$f":"Fund!W2808","v":"00:00:00"},{"$f":"Fund!X2808","v":0},{"$f":"-Fund!V2808","v":0},{"$f":"Fund!V2808","v":0},{"$f":"Fund!P2808","v":""}]
[null,null,null,null,null,null,null,null,null,null,null,null,{"$f":"Fund!W2809","v":"00:00:00"},{"$f":"Fund!X2809","v":0},{"$f":"-Fund!V2809","v":0},{"$f":"Fund!V2809","v":0},{"$f":"Fund!P2809","v":""}]
[null,null,null,null,null,null,null,null,null,null,null,null,{"$f":"Fund!W2810","v":"00:00:00"},{"$f":"Fund!X2810","v":0},{"$f":"-Fund!V2810","v":0},{"$f":"Fund!V2810","v":0},{"$f":"Fund!P2810","v":""}]
[null,null,null,null,null,null,null,null,null,null,null,null,{"$f":"Fund!W2811","v":"00:00:00"},{"$f":"Fund!X2811","v":0},{"$f":"-Fund!V2811","v":0},{"$f":"Fund!V2811","v":0},{"$f":"Fund!P2811","v":""}]
[null,null,null,null,null,null,null,null,null,null,null,null,{"$f":"Fund!W2812","v":"00:00:00"},{"$f":"Fund!X2812","v":0},{"$f":"-Fund!V2812","v":0},{"$f":"Fund!V2812","v":0},{"$f":"Fund!P2812","v":""}]
[null,null,null,null,null,null,null,null,null,null,null,null,{"$f":"Fund!W2813","v":"00:00:00"},{"$f":"Fund!X2813","v":0},{"$f":"-Fund!V2813","v":0},{"$f":"Fund!V2813","v":0},{"$f":"Fund!P2813","v":""}]
[null,null,null,null,null,null,null,null,null,null,null,null,{"$f":"Fund!W2814","v":"00:00:00"},{"$f":"Fund!X2814","v":0},{"$f":"-Fund!V2814","v":0},{"$f":"Fund!V2814","v":0},{"$f":"Fund!P2814","v":""}]
[null,null,null,null,null,null,null,null,null,null,null,null,{"$f":"Fund!W2815","v":"00:00:00"},{"$f":"Fund!X2815","v":0},{"$f":"-Fund!V2815","v":0},{"$f":"Fund!V2815","v":0},{"$f":"Fund!P2815","v":""}]
[null,null,null,null,null,null,null,null,null,null,null,null,{"$f":"Fund!W2816","v":"00:00:00"},{"$f":"Fund!X2816","v":0},{"$f":"-Fund!V2816","v":0},{"$f":"Fund!V2816","v":0},{"$f":"Fund!P2816","v":""}]
[null,null,null,null,null,null,null,null,null,null,null,null,{"$f":"Fund!W2817","v":"00:00:00"},{"$f":"Fund!X2817","v":0},{"$f":"-Fund!V2817","v":0},{"$f":"Fund!V2817","v":0},{"$f":"Fund!P2817","v":""}]
[null,null,null,null,null,null,null,null,null,null,null,null,{"$f":"Fund!W2818","v":"00:00:00"},{"$f":"Fund!X2818","v":0},{"$f":"-Fund!V2818","v":0},{"$f":"Fund!V2818","v":0},{"$f":"Fund!P2818","v":""}]
[null,null,null,null,null,null,null,null,null,null,null,null,{"$f":"Fund!W2819","v":"00:00:00"},{"$f":"Fund!X2819","v":0},{"$f":"-Fund!V2819","v":0},{"$f":"Fund!V2819","v":0},{"$f":"Fund!P2819","v":""}]
[null,null,null,null,null,null,null,null,null,null,null,null,{"$f":"Fund!W2820","v":"00:00:00"},{"$f":"Fund!X2820","v":0},{"$f":"-Fund!V2820","v":0},{"$f":"Fund!V2820","v":0},{"$f":"Fund!P2820","v":""}]
[null,null,null,null,null,null,null,null,null,null,null,null,{"$f":"Fund!W2821","v":"00:00:00"},{"$f":"Fund!X2821","v":0},{"$f":"-Fund!V2821","v":0},{"$f":"Fund!V2821","v":0},{"$f":"Fund!P2821","v":""}]
[null,null,null,null,null,null,null,null,null,null,null,null,{"$f":"Fund!W2822","v":"00:00:00"},{"$f":"Fund!X2822","v":0},{"$f":"-Fund!V2822","v":0},{"$f":"Fund!V2822","v":0},{"$f":"Fund!P2822","v":""}]
[null,null,null,null,null,null,null,null,null,null,null,null,{"$f":"Fund!W2823","v":"00:00:00"},{"$f":"Fund!X2823","v":0},{"$f":"-Fund!V2823","v":0},{"$f":"Fund!V2823","v":0},{"$f":"Fund!P2823","v":""}]
[null,null,null,null,null,null,null,null,null,null,null,null,{"$f":"Fund!W2824","v":"00:00:00"},{"$f":"Fund!X2824","v":0},{"$f":"-Fund!V2824","v":0},{"$f":"Fund!V2824","v":0},{"$f":"Fund!P2824","v":""}]
[null,null,null,null,null,null,null,null,null,null,null,null,{"$f":"Fund!W2825","v":"00:00:00"},{"$f":"Fund!X2825","v":0},{"$f":"-Fund!V2825","v":0},{"$f":"Fund!V2825","v":0},{"$f":"Fund!P2825","v":""}]
[null,null,null,null,null,null,null,null,null,null,null,null,{"$f":"Fund!W2826","v":"00:00:00"},{"$f":"Fund!X2826","v":0},{"$f":"-Fund!V2826","v":0},{"$f":"Fund!V2826","v":0},{"$f":"Fund!P2826","v":""}]
[null,null,null,null,null,null,null,null,null,null,null,null,{"$f":"Fund!W2827","v":"00:00:00"},{"$f":"Fund!X2827","v":0},{"$f":"-Fund!V2827","v":0},{"$f":"Fund!V2827","v":0},{"$f":"Fund!P2827","v":""}]
[null,null,null,null,null,null,null,null,null,null,null,null,{"$f":"Fund!W2828","v":"00:00:00"},{"$f":"Fund!X2828","v":0},{"$f":"-Fund!V2828","v":0},{"$f":"Fund!V2828","v":0},{"$f":"Fund!P2828","v":""}]
[null,null,null,null,null,null,null,null,null,null,null,null,{"$f":"Fund!W2829","v":"00:00:00"},{"$f":"Fund!X2829","v":0},{"$f":"-Fund!V2829","v":0},{"$f":"Fund!V2829","v":0},{"$f":"Fund!P2829","v":""}]
[null,null,null,null,null,null,null,null,null,null,null,null,{"$f":"Fund!W2830","v":"00:00:00"},{"$f":"Fund!X2830","v":0},{"$f":"-Fund!V2830","v":0},{"$f":"Fund!V2830","v":0},{"$f":"Fund!P2830","v":""}]
[null,null,null,null,null,null,null,null,null,null,null,null,{"$f":"Fund!W2831","v":"00:00:00"},{"$f":"Fund!X2831","v":0},{"$f":"-Fund!V2831","v":0},{"$f":"Fund!V2831","v":0},{"$f":"Fund!P2831","v":""}]
[null,null,null,null,null,null,null,null,null,null,null,null,{"$f":"Fund!W2832","v":"00:00:00"},{"$f":"Fund!X2832","v":0},{"$f":"-Fund!V2832","v":0},{"$f":"Fund!V2832","v":0},{"$f":"Fund!P2832","v":""}]
[null,null,null,null,null,null,null,null,null,null,null,null,{"$f":"Fund!W2833","v":"00:00:00"},{"$f":"Fund!X2833","v":0},{"$f":"-Fund!V2833","v":0},{"$f":"Fund!V2833","v":0},{"$f":"Fund!P2833","v":""}]
[null,null,null,null,null,null,null,null,null,null,null,null,{"$f":"Fund!W2834","v":"00:00:00"},{"$f":"Fund!X2834","v":0},{"$f":"-Fund!V2834","v":0},{"$f":"Fund!V2834","v":0},{"$f":"Fund!P2834","v":""}]
[null,null,null,null,null,null,null,null,null,null,null,null,{"$f":"Fund!W2835","v":"00:00:00"},{"$f":"Fund!X2835","v":0},{"$f":"-Fund!V2835","v":0},{"$f":"Fund!V2835","v":0},{"$f":"Fund!P2835","v":""}]
[null,null,null,null,null,null,null,null,null,null,null,null,{"$f":"Fund!W2836","v":"00:00:00"},{"$f":"Fund!X2836","v":0},{"$f":"-Fund!V2836","v":0},{"$f":"Fund!V2836","v":0},{"$f":"Fund!P2836","v":""}]
[null,null,null,null,null,null,null,null,null,null,null,null,{"$f":"Fund!W2837","v":"00:00:00"},{"$f":"Fund!X2837","v":0},{"$f":"-Fund!V2837","v":0},{"$f":"Fund!V2837","v":0},{"$f":"Fund!P2837","v":""}]
[null,null,null,null,null,null,null,null,null,null,null,null,{"$f":"Fund!W2838","v":"00:00:00"},{"$f":"Fund!X2838","v":0},{"$f":"-Fund!V2838","v":0},{"$f":"Fund!V2838","v":0},{"$f":"Fund!P2838","v":""}]
[null,null,null,null,null,null,null,null,null,null,null,null,{"$f":"Fund!W2839","v":"00:00:00"},{"$f":"Fund!X2839","v":0},{"$f":"-Fund!V2839","v":0},{"$f":"Fund!V2839","v":0},{"$f":"Fund!P2839","v":""}]
[null,null,null,null,null,null,null,null,null,null,null,null,{"$f":"Fund!W2840","v":"00:00:00"},{"$f":"Fund!X2840","v":0},{"$f":"-Fund!V2840","v":0},{"$f":"Fund!V2840","v":0},{"$f":"Fund!P2840","v":""}]
[null,null,null,null,null,null,null,null,null,null,null,null,{"$f":"Fund!W2841","v":"00:00:00"},{"$f":"Fund!X2841","v":0},{"$f":"-Fund!V2841","v":0},{"$f":"Fund!V2841","v":0},{"$f":"Fund!P2841","v":""}]
[null,null,null,null,null,null,null,null,null,null,null,null,{"$f":"Fund!W2842","v":"00:00:00"},{"$f":"Fund!X2842","v":0},{"$f":"-Fund!V2842","v":0},{"$f":"Fund!V2842","v":0},{"$f":"Fund!P2842","v":""}]
[null,null,null,null,null,null,null,null,null,null,null,null,{"$f":"Fund!W2843","v":"00:00:00"},{"$f":"Fund!X2843","v":0},{"$f":"-Fund!V2843","v":0},{"$f":"Fund!V2843","v":0},{"$f":"Fund!P2843","v":""}]
[null,null,null,null,null,null,null,null,null,null,null,null,{"$f":"Fund!W2844","v":"00:00:00"},{"$f":"Fund!X2844","v":0},{"$f":"-Fund!V2844","v":0},{"$f":"Fund!V2844","v":0},{"$f":"Fund!P2844","v":""}]
[null,null,null,null,null,null,null,null,null,null,null,null,{"$f":"Fund!W2845","v":"00:00:00"},{"$f":"Fund!X2845","v":0},{"$f":"-Fund!V2845","v":0},{"$f":"Fund!V2845","v":0},{"$f":"Fund!P2845","v":""}]
[null,null,null,null,null,null,null,null,null,null,null,null,{"$f":"Fund!W2846","v":"00:00:00"},{"$f":"Fund!X2846","v":0},{"$f":"-Fund!V2846","v":0},{"$f":"Fund!V2846","v":0},{"$f":"Fund!P2846","v":""}]
[null,null,null,null,null,null,null,null,null,null,null,null,{"$f":"Fund!W2847","v":"00:00:00"},{"$f":"Fund!X2847","v":0},{"$f":"-Fund!V2847","v":0},{"$f":"Fund!V2847","v":0},{"$f":"Fund!P2847","v":""}]
[null,null,null,null,null,null,null,null,null,null,null,null,{"$f":"Fund!W2848","v":"00:00:00"},{"$f":"Fund!X2848","v":0},{"$f":"-Fund!V2848","v":0},{"$f":"Fund!V2848","v":0},{"$f":"Fund!P2848","v":""}]
[null,null,null,null,null,null,null,null,null,null,null,null,{"$f":"Fund!W2849","v":"00:00:00"},{"$f":"Fund!X2849","v":0},{"$f":"-Fund!V2849","v":0},{"$f":"Fund!V2849","v":0},{"$f":"Fund!P2849","v":""}]
[null,null,null,null,null,null,null,null,null,null,null,null,{"$f":"Fund!W2850","v":"00:00:00"},{"$f":"Fund!X2850","v":0},{"$f":"-Fund!V2850","v":0},{"$f":"Fund!V2850","v":0},{"$f":"Fund!P2850","v":""}]
[null,null,null,null,null,null,null,null,null,null,null,null,{"$f":"Fund!W2851","v":"00:00:00"},{"$f":"Fund!X2851","v":0},{"$f":"-Fund!V2851","v":0},{"$f":"Fund!V2851","v":0},{"$f":"Fund!P2851","v":""}]
[null,null,null,null,null,null,null,null,null,null,null,null,{"$f":"Fund!W2852","v":"00:00:00"},{"$f":"Fund!X2852","v":0},{"$f":"-Fund!V2852","v":0},{"$f":"Fund!V2852","v":0},{"$f":"Fund!P2852","v":""}]
[null,null,null,null,null,null,null,null,null,null,null,null,{"$f":"Fund!W2853","v":"00:00:00"},{"$f":"Fund!X2853","v":0},{"$f":"-Fund!V2853","v":0},{"$f":"Fund!V2853","v":0},{"$f":"Fund!P2853","v":""}]
[null,null,null,null,null,null,null,null,null,null,null,null,{"$f":"Fund!W2854","v":"00:00:00"},{"$f":"Fund!X2854","v":0},{"$f":"-Fund!V2854","v":0},{"$f":"Fund!V2854","v":0},{"$f":"Fund!P2854","v":""}]
[null,null,null,null,null,null,null,null,null,null,null,null,{"$f":"Fund!W2855","v":"00:00:00"},{"$f":"Fund!X2855","v":0},{"$f":"-Fund!V2855","v":0},{"$f":"Fund!V2855","v":0},{"$f":"Fund!P2855","v":""}]
[null,null,null,null,null,null,null,null,null,null,null,null,{"$f":"Fund!W2856","v":"00:00:00"},{"$f":"Fund!X2856","v":0},{"$f":"-Fund!V2856","v":0},{"$f":"Fund!V2856","v":0},{"$f":"Fund!P2856","v":""}]
[null,null,null,null,null,null,null,null,null,null,null,null,{"$f":"Fund!W2857","v":"00:00:00"},{"$f":"Fund!X2857","v":0},{"$f":"-Fund!V2857","v":0},{"$f":"Fund!V2857","v":0},{"$f":"Fund!P2857","v":""}]
[null,null,null,null,null,null,null,null,null,null,null,null,{"$f":"Fund!W2858","v":"00:00:00"},{"$f":"Fund!X2858","v":0},{"$f":"-Fund!V2858","v":0},{"$f":"Fund!V2858","v":0},{"$f":"Fund!P2858","v":""}]
[null,null,null,null,null,null,null,null,null,null,null,null,{"$f":"Fund!W2859","v":"00:00:00"},{"$f":"Fund!X2859","v":0},{"$f":"-Fund!V2859","v":0},{"$f":"Fund!V2859","v":0},{"$f":"Fund!P2859","v":""}]
[null,null,null,null,null,null,null,null,null,null,null,null,{"$f":"Fund!W2860","v":"00:00:00"},{"$f":"Fund!X2860","v":0},{"$f":"-Fund!V2860","v":0},{"$f":"Fund!V2860","v":0},{"$f":"Fund!P2860","v":""}]
[null,null,null,null,null,null,null,null,null,null,null,null,{"$f":"Fund!W2861","v":"00:00:00"},{"$f":"Fund!X2861","v":0},{"$f":"-Fund!V2861","v":0},{"$f":"Fund!V2861","v":0},{"$f":"Fund!P2861","v":""}]
[null,null,null,null,null,null,null,null,null,null,null,null,{"$f":"Fund!W2862","v":"00:00:00"},{"$f":"Fund!X2862","v":0},{"$f":"-Fund!V2862","v":0},{"$f":"Fund!V2862","v":0},{"$f":"Fund!P2862","v":""}]
[null,null,null,null,null,null,null,null,null,null,null,null,{"$f":"Fund!W2863","v":"00:00:00"},{"$f":"Fund!X2863","v":0},{"$f":"-Fund!V2863","v":0},{"$f":"Fund!V2863","v":0},{"$f":"Fund!P2863","v":""}]
[null,null,null,null,null,null,null,null,null,null,null,null,{"$f":"Fund!W2864","v":"00:00:00"},{"$f":"Fund!X2864","v":0},{"$f":"-Fund!V2864","v":0},{"$f":"Fund!V2864","v":0},{"$f":"Fund!P2864","v":""}]
[null,null,null,null,null,null,null,null,null,null,null,null,{"$f":"Fund!W2865","v":"00:00:00"},{"$f":"Fund!X2865","v":0},{"$f":"-Fund!V2865","v":0},{"$f":"Fund!V2865","v":0},{"$f":"Fund!P2865","v":""}]
[null,null,null,null,null,null,null,null,null,null,null,null,{"$f":"Fund!W2866","v":"00:00:00"},{"$f":"Fund!X2866","v":0},{"$f":"-Fund!V2866","v":0},{"$f":"Fund!V2866","v":0},{"$f":"Fund!P2866","v":""}]
[null,null,null,null,null,null,null,null,null,null,null,null,{"$f":"Fund!W2867","v":"00:00:00"},{"$f":"Fund!X2867","v":0},{"$f":"-Fund!V2867","v":0},{"$f":"Fund!V2867","v":0},{"$f":"Fund!P2867","v":""}]
[null,null,null,null,null,null,null,null,null,null,null,null,{"$f":"Fund!W2868","v":"00:00:00"},{"$f":"Fund!X2868","v":0},{"$f":"-Fund!V2868","v":0},{"$f":"Fund!V2868","v":0},{"$f":"Fund!P2868","v":""}]
[null,null,null,null,null,null,null,null,null,null,null,null,{"$f":"Fund!W2869","v":"00:00:00"},{"$f":"Fund!X2869","v":0},{"$f":"-Fund!V2869","v":0},{"$f":"Fund!V2869","v":0},{"$f":"Fund!P2869","v":""}]
[null,null,null,null,null,null,null,null,null,null,null,null,{"$f":"Fund!W2870","v":"00:00:00"},{"$f":"Fund!X2870","v":0},{"$f":"-Fund!V2870","v":0},{"$f":"Fund!V2870","v":0},{"$f":"Fund!P2870","v":""}]
[null,null,null,null,null,null,null,null,null,null,null,null,{"$f":"Fund!W2871","v":"00:00:00"},{"$f":"Fund!X2871","v":0},{"$f":"-Fund!V2871","v":0},{"$f":"Fund!V2871","v":0},{"$f":"Fund!P2871","v":""}]
[null,null,null,null,null,null,null,null,null,null,null,null,{"$f":"Fund!W2872","v":"00:00:00"},{"$f":"Fund!X2872","v":0},{"$f":"-Fund!V2872","v":0},{"$f":"Fund!V2872","v":0},{"$f":"Fund!P2872","v":""}]
[null,null,null,null,null,null,null,null,null,null,null,null,{"$f":"Fund!W2873","v":"00:00:00"},{"$f":"Fund!X2873","v":0},{"$f":"-Fund!V2873","v":0},{"$f":"Fund!V2873","v":0},{"$f":"Fund!P2873","v":""}]
[null,null,null,null,null,null,null,null,null,null,null,null,{"$f":"Fund!W2874","v":"00:00:00"},{"$f":"Fund!X2874","v":0},{"$f":"-Fund!V2874","v":0},{"$f":"Fund!V2874","v":0},{"$f":"Fund!P2874","v":""}]
[null,null,null,null,null,null,null,null,null,null,null,null,{"$f":"Fund!W2875","v":"00:00:00"},{"$f":"Fund!X2875","v":0},{"$f":"-Fund!V2875","v":0},{"$f":"Fund!V2875","v":0},{"$f":"Fund!P2875","v":""}]
[null,null,null,null,null,null,null,null,null,null,null,null,{"$f":"Fund!W2876","v":"00:00:00"},{"$f":"Fund!X2876","v":0},{"$f":"-Fund!V2876","v":0},{"$f":"Fund!V2876","v":0},{"$f":"Fund!P2876","v":""}]
[null,null,null,null,null,null,null,null,null,null,null,null,{"$f":"Fund!W2877","v":"00:00:00"},{"$f":"Fund!X2877","v":0},{"$f":"-Fund!V2877","v":0},{"$f":"Fund!V2877","v":0},{"$f":"Fund!P2877","v":""}]
[null,null,null,null,null,null,null,null,null,null,null,null,{"$f":"Fund!W2878","v":"00:00:00"},{"$f":"Fund!X2878","v":0},{"$f":"-Fund!V2878","v":0},{"$f":"Fund!V2878","v":0},{"$f":"Fund!P2878","v":""}]
[null,null,null,null,null,null,null,null,null,null,null,null,{"$f":"Fund!W2879","v":"00:00:00"},{"$f":"Fund!X2879","v":0},{"$f":"-Fund!V2879","v":0},{"$f":"Fund!V2879","v":0},{"$f":"Fund!P2879","v":""}]
[null,null,null,null,null,null,null,null,null,null,null,null,{"$f":"Fund!W2880","v":"00:00:00"},{"$f":"Fund!X2880","v":0},{"$f":"-Fund!V2880","v":0},{"$f":"Fund!V2880","v":0},{"$f":"Fund!P2880","v":""}]
[null,null,null,null,null,null,null,null,null,null,null,null,{"$f":"Fund!W2881","v":"00:00:00"},{"$f":"Fund!X2881","v":0},{"$f":"-Fund!V2881","v":0},{"$f":"Fund!V2881","v":0},{"$f":"Fund!P2881","v":""}]
[null,null,null,null,null,null,null,null,null,null,null,null,{"$f":"Fund!W2882","v":"00:00:00"},{"$f":"Fund!X2882","v":0},{"$f":"-Fund!V2882","v":0},{"$f":"Fund!V2882","v":0},{"$f":"Fund!P2882","v":""}]
[null,null,null,null,null,null,null,null,null,null,null,null,{"$f":"Fund!W2883","v":"00:00:00"},{"$f":"Fund!X2883","v":0},{"$f":"-Fund!V2883","v":0},{"$f":"Fund!V2883","v":0},{"$f":"Fund!P2883","v":""}]
[null,null,null,null,null,null,null,null,null,null,null,null,{"$f":"Fund!W2884","v":"00:00:00"},{"$f":"Fund!X2884","v":0},{"$f":"-Fund!V2884","v":0},{"$f":"Fund!V2884","v":0},{"$f":"Fund!P2884","v":""}]
[null,null,null,null,null,null,null,null,null,null,null,null,{"$f":"Fund!W2885","v":"00:00:00"},{"$f":"Fund!X2885","v":0},{"$f":"-Fund!V2885","v":0},{"$f":"Fund!V2885","v":0},{"$f":"Fund!P2885","v":""}]
[null,null,null,null,null,null,null,null,null,null,null,null,{"$f":"Fund!W2886","v":"00:00:00"},{"$f":"Fund!X2886","v":0},{"$f":"-Fund!V2886","v":0},{"$f":"Fund!V2886","v":0},{"$f":"Fund!P2886","v":""}]
[null,null,null,null,null,null,null,null,null,null,null,null,{"$f":"Fund!W2887","v":"00:00:00"},{"$f":"Fund!X2887","v":0},{"$f":"-Fund!V2887","v":0},{"$f":"Fund!V2887","v":0},{"$f":"Fund!P2887","v":""}]
[null,null,null,null,null,null,null,null,null,null,null,null,{"$f":"Fund!W2888","v":"00:00:00"},{"$f":"Fund!X2888","v":0},{"$f":"-Fund!V2888","v":0},{"$f":"Fund!V2888","v":0},{"$f":"Fund!P2888","v":""}]
[null,null,null,null,null,null,null,null,null,null,null,null,{"$f":"Fund!W2889","v":"00:00:00"},{"$f":"Fund!X2889","v":0},{"$f":"-Fund!V2889","v":0},{"$f":"Fund!V2889","v":0},{"$f":"Fund!P2889","v":""}]
[null,null,null,null,null,null,null,null,null,null,null,null,{"$f":"Fund!W2890","v":"00:00:00"},{"$f":"Fund!X2890","v":0},{"$f":"-Fund!V2890","v":0},{"$f":"Fund!V2890","v":0},{"$f":"Fund!P2890","v":""}]
[null,null,null,null,null,null,null,null,null,null,null,null,{"$f":"Fund!W2891","v":"00:00:00"},{"$f":"Fund!X2891","v":0},{"$f":"-Fund!V2891","v":0},{"$f":"Fund!V2891","v":0},{"$f":"Fund!P2891","v":""}]
[null,null,null,null,null,null,null,null,null,null,null,null,{"$f":"Fund!W2892","v":"00:00:00"},{"$f":"Fund!X2892","v":0},{"$f":"-Fund!V2892","v":0},{"$f":"Fund!V2892","v":0},{"$f":"Fund!P2892","v":""}]
[null,null,null,null,null,null,null,null,null,null,null,null,{"$f":"Fund!W2893","v":"00:00:00"},{"$f":"Fund!X2893","v":0},{"$f":"-Fund!V2893","v":0},{"$f":"Fund!V2893","v":0},{"$f":"Fund!P2893","v":""}]
[null,null,null,null,null,null,null,null,null,null,null,null,{"$f":"Fund!W2894","v":"00:00:00"},{"$f":"Fund!X2894","v":0},{"$f":"-Fund!V2894","v":0},{"$f":"Fund!V2894","v":0},{"$f":"Fund!P2894","v":""}]
[null,null,null,null,null,null,null,null,null,null,null,null,{"$f":"Fund!W2895","v":"00:00:00"},{"$f":"Fund!X2895","v":0},{"$f":"-Fund!V2895","v":0},{"$f":"Fund!V2895","v":0},{"$f":"Fund!P2895","v":""}]
[null,null,null,null,null,null,null,null,null,null,null,null,{"$f":"Fund!W2896","v":"00:00:00"},{"$f":"Fund!X2896","v":0},{"$f":"-Fund!V2896","v":0},{"$f":"Fund!V2896","v":0},{"$f":"Fund!P2896","v":""}]
[null,null,null,null,null,null,null,null,null,null,null,null,{"$f":"Fund!W2897","v":"00:00:00"},{"$f":"Fund!X2897","v":0},{"$f":"-Fund!V2897","v":0},{"$f":"Fund!V2897","v":0},{"$f":"Fund!P2897","v":""}]
[null,null,null,null,null,null,null,null,null,null,null,null,{"$f":"Fund!W2898","v":"00:00:00"},{"$f":"Fund!X2898","v":0},{"$f":"-Fund!V2898","v":0},{"$f":"Fund!V2898","v":0},{"$f":"Fund!P2898","v":""}]
[null,null,null,null,null,null,null,null,null,null,null,null,{"$f":"Fund!W2899","v":"00:00:00"},{"$f":"Fund!X2899","v":0},{"$f":"-Fund!V2899","v":0},{"$f":"Fund!V2899","v":0},{"$f":"Fund!P2899","v":""}]
[null,null,null,null,null,null,null,null,null,null,null,null,{"$f":"Fund!W2900","v":"00:00:00"},{"$f":"Fund!X2900","v":0},{"$f":"-Fund!V2900","v":0},{"$f":"Fund!V2900","v":0},{"$f":"Fund!P2900","v":""}]
[null,null,null,null,null,null,null,null,null,null,null,null,{"$f":"Fund!W2901","v":"00:00:00"},{"$f":"Fund!X2901","v":0},{"$f":"-Fund!V2901","v":0},{"$f":"Fund!V2901","v":0},{"$f":"Fund!P2901","v":""}]
[null,null,null,null,null,null,null,null,null,null,null,null,{"$f":"Fund!W2902","v":"00:00:00"},{"$f":"Fund!X2902","v":0},{"$f":"-Fund!V2902","v":0},{"$f":"Fund!V2902","v":0},{"$f":"Fund!P2902","v":""}]
[null,null,null,null,null,null,null,null,null,null,null,null,{"$f":"Fund!W2903","v":"00:00:00"},{"$f":"Fund!X2903","v":0},{"$f":"-Fund!V2903","v":0},{"$f":"Fund!V2903","v":0},{"$f":"Fund!P2903","v":""}]
[null,null,null,null,null,null,null,null,null,null,null,null,{"$f":"Fund!W2904","v":"00:00:00"},{"$f":"Fund!X2904","v":0},{"$f":"-Fund!V2904","v":0},{"$f":"Fund!V2904","v":0},{"$f":"Fund!P2904","v":""}]
[null,null,null,null,null,null,null,null,null,null,null,null,{"$f":"Fund!W2905","v":"00:00:00"},{"$f":"Fund!X2905","v":0},{"$f":"-Fund!V2905","v":0},{"$f":"Fund!V2905","v":0},{"$f":"Fund!P2905","v":""}]
[null,null,null,null,null,null,null,null,null,null,null,null,{"$f":"Fund!W2906","v":"00:00:00"},{"$f":"Fund!X2906","v":0},{"$f":"-Fund!V2906","v":0},{"$f":"Fund!V2906","v":0},{"$f":"Fund!P2906","v":""}]
[null,null,null,null,null,null,null,null,null,null,null,null,{"$f":"Fund!W2907","v":"00:00:00"},{"$f":"Fund!X2907","v":0},{"$f":"-Fund!V2907","v":0},{"$f":"Fund!V2907","v":0},{"$f":"Fund!P2907","v":""}]
[null,null,null,null,null,null,null,null,null,null,null,null,{"$f":"Fund!W2908","v":"00:00:00"},{"$f":"Fund!X2908","v":0},{"$f":"-Fund!V2908","v":0},{"$f":"Fund!V2908","v":0},{"$f":"Fund!P2908","v":""}]
[null,null,null,null,null,null,null,null,null,null,null,null,{"$f":"Fund!W2909","v":"00:00:00"},{"$f":"Fund!X2909","v":0},{"$f":"-Fund!V2909","v":0},{"$f":"Fund!V2909","v":0},{"$f":"Fund!P2909","v":""}]
[null,null,null,null,null,null,null,null,null,null,null,null,{"$f":"Fund!W2910","v":"00:00:00"},{"$f":"Fund!X2910","v":0},{"$f":"-Fund!V2910","v":0},{"$f":"Fund!V2910","v":0},{"$f":"Fund!P2910","v":""}]
[null,null,null,null,null,null,null,null,null,null,null,null,{"$f":"Fund!W2911","v":"00:00:00"},{"$f":"Fund!X2911","v":0},{"$f":"-Fund!V2911","v":0},{"$f":"Fund!V2911","v":0},{"$f":"Fund!P2911","v":""}]
[null,null,null,null,null,null,null,null,null,null,null,null,{"$f":"Fund!W2912","v":"00:00:00"},{"$f":"Fund!X2912","v":0},{"$f":"-Fund!V2912","v":0},{"$f":"Fund!V2912","v":0},{"$f":"Fund!P2912","v":""}]
[null,null,null,null,null,null,null,null,null,null,null,null,{"$f":"Fund!W2913","v":"00:00:00"},{"$f":"Fund!X2913","v":0},{"$f":"-Fund!V2913","v":0},{"$f":"Fund!V2913","v":0},{"$f":"Fund!P2913","v":""}]
[null,null,null,null,null,null,null,null,null,null,null,null,{"$f":"Fund!W2914","v":"00:00:00"},{"$f":"Fund!X2914","v":0},{"$f":"-Fund!V2914","v":0},{"$f":"Fund!V2914","v":0},{"$f":"Fund!P2914","v":""}]
[null,null,null,null,null,null,null,null,null,null,null,null,{"$f":"Fund!W2915","v":"00:00:00"},{"$f":"Fund!X2915","v":0},{"$f":"-Fund!V2915","v":0},{"$f":"Fund!V2915","v":0},{"$f":"Fund!P2915","v":""}]
[null,null,null,null,null,null,null,null,null,null,null,null,{"$f":"Fund!W2916","v":"00:00:00"},{"$f":"Fund!X2916","v":0},{"$f":"-Fund!V2916","v":0},{"$f":"Fund!V2916","v":0},{"$f":"Fund!P2916","v":""}]
[null,null,null,null,null,null,null,null,null,null,null,null,{"$f":"Fund!W2917","v":"00:00:00"},{"$f":"Fund!X2917","v":0},{"$f":"-Fund!V2917","v":0},{"$f":"Fund!V2917","v":0},{"$f":"Fund!P2917","v":""}]
[null,null,null,null,null,null,null,null,null,null,null,null,{"$f":"Fund!W2918","v":"00:00:00"},{"$f":"Fund!X2918","v":0},{"$f":"-Fund!V2918","v":0},{"$f":"Fund!V2918","v":0},{"$f":"Fund!P2918","v":""}]
[null,null,null,null,null,null,null,null,null,null,null,null,{"$f":"Fund!W2919","v":"00:00:00"},{"$f":"Fund!X2919","v":0},{"$f":"-Fund!V2919","v":0},{"$f":"Fund!V2919","v":0},{"$f":"Fund!P2919","v":""}]
[null,null,null,null,null,null,null,null,null,null,null,null,{"$f":"Fund!W2920","v":"00:00:00"},{"$f":"Fund!X2920","v":0},{"$f":"-Fund!V2920","v":0},{"$f":"Fund!V2920","v":0},{"$f":"Fund!P2920","v":""}]
[null,null,null,null,null,null,null,null,null,null,null,null,{"$f":"Fund!W2921","v":"00:00:00"},{"$f":"Fund!X2921","v":0},{"$f":"-Fund!V2921","v":0},{"$f":"Fund!V2921","v":0},{"$f":"Fund!P2921","v":""}]
[null,null,null,null,null,null,null,null,null,null,null,null,{"$f":"Fund!W2922","v":"00:00:00"},{"$f":"Fund!X2922","v":0},{"$f":"-Fund!V2922","v":0},{"$f":"Fund!V2922","v":0},{"$f":"Fund!P2922","v":""}]
[null,null,null,null,null,null,null,null,null,null,null,null,{"$f":"Fund!W2923","v":"00:00:00"},{"$f":"Fund!X2923","v":0},{"$f":"-Fund!V2923","v":0},{"$f":"Fund!V2923","v":0},{"$f":"Fund!P2923","v":""}]
[null,null,null,null,null,null,null,null,null,null,null,null,{"$f":"Fund!W2924","v":"00:00:00"},{"$f":"Fund!X2924","v":0},{"$f":"-Fund!V2924","v":0},{"$f":"Fund!V2924","v":0},{"$f":"Fund!P2924","v":""}]
[null,null,null,null,null,null,null,null,null,null,null,null,{"$f":"Fund!W2925","v":"00:00:00"},{"$f":"Fund!X2925","v":0},{"$f":"-Fund!V2925","v":0},{"$f":"Fund!V2925","v":0},{"$f":"Fund!P2925","v":""}]
[null,null,null,null,null,null,null,null,null,null,null,null,{"$f":"Fund!W2926","v":"00:00:00"},{"$f":"Fund!X2926","v":0},{"$f":"-Fund!V2926","v":0},{"$f":"Fund!V2926","v":0},{"$f":"Fund!P2926","v":""}]
[null,null,null,null,null,null,null,null,null,null,null,null,{"$f":"Fund!W2927","v":"00:00:00"},{"$f":"Fund!X2927","v":0},{"$f":"-Fund!V2927","v":0},{"$f":"Fund!V2927","v":0},{"$f":"Fund!P2927","v":""}]
[null,null,null,null,null,null,null,null,null,null,null,null,{"$f":"Fund!W2928","v":"00:00:00"},{"$f":"Fund!X2928","v":0},{"$f":"-Fund!V2928","v":0},{"$f":"Fund!V2928","v":0},{"$f":"Fund!P2928","v":""}]
[null,null,null,null,null,null,null,null,null,null,null,null,{"$f":"Fund!W2929","v":"00:00:00"},{"$f":"Fund!X2929","v":0},{"$f":"-Fund!V2929","v":0},{"$f":"Fund!V2929","v":0},{"$f":"Fund!P2929","v":""}]
[null,null,null,null,null,null,null,null,null,null,null,null,{"$f":"Fund!W2930","v":"00:00:00"},{"$f":"Fund!X2930","v":0},{"$f":"-Fund!V2930","v":0},{"$f":"Fund!V2930","v":0},{"$f":"Fund!P2930","v":""}]
[null,null,null,null,null,null,null,null,null,null,null,null,{"$f":"Fund!W2931","v":"00:00:00"},{"$f":"Fund!X2931","v":0},{"$f":"-Fund!V2931","v":0},{"$f":"Fund!V2931","v":0},{"$f":"Fund!P2931","v":""}]
[null,null,null,null,null,null,null,null,null,null,null,null,{"$f":"Fund!W2932","v":"00:00:00"},{"$f":"Fund!X2932","v":0},{"$f":"-Fund!V2932","v":0},{"$f":"Fund!V2932","v":0},{"$f":"Fund!P2932","v":""}]
[null,null,null,null,null,null,null,null,null,null,null,null,{"$f":"Fund!W2933","v":"00:00:00"},{"$f":"Fund!X2933","v":0},{"$f":"-Fund!V2933","v":0},{"$f":"Fund!V2933","v":0},{"$f":"Fund!P2933","v":""}]
[null,null,null,null,null,null,null,null,null,null,null,null,{"$f":"Fund!W2934","v":"00:00:00"},{"$f":"Fund!X2934","v":0},{"$f":"-Fund!V2934","v":0},{"$f":"Fund!V2934","v":0},{"$f":"Fund!P2934","v":""}]
[null,null,null,null,null,null,null,null,null,null,null,null,{"$f":"Fund!W2935","v":"00:00:00"},{"$f":"Fund!X2935","v":0},{"$f":"-Fund!V2935","v":0},{"$f":"Fund!V2935","v":0},{"$f":"Fund!P2935","v":""}]
[null,null,null,null,null,null,null,null,null,null,null,null,{"$f":"Fund!W2936","v":"00:00:00"},{"$f":"Fund!X2936","v":0},{"$f":"-Fund!V2936","v":0},{"$f":"Fund!V2936","v":0},{"$f":"Fund!P2936","v":""}]
[null,null,null,null,null,null,null,null,null,null,null,null,{"$f":"Fund!W2937","v":"00:00:00"},{"$f":"Fund!X2937","v":0},{"$f":"-Fund!V2937","v":0},{"$f":"Fund!V2937","v":0},{"$f":"Fund!P2937","v":""}]
[null,null,null,null,null,null,null,null,null,null,null,null,{"$f":"Fund!W2938","v":"00:00:00"},{"$f":"Fund!X2938","v":0},{"$f":"-Fund!V2938","v":0},{"$f":"Fund!V2938","v":0},{"$f":"Fund!P2938","v":""}]
[null,null,null,null,null,null,null,null,null,null,null,null,{"$f":"Fund!W2939","v":"00:00:00"},{"$f":"Fund!X2939","v":0},{"$f":"-Fund!V2939","v":0},{"$f":"Fund!V2939","v":0},{"$f":"Fund!P2939","v":""}]
[null,null,null,null,null,null,null,null,null,null,null,null,{"$f":"Fund!W2940","v":"00:00:00"},{"$f":"Fund!X2940","v":0},{"$f":"-Fund!V2940","v":0},{"$f":"Fund!V2940","v":0},{"$f":"Fund!P2940","v":""}]
[null,null,null,null,null,null,null,null,null,null,null,null,{"$f":"Fund!W2941","v":"00:00:00"},{"$f":"Fund!X2941","v":0},{"$f":"-Fund!V2941","v":0},{"$f":"Fund!V2941","v":0},{"$f":"Fund!P2941","v":""}]
[null,null,null,null,null,null,null,null,null,null,null,null,{"$f":"Fund!W2942","v":"00:00:00"},{"$f":"Fund!X2942","v":0},{"$f":"-Fund!V2942","v":0},{"$f":"Fund!V2942","v":0},{"$f":"Fund!P2942","v":""}]
[null,null,null,null,null,null,null,null,null,null,null,null,{"$f":"Fund!W2943","v":"00:00:00"},{"$f":"Fund!X2943","v":0},{"$f":"-Fund!V2943","v":0},{"$f":"Fund!V2943","v":0},{"$f":"Fund!P2943","v":""}]
[null,null,null,null,null,null,null,null,null,null,null,null,{"$f":"Fund!W2944","v":"00:00:00"},{"$f":"Fund!X2944","v":0},{"$f":"-Fund!V2944","v":0},{"$f":"Fund!V2944","v":0},{"$f":"Fund!P2944","v":""}]
[null,null,null,null,null,null,null,null,null,null,null,null,{"$f":"Fund!W2945","v":"00:00:00"},{"$f":"Fund!X2945","v":0},{"$f":"-Fund!V2945","v":0},{"$f":"Fund!V2945","v":0},{"$f":"Fund!P2945","v":""}]
[null,null,null,null,null,null,null,null,null,null,null,null,{"$f":"Fund!W2946","v":"00:00:00"},{"$f":"Fund!X2946","v":0},{"$f":"-Fund!V2946","v":0},{"$f":"Fund!V2946","v":0},{"$f":"Fund!P2946","v":""}]
[null,null,null,null,null,null,null,null,null,null,null,null,{"$f":"Fund!W2947","v":"00:00:00"},{"$f":"Fund!X2947","v":0},{"$f":"-Fund!V2947","v":0},{"$f":"Fund!V2947","v":0},{"$f":"Fund!P2947","v":""}]
[null,null,null,null,null,null,null,null,null,null,null,null,{"$f":"Fund!W2948","v":"00:00:00"},{"$f":"Fund!X2948","v":0},{"$f":"-Fund!V2948","v":0},{"$f":"Fund!V2948","v":0},{"$f":"Fund!P2948","v":""}]
[null,null,null,null,null,null,null,null,null,null,null,null,{"$f":"Fund!W2949","v":"00:00:00"},{"$f":"Fund!X2949","v":0},{"$f":"-Fund!V2949","v":0},{"$f":"Fund!V2949","v":0},{"$f":"Fund!P2949","v":""}]
[null,null,null,null,null,null,null,null,null,null,null,null,{"$f":"Fund!W2950","v":"00:00:00"},{"$f":"Fund!X2950","v":0},{"$f":"-Fund!V2950","v":0},{"$f":"Fund!V2950","v":0},{"$f":"Fund!P2950","v":""}]
[null,null,null,null,null,null,null,null,null,null,null,null,{"$f":"Fund!W2951","v":"00:00:00"},{"$f":"Fund!X2951","v":0},{"$f":"-Fund!V2951","v":0},{"$f":"Fund!V2951","v":0},{"$f":"Fund!P2951","v":""}]
[null,null,null,null,null,null,null,null,null,null,null,null,{"$f":"Fund!W2952","v":"00:00:00"},{"$f":"Fund!X2952","v":0},{"$f":"-Fund!V2952","v":0},{"$f":"Fund!V2952","v":0},{"$f":"Fund!P2952","v":""}]
[null,null,null,null,null,null,null,null,null,null,null,null,{"$f":"Fund!W2953","v":"00:00:00"},{"$f":"Fund!X2953","v":0},{"$f":"-Fund!V2953","v":0},{"$f":"Fund!V2953","v":0},{"$f":"Fund!P2953","v":""}]
[null,null,null,null,null,null,null,null,null,null,null,null,{"$f":"Fund!W2954","v":"00:00:00"},{"$f":"Fund!X2954","v":0},{"$f":"-Fund!V2954","v":0},{"$f":"Fund!V2954","v":0},{"$f":"Fund!P2954","v":""}]
[null,null,null,null,null,null,null,null,null,null,null,null,{"$f":"Fund!W2955","v":"00:00:00"},{"$f":"Fund!X2955","v":0},{"$f":"-Fund!V2955","v":0},{"$f":"Fund!V2955","v":0},{"$f":"Fund!P2955","v":""}]
[null,null,null,null,null,null,null,null,null,null,null,null,{"$f":"Fund!W2956","v":"00:00:00"},{"$f":"Fund!X2956","v":0},{"$f":"-Fund!V2956","v":0},{"$f":"Fund!V2956","v":0},{"$f":"Fund!P2956","v":""}]
[null,null,null,null,null,null,null,null,null,null,null,null,{"$f":"Fund!W2957","v":"00:00:00"},{"$f":"Fund!X2957","v":0},{"$f":"-Fund!V2957","v":0},{"$f":"Fund!V2957","v":0},{"$f":"Fund!P2957","v":""}]
[null,null,null,null,null,null,null,null,null,null,null,null,{"$f":"Fund!W2958","v":"00:00:00"},{"$f":"Fund!X2958","v":0},{"$f":"-Fund!V2958","v":0},{"$f":"Fund!V2958","v":0},{"$f":"Fund!P2958","v":""}]
[null,null,null,null,null,null,null,null,null,null,null,null,{"$f":"Fund!W2959","v":"00:00:00"},{"$f":"Fund!X2959","v":0},{"$f":"-Fund!V2959","v":0},{"$f":"Fund!V2959","v":0},{"$f":"Fund!P2959","v":""}]
[null,null,null,null,null,null,null,null,null,null,null,null,{"$f":"Fund!W2960","v":"00:00:00"},{"$f":"Fund!X2960","v":0},{"$f":"-Fund!V2960","v":0},{"$f":"Fund!V2960","v":0},{"$f":"Fund!P2960","v":""}]
[null,null,null,null,null,null,null,null,null,null,null,null,{"$f":"Fund!W2961","v":"00:00:00"},{"$f":"Fund!X2961","v":0},{"$f":"-Fund!V2961","v":0},{"$f":"Fund!V2961","v":0},{"$f":"Fund!P2961","v":""}]
[null,null,null,null,null,null,null,null,null,null,null,null,{"$f":"Fund!W2962","v":"00:00:00"},{"$f":"Fund!X2962","v":0},{"$f":"-Fund!V2962","v":0},{"$f":"Fund!V2962","v":0},{"$f":"Fund!P2962","v":""}]
[null,null,null,null,null,null,null,null,null,null,null,null,{"$f":"Fund!W2963","v":"00:00:00"},{"$f":"Fund!X2963","v":0},{"$f":"-Fund!V2963","v":0},{"$f":"Fund!V2963","v":0},{"$f":"Fund!P2963","v":""}]
[null,null,null,null,null,null,null,null,null,null,null,null,{"$f":"Fund!W2964","v":"00:00:00"},{"$f":"Fund!X2964","v":0},{"$f":"-Fund!V2964","v":0},{"$f":"Fund!V2964","v":0},{"$f":"Fund!P2964","v":""}]
[null,null,null,null,null,null,null,null,null,null,null,null,{"$f":"Fund!W2965","v":"00:00:00"},{"$f":"Fund!X2965","v":0},{"$f":"-Fund!V2965","v":0},{"$f":"Fund!V2965","v":0},{"$f":"Fund!P2965","v":""}]
[null,null,null,null,null,null,null,null,null,null,null,null,{"$f":"Fund!W2966","v":"00:00:00"},{"$f":"Fund!X2966","v":0},{"$f":"-Fund!V2966","v":0},{"$f":"Fund!V2966","v":0},{"$f":"Fund!P2966","v":""}]
[null,null,null,null,null,null,null,null,null,null,null,null,{"$f":"Fund!W2967","v":"00:00:00"},{"$f":"Fund!X2967","v":0},{"$f":"-Fund!V2967","v":0},{"$f":"Fund!V2967","v":0},{"$f":"Fund!P2967","v":""}]
[null,null,null,null,null,null,null,null,null,null,null,null,{"$f":"Fund!W2968","v":"00:00:00"},{"$f":"Fund!X2968","v":0},{"$f":"-Fund!V2968","v":0},{"$f":"Fund!V2968","v":0},{"$f":"Fund!P2968","v":""}]
[null,null,null,null,null,null,null,null,null,null,null,null,{"$f":"Fund!W2969","v":"00:00:00"},{"$f":"Fund!X2969","v":0},{"$f":"-Fund!V2969","v":0},{"$f":"Fund!V2969","v":0},{"$f":"Fund!P2969","v":""}]
[null,null,null,null,null,null,null,null,null,null,null,null,{"$f":"Fund!W2970","v":"00:00:00"},{"$f":"Fund!X2970","v":0},{"$f":"-Fund!V2970","v":0},{"$f":"Fund!V2970","v":0},{"$f":"Fund!P2970","v":""}]
[null,null,null,null,null,null,null,null,null,null,null,null,{"$f":"Fund!W2971","v":"00:00:00"},{"$f":"Fund!X2971","v":0},{"$f":"-Fund!V2971","v":0},{"$f":"Fund!V2971","v":0},{"$f":"Fund!P2971","v":""}]
[null,null,null,null,null,null,null,null,null,null,null,null,{"$f":"Fund!W2972","v":"00:00:00"},{"$f":"Fund!X2972","v":0},{"$f":"-Fund!V2972","v":0},{"$f":"Fund!V2972","v":0},{"$f":"Fund!P2972","v":""}]
[null,null,null,null,null,null,null,null,null,null,null,null,{"$f":"Fund!W2973","v":"00:00:00"},{"$f":"Fund!X2973","v":0},{"$f":"-Fund!V2973","v":0},{"$f":"Fund!V2973","v":0},{"$f":"Fund!P2973","v":""}]
[null,null,null,null,null,null,null,null,null,null,null,null,{"$f":"Fund!W2974","v":"00:00:00"},{"$f":"Fund!X2974","v":0},{"$f":"-Fund!V2974","v":0},{"$f":"Fund!V2974","v":0},{"$f":"Fund!P2974","v":""}]
[null,null,null,null,null,null,null,null,null,null,null,null,{"$f":"Fund!W2975","v":"00:00:00"},{"$f":"Fund!X2975","v":0},{"$f":"-Fund!V2975","v":0},{"$f":"Fund!V2975","v":0},{"$f":"Fund!P2975","v":""}]
[null,null,null,null,null,null,null,null,null,null,null,null,{"$f":"Fund!W2976","v":"00:00:00"},{"$f":"Fund!X2976","v":0},{"$f":"-Fund!V2976","v":0},{"$f":"Fund!V2976","v":0},{"$f":"Fund!P2976","v":""}]
[null,null,null,null,null,null,null,null,null,null,null,null,{"$f":"Fund!W2977","v":"00:00:00"},{"$f":"Fund!X2977","v":0},{"$f":"-Fund!V2977","v":0},{"$f":"Fund!V2977","v":0},{"$f":"Fund!P2977","v":""}]
[null,null,null,null,null,null,null,null,null,null,null,null,{"$f":"Fund!W2978","v":"00:00:00"},{"$f":"Fund!X2978","v":0},{"$f":"-Fund!V2978","v":0},{"$f":"Fund!V2978","v":0},{"$f":"Fund!P2978","v":""}]
[null,null,null,null,null,null,null,null,null,null,null,null,{"$f":"Fund!W2979","v":"00:00:00"},{"$f":"Fund!X2979","v":0},{"$f":"-Fund!V2979","v":0},{"$f":"Fund!V2979","v":0},{"$f":"Fund!P2979","v":""}]
[null,null,null,null,null,null,null,null,null,null,null,null,{"$f":"Fund!W2980","v":"00:00:00"},{"$f":"Fund!X2980","v":0},{"$f":"-Fund!V2980","v":0},{"$f":"Fund!V2980","v":0},{"$f":"Fund!P2980","v":""}]
[null,null,null,null,null,null,null,null,null,null,null,null,{"$f":"Fund!W2981","v":"00:00:00"},{"$f":"Fund!X2981","v":0},{"$f":"-Fund!V2981","v":0},{"$f":"Fund!V2981","v":0},{"$f":"Fund!P2981","v":""}]
[null,null,null,null,null,null,null,null,null,null,null,null,{"$f":"Fund!W2982","v":"00:00:00"},{"$f":"Fund!X2982","v":0},{"$f":"-Fund!V2982","v":0},{"$f":"Fund!V2982","v":0},{"$f":"Fund!P2982","v":""}]
[null,null,null,null,null,null,null,null,null,null,null,null,{"$f":"Fund!W2983","v":"00:00:00"},{"$f":"Fund!X2983","v":0},{"$f":"-Fund!V2983","v":0},{"$f":"Fund!V2983","v":0},{"$f":"Fund!P2983","v":""}]
[null,null,null,null,null,null,null,null,null,null,null,null,{"$f":"Fund!W2984","v":"00:00:00"},{"$f":"Fund!X2984","v":0},{"$f":"-Fund!V2984","v":0},{"$f":"Fund!V2984","v":0},{"$f":"Fund!P2984","v":""}]
[null,null,null,null,null,null,null,null,null,null,null,null,{"$f":"Fund!W2985","v":"00:00:00"},{"$f":"Fund!X2985","v":0},{"$f":"-Fund!V2985","v":0},{"$f":"Fund!V2985","v":0},{"$f":"Fund!P2985","v":""}]
[null,null,null,null,null,null,null,null,null,null,null,null,{"$f":"Fund!W2986","v":"00:00:00"},{"$f":"Fund!X2986","v":0},{"$f":"-Fund!V2986","v":0},{"$f":"Fund!V2986","v":0},{"$f":"Fund!P2986","v":""}]
[null,null,null,null,null,null,null,null,null,null,null,null,{"$f":"Fund!W2987","v":"00:00:00"},{"$f":"Fund!X2987","v":0},{"$f":"-Fund!V2987","v":0},{"$f":"Fund!V2987","v":0},{"$f":"Fund!P2987","v":""}]
[null,null,null,null,null,null,null,null,null,null,null,null,{"$f":"Fund!W2988","v":"00:00:00"},{"$f":"Fund!X2988","v":0},{"$f":"-Fund!V2988","v":0},{"$f":"Fund!V2988","v":0},{"$f":"Fund!P2988","v":""}]
[null,null,null,null,null,null,null,null,null,null,null,null,{"$f":"Fund!W2989","v":"00:00:00"},{"$f":"Fund!X2989","v":0},{"$f":"-Fund!V2989","v":0},{"$f":"Fund!V2989","v":0},{"$f":"Fund!P2989","v":""}]
[null,null,null,null,null,null,null,null,null,null,null,null,{"$f":"Fund!W2990","v":"00:00:00"},{"$f":"Fund!X2990","v":0},{"$f":"-Fund!V2990","v":0},{"$f":"Fund!V2990","v":0},{"$f":"Fund!P2990","v":""}]
[null,null,null,null,null,null,null,null,null,null,null,null,{"$f":"Fund!W2991","v":"00:00:00"},{"$f":"Fund!X2991","v":0},{"$f":"-Fund!V2991","v":0},{"$f":"Fund!V2991","v":0},{"$f":"Fund!P2991","v":""}]
[null,null,null,null,null,null,null,null,null,null,null,null,{"$f":"Fund!W2992","v":"00:00:00"},{"$f":"Fund!X2992","v":0},{"$f":"-Fund!V2992","v":0},{"$f":"Fund!V2992","v":0},{"$f":"Fund!P2992","v":""}]
[null,null,null,null,null,null,null,null,null,null,null,null,{"$f":"Fund!W2993","v":"00:00:00"},{"$f":"Fund!X2993","v":0},{"$f":"-Fund!V2993","v":0},{"$f":"Fund!V2993","v":0},{"$f":"Fund!P2993","v":""}]
[null,null,null,null,null,null,null,null,null,null,null,null,{"$f":"Fund!W2994","v":"00:00:00"},{"$f":"Fund!X2994","v":0},{"$f":"-Fund!V2994","v":0},{"$f":"Fund!V2994","v":0},{"$f":"Fund!P2994","v":""}]
[null,null,null,null,null,null,null,null,null,null,null,null,{"$f":"Fund!W2995","v":"00:00:00"},{"$f":"Fund!X2995","v":0},{"$f":"-Fund!V2995","v":0},{"$f":"Fund!V2995","v":0},{"$f":"Fund!P2995","v":""}]
[null,null,null,null,null,null,null,null,null,null,null,null,{"$f":"Fund!W2996","v":"00:00:00"},{"$f":"Fund!X2996","v":0},{"$f":"-Fund!V2996","v":0},{"$f":"Fund!V2996","v":0},{"$f":"Fund!P2996","v":""}]
[null,null,null,null,null,null,null,null,null,null,null,null,{"$f":"Fund!W2997","v":"00:00:00"},{"$f":"Fund!X2997","v":0},{"$f":"-Fund!V2997","v":0},{"$f":"Fund!V2997","v":0},{"$f":"Fund!P2997","v":""}]
[null,null,null,null,null,null,null,null,null,null,null,null,{"$f":"Fund!W2998","v":"00:00:00"},{"$f":"Fund!X2998","v":0},{"$f":"-Fund!V2998","v":0},{"$f":"Fund!V2998","v":0},{"$f":"Fund!P2998","v":""}]
[null,null,null,null,null,null,null,null,null,null,null,null,{"$f":"Fund!W2999","v":"00:00:00"},{"$f":"Fund!X2999","v":0},{"$f":"-Fund!V2999","v":0},{"$f":"Fund!V2999","v":0},{"$f":"Fund!P2999","v":""}]
[null,null,null,null,null,null,null,null,null,null,null,null,{"$f":"Fund!W3000","v":"00:00:00"},{"$f":"Fund!X3000","v":0},{"$f":"-Fund!V3000","v":0},{"$f":"Fund!V3000","v":0},{"$f":"Fund!P3000","v":""}]
[null,null,null,null,null,null,null,null,null,null,null,null,{"$f":"Fund!W3001","v":"00:00:00"},{"$f":"Fund!X3001","v":0},{"$f":"-Fund!V3001","v":0},{"$f":"Fund!V3001","v":0},{"$f":"Fund!P3001","v":""}]
[null,null,null,null,null,null,null,null,null,null,null,null,{"$f":"Fund!W3002","v":"00:00:00"},{"$f":"Fund!X3002","v":0},{"$f":"-Fund!V3002","v":0},{"$f":"Fund!V3002","v":0},{"$f":"Fund!P3002","v":""}]
[null,null,null,null,null,null,null,null,null,null,null,null,{"$f":"Fund!W3003","v":"00:00:00"},{"$f":"Fund!X3003","v":0},{"$f":"-Fund!V3003","v":0},{"$f":"Fund!V3003","v":0},{"$f":"Fund!P3003","v":""}]
[null,null,null,null,null,null,null,null,null,null,null,null,{"$f":"Fund!W3004","v":"00:00:00"},{"$f":"Fund!X3004","v":0},{"$f":"-Fund!V3004","v":0},{"$f":"Fund!V3004","v":0},{"$f":"Fund!P3004","v":""}]
[null,null,null,null,null,null,null,null,null,null,null,null,{"$f":"Fund!W3005","v":"00:00:00"},{"$f":"Fund!X3005","v":0},{"$f":"-Fund!V3005","v":0},{"$f":"Fund!V3005","v":0},{"$f":"Fund!P3005","v":""}]
[null,null,null,null,null,null,null,null,null,null,null,null,{"$f":"Fund!W3006","v":"00:00:00"},{"$f":"Fund!X3006","v":0},{"$f":"-Fund!V3006","v":0},{"$f":"Fund!V3006","v":0},{"$f":"Fund!P3006","v":""}]
[null,null,null,null,null,null,null,null,null,null,null,null,{"$f":"Fund!W3007","v":"00:00:00"},{"$f":"Fund!X3007","v":0},{"$f":"-Fund!V3007","v":0},{"$f":"Fund!V3007","v":0},{"$f":"Fund!P3007","v":""}]
[null,null,null,null,null,null,null,null,null,null,null,null,{"$f":"Fund!W3008","v":"00:00:00"},{"$f":"Fund!X3008","v":0},{"$f":"-Fund!V3008","v":0},{"$f":"Fund!V3008","v":0},{"$f":"Fund!P3008","v":""}]
[null,null,null,null,null,null,null,null,null,null,null,null,{"$f":"Fund!W3009","v":"00:00:00"},{"$f":"Fund!X3009","v":0},{"$f":"-Fund!V3009","v":0},{"$f":"Fund!V3009","v":0},{"$f":"Fund!P3009","v":""}]
[null,null,null,null,null,null,null,null,null,null,null,null,{"$f":"Fund!W3010","v":"00:00:00"},{"$f":"Fund!X3010","v":0},{"$f":"-Fund!V3010","v":0},{"$f":"Fund!V3010","v":0},{"$f":"Fund!P3010","v":""}]
[null,null,null,null,null,null,null,null,null,null,null,null,{"$f":"Fund!W3011","v":"00:00:00"},{"$f":"Fund!X3011","v":0},{"$f":"-Fund!V3011","v":0},{"$f":"Fund!V3011","v":0},{"$f":"Fund!P3011","v":""}]
[null,null,null,null,null,null,null,null,null,null,null,null,{"$f":"Fund!W3012","v":"00:00:00"},{"$f":"Fund!X3012","v":0},{"$f":"-Fund!V3012","v":0},{"$f":"Fund!V3012","v":0},{"$f":"Fund!P3012","v":""}]
[null,null,null,null,null,null,null,null,null,null,null,null,{"$f":"Fund!W3013","v":"00:00:00"},{"$f":"Fund!X3013","v":0},{"$f":"-Fund!V3013","v":0},{"$f":"Fund!V3013","v":0},{"$f":"Fund!P3013","v":""}]
[null,null,null,null,null,null,null,null,null,null,null,null,{"$f":"Fund!W3014","v":"00:00:00"},{"$f":"Fund!X3014","v":0},{"$f":"-Fund!V3014","v":0},{"$f":"Fund!V3014","v":0},{"$f":"Fund!P3014","v":""}]
[null,null,null,null,null,null,null,null,null,null,null,null,{"$f":"Fund!W3015","v":"00:00:00"},{"$f":"Fund!X3015","v":0},{"$f":"-Fund!V3015","v":0},{"$f":"Fund!V3015","v":0},{"$f":"Fund!P3015","v":""}]
[null,null,null,null,null,null,null,null,null,null,null,null,{"$f":"Fund!W3016","v":"00:00:00"},{"$f":"Fund!X3016","v":0},{"$f":"-Fund!V3016","v":0},{"$f":"Fund!V3016","v":0},{"$f":"Fund!P3016","v":""}]
[null,null,null,null,null,null,null,null,null,null,null,null,{"$f":"Fund!W3017","v":"00:00:00"},{"$f":"Fund!X3017","v":0},{"$f":"-Fund!V3017","v":0},{"$f":"Fund!V3017","v":0},{"$f":"Fund!P3017","v":""}]
[null,null,null,null,null,null,null,null,null,null,null,null,{"$f":"Fund!W3018","v":"00:00:00"},{"$f":"Fund!X3018","v":0},{"$f":"-Fund!V3018","v":0},{"$f":"Fund!V3018","v":0},{"$f":"Fund!P3018","v":""}]
[null,null,null,null,null,null,null,null,null,null,null,null,{"$f":"Fund!W3019","v":"00:00:00"},{"$f":"Fund!X3019","v":0},{"$f":"-Fund!V3019","v":0},{"$f":"Fund!V3019","v":0},{"$f":"Fund!P3019","v":""}]
[null,null,null,null,null,null,null,null,null,null,null,null,{"$f":"Fund!W3020","v":"00:00:00"},{"$f":"Fund!X3020","v":0},{"$f":"-Fund!V3020","v":0},{"$f":"Fund!V3020","v":0},{"$f":"Fund!P3020","v":""}]
[null,null,null,null,null,null,null,null,null,null,null,null,{"$f":"Fund!W3021","v":"00:00:00"},{"$f":"Fund!X3021","v":0},{"$f":"-Fund!V3021","v":0},{"$f":"Fund!V3021","v":0},{"$f":"Fund!P3021","v":""}]
[null,null,null,null,null,null,null,null,null,null,null,null,{"$f":"Fund!W3022","v":"00:00:00"},{"$f":"Fund!X3022","v":0},{"$f":"-Fund!V3022","v":0},{"$f":"Fund!V3022","v":0},{"$f":"Fund!P3022","v":""}]
[null,null,null,null,null,null,null,null,null,null,null,null,{"$f":"Fund!W3023","v":"00:00:00"},{"$f":"Fund!X3023","v":0},{"$f":"-Fund!V3023","v":0},{"$f":"Fund!V3023","v":0},{"$f":"Fund!P3023","v":""}]
[null,null,null,null,null,null,null,null,null,null,null,null,{"$f":"Fund!W3024","v":"00:00:00"},{"$f":"Fund!X3024","v":0},{"$f":"-Fund!V3024","v":0},{"$f":"Fund!V3024","v":0},{"$f":"Fund!P3024","v":""}]
[null,null,null,null,null,null,null,null,null,null,null,null,{"$f":"Fund!W3025","v":"00:00:00"},{"$f":"Fund!X3025","v":0},{"$f":"-Fund!V3025","v":0},{"$f":"Fund!V3025","v":0},{"$f":"Fund!P3025","v":""}]
[null,null,null,null,null,null,null,null,null,null,null,null,{"$f":"Fund!W3026","v":"00:00:00"},{"$f":"Fund!X3026","v":0},{"$f":"-Fund!V3026","v":0},{"$f":"Fund!V3026","v":0},{"$f":"Fund!P3026","v":""}]
[null,null,null,null,null,null,null,null,null,null,null,null,{"$f":"Fund!W3027","v":"00:00:00"},{"$f":"Fund!X3027","v":0},{"$f":"-Fund!V3027","v":0},{"$f":"Fund!V3027","v":0},{"$f":"Fund!P3027","v":""}]
[null,null,null,null,null,null,null,null,null,null,null,null,{"$f":"Fund!W3028","v":"00:00:00"},{"$f":"Fund!X3028","v":0},{"$f":"-Fund!V3028","v":0},{"$f":"Fund!V3028","v":0},{"$f":"Fund!P3028","v":""}]
[null,null,null,null,null,null,null,null,null,null,null,null,{"$f":"Fund!W3029","v":"00:00:00"},{"$f":"Fund!X3029","v":0},{"$f":"-Fund!V3029","v":0},{"$f":"Fund!V3029","v":0},{"$f":"Fund!P3029","v":""}]
[null,null,null,null,null,null,null,null,null,null,null,null,{"$f":"Fund!W3030","v":"00:00:00"},{"$f":"Fund!X3030","v":0},{"$f":"-Fund!V3030","v":0},{"$f":"Fund!V3030","v":0},{"$f":"Fund!P3030","v":""}]
[null,null,null,null,null,null,null,null,null,null,null,null,{"$f":"Fund!W3031","v":"00:00:00"},{"$f":"Fund!X3031","v":0},{"$f":"-Fund!V3031","v":0},{"$f":"Fund!V3031","v":0},{"$f":"Fund!P3031","v":""}]
[null,null,null,null,null,null,null,null,null,null,null,null,{"$f":"Fund!W3032","v":"00:00:00"},{"$f":"Fund!X3032","v":0},{"$f":"-Fund!V3032","v":0},{"$f":"Fund!V3032","v":0},{"$f":"Fund!P3032","v":""}]
[null,null,null,null,null,null,null,null,null,null,null,null,{"$f":"Fund!W3033","v":"00:00:00"},{"$f":"Fund!X3033","v":0},{"$f":"-Fund!V3033","v":0},{"$f":"Fund!V3033","v":0},{"$f":"Fund!P3033","v":""}]
[null,null,null,null,null,null,null,null,null,null,null,null,{"$f":"Fund!W3034","v":"00:00:00"},{"$f":"Fund!X3034","v":0},{"$f":"-Fund!V3034","v":0},{"$f":"Fund!V3034","v":0},{"$f":"Fund!P3034","v":""}]
[null,null,null,null,null,null,null,null,null,null,null,null,{"$f":"Fund!W3035","v":"00:00:00"},{"$f":"Fund!X3035","v":0},{"$f":"-Fund!V3035","v":0},{"$f":"Fund!V3035","v":0},{"$f":"Fund!P3035","v":""}]
[null,null,null,null,null,null,null,null,null,null,null,null,{"$f":"Fund!W3036","v":"00:00:00"},{"$f":"Fund!X3036","v":0},{"$f":"-Fund!V3036","v":0},{"$f":"Fund!V3036","v":0},{"$f":"Fund!P3036","v":""}]
[null,null,null,null,null,null,null,null,null,null,null,null,{"$f":"Fund!W3037","v":"00:00:00"},{"$f":"Fund!X3037","v":0},{"$f":"-Fund!V3037","v":0},{"$f":"Fund!V3037","v":0},{"$f":"Fund!P3037","v":""}]
[null,null,null,null,null,null,null,null,null,null,null,null,{"$f":"Fund!W3038","v":"00:00:00"},{"$f":"Fund!X3038","v":0},{"$f":"-Fund!V3038","v":0},{"$f":"Fund!V3038","v":0},{"$f":"Fund!P3038","v":""}]
[null,null,null,null,null,null,null,null,null,null,null,null,{"$f":"Fund!W3039","v":"00:00:00"},{"$f":"Fund!X3039","v":0},{"$f":"-Fund!V3039","v":0},{"$f":"Fund!V3039","v":0},{"$f":"Fund!P3039","v":""}]
[null,null,null,null,null,null,null,null,null,null,null,null,{"$f":"Fund!W3040","v":"00:00:00"},{"$f":"Fund!X3040","v":0},{"$f":"-Fund!V3040","v":0},{"$f":"Fund!V3040","v":0},{"$f":"Fund!P3040","v":""}]
[null,null,null,null,null,null,null,null,null,null,null,null,{"$f":"Fund!W3041","v":"00:00:00"},{"$f":"Fund!X3041","v":0},{"$f":"-Fund!V3041","v":0},{"$f":"Fund!V3041","v":0},{"$f":"Fund!P3041","v":""}]
[null,null,null,null,null,null,null,null,null,null,null,null,{"$f":"Fund!W3042","v":"00:00:00"},{"$f":"Fund!X3042","v":0},{"$f":"-Fund!V3042","v":0},{"$f":"Fund!V3042","v":0},{"$f":"Fund!P3042","v":""}]
[null,null,null,null,null,null,null,null,null,null,null,null,{"$f":"Fund!W3043","v":"00:00:00"},{"$f":"Fund!X3043","v":0},{"$f":"-Fund!V3043","v":0},{"$f":"Fund!V3043","v":0},{"$f":"Fund!P3043","v":""}]
[null,null,null,null,null,null,null,null,null,null,null,null,{"$f":"Fund!W3044","v":"00:00:00"},{"$f":"Fund!X3044","v":0},{"$f":"-Fund!V3044","v":0},{"$f":"Fund!V3044","v":0},{"$f":"Fund!P3044","v":""}]
[null,null,null,null,null,null,null,null,null,null,null,null,{"$f":"Fund!W3045","v":"00:00:00"},{"$f":"Fund!X3045","v":0},{"$f":"-Fund!V3045","v":0},{"$f":"Fund!V3045","v":0},{"$f":"Fund!P3045","v":""}]
[null,null,null,null,null,null,null,null,null,null,null,null,{"$f":"Fund!W3046","v":"00:00:00"},{"$f":"Fund!X3046","v":0},{"$f":"-Fund!V3046","v":0},{"$f":"Fund!V3046","v":0},{"$f":"Fund!P3046","v":""}]
[null,null,null,null,null,null,null,null,null,null,null,null,{"$f":"Fund!W3047","v":"00:00:00"},{"$f":"Fund!X3047","v":0},{"$f":"-Fund!V3047","v":0},{"$f":"Fund!V3047","v":0},{"$f":"Fund!P3047","v":""}]
[null,null,null,null,null,null,null,null,null,null,null,null,{"$f":"Fund!W3048","v":"00:00:00"},{"$f":"Fund!X3048","v":0},{"$f":"-Fund!V3048","v":0},{"$f":"Fund!V3048","v":0},{"$f":"Fund!P3048","v":""}]
[null,null,null,null,null,null,null,null,null,null,null,null,{"$f":"Fund!W3049","v":"00:00:00"},{"$f":"Fund!X3049","v":0},{"$f":"-Fund!V3049","v":0},{"$f":"Fund!V3049","v":0},{"$f":"Fund!P3049","v":""}]
[null,null,null,null,null,null,null,null,null,null,null,null,{"$f":"Fund!W3050","v":"00:00:00"},{"$f":"Fund!X3050","v":0},{"$f":"-Fund!V3050","v":0},{"$f":"Fund!V3050","v":0},{"$f":"Fund!P3050","v":""}]
[null,null,null,null,null,null,null,null,null,null,null,null,{"$f":"Fund!W3051","v":"00:00:00"},{"$f":"Fund!X3051","v":0},{"$f":"-Fund!V3051","v":0},{"$f":"Fund!V3051","v":0},{"$f":"Fund!P3051","v":""}]
[null,null,null,null,null,null,null,null,null,null,null,null,{"$f":"Fund!W3052","v":"00:00:00"},{"$f":"Fund!X3052","v":0},{"$f":"-Fund!V3052","v":0},{"$f":"Fund!V3052","v":0},{"$f":"Fund!P3052","v":""}]
[null,null,null,null,null,null,null,null,null,null,null,null,{"$f":"Fund!W3053","v":"00:00:00"},{"$f":"Fund!X3053","v":0},{"$f":"-Fund!V3053","v":0},{"$f":"Fund!V3053","v":0},{"$f":"Fund!P3053","v":""}]
[null,null,null,null,null,null,null,null,null,null,null,null,{"$f":"Fund!W3054","v":"00:00:00"},{"$f":"Fund!X3054","v":0},{"$f":"-Fund!V3054","v":0},{"$f":"Fund!V3054","v":0},{"$f":"Fund!P3054","v":""}]
[null,null,null,null,null,null,null,null,null,null,null,null,{"$f":"Fund!W3055","v":"00:00:00"},{"$f":"Fund!X3055","v":0},{"$f":"-Fund!V3055","v":0},{"$f":"Fund!V3055","v":0},{"$f":"Fund!P3055","v":""}]
[null,null,null,null,null,null,null,null,null,null,null,null,{"$f":"Fund!W3056","v":"00:00:00"},{"$f":"Fund!X3056","v":0},{"$f":"-Fund!V3056","v":0},{"$f":"Fund!V3056","v":0},{"$f":"Fund!P3056","v":""}]
[null,null,null,null,null,null,null,null,null,null,null,null,{"$f":"Fund!W3057","v":"00:00:00"},{"$f":"Fund!X3057","v":0},{"$f":"-Fund!V3057","v":0},{"$f":"Fund!V3057","v":0},{"$f":"Fund!P3057","v":""}]
[null,null,null,null,null,null,null,null,null,null,null,null,{"$f":"Fund!W3058","v":"00:00:00"},{"$f":"Fund!X3058","v":0},{"$f":"-Fund!V3058","v":0},{"$f":"Fund!V3058","v":0},{"$f":"Fund!P3058","v":""}]
[null,null,null,null,null,null,null,null,null,null,null,null,{"$f":"Fund!W3059","v":"00:00:00"},{"$f":"Fund!X3059","v":0},{"$f":"-Fund!V3059","v":0},{"$f":"Fund!V3059","v":0},{"$f":"Fund!P3059","v":""}]
[null,null,null,null,null,null,null,null,null,null,null,null,{"$f":"Fund!W3060","v":"00:00:00"},{"$f":"Fund!X3060","v":0},{"$f":"-Fund!V3060","v":0},{"$f":"Fund!V3060","v":0},{"$f":"Fund!P3060","v":""}]
[null,null,null,null,null,null,null,null,null,null,null,null,{"$f":"Fund!W3061","v":"00:00:00"},{"$f":"Fund!X3061","v":0},{"$f":"-Fund!V3061","v":0},{"$f":"Fund!V3061","v":0},{"$f":"Fund!P3061","v":""}]
[null,null,null,null,null,null,null,null,null,null,null,null,{"$f":"Fund!W3062","v":"00:00:00"},{"$f":"Fund!X3062","v":0},{"$f":"-Fund!V3062","v":0},{"$f":"Fund!V3062","v":0},{"$f":"Fund!P3062","v":""}]
[null,null,null,null,null,null,null,null,null,null,null,null,{"$f":"Fund!W3063","v":"00:00:00"},{"$f":"Fund!X3063","v":0},{"$f":"-Fund!V3063","v":0},{"$f":"Fund!V3063","v":0},{"$f":"Fund!P3063","v":""}]
[null,null,null,null,null,null,null,null,null,null,null,null,{"$f":"Fund!W3064","v":"00:00:00"},{"$f":"Fund!X3064","v":0},{"$f":"-Fund!V3064","v":0},{"$f":"Fund!V3064","v":0},{"$f":"Fund!P3064","v":""}]
[null,null,null,null,null,null,null,null,null,null,null,null,{"$f":"Fund!W3065","v":"00:00:00"},{"$f":"Fund!X3065","v":0},{"$f":"-Fund!V3065","v":0},{"$f":"Fund!V3065","v":0},{"$f":"Fund!P3065","v":""}]
[null,null,null,null,null,null,null,null,null,null,null,null,{"$f":"Fund!W3066","v":"00:00:00"},{"$f":"Fund!X3066","v":0},{"$f":"-Fund!V3066","v":0},{"$f":"Fund!V3066","v":0},{"$f":"Fund!P3066","v":""}]
[null,null,null,null,null,null,null,null,null,null,null,null,{"$f":"Fund!W3067","v":"00:00:00"},{"$f":"Fund!X3067","v":0},{"$f":"-Fund!V3067","v":0},{"$f":"Fund!V3067","v":0},{"$f":"Fund!P3067","v":""}]
[null,null,null,null,null,null,null,null,null,null,null,null,{"$f":"Fund!W3068","v":"00:00:00"},{"$f":"Fund!X3068","v":0},{"$f":"-Fund!V3068","v":0},{"$f":"Fund!V3068","v":0},{"$f":"Fund!P3068","v":""}]
[null,null,null,null,null,null,null,null,null,null,null,null,{"$f":"Fund!W3069","v":"00:00:00"},{"$f":"Fund!X3069","v":0},{"$f":"-Fund!V3069","v":0},{"$f":"Fund!V3069","v":0},{"$f":"Fund!P3069","v":""}]
[null,null,null,null,null,null,null,null,null,null,null,null,{"$f":"Fund!W3070","v":"00:00:00"},{"$f":"Fund!X3070","v":0},{"$f":"-Fund!V3070","v":0},{"$f":"Fund!V3070","v":0},{"$f":"Fund!P3070","v":""}]
[null,null,null,null,null,null,null,null,null,null,null,null,{"$f":"Fund!W3071","v":"00:00:00"},{"$f":"Fund!X3071","v":0},{"$f":"-Fund!V3071","v":0},{"$f":"Fund!V3071","v":0},{"$f":"Fund!P3071","v":""}]
[null,null,null,null,null,null,null,null,null,null,null,null,{"$f":"Fund!W3072","v":"00:00:00"},{"$f":"Fund!X3072","v":0},{"$f":"-Fund!V3072","v":0},{"$f":"Fund!V3072","v":0},{"$f":"Fund!P3072","v":""}]
[null,null,null,null,null,null,null,null,null,null,null,null,{"$f":"Fund!W3073","v":"00:00:00"},{"$f":"Fund!X3073","v":0},{"$f":"-Fund!V3073","v":0},{"$f":"Fund!V3073","v":0},{"$f":"Fund!P3073","v":""}]
[null,null,null,null,null,null,null,null,null,null,null,null,{"$f":"Fund!W3074","v":"00:00:00"},{"$f":"Fund!X3074","v":0},{"$f":"-Fund!V3074","v":0},{"$f":"Fund!V3074","v":0},{"$f":"Fund!P3074","v":""}]
[null,null,null,null,null,null,null,null,null,null,null,null,{"$f":"Fund!W3075","v":"00:00:00"},{"$f":"Fund!X3075","v":0},{"$f":"-Fund!V3075","v":0},{"$f":"Fund!V3075","v":0},{"$f":"Fund!P3075","v":""}]
[null,null,null,null,null,null,null,null,null,null,null,null,{"$f":"Fund!W3076","v":"00:00:00"},{"$f":"Fund!X3076","v":0},{"$f":"-Fund!V3076","v":0},{"$f":"Fund!V3076","v":0},{"$f":"Fund!P3076","v":""}]
[null,null,null,null,null,null,null,null,null,null,null,null,{"$f":"Fund!W3077","v":"00:00:00"},{"$f":"Fund!X3077","v":0},{"$f":"-Fund!V3077","v":0},{"$f":"Fund!V3077","v":0},{"$f":"Fund!P3077","v":""}]
[null,null,null,null,null,null,null,null,null,null,null,null,{"$f":"Fund!W3078","v":"00:00:00"},{"$f":"Fund!X3078","v":0},{"$f":"-Fund!V3078","v":0},{"$f":"Fund!V3078","v":0},{"$f":"Fund!P3078","v":""}]
[null,null,null,null,null,null,null,null,null,null,null,null,{"$f":"Fund!W3079","v":"00:00:00"},{"$f":"Fund!X3079","v":0},{"$f":"-Fund!V3079","v":0},{"$f":"Fund!V3079","v":0},{"$f":"Fund!P3079","v":""}]
[null,null,null,null,null,null,null,null,null,null,null,null,{"$f":"Fund!W3080","v":"00:00:00"},{"$f":"Fund!X3080","v":0},{"$f":"-Fund!V3080","v":0},{"$f":"Fund!V3080","v":0},{"$f":"Fund!P3080","v":""}]
[null,null,null,null,null,null,null,null,null,null,null,null,{"$f":"Fund!W3081","v":"00:00:00"},{"$f":"Fund!X3081","v":0},{"$f":"-Fund!V3081","v":0},{"$f":"Fund!V3081","v":0},{"$f":"Fund!P3081","v":""}]
[null,null,null,null,null,null,null,null,null,null,null,null,{"$f":"Fund!W3082","v":"00:00:00"},{"$f":"Fund!X3082","v":0},{"$f":"-Fund!V3082","v":0},{"$f":"Fund!V3082","v":0},{"$f":"Fund!P3082","v":""}]
[null,null,null,null,null,null,null,null,null,null,null,null,{"$f":"Fund!W3083","v":"00:00:00"},{"$f":"Fund!X3083","v":0},{"$f":"-Fund!V3083","v":0},{"$f":"Fund!V3083","v":0},{"$f":"Fund!P3083","v":""}]
[null,null,null,null,null,null,null,null,null,null,null,null,{"$f":"Fund!W3084","v":"00:00:00"},{"$f":"Fund!X3084","v":0},{"$f":"-Fund!V3084","v":0},{"$f":"Fund!V3084","v":0},{"$f":"Fund!P3084","v":""}]
[null,null,null,null,null,null,null,null,null,null,null,null,{"$f":"Fund!W3085","v":"00:00:00"},{"$f":"Fund!X3085","v":0},{"$f":"-Fund!V3085","v":0},{"$f":"Fund!V3085","v":0},{"$f":"Fund!P3085","v":""}]
[null,null,null,null,null,null,null,null,null,null,null,null,{"$f":"Fund!W3086","v":"00:00:00"},{"$f":"Fund!X3086","v":0},{"$f":"-Fund!V3086","v":0},{"$f":"Fund!V3086","v":0},{"$f":"Fund!P3086","v":""}]
[null,null,null,null,null,null,null,null,null,null,null,null,{"$f":"Fund!W3087","v":"00:00:00"},{"$f":"Fund!X3087","v":0},{"$f":"-Fund!V3087","v":0},{"$f":"Fund!V3087","v":0},{"$f":"Fund!P3087","v":""}]
[null,null,null,null,null,null,null,null,null,null,null,null,{"$f":"Fund!W3088","v":"00:00:00"},{"$f":"Fund!X3088","v":0},{"$f":"-Fund!V3088","v":0},{"$f":"Fund!V3088","v":0},{"$f":"Fund!P3088","v":""}]
[null,null,null,null,null,null,null,null,null,null,null,null,{"$f":"Fund!W3089","v":"00:00:00"},{"$f":"Fund!X3089","v":0},{"$f":"-Fund!V3089","v":0},{"$f":"Fund!V3089","v":0},{"$f":"Fund!P3089","v":""}]
[null,null,null,null,null,null,null,null,null,null,null,null,{"$f":"Fund!W3090","v":"00:00:00"},{"$f":"Fund!X3090","v":0},{"$f":"-Fund!V3090","v":0},{"$f":"Fund!V3090","v":0},{"$f":"Fund!P3090","v":""}]
[null,null,null,null,null,null,null,null,null,null,null,null,{"$f":"Fund!W3091","v":"00:00:00"},{"$f":"Fund!X3091","v":0},{"$f":"-Fund!V3091","v":0},{"$f":"Fund!V3091","v":0},{"$f":"Fund!P3091","v":""}]
[null,null,null,null,null,null,null,null,null,null,null,null,{"$f":"Fund!W3092","v":"00:00:00"},{"$f":"Fund!X3092","v":0},{"$f":"-Fund!V3092","v":0},{"$f":"Fund!V3092","v":0},{"$f":"Fund!P3092","v":""}]
[null,null,null,null,null,null,null,null,null,null,null,null,{"$f":"Fund!W3093","v":"00:00:00"},{"$f":"Fund!X3093","v":0},{"$f":"-Fund!V3093","v":0},{"$f":"Fund!V3093","v":0},{"$f":"Fund!P3093","v":""}]
[null,null,null,null,null,null,null,null,null,null,null,null,{"$f":"Fund!W3094","v":"00:00:00"},{"$f":"Fund!X3094","v":0},{"$f":"-Fund!V3094","v":0},{"$f":"Fund!V3094","v":0},{"$f":"Fund!P3094","v":""}]
[null,null,null,null,null,null,null,null,null,null,null,null,{"$f":"Fund!W3095","v":"00:00:00"},{"$f":"Fund!X3095","v":0},{"$f":"-Fund!V3095","v":0},{"$f":"Fund!V3095","v":0},{"$f":"Fund!P3095","v":""}]
[null,null,null,null,null,null,null,null,null,null,null,null,{"$f":"Fund!W3096","v":"00:00:00"},{"$f":"Fund!X3096","v":0},{"$f":"-Fund!V3096","v":0},{"$f":"Fund!V3096","v":0},{"$f":"Fund!P3096","v":""}]
[null,null,null,null,null,null,null,null,null,null,null,null,{"$f":"Fund!W3097","v":"00:00:00"},{"$f":"Fund!X3097","v":0},{"$f":"-Fund!V3097","v":0},{"$f":"Fund!V3097","v":0},{"$f":"Fund!P3097","v":""}]
[null,null,null,null,null,null,null,null,null,null,null,null,{"$f":"Fund!W3098","v":"00:00:00"},{"$f":"Fund!X3098","v":0},{"$f":"-Fund!V3098","v":0},{"$f":"Fund!V3098","v":0},{"$f":"Fund!P3098","v":""}]
[null,null,null,null,null,null,null,null,null,null,null,null,{"$f":"Fund!W3099","v":"00:00:00"},{"$f":"Fund!X3099","v":0},{"$f":"-Fund!V3099","v":0},{"$f":"Fund!V3099","v":0},{"$f":"Fund!P3099","v":""}]
[null,null,null,null,null,null,null,null,null,null,null,null,{"$f":"Fund!W3100","v":"00:00:00"},{"$f":"Fund!X3100","v":0},{"$f":"-Fund!V3100","v":0},{"$f":"Fund!V3100","v":0},{"$f":"Fund!P3100","v":""}]
[null,null,null,null,null,null,null,null,null,null,null,null,{"$f":"Fund!W3101","v":"00:00:00"},{"$f":"Fund!X3101","v":0},{"$f":"-Fund!V3101","v":0},{"$f":"Fund!V3101","v":0},{"$f":"Fund!P3101","v":""}]
[null,null,null,null,null,null,null,null,null,null,null,null,{"$f":"Fund!W3102","v":"00:00:00"},{"$f":"Fund!X3102","v":0},{"$f":"-Fund!V3102","v":0},{"$f":"Fund!V3102","v":0},{"$f":"Fund!P3102","v":""}]
[null,null,null,null,null,null,null,null,null,null,null,null,{"$f":"Fund!W3103","v":"00:00:00"},{"$f":"Fund!X3103","v":0},{"$f":"-Fund!V3103","v":0},{"$f":"Fund!V3103","v":0},{"$f":"Fund!P3103","v":""}]
[null,null,null,null,null,null,null,null,null,null,null,null,{"$f":"Fund!W3104","v":"00:00:00"},{"$f":"Fund!X3104","v":0},{"$f":"-Fund!V3104","v":0},{"$f":"Fund!V3104","v":0},{"$f":"Fund!P3104","v":""}]
[null,null,null,null,null,null,null,null,null,null,null,null,{"$f":"Fund!W3105","v":"00:00:00"},{"$f":"Fund!X3105","v":0},{"$f":"-Fund!V3105","v":0},{"$f":"Fund!V3105","v":0},{"$f":"Fund!P3105","v":""}]
[null,null,null,null,null,null,null,null,null,null,null,null,{"$f":"Fund!W3106","v":"00:00:00"},{"$f":"Fund!X3106","v":0},{"$f":"-Fund!V3106","v":0},{"$f":"Fund!V3106","v":0},{"$f":"Fund!P3106","v":""}]
[null,null,null,null,null,null,null,null,null,null,null,null,{"$f":"Fund!W3107","v":"00:00:00"},{"$f":"Fund!X3107","v":0},{"$f":"-Fund!V3107","v":0},{"$f":"Fund!V3107","v":0},{"$f":"Fund!P3107","v":""}]
[null,null,null,null,null,null,null,null,null,null,null,null,{"$f":"Fund!W3108","v":"00:00:00"},{"$f":"Fund!X3108","v":0},{"$f":"-Fund!V3108","v":0},{"$f":"Fund!V3108","v":0},{"$f":"Fund!P3108","v":""}]
[null,null,null,null,null,null,null,null,null,null,null,null,{"$f":"Fund!W3109","v":"00:00:00"},{"$f":"Fund!X3109","v":0},{"$f":"-Fund!V3109","v":0},{"$f":"Fund!V3109","v":0},{"$f":"Fund!P3109","v":""}]
[null,null,null,null,null,null,null,null,null,null,null,null,{"$f":"Fund!W3110","v":"00:00:00"},{"$f":"Fund!X3110","v":0},{"$f":"-Fund!V3110","v":0},{"$f":"Fund!V3110","v":0},{"$f":"Fund!P3110","v":""}]
[null,null,null,null,null,null,null,null,null,null,null,null,{"$f":"Fund!W3111","v":"00:00:00"},{"$f":"Fund!X3111","v":0},{"$f":"-Fund!V3111","v":0},{"$f":"Fund!V3111","v":0},{"$f":"Fund!P3111","v":""}]
[null,null,null,null,null,null,null,null,null,null,null,null,{"$f":"Fund!W3112","v":"00:00:00"},{"$f":"Fund!X3112","v":0},{"$f":"-Fund!V3112","v":0},{"$f":"Fund!V3112","v":0},{"$f":"Fund!P3112","v":""}]
[null,null,null,null,null,null,null,null,null,null,null,null,{"$f":"Fund!W3113","v":"00:00:00"},{"$f":"Fund!X3113","v":0},{"$f":"-Fund!V3113","v":0},{"$f":"Fund!V3113","v":0},{"$f":"Fund!P3113","v":""}]
[null,null,null,null,null,null,null,null,null,null,null,null,{"$f":"Fund!W3114","v":"00:00:00"},{"$f":"Fund!X3114","v":0},{"$f":"-Fund!V3114","v":0},{"$f":"Fund!V3114","v":0},{"$f":"Fund!P3114","v":""}]
[null,null,null,null,null,null,null,null,null,null,null,null,{"$f":"Fund!W3115","v":"00:00:00"},{"$f":"Fund!X3115","v":0},{"$f":"-Fund!V3115","v":0},{"$f":"Fund!V3115","v":0},{"$f":"Fund!P3115","v":""}]
[null,null,null,null,null,null,null,null,null,null,null,null,{"$f":"Fund!W3116","v":"00:00:00"},{"$f":"Fund!X3116","v":0},{"$f":"-Fund!V3116","v":0},{"$f":"Fund!V3116","v":0},{"$f":"Fund!P3116","v":""}]
[null,null,null,null,null,null,null,null,null,null,null,null,{"$f":"Fund!W3117","v":"00:00:00"},{"$f":"Fund!X3117","v":0},{"$f":"-Fund!V3117","v":0},{"$f":"Fund!V3117","v":0},{"$f":"Fund!P3117","v":""}]
[null,null,null,null,null,null,null,null,null,null,null,null,{"$f":"Fund!W3118","v":"00:00:00"},{"$f":"Fund!X3118","v":0},{"$f":"-Fund!V3118","v":0},{"$f":"Fund!V3118","v":0},{"$f":"Fund!P3118","v":""}]
[null,null,null,null,null,null,null,null,null,null,null,null,{"$f":"Fund!W3119","v":"00:00:00"},{"$f":"Fund!X3119","v":0},{"$f":"-Fund!V3119","v":0},{"$f":"Fund!V3119","v":0},{"$f":"Fund!P3119","v":""}]
[null,null,null,null,null,null,null,null,null,null,null,null,{"$f":"Fund!W3120","v":"00:00:00"},{"$f":"Fund!X3120","v":0},{"$f":"-Fund!V3120","v":0},{"$f":"Fund!V3120","v":0},{"$f":"Fund!P3120","v":""}]
[null,null,null,null,null,null,null,null,null,null,null,null,{"$f":"Fund!W3121","v":"00:00:00"},{"$f":"Fund!X3121","v":0},{"$f":"-Fund!V3121","v":0},{"$f":"Fund!V3121","v":0},{"$f":"Fund!P3121","v":""}]
[null,null,null,null,null,null,null,null,null,null,null,null,{"$f":"Fund!W3122","v":"00:00:00"},{"$f":"Fund!X3122","v":0},{"$f":"-Fund!V3122","v":0},{"$f":"Fund!V3122","v":0},{"$f":"Fund!P3122","v":""}]
[null,null,null,null,null,null,null,null,null,null,null,null,{"$f":"Fund!W3123","v":"00:00:00"},{"$f":"Fund!X3123","v":0},{"$f":"-Fund!V3123","v":0},{"$f":"Fund!V3123","v":0},{"$f":"Fund!P3123","v":""}]
[null,null,null,null,null,null,null,null,null,null,null,null,{"$f":"Fund!W3124","v":"00:00:00"},{"$f":"Fund!X3124","v":0},{"$f":"-Fund!V3124","v":0},{"$f":"Fund!V3124","v":0},{"$f":"Fund!P3124","v":""}]
[null,null,null,null,null,null,null,null,null,null,null,null,{"$f":"Fund!W3125","v":"00:00:00"},{"$f":"Fund!X3125","v":0},{"$f":"-Fund!V3125","v":0},{"$f":"Fund!V3125","v":0},{"$f":"Fund!P3125","v":""}]
[null,null,null,null,null,null,null,null,null,null,null,null,{"$f":"Fund!W3126","v":"00:00:00"},{"$f":"Fund!X3126","v":0},{"$f":"-Fund!V3126","v":0},{"$f":"Fund!V3126","v":0},{"$f":"Fund!P3126","v":""}]
[null,null,null,null,null,null,null,null,null,null,null,null,{"$f":"Fund!W3127","v":"00:00:00"},{"$f":"Fund!X3127","v":0},{"$f":"-Fund!V3127","v":0},{"$f":"Fund!V3127","v":0},{"$f":"Fund!P3127","v":""}]
[null,null,null,null,null,null,null,null,null,null,null,null,{"$f":"Fund!W3128","v":"00:00:00"},{"$f":"Fund!X3128","v":0},{"$f":"-Fund!V3128","v":0},{"$f":"Fund!V3128","v":0},{"$f":"Fund!P3128","v":""}]
[null,null,null,null,null,null,null,null,null,null,null,null,{"$f":"Fund!W3129","v":"00:00:00"},{"$f":"Fund!X3129","v":0},{"$f":"-Fund!V3129","v":0},{"$f":"Fund!V3129","v":0},{"$f":"Fund!P3129","v":""}]
[null,null,null,null,null,null,null,null,null,null,null,null,{"$f":"Fund!W3130","v":"00:00:00"},{"$f":"Fund!X3130","v":0},{"$f":"-Fund!V3130","v":0},{"$f":"Fund!V3130","v":0},{"$f":"Fund!P3130","v":""}]
[null,null,null,null,null,null,null,null,null,null,null,null,{"$f":"Fund!W3131","v":"00:00:00"},{"$f":"Fund!X3131","v":0},{"$f":"-Fund!V3131","v":0},{"$f":"Fund!V3131","v":0},{"$f":"Fund!P3131","v":""}]
[null,null,null,null,null,null,null,null,null,null,null,null,{"$f":"Fund!W3132","v":"00:00:00"},{"$f":"Fund!X3132","v":0},{"$f":"-Fund!V3132","v":0},{"$f":"Fund!V3132","v":0},{"$f":"Fund!P3132","v":""}]
[null,null,null,null,null,null,null,null,null,null,null,null,{"$f":"Fund!W3133","v":"00:00:00"},{"$f":"Fund!X3133","v":0},{"$f":"-Fund!V3133","v":0},{"$f":"Fund!V3133","v":0},{"$f":"Fund!P3133","v":""}]
[null,null,null,null,null,null,null,null,null,null,null,null,{"$f":"Fund!W3134","v":"00:00:00"},{"$f":"Fund!X3134","v":0},{"$f":"-Fund!V3134","v":0},{"$f":"Fund!V3134","v":0},{"$f":"Fund!P3134","v":""}]
[null,null,null,null,null,null,null,null,null,null,null,null,{"$f":"Fund!W3135","v":"00:00:00"},{"$f":"Fund!X3135","v":0},{"$f":"-Fund!V3135","v":0},{"$f":"Fund!V3135","v":0},{"$f":"Fund!P3135","v":""}]
[null,null,null,null,null,null,null,null,null,null,null,null,{"$f":"Fund!W3136","v":"00:00:00"},{"$f":"Fund!X3136","v":0},{"$f":"-Fund!V3136","v":0},{"$f":"Fund!V3136","v":0},{"$f":"Fund!P3136","v":""}]
[null,null,null,null,null,null,null,null,null,null,null,null,{"$f":"Fund!W3137","v":"00:00:00"},{"$f":"Fund!X3137","v":0},{"$f":"-Fund!V3137","v":0},{"$f":"Fund!V3137","v":0},{"$f":"Fund!P3137","v":""}]
[null,null,null,null,null,null,null,null,null,null,null,null,{"$f":"Fund!W3138","v":"00:00:00"},{"$f":"Fund!X3138","v":0},{"$f":"-Fund!V3138","v":0},{"$f":"Fund!V3138","v":0},{"$f":"Fund!P3138","v":""}]
[null,null,null,null,null,null,null,null,null,null,null,null,{"$f":"Fund!W3139","v":"00:00:00"},{"$f":"Fund!X3139","v":0},{"$f":"-Fund!V3139","v":0},{"$f":"Fund!V3139","v":0},{"$f":"Fund!P3139","v":""}]
[null,null,null,null,null,null,null,null,null,null,null,null,{"$f":"Fund!W3140","v":"00:00:00"},{"$f":"Fund!X3140","v":0},{"$f":"-Fund!V3140","v":0},{"$f":"Fund!V3140","v":0},{"$f":"Fund!P3140","v":""}]
[null,null,null,null,null,null,null,null,null,null,null,null,{"$f":"Fund!W3141","v":"00:00:00"},{"$f":"Fund!X3141","v":0},{"$f":"-Fund!V3141","v":0},{"$f":"Fund!V3141","v":0},{"$f":"Fund!P3141","v":""}]
[null,null,null,null,null,null,null,null,null,null,null,null,{"$f":"Fund!W3142","v":"00:00:00"},{"$f":"Fund!X3142","v":0},{"$f":"-Fund!V3142","v":0},{"$f":"Fund!V3142","v":0},{"$f":"Fund!P3142","v":""}]
[null,null,null,null,null,null,null,null,null,null,null,null,{"$f":"Fund!W3143","v":"00:00:00"},{"$f":"Fund!X3143","v":0},{"$f":"-Fund!V3143","v":0},{"$f":"Fund!V3143","v":0},{"$f":"Fund!P3143","v":""}]
[null,null,null,null,null,null,null,null,null,null,null,null,{"$f":"Fund!W3144","v":"00:00:00"},{"$f":"Fund!X3144","v":0},{"$f":"-Fund!V3144","v":0},{"$f":"Fund!V3144","v":0},{"$f":"Fund!P3144","v":""}]
[null,null,null,null,null,null,null,null,null,null,null,null,{"$f":"Fund!W3145","v":"00:00:00"},{"$f":"Fund!X3145","v":0},{"$f":"-Fund!V3145","v":0},{"$f":"Fund!V3145","v":0},{"$f":"Fund!P3145","v":""}]
[null,null,null,null,null,null,null,null,null,null,null,null,{"$f":"Fund!W3146","v":"00:00:00"},{"$f":"Fund!X3146","v":0},{"$f":"-Fund!V3146","v":0},{"$f":"Fund!V3146","v":0},{"$f":"Fund!P3146","v":""}]
[null,null,null,null,null,null,null,null,null,null,null,null,{"$f":"Fund!W3147","v":"00:00:00"},{"$f":"Fund!X3147","v":0},{"$f":"-Fund!V3147","v":0},{"$f":"Fund!V3147","v":0},{"$f":"Fund!P3147","v":""}]
[null,null,null,null,null,null,null,null,null,null,null,null,{"$f":"Fund!W3148","v":"00:00:00"},{"$f":"Fund!X3148","v":0},{"$f":"-Fund!V3148","v":0},{"$f":"Fund!V3148","v":0},{"$f":"Fund!P3148","v":""}]
[null,null,null,null,null,null,null,null,null,null,null,null,{"$f":"Fund!W3149","v":"00:00:00"},{"$f":"Fund!X3149","v":0},{"$f":"-Fund!V3149","v":0},{"$f":"Fund!V3149","v":0},{"$f":"Fund!P3149","v":""}]
[null,null,null,null,null,null,null,null,null,null,null,null,{"$f":"Fund!W3150","v":"00:00:00"},{"$f":"Fund!X3150","v":0},{"$f":"-Fund!V3150","v":0},{"$f":"Fund!V3150","v":0},{"$f":"Fund!P3150","v":""}]
[null,null,null,null,null,null,null,null,null,null,null,null,{"$f":"Fund!W3151","v":"00:00:00"},{"$f":"Fund!X3151","v":0},{"$f":"-Fund!V3151","v":0},{"$f":"Fund!V3151","v":0},{"$f":"Fund!P3151","v":""}]
[null,null,null,null,null,null,null,null,null,null,null,null,{"$f":"Fund!W3152","v":"00:00:00"},{"$f":"Fund!X3152","v":0},{"$f":"-Fund!V3152","v":0},{"$f":"Fund!V3152","v":0},{"$f":"Fund!P3152","v":""}]
[null,null,null,null,null,null,null,null,null,null,null,null,{"$f":"Fund!W3153","v":"00:00:00"},{"$f":"Fund!X3153","v":0},{"$f":"-Fund!V3153","v":0},{"$f":"Fund!V3153","v":0},{"$f":"Fund!P3153","v":""}]
[null,null,null,null,null,null,null,null,null,null,null,null,{"$f":"Fund!W3154","v":"00:00:00"},{"$f":"Fund!X3154","v":0},{"$f":"-Fund!V3154","v":0},{"$f":"Fund!V3154","v":0},{"$f":"Fund!P3154","v":""}]
[null,null,null,null,null,null,null,null,null,null,null,null,{"$f":"Fund!W3155","v":"00:00:00"},{"$f":"Fund!X3155","v":0},{"$f":"-Fund!V3155","v":0},{"$f":"Fund!V3155","v":0},{"$f":"Fund!P3155","v":""}]
[null,null,null,null,null,null,null,null,null,null,null,null,{"$f":"Fund!W3156","v":"00:00:00"},{"$f":"Fund!X3156","v":0},{"$f":"-Fund!V3156","v":0},{"$f":"Fund!V3156","v":0},{"$f":"Fund!P3156","v":""}]
[null,null,null,null,null,null,null,null,null,null,null,null,{"$f":"Fund!W3157","v":"00:00:00"},{"$f":"Fund!X3157","v":0},{"$f":"-Fund!V3157","v":0},{"$f":"Fund!V3157","v":0},{"$f":"Fund!P3157","v":""}]
[null,null,null,null,null,null,null,null,null,null,null,null,{"$f":"Fund!W3158","v":"00:00:00"},{"$f":"Fund!X3158","v":0},{"$f":"-Fund!V3158","v":0},{"$f":"Fund!V3158","v":0},{"$f":"Fund!P3158","v":""}]
[null,null,null,null,null,null,null,null,null,null,null,null,{"$f":"Fund!W3159","v":"00:00:00"},{"$f":"Fund!X3159","v":0},{"$f":"-Fund!V3159","v":0},{"$f":"Fund!V3159","v":0},{"$f":"Fund!P3159","v":""}]
[null,null,null,null,null,null,null,null,null,null,null,null,{"$f":"Fund!W3160","v":"00:00:00"},{"$f":"Fund!X3160","v":0},{"$f":"-Fund!V3160","v":0},{"$f":"Fund!V3160","v":0},{"$f":"Fund!P3160","v":""}]
[null,null,null,null,null,null,null,null,null,null,null,null,{"$f":"Fund!W3161","v":"00:00:00"},{"$f":"Fund!X3161","v":0},{"$f":"-Fund!V3161","v":0},{"$f":"Fund!V3161","v":0},{"$f":"Fund!P3161","v":""}]
[null,null,null,null,null,null,null,null,null,null,null,null,{"$f":"Fund!W3162","v":"00:00:00"},{"$f":"Fund!X3162","v":0},{"$f":"-Fund!V3162","v":0},{"$f":"Fund!V3162","v":0},{"$f":"Fund!P3162","v":""}]
[null,null,null,null,null,null,null,null,null,null,null,null,{"$f":"Fund!W3163","v":"00:00:00"},{"$f":"Fund!X3163","v":0},{"$f":"-Fund!V3163","v":0},{"$f":"Fund!V3163","v":0},{"$f":"Fund!P3163","v":""}]
[null,null,null,null,null,null,null,null,null,null,null,null,{"$f":"Fund!W3164","v":"00:00:00"},{"$f":"Fund!X3164","v":0},{"$f":"-Fund!V3164","v":0},{"$f":"Fund!V3164","v":0},{"$f":"Fund!P3164","v":""}]
[null,null,null,null,null,null,null,null,null,null,null,null,{"$f":"Fund!W3165","v":"00:00:00"},{"$f":"Fund!X3165","v":0},{"$f":"-Fund!V3165","v":0},{"$f":"Fund!V3165","v":0},{"$f":"Fund!P3165","v":""}]
[null,null,null,null,null,null,null,null,null,null,null,null,{"$f":"Fund!W3166","v":"00:00:00"},{"$f":"Fund!X3166","v":0},{"$f":"-Fund!V3166","v":0},{"$f":"Fund!V3166","v":0},{"$f":"Fund!P3166","v":""}]
[null,null,null,null,null,null,null,null,null,null,null,null,{"$f":"Fund!W3167","v":"00:00:00"},{"$f":"Fund!X3167","v":0},{"$f":"-Fund!V3167","v":0},{"$f":"Fund!V3167","v":0},{"$f":"Fund!P3167","v":""}]
[null,null,null,null,null,null,null,null,null,null,null,null,{"$f":"Fund!W3168","v":"00:00:00"},{"$f":"Fund!X3168","v":0},{"$f":"-Fund!V3168","v":0},{"$f":"Fund!V3168","v":0},{"$f":"Fund!P3168","v":""}]
[null,null,null,null,null,null,null,null,null,null,null,null,{"$f":"Fund!W3169","v":"00:00:00"},{"$f":"Fund!X3169","v":0},{"$f":"-Fund!V3169","v":0},{"$f":"Fund!V3169","v":0},{"$f":"Fund!P3169","v":""}]
[null,null,null,null,null,null,null,null,null,null,null,null,{"$f":"Fund!W3170","v":"00:00:00"},{"$f":"Fund!X3170","v":0},{"$f":"-Fund!V3170","v":0},{"$f":"Fund!V3170","v":0},{"$f":"Fund!P3170","v":""}]
[null,null,null,null,null,null,null,null,null,null,null,null,{"$f":"Fund!W3171","v":"00:00:00"},{"$f":"Fund!X3171","v":0},{"$f":"-Fund!V3171","v":0},{"$f":"Fund!V3171","v":0},{"$f":"Fund!P3171","v":""}]
[null,null,null,null,null,null,null,null,null,null,null,null,{"$f":"Fund!W3172","v":"00:00:00"},{"$f":"Fund!X3172","v":0},{"$f":"-Fund!V3172","v":0},{"$f":"Fund!V3172","v":0},{"$f":"Fund!P3172","v":""}]
[null,null,null,null,null,null,null,null,null,null,null,null,{"$f":"Fund!W3173","v":"00:00:00"},{"$f":"Fund!X3173","v":0},{"$f":"-Fund!V3173","v":0},{"$f":"Fund!V3173","v":0},{"$f":"Fund!P3173","v":""}]
[null,null,null,null,null,null,null,null,null,null,null,null,{"$f":"Fund!W3174","v":"00:00:00"},{"$f":"Fund!X3174","v":0},{"$f":"-Fund!V3174","v":0},{"$f":"Fund!V3174","v":0},{"$f":"Fund!P3174","v":""}]
[null,null,null,null,null,null,null,null,null,null,null,null,{"$f":"Fund!W3175","v":"00:00:00"},{"$f":"Fund!X3175","v":0},{"$f":"-Fund!V3175","v":0},{"$f":"Fund!V3175","v":0},{"$f":"Fund!P3175","v":""}]
[null,null,null,null,null,null,null,null,null,null,null,null,{"$f":"Fund!W3176","v":"00:00:00"},{"$f":"Fund!X3176","v":0},{"$f":"-Fund!V3176","v":0},{"$f":"Fund!V3176","v":0},{"$f":"Fund!P3176","v":""}]
[null,null,null,null,null,null,null,null,null,null,null,null,{"$f":"Fund!W3177","v":"00:00:00"},{"$f":"Fund!X3177","v":0},{"$f":"-Fund!V3177","v":0},{"$f":"Fund!V3177","v":0},{"$f":"Fund!P3177","v":""}]
[null,null,null,null,null,null,null,null,null,null,null,null,{"$f":"Fund!W3178","v":"00:00:00"},{"$f":"Fund!X3178","v":0},{"$f":"-Fund!V3178","v":0},{"$f":"Fund!V3178","v":0},{"$f":"Fund!P3178","v":""}]
[null,null,null,null,null,null,null,null,null,null,null,null,{"$f":"Fund!W3179","v":"00:00:00"},{"$f":"Fund!X3179","v":0},{"$f":"-Fund!V3179","v":0},{"$f":"Fund!V3179","v":0},{"$f":"Fund!P3179","v":""}]
[null,null,null,null,null,null,null,null,null,null,null,null,{"$f":"Fund!W3180","v":"00:00:00"},{"$f":"Fund!X3180","v":0},{"$f":"-Fund!V3180","v":0},{"$f":"Fund!V3180","v":0},{"$f":"Fund!P3180","v":""}]
[null,null,null,null,null,null,null,null,null,null,null,null,{"$f":"Fund!W3181","v":"00:00:00"},{"$f":"Fund!X3181","v":0},{"$f":"-Fund!V3181","v":0},{"$f":"Fund!V3181","v":0},{"$f":"Fund!P3181","v":""}]
[null,null,null,null,null,null,null,null,null,null,null,null,{"$f":"Fund!W3182","v":"00:00:00"},{"$f":"Fund!X3182","v":0},{"$f":"-Fund!V3182","v":0},{"$f":"Fund!V3182","v":0},{"$f":"Fund!P3182","v":""}]
[null,null,null,null,null,null,null,null,null,null,null,null,{"$f":"Fund!W3183","v":"00:00:00"},{"$f":"Fund!X3183","v":0},{"$f":"-Fund!V3183","v":0},{"$f":"Fund!V3183","v":0},{"$f":"Fund!P3183","v":""}]
[null,null,null,null,null,null,null,null,null,null,null,null,{"$f":"Fund!W3184","v":"00:00:00"},{"$f":"Fund!X3184","v":0},{"$f":"-Fund!V3184","v":0},{"$f":"Fund!V3184","v":0},{"$f":"Fund!P3184","v":""}]
[null,null,null,null,null,null,null,null,null,null,null,null,{"$f":"Fund!W3185","v":"00:00:00"},{"$f":"Fund!X3185","v":0},{"$f":"-Fund!V3185","v":0},{"$f":"Fund!V3185","v":0},{"$f":"Fund!P3185","v":""}]
[null,null,null,null,null,null,null,null,null,null,null,null,{"$f":"Fund!W3186","v":"00:00:00"},{"$f":"Fund!X3186","v":0},{"$f":"-Fund!V3186","v":0},{"$f":"Fund!V3186","v":0},{"$f":"Fund!P3186","v":""}]
[null,null,null,null,null,null,null,null,null,null,null,null,{"$f":"Fund!W3187","v":"00:00:00"},{"$f":"Fund!X3187","v":0},{"$f":"-Fund!V3187","v":0},{"$f":"Fund!V3187","v":0},{"$f":"Fund!P3187","v":""}]
[null,null,null,null,null,null,null,null,null,null,null,null,{"$f":"Fund!W3188","v":"00:00:00"},{"$f":"Fund!X3188","v":0},{"$f":"-Fund!V3188","v":0},{"$f":"Fund!V3188","v":0},{"$f":"Fund!P3188","v":""}]
[null,null,null,null,null,null,null,null,null,null,null,null,{"$f":"Fund!W3189","v":"00:00:00"},{"$f":"Fund!X3189","v":0},{"$f":"-Fund!V3189","v":0},{"$f":"Fund!V3189","v":0},{"$f":"Fund!P3189","v":""}]
[null,null,null,null,null,null,null,null,null,null,null,null,{"$f":"Fund!W3190","v":"00:00:00"},{"$f":"Fund!X3190","v":0},{"$f":"-Fund!V3190","v":0},{"$f":"Fund!V3190","v":0},{"$f":"Fund!P3190","v":""}]
[null,null,null,null,null,null,null,null,null,null,null,null,{"$f":"Fund!W3191","v":"00:00:00"},{"$f":"Fund!X3191","v":0},{"$f":"-Fund!V3191","v":0},{"$f":"Fund!V3191","v":0},{"$f":"Fund!P3191","v":""}]
[null,null,null,null,null,null,null,null,null,null,null,null,{"$f":"Fund!W3192","v":"00:00:00"},{"$f":"Fund!X3192","v":0},{"$f":"-Fund!V3192","v":0},{"$f":"Fund!V3192","v":0},{"$f":"Fund!P3192","v":""}]
[null,null,null,null,null,null,null,null,null,null,null,null,{"$f":"Fund!W3193","v":"00:00:00"},{"$f":"Fund!X3193","v":0},{"$f":"-Fund!V3193","v":0},{"$f":"Fund!V3193","v":0},{"$f":"Fund!P3193","v":""}]
[null,null,null,null,null,null,null,null,null,null,null,null,{"$f":"Fund!W3194","v":"00:00:00"},{"$f":"Fund!X3194","v":0},{"$f":"-Fund!V3194","v":0},{"$f":"Fund!V3194","v":0},{"$f":"Fund!P3194","v":""}]
[null,null,null,null,null,null,null,null,null,null,null,null,{"$f":"Fund!W3195","v":"00:00:00"},{"$f":"Fund!X3195","v":0},{"$f":"-Fund!V3195","v":0},{"$f":"Fund!V3195","v":0},{"$f":"Fund!P3195","v":""}]
[null,null,null,null,null,null,null,null,null,null,null,null,{"$f":"Fund!W3196","v":"00:00:00"},{"$f":"Fund!X3196","v":0},{"$f":"-Fund!V3196","v":0},{"$f":"Fund!V3196","v":0},{"$f":"Fund!P3196","v":""}]
[null,null,null,null,null,null,null,null,null,null,null,null,{"$f":"Fund!W3197","v":"00:00:00"},{"$f":"Fund!X3197","v":0},{"$f":"-Fund!V3197","v":0},{"$f":"Fund!V3197","v":0},{"$f":"Fund!P3197","v":""}]
[null,null,null,null,null,null,null,null,null,null,null,null,{"$f":"Fund!W3198","v":"00:00:00"},{"$f":"Fund!X3198","v":0},{"$f":"-Fund!V3198","v":0},{"$f":"Fund!V3198","v":0},{"$f":"Fund!P3198","v":""}]
[null,null,null,null,null,null,null,null,null,null,null,null,{"$f":"Fund!W3199","v":"00:00:00"},{"$f":"Fund!X3199","v":0},{"$f":"-Fund!V3199","v":0},{"$f":"Fund!V3199","v":0},{"$f":"Fund!P3199","v":""}]
[null,null,null,null,null,null,null,null,null,null,null,null,{"$f":"Fund!W3200","v":"00:00:00"},{"$f":"Fund!X3200","v":0},{"$f":"-Fund!V3200","v":0},{"$f":"Fund!V3200","v":0},{"$f":"Fund!P3200","v":""}]
[null,null,null,null,null,null,null,null,null,null,null,null,{"$f":"Fund!W3201","v":"00:00:00"},{"$f":"Fund!X3201","v":0},{"$f":"-Fund!V3201","v":0},{"$f":"Fund!V3201","v":0},{"$f":"Fund!P3201","v":""}]
[null,null,null,null,null,null,null,null,null,null,null,null,{"$f":"Fund!W3202","v":"00:00:00"},{"$f":"Fund!X3202","v":0},{"$f":"-Fund!V3202","v":0},{"$f":"Fund!V3202","v":0},{"$f":"Fund!P3202","v":""}]
[null,null,null,null,null,null,null,null,null,null,null,null,{"$f":"Fund!W3203","v":"00:00:00"},{"$f":"Fund!X3203","v":0},{"$f":"-Fund!V3203","v":0},{"$f":"Fund!V3203","v":0},{"$f":"Fund!P3203","v":""}]
[null,null,null,null,null,null,null,null,null,null,null,null,{"$f":"Fund!W3204","v":"00:00:00"},{"$f":"Fund!X3204","v":0},{"$f":"-Fund!V3204","v":0},{"$f":"Fund!V3204","v":0},{"$f":"Fund!P3204","v":""}]
[null,null,null,null,null,null,null,null,null,null,null,null,{"$f":"Fund!W3205","v":"00:00:00"},{"$f":"Fund!X3205","v":0},{"$f":"-Fund!V3205","v":0},{"$f":"Fund!V3205","v":0},{"$f":"Fund!P3205","v":""}]
[null,null,null,null,null,null,null,null,null,null,null,null,{"$f":"Fund!W3206","v":"00:00:00"},{"$f":"Fund!X3206","v":0},{"$f":"-Fund!V3206","v":0},{"$f":"Fund!V3206","v":0},{"$f":"Fund!P3206","v":""}]
[null,null,null,null,null,null,null,null,null,null,null,null,{"$f":"Fund!W3207","v":"00:00:00"},{"$f":"Fund!X3207","v":0},{"$f":"-Fund!V3207","v":0},{"$f":"Fund!V3207","v":0},{"$f":"Fund!P3207","v":""}]
[null,null,null,null,null,null,null,null,null,null,null,null,{"$f":"Fund!W3208","v":"00:00:00"},{"$f":"Fund!X3208","v":0},{"$f":"-Fund!V3208","v":0},{"$f":"Fund!V3208","v":0},{"$f":"Fund!P3208","v":""}]
[null,null,null,null,null,null,null,null,null,null,null,null,{"$f":"Fund!W3209","v":"00:00:00"},{"$f":"Fund!X3209","v":0},{"$f":"-Fund!V3209","v":0},{"$f":"Fund!V3209","v":0},{"$f":"Fund!P3209","v":""}]
[null,null,null,null,null,null,null,null,null,null,null,null,{"$f":"Fund!W3210","v":"00:00:00"},{"$f":"Fund!X3210","v":0},{"$f":"-Fund!V3210","v":0},{"$f":"Fund!V3210","v":0},{"$f":"Fund!P3210","v":""}]
[null,null,null,null,null,null,null,null,null,null,null,null,{"$f":"Fund!W3211","v":"00:00:00"},{"$f":"Fund!X3211","v":0},{"$f":"-Fund!V3211","v":0},{"$f":"Fund!V3211","v":0},{"$f":"Fund!P3211","v":""}]
[null,null,null,null,null,null,null,null,null,null,null,null,{"$f":"Fund!W3212","v":"00:00:00"},{"$f":"Fund!X3212","v":0},{"$f":"-Fund!V3212","v":0},{"$f":"Fund!V3212","v":0},{"$f":"Fund!P3212","v":""}]
[null,null,null,null,null,null,null,null,null,null,null,null,{"$f":"Fund!W3213","v":"00:00:00"},{"$f":"Fund!X3213","v":0},{"$f":"-Fund!V3213","v":0},{"$f":"Fund!V3213","v":0},{"$f":"Fund!P3213","v":""}]
[null,null,null,null,null,null,null,null,null,null,null,null,{"$f":"Fund!W3214","v":"00:00:00"},{"$f":"Fund!X3214","v":0},{"$f":"-Fund!V3214","v":0},{"$f":"Fund!V3214","v":0},{"$f":"Fund!P3214","v":""}]
[null,null,null,null,null,null,null,null,null,null,null,null,{"$f":"Fund!W3215","v":"00:00:00"},{"$f":"Fund!X3215","v":0},{"$f":"-Fund!V3215","v":0},{"$f":"Fund!V3215","v":0},{"$f":"Fund!P3215","v":""}]
[null,null,null,null,null,null,null,null,null,null,null,null,{"$f":"Fund!W3216","v":"00:00:00"},{"$f":"Fund!X3216","v":0},{"$f":"-Fund!V3216","v":0},{"$f":"Fund!V3216","v":0},{"$f":"Fund!P3216","v":""}]
[null,null,null,null,null,null,null,null,null,null,null,null,{"$f":"Fund!W3217","v":"00:00:00"},{"$f":"Fund!X3217","v":0},{"$f":"-Fund!V3217","v":0},{"$f":"Fund!V3217","v":0},{"$f":"Fund!P3217","v":""}]
[null,null,null,null,null,null,null,null,null,null,null,null,{"$f":"Fund!W3218","v":"00:00:00"},{"$f":"Fund!X3218","v":0},{"$f":"-Fund!V3218","v":0},{"$f":"Fund!V3218","v":0},{"$f":"Fund!P3218","v":""}]
[null,null,null,null,null,null,null,null,null,null,null,null,{"$f":"Fund!W3219","v":"00:00:00"},{"$f":"Fund!X3219","v":0},{"$f":"-Fund!V3219","v":0},{"$f":"Fund!V3219","v":0},{"$f":"Fund!P3219","v":""}]
[null,null,null,null,null,null,null,null,null,null,null,null,{"$f":"Fund!W3220","v":"00:00:00"},{"$f":"Fund!X3220","v":0},{"$f":"-Fund!V3220","v":0},{"$f":"Fund!V3220","v":0},{"$f":"Fund!P3220","v":""}]
[null,null,null,null,null,null,null,null,null,null,null,null,{"$f":"Fund!W3221","v":"00:00:00"},{"$f":"Fund!X3221","v":0},{"$f":"-Fund!V3221","v":0},{"$f":"Fund!V3221","v":0},{"$f":"Fund!P3221","v":""}]
[null,null,null,null,null,null,null,null,null,null,null,null,{"$f":"Fund!W3222","v":"00:00:00"},{"$f":"Fund!X3222","v":0},{"$f":"-Fund!V3222","v":0},{"$f":"Fund!V3222","v":0},{"$f":"Fund!P3222","v":""}]
[null,null,null,null,null,null,null,null,null,null,null,null,{"$f":"Fund!W3223","v":"00:00:00"},{"$f":"Fund!X3223","v":0},{"$f":"-Fund!V3223","v":0},{"$f":"Fund!V3223","v":0},{"$f":"Fund!P3223","v":""}]
[null,null,null,null,null,null,null,null,null,null,null,null,{"$f":"Fund!W3224","v":"00:00:00"},{"$f":"Fund!X3224","v":0},{"$f":"-Fund!V3224","v":0},{"$f":"Fund!V3224","v":0},{"$f":"Fund!P3224","v":""}]
[null,null,null,null,null,null,null,null,null,null,null,null,{"$f":"Fund!W3225","v":"00:00:00"},{"$f":"Fund!X3225","v":0},{"$f":"-Fund!V3225","v":0},{"$f":"Fund!V3225","v":0},{"$f":"Fund!P3225","v":""}]
[null,null,null,null,null,null,null,null,null,null,null,null,{"$f":"Fund!W3226","v":"00:00:00"},{"$f":"Fund!X3226","v":0},{"$f":"-Fund!V3226","v":0},{"$f":"Fund!V3226","v":0},{"$f":"Fund!P3226","v":""}]
[null,null,null,null,null,null,null,null,null,null,null,null,{"$f":"Fund!W3227","v":"00:00:00"},{"$f":"Fund!X3227","v":0},{"$f":"-Fund!V3227","v":0},{"$f":"Fund!V3227","v":0},{"$f":"Fund!P3227","v":""}]
[null,null,null,null,null,null,null,null,null,null,null,null,{"$f":"Fund!W3228","v":"00:00:00"},{"$f":"Fund!X3228","v":0},{"$f":"-Fund!V3228","v":0},{"$f":"Fund!V3228","v":0},{"$f":"Fund!P3228","v":""}]
[null,null,null,null,null,null,null,null,null,null,null,null,{"$f":"Fund!W3229","v":"00:00:00"},{"$f":"Fund!X3229","v":0},{"$f":"-Fund!V3229","v":0},{"$f":"Fund!V3229","v":0},{"$f":"Fund!P3229","v":""}]
[null,null,null,null,null,null,null,null,null,null,null,null,{"$f":"Fund!W3230","v":"00:00:00"},{"$f":"Fund!X3230","v":0},{"$f":"-Fund!V3230","v":0},{"$f":"Fund!V3230","v":0},{"$f":"Fund!P3230","v":""}]
[null,null,null,null,null,null,null,null,null,null,null,null,{"$f":"Fund!W3231","v":"00:00:00"},{"$f":"Fund!X3231","v":0},{"$f":"-Fund!V3231","v":0},{"$f":"Fund!V3231","v":0},{"$f":"Fund!P3231","v":""}]
[null,null,null,null,null,null,null,null,null,null,null,null,{"$f":"Fund!W3232","v":"00:00:00"},{"$f":"Fund!X3232","v":0},{"$f":"-Fund!V3232","v":0},{"$f":"Fund!V3232","v":0},{"$f":"Fund!P3232","v":""}]
[null,null,null,null,null,null,null,null,null,null,null,null,{"$f":"Fund!W3233","v":"00:00:00"},{"$f":"Fund!X3233","v":0},{"$f":"-Fund!V3233","v":0},{"$f":"Fund!V3233","v":0},{"$f":"Fund!P3233","v":""}]
[null,null,null,null,null,null,null,null,null,null,null,null,{"$f":"Fund!W3234","v":"00:00:00"},{"$f":"Fund!X3234","v":0},{"$f":"-Fund!V3234","v":0},{"$f":"Fund!V3234","v":0},{"$f":"Fund!P3234","v":""}]
[null,null,null,null,null,null,null,null,null,null,null,null,{"$f":"Fund!W3235","v":"00:00:00"},{"$f":"Fund!X3235","v":0},{"$f":"-Fund!V3235","v":0},{"$f":"Fund!V3235","v":0},{"$f":"Fund!P3235","v":""}]
[null,null,null,null,null,null,null,null,null,null,null,null,{"$f":"Fund!W3236","v":"00:00:00"},{"$f":"Fund!X3236","v":0},{"$f":"-Fund!V3236","v":0},{"$f":"Fund!V3236","v":0},{"$f":"Fund!P3236","v":""}]
[null,null,null,null,null,null,null,null,null,null,null,null,{"$f":"Fund!W3237","v":"00:00:00"},{"$f":"Fund!X3237","v":0},{"$f":"-Fund!V3237","v":0},{"$f":"Fund!V3237","v":0},{"$f":"Fund!P3237","v":""}]
[null,null,null,null,null,null,null,null,null,null,null,null,{"$f":"Fund!W3238","v":"00:00:00"},{"$f":"Fund!X3238","v":0},{"$f":"-Fund!V3238","v":0},{"$f":"Fund!V3238","v":0},{"$f":"Fund!P3238","v":""}]
[null,null,null,null,null,null,null,null,null,null,null,null,{"$f":"Fund!W3239","v":"00:00:00"},{"$f":"Fund!X3239","v":0},{"$f":"-Fund!V3239","v":0},{"$f":"Fund!V3239","v":0},{"$f":"Fund!P3239","v":""}]
[null,null,null,null,null,null,null,null,null,null,null,null,{"$f":"Fund!W3240","v":"00:00:00"},{"$f":"Fund!X3240","v":0},{"$f":"-Fund!V3240","v":0},{"$f":"Fund!V3240","v":0},{"$f":"Fund!P3240","v":""}]
[null,null,null,null,null,null,null,null,null,null,null,null,{"$f":"Fund!W3241","v":"00:00:00"},{"$f":"Fund!X3241","v":0},{"$f":"-Fund!V3241","v":0},{"$f":"Fund!V3241","v":0},{"$f":"Fund!P3241","v":""}]
[null,null,null,null,null,null,null,null,null,null,null,null,{"$f":"Fund!W3242","v":"00:00:00"},{"$f":"Fund!X3242","v":0},{"$f":"-Fund!V3242","v":0},{"$f":"Fund!V3242","v":0},{"$f":"Fund!P3242","v":""}]
[null,null,null,null,null,null,null,null,null,null,null,null,{"$f":"Fund!W3243","v":"00:00:00"},{"$f":"Fund!X3243","v":0},{"$f":"-Fund!V3243","v":0},{"$f":"Fund!V3243","v":0},{"$f":"Fund!P3243","v":""}]
[null,null,null,null,null,null,null,null,null,null,null,null,{"$f":"Fund!W3244","v":"00:00:00"},{"$f":"Fund!X3244","v":0},{"$f":"-Fund!V3244","v":0},{"$f":"Fund!V3244","v":0},{"$f":"Fund!P3244","v":""}]
[null,null,null,null,null,null,null,null,null,null,null,null,{"$f":"Fund!W3245","v":"00:00:00"},{"$f":"Fund!X3245","v":0},{"$f":"-Fund!V3245","v":0},{"$f":"Fund!V3245","v":0},{"$f":"Fund!P3245","v":""}]
[null,null,null,null,null,null,null,null,null,null,null,null,{"$f":"Fund!W3246","v":"00:00:00"},{"$f":"Fund!X3246","v":0},{"$f":"-Fund!V3246","v":0},{"$f":"Fund!V3246","v":0},{"$f":"Fund!P3246","v":""}]
[null,null,null,null,null,null,null,null,null,null,null,null,{"$f":"Fund!W3247","v":"00:00:00"},{"$f":"Fund!X3247","v":0},{"$f":"-Fund!V3247","v":0},{"$f":"Fund!V3247","v":0},{"$f":"Fund!P3247","v":""}]
[null,null,null,null,null,null,null,null,null,null,null,null,{"$f":"Fund!W3248","v":"00:00:00"},{"$f":"Fund!X3248","v":0},{"$f":"-Fund!V3248","v":0},{"$f":"Fund!V3248","v":0},{"$f":"Fund!P3248","v":""}]
[null,null,null,null,null,null,null,null,null,null,null,null,{"$f":"Fund!W3249","v":"00:00:00"},{"$f":"Fund!X3249","v":0},{"$f":"-Fund!V3249","v":0},{"$f":"Fund!V3249","v":0},{"$f":"Fund!P3249","v":""}]
[null,null,null,null,null,null,null,null,null,null,null,null,{"$f":"Fund!W3250","v":"00:00:00"},{"$f":"Fund!X3250","v":0},{"$f":"-Fund!V3250","v":0},{"$f":"Fund!V3250","v":0},{"$f":"Fund!P3250","v":""}]
[null,null,null,null,null,null,null,null,null,null,null,null,{"$f":"Fund!W3251","v":"00:00:00"},{"$f":"Fund!X3251","v":0},{"$f":"-Fund!V3251","v":0},{"$f":"Fund!V3251","v":0},{"$f":"Fund!P3251","v":""}]
[null,null,null,null,null,null,null,null,null,null,null,null,{"$f":"Fund!W3252","v":"00:00:00"},{"$f":"Fund!X3252","v":0},{"$f":"-Fund!V3252","v":0},{"$f":"Fund!V3252","v":0},{"$f":"Fund!P3252","v":""}]
[null,null,null,null,null,null,null,null,null,null,null,null,{"$f":"Fund!W3253","v":"00:00:00"},{"$f":"Fund!X3253","v":0},{"$f":"-Fund!V3253","v":0},{"$f":"Fund!V3253","v":0},{"$f":"Fund!P3253","v":""}]
[null,null,null,null,null,null,null,null,null,null,null,null,{"$f":"Fund!W3254","v":"00:00:00"},{"$f":"Fund!X3254","v":0},{"$f":"-Fund!V3254","v":0},{"$f":"Fund!V3254","v":0},{"$f":"Fund!P3254","v":""}]
[null,null,null,null,null,null,null,null,null,null,null,null,{"$f":"Fund!W3255","v":"00:00:00"},{"$f":"Fund!X3255","v":0},{"$f":"-Fund!V3255","v":0},{"$f":"Fund!V3255","v":0},{"$f":"Fund!P3255","v":""}]
[null,null,null,null,null,null,null,null,null,null,null,null,{"$f":"Fund!W3256","v":"00:00:00"},{"$f":"Fund!X3256","v":0},{"$f":"-Fund!V3256","v":0},{"$f":"Fund!V3256","v":0},{"$f":"Fund!P3256","v":""}]
[null,null,null,null,null,null,null,null,null,null,null,null,{"$f":"Fund!W3257","v":"00:00:00"},{"$f":"Fund!X3257","v":0},{"$f":"-Fund!V3257","v":0},{"$f":"Fund!V3257","v":0},{"$f":"Fund!P3257","v":""}]
[null,null,null,null,null,null,null,null,null,null,null,null,{"$f":"Fund!W3258","v":"00:00:00"},{"$f":"Fund!X3258","v":0},{"$f":"-Fund!V3258","v":0},{"$f":"Fund!V3258","v":0},{"$f":"Fund!P3258","v":""}]
[null,null,null,null,null,null,null,null,null,null,null,null,{"$f":"Fund!W3259","v":"00:00:00"},{"$f":"Fund!X3259","v":0},{"$f":"-Fund!V3259","v":0},{"$f":"Fund!V3259","v":0},{"$f":"Fund!P3259","v":""}]
[null,null,null,null,null,null,null,null,null,null,null,null,{"$f":"Fund!W3260","v":"00:00:00"},{"$f":"Fund!X3260","v":0},{"$f":"-Fund!V3260","v":0},{"$f":"Fund!V3260","v":0},{"$f":"Fund!P3260","v":""}]
[null,null,null,null,null,null,null,null,null,null,null,null,{"$f":"Fund!W3261","v":"00:00:00"},{"$f":"Fund!X3261","v":0},{"$f":"-Fund!V3261","v":0},{"$f":"Fund!V3261","v":0},{"$f":"Fund!P3261","v":""}]
[null,null,null,null,null,null,null,null,null,null,null,null,{"$f":"Fund!W3262","v":"00:00:00"},{"$f":"Fund!X3262","v":0},{"$f":"-Fund!V3262","v":0},{"$f":"Fund!V3262","v":0},{"$f":"Fund!P3262","v":""}]
[null,null,null,null,null,null,null,null,null,null,null,null,{"$f":"Fund!W3263","v":"00:00:00"},{"$f":"Fund!X3263","v":0},{"$f":"-Fund!V3263","v":0},{"$f":"Fund!V3263","v":0},{"$f":"Fund!P3263","v":""}]
[null,null,null,null,null,null,null,null,null,null,null,null,{"$f":"Fund!W3264","v":"00:00:00"},{"$f":"Fund!X3264","v":0},{"$f":"-Fund!V3264","v":0},{"$f":"Fund!V3264","v":0},{"$f":"Fund!P3264","v":""}]
[null,null,null,null,null,null,null,null,null,null,null,null,{"$f":"Fund!W3265","v":"00:00:00"},{"$f":"Fund!X3265","v":0},{"$f":"-Fund!V3265","v":0},{"$f":"Fund!V3265","v":0},{"$f":"Fund!P3265","v":""}]
[null,null,null,null,null,null,null,null,null,null,null,null,{"$f":"Fund!W3266","v":"00:00:00"},{"$f":"Fund!X3266","v":0},{"$f":"-Fund!V3266","v":0},{"$f":"Fund!V3266","v":0},{"$f":"Fund!P3266","v":""}]
[null,null,null,null,null,null,null,null,null,null,null,null,{"$f":"Fund!W3267","v":"00:00:00"},{"$f":"Fund!X3267","v":0},{"$f":"-Fund!V3267","v":0},{"$f":"Fund!V3267","v":0},{"$f":"Fund!P3267","v":""}]
[null,null,null,null,null,null,null,null,null,null,null,null,{"$f":"Fund!W3268","v":"00:00:00"},{"$f":"Fund!X3268","v":0},{"$f":"-Fund!V3268","v":0},{"$f":"Fund!V3268","v":0},{"$f":"Fund!P3268","v":""}]
[null,null,null,null,null,null,null,null,null,null,null,null,{"$f":"Fund!W3269","v":"00:00:00"},{"$f":"Fund!X3269","v":0},{"$f":"-Fund!V3269","v":0},{"$f":"Fund!V3269","v":0},{"$f":"Fund!P3269","v":""}]
[null,null,null,null,null,null,null,null,null,null,null,null,{"$f":"Fund!W3270","v":"00:00:00"},{"$f":"Fund!X3270","v":0},{"$f":"-Fund!V3270","v":0},{"$f":"Fund!V3270","v":0},{"$f":"Fund!P3270","v":""}]
[null,null,null,null,null,null,null,null,null,null,null,null,{"$f":"Fund!W3271","v":"00:00:00"},{"$f":"Fund!X3271","v":0},{"$f":"-Fund!V3271","v":0},{"$f":"Fund!V3271","v":0},{"$f":"Fund!P3271","v":""}]
[null,null,null,null,null,null,null,null,null,null,null,null,{"$f":"Fund!W3272","v":"00:00:00"},{"$f":"Fund!X3272","v":0},{"$f":"-Fund!V3272","v":0},{"$f":"Fund!V3272","v":0},{"$f":"Fund!P3272","v":""}]
[null,null,null,null,null,null,null,null,null,null,null,null,{"$f":"Fund!W3273","v":"00:00:00"},{"$f":"Fund!X3273","v":0},{"$f":"-Fund!V3273","v":0},{"$f":"Fund!V3273","v":0},{"$f":"Fund!P3273","v":""}]
[null,null,null,null,null,null,null,null,null,null,null,null,{"$f":"Fund!W3274","v":"00:00:00"},{"$f":"Fund!X3274","v":0},{"$f":"-Fund!V3274","v":0},{"$f":"Fund!V3274","v":0},{"$f":"Fund!P3274","v":""}]
[null,null,null,null,null,null,null,null,null,null,null,null,{"$f":"Fund!W3275","v":"00:00:00"},{"$f":"Fund!X3275","v":0},{"$f":"-Fund!V3275","v":0},{"$f":"Fund!V3275","v":0},{"$f":"Fund!P3275","v":""}]
[null,null,null,null,null,null,null,null,null,null,null,null,{"$f":"Fund!W3276","v":"00:00:00"},{"$f":"Fund!X3276","v":0},{"$f":"-Fund!V3276","v":0},{"$f":"Fund!V3276","v":0},{"$f":"Fund!P3276","v":""}]
[null,null,null,null,null,null,null,null,null,null,null,null,{"$f":"Fund!W3277","v":"00:00:00"},{"$f":"Fund!X3277","v":0},{"$f":"-Fund!V3277","v":0},{"$f":"Fund!V3277","v":0},{"$f":"Fund!P3277","v":""}]
[null,null,null,null,null,null,null,null,null,null,null,null,{"$f":"Fund!W3278","v":"00:00:00"},{"$f":"Fund!X3278","v":0},{"$f":"-Fund!V3278","v":0},{"$f":"Fund!V3278","v":0},{"$f":"Fund!P3278","v":""}]
[null,null,null,null,null,null,null,null,null,null,null,null,{"$f":"Fund!W3279","v":"00:00:00"},{"$f":"Fund!X3279","v":0},{"$f":"-Fund!V3279","v":0},{"$f":"Fund!V3279","v":0},{"$f":"Fund!P3279","v":""}]
[null,null,null,null,null,null,null,null,null,null,null,null,{"$f":"Fund!W3280","v":"00:00:00"},{"$f":"Fund!X3280","v":0},{"$f":"-Fund!V3280","v":0},{"$f":"Fund!V3280","v":0},{"$f":"Fund!P3280","v":""}]
[null,null,null,null,null,null,null,null,null,null,null,null,{"$f":"Fund!W3281","v":"00:00:00"},{"$f":"Fund!X3281","v":0},{"$f":"-Fund!V3281","v":0},{"$f":"Fund!V3281","v":0},{"$f":"Fund!P3281","v":""}]
[null,null,null,null,null,null,null,null,null,null,null,null,{"$f":"Fund!W3282","v":"00:00:00"},{"$f":"Fund!X3282","v":0},{"$f":"-Fund!V3282","v":0},{"$f":"Fund!V3282","v":0},{"$f":"Fund!P3282","v":""}]
[null,null,null,null,null,null,null,null,null,null,null,null,{"$f":"Fund!W3283","v":"00:00:00"},{"$f":"Fund!X3283","v":0},{"$f":"-Fund!V3283","v":0},{"$f":"Fund!V3283","v":0},{"$f":"Fund!P3283","v":""}]
[null,null,null,null,null,null,null,null,null,null,null,null,{"$f":"Fund!W3284","v":"00:00:00"},{"$f":"Fund!X3284","v":0},{"$f":"-Fund!V3284","v":0},{"$f":"Fund!V3284","v":0},{"$f":"Fund!P3284","v":""}]
[null,null,null,null,null,null,null,null,null,null,null,null,{"$f":"Fund!W3285","v":"00:00:00"},{"$f":"Fund!X3285","v":0},{"$f":"-Fund!V3285","v":0},{"$f":"Fund!V3285","v":0},{"$f":"Fund!P3285","v":""}]
[null,null,null,null,null,null,null,null,null,null,null,null,{"$f":"Fund!W3286","v":"00:00:00"},{"$f":"Fund!X3286","v":0},{"$f":"-Fund!V3286","v":0},{"$f":"Fund!V3286","v":0},{"$f":"Fund!P3286","v":""}]
[null,null,null,null,null,null,null,null,null,null,null,null,{"$f":"Fund!W3287","v":"00:00:00"},{"$f":"Fund!X3287","v":0},{"$f":"-Fund!V3287","v":0},{"$f":"Fund!V3287","v":0},{"$f":"Fund!P3287","v":""}]
[null,null,null,null,null,null,null,null,null,null,null,null,{"$f":"Fund!W3288","v":"00:00:00"},{"$f":"Fund!X3288","v":0},{"$f":"-Fund!V3288","v":0},{"$f":"Fund!V3288","v":0},{"$f":"Fund!P3288","v":""}]
[null,null,null,null,null,null,null,null,null,null,null,null,{"$f":"Fund!W3289","v":"00:00:00"},{"$f":"Fund!X3289","v":0},{"$f":"-Fund!V3289","v":0},{"$f":"Fund!V3289","v":0},{"$f":"Fund!P3289","v":""}]
[null,null,null,null,null,null,null,null,null,null,null,null,{"$f":"Fund!W3290","v":"00:00:00"},{"$f":"Fund!X3290","v":0},{"$f":"-Fund!V3290","v":0},{"$f":"Fund!V3290","v":0},{"$f":"Fund!P3290","v":""}]
[null,null,null,null,null,null,null,null,null,null,null,null,{"$f":"Fund!W3291","v":"00:00:00"},{"$f":"Fund!X3291","v":0},{"$f":"-Fund!V3291","v":0},{"$f":"Fund!V3291","v":0},{"$f":"Fund!P3291","v":""}]
[null,null,null,null,null,null,null,null,null,null,null,null,{"$f":"Fund!W3292","v":"00:00:00"},{"$f":"Fund!X3292","v":0},{"$f":"-Fund!V3292","v":0},{"$f":"Fund!V3292","v":0},{"$f":"Fund!P3292","v":""}]
[null,null,null,null,null,null,null,null,null,null,null,null,{"$f":"Fund!W3293","v":"00:00:00"},{"$f":"Fund!X3293","v":0},{"$f":"-Fund!V3293","v":0},{"$f":"Fund!V3293","v":0},{"$f":"Fund!P3293","v":""}]
[null,null,null,null,null,null,null,null,null,null,null,null,{"$f":"Fund!W3294","v":"00:00:00"},{"$f":"Fund!X3294","v":0},{"$f":"-Fund!V3294","v":0},{"$f":"Fund!V3294","v":0},{"$f":"Fund!P3294","v":""}]
[null,null,null,null,null,null,null,null,null,null,null,null,{"$f":"Fund!W3295","v":"00:00:00"},{"$f":"Fund!X3295","v":0},{"$f":"-Fund!V3295","v":0},{"$f":"Fund!V3295","v":0},{"$f":"Fund!P3295","v":""}]
[null,null,null,null,null,null,null,null,null,null,null,null,{"$f":"Fund!W3296","v":"00:00:00"},{"$f":"Fund!X3296","v":0},{"$f":"-Fund!V3296","v":0},{"$f":"Fund!V3296","v":0},{"$f":"Fund!P3296","v":""}]
[null,null,null,null,null,null,null,null,null,null,null,null,{"$f":"Fund!W3297","v":"00:00:00"},{"$f":"Fund!X3297","v":0},{"$f":"-Fund!V3297","v":0},{"$f":"Fund!V3297","v":0},{"$f":"Fund!P3297","v":""}]
[null,null,null,null,null,null,null,null,null,null,null,null,{"$f":"Fund!W3298","v":"00:00:00"},{"$f":"Fund!X3298","v":0},{"$f":"-Fund!V3298","v":0},{"$f":"Fund!V3298","v":0},{"$f":"Fund!P3298","v":""}]
[null,null,null,null,null,null,null,null,null,null,null,null,{"$f":"Fund!W3299","v":"00:00:00"},{"$f":"Fund!X3299","v":0},{"$f":"-Fund!V3299","v":0},{"$f":"Fund!V3299","v":0},{"$f":"Fund!P3299","v":""}]
[null,null,null,null,null,null,null,null,null,null,null,null,{"$f":"Fund!W3300","v":"00:00:00"},{"$f":"Fund!X3300","v":0},{"$f":"-Fund!V3300","v":0},{"$f":"Fund!V3300","v":0},{"$f":"Fund!P3300","v":""}]
[null,null,null,null,null,null,null,null,null,null,null,null,{"$f":"Fund!W3301","v":"00:00:00"},{"$f":"Fund!X3301","v":0},{"$f":"-Fund!V3301","v":0},{"$f":"Fund!V3301","v":0},{"$f":"Fund!P3301","v":""}]
[null,null,null,null,null,null,null,null,null,null,null,null,{"$f":"Fund!W3302","v":"00:00:00"},{"$f":"Fund!X3302","v":0},{"$f":"-Fund!V3302","v":0},{"$f":"Fund!V3302","v":0},{"$f":"Fund!P3302","v":""}]
[null,null,null,null,null,null,null,null,null,null,null,null,{"$f":"Fund!W3303","v":"00:00:00"},{"$f":"Fund!X3303","v":0},{"$f":"-Fund!V3303","v":0},{"$f":"Fund!V3303","v":0},{"$f":"Fund!P3303","v":""}]
[null,null,null,null,null,null,null,null,null,null,null,null,{"$f":"Fund!W3304","v":"00:00:00"},{"$f":"Fund!X3304","v":0},{"$f":"-Fund!V3304","v":0},{"$f":"Fund!V3304","v":0},{"$f":"Fund!P3304","v":""}]
[null,null,null,null,null,null,null,null,null,null,null,null,{"$f":"Fund!W3305","v":"00:00:00"},{"$f":"Fund!X3305","v":0},{"$f":"-Fund!V3305","v":0},{"$f":"Fund!V3305","v":0},{"$f":"Fund!P3305","v":""}]
[null,null,null,null,null,null,null,null,null,null,null,null,{"$f":"Fund!W3306","v":"00:00:00"},{"$f":"Fund!X3306","v":0},{"$f":"-Fund!V3306","v":0},{"$f":"Fund!V3306","v":0},{"$f":"Fund!P3306","v":""}]
[null,null,null,null,null,null,null,null,null,null,null,null,{"$f":"Fund!W3307","v":"00:00:00"},{"$f":"Fund!X3307","v":0},{"$f":"-Fund!V3307","v":0},{"$f":"Fund!V3307","v":0},{"$f":"Fund!P3307","v":""}]
[null,null,null,null,null,null,null,null,null,null,null,null,{"$f":"Fund!W3308","v":"00:00:00"},{"$f":"Fund!X3308","v":0},{"$f":"-Fund!V3308","v":0},{"$f":"Fund!V3308","v":0},{"$f":"Fund!P3308","v":""}]
[null,null,null,null,null,null,null,null,null,null,null,null,{"$f":"Fund!W3309","v":"00:00:00"},{"$f":"Fund!X3309","v":0},{"$f":"-Fund!V3309","v":0},{"$f":"Fund!V3309","v":0},{"$f":"Fund!P3309","v":""}]
[null,null,null,null,null,null,null,null,null,null,null,null,{"$f":"Fund!W3310","v":"00:00:00"},{"$f":"Fund!X3310","v":0},{"$f":"-Fund!V3310","v":0},{"$f":"Fund!V3310","v":0},{"$f":"Fund!P3310","v":""}]
[null,null,null,null,null,null,null,null,null,null,null,null,{"$f":"Fund!W3311","v":"00:00:00"},{"$f":"Fund!X3311","v":0},{"$f":"-Fund!V3311","v":0},{"$f":"Fund!V3311","v":0},{"$f":"Fund!P3311","v":""}]
[null,null,null,null,null,null,null,null,null,null,null,null,{"$f":"Fund!W3312","v":"00:00:00"},{"$f":"Fund!X3312","v":0},{"$f":"-Fund!V3312","v":0},{"$f":"Fund!V3312","v":0},{"$f":"Fund!P3312","v":""}]
[null,null,null,null,null,null,null,null,null,null,null,null,{"$f":"Fund!W3313","v":"00:00:00"},{"$f":"Fund!X3313","v":0},{"$f":"-Fund!V3313","v":0},{"$f":"Fund!V3313","v":0},{"$f":"Fund!P3313","v":""}]
[null,null,null,null,null,null,null,null,null,null,null,null,{"$f":"Fund!W3314","v":"00:00:00"},{"$f":"Fund!X3314","v":0},{"$f":"-Fund!V3314","v":0},{"$f":"Fund!V3314","v":0},{"$f":"Fund!P3314","v":""}]
[null,null,null,null,null,null,null,null,null,null,null,null,{"$f":"Fund!W3315","v":"00:00:00"},{"$f":"Fund!X3315","v":0},{"$f":"-Fund!V3315","v":0},{"$f":"Fund!V3315","v":0},{"$f":"Fund!P3315","v":""}]
[null,null,null,null,null,null,null,null,null,null,null,null,{"$f":"Fund!W3316","v":"00:00:00"},{"$f":"Fund!X3316","v":0},{"$f":"-Fund!V3316","v":0},{"$f":"Fund!V3316","v":0},{"$f":"Fund!P3316","v":""}]
[null,null,null,null,null,null,null,null,null,null,null,null,{"$f":"Fund!W3317","v":"00:00:00"},{"$f":"Fund!X3317","v":0},{"$f":"-Fund!V3317","v":0},{"$f":"Fund!V3317","v":0},{"$f":"Fund!P3317","v":""}]
[null,null,null,null,null,null,null,null,null,null,null,null,{"$f":"Fund!W3318","v":"00:00:00"},{"$f":"Fund!X3318","v":0},{"$f":"-Fund!V3318","v":0},{"$f":"Fund!V3318","v":0},{"$f":"Fund!P3318","v":""}]
[null,null,null,null,null,null,null,null,null,null,null,null,{"$f":"Fund!W3319","v":"00:00:00"},{"$f":"Fund!X3319","v":0},{"$f":"-Fund!V3319","v":0},{"$f":"Fund!V3319","v":0},{"$f":"Fund!P3319","v":""}]
[null,null,null,null,null,null,null,null,null,null,null,null,{"$f":"Fund!W3320","v":"00:00:00"},{"$f":"Fund!X3320","v":0},{"$f":"-Fund!V3320","v":0},{"$f":"Fund!V3320","v":0},{"$f":"Fund!P3320","v":""}]
[null,null,null,null,null,null,null,null,null,null,null,null,{"$f":"Fund!W3321","v":"00:00:00"},{"$f":"Fund!X3321","v":0},{"$f":"-Fund!V3321","v":0},{"$f":"Fund!V3321","v":0},{"$f":"Fund!P3321","v":""}]
[null,null,null,null,null,null,null,null,null,null,null,null,{"$f":"Fund!W3322","v":"00:00:00"},{"$f":"Fund!X3322","v":0},{"$f":"-Fund!V3322","v":0},{"$f":"Fund!V3322","v":0},{"$f":"Fund!P3322","v":""}]
[null,null,null,null,null,null,null,null,null,null,null,null,{"$f":"Fund!W3323","v":"00:00:00"},{"$f":"Fund!X3323","v":0},{"$f":"-Fund!V3323","v":0},{"$f":"Fund!V3323","v":0},{"$f":"Fund!P3323","v":""}]
[null,null,null,null,null,null,null,null,null,null,null,null,{"$f":"Fund!W3324","v":"00:00:00"},{"$f":"Fund!X3324","v":0},{"$f":"-Fund!V3324","v":0},{"$f":"Fund!V3324","v":0},{"$f":"Fund!P3324","v":""}]
[null,null,null,null,null,null,null,null,null,null,null,null,{"$f":"Fund!W3325","v":"00:00:00"},{"$f":"Fund!X3325","v":0},{"$f":"-Fund!V3325","v":0},{"$f":"Fund!V3325","v":0},{"$f":"Fund!P3325","v":""}]
[null,null,null,null,null,null,null,null,null,null,null,null,{"$f":"Fund!W3326","v":"00:00:00"},{"$f":"Fund!X3326","v":0},{"$f":"-Fund!V3326","v":0},{"$f":"Fund!V3326","v":0},{"$f":"Fund!P3326","v":""}]
[null,null,null,null,null,null,null,null,null,null,null,null,{"$f":"Fund!W3327","v":"00:00:00"},{"$f":"Fund!X3327","v":0},{"$f":"-Fund!V3327","v":0},{"$f":"Fund!V3327","v":0},{"$f":"Fund!P3327","v":""}]
[null,null,null,null,null,null,null,null,null,null,null,null,{"$f":"Fund!W3328","v":"00:00:00"},{"$f":"Fund!X3328","v":0},{"$f":"-Fund!V3328","v":0},{"$f":"Fund!V3328","v":0},{"$f":"Fund!P3328","v":""}]
[null,null,null,null,null,null,null,null,null,null,null,null,{"$f":"Fund!W3329","v":"00:00:00"},{"$f":"Fund!X3329","v":0},{"$f":"-Fund!V3329","v":0},{"$f":"Fund!V3329","v":0},{"$f":"Fund!P3329","v":""}]
[null,null,null,null,null,null,null,null,null,null,null,null,{"$f":"Fund!W3330","v":"00:00:00"},{"$f":"Fund!X3330","v":0},{"$f":"-Fund!V3330","v":0},{"$f":"Fund!V3330","v":0},{"$f":"Fund!P3330","v":""}]
[null,null,null,null,null,null,null,null,null,null,null,null,{"$f":"Fund!W3331","v":"00:00:00"},{"$f":"Fund!X3331","v":0},{"$f":"-Fund!V3331","v":0},{"$f":"Fund!V3331","v":0},{"$f":"Fund!P3331","v":""}]
[null,null,null,null,null,null,null,null,null,null,null,null,{"$f":"Fund!W3332","v":"00:00:00"},{"$f":"Fund!X3332","v":0},{"$f":"-Fund!V3332","v":0},{"$f":"Fund!V3332","v":0},{"$f":"Fund!P3332","v":""}]
[null,null,null,null,null,null,null,null,null,null,null,null,{"$f":"Fund!W3333","v":"00:00:00"},{"$f":"Fund!X3333","v":0},{"$f":"-Fund!V3333","v":0},{"$f":"Fund!V3333","v":0},{"$f":"Fund!P3333","v":""}]
[null,null,null,null,null,null,null,null,null,null,null,null,{"$f":"Fund!W3334","v":"00:00:00"},{"$f":"Fund!X3334","v":0},{"$f":"-Fund!V3334","v":0},{"$f":"Fund!V3334","v":0},{"$f":"Fund!P3334","v":""}]
[null,null,null,null,null,null,null,null,null,null,null,null,{"$f":"Fund!W3335","v":"00:00:00"},{"$f":"Fund!X3335","v":0},{"$f":"-Fund!V3335","v":0},{"$f":"Fund!V3335","v":0},{"$f":"Fund!P3335","v":""}]
[null,null,null,null,null,null,null,null,null,null,null,null,{"$f":"Fund!W3336","v":"00:00:00"},{"$f":"Fund!X3336","v":0},{"$f":"-Fund!V3336","v":0},{"$f":"Fund!V3336","v":0},{"$f":"Fund!P3336","v":""}]
[null,null,null,null,null,null,null,null,null,null,null,null,{"$f":"Fund!W3337","v":"00:00:00"},{"$f":"Fund!X3337","v":0},{"$f":"-Fund!V3337","v":0},{"$f":"Fund!V3337","v":0},{"$f":"Fund!P3337","v":""}]
[null,null,null,null,null,null,null,null,null,null,null,null,{"$f":"Fund!W3338","v":"00:00:00"},{"$f":"Fund!X3338","v":0},{"$f":"-Fund!V3338","v":0},{"$f":"Fund!V3338","v":0},{"$f":"Fund!P3338","v":""}]
[null,null,null,null,null,null,null,null,null,null,null,null,{"$f":"Fund!W3339","v":"00:00:00"},{"$f":"Fund!X3339","v":0},{"$f":"-Fund!V3339","v":0},{"$f":"Fund!V3339","v":0},{"$f":"Fund!P3339","v":""}]
[null,null,null,null,null,null,null,null,null,null,null,null,{"$f":"Fund!W3340","v":"00:00:00"},{"$f":"Fund!X3340","v":0},{"$f":"-Fund!V3340","v":0},{"$f":"Fund!V3340","v":0},{"$f":"Fund!P3340","v":""}]
[null,null,null,null,null,null,null,null,null,null,null,null,{"$f":"Fund!W3341","v":"00:00:00"},{"$f":"Fund!X3341","v":0},{"$f":"-Fund!V3341","v":0},{"$f":"Fund!V3341","v":0},{"$f":"Fund!P3341","v":""}]
[null,null,null,null,null,null,null,null,null,null,null,null,{"$f":"Fund!W3342","v":"00:00:00"},{"$f":"Fund!X3342","v":0},{"$f":"-Fund!V3342","v":0},{"$f":"Fund!V3342","v":0},{"$f":"Fund!P3342","v":""}]
[null,null,null,null,null,null,null,null,null,null,null,null,{"$f":"Fund!W3343","v":"00:00:00"},{"$f":"Fund!X3343","v":0},{"$f":"-Fund!V3343","v":0},{"$f":"Fund!V3343","v":0},{"$f":"Fund!P3343","v":""}]
[null,null,null,null,null,null,null,null,null,null,null,null,{"$f":"Fund!W3344","v":"00:00:00"},{"$f":"Fund!X3344","v":0},{"$f":"-Fund!V3344","v":0},{"$f":"Fund!V3344","v":0},{"$f":"Fund!P3344","v":""}]
[null,null,null,null,null,null,null,null,null,null,null,null,{"$f":"Fund!W3345","v":"00:00:00"},{"$f":"Fund!X3345","v":0},{"$f":"-Fund!V3345","v":0},{"$f":"Fund!V3345","v":0},{"$f":"Fund!P3345","v":""}]
[null,null,null,null,null,null,null,null,null,null,null,null,{"$f":"Fund!W3346","v":"00:00:00"},{"$f":"Fund!X3346","v":0},{"$f":"-Fund!V3346","v":0},{"$f":"Fund!V3346","v":0},{"$f":"Fund!P3346","v":""}]
[null,null,null,null,null,null,null,null,null,null,null,null,{"$f":"Fund!W3347","v":"00:00:00"},{"$f":"Fund!X3347","v":0},{"$f":"-Fund!V3347","v":0},{"$f":"Fund!V3347","v":0},{"$f":"Fund!P3347","v":""}]
[null,null,null,null,null,null,null,null,null,null,null,null,{"$f":"Fund!W3348","v":"00:00:00"},{"$f":"Fund!X3348","v":0},{"$f":"-Fund!V3348","v":0},{"$f":"Fund!V3348","v":0},{"$f":"Fund!P3348","v":""}]
[null,null,null,null,null,null,null,null,null,null,null,null,{"$f":"Fund!W3349","v":"00:00:00"},{"$f":"Fund!X3349","v":0},{"$f":"-Fund!V3349","v":0},{"$f":"Fund!V3349","v":0},{"$f":"Fund!P3349","v":""}]
[null,null,null,null,null,null,null,null,null,null,null,null,{"$f":"Fund!W3350","v":"00:00:00"},{"$f":"Fund!X3350","v":0},{"$f":"-Fund!V3350","v":0},{"$f":"Fund!V3350","v":0},{"$f":"Fund!P3350","v":""}]
[null,null,null,null,null,null,null,null,null,null,null,null,{"$f":"Fund!W3351","v":"00:00:00"},{"$f":"Fund!X3351","v":0},{"$f":"-Fund!V3351","v":0},{"$f":"Fund!V3351","v":0},{"$f":"Fund!P3351","v":""}]
[null,null,null,null,null,null,null,null,null,null,null,null,{"$f":"Fund!W3352","v":"00:00:00"},{"$f":"Fund!X3352","v":0},{"$f":"-Fund!V3352","v":0},{"$f":"Fund!V3352","v":0},{"$f":"Fund!P3352","v":""}]
[null,null,null,null,null,null,null,null,null,null,null,null,{"$f":"Fund!W3353","v":"00:00:00"},{"$f":"Fund!X3353","v":0},{"$f":"-Fund!V3353","v":0},{"$f":"Fund!V3353","v":0},{"$f":"Fund!P3353","v":""}]
[null,null,null,null,null,null,null,null,null,null,null,null,{"$f":"Fund!W3354","v":"00:00:00"},{"$f":"Fund!X3354","v":0},{"$f":"-Fund!V3354","v":0},{"$f":"Fund!V3354","v":0},{"$f":"Fund!P3354","v":""}]
[null,null,null,null,null,null,null,null,null,null,null,null,{"$f":"Fund!W3355","v":"00:00:00"},{"$f":"Fund!X3355","v":0},{"$f":"-Fund!V3355","v":0},{"$f":"Fund!V3355","v":0},{"$f":"Fund!P3355","v":""}]
[null,null,null,null,null,null,null,null,null,null,null,null,{"$f":"Fund!W3356","v":"00:00:00"},{"$f":"Fund!X3356","v":0},{"$f":"-Fund!V3356","v":0},{"$f":"Fund!V3356","v":0},{"$f":"Fund!P3356","v":""}]
[null,null,null,null,null,null,null,null,null,null,null,null,{"$f":"Fund!W3357","v":"00:00:00"},{"$f":"Fund!X3357","v":0},{"$f":"-Fund!V3357","v":0},{"$f":"Fund!V3357","v":0},{"$f":"Fund!P3357","v":""}]
[null,null,null,null,null,null,null,null,null,null,null,null,{"$f":"Fund!W3358","v":"00:00:00"},{"$f":"Fund!X3358","v":0},{"$f":"-Fund!V3358","v":0},{"$f":"Fund!V3358","v":0},{"$f":"Fund!P3358","v":""}]
[null,null,null,null,null,null,null,null,null,null,null,null,{"$f":"Fund!W3359","v":"00:00:00"},{"$f":"Fund!X3359","v":0},{"$f":"-Fund!V3359","v":0},{"$f":"Fund!V3359","v":0},{"$f":"Fund!P3359","v":""}]
[null,null,null,null,null,null,null,null,null,null,null,null,{"$f":"Fund!W3360","v":"00:00:00"},{"$f":"Fund!X3360","v":0},{"$f":"-Fund!V3360","v":0},{"$f":"Fund!V3360","v":0},{"$f":"Fund!P3360","v":""}]
[null,null,null,null,null,null,null,null,null,null,null,null,{"$f":"Fund!W3361","v":"00:00:00"},{"$f":"Fund!X3361","v":0},{"$f":"-Fund!V3361","v":0},{"$f":"Fund!V3361","v":0},{"$f":"Fund!P3361","v":""}]
[null,null,null,null,null,null,null,null,null,null,null,null,{"$f":"Fund!W3362","v":"00:00:00"},{"$f":"Fund!X3362","v":0},{"$f":"-Fund!V3362","v":0},{"$f":"Fund!V3362","v":0},{"$f":"Fund!P3362","v":""}]
[null,null,null,null,null,null,null,null,null,null,null,null,{"$f":"Fund!W3363","v":"00:00:00"},{"$f":"Fund!X3363","v":0},{"$f":"-Fund!V3363","v":0},{"$f":"Fund!V3363","v":0},{"$f":"Fund!P3363","v":""}]
[null,null,null,null,null,null,null,null,null,null,null,null,{"$f":"Fund!W3364","v":"00:00:00"},{"$f":"Fund!X3364","v":0},{"$f":"-Fund!V3364","v":0},{"$f":"Fund!V3364","v":0},{"$f":"Fund!P3364","v":""}]
[null,null,null,null,null,null,null,null,null,null,null,null,{"$f":"Fund!W3365","v":"00:00:00"},{"$f":"Fund!X3365","v":0},{"$f":"-Fund!V3365","v":0},{"$f":"Fund!V3365","v":0},{"$f":"Fund!P3365","v":""}]
[null,null,null,null,null,null,null,null,null,null,null,null,{"$f":"Fund!W3366","v":"00:00:00"},{"$f":"Fund!X3366","v":0},{"$f":"-Fund!V3366","v":0},{"$f":"Fund!V3366","v":0},{"$f":"Fund!P3366","v":""}]
[null,null,null,null,null,null,null,null,null,null,null,null,{"$f":"Fund!W3367","v":"00:00:00"},{"$f":"Fund!X3367","v":0},{"$f":"-Fund!V3367","v":0},{"$f":"Fund!V3367","v":0},{"$f":"Fund!P3367","v":""}]
[null,null,null,null,null,null,null,null,null,null,null,null,{"$f":"Fund!W3368","v":"00:00:00"},{"$f":"Fund!X3368","v":0},{"$f":"-Fund!V3368","v":0},{"$f":"Fund!V3368","v":0},{"$f":"Fund!P3368","v":""}]
[null,null,null,null,null,null,null,null,null,null,null,null,{"$f":"Fund!W3369","v":"00:00:00"},{"$f":"Fund!X3369","v":0},{"$f":"-Fund!V3369","v":0},{"$f":"Fund!V3369","v":0},{"$f":"Fund!P3369","v":""}]
[null,null,null,null,null,null,null,null,null,null,null,null,{"$f":"Fund!W3370","v":"00:00:00"},{"$f":"Fund!X3370","v":0},{"$f":"-Fund!V3370","v":0},{"$f":"Fund!V3370","v":0},{"$f":"Fund!P3370","v":""}]
[null,null,null,null,null,null,null,null,null,null,null,null,{"$f":"Fund!W3371","v":"00:00:00"},{"$f":"Fund!X3371","v":0},{"$f":"-Fund!V3371","v":0},{"$f":"Fund!V3371","v":0},{"$f":"Fund!P3371","v":""}]
[null,null,null,null,null,null,null,null,null,null,null,null,{"$f":"Fund!W3372","v":"00:00:00"},{"$f":"Fund!X3372","v":0},{"$f":"-Fund!V3372","v":0},{"$f":"Fund!V3372","v":0},{"$f":"Fund!P3372","v":""}]
[null,null,null,null,null,null,null,null,null,null,null,null,{"$f":"Fund!W3373","v":"00:00:00"},{"$f":"Fund!X3373","v":0},{"$f":"-Fund!V3373","v":0},{"$f":"Fund!V3373","v":0},{"$f":"Fund!P3373","v":""}]
[null,null,null,null,null,null,null,null,null,null,null,null,{"$f":"Fund!W3374","v":"00:00:00"},{"$f":"Fund!X3374","v":0},{"$f":"-Fund!V3374","v":0},{"$f":"Fund!V3374","v":0},{"$f":"Fund!P3374","v":""}]
[null,null,null,null,null,null,null,null,null,null,null,null,{"$f":"Fund!W3375","v":"00:00:00"},{"$f":"Fund!X3375","v":0},{"$f":"-Fund!V3375","v":0},{"$f":"Fund!V3375","v":0},{"$f":"Fund!P3375","v":""}]
[null,null,null,null,null,null,null,null,null,null,null,null,{"$f":"Fund!W3376","v":"00:00:00"},{"$f":"Fund!X3376","v":0},{"$f":"-Fund!V3376","v":0},{"$f":"Fund!V3376","v":0},{"$f":"Fund!P3376","v":""}]
[null,null,null,null,null,null,null,null,null,null,null,null,{"$f":"Fund!W3377","v":"00:00:00"},{"$f":"Fund!X3377","v":0},{"$f":"-Fund!V3377","v":0},{"$f":"Fund!V3377","v":0},{"$f":"Fund!P3377","v":""}]
[null,null,null,null,null,null,null,null,null,null,null,null,{"$f":"Fund!W3378","v":"00:00:00"},{"$f":"Fund!X3378","v":0},{"$f":"-Fund!V3378","v":0},{"$f":"Fund!V3378","v":0},{"$f":"Fund!P3378","v":""}]
[null,null,null,null,null,null,null,null,null,null,null,null,{"$f":"Fund!W3379","v":"00:00:00"},{"$f":"Fund!X3379","v":0},{"$f":"-Fund!V3379","v":0},{"$f":"Fund!V3379","v":0},{"$f":"Fund!P3379","v":""}]
[null,null,null,null,null,null,null,null,null,null,null,null,{"$f":"Fund!W3380","v":"00:00:00"},{"$f":"Fund!X3380","v":0},{"$f":"-Fund!V3380","v":0},{"$f":"Fund!V3380","v":0},{"$f":"Fund!P3380","v":""}]
[null,null,null,null,null,null,null,null,null,null,null,null,{"$f":"Fund!W3381","v":"00:00:00"},{"$f":"Fund!X3381","v":0},{"$f":"-Fund!V3381","v":0},{"$f":"Fund!V3381","v":0},{"$f":"Fund!P3381","v":""}]
[null,null,null,null,null,null,null,null,null,null,null,null,{"$f":"Fund!W3382","v":"00:00:00"},{"$f":"Fund!X3382","v":0},{"$f":"-Fund!V3382","v":0},{"$f":"Fund!V3382","v":0},{"$f":"Fund!P3382","v":""}]
[null,null,null,null,null,null,null,null,null,null,null,null,{"$f":"Fund!W3383","v":"00:00:00"},{"$f":"Fund!X3383","v":0},{"$f":"-Fund!V3383","v":0},{"$f":"Fund!V3383","v":0},{"$f":"Fund!P3383","v":""}]
[null,null,null,null,null,null,null,null,null,null,null,null,{"$f":"Fund!W3384","v":"00:00:00"},{"$f":"Fund!X3384","v":0},{"$f":"-Fund!V3384","v":0},{"$f":"Fund!V3384","v":0},{"$f":"Fund!P3384","v":""}]
[null,null,null,null,null,null,null,null,null,null,null,null,{"$f":"Fund!W3385","v":"00:00:00"},{"$f":"Fund!X3385","v":0},{"$f":"-Fund!V3385","v":0},{"$f":"Fund!V3385","v":0},{"$f":"Fund!P3385","v":""}]
[null,null,null,null,null,null,null,null,null,null,null,null,{"$f":"Fund!W3386","v":"00:00:00"},{"$f":"Fund!X3386","v":0},{"$f":"-Fund!V3386","v":0},{"$f":"Fund!V3386","v":0},{"$f":"Fund!P3386","v":""}]
[null,null,null,null,null,null,null,null,null,null,null,null,{"$f":"Fund!W3387","v":"00:00:00"},{"$f":"Fund!X3387","v":0},{"$f":"-Fund!V3387","v":0},{"$f":"Fund!V3387","v":0},{"$f":"Fund!P3387","v":""}]
[null,null,null,null,null,null,null,null,null,null,null,null,{"$f":"Fund!W3388","v":"00:00:00"},{"$f":"Fund!X3388","v":0},{"$f":"-Fund!V3388","v":0},{"$f":"Fund!V3388","v":0},{"$f":"Fund!P3388","v":""}]
[null,null,null,null,null,null,null,null,null,null,null,null,{"$f":"Fund!W3389","v":"00:00:00"},{"$f":"Fund!X3389","v":0},{"$f":"-Fund!V3389","v":0},{"$f":"Fund!V3389","v":0},{"$f":"Fund!P3389","v":""}]
[null,null,null,null,null,null,null,null,null,null,null,null,{"$f":"Fund!W3390","v":"00:00:00"},{"$f":"Fund!X3390","v":0},{"$f":"-Fund!V3390","v":0},{"$f":"Fund!V3390","v":0},{"$f":"Fund!P3390","v":""}]
[null,null,null,null,null,null,null,null,null,null,null,null,{"$f":"Fund!W3391","v":"00:00:00"},{"$f":"Fund!X3391","v":0},{"$f":"-Fund!V3391","v":0},{"$f":"Fund!V3391","v":0},{"$f":"Fund!P3391","v":""}]
[null,null,null,null,null,null,null,null,null,null,null,null,{"$f":"Fund!W3392","v":"00:00:00"},{"$f":"Fund!X3392","v":0},{"$f":"-Fund!V3392","v":0},{"$f":"Fund!V3392","v":0},{"$f":"Fund!P3392","v":""}]
[null,null,null,null,null,null,null,null,null,null,null,null,{"$f":"Fund!W3393","v":"00:00:00"},{"$f":"Fund!X3393","v":0},{"$f":"-Fund!V3393","v":0},{"$f":"Fund!V3393","v":0},{"$f":"Fund!P3393","v":""}]
[null,null,null,null,null,null,null,null,null,null,null,null,{"$f":"Fund!W3394","v":"00:00:00"},{"$f":"Fund!X3394","v":0},{"$f":"-Fund!V3394","v":0},{"$f":"Fund!V3394","v":0},{"$f":"Fund!P3394","v":""}]
[null,null,null,null,null,null,null,null,null,null,null,null,{"$f":"Fund!W3395","v":"00:00:00"},{"$f":"Fund!X3395","v":0},{"$f":"-Fund!V3395","v":0},{"$f":"Fund!V3395","v":0},{"$f":"Fund!P3395","v":""}]
[null,null,null,null,null,null,null,null,null,null,null,null,{"$f":"Fund!W3396","v":"00:00:00"},{"$f":"Fund!X3396","v":0},{"$f":"-Fund!V3396","v":0},{"$f":"Fund!V3396","v":0},{"$f":"Fund!P3396","v":""}]
[null,null,null,null,null,null,null,null,null,null,null,null,{"$f":"Fund!W3397","v":"00:00:00"},{"$f":"Fund!X3397","v":0},{"$f":"-Fund!V3397","v":0},{"$f":"Fund!V3397","v":0},{"$f":"Fund!P3397","v":""}]
[null,null,null,null,null,null,null,null,null,null,null,null,{"$f":"Fund!W3398","v":"00:00:00"},{"$f":"Fund!X3398","v":0},{"$f":"-Fund!V3398","v":0},{"$f":"Fund!V3398","v":0},{"$f":"Fund!P3398","v":""}]
[null,null,null,null,null,null,null,null,null,null,null,null,{"$f":"Fund!W3399","v":"00:00:00"},{"$f":"Fund!X3399","v":0},{"$f":"-Fund!V3399","v":0},{"$f":"Fund!V3399","v":0},{"$f":"Fund!P3399","v":""}]
[null,null,null,null,null,null,null,null,null,null,null,null,{"$f":"Fund!W3400","v":"00:00:00"},{"$f":"Fund!X3400","v":0},{"$f":"-Fund!V3400","v":0},{"$f":"Fund!V3400","v":0},{"$f":"Fund!P3400","v":""}]
[null,null,null,null,null,null,null,null,null,null,null,null,{"$f":"Fund!W3401","v":"00:00:00"},{"$f":"Fund!X3401","v":0},{"$f":"-Fund!V3401","v":0},{"$f":"Fund!V3401","v":0},{"$f":"Fund!P3401","v":""}]
[null,null,null,null,null,null,null,null,null,null,null,null,{"$f":"Fund!W3402","v":"00:00:00"},{"$f":"Fund!X3402","v":0},{"$f":"-Fund!V3402","v":0},{"$f":"Fund!V3402","v":0},{"$f":"Fund!P3402","v":""}]
[null,null,null,null,null,null,null,null,null,null,null,null,{"$f":"Fund!W3403","v":"00:00:00"},{"$f":"Fund!X3403","v":0},{"$f":"-Fund!V3403","v":0},{"$f":"Fund!V3403","v":0},{"$f":"Fund!P3403","v":""}]
[null,null,null,null,null,null,null,null,null,null,null,null,{"$f":"Fund!W3404","v":"00:00:00"},{"$f":"Fund!X3404","v":0},{"$f":"-Fund!V3404","v":0},{"$f":"Fund!V3404","v":0},{"$f":"Fund!P3404","v":""}]
[null,null,null,null,null,null,null,null,null,null,null,null,{"$f":"Fund!W3405","v":"00:00:00"},{"$f":"Fund!X3405","v":0},{"$f":"-Fund!V3405","v":0},{"$f":"Fund!V3405","v":0},{"$f":"Fund!P3405","v":""}]
[null,null,null,null,null,null,null,null,null,null,null,null,{"$f":"Fund!W3406","v":"00:00:00"},{"$f":"Fund!X3406","v":0},{"$f":"-Fund!V3406","v":0},{"$f":"Fund!V3406","v":0},{"$f":"Fund!P3406","v":""}]
[null,null,null,null,null,null,null,null,null,null,null,null,{"$f":"Fund!W3407","v":"00:00:00"},{"$f":"Fund!X3407","v":0},{"$f":"-Fund!V3407","v":0},{"$f":"Fund!V3407","v":0},{"$f":"Fund!P3407","v":""}]
[null,null,null,null,null,null,null,null,null,null,null,null,{"$f":"Fund!W3408","v":"00:00:00"},{"$f":"Fund!X3408","v":0},{"$f":"-Fund!V3408","v":0},{"$f":"Fund!V3408","v":0},{"$f":"Fund!P3408","v":""}]
[null,null,null,null,null,null,null,null,null,null,null,null,{"$f":"Fund!W3409","v":"00:00:00"},{"$f":"Fund!X3409","v":0},{"$f":"-Fund!V3409","v":0},{"$f":"Fund!V3409","v":0},{"$f":"Fund!P3409","v":""}]
[null,null,null,null,null,null,null,null,null,null,null,null,{"$f":"Fund!W3410","v":"00:00:00"},{"$f":"Fund!X3410","v":0},{"$f":"-Fund!V3410","v":0},{"$f":"Fund!V3410","v":0},{"$f":"Fund!P3410","v":""}]
[null,null,null,null,null,null,null,null,null,null,null,null,{"$f":"Fund!W3411","v":"00:00:00"},{"$f":"Fund!X3411","v":0},{"$f":"-Fund!V3411","v":0},{"$f":"Fund!V3411","v":0},{"$f":"Fund!P3411","v":""}]
[null,null,null,null,null,null,null,null,null,null,null,null,{"$f":"Fund!W3412","v":"00:00:00"},{"$f":"Fund!X3412","v":0},{"$f":"-Fund!V3412","v":0},{"$f":"Fund!V3412","v":0},{"$f":"Fund!P3412","v":""}]
[null,null,null,null,null,null,null,null,null,null,null,null,{"$f":"Fund!W3413","v":"00:00:00"},{"$f":"Fund!X3413","v":0},{"$f":"-Fund!V3413","v":0},{"$f":"Fund!V3413","v":0},{"$f":"Fund!P3413","v":""}]
[null,null,null,null,null,null,null,null,null,null,null,null,{"$f":"Fund!W3414","v":"00:00:00"},{"$f":"Fund!X3414","v":0},{"$f":"-Fund!V3414","v":0},{"$f":"Fund!V3414","v":0},{"$f":"Fund!P3414","v":""}]
[null,null,null,null,null,null,null,null,null,null,null,null,{"$f":"Fund!W3415","v":"00:00:00"},{"$f":"Fund!X3415","v":0},{"$f":"-Fund!V3415","v":0},{"$f":"Fund!V3415","v":0},{"$f":"Fund!P3415","v":""}]
[null,null,null,null,null,null,null,null,null,null,null,null,{"$f":"Fund!W3416","v":"00:00:00"},{"$f":"Fund!X3416","v":0},{"$f":"-Fund!V3416","v":0},{"$f":"Fund!V3416","v":0},{"$f":"Fund!P3416","v":""}]
[null,null,null,null,null,null,null,null,null,null,null,null,{"$f":"Fund!W3417","v":"00:00:00"},{"$f":"Fund!X3417","v":0},{"$f":"-Fund!V3417","v":0},{"$f":"Fund!V3417","v":0},{"$f":"Fund!P3417","v":""}]
[null,null,null,null,null,null,null,null,null,null,null,null,{"$f":"Fund!W3418","v":"00:00:00"},{"$f":"Fund!X3418","v":0},{"$f":"-Fund!V3418","v":0},{"$f":"Fund!V3418","v":0},{"$f":"Fund!P3418","v":""}]
[null,null,null,null,null,null,null,null,null,null,null,null,{"$f":"Fund!W3419","v":"00:00:00"},{"$f":"Fund!X3419","v":0},{"$f":"-Fund!V3419","v":0},{"$f":"Fund!V3419","v":0},{"$f":"Fund!P3419","v":""}]
[null,null,null,null,null,null,null,null,null,null,null,null,{"$f":"Fund!W3420","v":"00:00:00"},{"$f":"Fund!X3420","v":0},{"$f":"-Fund!V3420","v":0},{"$f":"Fund!V3420","v":0},{"$f":"Fund!P3420","v":""}]
[null,null,null,null,null,null,null,null,null,null,null,null,{"$f":"Fund!W3421","v":"00:00:00"},{"$f":"Fund!X3421","v":0},{"$f":"-Fund!V3421","v":0},{"$f":"Fund!V3421","v":0},{"$f":"Fund!P3421","v":""}]
[null,null,null,null,null,null,null,null,null,null,null,null,{"$f":"Fund!W3422","v":"00:00:00"},{"$f":"Fund!X3422","v":0},{"$f":"-Fund!V3422","v":0},{"$f":"Fund!V3422","v":0},{"$f":"Fund!P3422","v":""}]
[null,null,null,null,null,null,null,null,null,null,null,null,{"$f":"Fund!W3423","v":"00:00:00"},{"$f":"Fund!X3423","v":0},{"$f":"-Fund!V3423","v":0},{"$f":"Fund!V3423","v":0},{"$f":"Fund!P3423","v":""}]
[null,null,null,null,null,null,null,null,null,null,null,null,{"$f":"Fund!W3424","v":"00:00:00"},{"$f":"Fund!X3424","v":0},{"$f":"-Fund!V3424","v":0},{"$f":"Fund!V3424","v":0},{"$f":"Fund!P3424","v":""}]
[null,null,null,null,null,null,null,null,null,null,null,null,{"$f":"Fund!W3425","v":"00:00:00"},{"$f":"Fund!X3425","v":0},{"$f":"-Fund!V3425","v":0},{"$f":"Fund!V3425","v":0},{"$f":"Fund!P3425","v":""}]
[null,null,null,null,null,null,null,null,null,null,null,null,{"$f":"Fund!W3426","v":"00:00:00"},{"$f":"Fund!X3426","v":0},{"$f":"-Fund!V3426","v":0},{"$f":"Fund!V3426","v":0},{"$f":"Fund!P3426","v":""}]
[null,null,null,null,null,null,null,null,null,null,null,null,{"$f":"Fund!W3427","v":"00:00:00"},{"$f":"Fund!X3427","v":0},{"$f":"-Fund!V3427","v":0},{"$f":"Fund!V3427","v":0},{"$f":"Fund!P3427","v":""}]
[null,null,null,null,null,null,null,null,null,null,null,null,{"$f":"Fund!W3428","v":"00:00:00"},{"$f":"Fund!X3428","v":0},{"$f":"-Fund!V3428","v":0},{"$f":"Fund!V3428","v":0},{"$f":"Fund!P3428","v":""}]
[null,null,null,null,null,null,null,null,null,null,null,null,{"$f":"Fund!W3429","v":"00:00:00"},{"$f":"Fund!X3429","v":0},{"$f":"-Fund!V3429","v":0},{"$f":"Fund!V3429","v":0},{"$f":"Fund!P3429","v":""}]
[null,null,null,null,null,null,null,null,null,null,null,null,{"$f":"Fund!W3430","v":"00:00:00"},{"$f":"Fund!X3430","v":0},{"$f":"-Fund!V3430","v":0},{"$f":"Fund!V3430","v":0},{"$f":"Fund!P3430","v":""}]
[null,null,null,null,null,null,null,null,null,null,null,null,{"$f":"Fund!W3431","v":"00:00:00"},{"$f":"Fund!X3431","v":0},{"$f":"-Fund!V3431","v":0},{"$f":"Fund!V3431","v":0},{"$f":"Fund!P3431","v":""}]
[null,null,null,null,null,null,null,null,null,null,null,null,{"$f":"Fund!W3432","v":"00:00:00"},{"$f":"Fund!X3432","v":0},{"$f":"-Fund!V3432","v":0},{"$f":"Fund!V3432","v":0},{"$f":"Fund!P3432","v":""}]
[null,null,null,null,null,null,null,null,null,null,null,null,{"$f":"Fund!W3433","v":"00:00:00"},{"$f":"Fund!X3433","v":0},{"$f":"-Fund!V3433","v":0},{"$f":"Fund!V3433","v":0},{"$f":"Fund!P3433","v":""}]
[null,null,null,null,null,null,null,null,null,null,null,null,{"$f":"Fund!W3434","v":"00:00:00"},{"$f":"Fund!X3434","v":0},{"$f":"-Fund!V3434","v":0},{"$f":"Fund!V3434","v":0},{"$f":"Fund!P3434","v":""}]
[null,null,null,null,null,null,null,null,null,null,null,null,{"$f":"Fund!W3435","v":"00:00:00"},{"$f":"Fund!X3435","v":0},{"$f":"-Fund!V3435","v":0},{"$f":"Fund!V3435","v":0},{"$f":"Fund!P3435","v":""}]
[null,null,null,null,null,null,null,null,null,null,null,null,{"$f":"Fund!W3436","v":"00:00:00"},{"$f":"Fund!X3436","v":0},{"$f":"-Fund!V3436","v":0},{"$f":"Fund!V3436","v":0},{"$f":"Fund!P3436","v":""}]
[null,null,null,null,null,null,null,null,null,null,null,null,{"$f":"Fund!W3437","v":"00:00:00"},{"$f":"Fund!X3437","v":0},{"$f":"-Fund!V3437","v":0},{"$f":"Fund!V3437","v":0},{"$f":"Fund!P3437","v":""}]
[null,null,null,null,null,null,null,null,null,null,null,null,{"$f":"Fund!W3438","v":"00:00:00"},{"$f":"Fund!X3438","v":0},{"$f":"-Fund!V3438","v":0},{"$f":"Fund!V3438","v":0},{"$f":"Fund!P3438","v":""}]
[null,null,null,null,null,null,null,null,null,null,null,null,{"$f":"Fund!W3439","v":"00:00:00"},{"$f":"Fund!X3439","v":0},{"$f":"-Fund!V3439","v":0},{"$f":"Fund!V3439","v":0},{"$f":"Fund!P3439","v":""}]
[null,null,null,null,null,null,null,null,null,null,null,null,{"$f":"Fund!W3440","v":"00:00:00"},{"$f":"Fund!X3440","v":0},{"$f":"-Fund!V3440","v":0},{"$f":"Fund!V3440","v":0},{"$f":"Fund!P3440","v":""}]
[null,null,null,null,null,null,null,null,null,null,null,null,{"$f":"Fund!W3441","v":"00:00:00"},{"$f":"Fund!X3441","v":0},{"$f":"-Fund!V3441","v":0},{"$f":"Fund!V3441","v":0},{"$f":"Fund!P3441","v":""}]
[null,null,null,null,null,null,null,null,null,null,null,null,{"$f":"Fund!W3442","v":"00:00:00"},{"$f":"Fund!X3442","v":0},{"$f":"-Fund!V3442","v":0},{"$f":"Fund!V3442","v":0},{"$f":"Fund!P3442","v":""}]
[null,null,null,null,null,null,null,null,null,null,null,null,{"$f":"Fund!W3443","v":"00:00:00"},{"$f":"Fund!X3443","v":0},{"$f":"-Fund!V3443","v":0},{"$f":"Fund!V3443","v":0},{"$f":"Fund!P3443","v":""}]
[null,null,null,null,null,null,null,null,null,null,null,null,{"$f":"Fund!W3444","v":"00:00:00"},{"$f":"Fund!X3444","v":0},{"$f":"-Fund!V3444","v":0},{"$f":"Fund!V3444","v":0},{"$f":"Fund!P3444","v":""}]
[null,null,null,null,null,null,null,null,null,null,null,null,{"$f":"Fund!W3445","v":"00:00:00"},{"$f":"Fund!X3445","v":0},{"$f":"-Fund!V3445","v":0},{"$f":"Fund!V3445","v":0},{"$f":"Fund!P3445","v":""}]
[null,null,null,null,null,null,null,null,null,null,null,null,{"$f":"Fund!W3446","v":"00:00:00"},{"$f":"Fund!X3446","v":0},{"$f":"-Fund!V3446","v":0},{"$f":"Fund!V3446","v":0},{"$f":"Fund!P3446","v":""}]
[null,null,null,null,null,null,null,null,null,null,null,null,{"$f":"Fund!W3447","v":"00:00:00"},{"$f":"Fund!X3447","v":0},{"$f":"-Fund!V3447","v":0},{"$f":"Fund!V3447","v":0},{"$f":"Fund!P3447","v":""}]
[null,null,null,null,null,null,null,null,null,null,null,null,{"$f":"Fund!W3448","v":"00:00:00"},{"$f":"Fund!X3448","v":0},{"$f":"-Fund!V3448","v":0},{"$f":"Fund!V3448","v":0},{"$f":"Fund!P3448","v":""}]
[null,null,null,null,null,null,null,null,null,null,null,null,{"$f":"Fund!W3449","v":"00:00:00"},{"$f":"Fund!X3449","v":0},{"$f":"-Fund!V3449","v":0},{"$f":"Fund!V3449","v":0},{"$f":"Fund!P3449","v":""}]
[null,null,null,null,null,null,null,null,null,null,null,null,{"$f":"Fund!W3450","v":"00:00:00"},{"$f":"Fund!X3450","v":0},{"$f":"-Fund!V3450","v":0},{"$f":"Fund!V3450","v":0},{"$f":"Fund!P3450","v":""}]
[null,null,null,null,null,null,null,null,null,null,null,null,{"$f":"Fund!W3451","v":"00:00:00"},{"$f":"Fund!X3451","v":0},{"$f":"-Fund!V3451","v":0},{"$f":"Fund!V3451","v":0},{"$f":"Fund!P3451","v":""}]
[null,null,null,null,null,null,null,null,null,null,null,null,{"$f":"Fund!W3452","v":"00:00:00"},{"$f":"Fund!X3452","v":0},{"$f":"-Fund!V3452","v":0},{"$f":"Fund!V3452","v":0},{"$f":"Fund!P3452","v":""}]
[null,null,null,null,null,null,null,null,null,null,null,null,{"$f":"Fund!W3453","v":"00:00:00"},{"$f":"Fund!X3453","v":0},{"$f":"-Fund!V3453","v":0},{"$f":"Fund!V3453","v":0},{"$f":"Fund!P3453","v":""}]
[null,null,null,null,null,null,null,null,null,null,null,null,{"$f":"Fund!W3454","v":"00:00:00"},{"$f":"Fund!X3454","v":0},{"$f":"-Fund!V3454","v":0},{"$f":"Fund!V3454","v":0},{"$f":"Fund!P3454","v":""}]
[null,null,null,null,null,null,null,null,null,null,null,null,{"$f":"Fund!W3455","v":"00:00:00"},{"$f":"Fund!X3455","v":0},{"$f":"-Fund!V3455","v":0},{"$f":"Fund!V3455","v":0},{"$f":"Fund!P3455","v":""}]
[null,null,null,null,null,null,null,null,null,null,null,null,{"$f":"Fund!W3456","v":"00:00:00"},{"$f":"Fund!X3456","v":0},{"$f":"-Fund!V3456","v":0},{"$f":"Fund!V3456","v":0},{"$f":"Fund!P3456","v":""}]
[null,null,null,null,null,null,null,null,null,null,null,null,{"$f":"Fund!W3457","v":"00:00:00"},{"$f":"Fund!X3457","v":0},{"$f":"-Fund!V3457","v":0},{"$f":"Fund!V3457","v":0},{"$f":"Fund!P3457","v":""}]
[null,null,null,null,null,null,null,null,null,null,null,null,{"$f":"Fund!W3458","v":"00:00:00"},{"$f":"Fund!X3458","v":0},{"$f":"-Fund!V3458","v":0},{"$f":"Fund!V3458","v":0},{"$f":"Fund!P3458","v":""}]
[null,null,null,null,null,null,null,null,null,null,null,null,{"$f":"Fund!W3459","v":"00:00:00"},{"$f":"Fund!X3459","v":0},{"$f":"-Fund!V3459","v":0},{"$f":"Fund!V3459","v":0},{"$f":"Fund!P3459","v":""}]
[null,null,null,null,null,null,null,null,null,null,null,null,{"$f":"Fund!W3460","v":"00:00:00"},{"$f":"Fund!X3460","v":0},{"$f":"-Fund!V3460","v":0},{"$f":"Fund!V3460","v":0},{"$f":"Fund!P3460","v":""}]
[null,null,null,null,null,null,null,null,null,null,null,null,{"$f":"Fund!W3461","v":"00:00:00"},{"$f":"Fund!X3461","v":0},{"$f":"-Fund!V3461","v":0},{"$f":"Fund!V3461","v":0},{"$f":"Fund!P3461","v":""}]
[null,null,null,null,null,null,null,null,null,null,null,null,{"$f":"Fund!W3462","v":"00:00:00"},{"$f":"Fund!X3462","v":0},{"$f":"-Fund!V3462","v":0},{"$f":"Fund!V3462","v":0},{"$f":"Fund!P3462","v":""}]
[null,null,null,null,null,null,null,null,null,null,null,null,{"$f":"Fund!W3463","v":"00:00:00"},{"$f":"Fund!X3463","v":0},{"$f":"-Fund!V3463","v":0},{"$f":"Fund!V3463","v":0},{"$f":"Fund!P3463","v":""}]
[null,null,null,null,null,null,null,null,null,null,null,null,{"$f":"Fund!W3464","v":"00:00:00"},{"$f":"Fund!X3464","v":0},{"$f":"-Fund!V3464","v":0},{"$f":"Fund!V3464","v":0},{"$f":"Fund!P3464","v":""}]
[null,null,null,null,null,null,null,null,null,null,null,null,{"$f":"Fund!W3465","v":"00:00:00"},{"$f":"Fund!X3465","v":0},{"$f":"-Fund!V3465","v":0},{"$f":"Fund!V3465","v":0},{"$f":"Fund!P3465","v":""}]
[null,null,null,null,null,null,null,null,null,null,null,null,{"$f":"Fund!W3466","v":"00:00:00"},{"$f":"Fund!X3466","v":0},{"$f":"-Fund!V3466","v":0},{"$f":"Fund!V3466","v":0},{"$f":"Fund!P3466","v":""}]
[null,null,null,null,null,null,null,null,null,null,null,null,{"$f":"Fund!W3467","v":"00:00:00"},{"$f":"Fund!X3467","v":0},{"$f":"-Fund!V3467","v":0},{"$f":"Fund!V3467","v":0},{"$f":"Fund!P3467","v":""}]
[null,null,null,null,null,null,null,null,null,null,null,null,{"$f":"Fund!W3468","v":"00:00:00"},{"$f":"Fund!X3468","v":0},{"$f":"-Fund!V3468","v":0},{"$f":"Fund!V3468","v":0},{"$f":"Fund!P3468","v":""}]
[null,null,null,null,null,null,null,null,null,null,null,null,{"$f":"Fund!W3469","v":"00:00:00"},{"$f":"Fund!X3469","v":0},{"$f":"-Fund!V3469","v":0},{"$f":"Fund!V3469","v":0},{"$f":"Fund!P3469","v":""}]
[null,null,null,null,null,null,null,null,null,null,null,null,{"$f":"Fund!W3470","v":"00:00:00"},{"$f":"Fund!X3470","v":0},{"$f":"-Fund!V3470","v":0},{"$f":"Fund!V3470","v":0},{"$f":"Fund!P3470","v":""}]
[null,null,null,null,null,null,null,null,null,null,null,null,{"$f":"Fund!W3471","v":"00:00:00"},{"$f":"Fund!X3471","v":0},{"$f":"-Fund!V3471","v":0},{"$f":"Fund!V3471","v":0},{"$f":"Fund!P3471","v":""}]
[null,null,null,null,null,null,null,null,null,null,null,null,{"$f":"Fund!W3472","v":"00:00:00"},{"$f":"Fund!X3472","v":0},{"$f":"-Fund!V3472","v":0},{"$f":"Fund!V3472","v":0},{"$f":"Fund!P3472","v":""}]
[null,null,null,null,null,null,null,null,null,null,null,null,{"$f":"Fund!W3473","v":"00:00:00"},{"$f":"Fund!X3473","v":0},{"$f":"-Fund!V3473","v":0},{"$f":"Fund!V3473","v":0},{"$f":"Fund!P3473","v":""}]
[null,null,null,null,null,null,null,null,null,null,null,null,{"$f":"Fund!W3474","v":"00:00:00"},{"$f":"Fund!X3474","v":0},{"$f":"-Fund!V3474","v":0},{"$f":"Fund!V3474","v":0},{"$f":"Fund!P3474","v":""}]
[null,null,null,null,null,null,null,null,null,null,null,null,{"$f":"Fund!W3475","v":"00:00:00"},{"$f":"Fund!X3475","v":0},{"$f":"-Fund!V3475","v":0},{"$f":"Fund!V3475","v":0},{"$f":"Fund!P3475","v":""}]
[null,null,null,null,null,null,null,null,null,null,null,null,{"$f":"Fund!W3476","v":"00:00:00"},{"$f":"Fund!X3476","v":0},{"$f":"-Fund!V3476","v":0},{"$f":"Fund!V3476","v":0},{"$f":"Fund!P3476","v":""}]
[null,null,null,null,null,null,null,null,null,null,null,null,{"$f":"Fund!W3477","v":"00:00:00"},{"$f":"Fund!X3477","v":0},{"$f":"-Fund!V3477","v":0},{"$f":"Fund!V3477","v":0},{"$f":"Fund!P3477","v":""}]
[null,null,null,null,null,null,null,null,null,null,null,null,{"$f":"Fund!W3478","v":"00:00:00"},{"$f":"Fund!X3478","v":0},{"$f":"-Fund!V3478","v":0},{"$f":"Fund!V3478","v":0},{"$f":"Fund!P3478","v":""}]
[null,null,null,null,null,null,null,null,null,null,null,null,{"$f":"Fund!W3479","v":"00:00:00"},{"$f":"Fund!X3479","v":0},{"$f":"-Fund!V3479","v":0},{"$f":"Fund!V3479","v":0},{"$f":"Fund!P3479","v":""}]
[null,null,null,null,null,null,null,null,null,null,null,null,{"$f":"Fund!W3480","v":"00:00:00"},{"$f":"Fund!X3480","v":0},{"$f":"-Fund!V3480","v":0},{"$f":"Fund!V3480","v":0},{"$f":"Fund!P3480","v":""}]
[null,null,null,null,null,null,null,null,null,null,null,null,{"$f":"Fund!W3481","v":"00:00:00"},{"$f":"Fund!X3481","v":0},{"$f":"-Fund!V3481","v":0},{"$f":"Fund!V3481","v":0},{"$f":"Fund!P3481","v":""}]
[null,null,null,null,null,null,null,null,null,null,null,null,{"$f":"Fund!W3482","v":"00:00:00"},{"$f":"Fund!X3482","v":0},{"$f":"-Fund!V3482","v":0},{"$f":"Fund!V3482","v":0},{"$f":"Fund!P3482","v":""}]
[null,null,null,null,null,null,null,null,null,null,null,null,{"$f":"Fund!W3483","v":"00:00:00"},{"$f":"Fund!X3483","v":0},{"$f":"-Fund!V3483","v":0},{"$f":"Fund!V3483","v":0},{"$f":"Fund!P3483","v":""}]
[null,null,null,null,null,null,null,null,null,null,null,null,{"$f":"Fund!W3484","v":"00:00:00"},{"$f":"Fund!X3484","v":0},{"$f":"-Fund!V3484","v":0},{"$f":"Fund!V3484","v":0},{"$f":"Fund!P3484","v":""}]
[null,null,null,null,null,null,null,null,null,null,null,null,{"$f":"Fund!W3485","v":"00:00:00"},{"$f":"Fund!X3485","v":0},{"$f":"-Fund!V3485","v":0},{"$f":"Fund!V3485","v":0},{"$f":"Fund!P3485","v":""}]
[null,null,null,null,null,null,null,null,null,null,null,null,{"$f":"Fund!W3486","v":"00:00:00"},{"$f":"Fund!X3486","v":0},{"$f":"-Fund!V3486","v":0},{"$f":"Fund!V3486","v":0},{"$f":"Fund!P3486","v":""}]
[null,null,null,null,null,null,null,null,null,null,null,null,{"$f":"Fund!W3487","v":"00:00:00"},{"$f":"Fund!X3487","v":0},{"$f":"-Fund!V3487","v":0},{"$f":"Fund!V3487","v":0},{"$f":"Fund!P3487","v":""}]
[null,null,null,null,null,null,null,null,null,null,null,null,{"$f":"Fund!W3488","v":"00:00:00"},{"$f":"Fund!X3488","v":0},{"$f":"-Fund!V3488","v":0},{"$f":"Fund!V3488","v":0},{"$f":"Fund!P3488","v":""}]
[null,null,null,null,null,null,null,null,null,null,null,null,{"$f":"Fund!W3489","v":"00:00:00"},{"$f":"Fund!X3489","v":0},{"$f":"-Fund!V3489","v":0},{"$f":"Fund!V3489","v":0},{"$f":"Fund!P3489","v":""}]
[null,null,null,null,null,null,null,null,null,null,null,null,{"$f":"Fund!W3490","v":"00:00:00"},{"$f":"Fund!X3490","v":0},{"$f":"-Fund!V3490","v":0},{"$f":"Fund!V3490","v":0},{"$f":"Fund!P3490","v":""}]
[null,null,null,null,null,null,null,null,null,null,null,null,{"$f":"Fund!W3491","v":"00:00:00"},{"$f":"Fund!X3491","v":0},{"$f":"-Fund!V3491","v":0},{"$f":"Fund!V3491","v":0},{"$f":"Fund!P3491","v":""}]
[null,null,null,null,null,null,null,null,null,null,null,null,{"$f":"Fund!W3492","v":"00:00:00"},{"$f":"Fund!X3492","v":0},{"$f":"-Fund!V3492","v":0},{"$f":"Fund!V3492","v":0},{"$f":"Fund!P3492","v":""}]
[null,null,null,null,null,null,null,null,null,null,null,null,{"$f":"Fund!W3493","v":"00:00:00"},{"$f":"Fund!X3493","v":0},{"$f":"-Fund!V3493","v":0},{"$f":"Fund!V3493","v":0},{"$f":"Fund!P3493","v":""}]
[null,null,null,null,null,null,null,null,null,null,null,null,{"$f":"Fund!W3494","v":"00:00:00"},{"$f":"Fund!X3494","v":0},{"$f":"-Fund!V3494","v":0},{"$f":"Fund!V3494","v":0},{"$f":"Fund!P3494","v":""}]
[null,null,null,null,null,null,null,null,null,null,null,null,{"$f":"Fund!W3495","v":"00:00:00"},{"$f":"Fund!X3495","v":0},{"$f":"-Fund!V3495","v":0},{"$f":"Fund!V3495","v":0},{"$f":"Fund!P3495","v":""}]
[null,null,null,null,null,null,null,null,null,null,null,null,{"$f":"Fund!W3496","v":"00:00:00"},{"$f":"Fund!X3496","v":0},{"$f":"-Fund!V3496","v":0},{"$f":"Fund!V3496","v":0},{"$f":"Fund!P3496","v":""}]
[null,null,null,null,null,null,null,null,null,null,null,null,{"$f":"Fund!W3497","v":"00:00:00"},{"$f":"Fund!X3497","v":0},{"$f":"-Fund!V3497","v":0},{"$f":"Fund!V3497","v":0},{"$f":"Fund!P3497","v":""}]
[null,null,null,null,null,null,null,null,null,null,null,null,{"$f":"Fund!W3498","v":"00:00:00"},{"$f":"Fund!X3498","v":0},{"$f":"-Fund!V3498","v":0},{"$f":"Fund!V3498","v":0},{"$f":"Fund!P3498","v":""}]
[null,null,null,null,null,null,null,null,null,null,null,null,{"$f":"Fund!W3499","v":"00:00:00"},{"$f":"Fund!X3499","v":0},{"$f":"-Fund!V3499","v":0},{"$f":"Fund!V3499","v":0},{"$f":"Fund!P3499","v":""}]
[null,null,null,null,null,null,null,null,null,null,null,null,{"$f":"Fund!W3500","v":"00:00:00"},{"$f":"Fund!X3500","v":0},{"$f":"-Fund!V3500","v":0},{"$f":"Fund!V3500","v":0},{"$f":"Fund!P3500","v":""}]
[null,null,null,null,null,null,null,null,null,null,null,null,{"$f":"Fund!W3501","v":"00:00:00"},{"$f":"Fund!X3501","v":0},{"$f":"-Fund!V3501","v":0},{"$f":"Fund!V3501","v":0},{"$f":"Fund!P3501","v":""}]
[null,null,null,null,null,null,null,null,null,null,null,null,{"$f":"Fund!W3502","v":"00:00:00"},{"$f":"Fund!X3502","v":0},{"$f":"-Fund!V3502","v":0},{"$f":"Fund!V3502","v":0},{"$f":"Fund!P3502","v":""}]
[null,null,null,null,null,null,null,null,null,null,null,null,{"$f":"Fund!W3503","v":"00:00:00"},{"$f":"Fund!X3503","v":0},{"$f":"-Fund!V3503","v":0},{"$f":"Fund!V3503","v":0},{"$f":"Fund!P3503","v":""}]
[null,null,null,null,null,null,null,null,null,null,null,null,{"$f":"Fund!W3504","v":"00:00:00"},{"$f":"Fund!X3504","v":0},{"$f":"-Fund!V3504","v":0},{"$f":"Fund!V3504","v":0},{"$f":"Fund!P3504","v":""}]
[null,null,null,null,null,null,null,null,null,null,null,null,{"$f":"Fund!W3505","v":"00:00:00"},{"$f":"Fund!X3505","v":0},{"$f":"-Fund!V3505","v":0},{"$f":"Fund!V3505","v":0},{"$f":"Fund!P3505","v":""}]
[null,null,null,null,null,null,null,null,null,null,null,null,{"$f":"Fund!W3506","v":"00:00:00"},{"$f":"Fund!X3506","v":0},{"$f":"-Fund!V3506","v":0},{"$f":"Fund!V3506","v":0},{"$f":"Fund!P3506","v":""}]
[null,null,null,null,null,null,null,null,null,null,null,null,{"$f":"Fund!W3507","v":"00:00:00"},{"$f":"Fund!X3507","v":0},{"$f":"-Fund!V3507","v":0},{"$f":"Fund!V3507","v":0},{"$f":"Fund!P3507","v":""}]
[null,null,null,null,null,null,null,null,null,null,null,null,{"$f":"Fund!W3508","v":"00:00:00"},{"$f":"Fund!X3508","v":0},{"$f":"-Fund!V3508","v":0},{"$f":"Fund!V3508","v":0},{"$f":"Fund!P3508","v":""}]
[null,null,null,null,null,null,null,null,null,null,null,null,{"$f":"Fund!W3509","v":"00:00:00"},{"$f":"Fund!X3509","v":0},{"$f":"-Fund!V3509","v":0},{"$f":"Fund!V3509","v":0},{"$f":"Fund!P3509","v":""}]
[null,null,null,null,null,null,null,null,null,null,null,null,{"$f":"Fund!W3510","v":"00:00:00"},{"$f":"Fund!X3510","v":0},{"$f":"-Fund!V3510","v":0},{"$f":"Fund!V3510","v":0},{"$f":"Fund!P3510","v":""}]
[null,null,null,null,null,null,null,null,null,null,null,null,{"$f":"Fund!W3511","v":"00:00:00"},{"$f":"Fund!X3511","v":0},{"$f":"-Fund!V3511","v":0},{"$f":"Fund!V3511","v":0},{"$f":"Fund!P3511","v":""}]
[null,null,null,null,null,null,null,null,null,null,null,null,{"$f":"Fund!W3512","v":"00:00:00"},{"$f":"Fund!X3512","v":0},{"$f":"-Fund!V3512","v":0},{"$f":"Fund!V3512","v":0},{"$f":"Fund!P3512","v":""}]
[null,null,null,null,null,null,null,null,null,null,null,null,{"$f":"Fund!W3513","v":"00:00:00"},{"$f":"Fund!X3513","v":0},{"$f":"-Fund!V3513","v":0},{"$f":"Fund!V3513","v":0},{"$f":"Fund!P3513","v":""}]
[null,null,null,null,null,null,null,null,null,null,null,null,{"$f":"Fund!W3514","v":"00:00:00"},{"$f":"Fund!X3514","v":0},{"$f":"-Fund!V3514","v":0},{"$f":"Fund!V3514","v":0},{"$f":"Fund!P3514","v":""}]
[null,null,null,null,null,null,null,null,null,null,null,null,{"$f":"Fund!W3515","v":"00:00:00"},{"$f":"Fund!X3515","v":0},{"$f":"-Fund!V3515","v":0},{"$f":"Fund!V3515","v":0},{"$f":"Fund!P3515","v":""}]
[null,null,null,null,null,null,null,null,null,null,null,null,{"$f":"Fund!W3516","v":"00:00:00"},{"$f":"Fund!X3516","v":0},{"$f":"-Fund!V3516","v":0},{"$f":"Fund!V3516","v":0},{"$f":"Fund!P3516","v":""}]
[null,null,null,null,null,null,null,null,null,null,null,null,{"$f":"Fund!W3517","v":"00:00:00"},{"$f":"Fund!X3517","v":0},{"$f":"-Fund!V3517","v":0},{"$f":"Fund!V3517","v":0},{"$f":"Fund!P3517","v":""}]
[null,null,null,null,null,null,null,null,null,null,null,null,{"$f":"Fund!W3518","v":"00:00:00"},{"$f":"Fund!X3518","v":0},{"$f":"-Fund!V3518","v":0},{"$f":"Fund!V3518","v":0},{"$f":"Fund!P3518","v":""}]
[null,null,null,null,null,null,null,null,null,null,null,null,{"$f":"Fund!W3519","v":"00:00:00"},{"$f":"Fund!X3519","v":0},{"$f":"-Fund!V3519","v":0},{"$f":"Fund!V3519","v":0},{"$f":"Fund!P3519","v":""}]
[null,null,null,null,null,null,null,null,null,null,null,null,{"$f":"Fund!W3520","v":"00:00:00"},{"$f":"Fund!X3520","v":0},{"$f":"-Fund!V3520","v":0},{"$f":"Fund!V3520","v":0},{"$f":"Fund!P3520","v":""}]
[null,null,null,null,null,null,null,null,null,null,null,null,{"$f":"Fund!W3521","v":"00:00:00"},{"$f":"Fund!X3521","v":0},{"$f":"-Fund!V3521","v":0},{"$f":"Fund!V3521","v":0},{"$f":"Fund!P3521","v":""}]
[null,null,null,null,null,null,null,null,null,null,null,null,{"$f":"Fund!W3522","v":"00:00:00"},{"$f":"Fund!X3522","v":0},{"$f":"-Fund!V3522","v":0},{"$f":"Fund!V3522","v":0},{"$f":"Fund!P3522","v":""}]
[null,null,null,null,null,null,null,null,null,null,null,null,{"$f":"Fund!W3523","v":"00:00:00"},{"$f":"Fund!X3523","v":0},{"$f":"-Fund!V3523","v":0},{"$f":"Fund!V3523","v":0},{"$f":"Fund!P3523","v":""}]
[null,null,null,null,null,null,null,null,null,null,null,null,{"$f":"Fund!W3524","v":"00:00:00"},{"$f":"Fund!X3524","v":0},{"$f":"-Fund!V3524","v":0},{"$f":"Fund!V3524","v":0},{"$f":"Fund!P3524","v":""}]
[null,null,null,null,null,null,null,null,null,null,null,null,{"$f":"Fund!W3525","v":"00:00:00"},{"$f":"Fund!X3525","v":0},{"$f":"-Fund!V3525","v":0},{"$f":"Fund!V3525","v":0},{"$f":"Fund!P3525","v":""}]
[null,null,null,null,null,null,null,null,null,null,null,null,{"$f":"Fund!W3526","v":"00:00:00"},{"$f":"Fund!X3526","v":0},{"$f":"-Fund!V3526","v":0},{"$f":"Fund!V3526","v":0},{"$f":"Fund!P3526","v":""}]
[null,null,null,null,null,null,null,null,null,null,null,null,{"$f":"Fund!W3527","v":"00:00:00"},{"$f":"Fund!X3527","v":0},{"$f":"-Fund!V3527","v":0},{"$f":"Fund!V3527","v":0},{"$f":"Fund!P3527","v":""}]
[null,null,null,null,null,null,null,null,null,null,null,null,{"$f":"Fund!W3528","v":"00:00:00"},{"$f":"Fund!X3528","v":0},{"$f":"-Fund!V3528","v":0},{"$f":"Fund!V3528","v":0},{"$f":"Fund!P3528","v":""}]
[null,null,null,null,null,null,null,null,null,null,null,null,{"$f":"Fund!W3529","v":"00:00:00"},{"$f":"Fund!X3529","v":0},{"$f":"-Fund!V3529","v":0},{"$f":"Fund!V3529","v":0},{"$f":"Fund!P3529","v":""}]
[null,null,null,null,null,null,null,null,null,null,null,null,{"$f":"Fund!W3530","v":"00:00:00"},{"$f":"Fund!X3530","v":0},{"$f":"-Fund!V3530","v":0},{"$f":"Fund!V3530","v":0},{"$f":"Fund!P3530","v":""}]
[null,null,null,null,null,null,null,null,null,null,null,null,{"$f":"Fund!W3531","v":"00:00:00"},{"$f":"Fund!X3531","v":0},{"$f":"-Fund!V3531","v":0},{"$f":"Fund!V3531","v":0},{"$f":"Fund!P3531","v":""}]
[null,null,null,null,null,null,null,null,null,null,null,null,{"$f":"Fund!W3532","v":"00:00:00"},{"$f":"Fund!X3532","v":0},{"$f":"-Fund!V3532","v":0},{"$f":"Fund!V3532","v":0},{"$f":"Fund!P3532","v":""}]
[null,null,null,null,null,null,null,null,null,null,null,null,{"$f":"Fund!W3533","v":"00:00:00"},{"$f":"Fund!X3533","v":0},{"$f":"-Fund!V3533","v":0},{"$f":"Fund!V3533","v":0},{"$f":"Fund!P3533","v":""}]
[null,null,null,null,null,null,null,null,null,null,null,null,{"$f":"Fund!W3534","v":"00:00:00"},{"$f":"Fund!X3534","v":0},{"$f":"-Fund!V3534","v":0},{"$f":"Fund!V3534","v":0},{"$f":"Fund!P3534","v":""}]
[null,null,null,null,null,null,null,null,null,null,null,null,{"$f":"Fund!W3535","v":"00:00:00"},{"$f":"Fund!X3535","v":0},{"$f":"-Fund!V3535","v":0},{"$f":"Fund!V3535","v":0},{"$f":"Fund!P3535","v":""}]
[null,null,null,null,null,null,null,null,null,null,null,null,{"$f":"Fund!W3536","v":"00:00:00"},{"$f":"Fund!X3536","v":0},{"$f":"-Fund!V3536","v":0},{"$f":"Fund!V3536","v":0},{"$f":"Fund!P3536","v":""}]
[null,null,null,null,null,null,null,null,null,null,null,null,{"$f":"Fund!W3537","v":"00:00:00"},{"$f":"Fund!X3537","v":0},{"$f":"-Fund!V3537","v":0},{"$f":"Fund!V3537","v":0},{"$f":"Fund!P3537","v":""}]
[null,null,null,null,null,null,null,null,null,null,null,null,{"$f":"Fund!W3538","v":"00:00:00"},{"$f":"Fund!X3538","v":0},{"$f":"-Fund!V3538","v":0},{"$f":"Fund!V3538","v":0},{"$f":"Fund!P3538","v":""}]
[null,null,null,null,null,null,null,null,null,null,null,null,{"$f":"Fund!W3539","v":"00:00:00"},{"$f":"Fund!X3539","v":0},{"$f":"-Fund!V3539","v":0},{"$f":"Fund!V3539","v":0},{"$f":"Fund!P3539","v":""}]
[null,null,null,null,null,null,null,null,null,null,null,null,{"$f":"Fund!W3540","v":"00:00:00"},{"$f":"Fund!X3540","v":0},{"$f":"-Fund!V3540","v":0},{"$f":"Fund!V3540","v":0},{"$f":"Fund!P3540","v":""}]
[null,null,null,null,null,null,null,null,null,null,null,null,{"$f":"Fund!W3541","v":"00:00:00"},{"$f":"Fund!X3541","v":0},{"$f":"-Fund!V3541","v":0},{"$f":"Fund!V3541","v":0},{"$f":"Fund!P3541","v":""}]
[null,null,null,null,null,null,null,null,null,null,null,null,{"$f":"Fund!W3542","v":"00:00:00"},{"$f":"Fund!X3542","v":0},{"$f":"-Fund!V3542","v":0},{"$f":"Fund!V3542","v":0},{"$f":"Fund!P3542","v":""}]
[null,null,null,null,null,null,null,null,null,null,null,null,{"$f":"Fund!W3543","v":"00:00:00"},{"$f":"Fund!X3543","v":0},{"$f":"-Fund!V3543","v":0},{"$f":"Fund!V3543","v":0},{"$f":"Fund!P3543","v":""}]
[null,null,null,null,null,null,null,null,null,null,null,null,{"$f":"Fund!W3544","v":"00:00:00"},{"$f":"Fund!X3544","v":0},{"$f":"-Fund!V3544","v":0},{"$f":"Fund!V3544","v":0},{"$f":"Fund!P3544","v":""}]
[null,null,null,null,null,null,null,null,null,null,null,null,{"$f":"Fund!W3545","v":"00:00:00"},{"$f":"Fund!X3545","v":0},{"$f":"-Fund!V3545","v":0},{"$f":"Fund!V3545","v":0},{"$f":"Fund!P3545","v":""}]
[null,null,null,null,null,null,null,null,null,null,null,null,{"$f":"Fund!W3546","v":"00:00:00"},{"$f":"Fund!X3546","v":0},{"$f":"-Fund!V3546","v":0},{"$f":"Fund!V3546","v":0},{"$f":"Fund!P3546","v":""}]
[null,null,null,null,null,null,null,null,null,null,null,null,{"$f":"Fund!W3547","v":"00:00:00"},{"$f":"Fund!X3547","v":0},{"$f":"-Fund!V3547","v":0},{"$f":"Fund!V3547","v":0},{"$f":"Fund!P3547","v":""}]
[null,null,null,null,null,null,null,null,null,null,null,null,{"$f":"Fund!W3548","v":"00:00:00"},{"$f":"Fund!X3548","v":0},{"$f":"-Fund!V3548","v":0},{"$f":"Fund!V3548","v":0},{"$f":"Fund!P3548","v":""}]
[null,null,null,null,null,null,null,null,null,null,null,null,{"$f":"Fund!W3549","v":"00:00:00"},{"$f":"Fund!X3549","v":0},{"$f":"-Fund!V3549","v":0},{"$f":"Fund!V3549","v":0},{"$f":"Fund!P3549","v":""}]
[null,null,null,null,null,null,null,null,null,null,null,null,{"$f":"Fund!W3550","v":"00:00:00"},{"$f":"Fund!X3550","v":0},{"$f":"-Fund!V3550","v":0},{"$f":"Fund!V3550","v":0},{"$f":"Fund!P3550","v":""}]
[null,null,null,null,null,null,null,null,null,null,null,null,{"$f":"Fund!W3551","v":"00:00:00"},{"$f":"Fund!X3551","v":0},{"$f":"-Fund!V3551","v":0},{"$f":"Fund!V3551","v":0},{"$f":"Fund!P3551","v":""}]
[null,null,null,null,null,null,null,null,null,null,null,null,{"$f":"Fund!W3552","v":"00:00:00"},{"$f":"Fund!X3552","v":0},{"$f":"-Fund!V3552","v":0},{"$f":"Fund!V3552","v":0},{"$f":"Fund!P3552","v":""}]
[null,null,null,null,null,null,null,null,null,null,null,null,{"$f":"Fund!W3553","v":"00:00:00"},{"$f":"Fund!X3553","v":0},{"$f":"-Fund!V3553","v":0},{"$f":"Fund!V3553","v":0},{"$f":"Fund!P3553","v":""}]
[null,null,null,null,null,null,null,null,null,null,null,null,{"$f":"Fund!W3554","v":"00:00:00"},{"$f":"Fund!X3554","v":0},{"$f":"-Fund!V3554","v":0},{"$f":"Fund!V3554","v":0},{"$f":"Fund!P3554","v":""}]
[null,null,null,null,null,null,null,null,null,null,null,null,{"$f":"Fund!W3555","v":"00:00:00"},{"$f":"Fund!X3555","v":0},{"$f":"-Fund!V3555","v":0},{"$f":"Fund!V3555","v":0},{"$f":"Fund!P3555","v":""}]
[null,null,null,null,null,null,null,null,null,null,null,null,{"$f":"Fund!W3556","v":"00:00:00"},{"$f":"Fund!X3556","v":0},{"$f":"-Fund!V3556","v":0},{"$f":"Fund!V3556","v":0},{"$f":"Fund!P3556","v":""}]
[null,null,null,null,null,null,null,null,null,null,null,null,{"$f":"Fund!W3557","v":"00:00:00"},{"$f":"Fund!X3557","v":0},{"$f":"-Fund!V3557","v":0},{"$f":"Fund!V3557","v":0},{"$f":"Fund!P3557","v":""}]
[null,null,null,null,null,null,null,null,null,null,null,null,{"$f":"Fund!W3558","v":"00:00:00"},{"$f":"Fund!X3558","v":0},{"$f":"-Fund!V3558","v":0},{"$f":"Fund!V3558","v":0},{"$f":"Fund!P3558","v":""}]
[null,null,null,null,null,null,null,null,null,null,null,null,{"$f":"Fund!W3559","v":"00:00:00"},{"$f":"Fund!X3559","v":0},{"$f":"-Fund!V3559","v":0},{"$f":"Fund!V3559","v":0},{"$f":"Fund!P3559","v":""}]
[null,null,null,null,null,null,null,null,null,null,null,null,{"$f":"Fund!W3560","v":"00:00:00"},{"$f":"Fund!X3560","v":0},{"$f":"-Fund!V3560","v":0},{"$f":"Fund!V3560","v":0},{"$f":"Fund!P3560","v":""}]
[null,null,null,null,null,null,null,null,null,null,null,null,{"$f":"Fund!W3561","v":"00:00:00"},{"$f":"Fund!X3561","v":0},{"$f":"-Fund!V3561","v":0},{"$f":"Fund!V3561","v":0},{"$f":"Fund!P3561","v":""}]
[null,null,null,null,null,null,null,null,null,null,null,null,{"$f":"Fund!W3562","v":"00:00:00"},{"$f":"Fund!X3562","v":0},{"$f":"-Fund!V3562","v":0},{"$f":"Fund!V3562","v":0},{"$f":"Fund!P3562","v":""}]
[null,null,null,null,null,null,null,null,null,null,null,null,{"$f":"Fund!W3563","v":"00:00:00"},{"$f":"Fund!X3563","v":0},{"$f":"-Fund!V3563","v":0},{"$f":"Fund!V3563","v":0},{"$f":"Fund!P3563","v":""}]
[null,null,null,null,null,null,null,null,null,null,null,null,{"$f":"Fund!W3564","v":"00:00:00"},{"$f":"Fund!X3564","v":0},{"$f":"-Fund!V3564","v":0},{"$f":"Fund!V3564","v":0},{"$f":"Fund!P3564","v":""}]
[null,null,null,null,null,null,null,null,null,null,null,null,{"$f":"Fund!W3565","v":"00:00:00"},{"$f":"Fund!X3565","v":0},{"$f":"-Fund!V3565","v":0},{"$f":"Fund!V3565","v":0},{"$f":"Fund!P3565","v":""}]
[null,null,null,null,null,null,null,null,null,null,null,null,{"$f":"Fund!W3566","v":"00:00:00"},{"$f":"Fund!X3566","v":0},{"$f":"-Fund!V3566","v":0},{"$f":"Fund!V3566","v":0},{"$f":"Fund!P3566","v":""}]
[null,null,null,null,null,null,null,null,null,null,null,null,{"$f":"Fund!W3567","v":"00:00:00"},{"$f":"Fund!X3567","v":0},{"$f":"-Fund!V3567","v":0},{"$f":"Fund!V3567","v":0},{"$f":"Fund!P3567","v":""}]
[null,null,null,null,null,null,null,null,null,null,null,null,{"$f":"Fund!W3568","v":"00:00:00"},{"$f":"Fund!X3568","v":0},{"$f":"-Fund!V3568","v":0},{"$f":"Fund!V3568","v":0},{"$f":"Fund!P3568","v":""}]
[null,null,null,null,null,null,null,null,null,null,null,null,{"$f":"Fund!W3569","v":"00:00:00"},{"$f":"Fund!X3569","v":0},{"$f":"-Fund!V3569","v":0},{"$f":"Fund!V3569","v":0},{"$f":"Fund!P3569","v":""}]
[null,null,null,null,null,null,null,null,null,null,null,null,{"$f":"Fund!W3570","v":"00:00:00"},{"$f":"Fund!X3570","v":0},{"$f":"-Fund!V3570","v":0},{"$f":"Fund!V3570","v":0},{"$f":"Fund!P3570","v":""}]
[null,null,null,null,null,null,null,null,null,null,null,null,{"$f":"Fund!W3571","v":"00:00:00"},{"$f":"Fund!X3571","v":0},{"$f":"-Fund!V3571","v":0},{"$f":"Fund!V3571","v":0},{"$f":"Fund!P3571","v":""}]
[null,null,null,null,null,null,null,null,null,null,null,null,{"$f":"Fund!W3572","v":"00:00:00"},{"$f":"Fund!X3572","v":0},{"$f":"-Fund!V3572","v":0},{"$f":"Fund!V3572","v":0},{"$f":"Fund!P3572","v":""}]
[null,null,null,null,null,null,null,null,null,null,null,null,{"$f":"Fund!W3573","v":"00:00:00"},{"$f":"Fund!X3573","v":0},{"$f":"-Fund!V3573","v":0},{"$f":"Fund!V3573","v":0},{"$f":"Fund!P3573","v":""}]
[null,null,null,null,null,null,null,null,null,null,null,null,{"$f":"Fund!W3574","v":"00:00:00"},{"$f":"Fund!X3574","v":0},{"$f":"-Fund!V3574","v":0},{"$f":"Fund!V3574","v":0},{"$f":"Fund!P3574","v":""}]
[null,null,null,null,null,null,null,null,null,null,null,null,{"$f":"Fund!W3575","v":"00:00:00"},{"$f":"Fund!X3575","v":0},{"$f":"-Fund!V3575","v":0},{"$f":"Fund!V3575","v":0},{"$f":"Fund!P3575","v":""}]
[null,null,null,null,null,null,null,null,null,null,null,null,{"$f":"Fund!W3576","v":"00:00:00"},{"$f":"Fund!X3576","v":0},{"$f":"-Fund!V3576","v":0},{"$f":"Fund!V3576","v":0},{"$f":"Fund!P3576","v":""}]
[null,null,null,null,null,null,null,null,null,null,null,null,{"$f":"Fund!W3577","v":"00:00:00"},{"$f":"Fund!X3577","v":0},{"$f":"-Fund!V3577","v":0},{"$f":"Fund!V3577","v":0},{"$f":"Fund!P3577","v":""}]
[null,null,null,null,null,null,null,null,null,null,null,null,{"$f":"Fund!W3578","v":"00:00:00"},{"$f":"Fund!X3578","v":0},{"$f":"-Fund!V3578","v":0},{"$f":"Fund!V3578","v":0},{"$f":"Fund!P3578","v":""}]
[null,null,null,null,null,null,null,null,null,null,null,null,{"$f":"Fund!W3579","v":"00:00:00"},{"$f":"Fund!X3579","v":0},{"$f":"-Fund!V3579","v":0},{"$f":"Fund!V3579","v":0},{"$f":"Fund!P3579","v":""}]
[null,null,null,null,null,null,null,null,null,null,null,null,{"$f":"Fund!W3580","v":"00:00:00"},{"$f":"Fund!X3580","v":0},{"$f":"-Fund!V3580","v":0},{"$f":"Fund!V3580","v":0},{"$f":"Fund!P3580","v":""}]
[null,null,null,null,null,null,null,null,null,null,null,null,{"$f":"Fund!W3581","v":"00:00:00"},{"$f":"Fund!X3581","v":0},{"$f":"-Fund!V3581","v":0},{"$f":"Fund!V3581","v":0},{"$f":"Fund!P3581","v":""}]
[null,null,null,null,null,null,null,null,null,null,null,null,{"$f":"Fund!W3582","v":"00:00:00"},{"$f":"Fund!X3582","v":0},{"$f":"-Fund!V3582","v":0},{"$f":"Fund!V3582","v":0},{"$f":"Fund!P3582","v":""}]
[null,null,null,null,null,null,null,null,null,null,null,null,{"$f":"Fund!W3583","v":"00:00:00"},{"$f":"Fund!X3583","v":0},{"$f":"-Fund!V3583","v":0},{"$f":"Fund!V3583","v":0},{"$f":"Fund!P3583","v":""}]
[null,null,null,null,null,null,null,null,null,null,null,null,{"$f":"Fund!W3584","v":"00:00:00"},{"$f":"Fund!X3584","v":0},{"$f":"-Fund!V3584","v":0},{"$f":"Fund!V3584","v":0},{"$f":"Fund!P3584","v":""}]
[null,null,null,null,null,null,null,null,null,null,null,null,{"$f":"Fund!W3585","v":"00:00:00"},{"$f":"Fund!X3585","v":0},{"$f":"-Fund!V3585","v":0},{"$f":"Fund!V3585","v":0},{"$f":"Fund!P3585","v":""}]
[null,null,null,null,null,null,null,null,null,null,null,null,{"$f":"Fund!W3586","v":"00:00:00"},{"$f":"Fund!X3586","v":0},{"$f":"-Fund!V3586","v":0},{"$f":"Fund!V3586","v":0},{"$f":"Fund!P3586","v":""}]
[null,null,null,null,null,null,null,null,null,null,null,null,{"$f":"Fund!W3587","v":"00:00:00"},{"$f":"Fund!X3587","v":0},{"$f":"-Fund!V3587","v":0},{"$f":"Fund!V3587","v":0},{"$f":"Fund!P3587","v":""}]
[null,null,null,null,null,null,null,null,null,null,null,null,{"$f":"Fund!W3588","v":"00:00:00"},{"$f":"Fund!X3588","v":0},{"$f":"-Fund!V3588","v":0},{"$f":"Fund!V3588","v":0},{"$f":"Fund!P3588","v":""}]
[null,null,null,null,null,null,null,null,null,null,null,null,{"$f":"Fund!W3589","v":"00:00:00"},{"$f":"Fund!X3589","v":0},{"$f":"-Fund!V3589","v":0},{"$f":"Fund!V3589","v":0},{"$f":"Fund!P3589","v":""}]
[null,null,null,null,null,null,null,null,null,null,null,null,{"$f":"Fund!W3590","v":"00:00:00"},{"$f":"Fund!X3590","v":0},{"$f":"-Fund!V3590","v":0},{"$f":"Fund!V3590","v":0},{"$f":"Fund!P3590","v":""}]
[null,null,null,null,null,null,null,null,null,null,null,null,{"$f":"Fund!W3591","v":"00:00:00"},{"$f":"Fund!X3591","v":0},{"$f":"-Fund!V3591","v":0},{"$f":"Fund!V3591","v":0},{"$f":"Fund!P3591","v":""}]
[null,null,null,null,null,null,null,null,null,null,null,null,{"$f":"Fund!W3592","v":"00:00:00"},{"$f":"Fund!X3592","v":0},{"$f":"-Fund!V3592","v":0},{"$f":"Fund!V3592","v":0},{"$f":"Fund!P3592","v":""}]
[null,null,null,null,null,null,null,null,null,null,null,null,{"$f":"Fund!W3593","v":"00:00:00"},{"$f":"Fund!X3593","v":0},{"$f":"-Fund!V3593","v":0},{"$f":"Fund!V3593","v":0},{"$f":"Fund!P3593","v":""}]
[null,null,null,null,null,null,null,null,null,null,null,null,{"$f":"Fund!W3594","v":"00:00:00"},{"$f":"Fund!X3594","v":0},{"$f":"-Fund!V3594","v":0},{"$f":"Fund!V3594","v":0},{"$f":"Fund!P3594","v":""}]
[null,null,null,null,null,null,null,null,null,null,null,null,{"$f":"Fund!W3595","v":"00:00:00"},{"$f":"Fund!X3595","v":0},{"$f":"-Fund!V3595","v":0},{"$f":"Fund!V3595","v":0},{"$f":"Fund!P3595","v":""}]
[null,null,null,null,null,null,null,null,null,null,null,null,{"$f":"Fund!W3596","v":"00:00:00"},{"$f":"Fund!X3596","v":0},{"$f":"-Fund!V3596","v":0},{"$f":"Fund!V3596","v":0},{"$f":"Fund!P3596","v":""}]
[null,null,null,null,null,null,null,null,null,null,null,null,{"$f":"Fund!W3597","v":"00:00:00"},{"$f":"Fund!X3597","v":0},{"$f":"-Fund!V3597","v":0},{"$f":"Fund!V3597","v":0},{"$f":"Fund!P3597","v":""}]
[null,null,null,null,null,null,null,null,null,null,null,null,{"$f":"Fund!W3598","v":"00:00:00"},{"$f":"Fund!X3598","v":0},{"$f":"-Fund!V3598","v":0},{"$f":"Fund!V3598","v":0},{"$f":"Fund!P3598","v":""}]
[null,null,null,null,null,null,null,null,null,null,null,null,{"$f":"Fund!W3599","v":"00:00:00"},{"$f":"Fund!X3599","v":0},{"$f":"-Fund!V3599","v":0},{"$f":"Fund!V3599","v":0},{"$f":"Fund!P3599","v":""}]
[null,null,null,null,null,null,null,null,null,null,null,null,{"$f":"Fund!W3600","v":"00:00:00"},{"$f":"Fund!X3600","v":0},{"$f":"-Fund!V3600","v":0},{"$f":"Fund!V3600","v":0},{"$f":"Fund!P3600","v":""}]
[null,null,null,null,null,null,null,null,null,null,null,null,{"$f":"Fund!W3601","v":"00:00:00"},{"$f":"Fund!X3601","v":0},{"$f":"-Fund!V3601","v":0},{"$f":"Fund!V3601","v":0},{"$f":"Fund!P3601","v":""}]
[null,null,null,null,null,null,null,null,null,null,null,null,{"$f":"Fund!W3602","v":"00:00:00"},{"$f":"Fund!X3602","v":0},{"$f":"-Fund!V3602","v":0},{"$f":"Fund!V3602","v":0},{"$f":"Fund!P3602","v":""}]
[null,null,null,null,null,null,null,null,null,null,null,null,{"$f":"Fund!W3603","v":"00:00:00"},{"$f":"Fund!X3603","v":0},{"$f":"-Fund!V3603","v":0},{"$f":"Fund!V3603","v":0},{"$f":"Fund!P3603","v":""}]
[null,null,null,null,null,null,null,null,null,null,null,null,{"$f":"Fund!W3604","v":"00:00:00"},{"$f":"Fund!X3604","v":0},{"$f":"-Fund!V3604","v":0},{"$f":"Fund!V3604","v":0},{"$f":"Fund!P3604","v":""}]
[null,null,null,null,null,null,null,null,null,null,null,null,{"$f":"Fund!W3605","v":"00:00:00"},{"$f":"Fund!X3605","v":0},{"$f":"-Fund!V3605","v":0},{"$f":"Fund!V3605","v":0},{"$f":"Fund!P3605","v":""}]
[null,null,null,null,null,null,null,null,null,null,null,null,{"$f":"Fund!W3606","v":"00:00:00"},{"$f":"Fund!X3606","v":0},{"$f":"-Fund!V3606","v":0},{"$f":"Fund!V3606","v":0},{"$f":"Fund!P3606","v":""}]
[null,null,null,null,null,null,null,null,null,null,null,null,{"$f":"Fund!W3607","v":"00:00:00"},{"$f":"Fund!X3607","v":0},{"$f":"-Fund!V3607","v":0},{"$f":"Fund!V3607","v":0},{"$f":"Fund!P3607","v":""}]
[null,null,null,null,null,null,null,null,null,null,null,null,{"$f":"Fund!W3608","v":"00:00:00"},{"$f":"Fund!X3608","v":0},{"$f":"-Fund!V3608","v":0},{"$f":"Fund!V3608","v":0},{"$f":"Fund!P3608","v":""}]
[null,null,null,null,null,null,null,null,null,null,null,null,{"$f":"Fund!W3609","v":"00:00:00"},{"$f":"Fund!X3609","v":0},{"$f":"-Fund!V3609","v":0},{"$f":"Fund!V3609","v":0},{"$f":"Fund!P3609","v":""}]
[null,null,null,null,null,null,null,null,null,null,null,null,{"$f":"Fund!W3610","v":"00:00:00"},{"$f":"Fund!X3610","v":0},{"$f":"-Fund!V3610","v":0},{"$f":"Fund!V3610","v":0},{"$f":"Fund!P3610","v":""}]
[null,null,null,null,null,null,null,null,null,null,null,null,{"$f":"Fund!W3611","v":"00:00:00"},{"$f":"Fund!X3611","v":0},{"$f":"-Fund!V3611","v":0},{"$f":"Fund!V3611","v":0},{"$f":"Fund!P3611","v":""}]
[null,null,null,null,null,null,null,null,null,null,null,null,{"$f":"Fund!W3612","v":"00:00:00"},{"$f":"Fund!X3612","v":0},{"$f":"-Fund!V3612","v":0},{"$f":"Fund!V3612","v":0},{"$f":"Fund!P3612","v":""}]
[null,null,null,null,null,null,null,null,null,null,null,null,{"$f":"Fund!W3613","v":"00:00:00"},{"$f":"Fund!X3613","v":0},{"$f":"-Fund!V3613","v":0},{"$f":"Fund!V3613","v":0},{"$f":"Fund!P3613","v":""}]
[null,null,null,null,null,null,null,null,null,null,null,null,{"$f":"Fund!W3614","v":"00:00:00"},{"$f":"Fund!X3614","v":0},{"$f":"-Fund!V3614","v":0},{"$f":"Fund!V3614","v":0},{"$f":"Fund!P3614","v":""}]
[null,null,null,null,null,null,null,null,null,null,null,null,{"$f":"Fund!W3615","v":"00:00:00"},{"$f":"Fund!X3615","v":0},{"$f":"-Fund!V3615","v":0},{"$f":"Fund!V3615","v":0},{"$f":"Fund!P3615","v":""}]
[null,null,null,null,null,null,null,null,null,null,null,null,{"$f":"Fund!W3616","v":"00:00:00"},{"$f":"Fund!X3616","v":0},{"$f":"-Fund!V3616","v":0},{"$f":"Fund!V3616","v":0},{"$f":"Fund!P3616","v":""}]
[null,null,null,null,null,null,null,null,null,null,null,null,{"$f":"Fund!W3617","v":"00:00:00"},{"$f":"Fund!X3617","v":0},{"$f":"-Fund!V3617","v":0},{"$f":"Fund!V3617","v":0},{"$f":"Fund!P3617","v":""}]
[null,null,null,null,null,null,null,null,null,null,null,null,{"$f":"Fund!W3618","v":"00:00:00"},{"$f":"Fund!X3618","v":0},{"$f":"-Fund!V3618","v":0},{"$f":"Fund!V3618","v":0},{"$f":"Fund!P3618","v":""}]
[null,null,null,null,null,null,null,null,null,null,null,null,{"$f":"Fund!W3619","v":"00:00:00"},{"$f":"Fund!X3619","v":0},{"$f":"-Fund!V3619","v":0},{"$f":"Fund!V3619","v":0},{"$f":"Fund!P3619","v":""}]
[null,null,null,null,null,null,null,null,null,null,null,null,{"$f":"Fund!W3620","v":"00:00:00"},{"$f":"Fund!X3620","v":0},{"$f":"-Fund!V3620","v":0},{"$f":"Fund!V3620","v":0},{"$f":"Fund!P3620","v":""}]
[null,null,null,null,null,null,null,null,null,null,null,null,{"$f":"Fund!W3621","v":"00:00:00"},{"$f":"Fund!X3621","v":0},{"$f":"-Fund!V3621","v":0},{"$f":"Fund!V3621","v":0},{"$f":"Fund!P3621","v":""}]
[null,null,null,null,null,null,null,null,null,null,null,null,{"$f":"Fund!W3622","v":"00:00:00"},{"$f":"Fund!X3622","v":0},{"$f":"-Fund!V3622","v":0},{"$f":"Fund!V3622","v":0},{"$f":"Fund!P3622","v":""}]
[null,null,null,null,null,null,null,null,null,null,null,null,{"$f":"Fund!W3623","v":"00:00:00"},{"$f":"Fund!X3623","v":0},{"$f":"-Fund!V3623","v":0},{"$f":"Fund!V3623","v":0},{"$f":"Fund!P3623","v":""}]
[null,null,null,null,null,null,null,null,null,null,null,null,{"$f":"Fund!W3624","v":"00:00:00"},{"$f":"Fund!X3624","v":0},{"$f":"-Fund!V3624","v":0},{"$f":"Fund!V3624","v":0},{"$f":"Fund!P3624","v":""}]
[null,null,null,null,null,null,null,null,null,null,null,null,{"$f":"Fund!W3625","v":"00:00:00"},{"$f":"Fund!X3625","v":0},{"$f":"-Fund!V3625","v":0},{"$f":"Fund!V3625","v":0},{"$f":"Fund!P3625","v":""}]
[null,null,null,null,null,null,null,null,null,null,null,null,{"$f":"Fund!W3626","v":"00:00:00"},{"$f":"Fund!X3626","v":0},{"$f":"-Fund!V3626","v":0},{"$f":"Fund!V3626","v":0},{"$f":"Fund!P3626","v":""}]
[null,null,null,null,null,null,null,null,null,null,null,null,{"$f":"Fund!W3627","v":"00:00:00"},{"$f":"Fund!X3627","v":0},{"$f":"-Fund!V3627","v":0},{"$f":"Fund!V3627","v":0},{"$f":"Fund!P3627","v":""}]
[null,null,null,null,null,null,null,null,null,null,null,null,{"$f":"Fund!W3628","v":"00:00:00"},{"$f":"Fund!X3628","v":0},{"$f":"-Fund!V3628","v":0},{"$f":"Fund!V3628","v":0},{"$f":"Fund!P3628","v":""}]
[null,null,null,null,null,null,null,null,null,null,null,null,{"$f":"Fund!W3629","v":"00:00:00"},{"$f":"Fund!X3629","v":0},{"$f":"-Fund!V3629","v":0},{"$f":"Fund!V3629","v":0},{"$f":"Fund!P3629","v":""}]
[null,null,null,null,null,null,null,null,null,null,null,null,{"$f":"Fund!W3630","v":"00:00:00"},{"$f":"Fund!X3630","v":0},{"$f":"-Fund!V3630","v":0},{"$f":"Fund!V3630","v":0},{"$f":"Fund!P3630","v":""}]
[null,null,null,null,null,null,null,null,null,null,null,null,{"$f":"Fund!W3631","v":"00:00:00"},{"$f":"Fund!X3631","v":0},{"$f":"-Fund!V3631","v":0},{"$f":"Fund!V3631","v":0},{"$f":"Fund!P3631","v":""}]
[null,null,null,null,null,null,null,null,null,null,null,null,{"$f":"Fund!W3632","v":"00:00:00"},{"$f":"Fund!X3632","v":0},{"$f":"-Fund!V3632","v":0},{"$f":"Fund!V3632","v":0},{"$f":"Fund!P3632","v":""}]
[null,null,null,null,null,null,null,null,null,null,null,null,{"$f":"Fund!W3633","v":"00:00:00"},{"$f":"Fund!X3633","v":0},{"$f":"-Fund!V3633","v":0},{"$f":"Fund!V3633","v":0},{"$f":"Fund!P3633","v":""}]
[null,null,null,null,null,null,null,null,null,null,null,null,{"$f":"Fund!W3634","v":"00:00:00"},{"$f":"Fund!X3634","v":0},{"$f":"-Fund!V3634","v":0},{"$f":"Fund!V3634","v":0},{"$f":"Fund!P3634","v":""}]
[null,null,null,null,null,null,null,null,null,null,null,null,{"$f":"Fund!W3635","v":"00:00:00"},{"$f":"Fund!X3635","v":0},{"$f":"-Fund!V3635","v":0},{"$f":"Fund!V3635","v":0},{"$f":"Fund!P3635","v":""}]
[null,null,null,null,null,null,null,null,null,null,null,null,{"$f":"Fund!W3636","v":"00:00:00"},{"$f":"Fund!X3636","v":0},{"$f":"-Fund!V3636","v":0},{"$f":"Fund!V3636","v":0},{"$f":"Fund!P3636","v":""}]
[null,null,null,null,null,null,null,null,null,null,null,null,{"$f":"Fund!W3637","v":"00:00:00"},{"$f":"Fund!X3637","v":0},{"$f":"-Fund!V3637","v":0},{"$f":"Fund!V3637","v":0},{"$f":"Fund!P3637","v":""}]
[null,null,null,null,null,null,null,null,null,null,null,null,{"$f":"Fund!W3638","v":"00:00:00"},{"$f":"Fund!X3638","v":0},{"$f":"-Fund!V3638","v":0},{"$f":"Fund!V3638","v":0},{"$f":"Fund!P3638","v":""}]
[null,null,null,null,null,null,null,null,null,null,null,null,{"$f":"Fund!W3639","v":"00:00:00"},{"$f":"Fund!X3639","v":0},{"$f":"-Fund!V3639","v":0},{"$f":"Fund!V3639","v":0},{"$f":"Fund!P3639","v":""}]
[null,null,null,null,null,null,null,null,null,null,null,null,{"$f":"Fund!W3640","v":"00:00:00"},{"$f":"Fund!X3640","v":0},{"$f":"-Fund!V3640","v":0},{"$f":"Fund!V3640","v":0},{"$f":"Fund!P3640","v":""}]
[null,null,null,null,null,null,null,null,null,null,null,null,{"$f":"Fund!W3641","v":"00:00:00"},{"$f":"Fund!X3641","v":0},{"$f":"-Fund!V3641","v":0},{"$f":"Fund!V3641","v":0},{"$f":"Fund!P3641","v":""}]
[null,null,null,null,null,null,null,null,null,null,null,null,{"$f":"Fund!W3642","v":"00:00:00"},{"$f":"Fund!X3642","v":0},{"$f":"-Fund!V3642","v":0},{"$f":"Fund!V3642","v":0},{"$f":"Fund!P3642","v":""}]
[null,null,null,null,null,null,null,null,null,null,null,null,{"$f":"Fund!W3643","v":"00:00:00"},{"$f":"Fund!X3643","v":0},{"$f":"-Fund!V3643","v":0},{"$f":"Fund!V3643","v":0},{"$f":"Fund!P3643","v":""}]
[null,null,null,null,null,null,null,null,null,null,null,null,{"$f":"Fund!W3644","v":"00:00:00"},{"$f":"Fund!X3644","v":0},{"$f":"-Fund!V3644","v":0},{"$f":"Fund!V3644","v":0},{"$f":"Fund!P3644","v":""}]
[null,null,null,null,null,null,null,null,null,null,null,null,{"$f":"Fund!W3645","v":"00:00:00"},{"$f":"Fund!X3645","v":0},{"$f":"-Fund!V3645","v":0},{"$f":"Fund!V3645","v":0},{"$f":"Fund!P3645","v":""}]
[null,null,null,null,null,null,null,null,null,null,null,null,{"$f":"Fund!W3646","v":"00:00:00"},{"$f":"Fund!X3646","v":0},{"$f":"-Fund!V3646","v":0},{"$f":"Fund!V3646","v":0},{"$f":"Fund!P3646","v":""}]
[null,null,null,null,null,null,null,null,null,null,null,null,{"$f":"Fund!W3647","v":"00:00:00"},{"$f":"Fund!X3647","v":0},{"$f":"-Fund!V3647","v":0},{"$f":"Fund!V3647","v":0},{"$f":"Fund!P3647","v":""}]
[null,null,null,null,null,null,null,null,null,null,null,null,{"$f":"Fund!W3648","v":"00:00:00"},{"$f":"Fund!X3648","v":0},{"$f":"-Fund!V3648","v":0},{"$f":"Fund!V3648","v":0},{"$f":"Fund!P3648","v":""}]
[null,null,null,null,null,null,null,null,null,null,null,null,{"$f":"Fund!W3649","v":"00:00:00"},{"$f":"Fund!X3649","v":0},{"$f":"-Fund!V3649","v":0},{"$f":"Fund!V3649","v":0},{"$f":"Fund!P3649","v":""}]
[null,null,null,null,null,null,null,null,null,null,null,null,{"$f":"Fund!W3650","v":"00:00:00"},{"$f":"Fund!X3650","v":0},{"$f":"-Fund!V3650","v":0},{"$f":"Fund!V3650","v":0},{"$f":"Fund!P3650","v":""}]
[null,null,null,null,null,null,null,null,null,null,null,null,{"$f":"Fund!W3651","v":"00:00:00"},{"$f":"Fund!X3651","v":0},{"$f":"-Fund!V3651","v":0},{"$f":"Fund!V3651","v":0},{"$f":"Fund!P3651","v":""}]
[null,null,null,null,null,null,null,null,null,null,null,null,{"$f":"Fund!W3652","v":"00:00:00"},{"$f":"Fund!X3652","v":0},{"$f":"-Fund!V3652","v":0},{"$f":"Fund!V3652","v":0},{"$f":"Fund!P3652","v":""}]
[null,null,null,null,null,null,null,null,null,null,null,null,{"$f":"Fund!W3653","v":"00:00:00"},{"$f":"Fund!X3653","v":0},{"$f":"-Fund!V3653","v":0},{"$f":"Fund!V3653","v":0},{"$f":"Fund!P3653","v":""}]
[null,null,null,null,null,null,null,null,null,null,null,null,{"$f":"Fund!W3654","v":"00:00:00"},{"$f":"Fund!X3654","v":0},{"$f":"-Fund!V3654","v":0},{"$f":"Fund!V3654","v":0},{"$f":"Fund!P3654","v":""}]
[null,null,null,null,null,null,null,null,null,null,null,null,{"$f":"Fund!W3655","v":"00:00:00"},{"$f":"Fund!X3655","v":0},{"$f":"-Fund!V3655","v":0},{"$f":"Fund!V3655","v":0},{"$f":"Fund!P3655","v":""}]
[null,null,null,null,null,null,null,null,null,null,null,null,{"$f":"Fund!W3656","v":"00:00:00"},{"$f":"Fund!X3656","v":0},{"$f":"-Fund!V3656","v":0},{"$f":"Fund!V3656","v":0},{"$f":"Fund!P3656","v":""}]
[null,null,null,null,null,null,null,null,null,null,null,null,{"$f":"Fund!W3657","v":"00:00:00"},{"$f":"Fund!X3657","v":0},{"$f":"-Fund!V3657","v":0},{"$f":"Fund!V3657","v":0},{"$f":"Fund!P3657","v":""}]
[null,null,null,null,null,null,null,null,null,null,null,null,{"$f":"Fund!W3658","v":"00:00:00"},{"$f":"Fund!X3658","v":0},{"$f":"-Fund!V3658","v":0},{"$f":"Fund!V3658","v":0},{"$f":"Fund!P3658","v":""}]
[null,null,null,null,null,null,null,null,null,null,null,null,{"$f":"Fund!W3659","v":"00:00:00"},{"$f":"Fund!X3659","v":0},{"$f":"-Fund!V3659","v":0},{"$f":"Fund!V3659","v":0},{"$f":"Fund!P3659","v":""}]
[null,null,null,null,null,null,null,null,null,null,null,null,{"$f":"Fund!W3660","v":"00:00:00"},{"$f":"Fund!X3660","v":0},{"$f":"-Fund!V3660","v":0},{"$f":"Fund!V3660","v":0},{"$f":"Fund!P3660","v":""}]
[null,null,null,null,null,null,null,null,null,null,null,null,{"$f":"Fund!W3661","v":"00:00:00"},{"$f":"Fund!X3661","v":0},{"$f":"-Fund!V3661","v":0},{"$f":"Fund!V3661","v":0},{"$f":"Fund!P3661","v":""}]
[null,null,null,null,null,null,null,null,null,null,null,null,{"$f":"Fund!W3662","v":"00:00:00"},{"$f":"Fund!X3662","v":0},{"$f":"-Fund!V3662","v":0},{"$f":"Fund!V3662","v":0},{"$f":"Fund!P3662","v":""}]
[null,null,null,null,null,null,null,null,null,null,null,null,{"$f":"Fund!W3663","v":"00:00:00"},{"$f":"Fund!X3663","v":0},{"$f":"-Fund!V3663","v":0},{"$f":"Fund!V3663","v":0},{"$f":"Fund!P3663","v":""}]
[null,null,null,null,null,null,null,null,null,null,null,null,{"$f":"Fund!W3664","v":"00:00:00"},{"$f":"Fund!X3664","v":0},{"$f":"-Fund!V3664","v":0},{"$f":"Fund!V3664","v":0},{"$f":"Fund!P3664","v":""}]
[null,null,null,null,null,null,null,null,null,null,null,null,{"$f":"Fund!W3665","v":"00:00:00"},{"$f":"Fund!X3665","v":0},{"$f":"-Fund!V3665","v":0},{"$f":"Fund!V3665","v":0},{"$f":"Fund!P3665","v":""}]
[null,null,null,null,null,null,null,null,null,null,null,null,{"$f":"Fund!W3666","v":"00:00:00"},{"$f":"Fund!X3666","v":0},{"$f":"-Fund!V3666","v":0},{"$f":"Fund!V3666","v":0},{"$f":"Fund!P3666","v":""}]
[null,null,null,null,null,null,null,null,null,null,null,null,{"$f":"Fund!W3667","v":"00:00:00"},{"$f":"Fund!X3667","v":0},{"$f":"-Fund!V3667","v":0},{"$f":"Fund!V3667","v":0},{"$f":"Fund!P3667","v":""}]
[null,null,null,null,null,null,null,null,null,null,null,null,{"$f":"Fund!W3668","v":"00:00:00"},{"$f":"Fund!X3668","v":0},{"$f":"-Fund!V3668","v":0},{"$f":"Fund!V3668","v":0},{"$f":"Fund!P3668","v":""}]
[null,null,null,null,null,null,null,null,null,null,null,null,{"$f":"Fund!W3669","v":"00:00:00"},{"$f":"Fund!X3669","v":0},{"$f":"-Fund!V3669","v":0},{"$f":"Fund!V3669","v":0},{"$f":"Fund!P3669","v":""}]
[null,null,null,null,null,null,null,null,null,null,null,null,{"$f":"Fund!W3670","v":"00:00:00"},{"$f":"Fund!X3670","v":0},{"$f":"-Fund!V3670","v":0},{"$f":"Fund!V3670","v":0},{"$f":"Fund!P3670","v":""}]
[null,null,null,null,null,null,null,null,null,null,null,null,{"$f":"Fund!W3671","v":"00:00:00"},{"$f":"Fund!X3671","v":0},{"$f":"-Fund!V3671","v":0},{"$f":"Fund!V3671","v":0},{"$f":"Fund!P3671","v":""}]
[null,null,null,null,null,null,null,null,null,null,null,null,{"$f":"Fund!W3672","v":"00:00:00"},{"$f":"Fund!X3672","v":0},{"$f":"-Fund!V3672","v":0},{"$f":"Fund!V3672","v":0},{"$f":"Fund!P3672","v":""}]
[null,null,null,null,null,null,null,null,null,null,null,null,{"$f":"Fund!W3673","v":"00:00:00"},{"$f":"Fund!X3673","v":0},{"$f":"-Fund!V3673","v":0},{"$f":"Fund!V3673","v":0},{"$f":"Fund!P3673","v":""}]
[null,null,null,null,null,null,null,null,null,null,null,null,{"$f":"Fund!W3674","v":"00:00:00"},{"$f":"Fund!X3674","v":0},{"$f":"-Fund!V3674","v":0},{"$f":"Fund!V3674","v":0},{"$f":"Fund!P3674","v":""}]
[null,null,null,null,null,null,null,null,null,null,null,null,{"$f":"Fund!W3675","v":"00:00:00"},{"$f":"Fund!X3675","v":0},{"$f":"-Fund!V3675","v":0},{"$f":"Fund!V3675","v":0},{"$f":"Fund!P3675","v":""}]
[null,null,null,null,null,null,null,null,null,null,null,null,{"$f":"Fund!W3676","v":"00:00:00"},{"$f":"Fund!X3676","v":0},{"$f":"-Fund!V3676","v":0},{"$f":"Fund!V3676","v":0},{"$f":"Fund!P3676","v":""}]
[null,null,null,null,null,null,null,null,null,null,null,null,{"$f":"Fund!W3677","v":"00:00:00"},{"$f":"Fund!X3677","v":0},{"$f":"-Fund!V3677","v":0},{"$f":"Fund!V3677","v":0},{"$f":"Fund!P3677","v":""}]
[null,null,null,null,null,null,null,null,null,null,null,null,{"$f":"Fund!W3678","v":"00:00:00"},{"$f":"Fund!X3678","v":0},{"$f":"-Fund!V3678","v":0},{"$f":"Fund!V3678","v":0},{"$f":"Fund!P3678","v":""}]
[null,null,null,null,null,null,null,null,null,null,null,null,{"$f":"Fund!W3679","v":"00:00:00"},{"$f":"Fund!X3679","v":0},{"$f":"-Fund!V3679","v":0},{"$f":"Fund!V3679","v":0},{"$f":"Fund!P3679","v":""}]
[null,null,null,null,null,null,null,null,null,null,null,null,{"$f":"Fund!W3680","v":"00:00:00"},{"$f":"Fund!X3680","v":0},{"$f":"-Fund!V3680","v":0},{"$f":"Fund!V3680","v":0},{"$f":"Fund!P3680","v":""}]
[null,null,null,null,null,null,null,null,null,null,null,null,{"$f":"Fund!W3681","v":"00:00:00"},{"$f":"Fund!X3681","v":0},{"$f":"-Fund!V3681","v":0},{"$f":"Fund!V3681","v":0},{"$f":"Fund!P3681","v":""}]
[null,null,null,null,null,null,null,null,null,null,null,null,{"$f":"Fund!W3682","v":"00:00:00"},{"$f":"Fund!X3682","v":0},{"$f":"-Fund!V3682","v":0},{"$f":"Fund!V3682","v":0},{"$f":"Fund!P3682","v":""}]
[null,null,null,null,null,null,null,null,null,null,null,null,{"$f":"Fund!W3683","v":"00:00:00"},{"$f":"Fund!X3683","v":0},{"$f":"-Fund!V3683","v":0},{"$f":"Fund!V3683","v":0},{"$f":"Fund!P3683","v":""}]
[null,null,null,null,null,null,null,null,null,null,null,null,{"$f":"Fund!W3684","v":"00:00:00"},{"$f":"Fund!X3684","v":0},{"$f":"-Fund!V3684","v":0},{"$f":"Fund!V3684","v":0},{"$f":"Fund!P3684","v":""}]
[null,null,null,null,null,null,null,null,null,null,null,null,{"$f":"Fund!W3685","v":"00:00:00"},{"$f":"Fund!X3685","v":0},{"$f":"-Fund!V3685","v":0},{"$f":"Fund!V3685","v":0},{"$f":"Fund!P3685","v":""}]
[null,null,null,null,null,null,null,null,null,null,null,null,{"$f":"Fund!W3686","v":"00:00:00"},{"$f":"Fund!X3686","v":0},{"$f":"-Fund!V3686","v":0},{"$f":"Fund!V3686","v":0},{"$f":"Fund!P3686","v":""}]
[null,null,null,null,null,null,null,null,null,null,null,null,{"$f":"Fund!W3687","v":"00:00:00"},{"$f":"Fund!X3687","v":0},{"$f":"-Fund!V3687","v":0},{"$f":"Fund!V3687","v":0},{"$f":"Fund!P3687","v":""}]
[null,null,null,null,null,null,null,null,null,null,null,null,{"$f":"Fund!W3688","v":"00:00:00"},{"$f":"Fund!X3688","v":0},{"$f":"-Fund!V3688","v":0},{"$f":"Fund!V3688","v":0},{"$f":"Fund!P3688","v":""}]
[null,null,null,null,null,null,null,null,null,null,null,null,{"$f":"Fund!W3689","v":"00:00:00"},{"$f":"Fund!X3689","v":0},{"$f":"-Fund!V3689","v":0},{"$f":"Fund!V3689","v":0},{"$f":"Fund!P3689","v":""}]
[null,null,null,null,null,null,null,null,null,null,null,null,{"$f":"Fund!W3690","v":"00:00:00"},{"$f":"Fund!X3690","v":0},{"$f":"-Fund!V3690","v":0},{"$f":"Fund!V3690","v":0},{"$f":"Fund!P3690","v":""}]
[null,null,null,null,null,null,null,null,null,null,null,null,{"$f":"Fund!W3691","v":"00:00:00"},{"$f":"Fund!X3691","v":0},{"$f":"-Fund!V3691","v":0},{"$f":"Fund!V3691","v":0},{"$f":"Fund!P3691","v":""}]
[null,null,null,null,null,null,null,null,null,null,null,null,{"$f":"Fund!W3692","v":"00:00:00"},{"$f":"Fund!X3692","v":0},{"$f":"-Fund!V3692","v":0},{"$f":"Fund!V3692","v":0},{"$f":"Fund!P3692","v":""}]
[null,null,null,null,null,null,null,null,null,null,null,null,{"$f":"Fund!W3693","v":"00:00:00"},{"$f":"Fund!X3693","v":0},{"$f":"-Fund!V3693","v":0},{"$f":"Fund!V3693","v":0},{"$f":"Fund!P3693","v":""}]
[null,null,null,null,null,null,null,null,null,null,null,null,{"$f":"Fund!W3694","v":"00:00:00"},{"$f":"Fund!X3694","v":0},{"$f":"-Fund!V3694","v":0},{"$f":"Fund!V3694","v":0},{"$f":"Fund!P3694","v":""}]
[null,null,null,null,null,null,null,null,null,null,null,null,{"$f":"Fund!W3695","v":"00:00:00"},{"$f":"Fund!X3695","v":0},{"$f":"-Fund!V3695","v":0},{"$f":"Fund!V3695","v":0},{"$f":"Fund!P3695","v":""}]
[null,null,null,null,null,null,null,null,null,null,null,null,{"$f":"Fund!W3696","v":"00:00:00"},{"$f":"Fund!X3696","v":0},{"$f":"-Fund!V3696","v":0},{"$f":"Fund!V3696","v":0},{"$f":"Fund!P3696","v":""}]
[null,null,null,null,null,null,null,null,null,null,null,null,{"$f":"Fund!W3697","v":"00:00:00"},{"$f":"Fund!X3697","v":0},{"$f":"-Fund!V3697","v":0},{"$f":"Fund!V3697","v":0},{"$f":"Fund!P3697","v":""}]
[null,null,null,null,null,null,null,null,null,null,null,null,{"$f":"Fund!W3698","v":"00:00:00"},{"$f":"Fund!X3698","v":0},{"$f":"-Fund!V3698","v":0},{"$f":"Fund!V3698","v":0},{"$f":"Fund!P3698","v":""}]
[null,null,null,null,null,null,null,null,null,null,null,null,{"$f":"Fund!W3699","v":"00:00:00"},{"$f":"Fund!X3699","v":0},{"$f":"-Fund!V3699","v":0},{"$f":"Fund!V3699","v":0},{"$f":"Fund!P3699","v":""}]
[null,null,null,null,null,null,null,null,null,null,null,null,{"$f":"Fund!W3700","v":"00:00:00"},{"$f":"Fund!X3700","v":0},{"$f":"-Fund!V3700","v":0},{"$f":"Fund!V3700","v":0},{"$f":"Fund!P3700","v":""}]
[null,null,null,null,null,null,null,null,null,null,null,null,{"$f":"Fund!W3701","v":"00:00:00"},{"$f":"Fund!X3701","v":0},{"$f":"-Fund!V3701","v":0},{"$f":"Fund!V3701","v":0},{"$f":"Fund!P3701","v":""}]
[null,null,null,null,null,null,null,null,null,null,null,null,{"$f":"Fund!W3702","v":"00:00:00"},{"$f":"Fund!X3702","v":0},{"$f":"-Fund!V3702","v":0},{"$f":"Fund!V3702","v":0},{"$f":"Fund!P3702","v":""}]
[null,null,null,null,null,null,null,null,null,null,null,null,{"$f":"Fund!W3703","v":"00:00:00"},{"$f":"Fund!X3703","v":0},{"$f":"-Fund!V3703","v":0},{"$f":"Fund!V3703","v":0},{"$f":"Fund!P3703","v":""}]
[null,null,null,null,null,null,null,null,null,null,null,null,{"$f":"Fund!W3704","v":"00:00:00"},{"$f":"Fund!X3704","v":0},{"$f":"-Fund!V3704","v":0},{"$f":"Fund!V3704","v":0},{"$f":"Fund!P3704","v":""}]
[null,null,null,null,null,null,null,null,null,null,null,null,{"$f":"Fund!W3705","v":"00:00:00"},{"$f":"Fund!X3705","v":0},{"$f":"-Fund!V3705","v":0},{"$f":"Fund!V3705","v":0},{"$f":"Fund!P3705","v":""}]
[null,null,null,null,null,null,null,null,null,null,null,null,{"$f":"Fund!W3706","v":"00:00:00"},{"$f":"Fund!X3706","v":0},{"$f":"-Fund!V3706","v":0},{"$f":"Fund!V3706","v":0},{"$f":"Fund!P3706","v":""}]
[null,null,null,null,null,null,null,null,null,null,null,null,{"$f":"Fund!W3707","v":"00:00:00"},{"$f":"Fund!X3707","v":0},{"$f":"-Fund!V3707","v":0},{"$f":"Fund!V3707","v":0},{"$f":"Fund!P3707","v":""}]
[null,null,null,null,null,null,null,null,null,null,null,null,{"$f":"Fund!W3708","v":"00:00:00"},{"$f":"Fund!X3708","v":0},{"$f":"-Fund!V3708","v":0},{"$f":"Fund!V3708","v":0},{"$f":"Fund!P3708","v":""}]
[null,null,null,null,null,null,null,null,null,null,null,null,{"$f":"Fund!W3709","v":"00:00:00"},{"$f":"Fund!X3709","v":0},{"$f":"-Fund!V3709","v":0},{"$f":"Fund!V3709","v":0},{"$f":"Fund!P3709","v":""}]
[null,null,null,null,null,null,null,null,null,null,null,null,{"$f":"Fund!W3710","v":"00:00:00"},{"$f":"Fund!X3710","v":0},{"$f":"-Fund!V3710","v":0},{"$f":"Fund!V3710","v":0},{"$f":"Fund!P3710","v":""}]
[null,null,null,null,null,null,null,null,null,null,null,null,{"$f":"Fund!W3711","v":"00:00:00"},{"$f":"Fund!X3711","v":0},{"$f":"-Fund!V3711","v":0},{"$f":"Fund!V3711","v":0},{"$f":"Fund!P3711","v":""}]
[null,null,null,null,null,null,null,null,null,null,null,null,{"$f":"Fund!W3712","v":"00:00:00"},{"$f":"Fund!X3712","v":0},{"$f":"-Fund!V3712","v":0},{"$f":"Fund!V3712","v":0},{"$f":"Fund!P3712","v":""}]
[null,null,null,null,null,null,null,null,null,null,null,null,{"$f":"Fund!W3713","v":"00:00:00"},{"$f":"Fund!X3713","v":0},{"$f":"-Fund!V3713","v":0},{"$f":"Fund!V3713","v":0},{"$f":"Fund!P3713","v":""}]
[null,null,null,null,null,null,null,null,null,null,null,null,{"$f":"Fund!W3714","v":"00:00:00"},{"$f":"Fund!X3714","v":0},{"$f":"-Fund!V3714","v":0},{"$f":"Fund!V3714","v":0},{"$f":"Fund!P3714","v":""}]
[null,null,null,null,null,null,null,null,null,null,null,null,{"$f":"Fund!W3715","v":"00:00:00"},{"$f":"Fund!X3715","v":0},{"$f":"-Fund!V3715","v":0},{"$f":"Fund!V3715","v":0},{"$f":"Fund!P3715","v":""}]
[null,null,null,null,null,null,null,null,null,null,null,null,{"$f":"Fund!W3716","v":"00:00:00"},{"$f":"Fund!X3716","v":0},{"$f":"-Fund!V3716","v":0},{"$f":"Fund!V3716","v":0},{"$f":"Fund!P3716","v":""}]
[null,null,null,null,null,null,null,null,null,null,null,null,{"$f":"Fund!W3717","v":"00:00:00"},{"$f":"Fund!X3717","v":0},{"$f":"-Fund!V3717","v":0},{"$f":"Fund!V3717","v":0},{"$f":"Fund!P3717","v":""}]
[null,null,null,null,null,null,null,null,null,null,null,null,{"$f":"Fund!W3718","v":"00:00:00"},{"$f":"Fund!X3718","v":0},{"$f":"-Fund!V3718","v":0},{"$f":"Fund!V3718","v":0},{"$f":"Fund!P3718","v":""}]
[null,null,null,null,null,null,null,null,null,null,null,null,{"$f":"Fund!W3719","v":"00:00:00"},{"$f":"Fund!X3719","v":0},{"$f":"-Fund!V3719","v":0},{"$f":"Fund!V3719","v":0},{"$f":"Fund!P3719","v":""}]
[null,null,null,null,null,null,null,null,null,null,null,null,{"$f":"Fund!W3720","v":"00:00:00"},{"$f":"Fund!X3720","v":0},{"$f":"-Fund!V3720","v":0},{"$f":"Fund!V3720","v":0},{"$f":"Fund!P3720","v":""}]
[null,null,null,null,null,null,null,null,null,null,null,null,{"$f":"Fund!W3721","v":"00:00:00"},{"$f":"Fund!X3721","v":0},{"$f":"-Fund!V3721","v":0},{"$f":"Fund!V3721","v":0},{"$f":"Fund!P3721","v":""}]
[null,null,null,null,null,null,null,null,null,null,null,null,{"$f":"Fund!W3722","v":"00:00:00"},{"$f":"Fund!X3722","v":0},{"$f":"-Fund!V3722","v":0},{"$f":"Fund!V3722","v":0},{"$f":"Fund!P3722","v":""}]
[null,null,null,null,null,null,null,null,null,null,null,null,{"$f":"Fund!W3723","v":"00:00:00"},{"$f":"Fund!X3723","v":0},{"$f":"-Fund!V3723","v":0},{"$f":"Fund!V3723","v":0},{"$f":"Fund!P3723","v":""}]
[null,null,null,null,null,null,null,null,null,null,null,null,{"$f":"Fund!W3724","v":"00:00:00"},{"$f":"Fund!X3724","v":0},{"$f":"-Fund!V3724","v":0},{"$f":"Fund!V3724","v":0},{"$f":"Fund!P3724","v":""}]
[null,null,null,null,null,null,null,null,null,null,null,null,{"$f":"Fund!W3725","v":"00:00:00"},{"$f":"Fund!X3725","v":0},{"$f":"-Fund!V3725","v":0},{"$f":"Fund!V3725","v":0},{"$f":"Fund!P3725","v":""}]
[null,null,null,null,null,null,null,null,null,null,null,null,{"$f":"Fund!W3726","v":"00:00:00"},{"$f":"Fund!X3726","v":0},{"$f":"-Fund!V3726","v":0},{"$f":"Fund!V3726","v":0},{"$f":"Fund!P3726","v":""}]
[null,null,null,null,null,null,null,null,null,null,null,null,{"$f":"Fund!W3727","v":"00:00:00"},{"$f":"Fund!X3727","v":0},{"$f":"-Fund!V3727","v":0},{"$f":"Fund!V3727","v":0},{"$f":"Fund!P3727","v":""}]
[null,null,null,null,null,null,null,null,null,null,null,null,{"$f":"Fund!W3728","v":"00:00:00"},{"$f":"Fund!X3728","v":0},{"$f":"-Fund!V3728","v":0},{"$f":"Fund!V3728","v":0},{"$f":"Fund!P3728","v":""}]
[null,null,null,null,null,null,null,null,null,null,null,null,{"$f":"Fund!W3729","v":"00:00:00"},{"$f":"Fund!X3729","v":0},{"$f":"-Fund!V3729","v":0},{"$f":"Fund!V3729","v":0},{"$f":"Fund!P3729","v":""}]
[null,null,null,null,null,null,null,null,null,null,null,null,{"$f":"Fund!W3730","v":"00:00:00"},{"$f":"Fund!X3730","v":0},{"$f":"-Fund!V3730","v":0},{"$f":"Fund!V3730","v":0},{"$f":"Fund!P3730","v":""}]
[null,null,null,null,null,null,null,null,null,null,null,null,{"$f":"Fund!W3731","v":"00:00:00"},{"$f":"Fund!X3731","v":0},{"$f":"-Fund!V3731","v":0},{"$f":"Fund!V3731","v":0},{"$f":"Fund!P3731","v":""}]
[null,null,null,null,null,null,null,null,null,null,null,null,{"$f":"Fund!W3732","v":"00:00:00"},{"$f":"Fund!X3732","v":0},{"$f":"-Fund!V3732","v":0},{"$f":"Fund!V3732","v":0},{"$f":"Fund!P3732","v":""}]
[null,null,null,null,null,null,null,null,null,null,null,null,{"$f":"Fund!W3733","v":"00:00:00"},{"$f":"Fund!X3733","v":0},{"$f":"-Fund!V3733","v":0},{"$f":"Fund!V3733","v":0},{"$f":"Fund!P3733","v":""}]
[null,null,null,null,null,null,null,null,null,null,null,null,{"$f":"Fund!W3734","v":"00:00:00"},{"$f":"Fund!X3734","v":0},{"$f":"-Fund!V3734","v":0},{"$f":"Fund!V3734","v":0},{"$f":"Fund!P3734","v":""}]
[null,null,null,null,null,null,null,null,null,null,null,null,{"$f":"Fund!W3735","v":"00:00:00"},{"$f":"Fund!X3735","v":0},{"$f":"-Fund!V3735","v":0},{"$f":"Fund!V3735","v":0},{"$f":"Fund!P3735","v":""}]
[null,null,null,null,null,null,null,null,null,null,null,null,{"$f":"Fund!W3736","v":"00:00:00"},{"$f":"Fund!X3736","v":0},{"$f":"-Fund!V3736","v":0},{"$f":"Fund!V3736","v":0},{"$f":"Fund!P3736","v":""}]
[null,null,null,null,null,null,null,null,null,null,null,null,{"$f":"Fund!W3737","v":"00:00:00"},{"$f":"Fund!X3737","v":0},{"$f":"-Fund!V3737","v":0},{"$f":"Fund!V3737","v":0},{"$f":"Fund!P3737","v":""}]
[null,null,null,null,null,null,null,null,null,null,null,null,{"$f":"Fund!W3738","v":"00:00:00"},{"$f":"Fund!X3738","v":0},{"$f":"-Fund!V3738","v":0},{"$f":"Fund!V3738","v":0},{"$f":"Fund!P3738","v":""}]
[null,null,null,null,null,null,null,null,null,null,null,null,{"$f":"Fund!W3739","v":"00:00:00"},{"$f":"Fund!X3739","v":0},{"$f":"-Fund!V3739","v":0},{"$f":"Fund!V3739","v":0},{"$f":"Fund!P3739","v":""}]
[null,null,null,null,null,null,null,null,null,null,null,null,{"$f":"Fund!W3740","v":"00:00:00"},{"$f":"Fund!X3740","v":0},{"$f":"-Fund!V3740","v":0},{"$f":"Fund!V3740","v":0},{"$f":"Fund!P3740","v":""}]
[null,null,null,null,null,null,null,null,null,null,null,null,{"$f":"Fund!W3741","v":"00:00:00"},{"$f":"Fund!X3741","v":0},{"$f":"-Fund!V3741","v":0},{"$f":"Fund!V3741","v":0},{"$f":"Fund!P3741","v":""}]
[null,null,null,null,null,null,null,null,null,null,null,null,{"$f":"Fund!W3742","v":"00:00:00"},{"$f":"Fund!X3742","v":0},{"$f":"-Fund!V3742","v":0},{"$f":"Fund!V3742","v":0},{"$f":"Fund!P3742","v":""}]
[null,null,null,null,null,null,null,null,null,null,null,null,{"$f":"Fund!W3743","v":"00:00:00"},{"$f":"Fund!X3743","v":0},{"$f":"-Fund!V3743","v":0},{"$f":"Fund!V3743","v":0},{"$f":"Fund!P3743","v":""}]
[null,null,null,null,null,null,null,null,null,null,null,null,{"$f":"Fund!W3744","v":"00:00:00"},{"$f":"Fund!X3744","v":0},{"$f":"-Fund!V3744","v":0},{"$f":"Fund!V3744","v":0},{"$f":"Fund!P3744","v":""}]
[null,null,null,null,null,null,null,null,null,null,null,null,{"$f":"Fund!W3745","v":"00:00:00"},{"$f":"Fund!X3745","v":0},{"$f":"-Fund!V3745","v":0},{"$f":"Fund!V3745","v":0},{"$f":"Fund!P3745","v":""}]
[null,null,null,null,null,null,null,null,null,null,null,null,{"$f":"Fund!W3746","v":"00:00:00"},{"$f":"Fund!X3746","v":0},{"$f":"-Fund!V3746","v":0},{"$f":"Fund!V3746","v":0},{"$f":"Fund!P3746","v":""}]
[null,null,null,null,null,null,null,null,null,null,null,null,{"$f":"Fund!W3747","v":"00:00:00"},{"$f":"Fund!X3747","v":0},{"$f":"-Fund!V3747","v":0},{"$f":"Fund!V3747","v":0},{"$f":"Fund!P3747","v":""}]
[null,null,null,null,null,null,null,null,null,null,null,null,{"$f":"Fund!W3748","v":"00:00:00"},{"$f":"Fund!X3748","v":0},{"$f":"-Fund!V3748","v":0},{"$f":"Fund!V3748","v":0},{"$f":"Fund!P3748","v":""}]
[null,null,null,null,null,null,null,null,null,null,null,null,{"$f":"Fund!W3749","v":"00:00:00"},{"$f":"Fund!X3749","v":0},{"$f":"-Fund!V3749","v":0},{"$f":"Fund!V3749","v":0},{"$f":"Fund!P3749","v":""}]
[null,null,null,null,null,null,null,null,null,null,null,null,{"$f":"Fund!W3750","v":"00:00:00"},{"$f":"Fund!X3750","v":0},{"$f":"-Fund!V3750","v":0},{"$f":"Fund!V3750","v":0},{"$f":"Fund!P3750","v":""}]
[null,null,null,null,null,null,null,null,null,null,null,null,{"$f":"Fund!W3751","v":"00:00:00"},{"$f":"Fund!X3751","v":0},{"$f":"-Fund!V3751","v":0},{"$f":"Fund!V3751","v":0},{"$f":"Fund!P3751","v":""}]
[null,null,null,null,null,null,null,null,null,null,null,null,{"$f":"Fund!W3752","v":"00:00:00"},{"$f":"Fund!X3752","v":0},{"$f":"-Fund!V3752","v":0},{"$f":"Fund!V3752","v":0},{"$f":"Fund!P3752","v":""}]
[null,null,null,null,null,null,null,null,null,null,null,null,{"$f":"Fund!W3753","v":"00:00:00"},{"$f":"Fund!X3753","v":0},{"$f":"-Fund!V3753","v":0},{"$f":"Fund!V3753","v":0},{"$f":"Fund!P3753","v":""}]
[null,null,null,null,null,null,null,null,null,null,null,null,{"$f":"Fund!W3754","v":"00:00:00"},{"$f":"Fund!X3754","v":0},{"$f":"-Fund!V3754","v":0},{"$f":"Fund!V3754","v":0},{"$f":"Fund!P3754","v":""}]
[null,null,null,null,null,null,null,null,null,null,null,null,{"$f":"Fund!W3755","v":"00:00:00"},{"$f":"Fund!X3755","v":0},{"$f":"-Fund!V3755","v":0},{"$f":"Fund!V3755","v":0},{"$f":"Fund!P3755","v":""}]
[null,null,null,null,null,null,null,null,null,null,null,null,{"$f":"Fund!W3756","v":"00:00:00"},{"$f":"Fund!X3756","v":0},{"$f":"-Fund!V3756","v":0},{"$f":"Fund!V3756","v":0},{"$f":"Fund!P3756","v":""}]
[null,null,null,null,null,null,null,null,null,null,null,null,{"$f":"Fund!W3757","v":"00:00:00"},{"$f":"Fund!X3757","v":0},{"$f":"-Fund!V3757","v":0},{"$f":"Fund!V3757","v":0},{"$f":"Fund!P3757","v":""}]
[null,null,null,null,null,null,null,null,null,null,null,null,{"$f":"Fund!W3758","v":"00:00:00"},{"$f":"Fund!X3758","v":0},{"$f":"-Fund!V3758","v":0},{"$f":"Fund!V3758","v":0},{"$f":"Fund!P3758","v":""}]
[null,null,null,null,null,null,null,null,null,null,null,null,{"$f":"Fund!W3759","v":"00:00:00"},{"$f":"Fund!X3759","v":0},{"$f":"-Fund!V3759","v":0},{"$f":"Fund!V3759","v":0},{"$f":"Fund!P3759","v":""}]
[null,null,null,null,null,null,null,null,null,null,null,null,{"$f":"Fund!W3760","v":"00:00:00"},{"$f":"Fund!X3760","v":0},{"$f":"-Fund!V3760","v":0},{"$f":"Fund!V3760","v":0},{"$f":"Fund!P3760","v":""}]
[null,null,null,null,null,null,null,null,null,null,null,null,{"$f":"Fund!W3761","v":"00:00:00"},{"$f":"Fund!X3761","v":0},{"$f":"-Fund!V3761","v":0},{"$f":"Fund!V3761","v":0},{"$f":"Fund!P3761","v":""}]
[null,null,null,null,null,null,null,null,null,null,null,null,{"$f":"Fund!W3762","v":"00:00:00"},{"$f":"Fund!X3762","v":0},{"$f":"-Fund!V3762","v":0},{"$f":"Fund!V3762","v":0},{"$f":"Fund!P3762","v":""}]
[null,null,null,null,null,null,null,null,null,null,null,null,{"$f":"Fund!W3763","v":"00:00:00"},{"$f":"Fund!X3763","v":0},{"$f":"-Fund!V3763","v":0},{"$f":"Fund!V3763","v":0},{"$f":"Fund!P3763","v":""}]
[null,null,null,null,null,null,null,null,null,null,null,null,{"$f":"Fund!W3764","v":"00:00:00"},{"$f":"Fund!X3764","v":0},{"$f":"-Fund!V3764","v":0},{"$f":"Fund!V3764","v":0},{"$f":"Fund!P3764","v":""}]
[null,null,null,null,null,null,null,null,null,null,null,null,{"$f":"Fund!W3765","v":"00:00:00"},{"$f":"Fund!X3765","v":0},{"$f":"-Fund!V3765","v":0},{"$f":"Fund!V3765","v":0},{"$f":"Fund!P3765","v":""}]
[null,null,null,null,null,null,null,null,null,null,null,null,{"$f":"Fund!W3766","v":"00:00:00"},{"$f":"Fund!X3766","v":0},{"$f":"-Fund!V3766","v":0},{"$f":"Fund!V3766","v":0},{"$f":"Fund!P3766","v":""}]
[null,null,null,null,null,null,null,null,null,null,null,null,{"$f":"Fund!W3767","v":"00:00:00"},{"$f":"Fund!X3767","v":0},{"$f":"-Fund!V3767","v":0},{"$f":"Fund!V3767","v":0},{"$f":"Fund!P3767","v":""}]
[null,null,null,null,null,null,null,null,null,null,null,null,{"$f":"Fund!W3768","v":"00:00:00"},{"$f":"Fund!X3768","v":0},{"$f":"-Fund!V3768","v":0},{"$f":"Fund!V3768","v":0},{"$f":"Fund!P3768","v":""}]
[null,null,null,null,null,null,null,null,null,null,null,null,{"$f":"Fund!W3769","v":"00:00:00"},{"$f":"Fund!X3769","v":0},{"$f":"-Fund!V3769","v":0},{"$f":"Fund!V3769","v":0},{"$f":"Fund!P3769","v":""}]
[null,null,null,null,null,null,null,null,null,null,null,null,{"$f":"Fund!W3770","v":"00:00:00"},{"$f":"Fund!X3770","v":0},{"$f":"-Fund!V3770","v":0},{"$f":"Fund!V3770","v":0},{"$f":"Fund!P3770","v":""}]
[null,null,null,null,null,null,null,null,null,null,null,null,{"$f":"Fund!W3771","v":"00:00:00"},{"$f":"Fund!X3771","v":0},{"$f":"-Fund!V3771","v":0},{"$f":"Fund!V3771","v":0},{"$f":"Fund!P3771","v":""}]
[null,null,null,null,null,null,null,null,null,null,null,null,{"$f":"Fund!W3772","v":"00:00:00"},{"$f":"Fund!X3772","v":0},{"$f":"-Fund!V3772","v":0},{"$f":"Fund!V3772","v":0},{"$f":"Fund!P3772","v":""}]
[null,null,null,null,null,null,null,null,null,null,null,null,{"$f":"Fund!W3773","v":"00:00:00"},{"$f":"Fund!X3773","v":0},{"$f":"-Fund!V3773","v":0},{"$f":"Fund!V3773","v":0},{"$f":"Fund!P3773","v":""}]
[null,null,null,null,null,null,null,null,null,null,null,null,{"$f":"Fund!W3774","v":"00:00:00"},{"$f":"Fund!X3774","v":0},{"$f":"-Fund!V3774","v":0},{"$f":"Fund!V3774","v":0},{"$f":"Fund!P3774","v":""}]
[null,null,null,null,null,null,null,null,null,null,null,null,{"$f":"Fund!W3775","v":"00:00:00"},{"$f":"Fund!X3775","v":0},{"$f":"-Fund!V3775","v":0},{"$f":"Fund!V3775","v":0},{"$f":"Fund!P3775","v":""}]
[null,null,null,null,null,null,null,null,null,null,null,null,{"$f":"Fund!W3776","v":"00:00:00"},{"$f":"Fund!X3776","v":0},{"$f":"-Fund!V3776","v":0},{"$f":"Fund!V3776","v":0},{"$f":"Fund!P3776","v":""}]
[null,null,null,null,null,null,null,null,null,null,null,null,{"$f":"Fund!W3777","v":"00:00:00"},{"$f":"Fund!X3777","v":0},{"$f":"-Fund!V3777","v":0},{"$f":"Fund!V3777","v":0},{"$f":"Fund!P3777","v":""}]
[null,null,null,null,null,null,null,null,null,null,null,null,{"$f":"Fund!W3778","v":"00:00:00"},{"$f":"Fund!X3778","v":0},{"$f":"-Fund!V3778","v":0},{"$f":"Fund!V3778","v":0},{"$f":"Fund!P3778","v":""}]
[null,null,null,null,null,null,null,null,null,null,null,null,{"$f":"Fund!W3779","v":"00:00:00"},{"$f":"Fund!X3779","v":0},{"$f":"-Fund!V3779","v":0},{"$f":"Fund!V3779","v":0},{"$f":"Fund!P3779","v":""}]
[null,null,null,null,null,null,null,null,null,null,null,null,{"$f":"Fund!W3780","v":"00:00:00"},{"$f":"Fund!X3780","v":0},{"$f":"-Fund!V3780","v":0},{"$f":"Fund!V3780","v":0},{"$f":"Fund!P3780","v":""}]
[null,null,null,null,null,null,null,null,null,null,null,null,{"$f":"Fund!W3781","v":"00:00:00"},{"$f":"Fund!X3781","v":0},{"$f":"-Fund!V3781","v":0},{"$f":"Fund!V3781","v":0},{"$f":"Fund!P3781","v":""}]
[null,null,null,null,null,null,null,null,null,null,null,null,{"$f":"Fund!W3782","v":"00:00:00"},{"$f":"Fund!X3782","v":0},{"$f":"-Fund!V3782","v":0},{"$f":"Fund!V3782","v":0},{"$f":"Fund!P3782","v":""}]
[null,null,null,null,null,null,null,null,null,null,null,null,{"$f":"Fund!W3783","v":"00:00:00"},{"$f":"Fund!X3783","v":0},{"$f":"-Fund!V3783","v":0},{"$f":"Fund!V3783","v":0},{"$f":"Fund!P3783","v":""}]
[null,null,null,null,null,null,null,null,null,null,null,null,{"$f":"Fund!W3784","v":"00:00:00"},{"$f":"Fund!X3784","v":0},{"$f":"-Fund!V3784","v":0},{"$f":"Fund!V3784","v":0},{"$f":"Fund!P3784","v":""}]
[null,null,null,null,null,null,null,null,null,null,null,null,{"$f":"Fund!W3785","v":"00:00:00"},{"$f":"Fund!X3785","v":0},{"$f":"-Fund!V3785","v":0},{"$f":"Fund!V3785","v":0},{"$f":"Fund!P3785","v":""}]
[null,null,null,null,null,null,null,null,null,null,null,null,{"$f":"Fund!W3786","v":"00:00:00"},{"$f":"Fund!X3786","v":0},{"$f":"-Fund!V3786","v":0},{"$f":"Fund!V3786","v":0},{"$f":"Fund!P3786","v":""}]
[null,null,null,null,null,null,null,null,null,null,null,null,{"$f":"Fund!W3787","v":"00:00:00"},{"$f":"Fund!X3787","v":0},{"$f":"-Fund!V3787","v":0},{"$f":"Fund!V3787","v":0},{"$f":"Fund!P3787","v":""}]
[null,null,null,null,null,null,null,null,null,null,null,null,{"$f":"Fund!W3788","v":"00:00:00"},{"$f":"Fund!X3788","v":0},{"$f":"-Fund!V3788","v":0},{"$f":"Fund!V3788","v":0},{"$f":"Fund!P3788","v":""}]
[null,null,null,null,null,null,null,null,null,null,null,null,{"$f":"Fund!W3789","v":"00:00:00"},{"$f":"Fund!X3789","v":0},{"$f":"-Fund!V3789","v":0},{"$f":"Fund!V3789","v":0},{"$f":"Fund!P3789","v":""}]
[null,null,null,null,null,null,null,null,null,null,null,null,{"$f":"Fund!W3790","v":"00:00:00"},{"$f":"Fund!X3790","v":0},{"$f":"-Fund!V3790","v":0},{"$f":"Fund!V3790","v":0},{"$f":"Fund!P3790","v":""}]
[null,null,null,null,null,null,null,null,null,null,null,null,{"$f":"Fund!W3791","v":"00:00:00"},{"$f":"Fund!X3791","v":0},{"$f":"-Fund!V3791","v":0},{"$f":"Fund!V3791","v":0},{"$f":"Fund!P3791","v":""}]
[null,null,null,null,null,null,null,null,null,null,null,null,{"$f":"Fund!W3792","v":"00:00:00"},{"$f":"Fund!X3792","v":0},{"$f":"-Fund!V3792","v":0},{"$f":"Fund!V3792","v":0},{"$f":"Fund!P3792","v":""}]
[null,null,null,null,null,null,null,null,null,null,null,null,{"$f":"Fund!W3793","v":"00:00:00"},{"$f":"Fund!X3793","v":0},{"$f":"-Fund!V3793","v":0},{"$f":"Fund!V3793","v":0},{"$f":"Fund!P3793","v":""}]
[null,null,null,null,null,null,null,null,null,null,null,null,{"$f":"Fund!W3794","v":"00:00:00"},{"$f":"Fund!X3794","v":0},{"$f":"-Fund!V3794","v":0},{"$f":"Fund!V3794","v":0},{"$f":"Fund!P3794","v":""}]
[null,null,null,null,null,null,null,null,null,null,null,null,{"$f":"Fund!W3795","v":"00:00:00"},{"$f":"Fund!X3795","v":0},{"$f":"-Fund!V3795","v":0},{"$f":"Fund!V3795","v":0},{"$f":"Fund!P3795","v":""}]
[null,null,null,null,null,null,null,null,null,null,null,null,{"$f":"Fund!W3796","v":"00:00:00"},{"$f":"Fund!X3796","v":0},{"$f":"-Fund!V3796","v":0},{"$f":"Fund!V3796","v":0},{"$f":"Fund!P3796","v":""}]
[null,null,null,null,null,null,null,null,null,null,null,null,{"$f":"Fund!W3797","v":"00:00:00"},{"$f":"Fund!X3797","v":0},{"$f":"-Fund!V3797","v":0},{"$f":"Fund!V3797","v":0},{"$f":"Fund!P3797","v":""}]
[null,null,null,null,null,null,null,null,null,null,null,null,{"$f":"Fund!W3798","v":"00:00:00"},{"$f":"Fund!X3798","v":0},{"$f":"-Fund!V3798","v":0},{"$f":"Fund!V3798","v":0},{"$f":"Fund!P3798","v":""}]
[null,null,null,null,null,null,null,null,null,null,null,null,{"$f":"Fund!W3799","v":"00:00:00"},{"$f":"Fund!X3799","v":0},{"$f":"-Fund!V3799","v":0},{"$f":"Fund!V3799","v":0},{"$f":"Fund!P3799","v":""}]
[null,null,null,null,null,null,null,null,null,null,null,null,{"$f":"Fund!W3800","v":"00:00:00"},{"$f":"Fund!X3800","v":0},{"$f":"-Fund!V3800","v":0},{"$f":"Fund!V3800","v":0},{"$f":"Fund!P3800","v":""}]
[null,null,null,null,null,null,null,null,null,null,null,null,{"$f":"Fund!W3801","v":"00:00:00"},{"$f":"Fund!X3801","v":0},{"$f":"-Fund!V3801","v":0},{"$f":"Fund!V3801","v":0},{"$f":"Fund!P3801","v":""}]
[null,null,null,null,null,null,null,null,null,null,null,null,{"$f":"Fund!W3802","v":"00:00:00"},{"$f":"Fund!X3802","v":0},{"$f":"-Fund!V3802","v":0},{"$f":"Fund!V3802","v":0},{"$f":"Fund!P3802","v":""}]
[null,null,null,null,null,null,null,null,null,null,null,null,{"$f":"Fund!W3803","v":"00:00:00"},{"$f":"Fund!X3803","v":0},{"$f":"-Fund!V3803","v":0},{"$f":"Fund!V3803","v":0},{"$f":"Fund!P3803","v":""}]
[null,null,null,null,null,null,null,null,null,null,null,null,{"$f":"Fund!W3804","v":"00:00:00"},{"$f":"Fund!X3804","v":0},{"$f":"-Fund!V3804","v":0},{"$f":"Fund!V3804","v":0},{"$f":"Fund!P3804","v":""}]
[null,null,null,null,null,null,null,null,null,null,null,null,{"$f":"Fund!W3805","v":"00:00:00"},{"$f":"Fund!X3805","v":0},{"$f":"-Fund!V3805","v":0},{"$f":"Fund!V3805","v":0},{"$f":"Fund!P3805","v":""}]
[null,null,null,null,null,null,null,null,null,null,null,null,{"$f":"Fund!W3806","v":"00:00:00"},{"$f":"Fund!X3806","v":0},{"$f":"-Fund!V3806","v":0},{"$f":"Fund!V3806","v":0},{"$f":"Fund!P3806","v":""}]
[null,null,null,null,null,null,null,null,null,null,null,null,{"$f":"Fund!W3807","v":"00:00:00"},{"$f":"Fund!X3807","v":0},{"$f":"-Fund!V3807","v":0},{"$f":"Fund!V3807","v":0},{"$f":"Fund!P3807","v":""}]
[null,null,null,null,null,null,null,null,null,null,null,null,{"$f":"Fund!W3808","v":"00:00:00"},{"$f":"Fund!X3808","v":0},{"$f":"-Fund!V3808","v":0},{"$f":"Fund!V3808","v":0},{"$f":"Fund!P3808","v":""}]
[null,null,null,null,null,null,null,null,null,null,null,null,{"$f":"Fund!W3809","v":"00:00:00"},{"$f":"Fund!X3809","v":0},{"$f":"-Fund!V3809","v":0},{"$f":"Fund!V3809","v":0},{"$f":"Fund!P3809","v":""}]
[null,null,null,null,null,null,null,null,null,null,null,null,{"$f":"Fund!W3810","v":"00:00:00"},{"$f":"Fund!X3810","v":0},{"$f":"-Fund!V3810","v":0},{"$f":"Fund!V3810","v":0},{"$f":"Fund!P3810","v":""}]
[null,null,null,null,null,null,null,null,null,null,null,null,{"$f":"Fund!W3811","v":"00:00:00"},{"$f":"Fund!X3811","v":0},{"$f":"-Fund!V3811","v":0},{"$f":"Fund!V3811","v":0},{"$f":"Fund!P3811","v":""}]
[null,null,null,null,null,null,null,null,null,null,null,null,{"$f":"Fund!W3812","v":"00:00:00"},{"$f":"Fund!X3812","v":0},{"$f":"-Fund!V3812","v":0},{"$f":"Fund!V3812","v":0},{"$f":"Fund!P3812","v":""}]
[null,null,null,null,null,null,null,null,null,null,null,null,{"$f":"Fund!W3813","v":"00:00:00"},{"$f":"Fund!X3813","v":0},{"$f":"-Fund!V3813","v":0},{"$f":"Fund!V3813","v":0},{"$f":"Fund!P3813","v":""}]
[null,null,null,null,null,null,null,null,null,null,null,null,{"$f":"Fund!W3814","v":"00:00:00"},{"$f":"Fund!X3814","v":0},{"$f":"-Fund!V3814","v":0},{"$f":"Fund!V3814","v":0},{"$f":"Fund!P3814","v":""}]
[null,null,null,null,null,null,null,null,null,null,null,null,{"$f":"Fund!W3815","v":"00:00:00"},{"$f":"Fund!X3815","v":0},{"$f":"-Fund!V3815","v":0},{"$f":"Fund!V3815","v":0},{"$f":"Fund!P3815","v":""}]
[null,null,null,null,null,null,null,null,null,null,null,null,{"$f":"Fund!W3816","v":"00:00:00"},{"$f":"Fund!X3816","v":0},{"$f":"-Fund!V3816","v":0},{"$f":"Fund!V3816","v":0},{"$f":"Fund!P3816","v":""}]
[null,null,null,null,null,null,null,null,null,null,null,null,{"$f":"Fund!W3817","v":"00:00:00"},{"$f":"Fund!X3817","v":0},{"$f":"-Fund!V3817","v":0},{"$f":"Fund!V3817","v":0},{"$f":"Fund!P3817","v":""}]
[null,null,null,null,null,null,null,null,null,null,null,null,{"$f":"Fund!W3818","v":"00:00:00"},{"$f":"Fund!X3818","v":0},{"$f":"-Fund!V3818","v":0},{"$f":"Fund!V3818","v":0},{"$f":"Fund!P3818","v":""}]
[null,null,null,null,null,null,null,null,null,null,null,null,{"$f":"Fund!W3819","v":"00:00:00"},{"$f":"Fund!X3819","v":0},{"$f":"-Fund!V3819","v":0},{"$f":"Fund!V3819","v":0},{"$f":"Fund!P3819","v":""}]
[null,null,null,null,null,null,null,null,null,null,null,null,{"$f":"Fund!W3820","v":"00:00:00"},{"$f":"Fund!X3820","v":0},{"$f":"-Fund!V3820","v":0},{"$f":"Fund!V3820","v":0},{"$f":"Fund!P3820","v":""}]
[null,null,null,null,null,null,null,null,null,null,null,null,{"$f":"Fund!W3821","v":"00:00:00"},{"$f":"Fund!X3821","v":0},{"$f":"-Fund!V3821","v":0},{"$f":"Fund!V3821","v":0},{"$f":"Fund!P3821","v":""}]
[null,null,null,null,null,null,null,null,null,null,null,null,{"$f":"Fund!W3822","v":"00:00:00"},{"$f":"Fund!X3822","v":0},{"$f":"-Fund!V3822","v":0},{"$f":"Fund!V3822","v":0},{"$f":"Fund!P3822","v":""}]
[null,null,null,null,null,null,null,null,null,null,null,null,{"$f":"Fund!W3823","v":"00:00:00"},{"$f":"Fund!X3823","v":0},{"$f":"-Fund!V3823","v":0},{"$f":"Fund!V3823","v":0},{"$f":"Fund!P3823","v":""}]
[null,null,null,null,null,null,null,null,null,null,null,null,{"$f":"Fund!W3824","v":"00:00:00"},{"$f":"Fund!X3824","v":0},{"$f":"-Fund!V3824","v":0},{"$f":"Fund!V3824","v":0},{"$f":"Fund!P3824","v":""}]
[null,null,null,null,null,null,null,null,null,null,null,null,{"$f":"Fund!W3825","v":"00:00:00"},{"$f":"Fund!X3825","v":0},{"$f":"-Fund!V3825","v":0},{"$f":"Fund!V3825","v":0},{"$f":"Fund!P3825","v":""}]
[null,null,null,null,null,null,null,null,null,null,null,null,{"$f":"Fund!W3826","v":"00:00:00"},{"$f":"Fund!X3826","v":0},{"$f":"-Fund!V3826","v":0},{"$f":"Fund!V3826","v":0},{"$f":"Fund!P3826","v":""}]
[null,null,null,null,null,null,null,null,null,null,null,null,{"$f":"Fund!W3827","v":"00:00:00"},{"$f":"Fund!X3827","v":0},{"$f":"-Fund!V3827","v":0},{"$f":"Fund!V3827","v":0},{"$f":"Fund!P3827","v":""}]
[null,null,null,null,null,null,null,null,null,null,null,null,{"$f":"Fund!W3828","v":"00:00:00"},{"$f":"Fund!X3828","v":0},{"$f":"-Fund!V3828","v":0},{"$f":"Fund!V3828","v":0},{"$f":"Fund!P3828","v":""}]
[null,null,null,null,null,null,null,null,null,null,null,null,{"$f":"Fund!W3829","v":"00:00:00"},{"$f":"Fund!X3829","v":0},{"$f":"-Fund!V3829","v":0},{"$f":"Fund!V3829","v":0},{"$f":"Fund!P3829","v":""}]
[null,null,null,null,null,null,null,null,null,null,null,null,{"$f":"Fund!W3830","v":"00:00:00"},{"$f":"Fund!X3830","v":0},{"$f":"-Fund!V3830","v":0},{"$f":"Fund!V3830","v":0},{"$f":"Fund!P3830","v":""}]
[null,null,null,null,null,null,null,null,null,null,null,null,{"$f":"Fund!W3831","v":"00:00:00"},{"$f":"Fund!X3831","v":0},{"$f":"-Fund!V3831","v":0},{"$f":"Fund!V3831","v":0},{"$f":"Fund!P3831","v":""}]
[null,null,null,null,null,null,null,null,null,null,null,null,{"$f":"Fund!W3832","v":"00:00:00"},{"$f":"Fund!X3832","v":0},{"$f":"-Fund!V3832","v":0},{"$f":"Fund!V3832","v":0},{"$f":"Fund!P3832","v":""}]
[null,null,null,null,null,null,null,null,null,null,null,null,{"$f":"Fund!W3833","v":"00:00:00"},{"$f":"Fund!X3833","v":0},{"$f":"-Fund!V3833","v":0},{"$f":"Fund!V3833","v":0},{"$f":"Fund!P3833","v":""}]
[null,null,null,null,null,null,null,null,null,null,null,null,{"$f":"Fund!W3834","v":"00:00:00"},{"$f":"Fund!X3834","v":0},{"$f":"-Fund!V3834","v":0},{"$f":"Fund!V3834","v":0},{"$f":"Fund!P3834","v":""}]
[null,null,null,null,null,null,null,null,null,null,null,null,{"$f":"Fund!W3835","v":"00:00:00"},{"$f":"Fund!X3835","v":0},{"$f":"-Fund!V3835","v":0},{"$f":"Fund!V3835","v":0},{"$f":"Fund!P3835","v":""}]
[null,null,null,null,null,null,null,null,null,null,null,null,{"$f":"Fund!W3836","v":"00:00:00"},{"$f":"Fund!X3836","v":0},{"$f":"-Fund!V3836","v":0},{"$f":"Fund!V3836","v":0},{"$f":"Fund!P3836","v":""}]
[null,null,null,null,null,null,null,null,null,null,null,null,{"$f":"Fund!W3837","v":"00:00:00"},{"$f":"Fund!X3837","v":0},{"$f":"-Fund!V3837","v":0},{"$f":"Fund!V3837","v":0},{"$f":"Fund!P3837","v":""}]
[null,null,null,null,null,null,null,null,null,null,null,null,{"$f":"Fund!W3838","v":"00:00:00"},{"$f":"Fund!X3838","v":0},{"$f":"-Fund!V3838","v":0},{"$f":"Fund!V3838","v":0},{"$f":"Fund!P3838","v":""}]
[null,null,null,null,null,null,null,null,null,null,null,null,{"$f":"Fund!W3839","v":"00:00:00"},{"$f":"Fund!X3839","v":0},{"$f":"-Fund!V3839","v":0},{"$f":"Fund!V3839","v":0},{"$f":"Fund!P3839","v":""}]
[null,null,null,null,null,null,null,null,null,null,null,null,{"$f":"Fund!W3840","v":"00:00:00"},{"$f":"Fund!X3840","v":0},{"$f":"-Fund!V3840","v":0},{"$f":"Fund!V3840","v":0},{"$f":"Fund!P3840","v":""}]
[null,null,null,null,null,null,null,null,null,null,null,null,{"$f":"Fund!W3841","v":"00:00:00"},{"$f":"Fund!X3841","v":0},{"$f":"-Fund!V3841","v":0},{"$f":"Fund!V3841","v":0},{"$f":"Fund!P3841","v":""}]
[null,null,null,null,null,null,null,null,null,null,null,null,{"$f":"Fund!W3842","v":"00:00:00"},{"$f":"Fund!X3842","v":0},{"$f":"-Fund!V3842","v":0},{"$f":"Fund!V3842","v":0},{"$f":"Fund!P3842","v":""}]
[null,null,null,null,null,null,null,null,null,null,null,null,{"$f":"Fund!W3843","v":"00:00:00"},{"$f":"Fund!X3843","v":0},{"$f":"-Fund!V3843","v":0},{"$f":"Fund!V3843","v":0},{"$f":"Fund!P3843","v":""}]
[null,null,null,null,null,null,null,null,null,null,null,null,{"$f":"Fund!W3844","v":"00:00:00"},{"$f":"Fund!X3844","v":0},{"$f":"-Fund!V3844","v":0},{"$f":"Fund!V3844","v":0},{"$f":"Fund!P3844","v":""}]
[null,null,null,null,null,null,null,null,null,null,null,null,{"$f":"Fund!W3845","v":"00:00:00"},{"$f":"Fund!X3845","v":0},{"$f":"-Fund!V3845","v":0},{"$f":"Fund!V3845","v":0},{"$f":"Fund!P3845","v":""}]
[null,null,null,null,null,null,null,null,null,null,null,null,{"$f":"Fund!W3846","v":"00:00:00"},{"$f":"Fund!X3846","v":0},{"$f":"-Fund!V3846","v":0},{"$f":"Fund!V3846","v":0},{"$f":"Fund!P3846","v":""}]
[null,null,null,null,null,null,null,null,null,null,null,null,{"$f":"Fund!W3847","v":"00:00:00"},{"$f":"Fund!X3847","v":0},{"$f":"-Fund!V3847","v":0},{"$f":"Fund!V3847","v":0},{"$f":"Fund!P3847","v":""}]
[null,null,null,null,null,null,null,null,null,null,null,null,{"$f":"Fund!W3848","v":"00:00:00"},{"$f":"Fund!X3848","v":0},{"$f":"-Fund!V3848","v":0},{"$f":"Fund!V3848","v":0},{"$f":"Fund!P3848","v":""}]
[null,null,null,null,null,null,null,null,null,null,null,null,{"$f":"Fund!W3849","v":"00:00:00"},{"$f":"Fund!X3849","v":0},{"$f":"-Fund!V3849","v":0},{"$f":"Fund!V3849","v":0},{"$f":"Fund!P3849","v":""}]
[null,null,null,null,null,null,null,null,null,null,null,null,{"$f":"Fund!W3850","v":"00:00:00"},{"$f":"Fund!X3850","v":0},{"$f":"-Fund!V3850","v":0},{"$f":"Fund!V3850","v":0},{"$f":"Fund!P3850","v":""}]
[null,null,null,null,null,null,null,null,null,null,null,null,{"$f":"Fund!W3851","v":"00:00:00"},{"$f":"Fund!X3851","v":0},{"$f":"-Fund!V3851","v":0},{"$f":"Fund!V3851","v":0},{"$f":"Fund!P3851","v":""}]
[null,null,null,null,null,null,null,null,null,null,null,null,{"$f":"Fund!W3852","v":"00:00:00"},{"$f":"Fund!X3852","v":0},{"$f":"-Fund!V3852","v":0},{"$f":"Fund!V3852","v":0},{"$f":"Fund!P3852","v":""}]
[null,null,null,null,null,null,null,null,null,null,null,null,{"$f":"Fund!W3853","v":"00:00:00"},{"$f":"Fund!X3853","v":0},{"$f":"-Fund!V3853","v":0},{"$f":"Fund!V3853","v":0},{"$f":"Fund!P3853","v":""}]
[null,null,null,null,null,null,null,null,null,null,null,null,{"$f":"Fund!W3854","v":"00:00:00"},{"$f":"Fund!X3854","v":0},{"$f":"-Fund!V3854","v":0},{"$f":"Fund!V3854","v":0},{"$f":"Fund!P3854","v":""}]
[null,null,null,null,null,null,null,null,null,null,null,null,{"$f":"Fund!W3855","v":"00:00:00"},{"$f":"Fund!X3855","v":0},{"$f":"-Fund!V3855","v":0},{"$f":"Fund!V3855","v":0},{"$f":"Fund!P3855","v":""}]
[null,null,null,null,null,null,null,null,null,null,null,null,{"$f":"Fund!W3856","v":"00:00:00"},{"$f":"Fund!X3856","v":0},{"$f":"-Fund!V3856","v":0},{"$f":"Fund!V3856","v":0},{"$f":"Fund!P3856","v":""}]
[null,null,null,null,null,null,null,null,null,null,null,null,{"$f":"Fund!W3857","v":"00:00:00"},{"$f":"Fund!X3857","v":0},{"$f":"-Fund!V3857","v":0},{"$f":"Fund!V3857","v":0},{"$f":"Fund!P3857","v":""}]
[null,null,null,null,null,null,null,null,null,null,null,null,{"$f":"Fund!W3858","v":"00:00:00"},{"$f":"Fund!X3858","v":0},{"$f":"-Fund!V3858","v":0},{"$f":"Fund!V3858","v":0},{"$f":"Fund!P3858","v":""}]
[null,null,null,null,null,null,null,null,null,null,null,null,{"$f":"Fund!W3859","v":"00:00:00"},{"$f":"Fund!X3859","v":0},{"$f":"-Fund!V3859","v":0},{"$f":"Fund!V3859","v":0},{"$f":"Fund!P3859","v":""}]
[null,null,null,null,null,null,null,null,null,null,null,null,{"$f":"Fund!W3860","v":"00:00:00"},{"$f":"Fund!X3860","v":0},{"$f":"-Fund!V3860","v":0},{"$f":"Fund!V3860","v":0},{"$f":"Fund!P3860","v":""}]
[null,null,null,null,null,null,null,null,null,null,null,null,{"$f":"Fund!W3861","v":"00:00:00"},{"$f":"Fund!X3861","v":0},{"$f":"-Fund!V3861","v":0},{"$f":"Fund!V3861","v":0},{"$f":"Fund!P3861","v":""}]
[null,null,null,null,null,null,null,null,null,null,null,null,{"$f":"Fund!W3862","v":"00:00:00"},{"$f":"Fund!X3862","v":0},{"$f":"-Fund!V3862","v":0},{"$f":"Fund!V3862","v":0},{"$f":"Fund!P3862","v":""}]
[null,null,null,null,null,null,null,null,null,null,null,null,{"$f":"Fund!W3863","v":"00:00:00"},{"$f":"Fund!X3863","v":0},{"$f":"-Fund!V3863","v":0},{"$f":"Fund!V3863","v":0},{"$f":"Fund!P3863","v":""}]
[null,null,null,null,null,null,null,null,null,null,null,null,{"$f":"Fund!W3864","v":"00:00:00"},{"$f":"Fund!X3864","v":0},{"$f":"-Fund!V3864","v":0},{"$f":"Fund!V3864","v":0},{"$f":"Fund!P3864","v":""}]
[null,null,null,null,null,null,null,null,null,null,null,null,{"$f":"Fund!W3865","v":"00:00:00"},{"$f":"Fund!X3865","v":0},{"$f":"-Fund!V3865","v":0},{"$f":"Fund!V3865","v":0},{"$f":"Fund!P3865","v":""}]
[null,null,null,null,null,null,null,null,null,null,null,null,{"$f":"Fund!W3866","v":"00:00:00"},{"$f":"Fund!X3866","v":0},{"$f":"-Fund!V3866","v":0},{"$f":"Fund!V3866","v":0},{"$f":"Fund!P3866","v":""}]
[null,null,null,null,null,null,null,null,null,null,null,null,{"$f":"Fund!W3867","v":"00:00:00"},{"$f":"Fund!X3867","v":0},{"$f":"-Fund!V3867","v":0},{"$f":"Fund!V3867","v":0},{"$f":"Fund!P3867","v":""}]
[null,null,null,null,null,null,null,null,null,null,null,null,{"$f":"Fund!W3868","v":"00:00:00"},{"$f":"Fund!X3868","v":0},{"$f":"-Fund!V3868","v":0},{"$f":"Fund!V3868","v":0},{"$f":"Fund!P3868","v":""}]
[null,null,null,null,null,null,null,null,null,null,null,null,{"$f":"Fund!W3869","v":"00:00:00"},{"$f":"Fund!X3869","v":0},{"$f":"-Fund!V3869","v":0},{"$f":"Fund!V3869","v":0},{"$f":"Fund!P3869","v":""}]
[null,null,null,null,null,null,null,null,null,null,null,null,{"$f":"Fund!W3870","v":"00:00:00"},{"$f":"Fund!X3870","v":0},{"$f":"-Fund!V3870","v":0},{"$f":"Fund!V3870","v":0},{"$f":"Fund!P3870","v":""}]
[null,null,null,null,null,null,null,null,null,null,null,null,{"$f":"Fund!W3871","v":"00:00:00"},{"$f":"Fund!X3871","v":0},{"$f":"-Fund!V3871","v":0},{"$f":"Fund!V3871","v":0},{"$f":"Fund!P3871","v":""}]
[null,null,null,null,null,null,null,null,null,null,null,null,{"$f":"Fund!W3872","v":"00:00:00"},{"$f":"Fund!X3872","v":0},{"$f":"-Fund!V3872","v":0},{"$f":"Fund!V3872","v":0},{"$f":"Fund!P3872","v":""}]
[null,null,null,null,null,null,null,null,null,null,null,null,{"$f":"Fund!W3873","v":"00:00:00"},{"$f":"Fund!X3873","v":0},{"$f":"-Fund!V3873","v":0},{"$f":"Fund!V3873","v":0},{"$f":"Fund!P3873","v":""}]
[null,null,null,null,null,null,null,null,null,null,null,null,{"$f":"Fund!W3874","v":"00:00:00"},{"$f":"Fund!X3874","v":0},{"$f":"-Fund!V3874","v":0},{"$f":"Fund!V3874","v":0},{"$f":"Fund!P3874","v":""}]
[null,null,null,null,null,null,null,null,null,null,null,null,{"$f":"Fund!W3875","v":"00:00:00"},{"$f":"Fund!X3875","v":0},{"$f":"-Fund!V3875","v":0},{"$f":"Fund!V3875","v":0},{"$f":"Fund!P3875","v":""}]
[null,null,null,null,null,null,null,null,null,null,null,null,{"$f":"Fund!W3876","v":"00:00:00"},{"$f":"Fund!X3876","v":0},{"$f":"-Fund!V3876","v":0},{"$f":"Fund!V3876","v":0},{"$f":"Fund!P3876","v":""}]
[null,null,null,null,null,null,null,null,null,null,null,null,{"$f":"Fund!W3877","v":"00:00:00"},{"$f":"Fund!X3877","v":0},{"$f":"-Fund!V3877","v":0},{"$f":"Fund!V3877","v":0},{"$f":"Fund!P3877","v":""}]
[null,null,null,null,null,null,null,null,null,null,null,null,{"$f":"Fund!W3878","v":"00:00:00"},{"$f":"Fund!X3878","v":0},{"$f":"-Fund!V3878","v":0},{"$f":"Fund!V3878","v":0},{"$f":"Fund!P3878","v":""}]
[null,null,null,null,null,null,null,null,null,null,null,null,{"$f":"Fund!W3879","v":"00:00:00"},{"$f":"Fund!X3879","v":0},{"$f":"-Fund!V3879","v":0},{"$f":"Fund!V3879","v":0},{"$f":"Fund!P3879","v":""}]
[null,null,null,null,null,null,null,null,null,null,null,null,{"$f":"Fund!W3880","v":"00:00:00"},{"$f":"Fund!X3880","v":0},{"$f":"-Fund!V3880","v":0},{"$f":"Fund!V3880","v":0},{"$f":"Fund!P3880","v":""}]
[null,null,null,null,null,null,null,null,null,null,null,null,{"$f":"Fund!W3881","v":"00:00:00"},{"$f":"Fund!X3881","v":0},{"$f":"-Fund!V3881","v":0},{"$f":"Fund!V3881","v":0},{"$f":"Fund!P3881","v":""}]
[null,null,null,null,null,null,null,null,null,null,null,null,{"$f":"Fund!W3882","v":"00:00:00"},{"$f":"Fund!X3882","v":0},{"$f":"-Fund!V3882","v":0},{"$f":"Fund!V3882","v":0},{"$f":"Fund!P3882","v":""}]
[null,null,null,null,null,null,null,null,null,null,null,null,{"$f":"Fund!W3883","v":"00:00:00"},{"$f":"Fund!X3883","v":0},{"$f":"-Fund!V3883","v":0},{"$f":"Fund!V3883","v":0},{"$f":"Fund!P3883","v":""}]
[null,null,null,null,null,null,null,null,null,null,null,null,{"$f":"Fund!W3884","v":"00:00:00"},{"$f":"Fund!X3884","v":0},{"$f":"-Fund!V3884","v":0},{"$f":"Fund!V3884","v":0},{"$f":"Fund!P3884","v":""}]
[null,null,null,null,null,null,null,null,null,null,null,null,{"$f":"Fund!W3885","v":"00:00:00"},{"$f":"Fund!X3885","v":0},{"$f":"-Fund!V3885","v":0},{"$f":"Fund!V3885","v":0},{"$f":"Fund!P3885","v":""}]
[null,null,null,null,null,null,null,null,null,null,null,null,{"$f":"Fund!W3886","v":"00:00:00"},{"$f":"Fund!X3886","v":0},{"$f":"-Fund!V3886","v":0},{"$f":"Fund!V3886","v":0},{"$f":"Fund!P3886","v":""}]
[null,null,null,null,null,null,null,null,null,null,null,null,{"$f":"Fund!W3887","v":"00:00:00"},{"$f":"Fund!X3887","v":0},{"$f":"-Fund!V3887","v":0},{"$f":"Fund!V3887","v":0},{"$f":"Fund!P3887","v":""}]
[null,null,null,null,null,null,null,null,null,null,null,null,{"$f":"Fund!W3888","v":"00:00:00"},{"$f":"Fund!X3888","v":0},{"$f":"-Fund!V3888","v":0},{"$f":"Fund!V3888","v":0},{"$f":"Fund!P3888","v":""}]
[null,null,null,null,null,null,null,null,null,null,null,null,{"$f":"Fund!W3889","v":"00:00:00"},{"$f":"Fund!X3889","v":0},{"$f":"-Fund!V3889","v":0},{"$f":"Fund!V3889","v":0},{"$f":"Fund!P3889","v":""}]
[null,null,null,null,null,null,null,null,null,null,null,null,{"$f":"Fund!W3890","v":"00:00:00"},{"$f":"Fund!X3890","v":0},{"$f":"-Fund!V3890","v":0},{"$f":"Fund!V3890","v":0},{"$f":"Fund!P3890","v":""}]
[null,null,null,null,null,null,null,null,null,null,null,null,{"$f":"Fund!W3891","v":"00:00:00"},{"$f":"Fund!X3891","v":0},{"$f":"-Fund!V3891","v":0},{"$f":"Fund!V3891","v":0},{"$f":"Fund!P3891","v":""}]
[null,null,null,null,null,null,null,null,null,null,null,null,{"$f":"Fund!W3892","v":"00:00:00"},{"$f":"Fund!X3892","v":0},{"$f":"-Fund!V3892","v":0},{"$f":"Fund!V3892","v":0},{"$f":"Fund!P3892","v":""}]
[null,null,null,null,null,null,null,null,null,null,null,null,{"$f":"Fund!W3893","v":"00:00:00"},{"$f":"Fund!X3893","v":0},{"$f":"-Fund!V3893","v":0},{"$f":"Fund!V3893","v":0},{"$f":"Fund!P3893","v":""}]
[null,null,null,null,null,null,null,null,null,null,null,null,{"$f":"Fund!W3894","v":"00:00:00"},{"$f":"Fund!X3894","v":0},{"$f":"-Fund!V3894","v":0},{"$f":"Fund!V3894","v":0},{"$f":"Fund!P3894","v":""}]
[null,null,null,null,null,null,null,null,null,null,null,null,{"$f":"Fund!W3895","v":"00:00:00"},{"$f":"Fund!X3895","v":0},{"$f":"-Fund!V3895","v":0},{"$f":"Fund!V3895","v":0},{"$f":"Fund!P3895","v":""}]
[null,null,null,null,null,null,null,null,null,null,null,null,{"$f":"Fund!W3896","v":"00:00:00"},{"$f":"Fund!X3896","v":0},{"$f":"-Fund!V3896","v":0},{"$f":"Fund!V3896","v":0},{"$f":"Fund!P3896","v":""}]
[null,null,null,null,null,null,null,null,null,null,null,null,{"$f":"Fund!W3897","v":"00:00:00"},{"$f":"Fund!X3897","v":0},{"$f":"-Fund!V3897","v":0},{"$f":"Fund!V3897","v":0},{"$f":"Fund!P3897","v":""}]
[null,null,null,null,null,null,null,null,null,null,null,null,{"$f":"Fund!W3898","v":"00:00:00"},{"$f":"Fund!X3898","v":0},{"$f":"-Fund!V3898","v":0},{"$f":"Fund!V3898","v":0},{"$f":"Fund!P3898","v":""}]
[null,null,null,null,null,null,null,null,null,null,null,null,{"$f":"Fund!W3899","v":"00:00:00"},{"$f":"Fund!X3899","v":0},{"$f":"-Fund!V3899","v":0},{"$f":"Fund!V3899","v":0},{"$f":"Fund!P3899","v":""}]
[null,null,null,null,null,null,null,null,null,null,null,null,{"$f":"Fund!W3900","v":"00:00:00"},{"$f":"Fund!X3900","v":0},{"$f":"-Fund!V3900","v":0},{"$f":"Fund!V3900","v":0},{"$f":"Fund!P3900","v":""}]
[null,null,null,null,null,null,null,null,null,null,null,null,{"$f":"Fund!W3901","v":"00:00:00"},{"$f":"Fund!X3901","v":0},{"$f":"-Fund!V3901","v":0},{"$f":"Fund!V3901","v":0},{"$f":"Fund!P3901","v":""}]
[null,null,null,null,null,null,null,null,null,null,null,null,{"$f":"Fund!W3902","v":"00:00:00"},{"$f":"Fund!X3902","v":0},{"$f":"-Fund!V3902","v":0},{"$f":"Fund!V3902","v":0},{"$f":"Fund!P3902","v":""}]
[null,null,null,null,null,null,null,null,null,null,null,null,{"$f":"Fund!W3903","v":"00:00:00"},{"$f":"Fund!X3903","v":0},{"$f":"-Fund!V3903","v":0},{"$f":"Fund!V3903","v":0},{"$f":"Fund!P3903","v":""}]
[null,null,null,null,null,null,null,null,null,null,null,null,{"$f":"Fund!W3904","v":"00:00:00"},{"$f":"Fund!X3904","v":0},{"$f":"-Fund!V3904","v":0},{"$f":"Fund!V3904","v":0},{"$f":"Fund!P3904","v":""}]
[null,null,null,null,null,null,null,null,null,null,null,null,{"$f":"Fund!W3905","v":"00:00:00"},{"$f":"Fund!X3905","v":0},{"$f":"-Fund!V3905","v":0},{"$f":"Fund!V3905","v":0},{"$f":"Fund!P3905","v":""}]
[null,null,null,null,null,null,null,null,null,null,null,null,{"$f":"Fund!W3906","v":"00:00:00"},{"$f":"Fund!X3906","v":0},{"$f":"-Fund!V3906","v":0},{"$f":"Fund!V3906","v":0},{"$f":"Fund!P3906","v":""}]
[null,null,null,null,null,null,null,null,null,null,null,null,{"$f":"Fund!W3907","v":"00:00:00"},{"$f":"Fund!X3907","v":0},{"$f":"-Fund!V3907","v":0},{"$f":"Fund!V3907","v":0},{"$f":"Fund!P3907","v":""}]
[null,null,null,null,null,null,null,null,null,null,null,null,{"$f":"Fund!W3908","v":"00:00:00"},{"$f":"Fund!X3908","v":0},{"$f":"-Fund!V3908","v":0},{"$f":"Fund!V3908","v":0},{"$f":"Fund!P3908","v":""}]
[null,null,null,null,null,null,null,null,null,null,null,null,{"$f":"Fund!W3909","v":"00:00:00"},{"$f":"Fund!X3909","v":0},{"$f":"-Fund!V3909","v":0},{"$f":"Fund!V3909","v":0},{"$f":"Fund!P3909","v":""}]
[null,null,null,null,null,null,null,null,null,null,null,null,{"$f":"Fund!W3910","v":"00:00:00"},{"$f":"Fund!X3910","v":0},{"$f":"-Fund!V3910","v":0},{"$f":"Fund!V3910","v":0},{"$f":"Fund!P3910","v":""}]
[null,null,null,null,null,null,null,null,null,null,null,null,{"$f":"Fund!W3911","v":"00:00:00"},{"$f":"Fund!X3911","v":0},{"$f":"-Fund!V3911","v":0},{"$f":"Fund!V3911","v":0},{"$f":"Fund!P3911","v":""}]
[null,null,null,null,null,null,null,null,null,null,null,null,{"$f":"Fund!W3912","v":"00:00:00"},{"$f":"Fund!X3912","v":0},{"$f":"-Fund!V3912","v":0},{"$f":"Fund!V3912","v":0},{"$f":"Fund!P3912","v":""}]
[null,null,null,null,null,null,null,null,null,null,null,null,{"$f":"Fund!W3913","v":"00:00:00"},{"$f":"Fund!X3913","v":0},{"$f":"-Fund!V3913","v":0},{"$f":"Fund!V3913","v":0},{"$f":"Fund!P3913","v":""}]
[null,null,null,null,null,null,null,null,null,null,null,null,{"$f":"Fund!W3914","v":"00:00:00"},{"$f":"Fund!X3914","v":0},{"$f":"-Fund!V3914","v":0},{"$f":"Fund!V3914","v":0},{"$f":"Fund!P3914","v":""}]
[null,null,null,null,null,null,null,null,null,null,null,null,{"$f":"Fund!W3915","v":"00:00:00"},{"$f":"Fund!X3915","v":0},{"$f":"-Fund!V3915","v":0},{"$f":"Fund!V3915","v":0},{"$f":"Fund!P3915","v":""}]
[null,null,null,null,null,null,null,null,null,null,null,null,{"$f":"Fund!W3916","v":"00:00:00"},{"$f":"Fund!X3916","v":0},{"$f":"-Fund!V3916","v":0},{"$f":"Fund!V3916","v":0},{"$f":"Fund!P3916","v":""}]
[null,null,null,null,null,null,null,null,null,null,null,null,{"$f":"Fund!W3917","v":"00:00:00"},{"$f":"Fund!X3917","v":0},{"$f":"-Fund!V3917","v":0},{"$f":"Fund!V3917","v":0},{"$f":"Fund!P3917","v":""}]
[null,null,null,null,null,null,null,null,null,null,null,null,{"$f":"Fund!W3918","v":"00:00:00"},{"$f":"Fund!X3918","v":0},{"$f":"-Fund!V3918","v":0},{"$f":"Fund!V3918","v":0},{"$f":"Fund!P3918","v":""}]
[null,null,null,null,null,null,null,null,null,null,null,null,{"$f":"Fund!W3919","v":"00:00:00"},{"$f":"Fund!X3919","v":0},{"$f":"-Fund!V3919","v":0},{"$f":"Fund!V3919","v":0},{"$f":"Fund!P3919","v":""}]
[null,null,null,null,null,null,null,null,null,null,null,null,{"$f":"Fund!W3920","v":"00:00:00"},{"$f":"Fund!X3920","v":0},{"$f":"-Fund!V3920","v":0},{"$f":"Fund!V3920","v":0},{"$f":"Fund!P3920","v":""}]
[null,null,null,null,null,null,null,null,null,null,null,null,{"$f":"Fund!W3921","v":"00:00:00"},{"$f":"Fund!X3921","v":0},{"$f":"-Fund!V3921","v":0},{"$f":"Fund!V3921","v":0},{"$f":"Fund!P3921","v":""}]
[null,null,null,null,null,null,null,null,null,null,null,null,{"$f":"Fund!W3922","v":"00:00:00"},{"$f":"Fund!X3922","v":0},{"$f":"-Fund!V3922","v":0},{"$f":"Fund!V3922","v":0},{"$f":"Fund!P3922","v":""}]
[null,null,null,null,null,null,null,null,null,null,null,null,{"$f":"Fund!W3923","v":"00:00:00"},{"$f":"Fund!X3923","v":0},{"$f":"-Fund!V3923","v":0},{"$f":"Fund!V3923","v":0},{"$f":"Fund!P3923","v":""}]
[null,null,null,null,null,null,null,null,null,null,null,null,{"$f":"Fund!W3924","v":"00:00:00"},{"$f":"Fund!X3924","v":0},{"$f":"-Fund!V3924","v":0},{"$f":"Fund!V3924","v":0},{"$f":"Fund!P3924","v":""}]
[null,null,null,null,null,null,null,null,null,null,null,null,{"$f":"Fund!W3925","v":"00:00:00"},{"$f":"Fund!X3925","v":0},{"$f":"-Fund!V3925","v":0},{"$f":"Fund!V3925","v":0},{"$f":"Fund!P3925","v":""}]
[null,null,null,null,null,null,null,null,null,null,null,null,{"$f":"Fund!W3926","v":"00:00:00"},{"$f":"Fund!X3926","v":0},{"$f":"-Fund!V3926","v":0},{"$f":"Fund!V3926","v":0},{"$f":"Fund!P3926","v":""}]
[null,null,null,null,null,null,null,null,null,null,null,null,{"$f":"Fund!W3927","v":"00:00:00"},{"$f":"Fund!X3927","v":0},{"$f":"-Fund!V3927","v":0},{"$f":"Fund!V3927","v":0},{"$f":"Fund!P3927","v":""}]
[null,null,null,null,null,null,null,null,null,null,null,null,{"$f":"Fund!W3928","v":"00:00:00"},{"$f":"Fund!X3928","v":0},{"$f":"-Fund!V3928","v":0},{"$f":"Fund!V3928","v":0},{"$f":"Fund!P3928","v":""}]
[null,null,null,null,null,null,null,null,null,null,null,null,{"$f":"Fund!W3929","v":"00:00:00"},{"$f":"Fund!X3929","v":0},{"$f":"-Fund!V3929","v":0},{"$f":"Fund!V3929","v":0},{"$f":"Fund!P3929","v":""}]
[null,null,null,null,null,null,null,null,null,null,null,null,{"$f":"Fund!W3930","v":"00:00:00"},{"$f":"Fund!X3930","v":0},{"$f":"-Fund!V3930","v":0},{"$f":"Fund!V3930","v":0},{"$f":"Fund!P3930","v":""}]
[null,null,null,null,null,null,null,null,null,null,null,null,{"$f":"Fund!W3931","v":"00:00:00"},{"$f":"Fund!X3931","v":0},{"$f":"-Fund!V3931","v":0},{"$f":"Fund!V3931","v":0},{"$f":"Fund!P3931","v":""}]
[null,null,null,null,null,null,null,null,null,null,null,null,{"$f":"Fund!W3932","v":"00:00:00"},{"$f":"Fund!X3932","v":0},{"$f":"-Fund!V3932","v":0},{"$f":"Fund!V3932","v":0},{"$f":"Fund!P3932","v":""}]
[null,null,null,null,null,null,null,null,null,null,null,null,{"$f":"Fund!W3933","v":"00:00:00"},{"$f":"Fund!X3933","v":0},{"$f":"-Fund!V3933","v":0},{"$f":"Fund!V3933","v":0},{"$f":"Fund!P3933","v":""}]
[null,null,null,null,null,null,null,null,null,null,null,null,{"$f":"Fund!W3934","v":"00:00:00"},{"$f":"Fund!X3934","v":0},{"$f":"-Fund!V3934","v":0},{"$f":"Fund!V3934","v":0},{"$f":"Fund!P3934","v":""}]
[null,null,null,null,null,null,null,null,null,null,null,null,{"$f":"Fund!W3935","v":"00:00:00"},{"$f":"Fund!X3935","v":0},{"$f":"-Fund!V3935","v":0},{"$f":"Fund!V3935","v":0},{"$f":"Fund!P3935","v":""}]
[null,null,null,null,null,null,null,null,null,null,null,null,{"$f":"Fund!W3936","v":"00:00:00"},{"$f":"Fund!X3936","v":0},{"$f":"-Fund!V3936","v":0},{"$f":"Fund!V3936","v":0},{"$f":"Fund!P3936","v":""}]
[null,null,null,null,null,null,null,null,null,null,null,null,{"$f":"Fund!W3937","v":"00:00:00"},{"$f":"Fund!X3937","v":0},{"$f":"-Fund!V3937","v":0},{"$f":"Fund!V3937","v":0},{"$f":"Fund!P3937","v":""}]
[null,null,null,null,null,null,null,null,null,null,null,null,{"$f":"Fund!W3938","v":"00:00:00"},{"$f":"Fund!X3938","v":0},{"$f":"-Fund!V3938","v":0},{"$f":"Fund!V3938","v":0},{"$f":"Fund!P3938","v":""}]
[null,null,null,null,null,null,null,null,null,null,null,null,{"$f":"Fund!W3939","v":"00:00:00"},{"$f":"Fund!X3939","v":0},{"$f":"-Fund!V3939","v":0},{"$f":"Fund!V3939","v":0},{"$f":"Fund!P3939","v":""}]
[null,null,null,null,null,null,null,null,null,null,null,null,{"$f":"Fund!W3940","v":"00:00:00"},{"$f":"Fund!X3940","v":0},{"$f":"-Fund!V3940","v":0},{"$f":"Fund!V3940","v":0},{"$f":"Fund!P3940","v":""}]
[null,null,null,null,null,null,null,null,null,null,null,null,{"$f":"Fund!W3941","v":"00:00:00"},{"$f":"Fund!X3941","v":0},{"$f":"-Fund!V3941","v":0},{"$f":"Fund!V3941","v":0},{"$f":"Fund!P3941","v":""}]
[null,null,null,null,null,null,null,null,null,null,null,null,{"$f":"Fund!W3942","v":"00:00:00"},{"$f":"Fund!X3942","v":0},{"$f":"-Fund!V3942","v":0},{"$f":"Fund!V3942","v":0},{"$f":"Fund!P3942","v":""}]
[null,null,null,null,null,null,null,null,null,null,null,null,{"$f":"Fund!W3943","v":"00:00:00"},{"$f":"Fund!X3943","v":0},{"$f":"-Fund!V3943","v":0},{"$f":"Fund!V3943","v":0},{"$f":"Fund!P3943","v":""}]
[null,null,null,null,null,null,null,null,null,null,null,null,{"$f":"Fund!W3944","v":"00:00:00"},{"$f":"Fund!X3944","v":0},{"$f":"-Fund!V3944","v":0},{"$f":"Fund!V3944","v":0},{"$f":"Fund!P3944","v":""}]
[null,null,null,null,null,null,null,null,null,null,null,null,{"$f":"Fund!W3945","v":"00:00:00"},{"$f":"Fund!X3945","v":0},{"$f":"-Fund!V3945","v":0},{"$f":"Fund!V3945","v":0},{"$f":"Fund!P3945","v":""}]
[null,null,null,null,null,null,null,null,null,null,null,null,{"$f":"Fund!W3946","v":"00:00:00"},{"$f":"Fund!X3946","v":0},{"$f":"-Fund!V3946","v":0},{"$f":"Fund!V3946","v":0},{"$f":"Fund!P3946","v":""}]
[null,null,null,null,null,null,null,null,null,null,null,null,{"$f":"Fund!W3947","v":"00:00:00"},{"$f":"Fund!X3947","v":0},{"$f":"-Fund!V3947","v":0},{"$f":"Fund!V3947","v":0},{"$f":"Fund!P3947","v":""}]
[null,null,null,null,null,null,null,null,null,null,null,null,{"$f":"Fund!W3948","v":"00:00:00"},{"$f":"Fund!X3948","v":0},{"$f":"-Fund!V3948","v":0},{"$f":"Fund!V3948","v":0},{"$f":"Fund!P3948","v":""}]
[null,null,null,null,null,null,null,null,null,null,null,null,{"$f":"Fund!W3949","v":"00:00:00"},{"$f":"Fund!X3949","v":0},{"$f":"-Fund!V3949","v":0},{"$f":"Fund!V3949","v":0},{"$f":"Fund!P3949","v":""}]
[null,null,null,null,null,null,null,null,null,null,null,null,{"$f":"Fund!W3950","v":"00:00:00"},{"$f":"Fund!X3950","v":0},{"$f":"-Fund!V3950","v":0},{"$f":"Fund!V3950","v":0},{"$f":"Fund!P3950","v":""}]
[null,null,null,null,null,null,null,null,null,null,null,null,{"$f":"Fund!W3951","v":"00:00:00"},{"$f":"Fund!X3951","v":0},{"$f":"-Fund!V3951","v":0},{"$f":"Fund!V3951","v":0},{"$f":"Fund!P3951","v":""}]
[null,null,null,null,null,null,null,null,null,null,null,null,{"$f":"Fund!W3952","v":"00:00:00"},{"$f":"Fund!X3952","v":0},{"$f":"-Fund!V3952","v":0},{"$f":"Fund!V3952","v":0},{"$f":"Fund!P3952","v":""}]
[null,null,null,null,null,null,null,null,null,null,null,null,{"$f":"Fund!W3953","v":"00:00:00"},{"$f":"Fund!X3953","v":0},{"$f":"-Fund!V3953","v":0},{"$f":"Fund!V3953","v":0},{"$f":"Fund!P3953","v":""}]
[null,null,null,null,null,null,null,null,null,null,null,null,{"$f":"Fund!W3954","v":"00:00:00"},{"$f":"Fund!X3954","v":0},{"$f":"-Fund!V3954","v":0},{"$f":"Fund!V3954","v":0},{"$f":"Fund!P3954","v":""}]
[null,null,null,null,null,null,null,null,null,null,null,null,{"$f":"Fund!W3955","v":"00:00:00"},{"$f":"Fund!X3955","v":0},{"$f":"-Fund!V3955","v":0},{"$f":"Fund!V3955","v":0},{"$f":"Fund!P3955","v":""}]
[null,null,null,null,null,null,null,null,null,null,null,null,{"$f":"Fund!W3956","v":"00:00:00"},{"$f":"Fund!X3956","v":0},{"$f":"-Fund!V3956","v":0},{"$f":"Fund!V3956","v":0},{"$f":"Fund!P3956","v":""}]
[null,null,null,null,null,null,null,null,null,null,null,null,{"$f":"Fund!W3957","v":"00:00:00"},{"$f":"Fund!X3957","v":0},{"$f":"-Fund!V3957","v":0},{"$f":"Fund!V3957","v":0},{"$f":"Fund!P3957","v":""}]
[null,null,null,null,null,null,null,null,null,null,null,null,{"$f":"Fund!W3958","v":"00:00:00"},{"$f":"Fund!X3958","v":0},{"$f":"-Fund!V3958","v":0},{"$f":"Fund!V3958","v":0},{"$f":"Fund!P3958","v":""}]
[null,null,null,null,null,null,null,null,null,null,null,null,{"$f":"Fund!W3959","v":"00:00:00"},{"$f":"Fund!X3959","v":0},{"$f":"-Fund!V3959","v":0},{"$f":"Fund!V3959","v":0},{"$f":"Fund!P3959","v":""}]
[null,null,null,null,null,null,null,null,null,null,null,null,{"$f":"Fund!W3960","v":"00:00:00"},{"$f":"Fund!X3960","v":0},{"$f":"-Fund!V3960","v":0},{"$f":"Fund!V3960","v":0},{"$f":"Fund!P3960","v":""}]
[null,null,null,null,null,null,null,null,null,null,null,null,{"$f":"Fund!W3961","v":"00:00:00"},{"$f":"Fund!X3961","v":0},{"$f":"-Fund!V3961","v":0},{"$f":"Fund!V3961","v":0},{"$f":"Fund!P3961","v":""}]
[null,null,null,null,null,null,null,null,null,null,null,null,{"$f":"Fund!W3962","v":"00:00:00"},{"$f":"Fund!X3962","v":0},{"$f":"-Fund!V3962","v":0},{"$f":"Fund!V3962","v":0},{"$f":"Fund!P3962","v":""}]
[null,null,null,null,null,null,null,null,null,null,null,null,{"$f":"Fund!W3963","v":"00:00:00"},{"$f":"Fund!X3963","v":0},{"$f":"-Fund!V3963","v":0},{"$f":"Fund!V3963","v":0},{"$f":"Fund!P3963","v":""}]
[null,null,null,null,null,null,null,null,null,null,null,null,{"$f":"Fund!W3964","v":"00:00:00"},{"$f":"Fund!X3964","v":0},{"$f":"-Fund!V3964","v":0},{"$f":"Fund!V3964","v":0},{"$f":"Fund!P3964","v":""}]
[null,null,null,null,null,null,null,null,null,null,null,null,{"$f":"Fund!W3965","v":"00:00:00"},{"$f":"Fund!X3965","v":0},{"$f":"-Fund!V3965","v":0},{"$f":"Fund!V3965","v":0},{"$f":"Fund!P3965","v":""}]
[null,null,null,null,null,null,null,null,null,null,null,null,{"$f":"Fund!W3966","v":"00:00:00"},{"$f":"Fund!X3966","v":0},{"$f":"-Fund!V3966","v":0},{"$f":"Fund!V3966","v":0},{"$f":"Fund!P3966","v":""}]
[null,null,null,null,null,null,null,null,null,null,null,null,{"$f":"Fund!W3967","v":"00:00:00"},{"$f":"Fund!X3967","v":0},{"$f":"-Fund!V3967","v":0},{"$f":"Fund!V3967","v":0},{"$f":"Fund!P3967","v":""}]
[null,null,null,null,null,null,null,null,null,null,null,null,{"$f":"Fund!W3968","v":"00:00:00"},{"$f":"Fund!X3968","v":0},{"$f":"-Fund!V3968","v":0},{"$f":"Fund!V3968","v":0},{"$f":"Fund!P3968","v":""}]
[null,null,null,null,null,null,null,null,null,null,null,null,{"$f":"Fund!W3969","v":"00:00:00"},{"$f":"Fund!X3969","v":0},{"$f":"-Fund!V3969","v":0},{"$f":"Fund!V3969","v":0},{"$f":"Fund!P3969","v":""}]
[null,null,null,null,null,null,null,null,null,null,null,null,{"$f":"Fund!W3970","v":"00:00:00"},{"$f":"Fund!X3970","v":0},{"$f":"-Fund!V3970","v":0},{"$f":"Fund!V3970","v":0},{"$f":"Fund!P3970","v":""}]
[null,null,null,null,null,null,null,null,null,null,null,null,{"$f":"Fund!W3971","v":"00:00:00"},{"$f":"Fund!X3971","v":0},{"$f":"-Fund!V3971","v":0},{"$f":"Fund!V3971","v":0},{"$f":"Fund!P3971","v":""}]
[null,null,null,null,null,null,null,null,null,null,null,null,{"$f":"Fund!W3972","v":"00:00:00"},{"$f":"Fund!X3972","v":0},{"$f":"-Fund!V3972","v":0},{"$f":"Fund!V3972","v":0},{"$f":"Fund!P3972","v":""}]
[null,null,null,null,null,null,null,null,null,null,null,null,{"$f":"Fund!W3973","v":"00:00:00"},{"$f":"Fund!X3973","v":0},{"$f":"-Fund!V3973","v":0},{"$f":"Fund!V3973","v":0},{"$f":"Fund!P3973","v":""}]
[null,null,null,null,null,null,null,null,null,null,null,null,{"$f":"Fund!W3974","v":"00:00:00"},{"$f":"Fund!X3974","v":0},{"$f":"-Fund!V3974","v":0},{"$f":"Fund!V3974","v":0},{"$f":"Fund!P3974","v":""}]
[null,null,null,null,null,null,null,null,null,null,null,null,{"$f":"Fund!W3975","v":"00:00:00"},{"$f":"Fund!X3975","v":0},{"$f":"-Fund!V3975","v":0},{"$f":"Fund!V3975","v":0},{"$f":"Fund!P3975","v":""}]
[null,null,null,null,null,null,null,null,null,null,null,null,{"$f":"Fund!W3976","v":"00:00:00"},{"$f":"Fund!X3976","v":0},{"$f":"-Fund!V3976","v":0},{"$f":"Fund!V3976","v":0},{"$f":"Fund!P3976","v":""}]
[null,null,null,null,null,null,null,null,null,null,null,null,{"$f":"Fund!W3977","v":"00:00:00"},{"$f":"Fund!X3977","v":0},{"$f":"-Fund!V3977","v":0},{"$f":"Fund!V3977","v":0},{"$f":"Fund!P3977","v":""}]
[null,null,null,null,null,null,null,null,null,null,null,null,{"$f":"Fund!W3978","v":"00:00:00"},{"$f":"Fund!X3978","v":0},{"$f":"-Fund!V3978","v":0},{"$f":"Fund!V3978","v":0},{"$f":"Fund!P3978","v":""}]
[null,null,null,null,null,null,null,null,null,null,null,null,{"$f":"Fund!W3979","v":"00:00:00"},{"$f":"Fund!X3979","v":0},{"$f":"-Fund!V3979","v":0},{"$f":"Fund!V3979","v":0},{"$f":"Fund!P3979","v":""}]
[null,null,null,null,null,null,null,null,null,null,null,null,{"$f":"Fund!W3980","v":"00:00:00"},{"$f":"Fund!X3980","v":0},{"$f":"-Fund!V3980","v":0},{"$f":"Fund!V3980","v":0},{"$f":"Fund!P3980","v":""}]
[null,null,null,null,null,null,null,null,null,null,null,null,{"$f":"Fund!W3981","v":"00:00:00"},{"$f":"Fund!X3981","v":0},{"$f":"-Fund!V3981","v":0},{"$f":"Fund!V3981","v":0},{"$f":"Fund!P3981","v":""}]
[null,null,null,null,null,null,null,null,null,null,null,null,{"$f":"Fund!W3982","v":"00:00:00"},{"$f":"Fund!X3982","v":0},{"$f":"-Fund!V3982","v":0},{"$f":"Fund!V3982","v":0},{"$f":"Fund!P3982","v":""}]
[null,null,null,null,null,null,null,null,null,null,null,null,{"$f":"Fund!W3983","v":"00:00:00"},{"$f":"Fund!X3983","v":0},{"$f":"-Fund!V3983","v":0},{"$f":"Fund!V3983","v":0},{"$f":"Fund!P3983","v":""}]
[null,null,null,null,null,null,null,null,null,null,null,null,{"$f":"Fund!W3984","v":"00:00:00"},{"$f":"Fund!X3984","v":0},{"$f":"-Fund!V3984","v":0},{"$f":"Fund!V3984","v":0},{"$f":"Fund!P3984","v":""}]
[null,null,null,null,null,null,null,null,null,null,null,null,{"$f":"Fund!W3985","v":"00:00:00"},{"$f":"Fund!X3985","v":0},{"$f":"-Fund!V3985","v":0},{"$f":"Fund!V3985","v":0},{"$f":"Fund!P3985","v":""}]
[null,null,null,null,null,null,null,null,null,null,null,null,{"$f":"Fund!W3986","v":"00:00:00"},{"$f":"Fund!X3986","v":0},{"$f":"-Fund!V3986","v":0},{"$f":"Fund!V3986","v":0},{"$f":"Fund!P3986","v":""}]
[null,null,null,null,null,null,null,null,null,null,null,null,{"$f":"Fund!W3987","v":"00:00:00"},{"$f":"Fund!X3987","v":0},{"$f":"-Fund!V3987","v":0},{"$f":"Fund!V3987","v":0},{"$f":"Fund!P3987","v":""}]
[null,null,null,null,null,null,null,null,null,null,null,null,{"$f":"Fund!W3988","v":"00:00:00"},{"$f":"Fund!X3988","v":0},{"$f":"-Fund!V3988","v":0},{"$f":"Fund!V3988","v":0},{"$f":"Fund!P3988","v":""}]
[null,null,null,null,null,null,null,null,null,null,null,null,{"$f":"Fund!W3989","v":"00:00:00"},{"$f":"Fund!X3989","v":0},{"$f":"-Fund!V3989","v":0},{"$f":"Fund!V3989","v":0},{"$f":"Fund!P3989","v":""}]
[null,null,null,null,null,null,null,null,null,null,null,null,{"$f":"Fund!W3990","v":"00:00:00"},{"$f":"Fund!X3990","v":0},{"$f":"-Fund!V3990","v":0},{"$f":"Fund!V3990","v":0},{"$f":"Fund!P3990","v":""}]
[null,null,null,null,null,null,null,null,null,null,null,null,{"$f":"Fund!W3991","v":"00:00:00"},{"$f":"Fund!X3991","v":0},{"$f":"-Fund!V3991","v":0},{"$f":"Fund!V3991","v":0},{"$f":"Fund!P3991","v":""}]
[null,null,null,null,null,null,null,null,null,null,null,null,{"$f":"Fund!W3992","v":"00:00:00"},{"$f":"Fund!X3992","v":0},{"$f":"-Fund!V3992","v":0},{"$f":"Fund!V3992","v":0},{"$f":"Fund!P3992","v":""}]
[null,null,null,null,null,null,null,null,null,null,null,null,{"$f":"Fund!W3993","v":"00:00:00"},{"$f":"Fund!X3993","v":0},{"$f":"-Fund!V3993","v":0},{"$f":"Fund!V3993","v":0},{"$f":"Fund!P3993","v":""}]
[null,null,null,null,null,null,null,null,null,null,null,null,{"$f":"Fund!W3994","v":"00:00:00"},{"$f":"Fund!X3994","v":0},{"$f":"-Fund!V3994","v":0},{"$f":"Fund!V3994","v":0},{"$f":"Fund!P3994","v":""}]
[null,null,null,null,null,null,null,null,null,null,null,null,{"$f":"Fund!W3995","v":"00:00:00"},{"$f":"Fund!X3995","v":0},{"$f":"-Fund!V3995","v":0},{"$f":"Fund!V3995","v":0},{"$f":"Fund!P3995","v":""}]
[null,null,null,null,null,null,null,null,null,null,null,null,{"$f":"Fund!W3996","v":"00:00:00"},{"$f":"Fund!X3996","v":0},{"$f":"-Fund!V3996","v":0},{"$f":"Fund!V3996","v":0},{"$f":"Fund!P3996","v":""}]
[null,null,null,null,null,null,null,null,null,null,null,null,{"$f":"Fund!W3997","v":"00:00:00"},{"$f":"Fund!X3997","v":0},{"$f":"-Fund!V3997","v":0},{"$f":"Fund!V3997","v":0},{"$f":"Fund!P3997","v":""}]
[null,null,null,null,null,null,null,null,null,null,null,null,{"$f":"Fund!W3998","v":"00:00:00"},{"$f":"Fund!X3998","v":0},{"$f":"-Fund!V3998","v":0},{"$f":"Fund!V3998","v":0},{"$f":"Fund!P3998","v":""}]
[null,null,null,null,null,null,null,null,null,null,null,null,{"$f":"Fund!W3999","v":"00:00:00"},{"$f":"Fund!X3999","v":0},{"$f":"-Fund!V3999","v":0},{"$f":"Fund!V3999","v":0},{"$f":"Fund!P3999","v":""}]
[null,null,null,null,null,null,null,null,null,null,null,null,{"$f":"Fund!W4000","v":"00:00:00"},{"$f":"Fund!X4000","v":0},{"$f":"-Fund!V4000","v":0},{"$f":"Fund!V4000","v":0},{"$f":"Fund!P4000","v":""}]
[null,null,null,null,null,null,null,null,null,null,null,null,{"$f":"Fund!W4001","v":"00:00:00"},{"$f":"Fund!X4001","v":0},{"$f":"-Fund!V4001","v":0},{"$f":"Fund!V4001","v":0},{"$f":"Fund!P4001","v":""}]
[null,null,null,null,null,null,null,null,null,null,null,null,{"$f":"Fund!W4002","v":"00:00:00"},{"$f":"Fund!X4002","v":0},{"$f":"-Fund!V4002","v":0},{"$f":"Fund!V4002","v":0},{"$f":"Fund!P4002","v":""}]
[null,null,null,null,null,null,null,null,null,null,null,null,{"$f":"Fund!W4003","v":"00:00:00"},{"$f":"Fund!X4003","v":0},{"$f":"-Fund!V4003","v":0},{"$f":"Fund!V4003","v":0},{"$f":"Fund!P4003","v":""}]
[null,null,null,null,null,null,null,null,null,null,null,null,{"$f":"Fund!W4004","v":"00:00:00"},{"$f":"Fund!X4004","v":0},{"$f":"-Fund!V4004","v":0},{"$f":"Fund!V4004","v":0},{"$f":"Fund!P4004","v":""}]
[null,null,null,null,null,null,null,null,null,null,null,null,{"$f":"Fund!W4005","v":"00:00:00"},{"$f":"Fund!X4005","v":0},{"$f":"-Fund!V4005","v":0},{"$f":"Fund!V4005","v":0},{"$f":"Fund!P4005","v":""}]
[null,null,null,null,null,null,null,null,null,null,null,null,{"$f":"Fund!W4006","v":"00:00:00"},{"$f":"Fund!X4006","v":0},{"$f":"-Fund!V4006","v":0},{"$f":"Fund!V4006","v":0},{"$f":"Fund!P4006","v":""}]
[null,null,null,null,null,null,null,null,null,null,null,null,{"$f":"Fund!W4007","v":"00:00:00"},{"$f":"Fund!X4007","v":0},{"$f":"-Fund!V4007","v":0},{"$f":"Fund!V4007","v":0},{"$f":"Fund!P4007","v":""}]
[null,null,null,null,null,null,null,null,null,null,null,null,{"$f":"Fund!W4008","v":"00:00:00"},{"$f":"Fund!X4008","v":0},{"$f":"-Fund!V4008","v":0},{"$f":"Fund!V4008","v":0},{"$f":"Fund!P4008","v":""}]
[null,null,null,null,null,null,null,null,null,null,null,null,{"$f":"Fund!W4009","v":"00:00:00"},{"$f":"Fund!X4009","v":0},{"$f":"-Fund!V4009","v":0},{"$f":"Fund!V4009","v":0},{"$f":"Fund!P4009","v":""}]
[null,null,null,null,null,null,null,null,null,null,null,null,{"$f":"Fund!W4010","v":"00:00:00"},{"$f":"Fund!X4010","v":0},{"$f":"-Fund!V4010","v":0},{"$f":"Fund!V4010","v":0},{"$f":"Fund!P4010","v":""}]
[null,null,null,null,null,null,null,null,null,null,null,null,{"$f":"Fund!W4011","v":"00:00:00"},{"$f":"Fund!X4011","v":0},{"$f":"-Fund!V4011","v":0},{"$f":"Fund!V4011","v":0},{"$f":"Fund!P4011","v":""}]
[null,null,null,null,null,null,null,null,null,null,null,null,{"$f":"Fund!W4012","v":"00:00:00"},{"$f":"Fund!X4012","v":0},{"$f":"-Fund!V4012","v":0},{"$f":"Fund!V4012","v":0},{"$f":"Fund!P4012","v":""}]
[null,null,null,null,null,null,null,null,null,null,null,null,{"$f":"Fund!W4013","v":"00:00:00"},{"$f":"Fund!X4013","v":0},{"$f":"-Fund!V4013","v":0},{"$f":"Fund!V4013","v":0},{"$f":"Fund!P4013","v":""}]
[null,null,null,null,null,null,null,null,null,null,null,null,{"$f":"Fund!W4014","v":"00:00:00"},{"$f":"Fund!X4014","v":0},{"$f":"-Fund!V4014","v":0},{"$f":"Fund!V4014","v":0},{"$f":"Fund!P4014","v":""}]
[null,null,null,null,null,null,null,null,null,null,null,null,{"$f":"Fund!W4015","v":"00:00:00"},{"$f":"Fund!X4015","v":0},{"$f":"-Fund!V4015","v":0},{"$f":"Fund!V4015","v":0},{"$f":"Fund!P4015","v":""}]
[null,null,null,null,null,null,null,null,null,null,null,null,{"$f":"Fund!W4016","v":"00:00:00"},{"$f":"Fund!X4016","v":0},{"$f":"-Fund!V4016","v":0},{"$f":"Fund!V4016","v":0},{"$f":"Fund!P4016","v":""}]
[null,null,null,null,null,null,null,null,null,null,null,null,{"$f":"Fund!W4017","v":"00:00:00"},{"$f":"Fund!X4017","v":0},{"$f":"-Fund!V4017","v":0},{"$f":"Fund!V4017","v":0},{"$f":"Fund!P4017","v":""}]
[null,null,null,null,null,null,null,null,null,null,null,null,{"$f":"Fund!W4018","v":"00:00:00"},{"$f":"Fund!X4018","v":0},{"$f":"-Fund!V4018","v":0},{"$f":"Fund!V4018","v":0},{"$f":"Fund!P4018","v":""}]
[null,null,null,null,null,null,null,null,null,null,null,null,{"$f":"Fund!W4019","v":"00:00:00"},{"$f":"Fund!X4019","v":0},{"$f":"-Fund!V4019","v":0},{"$f":"Fund!V4019","v":0},{"$f":"Fund!P4019","v":""}]
[null,null,null,null,null,null,null,null,null,null,null,null,{"$f":"Fund!W4020","v":"00:00:00"},{"$f":"Fund!X4020","v":0},{"$f":"-Fund!V4020","v":0},{"$f":"Fund!V4020","v":0},{"$f":"Fund!P4020","v":""}]
[null,null,null,null,null,null,null,null,null,null,null,null,{"$f":"Fund!W4021","v":"00:00:00"},{"$f":"Fund!X4021","v":0},{"$f":"-Fund!V4021","v":0},{"$f":"Fund!V4021","v":0},{"$f":"Fund!P4021","v":""}]
[null,null,null,null,null,null,null,null,null,null,null,null,{"$f":"Fund!W4022","v":"00:00:00"},{"$f":"Fund!X4022","v":0},{"$f":"-Fund!V4022","v":0},{"$f":"Fund!V4022","v":0},{"$f":"Fund!P4022","v":""}]
[null,null,null,null,null,null,null,null,null,null,null,null,{"$f":"Fund!W4023","v":"00:00:00"},{"$f":"Fund!X4023","v":0},{"$f":"-Fund!V4023","v":0},{"$f":"Fund!V4023","v":0},{"$f":"Fund!P4023","v":""}]
[null,null,null,null,null,null,null,null,null,null,null,null,{"$f":"Fund!W4024","v":"00:00:00"},{"$f":"Fund!X4024","v":0},{"$f":"-Fund!V4024","v":0},{"$f":"Fund!V4024","v":0},{"$f":"Fund!P4024","v":""}]
[null,null,null,null,null,null,null,null,null,null,null,null,{"$f":"Fund!W4025","v":"00:00:00"},{"$f":"Fund!X4025","v":0},{"$f":"-Fund!V4025","v":0},{"$f":"Fund!V4025","v":0},{"$f":"Fund!P4025","v":""}]
[null,null,null,null,null,null,null,null,null,null,null,null,{"$f":"Fund!W4026","v":"00:00:00"},{"$f":"Fund!X4026","v":0},{"$f":"-Fund!V4026","v":0},{"$f":"Fund!V4026","v":0},{"$f":"Fund!P4026","v":""}]
[null,null,null,null,null,null,null,null,null,null,null,null,{"$f":"Fund!W4027","v":"00:00:00"},{"$f":"Fund!X4027","v":0},{"$f":"-Fund!V4027","v":0},{"$f":"Fund!V4027","v":0},{"$f":"Fund!P4027","v":""}]
[null,null,null,null,null,null,null,null,null,null,null,null,{"$f":"Fund!W4028","v":"00:00:00"},{"$f":"Fund!X4028","v":0},{"$f":"-Fund!V4028","v":0},{"$f":"Fund!V4028","v":0},{"$f":"Fund!P4028","v":""}]
[null,null,null,null,null,null,null,null,null,null,null,null,{"$f":"Fund!W4029","v":"00:00:00"},{"$f":"Fund!X4029","v":0},{"$f":"-Fund!V4029","v":0},{"$f":"Fund!V4029","v":0},{"$f":"Fund!P4029","v":""}]
[null,null,null,null,null,null,null,null,null,null,null,null,{"$f":"Fund!W4030","v":"00:00:00"},{"$f":"Fund!X4030","v":0},{"$f":"-Fund!V4030","v":0},{"$f":"Fund!V4030","v":0},{"$f":"Fund!P4030","v":""}]
[null,null,null,null,null,null,null,null,null,null,null,null,{"$f":"Fund!W4031","v":"00:00:00"},{"$f":"Fund!X4031","v":0},{"$f":"-Fund!V4031","v":0},{"$f":"Fund!V4031","v":0},{"$f":"Fund!P4031","v":""}]
[null,null,null,null,null,null,null,null,null,null,null,null,{"$f":"Fund!W4032","v":"00:00:00"},{"$f":"Fund!X4032","v":0},{"$f":"-Fund!V4032","v":0},{"$f":"Fund!V4032","v":0},{"$f":"Fund!P4032","v":""}]
[null,null,null,null,null,null,null,null,null,null,null,null,{"$f":"Fund!W4033","v":"00:00:00"},{"$f":"Fund!X4033","v":0},{"$f":"-Fund!V4033","v":0},{"$f":"Fund!V4033","v":0},{"$f":"Fund!P4033","v":""}]
[null,null,null,null,null,null,null,null,null,null,null,null,{"$f":"Fund!W4034","v":"00:00:00"},{"$f":"Fund!X4034","v":0},{"$f":"-Fund!V4034","v":0},{"$f":"Fund!V4034","v":0},{"$f":"Fund!P4034","v":""}]
[null,null,null,null,null,null,null,null,null,null,null,null,{"$f":"Fund!W4035","v":"00:00:00"},{"$f":"Fund!X4035","v":0},{"$f":"-Fund!V4035","v":0},{"$f":"Fund!V4035","v":0},{"$f":"Fund!P4035","v":""}]
[null,null,null,null,null,null,null,null,null,null,null,null,{"$f":"Fund!W4036","v":"00:00:00"},{"$f":"Fund!X4036","v":0},{"$f":"-Fund!V4036","v":0},{"$f":"Fund!V4036","v":0},{"$f":"Fund!P4036","v":""}]
[null,null,null,null,null,null,null,null,null,null,null,null,{"$f":"Fund!W4037","v":"00:00:00"},{"$f":"Fund!X4037","v":0},{"$f":"-Fund!V4037","v":0},{"$f":"Fund!V4037","v":0},{"$f":"Fund!P4037","v":""}]
[null,null,null,null,null,null,null,null,null,null,null,null,{"$f":"Fund!W4038","v":"00:00:00"},{"$f":"Fund!X4038","v":0},{"$f":"-Fund!V4038","v":0},{"$f":"Fund!V4038","v":0},{"$f":"Fund!P4038","v":""}]
[null,null,null,null,null,null,null,null,null,null,null,null,{"$f":"Fund!W4039","v":"00:00:00"},{"$f":"Fund!X4039","v":0},{"$f":"-Fund!V4039","v":0},{"$f":"Fund!V4039","v":0},{"$f":"Fund!P4039","v":""}]
[null,null,null,null,null,null,null,null,null,null,null,null,{"$f":"Fund!W4040","v":"00:00:00"},{"$f":"Fund!X4040","v":0},{"$f":"-Fund!V4040","v":0},{"$f":"Fund!V4040","v":0},{"$f":"Fund!P4040","v":""}]
[null,null,null,null,null,null,null,null,null,null,null,null,{"$f":"Fund!W4041","v":"00:00:00"},{"$f":"Fund!X4041","v":0},{"$f":"-Fund!V4041","v":0},{"$f":"Fund!V4041","v":0},{"$f":"Fund!P4041","v":""}]
[null,null,null,null,null,null,null,null,null,null,null,null,{"$f":"Fund!W4042","v":"00:00:00"},{"$f":"Fund!X4042","v":0},{"$f":"-Fund!V4042","v":0},{"$f":"Fund!V4042","v":0},{"$f":"Fund!P4042","v":""}]
[null,null,null,null,null,null,null,null,null,null,null,null,{"$f":"Fund!W4043","v":"00:00:00"},{"$f":"Fund!X4043","v":0},{"$f":"-Fund!V4043","v":0},{"$f":"Fund!V4043","v":0},{"$f":"Fund!P4043","v":""}]
[null,null,null,null,null,null,null,null,null,null,null,null,{"$f":"Fund!W4044","v":"00:00:00"},{"$f":"Fund!X4044","v":0},{"$f":"-Fund!V4044","v":0},{"$f":"Fund!V4044","v":0},{"$f":"Fund!P4044","v":""}]
[null,null,null,null,null,null,null,null,null,null,null,null,{"$f":"Fund!W4045","v":"00:00:00"},{"$f":"Fund!X4045","v":0},{"$f":"-Fund!V4045","v":0},{"$f":"Fund!V4045","v":0},{"$f":"Fund!P4045","v":""}]
[null,null,null,null,null,null,null,null,null,null,null,null,{"$f":"Fund!W4046","v":"00:00:00"},{"$f":"Fund!X4046","v":0},{"$f":"-Fund!V4046","v":0},{"$f":"Fund!V4046","v":0},{"$f":"Fund!P4046","v":""}]
[null,null,null,null,null,null,null,null,null,null,null,null,{"$f":"Fund!W4047","v":"00:00:00"},{"$f":"Fund!X4047","v":0},{"$f":"-Fund!V4047","v":0},{"$f":"Fund!V4047","v":0},{"$f":"Fund!P4047","v":""}]
[null,null,null,null,null,null,null,null,null,null,null,null,{"$f":"Fund!W4048","v":"00:00:00"},{"$f":"Fund!X4048","v":0},{"$f":"-Fund!V4048","v":0},{"$f":"Fund!V4048","v":0},{"$f":"Fund!P4048","v":""}]
[null,null,null,null,null,null,null,null,null,null,null,null,{"$f":"Fund!W4049","v":"00:00:00"},{"$f":"Fund!X4049","v":0},{"$f":"-Fund!V4049","v":0},{"$f":"Fund!V4049","v":0},{"$f":"Fund!P4049","v":""}]
[null,null,null,null,null,null,null,null,null,null,null,null,{"$f":"Fund!W4050","v":"00:00:00"},{"$f":"Fund!X4050","v":0},{"$f":"-Fund!V4050","v":0},{"$f":"Fund!V4050","v":0},{"$f":"Fund!P4050","v":""}]
[null,null,null,null,null,null,null,null,null,null,null,null,{"$f":"Fund!W4051","v":"00:00:00"},{"$f":"Fund!X4051","v":0},{"$f":"-Fund!V4051","v":0},{"$f":"Fund!V4051","v":0},{"$f":"Fund!P4051","v":""}]
[null,null,null,null,null,null,null,null,null,null,null,null,{"$f":"Fund!W4052","v":"00:00:00"},{"$f":"Fund!X4052","v":0},{"$f":"-Fund!V4052","v":0},{"$f":"Fund!V4052","v":0},{"$f":"Fund!P4052","v":""}]
[null,null,null,null,null,null,null,null,null,null,null,null,{"$f":"Fund!W4053","v":"00:00:00"},{"$f":"Fund!X4053","v":0},{"$f":"-Fund!V4053","v":0},{"$f":"Fund!V4053","v":0},{"$f":"Fund!P4053","v":""}]
[null,null,null,null,null,null,null,null,null,null,null,null,{"$f":"Fund!W4054","v":"00:00:00"},{"$f":"Fund!X4054","v":0},{"$f":"-Fund!V4054","v":0},{"$f":"Fund!V4054","v":0},{"$f":"Fund!P4054","v":""}]
[null,null,null,null,null,null,null,null,null,null,null,null,{"$f":"Fund!W4055","v":"00:00:00"},{"$f":"Fund!X4055","v":0},{"$f":"-Fund!V4055","v":0},{"$f":"Fund!V4055","v":0},{"$f":"Fund!P4055","v":""}]
[null,null,null,null,null,null,null,null,null,null,null,null,{"$f":"Fund!W4056","v":"00:00:00"},{"$f":"Fund!X4056","v":0},{"$f":"-Fund!V4056","v":0},{"$f":"Fund!V4056","v":0},{"$f":"Fund!P4056","v":""}]
[null,null,null,null,null,null,null,null,null,null,null,null,{"$f":"Fund!W4057","v":"00:00:00"},{"$f":"Fund!X4057","v":0},{"$f":"-Fund!V4057","v":0},{"$f":"Fund!V4057","v":0},{"$f":"Fund!P4057","v":""}]
[null,null,null,null,null,null,null,null,null,null,null,null,{"$f":"Fund!W4058","v":"00:00:00"},{"$f":"Fund!X4058","v":0},{"$f":"-Fund!V4058","v":0},{"$f":"Fund!V4058","v":0},{"$f":"Fund!P4058","v":""}]
[null,null,null,null,null,null,null,null,null,null,null,null,{"$f":"Fund!W4059","v":"00:00:00"},{"$f":"Fund!X4059","v":0},{"$f":"-Fund!V4059","v":0},{"$f":"Fund!V4059","v":0},{"$f":"Fund!P4059","v":""}]
[null,null,null,null,null,null,null,null,null,null,null,null,{"$f":"Fund!W4060","v":"00:00:00"},{"$f":"Fund!X4060","v":0},{"$f":"-Fund!V4060","v":0},{"$f":"Fund!V4060","v":0},{"$f":"Fund!P4060","v":""}]
[null,null,null,null,null,null,null,null,null,null,null,null,{"$f":"Fund!W4061","v":"00:00:00"},{"$f":"Fund!X4061","v":0},{"$f":"-Fund!V4061","v":0},{"$f":"Fund!V4061","v":0},{"$f":"Fund!P4061","v":""}]
[null,null,null,null,null,null,null,null,null,null,null,null,{"$f":"Fund!W4062","v":"00:00:00"},{"$f":"Fund!X4062","v":0},{"$f":"-Fund!V4062","v":0},{"$f":"Fund!V4062","v":0},{"$f":"Fund!P4062","v":""}]
[null,null,null,null,null,null,null,null,null,null,null,null,{"$f":"Fund!W4063","v":"00:00:00"},{"$f":"Fund!X4063","v":0},{"$f":"-Fund!V4063","v":0},{"$f":"Fund!V4063","v":0},{"$f":"Fund!P4063","v":""}]
[null,null,null,null,null,null,null,null,null,null,null,null,{"$f":"Fund!W4064","v":"00:00:00"},{"$f":"Fund!X4064","v":0},{"$f":"-Fund!V4064","v":0},{"$f":"Fund!V4064","v":0},{"$f":"Fund!P4064","v":""}]
[null,null,null,null,null,null,null,null,null,null,null,null,{"$f":"Fund!W4065","v":"00:00:00"},{"$f":"Fund!X4065","v":0},{"$f":"-Fund!V4065","v":0},{"$f":"Fund!V4065","v":0},{"$f":"Fund!P4065","v":""}]
[null,null,null,null,null,null,null,null,null,null,null,null,{"$f":"Fund!W4066","v":"00:00:00"},{"$f":"Fund!X4066","v":0},{"$f":"-Fund!V4066","v":0},{"$f":"Fund!V4066","v":0},{"$f":"Fund!P4066","v":""}]
[null,null,null,null,null,null,null,null,null,null,null,null,{"$f":"Fund!W4067","v":"00:00:00"},{"$f":"Fund!X4067","v":0},{"$f":"-Fund!V4067","v":0},{"$f":"Fund!V4067","v":0},{"$f":"Fund!P4067","v":""}]
[null,null,null,null,null,null,null,null,null,null,null,null,{"$f":"Fund!W4068","v":"00:00:00"},{"$f":"Fund!X4068","v":0},{"$f":"-Fund!V4068","v":0},{"$f":"Fund!V4068","v":0},{"$f":"Fund!P4068","v":""}]
[null,null,null,null,null,null,null,null,null,null,null,null,{"$f":"Fund!W4069","v":"00:00:00"},{"$f":"Fund!X4069","v":0},{"$f":"-Fund!V4069","v":0},{"$f":"Fund!V4069","v":0},{"$f":"Fund!P4069","v":""}]
[null,null,null,null,null,null,null,null,null,null,null,null,{"$f":"Fund!W4070","v":"00:00:00"},{"$f":"Fund!X4070","v":0},{"$f":"-Fund!V4070","v":0},{"$f":"Fund!V4070","v":0},{"$f":"Fund!P4070","v":""}]
[null,null,null,null,null,null,null,null,null,null,null,null,{"$f":"Fund!W4071","v":"00:00:00"},{"$f":"Fund!X4071","v":0},{"$f":"-Fund!V4071","v":0},{"$f":"Fund!V4071","v":0},{"$f":"Fund!P4071","v":""}]
[null,null,null,null,null,null,null,null,null,null,null,null,{"$f":"Fund!W4072","v":"00:00:00"},{"$f":"Fund!X4072","v":0},{"$f":"-Fund!V4072","v":0},{"$f":"Fund!V4072","v":0},{"$f":"Fund!P4072","v":""}]
[null,null,null,null,null,null,null,null,null,null,null,null,{"$f":"Fund!W4073","v":"00:00:00"},{"$f":"Fund!X4073","v":0},{"$f":"-Fund!V4073","v":0},{"$f":"Fund!V4073","v":0},{"$f":"Fund!P4073","v":""}]
[null,null,null,null,null,null,null,null,null,null,null,null,{"$f":"Fund!W4074","v":"00:00:00"},{"$f":"Fund!X4074","v":0},{"$f":"-Fund!V4074","v":0},{"$f":"Fund!V4074","v":0},{"$f":"Fund!P4074","v":""}]
[null,null,null,null,null,null,null,null,null,null,null,null,{"$f":"Fund!W4075","v":"00:00:00"},{"$f":"Fund!X4075","v":0},{"$f":"-Fund!V4075","v":0},{"$f":"Fund!V4075","v":0},{"$f":"Fund!P4075","v":""}]
[null,null,null,null,null,null,null,null,null,null,null,null,{"$f":"Fund!W4076","v":"00:00:00"},{"$f":"Fund!X4076","v":0},{"$f":"-Fund!V4076","v":0},{"$f":"Fund!V4076","v":0},{"$f":"Fund!P4076","v":""}]
[null,null,null,null,null,null,null,null,null,null,null,null,{"$f":"Fund!W4077","v":"00:00:00"},{"$f":"Fund!X4077","v":0},{"$f":"-Fund!V4077","v":0},{"$f":"Fund!V4077","v":0},{"$f":"Fund!P4077","v":""}]
[null,null,null,null,null,null,null,null,null,null,null,null,{"$f":"Fund!W4078","v":"00:00:00"},{"$f":"Fund!X4078","v":0},{"$f":"-Fund!V4078","v":0},{"$f":"Fund!V4078","v":0},{"$f":"Fund!P4078","v":""}]
[null,null,null,null,null,null,null,null,null,null,null,null,{"$f":"Fund!W4079","v":"00:00:00"},{"$f":"Fund!X4079","v":0},{"$f":"-Fund!V4079","v":0},{"$f":"Fund!V4079","v":0},{"$f":"Fund!P4079","v":""}]
[null,null,null,null,null,null,null,null,null,null,null,null,{"$f":"Fund!W4080","v":"00:00:00"},{"$f":"Fund!X4080","v":0},{"$f":"-Fund!V4080","v":0},{"$f":"Fund!V4080","v":0},{"$f":"Fund!P4080","v":""}]
[null,null,null,null,null,null,null,null,null,null,null,null,{"$f":"Fund!W4081","v":"00:00:00"},{"$f":"Fund!X4081","v":0},{"$f":"-Fund!V4081","v":0},{"$f":"Fund!V4081","v":0},{"$f":"Fund!P4081","v":""}]
[null,null,null,null,null,null,null,null,null,null,null,null,{"$f":"Fund!W4082","v":"00:00:00"},{"$f":"Fund!X4082","v":0},{"$f":"-Fund!V4082","v":0},{"$f":"Fund!V4082","v":0},{"$f":"Fund!P4082","v":""}]
[null,null,null,null,null,null,null,null,null,null,null,null,{"$f":"Fund!W4083","v":"00:00:00"},{"$f":"Fund!X4083","v":0},{"$f":"-Fund!V4083","v":0},{"$f":"Fund!V4083","v":0},{"$f":"Fund!P4083","v":""}]
[null,null,null,null,null,null,null,null,null,null,null,null,{"$f":"Fund!W4084","v":"00:00:00"},{"$f":"Fund!X4084","v":0},{"$f":"-Fund!V4084","v":0},{"$f":"Fund!V4084","v":0},{"$f":"Fund!P4084","v":""}]
[null,null,null,null,null,null,null,null,null,null,null,null,{"$f":"Fund!W4085","v":"00:00:00"},{"$f":"Fund!X4085","v":0},{"$f":"-Fund!V4085","v":0},{"$f":"Fund!V4085","v":0},{"$f":"Fund!P4085","v":""}]
[null,null,null,null,null,null,null,null,null,null,null,null,{"$f":"Fund!W4086","v":"00:00:00"},{"$f":"Fund!X4086","v":0},{"$f":"-Fund!V4086","v":0},{"$f":"Fund!V4086","v":0},{"$f":"Fund!P4086","v":""}]
[null,null,null,null,null,null,null,null,null,null,null,null,{"$f":"Fund!W4087","v":"00:00:00"},{"$f":"Fund!X4087","v":0},{"$f":"-Fund!V4087","v":0},{"$f":"Fund!V4087","v":0},{"$f":"Fund!P4087","v":""}]
[null,null,null,null,null,null,null,null,null,null,null,null,{"$f":"Fund!W4088","v":"00:00:00"},{"$f":"Fund!X4088","v":0},{"$f":"-Fund!V4088","v":0},{"$f":"Fund!V4088","v":0},{"$f":"Fund!P4088","v":""}]
[null,null,null,null,null,null,null,null,null,null,null,null,{"$f":"Fund!W4089","v":"00:00:00"},{"$f":"Fund!X4089","v":0},{"$f":"-Fund!V4089","v":0},{"$f":"Fund!V4089","v":0},{"$f":"Fund!P4089","v":""}]
[null,null,null,null,null,null,null,null,null,null,null,null,{"$f":"Fund!W4090","v":"00:00:00"},{"$f":"Fund!X4090","v":0},{"$f":"-Fund!V4090","v":0},{"$f":"Fund!V4090","v":0},{"$f":"Fund!P4090","v":""}]
[null,null,null,null,null,null,null,null,null,null,null,null,{"$f":"Fund!W4091","v":"00:00:00"},{"$f":"Fund!X4091","v":0},{"$f":"-Fund!V4091","v":0},{"$f":"Fund!V4091","v":0},{"$f":"Fund!P4091","v":""}]
[null,null,null,null,null,null,null,null,null,null,null,null,{"$f":"Fund!W4092","v":"00:00:00"},{"$f":"Fund!X4092","v":0},{"$f":"-Fund!V4092","v":0},{"$f":"Fund!V4092","v":0},{"$f":"Fund!P4092","v":""}]
[null,null,null,null,null,null,null,null,null,null,null,null,{"$f":"Fund!W4093","v":"00:00:00"},{"$f":"Fund!X4093","v":0},{"$f":"-Fund!V4093","v":0},{"$f":"Fund!V4093","v":0},{"$f":"Fund!P4093","v":""}]
[null,null,null,null,null,null,null,null,null,null,null,null,{"$f":"Fund!W4094","v":"00:00:00"},{"$f":"Fund!X4094","v":0},{"$f":"-Fund!V4094","v":0},{"$f":"Fund!V4094","v":0},{"$f":"Fund!P4094","v":""}]
[null,null,null,null,null,null,null,null,null,null,null,null,{"$f":"Fund!W4095","v":"00:00:00"},{"$f":"Fund!X4095","v":0},{"$f":"-Fund!V4095","v":0},{"$f":"Fund!V4095","v":0},{"$f":"Fund!P4095","v":""}]
[null,null,null,null,null,null,null,null,null,null,null,null,{"$f":"Fund!W4096","v":"00:00:00"},{"$f":"Fund!X4096","v":0},{"$f":"-Fund!V4096","v":0},{"$f":"Fund!V4096","v":0},{"$f":"Fund!P4096","v":""}]
[null,null,null,null,null,null,null,null,null,null,null,null,{"$f":"Fund!W4097","v":"00:00:00"},{"$f":"Fund!X4097","v":0},{"$f":"-Fund!V4097","v":0},{"$f":"Fund!V4097","v":0},{"$f":"Fund!P4097","v":""}]
[null,null,null,null,null,null,null,null,null,null,null,null,{"$f":"Fund!W4098","v":"00:00:00"},{"$f":"Fund!X4098","v":0},{"$f":"-Fund!V4098","v":0},{"$f":"Fund!V4098","v":0},{"$f":"Fund!P4098","v":""}]
[null,null,null,null,null,null,null,null,null,null,null,null,{"$f":"Fund!W4099","v":"00:00:00"},{"$f":"Fund!X4099","v":0},{"$f":"-Fund!V4099","v":0},{"$f":"Fund!V4099","v":0},{"$f":"Fund!P4099","v":""}]
[null,null,null,null,null,null,null,null,null,null,null,null,{"$f":"Fund!W4100","v":"00:00:00"},{"$f":"Fund!X4100","v":0},{"$f":"-Fund!V4100","v":0},{"$f":"Fund!V4100","v":0},{"$f":"Fund!P4100","v":""}]
[null,null,null,null,null,null,null,null,null,null,null,null,{"$f":"Fund!W4101","v":"00:00:00"},{"$f":"Fund!X4101","v":0},{"$f":"-Fund!V4101","v":0},{"$f":"Fund!V4101","v":0},{"$f":"Fund!P4101","v":""}]
[null,null,null,null,null,null,null,null,null,null,null,null,{"$f":"Fund!W4102","v":"00:00:00"},{"$f":"Fund!X4102","v":0},{"$f":"-Fund!V4102","v":0},{"$f":"Fund!V4102","v":0},{"$f":"Fund!P4102","v":""}]
[null,null,null,null,null,null,null,null,null,null,null,null,{"$f":"Fund!W4103","v":"00:00:00"},{"$f":"Fund!X4103","v":0},{"$f":"-Fund!V4103","v":0},{"$f":"Fund!V4103","v":0},{"$f":"Fund!P4103","v":""}]
[null,null,null,null,null,null,null,null,null,null,null,null,{"$f":"Fund!W4104","v":"00:00:00"},{"$f":"Fund!X4104","v":0},{"$f":"-Fund!V4104","v":0},{"$f":"Fund!V4104","v":0},{"$f":"Fund!P4104","v":""}]
[null,null,null,null,null,null,null,null,null,null,null,null,{"$f":"Fund!W4105","v":"00:00:00"},{"$f":"Fund!X4105","v":0},{"$f":"-Fund!V4105","v":0},{"$f":"Fund!V4105","v":0},{"$f":"Fund!P4105","v":""}]
[null,null,null,null,null,null,null,null,null,null,null,null,{"$f":"Fund!W4106","v":"00:00:00"},{"$f":"Fund!X4106","v":0},{"$f":"-Fund!V4106","v":0},{"$f":"Fund!V4106","v":0},{"$f":"Fund!P4106","v":""}]
[null,null,null,null,null,null,null,null,null,null,null,null,{"$f":"Fund!W4107","v":"00:00:00"},{"$f":"Fund!X4107","v":0},{"$f":"-Fund!V4107","v":0},{"$f":"Fund!V4107","v":0},{"$f":"Fund!P4107","v":""}]
[null,null,null,null,null,null,null,null,null,null,null,null,{"$f":"Fund!W4108","v":"00:00:00"},{"$f":"Fund!X4108","v":0},{"$f":"-Fund!V4108","v":0},{"$f":"Fund!V4108","v":0},{"$f":"Fund!P4108","v":""}]
[null,null,null,null,null,null,null,null,null,null,null,null,{"$f":"Fund!W4109","v":"00:00:00"},{"$f":"Fund!X4109","v":0},{"$f":"-Fund!V4109","v":0},{"$f":"Fund!V4109","v":0},{"$f":"Fund!P4109","v":""}]
[null,null,null,null,null,null,null,null,null,null,null,null,{"$f":"Fund!W4110","v":"00:00:00"},{"$f":"Fund!X4110","v":0},{"$f":"-Fund!V4110","v":0},{"$f":"Fund!V4110","v":0},{"$f":"Fund!P4110","v":""}]
[null,null,null,null,null,null,null,null,null,null,null,null,{"$f":"Fund!W4111","v":"00:00:00"},{"$f":"Fund!X4111","v":0},{"$f":"-Fund!V4111","v":0},{"$f":"Fund!V4111","v":0},{"$f":"Fund!P4111","v":""}]
[null,null,null,null,null,null,null,null,null,null,null,null,{"$f":"Fund!W4112","v":"00:00:00"},{"$f":"Fund!X4112","v":0},{"$f":"-Fund!V4112","v":0},{"$f":"Fund!V4112","v":0},{"$f":"Fund!P4112","v":""}]
[null,null,null,null,null,null,null,null,null,null,null,null,{"$f":"Fund!W4113","v":"00:00:00"},{"$f":"Fund!X4113","v":0},{"$f":"-Fund!V4113","v":0},{"$f":"Fund!V4113","v":0},{"$f":"Fund!P4113","v":""}]
[null,null,null,null,null,null,null,null,null,null,null,null,{"$f":"Fund!W4114","v":"00:00:00"},{"$f":"Fund!X4114","v":0},{"$f":"-Fund!V4114","v":0},{"$f":"Fund!V4114","v":0},{"$f":"Fund!P4114","v":""}]
[null,null,null,null,null,null,null,null,null,null,null,null,{"$f":"Fund!W4115","v":"00:00:00"},{"$f":"Fund!X4115","v":0},{"$f":"-Fund!V4115","v":0},{"$f":"Fund!V4115","v":0},{"$f":"Fund!P4115","v":""}]
[null,null,null,null,null,null,null,null,null,null,null,null,{"$f":"Fund!W4116","v":"00:00:00"},{"$f":"Fund!X4116","v":0},{"$f":"-Fund!V4116","v":0},{"$f":"Fund!V4116","v":0},{"$f":"Fund!P4116","v":""}]
[null,null,null,null,null,null,null,null,null,null,null,null,{"$f":"Fund!W4117","v":"00:00:00"},{"$f":"Fund!X4117","v":0},{"$f":"-Fund!V4117","v":0},{"$f":"Fund!V4117","v":0},{"$f":"Fund!P4117","v":""}]
[null,null,null,null,null,null,null,null,null,null,null,null,{"$f":"Fund!W4118","v":"00:00:00"},{"$f":"Fund!X4118","v":0},{"$f":"-Fund!V4118","v":0},{"$f":"Fund!V4118","v":0},{"$f":"Fund!P4118","v":""}]
[null,null,null,null,null,null,null,null,null,null,null,null,{"$f":"Fund!W4119","v":"00:00:00"},{"$f":"Fund!X4119","v":0},{"$f":"-Fund!V4119","v":0},{"$f":"Fund!V4119","v":0},{"$f":"Fund!P4119","v":""}]
[null,null,null,null,null,null,null,null,null,null,null,null,{"$f":"Fund!W4120","v":"00:00:00"},{"$f":"Fund!X4120","v":0},{"$f":"-Fund!V4120","v":0},{"$f":"Fund!V4120","v":0},{"$f":"Fund!P4120","v":""}]
[null,null,null,null,null,null,null,null,null,null,null,null,{"$f":"Fund!W4121","v":"00:00:00"},{"$f":"Fund!X4121","v":0},{"$f":"-Fund!V4121","v":0},{"$f":"Fund!V4121","v":0},{"$f":"Fund!P4121","v":""}]
[null,null,null,null,null,null,null,null,null,null,null,null,{"$f":"Fund!W4122","v":"00:00:00"},{"$f":"Fund!X4122","v":0},{"$f":"-Fund!V4122","v":0},{"$f":"Fund!V4122","v":0},{"$f":"Fund!P4122","v":""}]
[null,null,null,null,null,null,null,null,null,null,null,null,{"$f":"Fund!W4123","v":"00:00:00"},{"$f":"Fund!X4123","v":0},{"$f":"-Fund!V4123","v":0},{"$f":"Fund!V4123","v":0},{"$f":"Fund!P4123","v":""}]
[null,null,null,null,null,null,null,null,null,null,null,null,{"$f":"Fund!W4124","v":"00:00:00"},{"$f":"Fund!X4124","v":0},{"$f":"-Fund!V4124","v":0},{"$f":"Fund!V4124","v":0},{"$f":"Fund!P4124","v":""}]
[null,null,null,null,null,null,null,null,null,null,null,null,{"$f":"Fund!W4125","v":"00:00:00"},{"$f":"Fund!X4125","v":0},{"$f":"-Fund!V4125","v":0},{"$f":"Fund!V4125","v":0},{"$f":"Fund!P4125","v":""}]
[null,null,null,null,null,null,null,null,null,null,null,null,{"$f":"Fund!W4126","v":"00:00:00"},{"$f":"Fund!X4126","v":0},{"$f":"-Fund!V4126","v":0},{"$f":"Fund!V4126","v":0},{"$f":"Fund!P4126","v":""}]
[null,null,null,null,null,null,null,null,null,null,null,null,{"$f":"Fund!W4127","v":"00:00:00"},{"$f":"Fund!X4127","v":0},{"$f":"-Fund!V4127","v":0},{"$f":"Fund!V4127","v":0},{"$f":"Fund!P4127","v":""}]
[null,null,null,null,null,null,null,null,null,null,null,null,{"$f":"Fund!W4128","v":"00:00:00"},{"$f":"Fund!X4128","v":0},{"$f":"-Fund!V4128","v":0},{"$f":"Fund!V4128","v":0},{"$f":"Fund!P4128","v":""}]
[null,null,null,null,null,null,null,null,null,null,null,null,{"$f":"Fund!W4129","v":"00:00:00"},{"$f":"Fund!X4129","v":0},{"$f":"-Fund!V4129","v":0},{"$f":"Fund!V4129","v":0},{"$f":"Fund!P4129","v":""}]
[null,null,null,null,null,null,null,null,null,null,null,null,{"$f":"Fund!W4130","v":"00:00:00"},{"$f":"Fund!X4130","v":0},{"$f":"-Fund!V4130","v":0},{"$f":"Fund!V4130","v":0},{"$f":"Fund!P4130","v":""}]
[null,null,null,null,null,null,null,null,null,null,null,null,{"$f":"Fund!W4131","v":"00:00:00"},{"$f":"Fund!X4131","v":0},{"$f":"-Fund!V4131","v":0},{"$f":"Fund!V4131","v":0},{"$f":"Fund!P4131","v":""}]
[null,null,null,null,null,null,null,null,null,null,null,null,{"$f":"Fund!W4132","v":"00:00:00"},{"$f":"Fund!X4132","v":0},{"$f":"-Fund!V4132","v":0},{"$f":"Fund!V4132","v":0},{"$f":"Fund!P4132","v":""}]
[null,null,null,null,null,null,null,null,null,null,null,null,{"$f":"Fund!W4133","v":"00:00:00"},{"$f":"Fund!X4133","v":0},{"$f":"-Fund!V4133","v":0},{"$f":"Fund!V4133","v":0},{"$f":"Fund!P4133","v":""}]
[null,null,null,null,null,null,null,null,null,null,null,null,{"$f":"Fund!W4134","v":"00:00:00"},{"$f":"Fund!X4134","v":0},{"$f":"-Fund!V4134","v":0},{"$f":"Fund!V4134","v":0},{"$f":"Fund!P4134","v":""}]
[null,null,null,null,null,null,null,null,null,null,null,null,{"$f":"Fund!W4135","v":"00:00:00"},{"$f":"Fund!X4135","v":0},{"$f":"-Fund!V4135","v":0},{"$f":"Fund!V4135","v":0},{"$f":"Fund!P4135","v":""}]
[null,null,null,null,null,null,null,null,null,null,null,null,{"$f":"Fund!W4136","v":"00:00:00"},{"$f":"Fund!X4136","v":0},{"$f":"-Fund!V4136","v":0},{"$f":"Fund!V4136","v":0},{"$f":"Fund!P4136","v":""}]
[null,null,null,null,null,null,null,null,null,null,null,null,{"$f":"Fund!W4137","v":"00:00:00"},{"$f":"Fund!X4137","v":0},{"$f":"-Fund!V4137","v":0},{"$f":"Fund!V4137","v":0},{"$f":"Fund!P4137","v":""}]
[null,null,null,null,null,null,null,null,null,null,null,null,{"$f":"Fund!W4138","v":"00:00:00"},{"$f":"Fund!X4138","v":0},{"$f":"-Fund!V4138","v":0},{"$f":"Fund!V4138","v":0},{"$f":"Fund!P4138","v":""}]
[null,null,null,null,null,null,null,null,null,null,null,null,{"$f":"Fund!W4139","v":"00:00:00"},{"$f":"Fund!X4139","v":0},{"$f":"-Fund!V4139","v":0},{"$f":"Fund!V4139","v":0},{"$f":"Fund!P4139","v":""}]
[null,null,null,null,null,null,null,null,null,null,null,null,{"$f":"Fund!W4140","v":"00:00:00"},{"$f":"Fund!X4140","v":0},{"$f":"-Fund!V4140","v":0},{"$f":"Fund!V4140","v":0},{"$f":"Fund!P4140","v":""}]
[null,null,null,null,null,null,null,null,null,null,null,null,{"$f":"Fund!W4141","v":"00:00:00"},{"$f":"Fund!X4141","v":0},{"$f":"-Fund!V4141","v":0},{"$f":"Fund!V4141","v":0},{"$f":"Fund!P4141","v":""}]
[null,null,null,null,null,null,null,null,null,null,null,null,{"$f":"Fund!W4142","v":"00:00:00"},{"$f":"Fund!X4142","v":0},{"$f":"-Fund!V4142","v":0},{"$f":"Fund!V4142","v":0},{"$f":"Fund!P4142","v":""}]
[null,null,null,null,null,null,null,null,null,null,null,null,{"$f":"Fund!W4143","v":"00:00:00"},{"$f":"Fund!X4143","v":0},{"$f":"-Fund!V4143","v":0},{"$f":"Fund!V4143","v":0},{"$f":"Fund!P4143","v":""}]
[null,null,null,null,null,null,null,null,null,null,null,null,{"$f":"Fund!W4144","v":"00:00:00"},{"$f":"Fund!X4144","v":0},{"$f":"-Fund!V4144","v":0},{"$f":"Fund!V4144","v":0},{"$f":"Fund!P4144","v":""}]
[null,null,null,null,null,null,null,null,null,null,null,null,{"$f":"Fund!W4145","v":"00:00:00"},{"$f":"Fund!X4145","v":0},{"$f":"-Fund!V4145","v":0},{"$f":"Fund!V4145","v":0},{"$f":"Fund!P4145","v":""}]
[null,null,null,null,null,null,null,null,null,null,null,null,{"$f":"Fund!W4146","v":"00:00:00"},{"$f":"Fund!X4146","v":0},{"$f":"-Fund!V4146","v":0},{"$f":"Fund!V4146","v":0},{"$f":"Fund!P4146","v":""}]
[null,null,null,null,null,null,null,null,null,null,null,null,{"$f":"Fund!W4147","v":"00:00:00"},{"$f":"Fund!X4147","v":0},{"$f":"-Fund!V4147","v":0},{"$f":"Fund!V4147","v":0},{"$f":"Fund!P4147","v":""}]
[null,null,null,null,null,null,null,null,null,null,null,null,{"$f":"Fund!W4148","v":"00:00:00"},{"$f":"Fund!X4148","v":0},{"$f":"-Fund!V4148","v":0},{"$f":"Fund!V4148","v":0},{"$f":"Fund!P4148","v":""}]
[null,null,null,null,null,null,null,null,null,null,null,null,{"$f":"Fund!W4149","v":"00:00:00"},{"$f":"Fund!X4149","v":0},{"$f":"-Fund!V4149","v":0},{"$f":"Fund!V4149","v":0},{"$f":"Fund!P4149","v":""}]
[null,null,null,null,null,null,null,null,null,null,null,null,{"$f":"Fund!W4150","v":"00:00:00"},{"$f":"Fund!X4150","v":0},{"$f":"-Fund!V4150","v":0},{"$f":"Fund!V4150","v":0},{"$f":"Fund!P4150","v":""}]
[null,null,null,null,null,null,null,null,null,null,null,null,{"$f":"Fund!W4151","v":"00:00:00"},{"$f":"Fund!X4151","v":0},{"$f":"-Fund!V4151","v":0},{"$f":"Fund!V4151","v":0},{"$f":"Fund!P4151","v":""}]
[null,null,null,null,null,null,null,null,null,null,null,null,{"$f":"Fund!W4152","v":"00:00:00"},{"$f":"Fund!X4152","v":0},{"$f":"-Fund!V4152","v":0},{"$f":"Fund!V4152","v":0},{"$f":"Fund!P4152","v":""}]
[null,null,null,null,null,null,null,null,null,null,null,null,{"$f":"Fund!W4153","v":"00:00:00"},{"$f":"Fund!X4153","v":0},{"$f":"-Fund!V4153","v":0},{"$f":"Fund!V4153","v":0},{"$f":"Fund!P4153","v":""}]
[null,null,null,null,null,null,null,null,null,null,null,null,{"$f":"Fund!W4154","v":"00:00:00"},{"$f":"Fund!X4154","v":0},{"$f":"-Fund!V4154","v":0},{"$f":"Fund!V4154","v":0},{"$f":"Fund!P4154","v":""}]
[null,null,null,null,null,null,null,null,null,null,null,null,{"$f":"Fund!W4155","v":"00:00:00"},{"$f":"Fund!X4155","v":0},{"$f":"-Fund!V4155","v":0},{"$f":"Fund!V4155","v":0},{"$f":"Fund!P4155","v":""}]
[null,null,null,null,null,null,null,null,null,null,null,null,{"$f":"Fund!W4156","v":"00:00:00"},{"$f":"Fund!X4156","v":0},{"$f":"-Fund!V4156","v":0},{"$f":"Fund!V4156","v":0},{"$f":"Fund!P4156","v":""}]
[null,null,null,null,null,null,null,null,null,null,null,null,{"$f":"Fund!W4157","v":"00:00:00"},{"$f":"Fund!X4157","v":0},{"$f":"-Fund!V4157","v":0},{"$f":"Fund!V4157","v":0},{"$f":"Fund!P4157","v":""}]
[null,null,null,null,null,null,null,null,null,null,null,null,{"$f":"Fund!W4158","v":"00:00:00"},{"$f":"Fund!X4158","v":0},{"$f":"-Fund!V4158","v":0},{"$f":"Fund!V4158","v":0},{"$f":"Fund!P4158","v":""}]
[null,null,null,null,null,null,null,null,null,null,null,null,{"$f":"Fund!W4159","v":"00:00:00"},{"$f":"Fund!X4159","v":0},{"$f":"-Fund!V4159","v":0},{"$f":"Fund!V4159","v":0},{"$f":"Fund!P4159","v":""}]
[null,null,null,null,null,null,null,null,null,null,null,null,{"$f":"Fund!W4160","v":"00:00:00"},{"$f":"Fund!X4160","v":0},{"$f":"-Fund!V4160","v":0},{"$f":"Fund!V4160","v":0},{"$f":"Fund!P4160","v":""}]
[null,null,null,null,null,null,null,null,null,null,null,null,{"$f":"Fund!W4161","v":"00:00:00"},{"$f":"Fund!X4161","v":0},{"$f":"-Fund!V4161","v":0},{"$f":"Fund!V4161","v":0},{"$f":"Fund!P4161","v":""}]
[null,null,null,null,null,null,null,null,null,null,null,null,{"$f":"Fund!W4162","v":"00:00:00"},{"$f":"Fund!X4162","v":0},{"$f":"-Fund!V4162","v":0},{"$f":"Fund!V4162","v":0},{"$f":"Fund!P4162","v":""}]
[null,null,null,null,null,null,null,null,null,null,null,null,{"$f":"Fund!W4163","v":"00:00:00"},{"$f":"Fund!X4163","v":0},{"$f":"-Fund!V4163","v":0},{"$f":"Fund!V4163","v":0},{"$f":"Fund!P4163","v":""}]
[null,null,null,null,null,null,null,null,null,null,null,null,{"$f":"Fund!W4164","v":"00:00:00"},{"$f":"Fund!X4164","v":0},{"$f":"-Fund!V4164","v":0},{"$f":"Fund!V4164","v":0},{"$f":"Fund!P4164","v":""}]
[null,null,null,null,null,null,null,null,null,null,null,null,{"$f":"Fund!W4165","v":"00:00:00"},{"$f":"Fund!X4165","v":0},{"$f":"-Fund!V4165","v":0},{"$f":"Fund!V4165","v":0},{"$f":"Fund!P4165","v":""}]
[null,null,null,null,null,null,null,null,null,null,null,null,{"$f":"Fund!W4166","v":"00:00:00"},{"$f":"Fund!X4166","v":0},{"$f":"-Fund!V4166","v":0},{"$f":"Fund!V4166","v":0},{"$f":"Fund!P4166","v":""}]
[null,null,null,null,null,null,null,null,null,null,null,null,{"$f":"Fund!W4167","v":"00:00:00"},{"$f":"Fund!X4167","v":0},{"$f":"-Fund!V4167","v":0},{"$f":"Fund!V4167","v":0},{"$f":"Fund!P4167","v":""}]
[null,null,null,null,null,null,null,null,null,null,null,null,{"$f":"Fund!W4168","v":"00:00:00"},{"$f":"Fund!X4168","v":0},{"$f":"-Fund!V4168","v":0},{"$f":"Fund!V4168","v":0},{"$f":"Fund!P4168","v":""}]
[null,null,null,null,null,null,null,null,null,null,null,null,{"$f":"Fund!W4169","v":"00:00:00"},{"$f":"Fund!X4169","v":0},{"$f":"-Fund!V4169","v":0},{"$f":"Fund!V4169","v":0},{"$f":"Fund!P4169","v":""}]
[null,null,null,null,null,null,null,null,null,null,null,null,{"$f":"Fund!W4170","v":"00:00:00"},{"$f":"Fund!X4170","v":0},{"$f":"-Fund!V4170","v":0},{"$f":"Fund!V4170","v":0},{"$f":"Fund!P4170","v":""}]
[null,null,null,null,null,null,null,null,null,null,null,null,{"$f":"Fund!W4171","v":"00:00:00"},{"$f":"Fund!X4171","v":0},{"$f":"-Fund!V4171","v":0},{"$f":"Fund!V4171","v":0},{"$f":"Fund!P4171","v":""}]
[null,null,null,null,null,null,null,null,null,null,null,null,{"$f":"Fund!W4172","v":"00:00:00"},{"$f":"Fund!X4172","v":0},{"$f":"-Fund!V4172","v":0},{"$f":"Fund!V4172","v":0},{"$f":"Fund!P4172","v":""}]
[null,null,null,null,null,null,null,null,null,null,null,null,{"$f":"Fund!W4173","v":"00:00:00"},{"$f":"Fund!X4173","v":0},{"$f":"-Fund!V4173","v":0},{"$f":"Fund!V4173","v":0},{"$f":"Fund!P4173","v":""}]
[null,null,null,null,null,null,null,null,null,null,null,null,{"$f":"Fund!W4174","v":"00:00:00"},{"$f":"Fund!X4174","v":0},{"$f":"-Fund!V4174","v":0},{"$f":"Fund!V4174","v":0},{"$f":"Fund!P4174","v":""}]
[null,null,null,null,null,null,null,null,null,null,null,null,{"$f":"Fund!W4175","v":"00:00:00"},{"$f":"Fund!X4175","v":0},{"$f":"-Fund!V4175","v":0},{"$f":"Fund!V4175","v":0},{"$f":"Fund!P4175","v":""}]
[null,null,null,null,null,null,null,null,null,null,null,null,{"$f":"Fund!W4176","v":"00:00:00"},{"$f":"Fund!X4176","v":0},{"$f":"-Fund!V4176","v":0},{"$f":"Fund!V4176","v":0},{"$f":"Fund!P4176","v":""}]
[null,null,null,null,null,null,null,null,null,null,null,null,{"$f":"Fund!W4177","v":"00:00:00"},{"$f":"Fund!X4177","v":0},{"$f":"-Fund!V4177","v":0},{"$f":"Fund!V4177","v":0},{"$f":"Fund!P4177","v":""}]
[null,null,null,null,null,null,null,null,null,null,null,null,{"$f":"Fund!W4178","v":"00:00:00"},{"$f":"Fund!X4178","v":0},{"$f":"-Fund!V4178","v":0},{"$f":"Fund!V4178","v":0},{"$f":"Fund!P4178","v":""}]
[null,null,null,null,null,null,null,null,null,null,null,null,{"$f":"Fund!W4179","v":"00:00:00"},{"$f":"Fund!X4179","v":0},{"$f":"-Fund!V4179","v":0},{"$f":"Fund!V4179","v":0},{"$f":"Fund!P4179","v":""}]
[null,null,null,null,null,null,null,null,null,null,null,null,{"$f":"Fund!W4180","v":"00:00:00"},{"$f":"Fund!X4180","v":0},{"$f":"-Fund!V4180","v":0},{"$f":"Fund!V4180","v":0},{"$f":"Fund!P4180","v":""}]
[null,null,null,null,null,null,null,null,null,null,null,null,{"$f":"Fund!W4181","v":"00:00:00"},{"$f":"Fund!X4181","v":0},{"$f":"-Fund!V4181","v":0},{"$f":"Fund!V4181","v":0},{"$f":"Fund!P4181","v":""}]
[null,null,null,null,null,null,null,null,null,null,null,null,{"$f":"Fund!W4182","v":"00:00:00"},{"$f":"Fund!X4182","v":0},{"$f":"-Fund!V4182","v":0},{"$f":"Fund!V4182","v":0},{"$f":"Fund!P4182","v":""}]
[null,null,null,null,null,null,null,null,null,null,null,null,{"$f":"Fund!W4183","v":"00:00:00"},{"$f":"Fund!X4183","v":0},{"$f":"-Fund!V4183","v":0},{"$f":"Fund!V4183","v":0},{"$f":"Fund!P4183","v":""}]
[null,null,null,null,null,null,null,null,null,null,null,null,{"$f":"Fund!W4184","v":"00:00:00"},{"$f":"Fund!X4184","v":0},{"$f":"-Fund!V4184","v":0},{"$f":"Fund!V4184","v":0},{"$f":"Fund!P4184","v":""}]
[null,null,null,null,null,null,null,null,null,null,null,null,{"$f":"Fund!W4185","v":"00:00:00"},{"$f":"Fund!X4185","v":0},{"$f":"-Fund!V4185","v":0},{"$f":"Fund!V4185","v":0},{"$f":"Fund!P4185","v":""}]
[null,null,null,null,null,null,null,null,null,null,null,null,{"$f":"Fund!W4186","v":"00:00:00"},{"$f":"Fund!X4186","v":0},{"$f":"-Fund!V4186","v":0},{"$f":"Fund!V4186","v":0},{"$f":"Fund!P4186","v":""}]
[null,null,null,null,null,null,null,null,null,null,null,null,{"$f":"Fund!W4187","v":"00:00:00"},{"$f":"Fund!X4187","v":0},{"$f":"-Fund!V4187","v":0},{"$f":"Fund!V4187","v":0},{"$f":"Fund!P4187","v":""}]
[null,null,null,null,null,null,null,null,null,null,null,null,{"$f":"Fund!W4188","v":"00:00:00"},{"$f":"Fund!X4188","v":0},{"$f":"-Fund!V4188","v":0},{"$f":"Fund!V4188","v":0},{"$f":"Fund!P4188","v":""}]
[null,null,null,null,null,null,null,null,null,null,null,null,{"$f":"Fund!W4189","v":"00:00:00"},{"$f":"Fund!X4189","v":0},{"$f":"-Fund!V4189","v":0},{"$f":"Fund!V4189","v":0},{"$f":"Fund!P4189","v":""}]
[null,null,null,null,null,null,null,null,null,null,null,null,{"$f":"Fund!W4190","v":"00:00:00"},{"$f":"Fund!X4190","v":0},{"$f":"-Fund!V4190","v":0},{"$f":"Fund!V4190","v":0},{"$f":"Fund!P4190","v":""}]
[null,null,null,null,null,null,null,null,null,null,null,null,{"$f":"Fund!W4191","v":"00:00:00"},{"$f":"Fund!X4191","v":0},{"$f":"-Fund!V4191","v":0},{"$f":"Fund!V4191","v":0},{"$f":"Fund!P4191","v":""}]
[null,null,null,null,null,null,null,null,null,null,null,null,{"$f":"Fund!W4192","v":"00:00:00"},{"$f":"Fund!X4192","v":0},{"$f":"-Fund!V4192","v":0},{"$f":"Fund!V4192","v":0},{"$f":"Fund!P4192","v":""}]
[null,null,null,null,null,null,null,null,null,null,null,null,{"$f":"Fund!W4193","v":"00:00:00"},{"$f":"Fund!X4193","v":0},{"$f":"-Fund!V4193","v":0},{"$f":"Fund!V4193","v":0},{"$f":"Fund!P4193","v":""}]
[null,null,null,null,null,null,null,null,null,null,null,null,{"$f":"Fund!W4194","v":"00:00:00"},{"$f":"Fund!X4194","v":0},{"$f":"-Fund!V4194","v":0},{"$f":"Fund!V4194","v":0},{"$f":"Fund!P4194","v":""}]
[null,null,null,null,null,null,null,null,null,null,null,null,{"$f":"Fund!W4195","v":"00:00:00"},{"$f":"Fund!X4195","v":0},{"$f":"-Fund!V4195","v":0},{"$f":"Fund!V4195","v":0},{"$f":"Fund!P4195","v":""}]
[null,null,null,null,null,null,null,null,null,null,null,null,{"$f":"Fund!W4196","v":"00:00:00"},{"$f":"Fund!X4196","v":0},{"$f":"-Fund!V4196","v":0},{"$f":"Fund!V4196","v":0},{"$f":"Fund!P4196","v":""}]
[null,null,null,null,null,null,null,null,null,null,null,null,{"$f":"Fund!W4197","v":"00:00:00"},{"$f":"Fund!X4197","v":0},{"$f":"-Fund!V4197","v":0},{"$f":"Fund!V4197","v":0},{"$f":"Fund!P4197","v":""}]
[null,null,null,null,null,null,null,null,null,null,null,null,{"$f":"Fund!W4198","v":"00:00:00"},{"$f":"Fund!X4198","v":0},{"$f":"-Fund!V4198","v":0},{"$f":"Fund!V4198","v":0},{"$f":"Fund!P4198","v":""}]
[null,null,null,null,null,null,null,null,null,null,null,null,{"$f":"Fund!W4199","v":"00:00:00"},{"$f":"Fund!X4199","v":0},{"$f":"-Fund!V4199","v":0},{"$f":"Fund!V4199","v":0},{"$f":"Fund!P4199","v":""}]
[null,null,null,null,null,null,null,null,null,null,null,null,{"$f":"Fund!W4200","v":"00:00:00"},{"$f":"Fund!X4200","v":0},{"$f":"-Fund!V4200","v":0},{"$f":"Fund!V4200","v":0},{"$f":"Fund!P4200","v":""}]
[null,null,null,null,null,null,null,null,null,null,null,null,{"$f":"Fund!W4201","v":"00:00:00"},{"$f":"Fund!X4201","v":0},{"$f":"-Fund!V4201","v":0},{"$f":"Fund!V4201","v":0},{"$f":"Fund!P4201","v":""}]
[null,null,null,null,null,null,null,null,null,null,null,null,{"$f":"Fund!W4202","v":"00:00:00"},{"$f":"Fund!X4202","v":0},{"$f":"-Fund!V4202","v":0},{"$f":"Fund!V4202","v":0},{"$f":"Fund!P4202","v":""}]
[null,null,null,null,null,null,null,null,null,null,null,null,{"$f":"Fund!W4203","v":"00:00:00"},{"$f":"Fund!X4203","v":0},{"$f":"-Fund!V4203","v":0},{"$f":"Fund!V4203","v":0},{"$f":"Fund!P4203","v":""}]
[null,null,null,null,null,null,null,null,null,null,null,null,{"$f":"Fund!W4204","v":"00:00:00"},{"$f":"Fund!X4204","v":0},{"$f":"-Fund!V4204","v":0},{"$f":"Fund!V4204","v":0},{"$f":"Fund!P4204","v":""}]
[null,null,null,null,null,null,null,null,null,null,null,null,{"$f":"Fund!W4205","v":"00:00:00"},{"$f":"Fund!X4205","v":0},{"$f":"-Fund!V4205","v":0},{"$f":"Fund!V4205","v":0},{"$f":"Fund!P4205","v":""}]
[null,null,null,null,null,null,null,null,null,null,null,null,{"$f":"Fund!W4206","v":"00:00:00"},{"$f":"Fund!X4206","v":0},{"$f":"-Fund!V4206","v":0},{"$f":"Fund!V4206","v":0},{"$f":"Fund!P4206","v":""}]
[null,null,null,null,null,null,null,null,null,null,null,null,{"$f":"Fund!W4207","v":"00:00:00"},{"$f":"Fund!X4207","v":0},{"$f":"-Fund!V4207","v":0},{"$f":"Fund!V4207","v":0},{"$f":"Fund!P4207","v":""}]
[null,null,null,null,null,null,null,null,null,null,null,null,{"$f":"Fund!W4208","v":"00:00:00"},{"$f":"Fund!X4208","v":0},{"$f":"-Fund!V4208","v":0},{"$f":"Fund!V4208","v":0},{"$f":"Fund!P4208","v":""}]
[null,null,null,null,null,null,null,null,null,null,null,null,{"$f":"Fund!W4209","v":"00:00:00"},{"$f":"Fund!X4209","v":0},{"$f":"-Fund!V4209","v":0},{"$f":"Fund!V4209","v":0},{"$f":"Fund!P4209","v":""}]
[null,null,null,null,null,null,null,null,null,null,null,null,{"$f":"Fund!W4210","v":"00:00:00"},{"$f":"Fund!X4210","v":0},{"$f":"-Fund!V4210","v":0},{"$f":"Fund!V4210","v":0},{"$f":"Fund!P4210","v":""}]
[null,null,null,null,null,null,null,null,null,null,null,null,{"$f":"Fund!W4211","v":"00:00:00"},{"$f":"Fund!X4211","v":0},{"$f":"-Fund!V4211","v":0},{"$f":"Fund!V4211","v":0},{"$f":"Fund!P4211","v":""}]
[null,null,null,null,null,null,null,null,null,null,null,null,{"$f":"Fund!W4212","v":"00:00:00"},{"$f":"Fund!X4212","v":0},{"$f":"-Fund!V4212","v":0},{"$f":"Fund!V4212","v":0},{"$f":"Fund!P4212","v":""}]
[null,null,null,null,null,null,null,null,null,null,null,null,{"$f":"Fund!W4213","v":"00:00:00"},{"$f":"Fund!X4213","v":0},{"$f":"-Fund!V4213","v":0},{"$f":"Fund!V4213","v":0},{"$f":"Fund!P4213","v":""}]
[null,null,null,null,null,null,null,null,null,null,null,null,{"$f":"Fund!W4214","v":"00:00:00"},{"$f":"Fund!X4214","v":0},{"$f":"-Fund!V4214","v":0},{"$f":"Fund!V4214","v":0},{"$f":"Fund!P4214","v":""}]
[null,null,null,null,null,null,null,null,null,null,null,null,{"$f":"Fund!W4215","v":"00:00:00"},{"$f":"Fund!X4215","v":0},{"$f":"-Fund!V4215","v":0},{"$f":"Fund!V4215","v":0},{"$f":"Fund!P4215","v":""}]
[null,null,null,null,null,null,null,null,null,null,null,null,{"$f":"Fund!W4216","v":"00:00:00"},{"$f":"Fund!X4216","v":0},{"$f":"-Fund!V4216","v":0},{"$f":"Fund!V4216","v":0},{"$f":"Fund!P4216","v":""}]
[null,null,null,null,null,null,null,null,null,null,null,null,{"$f":"Fund!W4217","v":"00:00:00"},{"$f":"Fund!X4217","v":0},{"$f":"-Fund!V4217","v":0},{"$f":"Fund!V4217","v":0},{"$f":"Fund!P4217","v":""}]
[null,null,null,null,null,null,null,null,null,null,null,null,{"$f":"Fund!W4218","v":"00:00:00"},{"$f":"Fund!X4218","v":0},{"$f":"-Fund!V4218","v":0},{"$f":"Fund!V4218","v":0},{"$f":"Fund!P4218","v":""}]
[null,null,null,null,null,null,null,null,null,null,null,null,{"$f":"Fund!W4219","v":"00:00:00"},{"$f":"Fund!X4219","v":0},{"$f":"-Fund!V4219","v":0},{"$f":"Fund!V4219","v":0},{"$f":"Fund!P4219","v":""}]
[null,null,null,null,null,null,null,null,null,null,null,null,{"$f":"Fund!W4220","v":"00:00:00"},{"$f":"Fund!X4220","v":0},{"$f":"-Fund!V4220","v":0},{"$f":"Fund!V4220","v":0},{"$f":"Fund!P4220","v":""}]
[null,null,null,null,null,null,null,null,null,null,null,null,{"$f":"Fund!W4221","v":"00:00:00"},{"$f":"Fund!X4221","v":0},{"$f":"-Fund!V4221","v":0},{"$f":"Fund!V4221","v":0},{"$f":"Fund!P4221","v":""}]
[null,null,null,null,null,null,null,null,null,null,null,null,{"$f":"Fund!W4222","v":"00:00:00"},{"$f":"Fund!X4222","v":0},{"$f":"-Fund!V4222","v":0},{"$f":"Fund!V4222","v":0},{"$f":"Fund!P4222","v":""}]
[null,null,null,null,null,null,null,null,null,null,null,null,{"$f":"Fund!W4223","v":"00:00:00"},{"$f":"Fund!X4223","v":0},{"$f":"-Fund!V4223","v":0},{"$f":"Fund!V4223","v":0},{"$f":"Fund!P4223","v":""}]
[null,null,null,null,null,null,null,null,null,null,null,null,{"$f":"Fund!W4224","v":"00:00:00"},{"$f":"Fund!X4224","v":0},{"$f":"-Fund!V4224","v":0},{"$f":"Fund!V4224","v":0},{"$f":"Fund!P4224","v":""}]
[null,null,null,null,null,null,null,null,null,null,null,null,{"$f":"Fund!W4225","v":"00:00:00"},{"$f":"Fund!X4225","v":0},{"$f":"-Fund!V4225","v":0},{"$f":"Fund!V4225","v":0},{"$f":"Fund!P4225","v":""}]
[null,null,null,null,null,null,null,null,null,null,null,null,{"$f":"Fund!W4226","v":"00:00:00"},{"$f":"Fund!X4226","v":0},{"$f":"-Fund!V4226","v":0},{"$f":"Fund!V4226","v":0},{"$f":"Fund!P4226","v":""}]
[null,null,null,null,null,null,null,null,null,null,null,null,{"$f":"Fund!W4227","v":"00:00:00"},{"$f":"Fund!X4227","v":0},{"$f":"-Fund!V4227","v":0},{"$f":"Fund!V4227","v":0},{"$f":"Fund!P4227","v":""}]
[null,null,null,null,null,null,null,null,null,null,null,null,{"$f":"Fund!W4228","v":"00:00:00"},{"$f":"Fund!X4228","v":0},{"$f":"-Fund!V4228","v":0},{"$f":"Fund!V4228","v":0},{"$f":"Fund!P4228","v":""}]
[null,null,null,null,null,null,null,null,null,null,null,null,{"$f":"Fund!W4229","v":"00:00:00"},{"$f":"Fund!X4229","v":0},{"$f":"-Fund!V4229","v":0},{"$f":"Fund!V4229","v":0},{"$f":"Fund!P4229","v":""}]
[null,null,null,null,null,null,null,null,null,null,null,null,{"$f":"Fund!W4230","v":"00:00:00"},{"$f":"Fund!X4230","v":0},{"$f":"-Fund!V4230","v":0},{"$f":"Fund!V4230","v":0},{"$f":"Fund!P4230","v":""}]
[null,null,null,null,null,null,null,null,null,null,null,null,{"$f":"Fund!W4231","v":"00:00:00"},{"$f":"Fund!X4231","v":0},{"$f":"-Fund!V4231","v":0},{"$f":"Fund!V4231","v":0},{"$f":"Fund!P4231","v":""}]
[null,null,null,null,null,null,null,null,null,null,null,null,{"$f":"Fund!W4232","v":"00:00:00"},{"$f":"Fund!X4232","v":0},{"$f":"-Fund!V4232","v":0},{"$f":"Fund!V4232","v":0},{"$f":"Fund!P4232","v":""}]
[null,null,null,null,null,null,null,null,null,null,null,null,{"$f":"Fund!W4233","v":"00:00:00"},{"$f":"Fund!X4233","v":0},{"$f":"-Fund!V4233","v":0},{"$f":"Fund!V4233","v":0},{"$f":"Fund!P4233","v":""}]
[null,null,null,null,null,null,null,null,null,null,null,null,{"$f":"Fund!W4234","v":"00:00:00"},{"$f":"Fund!X4234","v":0},{"$f":"-Fund!V4234","v":0},{"$f":"Fund!V4234","v":0},{"$f":"Fund!P4234","v":""}]
[null,null,null,null,null,null,null,null,null,null,null,null,{"$f":"Fund!W4235","v":"00:00:00"},{"$f":"Fund!X4235","v":0},{"$f":"-Fund!V4235","v":0},{"$f":"Fund!V4235","v":0},{"$f":"Fund!P4235","v":""}]
[null,null,null,null,null,null,null,null,null,null,null,null,{"$f":"Fund!W4236","v":"00:00:00"},{"$f":"Fund!X4236","v":0},{"$f":"-Fund!V4236","v":0},{"$f":"Fund!V4236","v":0},{"$f":"Fund!P4236","v":""}]
[null,null,null,null,null,null,null,null,null,null,null,null,{"$f":"Fund!W4237","v":"00:00:00"},{"$f":"Fund!X4237","v":0},{"$f":"-Fund!V4237","v":0},{"$f":"Fund!V4237","v":0},{"$f":"Fund!P4237","v":""}]
[null,null,null,null,null,null,null,null,null,null,null,null,{"$f":"Fund!W4238","v":"00:00:00"},{"$f":"Fund!X4238","v":0},{"$f":"-Fund!V4238","v":0},{"$f":"Fund!V4238","v":0},{"$f":"Fund!P4238","v":""}]
[null,null,null,null,null,null,null,null,null,null,null,null,{"$f":"Fund!W4239","v":"00:00:00"},{"$f":"Fund!X4239","v":0},{"$f":"-Fund!V4239","v":0},{"$f":"Fund!V4239","v":0},{"$f":"Fund!P4239","v":""}]
[null,null,null,null,null,null,null,null,null,null,null,null,{"$f":"Fund!W4240","v":"00:00:00"},{"$f":"Fund!X4240","v":0},{"$f":"-Fund!V4240","v":0},{"$f":"Fund!V4240","v":0},{"$f":"Fund!P4240","v":""}]
[null,null,null,null,null,null,null,null,null,null,null,null,{"$f":"Fund!W4241","v":"00:00:00"},{"$f":"Fund!X4241","v":0},{"$f":"-Fund!V4241","v":0},{"$f":"Fund!V4241","v":0},{"$f":"Fund!P4241","v":""}]
[null,null,null,null,null,null,null,null,null,null,null,null,{"$f":"Fund!W4242","v":"00:00:00"},{"$f":"Fund!X4242","v":0},{"$f":"-Fund!V4242","v":0},{"$f":"Fund!V4242","v":0},{"$f":"Fund!P4242","v":""}]
[null,null,null,null,null,null,null,null,null,null,null,null,{"$f":"Fund!W4243","v":"00:00:00"},{"$f":"Fund!X4243","v":0},{"$f":"-Fund!V4243","v":0},{"$f":"Fund!V4243","v":0},{"$f":"Fund!P4243","v":""}]
[null,null,null,null,null,null,null,null,null,null,null,null,{"$f":"Fund!W4244","v":"00:00:00"},{"$f":"Fund!X4244","v":0},{"$f":"-Fund!V4244","v":0},{"$f":"Fund!V4244","v":0},{"$f":"Fund!P4244","v":""}]
[null,null,null,null,null,null,null,null,null,null,null,null,{"$f":"Fund!W4245","v":"00:00:00"},{"$f":"Fund!X4245","v":0},{"$f":"-Fund!V4245","v":0},{"$f":"Fund!V4245","v":0},{"$f":"Fund!P4245","v":""}]
[null,null,null,null,null,null,null,null,null,null,null,null,{"$f":"Fund!W4246","v":"00:00:00"},{"$f":"Fund!X4246","v":0},{"$f":"-Fund!V4246","v":0},{"$f":"Fund!V4246","v":0},{"$f":"Fund!P4246","v":""}]
[null,null,null,null,null,null,null,null,null,null,null,null,{"$f":"Fund!W4247","v":"00:00:00"},{"$f":"Fund!X4247","v":0},{"$f":"-Fund!V4247","v":0},{"$f":"Fund!V4247","v":0},{"$f":"Fund!P4247","v":""}]
[null,null,null,null,null,null,null,null,null,null,null,null,{"$f":"Fund!W4248","v":"00:00:00"},{"$f":"Fund!X4248","v":0},{"$f":"-Fund!V4248","v":0},{"$f":"Fund!V4248","v":0},{"$f":"Fund!P4248","v":""}]
[null,null,null,null,null,null,null,null,null,null,null,null,{"$f":"Fund!W4249","v":"00:00:00"},{"$f":"Fund!X4249","v":0},{"$f":"-Fund!V4249","v":0},{"$f":"Fund!V4249","v":0},{"$f":"Fund!P4249","v":""}]
[null,null,null,null,null,null,null,null,null,null,null,null,{"$f":"Fund!W4250","v":"00:00:00"},{"$f":"Fund!X4250","v":0},{"$f":"-Fund!V4250","v":0},{"$f":"Fund!V4250","v":0},{"$f":"Fund!P4250","v":""}]
[null,null,null,null,null,null,null,null,null,null,null,null,{"$f":"Fund!W4251","v":"00:00:00"},{"$f":"Fund!X4251","v":0},{"$f":"-Fund!V4251","v":0},{"$f":"Fund!V4251","v":0},{"$f":"Fund!P4251","v":""}]
[null,null,null,null,null,null,null,null,null,null,null,null,{"$f":"Fund!W4252","v":"00:00:00"},{"$f":"Fund!X4252","v":0},{"$f":"-Fund!V4252","v":0},{"$f":"Fund!V4252","v":0},{"$f":"Fund!P4252","v":""}]
[null,null,null,null,null,null,null,null,null,null,null,null,{"$f":"Fund!W4253","v":"00:00:00"},{"$f":"Fund!X4253","v":0},{"$f":"-Fund!V4253","v":0},{"$f":"Fund!V4253","v":0},{"$f":"Fund!P4253","v":""}]
[null,null,null,null,null,null,null,null,null,null,null,null,{"$f":"Fund!W4254","v":"00:00:00"},{"$f":"Fund!X4254","v":0},{"$f":"-Fund!V4254","v":0},{"$f":"Fund!V4254","v":0},{"$f":"Fund!P4254","v":""}]
[null,null,null,null,null,null,null,null,null,null,null,null,{"$f":"Fund!W4255","v":"00:00:00"},{"$f":"Fund!X4255","v":0},{"$f":"-Fund!V4255","v":0},{"$f":"Fund!V4255","v":0},{"$f":"Fund!P4255","v":""}]
[null,null,null,null,null,null,null,null,null,null,null,null,{"$f":"Fund!W4256","v":"00:00:00"},{"$f":"Fund!X4256","v":0},{"$f":"-Fund!V4256","v":0},{"$f":"Fund!V4256","v":0},{"$f":"Fund!P4256","v":""}]
[null,null,null,null,null,null,null,null,null,null,null,null,{"$f":"Fund!W4257","v":"00:00:00"},{"$f":"Fund!X4257","v":0},{"$f":"-Fund!V4257","v":0},{"$f":"Fund!V4257","v":0},{"$f":"Fund!P4257","v":""}]
[null,null,null,null,null,null,null,null,null,null,null,null,{"$f":"Fund!W4258","v":"00:00:00"},{"$f":"Fund!X4258","v":0},{"$f":"-Fund!V4258","v":0},{"$f":"Fund!V4258","v":0},{"$f":"Fund!P4258","v":""}]
[null,null,null,null,null,null,null,null,null,null,null,null,{"$f":"Fund!W4259","v":"00:00:00"},{"$f":"Fund!X4259","v":0},{"$f":"-Fund!V4259","v":0},{"$f":"Fund!V4259","v":0},{"$f":"Fund!P4259","v":""}]
[null,null,null,null,null,null,null,null,null,null,null,null,{"$f":"Fund!W4260","v":"00:00:00"},{"$f":"Fund!X4260","v":0},{"$f":"-Fund!V4260","v":0},{"$f":"Fund!V4260","v":0},{"$f":"Fund!P4260","v":""}]
[null,null,null,null,null,null,null,null,null,null,null,null,{"$f":"Fund!W4261","v":"00:00:00"},{"$f":"Fund!X4261","v":0},{"$f":"-Fund!V4261","v":0},{"$f":"Fund!V4261","v":0},{"$f":"Fund!P4261","v":""}]
[null,null,null,null,null,null,null,null,null,null,null,null,{"$f":"Fund!W4262","v":"00:00:00"},{"$f":"Fund!X4262","v":0},{"$f":"-Fund!V4262","v":0},{"$f":"Fund!V4262","v":0},{"$f":"Fund!P4262","v":""}]
[null,null,null,null,null,null,null,null,null,null,null,null,{"$f":"Fund!W4263","v":"00:00:00"},{"$f":"Fund!X4263","v":0},{"$f":"-Fund!V4263","v":0},{"$f":"Fund!V4263","v":0},{"$f":"Fund!P4263","v":""}]
[null,null,null,null,null,null,null,null,null,null,null,null,{"$f":"Fund!W4264","v":"00:00:00"},{"$f":"Fund!X4264","v":0},{"$f":"-Fund!V4264","v":0},{"$f":"Fund!V4264","v":0},{"$f":"Fund!P4264","v":""}]
[null,null,null,null,null,null,null,null,null,null,null,null,{"$f":"Fund!W4265","v":"00:00:00"},{"$f":"Fund!X4265","v":0},{"$f":"-Fund!V4265","v":0},{"$f":"Fund!V4265","v":0},{"$f":"Fund!P4265","v":""}]
[null,null,null,null,null,null,null,null,null,null,null,null,{"$f":"Fund!W4266","v":"00:00:00"},{"$f":"Fund!X4266","v":0},{"$f":"-Fund!V4266","v":0},{"$f":"Fund!V4266","v":0},{"$f":"Fund!P4266","v":""}]
[null,null,null,null,null,null,null,null,null,null,null,null,{"$f":"Fund!W4267","v":"00:00:00"},{"$f":"Fund!X4267","v":0},{"$f":"-Fund!V4267","v":0},{"$f":"Fund!V4267","v":0},{"$f":"Fund!P4267","v":""}]
[null,null,null,null,null,null,null,null,null,null,null,null,{"$f":"Fund!W4268","v":"00:00:00"},{"$f":"Fund!X4268","v":0},{"$f":"-Fund!V4268","v":0},{"$f":"Fund!V4268","v":0},{"$f":"Fund!P4268","v":""}]
[null,null,null,null,null,null,null,null,null,null,null,null,{"$f":"Fund!W4269","v":"00:00:00"},{"$f":"Fund!X4269","v":0},{"$f":"-Fund!V4269","v":0},{"$f":"Fund!V4269","v":0},{"$f":"Fund!P4269","v":""}]
[null,null,null,null,null,null,null,null,null,null,null,null,{"$f":"Fund!W4270","v":"00:00:00"},{"$f":"Fund!X4270","v":0},{"$f":"-Fund!V4270","v":0},{"$f":"Fund!V4270","v":0},{"$f":"Fund!P4270","v":""}]
[null,null,null,null,null,null,null,null,null,null,null,null,{"$f":"Fund!W4271","v":"00:00:00"},{"$f":"Fund!X4271","v":0},{"$f":"-Fund!V4271","v":0},{"$f":"Fund!V4271","v":0},{"$f":"Fund!P4271","v":""}]
[null,null,null,null,null,null,null,null,null,null,null,null,{"$f":"Fund!W4272","v":"00:00:00"},{"$f":"Fund!X4272","v":0},{"$f":"-Fund!V4272","v":0},{"$f":"Fund!V4272","v":0},{"$f":"Fund!P4272","v":""}]
[null,null,null,null,null,null,null,null,null,null,null,null,{"$f":"Fund!W4273","v":"00:00:00"},{"$f":"Fund!X4273","v":0},{"$f":"-Fund!V4273","v":0},{"$f":"Fund!V4273","v":0},{"$f":"Fund!P4273","v":""}]
[null,null,null,null,null,null,null,null,null,null,null,null,{"$f":"Fund!W4274","v":"00:00:00"},{"$f":"Fund!X4274","v":0},{"$f":"-Fund!V4274","v":0},{"$f":"Fund!V4274","v":0},{"$f":"Fund!P4274","v":""}]
[null,null,null,null,null,null,null,null,null,null,null,null,{"$f":"Fund!W4275","v":"00:00:00"},{"$f":"Fund!X4275","v":0},{"$f":"-Fund!V4275","v":0},{"$f":"Fund!V4275","v":0},{"$f":"Fund!P4275","v":""}]
[null,null,null,null,null,null,null,null,null,null,null,null,{"$f":"Fund!W4276","v":"00:00:00"},{"$f":"Fund!X4276","v":0},{"$f":"-Fund!V4276","v":0},{"$f":"Fund!V4276","v":0},{"$f":"Fund!P4276","v":""}]
[null,null,null,null,null,null,null,null,null,null,null,null,{"$f":"Fund!W4277","v":"00:00:00"},{"$f":"Fund!X4277","v":0},{"$f":"-Fund!V4277","v":0},{"$f":"Fund!V4277","v":0},{"$f":"Fund!P4277","v":""}]
[null,null,null,null,null,null,null,null,null,null,null,null,{"$f":"Fund!W4278","v":"00:00:00"},{"$f":"Fund!X4278","v":0},{"$f":"-Fund!V4278","v":0},{"$f":"Fund!V4278","v":0},{"$f":"Fund!P4278","v":""}]
[null,null,null,null,null,null,null,null,null,null,null,null,{"$f":"Fund!W4279","v":"00:00:00"},{"$f":"Fund!X4279","v":0},{"$f":"-Fund!V4279","v":0},{"$f":"Fund!V4279","v":0},{"$f":"Fund!P4279","v":""}]
[null,null,null,null,null,null,null,null,null,null,null,null,{"$f":"Fund!W4280","v":"00:00:00"},{"$f":"Fund!X4280","v":0},{"$f":"-Fund!V4280","v":0},{"$f":"Fund!V4280","v":0},{"$f":"Fund!P4280","v":""}]
[null,null,null,null,null,null,null,null,null,null,null,null,{"$f":"Fund!W4281","v":"00:00:00"},{"$f":"Fund!X4281","v":0},{"$f":"-Fund!V4281","v":0},{"$f":"Fund!V4281","v":0},{"$f":"Fund!P4281","v":""}]
[null,null,null,null,null,null,null,null,null,null,null,null,{"$f":"Fund!W4282","v":"00:00:00"},{"$f":"Fund!X4282","v":0},{"$f":"-Fund!V4282","v":0},{"$f":"Fund!V4282","v":0},{"$f":"Fund!P4282","v":""}]
[null,null,null,null,null,null,null,null,null,null,null,null,{"$f":"Fund!W4283","v":"00:00:00"},{"$f":"Fund!X4283","v":0},{"$f":"-Fund!V4283","v":0},{"$f":"Fund!V4283","v":0},{"$f":"Fund!P4283","v":""}]
[null,null,null,null,null,null,null,null,null,null,null,null,{"$f":"Fund!W4284","v":"00:00:00"},{"$f":"Fund!X4284","v":0},{"$f":"-Fund!V4284","v":0},{"$f":"Fund!V4284","v":0},{"$f":"Fund!P4284","v":""}]
[null,null,null,null,null,null,null,null,null,null,null,null,{"$f":"Fund!W4285","v":"00:00:00"},{"$f":"Fund!X4285","v":0},{"$f":"-Fund!V4285","v":0},{"$f":"Fund!V4285","v":0},{"$f":"Fund!P4285","v":""}]
[null,null,null,null,null,null,null,null,null,null,null,null,{"$f":"Fund!W4286","v":"00:00:00"},{"$f":"Fund!X4286","v":0},{"$f":"-Fund!V4286","v":0},{"$f":"Fund!V4286","v":0},{"$f":"Fund!P4286","v":""}]
[null,null,null,null,null,null,null,null,null,null,null,null,{"$f":"Fund!W4287","v":"00:00:00"},{"$f":"Fund!X4287","v":0},{"$f":"-Fund!V4287","v":0},{"$f":"Fund!V4287","v":0},{"$f":"Fund!P4287","v":""}]
[null,null,null,null,null,null,null,null,null,null,null,null,{"$f":"Fund!W4288","v":"00:00:00"},{"$f":"Fund!X4288","v":0},{"$f":"-Fund!V4288","v":0},{"$f":"Fund!V4288","v":0},{"$f":"Fund!P4288","v":""}]
[null,null,null,null,null,null,null,null,null,null,null,null,{"$f":"Fund!W4289","v":"00:00:00"},{"$f":"Fund!X4289","v":0},{"$f":"-Fund!V4289","v":0},{"$f":"Fund!V4289","v":0},{"$f":"Fund!P4289","v":""}]
[null,null,null,null,null,null,null,null,null,null,null,null,{"$f":"Fund!W4290","v":"00:00:00"},{"$f":"Fund!X4290","v":0},{"$f":"-Fund!V4290","v":0},{"$f":"Fund!V4290","v":0},{"$f":"Fund!P4290","v":""}]
[null,null,null,null,null,null,null,null,null,null,null,null,{"$f":"Fund!W4291","v":"00:00:00"},{"$f":"Fund!X4291","v":0},{"$f":"-Fund!V4291","v":0},{"$f":"Fund!V4291","v":0},{"$f":"Fund!P4291","v":""}]
[null,null,null,null,null,null,null,null,null,null,null,null,{"$f":"Fund!W4292","v":"00:00:00"},{"$f":"Fund!X4292","v":0},{"$f":"-Fund!V4292","v":0},{"$f":"Fund!V4292","v":0},{"$f":"Fund!P4292","v":""}]
[null,null,null,null,null,null,null,null,null,null,null,null,{"$f":"Fund!W4293","v":"00:00:00"},{"$f":"Fund!X4293","v":0},{"$f":"-Fund!V4293","v":0},{"$f":"Fund!V4293","v":0},{"$f":"Fund!P4293","v":""}]
[null,null,null,null,null,null,null,null,null,null,null,null,{"$f":"Fund!W4294","v":"00:00:00"},{"$f":"Fund!X4294","v":0},{"$f":"-Fund!V4294","v":0},{"$f":"Fund!V4294","v":0},{"$f":"Fund!P4294","v":""}]
[null,null,null,null,null,null,null,null,null,null,null,null,{"$f":"Fund!W4295","v":"00:00:00"},{"$f":"Fund!X4295","v":0},{"$f":"-Fund!V4295","v":0},{"$f":"Fund!V4295","v":0},{"$f":"Fund!P4295","v":""}]
[null,null,null,null,null,null,null,null,null,null,null,null,{"$f":"Fund!W4296","v":"00:00:00"},{"$f":"Fund!X4296","v":0},{"$f":"-Fund!V4296","v":0},{"$f":"Fund!V4296","v":0},{"$f":"Fund!P4296","v":""}]
[null,null,null,null,null,null,null,null,null,null,null,null,{"$f":"Fund!W4297","v":"00:00:00"},{"$f":"Fund!X4297","v":0},{"$f":"-Fund!V4297","v":0},{"$f":"Fund!V4297","v":0},{"$f":"Fund!P4297","v":""}]
[null,null,null,null,null,null,null,null,null,null,null,null,{"$f":"Fund!W4298","v":"00:00:00"},{"$f":"Fund!X4298","v":0},{"$f":"-Fund!V4298","v":0},{"$f":"Fund!V4298","v":0},{"$f":"Fund!P4298","v":""}]
[null,null,null,null,null,null,null,null,null,null,null,null,{"$f":"Fund!W4299","v":"00:00:00"},{"$f":"Fund!X4299","v":0},{"$f":"-Fund!V4299","v":0},{"$f":"Fund!V4299","v":0},{"$f":"Fund!P4299","v":""}]
[null,null,null,null,null,null,null,null,null,null,null,null,{"$f":"Fund!W4300","v":"00:00:00"},{"$f":"Fund!X4300","v":0},{"$f":"-Fund!V4300","v":0},{"$f":"Fund!V4300","v":0},{"$f":"Fund!P4300","v":""}]
[null,null,null,null,null,null,null,null,null,null,null,null,{"$f":"Fund!W4301","v":"00:00:00"},{"$f":"Fund!X4301","v":0},{"$f":"-Fund!V4301","v":0},{"$f":"Fund!V4301","v":0},{"$f":"Fund!P4301","v":""}]
[null,null,null,null,null,null,null,null,null,null,null,null,{"$f":"Fund!W4302","v":"00:00:00"},{"$f":"Fund!X4302","v":0},{"$f":"-Fund!V4302","v":0},{"$f":"Fund!V4302","v":0},{"$f":"Fund!P4302","v":""}]
[null,null,null,null,null,null,null,null,null,null,null,null,{"$f":"Fund!W4303","v":"00:00:00"},{"$f":"Fund!X4303","v":0},{"$f":"-Fund!V4303","v":0},{"$f":"Fund!V4303","v":0},{"$f":"Fund!P4303","v":""}]
[null,null,null,null,null,null,null,null,null,null,null,null,{"$f":"Fund!W4304","v":"00:00:00"},{"$f":"Fund!X4304","v":0},{"$f":"-Fund!V4304","v":0},{"$f":"Fund!V4304","v":0},{"$f":"Fund!P4304","v":""}]
[null,null,null,null,null,null,null,null,null,null,null,null,{"$f":"Fund!W4305","v":"00:00:00"},{"$f":"Fund!X4305","v":0},{"$f":"-Fund!V4305","v":0},{"$f":"Fund!V4305","v":0},{"$f":"Fund!P4305","v":""}]
[null,null,null,null,null,null,null,null,null,null,null,null,{"$f":"Fund!W4306","v":"00:00:00"},{"$f":"Fund!X4306","v":0},{"$f":"-Fund!V4306","v":0},{"$f":"Fund!V4306","v":0},{"$f":"Fund!P4306","v":""}]
[null,null,null,null,null,null,null,null,null,null,null,null,{"$f":"Fund!W4307","v":"00:00:00"},{"$f":"Fund!X4307","v":0},{"$f":"-Fund!V4307","v":0},{"$f":"Fund!V4307","v":0},{"$f":"Fund!P4307","v":""}]
[null,null,null,null,null,null,null,null,null,null,null,null,{"$f":"Fund!W4308","v":"00:00:00"},{"$f":"Fund!X4308","v":0},{"$f":"-Fund!V4308","v":0},{"$f":"Fund!V4308","v":0},{"$f":"Fund!P4308","v":""}]
[null,null,null,null,null,null,null,null,null,null,null,null,{"$f":"Fund!W4309","v":"00:00:00"},{"$f":"Fund!X4309","v":0},{"$f":"-Fund!V4309","v":0},{"$f":"Fund!V4309","v":0},{"$f":"Fund!P4309","v":""}]
[null,null,null,null,null,null,null,null,null,null,null,null,{"$f":"Fund!W4310","v":"00:00:00"},{"$f":"Fund!X4310","v":0},{"$f":"-Fund!V4310","v":0},{"$f":"Fund!V4310","v":0},{"$f":"Fund!P4310","v":""}]
[null,null,null,null,null,null,null,null,null,null,null,null,{"$f":"Fund!W4311","v":"00:00:00"},{"$f":"Fund!X4311","v":0},{"$f":"-Fund!V4311","v":0},{"$f":"Fund!V4311","v":0},{"$f":"Fund!P4311","v":""}]
[null,null,null,null,null,null,null,null,null,null,null,null,{"$f":"Fund!W4312","v":"00:00:00"},{"$f":"Fund!X4312","v":0},{"$f":"-Fund!V4312","v":0},{"$f":"Fund!V4312","v":0},{"$f":"Fund!P4312","v":""}]
[null,null,null,null,null,null,null,null,null,null,null,null,{"$f":"Fund!W4313","v":"00:00:00"},{"$f":"Fund!X4313","v":0},{"$f":"-Fund!V4313","v":0},{"$f":"Fund!V4313","v":0},{"$f":"Fund!P4313","v":""}]
[null,null,null,null,null,null,null,null,null,null,null,null,{"$f":"Fund!W4314","v":"00:00:00"},{"$f":"Fund!X4314","v":0},{"$f":"-Fund!V4314","v":0},{"$f":"Fund!V4314","v":0},{"$f":"Fund!P4314","v":""}]
[null,null,null,null,null,null,null,null,null,null,null,null,{"$f":"Fund!W4315","v":"00:00:00"},{"$f":"Fund!X4315","v":0},{"$f":"-Fund!V4315","v":0},{"$f":"Fund!V4315","v":0},{"$f":"Fund!P4315","v":""}]
[null,null,null,null,null,null,null,null,null,null,null,null,{"$f":"Fund!W4316","v":"00:00:00"},{"$f":"Fund!X4316","v":0},{"$f":"-Fund!V4316","v":0},{"$f":"Fund!V4316","v":0},{"$f":"Fund!P4316","v":""}]
[null,null,null,null,null,null,null,null,null,null,null,null,{"$f":"Fund!W4317","v":"00:00:00"},{"$f":"Fund!X4317","v":0},{"$f":"-Fund!V4317","v":0},{"$f":"Fund!V4317","v":0},{"$f":"Fund!P4317","v":""}]
[null,null,null,null,null,null,null,null,null,null,null,null,{"$f":"Fund!W4318","v":"00:00:00"},{"$f":"Fund!X4318","v":0},{"$f":"-Fund!V4318","v":0},{"$f":"Fund!V4318","v":0},{"$f":"Fund!P4318","v":""}]
[null,null,null,null,null,null,null,null,null,null,null,null,{"$f":"Fund!W4319","v":"00:00:00"},{"$f":"Fund!X4319","v":0},{"$f":"-Fund!V4319","v":0},{"$f":"Fund!V4319","v":0},{"$f":"Fund!P4319","v":""}]
[null,null,null,null,null,null,null,null,null,null,null,null,{"$f":"Fund!W4320","v":"00:00:00"},{"$f":"Fund!X4320","v":0},{"$f":"-Fund!V4320","v":0},{"$f":"Fund!V4320","v":0},{"$f":"Fund!P4320","v":""}]
[null,null,null,null,null,null,null,null,null,null,null,null,{"$f":"Fund!W4321","v":"00:00:00"},{"$f":"Fund!X4321","v":0},{"$f":"-Fund!V4321","v":0},{"$f":"Fund!V4321","v":0},{"$f":"Fund!P4321","v":""}]
[null,null,null,null,null,null,null,null,null,null,null,null,{"$f":"Fund!W4322","v":"00:00:00"},{"$f":"Fund!X4322","v":0},{"$f":"-Fund!V4322","v":0},{"$f":"Fund!V4322","v":0},{"$f":"Fund!P4322","v":""}]
[null,null,null,null,null,null,null,null,null,null,null,null,{"$f":"Fund!W4323","v":"00:00:00"},{"$f":"Fund!X4323","v":0},{"$f":"-Fund!V4323","v":0},{"$f":"Fund!V4323","v":0},{"$f":"Fund!P4323","v":""}]
[null,null,null,null,null,null,null,null,null,null,null,null,{"$f":"Fund!W4324","v":"00:00:00"},{"$f":"Fund!X4324","v":0},{"$f":"-Fund!V4324","v":0},{"$f":"Fund!V4324","v":0},{"$f":"Fund!P4324","v":""}]
[null,null,null,null,null,null,null,null,null,null,null,null,{"$f":"Fund!W4325","v":"00:00:00"},{"$f":"Fund!X4325","v":0},{"$f":"-Fund!V4325","v":0},{"$f":"Fund!V4325","v":0},{"$f":"Fund!P4325","v":""}]
[null,null,null,null,null,null,null,null,null,null,null,null,{"$f":"Fund!W4326","v":"00:00:00"},{"$f":"Fund!X4326","v":0},{"$f":"-Fund!V4326","v":0},{"$f":"Fund!V4326","v":0},{"$f":"Fund!P4326","v":""}]
[null,null,null,null,null,null,null,null,null,null,null,null,{"$f":"Fund!W4327","v":"00:00:00"},{"$f":"Fund!X4327","v":0},{"$f":"-Fund!V4327","v":0},{"$f":"Fund!V4327","v":0},{"$f":"Fund!P4327","v":""}]
[null,null,null,null,null,null,null,null,null,null,null,null,{"$f":"Fund!W4328","v":"00:00:00"},{"$f":"Fund!X4328","v":0},{"$f":"-Fund!V4328","v":0},{"$f":"Fund!V4328","v":0},{"$f":"Fund!P4328","v":""}]
[null,null,null,null,null,null,null,null,null,null,null,null,{"$f":"Fund!W4329","v":"00:00:00"},{"$f":"Fund!X4329","v":0},{"$f":"-Fund!V4329","v":0},{"$f":"Fund!V4329","v":0},{"$f":"Fund!P4329","v":""}]
[null,null,null,null,null,null,null,null,null,null,null,null,{"$f":"Fund!W4330","v":"00:00:00"},{"$f":"Fund!X4330","v":0},{"$f":"-Fund!V4330","v":0},{"$f":"Fund!V4330","v":0},{"$f":"Fund!P4330","v":""}]
[null,null,null,null,null,null,null,null,null,null,null,null,{"$f":"Fund!W4331","v":"00:00:00"},{"$f":"Fund!X4331","v":0},{"$f":"-Fund!V4331","v":0},{"$f":"Fund!V4331","v":0},{"$f":"Fund!P4331","v":""}]
[null,null,null,null,null,null,null,null,null,null,null,null,{"$f":"Fund!W4332","v":"00:00:00"},{"$f":"Fund!X4332","v":0},{"$f":"-Fund!V4332","v":0},{"$f":"Fund!V4332","v":0},{"$f":"Fund!P4332","v":""}]
[null,null,null,null,null,null,null,null,null,null,null,null,{"$f":"Fund!W4333","v":"00:00:00"},{"$f":"Fund!X4333","v":0},{"$f":"-Fund!V4333","v":0},{"$f":"Fund!V4333","v":0},{"$f":"Fund!P4333","v":""}]
[null,null,null,null,null,null,null,null,null,null,null,null,{"$f":"Fund!W4334","v":"00:00:00"},{"$f":"Fund!X4334","v":0},{"$f":"-Fund!V4334","v":0},{"$f":"Fund!V4334","v":0},{"$f":"Fund!P4334","v":""}]
[null,null,null,null,null,null,null,null,null,null,null,null,{"$f":"Fund!W4335","v":"00:00:00"},{"$f":"Fund!X4335","v":0},{"$f":"-Fund!V4335","v":0},{"$f":"Fund!V4335","v":0},{"$f":"Fund!P4335","v":""}]
[null,null,null,null,null,null,null,null,null,null,null,null,{"$f":"Fund!W4336","v":"00:00:00"},{"$f":"Fund!X4336","v":0},{"$f":"-Fund!V4336","v":0},{"$f":"Fund!V4336","v":0},{"$f":"Fund!P4336","v":""}]
[null,null,null,null,null,null,null,null,null,null,null,null,{"$f":"Fund!W4337","v":"00:00:00"},{"$f":"Fund!X4337","v":0},{"$f":"-Fund!V4337","v":0},{"$f":"Fund!V4337","v":0},{"$f":"Fund!P4337","v":""}]
[null,null,null,null,null,null,null,null,null,null,null,null,{"$f":"Fund!W4338","v":"00:00:00"},{"$f":"Fund!X4338","v":0},{"$f":"-Fund!V4338","v":0},{"$f":"Fund!V4338","v":0},{"$f":"Fund!P4338","v":""}]
[null,null,null,null,null,null,null,null,null,null,null,null,{"$f":"Fund!W4339","v":"00:00:00"},{"$f":"Fund!X4339","v":0},{"$f":"-Fund!V4339","v":0},{"$f":"Fund!V4339","v":0},{"$f":"Fund!P4339","v":""}]
[null,null,null,null,null,null,null,null,null,null,null,null,{"$f":"Fund!W4340","v":"00:00:00"},{"$f":"Fund!X4340","v":0},{"$f":"-Fund!V4340","v":0},{"$f":"Fund!V4340","v":0},{"$f":"Fund!P4340","v":""}]
[null,null,null,null,null,null,null,null,null,null,null,null,{"$f":"Fund!W4341","v":"00:00:00"},{"$f":"Fund!X4341","v":0},{"$f":"-Fund!V4341","v":0},{"$f":"Fund!V4341","v":0},{"$f":"Fund!P4341","v":""}]
[null,null,null,null,null,null,null,null,null,null,null,null,{"$f":"Fund!W4342","v":"00:00:00"},{"$f":"Fund!X4342","v":0},{"$f":"-Fund!V4342","v":0},{"$f":"Fund!V4342","v":0},{"$f":"Fund!P4342","v":""}]
[null,null,null,null,null,null,null,null,null,null,null,null,{"$f":"Fund!W4343","v":"00:00:00"},{"$f":"Fund!X4343","v":0},{"$f":"-Fund!V4343","v":0},{"$f":"Fund!V4343","v":0},{"$f":"Fund!P4343","v":""}]
[null,null,null,null,null,null,null,null,null,null,null,null,{"$f":"Fund!W4344","v":"00:00:00"},{"$f":"Fund!X4344","v":0},{"$f":"-Fund!V4344","v":0},{"$f":"Fund!V4344","v":0},{"$f":"Fund!P4344","v":""}]
[null,null,null,null,null,null,null,null,null,null,null,null,{"$f":"Fund!W4345","v":"00:00:00"},{"$f":"Fund!X4345","v":0},{"$f":"-Fund!V4345","v":0},{"$f":"Fund!V4345","v":0},{"$f":"Fund!P4345","v":""}]
[null,null,null,null,null,null,null,null,null,null,null,null,{"$f":"Fund!W4346","v":"00:00:00"},{"$f":"Fund!X4346","v":0},{"$f":"-Fund!V4346","v":0},{"$f":"Fund!V4346","v":0},{"$f":"Fund!P4346","v":""}]
[null,null,null,null,null,null,null,null,null,null,null,null,{"$f":"Fund!W4347","v":"00:00:00"},{"$f":"Fund!X4347","v":0},{"$f":"-Fund!V4347","v":0},{"$f":"Fund!V4347","v":0},{"$f":"Fund!P4347","v":""}]
[null,null,null,null,null,null,null,null,null,null,null,null,{"$f":"Fund!W4348","v":"00:00:00"},{"$f":"Fund!X4348","v":0},{"$f":"-Fund!V4348","v":0},{"$f":"Fund!V4348","v":0},{"$f":"Fund!P4348","v":""}]
[null,null,null,null,null,null,null,null,null,null,null,null,{"$f":"Fund!W4349","v":"00:00:00"},{"$f":"Fund!X4349","v":0},{"$f":"-Fund!V4349","v":0},{"$f":"Fund!V4349","v":0},{"$f":"Fund!P4349","v":""}]
[null,null,null,null,null,null,null,null,null,null,null,null,{"$f":"Fund!W4350","v":"00:00:00"},{"$f":"Fund!X4350","v":0},{"$f":"-Fund!V4350","v":0},{"$f":"Fund!V4350","v":0},{"$f":"Fund!P4350","v":""}]
[null,null,null,null,null,null,null,null,null,null,null,null,{"$f":"Fund!W4351","v":"00:00:00"},{"$f":"Fund!X4351","v":0},{"$f":"-Fund!V4351","v":0},{"$f":"Fund!V4351","v":0},{"$f":"Fund!P4351","v":""}]
[null,null,null,null,null,null,null,null,null,null,null,null,{"$f":"Fund!W4352","v":"00:00:00"},{"$f":"Fund!X4352","v":0},{"$f":"-Fund!V4352","v":0},{"$f":"Fund!V4352","v":0},{"$f":"Fund!P4352","v":""}]
[null,null,null,null,null,null,null,null,null,null,null,null,{"$f":"Fund!W4353","v":"00:00:00"},{"$f":"Fund!X4353","v":0},{"$f":"-Fund!V4353","v":0},{"$f":"Fund!V4353","v":0},{"$f":"Fund!P4353","v":""}]
[null,null,null,null,null,null,null,null,null,null,null,null,{"$f":"Fund!W4354","v":"00:00:00"},{"$f":"Fund!X4354","v":0},{"$f":"-Fund!V4354","v":0},{"$f":"Fund!V4354","v":0},{"$f":"Fund!P4354","v":""}]
[null,null,null,null,null,null,null,null,null,null,null,null,{"$f":"Fund!W4355","v":"00:00:00"},{"$f":"Fund!X4355","v":0},{"$f":"-Fund!V4355","v":0},{"$f":"Fund!V4355","v":0},{"$f":"Fund!P4355","v":""}]
[null,null,null,null,null,null,null,null,null,null,null,null,{"$f":"Fund!W4356","v":"00:00:00"},{"$f":"Fund!X4356","v":0},{"$f":"-Fund!V4356","v":0},{"$f":"Fund!V4356","v":0},{"$f":"Fund!P4356","v":""}]
[null,null,null,null,null,null,null,null,null,null,null,null,{"$f":"Fund!W4357","v":"00:00:00"},{"$f":"Fund!X4357","v":0},{"$f":"-Fund!V4357","v":0},{"$f":"Fund!V4357","v":0},{"$f":"Fund!P4357","v":""}]
[null,null,null,null,null,null,null,null,null,null,null,null,{"$f":"Fund!W4358","v":"00:00:00"},{"$f":"Fund!X4358","v":0},{"$f":"-Fund!V4358","v":0},{"$f":"Fund!V4358","v":0},{"$f":"Fund!P4358","v":""}]
[null,null,null,null,null,null,null,null,null,null,null,null,{"$f":"Fund!W4359","v":"00:00:00"},{"$f":"Fund!X4359","v":0},{"$f":"-Fund!V4359","v":0},{"$f":"Fund!V4359","v":0},{"$f":"Fund!P4359","v":""}]
[null,null,null,null,null,null,null,null,null,null,null,null,{"$f":"Fund!W4360","v":"00:00:00"},{"$f":"Fund!X4360","v":0},{"$f":"-Fund!V4360","v":0},{"$f":"Fund!V4360","v":0},{"$f":"Fund!P4360","v":""}]
[null,null,null,null,null,null,null,null,null,null,null,null,{"$f":"Fund!W4361","v":"00:00:00"},{"$f":"Fund!X4361","v":0},{"$f":"-Fund!V4361","v":0},{"$f":"Fund!V4361","v":0},{"$f":"Fund!P4361","v":""}]
[null,null,null,null,null,null,null,null,null,null,null,null,{"$f":"Fund!W4362","v":"00:00:00"},{"$f":"Fund!X4362","v":0},{"$f":"-Fund!V4362","v":0},{"$f":"Fund!V4362","v":0},{"$f":"Fund!P4362","v":""}]
[null,null,null,null,null,null,null,null,null,null,null,null,{"$f":"Fund!W4363","v":"00:00:00"},{"$f":"Fund!X4363","v":0},{"$f":"-Fund!V4363","v":0},{"$f":"Fund!V4363","v":0},{"$f":"Fund!P4363","v":""}]
[null,null,null,null,null,null,null,null,null,null,null,null,{"$f":"Fund!W4364","v":"00:00:00"},{"$f":"Fund!X4364","v":0},{"$f":"-Fund!V4364","v":0},{"$f":"Fund!V4364","v":0},{"$f":"Fund!P4364","v":""}]
[null,null,null,null,null,null,null,null,null,null,null,null,{"$f":"Fund!W4365","v":"00:00:00"},{"$f":"Fund!X4365","v":0},{"$f":"-Fund!V4365","v":0},{"$f":"Fund!V4365","v":0},{"$f":"Fund!P4365","v":""}]
[null,null,null,null,null,null,null,null,null,null,null,null,{"$f":"Fund!W4366","v":"00:00:00"},{"$f":"Fund!X4366","v":0},{"$f":"-Fund!V4366","v":0},{"$f":"Fund!V4366","v":0},{"$f":"Fund!P4366","v":""}]
[null,null,null,null,null,null,null,null,null,null,null,null,{"$f":"Fund!W4367","v":"00:00:00"},{"$f":"Fund!X4367","v":0},{"$f":"-Fund!V4367","v":0},{"$f":"Fund!V4367","v":0},{"$f":"Fund!P4367","v":""}]
[null,null,null,null,null,null,null,null,null,null,null,null,{"$f":"Fund!W4368","v":"00:00:00"},{"$f":"Fund!X4368","v":0},{"$f":"-Fund!V4368","v":0},{"$f":"Fund!V4368","v":0},{"$f":"Fund!P4368","v":""}]
[null,null,null,null,null,null,null,null,null,null,null,null,{"$f":"Fund!W4369","v":"00:00:00"},{"$f":"Fund!X4369","v":0},{"$f":"-Fund!V4369","v":0},{"$f":"Fund!V4369","v":0},{"$f":"Fund!P4369","v":""}]
[null,null,null,null,null,null,null,null,null,null,null,null,{"$f":"Fund!W4370","v":"00:00:00"},{"$f":"Fund!X4370","v":0},{"$f":"-Fund!V4370","v":0},{"$f":"Fund!V4370","v":0},{"$f":"Fund!P4370","v":""}]
[null,null,null,null,null,null,null,null,null,null,null,null,{"$f":"Fund!W4371","v":"00:00:00"},{"$f":"Fund!X4371","v":0},{"$f":"-Fund!V4371","v":0},{"$f":"Fund!V4371","v":0},{"$f":"Fund!P4371","v":""}]
[null,null,null,null,null,null,null,null,null,null,null,null,{"$f":"Fund!W4372","v":"00:00:00"},{"$f":"Fund!X4372","v":0},{"$f":"-Fund!V4372","v":0},{"$f":"Fund!V4372","v":0},{"$f":"Fund!P4372","v":""}]
[null,null,null,null,null,null,null,null,null,null,null,null,{"$f":"Fund!W4373","v":"00:00:00"},{"$f":"Fund!X4373","v":0},{"$f":"-Fund!V4373","v":0},{"$f":"Fund!V4373","v":0},{"$f":"Fund!P4373","v":""}]
[null,null,null,null,null,null,null,null,null,null,null,null,{"$f":"Fund!W4374","v":"00:00:00"},{"$f":"Fund!X4374","v":0},{"$f":"-Fund!V4374","v":0},{"$f":"Fund!V4374","v":0},{"$f":"Fund!P4374","v":""}]
[null,null,null,null,null,null,null,null,null,null,null,null,{"$f":"Fund!W4375","v":"00:00:00"},{"$f":"Fund!X4375","v":0},{"$f":"-Fund!V4375","v":0},{"$f":"Fund!V4375","v":0},{"$f":"Fund!P4375","v":""}]
[null,null,null,null,null,null,null,null,null,null,null,null,{"$f":"Fund!W4376","v":"00:00:00"},{"$f":"Fund!X4376","v":0},{"$f":"-Fund!V4376","v":0},{"$f":"Fund!V4376","v":0},{"$f":"Fund!P4376","v":""}]
[null,null,null,null,null,null,null,null,null,null,null,null,{"$f":"Fund!W4377","v":"00:00:00"},{"$f":"Fund!X4377","v":0},{"$f":"-Fund!V4377","v":0},{"$f":"Fund!V4377","v":0},{"$f":"Fund!P4377","v":""}]
[null,null,null,null,null,null,null,null,null,null,null,null,{"$f":"Fund!W4378","v":"00:00:00"},{"$f":"Fund!X4378","v":0},{"$f":"-Fund!V4378","v":0},{"$f":"Fund!V4378","v":0},{"$f":"Fund!P4378","v":""}]
[null,null,null,null,null,null,null,null,null,null,null,null,{"$f":"Fund!W4379","v":"00:00:00"},{"$f":"Fund!X4379","v":0},{"$f":"-Fund!V4379","v":0},{"$f":"Fund!V4379","v":0},{"$f":"Fund!P4379","v":""}]
[null,null,null,null,null,null,null,null,null,null,null,null,{"$f":"Fund!W4380","v":"00:00:00"},{"$f":"Fund!X4380","v":0},{"$f":"-Fund!V4380","v":0},{"$f":"Fund!V4380","v":0},{"$f":"Fund!P4380","v":""}]
[null,null,null,null,null,null,null,null,null,null,null,null,{"$f":"Fund!W4381","v":"00:00:00"},{"$f":"Fund!X4381","v":0},{"$f":"-Fund!V4381","v":0},{"$f":"Fund!V4381","v":0},{"$f":"Fund!P4381","v":""}]
[null,null,null,null,null,null,null,null,null,null,null,null,{"$f":"Fund!W4382","v":"00:00:00"},{"$f":"Fund!X4382","v":0},{"$f":"-Fund!V4382","v":0},{"$f":"Fund!V4382","v":0},{"$f":"Fund!P4382","v":""}]
[null,null,null,null,null,null,null,null,null,null,null,null,{"$f":"Fund!W4383","v":"00:00:00"},{"$f":"Fund!X4383","v":0},{"$f":"-Fund!V4383","v":0},{"$f":"Fund!V4383","v":0},{"$f":"Fund!P4383","v":""}]
[null,null,null,null,null,null,null,null,null,null,null,null,{"$f":"Fund!W4384","v":"00:00:00"},{"$f":"Fund!X4384","v":0},{"$f":"-Fund!V4384","v":0},{"$f":"Fund!V4384","v":0},{"$f":"Fund!P4384","v":""}]
[null,null,null,null,null,null,null,null,null,null,null,null,{"$f":"Fund!W4385","v":"00:00:00"},{"$f":"Fund!X4385","v":0},{"$f":"-Fund!V4385","v":0},{"$f":"Fund!V4385","v":0},{"$f":"Fund!P4385","v":""}]
[null,null,null,null,null,null,null,null,null,null,null,null,{"$f":"Fund!W4386","v":"00:00:00"},{"$f":"Fund!X4386","v":0},{"$f":"-Fund!V4386","v":0},{"$f":"Fund!V4386","v":0},{"$f":"Fund!P4386","v":""}]
[null,null,null,null,null,null,null,null,null,null,null,null,{"$f":"Fund!W4387","v":"00:00:00"},{"$f":"Fund!X4387","v":0},{"$f":"-Fund!V4387","v":0},{"$f":"Fund!V4387","v":0},{"$f":"Fund!P4387","v":""}]
[null,null,null,null,null,null,null,null,null,null,null,null,{"$f":"Fund!W4388","v":"00:00:00"},{"$f":"Fund!X4388","v":0},{"$f":"-Fund!V4388","v":0},{"$f":"Fund!V4388","v":0},{"$f":"Fund!P4388","v":""}]
[null,null,null,null,null,null,null,null,null,null,null,null,{"$f":"Fund!W4389","v":"00:00:00"},{"$f":"Fund!X4389","v":0},{"$f":"-Fund!V4389","v":0},{"$f":"Fund!V4389","v":0},{"$f":"Fund!P4389","v":""}]
[null,null,null,null,null,null,null,null,null,null,null,null,{"$f":"Fund!W4390","v":"00:00:00"},{"$f":"Fund!X4390","v":0},{"$f":"-Fund!V4390","v":0},{"$f":"Fund!V4390","v":0},{"$f":"Fund!P4390","v":""}]
[null,null,null,null,null,null,null,null,null,null,null,null,{"$f":"Fund!W4391","v":"00:00:00"},{"$f":"Fund!X4391","v":0},{"$f":"-Fund!V4391","v":0},{"$f":"Fund!V4391","v":0},{"$f":"Fund!P4391","v":""}]
[null,null,null,null,null,null,null,null,null,null,null,null,{"$f":"Fund!W4392","v":"00:00:00"},{"$f":"Fund!X4392","v":0},{"$f":"-Fund!V4392","v":0},{"$f":"Fund!V4392","v":0},{"$f":"Fund!P4392","v":""}]
[null,null,null,null,null,null,null,null,null,null,null,null,{"$f":"Fund!W4393","v":"00:00:00"},{"$f":"Fund!X4393","v":0},{"$f":"-Fund!V4393","v":0},{"$f":"Fund!V4393","v":0},{"$f":"Fund!P4393","v":""}]
[null,null,null,null,null,null,null,null,null,null,null,null,{"$f":"Fund!W4394","v":"00:00:00"},{"$f":"Fund!X4394","v":0},{"$f":"-Fund!V4394","v":0},{"$f":"Fund!V4394","v":0},{"$f":"Fund!P4394","v":""}]
[null,null,null,null,null,null,null,null,null,null,null,null,{"$f":"Fund!W4395","v":"00:00:00"},{"$f":"Fund!X4395","v":0},{"$f":"-Fund!V4395","v":0},{"$f":"Fund!V4395","v":0},{"$f":"Fund!P4395","v":""}]
[null,null,null,null,null,null,null,null,null,null,null,null,{"$f":"Fund!W4396","v":"00:00:00"},{"$f":"Fund!X4396","v":0},{"$f":"-Fund!V4396","v":0},{"$f":"Fund!V4396","v":0},{"$f":"Fund!P4396","v":""}]
[null,null,null,null,null,null,null,null,null,null,null,null,{"$f":"Fund!W4397","v":"00:00:00"},{"$f":"Fund!X4397","v":0},{"$f":"-Fund!V4397","v":0},{"$f":"Fund!V4397","v":0},{"$f":"Fund!P4397","v":""}]
[null,null,null,null,null,null,null,null,null,null,null,null,{"$f":"Fund!W4398","v":"00:00:00"},{"$f":"Fund!X4398","v":0},{"$f":"-Fund!V4398","v":0},{"$f":"Fund!V4398","v":0},{"$f":"Fund!P4398","v":""}]
[null,null,null,null,null,null,null,null,null,null,null,null,{"$f":"Fund!W4399","v":"00:00:00"},{"$f":"Fund!X4399","v":0},{"$f":"-Fund!V4399","v":0},{"$f":"Fund!V4399","v":0},{"$f":"Fund!P4399","v":""}]
[null,null,null,null,null,null,null,null,null,null,null,null,{"$f":"Fund!W4400","v":"00:00:00"},{"$f":"Fund!X4400","v":0},{"$f":"-Fund!V4400","v":0},{"$f":"Fund!V4400","v":0},{"$f":"Fund!P4400","v":""}]
[null,null,null,null,null,null,null,null,null,null,null,null,{"$f":"Fund!W4401","v":"00:00:00"},{"$f":"Fund!X4401","v":0},{"$f":"-Fund!V4401","v":0},{"$f":"Fund!V4401","v":0},{"$f":"Fund!P4401","v":""}]
[null,null,null,null,null,null,null,null,null,null,null,null,{"$f":"Fund!W4402","v":"00:00:00"},{"$f":"Fund!X4402","v":0},{"$f":"-Fund!V4402","v":0},{"$f":"Fund!V4402","v":0},{"$f":"Fund!P4402","v":""}]
[null,null,null,null,null,null,null,null,null,null,null,null,{"$f":"Fund!W4403","v":"00:00:00"},{"$f":"Fund!X4403","v":0},{"$f":"-Fund!V4403","v":0},{"$f":"Fund!V4403","v":0},{"$f":"Fund!P4403","v":""}]
[null,null,null,null,null,null,null,null,null,null,null,null,{"$f":"Fund!W4404","v":"00:00:00"},{"$f":"Fund!X4404","v":0},{"$f":"-Fund!V4404","v":0},{"$f":"Fund!V4404","v":0},{"$f":"Fund!P4404","v":""}]
[null,null,null,null,null,null,null,null,null,null,null,null,{"$f":"Fund!W4405","v":"00:00:00"},{"$f":"Fund!X4405","v":0},{"$f":"-Fund!V4405","v":0},{"$f":"Fund!V4405","v":0},{"$f":"Fund!P4405","v":""}]
[null,null,null,null,null,null,null,null,null,null,null,null,{"$f":"Fund!W4406","v":"00:00:00"},{"$f":"Fund!X4406","v":0},{"$f":"-Fund!V4406","v":0},{"$f":"Fund!V4406","v":0},{"$f":"Fund!P4406","v":""}]
[null,null,null,null,null,null,null,null,null,null,null,null,{"$f":"Fund!W4407","v":"00:00:00"},{"$f":"Fund!X4407","v":0},{"$f":"-Fund!V4407","v":0},{"$f":"Fund!V4407","v":0},{"$f":"Fund!P4407","v":""}]
[null,null,null,null,null,null,null,null,null,null,null,null,{"$f":"Fund!W4408","v":"00:00:00"},{"$f":"Fund!X4408","v":0},{"$f":"-Fund!V4408","v":0},{"$f":"Fund!V4408","v":0},{"$f":"Fund!P4408","v":""}]
[null,null,null,null,null,null,null,null,null,null,null,null,{"$f":"Fund!W4409","v":"00:00:00"},{"$f":"Fund!X4409","v":0},{"$f":"-Fund!V4409","v":0},{"$f":"Fund!V4409","v":0},{"$f":"Fund!P4409","v":""}]
[null,null,null,null,null,null,null,null,null,null,null,null,{"$f":"Fund!W4410","v":"00:00:00"},{"$f":"Fund!X4410","v":0},{"$f":"-Fund!V4410","v":0},{"$f":"Fund!V4410","v":0},{"$f":"Fund!P4410","v":""}]
[null,null,null,null,null,null,null,null,null,null,null,null,{"$f":"Fund!W4411","v":"00:00:00"},{"$f":"Fund!X4411","v":0},{"$f":"-Fund!V4411","v":0},{"$f":"Fund!V4411","v":0},{"$f":"Fund!P4411","v":""}]
[null,null,null,null,null,null,null,null,null,null,null,null,{"$f":"Fund!W4412","v":"00:00:00"},{"$f":"Fund!X4412","v":0},{"$f":"-Fund!V4412","v":0},{"$f":"Fund!V4412","v":0},{"$f":"Fund!P4412","v":""}]
[null,null,null,null,null,null,null,null,null,null,null,null,{"$f":"Fund!W4413","v":"00:00:00"},{"$f":"Fund!X4413","v":0},{"$f":"-Fund!V4413","v":0},{"$f":"Fund!V4413","v":0},{"$f":"Fund!P4413","v":""}]
[null,null,null,null,null,null,null,null,null,null,null,null,{"$f":"Fund!W4414","v":"00:00:00"},{"$f":"Fund!X4414","v":0},{"$f":"-Fund!V4414","v":0},{"$f":"Fund!V4414","v":0},{"$f":"Fund!P4414","v":""}]
[null,null,null,null,null,null,null,null,null,null,null,null,{"$f":"Fund!W4415","v":"00:00:00"},{"$f":"Fund!X4415","v":0},{"$f":"-Fund!V4415","v":0},{"$f":"Fund!V4415","v":0},{"$f":"Fund!P4415","v":""}]
[null,null,null,null,null,null,null,null,null,null,null,null,{"$f":"Fund!W4416","v":"00:00:00"},{"$f":"Fund!X4416","v":0},{"$f":"-Fund!V4416","v":0},{"$f":"Fund!V4416","v":0},{"$f":"Fund!P4416","v":""}]
[null,null,null,null,null,null,null,null,null,null,null,null,{"$f":"Fund!W4417","v":"00:00:00"},{"$f":"Fund!X4417","v":0},{"$f":"-Fund!V4417","v":0},{"$f":"Fund!V4417","v":0},{"$f":"Fund!P4417","v":""}]
[null,null,null,null,null,null,null,null,null,null,null,null,{"$f":"Fund!W4418","v":"00:00:00"},{"$f":"Fund!X4418","v":0},{"$f":"-Fund!V4418","v":0},{"$f":"Fund!V4418","v":0},{"$f":"Fund!P4418","v":""}]
[null,null,null,null,null,null,null,null,null,null,null,null,{"$f":"Fund!W4419","v":"00:00:00"},{"$f":"Fund!X4419","v":0},{"$f":"-Fund!V4419","v":0},{"$f":"Fund!V4419","v":0},{"$f":"Fund!P4419","v":""}]
[null,null,null,null,null,null,null,null,null,null,null,null,{"$f":"Fund!W4420","v":"00:00:00"},{"$f":"Fund!X4420","v":0},{"$f":"-Fund!V4420","v":0},{"$f":"Fund!V4420","v":0},{"$f":"Fund!P4420","v":""}]
[null,null,null,null,null,null,null,null,null,null,null,null,{"$f":"Fund!W4421","v":"00:00:00"},{"$f":"Fund!X4421","v":0},{"$f":"-Fund!V4421","v":0},{"$f":"Fund!V4421","v":0},{"$f":"Fund!P4421","v":""}]
[null,null,null,null,null,null,null,null,null,null,null,null,{"$f":"Fund!W4422","v":"00:00:00"},{"$f":"Fund!X4422","v":0},{"$f":"-Fund!V4422","v":0},{"$f":"Fund!V4422","v":0},{"$f":"Fund!P4422","v":""}]
[null,null,null,null,null,null,null,null,null,null,null,null,{"$f":"Fund!W4423","v":"00:00:00"},{"$f":"Fund!X4423","v":0},{"$f":"-Fund!V4423","v":0},{"$f":"Fund!V4423","v":0},{"$f":"Fund!P4423","v":""}]
[null,null,null,null,null,null,null,null,null,null,null,null,{"$f":"Fund!W4424","v":"00:00:00"},{"$f":"Fund!X4424","v":0},{"$f":"-Fund!V4424","v":0},{"$f":"Fund!V4424","v":0},{"$f":"Fund!P4424","v":""}]
[null,null,null,null,null,null,null,null,null,null,null,null,{"$f":"Fund!W4425","v":"00:00:00"},{"$f":"Fund!X4425","v":0},{"$f":"-Fund!V4425","v":0},{"$f":"Fund!V4425","v":0},{"$f":"Fund!P4425","v":""}]
[null,null,null,null,null,null,null,null,null,null,null,null,{"$f":"Fund!W4426","v":"00:00:00"},{"$f":"Fund!X4426","v":0},{"$f":"-Fund!V4426","v":0},{"$f":"Fund!V4426","v":0},{"$f":"Fund!P4426","v":""}]
[null,null,null,null,null,null,null,null,null,null,null,null,{"$f":"Fund!W4427","v":"00:00:00"},{"$f":"Fund!X4427","v":0},{"$f":"-Fund!V4427","v":0},{"$f":"Fund!V4427","v":0},{"$f":"Fund!P4427","v":""}]
[null,null,null,null,null,null,null,null,null,null,null,null,{"$f":"Fund!W4428","v":"00:00:00"},{"$f":"Fund!X4428","v":0},{"$f":"-Fund!V4428","v":0},{"$f":"Fund!V4428","v":0},{"$f":"Fund!P4428","v":""}]
[null,null,null,null,null,null,null,null,null,null,null,null,{"$f":"Fund!W4429","v":"00:00:00"},{"$f":"Fund!X4429","v":0},{"$f":"-Fund!V4429","v":0},{"$f":"Fund!V4429","v":0},{"$f":"Fund!P4429","v":""}]
[null,null,null,null,null,null,null,null,null,null,null,null,{"$f":"Fund!W4430","v":"00:00:00"},{"$f":"Fund!X4430","v":0},{"$f":"-Fund!V4430","v":0},{"$f":"Fund!V4430","v":0},{"$f":"Fund!P4430","v":""}]
[null,null,null,null,null,null,null,null,null,null,null,null,{"$f":"Fund!W4431","v":"00:00:00"},{"$f":"Fund!X4431","v":0},{"$f":"-Fund!V4431","v":0},{"$f":"Fund!V4431","v":0},{"$f":"Fund!P4431","v":""}]
[null,null,null,null,null,null,null,null,null,null,null,null,{"$f":"Fund!W4432","v":"00:00:00"},{"$f":"Fund!X4432","v":0},{"$f":"-Fund!V4432","v":0},{"$f":"Fund!V4432","v":0},{"$f":"Fund!P4432","v":""}]
[null,null,null,null,null,null,null,null,null,null,null,null,{"$f":"Fund!W4433","v":"00:00:00"},{"$f":"Fund!X4433","v":0},{"$f":"-Fund!V4433","v":0},{"$f":"Fund!V4433","v":0},{"$f":"Fund!P4433","v":""}]
[null,null,null,null,null,null,null,null,null,null,null,null,{"$f":"Fund!W4434","v":"00:00:00"},{"$f":"Fund!X4434","v":0},{"$f":"-Fund!V4434","v":0},{"$f":"Fund!V4434","v":0},{"$f":"Fund!P4434","v":""}]
[null,null,null,null,null,null,null,null,null,null,null,null,{"$f":"Fund!W4435","v":"00:00:00"},{"$f":"Fund!X4435","v":0},{"$f":"-Fund!V4435","v":0},{"$f":"Fund!V4435","v":0},{"$f":"Fund!P4435","v":""}]
[null,null,null,null,null,null,null,null,null,null,null,null,{"$f":"Fund!W4436","v":"00:00:00"},{"$f":"Fund!X4436","v":0},{"$f":"-Fund!V4436","v":0},{"$f":"Fund!V4436","v":0},{"$f":"Fund!P4436","v":""}]
[null,null,null,null,null,null,null,null,null,null,null,null,{"$f":"Fund!W4437","v":"00:00:00"},{"$f":"Fund!X4437","v":0},{"$f":"-Fund!V4437","v":0},{"$f":"Fund!V4437","v":0},{"$f":"Fund!P4437","v":""}]
[null,null,null,null,null,null,null,null,null,null,null,null,{"$f":"Fund!W4438","v":"00:00:00"},{"$f":"Fund!X4438","v":0},{"$f":"-Fund!V4438","v":0},{"$f":"Fund!V4438","v":0},{"$f":"Fund!P4438","v":""}]
[null,null,null,null,null,null,null,null,null,null,null,null,{"$f":"Fund!W4439","v":"00:00:00"},{"$f":"Fund!X4439","v":0},{"$f":"-Fund!V4439","v":0},{"$f":"Fund!V4439","v":0},{"$f":"Fund!P4439","v":""}]
[null,null,null,null,null,null,null,null,null,null,null,null,{"$f":"Fund!W4440","v":"00:00:00"},{"$f":"Fund!X4440","v":0},{"$f":"-Fund!V4440","v":0},{"$f":"Fund!V4440","v":0},{"$f":"Fund!P4440","v":""}]
[null,null,null,null,null,null,null,null,null,null,null,null,{"$f":"Fund!W4441","v":"00:00:00"},{"$f":"Fund!X4441","v":0},{"$f":"-Fund!V4441","v":0},{"$f":"Fund!V4441","v":0},{"$f":"Fund!P4441","v":""}]
[null,null,null,null,null,null,null,null,null,null,null,null,{"$f":"Fund!W4442","v":"00:00:00"},{"$f":"Fund!X4442","v":0},{"$f":"-Fund!V4442","v":0},{"$f":"Fund!V4442","v":0},{"$f":"Fund!P4442","v":""}]
[null,null,null,null,null,null,null,null,null,null,null,null,{"$f":"Fund!W4443","v":"00:00:00"},{"$f":"Fund!X4443","v":0},{"$f":"-Fund!V4443","v":0},{"$f":"Fund!V4443","v":0},{"$f":"Fund!P4443","v":""}]
[null,null,null,null,null,null,null,null,null,null,null,null,{"$f":"Fund!W4444","v":"00:00:00"},{"$f":"Fund!X4444","v":0},{"$f":"-Fund!V4444","v":0},{"$f":"Fund!V4444","v":0},{"$f":"Fund!P4444","v":""}]
[null,null,null,null,null,null,null,null,null,null,null,null,{"$f":"Fund!W4445","v":"00:00:00"},{"$f":"Fund!X4445","v":0},{"$f":"-Fund!V4445","v":0},{"$f":"Fund!V4445","v":0},{"$f":"Fund!P4445","v":""}]
[null,null,null,null,null,null,null,null,null,null,null,null,{"$f":"Fund!W4446","v":"00:00:00"},{"$f":"Fund!X4446","v":0},{"$f":"-Fund!V4446","v":0},{"$f":"Fund!V4446","v":0},{"$f":"Fund!P4446","v":""}]
[null,null,null,null,null,null,null,null,null,null,null,null,{"$f":"Fund!W4447","v":"00:00:00"},{"$f":"Fund!X4447","v":0},{"$f":"-Fund!V4447","v":0},{"$f":"Fund!V4447","v":0},{"$f":"Fund!P4447","v":""}]
[null,null,null,null,null,null,null,null,null,null,null,null,{"$f":"Fund!W4448","v":"00:00:00"},{"$f":"Fund!X4448","v":0},{"$f":"-Fund!V4448","v":0},{"$f":"Fund!V4448","v":0},{"$f":"Fund!P4448","v":""}]
[null,null,null,null,null,null,null,null,null,null,null,null,{"$f":"Fund!W4449","v":"00:00:00"},{"$f":"Fund!X4449","v":0},{"$f":"-Fund!V4449","v":0},{"$f":"Fund!V4449","v":0},{"$f":"Fund!P4449","v":""}]
[null,null,null,null,null,null,null,null,null,null,null,null,{"$f":"Fund!W4450","v":"00:00:00"},{"$f":"Fund!X4450","v":0},{"$f":"-Fund!V4450","v":0},{"$f":"Fund!V4450","v":0},{"$f":"Fund!P4450","v":""}]
[null,null,null,null,null,null,null,null,null,null,null,null,{"$f":"Fund!W4451","v":"00:00:00"},{"$f":"Fund!X4451","v":0},{"$f":"-Fund!V4451","v":0},{"$f":"Fund!V4451","v":0},{"$f":"Fund!P4451","v":""}]
[null,null,null,null,null,null,null,null,null,null,null,null,{"$f":"Fund!W4452","v":"00:00:00"},{"$f":"Fund!X4452","v":0},{"$f":"-Fund!V4452","v":0},{"$f":"Fund!V4452","v":0},{"$f":"Fund!P4452","v":""}]
[null,null,null,null,null,null,null,null,null,null,null,null,{"$f":"Fund!W4453","v":"00:00:00"},{"$f":"Fund!X4453","v":0},{"$f":"-Fund!V4453","v":0},{"$f":"Fund!V4453","v":0},{"$f":"Fund!P4453","v":""}]
[null,null,null,null,null,null,null,null,null,null,null,null,{"$f":"Fund!W4454","v":"00:00:00"},{"$f":"Fund!X4454","v":0},{"$f":"-Fund!V4454","v":0},{"$f":"Fund!V4454","v":0},{"$f":"Fund!P4454","v":""}]
[null,null,null,null,null,null,null,null,null,null,null,null,{"$f":"Fund!W4455","v":"00:00:00"},{"$f":"Fund!X4455","v":0},{"$f":"-Fund!V4455","v":0},{"$f":"Fund!V4455","v":0},{"$f":"Fund!P4455","v":""}]
[null,null,null,null,null,null,null,null,null,null,null,null,{"$f":"Fund!W4456","v":"00:00:00"},{"$f":"Fund!X4456","v":0},{"$f":"-Fund!V4456","v":0},{"$f":"Fund!V4456","v":0},{"$f":"Fund!P4456","v":""}]
[null,null,null,null,null,null,null,null,null,null,null,null,{"$f":"Fund!W4457","v":"00:00:00"},{"$f":"Fund!X4457","v":0},{"$f":"-Fund!V4457","v":0},{"$f":"Fund!V4457","v":0},{"$f":"Fund!P4457","v":""}]
[null,null,null,null,null,null,null,null,null,null,null,null,{"$f":"Fund!W4458","v":"00:00:00"},{"$f":"Fund!X4458","v":0},{"$f":"-Fund!V4458","v":0},{"$f":"Fund!V4458","v":0},{"$f":"Fund!P4458","v":""}]
[null,null,null,null,null,null,null,null,null,null,null,null,{"$f":"Fund!W4459","v":"00:00:00"},{"$f":"Fund!X4459","v":0},{"$f":"-Fund!V4459","v":0},{"$f":"Fund!V4459","v":0},{"$f":"Fund!P4459","v":""}]
[null,null,null,null,null,null,null,null,null,null,null,null,{"$f":"Fund!W4460","v":"00:00:00"},{"$f":"Fund!X4460","v":0},{"$f":"-Fund!V4460","v":0},{"$f":"Fund!V4460","v":0},{"$f":"Fund!P4460","v":""}]
[null,null,null,null,null,null,null,null,null,null,null,null,{"$f":"Fund!W4461","v":"00:00:00"},{"$f":"Fund!X4461","v":0},{"$f":"-Fund!V4461","v":0},{"$f":"Fund!V4461","v":0},{"$f":"Fund!P4461","v":""}]
[null,null,null,null,null,null,null,null,null,null,null,null,{"$f":"Fund!W4462","v":"00:00:00"},{"$f":"Fund!X4462","v":0},{"$f":"-Fund!V4462","v":0},{"$f":"Fund!V4462","v":0},{"$f":"Fund!P4462","v":""}]
[null,null,null,null,null,null,null,null,null,null,null,null,{"$f":"Fund!W4463","v":"00:00:00"},{"$f":"Fund!X4463","v":0},{"$f":"-Fund!V4463","v":0},{"$f":"Fund!V4463","v":0},{"$f":"Fund!P4463","v":""}]
[null,null,null,null,null,null,null,null,null,null,null,null,{"$f":"Fund!W4464","v":"00:00:00"},{"$f":"Fund!X4464","v":0},{"$f":"-Fund!V4464","v":0},{"$f":"Fund!V4464","v":0},{"$f":"Fund!P4464","v":""}]
[null,null,null,null,null,null,null,null,null,null,null,null,{"$f":"Fund!W4465","v":"00:00:00"},{"$f":"Fund!X4465","v":0},{"$f":"-Fund!V4465","v":0},{"$f":"Fund!V4465","v":0},{"$f":"Fund!P4465","v":""}]
[null,null,null,null,null,null,null,null,null,null,null,null,{"$f":"Fund!W4466","v":"00:00:00"},{"$f":"Fund!X4466","v":0},{"$f":"-Fund!V4466","v":0},{"$f":"Fund!V4466","v":0},{"$f":"Fund!P4466","v":""}]
[null,null,null,null,null,null,null,null,null,null,null,null,{"$f":"Fund!W4467","v":"00:00:00"},{"$f":"Fund!X4467","v":0},{"$f":"-Fund!V4467","v":0},{"$f":"Fund!V4467","v":0},{"$f":"Fund!P4467","v":""}]
[null,null,null,null,null,null,null,null,null,null,null,null,{"$f":"Fund!W4468","v":"00:00:00"},{"$f":"Fund!X4468","v":0},{"$f":"-Fund!V4468","v":0},{"$f":"Fund!V4468","v":0},{"$f":"Fund!P4468","v":""}]
[null,null,null,null,null,null,null,null,null,null,null,null,{"$f":"Fund!W4469","v":"00:00:00"},{"$f":"Fund!X4469","v":0},{"$f":"-Fund!V4469","v":0},{"$f":"Fund!V4469","v":0},{"$f":"Fund!P4469","v":""}]
[null,null,null,null,null,null,null,null,null,null,null,null,{"$f":"Fund!W4470","v":"00:00:00"},{"$f":"Fund!X4470","v":0},{"$f":"-Fund!V4470","v":0},{"$f":"Fund!V4470","v":0},{"$f":"Fund!P4470","v":""}]
[null,null,null,null,null,null,null,null,null,null,null,null,{"$f":"Fund!W4471","v":"00:00:00"},{"$f":"Fund!X4471","v":0},{"$f":"-Fund!V4471","v":0},{"$f":"Fund!V4471","v":0},{"$f":"Fund!P4471","v":""}]
[null,null,null,null,null,null,null,null,null,null,null,null,{"$f":"Fund!W4472","v":"00:00:00"},{"$f":"Fund!X4472","v":0},{"$f":"-Fund!V4472","v":0},{"$f":"Fund!V4472","v":0},{"$f":"Fund!P4472","v":""}]
[null,null,null,null,null,null,null,null,null,null,null,null,{"$f":"Fund!W4473","v":"00:00:00"},{"$f":"Fund!X4473","v":0},{"$f":"-Fund!V4473","v":0},{"$f":"Fund!V4473","v":0},{"$f":"Fund!P4473","v":""}]
[null,null,null,null,null,null,null,null,null,null,null,null,{"$f":"Fund!W4474","v":"00:00:00"},{"$f":"Fund!X4474","v":0},{"$f":"-Fund!V4474","v":0},{"$f":"Fund!V4474","v":0},{"$f":"Fund!P4474","v":""}]
[null,null,null,null,null,null,null,null,null,null,null,null,{"$f":"Fund!W4475","v":"00:00:00"},{"$f":"Fund!X4475","v":0},{"$f":"-Fund!V4475","v":0},{"$f":"Fund!V4475","v":0},{"$f":"Fund!P4475","v":""}]
[null,null,null,null,null,null,null,null,null,null,null,null,{"$f":"Fund!W4476","v":"00:00:00"},{"$f":"Fund!X4476","v":0},{"$f":"-Fund!V4476","v":0},{"$f":"Fund!V4476","v":0},{"$f":"Fund!P4476","v":""}]
[null,null,null,null,null,null,null,null,null,null,null,null,{"$f":"Fund!W4477","v":"00:00:00"},{"$f":"Fund!X4477","v":0},{"$f":"-Fund!V4477","v":0},{"$f":"Fund!V4477","v":0},{"$f":"Fund!P4477","v":""}]
[null,null,null,null,null,null,null,null,null,null,null,null,{"$f":"Fund!W4478","v":"00:00:00"},{"$f":"Fund!X4478","v":0},{"$f":"-Fund!V4478","v":0},{"$f":"Fund!V4478","v":0},{"$f":"Fund!P4478","v":""}]
[null,null,null,null,null,null,null,null,null,null,null,null,{"$f":"Fund!W4479","v":"00:00:00"},{"$f":"Fund!X4479","v":0},{"$f":"-Fund!V4479","v":0},{"$f":"Fund!V4479","v":0},{"$f":"Fund!P4479","v":""}]
[null,null,null,null,null,null,null,null,null,null,null,null,{"$f":"Fund!W4480","v":"00:00:00"},{"$f":"Fund!X4480","v":0},{"$f":"-Fund!V4480","v":0},{"$f":"Fund!V4480","v":0},{"$f":"Fund!P4480","v":""}]
[null,null,null,null,null,null,null,null,null,null,null,null,{"$f":"Fund!W4481","v":"00:00:00"},{"$f":"Fund!X4481","v":0},{"$f":"-Fund!V4481","v":0},{"$f":"Fund!V4481","v":0},{"$f":"Fund!P4481","v":""}]
[null,null,null,null,null,null,null,null,null,null,null,null,{"$f":"Fund!W4482","v":"00:00:00"},{"$f":"Fund!X4482","v":0},{"$f":"-Fund!V4482","v":0},{"$f":"Fund!V4482","v":0},{"$f":"Fund!P4482","v":""}]
[null,null,null,null,null,null,null,null,null,null,null,null,{"$f":"Fund!W4483","v":"00:00:00"},{"$f":"Fund!X4483","v":0},{"$f":"-Fund!V4483","v":0},{"$f":"Fund!V4483","v":0},{"$f":"Fund!P4483","v":""}]
[null,null,null,null,null,null,null,null,null,null,null,null,{"$f":"Fund!W4484","v":"00:00:00"},{"$f":"Fund!X4484","v":0},{"$f":"-Fund!V4484","v":0},{"$f":"Fund!V4484","v":0},{"$f":"Fund!P4484","v":""}]
[null,null,null,null,null,null,null,null,null,null,null,null,{"$f":"Fund!W4485","v":"00:00:00"},{"$f":"Fund!X4485","v":0},{"$f":"-Fund!V4485","v":0},{"$f":"Fund!V4485","v":0},{"$f":"Fund!P4485","v":""}]
[null,null,null,null,null,null,null,null,null,null,null,null,{"$f":"Fund!W4486","v":"00:00:00"},{"$f":"Fund!X4486","v":0},{"$f":"-Fund!V4486","v":0},{"$f":"Fund!V4486","v":0},{"$f":"Fund!P4486","v":""}]
[null,null,null,null,null,null,null,null,null,null,null,null,{"$f":"Fund!W4487","v":"00:00:00"},{"$f":"Fund!X4487","v":0},{"$f":"-Fund!V4487","v":0},{"$f":"Fund!V4487","v":0},{"$f":"Fund!P4487","v":""}]
[null,null,null,null,null,null,null,null,null,null,null,null,{"$f":"Fund!W4488","v":"00:00:00"},{"$f":"Fund!X4488","v":0},{"$f":"-Fund!V4488","v":0},{"$f":"Fund!V4488","v":0},{"$f":"Fund!P4488","v":""}]
[null,null,null,null,null,null,null,null,null,null,null,null,{"$f":"Fund!W4489","v":"00:00:00"},{"$f":"Fund!X4489","v":0},{"$f":"-Fund!V4489","v":0},{"$f":"Fund!V4489","v":0},{"$f":"Fund!P4489","v":""}]
[null,null,null,null,null,null,null,null,null,null,null,null,{"$f":"Fund!W4490","v":"00:00:00"},{"$f":"Fund!X4490","v":0},{"$f":"-Fund!V4490","v":0},{"$f":"Fund!V4490","v":0},{"$f":"Fund!P4490","v":""}]
[null,null,null,null,null,null,null,null,null,null,null,null,{"$f":"Fund!W4491","v":"00:00:00"},{"$f":"Fund!X4491","v":0},{"$f":"-Fund!V4491","v":0},{"$f":"Fund!V4491","v":0},{"$f":"Fund!P4491","v":""}]
[null,null,null,null,null,null,null,null,null,null,null,null,{"$f":"Fund!W4492","v":"00:00:00"},{"$f":"Fund!X4492","v":0},{"$f":"-Fund!V4492","v":0},{"$f":"Fund!V4492","v":0},{"$f":"Fund!P4492","v":""}]
[null,null,null,null,null,null,null,null,null,null,null,null,{"$f":"Fund!W4493","v":"00:00:00"},{"$f":"Fund!X4493","v":0},{"$f":"-Fund!V4493","v":0},{"$f":"Fund!V4493","v":0},{"$f":"Fund!P4493","v":""}]
[null,null,null,null,null,null,null,null,null,null,null,null,{"$f":"Fund!W4494","v":"00:00:00"},{"$f":"Fund!X4494","v":0},{"$f":"-Fund!V4494","v":0},{"$f":"Fund!V4494","v":0},{"$f":"Fund!P4494","v":""}]
[null,null,null,null,null,null,null,null,null,null,null,null,{"$f":"Fund!W4495","v":"00:00:00"},{"$f":"Fund!X4495","v":0},{"$f":"-Fund!V4495","v":0},{"$f":"Fund!V4495","v":0},{"$f":"Fund!P4495","v":""}]
[null,null,null,null,null,null,null,null,null,null,null,null,{"$f":"Fund!W4496","v":"00:00:00"},{"$f":"Fund!X4496","v":0},{"$f":"-Fund!V4496","v":0},{"$f":"Fund!V4496","v":0},{"$f":"Fund!P4496","v":""}]
[null,null,null,null,null,null,null,null,null,null,null,null,{"$f":"Fund!W4497","v":"00:00:00"},{"$f":"Fund!X4497","v":0},{"$f":"-Fund!V4497","v":0},{"$f":"Fund!V4497","v":0},{"$f":"Fund!P4497","v":""}]
[null,null,null,null,null,null,null,null,null,null,null,null,{"$f":"Fund!W4498","v":"00:00:00"},{"$f":"Fund!X4498","v":0},{"$f":"-Fund!V4498","v":0},{"$f":"Fund!V4498","v":0},{"$f":"Fund!P4498","v":""}]
[null,null,null,null,null,null,null,null,null,null,null,null,{"$f":"Fund!W4499","v":"00:00:00"},{"$f":"Fund!X4499","v":0},{"$f":"-Fund!V4499","v":0},{"$f":"Fund!V4499","v":0},{"$f":"Fund!P4499","v":""}]
[null,null,null,null,null,null,null,null,null,null,null,null,{"$f":"Fund!W4500","v":"00:00:00"},{"$f":"Fund!X4500","v":0},{"$f":"-Fund!V4500","v":0},{"$f":"Fund!V4500","v":0},{"$f":"Fund!P4500","v":""}]
[null,null,null,null,null,null,null,null,null,null,null,null,{"$f":"Fund!W4501","v":"00:00:00"},{"$f":"Fund!X4501","v":0},{"$f":"-Fund!V4501","v":0},{"$f":"Fund!V4501","v":0},{"$f":"Fund!P4501","v":""}]
[null,null,null,null,null,null,null,null,null,null,null,null,{"$f":"Fund!W4502","v":"00:00:00"},{"$f":"Fund!X4502","v":0},{"$f":"-Fund!V4502","v":0},{"$f":"Fund!V4502","v":0},{"$f":"Fund!P4502","v":""}]
[null,null,null,null,null,null,null,null,null,null,null,null,{"$f":"Fund!W4503","v":"00:00:00"},{"$f":"Fund!X4503","v":0},{"$f":"-Fund!V4503","v":0},{"$f":"Fund!V4503","v":0},{"$f":"Fund!P4503","v":""}]
[null,null,null,null,null,null,null,null,null,null,null,null,{"$f":"Fund!W4504","v":"00:00:00"},{"$f":"Fund!X4504","v":0},{"$f":"-Fund!V4504","v":0},{"$f":"Fund!V4504","v":0},{"$f":"Fund!P4504","v":""}]
[null,null,null,null,null,null,null,null,null,null,null,null,{"$f":"Fund!W4505","v":"00:00:00"},{"$f":"Fund!X4505","v":0},{"$f":"-Fund!V4505","v":0},{"$f":"Fund!V4505","v":0},{"$f":"Fund!P4505","v":""}]
[null,null,null,null,null,null,null,null,null,null,null,null,{"$f":"Fund!W4506","v":"00:00:00"},{"$f":"Fund!X4506","v":0},{"$f":"-Fund!V4506","v":0},{"$f":"Fund!V4506","v":0},{"$f":"Fund!P4506","v":""}]
[null,null,null,null,null,null,null,null,null,null,null,null,{"$f":"Fund!W4507","v":"00:00:00"},{"$f":"Fund!X4507","v":0},{"$f":"-Fund!V4507","v":0},{"$f":"Fund!V4507","v":0},{"$f":"Fund!P4507","v":""}]
[null,null,null,null,null,null,null,null,null,null,null,null,{"$f":"Fund!W4508","v":"00:00:00"},{"$f":"Fund!X4508","v":0},{"$f":"-Fund!V4508","v":0},{"$f":"Fund!V4508","v":0},{"$f":"Fund!P4508","v":""}]
[null,null,null,null,null,null,null,null,null,null,null,null,{"$f":"Fund!W4509","v":"00:00:00"},{"$f":"Fund!X4509","v":0},{"$f":"-Fund!V4509","v":0},{"$f":"Fund!V4509","v":0},{"$f":"Fund!P4509","v":""}]
[null,null,null,null,null,null,null,null,null,null,null,null,{"$f":"Fund!W4510","v":"00:00:00"},{"$f":"Fund!X4510","v":0},{"$f":"-Fund!V4510","v":0},{"$f":"Fund!V4510","v":0},{"$f":"Fund!P4510","v":""}]
[null,null,null,null,null,null,null,null,null,null,null,null,{"$f":"Fund!W4511","v":"00:00:00"},{"$f":"Fund!X4511","v":0},{"$f":"-Fund!V4511","v":0},{"$f":"Fund!V4511","v":0},{"$f":"Fund!P4511","v":""}]
[null,null,null,null,null,null,null,null,null,null,null,null,{"$f":"Fund!W4512","v":"00:00:00"},{"$f":"Fund!X4512","v":0},{"$f":"-Fund!V4512","v":0},{"$f":"Fund!V4512","v":0},{"$f":"Fund!P4512","v":""}]
[null,null,null,null,null,null,null,null,null,null,null,null,{"$f":"Fund!W4513","v":"00:00:00"},{"$f":"Fund!X4513","v":0},{"$f":"-Fund!V4513","v":0},{"$f":"Fund!V4513","v":0},{"$f":"Fund!P4513","v":""}]
[null,null,null,null,null,null,null,null,null,null,null,null,{"$f":"Fund!W4514","v":"00:00:00"},{"$f":"Fund!X4514","v":0},{"$f":"-Fund!V4514","v":0},{"$f":"Fund!V4514","v":0},{"$f":"Fund!P4514","v":""}]
[null,null,null,null,null,null,null,null,null,null,null,null,{"$f":"Fund!W4515","v":"00:00:00"},{"$f":"Fund!X4515","v":0},{"$f":"-Fund!V4515","v":0},{"$f":"Fund!V4515","v":0},{"$f":"Fund!P4515","v":""}]
[null,null,null,null,null,null,null,null,null,null,null,null,{"$f":"Fund!W4516","v":"00:00:00"},{"$f":"Fund!X4516","v":0},{"$f":"-Fund!V4516","v":0},{"$f":"Fund!V4516","v":0},{"$f":"Fund!P4516","v":""}]
[null,null,null,null,null,null,null,null,null,null,null,null,{"$f":"Fund!W4517","v":"00:00:00"},{"$f":"Fund!X4517","v":0},{"$f":"-Fund!V4517","v":0},{"$f":"Fund!V4517","v":0},{"$f":"Fund!P4517","v":""}]
[null,null,null,null,null,null,null,null,null,null,null,null,{"$f":"Fund!W4518","v":"00:00:00"},{"$f":"Fund!X4518","v":0},{"$f":"-Fund!V4518","v":0},{"$f":"Fund!V4518","v":0},{"$f":"Fund!P4518","v":""}]
[null,null,null,null,null,null,null,null,null,null,null,null,{"$f":"Fund!W4519","v":"00:00:00"},{"$f":"Fund!X4519","v":0},{"$f":"-Fund!V4519","v":0},{"$f":"Fund!V4519","v":0},{"$f":"Fund!P4519","v":""}]
[null,null,null,null,null,null,null,null,null,null,null,null,{"$f":"Fund!W4520","v":"00:00:00"},{"$f":"Fund!X4520","v":0},{"$f":"-Fund!V4520","v":0},{"$f":"Fund!V4520","v":0},{"$f":"Fund!P4520","v":""}]
[null,null,null,null,null,null,null,null,null,null,null,null,{"$f":"Fund!W4521","v":"00:00:00"},{"$f":"Fund!X4521","v":0},{"$f":"-Fund!V4521","v":0},{"$f":"Fund!V4521","v":0},{"$f":"Fund!P4521","v":""}]
[null,null,null,null,null,null,null,null,null,null,null,null,{"$f":"Fund!W4522","v":"00:00:00"},{"$f":"Fund!X4522","v":0},{"$f":"-Fund!V4522","v":0},{"$f":"Fund!V4522","v":0},{"$f":"Fund!P4522","v":""}]
[null,null,null,null,null,null,null,null,null,null,null,null,{"$f":"Fund!W4523","v":"00:00:00"},{"$f":"Fund!X4523","v":0},{"$f":"-Fund!V4523","v":0},{"$f":"Fund!V4523","v":0},{"$f":"Fund!P4523","v":""}]
[null,null,null,null,null,null,null,null,null,null,null,null,{"$f":"Fund!W4524","v":"00:00:00"},{"$f":"Fund!X4524","v":0},{"$f":"-Fund!V4524","v":0},{"$f":"Fund!V4524","v":0},{"$f":"Fund!P4524","v":""}]
[null,null,null,null,null,null,null,null,null,null,null,null,{"$f":"Fund!W4525","v":"00:00:00"},{"$f":"Fund!X4525","v":0},{"$f":"-Fund!V4525","v":0},{"$f":"Fund!V4525","v":0},{"$f":"Fund!P4525","v":""}]
[null,null,null,null,null,null,null,null,null,null,null,null,{"$f":"Fund!W4526","v":"00:00:00"},{"$f":"Fund!X4526","v":0},{"$f":"-Fund!V4526","v":0},{"$f":"Fund!V4526","v":0},{"$f":"Fund!P4526","v":""}]
[null,null,null,null,null,null,null,null,null,null,null,null,{"$f":"Fund!W4527","v":"00:00:00"},{"$f":"Fund!X4527","v":0},{"$f":"-Fund!V4527","v":0},{"$f":"Fund!V4527","v":0},{"$f":"Fund!P4527","v":""}]
[null,null,null,null,null,null,null,null,null,null,null,null,{"$f":"Fund!W4528","v":"00:00:00"},{"$f":"Fund!X4528","v":0},{"$f":"-Fund!V4528","v":0},{"$f":"Fund!V4528","v":0},{"$f":"Fund!P4528","v":""}]
[null,null,null,null,null,null,null,null,null,null,null,null,{"$f":"Fund!W4529","v":"00:00:00"},{"$f":"Fund!X4529","v":0},{"$f":"-Fund!V4529","v":0},{"$f":"Fund!V4529","v":0},{"$f":"Fund!P4529","v":""}]
[null,null,null,null,null,null,null,null,null,null,null,null,{"$f":"Fund!W4530","v":"00:00:00"},{"$f":"Fund!X4530","v":0},{"$f":"-Fund!V4530","v":0},{"$f":"Fund!V4530","v":0},{"$f":"Fund!P4530","v":""}]
[null,null,null,null,null,null,null,null,null,null,null,null,{"$f":"Fund!W4531","v":"00:00:00"},{"$f":"Fund!X4531","v":0},{"$f":"-Fund!V4531","v":0},{"$f":"Fund!V4531","v":0},{"$f":"Fund!P4531","v":""}]
[null,null,null,null,null,null,null,null,null,null,null,null,{"$f":"Fund!W4532","v":"00:00:00"},{"$f":"Fund!X4532","v":0},{"$f":"-Fund!V4532","v":0},{"$f":"Fund!V4532","v":0},{"$f":"Fund!P4532","v":""}]
[null,null,null,null,null,null,null,null,null,null,null,null,{"$f":"Fund!W4533","v":"00:00:00"},{"$f":"Fund!X4533","v":0},{"$f":"-Fund!V4533","v":0},{"$f":"Fund!V4533","v":0},{"$f":"Fund!P4533","v":""}]
[null,null,null,null,null,null,null,null,null,null,null,null,{"$f":"Fund!W4534","v":"00:00:00"},{"$f":"Fund!X4534","v":0},{"$f":"-Fund!V4534","v":0},{"$f":"Fund!V4534","v":0},{"$f":"Fund!P4534","v":""}]
[null,null,null,null,null,null,null,null,null,null,null,null,{"$f":"Fund!W4535","v":"00:00:00"},{"$f":"Fund!X4535","v":0},{"$f":"-Fund!V4535","v":0},{"$f":"Fund!V4535","v":0},{"$f":"Fund!P4535","v":""}]
[null,null,null,null,null,null,null,null,null,null,null,null,{"$f":"Fund!W4536","v":"00:00:00"},{"$f":"Fund!X4536","v":0},{"$f":"-Fund!V4536","v":0},{"$f":"Fund!V4536","v":0},{"$f":"Fund!P4536","v":""}]
[null,null,null,null,null,null,null,null,null,null,null,null,{"$f":"Fund!W4537","v":"00:00:00"},{"$f":"Fund!X4537","v":0},{"$f":"-Fund!V4537","v":0},{"$f":"Fund!V4537","v":0},{"$f":"Fund!P4537","v":""}]
[null,null,null,null,null,null,null,null,null,null,null,null,{"$f":"Fund!W4538","v":"00:00:00"},{"$f":"Fund!X4538","v":0},{"$f":"-Fund!V4538","v":0},{"$f":"Fund!V4538","v":0},{"$f":"Fund!P4538","v":""}]
[null,null,null,null,null,null,null,null,null,null,null,null,{"$f":"Fund!W4539","v":"00:00:00"},{"$f":"Fund!X4539","v":0},{"$f":"-Fund!V4539","v":0},{"$f":"Fund!V4539","v":0},{"$f":"Fund!P4539","v":""}]
[null,null,null,null,null,null,null,null,null,null,null,null,{"$f":"Fund!W4540","v":"00:00:00"},{"$f":"Fund!X4540","v":0},{"$f":"-Fund!V4540","v":0},{"$f":"Fund!V4540","v":0},{"$f":"Fund!P4540","v":""}]
[null,null,null,null,null,null,null,null,null,null,null,null,{"$f":"Fund!W4541","v":"00:00:00"},{"$f":"Fund!X4541","v":0},{"$f":"-Fund!V4541","v":0},{"$f":"Fund!V4541","v":0},{"$f":"Fund!P4541","v":""}]
[null,null,null,null,null,null,null,null,null,null,null,null,{"$f":"Fund!W4542","v":"00:00:00"},{"$f":"Fund!X4542","v":0},{"$f":"-Fund!V4542","v":0},{"$f":"Fund!V4542","v":0},{"$f":"Fund!P4542","v":""}]
[null,null,null,null,null,null,null,null,null,null,null,null,{"$f":"Fund!W4543","v":"00:00:00"},{"$f":"Fund!X4543","v":0},{"$f":"-Fund!V4543","v":0},{"$f":"Fund!V4543","v":0},{"$f":"Fund!P4543","v":""}]
[null,null,null,null,null,null,null,null,null,null,null,null,{"$f":"Fund!W4544","v":"00:00:00"},{"$f":"Fund!X4544","v":0},{"$f":"-Fund!V4544","v":0},{"$f":"Fund!V4544","v":0},{"$f":"Fund!P4544","v":""}]
[null,null,null,null,null,null,null,null,null,null,null,null,{"$f":"Fund!W4545","v":"00:00:00"},{"$f":"Fund!X4545","v":0},{"$f":"-Fund!V4545","v":0},{"$f":"Fund!V4545","v":0},{"$f":"Fund!P4545","v":""}]
[null,null,null,null,null,null,null,null,null,null,null,null,{"$f":"Fund!W4546","v":"00:00:00"},{"$f":"Fund!X4546","v":0},{"$f":"-Fund!V4546","v":0},{"$f":"Fund!V4546","v":0},{"$f":"Fund!P4546","v":""}]
[null,null,null,null,null,null,null,null,null,null,null,null,{"$f":"Fund!W4547","v":"00:00:00"},{"$f":"Fund!X4547","v":0},{"$f":"-Fund!V4547","v":0},{"$f":"Fund!V4547","v":0},{"$f":"Fund!P4547","v":""}]
[null,null,null,null,null,null,null,null,null,null,null,null,{"$f":"Fund!W4548","v":"00:00:00"},{"$f":"Fund!X4548","v":0},{"$f":"-Fund!V4548","v":0},{"$f":"Fund!V4548","v":0},{"$f":"Fund!P4548","v":""}]
[null,null,null,null,null,null,null,null,null,null,null,null,{"$f":"Fund!W4549","v":"00:00:00"},{"$f":"Fund!X4549","v":0},{"$f":"-Fund!V4549","v":0},{"$f":"Fund!V4549","v":0},{"$f":"Fund!P4549","v":""}]
[null,null,null,null,null,null,null,null,null,null,null,null,{"$f":"Fund!W4550","v":"00:00:00"},{"$f":"Fund!X4550","v":0},{"$f":"-Fund!V4550","v":0},{"$f":"Fund!V4550","v":0},{"$f":"Fund!P4550","v":""}]
[null,null,null,null,null,null,null,null,null,null,null,null,{"$f":"Fund!W4551","v":"00:00:00"},{"$f":"Fund!X4551","v":0},{"$f":"-Fund!V4551","v":0},{"$f":"Fund!V4551","v":0},{"$f":"Fund!P4551","v":""}]
[null,null,null,null,null,null,null,null,null,null,null,null,{"$f":"Fund!W4552","v":"00:00:00"},{"$f":"Fund!X4552","v":0},{"$f":"-Fund!V4552","v":0},{"$f":"Fund!V4552","v":0},{"$f":"Fund!P4552","v":""}]
[null,null,null,null,null,null,null,null,null,null,null,null,{"$f":"Fund!W4553","v":"00:00:00"},{"$f":"Fund!X4553","v":0},{"$f":"-Fund!V4553","v":0},{"$f":"Fund!V4553","v":0},{"$f":"Fund!P4553","v":""}]
[null,null,null,null,null,null,null,null,null,null,null,null,{"$f":"Fund!W4554","v":"00:00:00"},{"$f":"Fund!X4554","v":0},{"$f":"-Fund!V4554","v":0},{"$f":"Fund!V4554","v":0},{"$f":"Fund!P4554","v":""}]
[null,null,null,null,null,null,null,null,null,null,null,null,{"$f":"Fund!W4555","v":"00:00:00"},{"$f":"Fund!X4555","v":0},{"$f":"-Fund!V4555","v":0},{"$f":"Fund!V4555","v":0},{"$f":"Fund!P4555","v":""}]
[null,null,null,null,null,null,null,null,null,null,null,null,{"$f":"Fund!W4556","v":"00:00:00"},{"$f":"Fund!X4556","v":0},{"$f":"-Fund!V4556","v":0},{"$f":"Fund!V4556","v":0},{"$f":"Fund!P4556","v":""}]
[null,null,null,null,null,null,null,null,null,null,null,null,{"$f":"Fund!W4557","v":"00:00:00"},{"$f":"Fund!X4557","v":0},{"$f":"-Fund!V4557","v":0},{"$f":"Fund!V4557","v":0},{"$f":"Fund!P4557","v":""}]
[null,null,null,null,null,null,null,null,null,null,null,null,{"$f":"Fund!W4558","v":"00:00:00"},{"$f":"Fund!X4558","v":0},{"$f":"-Fund!V4558","v":0},{"$f":"Fund!V4558","v":0},{"$f":"Fund!P4558","v":""}]
[null,null,null,null,null,null,null,null,null,null,null,null,{"$f":"Fund!W4559","v":"00:00:00"},{"$f":"Fund!X4559","v":0},{"$f":"-Fund!V4559","v":0},{"$f":"Fund!V4559","v":0},{"$f":"Fund!P4559","v":""}]
[null,null,null,null,null,null,null,null,null,null,null,null,{"$f":"Fund!W4560","v":"00:00:00"},{"$f":"Fund!X4560","v":0},{"$f":"-Fund!V4560","v":0},{"$f":"Fund!V4560","v":0},{"$f":"Fund!P4560","v":""}]
[null,null,null,null,null,null,null,null,null,null,null,null,{"$f":"Fund!W4561","v":"00:00:00"},{"$f":"Fund!X4561","v":0},{"$f":"-Fund!V4561","v":0},{"$f":"Fund!V4561","v":0},{"$f":"Fund!P4561","v":""}]
[null,null,null,null,null,null,null,null,null,null,null,null,{"$f":"Fund!W4562","v":"00:00:00"},{"$f":"Fund!X4562","v":0},{"$f":"-Fund!V4562","v":0},{"$f":"Fund!V4562","v":0},{"$f":"Fund!P4562","v":""}]
[null,null,null,null,null,null,null,null,null,null,null,null,{"$f":"Fund!W4563","v":"00:00:00"},{"$f":"Fund!X4563","v":0},{"$f":"-Fund!V4563","v":0},{"$f":"Fund!V4563","v":0},{"$f":"Fund!P4563","v":""}]
[null,null,null,null,null,null,null,null,null,null,null,null,{"$f":"Fund!W4564","v":"00:00:00"},{"$f":"Fund!X4564","v":0},{"$f":"-Fund!V4564","v":0},{"$f":"Fund!V4564","v":0},{"$f":"Fund!P4564","v":""}]
[null,null,null,null,null,null,null,null,null,null,null,null,{"$f":"Fund!W4565","v":"00:00:00"},{"$f":"Fund!X4565","v":0},{"$f":"-Fund!V4565","v":0},{"$f":"Fund!V4565","v":0},{"$f":"Fund!P4565","v":""}]
[null,null,null,null,null,null,null,null,null,null,null,null,{"$f":"Fund!W4566","v":"00:00:00"},{"$f":"Fund!X4566","v":0},{"$f":"-Fund!V4566","v":0},{"$f":"Fund!V4566","v":0},{"$f":"Fund!P4566","v":""}]
[null,null,null,null,null,null,null,null,null,null,null,null,{"$f":"Fund!W4567","v":"00:00:00"},{"$f":"Fund!X4567","v":0},{"$f":"-Fund!V4567","v":0},{"$f":"Fund!V4567","v":0},{"$f":"Fund!P4567","v":""}]
[null,null,null,null,null,null,null,null,null,null,null,null,{"$f":"Fund!W4568","v":"00:00:00"},{"$f":"Fund!X4568","v":0},{"$f":"-Fund!V4568","v":0},{"$f":"Fund!V4568","v":0},{"$f":"Fund!P4568","v":""}]
[null,null,null,null,null,null,null,null,null,null,null,null,{"$f":"Fund!W4569","v":"00:00:00"},{"$f":"Fund!X4569","v":0},{"$f":"-Fund!V4569","v":0},{"$f":"Fund!V4569","v":0},{"$f":"Fund!P4569","v":""}]
[null,null,null,null,null,null,null,null,null,null,null,null,{"$f":"Fund!W4570","v":"00:00:00"},{"$f":"Fund!X4570","v":0},{"$f":"-Fund!V4570","v":0},{"$f":"Fund!V4570","v":0},{"$f":"Fund!P4570","v":""}]
[null,null,null,null,null,null,null,null,null,null,null,null,{"$f":"Fund!W4571","v":"00:00:00"},{"$f":"Fund!X4571","v":0},{"$f":"-Fund!V4571","v":0},{"$f":"Fund!V4571","v":0},{"$f":"Fund!P4571","v":""}]
[null,null,null,null,null,null,null,null,null,null,null,null,{"$f":"Fund!W4572","v":"00:00:00"},{"$f":"Fund!X4572","v":0},{"$f":"-Fund!V4572","v":0},{"$f":"Fund!V4572","v":0},{"$f":"Fund!P4572","v":""}]
[null,null,null,null,null,null,null,null,null,null,null,null,{"$f":"Fund!W4573","v":"00:00:00"},{"$f":"Fund!X4573","v":0},{"$f":"-Fund!V4573","v":0},{"$f":"Fund!V4573","v":0},{"$f":"Fund!P4573","v":""}]
[null,null,null,null,null,null,null,null,null,null,null,null,{"$f":"Fund!W4574","v":"00:00:00"},{"$f":"Fund!X4574","v":0},{"$f":"-Fund!V4574","v":0},{"$f":"Fund!V4574","v":0},{"$f":"Fund!P4574","v":""}]
[null,null,null,null,null,null,null,null,null,null,null,null,{"$f":"Fund!W4575","v":"00:00:00"},{"$f":"Fund!X4575","v":0},{"$f":"-Fund!V4575","v":0},{"$f":"Fund!V4575","v":0},{"$f":"Fund!P4575","v":""}]
[null,null,null,null,null,null,null,null,null,null,null,null,{"$f":"Fund!W4576","v":"00:00:00"},{"$f":"Fund!X4576","v":0},{"$f":"-Fund!V4576","v":0},{"$f":"Fund!V4576","v":0},{"$f":"Fund!P4576","v":""}]
[null,null,null,null,null,null,null,null,null,null,null,null,{"$f":"Fund!W4577","v":"00:00:00"},{"$f":"Fund!X4577","v":0},{"$f":"-Fund!V4577","v":0},{"$f":"Fund!V4577","v":0},{"$f":"Fund!P4577","v":""}]
[null,null,null,null,null,null,null,null,null,null,null,null,{"$f":"Fund!W4578","v":"00:00:00"},{"$f":"Fund!X4578","v":0},{"$f":"-Fund!V4578","v":0},{"$f":"Fund!V4578","v":0},{"$f":"Fund!P4578","v":""}]
[null,null,null,null,null,null,null,null,null,null,null,null,{"$f":"Fund!W4579","v":"00:00:00"},{"$f":"Fund!X4579","v":0},{"$f":"-Fund!V4579","v":0},{"$f":"Fund!V4579","v":0},{"$f":"Fund!P4579","v":""}]
[null,null,null,null,null,null,null,null,null,null,null,null,{"$f":"Fund!W4580","v":"00:00:00"},{"$f":"Fund!X4580","v":0},{"$f":"-Fund!V4580","v":0},{"$f":"Fund!V4580","v":0},{"$f":"Fund!P4580","v":""}]
[null,null,null,null,null,null,null,null,null,null,null,null,{"$f":"Fund!W4581","v":"00:00:00"},{"$f":"Fund!X4581","v":0},{"$f":"-Fund!V4581","v":0},{"$f":"Fund!V4581","v":0},{"$f":"Fund!P4581","v":""}]
[null,null,null,null,null,null,null,null,null,null,null,null,{"$f":"Fund!W4582","v":"00:00:00"},{"$f":"Fund!X4582","v":0},{"$f":"-Fund!V4582","v":0},{"$f":"Fund!V4582","v":0},{"$f":"Fund!P4582","v":""}]
[null,null,null,null,null,null,null,null,null,null,null,null,{"$f":"Fund!W4583","v":"00:00:00"},{"$f":"Fund!X4583","v":0},{"$f":"-Fund!V4583","v":0},{"$f":"Fund!V4583","v":0},{"$f":"Fund!P4583","v":""}]
[null,null,null,null,null,null,null,null,null,null,null,null,{"$f":"Fund!W4584","v":"00:00:00"},{"$f":"Fund!X4584","v":0},{"$f":"-Fund!V4584","v":0},{"$f":"Fund!V4584","v":0},{"$f":"Fund!P4584","v":""}]
[null,null,null,null,null,null,null,null,null,null,null,null,{"$f":"Fund!W4585","v":"00:00:00"},{"$f":"Fund!X4585","v":0},{"$f":"-Fund!V4585","v":0},{"$f":"Fund!V4585","v":0},{"$f":"Fund!P4585","v":""}]
[null,null,null,null,null,null,null,null,null,null,null,null,{"$f":"Fund!W4586","v":"00:00:00"},{"$f":"Fund!X4586","v":0},{"$f":"-Fund!V4586","v":0},{"$f":"Fund!V4586","v":0},{"$f":"Fund!P4586","v":""}]
[null,null,null,null,null,null,null,null,null,null,null,null,{"$f":"Fund!W4587","v":"00:00:00"},{"$f":"Fund!X4587","v":0},{"$f":"-Fund!V4587","v":0},{"$f":"Fund!V4587","v":0},{"$f":"Fund!P4587","v":""}]
[null,null,null,null,null,null,null,null,null,null,null,null,{"$f":"Fund!W4588","v":"00:00:00"},{"$f":"Fund!X4588","v":0},{"$f":"-Fund!V4588","v":0},{"$f":"Fund!V4588","v":0},{"$f":"Fund!P4588","v":""}]
[null,null,null,null,null,null,null,null,null,null,null,null,{"$f":"Fund!W4589","v":"00:00:00"},{"$f":"Fund!X4589","v":0},{"$f":"-Fund!V4589","v":0},{"$f":"Fund!V4589","v":0},{"$f":"Fund!P4589","v":""}]
[null,null,null,null,null,null,null,null,null,null,null,null,{"$f":"Fund!W4590","v":"00:00:00"},{"$f":"Fund!X4590","v":0},{"$f":"-Fund!V4590","v":0},{"$f":"Fund!V4590","v":0},{"$f":"Fund!P4590","v":""}]
[null,null,null,null,null,null,null,null,null,null,null,null,{"$f":"Fund!W4591","v":"00:00:00"},{"$f":"Fund!X4591","v":0},{"$f":"-Fund!V4591","v":0},{"$f":"Fund!V4591","v":0},{"$f":"Fund!P4591","v":""}]
[null,null,null,null,null,null,null,null,null,null,null,null,{"$f":"Fund!W4592","v":"00:00:00"},{"$f":"Fund!X4592","v":0},{"$f":"-Fund!V4592","v":0},{"$f":"Fund!V4592","v":0},{"$f":"Fund!P4592","v":""}]
[null,null,null,null,null,null,null,null,null,null,null,null,{"$f":"Fund!W4593","v":"00:00:00"},{"$f":"Fund!X4593","v":0},{"$f":"-Fund!V4593","v":0},{"$f":"Fund!V4593","v":0},{"$f":"Fund!P4593","v":""}]
[null,null,null,null,null,null,null,null,null,null,null,null,{"$f":"Fund!W4594","v":"00:00:00"},{"$f":"Fund!X4594","v":0},{"$f":"-Fund!V4594","v":0},{"$f":"Fund!V4594","v":0},{"$f":"Fund!P4594","v":""}]
[null,null,null,null,null,null,null,null,null,null,null,null,{"$f":"Fund!W4595","v":"00:00:00"},{"$f":"Fund!X4595","v":0},{"$f":"-Fund!V4595","v":0},{"$f":"Fund!V4595","v":0},{"$f":"Fund!P4595","v":""}]
[null,null,null,null,null,null,null,null,null,null,null,null,{"$f":"Fund!W4596","v":"00:00:00"},{"$f":"Fund!X4596","v":0},{"$f":"-Fund!V4596","v":0},{"$f":"Fund!V4596","v":0},{"$f":"Fund!P4596","v":""}]
[null,null,null,null,null,null,null,null,null,null,null,null,{"$f":"Fund!W4597","v":"00:00:00"},{"$f":"Fund!X4597","v":0},{"$f":"-Fund!V4597","v":0},{"$f":"Fund!V4597","v":0},{"$f":"Fund!P4597","v":""}]
[null,null,null,null,null,null,null,null,null,null,null,null,{"$f":"Fund!W4598","v":"00:00:00"},{"$f":"Fund!X4598","v":0},{"$f":"-Fund!V4598","v":0},{"$f":"Fund!V4598","v":0},{"$f":"Fund!P4598","v":""}]
[null,null,null,null,null,null,null,null,null,null,null,null,{"$f":"Fund!W4599","v":"00:00:00"},{"$f":"Fund!X4599","v":0},{"$f":"-Fund!V4599","v":0},{"$f":"Fund!V4599","v":0},{"$f":"Fund!P4599","v":""}]
[null,null,null,null,null,null,null,null,null,null,null,null,{"$f":"Fund!W4600","v":"00:00:00"},{"$f":"Fund!X4600","v":0},{"$f":"-Fund!V4600","v":0},{"$f":"Fund!V4600","v":0},{"$f":"Fund!P4600","v":""}]
[null,null,null,null,null,null,null,null,null,null,null,null,{"$f":"Fund!W4601","v":"00:00:00"},{"$f":"Fund!X4601","v":0},{"$f":"-Fund!V4601","v":0},{"$f":"Fund!V4601","v":0},{"$f":"Fund!P4601","v":""}]
[null,null,null,null,null,null,null,null,null,null,null,null,{"$f":"Fund!W4602","v":"00:00:00"},{"$f":"Fund!X4602","v":0},{"$f":"-Fund!V4602","v":0},{"$f":"Fund!V4602","v":0},{"$f":"Fund!P4602","v":""}]
[null,null,null,null,null,null,null,null,null,null,null,null,{"$f":"Fund!W4603","v":"00:00:00"},{"$f":"Fund!X4603","v":0},{"$f":"-Fund!V4603","v":0},{"$f":"Fund!V4603","v":0},{"$f":"Fund!P4603","v":""}]
[null,null,null,null,null,null,null,null,null,null,null,null,{"$f":"Fund!W4604","v":"00:00:00"},{"$f":"Fund!X4604","v":0},{"$f":"-Fund!V4604","v":0},{"$f":"Fund!V4604","v":0},{"$f":"Fund!P4604","v":""}]
[null,null,null,null,null,null,null,null,null,null,null,null,{"$f":"Fund!W4605","v":"00:00:00"},{"$f":"Fund!X4605","v":0},{"$f":"-Fund!V4605","v":0},{"$f":"Fund!V4605","v":0},{"$f":"Fund!P4605","v":""}]
[null,null,null,null,null,null,null,null,null,null,null,null,{"$f":"Fund!W4606","v":"00:00:00"},{"$f":"Fund!X4606","v":0},{"$f":"-Fund!V4606","v":0},{"$f":"Fund!V4606","v":0},{"$f":"Fund!P4606","v":""}]
[null,null,null,null,null,null,null,null,null,null,null,null,{"$f":"Fund!W4607","v":"00:00:00"},{"$f":"Fund!X4607","v":0},{"$f":"-Fund!V4607","v":0},{"$f":"Fund!V4607","v":0},{"$f":"Fund!P4607","v":""}]
[null,null,null,null,null,null,null,null,null,null,null,null,{"$f":"Fund!W4608","v":"00:00:00"},{"$f":"Fund!X4608","v":0},{"$f":"-Fund!V4608","v":0},{"$f":"Fund!V4608","v":0},{"$f":"Fund!P4608","v":""}]
[null,null,null,null,null,null,null,null,null,null,null,null,{"$f":"Fund!W4609","v":"00:00:00"},{"$f":"Fund!X4609","v":0},{"$f":"-Fund!V4609","v":0},{"$f":"Fund!V4609","v":0},{"$f":"Fund!P4609","v":""}]
[null,null,null,null,null,null,null,null,null,null,null,null,{"$f":"Fund!W4610","v":"00:00:00"},{"$f":"Fund!X4610","v":0},{"$f":"-Fund!V4610","v":0},{"$f":"Fund!V4610","v":0},{"$f":"Fund!P4610","v":""}]
[null,null,null,null,null,null,null,null,null,null,null,null,{"$f":"Fund!W4611","v":"00:00:00"},{"$f":"Fund!X4611","v":0},{"$f":"-Fund!V4611","v":0},{"$f":"Fund!V4611","v":0},{"$f":"Fund!P4611","v":""}]
[null,null,null,null,null,null,null,null,null,null,null,null,{"$f":"Fund!W4612","v":"00:00:00"},{"$f":"Fund!X4612","v":0},{"$f":"-Fund!V4612","v":0},{"$f":"Fund!V4612","v":0},{"$f":"Fund!P4612","v":""}]
[null,null,null,null,null,null,null,null,null,null,null,null,{"$f":"Fund!W4613","v":"00:00:00"},{"$f":"Fund!X4613","v":0},{"$f":"-Fund!V4613","v":0},{"$f":"Fund!V4613","v":0},{"$f":"Fund!P4613","v":""}]
[null,null,null,null,null,null,null,null,null,null,null,null,{"$f":"Fund!W4614","v":"00:00:00"},{"$f":"Fund!X4614","v":0},{"$f":"-Fund!V4614","v":0},{"$f":"Fund!V4614","v":0},{"$f":"Fund!P4614","v":""}]
[null,null,null,null,null,null,null,null,null,null,null,null,{"$f":"Fund!W4615","v":"00:00:00"},{"$f":"Fund!X4615","v":0},{"$f":"-Fund!V4615","v":0},{"$f":"Fund!V4615","v":0},{"$f":"Fund!P4615","v":""}]
[null,null,null,null,null,null,null,null,null,null,null,null,{"$f":"Fund!W4616","v":"00:00:00"},{"$f":"Fund!X4616","v":0},{"$f":"-Fund!V4616","v":0},{"$f":"Fund!V4616","v":0},{"$f":"Fund!P4616","v":""}]
[null,null,null,null,null,null,null,null,null,null,null,null,{"$f":"Fund!W4617","v":"00:00:00"},{"$f":"Fund!X4617","v":0},{"$f":"-Fund!V4617","v":0},{"$f":"Fund!V4617","v":0},{"$f":"Fund!P4617","v":""}]
[null,null,null,null,null,null,null,null,null,null,null,null,{"$f":"Fund!W4618","v":"00:00:00"},{"$f":"Fund!X4618","v":0},{"$f":"-Fund!V4618","v":0},{"$f":"Fund!V4618","v":0},{"$f":"Fund!P4618","v":""}]
[null,null,null,null,null,null,null,null,null,null,null,null,{"$f":"Fund!W4619","v":"00:00:00"},{"$f":"Fund!X4619","v":0},{"$f":"-Fund!V4619","v":0},{"$f":"Fund!V4619","v":0},{"$f":"Fund!P4619","v":""}]
[null,null,null,null,null,null,null,null,null,null,null,null,{"$f":"Fund!W4620","v":"00:00:00"},{"$f":"Fund!X4620","v":0},{"$f":"-Fund!V4620","v":0},{"$f":"Fund!V4620","v":0},{"$f":"Fund!P4620","v":""}]
[null,null,null,null,null,null,null,null,null,null,null,null,{"$f":"Fund!W4621","v":"00:00:00"},{"$f":"Fund!X4621","v":0},{"$f":"-Fund!V4621","v":0},{"$f":"Fund!V4621","v":0},{"$f":"Fund!P4621","v":""}]
[null,null,null,null,null,null,null,null,null,null,null,null,{"$f":"Fund!W4622","v":"00:00:00"},{"$f":"Fund!X4622","v":0},{"$f":"-Fund!V4622","v":0},{"$f":"Fund!V4622","v":0},{"$f":"Fund!P4622","v":""}]
[null,null,null,null,null,null,null,null,null,null,null,null,{"$f":"Fund!W4623","v":"00:00:00"},{"$f":"Fund!X4623","v":0},{"$f":"-Fund!V4623","v":0},{"$f":"Fund!V4623","v":0},{"$f":"Fund!P4623","v":""}]
[null,null,null,null,null,null,null,null,null,null,null,null,{"$f":"Fund!W4624","v":"00:00:00"},{"$f":"Fund!X4624","v":0},{"$f":"-Fund!V4624","v":0},{"$f":"Fund!V4624","v":0},{"$f":"Fund!P4624","v":""}]
[null,null,null,null,null,null,null,null,null,null,null,null,{"$f":"Fund!W4625","v":"00:00:00"},{"$f":"Fund!X4625","v":0},{"$f":"-Fund!V4625","v":0},{"$f":"Fund!V4625","v":0},{"$f":"Fund!P4625","v":""}]
[null,null,null,null,null,null,null,null,null,null,null,null,{"$f":"Fund!W4626","v":"00:00:00"},{"$f":"Fund!X4626","v":0},{"$f":"-Fund!V4626","v":0},{"$f":"Fund!V4626","v":0},{"$f":"Fund!P4626","v":""}]
[null,null,null,null,null,null,null,null,null,null,null,null,{"$f":"Fund!W4627","v":"00:00:00"},{"$f":"Fund!X4627","v":0},{"$f":"-Fund!V4627","v":0},{"$f":"Fund!V4627","v":0},{"$f":"Fund!P4627","v":""}]
[null,null,null,null,null,null,null,null,null,null,null,null,{"$f":"Fund!W4628","v":"00:00:00"},{"$f":"Fund!X4628","v":0},{"$f":"-Fund!V4628","v":0},{"$f":"Fund!V4628","v":0},{"$f":"Fund!P4628","v":""}]
[null,null,null,null,null,null,null,null,null,null,null,null,{"$f":"Fund!W4629","v":"00:00:00"},{"$f":"Fund!X4629","v":0},{"$f":"-Fund!V4629","v":0},{"$f":"Fund!V4629","v":0},{"$f":"Fund!P4629","v":""}]
[null,null,null,null,null,null,null,null,null,null,null,null,{"$f":"Fund!W4630","v":"00:00:00"},{"$f":"Fund!X4630","v":0},{"$f":"-Fund!V4630","v":0},{"$f":"Fund!V4630","v":0},{"$f":"Fund!P4630","v":""}]
[null,null,null,null,null,null,null,null,null,null,null,null,{"$f":"Fund!W4631","v":"00:00:00"},{"$f":"Fund!X4631","v":0},{"$f":"-Fund!V4631","v":0},{"$f":"Fund!V4631","v":0},{"$f":"Fund!P4631","v":""}]
[null,null,null,null,null,null,null,null,null,null,null,null,{"$f":"Fund!W4632","v":"00:00:00"},{"$f":"Fund!X4632","v":0},{"$f":"-Fund!V4632","v":0},{"$f":"Fund!V4632","v":0},{"$f":"Fund!P4632","v":""}]
[null,null,null,null,null,null,null,null,null,null,null,null,{"$f":"Fund!W4633","v":"00:00:00"},{"$f":"Fund!X4633","v":0},{"$f":"-Fund!V4633","v":0},{"$f":"Fund!V4633","v":0},{"$f":"Fund!P4633","v":""}]
[null,null,null,null,null,null,null,null,null,null,null,null,{"$f":"Fund!W4634","v":"00:00:00"},{"$f":"Fund!X4634","v":0},{"$f":"-Fund!V4634","v":0},{"$f":"Fund!V4634","v":0},{"$f":"Fund!P4634","v":""}]
[null,null,null,null,null,null,null,null,null,null,null,null,{"$f":"Fund!W4635","v":"00:00:00"},{"$f":"Fund!X4635","v":0},{"$f":"-Fund!V4635","v":0},{"$f":"Fund!V4635","v":0},{"$f":"Fund!P4635","v":""}]
[null,null,null,null,null,null,null,null,null,null,null,null,{"$f":"Fund!W4636","v":"00:00:00"},{"$f":"Fund!X4636","v":0},{"$f":"-Fund!V4636","v":0},{"$f":"Fund!V4636","v":0},{"$f":"Fund!P4636","v":""}]
[null,null,null,null,null,null,null,null,null,null,null,null,{"$f":"Fund!W4637","v":"00:00:00"},{"$f":"Fund!X4637","v":0},{"$f":"-Fund!V4637","v":0},{"$f":"Fund!V4637","v":0},{"$f":"Fund!P4637","v":""}]
[null,null,null,null,null,null,null,null,null,null,null,null,{"$f":"Fund!W4638","v":"00:00:00"},{"$f":"Fund!X4638","v":0},{"$f":"-Fund!V4638","v":0},{"$f":"Fund!V4638","v":0},{"$f":"Fund!P4638","v":""}]
[null,null,null,null,null,null,null,null,null,null,null,null,{"$f":"Fund!W4639","v":"00:00:00"},{"$f":"Fund!X4639","v":0},{"$f":"-Fund!V4639","v":0},{"$f":"Fund!V4639","v":0},{"$f":"Fund!P4639","v":""}]
[null,null,null,null,null,null,null,null,null,null,null,null,{"$f":"Fund!W4640","v":"00:00:00"},{"$f":"Fund!X4640","v":0},{"$f":"-Fund!V4640","v":0},{"$f":"Fund!V4640","v":0},{"$f":"Fund!P4640","v":""}]
[null,null,null,null,null,null,null,null,null,null,null,null,{"$f":"Fund!W4641","v":"00:00:00"},{"$f":"Fund!X4641","v":0},{"$f":"-Fund!V4641","v":0},{"$f":"Fund!V4641","v":0},{"$f":"Fund!P4641","v":""}]
[null,null,null,null,null,null,null,null,null,null,null,null,{"$f":"Fund!W4642","v":"00:00:00"},{"$f":"Fund!X4642","v":0},{"$f":"-Fund!V4642","v":0},{"$f":"Fund!V4642","v":0},{"$f":"Fund!P4642","v":""}]
[null,null,null,null,null,null,null,null,null,null,null,null,{"$f":"Fund!W4643","v":"00:00:00"},{"$f":"Fund!X4643","v":0},{"$f":"-Fund!V4643","v":0},{"$f":"Fund!V4643","v":0},{"$f":"Fund!P4643","v":""}]
[null,null,null,null,null,null,null,null,null,null,null,null,{"$f":"Fund!W4644","v":"00:00:00"},{"$f":"Fund!X4644","v":0},{"$f":"-Fund!V4644","v":0},{"$f":"Fund!V4644","v":0},{"$f":"Fund!P4644","v":""}]
[null,null,null,null,null,null,null,null,null,null,null,null,{"$f":"Fund!W4645","v":"00:00:00"},{"$f":"Fund!X4645","v":0},{"$f":"-Fund!V4645","v":0},{"$f":"Fund!V4645","v":0},{"$f":"Fund!P4645","v":""}]
[null,null,null,null,null,null,null,null,null,null,null,null,{"$f":"Fund!W4646","v":"00:00:00"},{"$f":"Fund!X4646","v":0},{"$f":"-Fund!V4646","v":0},{"$f":"Fund!V4646","v":0},{"$f":"Fund!P4646","v":""}]
[null,null,null,null,null,null,null,null,null,null,null,null,{"$f":"Fund!W4647","v":"00:00:00"},{"$f":"Fund!X4647","v":0},{"$f":"-Fund!V4647","v":0},{"$f":"Fund!V4647","v":0},{"$f":"Fund!P4647","v":""}]
[null,null,null,null,null,null,null,null,null,null,null,null,{"$f":"Fund!W4648","v":"00:00:00"},{"$f":"Fund!X4648","v":0},{"$f":"-Fund!V4648","v":0},{"$f":"Fund!V4648","v":0},{"$f":"Fund!P4648","v":""}]
[null,null,null,null,null,null,null,null,null,null,null,null,{"$f":"Fund!W4649","v":"00:00:00"},{"$f":"Fund!X4649","v":0},{"$f":"-Fund!V4649","v":0},{"$f":"Fund!V4649","v":0},{"$f":"Fund!P4649","v":""}]
[null,null,null,null,null,null,null,null,null,null,null,null,{"$f":"Fund!W4650","v":"00:00:00"},{"$f":"Fund!X4650","v":0},{"$f":"-Fund!V4650","v":0},{"$f":"Fund!V4650","v":0},{"$f":"Fund!P4650","v":""}]
[null,null,null,null,null,null,null,null,null,null,null,null,{"$f":"Fund!W4651","v":"00:00:00"},{"$f":"Fund!X4651","v":0},{"$f":"-Fund!V4651","v":0},{"$f":"Fund!V4651","v":0},{"$f":"Fund!P4651","v":""}]
[null,null,null,null,null,null,null,null,null,null,null,null,{"$f":"Fund!W4652","v":"00:00:00"},{"$f":"Fund!X4652","v":0},{"$f":"-Fund!V4652","v":0},{"$f":"Fund!V4652","v":0},{"$f":"Fund!P4652","v":""}]
[null,null,null,null,null,null,null,null,null,null,null,null,{"$f":"Fund!W4653","v":"00:00:00"},{"$f":"Fund!X4653","v":0},{"$f":"-Fund!V4653","v":0},{"$f":"Fund!V4653","v":0},{"$f":"Fund!P4653","v":""}]
[null,null,null,null,null,null,null,null,null,null,null,null,{"$f":"Fund!W4654","v":"00:00:00"},{"$f":"Fund!X4654","v":0},{"$f":"-Fund!V4654","v":0},{"$f":"Fund!V4654","v":0},{"$f":"Fund!P4654","v":""}]
[null,null,null,null,null,null,null,null,null,null,null,null,{"$f":"Fund!W4655","v":"00:00:00"},{"$f":"Fund!X4655","v":0},{"$f":"-Fund!V4655","v":0},{"$f":"Fund!V4655","v":0},{"$f":"Fund!P4655","v":""}]
[null,null,null,null,null,null,null,null,null,null,null,null,{"$f":"Fund!W4656","v":"00:00:00"},{"$f":"Fund!X4656","v":0},{"$f":"-Fund!V4656","v":0},{"$f":"Fund!V4656","v":0},{"$f":"Fund!P4656","v":""}]
[null,null,null,null,null,null,null,null,null,null,null,null,{"$f":"Fund!W4657","v":"00:00:00"},{"$f":"Fund!X4657","v":0},{"$f":"-Fund!V4657","v":0},{"$f":"Fund!V4657","v":0},{"$f":"Fund!P4657","v":""}]
[null,null,null,null,null,null,null,null,null,null,null,null,{"$f":"Fund!W4658","v":"00:00:00"},{"$f":"Fund!X4658","v":0},{"$f":"-Fund!V4658","v":0},{"$f":"Fund!V4658","v":0},{"$f":"Fund!P4658","v":""}]
[null,null,null,null,null,null,null,null,null,null,null,null,{"$f":"Fund!W4659","v":"00:00:00"},{"$f":"Fund!X4659","v":0},{"$f":"-Fund!V4659","v":0},{"$f":"Fund!V4659","v":0},{"$f":"Fund!P4659","v":""}]
[null,null,null,null,null,null,null,null,null,null,null,null,{"$f":"Fund!W4660","v":"00:00:00"},{"$f":"Fund!X4660","v":0},{"$f":"-Fund!V4660","v":0},{"$f":"Fund!V4660","v":0},{"$f":"Fund!P4660","v":""}]
[null,null,null,null,null,null,null,null,null,null,null,null,{"$f":"Fund!W4661","v":"00:00:00"},{"$f":"Fund!X4661","v":0},{"$f":"-Fund!V4661","v":0},{"$f":"Fund!V4661","v":0},{"$f":"Fund!P4661","v":""}]
[null,null,null,null,null,null,null,null,null,null,null,null,{"$f":"Fund!W4662","v":"00:00:00"},{"$f":"Fund!X4662","v":0},{"$f":"-Fund!V4662","v":0},{"$f":"Fund!V4662","v":0},{"$f":"Fund!P4662","v":""}]
[null,null,null,null,null,null,null,null,null,null,null,null,{"$f":"Fund!W4663","v":"00:00:00"},{"$f":"Fund!X4663","v":0},{"$f":"-Fund!V4663","v":0},{"$f":"Fund!V4663","v":0},{"$f":"Fund!P4663","v":""}]
[null,null,null,null,null,null,null,null,null,null,null,null,{"$f":"Fund!W4664","v":"00:00:00"},{"$f":"Fund!X4664","v":0},{"$f":"-Fund!V4664","v":0},{"$f":"Fund!V4664","v":0},{"$f":"Fund!P4664","v":""}]
[null,null,null,null,null,null,null,null,null,null,null,null,{"$f":"Fund!W4665","v":"00:00:00"},{"$f":"Fund!X4665","v":0},{"$f":"-Fund!V4665","v":0},{"$f":"Fund!V4665","v":0},{"$f":"Fund!P4665","v":""}]
[null,null,null,null,null,null,null,null,null,null,null,null,{"$f":"Fund!W4666","v":"00:00:00"},{"$f":"Fund!X4666","v":0},{"$f":"-Fund!V4666","v":0},{"$f":"Fund!V4666","v":0},{"$f":"Fund!P4666","v":""}]
[null,null,null,null,null,null,null,null,null,null,null,null,{"$f":"Fund!W4667","v":"00:00:00"},{"$f":"Fund!X4667","v":0},{"$f":"-Fund!V4667","v":0},{"$f":"Fund!V4667","v":0},{"$f":"Fund!P4667","v":""}]
[null,null,null,null,null,null,null,null,null,null,null,null,{"$f":"Fund!W4668","v":"00:00:00"},{"$f":"Fund!X4668","v":0},{"$f":"-Fund!V4668","v":0},{"$f":"Fund!V4668","v":0},{"$f":"Fund!P4668","v":""}]
[null,null,null,null,null,null,null,null,null,null,null,null,{"$f":"Fund!W4669","v":"00:00:00"},{"$f":"Fund!X4669","v":0},{"$f":"-Fund!V4669","v":0},{"$f":"Fund!V4669","v":0},{"$f":"Fund!P4669","v":""}]
[null,null,null,null,null,null,null,null,null,null,null,null,{"$f":"Fund!W4670","v":"00:00:00"},{"$f":"Fund!X4670","v":0},{"$f":"-Fund!V4670","v":0},{"$f":"Fund!V4670","v":0},{"$f":"Fund!P4670","v":""}]
[null,null,null,null,null,null,null,null,null,null,null,null,{"$f":"Fund!W4671","v":"00:00:00"},{"$f":"Fund!X4671","v":0},{"$f":"-Fund!V4671","v":0},{"$f":"Fund!V4671","v":0},{"$f":"Fund!P4671","v":""}]
[null,null,null,null,null,null,null,null,null,null,null,null,{"$f":"Fund!W4672","v":"00:00:00"},{"$f":"Fund!X4672","v":0},{"$f":"-Fund!V4672","v":0},{"$f":"Fund!V4672","v":0},{"$f":"Fund!P4672","v":""}]
[null,null,null,null,null,null,null,null,null,null,null,null,{"$f":"Fund!W4673","v":"00:00:00"},{"$f":"Fund!X4673","v":0},{"$f":"-Fund!V4673","v":0},{"$f":"Fund!V4673","v":0},{"$f":"Fund!P4673","v":""}]
[null,null,null,null,null,null,null,null,null,null,null,null,{"$f":"Fund!W4674","v":"00:00:00"},{"$f":"Fund!X4674","v":0},{"$f":"-Fund!V4674","v":0},{"$f":"Fund!V4674","v":0},{"$f":"Fund!P4674","v":""}]
[null,null,null,null,null,null,null,null,null,null,null,null,{"$f":"Fund!W4675","v":"00:00:00"},{"$f":"Fund!X4675","v":0},{"$f":"-Fund!V4675","v":0},{"$f":"Fund!V4675","v":0},{"$f":"Fund!P4675","v":""}]
[null,null,null,null,null,null,null,null,null,null,null,null,{"$f":"Fund!W4676","v":"00:00:00"},{"$f":"Fund!X4676","v":0},{"$f":"-Fund!V4676","v":0},{"$f":"Fund!V4676","v":0},{"$f":"Fund!P4676","v":""}]
[null,null,null,null,null,null,null,null,null,null,null,null,{"$f":"Fund!W4677","v":"00:00:00"},{"$f":"Fund!X4677","v":0},{"$f":"-Fund!V4677","v":0},{"$f":"Fund!V4677","v":0},{"$f":"Fund!P4677","v":""}]
[null,null,null,null,null,null,null,null,null,null,null,null,{"$f":"Fund!W4678","v":"00:00:00"},{"$f":"Fund!X4678","v":0},{"$f":"-Fund!V4678","v":0},{"$f":"Fund!V4678","v":0},{"$f":"Fund!P4678","v":""}]
[null,null,null,null,null,null,null,null,null,null,null,null,{"$f":"Fund!W4679","v":"00:00:00"},{"$f":"Fund!X4679","v":0},{"$f":"-Fund!V4679","v":0},{"$f":"Fund!V4679","v":0},{"$f":"Fund!P4679","v":""}]
[null,null,null,null,null,null,null,null,null,null,null,null,{"$f":"Fund!W4680","v":"00:00:00"},{"$f":"Fund!X4680","v":0},{"$f":"-Fund!V4680","v":0},{"$f":"Fund!V4680","v":0},{"$f":"Fund!P4680","v":""}]
[null,null,null,null,null,null,null,null,null,null,null,null,{"$f":"Fund!W4681","v":"00:00:00"},{"$f":"Fund!X4681","v":0},{"$f":"-Fund!V4681","v":0},{"$f":"Fund!V4681","v":0},{"$f":"Fund!P4681","v":""}]
[null,null,null,null,null,null,null,null,null,null,null,null,{"$f":"Fund!W4682","v":"00:00:00"},{"$f":"Fund!X4682","v":0},{"$f":"-Fund!V4682","v":0},{"$f":"Fund!V4682","v":0},{"$f":"Fund!P4682","v":""}]
[null,null,null,null,null,null,null,null,null,null,null,null,{"$f":"Fund!W4683","v":"00:00:00"},{"$f":"Fund!X4683","v":0},{"$f":"-Fund!V4683","v":0},{"$f":"Fund!V4683","v":0},{"$f":"Fund!P4683","v":""}]
[null,null,null,null,null,null,null,null,null,null,null,null,{"$f":"Fund!W4684","v":"00:00:00"},{"$f":"Fund!X4684","v":0},{"$f":"-Fund!V4684","v":0},{"$f":"Fund!V4684","v":0},{"$f":"Fund!P4684","v":""}]
[null,null,null,null,null,null,null,null,null,null,null,null,{"$f":"Fund!W4685","v":"00:00:00"},{"$f":"Fund!X4685","v":0},{"$f":"-Fund!V4685","v":0},{"$f":"Fund!V4685","v":0},{"$f":"Fund!P4685","v":""}]
[null,null,null,null,null,null,null,null,null,null,null,null,{"$f":"Fund!W4686","v":"00:00:00"},{"$f":"Fund!X4686","v":0},{"$f":"-Fund!V4686","v":0},{"$f":"Fund!V4686","v":0},{"$f":"Fund!P4686","v":""}]
[null,null,null,null,null,null,null,null,null,null,null,null,{"$f":"Fund!W4687","v":"00:00:00"},{"$f":"Fund!X4687","v":0},{"$f":"-Fund!V4687","v":0},{"$f":"Fund!V4687","v":0},{"$f":"Fund!P4687","v":""}]
[null,null,null,null,null,null,null,null,null,null,null,null,{"$f":"Fund!W4688","v":"00:00:00"},{"$f":"Fund!X4688","v":0},{"$f":"-Fund!V4688","v":0},{"$f":"Fund!V4688","v":0},{"$f":"Fund!P4688","v":""}]
[null,null,null,null,null,null,null,null,null,null,null,null,{"$f":"Fund!W4689","v":"00:00:00"},{"$f":"Fund!X4689","v":0},{"$f":"-Fund!V4689","v":0},{"$f":"Fund!V4689","v":0},{"$f":"Fund!P4689","v":""}]
[null,null,null,null,null,null,null,null,null,null,null,null,{"$f":"Fund!W4690","v":"00:00:00"},{"$f":"Fund!X4690","v":0},{"$f":"-Fund!V4690","v":0},{"$f":"Fund!V4690","v":0},{"$f":"Fund!P4690","v":""}]
[null,null,null,null,null,null,null,null,null,null,null,null,{"$f":"Fund!W4691","v":"00:00:00"},{"$f":"Fund!X4691","v":0},{"$f":"-Fund!V4691","v":0},{"$f":"Fund!V4691","v":0},{"$f":"Fund!P4691","v":""}]
[null,null,null,null,null,null,null,null,null,null,null,null,{"$f":"Fund!W4692","v":"00:00:00"},{"$f":"Fund!X4692","v":0},{"$f":"-Fund!V4692","v":0},{"$f":"Fund!V4692","v":0},{"$f":"Fund!P4692","v":""}]
[null,null,null,null,null,null,null,null,null,null,null,null,{"$f":"Fund!W4693","v":"00:00:00"},{"$f":"Fund!X4693","v":0},{"$f":"-Fund!V4693","v":0},{"$f":"Fund!V4693","v":0},{"$f":"Fund!P4693","v":""}]
[null,null,null,null,null,null,null,null,null,null,null,null,{"$f":"Fund!W4694","v":"00:00:00"},{"$f":"Fund!X4694","v":0},{"$f":"-Fund!V4694","v":0},{"$f":"Fund!V4694","v":0},{"$f":"Fund!P4694","v":""}]
[null,null,null,null,null,null,null,null,null,null,null,null,{"$f":"Fund!W4695","v":"00:00:00"},{"$f":"Fund!X4695","v":0},{"$f":"-Fund!V4695","v":0},{"$f":"Fund!V4695","v":0},{"$f":"Fund!P4695","v":""}]
[null,null,null,null,null,null,null,null,null,null,null,null,{"$f":"Fund!W4696","v":"00:00:00"},{"$f":"Fund!X4696","v":0},{"$f":"-Fund!V4696","v":0},{"$f":"Fund!V4696","v":0},{"$f":"Fund!P4696","v":""}]
[null,null,null,null,null,null,null,null,null,null,null,null,{"$f":"Fund!W4697","v":"00:00:00"},{"$f":"Fund!X4697","v":0},{"$f":"-Fund!V4697","v":0},{"$f":"Fund!V4697","v":0},{"$f":"Fund!P4697","v":""}]
[null,null,null,null,null,null,null,null,null,null,null,null,{"$f":"Fund!W4698","v":"00:00:00"},{"$f":"Fund!X4698","v":0},{"$f":"-Fund!V4698","v":0},{"$f":"Fund!V4698","v":0},{"$f":"Fund!P4698","v":""}]
[null,null,null,null,null,null,null,null,null,null,null,null,{"$f":"Fund!W4699","v":"00:00:00"},{"$f":"Fund!X4699","v":0},{"$f":"-Fund!V4699","v":0},{"$f":"Fund!V4699","v":0},{"$f":"Fund!P4699","v":""}]
[null,null,null,null,null,null,null,null,null,null,null,null,{"$f":"Fund!W4700","v":"00:00:00"},{"$f":"Fund!X4700","v":0},{"$f":"-Fund!V4700","v":0},{"$f":"Fund!V4700","v":0},{"$f":"Fund!P4700","v":""}]
[null,null,null,null,null,null,null,null,null,null,null,null,{"$f":"Fund!W4701","v":"00:00:00"},{"$f":"Fund!X4701","v":0},{"$f":"-Fund!V4701","v":0},{"$f":"Fund!V4701","v":0},{"$f":"Fund!P4701","v":""}]
[null,null,null,null,null,null,null,null,null,null,null,null,{"$f":"Fund!W4702","v":"00:00:00"},{"$f":"Fund!X4702","v":0},{"$f":"-Fund!V4702","v":0},{"$f":"Fund!V4702","v":0},{"$f":"Fund!P4702","v":""}]
[null,null,null,null,null,null,null,null,null,null,null,null,{"$f":"Fund!W4703","v":"00:00:00"},{"$f":"Fund!X4703","v":0},{"$f":"-Fund!V4703","v":0},{"$f":"Fund!V4703","v":0},{"$f":"Fund!P4703","v":""}]
[null,null,null,null,null,null,null,null,null,null,null,null,{"$f":"Fund!W4704","v":"00:00:00"},{"$f":"Fund!X4704","v":0},{"$f":"-Fund!V4704","v":0},{"$f":"Fund!V4704","v":0},{"$f":"Fund!P4704","v":""}]
[null,null,null,null,null,null,null,null,null,null,null,null,{"$f":"Fund!W4705","v":"00:00:00"},{"$f":"Fund!X4705","v":0},{"$f":"-Fund!V4705","v":0},{"$f":"Fund!V4705","v":0},{"$f":"Fund!P4705","v":""}]
[null,null,null,null,null,null,null,null,null,null,null,null,{"$f":"Fund!W4706","v":"00:00:00"},{"$f":"Fund!X4706","v":0},{"$f":"-Fund!V4706","v":0},{"$f":"Fund!V4706","v":0},{"$f":"Fund!P4706","v":""}]
[null,null,null,null,null,null,null,null,null,null,null,null,{"$f":"Fund!W4707","v":"00:00:00"},{"$f":"Fund!X4707","v":0},{"$f":"-Fund!V4707","v":0},{"$f":"Fund!V4707","v":0},{"$f":"Fund!P4707","v":""}]
[null,null,null,null,null,null,null,null,null,null,null,null,{"$f":"Fund!W4708","v":"00:00:00"},{"$f":"Fund!X4708","v":0},{"$f":"-Fund!V4708","v":0},{"$f":"Fund!V4708","v":0},{"$f":"Fund!P4708","v":""}]
[null,null,null,null,null,null,null,null,null,null,null,null,{"$f":"Fund!W4709","v":"00:00:00"},{"$f":"Fund!X4709","v":0},{"$f":"-Fund!V4709","v":0},{"$f":"Fund!V4709","v":0},{"$f":"Fund!P4709","v":""}]
[null,null,null,null,null,null,null,null,null,null,null,null,{"$f":"Fund!W4710","v":"00:00:00"},{"$f":"Fund!X4710","v":0},{"$f":"-Fund!V4710","v":0},{"$f":"Fund!V4710","v":0},{"$f":"Fund!P4710","v":""}]
[null,null,null,null,null,null,null,null,null,null,null,null,{"$f":"Fund!W4711","v":"00:00:00"},{"$f":"Fund!X4711","v":0},{"$f":"-Fund!V4711","v":0},{"$f":"Fund!V4711","v":0},{"$f":"Fund!P4711","v":""}]
[null,null,null,null,null,null,null,null,null,null,null,null,{"$f":"Fund!W4712","v":"00:00:00"},{"$f":"Fund!X4712","v":0},{"$f":"-Fund!V4712","v":0},{"$f":"Fund!V4712","v":0},{"$f":"Fund!P4712","v":""}]
[null,null,null,null,null,null,null,null,null,null,null,null,{"$f":"Fund!W4713","v":"00:00:00"},{"$f":"Fund!X4713","v":0},{"$f":"-Fund!V4713","v":0},{"$f":"Fund!V4713","v":0},{"$f":"Fund!P4713","v":""}]
[null,null,null,null,null,null,null,null,null,null,null,null,{"$f":"Fund!W4714","v":"00:00:00"},{"$f":"Fund!X4714","v":0},{"$f":"-Fund!V4714","v":0},{"$f":"Fund!V4714","v":0},{"$f":"Fund!P4714","v":""}]
[null,null,null,null,null,null,null,null,null,null,null,null,{"$f":"Fund!W4715","v":"00:00:00"},{"$f":"Fund!X4715","v":0},{"$f":"-Fund!V4715","v":0},{"$f":"Fund!V4715","v":0},{"$f":"Fund!P4715","v":""}]
[null,null,null,null,null,null,null,null,null,null,null,null,{"$f":"Fund!W4716","v":"00:00:00"},{"$f":"Fund!X4716","v":0},{"$f":"-Fund!V4716","v":0},{"$f":"Fund!V4716","v":0},{"$f":"Fund!P4716","v":""}]
[null,null,null,null,null,null,null,null,null,null,null,null,{"$f":"Fund!W4717","v":"00:00:00"},{"$f":"Fund!X4717","v":0},{"$f":"-Fund!V4717","v":0},{"$f":"Fund!V4717","v":0},{"$f":"Fund!P4717","v":""}]
[null,null,null,null,null,null,null,null,null,null,null,null,{"$f":"Fund!W4718","v":"00:00:00"},{"$f":"Fund!X4718","v":0},{"$f":"-Fund!V4718","v":0},{"$f":"Fund!V4718","v":0},{"$f":"Fund!P4718","v":""}]
[null,null,null,null,null,null,null,null,null,null,null,null,{"$f":"Fund!W4719","v":"00:00:00"},{"$f":"Fund!X4719","v":0},{"$f":"-Fund!V4719","v":0},{"$f":"Fund!V4719","v":0},{"$f":"Fund!P4719","v":""}]
[null,null,null,null,null,null,null,null,null,null,null,null,{"$f":"Fund!W4720","v":"00:00:00"},{"$f":"Fund!X4720","v":0},{"$f":"-Fund!V4720","v":0},{"$f":"Fund!V4720","v":0},{"$f":"Fund!P4720","v":""}]
[null,null,null,null,null,null,null,null,null,null,null,null,{"$f":"Fund!W4721","v":"00:00:00"},{"$f":"Fund!X4721","v":0},{"$f":"-Fund!V4721","v":0},{"$f":"Fund!V4721","v":0},{"$f":"Fund!P4721","v":""}]
[null,null,null,null,null,null,null,null,null,null,null,null,{"$f":"Fund!W4722","v":"00:00:00"},{"$f":"Fund!X4722","v":0},{"$f":"-Fund!V4722","v":0},{"$f":"Fund!V4722","v":0},{"$f":"Fund!P4722","v":""}]
[null,null,null,null,null,null,null,null,null,null,null,null,{"$f":"Fund!W4723","v":"00:00:00"},{"$f":"Fund!X4723","v":0},{"$f":"-Fund!V4723","v":0},{"$f":"Fund!V4723","v":0},{"$f":"Fund!P4723","v":""}]
[null,null,null,null,null,null,null,null,null,null,null,null,{"$f":"Fund!W4724","v":"00:00:00"},{"$f":"Fund!X4724","v":0},{"$f":"-Fund!V4724","v":0},{"$f":"Fund!V4724","v":0},{"$f":"Fund!P4724","v":""}]
[null,null,null,null,null,null,null,null,null,null,null,null,{"$f":"Fund!W4725","v":"00:00:00"},{"$f":"Fund!X4725","v":0},{"$f":"-Fund!V4725","v":0},{"$f":"Fund!V4725","v":0},{"$f":"Fund!P4725","v":""}]
[null,null,null,null,null,null,null,null,null,null,null,null,{"$f":"Fund!W4726","v":"00:00:00"},{"$f":"Fund!X4726","v":0},{"$f":"-Fund!V4726","v":0},{"$f":"Fund!V4726","v":0},{"$f":"Fund!P4726","v":""}]
[null,null,null,null,null,null,null,null,null,null,null,null,{"$f":"Fund!W4727","v":"00:00:00"},{"$f":"Fund!X4727","v":0},{"$f":"-Fund!V4727","v":0},{"$f":"Fund!V4727","v":0},{"$f":"Fund!P4727","v":""}]
[null,null,null,null,null,null,null,null,null,null,null,null,{"$f":"Fund!W4728","v":"00:00:00"},{"$f":"Fund!X4728","v":0},{"$f":"-Fund!V4728","v":0},{"$f":"Fund!V4728","v":0},{"$f":"Fund!P4728","v":""}]
[null,null,null,null,null,null,null,null,null,null,null,null,{"$f":"Fund!W4729","v":"00:00:00"},{"$f":"Fund!X4729","v":0},{"$f":"-Fund!V4729","v":0},{"$f":"Fund!V4729","v":0},{"$f":"Fund!P4729","v":""}]
[null,null,null,null,null,null,null,null,null,null,null,null,{"$f":"Fund!W4730","v":"00:00:00"},{"$f":"Fund!X4730","v":0},{"$f":"-Fund!V4730","v":0},{"$f":"Fund!V4730","v":0},{"$f":"Fund!P4730","v":""}]
[null,null,null,null,null,null,null,null,null,null,null,null,{"$f":"Fund!W4731","v":"00:00:00"},{"$f":"Fund!X4731","v":0},{"$f":"-Fund!V4731","v":0},{"$f":"Fund!V4731","v":0},{"$f":"Fund!P4731","v":""}]
[null,null,null,null,null,null,null,null,null,null,null,null,{"$f":"Fund!W4732","v":"00:00:00"},{"$f":"Fund!X4732","v":0},{"$f":"-Fund!V4732","v":0},{"$f":"Fund!V4732","v":0},{"$f":"Fund!P4732","v":""}]
[null,null,null,null,null,null,null,null,null,null,null,null,{"$f":"Fund!W4733","v":"00:00:00"},{"$f":"Fund!X4733","v":0},{"$f":"-Fund!V4733","v":0},{"$f":"Fund!V4733","v":0},{"$f":"Fund!P4733","v":""}]
[null,null,null,null,null,null,null,null,null,null,null,null,{"$f":"Fund!W4734","v":"00:00:00"},{"$f":"Fund!X4734","v":0},{"$f":"-Fund!V4734","v":0},{"$f":"Fund!V4734","v":0},{"$f":"Fund!P4734","v":""}]
[null,null,null,null,null,null,null,null,null,null,null,null,{"$f":"Fund!W4735","v":"00:00:00"},{"$f":"Fund!X4735","v":0},{"$f":"-Fund!V4735","v":0},{"$f":"Fund!V4735","v":0},{"$f":"Fund!P4735","v":""}]
[null,null,null,null,null,null,null,null,null,null,null,null,{"$f":"Fund!W4736","v":"00:00:00"},{"$f":"Fund!X4736","v":0},{"$f":"-Fund!V4736","v":0},{"$f":"Fund!V4736","v":0},{"$f":"Fund!P4736","v":""}]
[null,null,null,null,null,null,null,null,null,null,null,null,{"$f":"Fund!W4737","v":"00:00:00"},{"$f":"Fund!X4737","v":0},{"$f":"-Fund!V4737","v":0},{"$f":"Fund!V4737","v":0},{"$f":"Fund!P4737","v":""}]
[null,null,null,null,null,null,null,null,null,null,null,null,{"$f":"Fund!W4738","v":"00:00:00"},{"$f":"Fund!X4738","v":0},{"$f":"-Fund!V4738","v":0},{"$f":"Fund!V4738","v":0},{"$f":"Fund!P4738","v":""}]
[null,null,null,null,null,null,null,null,null,null,null,null,{"$f":"Fund!W4739","v":"00:00:00"},{"$f":"Fund!X4739","v":0},{"$f":"-Fund!V4739","v":0},{"$f":"Fund!V4739","v":0},{"$f":"Fund!P4739","v":""}]
[null,null,null,null,null,null,null,null,null,null,null,null,{"$f":"Fund!W4740","v":"00:00:00"},{"$f":"Fund!X4740","v":0},{"$f":"-Fund!V4740","v":0},{"$f":"Fund!V4740","v":0},{"$f":"Fund!P4740","v":""}]
[null,null,null,null,null,null,null,null,null,null,null,null,{"$f":"Fund!W4741","v":"00:00:00"},{"$f":"Fund!X4741","v":0},{"$f":"-Fund!V4741","v":0},{"$f":"Fund!V4741","v":0},{"$f":"Fund!P4741","v":""}]
[null,null,null,null,null,null,null,null,null,null,null,null,{"$f":"Fund!W4742","v":"00:00:00"},{"$f":"Fund!X4742","v":0},{"$f":"-Fund!V4742","v":0},{"$f":"Fund!V4742","v":0},{"$f":"Fund!P4742","v":""}]
[null,null,null,null,null,null,null,null,null,null,null,null,{"$f":"Fund!W4743","v":"00:00:00"},{"$f":"Fund!X4743","v":0},{"$f":"-Fund!V4743","v":0},{"$f":"Fund!V4743","v":0},{"$f":"Fund!P4743","v":""}]
[null,null,null,null,null,null,null,null,null,null,null,null,{"$f":"Fund!W4744","v":"00:00:00"},{"$f":"Fund!X4744","v":0},{"$f":"-Fund!V4744","v":0},{"$f":"Fund!V4744","v":0},{"$f":"Fund!P4744","v":""}]
[null,null,null,null,null,null,null,null,null,null,null,null,{"$f":"Fund!W4745","v":"00:00:00"},{"$f":"Fund!X4745","v":0},{"$f":"-Fund!V4745","v":0},{"$f":"Fund!V4745","v":0},{"$f":"Fund!P4745","v":""}]
[null,null,null,null,null,null,null,null,null,null,null,null,{"$f":"Fund!W4746","v":"00:00:00"},{"$f":"Fund!X4746","v":0},{"$f":"-Fund!V4746","v":0},{"$f":"Fund!V4746","v":0},{"$f":"Fund!P4746","v":""}]
[null,null,null,null,null,null,null,null,null,null,null,null,{"$f":"Fund!W4747","v":"00:00:00"},{"$f":"Fund!X4747","v":0},{"$f":"-Fund!V4747","v":0},{"$f":"Fund!V4747","v":0},{"$f":"Fund!P4747","v":""}]
[null,null,null,null,null,null,null,null,null,null,null,null,{"$f":"Fund!W4748","v":"00:00:00"},{"$f":"Fund!X4748","v":0},{"$f":"-Fund!V4748","v":0},{"$f":"Fund!V4748","v":0},{"$f":"Fund!P4748","v":""}]
[null,null,null,null,null,null,null,null,null,null,null,null,{"$f":"Fund!W4749","v":"00:00:00"},{"$f":"Fund!X4749","v":0},{"$f":"-Fund!V4749","v":0},{"$f":"Fund!V4749","v":0},{"$f":"Fund!P4749","v":""}]
[null,null,null,null,null,null,null,null,null,null,null,null,{"$f":"Fund!W4750","v":"00:00:00"},{"$f":"Fund!X4750","v":0},{"$f":"-Fund!V4750","v":0},{"$f":"Fund!V4750","v":0},{"$f":"Fund!P4750","v":""}]
[null,null,null,null,null,null,null,null,null,null,null,null,{"$f":"Fund!W4751","v":"00:00:00"},{"$f":"Fund!X4751","v":0},{"$f":"-Fund!V4751","v":0},{"$f":"Fund!V4751","v":0},{"$f":"Fund!P4751","v":""}]
[null,null,null,null,null,null,null,null,null,null,null,null,{"$f":"Fund!W4752","v":"00:00:00"},{"$f":"Fund!X4752","v":0},{"$f":"-Fund!V4752","v":0},{"$f":"Fund!V4752","v":0},{"$f":"Fund!P4752","v":""}]
[null,null,null,null,null,null,null,null,null,null,null,null,{"$f":"Fund!W4753","v":"00:00:00"},{"$f":"Fund!X4753","v":0},{"$f":"-Fund!V4753","v":0},{"$f":"Fund!V4753","v":0},{"$f":"Fund!P4753","v":""}]
[null,null,null,null,null,null,null,null,null,null,null,null,{"$f":"Fund!W4754","v":"00:00:00"},{"$f":"Fund!X4754","v":0},{"$f":"-Fund!V4754","v":0},{"$f":"Fund!V4754","v":0},{"$f":"Fund!P4754","v":""}]
[null,null,null,null,null,null,null,null,null,null,null,null,{"$f":"Fund!W4755","v":"00:00:00"},{"$f":"Fund!X4755","v":0},{"$f":"-Fund!V4755","v":0},{"$f":"Fund!V4755","v":0},{"$f":"Fund!P4755","v":""}]
[null,null,null,null,null,null,null,null,null,null,null,null,{"$f":"Fund!W4756","v":"00:00:00"},{"$f":"Fund!X4756","v":0},{"$f":"-Fund!V4756","v":0},{"$f":"Fund!V4756","v":0},{"$f":"Fund!P4756","v":""}]
[null,null,null,null,null,null,null,null,null,null,null,null,{"$f":"Fund!W4757","v":"00:00:00"},{"$f":"Fund!X4757","v":0},{"$f":"-Fund!V4757","v":0},{"$f":"Fund!V4757","v":0},{"$f":"Fund!P4757","v":""}]
[null,null,null,null,null,null,null,null,null,null,null,null,{"$f":"Fund!W4758","v":"00:00:00"},{"$f":"Fund!X4758","v":0},{"$f":"-Fund!V4758","v":0},{"$f":"Fund!V4758","v":0},{"$f":"Fund!P4758","v":""}]
[null,null,null,null,null,null,null,null,null,null,null,null,{"$f":"Fund!W4759","v":"00:00:00"},{"$f":"Fund!X4759","v":0},{"$f":"-Fund!V4759","v":0},{"$f":"Fund!V4759","v":0},{"$f":"Fund!P4759","v":""}]
[null,null,null,null,null,null,null,null,null,null,null,null,{"$f":"Fund!W4760","v":"00:00:00"},{"$f":"Fund!X4760","v":0},{"$f":"-Fund!V4760","v":0},{"$f":"Fund!V4760","v":0},{"$f":"Fund!P4760","v":""}]
[null,null,null,null,null,null,null,null,null,null,null,null,{"$f":"Fund!W4761","v":"00:00:00"},{"$f":"Fund!X4761","v":0},{"$f":"-Fund!V4761","v":0},{"$f":"Fund!V4761","v":0},{"$f":"Fund!P4761","v":""}]
[null,null,null,null,null,null,null,null,null,null,null,null,{"$f":"Fund!W4762","v":"00:00:00"},{"$f":"Fund!X4762","v":0},{"$f":"-Fund!V4762","v":0},{"$f":"Fund!V4762","v":0},{"$f":"Fund!P4762","v":""}]
[null,null,null,null,null,null,null,null,null,null,null,null,{"$f":"Fund!W4763","v":"00:00:00"},{"$f":"Fund!X4763","v":0},{"$f":"-Fund!V4763","v":0},{"$f":"Fund!V4763","v":0},{"$f":"Fund!P4763","v":""}]
[null,null,null,null,null,null,null,null,null,null,null,null,{"$f":"Fund!W4764","v":"00:00:00"},{"$f":"Fund!X4764","v":0},{"$f":"-Fund!V4764","v":0},{"$f":"Fund!V4764","v":0},{"$f":"Fund!P4764","v":""}]
[null,null,null,null,null,null,null,null,null,null,null,null,{"$f":"Fund!W4765","v":"00:00:00"},{"$f":"Fund!X4765","v":0},{"$f":"-Fund!V4765","v":0},{"$f":"Fund!V4765","v":0},{"$f":"Fund!P4765","v":""}]
[null,null,null,null,null,null,null,null,null,null,null,null,{"$f":"Fund!W4766","v":"00:00:00"},{"$f":"Fund!X4766","v":0},{"$f":"-Fund!V4766","v":0},{"$f":"Fund!V4766","v":0},{"$f":"Fund!P4766","v":""}]
[null,null,null,null,null,null,null,null,null,null,null,null,{"$f":"Fund!W4767","v":"00:00:00"},{"$f":"Fund!X4767","v":0},{"$f":"-Fund!V4767","v":0},{"$f":"Fund!V4767","v":0},{"$f":"Fund!P4767","v":""}]
[null,null,null,null,null,null,null,null,null,null,null,null,{"$f":"Fund!W4768","v":"00:00:00"},{"$f":"Fund!X4768","v":0},{"$f":"-Fund!V4768","v":0},{"$f":"Fund!V4768","v":0},{"$f":"Fund!P4768","v":""}]
[null,null,null,null,null,null,null,null,null,null,null,null,{"$f":"Fund!W4769","v":"00:00:00"},{"$f":"Fund!X4769","v":0},{"$f":"-Fund!V4769","v":0},{"$f":"Fund!V4769","v":0},{"$f":"Fund!P4769","v":""}]
[null,null,null,null,null,null,null,null,null,null,null,null,{"$f":"Fund!W4770","v":"00:00:00"},{"$f":"Fund!X4770","v":0},{"$f":"-Fund!V4770","v":0},{"$f":"Fund!V4770","v":0},{"$f":"Fund!P4770","v":""}]
[null,null,null,null,null,null,null,null,null,null,null,null,{"$f":"Fund!W4771","v":"00:00:00"},{"$f":"Fund!X4771","v":0},{"$f":"-Fund!V4771","v":0},{"$f":"Fund!V4771","v":0},{"$f":"Fund!P4771","v":""}]
[null,null,null,null,null,null,null,null,null,null,null,null,{"$f":"Fund!W4772","v":"00:00:00"},{"$f":"Fund!X4772","v":0},{"$f":"-Fund!V4772","v":0},{"$f":"Fund!V4772","v":0},{"$f":"Fund!P4772","v":""}]
[null,null,null,null,null,null,null,null,null,null,null,null,{"$f":"Fund!W4773","v":"00:00:00"},{"$f":"Fund!X4773","v":0},{"$f":"-Fund!V4773","v":0},{"$f":"Fund!V4773","v":0},{"$f":"Fund!P4773","v":""}]
[null,null,null,null,null,null,null,null,null,null,null,null,{"$f":"Fund!W4774","v":"00:00:00"},{"$f":"Fund!X4774","v":0},{"$f":"-Fund!V4774","v":0},{"$f":"Fund!V4774","v":0},{"$f":"Fund!P4774","v":""}]
[null,null,null,null,null,null,null,null,null,null,null,null,{"$f":"Fund!W4775","v":"00:00:00"},{"$f":"Fund!X4775","v":0},{"$f":"-Fund!V4775","v":0},{"$f":"Fund!V4775","v":0},{"$f":"Fund!P4775","v":""}]
[null,null,null,null,null,null,null,null,null,null,null,null,{"$f":"Fund!W4776","v":"00:00:00"},{"$f":"Fund!X4776","v":0},{"$f":"-Fund!V4776","v":0},{"$f":"Fund!V4776","v":0},{"$f":"Fund!P4776","v":""}]
[null,null,null,null,null,null,null,null,null,null,null,null,{"$f":"Fund!W4777","v":"00:00:00"},{"$f":"Fund!X4777","v":0},{"$f":"-Fund!V4777","v":0},{"$f":"Fund!V4777","v":0},{"$f":"Fund!P4777","v":""}]
[null,null,null,null,null,null,null,null,null,null,null,null,{"$f":"Fund!W4778","v":"00:00:00"},{"$f":"Fund!X4778","v":0},{"$f":"-Fund!V4778","v":0},{"$f":"Fund!V4778","v":0},{"$f":"Fund!P4778","v":""}]
[null,null,null,null,null,null,null,null,null,null,null,null,{"$f":"Fund!W4779","v":"00:00:00"},{"$f":"Fund!X4779","v":0},{"$f":"-Fund!V4779","v":0},{"$f":"Fund!V4779","v":0},{"$f":"Fund!P4779","v":""}]
[null,null,null,null,null,null,null,null,null,null,null,null,{"$f":"Fund!W4780","v":"00:00:00"},{"$f":"Fund!X4780","v":0},{"$f":"-Fund!V4780","v":0},{"$f":"Fund!V4780","v":0},{"$f":"Fund!P4780","v":""}]
[null,null,null,null,null,null,null,null,null,null,null,null,{"$f":"Fund!W4781","v":"00:00:00"},{"$f":"Fund!X4781","v":0},{"$f":"-Fund!V4781","v":0},{"$f":"Fund!V4781","v":0},{"$f":"Fund!P4781","v":""}]
[null,null,null,null,null,null,null,null,null,null,null,null,{"$f":"Fund!W4782","v":"00:00:00"},{"$f":"Fund!X4782","v":0},{"$f":"-Fund!V4782","v":0},{"$f":"Fund!V4782","v":0},{"$f":"Fund!P4782","v":""}]
[null,null,null,null,null,null,null,null,null,null,null,null,{"$f":"Fund!W4783","v":"00:00:00"},{"$f":"Fund!X4783","v":0},{"$f":"-Fund!V4783","v":0},{"$f":"Fund!V4783","v":0},{"$f":"Fund!P4783","v":""}]
[null,null,null,null,null,null,null,null,null,null,null,null,{"$f":"Fund!W4784","v":"00:00:00"},{"$f":"Fund!X4784","v":0},{"$f":"-Fund!V4784","v":0},{"$f":"Fund!V4784","v":0},{"$f":"Fund!P4784","v":""}]
[null,null,null,null,null,null,null,null,null,null,null,null,{"$f":"Fund!W4785","v":"00:00:00"},{"$f":"Fund!X4785","v":0},{"$f":"-Fund!V4785","v":0},{"$f":"Fund!V4785","v":0},{"$f":"Fund!P4785","v":""}]
[null,null,null,null,null,null,null,null,null,null,null,null,{"$f":"Fund!W4786","v":"00:00:00"},{"$f":"Fund!X4786","v":0},{"$f":"-Fund!V4786","v":0},{"$f":"Fund!V4786","v":0},{"$f":"Fund!P4786","v":""}]
[null,null,null,null,null,null,null,null,null,null,null,null,{"$f":"Fund!W4787","v":"00:00:00"},{"$f":"Fund!X4787","v":0},{"$f":"-Fund!V4787","v":0},{"$f":"Fund!V4787","v":0},{"$f":"Fund!P4787","v":""}]
[null,null,null,null,null,null,null,null,null,null,null,null,{"$f":"Fund!W4788","v":"00:00:00"},{"$f":"Fund!X4788","v":0},{"$f":"-Fund!V4788","v":0},{"$f":"Fund!V4788","v":0},{"$f":"Fund!P4788","v":""}]
[null,null,null,null,null,null,null,null,null,null,null,null,{"$f":"Fund!W4789","v":"00:00:00"},{"$f":"Fund!X4789","v":0},{"$f":"-Fund!V4789","v":0},{"$f":"Fund!V4789","v":0},{"$f":"Fund!P4789","v":""}]
[null,null,null,null,null,null,null,null,null,null,null,null,{"$f":"Fund!W4790","v":"00:00:00"},{"$f":"Fund!X4790","v":0},{"$f":"-Fund!V4790","v":0},{"$f":"Fund!V4790","v":0},{"$f":"Fund!P4790","v":""}]
[null,null,null,null,null,null,null,null,null,null,null,null,{"$f":"Fund!W4791","v":"00:00:00"},{"$f":"Fund!X4791","v":0},{"$f":"-Fund!V4791","v":0},{"$f":"Fund!V4791","v":0},{"$f":"Fund!P4791","v":""}]
[null,null,null,null,null,null,null,null,null,null,null,null,{"$f":"Fund!W4792","v":"00:00:00"},{"$f":"Fund!X4792","v":0},{"$f":"-Fund!V4792","v":0},{"$f":"Fund!V4792","v":0},{"$f":"Fund!P4792","v":""}]
[null,null,null,null,null,null,null,null,null,null,null,null,{"$f":"Fund!W4793","v":"00:00:00"},{"$f":"Fund!X4793","v":0},{"$f":"-Fund!V4793","v":0},{"$f":"Fund!V4793","v":0},{"$f":"Fund!P4793","v":""}]
[null,null,null,null,null,null,null,null,null,null,null,null,{"$f":"Fund!W4794","v":"00:00:00"},{"$f":"Fund!X4794","v":0},{"$f":"-Fund!V4794","v":0},{"$f":"Fund!V4794","v":0},{"$f":"Fund!P4794","v":""}]
[null,null,null,null,null,null,null,null,null,null,null,null,{"$f":"Fund!W4795","v":"00:00:00"},{"$f":"Fund!X4795","v":0},{"$f":"-Fund!V4795","v":0},{"$f":"Fund!V4795","v":0},{"$f":"Fund!P4795","v":""}]
[null,null,null,null,null,null,null,null,null,null,null,null,{"$f":"Fund!W4796","v":"00:00:00"},{"$f":"Fund!X4796","v":0},{"$f":"-Fund!V4796","v":0},{"$f":"Fund!V4796","v":0},{"$f":"Fund!P4796","v":""}]
[null,null,null,null,null,null,null,null,null,null,null,null,{"$f":"Fund!W4797","v":"00:00:00"},{"$f":"Fund!X4797","v":0},{"$f":"-Fund!V4797","v":0},{"$f":"Fund!V4797","v":0},{"$f":"Fund!P4797","v":""}]
[null,null,null,null,null,null,null,null,null,null,null,null,{"$f":"Fund!W4798","v":"00:00:00"},{"$f":"Fund!X4798","v":0},{"$f":"-Fund!V4798","v":0},{"$f":"Fund!V4798","v":0},{"$f":"Fund!P4798","v":""}]
[null,null,null,null,null,null,null,null,null,null,null,null,{"$f":"Fund!W4799","v":"00:00:00"},{"$f":"Fund!X4799","v":0},{"$f":"-Fund!V4799","v":0},{"$f":"Fund!V4799","v":0},{"$f":"Fund!P4799","v":""}]
[null,null,null,null,null,null,null,null,null,null,null,null,{"$f":"Fund!W4800","v":"00:00:00"},{"$f":"Fund!X4800","v":0},{"$f":"-Fund!V4800","v":0},{"$f":"Fund!V4800","v":0},{"$f":"Fund!P4800","v":""}]
[null,null,null,null,null,null,null,null,null,null,null,null,{"$f":"Fund!W4801","v":"00:00:00"},{"$f":"Fund!X4801","v":0},{"$f":"-Fund!V4801","v":0},{"$f":"Fund!V4801","v":0},{"$f":"Fund!P4801","v":""}]
[null,null,null,null,null,null,null,null,null,null,null,null,{"$f":"Fund!W4802","v":"00:00:00"},{"$f":"Fund!X4802","v":0},{"$f":"-Fund!V4802","v":0},{"$f":"Fund!V4802","v":0},{"$f":"Fund!P4802","v":""}]
[null,null,null,null,null,null,null,null,null,null,null,null,{"$f":"Fund!W4803","v":"00:00:00"},{"$f":"Fund!X4803","v":0},{"$f":"-Fund!V4803","v":0},{"$f":"Fund!V4803","v":0},{"$f":"Fund!P4803","v":""}]
[null,null,null,null,null,null,null,null,null,null,null,null,{"$f":"Fund!W4804","v":"00:00:00"},{"$f":"Fund!X4804","v":0},{"$f":"-Fund!V4804","v":0},{"$f":"Fund!V4804","v":0},{"$f":"Fund!P4804","v":""}]
[null,null,null,null,null,null,null,null,null,null,null,null,{"$f":"Fund!W4805","v":"00:00:00"},{"$f":"Fund!X4805","v":0},{"$f":"-Fund!V4805","v":0},{"$f":"Fund!V4805","v":0},{"$f":"Fund!P4805","v":""}]
[null,null,null,null,null,null,null,null,null,null,null,null,{"$f":"Fund!W4806","v":"00:00:00"},{"$f":"Fund!X4806","v":0},{"$f":"-Fund!V4806","v":0},{"$f":"Fund!V4806","v":0},{"$f":"Fund!P4806","v":""}]
[null,null,null,null,null,null,null,null,null,null,null,null,{"$f":"Fund!W4807","v":"00:00:00"},{"$f":"Fund!X4807","v":0},{"$f":"-Fund!V4807","v":0},{"$f":"Fund!V4807","v":0},{"$f":"Fund!P4807","v":""}]
[null,null,null,null,null,null,null,null,null,null,null,null,{"$f":"Fund!W4808","v":"00:00:00"},{"$f":"Fund!X4808","v":0},{"$f":"-Fund!V4808","v":0},{"$f":"Fund!V4808","v":0},{"$f":"Fund!P4808","v":""}]
[null,null,null,null,null,null,null,null,null,null,null,null,{"$f":"Fund!W4809","v":"00:00:00"},{"$f":"Fund!X4809","v":0},{"$f":"-Fund!V4809","v":0},{"$f":"Fund!V4809","v":0},{"$f":"Fund!P4809","v":""}]
[null,null,null,null,null,null,null,null,null,null,null,null,{"$f":"Fund!W4810","v":"00:00:00"},{"$f":"Fund!X4810","v":0},{"$f":"-Fund!V4810","v":0},{"$f":"Fund!V4810","v":0},{"$f":"Fund!P4810","v":""}]
[null,null,null,null,null,null,null,null,null,null,null,null,{"$f":"Fund!W4811","v":"00:00:00"},{"$f":"Fund!X4811","v":0},{"$f":"-Fund!V4811","v":0},{"$f":"Fund!V4811","v":0},{"$f":"Fund!P4811","v":""}]
[null,null,null,null,null,null,null,null,null,null,null,null,{"$f":"Fund!W4812","v":"00:00:00"},{"$f":"Fund!X4812","v":0},{"$f":"-Fund!V4812","v":0},{"$f":"Fund!V4812","v":0},{"$f":"Fund!P4812","v":""}]
[null,null,null,null,null,null,null,null,null,null,null,null,{"$f":"Fund!W4813","v":"00:00:00"},{"$f":"Fund!X4813","v":0},{"$f":"-Fund!V4813","v":0},{"$f":"Fund!V4813","v":0},{"$f":"Fund!P4813","v":""}]
[null,null,null,null,null,null,null,null,null,null,null,null,{"$f":"Fund!W4814","v":"00:00:00"},{"$f":"Fund!X4814","v":0},{"$f":"-Fund!V4814","v":0},{"$f":"Fund!V4814","v":0},{"$f":"Fund!P4814","v":""}]
[null,null,null,null,null,null,null,null,null,null,null,null,{"$f":"Fund!W4815","v":"00:00:00"},{"$f":"Fund!X4815","v":0},{"$f":"-Fund!V4815","v":0},{"$f":"Fund!V4815","v":0},{"$f":"Fund!P4815","v":""}]
[null,null,null,null,null,null,null,null,null,null,null,null,{"$f":"Fund!W4816","v":"00:00:00"},{"$f":"Fund!X4816","v":0},{"$f":"-Fund!V4816","v":0},{"$f":"Fund!V4816","v":0},{"$f":"Fund!P4816","v":""}]
[null,null,null,null,null,null,null,null,null,null,null,null,{"$f":"Fund!W4817","v":"00:00:00"},{"$f":"Fund!X4817","v":0},{"$f":"-Fund!V4817","v":0},{"$f":"Fund!V4817","v":0},{"$f":"Fund!P4817","v":""}]
[null,null,null,null,null,null,null,null,null,null,null,null,{"$f":"Fund!W4818","v":"00:00:00"},{"$f":"Fund!X4818","v":0},{"$f":"-Fund!V4818","v":0},{"$f":"Fund!V4818","v":0},{"$f":"Fund!P4818","v":""}]
[null,null,null,null,null,null,null,null,null,null,null,null,{"$f":"Fund!W4819","v":"00:00:00"},{"$f":"Fund!X4819","v":0},{"$f":"-Fund!V4819","v":0},{"$f":"Fund!V4819","v":0},{"$f":"Fund!P4819","v":""}]
[null,null,null,null,null,null,null,null,null,null,null,null,{"$f":"Fund!W4820","v":"00:00:00"},{"$f":"Fund!X4820","v":0},{"$f":"-Fund!V4820","v":0},{"$f":"Fund!V4820","v":0},{"$f":"Fund!P4820","v":""}]
[null,null,null,null,null,null,null,null,null,null,null,null,{"$f":"Fund!W4821","v":"00:00:00"},{"$f":"Fund!X4821","v":0},{"$f":"-Fund!V4821","v":0},{"$f":"Fund!V4821","v":0},{"$f":"Fund!P4821","v":""}]
[null,null,null,null,null,null,null,null,null,null,null,null,{"$f":"Fund!W4822","v":"00:00:00"},{"$f":"Fund!X4822","v":0},{"$f":"-Fund!V4822","v":0},{"$f":"Fund!V4822","v":0},{"$f":"Fund!P4822","v":""}]
[null,null,null,null,null,null,null,null,null,null,null,null,{"$f":"Fund!W4823","v":"00:00:00"},{"$f":"Fund!X4823","v":0},{"$f":"-Fund!V4823","v":0},{"$f":"Fund!V4823","v":0},{"$f":"Fund!P4823","v":""}]
[null,null,null,null,null,null,null,null,null,null,null,null,{"$f":"Fund!W4824","v":"00:00:00"},{"$f":"Fund!X4824","v":0},{"$f":"-Fund!V4824","v":0},{"$f":"Fund!V4824","v":0},{"$f":"Fund!P4824","v":""}]
[null,null,null,null,null,null,null,null,null,null,null,null,{"$f":"Fund!W4825","v":"00:00:00"},{"$f":"Fund!X4825","v":0},{"$f":"-Fund!V4825","v":0},{"$f":"Fund!V4825","v":0},{"$f":"Fund!P4825","v":""}]
[null,null,null,null,null,null,null,null,null,null,null,null,{"$f":"Fund!W4826","v":"00:00:00"},{"$f":"Fund!X4826","v":0},{"$f":"-Fund!V4826","v":0},{"$f":"Fund!V4826","v":0},{"$f":"Fund!P4826","v":""}]
[null,null,null,null,null,null,null,null,null,null,null,null,{"$f":"Fund!W4827","v":"00:00:00"},{"$f":"Fund!X4827","v":0},{"$f":"-Fund!V4827","v":0},{"$f":"Fund!V4827","v":0},{"$f":"Fund!P4827","v":""}]
[null,null,null,null,null,null,null,null,null,null,null,null,{"$f":"Fund!W4828","v":"00:00:00"},{"$f":"Fund!X4828","v":0},{"$f":"-Fund!V4828","v":0},{"$f":"Fund!V4828","v":0},{"$f":"Fund!P4828","v":""}]
[null,null,null,null,null,null,null,null,null,null,null,null,{"$f":"Fund!W4829","v":"00:00:00"},{"$f":"Fund!X4829","v":0},{"$f":"-Fund!V4829","v":0},{"$f":"Fund!V4829","v":0},{"$f":"Fund!P4829","v":""}]
[null,null,null,null,null,null,null,null,null,null,null,null,{"$f":"Fund!W4830","v":"00:00:00"},{"$f":"Fund!X4830","v":0},{"$f":"-Fund!V4830","v":0},{"$f":"Fund!V4830","v":0},{"$f":"Fund!P4830","v":0}]
[null,null,null,null,null,null,null,null,null,null,null,null,{"$f":"Fund!W4831","v":"2015-04-09"},{"$f":"Fund!X4831","v":76.545100000000005},{"$f":"-Fund!V4831","v":-407286.15282497479},{"$f":"Fund!V4831","v":407286.15282497479},{"$f":"Fund!P4831","v":5320.8651216730368}]