{"text_format":"1","workbook":"xlsx","n_sheets":11,"sheets":["Category Definitions","Main","Results-simple","Results-advanced","mf1","mf2","mf3","temp","temp2","common","Sheet1"],"not_rendered":{"charts":1,"images":0,"macros":1,"external_links":0,"defined_names":236,"comments":0,"pivot_tables":0},"unopened":[],"bounds":{"document_bytes":16777216,"sheet_cells":100000,"rows_first":2000,"rows_last":500,"rows_between":2000,"halvings":0,"cell_chars":16384,"cell_head_chars":4096},"cells_cut":0,"cells_raw":0,"read":"whole","date_system":"1900"}

{"sheet":"Category Definitions","index":0,"n_rows":92,"n_cols":1,"rows_kept":92,"cut":false,"hidden":false,"merged":[]}
["Large Cap"]
["Equity funds that invest > 75% in CRISIL-defined Large Cap Stocks for a minimum of six out of nine months in each period over the past 3 years."]
[]
["Small & Mid Cap"]
["Funds that invest < 45% in CRISIL-defined Large Cap Stocks for a minimum of six out of nine months in each period over the past 3 years."]
[]
["Diversified Equity"]
["Equity funds which are not specifically Large Cap or Small & Midcap oriented funds and will not include sector funds."]
[]
["Thematic - Infrastructure"]
["Funds having an investment objective of investing in CRISIL-defined infrastructure sectors."]
[]
["ELSS"]
["Funds aimed at enabling investors to avail tax rebates under Section 80-C of the Income Tax Act."]
[]
["Sector - Pharma & Healthcare"]
["Funds with an investment objective to invest in pharmaceutical, healthcare and related sectors."]
[]
["Sector - Banking & Finance"]
["Funds with an investment objective to invest in banking and financial services sectors."]
[]
["Sector - FMCG"]
["Funds with an investment objective to invest in fast moving consumer goods (FMCG) and related sectors."]
[]
["Sector - Technology"]
["Funds with an investment objective to invest in technology and related sectors."]
[]
["Sector - Others"]
["Funds with an investment objective to invest in sectors other than pharma & healthcare, banking & finance, FMCG and technology, would form part of this category."]
[]
["Index"]
["Funds with an objective to generate returns that are commensurate with the performance of a benchmark index. Only funds benchmarked to CNX Nifty Index and S&P BSE Sensex will be considered."]
[]
["RGESS"]
["Funds which are eligible for 50% deduction on investment amount under section 80CCG of the Income Tax Act."]
[]
["Arbitrage & Arbitrage Plus"]
["Schemes that aim to take advantage of arbitrage opportunities between cash and the futures market are included in this category. Schemes that can take naked equity exposures besides pure arbitrage will also be included in this category (Arbitrage Plus)."]
[]
["Balanced"]
["Funds investing 65% - 80% in equity securities and the remaining in debt securities."]
[]
["Debt Long Term"]
["Funds investing in long-term corporate debt papers and government securities (G-Secs)."]
[]
["Debt Short Term"]
["Funds investing in short term corporate debt papers, CDs, money market and G-Secs."]
[]
["Credit Opportunities Funds"]
["These will typically invest in corporate bonds and hold them till maturity"]
[]
["Floating Rate Debt - Short Term"]
["Funds with an investment objective to predominantly invest in short term floating rate instruments will form part of this category."]
[]
["Floating Rate Debt - Long Term"]
["Funds with an investment objective to predominantly invest in long term floating rate instruments will form part of this category."]
[]
["Gilt Short Term"]
["Funds which predominantly invest in short-term securities issued by the central and the state governments."]
[]
["Gilt Long Term"]
["Funds investing in long-term securities issued by the central and the state governments."]
[]
["MIP Aggressive"]
["MIP funds investing 16% - 30% in equity securities and the remaining in debt securities."]
[]
["MIP Conservative"]
["MIP funds investing 0 - 15% in equity securities and the remaining in debt securities."]
[]
["Liquid"]
["Funds investing in money market and debt instruments with a residual maturity of up to 91 days."]
[]
["International / Global Commodities"]
["Schemes with a mandate to invest the majority of their assets in overseas markets/ global commodities will form part of this category. Fund of funds dedicated to overseas markets will also form part of this category."]
[]
["Gold ETF"]
["Exchange Traded Funds with an investment objective to track the domestic price of gold will form part of this category"]
[]
["Fund of Funds - Equity oriented"]
["Fund of funds with a predominantly investment-bias towards equity and equity-related securities will form part of this category"]
[]
["Fund of Funds - Hybrid oriented"]
["Fund of funds with a flexibility to invest in both equity and debt securities will form part of this category."]
[]
["Capital Protection Funds"]
["Funds with an objective to seek capital protection by investing in fixed income securities maturing in line with the tenure of the scheme and seeking capital appreciation by investing in equity & equity-related instruments will form part of this category."]
[]
["Debt Oriented Hybrid Speciality Funds"]
["Speciality funds such as children plans, education plans, etc. investing predominantly in debt oriented securities will form part of this category."]
[]
["Equity Oriented Hybrid Speciality Funds"]
["Speciality funds such as children plans, education plans, etc. investing predominantly in equity oriented securities will form part of this category."]

{"sheet":"Main","index":1,"n_rows":1905,"n_cols":38,"rows_kept":1905,"cut":false,"hidden":false,"merged":[[0,1,2,11],[31,4,31,5],[32,4,32,5],[33,4,33,5],[20,11,22,11],[3,1,3,11],[10,11,12,11],[5,11,7,11],[15,1,15,6],[15,7,15,10],[15,11,17,11],[5,1,5,6],[5,7,5,10],[10,1,10,6],[10,7,10,10],[17,5,17,10],[34,4,34,5],[32,2,32,3],[33,2,33,3],[34,2,34,3],[30,2,30,3],[31,2,31,3],[12,1,12,4],[12,5,12,10],[24,1,24,4],[4,7,4,10],[7,1,7,4],[7,5,7,10],[6,1,6,10],[11,1,11,10]]}
[null,"Mutual Fund Portfolio Comparison Tool- moneycontrol edition",null,null,null,null,null,null,null,null,null,null,null,"MF3","MF2","MF1",null,null,null,{"$f":"CONCATENATE(\"http://www.moneycontrol.com/india/mutualfunds/mfinfo/portfolio_holdings/\",INDEX(Q2:R1905,MATCH(F8,Q2:Q1905,0),2))","v":"http://www.moneycontrol.com/india/mutualfunds/mfinfo/portfolio_holdings/MQU008"},"mf1","wrt cat avg",{"$f":"IF(VALUE(C12)>C16,1,0)","v":0},{"$f":"IF(VALUE(D12)>D16,1,0)","v":0},{"$f":"IF(VALUE(E12)>E16,1,0)","v":0},{"$f":"IF(VALUE(F12)>F16,1,0)","v":0},{"$f":"IF(VALUE(G12)>G16,1,0)","v":0},null,{"$f":"SUM(W1:AA1)","v":0},null,"mf1",{"$f":"COUNTIF(AE2:AE749,\"?*\")","v":8},null,"No",null,"mf2",null,"mf3"]
[null,null,null,null,null,null,null,null,null,null,null,null,null,{"$f":"IF(ISNUMBER(SEARCH($H$16,Q2)),MAX($N$1:N1)+1,0)","v":0},{"$f":"IF(ISNUMBER(SEARCH($H$11,Q2)),MAX($O$1:O1)+1,0)","v":0},{"$f":"IF(ISNUMBER(SEARCH($H$6,Q2)),MAX($P$1:P1)+1,0)","v":0},"baroda pioneer growth","MBO010","Large Cap",{"$f":"CONCATENATE(\"http://www.moneycontrol.com/india/mutualfunds/mfinfo/portfolio_holdings/\",INDEX(Q2:R1905,MATCH(F13,Q2:Q1905,0),2))","v":"http://www.moneycontrol.com/india/mutualfunds/mfinfo/portfolio_holdings/MQU001"},"mf2","wrt sensex",{"$f":"IF(VALUE(C12)>C18,1,0)","v":0},{"$f":"IF(VALUE(D12)>D18,1,0)","v":0},{"$f":"IF(VALUE(E12)>E18,1,0)","v":0},{"$f":"IF(VALUE(F12)>F18,1,0)","v":0},{"$f":"IF(VALUE(G12)>G18,1,0)","v":0},null,{"$f":"SUM(W2:AA2)","v":0},null,{"$f":"IFERROR(VLOOKUP(ROWS($AE$2:AE2),P2:Q1905,2,0),\"\")","v":"quantum long term equity"},{"$f":"OFFSET(AE2,,,COUNTIF($AE$2:$AE$1905,\"?*\"),)","v":"quantum long term equity"},null,"Yes",null,{"$f":"IFERROR(VLOOKUP(ROWS($AJ$2:AJ2),O2:Q1905,3,0),\"\")","v":"quantum long term equity"},null,{"$f":"IFERROR(VLOOKUP(ROWS(AL$2:$AL2),N2:Q1905,4,0),\"\")","v":"quantum long term equity"}]
[null,null,null,null,null,null,null,null,null,null,null,null,null,{"$f":"IF(ISNUMBER(SEARCH($H$16,Q3)),MAX($N$1:N2)+1,0)","v":0},{"$f":"IF(ISNUMBER(SEARCH($H$11,Q3)),MAX($O$1:O2)+1,0)","v":0},{"$f":"IF(ISNUMBER(SEARCH($H$6,Q3)),MAX($P$1:P2)+1,0)","v":0},"birla sl frontline equity","MAC031","Large Cap",{"$f":"CONCATENATE(\"http://www.moneycontrol.com/india/mutualfunds/mfinfo/portfolio_holdings/\",INDEX(Q2:R1905,MATCH(F18,Q2:Q1905,0),2))","v":"http://www.moneycontrol.com/india/mutualfunds/mfinfo/portfolio_holdings/MQU008"},"mf3","wrt Nifty",{"$f":"IF(VALUE(C12)>C22,1,0)","v":0},{"$f":"IF(VALUE(D12)>D22,1,0)","v":0},{"$f":"IF(VALUE(E12)>E22,1,0)","v":0},{"$f":"IF(VALUE(F12)>F22,1,0)","v":0},{"$f":"IF(VALUE(G12)>G22,1,0)","v":0},null,{"$f":"SUM(W3:AA3)","v":0},null,{"$f":"IFERROR(VLOOKUP(ROWS($AE$2:AE3),P3:Q1906,2,0),\"\")","v":"quantum tax saving fund"},null,{"$f":"F8","v":"quantum tax saving fund"},null,null,{"$f":"IFERROR(VLOOKUP(ROWS($AJ$2:AJ3),O3:Q1906,3,0),\"\")","v":""},null,{"$f":"IFERROR(VLOOKUP(ROWS(AL$2:$AL3),N3:Q1906,4,0),\"\")","v":"quantum tax saving fund"}]
[null,null,null,null,null,null,null,null,null,null,null,null,null,{"$f":"IF(ISNUMBER(SEARCH($H$16,Q4)),MAX($N$1:N3)+1,0)","v":0},{"$f":"IF(ISNUMBER(SEARCH($H$11,Q4)),MAX($O$1:O3)+1,0)","v":0},{"$f":"IF(ISNUMBER(SEARCH($H$6,Q4)),MAX($P$1:P3)+1,0)","v":0},"birla sun life top 100","MBS089","Large Cap",null,null,null,{"$f":"SUM(W1:W3)","v":0},{"$f":"SUM(X1:X3)","v":0},{"$f":"SUM(Y1:Y3)","v":0},{"$f":"SUM(Z1:Z3)","v":0},{"$f":"SUM(AA1:AA3)","v":0},null,null,null,{"$f":"IFERROR(VLOOKUP(ROWS($AE$2:AE4),P4:Q1907,2,0),\"\")","v":"quantum index fund"},null,null,null,null,{"$f":"IFERROR(VLOOKUP(ROWS($AJ$2:AJ4),O4:Q1907,3,0),\"\")","v":""},null,{"$f":"IFERROR(VLOOKUP(ROWS(AL$2:$AL4),N4:Q1907,4,0),\"\")","v":"quantum index fund"}]
[null,null,null,null,null,null,null,null,null,null,null,null,null,{"$f":"IF(ISNUMBER(SEARCH($H$16,Q5)),MAX($N$1:N4)+1,0)","v":0},{"$f":"IF(ISNUMBER(SEARCH($H$11,Q5)),MAX($O$1:O4)+1,0)","v":0},{"$f":"IF(ISNUMBER(SEARCH($H$6,Q5)),MAX($P$1:P4)+1,0)","v":0},"boi axa equity fund eco","MBA028","Large Cap",null,null,null,null,null,null,null,null,null,null,null,{"$f":"IFERROR(VLOOKUP(ROWS($AE$2:AE5),P5:Q1908,2,0),\"\")","v":"quantum liquid fund"},null,null,null,null,{"$f":"IFERROR(VLOOKUP(ROWS($AJ$2:AJ5),O5:Q1908,3,0),\"\")","v":""},null,{"$f":"IFERROR(VLOOKUP(ROWS(AL$2:$AL5),N5:Q1908,4,0),\"\")","v":"quantum liquid fund"}]
[null,"Type the first few letters of the MF scheme you need in the green area. ",null,null,null,null,null,"quantum",null,null,null,"MF1",null,{"$f":"IF(ISNUMBER(SEARCH($H$16,Q6)),MAX($N$1:N5)+1,0)","v":0},{"$f":"IF(ISNUMBER(SEARCH($H$11,Q6)),MAX($O$1:O5)+1,0)","v":0},{"$f":"IF(ISNUMBER(SEARCH($H$6,Q6)),MAX($P$1:P5)+1,0)","v":0},"boi axa equity fund ip","MBA031","Large Cap",{"$f":"IF(ISERROR(MATCH(\"%\",temp2!E1:E1068,0)),IF(ISERROR(MATCH(\"%\",temp2!D1:D1068,0)),0,MATCH(\"%\",temp2!D1:D1068,0)),MATCH(\"%\",temp2!E1:E1068,0))","v":168},"Related Searches",null,null,null,null,null,null,null,null,null,{"$f":"IFERROR(VLOOKUP(ROWS($AE$2:AE6),P6:Q1909,2,0),\"\")","v":"quantum gold fund"},null,null,null,null,{"$f":"IFERROR(VLOOKUP(ROWS($AJ$2:AJ6),O6:Q1909,3,0),\"\")","v":""},null,{"$f":"IFERROR(VLOOKUP(ROWS(AL$2:$AL6),N6:Q1909,4,0),\"\")","v":"quantum gold fund"}]
[null,null,null,null,null,null,null,null,null,null,null,null,null,{"$f":"IF(ISNUMBER(SEARCH($H$16,Q7)),MAX($N$1:N6)+1,0)","v":0},{"$f":"IF(ISNUMBER(SEARCH($H$11,Q7)),MAX($O$1:O6)+1,0)","v":0},{"$f":"IF(ISNUMBER(SEARCH($H$6,Q7)),MAX($P$1:P6)+1,0)","v":0},"boi axa equity fund rp","MBA025","Large Cap",{"$f":"IF(ISERROR(MATCH(\"Related Searches\",temp2!A1:A1068,0)),0,MATCH(\"Related Searches\",temp2!A1:A1068,0))","v":197},null,null,null,null,null,null,null,null,null,null,{"$f":"IFERROR(VLOOKUP(ROWS($AE$2:AE7),P7:Q1910,2,0),\"\")","v":"quantum equity fof"},null,null,null,null,{"$f":"IFERROR(VLOOKUP(ROWS($AJ$2:AJ7),O7:Q1910,3,0),\"\")","v":""},null,{"$f":"IFERROR(VLOOKUP(ROWS(AL$2:$AL7),N7:Q1910,4,0),\"\")","v":"quantum equity fof"}]
[null,"Then select the scheme you need from the drop-down list",null,null,null,"quantum tax saving fund",null,null,null,null,null,null,null,{"$f":"IF(ISNUMBER(SEARCH($H$16,Q8)),MAX($N$1:N7)+1,0)","v":0},{"$f":"IF(ISNUMBER(SEARCH($H$11,Q8)),MAX($O$1:O7)+1,0)","v":0},{"$f":"IF(ISNUMBER(SEARCH($H$6,Q8)),MAX($P$1:P7)+1,0)","v":0},"canara robeco large cap+","MCA174","Large Cap",null,null,null,null,null,null,null,null,null,null,null,{"$f":"IFERROR(VLOOKUP(ROWS($AE$2:AE8),P8:Q1911,2,0),\"\")","v":"quantum gold savings fund"},null,null,null,null,{"$f":"IFERROR(VLOOKUP(ROWS($AJ$2:AJ8),O8:Q1911,3,0),\"\")","v":""},null,{"$f":"IFERROR(VLOOKUP(ROWS(AL$2:$AL8),N8:Q1911,4,0),\"\")","v":"quantum gold savings fund"}]
[null,null,null,null,null,null,null,"Approx Investment Value (optional)",null,null,null,100000,null,{"$f":"IF(ISNUMBER(SEARCH($H$16,Q9)),MAX($N$1:N8)+1,0)","v":0},{"$f":"IF(ISNUMBER(SEARCH($H$11,Q9)),MAX($O$1:O8)+1,0)","v":0},{"$f":"IF(ISNUMBER(SEARCH($H$6,Q9)),MAX($P$1:P8)+1,0)","v":0},"dsp br top 100 equity ip","MDS068","Large Cap",null,null,null,null,null,null,null,null,null,null,null,{"$f":"IFERROR(VLOOKUP(ROWS($AE$2:AE9),P9:Q1912,2,0),\"\")","v":"quantum multi asset fund"},null,null,null,null,{"$f":"IFERROR(VLOOKUP(ROWS($AJ$2:AJ9),O9:Q1912,3,0),\"\")","v":""},null,{"$f":"IFERROR(VLOOKUP(ROWS(AL$2:$AL9),N9:Q1912,4,0),\"\")","v":"quantum multi asset fund"}]
[null,null,null,null,null,null,null,null,null,null,null,null,null,{"$f":"IF(ISNUMBER(SEARCH($H$16,Q10)),MAX($N$1:N9)+1,0)","v":0},{"$f":"IF(ISNUMBER(SEARCH($H$11,Q10)),MAX($O$1:O9)+1,0)","v":0},{"$f":"IF(ISNUMBER(SEARCH($H$6,Q10)),MAX($P$1:P9)+1,0)","v":0},"dsp br top 100 equity rp","MDS018","Large Cap",null,null,null,null,null,null,null,null,null,null,null,{"$f":"IFERROR(VLOOKUP(ROWS($AE$2:AE10),P10:Q1913,2,0),\"\")","v":""},null,null,null,null,{"$f":"IFERROR(VLOOKUP(ROWS($AJ$2:AJ10),O10:Q1913,3,0),\"\")","v":""},null,{"$f":"IFERROR(VLOOKUP(ROWS(AL$2:$AL10),N10:Q1913,4,0),\"\")","v":""}]
[null,"Type the first few letters of the MF scheme you need in the green area. ",null,null,null,null,null,"quantum long",null,null,null,"MF2",null,{"$f":"IF(ISNUMBER(SEARCH($H$16,Q11)),MAX($N$1:N10)+1,0)","v":0},{"$f":"IF(ISNUMBER(SEARCH($H$11,Q11)),MAX($O$1:O10)+1,0)","v":0},{"$f":"IF(ISNUMBER(SEARCH($H$6,Q11)),MAX($P$1:P10)+1,0)","v":0},"dws alpha equity fund rp","MDE001","Large Cap",null,null,null,null,null,null,null,null,null,null,null,{"$f":"IFERROR(VLOOKUP(ROWS($AE$2:AE11),P11:Q1914,2,0),\"\")","v":""},null,null,null,null,{"$f":"IFERROR(VLOOKUP(ROWS($AJ$2:AJ11),O11:Q1914,3,0),\"\")","v":""},null,{"$f":"IFERROR(VLOOKUP(ROWS(AL$2:$AL11),N11:Q1914,4,0),\"\")","v":""}]
[null,null,null,null,null,null,null,null,null,null,null,null,null,{"$f":"IF(ISNUMBER(SEARCH($H$16,Q12)),MAX($N$1:N11)+1,0)","v":0},{"$f":"IF(ISNUMBER(SEARCH($H$11,Q12)),MAX($O$1:O11)+1,0)","v":0},{"$f":"IF(ISNUMBER(SEARCH($H$6,Q12)),MAX($P$1:P11)+1,0)","v":0},"dws alpha equity fund wp","MDE260","Large Cap",null,null,null,null,null,null,null,null,null,null,null,{"$f":"IFERROR(VLOOKUP(ROWS($AE$2:AE12),P12:Q1915,2,0),\"\")","v":""},null,null,null,null,{"$f":"IFERROR(VLOOKUP(ROWS($AJ$2:AJ12),O12:Q1915,3,0),\"\")","v":""},null,{"$f":"IFERROR(VLOOKUP(ROWS(AL$2:$AL12),N12:Q1915,4,0),\"\")","v":""}]
[null,"Then select the scheme you need from the drop-down list",null,null,null,"quantum long term equity",null,null,null,null,null,null,null,{"$f":"IF(ISNUMBER(SEARCH($H$16,Q13)),MAX($N$1:N12)+1,0)","v":0},{"$f":"IF(ISNUMBER(SEARCH($H$11,Q13)),MAX($O$1:O12)+1,0)","v":0},{"$f":"IF(ISNUMBER(SEARCH($H$6,Q13)),MAX($P$1:P12)+1,0)","v":0},"edelweiss e d g e top 100 a","MEW041","Large Cap",null,null,null,null,null,null,null,null,null,null,null,{"$f":"IFERROR(VLOOKUP(ROWS($AE$2:AE13),P13:Q1916,2,0),\"\")","v":""},null,null,null,null,{"$f":"IFERROR(VLOOKUP(ROWS($AJ$2:AJ13),O13:Q1916,3,0),\"\")","v":""},null,{"$f":"IFERROR(VLOOKUP(ROWS(AL$2:$AL13),N13:Q1916,4,0),\"\")","v":""}]
[null,null,null,null,null,null,null,"Approx Investment Value (optional)",null,null,null,100000,null,{"$f":"IF(ISNUMBER(SEARCH($H$16,Q14)),MAX($N$1:N13)+1,0)","v":0},{"$f":"IF(ISNUMBER(SEARCH($H$11,Q14)),MAX($O$1:O13)+1,0)","v":0},{"$f":"IF(ISNUMBER(SEARCH($H$6,Q14)),MAX($P$1:P13)+1,0)","v":0},"edelweiss e d g e top 100 b","MEW043","Large Cap",null,null,null,null,null,null,null,null,null,null,null,{"$f":"IFERROR(VLOOKUP(ROWS($AE$2:AE14),P14:Q1917,2,0),\"\")","v":""},null,null,null,null,{"$f":"IFERROR(VLOOKUP(ROWS($AJ$2:AJ14),O14:Q1917,3,0),\"\")","v":""},null,{"$f":"IFERROR(VLOOKUP(ROWS(AL$2:$AL14),N14:Q1917,4,0),\"\")","v":""}]
[null,null,null,null,null,null,null,null,null,null,null,null,null,{"$f":"IF(ISNUMBER(SEARCH($H$16,Q15)),MAX($N$1:N14)+1,0)","v":0},{"$f":"IF(ISNUMBER(SEARCH($H$11,Q15)),MAX($O$1:O14)+1,0)","v":0},{"$f":"IF(ISNUMBER(SEARCH($H$6,Q15)),MAX($P$1:P14)+1,0)","v":0},"edelweiss e d g e top 100 c","MEW045","Large Cap",null,null,null,null,null,null,null,null,null,null,null,{"$f":"IFERROR(VLOOKUP(ROWS($AE$2:AE15),P15:Q1918,2,0),\"\")","v":""},null,null,null,null,{"$f":"IFERROR(VLOOKUP(ROWS($AJ$2:AJ15),O15:Q1918,3,0),\"\")","v":""},null,{"$f":"IFERROR(VLOOKUP(ROWS(AL$2:$AL15),N15:Q1918,4,0),\"\")","v":""}]
[null,"Type the first few letters of the MF scheme you need in the green area. ",null,null,null,null,null,"quantum",null,null,null,"MF3",null,{"$f":"IF(ISNUMBER(SEARCH($H$16,Q16)),MAX($N$1:N15)+1,0)","v":0},{"$f":"IF(ISNUMBER(SEARCH($H$11,Q16)),MAX($O$1:O15)+1,0)","v":0},{"$f":"IF(ISNUMBER(SEARCH($H$6,Q16)),MAX($P$1:P15)+1,0)","v":0},"edelweiss equity enhancer c","MEW055","Large Cap",null,null,null,null,null,null,null,null,null,null,null,{"$f":"IFERROR(VLOOKUP(ROWS($AE$2:AE16),P16:Q1919,2,0),\"\")","v":""},null,null,null,null,{"$f":"IFERROR(VLOOKUP(ROWS($AJ$2:AJ16),O16:Q1919,3,0),\"\")","v":""},null,{"$f":"IFERROR(VLOOKUP(ROWS(AL$2:$AL16),N16:Q1919,4,0),\"\")","v":""}]
[null,null,null,null,null,null,null,null,null,null,null,null,null,{"$f":"IF(ISNUMBER(SEARCH($H$16,Q17)),MAX($N$1:N16)+1,0)","v":0},{"$f":"IF(ISNUMBER(SEARCH($H$11,Q17)),MAX($O$1:O16)+1,0)","v":0},{"$f":"IF(ISNUMBER(SEARCH($H$6,Q17)),MAX($P$1:P16)+1,0)","v":0},"edelweiss equity enhancer plan b","MEW047","Large Cap",null,null,null,null,null,null,null,null,null,null,null,{"$f":"IFERROR(VLOOKUP(ROWS($AE$2:AE17),P17:Q1920,2,0),\"\")","v":""},null,null,null,null,{"$f":"IFERROR(VLOOKUP(ROWS($AJ$2:AJ17),O17:Q1920,3,0),\"\")","v":""},null,{"$f":"IFERROR(VLOOKUP(ROWS(AL$2:$AL17),N17:Q1920,4,0),\"\")","v":""}]
[null,"Then select the scheme you need from the drop-down list",null,null,null,"quantum tax saving fund",null,null,null,null,null,null,null,{"$f":"IF(ISNUMBER(SEARCH($H$16,Q18)),MAX($N$1:N17)+1,0)","v":0},{"$f":"IF(ISNUMBER(SEARCH($H$11,Q18)),MAX($O$1:O17)+1,0)","v":0},{"$f":"IF(ISNUMBER(SEARCH($H$6,Q18)),MAX($P$1:P17)+1,0)","v":0},"edelweiss value opportunities fund","MEW053","Large Cap",null,null,null,null,null,null,null,null,null,null,null,{"$f":"IFERROR(VLOOKUP(ROWS($AE$2:AE18),P18:Q1921,2,0),\"\")","v":""},null,null,null,null,{"$f":"IFERROR(VLOOKUP(ROWS($AJ$2:AJ18),O18:Q1921,3,0),\"\")","v":""},null,{"$f":"IFERROR(VLOOKUP(ROWS(AL$2:$AL18),N18:Q1921,4,0),\"\")","v":""}]
[null,null,null,null,null,null,null,"Approx Investment Value (optional)",null,null,null,100000,null,{"$f":"IF(ISNUMBER(SEARCH($H$16,Q19)),MAX($N$1:N18)+1,0)","v":0},{"$f":"IF(ISNUMBER(SEARCH($H$11,Q19)),MAX($O$1:O18)+1,0)","v":0},{"$f":"IF(ISNUMBER(SEARCH($H$6,Q19)),MAX($P$1:P18)+1,0)","v":0},"escorts growth plan","MES005","Large Cap",null,null,null,null,null,null,null,null,null,null,null,{"$f":"IFERROR(VLOOKUP(ROWS($AE$2:AE19),P19:Q1922,2,0),\"\")","v":""},null,null,null,null,{"$f":"IFERROR(VLOOKUP(ROWS($AJ$2:AJ19),O19:Q1922,3,0),\"\")","v":""},null,{"$f":"IFERROR(VLOOKUP(ROWS(AL$2:$AL19),N19:Q1922,4,0),\"\")","v":""}]
[null,null,null,null,null,null,null,null,null,null,null,null,null,{"$f":"IF(ISNUMBER(SEARCH($H$16,Q20)),MAX($N$1:N19)+1,0)","v":0},{"$f":"IF(ISNUMBER(SEARCH($H$11,Q20)),MAX($O$1:O19)+1,0)","v":0},{"$f":"IF(ISNUMBER(SEARCH($H$6,Q20)),MAX($P$1:P19)+1,0)","v":0},"escorts leading sectors","MES031","Large Cap",null,null,null,null,null,null,null,null,null,null,null,{"$f":"IFERROR(VLOOKUP(ROWS($AE$2:AE20),P20:Q1923,2,0),\"\")","v":""},null,null,null,null,{"$f":"IFERROR(VLOOKUP(ROWS($AJ$2:AJ20),O20:Q1923,3,0),\"\")","v":""},null,{"$f":"IFERROR(VLOOKUP(ROWS(AL$2:$AL20),N20:Q1923,4,0),\"\")","v":""}]
[null,null,null,null,null,null,null,null,null,null,null,null,null,{"$f":"IF(ISNUMBER(SEARCH($H$16,Q21)),MAX($N$1:N20)+1,0)","v":0},{"$f":"IF(ISNUMBER(SEARCH($H$11,Q21)),MAX($O$1:O20)+1,0)","v":0},{"$f":"IF(ISNUMBER(SEARCH($H$6,Q21)),MAX($P$1:P20)+1,0)","v":0},"franklin india bluechip","MKP001","Large Cap",null,null,null,null,null,null,null,null,null,null,null,{"$f":"IFERROR(VLOOKUP(ROWS($AE$2:AE21),P21:Q1924,2,0),\"\")","v":""},null,null,null,null,{"$f":"IFERROR(VLOOKUP(ROWS($AJ$2:AJ21),O21:Q1924,3,0),\"\")","v":""},null,{"$f":"IFERROR(VLOOKUP(ROWS(AL$2:$AL21),N21:Q1924,4,0),\"\")","v":""}]
[null,null,null,null,null,null,null,null,null,null,null,null,null,{"$f":"IF(ISNUMBER(SEARCH($H$16,Q22)),MAX($N$1:N21)+1,0)","v":0},{"$f":"IF(ISNUMBER(SEARCH($H$11,Q22)),MAX($O$1:O21)+1,0)","v":0},{"$f":"IF(ISNUMBER(SEARCH($H$6,Q22)),MAX($P$1:P21)+1,0)","v":0},"franklin india oppor ","MKP028","Large Cap",null,null,null,null,null,null,null,null,null,null,null,{"$f":"IFERROR(VLOOKUP(ROWS($AE$2:AE22),P22:Q1925,2,0),\"\")","v":""},null,null,null,null,{"$f":"IFERROR(VLOOKUP(ROWS($AJ$2:AJ22),O22:Q1925,3,0),\"\")","v":""},null,{"$f":"IFERROR(VLOOKUP(ROWS(AL$2:$AL22),N22:Q1925,4,0),\"\")","v":""}]
[null,null,null,null,null,null,null,null,null,null,null,null,null,{"$f":"IF(ISNUMBER(SEARCH($H$16,Q23)),MAX($N$1:N22)+1,0)","v":0},{"$f":"IF(ISNUMBER(SEARCH($H$11,Q23)),MAX($O$1:O22)+1,0)","v":0},{"$f":"IF(ISNUMBER(SEARCH($H$6,Q23)),MAX($P$1:P22)+1,0)","v":0},"hdfc index sensex plus plan","MHD021","Large Cap",null,null,null,null,null,null,null,null,null,null,null,{"$f":"IFERROR(VLOOKUP(ROWS($AE$2:AE23),P23:Q1926,2,0),\"\")","v":""},null,null,null,null,{"$f":"IFERROR(VLOOKUP(ROWS($AJ$2:AJ23),O23:Q1926,3,0),\"\")","v":""},null,{"$f":"IFERROR(VLOOKUP(ROWS(AL$2:$AL23),N23:Q1926,4,0),\"\")","v":""}]
[null,null,null,null,null,null,null,null,null,null,null,null,null,{"$f":"IF(ISNUMBER(SEARCH($H$16,Q24)),MAX($N$1:N23)+1,0)","v":0},{"$f":"IF(ISNUMBER(SEARCH($H$11,Q24)),MAX($O$1:O23)+1,0)","v":0},{"$f":"IF(ISNUMBER(SEARCH($H$6,Q24)),MAX($P$1:P23)+1,0)","v":0},"hdfc top 200 fund","MZU009","Large Cap",null,null,null,null,null,null,null,null,null,null,null,{"$f":"IFERROR(VLOOKUP(ROWS($AE$2:AE24),P24:Q1927,2,0),\"\")","v":""},null,null,null,null,{"$f":"IFERROR(VLOOKUP(ROWS($AJ$2:AJ24),O24:Q1927,3,0),\"\")","v":""},null,{"$f":"IFERROR(VLOOKUP(ROWS(AL$2:$AL24),N24:Q1927,4,0),\"\")","v":""}]
[null,null,null,null,null,null,null,null,null,null,null,null,null,{"$f":"IF(ISNUMBER(SEARCH($H$16,Q25)),MAX($N$1:N24)+1,0)","v":0},{"$f":"IF(ISNUMBER(SEARCH($H$11,Q25)),MAX($O$1:O24)+1,0)","v":0},{"$f":"IF(ISNUMBER(SEARCH($H$6,Q25)),MAX($P$1:P24)+1,0)","v":0},"hsbc dynamic fund","MHS139","Large Cap",null,null,null,null,null,null,null,null,null,null,null,{"$f":"IFERROR(VLOOKUP(ROWS($AE$2:AE25),P25:Q1928,2,0),\"\")","v":""},null,null,null,null,{"$f":"IFERROR(VLOOKUP(ROWS($AJ$2:AJ25),O25:Q1928,3,0),\"\")","v":""},null,{"$f":"IFERROR(VLOOKUP(ROWS(AL$2:$AL25),N25:Q1928,4,0),\"\")","v":""}]
[null,null,null,null,null,null,null,null,null,null,null,null,null,{"$f":"IF(ISNUMBER(SEARCH($H$16,Q26)),MAX($N$1:N25)+1,0)","v":0},{"$f":"IF(ISNUMBER(SEARCH($H$11,Q26)),MAX($O$1:O25)+1,0)","v":0},{"$f":"IF(ISNUMBER(SEARCH($H$6,Q26)),MAX($P$1:P25)+1,0)","v":0},"hsbc equity fund","MHS001","Large Cap",null,null,null,null,null,null,null,null,null,null,null,{"$f":"IFERROR(VLOOKUP(ROWS($AE$2:AE26),P26:Q1929,2,0),\"\")","v":""},null,null,null,null,{"$f":"IFERROR(VLOOKUP(ROWS($AJ$2:AJ26),O26:Q1929,3,0),\"\")","v":""},null,{"$f":"IFERROR(VLOOKUP(ROWS(AL$2:$AL26),N26:Q1929,4,0),\"\")","v":""}]
[null,null,null,null,null,null,null,null,null,null,null,null,null,{"$f":"IF(ISNUMBER(SEARCH($H$16,Q27)),MAX($N$1:N26)+1,0)","v":0},{"$f":"IF(ISNUMBER(SEARCH($H$11,Q27)),MAX($O$1:O26)+1,0)","v":0},{"$f":"IF(ISNUMBER(SEARCH($H$6,Q27)),MAX($P$1:P26)+1,0)","v":0},"icici pru focused bluechip eqty","MPI392","Large Cap",null,null,null,null,null,null,null,null,null,null,null,{"$f":"IFERROR(VLOOKUP(ROWS($AE$2:AE27),P27:Q1930,2,0),\"\")","v":""},null,null,null,null,{"$f":"IFERROR(VLOOKUP(ROWS($AJ$2:AJ27),O27:Q1930,3,0),\"\")","v":""},null,{"$f":"IFERROR(VLOOKUP(ROWS(AL$2:$AL27),N27:Q1930,4,0),\"\")","v":""}]
[null,null,null,null,null,null,null,null,null,null,null,null,null,{"$f":"IF(ISNUMBER(SEARCH($H$16,Q28)),MAX($N$1:N27)+1,0)","v":0},{"$f":"IF(ISNUMBER(SEARCH($H$11,Q28)),MAX($O$1:O27)+1,0)","v":0},{"$f":"IF(ISNUMBER(SEARCH($H$6,Q28)),MAX($P$1:P27)+1,0)","v":0},"icici pru focused bluechip eqty io","MPI394","Large Cap",null,null,null,null,null,null,null,null,null,null,null,{"$f":"IFERROR(VLOOKUP(ROWS($AE$2:AE28),P28:Q1931,2,0),\"\")","v":""},null,null,null,null,{"$f":"IFERROR(VLOOKUP(ROWS($AJ$2:AJ28),O28:Q1931,3,0),\"\")","v":""},null,{"$f":"IFERROR(VLOOKUP(ROWS(AL$2:$AL28),N28:Q1931,4,0),\"\")","v":""}]
[null,null,null,null,null,null,null,null,null,null,null,null,null,{"$f":"IF(ISNUMBER(SEARCH($H$16,Q29)),MAX($N$1:N28)+1,0)","v":0},{"$f":"IF(ISNUMBER(SEARCH($H$11,Q29)),MAX($O$1:O28)+1,0)","v":0},{"$f":"IF(ISNUMBER(SEARCH($H$6,Q29)),MAX($P$1:P28)+1,0)","v":0},"icici pru select large cap fund dp","MPI1124","Large Cap",null,null,null,null,null,null,null,null,null,null,null,{"$f":"IFERROR(VLOOKUP(ROWS($AE$2:AE29),P29:Q1932,2,0),\"\")","v":""},null,null,null,null,{"$f":"IFERROR(VLOOKUP(ROWS($AJ$2:AJ29),O29:Q1932,3,0),\"\")","v":""},null,{"$f":"IFERROR(VLOOKUP(ROWS(AL$2:$AL29),N29:Q1932,4,0),\"\")","v":""}]
[null,null,null,null,null,null,null,null,null,null,null,null,null,{"$f":"IF(ISNUMBER(SEARCH($H$16,Q30)),MAX($N$1:N29)+1,0)","v":0},{"$f":"IF(ISNUMBER(SEARCH($H$11,Q30)),MAX($O$1:O29)+1,0)","v":0},{"$f":"IF(ISNUMBER(SEARCH($H$6,Q30)),MAX($P$1:P29)+1,0)","v":0},"icici pru select large cap fund rp","MPI643","Large Cap",null,null,null,null,null,null,null,null,null,null,null,{"$f":"IFERROR(VLOOKUP(ROWS($AE$2:AE30),P30:Q1933,2,0),\"\")","v":""},null,null,null,null,{"$f":"IFERROR(VLOOKUP(ROWS($AJ$2:AJ30),O30:Q1933,3,0),\"\")","v":""},null,{"$f":"IFERROR(VLOOKUP(ROWS(AL$2:$AL30),N30:Q1933,4,0),\"\")","v":""}]
[null,null,null,null,null,null,null,null,null,null,null,null,null,{"$f":"IF(ISNUMBER(SEARCH($H$16,Q31)),MAX($N$1:N30)+1,0)","v":0},{"$f":"IF(ISNUMBER(SEARCH($H$11,Q31)),MAX($O$1:O30)+1,0)","v":0},{"$f":"IF(ISNUMBER(SEARCH($H$6,Q31)),MAX($P$1:P30)+1,0)","v":0},"icici pru top 100 fund","MPI003","Large Cap",null,null,null,null,null,null,null,null,null,null,null,{"$f":"IFERROR(VLOOKUP(ROWS($AE$2:AE31),P31:Q1934,2,0),\"\")","v":""},null,null,null,null,{"$f":"IFERROR(VLOOKUP(ROWS($AJ$2:AJ31),O31:Q1934,3,0),\"\")","v":""},null,{"$f":"IFERROR(VLOOKUP(ROWS(AL$2:$AL31),N31:Q1934,4,0),\"\")","v":""}]
[null,null,null,null,null,null,null,null,null,null,null,null,null,{"$f":"IF(ISNUMBER(SEARCH($H$16,Q32)),MAX($N$1:N31)+1,0)","v":0},{"$f":"IF(ISNUMBER(SEARCH($H$11,Q32)),MAX($O$1:O31)+1,0)","v":0},{"$f":"IF(ISNUMBER(SEARCH($H$6,Q32)),MAX($P$1:P31)+1,0)","v":0},"icici pru top 100 fund inst i","MPI135","Large Cap",null,null,null,null,null,null,null,null,null,null,null,{"$f":"IFERROR(VLOOKUP(ROWS($AE$2:AE32),P32:Q1935,2,0),\"\")","v":""},null,null,null,null,{"$f":"IFERROR(VLOOKUP(ROWS($AJ$2:AJ32),O32:Q1935,3,0),\"\")","v":""},null,{"$f":"IFERROR(VLOOKUP(ROWS(AL$2:$AL32),N32:Q1935,4,0),\"\")","v":""}]
[null,null,null,null,null,null,null,null,null,null,null,null,null,{"$f":"IF(ISNUMBER(SEARCH($H$16,Q33)),MAX($N$1:N32)+1,0)","v":0},{"$f":"IF(ISNUMBER(SEARCH($H$11,Q33)),MAX($O$1:O32)+1,0)","v":0},{"$f":"IF(ISNUMBER(SEARCH($H$6,Q33)),MAX($P$1:P32)+1,0)","v":0},"idbi india top 100 equity fund","MIB062","Large Cap",null,null,null,null,null,null,null,null,null,null,null,{"$f":"IFERROR(VLOOKUP(ROWS($AE$2:AE33),P33:Q1936,2,0),\"\")","v":""},null,null,null,null,{"$f":"IFERROR(VLOOKUP(ROWS($AJ$2:AJ33),O33:Q1936,3,0),\"\")","v":""},null,{"$f":"IFERROR(VLOOKUP(ROWS(AL$2:$AL33),N33:Q1936,4,0),\"\")","v":""}]
[null,null,null,null,null,null,null,null,null,null,null,null,null,{"$f":"IF(ISNUMBER(SEARCH($H$16,Q34)),MAX($N$1:N33)+1,0)","v":0},{"$f":"IF(ISNUMBER(SEARCH($H$11,Q34)),MAX($O$1:O33)+1,0)","v":0},{"$f":"IF(ISNUMBER(SEARCH($H$6,Q34)),MAX($P$1:P33)+1,0)","v":0},"idfc equity fund plan b","MAG343","Large Cap",null,null,null,null,null,null,null,null,null,null,null,{"$f":"IFERROR(VLOOKUP(ROWS($AE$2:AE34),P34:Q1937,2,0),\"\")","v":""},null,null,null,null,{"$f":"IFERROR(VLOOKUP(ROWS($AJ$2:AJ34),O34:Q1937,3,0),\"\")","v":""},null,{"$f":"IFERROR(VLOOKUP(ROWS(AL$2:$AL34),N34:Q1937,4,0),\"\")","v":""}]
[null,null,null,null,null,null,null,null,null,null,null,null,null,{"$f":"IF(ISNUMBER(SEARCH($H$16,Q35)),MAX($N$1:N34)+1,0)","v":0},{"$f":"IF(ISNUMBER(SEARCH($H$11,Q35)),MAX($O$1:O34)+1,0)","v":0},{"$f":"IF(ISNUMBER(SEARCH($H$6,Q35)),MAX($P$1:P34)+1,0)","v":0},"idfc equity fund regular plan","MAG106","Large Cap",null,null,null,null,null,null,null,null,null,null,null,{"$f":"IFERROR(VLOOKUP(ROWS($AE$2:AE35),P35:Q1938,2,0),\"\")","v":""},null,null,null,null,{"$f":"IFERROR(VLOOKUP(ROWS($AJ$2:AJ35),O35:Q1938,3,0),\"\")","v":""},null,{"$f":"IFERROR(VLOOKUP(ROWS(AL$2:$AL35),N35:Q1938,4,0),\"\")","v":""}]
[null,null,null,null,null,null,null,null,null,null,null,null,null,{"$f":"IF(ISNUMBER(SEARCH($H$16,Q36)),MAX($N$1:N35)+1,0)","v":0},{"$f":"IF(ISNUMBER(SEARCH($H$11,Q36)),MAX($O$1:O35)+1,0)","v":0},{"$f":"IF(ISNUMBER(SEARCH($H$6,Q36)),MAX($P$1:P35)+1,0)","v":0},"idfc imperial equity plan b","MAG340","Large Cap",null,null,null,null,null,null,null,null,null,null,null,{"$f":"IFERROR(VLOOKUP(ROWS($AE$2:AE36),P36:Q1939,2,0),\"\")","v":""},null,null,null,null,{"$f":"IFERROR(VLOOKUP(ROWS($AJ$2:AJ36),O36:Q1939,3,0),\"\")","v":""},null,{"$f":"IFERROR(VLOOKUP(ROWS(AL$2:$AL36),N36:Q1939,4,0),\"\")","v":""}]
[null,null,null,null,null,null,null,null,null,null,null,null,null,{"$f":"IF(ISNUMBER(SEARCH($H$16,Q37)),MAX($N$1:N36)+1,0)","v":0},{"$f":"IF(ISNUMBER(SEARCH($H$11,Q37)),MAX($O$1:O36)+1,0)","v":0},{"$f":"IF(ISNUMBER(SEARCH($H$6,Q37)),MAX($P$1:P36)+1,0)","v":0},"idfc imperial equity regular","MAG096","Large Cap",null,null,null,null,null,null,null,null,null,null,null,{"$f":"IFERROR(VLOOKUP(ROWS($AE$2:AE37),P37:Q1940,2,0),\"\")","v":""},null,null,null,null,{"$f":"IFERROR(VLOOKUP(ROWS($AJ$2:AJ37),O37:Q1940,3,0),\"\")","v":""},null,{"$f":"IFERROR(VLOOKUP(ROWS(AL$2:$AL37),N37:Q1940,4,0),\"\")","v":""}]
[null,null,null,null,null,null,null,null,null,null,null,null,null,{"$f":"IF(ISNUMBER(SEARCH($H$16,Q38)),MAX($N$1:N37)+1,0)","v":0},{"$f":"IF(ISNUMBER(SEARCH($H$11,Q38)),MAX($O$1:O37)+1,0)","v":0},{"$f":"IF(ISNUMBER(SEARCH($H$6,Q38)),MAX($P$1:P37)+1,0)","v":0},"indiabulls blue chip fund","MIM010","Large Cap",null,null,null,null,null,null,null,null,null,null,null,{"$f":"IFERROR(VLOOKUP(ROWS($AE$2:AE38),P38:Q1941,2,0),\"\")","v":""},null,null,null,null,{"$f":"IFERROR(VLOOKUP(ROWS($AJ$2:AJ38),O38:Q1941,3,0),\"\")","v":""},null,{"$f":"IFERROR(VLOOKUP(ROWS(AL$2:$AL38),N38:Q1941,4,0),\"\")","v":""}]
[null,null,null,null,null,null,null,null,null,null,null,null,null,{"$f":"IF(ISNUMBER(SEARCH($H$16,Q39)),MAX($N$1:N38)+1,0)","v":0},{"$f":"IF(ISNUMBER(SEARCH($H$11,Q39)),MAX($O$1:O38)+1,0)","v":0},{"$f":"IF(ISNUMBER(SEARCH($H$6,Q39)),MAX($P$1:P38)+1,0)","v":0},"indiabulls blue chip fund dir","MIM031","Large Cap",null,null,null,null,null,null,null,null,null,null,null,{"$f":"IFERROR(VLOOKUP(ROWS($AE$2:AE39),P39:Q1942,2,0),\"\")","v":""},null,null,null,null,{"$f":"IFERROR(VLOOKUP(ROWS($AJ$2:AJ39),O39:Q1942,3,0),\"\")","v":""},null,{"$f":"IFERROR(VLOOKUP(ROWS(AL$2:$AL39),N39:Q1942,4,0),\"\")","v":""}]
[null,null,null,null,null,null,null,null,null,null,null,null,null,{"$f":"IF(ISNUMBER(SEARCH($H$16,Q40)),MAX($N$1:N39)+1,0)","v":0},{"$f":"IF(ISNUMBER(SEARCH($H$11,Q40)),MAX($O$1:O39)+1,0)","v":0},{"$f":"IF(ISNUMBER(SEARCH($H$6,Q40)),MAX($P$1:P39)+1,0)","v":0},"jm core 11 fund","MJM171","Large Cap",null,null,null,null,null,null,null,null,null,null,null,{"$f":"IFERROR(VLOOKUP(ROWS($AE$2:AE40),P40:Q1943,2,0),\"\")","v":""},null,null,null,null,{"$f":"IFERROR(VLOOKUP(ROWS($AJ$2:AJ40),O40:Q1943,3,0),\"\")","v":""},null,{"$f":"IFERROR(VLOOKUP(ROWS(AL$2:$AL40),N40:Q1943,4,0),\"\")","v":""}]
[null,null,null,null,null,null,null,null,null,null,null,null,null,{"$f":"IF(ISNUMBER(SEARCH($H$16,Q41)),MAX($N$1:N40)+1,0)","v":0},{"$f":"IF(ISNUMBER(SEARCH($H$11,Q41)),MAX($O$1:O40)+1,0)","v":0},{"$f":"IF(ISNUMBER(SEARCH($H$6,Q41)),MAX($P$1:P40)+1,0)","v":0},"jm multi strategy fund","MJM238","Large Cap",null,null,null,null,null,null,null,null,null,null,null,{"$f":"IFERROR(VLOOKUP(ROWS($AE$2:AE41),P41:Q1944,2,0),\"\")","v":""},null,null,null,null,{"$f":"IFERROR(VLOOKUP(ROWS($AJ$2:AJ41),O41:Q1944,3,0),\"\")","v":""},null,{"$f":"IFERROR(VLOOKUP(ROWS(AL$2:$AL41),N41:Q1944,4,0),\"\")","v":""}]
[null,null,null,null,null,null,null,null,null,null,null,null,null,{"$f":"IF(ISNUMBER(SEARCH($H$16,Q42)),MAX($N$1:N41)+1,0)","v":0},{"$f":"IF(ISNUMBER(SEARCH($H$11,Q42)),MAX($O$1:O41)+1,0)","v":0},{"$f":"IF(ISNUMBER(SEARCH($H$6,Q42)),MAX($P$1:P41)+1,0)","v":0},"jpmorgan india equity fund","MJP001","Large Cap",null,null,null,null,null,null,null,null,null,null,null,{"$f":"IFERROR(VLOOKUP(ROWS($AE$2:AE42),P42:Q1945,2,0),\"\")","v":""},null,null,null,null,{"$f":"IFERROR(VLOOKUP(ROWS($AJ$2:AJ42),O42:Q1945,3,0),\"\")","v":""},null,{"$f":"IFERROR(VLOOKUP(ROWS(AL$2:$AL42),N42:Q1945,4,0),\"\")","v":""}]
[null,null,null,null,null,null,null,null,null,null,null,null,null,{"$f":"IF(ISNUMBER(SEARCH($H$16,Q43)),MAX($N$1:N42)+1,0)","v":0},{"$f":"IF(ISNUMBER(SEARCH($H$11,Q43)),MAX($O$1:O42)+1,0)","v":0},{"$f":"IF(ISNUMBER(SEARCH($H$6,Q43)),MAX($P$1:P42)+1,0)","v":0},"jpmorgan india top 100 fund dp","MJP279","Large Cap",null,null,null,null,null,null,null,null,null,null,null,{"$f":"IFERROR(VLOOKUP(ROWS($AE$2:AE43),P43:Q1946,2,0),\"\")","v":""},null,null,null,null,{"$f":"IFERROR(VLOOKUP(ROWS($AJ$2:AJ43),O43:Q1946,3,0),\"\")","v":""},null,{"$f":"IFERROR(VLOOKUP(ROWS(AL$2:$AL43),N43:Q1946,4,0),\"\")","v":""}]
[null,null,null,null,null,null,null,null,null,null,null,null,null,{"$f":"IF(ISNUMBER(SEARCH($H$16,Q44)),MAX($N$1:N43)+1,0)","v":0},{"$f":"IF(ISNUMBER(SEARCH($H$11,Q44)),MAX($O$1:O43)+1,0)","v":0},{"$f":"IF(ISNUMBER(SEARCH($H$6,Q44)),MAX($P$1:P43)+1,0)","v":0},"jpmorgan india top 100 fund rp","MJP277","Large Cap",null,null,null,null,null,null,null,null,null,null,null,{"$f":"IFERROR(VLOOKUP(ROWS($AE$2:AE44),P44:Q1947,2,0),\"\")","v":""},null,null,null,null,{"$f":"IFERROR(VLOOKUP(ROWS($AJ$2:AJ44),O44:Q1947,3,0),\"\")","v":""},null,{"$f":"IFERROR(VLOOKUP(ROWS(AL$2:$AL44),N44:Q1947,4,0),\"\")","v":""}]
[null,null,null,null,null,null,null,null,null,null,null,null,null,{"$f":"IF(ISNUMBER(SEARCH($H$16,Q45)),MAX($N$1:N44)+1,0)","v":0},{"$f":"IF(ISNUMBER(SEARCH($H$11,Q45)),MAX($O$1:O44)+1,0)","v":0},{"$f":"IF(ISNUMBER(SEARCH($H$6,Q45)),MAX($P$1:P44)+1,0)","v":0},"kotak 50 regular plan","MKM003","Large Cap",null,null,null,null,null,null,null,null,null,null,null,{"$f":"IFERROR(VLOOKUP(ROWS($AE$2:AE45),P45:Q1948,2,0),\"\")","v":""},null,null,null,null,{"$f":"IFERROR(VLOOKUP(ROWS($AJ$2:AJ45),O45:Q1948,3,0),\"\")","v":""},null,{"$f":"IFERROR(VLOOKUP(ROWS(AL$2:$AL45),N45:Q1948,4,0),\"\")","v":""}]
[null,null,null,null,null,null,null,null,null,null,null,null,null,{"$f":"IF(ISNUMBER(SEARCH($H$16,Q46)),MAX($N$1:N45)+1,0)","v":0},{"$f":"IF(ISNUMBER(SEARCH($H$11,Q46)),MAX($O$1:O45)+1,0)","v":0},{"$f":"IF(ISNUMBER(SEARCH($H$6,Q46)),MAX($P$1:P45)+1,0)","v":0},"kotak classic equity regular","MKM077","Large Cap",null,null,null,null,null,null,null,null,null,null,null,{"$f":"IFERROR(VLOOKUP(ROWS($AE$2:AE46),P46:Q1949,2,0),\"\")","v":""},null,null,null,null,{"$f":"IFERROR(VLOOKUP(ROWS($AJ$2:AJ46),O46:Q1949,3,0),\"\")","v":""},null,{"$f":"IFERROR(VLOOKUP(ROWS(AL$2:$AL46),N46:Q1949,4,0),\"\")","v":""}]
[null,null,null,null,null,null,null,null,null,null,null,null,null,{"$f":"IF(ISNUMBER(SEARCH($H$16,Q47)),MAX($N$1:N46)+1,0)","v":0},{"$f":"IF(ISNUMBER(SEARCH($H$11,Q47)),MAX($O$1:O46)+1,0)","v":0},{"$f":"IF(ISNUMBER(SEARCH($H$6,Q47)),MAX($P$1:P46)+1,0)","v":0},"lic nomura growth fund","MJB009","Large Cap",null,null,null,null,null,null,null,null,null,null,null,{"$f":"IFERROR(VLOOKUP(ROWS($AE$2:AE47),P47:Q1950,2,0),\"\")","v":""},null,null,null,null,{"$f":"IFERROR(VLOOKUP(ROWS($AJ$2:AJ47),O47:Q1950,3,0),\"\")","v":""},null,{"$f":"IFERROR(VLOOKUP(ROWS(AL$2:$AL47),N47:Q1950,4,0),\"\")","v":""}]
[null,null,null,null,null,null,null,null,null,null,null,null,null,{"$f":"IF(ISNUMBER(SEARCH($H$16,Q48)),MAX($N$1:N47)+1,0)","v":0},{"$f":"IF(ISNUMBER(SEARCH($H$11,Q48)),MAX($O$1:O47)+1,0)","v":0},{"$f":"IF(ISNUMBER(SEARCH($H$6,Q48)),MAX($P$1:P47)+1,0)","v":0},"lic nomura index sensex adv","MJB019","Large Cap",null,null,null,null,null,null,null,null,null,null,null,{"$f":"IFERROR(VLOOKUP(ROWS($AE$2:AE48),P48:Q1951,2,0),\"\")","v":""},null,null,null,null,{"$f":"IFERROR(VLOOKUP(ROWS($AJ$2:AJ48),O48:Q1951,3,0),\"\")","v":""},null,{"$f":"IFERROR(VLOOKUP(ROWS(AL$2:$AL48),N48:Q1951,4,0),\"\")","v":""}]
[null,null,null,null,null,null,null,null,null,null,null,null,null,{"$f":"IF(ISNUMBER(SEARCH($H$16,Q49)),MAX($N$1:N48)+1,0)","v":0},{"$f":"IF(ISNUMBER(SEARCH($H$11,Q49)),MAX($O$1:O48)+1,0)","v":0},{"$f":"IF(ISNUMBER(SEARCH($H$6,Q49)),MAX($P$1:P48)+1,0)","v":0},"l t india large cap fund","MFF027","Large Cap",null,null,null,null,null,null,null,null,null,null,null,{"$f":"IFERROR(VLOOKUP(ROWS($AE$2:AE49),P49:Q1952,2,0),\"\")","v":""},null,null,null,null,{"$f":"IFERROR(VLOOKUP(ROWS($AJ$2:AJ49),O49:Q1952,3,0),\"\")","v":""},null,{"$f":"IFERROR(VLOOKUP(ROWS(AL$2:$AL49),N49:Q1952,4,0),\"\")","v":""}]
[null,null,null,null,null,null,null,null,null,null,null,null,null,{"$f":"IF(ISNUMBER(SEARCH($H$16,Q50)),MAX($N$1:N49)+1,0)","v":0},{"$f":"IF(ISNUMBER(SEARCH($H$11,Q50)),MAX($O$1:O49)+1,0)","v":0},{"$f":"IF(ISNUMBER(SEARCH($H$6,Q50)),MAX($P$1:P49)+1,0)","v":0},"motilal most shares m50 etf","MMO001","Large Cap",null,null,null,null,null,null,null,null,null,null,null,{"$f":"IFERROR(VLOOKUP(ROWS($AE$2:AE50),P50:Q1953,2,0),\"\")","v":""},null,null,null,null,{"$f":"IFERROR(VLOOKUP(ROWS($AJ$2:AJ50),O50:Q1953,3,0),\"\")","v":""},null,{"$f":"IFERROR(VLOOKUP(ROWS(AL$2:$AL50),N50:Q1953,4,0),\"\")","v":""}]
[null,null,null,null,null,null,null,null,null,null,null,null,null,{"$f":"IF(ISNUMBER(SEARCH($H$16,Q51)),MAX($N$1:N50)+1,0)","v":0},{"$f":"IF(ISNUMBER(SEARCH($H$11,Q51)),MAX($O$1:O50)+1,0)","v":0},{"$f":"IF(ISNUMBER(SEARCH($H$6,Q51)),MAX($P$1:P50)+1,0)","v":0},"pramerica large cap equity","MPA011","Large Cap",null,null,null,null,null,null,null,null,null,null,null,{"$f":"IFERROR(VLOOKUP(ROWS($AE$2:AE51),P51:Q1954,2,0),\"\")","v":""},null,null,null,null,{"$f":"IFERROR(VLOOKUP(ROWS($AJ$2:AJ51),O51:Q1954,3,0),\"\")","v":""},null,{"$f":"IFERROR(VLOOKUP(ROWS(AL$2:$AL51),N51:Q1954,4,0),\"\")","v":""}]
[null,null,null,null,null,null,null,null,null,null,null,null,null,{"$f":"IF(ISNUMBER(SEARCH($H$16,Q52)),MAX($N$1:N51)+1,0)","v":0},{"$f":"IF(ISNUMBER(SEARCH($H$11,Q52)),MAX($O$1:O51)+1,0)","v":0},{"$f":"IF(ISNUMBER(SEARCH($H$6,Q52)),MAX($P$1:P51)+1,0)","v":0},"pramerica large cap equity dir","MPA041","Large Cap",null,null,null,null,null,null,null,null,null,null,null,{"$f":"IFERROR(VLOOKUP(ROWS($AE$2:AE52),P52:Q1955,2,0),\"\")","v":""},null,null,null,null,{"$f":"IFERROR(VLOOKUP(ROWS($AJ$2:AJ52),O52:Q1955,3,0),\"\")","v":""},null,{"$f":"IFERROR(VLOOKUP(ROWS(AL$2:$AL52),N52:Q1955,4,0),\"\")","v":""}]
[null,null,null,null,null,null,null,null,null,null,null,null,null,{"$f":"IF(ISNUMBER(SEARCH($H$16,Q53)),MAX($N$1:N52)+1,0)","v":0},{"$f":"IF(ISNUMBER(SEARCH($H$11,Q53)),MAX($O$1:O52)+1,0)","v":0},{"$f":"IF(ISNUMBER(SEARCH($H$6,Q53)),MAX($P$1:P52)+1,0)","v":0},"principal large cap fund","MID094","Large Cap",null,null,null,null,null,null,null,null,null,null,null,{"$f":"IFERROR(VLOOKUP(ROWS($AE$2:AE53),P53:Q1956,2,0),\"\")","v":""},null,null,null,null,{"$f":"IFERROR(VLOOKUP(ROWS($AJ$2:AJ53),O53:Q1956,3,0),\"\")","v":""},null,{"$f":"IFERROR(VLOOKUP(ROWS(AL$2:$AL53),N53:Q1956,4,0),\"\")","v":""}]
[null,null,null,null,null,null,null,null,null,null,null,null,null,{"$f":"IF(ISNUMBER(SEARCH($H$16,Q54)),MAX($N$1:N53)+1,0)","v":0},{"$f":"IF(ISNUMBER(SEARCH($H$11,Q54)),MAX($O$1:O53)+1,0)","v":0},{"$f":"IF(ISNUMBER(SEARCH($H$6,Q54)),MAX($P$1:P53)+1,0)","v":0},"reliance focused large cap dir","MRC911","Large Cap",null,null,null,null,null,null,null,null,null,null,null,{"$f":"IFERROR(VLOOKUP(ROWS($AE$2:AE54),P54:Q1957,2,0),\"\")","v":""},null,null,null,null,{"$f":"IFERROR(VLOOKUP(ROWS($AJ$2:AJ54),O54:Q1957,3,0),\"\")","v":""},null,{"$f":"IFERROR(VLOOKUP(ROWS(AL$2:$AL54),N54:Q1957,4,0),\"\")","v":""}]
[null,null,null,null,null,null,null,null,null,null,null,null,null,{"$f":"IF(ISNUMBER(SEARCH($H$16,Q55)),MAX($N$1:N54)+1,0)","v":0},{"$f":"IF(ISNUMBER(SEARCH($H$11,Q55)),MAX($O$1:O54)+1,0)","v":0},{"$f":"IF(ISNUMBER(SEARCH($H$6,Q55)),MAX($P$1:P54)+1,0)","v":0},"reliance focused large cap rp","MRC103","Large Cap",null,null,null,null,null,null,null,null,null,null,null,{"$f":"IFERROR(VLOOKUP(ROWS($AE$2:AE55),P55:Q1958,2,0),\"\")","v":""},null,null,null,null,{"$f":"IFERROR(VLOOKUP(ROWS($AJ$2:AJ55),O55:Q1958,3,0),\"\")","v":""},null,{"$f":"IFERROR(VLOOKUP(ROWS(AL$2:$AL55),N55:Q1958,4,0),\"\")","v":""}]
[null,null,null,null,null,null,null,null,null,null,null,null,null,{"$f":"IF(ISNUMBER(SEARCH($H$16,Q56)),MAX($N$1:N55)+1,0)","v":0},{"$f":"IF(ISNUMBER(SEARCH($H$11,Q56)),MAX($O$1:O55)+1,0)","v":0},{"$f":"IF(ISNUMBER(SEARCH($H$6,Q56)),MAX($P$1:P55)+1,0)","v":0},"reliance quant plus rp","MRC346","Large Cap",null,null,null,null,null,null,null,null,null,null,null,{"$f":"IFERROR(VLOOKUP(ROWS($AE$2:AE56),P56:Q1959,2,0),\"\")","v":""},null,null,null,null,{"$f":"IFERROR(VLOOKUP(ROWS($AJ$2:AJ56),O56:Q1959,3,0),\"\")","v":""},null,{"$f":"IFERROR(VLOOKUP(ROWS(AL$2:$AL56),N56:Q1959,4,0),\"\")","v":""}]
[null,null,null,null,null,null,null,null,null,null,null,null,null,{"$f":"IF(ISNUMBER(SEARCH($H$16,Q57)),MAX($N$1:N56)+1,0)","v":0},{"$f":"IF(ISNUMBER(SEARCH($H$11,Q57)),MAX($O$1:O56)+1,0)","v":0},{"$f":"IF(ISNUMBER(SEARCH($H$6,Q57)),MAX($P$1:P56)+1,0)","v":0},"religare invesco agile dir","MLI574","Large Cap",null,null,null,null,null,null,null,null,null,null,null,{"$f":"IFERROR(VLOOKUP(ROWS($AE$2:AE57),P57:Q1960,2,0),\"\")","v":""},null,null,null,null,{"$f":"IFERROR(VLOOKUP(ROWS($AJ$2:AJ57),O57:Q1960,3,0),\"\")","v":""},null,{"$f":"IFERROR(VLOOKUP(ROWS(AL$2:$AL57),N57:Q1960,4,0),\"\")","v":""}]
[null,null,null,null,null,null,null,null,null,null,null,null,null,{"$f":"IF(ISNUMBER(SEARCH($H$16,Q58)),MAX($N$1:N57)+1,0)","v":0},{"$f":"IF(ISNUMBER(SEARCH($H$11,Q58)),MAX($O$1:O57)+1,0)","v":0},{"$f":"IF(ISNUMBER(SEARCH($H$6,Q58)),MAX($P$1:P57)+1,0)","v":0},"religare invesco agile fund","MLI147","Large Cap",null,null,null,null,null,null,null,null,null,null,null,{"$f":"IFERROR(VLOOKUP(ROWS($AE$2:AE58),P58:Q1961,2,0),\"\")","v":""},null,null,null,null,{"$f":"IFERROR(VLOOKUP(ROWS($AJ$2:AJ58),O58:Q1961,3,0),\"\")","v":""},null,{"$f":"IFERROR(VLOOKUP(ROWS(AL$2:$AL58),N58:Q1961,4,0),\"\")","v":""}]
[null,null,null,null,null,null,null,null,null,null,null,null,null,{"$f":"IF(ISNUMBER(SEARCH($H$16,Q59)),MAX($N$1:N58)+1,0)","v":0},{"$f":"IF(ISNUMBER(SEARCH($H$11,Q59)),MAX($O$1:O58)+1,0)","v":0},{"$f":"IF(ISNUMBER(SEARCH($H$6,Q59)),MAX($P$1:P58)+1,0)","v":0},"religare invesco bus leaders","MLI339","Large Cap",null,null,null,null,null,null,null,null,null,null,null,{"$f":"IFERROR(VLOOKUP(ROWS($AE$2:AE59),P59:Q1962,2,0),\"\")","v":""},null,null,null,null,{"$f":"IFERROR(VLOOKUP(ROWS($AJ$2:AJ59),O59:Q1962,3,0),\"\")","v":""},null,{"$f":"IFERROR(VLOOKUP(ROWS(AL$2:$AL59),N59:Q1962,4,0),\"\")","v":""}]
[null,null,null,null,null,null,null,null,null,null,null,null,null,{"$f":"IF(ISNUMBER(SEARCH($H$16,Q60)),MAX($N$1:N59)+1,0)","v":0},{"$f":"IF(ISNUMBER(SEARCH($H$11,Q60)),MAX($O$1:O59)+1,0)","v":0},{"$f":"IF(ISNUMBER(SEARCH($H$6,Q60)),MAX($P$1:P59)+1,0)","v":0},"religare invesco bus leaders dp","MLI568","Large Cap",null,null,null,null,null,null,null,null,null,null,null,{"$f":"IFERROR(VLOOKUP(ROWS($AE$2:AE60),P60:Q1963,2,0),\"\")","v":""},null,null,null,null,{"$f":"IFERROR(VLOOKUP(ROWS($AJ$2:AJ60),O60:Q1963,3,0),\"\")","v":""},null,{"$f":"IFERROR(VLOOKUP(ROWS(AL$2:$AL60),N60:Q1963,4,0),\"\")","v":""}]
[null,null,null,null,null,null,null,null,null,null,null,null,null,{"$f":"IF(ISNUMBER(SEARCH($H$16,Q61)),MAX($N$1:N60)+1,0)","v":0},{"$f":"IF(ISNUMBER(SEARCH($H$11,Q61)),MAX($O$1:O60)+1,0)","v":0},{"$f":"IF(ISNUMBER(SEARCH($H$6,Q61)),MAX($P$1:P60)+1,0)","v":0},"sahara growth fund","MFI007","Large Cap",null,null,null,null,null,null,null,null,null,null,null,{"$f":"IFERROR(VLOOKUP(ROWS($AE$2:AE61),P61:Q1964,2,0),\"\")","v":""},null,null,null,null,{"$f":"IFERROR(VLOOKUP(ROWS($AJ$2:AJ61),O61:Q1964,3,0),\"\")","v":""},null,{"$f":"IFERROR(VLOOKUP(ROWS(AL$2:$AL61),N61:Q1964,4,0),\"\")","v":""}]
[null,null,null,null,null,null,null,null,null,null,null,null,null,{"$f":"IF(ISNUMBER(SEARCH($H$16,Q62)),MAX($N$1:N61)+1,0)","v":0},{"$f":"IF(ISNUMBER(SEARCH($H$11,Q62)),MAX($O$1:O61)+1,0)","v":0},{"$f":"IF(ISNUMBER(SEARCH($H$6,Q62)),MAX($P$1:P61)+1,0)","v":0},"sahara super 20 fund","MFI059","Large Cap",null,null,null,null,null,null,null,null,null,null,null,{"$f":"IFERROR(VLOOKUP(ROWS($AE$2:AE62),P62:Q1965,2,0),\"\")","v":""},null,null,null,null,{"$f":"IFERROR(VLOOKUP(ROWS($AJ$2:AJ62),O62:Q1965,3,0),\"\")","v":""},null,{"$f":"IFERROR(VLOOKUP(ROWS(AL$2:$AL62),N62:Q1965,4,0),\"\")","v":""}]
[null,null,null,null,null,null,null,null,null,null,null,null,null,{"$f":"IF(ISNUMBER(SEARCH($H$16,Q63)),MAX($N$1:N62)+1,0)","v":0},{"$f":"IF(ISNUMBER(SEARCH($H$11,Q63)),MAX($O$1:O62)+1,0)","v":0},{"$f":"IF(ISNUMBER(SEARCH($H$6,Q63)),MAX($P$1:P62)+1,0)","v":0},"sbi blue chip fund","MSB079","Large Cap",null,null,null,null,null,null,null,null,null,null,null,{"$f":"IFERROR(VLOOKUP(ROWS($AE$2:AE63),P63:Q1966,2,0),\"\")","v":""},null,null,null,null,{"$f":"IFERROR(VLOOKUP(ROWS($AJ$2:AJ63),O63:Q1966,3,0),\"\")","v":""},null,{"$f":"IFERROR(VLOOKUP(ROWS(AL$2:$AL63),N63:Q1966,4,0),\"\")","v":""}]
[null,null,null,null,null,null,null,null,null,null,null,null,null,{"$f":"IF(ISNUMBER(SEARCH($H$16,Q64)),MAX($N$1:N63)+1,0)","v":0},{"$f":"IF(ISNUMBER(SEARCH($H$11,Q64)),MAX($O$1:O63)+1,0)","v":0},{"$f":"IF(ISNUMBER(SEARCH($H$6,Q64)),MAX($P$1:P63)+1,0)","v":0},"sbi magnum equity fund","MSB085","Large Cap",null,null,null,null,null,null,null,null,null,null,null,{"$f":"IFERROR(VLOOKUP(ROWS($AE$2:AE64),P64:Q1967,2,0),\"\")","v":""},null,null,null,null,{"$f":"IFERROR(VLOOKUP(ROWS($AJ$2:AJ64),O64:Q1967,3,0),\"\")","v":""},null,{"$f":"IFERROR(VLOOKUP(ROWS(AL$2:$AL64),N64:Q1967,4,0),\"\")","v":""}]
[null,null,null,null,null,null,null,null,null,null,null,null,null,{"$f":"IF(ISNUMBER(SEARCH($H$16,Q65)),MAX($N$1:N64)+1,0)","v":0},{"$f":"IF(ISNUMBER(SEARCH($H$11,Q65)),MAX($O$1:O64)+1,0)","v":0},{"$f":"IF(ISNUMBER(SEARCH($H$6,Q65)),MAX($P$1:P64)+1,0)","v":0},"sundaram equity plus","MSN431","Large Cap",null,null,null,null,null,null,null,null,null,null,null,{"$f":"IFERROR(VLOOKUP(ROWS($AE$2:AE65),P65:Q1968,2,0),\"\")","v":""},null,null,null,null,{"$f":"IFERROR(VLOOKUP(ROWS($AJ$2:AJ65),O65:Q1968,3,0),\"\")","v":""},null,{"$f":"IFERROR(VLOOKUP(ROWS(AL$2:$AL65),N65:Q1968,4,0),\"\")","v":""}]
[null,null,null,null,null,null,null,null,null,null,null,null,null,{"$f":"IF(ISNUMBER(SEARCH($H$16,Q66)),MAX($N$1:N65)+1,0)","v":0},{"$f":"IF(ISNUMBER(SEARCH($H$11,Q66)),MAX($O$1:O65)+1,0)","v":0},{"$f":"IF(ISNUMBER(SEARCH($H$6,Q66)),MAX($P$1:P65)+1,0)","v":0},"sundaram growth fund ip","MSN337","Large Cap",null,null,null,null,null,null,null,null,null,null,null,{"$f":"IFERROR(VLOOKUP(ROWS($AE$2:AE66),P66:Q1969,2,0),\"\")","v":""},null,null,null,null,{"$f":"IFERROR(VLOOKUP(ROWS($AJ$2:AJ66),O66:Q1969,3,0),\"\")","v":""},null,{"$f":"IFERROR(VLOOKUP(ROWS(AL$2:$AL66),N66:Q1969,4,0),\"\")","v":""}]
[null,null,null,null,null,null,null,null,null,null,null,null,null,{"$f":"IF(ISNUMBER(SEARCH($H$16,Q67)),MAX($N$1:N66)+1,0)","v":0},{"$f":"IF(ISNUMBER(SEARCH($H$11,Q67)),MAX($O$1:O66)+1,0)","v":0},{"$f":"IF(ISNUMBER(SEARCH($H$6,Q67)),MAX($P$1:P66)+1,0)","v":0},"sundaram growth fund rp","MSN003","Large Cap",null,null,null,null,null,null,null,null,null,null,null,{"$f":"IFERROR(VLOOKUP(ROWS($AE$2:AE67),P67:Q1970,2,0),\"\")","v":""},null,null,null,null,{"$f":"IFERROR(VLOOKUP(ROWS($AJ$2:AJ67),O67:Q1970,3,0),\"\")","v":""},null,{"$f":"IFERROR(VLOOKUP(ROWS(AL$2:$AL67),N67:Q1970,4,0),\"\")","v":""}]
[null,null,null,null,null,null,null,null,null,null,null,null,null,{"$f":"IF(ISNUMBER(SEARCH($H$16,Q68)),MAX($N$1:N67)+1,0)","v":0},{"$f":"IF(ISNUMBER(SEARCH($H$11,Q68)),MAX($O$1:O67)+1,0)","v":0},{"$f":"IF(ISNUMBER(SEARCH($H$6,Q68)),MAX($P$1:P67)+1,0)","v":0},"sundaram leadership rp","MSN058","Large Cap",null,null,null,null,null,null,null,null,null,null,null,{"$f":"IFERROR(VLOOKUP(ROWS($AE$2:AE68),P68:Q1971,2,0),\"\")","v":""},null,null,null,null,{"$f":"IFERROR(VLOOKUP(ROWS($AJ$2:AJ68),O68:Q1971,3,0),\"\")","v":""},null,{"$f":"IFERROR(VLOOKUP(ROWS(AL$2:$AL68),N68:Q1971,4,0),\"\")","v":""}]
[null,null,null,null,null,null,null,null,null,null,null,null,null,{"$f":"IF(ISNUMBER(SEARCH($H$16,Q69)),MAX($N$1:N68)+1,0)","v":0},{"$f":"IF(ISNUMBER(SEARCH($H$11,Q69)),MAX($O$1:O68)+1,0)","v":0},{"$f":"IF(ISNUMBER(SEARCH($H$6,Q69)),MAX($P$1:P68)+1,0)","v":0},"sundaram select focus ip","MSN243","Large Cap",null,null,null,null,null,null,null,null,null,null,null,{"$f":"IFERROR(VLOOKUP(ROWS($AE$2:AE69),P69:Q1972,2,0),\"\")","v":""},null,null,null,null,{"$f":"IFERROR(VLOOKUP(ROWS($AJ$2:AJ69),O69:Q1972,3,0),\"\")","v":""},null,{"$f":"IFERROR(VLOOKUP(ROWS(AL$2:$AL69),N69:Q1972,4,0),\"\")","v":""}]
[null,null,null,null,null,null,null,null,null,null,null,null,null,{"$f":"IF(ISNUMBER(SEARCH($H$16,Q70)),MAX($N$1:N69)+1,0)","v":0},{"$f":"IF(ISNUMBER(SEARCH($H$11,Q70)),MAX($O$1:O69)+1,0)","v":0},{"$f":"IF(ISNUMBER(SEARCH($H$6,Q70)),MAX($P$1:P69)+1,0)","v":0},"sundaram select focus rp","MSN011","Large Cap",null,null,null,null,null,null,null,null,null,null,null,{"$f":"IFERROR(VLOOKUP(ROWS($AE$2:AE70),P70:Q1973,2,0),\"\")","v":""},null,null,null,null,{"$f":"IFERROR(VLOOKUP(ROWS($AJ$2:AJ70),O70:Q1973,3,0),\"\")","v":""},null,{"$f":"IFERROR(VLOOKUP(ROWS(AL$2:$AL70),N70:Q1973,4,0),\"\")","v":""}]
[null,null,null,null,null,null,null,null,null,null,null,null,null,{"$f":"IF(ISNUMBER(SEARCH($H$16,Q71)),MAX($N$1:N70)+1,0)","v":0},{"$f":"IF(ISNUMBER(SEARCH($H$11,Q71)),MAX($O$1:O70)+1,0)","v":0},{"$f":"IF(ISNUMBER(SEARCH($H$6,Q71)),MAX($P$1:P70)+1,0)","v":0},"tata pure equity fund regular plan","MTA006","Large Cap",null,null,null,null,null,null,null,null,null,null,null,{"$f":"IFERROR(VLOOKUP(ROWS($AE$2:AE71),P71:Q1974,2,0),\"\")","v":""},null,null,null,null,{"$f":"IFERROR(VLOOKUP(ROWS($AJ$2:AJ71),O71:Q1974,3,0),\"\")","v":""},null,{"$f":"IFERROR(VLOOKUP(ROWS(AL$2:$AL71),N71:Q1974,4,0),\"\")","v":""}]
[null,null,null,null,null,null,null,null,null,null,null,null,null,{"$f":"IF(ISNUMBER(SEARCH($H$16,Q72)),MAX($N$1:N71)+1,0)","v":0},{"$f":"IF(ISNUMBER(SEARCH($H$11,Q72)),MAX($O$1:O71)+1,0)","v":0},{"$f":"IF(ISNUMBER(SEARCH($H$6,Q72)),MAX($P$1:P71)+1,0)","v":0},"taurus bonanza fund","MCM015","Large Cap",null,null,null,null,null,null,null,null,null,null,null,{"$f":"IFERROR(VLOOKUP(ROWS($AE$2:AE72),P72:Q1975,2,0),\"\")","v":""},null,null,null,null,{"$f":"IFERROR(VLOOKUP(ROWS($AJ$2:AJ72),O72:Q1975,3,0),\"\")","v":""},null,{"$f":"IFERROR(VLOOKUP(ROWS(AL$2:$AL72),N72:Q1975,4,0),\"\")","v":""}]
[null,null,null,null,null,null,null,null,null,null,null,null,null,{"$f":"IF(ISNUMBER(SEARCH($H$16,Q73)),MAX($N$1:N72)+1,0)","v":0},{"$f":"IF(ISNUMBER(SEARCH($H$11,Q73)),MAX($O$1:O72)+1,0)","v":0},{"$f":"IF(ISNUMBER(SEARCH($H$6,Q73)),MAX($P$1:P72)+1,0)","v":0},"union kbc trigger fund sr1 dp","MUK072","Large Cap",null,null,null,null,null,null,null,null,null,null,null,{"$f":"IFERROR(VLOOKUP(ROWS($AE$2:AE73),P73:Q1976,2,0),\"\")","v":""},null,null,null,null,{"$f":"IFERROR(VLOOKUP(ROWS($AJ$2:AJ73),O73:Q1976,3,0),\"\")","v":""},null,{"$f":"IFERROR(VLOOKUP(ROWS(AL$2:$AL73),N73:Q1976,4,0),\"\")","v":""}]
[null,null,null,null,null,null,null,null,null,null,null,null,null,{"$f":"IF(ISNUMBER(SEARCH($H$16,Q74)),MAX($N$1:N73)+1,0)","v":0},{"$f":"IF(ISNUMBER(SEARCH($H$11,Q74)),MAX($O$1:O73)+1,0)","v":0},{"$f":"IF(ISNUMBER(SEARCH($H$6,Q74)),MAX($P$1:P73)+1,0)","v":0},"union kbc trigger fund sr1 rp","MUK071","Large Cap",null,null,null,null,null,null,null,null,null,null,null,{"$f":"IFERROR(VLOOKUP(ROWS($AE$2:AE74),P74:Q1977,2,0),\"\")","v":""},null,null,null,null,{"$f":"IFERROR(VLOOKUP(ROWS($AJ$2:AJ74),O74:Q1977,3,0),\"\")","v":""},null,{"$f":"IFERROR(VLOOKUP(ROWS(AL$2:$AL74),N74:Q1977,4,0),\"\")","v":""}]
[null,null,null,null,null,null,null,null,null,null,null,null,null,{"$f":"IF(ISNUMBER(SEARCH($H$16,Q75)),MAX($N$1:N74)+1,0)","v":0},{"$f":"IF(ISNUMBER(SEARCH($H$11,Q75)),MAX($O$1:O74)+1,0)","v":0},{"$f":"IF(ISNUMBER(SEARCH($H$6,Q75)),MAX($P$1:P74)+1,0)","v":0},"union kbc trigger fund sr2 dp","MUK094","Large Cap",null,null,null,null,null,null,null,null,null,null,null,{"$f":"IFERROR(VLOOKUP(ROWS($AE$2:AE75),P75:Q1978,2,0),\"\")","v":""},null,null,null,null,{"$f":"IFERROR(VLOOKUP(ROWS($AJ$2:AJ75),O75:Q1978,3,0),\"\")","v":""},null,{"$f":"IFERROR(VLOOKUP(ROWS(AL$2:$AL75),N75:Q1978,4,0),\"\")","v":""}]
[null,null,null,null,null,null,null,null,null,null,null,null,null,{"$f":"IF(ISNUMBER(SEARCH($H$16,Q76)),MAX($N$1:N75)+1,0)","v":0},{"$f":"IF(ISNUMBER(SEARCH($H$11,Q76)),MAX($O$1:O75)+1,0)","v":0},{"$f":"IF(ISNUMBER(SEARCH($H$6,Q76)),MAX($P$1:P75)+1,0)","v":0},"union kbc trigger fund sr2 rp","MUK093","Large Cap",null,null,null,null,null,null,null,null,null,null,null,{"$f":"IFERROR(VLOOKUP(ROWS($AE$2:AE76),P76:Q1979,2,0),\"\")","v":""},null,null,null,null,{"$f":"IFERROR(VLOOKUP(ROWS($AJ$2:AJ76),O76:Q1979,3,0),\"\")","v":""},null,{"$f":"IFERROR(VLOOKUP(ROWS(AL$2:$AL76),N76:Q1979,4,0),\"\")","v":""}]
[null,null,null,null,null,null,null,null,null,null,null,null,null,{"$f":"IF(ISNUMBER(SEARCH($H$16,Q77)),MAX($N$1:N76)+1,0)","v":0},{"$f":"IF(ISNUMBER(SEARCH($H$11,Q77)),MAX($O$1:O76)+1,0)","v":0},{"$f":"IF(ISNUMBER(SEARCH($H$6,Q77)),MAX($P$1:P76)+1,0)","v":0},"uti equity fund","MUT009","Large Cap",null,null,null,null,null,null,null,null,null,null,null,{"$f":"IFERROR(VLOOKUP(ROWS($AE$2:AE77),P77:Q1980,2,0),\"\")","v":""},null,null,null,null,{"$f":"IFERROR(VLOOKUP(ROWS($AJ$2:AJ77),O77:Q1980,3,0),\"\")","v":""},null,{"$f":"IFERROR(VLOOKUP(ROWS(AL$2:$AL77),N77:Q1980,4,0),\"\")","v":""}]
[null,null,null,null,null,null,null,null,null,null,null,null,null,{"$f":"IF(ISNUMBER(SEARCH($H$16,Q78)),MAX($N$1:N77)+1,0)","v":0},{"$f":"IF(ISNUMBER(SEARCH($H$11,Q78)),MAX($O$1:O77)+1,0)","v":0},{"$f":"IF(ISNUMBER(SEARCH($H$6,Q78)),MAX($P$1:P77)+1,0)","v":0},"uti india lifestyle fund","MUT129","Large Cap",null,null,null,null,null,null,null,null,null,null,null,{"$f":"IFERROR(VLOOKUP(ROWS($AE$2:AE78),P78:Q1981,2,0),\"\")","v":""},null,null,null,null,{"$f":"IFERROR(VLOOKUP(ROWS($AJ$2:AJ78),O78:Q1981,3,0),\"\")","v":""},null,{"$f":"IFERROR(VLOOKUP(ROWS(AL$2:$AL78),N78:Q1981,4,0),\"\")","v":""}]
[null,null,null,null,null,null,null,null,null,null,null,null,null,{"$f":"IF(ISNUMBER(SEARCH($H$16,Q79)),MAX($N$1:N78)+1,0)","v":0},{"$f":"IF(ISNUMBER(SEARCH($H$11,Q79)),MAX($O$1:O78)+1,0)","v":0},{"$f":"IF(ISNUMBER(SEARCH($H$6,Q79)),MAX($P$1:P78)+1,0)","v":0},"uti leadership equity fund","MUT096","Large Cap",null,null,null,null,null,null,null,null,null,null,null,{"$f":"IFERROR(VLOOKUP(ROWS($AE$2:AE79),P79:Q1982,2,0),\"\")","v":""},null,null,null,null,{"$f":"IFERROR(VLOOKUP(ROWS($AJ$2:AJ79),O79:Q1982,3,0),\"\")","v":""},null,{"$f":"IFERROR(VLOOKUP(ROWS(AL$2:$AL79),N79:Q1982,4,0),\"\")","v":""}]
[null,null,null,null,null,null,null,null,null,null,null,null,null,{"$f":"IF(ISNUMBER(SEARCH($H$16,Q80)),MAX($N$1:N79)+1,0)","v":0},{"$f":"IF(ISNUMBER(SEARCH($H$11,Q80)),MAX($O$1:O79)+1,0)","v":0},{"$f":"IF(ISNUMBER(SEARCH($H$6,Q80)),MAX($P$1:P79)+1,0)","v":0},"uti master plus us","MUT008","Large Cap",null,null,null,null,null,null,null,null,null,null,null,{"$f":"IFERROR(VLOOKUP(ROWS($AE$2:AE80),P80:Q1983,2,0),\"\")","v":""},null,null,null,null,{"$f":"IFERROR(VLOOKUP(ROWS($AJ$2:AJ80),O80:Q1983,3,0),\"\")","v":""},null,{"$f":"IFERROR(VLOOKUP(ROWS(AL$2:$AL80),N80:Q1983,4,0),\"\")","v":""}]
[null,null,null,null,null,null,null,null,null,null,null,null,null,{"$f":"IF(ISNUMBER(SEARCH($H$16,Q81)),MAX($N$1:N80)+1,0)","v":0},{"$f":"IF(ISNUMBER(SEARCH($H$11,Q81)),MAX($O$1:O80)+1,0)","v":0},{"$f":"IF(ISNUMBER(SEARCH($H$6,Q81)),MAX($P$1:P80)+1,0)","v":0},"uti mastershare","MUT051","Large Cap",null,null,null,null,null,null,null,null,null,null,null,{"$f":"IFERROR(VLOOKUP(ROWS($AE$2:AE81),P81:Q1984,2,0),\"\")","v":""},null,null,null,null,{"$f":"IFERROR(VLOOKUP(ROWS($AJ$2:AJ81),O81:Q1984,3,0),\"\")","v":""},null,{"$f":"IFERROR(VLOOKUP(ROWS(AL$2:$AL81),N81:Q1984,4,0),\"\")","v":""}]
[null,null,null,null,null,null,null,null,null,null,null,null,null,{"$f":"IF(ISNUMBER(SEARCH($H$16,Q82)),MAX($N$1:N81)+1,0)","v":0},{"$f":"IF(ISNUMBER(SEARCH($H$11,Q82)),MAX($O$1:O81)+1,0)","v":0},{"$f":"IF(ISNUMBER(SEARCH($H$6,Q82)),MAX($P$1:P81)+1,0)","v":0},"uti opportunities fund","MUT072","Large Cap",null,null,null,null,null,null,null,null,null,null,null,{"$f":"IFERROR(VLOOKUP(ROWS($AE$2:AE82),P82:Q1985,2,0),\"\")","v":""},null,null,null,null,{"$f":"IFERROR(VLOOKUP(ROWS($AJ$2:AJ82),O82:Q1985,3,0),\"\")","v":""},null,{"$f":"IFERROR(VLOOKUP(ROWS(AL$2:$AL82),N82:Q1985,4,0),\"\")","v":""}]
[null,null,null,null,null,null,null,null,null,null,null,null,null,{"$f":"IF(ISNUMBER(SEARCH($H$16,Q83)),MAX($N$1:N82)+1,0)","v":0},{"$f":"IF(ISNUMBER(SEARCH($H$11,Q83)),MAX($O$1:O82)+1,0)","v":0},{"$f":"IF(ISNUMBER(SEARCH($H$6,Q83)),MAX($P$1:P82)+1,0)","v":0},"uti top 100 fund","MUT010","Large Cap",null,null,null,null,null,null,null,null,null,null,null,{"$f":"IFERROR(VLOOKUP(ROWS($AE$2:AE83),P83:Q1986,2,0),\"\")","v":""},null,null,null,null,{"$f":"IFERROR(VLOOKUP(ROWS($AJ$2:AJ83),O83:Q1986,3,0),\"\")","v":""},null,{"$f":"IFERROR(VLOOKUP(ROWS(AL$2:$AL83),N83:Q1986,4,0),\"\")","v":""}]
[null,null,null,null,null,null,null,null,null,null,null,null,null,{"$f":"IF(ISNUMBER(SEARCH($H$16,Q84)),MAX($N$1:N83)+1,0)","v":0},{"$f":"IF(ISNUMBER(SEARCH($H$11,Q84)),MAX($O$1:O83)+1,0)","v":0},{"$f":"IF(ISNUMBER(SEARCH($H$6,Q84)),MAX($P$1:P83)+1,0)","v":0},"axis mid cap fund","MAA099","Mid and Small-Cap",null,null,null,null,null,null,null,null,null,null,null,{"$f":"IFERROR(VLOOKUP(ROWS($AE$2:AE84),P84:Q1987,2,0),\"\")","v":""},null,null,null,null,{"$f":"IFERROR(VLOOKUP(ROWS($AJ$2:AJ84),O84:Q1987,3,0),\"\")","v":""},null,{"$f":"IFERROR(VLOOKUP(ROWS(AL$2:$AL84),N84:Q1987,4,0),\"\")","v":""}]
[null,null,null,null,null,null,null,null,null,null,null,null,null,{"$f":"IF(ISNUMBER(SEARCH($H$16,Q85)),MAX($N$1:N84)+1,0)","v":0},{"$f":"IF(ISNUMBER(SEARCH($H$11,Q85)),MAX($O$1:O84)+1,0)","v":0},{"$f":"IF(ISNUMBER(SEARCH($H$6,Q85)),MAX($P$1:P84)+1,0)","v":0},"axis small cap fund regular","MAA314","Mid and Small-Cap",null,null,null,null,null,null,null,null,null,null,null,{"$f":"IFERROR(VLOOKUP(ROWS($AE$2:AE85),P85:Q1988,2,0),\"\")","v":""},null,null,null,null,{"$f":"IFERROR(VLOOKUP(ROWS($AJ$2:AJ85),O85:Q1988,3,0),\"\")","v":""},null,{"$f":"IFERROR(VLOOKUP(ROWS(AL$2:$AL85),N85:Q1988,4,0),\"\")","v":""}]
[null,null,null,null,null,null,null,null,null,null,null,null,null,{"$f":"IF(ISNUMBER(SEARCH($H$16,Q86)),MAX($N$1:N85)+1,0)","v":0},{"$f":"IF(ISNUMBER(SEARCH($H$11,Q86)),MAX($O$1:O85)+1,0)","v":0},{"$f":"IF(ISNUMBER(SEARCH($H$6,Q86)),MAX($P$1:P85)+1,0)","v":0},"birla sl emer leaders sr 1 dp","MBS1821","Mid and Small-Cap",null,null,null,null,null,null,null,null,null,null,null,{"$f":"IFERROR(VLOOKUP(ROWS($AE$2:AE86),P86:Q1989,2,0),\"\")","v":""},null,null,null,null,{"$f":"IFERROR(VLOOKUP(ROWS($AJ$2:AJ86),O86:Q1989,3,0),\"\")","v":""},null,{"$f":"IFERROR(VLOOKUP(ROWS(AL$2:$AL86),N86:Q1989,4,0),\"\")","v":""}]
[null,null,null,null,null,null,null,null,null,null,null,null,null,{"$f":"IF(ISNUMBER(SEARCH($H$16,Q87)),MAX($N$1:N86)+1,0)","v":0},{"$f":"IF(ISNUMBER(SEARCH($H$11,Q87)),MAX($O$1:O86)+1,0)","v":0},{"$f":"IF(ISNUMBER(SEARCH($H$6,Q87)),MAX($P$1:P86)+1,0)","v":0},"birla sl emer leaders sr 1 rp","MBS1819","Mid and Small-Cap",null,null,null,null,null,null,null,null,null,null,null,{"$f":"IFERROR(VLOOKUP(ROWS($AE$2:AE87),P87:Q1990,2,0),\"\")","v":""},null,null,null,null,{"$f":"IFERROR(VLOOKUP(ROWS($AJ$2:AJ87),O87:Q1990,3,0),\"\")","v":""},null,{"$f":"IFERROR(VLOOKUP(ROWS(AL$2:$AL87),N87:Q1990,4,0),\"\")","v":""}]
[null,null,null,null,null,null,null,null,null,null,null,null,null,{"$f":"IF(ISNUMBER(SEARCH($H$16,Q88)),MAX($N$1:N87)+1,0)","v":0},{"$f":"IF(ISNUMBER(SEARCH($H$11,Q88)),MAX($O$1:O87)+1,0)","v":0},{"$f":"IF(ISNUMBER(SEARCH($H$6,Q88)),MAX($P$1:P87)+1,0)","v":0},"birla sl emer leaders sr 2 dp","MBS1867","Mid and Small-Cap",null,null,null,null,null,null,null,null,null,null,null,{"$f":"IFERROR(VLOOKUP(ROWS($AE$2:AE88),P88:Q1991,2,0),\"\")","v":""},null,null,null,null,{"$f":"IFERROR(VLOOKUP(ROWS($AJ$2:AJ88),O88:Q1991,3,0),\"\")","v":""},null,{"$f":"IFERROR(VLOOKUP(ROWS(AL$2:$AL88),N88:Q1991,4,0),\"\")","v":""}]
[null,null,null,null,null,null,null,null,null,null,null,null,null,{"$f":"IF(ISNUMBER(SEARCH($H$16,Q89)),MAX($N$1:N88)+1,0)","v":0},{"$f":"IF(ISNUMBER(SEARCH($H$11,Q89)),MAX($O$1:O88)+1,0)","v":0},{"$f":"IF(ISNUMBER(SEARCH($H$6,Q89)),MAX($P$1:P88)+1,0)","v":0},"birla sl emer leaders sr 2 rp","MBS1865","Mid and Small-Cap",null,null,null,null,null,null,null,null,null,null,null,{"$f":"IFERROR(VLOOKUP(ROWS($AE$2:AE89),P89:Q1992,2,0),\"\")","v":""},null,null,null,null,{"$f":"IFERROR(VLOOKUP(ROWS($AJ$2:AJ89),O89:Q1992,3,0),\"\")","v":""},null,{"$f":"IFERROR(VLOOKUP(ROWS(AL$2:$AL89),N89:Q1992,4,0),\"\")","v":""}]
[null,null,null,null,null,null,null,null,null,null,null,null,null,{"$f":"IF(ISNUMBER(SEARCH($H$16,Q90)),MAX($N$1:N89)+1,0)","v":0},{"$f":"IF(ISNUMBER(SEARCH($H$11,Q90)),MAX($O$1:O89)+1,0)","v":0},{"$f":"IF(ISNUMBER(SEARCH($H$6,Q90)),MAX($P$1:P89)+1,0)","v":0},"birla sl emer leaders sr 3 dp","MBS1873","Mid and Small-Cap",null,null,null,null,null,null,null,null,null,null,null,{"$f":"IFERROR(VLOOKUP(ROWS($AE$2:AE90),P90:Q1993,2,0),\"\")","v":""},null,null,null,null,{"$f":"IFERROR(VLOOKUP(ROWS($AJ$2:AJ90),O90:Q1993,3,0),\"\")","v":""},null,{"$f":"IFERROR(VLOOKUP(ROWS(AL$2:$AL90),N90:Q1993,4,0),\"\")","v":""}]
[null,null,null,null,null,null,null,null,null,null,null,null,null,{"$f":"IF(ISNUMBER(SEARCH($H$16,Q91)),MAX($N$1:N90)+1,0)","v":0},{"$f":"IF(ISNUMBER(SEARCH($H$11,Q91)),MAX($O$1:O90)+1,0)","v":0},{"$f":"IF(ISNUMBER(SEARCH($H$6,Q91)),MAX($P$1:P90)+1,0)","v":0},"birla sl emer leaders sr 3 rp","MBS1871","Mid and Small-Cap",null,null,null,null,null,null,null,null,null,null,null,{"$f":"IFERROR(VLOOKUP(ROWS($AE$2:AE91),P91:Q1994,2,0),\"\")","v":""},null,null,null,null,{"$f":"IFERROR(VLOOKUP(ROWS($AJ$2:AJ91),O91:Q1994,3,0),\"\")","v":""},null,{"$f":"IFERROR(VLOOKUP(ROWS(AL$2:$AL91),N91:Q1994,4,0),\"\")","v":""}]
[null,null,null,null,null,null,null,null,null,null,null,null,null,{"$f":"IF(ISNUMBER(SEARCH($H$16,Q92)),MAX($N$1:N91)+1,0)","v":0},{"$f":"IF(ISNUMBER(SEARCH($H$11,Q92)),MAX($O$1:O91)+1,0)","v":0},{"$f":"IF(ISNUMBER(SEARCH($H$6,Q92)),MAX($P$1:P91)+1,0)","v":0},"birla sl emer leaders sr 4 dp","MBS1877","Mid and Small-Cap",null,null,null,null,null,null,null,null,null,null,null,{"$f":"IFERROR(VLOOKUP(ROWS($AE$2:AE92),P92:Q1995,2,0),\"\")","v":""},null,null,null,null,{"$f":"IFERROR(VLOOKUP(ROWS($AJ$2:AJ92),O92:Q1995,3,0),\"\")","v":""},null,{"$f":"IFERROR(VLOOKUP(ROWS(AL$2:$AL92),N92:Q1995,4,0),\"\")","v":""}]
[null,null,null,null,null,null,null,null,null,null,null,null,null,{"$f":"IF(ISNUMBER(SEARCH($H$16,Q93)),MAX($N$1:N92)+1,0)","v":0},{"$f":"IF(ISNUMBER(SEARCH($H$11,Q93)),MAX($O$1:O92)+1,0)","v":0},{"$f":"IF(ISNUMBER(SEARCH($H$6,Q93)),MAX($P$1:P92)+1,0)","v":0},"birla sl emer leaders sr 4 rp","MBS1875","Mid and Small-Cap",null,null,null,null,null,null,null,null,null,null,null,{"$f":"IFERROR(VLOOKUP(ROWS($AE$2:AE93),P93:Q1996,2,0),\"\")","v":""},null,null,null,null,{"$f":"IFERROR(VLOOKUP(ROWS($AJ$2:AJ93),O93:Q1996,3,0),\"\")","v":""},null,{"$f":"IFERROR(VLOOKUP(ROWS(AL$2:$AL93),N93:Q1996,4,0),\"\")","v":""}]
[null,null,null,null,null,null,null,null,null,null,null,null,null,{"$f":"IF(ISNUMBER(SEARCH($H$16,Q94)),MAX($N$1:N93)+1,0)","v":0},{"$f":"IF(ISNUMBER(SEARCH($H$11,Q94)),MAX($O$1:O93)+1,0)","v":0},{"$f":"IF(ISNUMBER(SEARCH($H$6,Q94)),MAX($P$1:P93)+1,0)","v":0},"birla sl emer leaders sr 5 dp","MBS1997","Mid and Small-Cap",null,null,null,null,null,null,null,null,null,null,null,{"$f":"IFERROR(VLOOKUP(ROWS($AE$2:AE94),P94:Q1997,2,0),\"\")","v":""},null,null,null,null,{"$f":"IFERROR(VLOOKUP(ROWS($AJ$2:AJ94),O94:Q1997,3,0),\"\")","v":""},null,{"$f":"IFERROR(VLOOKUP(ROWS(AL$2:$AL94),N94:Q1997,4,0),\"\")","v":""}]
[null,null,null,null,null,null,null,null,null,null,null,null,null,{"$f":"IF(ISNUMBER(SEARCH($H$16,Q95)),MAX($N$1:N94)+1,0)","v":0},{"$f":"IF(ISNUMBER(SEARCH($H$11,Q95)),MAX($O$1:O94)+1,0)","v":0},{"$f":"IF(ISNUMBER(SEARCH($H$6,Q95)),MAX($P$1:P94)+1,0)","v":0},"birla sl emer leaders sr 5 rp","MBS1995","Mid and Small-Cap",null,null,null,null,null,null,null,null,null,null,null,{"$f":"IFERROR(VLOOKUP(ROWS($AE$2:AE95),P95:Q1998,2,0),\"\")","v":""},null,null,null,null,{"$f":"IFERROR(VLOOKUP(ROWS($AJ$2:AJ95),O95:Q1998,3,0),\"\")","v":""},null,{"$f":"IFERROR(VLOOKUP(ROWS(AL$2:$AL95),N95:Q1998,4,0),\"\")","v":""}]
[null,null,null,null,null,null,null,null,null,null,null,null,null,{"$f":"IF(ISNUMBER(SEARCH($H$16,Q96)),MAX($N$1:N95)+1,0)","v":0},{"$f":"IF(ISNUMBER(SEARCH($H$11,Q96)),MAX($O$1:O95)+1,0)","v":0},{"$f":"IF(ISNUMBER(SEARCH($H$6,Q96)),MAX($P$1:P95)+1,0)","v":0},"birla sl emer leaders sr 6 dp","MBS2057","Mid and Small-Cap",null,null,null,null,null,null,null,null,null,null,null,{"$f":"IFERROR(VLOOKUP(ROWS($AE$2:AE96),P96:Q1999,2,0),\"\")","v":""},null,null,null,null,{"$f":"IFERROR(VLOOKUP(ROWS($AJ$2:AJ96),O96:Q1999,3,0),\"\")","v":""},null,{"$f":"IFERROR(VLOOKUP(ROWS(AL$2:$AL96),N96:Q1999,4,0),\"\")","v":""}]
[null,null,null,null,null,null,null,null,null,null,null,null,null,{"$f":"IF(ISNUMBER(SEARCH($H$16,Q97)),MAX($N$1:N96)+1,0)","v":0},{"$f":"IF(ISNUMBER(SEARCH($H$11,Q97)),MAX($O$1:O96)+1,0)","v":0},{"$f":"IF(ISNUMBER(SEARCH($H$6,Q97)),MAX($P$1:P96)+1,0)","v":0},"birla sl emer leaders sr 6 rp","MBS2055","Mid and Small-Cap",null,null,null,null,null,null,null,null,null,null,null,{"$f":"IFERROR(VLOOKUP(ROWS($AE$2:AE97),P97:Q2000,2,0),\"\")","v":""},null,null,null,null,{"$f":"IFERROR(VLOOKUP(ROWS($AJ$2:AJ97),O97:Q2000,3,0),\"\")","v":""},null,{"$f":"IFERROR(VLOOKUP(ROWS(AL$2:$AL97),N97:Q2000,4,0),\"\")","v":""}]
[null,null,null,null,null,null,null,null,null,null,null,null,null,{"$f":"IF(ISNUMBER(SEARCH($H$16,Q98)),MAX($N$1:N97)+1,0)","v":0},{"$f":"IF(ISNUMBER(SEARCH($H$11,Q98)),MAX($O$1:O97)+1,0)","v":0},{"$f":"IF(ISNUMBER(SEARCH($H$6,Q98)),MAX($P$1:P97)+1,0)","v":0},"birla sl pure value fund","MBS267","Mid and Small-Cap",null,null,null,null,null,null,null,null,null,null,null,{"$f":"IFERROR(VLOOKUP(ROWS($AE$2:AE98),P98:Q2001,2,0),\"\")","v":""},null,null,null,null,{"$f":"IFERROR(VLOOKUP(ROWS($AJ$2:AJ98),O98:Q2001,3,0),\"\")","v":""},null,{"$f":"IFERROR(VLOOKUP(ROWS(AL$2:$AL98),N98:Q2001,4,0),\"\")","v":""}]
[null,null,null,null,null,null,null,null,null,null,null,null,null,{"$f":"IF(ISNUMBER(SEARCH($H$16,Q99)),MAX($N$1:N98)+1,0)","v":0},{"$f":"IF(ISNUMBER(SEARCH($H$11,Q99)),MAX($O$1:O98)+1,0)","v":0},{"$f":"IF(ISNUMBER(SEARCH($H$6,Q99)),MAX($P$1:P98)+1,0)","v":0},"birla sl small and midcap fund","MBS104","Mid and Small-Cap",null,null,null,null,null,null,null,null,null,null,null,{"$f":"IFERROR(VLOOKUP(ROWS($AE$2:AE99),P99:Q2002,2,0),\"\")","v":""},null,null,null,null,{"$f":"IFERROR(VLOOKUP(ROWS($AJ$2:AJ99),O99:Q2002,3,0),\"\")","v":""},null,{"$f":"IFERROR(VLOOKUP(ROWS(AL$2:$AL99),N99:Q2002,4,0),\"\")","v":""}]
[null,null,null,null,null,null,null,null,null,null,null,null,null,{"$f":"IF(ISNUMBER(SEARCH($H$16,Q100)),MAX($N$1:N99)+1,0)","v":0},{"$f":"IF(ISNUMBER(SEARCH($H$11,Q100)),MAX($O$1:O99)+1,0)","v":0},{"$f":"IF(ISNUMBER(SEARCH($H$6,Q100)),MAX($P$1:P99)+1,0)","v":0},"birla sun life buy india","MAC023","Mid and Small-Cap",null,null,null,null,null,null,null,null,null,null,null,{"$f":"IFERROR(VLOOKUP(ROWS($AE$2:AE100),P100:Q2003,2,0),\"\")","v":""},null,null,null,null,{"$f":"IFERROR(VLOOKUP(ROWS($AJ$2:AJ100),O100:Q2003,3,0),\"\")","v":""},null,{"$f":"IFERROR(VLOOKUP(ROWS(AL$2:$AL100),N100:Q2003,4,0),\"\")","v":""}]
[null,null,null,null,null,null,null,null,null,null,null,null,null,{"$f":"IF(ISNUMBER(SEARCH($H$16,Q101)),MAX($N$1:N100)+1,0)","v":0},{"$f":"IF(ISNUMBER(SEARCH($H$11,Q101)),MAX($O$1:O100)+1,0)","v":0},{"$f":"IF(ISNUMBER(SEARCH($H$6,Q101)),MAX($P$1:P100)+1,0)","v":0},"birla sun life midcap fund","MBS027","Mid and Small-Cap",null,null,null,null,null,null,null,null,null,null,null,{"$f":"IFERROR(VLOOKUP(ROWS($AE$2:AE101),P101:Q2004,2,0),\"\")","v":""},null,null,null,null,{"$f":"IFERROR(VLOOKUP(ROWS($AJ$2:AJ101),O101:Q2004,3,0),\"\")","v":""},null,{"$f":"IFERROR(VLOOKUP(ROWS(AL$2:$AL101),N101:Q2004,4,0),\"\")","v":""}]
[null,null,null,null,null,null,null,null,null,null,null,null,null,{"$f":"IF(ISNUMBER(SEARCH($H$16,Q102)),MAX($N$1:N101)+1,0)","v":0},{"$f":"IF(ISNUMBER(SEARCH($H$11,Q102)),MAX($O$1:O101)+1,0)","v":0},{"$f":"IF(ISNUMBER(SEARCH($H$6,Q102)),MAX($P$1:P101)+1,0)","v":0},"birla sun life mnc fund","MBS017","Mid and Small-Cap",null,null,null,null,null,null,null,null,null,null,null,{"$f":"IFERROR(VLOOKUP(ROWS($AE$2:AE102),P102:Q2005,2,0),\"\")","v":""},null,null,null,null,{"$f":"IFERROR(VLOOKUP(ROWS($AJ$2:AJ102),O102:Q2005,3,0),\"\")","v":""},null,{"$f":"IFERROR(VLOOKUP(ROWS(AL$2:$AL102),N102:Q2005,4,0),\"\")","v":""}]
[null,null,null,null,null,null,null,null,null,null,null,null,null,{"$f":"IF(ISNUMBER(SEARCH($H$16,Q103)),MAX($N$1:N102)+1,0)","v":0},{"$f":"IF(ISNUMBER(SEARCH($H$11,Q103)),MAX($O$1:O102)+1,0)","v":0},{"$f":"IF(ISNUMBER(SEARCH($H$6,Q103)),MAX($P$1:P102)+1,0)","v":0},"bnp paribas mid cap fund","MAB045","Mid and Small-Cap",null,null,null,null,null,null,null,null,null,null,null,{"$f":"IFERROR(VLOOKUP(ROWS($AE$2:AE103),P103:Q2006,2,0),\"\")","v":""},null,null,null,null,{"$f":"IFERROR(VLOOKUP(ROWS($AJ$2:AJ103),O103:Q2006,3,0),\"\")","v":""},null,{"$f":"IFERROR(VLOOKUP(ROWS(AL$2:$AL103),N103:Q2006,4,0),\"\")","v":""}]
[null,null,null,null,null,null,null,null,null,null,null,null,null,{"$f":"IF(ISNUMBER(SEARCH($H$16,Q104)),MAX($N$1:N103)+1,0)","v":0},{"$f":"IF(ISNUMBER(SEARCH($H$11,Q104)),MAX($O$1:O103)+1,0)","v":0},{"$f":"IF(ISNUMBER(SEARCH($H$6,Q104)),MAX($P$1:P103)+1,0)","v":0},"bnp paribas mid cap fund dir","MAB726","Mid and Small-Cap",null,null,null,null,null,null,null,null,null,null,null,{"$f":"IFERROR(VLOOKUP(ROWS($AE$2:AE104),P104:Q2007,2,0),\"\")","v":""},null,null,null,null,{"$f":"IFERROR(VLOOKUP(ROWS($AJ$2:AJ104),O104:Q2007,3,0),\"\")","v":""},null,{"$f":"IFERROR(VLOOKUP(ROWS(AL$2:$AL104),N104:Q2007,4,0),\"\")","v":""}]
[null,null,null,null,null,null,null,null,null,null,null,null,null,{"$f":"IF(ISNUMBER(SEARCH($H$16,Q105)),MAX($N$1:N104)+1,0)","v":0},{"$f":"IF(ISNUMBER(SEARCH($H$11,Q105)),MAX($O$1:O104)+1,0)","v":0},{"$f":"IF(ISNUMBER(SEARCH($H$6,Q105)),MAX($P$1:P104)+1,0)","v":0},"can robeco emerg equities","MCA033","Mid and Small-Cap",null,null,null,null,null,null,null,null,null,null,null,{"$f":"IFERROR(VLOOKUP(ROWS($AE$2:AE105),P105:Q2008,2,0),\"\")","v":""},null,null,null,null,{"$f":"IFERROR(VLOOKUP(ROWS($AJ$2:AJ105),O105:Q2008,3,0),\"\")","v":""},null,{"$f":"IFERROR(VLOOKUP(ROWS(AL$2:$AL105),N105:Q2008,4,0),\"\")","v":""}]
[null,null,null,null,null,null,null,null,null,null,null,null,null,{"$f":"IF(ISNUMBER(SEARCH($H$16,Q106)),MAX($N$1:N105)+1,0)","v":0},{"$f":"IF(ISNUMBER(SEARCH($H$11,Q106)),MAX($O$1:O105)+1,0)","v":0},{"$f":"IF(ISNUMBER(SEARCH($H$6,Q106)),MAX($P$1:P105)+1,0)","v":0},"can robeco india opport dp ","MCA270","Mid and Small-Cap",null,null,null,null,null,null,null,null,null,null,null,{"$f":"IFERROR(VLOOKUP(ROWS($AE$2:AE106),P106:Q2009,2,0),\"\")","v":""},null,null,null,null,{"$f":"IFERROR(VLOOKUP(ROWS($AJ$2:AJ106),O106:Q2009,3,0),\"\")","v":""},null,{"$f":"IFERROR(VLOOKUP(ROWS(AL$2:$AL106),N106:Q2009,4,0),\"\")","v":""}]
[null,null,null,null,null,null,null,null,null,null,null,null,null,{"$f":"IF(ISNUMBER(SEARCH($H$16,Q107)),MAX($N$1:N106)+1,0)","v":0},{"$f":"IF(ISNUMBER(SEARCH($H$11,Q107)),MAX($O$1:O106)+1,0)","v":0},{"$f":"IF(ISNUMBER(SEARCH($H$6,Q107)),MAX($P$1:P106)+1,0)","v":0},"can robeco india opport rp ","MCA268","Mid and Small-Cap",null,null,null,null,null,null,null,null,null,null,null,{"$f":"IFERROR(VLOOKUP(ROWS($AE$2:AE107),P107:Q2010,2,0),\"\")","v":""},null,null,null,null,{"$f":"IFERROR(VLOOKUP(ROWS($AJ$2:AJ107),O107:Q2010,3,0),\"\")","v":""},null,{"$f":"IFERROR(VLOOKUP(ROWS(AL$2:$AL107),N107:Q2010,4,0),\"\")","v":""}]
[null,null,null,null,null,null,null,null,null,null,null,null,null,{"$f":"IF(ISNUMBER(SEARCH($H$16,Q108)),MAX($N$1:N107)+1,0)","v":0},{"$f":"IF(ISNUMBER(SEARCH($H$11,Q108)),MAX($O$1:O107)+1,0)","v":0},{"$f":"IF(ISNUMBER(SEARCH($H$6,Q108)),MAX($P$1:P107)+1,0)","v":0},"can robeco india opport sr 2 dp ","MCA278","Mid and Small-Cap",null,null,null,null,null,null,null,null,null,null,null,{"$f":"IFERROR(VLOOKUP(ROWS($AE$2:AE108),P108:Q2011,2,0),\"\")","v":""},null,null,null,null,{"$f":"IFERROR(VLOOKUP(ROWS($AJ$2:AJ108),O108:Q2011,3,0),\"\")","v":""},null,{"$f":"IFERROR(VLOOKUP(ROWS(AL$2:$AL108),N108:Q2011,4,0),\"\")","v":""}]
[null,null,null,null,null,null,null,null,null,null,null,null,null,{"$f":"IF(ISNUMBER(SEARCH($H$16,Q109)),MAX($N$1:N108)+1,0)","v":0},{"$f":"IF(ISNUMBER(SEARCH($H$11,Q109)),MAX($O$1:O108)+1,0)","v":0},{"$f":"IF(ISNUMBER(SEARCH($H$6,Q109)),MAX($P$1:P108)+1,0)","v":0},"can robeco india opport sr 2 rp ","MCA276","Mid and Small-Cap",null,null,null,null,null,null,null,null,null,null,null,{"$f":"IFERROR(VLOOKUP(ROWS($AE$2:AE109),P109:Q2012,2,0),\"\")","v":""},null,null,null,null,{"$f":"IFERROR(VLOOKUP(ROWS($AJ$2:AJ109),O109:Q2012,3,0),\"\")","v":""},null,{"$f":"IFERROR(VLOOKUP(ROWS(AL$2:$AL109),N109:Q2012,4,0),\"\")","v":""}]
[null,null,null,null,null,null,null,null,null,null,null,null,null,{"$f":"IF(ISNUMBER(SEARCH($H$16,Q110)),MAX($N$1:N109)+1,0)","v":0},{"$f":"IF(ISNUMBER(SEARCH($H$11,Q110)),MAX($O$1:O109)+1,0)","v":0},{"$f":"IF(ISNUMBER(SEARCH($H$6,Q110)),MAX($P$1:P109)+1,0)","v":0},"dsp br micro cap fund rp","MDS076","Mid and Small-Cap",null,null,null,null,null,null,null,null,null,null,null,{"$f":"IFERROR(VLOOKUP(ROWS($AE$2:AE110),P110:Q2013,2,0),\"\")","v":""},null,null,null,null,{"$f":"IFERROR(VLOOKUP(ROWS($AJ$2:AJ110),O110:Q2013,3,0),\"\")","v":""},null,{"$f":"IFERROR(VLOOKUP(ROWS(AL$2:$AL110),N110:Q2013,4,0),\"\")","v":""}]
[null,null,null,null,null,null,null,null,null,null,null,null,null,{"$f":"IF(ISNUMBER(SEARCH($H$16,Q111)),MAX($N$1:N110)+1,0)","v":0},{"$f":"IF(ISNUMBER(SEARCH($H$11,Q111)),MAX($O$1:O110)+1,0)","v":0},{"$f":"IF(ISNUMBER(SEARCH($H$6,Q111)),MAX($P$1:P110)+1,0)","v":0},"dsp br small mid cap rp","MDS056","Mid and Small-Cap",null,null,null,null,null,null,null,null,null,null,null,{"$f":"IFERROR(VLOOKUP(ROWS($AE$2:AE111),P111:Q2014,2,0),\"\")","v":""},null,null,null,null,{"$f":"IFERROR(VLOOKUP(ROWS($AJ$2:AJ111),O111:Q2014,3,0),\"\")","v":""},null,{"$f":"IFERROR(VLOOKUP(ROWS(AL$2:$AL111),N111:Q2014,4,0),\"\")","v":""}]
[null,null,null,null,null,null,null,null,null,null,null,null,null,{"$f":"IF(ISNUMBER(SEARCH($H$16,Q112)),MAX($N$1:N111)+1,0)","v":0},{"$f":"IF(ISNUMBER(SEARCH($H$11,Q112)),MAX($O$1:O111)+1,0)","v":0},{"$f":"IF(ISNUMBER(SEARCH($H$6,Q112)),MAX($P$1:P111)+1,0)","v":0},"edelweiss select midcap fund","MEW063","Mid and Small-Cap",null,null,null,null,null,null,null,null,null,null,null,{"$f":"IFERROR(VLOOKUP(ROWS($AE$2:AE112),P112:Q2015,2,0),\"\")","v":""},null,null,null,null,{"$f":"IFERROR(VLOOKUP(ROWS($AJ$2:AJ112),O112:Q2015,3,0),\"\")","v":""},null,{"$f":"IFERROR(VLOOKUP(ROWS(AL$2:$AL112),N112:Q2015,4,0),\"\")","v":""}]
[null,null,null,null,null,null,null,null,null,null,null,null,null,{"$f":"IF(ISNUMBER(SEARCH($H$16,Q113)),MAX($N$1:N112)+1,0)","v":0},{"$f":"IF(ISNUMBER(SEARCH($H$11,Q113)),MAX($O$1:O112)+1,0)","v":0},{"$f":"IF(ISNUMBER(SEARCH($H$6,Q113)),MAX($P$1:P112)+1,0)","v":0},"franklin india prima fund","MKP002","Mid and Small-Cap",null,null,null,null,null,null,null,null,null,null,null,{"$f":"IFERROR(VLOOKUP(ROWS($AE$2:AE113),P113:Q2016,2,0),\"\")","v":""},null,null,null,null,{"$f":"IFERROR(VLOOKUP(ROWS($AJ$2:AJ113),O113:Q2016,3,0),\"\")","v":""},null,{"$f":"IFERROR(VLOOKUP(ROWS(AL$2:$AL113),N113:Q2016,4,0),\"\")","v":""}]
[null,null,null,null,null,null,null,null,null,null,null,null,null,{"$f":"IF(ISNUMBER(SEARCH($H$16,Q114)),MAX($N$1:N113)+1,0)","v":0},{"$f":"IF(ISNUMBER(SEARCH($H$11,Q114)),MAX($O$1:O113)+1,0)","v":0},{"$f":"IF(ISNUMBER(SEARCH($H$6,Q114)),MAX($P$1:P113)+1,0)","v":0},"franklin i smaller cos","MTE090","Mid and Small-Cap",null,null,null,null,null,null,null,null,null,null,null,{"$f":"IFERROR(VLOOKUP(ROWS($AE$2:AE114),P114:Q2017,2,0),\"\")","v":""},null,null,null,null,{"$f":"IFERROR(VLOOKUP(ROWS($AJ$2:AJ114),O114:Q2017,3,0),\"\")","v":""},null,{"$f":"IFERROR(VLOOKUP(ROWS(AL$2:$AL114),N114:Q2017,4,0),\"\")","v":""}]
[null,null,null,null,null,null,null,null,null,null,null,null,null,{"$f":"IF(ISNUMBER(SEARCH($H$16,Q115)),MAX($N$1:N114)+1,0)","v":0},{"$f":"IF(ISNUMBER(SEARCH($H$11,Q115)),MAX($O$1:O114)+1,0)","v":0},{"$f":"IF(ISNUMBER(SEARCH($H$6,Q115)),MAX($P$1:P114)+1,0)","v":0},"hdfc midcap opportunities","MHD068","Mid and Small-Cap",null,null,null,null,null,null,null,null,null,null,null,{"$f":"IFERROR(VLOOKUP(ROWS($AE$2:AE115),P115:Q2018,2,0),\"\")","v":""},null,null,null,null,{"$f":"IFERROR(VLOOKUP(ROWS($AJ$2:AJ115),O115:Q2018,3,0),\"\")","v":""},null,{"$f":"IFERROR(VLOOKUP(ROWS(AL$2:$AL115),N115:Q2018,4,0),\"\")","v":""}]
[null,null,null,null,null,null,null,null,null,null,null,null,null,{"$f":"IF(ISNUMBER(SEARCH($H$16,Q116)),MAX($N$1:N115)+1,0)","v":0},{"$f":"IF(ISNUMBER(SEARCH($H$11,Q116)),MAX($O$1:O115)+1,0)","v":0},{"$f":"IF(ISNUMBER(SEARCH($H$6,Q116)),MAX($P$1:P115)+1,0)","v":0},"hsbc midcap equity fund","MHS048","Mid and Small-Cap",null,null,null,null,null,null,null,null,null,null,null,{"$f":"IFERROR(VLOOKUP(ROWS($AE$2:AE116),P116:Q2019,2,0),\"\")","v":""},null,null,null,null,{"$f":"IFERROR(VLOOKUP(ROWS($AJ$2:AJ116),O116:Q2019,3,0),\"\")","v":""},null,{"$f":"IFERROR(VLOOKUP(ROWS(AL$2:$AL116),N116:Q2019,4,0),\"\")","v":""}]
[null,null,null,null,null,null,null,null,null,null,null,null,null,{"$f":"IF(ISNUMBER(SEARCH($H$16,Q117)),MAX($N$1:N116)+1,0)","v":0},{"$f":"IF(ISNUMBER(SEARCH($H$11,Q117)),MAX($O$1:O116)+1,0)","v":0},{"$f":"IF(ISNUMBER(SEARCH($H$6,Q117)),MAX($P$1:P116)+1,0)","v":0},"icici pru midcap fund","MPI089","Mid and Small-Cap",null,null,null,null,null,null,null,null,null,null,null,{"$f":"IFERROR(VLOOKUP(ROWS($AE$2:AE117),P117:Q2020,2,0),\"\")","v":""},null,null,null,null,{"$f":"IFERROR(VLOOKUP(ROWS($AJ$2:AJ117),O117:Q2020,3,0),\"\")","v":""},null,{"$f":"IFERROR(VLOOKUP(ROWS(AL$2:$AL117),N117:Q2020,4,0),\"\")","v":""}]
[null,null,null,null,null,null,null,null,null,null,null,null,null,{"$f":"IF(ISNUMBER(SEARCH($H$16,Q118)),MAX($N$1:N117)+1,0)","v":0},{"$f":"IF(ISNUMBER(SEARCH($H$11,Q118)),MAX($O$1:O117)+1,0)","v":0},{"$f":"IF(ISNUMBER(SEARCH($H$6,Q118)),MAX($P$1:P117)+1,0)","v":0},"icici pru midcap fund inst i","MPI139","Mid and Small-Cap",null,null,null,null,null,null,null,null,null,null,null,{"$f":"IFERROR(VLOOKUP(ROWS($AE$2:AE118),P118:Q2021,2,0),\"\")","v":""},null,null,null,null,{"$f":"IFERROR(VLOOKUP(ROWS($AJ$2:AJ118),O118:Q2021,3,0),\"\")","v":""},null,{"$f":"IFERROR(VLOOKUP(ROWS(AL$2:$AL118),N118:Q2021,4,0),\"\")","v":""}]
[null,null,null,null,null,null,null,null,null,null,null,null,null,{"$f":"IF(ISNUMBER(SEARCH($H$16,Q119)),MAX($N$1:N118)+1,0)","v":0},{"$f":"IF(ISNUMBER(SEARCH($H$11,Q119)),MAX($O$1:O118)+1,0)","v":0},{"$f":"IF(ISNUMBER(SEARCH($H$6,Q119)),MAX($P$1:P118)+1,0)","v":0},"idfc premier equity b","MAG338","Mid and Small-Cap",null,null,null,null,null,null,null,null,null,null,null,{"$f":"IFERROR(VLOOKUP(ROWS($AE$2:AE119),P119:Q2022,2,0),\"\")","v":""},null,null,null,null,{"$f":"IFERROR(VLOOKUP(ROWS($AJ$2:AJ119),O119:Q2022,3,0),\"\")","v":""},null,{"$f":"IFERROR(VLOOKUP(ROWS(AL$2:$AL119),N119:Q2022,4,0),\"\")","v":""}]
[null,null,null,null,null,null,null,null,null,null,null,null,null,{"$f":"IF(ISNUMBER(SEARCH($H$16,Q120)),MAX($N$1:N119)+1,0)","v":0},{"$f":"IF(ISNUMBER(SEARCH($H$11,Q120)),MAX($O$1:O119)+1,0)","v":0},{"$f":"IF(ISNUMBER(SEARCH($H$6,Q120)),MAX($P$1:P119)+1,0)","v":0},"idfc premier equity regular","MAG094","Mid and Small-Cap",null,null,null,null,null,null,null,null,null,null,null,{"$f":"IFERROR(VLOOKUP(ROWS($AE$2:AE120),P120:Q2023,2,0),\"\")","v":""},null,null,null,null,{"$f":"IFERROR(VLOOKUP(ROWS($AJ$2:AJ120),O120:Q2023,3,0),\"\")","v":""},null,{"$f":"IFERROR(VLOOKUP(ROWS(AL$2:$AL120),N120:Q2023,4,0),\"\")","v":""}]
[null,null,null,null,null,null,null,null,null,null,null,null,null,{"$f":"IF(ISNUMBER(SEARCH($H$16,Q121)),MAX($N$1:N120)+1,0)","v":0},{"$f":"IF(ISNUMBER(SEARCH($H$11,Q121)),MAX($O$1:O120)+1,0)","v":0},{"$f":"IF(ISNUMBER(SEARCH($H$6,Q121)),MAX($P$1:P120)+1,0)","v":0},"idfc sterling equity fund g","MAG162","Mid and Small-Cap",null,null,null,null,null,null,null,null,null,null,null,{"$f":"IFERROR(VLOOKUP(ROWS($AE$2:AE121),P121:Q2024,2,0),\"\")","v":""},null,null,null,null,{"$f":"IFERROR(VLOOKUP(ROWS($AJ$2:AJ121),O121:Q2024,3,0),\"\")","v":""},null,{"$f":"IFERROR(VLOOKUP(ROWS(AL$2:$AL121),N121:Q2024,4,0),\"\")","v":""}]
[null,null,null,null,null,null,null,null,null,null,null,null,null,{"$f":"IF(ISNUMBER(SEARCH($H$16,Q122)),MAX($N$1:N121)+1,0)","v":0},{"$f":"IF(ISNUMBER(SEARCH($H$11,Q122)),MAX($O$1:O121)+1,0)","v":0},{"$f":"IF(ISNUMBER(SEARCH($H$6,Q122)),MAX($P$1:P121)+1,0)","v":0},"jpmorgan i mid and small cap","MJP007","Mid and Small-Cap",null,null,null,null,null,null,null,null,null,null,null,{"$f":"IFERROR(VLOOKUP(ROWS($AE$2:AE122),P122:Q2025,2,0),\"\")","v":""},null,null,null,null,{"$f":"IFERROR(VLOOKUP(ROWS($AJ$2:AJ122),O122:Q2025,3,0),\"\")","v":""},null,{"$f":"IFERROR(VLOOKUP(ROWS(AL$2:$AL122),N122:Q2025,4,0),\"\")","v":""}]
[null,null,null,null,null,null,null,null,null,null,null,null,null,{"$f":"IF(ISNUMBER(SEARCH($H$16,Q123)),MAX($N$1:N122)+1,0)","v":0},{"$f":"IF(ISNUMBER(SEARCH($H$11,Q123)),MAX($O$1:O122)+1,0)","v":0},{"$f":"IF(ISNUMBER(SEARCH($H$6,Q123)),MAX($P$1:P122)+1,0)","v":0},"jpmorgan i mid and small cap dp","MJP117","Mid and Small-Cap",null,null,null,null,null,null,null,null,null,null,null,{"$f":"IFERROR(VLOOKUP(ROWS($AE$2:AE123),P123:Q2026,2,0),\"\")","v":""},null,null,null,null,{"$f":"IFERROR(VLOOKUP(ROWS($AJ$2:AJ123),O123:Q2026,3,0),\"\")","v":""},null,{"$f":"IFERROR(VLOOKUP(ROWS(AL$2:$AL123),N123:Q2026,4,0),\"\")","v":""}]
[null,null,null,null,null,null,null,null,null,null,null,null,null,{"$f":"IF(ISNUMBER(SEARCH($H$16,Q124)),MAX($N$1:N123)+1,0)","v":0},{"$f":"IF(ISNUMBER(SEARCH($H$11,Q124)),MAX($O$1:O123)+1,0)","v":0},{"$f":"IF(ISNUMBER(SEARCH($H$6,Q124)),MAX($P$1:P123)+1,0)","v":0},"kotak emerging equity regular","MKM099","Mid and Small-Cap",null,null,null,null,null,null,null,null,null,null,null,{"$f":"IFERROR(VLOOKUP(ROWS($AE$2:AE124),P124:Q2027,2,0),\"\")","v":""},null,null,null,null,{"$f":"IFERROR(VLOOKUP(ROWS($AJ$2:AJ124),O124:Q2027,3,0),\"\")","v":""},null,{"$f":"IFERROR(VLOOKUP(ROWS(AL$2:$AL124),N124:Q2027,4,0),\"\")","v":""}]
[null,null,null,null,null,null,null,null,null,null,null,null,null,{"$f":"IF(ISNUMBER(SEARCH($H$16,Q125)),MAX($N$1:N124)+1,0)","v":0},{"$f":"IF(ISNUMBER(SEARCH($H$11,Q125)),MAX($O$1:O124)+1,0)","v":0},{"$f":"IF(ISNUMBER(SEARCH($H$6,Q125)),MAX($P$1:P124)+1,0)","v":0},"kotak mid cap fund regular","MKM073","Mid and Small-Cap",null,null,null,null,null,null,null,null,null,null,null,{"$f":"IFERROR(VLOOKUP(ROWS($AE$2:AE125),P125:Q2028,2,0),\"\")","v":""},null,null,null,null,{"$f":"IFERROR(VLOOKUP(ROWS($AJ$2:AJ125),O125:Q2028,3,0),\"\")","v":""},null,{"$f":"IFERROR(VLOOKUP(ROWS(AL$2:$AL125),N125:Q2028,4,0),\"\")","v":""}]
[null,null,null,null,null,null,null,null,null,null,null,null,null,{"$f":"IF(ISNUMBER(SEARCH($H$16,Q126)),MAX($N$1:N125)+1,0)","v":0},{"$f":"IF(ISNUMBER(SEARCH($H$11,Q126)),MAX($O$1:O125)+1,0)","v":0},{"$f":"IF(ISNUMBER(SEARCH($H$6,Q126)),MAX($P$1:P125)+1,0)","v":0},"l t emerging businesses fund dp","MCC492","Mid and Small-Cap",null,null,null,null,null,null,null,null,null,null,null,{"$f":"IFERROR(VLOOKUP(ROWS($AE$2:AE126),P126:Q2029,2,0),\"\")","v":""},null,null,null,null,{"$f":"IFERROR(VLOOKUP(ROWS($AJ$2:AJ126),O126:Q2029,3,0),\"\")","v":""},null,{"$f":"IFERROR(VLOOKUP(ROWS(AL$2:$AL126),N126:Q2029,4,0),\"\")","v":""}]
[null,null,null,null,null,null,null,null,null,null,null,null,null,{"$f":"IF(ISNUMBER(SEARCH($H$16,Q127)),MAX($N$1:N126)+1,0)","v":0},{"$f":"IF(ISNUMBER(SEARCH($H$11,Q127)),MAX($O$1:O126)+1,0)","v":0},{"$f":"IF(ISNUMBER(SEARCH($H$6,Q127)),MAX($P$1:P126)+1,0)","v":0},"l t emerging businesses fund rp","MCC490","Mid and Small-Cap",null,null,null,null,null,null,null,null,null,null,null,{"$f":"IFERROR(VLOOKUP(ROWS($AE$2:AE127),P127:Q2030,2,0),\"\")","v":""},null,null,null,null,{"$f":"IFERROR(VLOOKUP(ROWS($AJ$2:AJ127),O127:Q2030,3,0),\"\")","v":""},null,{"$f":"IFERROR(VLOOKUP(ROWS(AL$2:$AL127),N127:Q2030,4,0),\"\")","v":""}]
[null,null,null,null,null,null,null,null,null,null,null,null,null,{"$f":"IF(ISNUMBER(SEARCH($H$16,Q128)),MAX($N$1:N127)+1,0)","v":0},{"$f":"IF(ISNUMBER(SEARCH($H$11,Q128)),MAX($O$1:O127)+1,0)","v":0},{"$f":"IF(ISNUMBER(SEARCH($H$6,Q128)),MAX($P$1:P127)+1,0)","v":0},"l t midcap fund","MCC037","Mid and Small-Cap",null,null,null,null,null,null,null,null,null,null,null,{"$f":"IFERROR(VLOOKUP(ROWS($AE$2:AE128),P128:Q2031,2,0),\"\")","v":""},null,null,null,null,{"$f":"IFERROR(VLOOKUP(ROWS($AJ$2:AJ128),O128:Q2031,3,0),\"\")","v":""},null,{"$f":"IFERROR(VLOOKUP(ROWS(AL$2:$AL128),N128:Q2031,4,0),\"\")","v":""}]
[null,null,null,null,null,null,null,null,null,null,null,null,null,{"$f":"IF(ISNUMBER(SEARCH($H$16,Q129)),MAX($N$1:N128)+1,0)","v":0},{"$f":"IF(ISNUMBER(SEARCH($H$11,Q129)),MAX($O$1:O128)+1,0)","v":0},{"$f":"IF(ISNUMBER(SEARCH($H$6,Q129)),MAX($P$1:P128)+1,0)","v":0},"mirae emerging bluechip fund","MMA088","Mid and Small-Cap",null,null,null,null,null,null,null,null,null,null,null,{"$f":"IFERROR(VLOOKUP(ROWS($AE$2:AE129),P129:Q2032,2,0),\"\")","v":""},null,null,null,null,{"$f":"IFERROR(VLOOKUP(ROWS($AJ$2:AJ129),O129:Q2032,3,0),\"\")","v":""},null,{"$f":"IFERROR(VLOOKUP(ROWS(AL$2:$AL129),N129:Q2032,4,0),\"\")","v":""}]
[null,null,null,null,null,null,null,null,null,null,null,null,null,{"$f":"IF(ISNUMBER(SEARCH($H$16,Q130)),MAX($N$1:N129)+1,0)","v":0},{"$f":"IF(ISNUMBER(SEARCH($H$11,Q130)),MAX($O$1:O129)+1,0)","v":0},{"$f":"IF(ISNUMBER(SEARCH($H$6,Q130)),MAX($P$1:P129)+1,0)","v":0},"motilal focused midcap 30 dp","MMO027","Mid and Small-Cap",null,null,null,null,null,null,null,null,null,null,null,{"$f":"IFERROR(VLOOKUP(ROWS($AE$2:AE130),P130:Q2033,2,0),\"\")","v":""},null,null,null,null,{"$f":"IFERROR(VLOOKUP(ROWS($AJ$2:AJ130),O130:Q2033,3,0),\"\")","v":""},null,{"$f":"IFERROR(VLOOKUP(ROWS(AL$2:$AL130),N130:Q2033,4,0),\"\")","v":""}]
[null,null,null,null,null,null,null,null,null,null,null,null,null,{"$f":"IF(ISNUMBER(SEARCH($H$16,Q131)),MAX($N$1:N130)+1,0)","v":0},{"$f":"IF(ISNUMBER(SEARCH($H$11,Q131)),MAX($O$1:O130)+1,0)","v":0},{"$f":"IF(ISNUMBER(SEARCH($H$6,Q131)),MAX($P$1:P130)+1,0)","v":0},"motilal focused midcap 30 rp","MMO025","Mid and Small-Cap",null,null,null,null,null,null,null,null,null,null,null,{"$f":"IFERROR(VLOOKUP(ROWS($AE$2:AE131),P131:Q2034,2,0),\"\")","v":""},null,null,null,null,{"$f":"IFERROR(VLOOKUP(ROWS($AJ$2:AJ131),O131:Q2034,3,0),\"\")","v":""},null,{"$f":"IFERROR(VLOOKUP(ROWS(AL$2:$AL131),N131:Q2034,4,0),\"\")","v":""}]
[null,null,null,null,null,null,null,null,null,null,null,null,null,{"$f":"IF(ISNUMBER(SEARCH($H$16,Q132)),MAX($N$1:N131)+1,0)","v":0},{"$f":"IF(ISNUMBER(SEARCH($H$11,Q132)),MAX($O$1:O131)+1,0)","v":0},{"$f":"IF(ISNUMBER(SEARCH($H$6,Q132)),MAX($P$1:P131)+1,0)","v":0},"motilal most shares midcap 100 etf","MMO002","Mid and Small-Cap",null,null,null,null,null,null,null,null,null,null,null,{"$f":"IFERROR(VLOOKUP(ROWS($AE$2:AE132),P132:Q2035,2,0),\"\")","v":""},null,null,null,null,{"$f":"IFERROR(VLOOKUP(ROWS($AJ$2:AJ132),O132:Q2035,3,0),\"\")","v":""},null,{"$f":"IFERROR(VLOOKUP(ROWS(AL$2:$AL132),N132:Q2035,4,0),\"\")","v":""}]
[null,null,null,null,null,null,null,null,null,null,null,null,null,{"$f":"IF(ISNUMBER(SEARCH($H$16,Q133)),MAX($N$1:N132)+1,0)","v":0},{"$f":"IF(ISNUMBER(SEARCH($H$11,Q133)),MAX($O$1:O132)+1,0)","v":0},{"$f":"IF(ISNUMBER(SEARCH($H$6,Q133)),MAX($P$1:P132)+1,0)","v":0},"pramerica midcap opp fund dir","MPA139","Mid and Small-Cap",null,null,null,null,null,null,null,null,null,null,null,{"$f":"IFERROR(VLOOKUP(ROWS($AE$2:AE133),P133:Q2036,2,0),\"\")","v":""},null,null,null,null,{"$f":"IFERROR(VLOOKUP(ROWS($AJ$2:AJ133),O133:Q2036,3,0),\"\")","v":""},null,{"$f":"IFERROR(VLOOKUP(ROWS(AL$2:$AL133),N133:Q2036,4,0),\"\")","v":""}]
[null,null,null,null,null,null,null,null,null,null,null,null,null,{"$f":"IF(ISNUMBER(SEARCH($H$16,Q134)),MAX($N$1:N133)+1,0)","v":0},{"$f":"IF(ISNUMBER(SEARCH($H$11,Q134)),MAX($O$1:O133)+1,0)","v":0},{"$f":"IF(ISNUMBER(SEARCH($H$6,Q134)),MAX($P$1:P133)+1,0)","v":0},"pramerica midcap opp fund reg","MPA137","Mid and Small-Cap",null,null,null,null,null,null,null,null,null,null,null,{"$f":"IFERROR(VLOOKUP(ROWS($AE$2:AE134),P134:Q2037,2,0),\"\")","v":""},null,null,null,null,{"$f":"IFERROR(VLOOKUP(ROWS($AJ$2:AJ134),O134:Q2037,3,0),\"\")","v":""},null,{"$f":"IFERROR(VLOOKUP(ROWS(AL$2:$AL134),N134:Q2037,4,0),\"\")","v":""}]
[null,null,null,null,null,null,null,null,null,null,null,null,null,{"$f":"IF(ISNUMBER(SEARCH($H$16,Q135)),MAX($N$1:N134)+1,0)","v":0},{"$f":"IF(ISNUMBER(SEARCH($H$11,Q135)),MAX($O$1:O134)+1,0)","v":0},{"$f":"IF(ISNUMBER(SEARCH($H$6,Q135)),MAX($P$1:P134)+1,0)","v":0},"principal emerging bluechip","MID221","Mid and Small-Cap",null,null,null,null,null,null,null,null,null,null,null,{"$f":"IFERROR(VLOOKUP(ROWS($AE$2:AE135),P135:Q2038,2,0),\"\")","v":""},null,null,null,null,{"$f":"IFERROR(VLOOKUP(ROWS($AJ$2:AJ135),O135:Q2038,3,0),\"\")","v":""},null,{"$f":"IFERROR(VLOOKUP(ROWS(AL$2:$AL135),N135:Q2038,4,0),\"\")","v":""}]
[null,null,null,null,null,null,null,null,null,null,null,null,null,{"$f":"IF(ISNUMBER(SEARCH($H$16,Q136)),MAX($N$1:N135)+1,0)","v":0},{"$f":"IF(ISNUMBER(SEARCH($H$11,Q136)),MAX($O$1:O135)+1,0)","v":0},{"$f":"IF(ISNUMBER(SEARCH($H$6,Q136)),MAX($P$1:P135)+1,0)","v":0},"reliance mid small cap fund","MRC110","Mid and Small-Cap",null,null,null,null,null,null,null,null,null,null,null,{"$f":"IFERROR(VLOOKUP(ROWS($AE$2:AE136),P136:Q2039,2,0),\"\")","v":""},null,null,null,null,{"$f":"IFERROR(VLOOKUP(ROWS($AJ$2:AJ136),O136:Q2039,3,0),\"\")","v":""},null,{"$f":"IFERROR(VLOOKUP(ROWS(AL$2:$AL136),N136:Q2039,4,0),\"\")","v":""}]
[null,null,null,null,null,null,null,null,null,null,null,null,null,{"$f":"IF(ISNUMBER(SEARCH($H$16,Q137)),MAX($N$1:N136)+1,0)","v":0},{"$f":"IF(ISNUMBER(SEARCH($H$11,Q137)),MAX($O$1:O136)+1,0)","v":0},{"$f":"IF(ISNUMBER(SEARCH($H$6,Q137)),MAX($P$1:P136)+1,0)","v":0},"reliance small cap fund","MRC587","Mid and Small-Cap",null,null,null,null,null,null,null,null,null,null,null,{"$f":"IFERROR(VLOOKUP(ROWS($AE$2:AE137),P137:Q2040,2,0),\"\")","v":""},null,null,null,null,{"$f":"IFERROR(VLOOKUP(ROWS($AJ$2:AJ137),O137:Q2040,3,0),\"\")","v":""},null,{"$f":"IFERROR(VLOOKUP(ROWS(AL$2:$AL137),N137:Q2040,4,0),\"\")","v":""}]
[null,null,null,null,null,null,null,null,null,null,null,null,null,{"$f":"IF(ISNUMBER(SEARCH($H$16,Q138)),MAX($N$1:N137)+1,0)","v":0},{"$f":"IF(ISNUMBER(SEARCH($H$11,Q138)),MAX($O$1:O137)+1,0)","v":0},{"$f":"IF(ISNUMBER(SEARCH($H$6,Q138)),MAX($P$1:P137)+1,0)","v":0},"religare invesco mid cap","MLI021","Mid and Small-Cap",null,null,null,null,null,null,null,null,null,null,null,{"$f":"IFERROR(VLOOKUP(ROWS($AE$2:AE138),P138:Q2041,2,0),\"\")","v":""},null,null,null,null,{"$f":"IFERROR(VLOOKUP(ROWS($AJ$2:AJ138),O138:Q2041,3,0),\"\")","v":""},null,{"$f":"IFERROR(VLOOKUP(ROWS(AL$2:$AL138),N138:Q2041,4,0),\"\")","v":""}]
[null,null,null,null,null,null,null,null,null,null,null,null,null,{"$f":"IF(ISNUMBER(SEARCH($H$16,Q139)),MAX($N$1:N138)+1,0)","v":0},{"$f":"IF(ISNUMBER(SEARCH($H$11,Q139)),MAX($O$1:O138)+1,0)","v":0},{"$f":"IF(ISNUMBER(SEARCH($H$6,Q139)),MAX($P$1:P138)+1,0)","v":0},"religare invesco mid n smallcap","MLI183","Mid and Small-Cap",null,null,null,null,null,null,null,null,null,null,null,{"$f":"IFERROR(VLOOKUP(ROWS($AE$2:AE139),P139:Q2042,2,0),\"\")","v":""},null,null,null,null,{"$f":"IFERROR(VLOOKUP(ROWS($AJ$2:AJ139),O139:Q2042,3,0),\"\")","v":""},null,{"$f":"IFERROR(VLOOKUP(ROWS(AL$2:$AL139),N139:Q2042,4,0),\"\")","v":""}]
[null,null,null,null,null,null,null,null,null,null,null,null,null,{"$f":"IF(ISNUMBER(SEARCH($H$16,Q140)),MAX($N$1:N139)+1,0)","v":0},{"$f":"IF(ISNUMBER(SEARCH($H$11,Q140)),MAX($O$1:O139)+1,0)","v":0},{"$f":"IF(ISNUMBER(SEARCH($H$6,Q140)),MAX($P$1:P139)+1,0)","v":0},"religare invesco mid n small dp","MLI554","Mid and Small-Cap",null,null,null,null,null,null,null,null,null,null,null,{"$f":"IFERROR(VLOOKUP(ROWS($AE$2:AE140),P140:Q2043,2,0),\"\")","v":""},null,null,null,null,{"$f":"IFERROR(VLOOKUP(ROWS($AJ$2:AJ140),O140:Q2043,3,0),\"\")","v":""},null,{"$f":"IFERROR(VLOOKUP(ROWS(AL$2:$AL140),N140:Q2043,4,0),\"\")","v":""}]
[null,null,null,null,null,null,null,null,null,null,null,null,null,{"$f":"IF(ISNUMBER(SEARCH($H$16,Q141)),MAX($N$1:N140)+1,0)","v":0},{"$f":"IF(ISNUMBER(SEARCH($H$11,Q141)),MAX($O$1:O140)+1,0)","v":0},{"$f":"IF(ISNUMBER(SEARCH($H$6,Q141)),MAX($P$1:P140)+1,0)","v":0},"sahara midcap fund","MFI013","Mid and Small-Cap",null,null,null,null,null,null,null,null,null,null,null,{"$f":"IFERROR(VLOOKUP(ROWS($AE$2:AE141),P141:Q2044,2,0),\"\")","v":""},null,null,null,null,{"$f":"IFERROR(VLOOKUP(ROWS($AJ$2:AJ141),O141:Q2044,3,0),\"\")","v":""},null,{"$f":"IFERROR(VLOOKUP(ROWS(AL$2:$AL141),N141:Q2044,4,0),\"\")","v":""}]
[null,null,null,null,null,null,null,null,null,null,null,null,null,{"$f":"IF(ISNUMBER(SEARCH($H$16,Q142)),MAX($N$1:N141)+1,0)","v":0},{"$f":"IF(ISNUMBER(SEARCH($H$11,Q142)),MAX($O$1:O141)+1,0)","v":0},{"$f":"IF(ISNUMBER(SEARCH($H$6,Q142)),MAX($P$1:P141)+1,0)","v":0},"sahara star value fund","MFI061","Mid and Small-Cap",null,null,null,null,null,null,null,null,null,null,null,{"$f":"IFERROR(VLOOKUP(ROWS($AE$2:AE142),P142:Q2045,2,0),\"\")","v":""},null,null,null,null,{"$f":"IFERROR(VLOOKUP(ROWS($AJ$2:AJ142),O142:Q2045,3,0),\"\")","v":""},null,{"$f":"IFERROR(VLOOKUP(ROWS(AL$2:$AL142),N142:Q2045,4,0),\"\")","v":""}]
[null,null,null,null,null,null,null,null,null,null,null,null,null,{"$f":"IF(ISNUMBER(SEARCH($H$16,Q143)),MAX($N$1:N142)+1,0)","v":0},{"$f":"IF(ISNUMBER(SEARCH($H$11,Q143)),MAX($O$1:O142)+1,0)","v":0},{"$f":"IF(ISNUMBER(SEARCH($H$6,Q143)),MAX($P$1:P142)+1,0)","v":0},"sahara wealth plus fpo","MFI017","Mid and Small-Cap",null,null,null,null,null,null,null,null,null,null,null,{"$f":"IFERROR(VLOOKUP(ROWS($AE$2:AE143),P143:Q2046,2,0),\"\")","v":""},null,null,null,null,{"$f":"IFERROR(VLOOKUP(ROWS($AJ$2:AJ143),O143:Q2046,3,0),\"\")","v":""},null,{"$f":"IFERROR(VLOOKUP(ROWS(AL$2:$AL143),N143:Q2046,4,0),\"\")","v":""}]
[null,null,null,null,null,null,null,null,null,null,null,null,null,{"$f":"IF(ISNUMBER(SEARCH($H$16,Q144)),MAX($N$1:N143)+1,0)","v":0},{"$f":"IF(ISNUMBER(SEARCH($H$11,Q144)),MAX($O$1:O143)+1,0)","v":0},{"$f":"IF(ISNUMBER(SEARCH($H$6,Q144)),MAX($P$1:P143)+1,0)","v":0},"sahara wealth plus vpo","MFI019","Mid and Small-Cap",null,null,null,null,null,null,null,null,null,null,null,{"$f":"IFERROR(VLOOKUP(ROWS($AE$2:AE144),P144:Q2047,2,0),\"\")","v":""},null,null,null,null,{"$f":"IFERROR(VLOOKUP(ROWS($AJ$2:AJ144),O144:Q2047,3,0),\"\")","v":""},null,{"$f":"IFERROR(VLOOKUP(ROWS(AL$2:$AL144),N144:Q2047,4,0),\"\")","v":""}]
[null,null,null,null,null,null,null,null,null,null,null,null,null,{"$f":"IF(ISNUMBER(SEARCH($H$16,Q145)),MAX($N$1:N144)+1,0)","v":0},{"$f":"IF(ISNUMBER(SEARCH($H$11,Q145)),MAX($O$1:O144)+1,0)","v":0},{"$f":"IF(ISNUMBER(SEARCH($H$6,Q145)),MAX($P$1:P144)+1,0)","v":0},"sbi emerging busi","MSB059","Mid and Small-Cap",null,null,null,null,null,null,null,null,null,null,null,{"$f":"IFERROR(VLOOKUP(ROWS($AE$2:AE145),P145:Q2048,2,0),\"\")","v":""},null,null,null,null,{"$f":"IFERROR(VLOOKUP(ROWS($AJ$2:AJ145),O145:Q2048,3,0),\"\")","v":""},null,{"$f":"IFERROR(VLOOKUP(ROWS(AL$2:$AL145),N145:Q2048,4,0),\"\")","v":""}]
[null,null,null,null,null,null,null,null,null,null,null,null,null,{"$f":"IF(ISNUMBER(SEARCH($H$16,Q146)),MAX($N$1:N145)+1,0)","v":0},{"$f":"IF(ISNUMBER(SEARCH($H$11,Q146)),MAX($O$1:O145)+1,0)","v":0},{"$f":"IF(ISNUMBER(SEARCH($H$6,Q146)),MAX($P$1:P145)+1,0)","v":0},"sbi magnum global fund","MSB011","Mid and Small-Cap",null,null,null,null,null,null,null,null,null,null,null,{"$f":"IFERROR(VLOOKUP(ROWS($AE$2:AE146),P146:Q2049,2,0),\"\")","v":""},null,null,null,null,{"$f":"IFERROR(VLOOKUP(ROWS($AJ$2:AJ146),O146:Q2049,3,0),\"\")","v":""},null,{"$f":"IFERROR(VLOOKUP(ROWS(AL$2:$AL146),N146:Q2049,4,0),\"\")","v":""}]
[null,null,null,null,null,null,null,null,null,null,null,null,null,{"$f":"IF(ISNUMBER(SEARCH($H$16,Q147)),MAX($N$1:N146)+1,0)","v":0},{"$f":"IF(ISNUMBER(SEARCH($H$11,Q147)),MAX($O$1:O146)+1,0)","v":0},{"$f":"IF(ISNUMBER(SEARCH($H$6,Q147)),MAX($P$1:P146)+1,0)","v":0},"sbi magnum midcap fund","MSB065","Mid and Small-Cap",null,null,null,null,null,null,null,null,null,null,null,{"$f":"IFERROR(VLOOKUP(ROWS($AE$2:AE147),P147:Q2050,2,0),\"\")","v":""},null,null,null,null,{"$f":"IFERROR(VLOOKUP(ROWS($AJ$2:AJ147),O147:Q2050,3,0),\"\")","v":""},null,{"$f":"IFERROR(VLOOKUP(ROWS(AL$2:$AL147),N147:Q2050,4,0),\"\")","v":""}]
[null,null,null,null,null,null,null,null,null,null,null,null,null,{"$f":"IF(ISNUMBER(SEARCH($H$16,Q148)),MAX($N$1:N147)+1,0)","v":0},{"$f":"IF(ISNUMBER(SEARCH($H$11,Q148)),MAX($O$1:O147)+1,0)","v":0},{"$f":"IF(ISNUMBER(SEARCH($H$6,Q148)),MAX($P$1:P147)+1,0)","v":0},"sbi small midcap fund","MSA012","Mid and Small-Cap",null,null,null,null,null,null,null,null,null,null,null,{"$f":"IFERROR(VLOOKUP(ROWS($AE$2:AE148),P148:Q2051,2,0),\"\")","v":""},null,null,null,null,{"$f":"IFERROR(VLOOKUP(ROWS($AJ$2:AJ148),O148:Q2051,3,0),\"\")","v":""},null,{"$f":"IFERROR(VLOOKUP(ROWS(AL$2:$AL148),N148:Q2051,4,0),\"\")","v":""}]
[null,null,null,null,null,null,null,null,null,null,null,null,null,{"$f":"IF(ISNUMBER(SEARCH($H$16,Q149)),MAX($N$1:N148)+1,0)","v":0},{"$f":"IF(ISNUMBER(SEARCH($H$11,Q149)),MAX($O$1:O148)+1,0)","v":0},{"$f":"IF(ISNUMBER(SEARCH($H$6,Q149)),MAX($P$1:P148)+1,0)","v":0},"sundaram select micro cap sr 1 dp g","MSN797","Mid and Small-Cap",null,null,null,null,null,null,null,null,null,null,null,{"$f":"IFERROR(VLOOKUP(ROWS($AE$2:AE149),P149:Q2052,2,0),\"\")","v":""},null,null,null,null,{"$f":"IFERROR(VLOOKUP(ROWS($AJ$2:AJ149),O149:Q2052,3,0),\"\")","v":""},null,{"$f":"IFERROR(VLOOKUP(ROWS(AL$2:$AL149),N149:Q2052,4,0),\"\")","v":""}]
[null,null,null,null,null,null,null,null,null,null,null,null,null,{"$f":"IF(ISNUMBER(SEARCH($H$16,Q150)),MAX($N$1:N149)+1,0)","v":0},{"$f":"IF(ISNUMBER(SEARCH($H$11,Q150)),MAX($O$1:O149)+1,0)","v":0},{"$f":"IF(ISNUMBER(SEARCH($H$6,Q150)),MAX($P$1:P149)+1,0)","v":0},"sundaram select micro cap sr 1 rp g","MSN795","Mid and Small-Cap",null,null,null,null,null,null,null,null,null,null,null,{"$f":"IFERROR(VLOOKUP(ROWS($AE$2:AE150),P150:Q2053,2,0),\"\")","v":""},null,null,null,null,{"$f":"IFERROR(VLOOKUP(ROWS($AJ$2:AJ150),O150:Q2053,3,0),\"\")","v":""},null,{"$f":"IFERROR(VLOOKUP(ROWS(AL$2:$AL150),N150:Q2053,4,0),\"\")","v":""}]
[null,null,null,null,null,null,null,null,null,null,null,null,null,{"$f":"IF(ISNUMBER(SEARCH($H$16,Q151)),MAX($N$1:N150)+1,0)","v":0},{"$f":"IF(ISNUMBER(SEARCH($H$11,Q151)),MAX($O$1:O150)+1,0)","v":0},{"$f":"IF(ISNUMBER(SEARCH($H$6,Q151)),MAX($P$1:P150)+1,0)","v":0},"sundaram select micro cap sr 2 dp g","MSN839","Mid and Small-Cap",null,null,null,null,null,null,null,null,null,null,null,{"$f":"IFERROR(VLOOKUP(ROWS($AE$2:AE151),P151:Q2054,2,0),\"\")","v":""},null,null,null,null,{"$f":"IFERROR(VLOOKUP(ROWS($AJ$2:AJ151),O151:Q2054,3,0),\"\")","v":""},null,{"$f":"IFERROR(VLOOKUP(ROWS(AL$2:$AL151),N151:Q2054,4,0),\"\")","v":""}]
[null,null,null,null,null,null,null,null,null,null,null,null,null,{"$f":"IF(ISNUMBER(SEARCH($H$16,Q152)),MAX($N$1:N151)+1,0)","v":0},{"$f":"IF(ISNUMBER(SEARCH($H$11,Q152)),MAX($O$1:O151)+1,0)","v":0},{"$f":"IF(ISNUMBER(SEARCH($H$6,Q152)),MAX($P$1:P151)+1,0)","v":0},"sundaram select micro cap sr 2 rp g","MSN837","Mid and Small-Cap",null,null,null,null,null,null,null,null,null,null,null,{"$f":"IFERROR(VLOOKUP(ROWS($AE$2:AE152),P152:Q2055,2,0),\"\")","v":""},null,null,null,null,{"$f":"IFERROR(VLOOKUP(ROWS($AJ$2:AJ152),O152:Q2055,3,0),\"\")","v":""},null,{"$f":"IFERROR(VLOOKUP(ROWS(AL$2:$AL152),N152:Q2055,4,0),\"\")","v":""}]
[null,null,null,null,null,null,null,null,null,null,null,null,null,{"$f":"IF(ISNUMBER(SEARCH($H$16,Q153)),MAX($N$1:N152)+1,0)","v":0},{"$f":"IF(ISNUMBER(SEARCH($H$11,Q153)),MAX($O$1:O152)+1,0)","v":0},{"$f":"IF(ISNUMBER(SEARCH($H$6,Q153)),MAX($P$1:P152)+1,0)","v":0},"sundaram select micro cap sr 3 dp g","MSN843","Mid and Small-Cap",null,null,null,null,null,null,null,null,null,null,null,{"$f":"IFERROR(VLOOKUP(ROWS($AE$2:AE153),P153:Q2056,2,0),\"\")","v":""},null,null,null,null,{"$f":"IFERROR(VLOOKUP(ROWS($AJ$2:AJ153),O153:Q2056,3,0),\"\")","v":""},null,{"$f":"IFERROR(VLOOKUP(ROWS(AL$2:$AL153),N153:Q2056,4,0),\"\")","v":""}]
[null,null,null,null,null,null,null,null,null,null,null,null,null,{"$f":"IF(ISNUMBER(SEARCH($H$16,Q154)),MAX($N$1:N153)+1,0)","v":0},{"$f":"IF(ISNUMBER(SEARCH($H$11,Q154)),MAX($O$1:O153)+1,0)","v":0},{"$f":"IF(ISNUMBER(SEARCH($H$6,Q154)),MAX($P$1:P153)+1,0)","v":0},"sundaram select micro cap sr 3 rp g","MSN841","Mid and Small-Cap",null,null,null,null,null,null,null,null,null,null,null,{"$f":"IFERROR(VLOOKUP(ROWS($AE$2:AE154),P154:Q2057,2,0),\"\")","v":""},null,null,null,null,{"$f":"IFERROR(VLOOKUP(ROWS($AJ$2:AJ154),O154:Q2057,3,0),\"\")","v":""},null,{"$f":"IFERROR(VLOOKUP(ROWS(AL$2:$AL154),N154:Q2057,4,0),\"\")","v":""}]
[null,null,null,null,null,null,null,null,null,null,null,null,null,{"$f":"IF(ISNUMBER(SEARCH($H$16,Q155)),MAX($N$1:N154)+1,0)","v":0},{"$f":"IF(ISNUMBER(SEARCH($H$11,Q155)),MAX($O$1:O154)+1,0)","v":0},{"$f":"IF(ISNUMBER(SEARCH($H$6,Q155)),MAX($P$1:P154)+1,0)","v":0},"sundaram select micro cap sr 4 dp g","MSN869","Mid and Small-Cap",null,null,null,null,null,null,null,null,null,null,null,{"$f":"IFERROR(VLOOKUP(ROWS($AE$2:AE155),P155:Q2058,2,0),\"\")","v":""},null,null,null,null,{"$f":"IFERROR(VLOOKUP(ROWS($AJ$2:AJ155),O155:Q2058,3,0),\"\")","v":""},null,{"$f":"IFERROR(VLOOKUP(ROWS(AL$2:$AL155),N155:Q2058,4,0),\"\")","v":""}]
[null,null,null,null,null,null,null,null,null,null,null,null,null,{"$f":"IF(ISNUMBER(SEARCH($H$16,Q156)),MAX($N$1:N155)+1,0)","v":0},{"$f":"IF(ISNUMBER(SEARCH($H$11,Q156)),MAX($O$1:O155)+1,0)","v":0},{"$f":"IF(ISNUMBER(SEARCH($H$6,Q156)),MAX($P$1:P155)+1,0)","v":0},"sundaram select micro cap sr 4 rp g","MSN867","Mid and Small-Cap",null,null,null,null,null,null,null,null,null,null,null,{"$f":"IFERROR(VLOOKUP(ROWS($AE$2:AE156),P156:Q2059,2,0),\"\")","v":""},null,null,null,null,{"$f":"IFERROR(VLOOKUP(ROWS($AJ$2:AJ156),O156:Q2059,3,0),\"\")","v":""},null,{"$f":"IFERROR(VLOOKUP(ROWS(AL$2:$AL156),N156:Q2059,4,0),\"\")","v":""}]
[null,null,null,null,null,null,null,null,null,null,null,null,null,{"$f":"IF(ISNUMBER(SEARCH($H$16,Q157)),MAX($N$1:N156)+1,0)","v":0},{"$f":"IF(ISNUMBER(SEARCH($H$11,Q157)),MAX($O$1:O156)+1,0)","v":0},{"$f":"IF(ISNUMBER(SEARCH($H$6,Q157)),MAX($P$1:P156)+1,0)","v":0},"sundaram select micro cap sr 5 dp g","MSN1037","Mid and Small-Cap",null,null,null,null,null,null,null,null,null,null,null,{"$f":"IFERROR(VLOOKUP(ROWS($AE$2:AE157),P157:Q2060,2,0),\"\")","v":""},null,null,null,null,{"$f":"IFERROR(VLOOKUP(ROWS($AJ$2:AJ157),O157:Q2060,3,0),\"\")","v":""},null,{"$f":"IFERROR(VLOOKUP(ROWS(AL$2:$AL157),N157:Q2060,4,0),\"\")","v":""}]
[null,null,null,null,null,null,null,null,null,null,null,null,null,{"$f":"IF(ISNUMBER(SEARCH($H$16,Q158)),MAX($N$1:N157)+1,0)","v":0},{"$f":"IF(ISNUMBER(SEARCH($H$11,Q158)),MAX($O$1:O157)+1,0)","v":0},{"$f":"IF(ISNUMBER(SEARCH($H$6,Q158)),MAX($P$1:P157)+1,0)","v":0},"sundaram select micro cap sr 5 rp g","MSN1035","Mid and Small-Cap",null,null,null,null,null,null,null,null,null,null,null,{"$f":"IFERROR(VLOOKUP(ROWS($AE$2:AE158),P158:Q2061,2,0),\"\")","v":""},null,null,null,null,{"$f":"IFERROR(VLOOKUP(ROWS($AJ$2:AJ158),O158:Q2061,3,0),\"\")","v":""},null,{"$f":"IFERROR(VLOOKUP(ROWS(AL$2:$AL158),N158:Q2061,4,0),\"\")","v":""}]
[null,null,null,null,null,null,null,null,null,null,null,null,null,{"$f":"IF(ISNUMBER(SEARCH($H$16,Q159)),MAX($N$1:N158)+1,0)","v":0},{"$f":"IF(ISNUMBER(SEARCH($H$11,Q159)),MAX($O$1:O158)+1,0)","v":0},{"$f":"IF(ISNUMBER(SEARCH($H$6,Q159)),MAX($P$1:P158)+1,0)","v":0},"sundaram select midcap ip","MSN335","Mid and Small-Cap",null,null,null,null,null,null,null,null,null,null,null,{"$f":"IFERROR(VLOOKUP(ROWS($AE$2:AE159),P159:Q2062,2,0),\"\")","v":""},null,null,null,null,{"$f":"IFERROR(VLOOKUP(ROWS($AJ$2:AJ159),O159:Q2062,3,0),\"\")","v":""},null,{"$f":"IFERROR(VLOOKUP(ROWS(AL$2:$AL159),N159:Q2062,4,0),\"\")","v":""}]
[null,null,null,null,null,null,null,null,null,null,null,null,null,{"$f":"IF(ISNUMBER(SEARCH($H$16,Q160)),MAX($N$1:N159)+1,0)","v":0},{"$f":"IF(ISNUMBER(SEARCH($H$11,Q160)),MAX($O$1:O159)+1,0)","v":0},{"$f":"IF(ISNUMBER(SEARCH($H$6,Q160)),MAX($P$1:P159)+1,0)","v":0},"sundaram select midcap rp","MSN012","Mid and Small-Cap",null,null,null,null,null,null,null,null,null,null,null,{"$f":"IFERROR(VLOOKUP(ROWS($AE$2:AE160),P160:Q2063,2,0),\"\")","v":""},null,null,null,null,{"$f":"IFERROR(VLOOKUP(ROWS($AJ$2:AJ160),O160:Q2063,3,0),\"\")","v":""},null,{"$f":"IFERROR(VLOOKUP(ROWS(AL$2:$AL160),N160:Q2063,4,0),\"\")","v":""}]
[null,null,null,null,null,null,null,null,null,null,null,null,null,{"$f":"IF(ISNUMBER(SEARCH($H$16,Q161)),MAX($N$1:N160)+1,0)","v":0},{"$f":"IF(ISNUMBER(SEARCH($H$11,Q161)),MAX($O$1:O160)+1,0)","v":0},{"$f":"IF(ISNUMBER(SEARCH($H$6,Q161)),MAX($P$1:P160)+1,0)","v":0},"sundaram smile fund","MSN066","Mid and Small-Cap",null,null,null,null,null,null,null,null,null,null,null,{"$f":"IFERROR(VLOOKUP(ROWS($AE$2:AE161),P161:Q2064,2,0),\"\")","v":""},null,null,null,null,{"$f":"IFERROR(VLOOKUP(ROWS($AJ$2:AJ161),O161:Q2064,3,0),\"\")","v":""},null,{"$f":"IFERROR(VLOOKUP(ROWS(AL$2:$AL161),N161:Q2064,4,0),\"\")","v":""}]
[null,null,null,null,null,null,null,null,null,null,null,null,null,{"$f":"IF(ISNUMBER(SEARCH($H$16,Q162)),MAX($N$1:N161)+1,0)","v":0},{"$f":"IF(ISNUMBER(SEARCH($H$11,Q162)),MAX($O$1:O161)+1,0)","v":0},{"$f":"IF(ISNUMBER(SEARCH($H$6,Q162)),MAX($P$1:P161)+1,0)","v":0},"sundaram smile fund ip","MSN339","Mid and Small-Cap",null,null,null,null,null,null,null,null,null,null,null,{"$f":"IFERROR(VLOOKUP(ROWS($AE$2:AE162),P162:Q2065,2,0),\"\")","v":""},null,null,null,null,{"$f":"IFERROR(VLOOKUP(ROWS($AJ$2:AJ162),O162:Q2065,3,0),\"\")","v":""},null,{"$f":"IFERROR(VLOOKUP(ROWS(AL$2:$AL162),N162:Q2065,4,0),\"\")","v":""}]
[null,null,null,null,null,null,null,null,null,null,null,null,null,{"$f":"IF(ISNUMBER(SEARCH($H$16,Q163)),MAX($N$1:N162)+1,0)","v":0},{"$f":"IF(ISNUMBER(SEARCH($H$11,Q163)),MAX($O$1:O162)+1,0)","v":0},{"$f":"IF(ISNUMBER(SEARCH($H$6,Q163)),MAX($P$1:P162)+1,0)","v":0},"tata mid cap growth fund","MTA122","Mid and Small-Cap",null,null,null,null,null,null,null,null,null,null,null,{"$f":"IFERROR(VLOOKUP(ROWS($AE$2:AE163),P163:Q2066,2,0),\"\")","v":""},null,null,null,null,{"$f":"IFERROR(VLOOKUP(ROWS($AJ$2:AJ163),O163:Q2066,3,0),\"\")","v":""},null,{"$f":"IFERROR(VLOOKUP(ROWS(AL$2:$AL163),N163:Q2066,4,0),\"\")","v":""}]
[null,null,null,null,null,null,null,null,null,null,null,null,null,{"$f":"IF(ISNUMBER(SEARCH($H$16,Q164)),MAX($N$1:N163)+1,0)","v":0},{"$f":"IF(ISNUMBER(SEARCH($H$11,Q164)),MAX($O$1:O163)+1,0)","v":0},{"$f":"IF(ISNUMBER(SEARCH($H$6,Q164)),MAX($P$1:P163)+1,0)","v":0},"taurus discovery fund","MCM041","Mid and Small-Cap",null,null,null,null,null,null,null,null,null,null,null,{"$f":"IFERROR(VLOOKUP(ROWS($AE$2:AE164),P164:Q2067,2,0),\"\")","v":""},null,null,null,null,{"$f":"IFERROR(VLOOKUP(ROWS($AJ$2:AJ164),O164:Q2067,3,0),\"\")","v":""},null,{"$f":"IFERROR(VLOOKUP(ROWS(AL$2:$AL164),N164:Q2067,4,0),\"\")","v":""}]
[null,null,null,null,null,null,null,null,null,null,null,null,null,{"$f":"IF(ISNUMBER(SEARCH($H$16,Q165)),MAX($N$1:N164)+1,0)","v":0},{"$f":"IF(ISNUMBER(SEARCH($H$11,Q165)),MAX($O$1:O164)+1,0)","v":0},{"$f":"IF(ISNUMBER(SEARCH($H$6,Q165)),MAX($P$1:P164)+1,0)","v":0},"templeton i equity income","MTE092","Mid and Small-Cap",null,null,null,null,null,null,null,null,null,null,null,{"$f":"IFERROR(VLOOKUP(ROWS($AE$2:AE165),P165:Q2068,2,0),\"\")","v":""},null,null,null,null,{"$f":"IFERROR(VLOOKUP(ROWS($AJ$2:AJ165),O165:Q2068,3,0),\"\")","v":""},null,{"$f":"IFERROR(VLOOKUP(ROWS(AL$2:$AL165),N165:Q2068,4,0),\"\")","v":""}]
[null,null,null,null,null,null,null,null,null,null,null,null,null,{"$f":"IF(ISNUMBER(SEARCH($H$16,Q166)),MAX($N$1:N165)+1,0)","v":0},{"$f":"IF(ISNUMBER(SEARCH($H$11,Q166)),MAX($O$1:O165)+1,0)","v":0},{"$f":"IF(ISNUMBER(SEARCH($H$6,Q166)),MAX($P$1:P165)+1,0)","v":0},"templeton i equity income dir","MTE297","Mid and Small-Cap",null,null,null,null,null,null,null,null,null,null,null,{"$f":"IFERROR(VLOOKUP(ROWS($AE$2:AE166),P166:Q2069,2,0),\"\")","v":""},null,null,null,null,{"$f":"IFERROR(VLOOKUP(ROWS($AJ$2:AJ166),O166:Q2069,3,0),\"\")","v":""},null,{"$f":"IFERROR(VLOOKUP(ROWS(AL$2:$AL166),N166:Q2069,4,0),\"\")","v":""}]
[null,null,null,null,null,null,null,null,null,null,null,null,null,{"$f":"IF(ISNUMBER(SEARCH($H$16,Q167)),MAX($N$1:N166)+1,0)","v":0},{"$f":"IF(ISNUMBER(SEARCH($H$11,Q167)),MAX($O$1:O166)+1,0)","v":0},{"$f":"IF(ISNUMBER(SEARCH($H$6,Q167)),MAX($P$1:P166)+1,0)","v":0},"ukbc small and mid cap fund rp","MUK089","Mid and Small-Cap",null,null,null,null,null,null,null,null,null,null,null,{"$f":"IFERROR(VLOOKUP(ROWS($AE$2:AE167),P167:Q2070,2,0),\"\")","v":""},null,null,null,null,{"$f":"IFERROR(VLOOKUP(ROWS($AJ$2:AJ167),O167:Q2070,3,0),\"\")","v":""},null,{"$f":"IFERROR(VLOOKUP(ROWS(AL$2:$AL167),N167:Q2070,4,0),\"\")","v":""}]
[null,null,null,null,null,null,null,null,null,null,null,null,null,{"$f":"IF(ISNUMBER(SEARCH($H$16,Q168)),MAX($N$1:N167)+1,0)","v":0},{"$f":"IF(ISNUMBER(SEARCH($H$11,Q168)),MAX($O$1:O167)+1,0)","v":0},{"$f":"IF(ISNUMBER(SEARCH($H$6,Q168)),MAX($P$1:P167)+1,0)","v":0},"union kbc small mid cap dp","MUK091","Mid and Small-Cap",null,null,null,null,null,null,null,null,null,null,null,{"$f":"IFERROR(VLOOKUP(ROWS($AE$2:AE168),P168:Q2071,2,0),\"\")","v":""},null,null,null,null,{"$f":"IFERROR(VLOOKUP(ROWS($AJ$2:AJ168),O168:Q2071,3,0),\"\")","v":""},null,{"$f":"IFERROR(VLOOKUP(ROWS(AL$2:$AL168),N168:Q2071,4,0),\"\")","v":""}]
[null,null,null,null,null,null,null,null,null,null,null,null,null,{"$f":"IF(ISNUMBER(SEARCH($H$16,Q169)),MAX($N$1:N168)+1,0)","v":0},{"$f":"IF(ISNUMBER(SEARCH($H$11,Q169)),MAX($O$1:O168)+1,0)","v":0},{"$f":"IF(ISNUMBER(SEARCH($H$6,Q169)),MAX($P$1:P168)+1,0)","v":0},"uti mid cap","MUT063","Mid and Small-Cap",null,null,null,null,null,null,null,null,null,null,null,{"$f":"IFERROR(VLOOKUP(ROWS($AE$2:AE169),P169:Q2072,2,0),\"\")","v":""},null,null,null,null,{"$f":"IFERROR(VLOOKUP(ROWS($AJ$2:AJ169),O169:Q2072,3,0),\"\")","v":""},null,{"$f":"IFERROR(VLOOKUP(ROWS(AL$2:$AL169),N169:Q2072,4,0),\"\")","v":""}]
[null,null,null,null,null,null,null,null,null,null,null,null,null,{"$f":"IF(ISNUMBER(SEARCH($H$16,Q170)),MAX($N$1:N169)+1,0)","v":0},{"$f":"IF(ISNUMBER(SEARCH($H$11,Q170)),MAX($O$1:O169)+1,0)","v":0},{"$f":"IF(ISNUMBER(SEARCH($H$6,Q170)),MAX($P$1:P169)+1,0)","v":0},"axis equity fund","MAA009","Diversified equity",null,null,null,null,null,null,null,null,null,null,null,{"$f":"IFERROR(VLOOKUP(ROWS($AE$2:AE170),P170:Q2073,2,0),\"\")","v":""},null,null,null,null,{"$f":"IFERROR(VLOOKUP(ROWS($AJ$2:AJ170),O170:Q2073,3,0),\"\")","v":""},null,{"$f":"IFERROR(VLOOKUP(ROWS(AL$2:$AL170),N170:Q2073,4,0),\"\")","v":""}]
[null,null,null,null,null,null,null,null,null,null,null,null,null,{"$f":"IF(ISNUMBER(SEARCH($H$16,Q171)),MAX($N$1:N170)+1,0)","v":0},{"$f":"IF(ISNUMBER(SEARCH($H$11,Q171)),MAX($O$1:O170)+1,0)","v":0},{"$f":"IF(ISNUMBER(SEARCH($H$6,Q171)),MAX($P$1:P170)+1,0)","v":0},"axis focused 25 fund","MAA169","Diversified equity",null,null,null,null,null,null,null,null,null,null,null,{"$f":"IFERROR(VLOOKUP(ROWS($AE$2:AE171),P171:Q2074,2,0),\"\")","v":""},null,null,null,null,{"$f":"IFERROR(VLOOKUP(ROWS($AJ$2:AJ171),O171:Q2074,3,0),\"\")","v":""},null,{"$f":"IFERROR(VLOOKUP(ROWS(AL$2:$AL171),N171:Q2074,4,0),\"\")","v":""}]
[null,null,null,null,null,null,null,null,null,null,null,null,null,{"$f":"IF(ISNUMBER(SEARCH($H$16,Q172)),MAX($N$1:N171)+1,0)","v":0},{"$f":"IF(ISNUMBER(SEARCH($H$11,Q172)),MAX($O$1:O171)+1,0)","v":0},{"$f":"IF(ISNUMBER(SEARCH($H$6,Q172)),MAX($P$1:P171)+1,0)","v":0},"birla sl advantage fund","MBS022","Diversified equity",null,null,null,null,null,null,null,null,null,null,null,{"$f":"IFERROR(VLOOKUP(ROWS($AE$2:AE172),P172:Q2075,2,0),\"\")","v":""},null,null,null,null,{"$f":"IFERROR(VLOOKUP(ROWS($AJ$2:AJ172),O172:Q2075,3,0),\"\")","v":""},null,{"$f":"IFERROR(VLOOKUP(ROWS(AL$2:$AL172),N172:Q2075,4,0),\"\")","v":""}]
[null,null,null,null,null,null,null,null,null,null,null,null,null,{"$f":"IF(ISNUMBER(SEARCH($H$16,Q173)),MAX($N$1:N172)+1,0)","v":0},{"$f":"IF(ISNUMBER(SEARCH($H$11,Q173)),MAX($O$1:O172)+1,0)","v":0},{"$f":"IF(ISNUMBER(SEARCH($H$6,Q173)),MAX($P$1:P172)+1,0)","v":0},"birla sl dividend yield","MBS030","Diversified equity",null,null,null,null,null,null,null,null,null,null,null,{"$f":"IFERROR(VLOOKUP(ROWS($AE$2:AE173),P173:Q2076,2,0),\"\")","v":""},null,null,null,null,{"$f":"IFERROR(VLOOKUP(ROWS($AJ$2:AJ173),O173:Q2076,3,0),\"\")","v":""},null,{"$f":"IFERROR(VLOOKUP(ROWS(AL$2:$AL173),N173:Q2076,4,0),\"\")","v":""}]
[null,null,null,null,null,null,null,null,null,null,null,null,null,{"$f":"IF(ISNUMBER(SEARCH($H$16,Q174)),MAX($N$1:N173)+1,0)","v":0},{"$f":"IF(ISNUMBER(SEARCH($H$11,Q174)),MAX($O$1:O173)+1,0)","v":0},{"$f":"IF(ISNUMBER(SEARCH($H$6,Q174)),MAX($P$1:P173)+1,0)","v":0},"birla sl equity savings fund dp","MBS1975","Diversified equity",null,null,null,null,null,null,null,null,null,null,null,{"$f":"IFERROR(VLOOKUP(ROWS($AE$2:AE174),P174:Q2077,2,0),\"\")","v":""},null,null,null,null,{"$f":"IFERROR(VLOOKUP(ROWS($AJ$2:AJ174),O174:Q2077,3,0),\"\")","v":""},null,{"$f":"IFERROR(VLOOKUP(ROWS(AL$2:$AL174),N174:Q2077,4,0),\"\")","v":""}]
[null,null,null,null,null,null,null,null,null,null,null,null,null,{"$f":"IF(ISNUMBER(SEARCH($H$16,Q175)),MAX($N$1:N174)+1,0)","v":0},{"$f":"IF(ISNUMBER(SEARCH($H$11,Q175)),MAX($O$1:O174)+1,0)","v":0},{"$f":"IF(ISNUMBER(SEARCH($H$6,Q175)),MAX($P$1:P174)+1,0)","v":0},"birla sl equity savings fund rp","MBS1973","Diversified equity",null,null,null,null,null,null,null,null,null,null,null,{"$f":"IFERROR(VLOOKUP(ROWS($AE$2:AE175),P175:Q2078,2,0),\"\")","v":""},null,null,null,null,{"$f":"IFERROR(VLOOKUP(ROWS($AJ$2:AJ175),O175:Q2078,3,0),\"\")","v":""},null,{"$f":"IFERROR(VLOOKUP(ROWS(AL$2:$AL175),N175:Q2078,4,0),\"\")","v":""}]
[null,null,null,null,null,null,null,null,null,null,null,null,null,{"$f":"IF(ISNUMBER(SEARCH($H$16,Q176)),MAX($N$1:N175)+1,0)","v":0},{"$f":"IF(ISNUMBER(SEARCH($H$11,Q176)),MAX($O$1:O175)+1,0)","v":0},{"$f":"IF(ISNUMBER(SEARCH($H$6,Q176)),MAX($P$1:P175)+1,0)","v":0},"birla sl india gennext","MBS087","Diversified equity",null,null,null,null,null,null,null,null,null,null,null,{"$f":"IFERROR(VLOOKUP(ROWS($AE$2:AE176),P176:Q2079,2,0),\"\")","v":""},null,null,null,null,{"$f":"IFERROR(VLOOKUP(ROWS($AJ$2:AJ176),O176:Q2079,3,0),\"\")","v":""},null,{"$f":"IFERROR(VLOOKUP(ROWS(AL$2:$AL176),N176:Q2079,4,0),\"\")","v":""}]
[null,null,null,null,null,null,null,null,null,null,null,null,null,{"$f":"IF(ISNUMBER(SEARCH($H$16,Q177)),MAX($N$1:N176)+1,0)","v":0},{"$f":"IF(ISNUMBER(SEARCH($H$11,Q177)),MAX($O$1:O176)+1,0)","v":0},{"$f":"IF(ISNUMBER(SEARCH($H$6,Q177)),MAX($P$1:P176)+1,0)","v":0},"birla sl intl equity b","MBS205","Diversified equity",null,null,null,null,null,null,null,null,null,null,null,{"$f":"IFERROR(VLOOKUP(ROWS($AE$2:AE177),P177:Q2080,2,0),\"\")","v":""},null,null,null,null,{"$f":"IFERROR(VLOOKUP(ROWS($AJ$2:AJ177),O177:Q2080,3,0),\"\")","v":""},null,{"$f":"IFERROR(VLOOKUP(ROWS(AL$2:$AL177),N177:Q2080,4,0),\"\")","v":""}]
[null,null,null,null,null,null,null,null,null,null,null,null,null,{"$f":"IF(ISNUMBER(SEARCH($H$16,Q178)),MAX($N$1:N177)+1,0)","v":0},{"$f":"IF(ISNUMBER(SEARCH($H$11,Q178)),MAX($O$1:O177)+1,0)","v":0},{"$f":"IF(ISNUMBER(SEARCH($H$6,Q178)),MAX($P$1:P177)+1,0)","v":0},"birla sl i opportunities","MBS050","Diversified equity",null,null,null,null,null,null,null,null,null,null,null,{"$f":"IFERROR(VLOOKUP(ROWS($AE$2:AE178),P178:Q2081,2,0),\"\")","v":""},null,null,null,null,{"$f":"IFERROR(VLOOKUP(ROWS($AJ$2:AJ178),O178:Q2081,3,0),\"\")","v":""},null,{"$f":"IFERROR(VLOOKUP(ROWS(AL$2:$AL178),N178:Q2081,4,0),\"\")","v":""}]
[null,null,null,null,null,null,null,null,null,null,null,null,null,{"$f":"IF(ISNUMBER(SEARCH($H$16,Q179)),MAX($N$1:N178)+1,0)","v":0},{"$f":"IF(ISNUMBER(SEARCH($H$11,Q179)),MAX($O$1:O178)+1,0)","v":0},{"$f":"IF(ISNUMBER(SEARCH($H$6,Q179)),MAX($P$1:P178)+1,0)","v":0},"birla sl long term advan ","MBS097","Diversified equity",null,null,null,null,null,null,null,null,null,null,null,{"$f":"IFERROR(VLOOKUP(ROWS($AE$2:AE179),P179:Q2082,2,0),\"\")","v":""},null,null,null,null,{"$f":"IFERROR(VLOOKUP(ROWS($AJ$2:AJ179),O179:Q2082,3,0),\"\")","v":""},null,{"$f":"IFERROR(VLOOKUP(ROWS(AL$2:$AL179),N179:Q2082,4,0),\"\")","v":""}]
[null,null,null,null,null,null,null,null,null,null,null,null,null,{"$f":"IF(ISNUMBER(SEARCH($H$16,Q180)),MAX($N$1:N179)+1,0)","v":0},{"$f":"IF(ISNUMBER(SEARCH($H$11,Q180)),MAX($O$1:O179)+1,0)","v":0},{"$f":"IF(ISNUMBER(SEARCH($H$6,Q180)),MAX($P$1:P179)+1,0)","v":0},"birla sl manufacturing equity dp","MBS2001","Diversified equity",null,null,null,null,null,null,null,null,null,null,null,{"$f":"IFERROR(VLOOKUP(ROWS($AE$2:AE180),P180:Q2083,2,0),\"\")","v":""},null,null,null,null,{"$f":"IFERROR(VLOOKUP(ROWS($AJ$2:AJ180),O180:Q2083,3,0),\"\")","v":""},null,{"$f":"IFERROR(VLOOKUP(ROWS(AL$2:$AL180),N180:Q2083,4,0),\"\")","v":""}]
[null,null,null,null,null,null,null,null,null,null,null,null,null,{"$f":"IF(ISNUMBER(SEARCH($H$16,Q181)),MAX($N$1:N180)+1,0)","v":0},{"$f":"IF(ISNUMBER(SEARCH($H$11,Q181)),MAX($O$1:O180)+1,0)","v":0},{"$f":"IF(ISNUMBER(SEARCH($H$6,Q181)),MAX($P$1:P180)+1,0)","v":0},"birla sl manufacturing equity rp","MBS1999","Diversified equity",null,null,null,null,null,null,null,null,null,null,null,{"$f":"IFERROR(VLOOKUP(ROWS($AE$2:AE181),P181:Q2084,2,0),\"\")","v":""},null,null,null,null,{"$f":"IFERROR(VLOOKUP(ROWS($AJ$2:AJ181),O181:Q2084,3,0),\"\")","v":""},null,{"$f":"IFERROR(VLOOKUP(ROWS(AL$2:$AL181),N181:Q2084,4,0),\"\")","v":""}]
[null,null,null,null,null,null,null,null,null,null,null,null,null,{"$f":"IF(ISNUMBER(SEARCH($H$16,Q182)),MAX($N$1:N181)+1,0)","v":0},{"$f":"IF(ISNUMBER(SEARCH($H$11,Q182)),MAX($O$1:O181)+1,0)","v":0},{"$f":"IF(ISNUMBER(SEARCH($H$6,Q182)),MAX($P$1:P181)+1,0)","v":0},"birla sl special situations","MBS251","Diversified equity",null,null,null,null,null,null,null,null,null,null,null,{"$f":"IFERROR(VLOOKUP(ROWS($AE$2:AE182),P182:Q2085,2,0),\"\")","v":""},null,null,null,null,{"$f":"IFERROR(VLOOKUP(ROWS($AJ$2:AJ182),O182:Q2085,3,0),\"\")","v":""},null,{"$f":"IFERROR(VLOOKUP(ROWS(AL$2:$AL182),N182:Q2085,4,0),\"\")","v":""}]
[null,null,null,null,null,null,null,null,null,null,null,null,null,{"$f":"IF(ISNUMBER(SEARCH($H$16,Q183)),MAX($N$1:N182)+1,0)","v":0},{"$f":"IF(ISNUMBER(SEARCH($H$11,Q183)),MAX($O$1:O182)+1,0)","v":0},{"$f":"IF(ISNUMBER(SEARCH($H$6,Q183)),MAX($P$1:P182)+1,0)","v":0},"birla sun life equity fund","MAC006","Diversified equity",null,null,null,null,null,null,null,null,null,null,null,{"$f":"IFERROR(VLOOKUP(ROWS($AE$2:AE183),P183:Q2086,2,0),\"\")","v":""},null,null,null,null,{"$f":"IFERROR(VLOOKUP(ROWS($AJ$2:AJ183),O183:Q2086,3,0),\"\")","v":""},null,{"$f":"IFERROR(VLOOKUP(ROWS(AL$2:$AL183),N183:Q2086,4,0),\"\")","v":""}]
[null,null,null,null,null,null,null,null,null,null,null,null,null,{"$f":"IF(ISNUMBER(SEARCH($H$16,Q184)),MAX($N$1:N183)+1,0)","v":0},{"$f":"IF(ISNUMBER(SEARCH($H$11,Q184)),MAX($O$1:O183)+1,0)","v":0},{"$f":"IF(ISNUMBER(SEARCH($H$6,Q184)),MAX($P$1:P183)+1,0)","v":0},"bnp paribas dividend yield","MAB024","Diversified equity",null,null,null,null,null,null,null,null,null,null,null,{"$f":"IFERROR(VLOOKUP(ROWS($AE$2:AE184),P184:Q2087,2,0),\"\")","v":""},null,null,null,null,{"$f":"IFERROR(VLOOKUP(ROWS($AJ$2:AJ184),O184:Q2087,3,0),\"\")","v":""},null,{"$f":"IFERROR(VLOOKUP(ROWS(AL$2:$AL184),N184:Q2087,4,0),\"\")","v":""}]
[null,null,null,null,null,null,null,null,null,null,null,null,null,{"$f":"IF(ISNUMBER(SEARCH($H$16,Q185)),MAX($N$1:N184)+1,0)","v":0},{"$f":"IF(ISNUMBER(SEARCH($H$11,Q185)),MAX($O$1:O184)+1,0)","v":0},{"$f":"IF(ISNUMBER(SEARCH($H$6,Q185)),MAX($P$1:P184)+1,0)","v":0},"bnp paribas dividend yield dir","MAB722","Diversified equity",null,null,null,null,null,null,null,null,null,null,null,{"$f":"IFERROR(VLOOKUP(ROWS($AE$2:AE185),P185:Q2088,2,0),\"\")","v":""},null,null,null,null,{"$f":"IFERROR(VLOOKUP(ROWS($AJ$2:AJ185),O185:Q2088,3,0),\"\")","v":""},null,{"$f":"IFERROR(VLOOKUP(ROWS(AL$2:$AL185),N185:Q2088,4,0),\"\")","v":""}]
[null,null,null,null,null,null,null,null,null,null,null,null,null,{"$f":"IF(ISNUMBER(SEARCH($H$16,Q186)),MAX($N$1:N185)+1,0)","v":0},{"$f":"IF(ISNUMBER(SEARCH($H$11,Q186)),MAX($O$1:O185)+1,0)","v":0},{"$f":"IF(ISNUMBER(SEARCH($H$6,Q186)),MAX($P$1:P185)+1,0)","v":0},"bnp paribas equity fund","MAB001","Diversified equity",null,null,null,null,null,null,null,null,null,null,null,{"$f":"IFERROR(VLOOKUP(ROWS($AE$2:AE186),P186:Q2089,2,0),\"\")","v":""},null,null,null,null,{"$f":"IFERROR(VLOOKUP(ROWS($AJ$2:AJ186),O186:Q2089,3,0),\"\")","v":""},null,{"$f":"IFERROR(VLOOKUP(ROWS(AL$2:$AL186),N186:Q2089,4,0),\"\")","v":""}]
[null,null,null,null,null,null,null,null,null,null,null,null,null,{"$f":"IF(ISNUMBER(SEARCH($H$16,Q187)),MAX($N$1:N186)+1,0)","v":0},{"$f":"IF(ISNUMBER(SEARCH($H$11,Q187)),MAX($O$1:O186)+1,0)","v":0},{"$f":"IF(ISNUMBER(SEARCH($H$6,Q187)),MAX($P$1:P186)+1,0)","v":0},"bnp paribas equity fund dir","MAB720","Diversified equity",null,null,null,null,null,null,null,null,null,null,null,{"$f":"IFERROR(VLOOKUP(ROWS($AE$2:AE187),P187:Q2090,2,0),\"\")","v":""},null,null,null,null,{"$f":"IFERROR(VLOOKUP(ROWS($AJ$2:AJ187),O187:Q2090,3,0),\"\")","v":""},null,{"$f":"IFERROR(VLOOKUP(ROWS(AL$2:$AL187),N187:Q2090,4,0),\"\")","v":""}]
[null,null,null,null,null,null,null,null,null,null,null,null,null,{"$f":"IF(ISNUMBER(SEARCH($H$16,Q188)),MAX($N$1:N187)+1,0)","v":0},{"$f":"IF(ISNUMBER(SEARCH($H$11,Q188)),MAX($O$1:O187)+1,0)","v":0},{"$f":"IF(ISNUMBER(SEARCH($H$6,Q188)),MAX($P$1:P187)+1,0)","v":0},"can robeco equity divers","MCA022","Diversified equity",null,null,null,null,null,null,null,null,null,null,null,{"$f":"IFERROR(VLOOKUP(ROWS($AE$2:AE188),P188:Q2091,2,0),\"\")","v":""},null,null,null,null,{"$f":"IFERROR(VLOOKUP(ROWS($AJ$2:AJ188),O188:Q2091,3,0),\"\")","v":""},null,{"$f":"IFERROR(VLOOKUP(ROWS(AL$2:$AL188),N188:Q2091,4,0),\"\")","v":""}]
[null,null,null,null,null,null,null,null,null,null,null,null,null,{"$f":"IF(ISNUMBER(SEARCH($H$16,Q189)),MAX($N$1:N188)+1,0)","v":0},{"$f":"IF(ISNUMBER(SEARCH($H$11,Q189)),MAX($O$1:O188)+1,0)","v":0},{"$f":"IF(ISNUMBER(SEARCH($H$6,Q189)),MAX($P$1:P188)+1,0)","v":0},"dsp br 3yrs close ended eqty dp","MDS1125","Diversified equity",null,null,null,null,null,null,null,null,null,null,null,{"$f":"IFERROR(VLOOKUP(ROWS($AE$2:AE189),P189:Q2092,2,0),\"\")","v":""},null,null,null,null,{"$f":"IFERROR(VLOOKUP(ROWS($AJ$2:AJ189),O189:Q2092,3,0),\"\")","v":""},null,{"$f":"IFERROR(VLOOKUP(ROWS(AL$2:$AL189),N189:Q2092,4,0),\"\")","v":""}]
[null,null,null,null,null,null,null,null,null,null,null,null,null,{"$f":"IF(ISNUMBER(SEARCH($H$16,Q190)),MAX($N$1:N189)+1,0)","v":0},{"$f":"IF(ISNUMBER(SEARCH($H$11,Q190)),MAX($O$1:O189)+1,0)","v":0},{"$f":"IF(ISNUMBER(SEARCH($H$6,Q190)),MAX($P$1:P189)+1,0)","v":0},"dsp br 3yrs close ended eqty rp","MDS1123","Diversified equity",null,null,null,null,null,null,null,null,null,null,null,{"$f":"IFERROR(VLOOKUP(ROWS($AE$2:AE190),P190:Q2093,2,0),\"\")","v":""},null,null,null,null,{"$f":"IFERROR(VLOOKUP(ROWS($AJ$2:AJ190),O190:Q2093,3,0),\"\")","v":""},null,{"$f":"IFERROR(VLOOKUP(ROWS(AL$2:$AL190),N190:Q2093,4,0),\"\")","v":""}]
[null,null,null,null,null,null,null,null,null,null,null,null,null,{"$f":"IF(ISNUMBER(SEARCH($H$16,Q191)),MAX($N$1:N190)+1,0)","v":0},{"$f":"IF(ISNUMBER(SEARCH($H$11,Q191)),MAX($O$1:O190)+1,0)","v":0},{"$f":"IF(ISNUMBER(SEARCH($H$6,Q191)),MAX($P$1:P190)+1,0)","v":0},"dsp br equity fund inst","MDS062","Diversified equity",null,null,null,null,null,null,null,null,null,null,null,{"$f":"IFERROR(VLOOKUP(ROWS($AE$2:AE191),P191:Q2094,2,0),\"\")","v":""},null,null,null,null,{"$f":"IFERROR(VLOOKUP(ROWS($AJ$2:AJ191),O191:Q2094,3,0),\"\")","v":""},null,{"$f":"IFERROR(VLOOKUP(ROWS(AL$2:$AL191),N191:Q2094,4,0),\"\")","v":""}]
[null,null,null,null,null,null,null,null,null,null,null,null,null,{"$f":"IF(ISNUMBER(SEARCH($H$16,Q192)),MAX($N$1:N191)+1,0)","v":0},{"$f":"IF(ISNUMBER(SEARCH($H$11,Q192)),MAX($O$1:O191)+1,0)","v":0},{"$f":"IF(ISNUMBER(SEARCH($H$6,Q192)),MAX($P$1:P191)+1,0)","v":0},"dsp br equity fund rp","MDS078","Diversified equity",null,null,null,null,null,null,null,null,null,null,null,{"$f":"IFERROR(VLOOKUP(ROWS($AE$2:AE192),P192:Q2095,2,0),\"\")","v":""},null,null,null,null,{"$f":"IFERROR(VLOOKUP(ROWS($AJ$2:AJ192),O192:Q2095,3,0),\"\")","v":""},null,{"$f":"IFERROR(VLOOKUP(ROWS(AL$2:$AL192),N192:Q2095,4,0),\"\")","v":""}]
[null,null,null,null,null,null,null,null,null,null,null,null,null,{"$f":"IF(ISNUMBER(SEARCH($H$16,Q193)),MAX($N$1:N192)+1,0)","v":0},{"$f":"IF(ISNUMBER(SEARCH($H$11,Q193)),MAX($O$1:O192)+1,0)","v":0},{"$f":"IF(ISNUMBER(SEARCH($H$6,Q193)),MAX($P$1:P192)+1,0)","v":0},"dsp br focus 25 fund","MDS281","Diversified equity",null,null,null,null,null,null,null,null,null,null,null,{"$f":"IFERROR(VLOOKUP(ROWS($AE$2:AE193),P193:Q2096,2,0),\"\")","v":""},null,null,null,null,{"$f":"IFERROR(VLOOKUP(ROWS($AJ$2:AJ193),O193:Q2096,3,0),\"\")","v":""},null,{"$f":"IFERROR(VLOOKUP(ROWS(AL$2:$AL193),N193:Q2096,4,0),\"\")","v":""}]
[null,null,null,null,null,null,null,null,null,null,null,null,null,{"$f":"IF(ISNUMBER(SEARCH($H$16,Q194)),MAX($N$1:N193)+1,0)","v":0},{"$f":"IF(ISNUMBER(SEARCH($H$11,Q194)),MAX($O$1:O193)+1,0)","v":0},{"$f":"IF(ISNUMBER(SEARCH($H$6,Q194)),MAX($P$1:P193)+1,0)","v":0},"dsp br opportunities ip","MDS066","Diversified equity",null,null,null,null,null,null,null,null,null,null,null,{"$f":"IFERROR(VLOOKUP(ROWS($AE$2:AE194),P194:Q2097,2,0),\"\")","v":""},null,null,null,null,{"$f":"IFERROR(VLOOKUP(ROWS($AJ$2:AJ194),O194:Q2097,3,0),\"\")","v":""},null,{"$f":"IFERROR(VLOOKUP(ROWS(AL$2:$AL194),N194:Q2097,4,0),\"\")","v":""}]
[null,null,null,null,null,null,null,null,null,null,null,null,null,{"$f":"IF(ISNUMBER(SEARCH($H$16,Q195)),MAX($N$1:N194)+1,0)","v":0},{"$f":"IF(ISNUMBER(SEARCH($H$11,Q195)),MAX($O$1:O194)+1,0)","v":0},{"$f":"IF(ISNUMBER(SEARCH($H$6,Q195)),MAX($P$1:P194)+1,0)","v":0},"dsp br opportunities rp","MDS011","Diversified equity",null,null,null,null,null,null,null,null,null,null,null,{"$f":"IFERROR(VLOOKUP(ROWS($AE$2:AE195),P195:Q2098,2,0),\"\")","v":""},null,null,null,null,{"$f":"IFERROR(VLOOKUP(ROWS($AJ$2:AJ195),O195:Q2098,3,0),\"\")","v":""},null,{"$f":"IFERROR(VLOOKUP(ROWS(AL$2:$AL195),N195:Q2098,4,0),\"\")","v":""}]
[null,null,null,null,null,null,null,null,null,null,null,null,null,{"$f":"IF(ISNUMBER(SEARCH($H$16,Q196)),MAX($N$1:N195)+1,0)","v":0},{"$f":"IF(ISNUMBER(SEARCH($H$11,Q196)),MAX($O$1:O195)+1,0)","v":0},{"$f":"IF(ISNUMBER(SEARCH($H$6,Q196)),MAX($P$1:P195)+1,0)","v":0},"dws invest opportunity rp","MDE029","Diversified equity",null,null,null,null,null,null,null,null,null,null,null,{"$f":"IFERROR(VLOOKUP(ROWS($AE$2:AE196),P196:Q2099,2,0),\"\")","v":""},null,null,null,null,{"$f":"IFERROR(VLOOKUP(ROWS($AJ$2:AJ196),O196:Q2099,3,0),\"\")","v":""},null,{"$f":"IFERROR(VLOOKUP(ROWS(AL$2:$AL196),N196:Q2099,4,0),\"\")","v":""}]
[null,null,null,null,null,null,null,null,null,null,null,null,null,{"$f":"IF(ISNUMBER(SEARCH($H$16,Q197)),MAX($N$1:N196)+1,0)","v":0},{"$f":"IF(ISNUMBER(SEARCH($H$11,Q197)),MAX($O$1:O196)+1,0)","v":0},{"$f":"IF(ISNUMBER(SEARCH($H$6,Q197)),MAX($P$1:P196)+1,0)","v":0},"dws invest opportunity wp","MDE262","Diversified equity",null,null,null,null,null,null,null,null,null,null,null,{"$f":"IFERROR(VLOOKUP(ROWS($AE$2:AE197),P197:Q2100,2,0),\"\")","v":""},null,null,null,null,{"$f":"IFERROR(VLOOKUP(ROWS($AJ$2:AJ197),O197:Q2100,3,0),\"\")","v":""},null,{"$f":"IFERROR(VLOOKUP(ROWS(AL$2:$AL197),N197:Q2100,4,0),\"\")","v":""}]
[null,null,null,null,null,null,null,null,null,null,null,null,null,{"$f":"IF(ISNUMBER(SEARCH($H$16,Q198)),MAX($N$1:N197)+1,0)","v":0},{"$f":"IF(ISNUMBER(SEARCH($H$11,Q198)),MAX($O$1:O197)+1,0)","v":0},{"$f":"IF(ISNUMBER(SEARCH($H$6,Q198)),MAX($P$1:P197)+1,0)","v":0},"escorts high yield equity","MES022","Diversified equity",null,null,null,null,null,null,null,null,null,null,null,{"$f":"IFERROR(VLOOKUP(ROWS($AE$2:AE198),P198:Q2101,2,0),\"\")","v":""},null,null,null,null,{"$f":"IFERROR(VLOOKUP(ROWS($AJ$2:AJ198),O198:Q2101,3,0),\"\")","v":""},null,{"$f":"IFERROR(VLOOKUP(ROWS(AL$2:$AL198),N198:Q2101,4,0),\"\")","v":""}]
[null,null,null,null,null,null,null,null,null,null,null,null,null,{"$f":"IF(ISNUMBER(SEARCH($H$16,Q199)),MAX($N$1:N198)+1,0)","v":0},{"$f":"IF(ISNUMBER(SEARCH($H$11,Q199)),MAX($O$1:O198)+1,0)","v":0},{"$f":"IF(ISNUMBER(SEARCH($H$6,Q199)),MAX($P$1:P198)+1,0)","v":0},"escorts opportunities fund","MES013","Diversified equity",null,null,null,null,null,null,null,null,null,null,null,{"$f":"IFERROR(VLOOKUP(ROWS($AE$2:AE199),P199:Q2102,2,0),\"\")","v":""},null,null,null,null,{"$f":"IFERROR(VLOOKUP(ROWS($AJ$2:AJ199),O199:Q2102,3,0),\"\")","v":""},null,{"$f":"IFERROR(VLOOKUP(ROWS(AL$2:$AL199),N199:Q2102,4,0),\"\")","v":""}]
[null,null,null,null,null,null,null,null,null,null,null,null,null,{"$f":"IF(ISNUMBER(SEARCH($H$16,Q200)),MAX($N$1:N199)+1,0)","v":0},{"$f":"IF(ISNUMBER(SEARCH($H$11,Q200)),MAX($O$1:O199)+1,0)","v":0},{"$f":"IF(ISNUMBER(SEARCH($H$6,Q200)),MAX($P$1:P199)+1,0)","v":0},"franklin high growth cos","MTE117","Diversified equity",null,null,null,null,null,null,null,null,null,null,null,{"$f":"IFERROR(VLOOKUP(ROWS($AE$2:AE200),P200:Q2103,2,0),\"\")","v":""},null,null,null,null,{"$f":"IFERROR(VLOOKUP(ROWS($AJ$2:AJ200),O200:Q2103,3,0),\"\")","v":""},null,{"$f":"IFERROR(VLOOKUP(ROWS(AL$2:$AL200),N200:Q2103,4,0),\"\")","v":""}]
[null,null,null,null,null,null,null,null,null,null,null,null,null,{"$f":"IF(ISNUMBER(SEARCH($H$16,Q201)),MAX($N$1:N200)+1,0)","v":0},{"$f":"IF(ISNUMBER(SEARCH($H$11,Q201)),MAX($O$1:O200)+1,0)","v":0},{"$f":"IF(ISNUMBER(SEARCH($H$6,Q201)),MAX($P$1:P200)+1,0)","v":0},"franklin i flexi cap","MTE078","Diversified equity",null,null,null,null,null,null,null,null,null,null,null,{"$f":"IFERROR(VLOOKUP(ROWS($AE$2:AE201),P201:Q2104,2,0),\"\")","v":""},null,null,null,null,{"$f":"IFERROR(VLOOKUP(ROWS($AJ$2:AJ201),O201:Q2104,3,0),\"\")","v":""},null,{"$f":"IFERROR(VLOOKUP(ROWS(AL$2:$AL201),N201:Q2104,4,0),\"\")","v":""}]
[null,null,null,null,null,null,null,null,null,null,null,null,null,{"$f":"IF(ISNUMBER(SEARCH($H$16,Q202)),MAX($N$1:N201)+1,0)","v":0},{"$f":"IF(ISNUMBER(SEARCH($H$11,Q202)),MAX($O$1:O201)+1,0)","v":0},{"$f":"IF(ISNUMBER(SEARCH($H$6,Q202)),MAX($P$1:P201)+1,0)","v":0},"franklin india prima plus","MKP003","Diversified equity",null,null,null,null,null,null,null,null,null,null,null,{"$f":"IFERROR(VLOOKUP(ROWS($AE$2:AE202),P202:Q2105,2,0),\"\")","v":""},null,null,null,null,{"$f":"IFERROR(VLOOKUP(ROWS($AJ$2:AJ202),O202:Q2105,3,0),\"\")","v":""},null,{"$f":"IFERROR(VLOOKUP(ROWS(AL$2:$AL202),N202:Q2105,4,0),\"\")","v":""}]
[null,null,null,null,null,null,null,null,null,null,null,null,null,{"$f":"IF(ISNUMBER(SEARCH($H$16,Q203)),MAX($N$1:N202)+1,0)","v":0},{"$f":"IF(ISNUMBER(SEARCH($H$11,Q203)),MAX($O$1:O202)+1,0)","v":0},{"$f":"IF(ISNUMBER(SEARCH($H$6,Q203)),MAX($P$1:P202)+1,0)","v":0},"gs india equity fund","MBM031","Diversified equity",null,null,null,null,null,null,null,null,null,null,null,{"$f":"IFERROR(VLOOKUP(ROWS($AE$2:AE203),P203:Q2106,2,0),\"\")","v":""},null,null,null,null,{"$f":"IFERROR(VLOOKUP(ROWS($AJ$2:AJ203),O203:Q2106,3,0),\"\")","v":""},null,{"$f":"IFERROR(VLOOKUP(ROWS(AL$2:$AL203),N203:Q2106,4,0),\"\")","v":""}]
[null,null,null,null,null,null,null,null,null,null,null,null,null,{"$f":"IF(ISNUMBER(SEARCH($H$16,Q204)),MAX($N$1:N203)+1,0)","v":0},{"$f":"IF(ISNUMBER(SEARCH($H$11,Q204)),MAX($O$1:O203)+1,0)","v":0},{"$f":"IF(ISNUMBER(SEARCH($H$6,Q204)),MAX($P$1:P203)+1,0)","v":0},"gs shariah bees","MBM025","Diversified equity",null,null,null,null,null,null,null,null,null,null,null,{"$f":"IFERROR(VLOOKUP(ROWS($AE$2:AE204),P204:Q2107,2,0),\"\")","v":""},null,null,null,null,{"$f":"IFERROR(VLOOKUP(ROWS($AJ$2:AJ204),O204:Q2107,3,0),\"\")","v":""},null,{"$f":"IFERROR(VLOOKUP(ROWS(AL$2:$AL204),N204:Q2107,4,0),\"\")","v":""}]
[null,null,null,null,null,null,null,null,null,null,null,null,null,{"$f":"IF(ISNUMBER(SEARCH($H$16,Q205)),MAX($N$1:N204)+1,0)","v":0},{"$f":"IF(ISNUMBER(SEARCH($H$11,Q205)),MAX($O$1:O204)+1,0)","v":0},{"$f":"IF(ISNUMBER(SEARCH($H$6,Q205)),MAX($P$1:P204)+1,0)","v":0},"hdfc capital builder fund","MZU016","Diversified equity",null,null,null,null,null,null,null,null,null,null,null,{"$f":"IFERROR(VLOOKUP(ROWS($AE$2:AE205),P205:Q2108,2,0),\"\")","v":""},null,null,null,null,{"$f":"IFERROR(VLOOKUP(ROWS($AJ$2:AJ205),O205:Q2108,3,0),\"\")","v":""},null,{"$f":"IFERROR(VLOOKUP(ROWS(AL$2:$AL205),N205:Q2108,4,0),\"\")","v":""}]
[null,null,null,null,null,null,null,null,null,null,null,null,null,{"$f":"IF(ISNUMBER(SEARCH($H$16,Q206)),MAX($N$1:N205)+1,0)","v":0},{"$f":"IF(ISNUMBER(SEARCH($H$11,Q206)),MAX($O$1:O205)+1,0)","v":0},{"$f":"IF(ISNUMBER(SEARCH($H$6,Q206)),MAX($P$1:P205)+1,0)","v":0},"hdfc core satellite fund","MHD044","Diversified equity",null,null,null,null,null,null,null,null,null,null,null,{"$f":"IFERROR(VLOOKUP(ROWS($AE$2:AE206),P206:Q2109,2,0),\"\")","v":""},null,null,null,null,{"$f":"IFERROR(VLOOKUP(ROWS($AJ$2:AJ206),O206:Q2109,3,0),\"\")","v":""},null,{"$f":"IFERROR(VLOOKUP(ROWS(AL$2:$AL206),N206:Q2109,4,0),\"\")","v":""}]
[null,null,null,null,null,null,null,null,null,null,null,null,null,{"$f":"IF(ISNUMBER(SEARCH($H$16,Q207)),MAX($N$1:N206)+1,0)","v":0},{"$f":"IF(ISNUMBER(SEARCH($H$11,Q207)),MAX($O$1:O206)+1,0)","v":0},{"$f":"IF(ISNUMBER(SEARCH($H$6,Q207)),MAX($P$1:P206)+1,0)","v":0},"hdfc equity fund","MZU001","Diversified equity",null,null,null,null,null,null,null,null,null,null,null,{"$f":"IFERROR(VLOOKUP(ROWS($AE$2:AE207),P207:Q2110,2,0),\"\")","v":""},null,null,null,null,{"$f":"IFERROR(VLOOKUP(ROWS($AJ$2:AJ207),O207:Q2110,3,0),\"\")","v":""},null,{"$f":"IFERROR(VLOOKUP(ROWS(AL$2:$AL207),N207:Q2110,4,0),\"\")","v":""}]
[null,null,null,null,null,null,null,null,null,null,null,null,null,{"$f":"IF(ISNUMBER(SEARCH($H$16,Q208)),MAX($N$1:N207)+1,0)","v":0},{"$f":"IF(ISNUMBER(SEARCH($H$11,Q208)),MAX($O$1:O207)+1,0)","v":0},{"$f":"IF(ISNUMBER(SEARCH($H$6,Q208)),MAX($P$1:P207)+1,0)","v":0},"hdfc growth fund","MHD001","Diversified equity",null,null,null,null,null,null,null,null,null,null,null,{"$f":"IFERROR(VLOOKUP(ROWS($AE$2:AE208),P208:Q2111,2,0),\"\")","v":""},null,null,null,null,{"$f":"IFERROR(VLOOKUP(ROWS($AJ$2:AJ208),O208:Q2111,3,0),\"\")","v":""},null,{"$f":"IFERROR(VLOOKUP(ROWS(AL$2:$AL208),N208:Q2111,4,0),\"\")","v":""}]
[null,null,null,null,null,null,null,null,null,null,null,null,null,{"$f":"IF(ISNUMBER(SEARCH($H$16,Q209)),MAX($N$1:N208)+1,0)","v":0},{"$f":"IF(ISNUMBER(SEARCH($H$11,Q209)),MAX($O$1:O208)+1,0)","v":0},{"$f":"IF(ISNUMBER(SEARCH($H$6,Q209)),MAX($P$1:P208)+1,0)","v":0},"hdfc large cap fund","MMS001","Diversified equity",null,null,null,null,null,null,null,null,null,null,null,{"$f":"IFERROR(VLOOKUP(ROWS($AE$2:AE209),P209:Q2112,2,0),\"\")","v":""},null,null,null,null,{"$f":"IFERROR(VLOOKUP(ROWS($AJ$2:AJ209),O209:Q2112,3,0),\"\")","v":""},null,{"$f":"IFERROR(VLOOKUP(ROWS(AL$2:$AL209),N209:Q2112,4,0),\"\")","v":""}]
[null,null,null,null,null,null,null,null,null,null,null,null,null,{"$f":"IF(ISNUMBER(SEARCH($H$16,Q210)),MAX($N$1:N209)+1,0)","v":0},{"$f":"IF(ISNUMBER(SEARCH($H$11,Q210)),MAX($O$1:O209)+1,0)","v":0},{"$f":"IF(ISNUMBER(SEARCH($H$6,Q210)),MAX($P$1:P209)+1,0)","v":0},"hdfc premier multicap","MHD048","Diversified equity",null,null,null,null,null,null,null,null,null,null,null,{"$f":"IFERROR(VLOOKUP(ROWS($AE$2:AE210),P210:Q2113,2,0),\"\")","v":""},null,null,null,null,{"$f":"IFERROR(VLOOKUP(ROWS($AJ$2:AJ210),O210:Q2113,3,0),\"\")","v":""},null,{"$f":"IFERROR(VLOOKUP(ROWS(AL$2:$AL210),N210:Q2113,4,0),\"\")","v":""}]
[null,null,null,null,null,null,null,null,null,null,null,null,null,{"$f":"IF(ISNUMBER(SEARCH($H$16,Q211)),MAX($N$1:N210)+1,0)","v":0},{"$f":"IF(ISNUMBER(SEARCH($H$11,Q211)),MAX($O$1:O210)+1,0)","v":0},{"$f":"IF(ISNUMBER(SEARCH($H$6,Q211)),MAX($P$1:P210)+1,0)","v":0},"hdfc small and mid cap fund","MMS002","Diversified equity",null,null,null,null,null,null,null,null,null,null,null,{"$f":"IFERROR(VLOOKUP(ROWS($AE$2:AE211),P211:Q2114,2,0),\"\")","v":""},null,null,null,null,{"$f":"IFERROR(VLOOKUP(ROWS($AJ$2:AJ211),O211:Q2114,3,0),\"\")","v":""},null,{"$f":"IFERROR(VLOOKUP(ROWS(AL$2:$AL211),N211:Q2114,4,0),\"\")","v":""}]
[null,null,null,null,null,null,null,null,null,null,null,null,null,{"$f":"IF(ISNUMBER(SEARCH($H$16,Q212)),MAX($N$1:N211)+1,0)","v":0},{"$f":"IF(ISNUMBER(SEARCH($H$11,Q212)),MAX($O$1:O211)+1,0)","v":0},{"$f":"IF(ISNUMBER(SEARCH($H$6,Q212)),MAX($P$1:P211)+1,0)","v":0},"hsbc dividend yield equity dir","MHS313","Diversified equity",null,null,null,null,null,null,null,null,null,null,null,{"$f":"IFERROR(VLOOKUP(ROWS($AE$2:AE212),P212:Q2115,2,0),\"\")","v":""},null,null,null,null,{"$f":"IFERROR(VLOOKUP(ROWS($AJ$2:AJ212),O212:Q2115,3,0),\"\")","v":""},null,{"$f":"IFERROR(VLOOKUP(ROWS(AL$2:$AL212),N212:Q2115,4,0),\"\")","v":""}]
[null,null,null,null,null,null,null,null,null,null,null,null,null,{"$f":"IF(ISNUMBER(SEARCH($H$16,Q213)),MAX($N$1:N212)+1,0)","v":0},{"$f":"IF(ISNUMBER(SEARCH($H$11,Q213)),MAX($O$1:O212)+1,0)","v":0},{"$f":"IF(ISNUMBER(SEARCH($H$6,Q213)),MAX($P$1:P212)+1,0)","v":0},"hsbc dividend yield equity fund","MHS071","Diversified equity",null,null,null,null,null,null,null,null,null,null,null,{"$f":"IFERROR(VLOOKUP(ROWS($AE$2:AE213),P213:Q2116,2,0),\"\")","v":""},null,null,null,null,{"$f":"IFERROR(VLOOKUP(ROWS($AJ$2:AJ213),O213:Q2116,3,0),\"\")","v":""},null,{"$f":"IFERROR(VLOOKUP(ROWS(AL$2:$AL213),N213:Q2116,4,0),\"\")","v":""}]
[null,null,null,null,null,null,null,null,null,null,null,null,null,{"$f":"IF(ISNUMBER(SEARCH($H$16,Q214)),MAX($N$1:N213)+1,0)","v":0},{"$f":"IF(ISNUMBER(SEARCH($H$11,Q214)),MAX($O$1:O213)+1,0)","v":0},{"$f":"IF(ISNUMBER(SEARCH($H$6,Q214)),MAX($P$1:P213)+1,0)","v":0},"hsbc india opportunities","MHS025","Diversified equity",null,null,null,null,null,null,null,null,null,null,null,{"$f":"IFERROR(VLOOKUP(ROWS($AE$2:AE214),P214:Q2117,2,0),\"\")","v":""},null,null,null,null,{"$f":"IFERROR(VLOOKUP(ROWS($AJ$2:AJ214),O214:Q2117,3,0),\"\")","v":""},null,{"$f":"IFERROR(VLOOKUP(ROWS(AL$2:$AL214),N214:Q2117,4,0),\"\")","v":""}]
[null,null,null,null,null,null,null,null,null,null,null,null,null,{"$f":"IF(ISNUMBER(SEARCH($H$16,Q215)),MAX($N$1:N214)+1,0)","v":0},{"$f":"IF(ISNUMBER(SEARCH($H$11,Q215)),MAX($O$1:O214)+1,0)","v":0},{"$f":"IF(ISNUMBER(SEARCH($H$6,Q215)),MAX($P$1:P214)+1,0)","v":0},"icici pru dividend yield dp","MPI2058","Diversified equity",null,null,null,null,null,null,null,null,null,null,null,{"$f":"IFERROR(VLOOKUP(ROWS($AE$2:AE215),P215:Q2118,2,0),\"\")","v":""},null,null,null,null,{"$f":"IFERROR(VLOOKUP(ROWS($AJ$2:AJ215),O215:Q2118,3,0),\"\")","v":""},null,{"$f":"IFERROR(VLOOKUP(ROWS(AL$2:$AL215),N215:Q2118,4,0),\"\")","v":""}]
[null,null,null,null,null,null,null,null,null,null,null,null,null,{"$f":"IF(ISNUMBER(SEARCH($H$16,Q216)),MAX($N$1:N215)+1,0)","v":0},{"$f":"IF(ISNUMBER(SEARCH($H$11,Q216)),MAX($O$1:O215)+1,0)","v":0},{"$f":"IF(ISNUMBER(SEARCH($H$6,Q216)),MAX($P$1:P215)+1,0)","v":0},"icici pru dividend yield rp","MPI2056","Diversified equity",null,null,null,null,null,null,null,null,null,null,null,{"$f":"IFERROR(VLOOKUP(ROWS($AE$2:AE216),P216:Q2119,2,0),\"\")","v":""},null,null,null,null,{"$f":"IFERROR(VLOOKUP(ROWS($AJ$2:AJ216),O216:Q2119,3,0),\"\")","v":""},null,{"$f":"IFERROR(VLOOKUP(ROWS(AL$2:$AL216),N216:Q2119,4,0),\"\")","v":""}]
[null,null,null,null,null,null,null,null,null,null,null,null,null,{"$f":"IF(ISNUMBER(SEARCH($H$16,Q217)),MAX($N$1:N216)+1,0)","v":0},{"$f":"IF(ISNUMBER(SEARCH($H$11,Q217)),MAX($O$1:O216)+1,0)","v":0},{"$f":"IF(ISNUMBER(SEARCH($H$6,Q217)),MAX($P$1:P216)+1,0)","v":0},"icici pru dynamic plan","MPI038","Diversified equity",null,null,null,null,null,null,null,null,null,null,null,{"$f":"IFERROR(VLOOKUP(ROWS($AE$2:AE217),P217:Q2120,2,0),\"\")","v":""},null,null,null,null,{"$f":"IFERROR(VLOOKUP(ROWS($AJ$2:AJ217),O217:Q2120,3,0),\"\")","v":""},null,{"$f":"IFERROR(VLOOKUP(ROWS(AL$2:$AL217),N217:Q2120,4,0),\"\")","v":""}]
[null,null,null,null,null,null,null,null,null,null,null,null,null,{"$f":"IF(ISNUMBER(SEARCH($H$16,Q218)),MAX($N$1:N217)+1,0)","v":0},{"$f":"IF(ISNUMBER(SEARCH($H$11,Q218)),MAX($O$1:O217)+1,0)","v":0},{"$f":"IF(ISNUMBER(SEARCH($H$6,Q218)),MAX($P$1:P217)+1,0)","v":0},"icici pru dynamic plan inst ","MPI147","Diversified equity",null,null,null,null,null,null,null,null,null,null,null,{"$f":"IFERROR(VLOOKUP(ROWS($AE$2:AE218),P218:Q2121,2,0),\"\")","v":""},null,null,null,null,{"$f":"IFERROR(VLOOKUP(ROWS($AJ$2:AJ218),O218:Q2121,3,0),\"\")","v":""},null,{"$f":"IFERROR(VLOOKUP(ROWS(AL$2:$AL218),N218:Q2121,4,0),\"\")","v":""}]
[null,null,null,null,null,null,null,null,null,null,null,null,null,{"$f":"IF(ISNUMBER(SEARCH($H$16,Q219)),MAX($N$1:N218)+1,0)","v":0},{"$f":"IF(ISNUMBER(SEARCH($H$11,Q219)),MAX($O$1:O218)+1,0)","v":0},{"$f":"IF(ISNUMBER(SEARCH($H$6,Q219)),MAX($P$1:P218)+1,0)","v":0},"icici pru dynamic plan ip","MPI891","Diversified equity",null,null,null,null,null,null,null,null,null,null,null,{"$f":"IFERROR(VLOOKUP(ROWS($AE$2:AE219),P219:Q2122,2,0),\"\")","v":""},null,null,null,null,{"$f":"IFERROR(VLOOKUP(ROWS($AJ$2:AJ219),O219:Q2122,3,0),\"\")","v":""},null,{"$f":"IFERROR(VLOOKUP(ROWS(AL$2:$AL219),N219:Q2122,4,0),\"\")","v":""}]
[null,null,null,null,null,null,null,null,null,null,null,null,null,{"$f":"IF(ISNUMBER(SEARCH($H$16,Q220)),MAX($N$1:N219)+1,0)","v":0},{"$f":"IF(ISNUMBER(SEARCH($H$11,Q220)),MAX($O$1:O219)+1,0)","v":0},{"$f":"IF(ISNUMBER(SEARCH($H$6,Q220)),MAX($P$1:P219)+1,0)","v":0},"icici pru equity income fund dp","MPI2420","Diversified equity",null,null,null,null,null,null,null,null,null,null,null,{"$f":"IFERROR(VLOOKUP(ROWS($AE$2:AE220),P220:Q2123,2,0),\"\")","v":""},null,null,null,null,{"$f":"IFERROR(VLOOKUP(ROWS($AJ$2:AJ220),O220:Q2123,3,0),\"\")","v":""},null,{"$f":"IFERROR(VLOOKUP(ROWS(AL$2:$AL220),N220:Q2123,4,0),\"\")","v":""}]
[null,null,null,null,null,null,null,null,null,null,null,null,null,{"$f":"IF(ISNUMBER(SEARCH($H$16,Q221)),MAX($N$1:N220)+1,0)","v":0},{"$f":"IF(ISNUMBER(SEARCH($H$11,Q221)),MAX($O$1:O220)+1,0)","v":0},{"$f":"IF(ISNUMBER(SEARCH($H$6,Q221)),MAX($P$1:P220)+1,0)","v":0},"icici pru equity income fund rp","MPI2418","Diversified equity",null,null,null,null,null,null,null,null,null,null,null,{"$f":"IFERROR(VLOOKUP(ROWS($AE$2:AE221),P221:Q2124,2,0),\"\")","v":""},null,null,null,null,{"$f":"IFERROR(VLOOKUP(ROWS($AJ$2:AJ221),O221:Q2124,3,0),\"\")","v":""},null,{"$f":"IFERROR(VLOOKUP(ROWS(AL$2:$AL221),N221:Q2124,4,0),\"\")","v":""}]
[null,null,null,null,null,null,null,null,null,null,null,null,null,{"$f":"IF(ISNUMBER(SEARCH($H$16,Q222)),MAX($N$1:N221)+1,0)","v":0},{"$f":"IF(ISNUMBER(SEARCH($H$11,Q222)),MAX($O$1:O221)+1,0)","v":0},{"$f":"IF(ISNUMBER(SEARCH($H$6,Q222)),MAX($P$1:P221)+1,0)","v":0},"icici pru exp other services dp","MPI1122","Diversified equity",null,null,null,null,null,null,null,null,null,null,null,{"$f":"IFERROR(VLOOKUP(ROWS($AE$2:AE222),P222:Q2125,2,0),\"\")","v":""},null,null,null,null,{"$f":"IFERROR(VLOOKUP(ROWS($AJ$2:AJ222),O222:Q2125,3,0),\"\")","v":""},null,{"$f":"IFERROR(VLOOKUP(ROWS(AL$2:$AL222),N222:Q2125,4,0),\"\")","v":""}]
[null,null,null,null,null,null,null,null,null,null,null,null,null,{"$f":"IF(ISNUMBER(SEARCH($H$16,Q223)),MAX($N$1:N222)+1,0)","v":0},{"$f":"IF(ISNUMBER(SEARCH($H$11,Q223)),MAX($O$1:O222)+1,0)","v":0},{"$f":"IF(ISNUMBER(SEARCH($H$6,Q223)),MAX($P$1:P222)+1,0)","v":0},"icici pru exp other services rp","MPI110","Diversified equity",null,null,null,null,null,null,null,null,null,null,null,{"$f":"IFERROR(VLOOKUP(ROWS($AE$2:AE223),P223:Q2126,2,0),\"\")","v":""},null,null,null,null,{"$f":"IFERROR(VLOOKUP(ROWS($AJ$2:AJ223),O223:Q2126,3,0),\"\")","v":""},null,{"$f":"IFERROR(VLOOKUP(ROWS(AL$2:$AL223),N223:Q2126,4,0),\"\")","v":""}]
[null,null,null,null,null,null,null,null,null,null,null,null,null,{"$f":"IF(ISNUMBER(SEARCH($H$16,Q224)),MAX($N$1:N223)+1,0)","v":0},{"$f":"IF(ISNUMBER(SEARCH($H$11,Q224)),MAX($O$1:O223)+1,0)","v":0},{"$f":"IF(ISNUMBER(SEARCH($H$6,Q224)),MAX($P$1:P223)+1,0)","v":0},"icici pru growth fund sr1 dp","MPI2112","Diversified equity",null,null,null,null,null,null,null,null,null,null,null,{"$f":"IFERROR(VLOOKUP(ROWS($AE$2:AE224),P224:Q2127,2,0),\"\")","v":""},null,null,null,null,{"$f":"IFERROR(VLOOKUP(ROWS($AJ$2:AJ224),O224:Q2127,3,0),\"\")","v":""},null,{"$f":"IFERROR(VLOOKUP(ROWS(AL$2:$AL224),N224:Q2127,4,0),\"\")","v":""}]
[null,null,null,null,null,null,null,null,null,null,null,null,null,{"$f":"IF(ISNUMBER(SEARCH($H$16,Q225)),MAX($N$1:N224)+1,0)","v":0},{"$f":"IF(ISNUMBER(SEARCH($H$11,Q225)),MAX($O$1:O224)+1,0)","v":0},{"$f":"IF(ISNUMBER(SEARCH($H$6,Q225)),MAX($P$1:P224)+1,0)","v":0},"icici pru growth fund sr1 rp","MPI2110","Diversified equity",null,null,null,null,null,null,null,null,null,null,null,{"$f":"IFERROR(VLOOKUP(ROWS($AE$2:AE225),P225:Q2128,2,0),\"\")","v":""},null,null,null,null,{"$f":"IFERROR(VLOOKUP(ROWS($AJ$2:AJ225),O225:Q2128,3,0),\"\")","v":""},null,{"$f":"IFERROR(VLOOKUP(ROWS(AL$2:$AL225),N225:Q2128,4,0),\"\")","v":""}]
[null,null,null,null,null,null,null,null,null,null,null,null,null,{"$f":"IF(ISNUMBER(SEARCH($H$16,Q226)),MAX($N$1:N225)+1,0)","v":0},{"$f":"IF(ISNUMBER(SEARCH($H$11,Q226)),MAX($O$1:O225)+1,0)","v":0},{"$f":"IF(ISNUMBER(SEARCH($H$6,Q226)),MAX($P$1:P225)+1,0)","v":0},"icici pru growth fund sr2 dp","MPI2168","Diversified equity",null,null,null,null,null,null,null,null,null,null,null,{"$f":"IFERROR(VLOOKUP(ROWS($AE$2:AE226),P226:Q2129,2,0),\"\")","v":""},null,null,null,null,{"$f":"IFERROR(VLOOKUP(ROWS($AJ$2:AJ226),O226:Q2129,3,0),\"\")","v":""},null,{"$f":"IFERROR(VLOOKUP(ROWS(AL$2:$AL226),N226:Q2129,4,0),\"\")","v":""}]
[null,null,null,null,null,null,null,null,null,null,null,null,null,{"$f":"IF(ISNUMBER(SEARCH($H$16,Q227)),MAX($N$1:N226)+1,0)","v":0},{"$f":"IF(ISNUMBER(SEARCH($H$11,Q227)),MAX($O$1:O226)+1,0)","v":0},{"$f":"IF(ISNUMBER(SEARCH($H$6,Q227)),MAX($P$1:P226)+1,0)","v":0},"icici pru growth fund sr2 rp","MPI2166","Diversified equity",null,null,null,null,null,null,null,null,null,null,null,{"$f":"IFERROR(VLOOKUP(ROWS($AE$2:AE227),P227:Q2130,2,0),\"\")","v":""},null,null,null,null,{"$f":"IFERROR(VLOOKUP(ROWS($AJ$2:AJ227),O227:Q2130,3,0),\"\")","v":""},null,{"$f":"IFERROR(VLOOKUP(ROWS(AL$2:$AL227),N227:Q2130,4,0),\"\")","v":""}]
[null,null,null,null,null,null,null,null,null,null,null,null,null,{"$f":"IF(ISNUMBER(SEARCH($H$16,Q228)),MAX($N$1:N227)+1,0)","v":0},{"$f":"IF(ISNUMBER(SEARCH($H$11,Q228)),MAX($O$1:O227)+1,0)","v":0},{"$f":"IF(ISNUMBER(SEARCH($H$6,Q228)),MAX($P$1:P227)+1,0)","v":0},"icici pru growth fund sr3 dp","MPI2255","Diversified equity",null,null,null,null,null,null,null,null,null,null,null,{"$f":"IFERROR(VLOOKUP(ROWS($AE$2:AE228),P228:Q2131,2,0),\"\")","v":""},null,null,null,null,{"$f":"IFERROR(VLOOKUP(ROWS($AJ$2:AJ228),O228:Q2131,3,0),\"\")","v":""},null,{"$f":"IFERROR(VLOOKUP(ROWS(AL$2:$AL228),N228:Q2131,4,0),\"\")","v":""}]
[null,null,null,null,null,null,null,null,null,null,null,null,null,{"$f":"IF(ISNUMBER(SEARCH($H$16,Q229)),MAX($N$1:N228)+1,0)","v":0},{"$f":"IF(ISNUMBER(SEARCH($H$11,Q229)),MAX($O$1:O228)+1,0)","v":0},{"$f":"IF(ISNUMBER(SEARCH($H$6,Q229)),MAX($P$1:P228)+1,0)","v":0},"icici pru growth fund sr3 rp","MPI2253","Diversified equity",null,null,null,null,null,null,null,null,null,null,null,{"$f":"IFERROR(VLOOKUP(ROWS($AE$2:AE229),P229:Q2132,2,0),\"\")","v":""},null,null,null,null,{"$f":"IFERROR(VLOOKUP(ROWS($AJ$2:AJ229),O229:Q2132,3,0),\"\")","v":""},null,{"$f":"IFERROR(VLOOKUP(ROWS(AL$2:$AL229),N229:Q2132,4,0),\"\")","v":""}]
[null,null,null,null,null,null,null,null,null,null,null,null,null,{"$f":"IF(ISNUMBER(SEARCH($H$16,Q230)),MAX($N$1:N229)+1,0)","v":0},{"$f":"IF(ISNUMBER(SEARCH($H$11,Q230)),MAX($O$1:O229)+1,0)","v":0},{"$f":"IF(ISNUMBER(SEARCH($H$6,Q230)),MAX($P$1:P229)+1,0)","v":0},"icici pru growth fund sr4 dp","MPI2339","Diversified equity",null,null,null,null,null,null,null,null,null,null,null,{"$f":"IFERROR(VLOOKUP(ROWS($AE$2:AE230),P230:Q2133,2,0),\"\")","v":""},null,null,null,null,{"$f":"IFERROR(VLOOKUP(ROWS($AJ$2:AJ230),O230:Q2133,3,0),\"\")","v":""},null,{"$f":"IFERROR(VLOOKUP(ROWS(AL$2:$AL230),N230:Q2133,4,0),\"\")","v":""}]
[null,null,null,null,null,null,null,null,null,null,null,null,null,{"$f":"IF(ISNUMBER(SEARCH($H$16,Q231)),MAX($N$1:N230)+1,0)","v":0},{"$f":"IF(ISNUMBER(SEARCH($H$11,Q231)),MAX($O$1:O230)+1,0)","v":0},{"$f":"IF(ISNUMBER(SEARCH($H$6,Q231)),MAX($P$1:P230)+1,0)","v":0},"icici pru growth fund sr4 rp","MPI2337","Diversified equity",null,null,null,null,null,null,null,null,null,null,null,{"$f":"IFERROR(VLOOKUP(ROWS($AE$2:AE231),P231:Q2134,2,0),\"\")","v":""},null,null,null,null,{"$f":"IFERROR(VLOOKUP(ROWS($AJ$2:AJ231),O231:Q2134,3,0),\"\")","v":""},null,{"$f":"IFERROR(VLOOKUP(ROWS(AL$2:$AL231),N231:Q2134,4,0),\"\")","v":""}]
[null,null,null,null,null,null,null,null,null,null,null,null,null,{"$f":"IF(ISNUMBER(SEARCH($H$16,Q232)),MAX($N$1:N231)+1,0)","v":0},{"$f":"IF(ISNUMBER(SEARCH($H$11,Q232)),MAX($O$1:O231)+1,0)","v":0},{"$f":"IF(ISNUMBER(SEARCH($H$6,Q232)),MAX($P$1:P231)+1,0)","v":0},"icici pru growth fund sr5 dp","MPI2424","Diversified equity",null,null,null,null,null,null,null,null,null,null,null,{"$f":"IFERROR(VLOOKUP(ROWS($AE$2:AE232),P232:Q2135,2,0),\"\")","v":""},null,null,null,null,{"$f":"IFERROR(VLOOKUP(ROWS($AJ$2:AJ232),O232:Q2135,3,0),\"\")","v":""},null,{"$f":"IFERROR(VLOOKUP(ROWS(AL$2:$AL232),N232:Q2135,4,0),\"\")","v":""}]
[null,null,null,null,null,null,null,null,null,null,null,null,null,{"$f":"IF(ISNUMBER(SEARCH($H$16,Q233)),MAX($N$1:N232)+1,0)","v":0},{"$f":"IF(ISNUMBER(SEARCH($H$11,Q233)),MAX($O$1:O232)+1,0)","v":0},{"$f":"IF(ISNUMBER(SEARCH($H$6,Q233)),MAX($P$1:P232)+1,0)","v":0},"icici pru growth fund sr5 rp","MPI2422","Diversified equity",null,null,null,null,null,null,null,null,null,null,null,{"$f":"IFERROR(VLOOKUP(ROWS($AE$2:AE233),P233:Q2136,2,0),\"\")","v":""},null,null,null,null,{"$f":"IFERROR(VLOOKUP(ROWS($AJ$2:AJ233),O233:Q2136,3,0),\"\")","v":""},null,{"$f":"IFERROR(VLOOKUP(ROWS(AL$2:$AL233),N233:Q2136,4,0),\"\")","v":""}]
[null,null,null,null,null,null,null,null,null,null,null,null,null,{"$f":"IF(ISNUMBER(SEARCH($H$16,Q234)),MAX($N$1:N233)+1,0)","v":0},{"$f":"IF(ISNUMBER(SEARCH($H$11,Q234)),MAX($O$1:O233)+1,0)","v":0},{"$f":"IF(ISNUMBER(SEARCH($H$6,Q234)),MAX($P$1:P233)+1,0)","v":0},"icici pru growth fund sr6 dp","MPI2428","Diversified equity",null,null,null,null,null,null,null,null,null,null,null,{"$f":"IFERROR(VLOOKUP(ROWS($AE$2:AE234),P234:Q2137,2,0),\"\")","v":""},null,null,null,null,{"$f":"IFERROR(VLOOKUP(ROWS($AJ$2:AJ234),O234:Q2137,3,0),\"\")","v":""},null,{"$f":"IFERROR(VLOOKUP(ROWS(AL$2:$AL234),N234:Q2137,4,0),\"\")","v":""}]
[null,null,null,null,null,null,null,null,null,null,null,null,null,{"$f":"IF(ISNUMBER(SEARCH($H$16,Q235)),MAX($N$1:N234)+1,0)","v":0},{"$f":"IF(ISNUMBER(SEARCH($H$11,Q235)),MAX($O$1:O234)+1,0)","v":0},{"$f":"IF(ISNUMBER(SEARCH($H$6,Q235)),MAX($P$1:P234)+1,0)","v":0},"icici pru growth fund sr6 rp","MPI2426","Diversified equity",null,null,null,null,null,null,null,null,null,null,null,{"$f":"IFERROR(VLOOKUP(ROWS($AE$2:AE235),P235:Q2138,2,0),\"\")","v":""},null,null,null,null,{"$f":"IFERROR(VLOOKUP(ROWS($AJ$2:AJ235),O235:Q2138,3,0),\"\")","v":""},null,{"$f":"IFERROR(VLOOKUP(ROWS(AL$2:$AL235),N235:Q2138,4,0),\"\")","v":""}]
[null,null,null,null,null,null,null,null,null,null,null,null,null,{"$f":"IF(ISNUMBER(SEARCH($H$16,Q236)),MAX($N$1:N235)+1,0)","v":0},{"$f":"IF(ISNUMBER(SEARCH($H$11,Q236)),MAX($O$1:O235)+1,0)","v":0},{"$f":"IF(ISNUMBER(SEARCH($H$6,Q236)),MAX($P$1:P235)+1,0)","v":0},"icici pru growth fund sr7 dp","MPI2470","Diversified equity",null,null,null,null,null,null,null,null,null,null,null,{"$f":"IFERROR(VLOOKUP(ROWS($AE$2:AE236),P236:Q2139,2,0),\"\")","v":""},null,null,null,null,{"$f":"IFERROR(VLOOKUP(ROWS($AJ$2:AJ236),O236:Q2139,3,0),\"\")","v":""},null,{"$f":"IFERROR(VLOOKUP(ROWS(AL$2:$AL236),N236:Q2139,4,0),\"\")","v":""}]
[null,null,null,null,null,null,null,null,null,null,null,null,null,{"$f":"IF(ISNUMBER(SEARCH($H$16,Q237)),MAX($N$1:N236)+1,0)","v":0},{"$f":"IF(ISNUMBER(SEARCH($H$11,Q237)),MAX($O$1:O236)+1,0)","v":0},{"$f":"IF(ISNUMBER(SEARCH($H$6,Q237)),MAX($P$1:P236)+1,0)","v":0},"icici pru growth fund sr7 rp","MPI2468","Diversified equity",null,null,null,null,null,null,null,null,null,null,null,{"$f":"IFERROR(VLOOKUP(ROWS($AE$2:AE237),P237:Q2140,2,0),\"\")","v":""},null,null,null,null,{"$f":"IFERROR(VLOOKUP(ROWS($AJ$2:AJ237),O237:Q2140,3,0),\"\")","v":""},null,{"$f":"IFERROR(VLOOKUP(ROWS(AL$2:$AL237),N237:Q2140,4,0),\"\")","v":""}]
[null,null,null,null,null,null,null,null,null,null,null,null,null,{"$f":"IF(ISNUMBER(SEARCH($H$16,Q238)),MAX($N$1:N237)+1,0)","v":0},{"$f":"IF(ISNUMBER(SEARCH($H$11,Q238)),MAX($O$1:O237)+1,0)","v":0},{"$f":"IF(ISNUMBER(SEARCH($H$6,Q238)),MAX($P$1:P237)+1,0)","v":0},"icici pru growth fund sr8 dp","MPI2474","Diversified equity",null,null,null,null,null,null,null,null,null,null,null,{"$f":"IFERROR(VLOOKUP(ROWS($AE$2:AE238),P238:Q2141,2,0),\"\")","v":""},null,null,null,null,{"$f":"IFERROR(VLOOKUP(ROWS($AJ$2:AJ238),O238:Q2141,3,0),\"\")","v":""},null,{"$f":"IFERROR(VLOOKUP(ROWS(AL$2:$AL238),N238:Q2141,4,0),\"\")","v":""}]
[null,null,null,null,null,null,null,null,null,null,null,null,null,{"$f":"IF(ISNUMBER(SEARCH($H$16,Q239)),MAX($N$1:N238)+1,0)","v":0},{"$f":"IF(ISNUMBER(SEARCH($H$11,Q239)),MAX($O$1:O238)+1,0)","v":0},{"$f":"IF(ISNUMBER(SEARCH($H$6,Q239)),MAX($P$1:P238)+1,0)","v":0},"icici pru growth fund sr8 rp","MPI2472","Diversified equity",null,null,null,null,null,null,null,null,null,null,null,{"$f":"IFERROR(VLOOKUP(ROWS($AE$2:AE239),P239:Q2142,2,0),\"\")","v":""},null,null,null,null,{"$f":"IFERROR(VLOOKUP(ROWS($AJ$2:AJ239),O239:Q2142,3,0),\"\")","v":""},null,{"$f":"IFERROR(VLOOKUP(ROWS(AL$2:$AL239),N239:Q2142,4,0),\"\")","v":""}]
[null,null,null,null,null,null,null,null,null,null,null,null,null,{"$f":"IF(ISNUMBER(SEARCH($H$16,Q240)),MAX($N$1:N239)+1,0)","v":0},{"$f":"IF(ISNUMBER(SEARCH($H$11,Q240)),MAX($O$1:O239)+1,0)","v":0},{"$f":"IF(ISNUMBER(SEARCH($H$6,Q240)),MAX($P$1:P239)+1,0)","v":0},"icici pru indo asia eqty ip","MPI245","Diversified equity",null,null,null,null,null,null,null,null,null,null,null,{"$f":"IFERROR(VLOOKUP(ROWS($AE$2:AE240),P240:Q2143,2,0),\"\")","v":""},null,null,null,null,{"$f":"IFERROR(VLOOKUP(ROWS($AJ$2:AJ240),O240:Q2143,3,0),\"\")","v":""},null,{"$f":"IFERROR(VLOOKUP(ROWS(AL$2:$AL240),N240:Q2143,4,0),\"\")","v":""}]
[null,null,null,null,null,null,null,null,null,null,null,null,null,{"$f":"IF(ISNUMBER(SEARCH($H$16,Q241)),MAX($N$1:N240)+1,0)","v":0},{"$f":"IF(ISNUMBER(SEARCH($H$11,Q241)),MAX($O$1:O240)+1,0)","v":0},{"$f":"IF(ISNUMBER(SEARCH($H$6,Q241)),MAX($P$1:P240)+1,0)","v":0},"icici pru indo asia eqty rp","MPI243","Diversified equity",null,null,null,null,null,null,null,null,null,null,null,{"$f":"IFERROR(VLOOKUP(ROWS($AE$2:AE241),P241:Q2144,2,0),\"\")","v":""},null,null,null,null,{"$f":"IFERROR(VLOOKUP(ROWS($AJ$2:AJ241),O241:Q2144,3,0),\"\")","v":""},null,{"$f":"IFERROR(VLOOKUP(ROWS(AL$2:$AL241),N241:Q2144,4,0),\"\")","v":""}]
[null,null,null,null,null,null,null,null,null,null,null,null,null,{"$f":"IF(ISNUMBER(SEARCH($H$16,Q242)),MAX($N$1:N241)+1,0)","v":0},{"$f":"IF(ISNUMBER(SEARCH($H$11,Q242)),MAX($O$1:O241)+1,0)","v":0},{"$f":"IF(ISNUMBER(SEARCH($H$6,Q242)),MAX($P$1:P241)+1,0)","v":0},"icici pru recovery fund sr 1 dp","MPI2553","Diversified equity",null,null,null,null,null,null,null,null,null,null,null,{"$f":"IFERROR(VLOOKUP(ROWS($AE$2:AE242),P242:Q2145,2,0),\"\")","v":""},null,null,null,null,{"$f":"IFERROR(VLOOKUP(ROWS($AJ$2:AJ242),O242:Q2145,3,0),\"\")","v":""},null,{"$f":"IFERROR(VLOOKUP(ROWS(AL$2:$AL242),N242:Q2145,4,0),\"\")","v":""}]
[null,null,null,null,null,null,null,null,null,null,null,null,null,{"$f":"IF(ISNUMBER(SEARCH($H$16,Q243)),MAX($N$1:N242)+1,0)","v":0},{"$f":"IF(ISNUMBER(SEARCH($H$11,Q243)),MAX($O$1:O242)+1,0)","v":0},{"$f":"IF(ISNUMBER(SEARCH($H$6,Q243)),MAX($P$1:P242)+1,0)","v":0},"icici pru recovery fund sr 1 rp","MPI2552","Diversified equity",null,null,null,null,null,null,null,null,null,null,null,{"$f":"IFERROR(VLOOKUP(ROWS($AE$2:AE243),P243:Q2146,2,0),\"\")","v":""},null,null,null,null,{"$f":"IFERROR(VLOOKUP(ROWS($AJ$2:AJ243),O243:Q2146,3,0),\"\")","v":""},null,{"$f":"IFERROR(VLOOKUP(ROWS(AL$2:$AL243),N243:Q2146,4,0),\"\")","v":""}]
[null,null,null,null,null,null,null,null,null,null,null,null,null,{"$f":"IF(ISNUMBER(SEARCH($H$16,Q244)),MAX($N$1:N243)+1,0)","v":0},{"$f":"IF(ISNUMBER(SEARCH($H$11,Q244)),MAX($O$1:O243)+1,0)","v":0},{"$f":"IF(ISNUMBER(SEARCH($H$6,Q244)),MAX($P$1:P243)+1,0)","v":0},"icici pru recovery fund sr 2 dp","MPI2555","Diversified equity",null,null,null,null,null,null,null,null,null,null,null,{"$f":"IFERROR(VLOOKUP(ROWS($AE$2:AE244),P244:Q2147,2,0),\"\")","v":""},null,null,null,null,{"$f":"IFERROR(VLOOKUP(ROWS($AJ$2:AJ244),O244:Q2147,3,0),\"\")","v":""},null,{"$f":"IFERROR(VLOOKUP(ROWS(AL$2:$AL244),N244:Q2147,4,0),\"\")","v":""}]
[null,null,null,null,null,null,null,null,null,null,null,null,null,{"$f":"IF(ISNUMBER(SEARCH($H$16,Q245)),MAX($N$1:N244)+1,0)","v":0},{"$f":"IF(ISNUMBER(SEARCH($H$11,Q245)),MAX($O$1:O244)+1,0)","v":0},{"$f":"IF(ISNUMBER(SEARCH($H$6,Q245)),MAX($P$1:P244)+1,0)","v":0},"icici pru recovery fund sr 2 rp","MPI2554","Diversified equity",null,null,null,null,null,null,null,null,null,null,null,{"$f":"IFERROR(VLOOKUP(ROWS($AE$2:AE245),P245:Q2148,2,0),\"\")","v":""},null,null,null,null,{"$f":"IFERROR(VLOOKUP(ROWS($AJ$2:AJ245),O245:Q2148,3,0),\"\")","v":""},null,{"$f":"IFERROR(VLOOKUP(ROWS(AL$2:$AL245),N245:Q2148,4,0),\"\")","v":""}]
[null,null,null,null,null,null,null,null,null,null,null,null,null,{"$f":"IF(ISNUMBER(SEARCH($H$16,Q246)),MAX($N$1:N245)+1,0)","v":0},{"$f":"IF(ISNUMBER(SEARCH($H$11,Q246)),MAX($O$1:O245)+1,0)","v":0},{"$f":"IF(ISNUMBER(SEARCH($H$6,Q246)),MAX($P$1:P245)+1,0)","v":0},"icici pru recovery fund sr 3 dp","MPI2711","Diversified equity",null,null,null,null,null,null,null,null,null,null,null,{"$f":"IFERROR(VLOOKUP(ROWS($AE$2:AE246),P246:Q2149,2,0),\"\")","v":""},null,null,null,null,{"$f":"IFERROR(VLOOKUP(ROWS($AJ$2:AJ246),O246:Q2149,3,0),\"\")","v":""},null,{"$f":"IFERROR(VLOOKUP(ROWS(AL$2:$AL246),N246:Q2149,4,0),\"\")","v":""}]
[null,null,null,null,null,null,null,null,null,null,null,null,null,{"$f":"IF(ISNUMBER(SEARCH($H$16,Q247)),MAX($N$1:N246)+1,0)","v":0},{"$f":"IF(ISNUMBER(SEARCH($H$11,Q247)),MAX($O$1:O246)+1,0)","v":0},{"$f":"IF(ISNUMBER(SEARCH($H$6,Q247)),MAX($P$1:P246)+1,0)","v":0},"icici pru recovery fund sr 3 rp","MPI2710","Diversified equity",null,null,null,null,null,null,null,null,null,null,null,{"$f":"IFERROR(VLOOKUP(ROWS($AE$2:AE247),P247:Q2150,2,0),\"\")","v":""},null,null,null,null,{"$f":"IFERROR(VLOOKUP(ROWS($AJ$2:AJ247),O247:Q2150,3,0),\"\")","v":""},null,{"$f":"IFERROR(VLOOKUP(ROWS(AL$2:$AL247),N247:Q2150,4,0),\"\")","v":""}]
[null,null,null,null,null,null,null,null,null,null,null,null,null,{"$f":"IF(ISNUMBER(SEARCH($H$16,Q248)),MAX($N$1:N247)+1,0)","v":0},{"$f":"IF(ISNUMBER(SEARCH($H$11,Q248)),MAX($O$1:O247)+1,0)","v":0},{"$f":"IF(ISNUMBER(SEARCH($H$6,Q248)),MAX($P$1:P247)+1,0)","v":0},"icici pru top 200 fund","MPI028","Diversified equity",null,null,null,null,null,null,null,null,null,null,null,{"$f":"IFERROR(VLOOKUP(ROWS($AE$2:AE248),P248:Q2151,2,0),\"\")","v":""},null,null,null,null,{"$f":"IFERROR(VLOOKUP(ROWS($AJ$2:AJ248),O248:Q2151,3,0),\"\")","v":""},null,{"$f":"IFERROR(VLOOKUP(ROWS(AL$2:$AL248),N248:Q2151,4,0),\"\")","v":""}]
[null,null,null,null,null,null,null,null,null,null,null,null,null,{"$f":"IF(ISNUMBER(SEARCH($H$16,Q249)),MAX($N$1:N248)+1,0)","v":0},{"$f":"IF(ISNUMBER(SEARCH($H$11,Q249)),MAX($O$1:O248)+1,0)","v":0},{"$f":"IF(ISNUMBER(SEARCH($H$6,Q249)),MAX($P$1:P248)+1,0)","v":0},"icici pru top 200 fund inst i","MPI136","Diversified equity",null,null,null,null,null,null,null,null,null,null,null,{"$f":"IFERROR(VLOOKUP(ROWS($AE$2:AE249),P249:Q2152,2,0),\"\")","v":""},null,null,null,null,{"$f":"IFERROR(VLOOKUP(ROWS($AJ$2:AJ249),O249:Q2152,3,0),\"\")","v":""},null,{"$f":"IFERROR(VLOOKUP(ROWS(AL$2:$AL249),N249:Q2152,4,0),\"\")","v":""}]
[null,null,null,null,null,null,null,null,null,null,null,null,null,{"$f":"IF(ISNUMBER(SEARCH($H$16,Q250)),MAX($N$1:N249)+1,0)","v":0},{"$f":"IF(ISNUMBER(SEARCH($H$11,Q250)),MAX($O$1:O249)+1,0)","v":0},{"$f":"IF(ISNUMBER(SEARCH($H$6,Q250)),MAX($P$1:P249)+1,0)","v":0},"icici pru value discovery dp","MPI1116","Diversified equity",null,null,null,null,null,null,null,null,null,null,null,{"$f":"IFERROR(VLOOKUP(ROWS($AE$2:AE250),P250:Q2153,2,0),\"\")","v":""},null,null,null,null,{"$f":"IFERROR(VLOOKUP(ROWS($AJ$2:AJ250),O250:Q2153,3,0),\"\")","v":""},null,{"$f":"IFERROR(VLOOKUP(ROWS(AL$2:$AL250),N250:Q2153,4,0),\"\")","v":""}]
[null,null,null,null,null,null,null,null,null,null,null,null,null,{"$f":"IF(ISNUMBER(SEARCH($H$16,Q251)),MAX($N$1:N250)+1,0)","v":0},{"$f":"IF(ISNUMBER(SEARCH($H$11,Q251)),MAX($O$1:O250)+1,0)","v":0},{"$f":"IF(ISNUMBER(SEARCH($H$6,Q251)),MAX($P$1:P250)+1,0)","v":0},"icici pru value discovery fund","MPI087","Diversified equity",null,null,null,null,null,null,null,null,null,null,null,{"$f":"IFERROR(VLOOKUP(ROWS($AE$2:AE251),P251:Q2154,2,0),\"\")","v":""},null,null,null,null,{"$f":"IFERROR(VLOOKUP(ROWS($AJ$2:AJ251),O251:Q2154,3,0),\"\")","v":""},null,{"$f":"IFERROR(VLOOKUP(ROWS(AL$2:$AL251),N251:Q2154,4,0),\"\")","v":""}]
[null,null,null,null,null,null,null,null,null,null,null,null,null,{"$f":"IF(ISNUMBER(SEARCH($H$16,Q252)),MAX($N$1:N251)+1,0)","v":0},{"$f":"IF(ISNUMBER(SEARCH($H$11,Q252)),MAX($O$1:O251)+1,0)","v":0},{"$f":"IF(ISNUMBER(SEARCH($H$6,Q252)),MAX($P$1:P251)+1,0)","v":0},"icici pru value discovery inst i","MPI138","Diversified equity",null,null,null,null,null,null,null,null,null,null,null,{"$f":"IFERROR(VLOOKUP(ROWS($AE$2:AE252),P252:Q2155,2,0),\"\")","v":""},null,null,null,null,{"$f":"IFERROR(VLOOKUP(ROWS($AJ$2:AJ252),O252:Q2155,3,0),\"\")","v":""},null,{"$f":"IFERROR(VLOOKUP(ROWS(AL$2:$AL252),N252:Q2155,4,0),\"\")","v":""}]
[null,null,null,null,null,null,null,null,null,null,null,null,null,{"$f":"IF(ISNUMBER(SEARCH($H$16,Q253)),MAX($N$1:N252)+1,0)","v":0},{"$f":"IF(ISNUMBER(SEARCH($H$11,Q253)),MAX($O$1:O252)+1,0)","v":0},{"$f":"IF(ISNUMBER(SEARCH($H$6,Q253)),MAX($P$1:P252)+1,0)","v":0},"icici pru value fund sr 1 dp","MPI1679","Diversified equity",null,null,null,null,null,null,null,null,null,null,null,{"$f":"IFERROR(VLOOKUP(ROWS($AE$2:AE253),P253:Q2156,2,0),\"\")","v":""},null,null,null,null,{"$f":"IFERROR(VLOOKUP(ROWS($AJ$2:AJ253),O253:Q2156,3,0),\"\")","v":""},null,{"$f":"IFERROR(VLOOKUP(ROWS(AL$2:$AL253),N253:Q2156,4,0),\"\")","v":""}]
[null,null,null,null,null,null,null,null,null,null,null,null,null,{"$f":"IF(ISNUMBER(SEARCH($H$16,Q254)),MAX($N$1:N253)+1,0)","v":0},{"$f":"IF(ISNUMBER(SEARCH($H$11,Q254)),MAX($O$1:O253)+1,0)","v":0},{"$f":"IF(ISNUMBER(SEARCH($H$6,Q254)),MAX($P$1:P253)+1,0)","v":0},"icici pru value fund sr 1 rp","MPI1678","Diversified equity",null,null,null,null,null,null,null,null,null,null,null,{"$f":"IFERROR(VLOOKUP(ROWS($AE$2:AE254),P254:Q2157,2,0),\"\")","v":""},null,null,null,null,{"$f":"IFERROR(VLOOKUP(ROWS($AJ$2:AJ254),O254:Q2157,3,0),\"\")","v":""},null,{"$f":"IFERROR(VLOOKUP(ROWS(AL$2:$AL254),N254:Q2157,4,0),\"\")","v":""}]
[null,null,null,null,null,null,null,null,null,null,null,null,null,{"$f":"IF(ISNUMBER(SEARCH($H$16,Q255)),MAX($N$1:N254)+1,0)","v":0},{"$f":"IF(ISNUMBER(SEARCH($H$11,Q255)),MAX($O$1:O254)+1,0)","v":0},{"$f":"IF(ISNUMBER(SEARCH($H$6,Q255)),MAX($P$1:P254)+1,0)","v":0},"icici pru value fund sr 2 dp","MPI1705","Diversified equity",null,null,null,null,null,null,null,null,null,null,null,{"$f":"IFERROR(VLOOKUP(ROWS($AE$2:AE255),P255:Q2158,2,0),\"\")","v":""},null,null,null,null,{"$f":"IFERROR(VLOOKUP(ROWS($AJ$2:AJ255),O255:Q2158,3,0),\"\")","v":""},null,{"$f":"IFERROR(VLOOKUP(ROWS(AL$2:$AL255),N255:Q2158,4,0),\"\")","v":""}]
[null,null,null,null,null,null,null,null,null,null,null,null,null,{"$f":"IF(ISNUMBER(SEARCH($H$16,Q256)),MAX($N$1:N255)+1,0)","v":0},{"$f":"IF(ISNUMBER(SEARCH($H$11,Q256)),MAX($O$1:O255)+1,0)","v":0},{"$f":"IF(ISNUMBER(SEARCH($H$6,Q256)),MAX($P$1:P255)+1,0)","v":0},"icici pru value fund sr 2 rp","MPI1704","Diversified equity",null,null,null,null,null,null,null,null,null,null,null,{"$f":"IFERROR(VLOOKUP(ROWS($AE$2:AE256),P256:Q2159,2,0),\"\")","v":""},null,null,null,null,{"$f":"IFERROR(VLOOKUP(ROWS($AJ$2:AJ256),O256:Q2159,3,0),\"\")","v":""},null,{"$f":"IFERROR(VLOOKUP(ROWS(AL$2:$AL256),N256:Q2159,4,0),\"\")","v":""}]
[null,null,null,null,null,null,null,null,null,null,null,null,null,{"$f":"IF(ISNUMBER(SEARCH($H$16,Q257)),MAX($N$1:N256)+1,0)","v":0},{"$f":"IF(ISNUMBER(SEARCH($H$11,Q257)),MAX($O$1:O256)+1,0)","v":0},{"$f":"IF(ISNUMBER(SEARCH($H$6,Q257)),MAX($P$1:P256)+1,0)","v":0},"icici pru value fund sr 3 dp","MPI1875","Diversified equity",null,null,null,null,null,null,null,null,null,null,null,{"$f":"IFERROR(VLOOKUP(ROWS($AE$2:AE257),P257:Q2160,2,0),\"\")","v":""},null,null,null,null,{"$f":"IFERROR(VLOOKUP(ROWS($AJ$2:AJ257),O257:Q2160,3,0),\"\")","v":""},null,{"$f":"IFERROR(VLOOKUP(ROWS(AL$2:$AL257),N257:Q2160,4,0),\"\")","v":""}]
[null,null,null,null,null,null,null,null,null,null,null,null,null,{"$f":"IF(ISNUMBER(SEARCH($H$16,Q258)),MAX($N$1:N257)+1,0)","v":0},{"$f":"IF(ISNUMBER(SEARCH($H$11,Q258)),MAX($O$1:O257)+1,0)","v":0},{"$f":"IF(ISNUMBER(SEARCH($H$6,Q258)),MAX($P$1:P257)+1,0)","v":0},"icici pru value fund sr 3 rp","MPI1874","Diversified equity",null,null,null,null,null,null,null,null,null,null,null,{"$f":"IFERROR(VLOOKUP(ROWS($AE$2:AE258),P258:Q2161,2,0),\"\")","v":""},null,null,null,null,{"$f":"IFERROR(VLOOKUP(ROWS($AJ$2:AJ258),O258:Q2161,3,0),\"\")","v":""},null,{"$f":"IFERROR(VLOOKUP(ROWS(AL$2:$AL258),N258:Q2161,4,0),\"\")","v":""}]
[null,null,null,null,null,null,null,null,null,null,null,null,null,{"$f":"IF(ISNUMBER(SEARCH($H$16,Q259)),MAX($N$1:N258)+1,0)","v":0},{"$f":"IF(ISNUMBER(SEARCH($H$11,Q259)),MAX($O$1:O258)+1,0)","v":0},{"$f":"IF(ISNUMBER(SEARCH($H$6,Q259)),MAX($P$1:P258)+1,0)","v":0},"icici pru value fund sr 4 dp","MPI2069","Diversified equity",null,null,null,null,null,null,null,null,null,null,null,{"$f":"IFERROR(VLOOKUP(ROWS($AE$2:AE259),P259:Q2162,2,0),\"\")","v":""},null,null,null,null,{"$f":"IFERROR(VLOOKUP(ROWS($AJ$2:AJ259),O259:Q2162,3,0),\"\")","v":""},null,{"$f":"IFERROR(VLOOKUP(ROWS(AL$2:$AL259),N259:Q2162,4,0),\"\")","v":""}]
[null,null,null,null,null,null,null,null,null,null,null,null,null,{"$f":"IF(ISNUMBER(SEARCH($H$16,Q260)),MAX($N$1:N259)+1,0)","v":0},{"$f":"IF(ISNUMBER(SEARCH($H$11,Q260)),MAX($O$1:O259)+1,0)","v":0},{"$f":"IF(ISNUMBER(SEARCH($H$6,Q260)),MAX($P$1:P259)+1,0)","v":0},"icici pru value fund sr 4 rp","MPI2068","Diversified equity",null,null,null,null,null,null,null,null,null,null,null,{"$f":"IFERROR(VLOOKUP(ROWS($AE$2:AE260),P260:Q2163,2,0),\"\")","v":""},null,null,null,null,{"$f":"IFERROR(VLOOKUP(ROWS($AJ$2:AJ260),O260:Q2163,3,0),\"\")","v":""},null,{"$f":"IFERROR(VLOOKUP(ROWS(AL$2:$AL260),N260:Q2163,4,0),\"\")","v":""}]
[null,null,null,null,null,null,null,null,null,null,null,null,null,{"$f":"IF(ISNUMBER(SEARCH($H$16,Q261)),MAX($N$1:N260)+1,0)","v":0},{"$f":"IF(ISNUMBER(SEARCH($H$11,Q261)),MAX($O$1:O260)+1,0)","v":0},{"$f":"IF(ISNUMBER(SEARCH($H$6,Q261)),MAX($P$1:P260)+1,0)","v":0},"icici pru value fund sr 5 dp","MPI2204","Diversified equity",null,null,null,null,null,null,null,null,null,null,null,{"$f":"IFERROR(VLOOKUP(ROWS($AE$2:AE261),P261:Q2164,2,0),\"\")","v":""},null,null,null,null,{"$f":"IFERROR(VLOOKUP(ROWS($AJ$2:AJ261),O261:Q2164,3,0),\"\")","v":""},null,{"$f":"IFERROR(VLOOKUP(ROWS(AL$2:$AL261),N261:Q2164,4,0),\"\")","v":""}]
[null,null,null,null,null,null,null,null,null,null,null,null,null,{"$f":"IF(ISNUMBER(SEARCH($H$16,Q262)),MAX($N$1:N261)+1,0)","v":0},{"$f":"IF(ISNUMBER(SEARCH($H$11,Q262)),MAX($O$1:O261)+1,0)","v":0},{"$f":"IF(ISNUMBER(SEARCH($H$6,Q262)),MAX($P$1:P261)+1,0)","v":0},"icici pru value fund sr 5 rp","MPI2202","Diversified equity",null,null,null,null,null,null,null,null,null,null,null,{"$f":"IFERROR(VLOOKUP(ROWS($AE$2:AE262),P262:Q2165,2,0),\"\")","v":""},null,null,null,null,{"$f":"IFERROR(VLOOKUP(ROWS($AJ$2:AJ262),O262:Q2165,3,0),\"\")","v":""},null,{"$f":"IFERROR(VLOOKUP(ROWS(AL$2:$AL262),N262:Q2165,4,0),\"\")","v":""}]
[null,null,null,null,null,null,null,null,null,null,null,null,null,{"$f":"IF(ISNUMBER(SEARCH($H$16,Q263)),MAX($N$1:N262)+1,0)","v":0},{"$f":"IF(ISNUMBER(SEARCH($H$11,Q263)),MAX($O$1:O262)+1,0)","v":0},{"$f":"IF(ISNUMBER(SEARCH($H$6,Q263)),MAX($P$1:P262)+1,0)","v":0},"icici pru value fund sr 6 dp","MPI2566","Diversified equity",null,null,null,null,null,null,null,null,null,null,null,{"$f":"IFERROR(VLOOKUP(ROWS($AE$2:AE263),P263:Q2166,2,0),\"\")","v":""},null,null,null,null,{"$f":"IFERROR(VLOOKUP(ROWS($AJ$2:AJ263),O263:Q2166,3,0),\"\")","v":""},null,{"$f":"IFERROR(VLOOKUP(ROWS(AL$2:$AL263),N263:Q2166,4,0),\"\")","v":""}]
[null,null,null,null,null,null,null,null,null,null,null,null,null,{"$f":"IF(ISNUMBER(SEARCH($H$16,Q264)),MAX($N$1:N263)+1,0)","v":0},{"$f":"IF(ISNUMBER(SEARCH($H$11,Q264)),MAX($O$1:O263)+1,0)","v":0},{"$f":"IF(ISNUMBER(SEARCH($H$6,Q264)),MAX($P$1:P263)+1,0)","v":0},"icici pru value fund sr 6 rp","MPI2564","Diversified equity",null,null,null,null,null,null,null,null,null,null,null,{"$f":"IFERROR(VLOOKUP(ROWS($AE$2:AE264),P264:Q2167,2,0),\"\")","v":""},null,null,null,null,{"$f":"IFERROR(VLOOKUP(ROWS($AJ$2:AJ264),O264:Q2167,3,0),\"\")","v":""},null,{"$f":"IFERROR(VLOOKUP(ROWS(AL$2:$AL264),N264:Q2167,4,0),\"\")","v":""}]
[null,null,null,null,null,null,null,null,null,null,null,null,null,{"$f":"IF(ISNUMBER(SEARCH($H$16,Q265)),MAX($N$1:N264)+1,0)","v":0},{"$f":"IF(ISNUMBER(SEARCH($H$11,Q265)),MAX($O$1:O264)+1,0)","v":0},{"$f":"IF(ISNUMBER(SEARCH($H$6,Q265)),MAX($P$1:P264)+1,0)","v":0},"idbi diversified equity fund dp","MIB216","Diversified equity",null,null,null,null,null,null,null,null,null,null,null,{"$f":"IFERROR(VLOOKUP(ROWS($AE$2:AE265),P265:Q2168,2,0),\"\")","v":""},null,null,null,null,{"$f":"IFERROR(VLOOKUP(ROWS($AJ$2:AJ265),O265:Q2168,3,0),\"\")","v":""},null,{"$f":"IFERROR(VLOOKUP(ROWS(AL$2:$AL265),N265:Q2168,4,0),\"\")","v":""}]
[null,null,null,null,null,null,null,null,null,null,null,null,null,{"$f":"IF(ISNUMBER(SEARCH($H$16,Q266)),MAX($N$1:N265)+1,0)","v":0},{"$f":"IF(ISNUMBER(SEARCH($H$11,Q266)),MAX($O$1:O265)+1,0)","v":0},{"$f":"IF(ISNUMBER(SEARCH($H$6,Q266)),MAX($P$1:P265)+1,0)","v":0},"idbi diversified equity fund rp","MIB214","Diversified equity",null,null,null,null,null,null,null,null,null,null,null,{"$f":"IFERROR(VLOOKUP(ROWS($AE$2:AE266),P266:Q2169,2,0),\"\")","v":""},null,null,null,null,{"$f":"IFERROR(VLOOKUP(ROWS($AJ$2:AJ266),O266:Q2169,3,0),\"\")","v":""},null,{"$f":"IFERROR(VLOOKUP(ROWS(AL$2:$AL266),N266:Q2169,4,0),\"\")","v":""}]
[null,null,null,null,null,null,null,null,null,null,null,null,null,{"$f":"IF(ISNUMBER(SEARCH($H$16,Q267)),MAX($N$1:N266)+1,0)","v":0},{"$f":"IF(ISNUMBER(SEARCH($H$11,Q267)),MAX($O$1:O266)+1,0)","v":0},{"$f":"IF(ISNUMBER(SEARCH($H$6,Q267)),MAX($P$1:P266)+1,0)","v":0},"idfc classic equity plan b","MAG336","Diversified equity",null,null,null,null,null,null,null,null,null,null,null,{"$f":"IFERROR(VLOOKUP(ROWS($AE$2:AE267),P267:Q2170,2,0),\"\")","v":""},null,null,null,null,{"$f":"IFERROR(VLOOKUP(ROWS($AJ$2:AJ267),O267:Q2170,3,0),\"\")","v":""},null,{"$f":"IFERROR(VLOOKUP(ROWS(AL$2:$AL267),N267:Q2170,4,0),\"\")","v":""}]
[null,null,null,null,null,null,null,null,null,null,null,null,null,{"$f":"IF(ISNUMBER(SEARCH($H$16,Q268)),MAX($N$1:N267)+1,0)","v":0},{"$f":"IF(ISNUMBER(SEARCH($H$11,Q268)),MAX($O$1:O267)+1,0)","v":0},{"$f":"IF(ISNUMBER(SEARCH($H$6,Q268)),MAX($P$1:P267)+1,0)","v":0},"idfc classic equity regular","MAG091","Diversified equity",null,null,null,null,null,null,null,null,null,null,null,{"$f":"IFERROR(VLOOKUP(ROWS($AE$2:AE268),P268:Q2171,2,0),\"\")","v":""},null,null,null,null,{"$f":"IFERROR(VLOOKUP(ROWS($AJ$2:AJ268),O268:Q2171,3,0),\"\")","v":""},null,{"$f":"IFERROR(VLOOKUP(ROWS(AL$2:$AL268),N268:Q2171,4,0),\"\")","v":""}]
[null,null,null,null,null,null,null,null,null,null,null,null,null,{"$f":"IF(ISNUMBER(SEARCH($H$16,Q269)),MAX($N$1:N268)+1,0)","v":0},{"$f":"IF(ISNUMBER(SEARCH($H$11,Q269)),MAX($O$1:O268)+1,0)","v":0},{"$f":"IF(ISNUMBER(SEARCH($H$6,Q269)),MAX($P$1:P268)+1,0)","v":0},"idfc equity opport sr 1 dir dp ","MAG914","Diversified equity",null,null,null,null,null,null,null,null,null,null,null,{"$f":"IFERROR(VLOOKUP(ROWS($AE$2:AE269),P269:Q2172,2,0),\"\")","v":""},null,null,null,null,{"$f":"IFERROR(VLOOKUP(ROWS($AJ$2:AJ269),O269:Q2172,3,0),\"\")","v":""},null,{"$f":"IFERROR(VLOOKUP(ROWS(AL$2:$AL269),N269:Q2172,4,0),\"\")","v":""}]
[null,null,null,null,null,null,null,null,null,null,null,null,null,{"$f":"IF(ISNUMBER(SEARCH($H$16,Q270)),MAX($N$1:N269)+1,0)","v":0},{"$f":"IF(ISNUMBER(SEARCH($H$11,Q270)),MAX($O$1:O269)+1,0)","v":0},{"$f":"IF(ISNUMBER(SEARCH($H$6,Q270)),MAX($P$1:P269)+1,0)","v":0},"idfc equity opport sr 1 reg dp ","MAG912","Diversified equity",null,null,null,null,null,null,null,null,null,null,null,{"$f":"IFERROR(VLOOKUP(ROWS($AE$2:AE270),P270:Q2173,2,0),\"\")","v":""},null,null,null,null,{"$f":"IFERROR(VLOOKUP(ROWS($AJ$2:AJ270),O270:Q2173,3,0),\"\")","v":""},null,{"$f":"IFERROR(VLOOKUP(ROWS(AL$2:$AL270),N270:Q2173,4,0),\"\")","v":""}]
[null,null,null,null,null,null,null,null,null,null,null,null,null,{"$f":"IF(ISNUMBER(SEARCH($H$16,Q271)),MAX($N$1:N270)+1,0)","v":0},{"$f":"IF(ISNUMBER(SEARCH($H$11,Q271)),MAX($O$1:O270)+1,0)","v":0},{"$f":"IF(ISNUMBER(SEARCH($H$6,Q271)),MAX($P$1:P270)+1,0)","v":0},"idfc equity opport sr 2 dir dp ","MAG1323","Diversified equity",null,null,null,null,null,null,null,null,null,null,null,{"$f":"IFERROR(VLOOKUP(ROWS($AE$2:AE271),P271:Q2174,2,0),\"\")","v":""},null,null,null,null,{"$f":"IFERROR(VLOOKUP(ROWS($AJ$2:AJ271),O271:Q2174,3,0),\"\")","v":""},null,{"$f":"IFERROR(VLOOKUP(ROWS(AL$2:$AL271),N271:Q2174,4,0),\"\")","v":""}]
[null,null,null,null,null,null,null,null,null,null,null,null,null,{"$f":"IF(ISNUMBER(SEARCH($H$16,Q272)),MAX($N$1:N271)+1,0)","v":0},{"$f":"IF(ISNUMBER(SEARCH($H$11,Q272)),MAX($O$1:O271)+1,0)","v":0},{"$f":"IF(ISNUMBER(SEARCH($H$6,Q272)),MAX($P$1:P271)+1,0)","v":0},"idfc equity opport sr 2 reg dp ","MAG1321","Diversified equity",null,null,null,null,null,null,null,null,null,null,null,{"$f":"IFERROR(VLOOKUP(ROWS($AE$2:AE272),P272:Q2175,2,0),\"\")","v":""},null,null,null,null,{"$f":"IFERROR(VLOOKUP(ROWS($AJ$2:AJ272),O272:Q2175,3,0),\"\")","v":""},null,{"$f":"IFERROR(VLOOKUP(ROWS(AL$2:$AL272),N272:Q2175,4,0),\"\")","v":""}]
[null,null,null,null,null,null,null,null,null,null,null,null,null,{"$f":"IF(ISNUMBER(SEARCH($H$16,Q273)),MAX($N$1:N272)+1,0)","v":0},{"$f":"IF(ISNUMBER(SEARCH($H$11,Q273)),MAX($O$1:O272)+1,0)","v":0},{"$f":"IF(ISNUMBER(SEARCH($H$6,Q273)),MAX($P$1:P272)+1,0)","v":0},"idfc equity opport sr 3 dir dp ","MAG1327","Diversified equity",null,null,null,null,null,null,null,null,null,null,null,{"$f":"IFERROR(VLOOKUP(ROWS($AE$2:AE273),P273:Q2176,2,0),\"\")","v":""},null,null,null,null,{"$f":"IFERROR(VLOOKUP(ROWS($AJ$2:AJ273),O273:Q2176,3,0),\"\")","v":""},null,{"$f":"IFERROR(VLOOKUP(ROWS(AL$2:$AL273),N273:Q2176,4,0),\"\")","v":""}]
[null,null,null,null,null,null,null,null,null,null,null,null,null,{"$f":"IF(ISNUMBER(SEARCH($H$16,Q274)),MAX($N$1:N273)+1,0)","v":0},{"$f":"IF(ISNUMBER(SEARCH($H$11,Q274)),MAX($O$1:O273)+1,0)","v":0},{"$f":"IF(ISNUMBER(SEARCH($H$6,Q274)),MAX($P$1:P273)+1,0)","v":0},"idfc equity opport sr 3 reg dp ","MAG1325","Diversified equity",null,null,null,null,null,null,null,null,null,null,null,{"$f":"IFERROR(VLOOKUP(ROWS($AE$2:AE274),P274:Q2177,2,0),\"\")","v":""},null,null,null,null,{"$f":"IFERROR(VLOOKUP(ROWS($AJ$2:AJ274),O274:Q2177,3,0),\"\")","v":""},null,{"$f":"IFERROR(VLOOKUP(ROWS(AL$2:$AL274),N274:Q2177,4,0),\"\")","v":""}]
[null,null,null,null,null,null,null,null,null,null,null,null,null,{"$f":"IF(ISNUMBER(SEARCH($H$16,Q275)),MAX($N$1:N274)+1,0)","v":0},{"$f":"IF(ISNUMBER(SEARCH($H$11,Q275)),MAX($O$1:O274)+1,0)","v":0},{"$f":"IF(ISNUMBER(SEARCH($H$6,Q275)),MAX($P$1:P274)+1,0)","v":0},"idfc india gdp growth regular g ","MAG324","Diversified equity",null,null,null,null,null,null,null,null,null,null,null,{"$f":"IFERROR(VLOOKUP(ROWS($AE$2:AE275),P275:Q2178,2,0),\"\")","v":""},null,null,null,null,{"$f":"IFERROR(VLOOKUP(ROWS($AJ$2:AJ275),O275:Q2178,3,0),\"\")","v":""},null,{"$f":"IFERROR(VLOOKUP(ROWS(AL$2:$AL275),N275:Q2178,4,0),\"\")","v":""}]
[null,null,null,null,null,null,null,null,null,null,null,null,null,{"$f":"IF(ISNUMBER(SEARCH($H$16,Q276)),MAX($N$1:N275)+1,0)","v":0},{"$f":"IF(ISNUMBER(SEARCH($H$11,Q276)),MAX($O$1:O275)+1,0)","v":0},{"$f":"IF(ISNUMBER(SEARCH($H$6,Q276)),MAX($P$1:P275)+1,0)","v":0},"jm equity fund","MJM002","Diversified equity",null,null,null,null,null,null,null,null,null,null,null,{"$f":"IFERROR(VLOOKUP(ROWS($AE$2:AE276),P276:Q2179,2,0),\"\")","v":""},null,null,null,null,{"$f":"IFERROR(VLOOKUP(ROWS($AJ$2:AJ276),O276:Q2179,3,0),\"\")","v":""},null,{"$f":"IFERROR(VLOOKUP(ROWS(AL$2:$AL276),N276:Q2179,4,0),\"\")","v":""}]
[null,null,null,null,null,null,null,null,null,null,null,null,null,{"$f":"IF(ISNUMBER(SEARCH($H$16,Q277)),MAX($N$1:N276)+1,0)","v":0},{"$f":"IF(ISNUMBER(SEARCH($H$11,Q277)),MAX($O$1:O276)+1,0)","v":0},{"$f":"IF(ISNUMBER(SEARCH($H$6,Q277)),MAX($P$1:P276)+1,0)","v":0},"kotak equity savings fund regular","MKM887","Diversified equity",null,null,null,null,null,null,null,null,null,null,null,{"$f":"IFERROR(VLOOKUP(ROWS($AE$2:AE277),P277:Q2180,2,0),\"\")","v":""},null,null,null,null,{"$f":"IFERROR(VLOOKUP(ROWS($AJ$2:AJ277),O277:Q2180,3,0),\"\")","v":""},null,{"$f":"IFERROR(VLOOKUP(ROWS(AL$2:$AL277),N277:Q2180,4,0),\"\")","v":""}]
[null,null,null,null,null,null,null,null,null,null,null,null,null,{"$f":"IF(ISNUMBER(SEARCH($H$16,Q278)),MAX($N$1:N277)+1,0)","v":0},{"$f":"IF(ISNUMBER(SEARCH($H$11,Q278)),MAX($O$1:O277)+1,0)","v":0},{"$f":"IF(ISNUMBER(SEARCH($H$6,Q278)),MAX($P$1:P277)+1,0)","v":0},"kotak india growth fund sr i regular","MKM916","Diversified equity",null,null,null,null,null,null,null,null,null,null,null,{"$f":"IFERROR(VLOOKUP(ROWS($AE$2:AE278),P278:Q2181,2,0),\"\")","v":""},null,null,null,null,{"$f":"IFERROR(VLOOKUP(ROWS($AJ$2:AJ278),O278:Q2181,3,0),\"\")","v":""},null,{"$f":"IFERROR(VLOOKUP(ROWS(AL$2:$AL278),N278:Q2181,4,0),\"\")","v":""}]
[null,null,null,null,null,null,null,null,null,null,null,null,null,{"$f":"IF(ISNUMBER(SEARCH($H$16,Q279)),MAX($N$1:N278)+1,0)","v":0},{"$f":"IF(ISNUMBER(SEARCH($H$11,Q279)),MAX($O$1:O278)+1,0)","v":0},{"$f":"IF(ISNUMBER(SEARCH($H$6,Q279)),MAX($P$1:P278)+1,0)","v":0},"kotak opportunities fund regular","MKM067","Diversified equity",null,null,null,null,null,null,null,null,null,null,null,{"$f":"IFERROR(VLOOKUP(ROWS($AE$2:AE279),P279:Q2182,2,0),\"\")","v":""},null,null,null,null,{"$f":"IFERROR(VLOOKUP(ROWS($AJ$2:AJ279),O279:Q2182,3,0),\"\")","v":""},null,{"$f":"IFERROR(VLOOKUP(ROWS(AL$2:$AL279),N279:Q2182,4,0),\"\")","v":""}]
[null,null,null,null,null,null,null,null,null,null,null,null,null,{"$f":"IF(ISNUMBER(SEARCH($H$16,Q280)),MAX($N$1:N279)+1,0)","v":0},{"$f":"IF(ISNUMBER(SEARCH($H$11,Q280)),MAX($O$1:O279)+1,0)","v":0},{"$f":"IF(ISNUMBER(SEARCH($H$6,Q280)),MAX($P$1:P279)+1,0)","v":0},"kotak select focus fund regular","MKM311","Diversified equity",null,null,null,null,null,null,null,null,null,null,null,{"$f":"IFERROR(VLOOKUP(ROWS($AE$2:AE280),P280:Q2183,2,0),\"\")","v":""},null,null,null,null,{"$f":"IFERROR(VLOOKUP(ROWS($AJ$2:AJ280),O280:Q2183,3,0),\"\")","v":""},null,{"$f":"IFERROR(VLOOKUP(ROWS(AL$2:$AL280),N280:Q2183,4,0),\"\")","v":""}]
[null,null,null,null,null,null,null,null,null,null,null,null,null,{"$f":"IF(ISNUMBER(SEARCH($H$16,Q281)),MAX($N$1:N280)+1,0)","v":0},{"$f":"IF(ISNUMBER(SEARCH($H$11,Q281)),MAX($O$1:O280)+1,0)","v":0},{"$f":"IF(ISNUMBER(SEARCH($H$6,Q281)),MAX($P$1:P280)+1,0)","v":0},"lic nomura diver eqty sr 1 dp","MJB358","Diversified equity",null,null,null,null,null,null,null,null,null,null,null,{"$f":"IFERROR(VLOOKUP(ROWS($AE$2:AE281),P281:Q2184,2,0),\"\")","v":""},null,null,null,null,{"$f":"IFERROR(VLOOKUP(ROWS($AJ$2:AJ281),O281:Q2184,3,0),\"\")","v":""},null,{"$f":"IFERROR(VLOOKUP(ROWS(AL$2:$AL281),N281:Q2184,4,0),\"\")","v":""}]
[null,null,null,null,null,null,null,null,null,null,null,null,null,{"$f":"IF(ISNUMBER(SEARCH($H$16,Q282)),MAX($N$1:N281)+1,0)","v":0},{"$f":"IF(ISNUMBER(SEARCH($H$11,Q282)),MAX($O$1:O281)+1,0)","v":0},{"$f":"IF(ISNUMBER(SEARCH($H$6,Q282)),MAX($P$1:P281)+1,0)","v":0},"lic nomura diver eqty sr 1 rp","MJB356","Diversified equity",null,null,null,null,null,null,null,null,null,null,null,{"$f":"IFERROR(VLOOKUP(ROWS($AE$2:AE282),P282:Q2185,2,0),\"\")","v":""},null,null,null,null,{"$f":"IFERROR(VLOOKUP(ROWS($AJ$2:AJ282),O282:Q2185,3,0),\"\")","v":""},null,{"$f":"IFERROR(VLOOKUP(ROWS(AL$2:$AL282),N282:Q2185,4,0),\"\")","v":""}]
[null,null,null,null,null,null,null,null,null,null,null,null,null,{"$f":"IF(ISNUMBER(SEARCH($H$16,Q283)),MAX($N$1:N282)+1,0)","v":0},{"$f":"IF(ISNUMBER(SEARCH($H$11,Q283)),MAX($O$1:O282)+1,0)","v":0},{"$f":"IF(ISNUMBER(SEARCH($H$6,Q283)),MAX($P$1:P282)+1,0)","v":0},"lic nomura equity fund","MJB001","Diversified equity",null,null,null,null,null,null,null,null,null,null,null,{"$f":"IFERROR(VLOOKUP(ROWS($AE$2:AE283),P283:Q2186,2,0),\"\")","v":""},null,null,null,null,{"$f":"IFERROR(VLOOKUP(ROWS($AJ$2:AJ283),O283:Q2186,3,0),\"\")","v":""},null,{"$f":"IFERROR(VLOOKUP(ROWS(AL$2:$AL283),N283:Q2186,4,0),\"\")","v":""}]
[null,null,null,null,null,null,null,null,null,null,null,null,null,{"$f":"IF(ISNUMBER(SEARCH($H$16,Q284)),MAX($N$1:N283)+1,0)","v":0},{"$f":"IF(ISNUMBER(SEARCH($H$11,Q284)),MAX($O$1:O283)+1,0)","v":0},{"$f":"IF(ISNUMBER(SEARCH($H$6,Q284)),MAX($P$1:P283)+1,0)","v":0},"l t business cycles regular","MCC516","Diversified equity",null,null,null,null,null,null,null,null,null,null,null,{"$f":"IFERROR(VLOOKUP(ROWS($AE$2:AE284),P284:Q2187,2,0),\"\")","v":""},null,null,null,null,{"$f":"IFERROR(VLOOKUP(ROWS($AJ$2:AJ284),O284:Q2187,3,0),\"\")","v":""},null,{"$f":"IFERROR(VLOOKUP(ROWS(AL$2:$AL284),N284:Q2187,4,0),\"\")","v":""}]
[null,null,null,null,null,null,null,null,null,null,null,null,null,{"$f":"IF(ISNUMBER(SEARCH($H$16,Q285)),MAX($N$1:N284)+1,0)","v":0},{"$f":"IF(ISNUMBER(SEARCH($H$11,Q285)),MAX($O$1:O284)+1,0)","v":0},{"$f":"IF(ISNUMBER(SEARCH($H$6,Q285)),MAX($P$1:P284)+1,0)","v":0},"l t equity fund","MFF001","Diversified equity",null,null,null,null,null,null,null,null,null,null,null,{"$f":"IFERROR(VLOOKUP(ROWS($AE$2:AE285),P285:Q2188,2,0),\"\")","v":""},null,null,null,null,{"$f":"IFERROR(VLOOKUP(ROWS($AJ$2:AJ285),O285:Q2188,3,0),\"\")","v":""},null,{"$f":"IFERROR(VLOOKUP(ROWS(AL$2:$AL285),N285:Q2188,4,0),\"\")","v":""}]
[null,null,null,null,null,null,null,null,null,null,null,null,null,{"$f":"IF(ISNUMBER(SEARCH($H$16,Q286)),MAX($N$1:N285)+1,0)","v":0},{"$f":"IF(ISNUMBER(SEARCH($H$11,Q286)),MAX($O$1:O285)+1,0)","v":0},{"$f":"IF(ISNUMBER(SEARCH($H$6,Q286)),MAX($P$1:P285)+1,0)","v":0},"l t india special situations","MFF007","Diversified equity",null,null,null,null,null,null,null,null,null,null,null,{"$f":"IFERROR(VLOOKUP(ROWS($AE$2:AE286),P286:Q2189,2,0),\"\")","v":""},null,null,null,null,{"$f":"IFERROR(VLOOKUP(ROWS($AJ$2:AJ286),O286:Q2189,3,0),\"\")","v":""},null,{"$f":"IFERROR(VLOOKUP(ROWS(AL$2:$AL286),N286:Q2189,4,0),\"\")","v":""}]
[null,null,null,null,null,null,null,null,null,null,null,null,null,{"$f":"IF(ISNUMBER(SEARCH($H$16,Q287)),MAX($N$1:N286)+1,0)","v":0},{"$f":"IF(ISNUMBER(SEARCH($H$11,Q287)),MAX($O$1:O286)+1,0)","v":0},{"$f":"IF(ISNUMBER(SEARCH($H$6,Q287)),MAX($P$1:P286)+1,0)","v":0},"l t india value fund","MFF061","Diversified equity",null,null,null,null,null,null,null,null,null,null,null,{"$f":"IFERROR(VLOOKUP(ROWS($AE$2:AE287),P287:Q2190,2,0),\"\")","v":""},null,null,null,null,{"$f":"IFERROR(VLOOKUP(ROWS($AJ$2:AJ287),O287:Q2190,3,0),\"\")","v":""},null,{"$f":"IFERROR(VLOOKUP(ROWS(AL$2:$AL287),N287:Q2190,4,0),\"\")","v":""}]
[null,null,null,null,null,null,null,null,null,null,null,null,null,{"$f":"IF(ISNUMBER(SEARCH($H$16,Q288)),MAX($N$1:N287)+1,0)","v":0},{"$f":"IF(ISNUMBER(SEARCH($H$11,Q288)),MAX($O$1:O287)+1,0)","v":0},{"$f":"IF(ISNUMBER(SEARCH($H$6,Q288)),MAX($P$1:P287)+1,0)","v":0},"l t indo asia fund","MFF025","Diversified equity",null,null,null,null,null,null,null,null,null,null,null,{"$f":"IFERROR(VLOOKUP(ROWS($AE$2:AE288),P288:Q2191,2,0),\"\")","v":""},null,null,null,null,{"$f":"IFERROR(VLOOKUP(ROWS($AJ$2:AJ288),O288:Q2191,3,0),\"\")","v":""},null,{"$f":"IFERROR(VLOOKUP(ROWS(AL$2:$AL288),N288:Q2191,4,0),\"\")","v":""}]
[null,null,null,null,null,null,null,null,null,null,null,null,null,{"$f":"IF(ISNUMBER(SEARCH($H$16,Q289)),MAX($N$1:N288)+1,0)","v":0},{"$f":"IF(ISNUMBER(SEARCH($H$11,Q289)),MAX($O$1:O288)+1,0)","v":0},{"$f":"IF(ISNUMBER(SEARCH($H$6,Q289)),MAX($P$1:P288)+1,0)","v":0},"mirae india china consumption","MMA090","Diversified equity",null,null,null,null,null,null,null,null,null,null,null,{"$f":"IFERROR(VLOOKUP(ROWS($AE$2:AE289),P289:Q2192,2,0),\"\")","v":""},null,null,null,null,{"$f":"IFERROR(VLOOKUP(ROWS($AJ$2:AJ289),O289:Q2192,3,0),\"\")","v":""},null,{"$f":"IFERROR(VLOOKUP(ROWS(AL$2:$AL289),N289:Q2192,4,0),\"\")","v":""}]
[null,null,null,null,null,null,null,null,null,null,null,null,null,{"$f":"IF(ISNUMBER(SEARCH($H$16,Q290)),MAX($N$1:N289)+1,0)","v":0},{"$f":"IF(ISNUMBER(SEARCH($H$11,Q290)),MAX($O$1:O289)+1,0)","v":0},{"$f":"IF(ISNUMBER(SEARCH($H$6,Q290)),MAX($P$1:P289)+1,0)","v":0},"mirae i opportunities rp","MMA001","Diversified equity",null,null,null,null,null,null,null,null,null,null,null,{"$f":"IFERROR(VLOOKUP(ROWS($AE$2:AE290),P290:Q2193,2,0),\"\")","v":""},null,null,null,null,{"$f":"IFERROR(VLOOKUP(ROWS($AJ$2:AJ290),O290:Q2193,3,0),\"\")","v":""},null,{"$f":"IFERROR(VLOOKUP(ROWS(AL$2:$AL290),N290:Q2193,4,0),\"\")","v":""}]
[null,null,null,null,null,null,null,null,null,null,null,null,null,{"$f":"IF(ISNUMBER(SEARCH($H$16,Q291)),MAX($N$1:N290)+1,0)","v":0},{"$f":"IF(ISNUMBER(SEARCH($H$11,Q291)),MAX($O$1:O290)+1,0)","v":0},{"$f":"IF(ISNUMBER(SEARCH($H$6,Q291)),MAX($P$1:P290)+1,0)","v":0},"motilal focused multicap 35 dp","MMO031","Diversified equity",null,null,null,null,null,null,null,null,null,null,null,{"$f":"IFERROR(VLOOKUP(ROWS($AE$2:AE291),P291:Q2194,2,0),\"\")","v":""},null,null,null,null,{"$f":"IFERROR(VLOOKUP(ROWS($AJ$2:AJ291),O291:Q2194,3,0),\"\")","v":""},null,{"$f":"IFERROR(VLOOKUP(ROWS(AL$2:$AL291),N291:Q2194,4,0),\"\")","v":""}]
[null,null,null,null,null,null,null,null,null,null,null,null,null,{"$f":"IF(ISNUMBER(SEARCH($H$16,Q292)),MAX($N$1:N291)+1,0)","v":0},{"$f":"IF(ISNUMBER(SEARCH($H$11,Q292)),MAX($O$1:O291)+1,0)","v":0},{"$f":"IF(ISNUMBER(SEARCH($H$6,Q292)),MAX($P$1:P291)+1,0)","v":0},"motilal focused multicap 35 rp","MMO029","Diversified equity",null,null,null,null,null,null,null,null,null,null,null,{"$f":"IFERROR(VLOOKUP(ROWS($AE$2:AE292),P292:Q2195,2,0),\"\")","v":""},null,null,null,null,{"$f":"IFERROR(VLOOKUP(ROWS($AJ$2:AJ292),O292:Q2195,3,0),\"\")","v":""},null,{"$f":"IFERROR(VLOOKUP(ROWS(AL$2:$AL292),N292:Q2195,4,0),\"\")","v":""}]
[null,null,null,null,null,null,null,null,null,null,null,null,null,{"$f":"IF(ISNUMBER(SEARCH($H$16,Q293)),MAX($N$1:N292)+1,0)","v":0},{"$f":"IF(ISNUMBER(SEARCH($H$11,Q293)),MAX($O$1:O292)+1,0)","v":0},{"$f":"IF(ISNUMBER(SEARCH($H$6,Q293)),MAX($P$1:P292)+1,0)","v":0},"motilal most focused 25 dp","MMO011","Diversified equity",null,null,null,null,null,null,null,null,null,null,null,{"$f":"IFERROR(VLOOKUP(ROWS($AE$2:AE293),P293:Q2196,2,0),\"\")","v":""},null,null,null,null,{"$f":"IFERROR(VLOOKUP(ROWS($AJ$2:AJ293),O293:Q2196,3,0),\"\")","v":""},null,{"$f":"IFERROR(VLOOKUP(ROWS(AL$2:$AL293),N293:Q2196,4,0),\"\")","v":""}]
[null,null,null,null,null,null,null,null,null,null,null,null,null,{"$f":"IF(ISNUMBER(SEARCH($H$16,Q294)),MAX($N$1:N293)+1,0)","v":0},{"$f":"IF(ISNUMBER(SEARCH($H$11,Q294)),MAX($O$1:O293)+1,0)","v":0},{"$f":"IF(ISNUMBER(SEARCH($H$6,Q294)),MAX($P$1:P293)+1,0)","v":0},"motilal most focused 25 rp","MMO009","Diversified equity",null,null,null,null,null,null,null,null,null,null,null,{"$f":"IFERROR(VLOOKUP(ROWS($AE$2:AE294),P294:Q2197,2,0),\"\")","v":""},null,null,null,null,{"$f":"IFERROR(VLOOKUP(ROWS($AJ$2:AJ294),O294:Q2197,3,0),\"\")","v":""},null,{"$f":"IFERROR(VLOOKUP(ROWS(AL$2:$AL294),N294:Q2197,4,0),\"\")","v":""}]
[null,null,null,null,null,null,null,null,null,null,null,null,null,{"$f":"IF(ISNUMBER(SEARCH($H$16,Q295)),MAX($N$1:N294)+1,0)","v":0},{"$f":"IF(ISNUMBER(SEARCH($H$11,Q295)),MAX($O$1:O294)+1,0)","v":0},{"$f":"IF(ISNUMBER(SEARCH($H$6,Q295)),MAX($P$1:P294)+1,0)","v":0},"peerless equity fund","MPM034","Diversified equity",null,null,null,null,null,null,null,null,null,null,null,{"$f":"IFERROR(VLOOKUP(ROWS($AE$2:AE295),P295:Q2198,2,0),\"\")","v":""},null,null,null,null,{"$f":"IFERROR(VLOOKUP(ROWS($AJ$2:AJ295),O295:Q2198,3,0),\"\")","v":""},null,{"$f":"IFERROR(VLOOKUP(ROWS(AL$2:$AL295),N295:Q2198,4,0),\"\")","v":""}]
[null,null,null,null,null,null,null,null,null,null,null,null,null,{"$f":"IF(ISNUMBER(SEARCH($H$16,Q296)),MAX($N$1:N295)+1,0)","v":0},{"$f":"IF(ISNUMBER(SEARCH($H$11,Q296)),MAX($O$1:O295)+1,0)","v":0},{"$f":"IF(ISNUMBER(SEARCH($H$6,Q296)),MAX($P$1:P295)+1,0)","v":0},"ppfas long term value fund dp","MPP002","Diversified equity",null,null,null,null,null,null,null,null,null,null,null,{"$f":"IFERROR(VLOOKUP(ROWS($AE$2:AE296),P296:Q2199,2,0),\"\")","v":""},null,null,null,null,{"$f":"IFERROR(VLOOKUP(ROWS($AJ$2:AJ296),O296:Q2199,3,0),\"\")","v":""},null,{"$f":"IFERROR(VLOOKUP(ROWS(AL$2:$AL296),N296:Q2199,4,0),\"\")","v":""}]
[null,null,null,null,null,null,null,null,null,null,null,null,null,{"$f":"IF(ISNUMBER(SEARCH($H$16,Q297)),MAX($N$1:N296)+1,0)","v":0},{"$f":"IF(ISNUMBER(SEARCH($H$11,Q297)),MAX($O$1:O296)+1,0)","v":0},{"$f":"IF(ISNUMBER(SEARCH($H$6,Q297)),MAX($P$1:P296)+1,0)","v":0},"ppfas long term value fund rp","MPP001","Diversified equity",null,null,null,null,null,null,null,null,null,null,null,{"$f":"IFERROR(VLOOKUP(ROWS($AE$2:AE297),P297:Q2200,2,0),\"\")","v":""},null,null,null,null,{"$f":"IFERROR(VLOOKUP(ROWS($AJ$2:AJ297),O297:Q2200,3,0),\"\")","v":""},null,{"$f":"IFERROR(VLOOKUP(ROWS(AL$2:$AL297),N297:Q2200,4,0),\"\")","v":""}]
[null,null,null,null,null,null,null,null,null,null,null,null,null,{"$f":"IF(ISNUMBER(SEARCH($H$16,Q298)),MAX($N$1:N297)+1,0)","v":0},{"$f":"IF(ISNUMBER(SEARCH($H$11,Q298)),MAX($O$1:O297)+1,0)","v":0},{"$f":"IF(ISNUMBER(SEARCH($H$6,Q298)),MAX($P$1:P297)+1,0)","v":0},"principal dividend yield","MID072","Diversified equity",null,null,null,null,null,null,null,null,null,null,null,{"$f":"IFERROR(VLOOKUP(ROWS($AE$2:AE298),P298:Q2201,2,0),\"\")","v":""},null,null,null,null,{"$f":"IFERROR(VLOOKUP(ROWS($AJ$2:AJ298),O298:Q2201,3,0),\"\")","v":""},null,{"$f":"IFERROR(VLOOKUP(ROWS(AL$2:$AL298),N298:Q2201,4,0),\"\")","v":""}]
[null,null,null,null,null,null,null,null,null,null,null,null,null,{"$f":"IF(ISNUMBER(SEARCH($H$16,Q299)),MAX($N$1:N298)+1,0)","v":0},{"$f":"IF(ISNUMBER(SEARCH($H$11,Q299)),MAX($O$1:O298)+1,0)","v":0},{"$f":"IF(ISNUMBER(SEARCH($H$6,Q299)),MAX($P$1:P298)+1,0)","v":0},"principal growth fund","MID010","Diversified equity",null,null,null,null,null,null,null,null,null,null,null,{"$f":"IFERROR(VLOOKUP(ROWS($AE$2:AE299),P299:Q2202,2,0),\"\")","v":""},null,null,null,null,{"$f":"IFERROR(VLOOKUP(ROWS($AJ$2:AJ299),O299:Q2202,3,0),\"\")","v":""},null,{"$f":"IFERROR(VLOOKUP(ROWS(AL$2:$AL299),N299:Q2202,4,0),\"\")","v":""}]
[null,null,null,null,null,null,null,null,null,null,null,null,null,{"$f":"IF(ISNUMBER(SEARCH($H$16,Q300)),MAX($N$1:N299)+1,0)","v":0},{"$f":"IF(ISNUMBER(SEARCH($H$11,Q300)),MAX($O$1:O299)+1,0)","v":0},{"$f":"IF(ISNUMBER(SEARCH($H$6,Q300)),MAX($P$1:P299)+1,0)","v":0},"principal services indu ","MID096","Diversified equity",null,null,null,null,null,null,null,null,null,null,null,{"$f":"IFERROR(VLOOKUP(ROWS($AE$2:AE300),P300:Q2203,2,0),\"\")","v":""},null,null,null,null,{"$f":"IFERROR(VLOOKUP(ROWS($AJ$2:AJ300),O300:Q2203,3,0),\"\")","v":""},null,{"$f":"IFERROR(VLOOKUP(ROWS(AL$2:$AL300),N300:Q2203,4,0),\"\")","v":""}]
[null,null,null,null,null,null,null,null,null,null,null,null,null,{"$f":"IF(ISNUMBER(SEARCH($H$16,Q301)),MAX($N$1:N300)+1,0)","v":1},{"$f":"IF(ISNUMBER(SEARCH($H$11,Q301)),MAX($O$1:O300)+1,0)","v":1},{"$f":"IF(ISNUMBER(SEARCH($H$6,Q301)),MAX($P$1:P300)+1,0)","v":1},"quantum long term equity","MQU001","Diversified equity",null,null,null,null,null,null,null,null,null,null,null,{"$f":"IFERROR(VLOOKUP(ROWS($AE$2:AE301),P301:Q2204,2,0),\"\")","v":""},null,null,null,null,{"$f":"IFERROR(VLOOKUP(ROWS($AJ$2:AJ301),O301:Q2204,3,0),\"\")","v":""},null,{"$f":"IFERROR(VLOOKUP(ROWS(AL$2:$AL301),N301:Q2204,4,0),\"\")","v":""}]
[null,null,null,null,null,null,null,null,null,null,null,null,null,{"$f":"IF(ISNUMBER(SEARCH($H$16,Q302)),MAX($N$1:N301)+1,0)","v":0},{"$f":"IF(ISNUMBER(SEARCH($H$11,Q302)),MAX($O$1:O301)+1,0)","v":0},{"$f":"IF(ISNUMBER(SEARCH($H$6,Q302)),MAX($P$1:P301)+1,0)","v":0},"reliance capital builder ii sr a","MRC1757","Diversified equity",null,null,null,null,null,null,null,null,null,null,null,{"$f":"IFERROR(VLOOKUP(ROWS($AE$2:AE302),P302:Q2205,2,0),\"\")","v":""},null,null,null,null,{"$f":"IFERROR(VLOOKUP(ROWS($AJ$2:AJ302),O302:Q2205,3,0),\"\")","v":""},null,{"$f":"IFERROR(VLOOKUP(ROWS(AL$2:$AL302),N302:Q2205,4,0),\"\")","v":""}]
[null,null,null,null,null,null,null,null,null,null,null,null,null,{"$f":"IF(ISNUMBER(SEARCH($H$16,Q303)),MAX($N$1:N302)+1,0)","v":0},{"$f":"IF(ISNUMBER(SEARCH($H$11,Q303)),MAX($O$1:O302)+1,0)","v":0},{"$f":"IF(ISNUMBER(SEARCH($H$6,Q303)),MAX($P$1:P302)+1,0)","v":0},"reliance capital builder ii sr a dp","MRC1759","Diversified equity",null,null,null,null,null,null,null,null,null,null,null,{"$f":"IFERROR(VLOOKUP(ROWS($AE$2:AE303),P303:Q2206,2,0),\"\")","v":""},null,null,null,null,{"$f":"IFERROR(VLOOKUP(ROWS($AJ$2:AJ303),O303:Q2206,3,0),\"\")","v":""},null,{"$f":"IFERROR(VLOOKUP(ROWS(AL$2:$AL303),N303:Q2206,4,0),\"\")","v":""}]
[null,null,null,null,null,null,null,null,null,null,null,null,null,{"$f":"IF(ISNUMBER(SEARCH($H$16,Q304)),MAX($N$1:N303)+1,0)","v":0},{"$f":"IF(ISNUMBER(SEARCH($H$11,Q304)),MAX($O$1:O303)+1,0)","v":0},{"$f":"IF(ISNUMBER(SEARCH($H$6,Q304)),MAX($P$1:P303)+1,0)","v":0},"reliance capital builder ii sr b","MRC1761","Diversified equity",null,null,null,null,null,null,null,null,null,null,null,{"$f":"IFERROR(VLOOKUP(ROWS($AE$2:AE304),P304:Q2207,2,0),\"\")","v":""},null,null,null,null,{"$f":"IFERROR(VLOOKUP(ROWS($AJ$2:AJ304),O304:Q2207,3,0),\"\")","v":""},null,{"$f":"IFERROR(VLOOKUP(ROWS(AL$2:$AL304),N304:Q2207,4,0),\"\")","v":""}]
[null,null,null,null,null,null,null,null,null,null,null,null,null,{"$f":"IF(ISNUMBER(SEARCH($H$16,Q305)),MAX($N$1:N304)+1,0)","v":0},{"$f":"IF(ISNUMBER(SEARCH($H$11,Q305)),MAX($O$1:O304)+1,0)","v":0},{"$f":"IF(ISNUMBER(SEARCH($H$6,Q305)),MAX($P$1:P304)+1,0)","v":0},"reliance capital builder ii sr b dp","MRC1763","Diversified equity",null,null,null,null,null,null,null,null,null,null,null,{"$f":"IFERROR(VLOOKUP(ROWS($AE$2:AE305),P305:Q2208,2,0),\"\")","v":""},null,null,null,null,{"$f":"IFERROR(VLOOKUP(ROWS($AJ$2:AJ305),O305:Q2208,3,0),\"\")","v":""},null,{"$f":"IFERROR(VLOOKUP(ROWS(AL$2:$AL305),N305:Q2208,4,0),\"\")","v":""}]
[null,null,null,null,null,null,null,null,null,null,null,null,null,{"$f":"IF(ISNUMBER(SEARCH($H$16,Q306)),MAX($N$1:N305)+1,0)","v":0},{"$f":"IF(ISNUMBER(SEARCH($H$11,Q306)),MAX($O$1:O305)+1,0)","v":0},{"$f":"IF(ISNUMBER(SEARCH($H$6,Q306)),MAX($P$1:P305)+1,0)","v":0},"reliance capital builder ii sr c","MRC1833","Diversified equity",null,null,null,null,null,null,null,null,null,null,null,{"$f":"IFERROR(VLOOKUP(ROWS($AE$2:AE306),P306:Q2209,2,0),\"\")","v":""},null,null,null,null,{"$f":"IFERROR(VLOOKUP(ROWS($AJ$2:AJ306),O306:Q2209,3,0),\"\")","v":""},null,{"$f":"IFERROR(VLOOKUP(ROWS(AL$2:$AL306),N306:Q2209,4,0),\"\")","v":""}]
[null,null,null,null,null,null,null,null,null,null,null,null,null,{"$f":"IF(ISNUMBER(SEARCH($H$16,Q307)),MAX($N$1:N306)+1,0)","v":0},{"$f":"IF(ISNUMBER(SEARCH($H$11,Q307)),MAX($O$1:O306)+1,0)","v":0},{"$f":"IF(ISNUMBER(SEARCH($H$6,Q307)),MAX($P$1:P306)+1,0)","v":0},"reliance capital builder ii sr c dp","MRC1835","Diversified equity",null,null,null,null,null,null,null,null,null,null,null,{"$f":"IFERROR(VLOOKUP(ROWS($AE$2:AE307),P307:Q2210,2,0),\"\")","v":""},null,null,null,null,{"$f":"IFERROR(VLOOKUP(ROWS($AJ$2:AJ307),O307:Q2210,3,0),\"\")","v":""},null,{"$f":"IFERROR(VLOOKUP(ROWS(AL$2:$AL307),N307:Q2210,4,0),\"\")","v":""}]
[null,null,null,null,null,null,null,null,null,null,null,null,null,{"$f":"IF(ISNUMBER(SEARCH($H$16,Q308)),MAX($N$1:N307)+1,0)","v":0},{"$f":"IF(ISNUMBER(SEARCH($H$11,Q308)),MAX($O$1:O307)+1,0)","v":0},{"$f":"IF(ISNUMBER(SEARCH($H$6,Q308)),MAX($P$1:P307)+1,0)","v":0},"reliance capital builder sr a","MRC1634","Diversified equity",null,null,null,null,null,null,null,null,null,null,null,{"$f":"IFERROR(VLOOKUP(ROWS($AE$2:AE308),P308:Q2211,2,0),\"\")","v":""},null,null,null,null,{"$f":"IFERROR(VLOOKUP(ROWS($AJ$2:AJ308),O308:Q2211,3,0),\"\")","v":""},null,{"$f":"IFERROR(VLOOKUP(ROWS(AL$2:$AL308),N308:Q2211,4,0),\"\")","v":""}]
[null,null,null,null,null,null,null,null,null,null,null,null,null,{"$f":"IF(ISNUMBER(SEARCH($H$16,Q309)),MAX($N$1:N308)+1,0)","v":0},{"$f":"IF(ISNUMBER(SEARCH($H$11,Q309)),MAX($O$1:O308)+1,0)","v":0},{"$f":"IF(ISNUMBER(SEARCH($H$6,Q309)),MAX($P$1:P308)+1,0)","v":0},"reliance capital builder sr a dp","MRC1636","Diversified equity",null,null,null,null,null,null,null,null,null,null,null,{"$f":"IFERROR(VLOOKUP(ROWS($AE$2:AE309),P309:Q2212,2,0),\"\")","v":""},null,null,null,null,{"$f":"IFERROR(VLOOKUP(ROWS($AJ$2:AJ309),O309:Q2212,3,0),\"\")","v":""},null,{"$f":"IFERROR(VLOOKUP(ROWS(AL$2:$AL309),N309:Q2212,4,0),\"\")","v":""}]
[null,null,null,null,null,null,null,null,null,null,null,null,null,{"$f":"IF(ISNUMBER(SEARCH($H$16,Q310)),MAX($N$1:N309)+1,0)","v":0},{"$f":"IF(ISNUMBER(SEARCH($H$11,Q310)),MAX($O$1:O309)+1,0)","v":0},{"$f":"IF(ISNUMBER(SEARCH($H$6,Q310)),MAX($P$1:P309)+1,0)","v":0},"reliance capital builder sr b","MRC1656","Diversified equity",null,null,null,null,null,null,null,null,null,null,null,{"$f":"IFERROR(VLOOKUP(ROWS($AE$2:AE310),P310:Q2213,2,0),\"\")","v":""},null,null,null,null,{"$f":"IFERROR(VLOOKUP(ROWS($AJ$2:AJ310),O310:Q2213,3,0),\"\")","v":""},null,{"$f":"IFERROR(VLOOKUP(ROWS(AL$2:$AL310),N310:Q2213,4,0),\"\")","v":""}]
[null,null,null,null,null,null,null,null,null,null,null,null,null,{"$f":"IF(ISNUMBER(SEARCH($H$16,Q311)),MAX($N$1:N310)+1,0)","v":0},{"$f":"IF(ISNUMBER(SEARCH($H$11,Q311)),MAX($O$1:O310)+1,0)","v":0},{"$f":"IF(ISNUMBER(SEARCH($H$6,Q311)),MAX($P$1:P310)+1,0)","v":0},"reliance capital builder sr b dp","MRC1658","Diversified equity",null,null,null,null,null,null,null,null,null,null,null,{"$f":"IFERROR(VLOOKUP(ROWS($AE$2:AE311),P311:Q2214,2,0),\"\")","v":""},null,null,null,null,{"$f":"IFERROR(VLOOKUP(ROWS($AJ$2:AJ311),O311:Q2214,3,0),\"\")","v":""},null,{"$f":"IFERROR(VLOOKUP(ROWS(AL$2:$AL311),N311:Q2214,4,0),\"\")","v":""}]
[null,null,null,null,null,null,null,null,null,null,null,null,null,{"$f":"IF(ISNUMBER(SEARCH($H$16,Q312)),MAX($N$1:N311)+1,0)","v":0},{"$f":"IF(ISNUMBER(SEARCH($H$11,Q312)),MAX($O$1:O311)+1,0)","v":0},{"$f":"IF(ISNUMBER(SEARCH($H$6,Q312)),MAX($P$1:P311)+1,0)","v":0},"reliance capital builder sr c","MRC1684","Diversified equity",null,null,null,null,null,null,null,null,null,null,null,{"$f":"IFERROR(VLOOKUP(ROWS($AE$2:AE312),P312:Q2215,2,0),\"\")","v":""},null,null,null,null,{"$f":"IFERROR(VLOOKUP(ROWS($AJ$2:AJ312),O312:Q2215,3,0),\"\")","v":""},null,{"$f":"IFERROR(VLOOKUP(ROWS(AL$2:$AL312),N312:Q2215,4,0),\"\")","v":""}]
[null,null,null,null,null,null,null,null,null,null,null,null,null,{"$f":"IF(ISNUMBER(SEARCH($H$16,Q313)),MAX($N$1:N312)+1,0)","v":0},{"$f":"IF(ISNUMBER(SEARCH($H$11,Q313)),MAX($O$1:O312)+1,0)","v":0},{"$f":"IF(ISNUMBER(SEARCH($H$6,Q313)),MAX($P$1:P312)+1,0)","v":0},"reliance capital builder sr c dp","MRC1686","Diversified equity",null,null,null,null,null,null,null,null,null,null,null,{"$f":"IFERROR(VLOOKUP(ROWS($AE$2:AE313),P313:Q2216,2,0),\"\")","v":""},null,null,null,null,{"$f":"IFERROR(VLOOKUP(ROWS($AJ$2:AJ313),O313:Q2216,3,0),\"\")","v":""},null,{"$f":"IFERROR(VLOOKUP(ROWS(AL$2:$AL313),N313:Q2216,4,0),\"\")","v":""}]
[null,null,null,null,null,null,null,null,null,null,null,null,null,{"$f":"IF(ISNUMBER(SEARCH($H$16,Q314)),MAX($N$1:N313)+1,0)","v":0},{"$f":"IF(ISNUMBER(SEARCH($H$11,Q314)),MAX($O$1:O313)+1,0)","v":0},{"$f":"IF(ISNUMBER(SEARCH($H$6,Q314)),MAX($P$1:P313)+1,0)","v":0},"reliance close ended eqty sr a","MRC1304","Diversified equity",null,null,null,null,null,null,null,null,null,null,null,{"$f":"IFERROR(VLOOKUP(ROWS($AE$2:AE314),P314:Q2217,2,0),\"\")","v":""},null,null,null,null,{"$f":"IFERROR(VLOOKUP(ROWS($AJ$2:AJ314),O314:Q2217,3,0),\"\")","v":""},null,{"$f":"IFERROR(VLOOKUP(ROWS(AL$2:$AL314),N314:Q2217,4,0),\"\")","v":""}]
[null,null,null,null,null,null,null,null,null,null,null,null,null,{"$f":"IF(ISNUMBER(SEARCH($H$16,Q315)),MAX($N$1:N314)+1,0)","v":0},{"$f":"IF(ISNUMBER(SEARCH($H$11,Q315)),MAX($O$1:O314)+1,0)","v":0},{"$f":"IF(ISNUMBER(SEARCH($H$6,Q315)),MAX($P$1:P314)+1,0)","v":0},"reliance close ended eqty sr a dp g","MRC1306","Diversified equity",null,null,null,null,null,null,null,null,null,null,null,{"$f":"IFERROR(VLOOKUP(ROWS($AE$2:AE315),P315:Q2218,2,0),\"\")","v":""},null,null,null,null,{"$f":"IFERROR(VLOOKUP(ROWS($AJ$2:AJ315),O315:Q2218,3,0),\"\")","v":""},null,{"$f":"IFERROR(VLOOKUP(ROWS(AL$2:$AL315),N315:Q2218,4,0),\"\")","v":""}]
[null,null,null,null,null,null,null,null,null,null,null,null,null,{"$f":"IF(ISNUMBER(SEARCH($H$16,Q316)),MAX($N$1:N315)+1,0)","v":0},{"$f":"IF(ISNUMBER(SEARCH($H$11,Q316)),MAX($O$1:O315)+1,0)","v":0},{"$f":"IF(ISNUMBER(SEARCH($H$6,Q316)),MAX($P$1:P315)+1,0)","v":0},"reliance close ended eqty sr b","MRC1336","Diversified equity",null,null,null,null,null,null,null,null,null,null,null,{"$f":"IFERROR(VLOOKUP(ROWS($AE$2:AE316),P316:Q2219,2,0),\"\")","v":""},null,null,null,null,{"$f":"IFERROR(VLOOKUP(ROWS($AJ$2:AJ316),O316:Q2219,3,0),\"\")","v":""},null,{"$f":"IFERROR(VLOOKUP(ROWS(AL$2:$AL316),N316:Q2219,4,0),\"\")","v":""}]
[null,null,null,null,null,null,null,null,null,null,null,null,null,{"$f":"IF(ISNUMBER(SEARCH($H$16,Q317)),MAX($N$1:N316)+1,0)","v":0},{"$f":"IF(ISNUMBER(SEARCH($H$11,Q317)),MAX($O$1:O316)+1,0)","v":0},{"$f":"IF(ISNUMBER(SEARCH($H$6,Q317)),MAX($P$1:P316)+1,0)","v":0},"reliance close ended eqty sr b dp g","MRC1338","Diversified equity",null,null,null,null,null,null,null,null,null,null,null,{"$f":"IFERROR(VLOOKUP(ROWS($AE$2:AE317),P317:Q2220,2,0),\"\")","v":""},null,null,null,null,{"$f":"IFERROR(VLOOKUP(ROWS($AJ$2:AJ317),O317:Q2220,3,0),\"\")","v":""},null,{"$f":"IFERROR(VLOOKUP(ROWS(AL$2:$AL317),N317:Q2220,4,0),\"\")","v":""}]
[null,null,null,null,null,null,null,null,null,null,null,null,null,{"$f":"IF(ISNUMBER(SEARCH($H$16,Q318)),MAX($N$1:N317)+1,0)","v":0},{"$f":"IF(ISNUMBER(SEARCH($H$11,Q318)),MAX($O$1:O317)+1,0)","v":0},{"$f":"IF(ISNUMBER(SEARCH($H$6,Q318)),MAX($P$1:P317)+1,0)","v":0},"reliance close end eqty 2 sr a dp g","MRC1576","Diversified equity",null,null,null,null,null,null,null,null,null,null,null,{"$f":"IFERROR(VLOOKUP(ROWS($AE$2:AE318),P318:Q2221,2,0),\"\")","v":""},null,null,null,null,{"$f":"IFERROR(VLOOKUP(ROWS($AJ$2:AJ318),O318:Q2221,3,0),\"\")","v":""},null,{"$f":"IFERROR(VLOOKUP(ROWS(AL$2:$AL318),N318:Q2221,4,0),\"\")","v":""}]
[null,null,null,null,null,null,null,null,null,null,null,null,null,{"$f":"IF(ISNUMBER(SEARCH($H$16,Q319)),MAX($N$1:N318)+1,0)","v":0},{"$f":"IF(ISNUMBER(SEARCH($H$11,Q319)),MAX($O$1:O318)+1,0)","v":0},{"$f":"IF(ISNUMBER(SEARCH($H$6,Q319)),MAX($P$1:P318)+1,0)","v":0},"reliance equity oppor ip","MRC231","Diversified equity",null,null,null,null,null,null,null,null,null,null,null,{"$f":"IFERROR(VLOOKUP(ROWS($AE$2:AE319),P319:Q2222,2,0),\"\")","v":""},null,null,null,null,{"$f":"IFERROR(VLOOKUP(ROWS($AJ$2:AJ319),O319:Q2222,3,0),\"\")","v":""},null,{"$f":"IFERROR(VLOOKUP(ROWS(AL$2:$AL319),N319:Q2222,4,0),\"\")","v":""}]
[null,null,null,null,null,null,null,null,null,null,null,null,null,{"$f":"IF(ISNUMBER(SEARCH($H$16,Q320)),MAX($N$1:N319)+1,0)","v":0},{"$f":"IF(ISNUMBER(SEARCH($H$11,Q320)),MAX($O$1:O319)+1,0)","v":0},{"$f":"IF(ISNUMBER(SEARCH($H$6,Q320)),MAX($P$1:P319)+1,0)","v":0},"reliance equity oppor rp","MRC089","Diversified equity",null,null,null,null,null,null,null,null,null,null,null,{"$f":"IFERROR(VLOOKUP(ROWS($AE$2:AE320),P320:Q2223,2,0),\"\")","v":""},null,null,null,null,{"$f":"IFERROR(VLOOKUP(ROWS($AJ$2:AJ320),O320:Q2223,3,0),\"\")","v":""},null,{"$f":"IFERROR(VLOOKUP(ROWS(AL$2:$AL320),N320:Q2223,4,0),\"\")","v":""}]
[null,null,null,null,null,null,null,null,null,null,null,null,null,{"$f":"IF(ISNUMBER(SEARCH($H$16,Q321)),MAX($N$1:N320)+1,0)","v":0},{"$f":"IF(ISNUMBER(SEARCH($H$11,Q321)),MAX($O$1:O320)+1,0)","v":0},{"$f":"IF(ISNUMBER(SEARCH($H$6,Q321)),MAX($P$1:P320)+1,0)","v":0},"reliance growth fund ip","MRC234","Diversified equity",null,null,null,null,null,null,null,null,null,null,null,{"$f":"IFERROR(VLOOKUP(ROWS($AE$2:AE321),P321:Q2224,2,0),\"\")","v":""},null,null,null,null,{"$f":"IFERROR(VLOOKUP(ROWS($AJ$2:AJ321),O321:Q2224,3,0),\"\")","v":""},null,{"$f":"IFERROR(VLOOKUP(ROWS(AL$2:$AL321),N321:Q2224,4,0),\"\")","v":""}]
[null,null,null,null,null,null,null,null,null,null,null,null,null,{"$f":"IF(ISNUMBER(SEARCH($H$16,Q322)),MAX($N$1:N321)+1,0)","v":0},{"$f":"IF(ISNUMBER(SEARCH($H$11,Q322)),MAX($O$1:O321)+1,0)","v":0},{"$f":"IF(ISNUMBER(SEARCH($H$6,Q322)),MAX($P$1:P321)+1,0)","v":0},"reliance growth fund rp","MRC008","Diversified equity",null,null,null,null,null,null,null,null,null,null,null,{"$f":"IFERROR(VLOOKUP(ROWS($AE$2:AE322),P322:Q2225,2,0),\"\")","v":""},null,null,null,null,{"$f":"IFERROR(VLOOKUP(ROWS($AJ$2:AJ322),O322:Q2225,3,0),\"\")","v":""},null,{"$f":"IFERROR(VLOOKUP(ROWS(AL$2:$AL322),N322:Q2225,4,0),\"\")","v":""}]
[null,null,null,null,null,null,null,null,null,null,null,null,null,{"$f":"IF(ISNUMBER(SEARCH($H$16,Q323)),MAX($N$1:N322)+1,0)","v":0},{"$f":"IF(ISNUMBER(SEARCH($H$11,Q323)),MAX($O$1:O322)+1,0)","v":0},{"$f":"IF(ISNUMBER(SEARCH($H$6,Q323)),MAX($P$1:P322)+1,0)","v":0},"reliance nri equity fund","MRC078","Diversified equity",null,null,null,null,null,null,null,null,null,null,null,{"$f":"IFERROR(VLOOKUP(ROWS($AE$2:AE323),P323:Q2226,2,0),\"\")","v":""},null,null,null,null,{"$f":"IFERROR(VLOOKUP(ROWS($AJ$2:AJ323),O323:Q2226,3,0),\"\")","v":""},null,{"$f":"IFERROR(VLOOKUP(ROWS(AL$2:$AL323),N323:Q2226,4,0),\"\")","v":""}]
[null,null,null,null,null,null,null,null,null,null,null,null,null,{"$f":"IF(ISNUMBER(SEARCH($H$16,Q324)),MAX($N$1:N323)+1,0)","v":0},{"$f":"IF(ISNUMBER(SEARCH($H$11,Q324)),MAX($O$1:O323)+1,0)","v":0},{"$f":"IF(ISNUMBER(SEARCH($H$6,Q324)),MAX($P$1:P323)+1,0)","v":0},"reliance rsf equity","MRC098","Diversified equity",null,null,null,null,null,null,null,null,null,null,null,{"$f":"IFERROR(VLOOKUP(ROWS($AE$2:AE324),P324:Q2227,2,0),\"\")","v":""},null,null,null,null,{"$f":"IFERROR(VLOOKUP(ROWS($AJ$2:AJ324),O324:Q2227,3,0),\"\")","v":""},null,{"$f":"IFERROR(VLOOKUP(ROWS(AL$2:$AL324),N324:Q2227,4,0),\"\")","v":""}]
[null,null,null,null,null,null,null,null,null,null,null,null,null,{"$f":"IF(ISNUMBER(SEARCH($H$16,Q325)),MAX($N$1:N324)+1,0)","v":0},{"$f":"IF(ISNUMBER(SEARCH($H$11,Q325)),MAX($O$1:O324)+1,0)","v":0},{"$f":"IF(ISNUMBER(SEARCH($H$6,Q325)),MAX($P$1:P324)+1,0)","v":0},"reliance top 200 fund ip","MRC158","Diversified equity",null,null,null,null,null,null,null,null,null,null,null,{"$f":"IFERROR(VLOOKUP(ROWS($AE$2:AE325),P325:Q2228,2,0),\"\")","v":""},null,null,null,null,{"$f":"IFERROR(VLOOKUP(ROWS($AJ$2:AJ325),O325:Q2228,3,0),\"\")","v":""},null,{"$f":"IFERROR(VLOOKUP(ROWS(AL$2:$AL325),N325:Q2228,4,0),\"\")","v":""}]
[null,null,null,null,null,null,null,null,null,null,null,null,null,{"$f":"IF(ISNUMBER(SEARCH($H$16,Q326)),MAX($N$1:N325)+1,0)","v":0},{"$f":"IF(ISNUMBER(SEARCH($H$11,Q326)),MAX($O$1:O325)+1,0)","v":0},{"$f":"IF(ISNUMBER(SEARCH($H$6,Q326)),MAX($P$1:P325)+1,0)","v":0},"reliance top 200 fund rp","MRC155","Diversified equity",null,null,null,null,null,null,null,null,null,null,null,{"$f":"IFERROR(VLOOKUP(ROWS($AE$2:AE326),P326:Q2229,2,0),\"\")","v":""},null,null,null,null,{"$f":"IFERROR(VLOOKUP(ROWS($AJ$2:AJ326),O326:Q2229,3,0),\"\")","v":""},null,{"$f":"IFERROR(VLOOKUP(ROWS(AL$2:$AL326),N326:Q2229,4,0),\"\")","v":""}]
[null,null,null,null,null,null,null,null,null,null,null,null,null,{"$f":"IF(ISNUMBER(SEARCH($H$16,Q327)),MAX($N$1:N326)+1,0)","v":0},{"$f":"IF(ISNUMBER(SEARCH($H$11,Q327)),MAX($O$1:O326)+1,0)","v":0},{"$f":"IF(ISNUMBER(SEARCH($H$6,Q327)),MAX($P$1:P326)+1,0)","v":0},"reliance vision fund ip","MRC237","Diversified equity",null,null,null,null,null,null,null,null,null,null,null,{"$f":"IFERROR(VLOOKUP(ROWS($AE$2:AE327),P327:Q2230,2,0),\"\")","v":""},null,null,null,null,{"$f":"IFERROR(VLOOKUP(ROWS($AJ$2:AJ327),O327:Q2230,3,0),\"\")","v":""},null,{"$f":"IFERROR(VLOOKUP(ROWS(AL$2:$AL327),N327:Q2230,4,0),\"\")","v":""}]
[null,null,null,null,null,null,null,null,null,null,null,null,null,{"$f":"IF(ISNUMBER(SEARCH($H$16,Q328)),MAX($N$1:N327)+1,0)","v":0},{"$f":"IF(ISNUMBER(SEARCH($H$11,Q328)),MAX($O$1:O327)+1,0)","v":0},{"$f":"IF(ISNUMBER(SEARCH($H$6,Q328)),MAX($P$1:P327)+1,0)","v":0},"reliance vision fund rp","MRC001","Diversified equity",null,null,null,null,null,null,null,null,null,null,null,{"$f":"IFERROR(VLOOKUP(ROWS($AE$2:AE328),P328:Q2231,2,0),\"\")","v":""},null,null,null,null,{"$f":"IFERROR(VLOOKUP(ROWS($AJ$2:AJ328),O328:Q2231,3,0),\"\")","v":""},null,{"$f":"IFERROR(VLOOKUP(ROWS(AL$2:$AL328),N328:Q2231,4,0),\"\")","v":""}]
[null,null,null,null,null,null,null,null,null,null,null,null,null,{"$f":"IF(ISNUMBER(SEARCH($H$16,Q329)),MAX($N$1:N328)+1,0)","v":0},{"$f":"IF(ISNUMBER(SEARCH($H$11,Q329)),MAX($O$1:O328)+1,0)","v":0},{"$f":"IF(ISNUMBER(SEARCH($H$6,Q329)),MAX($P$1:P328)+1,0)","v":0},"religare invesco contra","MLI019","Diversified equity",null,null,null,null,null,null,null,null,null,null,null,{"$f":"IFERROR(VLOOKUP(ROWS($AE$2:AE329),P329:Q2232,2,0),\"\")","v":""},null,null,null,null,{"$f":"IFERROR(VLOOKUP(ROWS($AJ$2:AJ329),O329:Q2232,3,0),\"\")","v":""},null,{"$f":"IFERROR(VLOOKUP(ROWS(AL$2:$AL329),N329:Q2232,4,0),\"\")","v":""}]
[null,null,null,null,null,null,null,null,null,null,null,null,null,{"$f":"IF(ISNUMBER(SEARCH($H$16,Q330)),MAX($N$1:N329)+1,0)","v":0},{"$f":"IF(ISNUMBER(SEARCH($H$11,Q330)),MAX($O$1:O329)+1,0)","v":0},{"$f":"IF(ISNUMBER(SEARCH($H$6,Q330)),MAX($P$1:P329)+1,0)","v":0},"religare invesco contra dir","MLI566","Diversified equity",null,null,null,null,null,null,null,null,null,null,null,{"$f":"IFERROR(VLOOKUP(ROWS($AE$2:AE330),P330:Q2233,2,0),\"\")","v":""},null,null,null,null,{"$f":"IFERROR(VLOOKUP(ROWS($AJ$2:AJ330),O330:Q2233,3,0),\"\")","v":""},null,{"$f":"IFERROR(VLOOKUP(ROWS(AL$2:$AL330),N330:Q2233,4,0),\"\")","v":""}]
[null,null,null,null,null,null,null,null,null,null,null,null,null,{"$f":"IF(ISNUMBER(SEARCH($H$16,Q331)),MAX($N$1:N330)+1,0)","v":0},{"$f":"IF(ISNUMBER(SEARCH($H$11,Q331)),MAX($O$1:O330)+1,0)","v":0},{"$f":"IF(ISNUMBER(SEARCH($H$6,Q331)),MAX($P$1:P330)+1,0)","v":0},"religare invesco dynamic equity","MLI117","Diversified equity",null,null,null,null,null,null,null,null,null,null,null,{"$f":"IFERROR(VLOOKUP(ROWS($AE$2:AE331),P331:Q2234,2,0),\"\")","v":""},null,null,null,null,{"$f":"IFERROR(VLOOKUP(ROWS($AJ$2:AJ331),O331:Q2234,3,0),\"\")","v":""},null,{"$f":"IFERROR(VLOOKUP(ROWS(AL$2:$AL331),N331:Q2234,4,0),\"\")","v":""}]
[null,null,null,null,null,null,null,null,null,null,null,null,null,{"$f":"IF(ISNUMBER(SEARCH($H$16,Q332)),MAX($N$1:N331)+1,0)","v":0},{"$f":"IF(ISNUMBER(SEARCH($H$11,Q332)),MAX($O$1:O331)+1,0)","v":0},{"$f":"IF(ISNUMBER(SEARCH($H$6,Q332)),MAX($P$1:P331)+1,0)","v":0},"religare invesco dynamic equity dp","MLI564","Diversified equity",null,null,null,null,null,null,null,null,null,null,null,{"$f":"IFERROR(VLOOKUP(ROWS($AE$2:AE332),P332:Q2235,2,0),\"\")","v":""},null,null,null,null,{"$f":"IFERROR(VLOOKUP(ROWS($AJ$2:AJ332),O332:Q2235,3,0),\"\")","v":""},null,{"$f":"IFERROR(VLOOKUP(ROWS(AL$2:$AL332),N332:Q2235,4,0),\"\")","v":""}]
[null,null,null,null,null,null,null,null,null,null,null,null,null,{"$f":"IF(ISNUMBER(SEARCH($H$16,Q333)),MAX($N$1:N332)+1,0)","v":0},{"$f":"IF(ISNUMBER(SEARCH($H$11,Q333)),MAX($O$1:O332)+1,0)","v":0},{"$f":"IF(ISNUMBER(SEARCH($H$6,Q333)),MAX($P$1:P332)+1,0)","v":0},"religare invesco growth fund","MLI099","Diversified equity",null,null,null,null,null,null,null,null,null,null,null,{"$f":"IFERROR(VLOOKUP(ROWS($AE$2:AE333),P333:Q2236,2,0),\"\")","v":""},null,null,null,null,{"$f":"IFERROR(VLOOKUP(ROWS($AJ$2:AJ333),O333:Q2236,3,0),\"\")","v":""},null,{"$f":"IFERROR(VLOOKUP(ROWS(AL$2:$AL333),N333:Q2236,4,0),\"\")","v":""}]
[null,null,null,null,null,null,null,null,null,null,null,null,null,{"$f":"IF(ISNUMBER(SEARCH($H$16,Q334)),MAX($N$1:N333)+1,0)","v":0},{"$f":"IF(ISNUMBER(SEARCH($H$11,Q334)),MAX($O$1:O333)+1,0)","v":0},{"$f":"IF(ISNUMBER(SEARCH($H$6,Q334)),MAX($P$1:P333)+1,0)","v":0},"religare invesco growth fund dp","MLI560","Diversified equity",null,null,null,null,null,null,null,null,null,null,null,{"$f":"IFERROR(VLOOKUP(ROWS($AE$2:AE334),P334:Q2237,2,0),\"\")","v":""},null,null,null,null,{"$f":"IFERROR(VLOOKUP(ROWS($AJ$2:AJ334),O334:Q2237,3,0),\"\")","v":""},null,{"$f":"IFERROR(VLOOKUP(ROWS(AL$2:$AL334),N334:Q2237,4,0),\"\")","v":""}]
[null,null,null,null,null,null,null,null,null,null,null,null,null,{"$f":"IF(ISNUMBER(SEARCH($H$16,Q335)),MAX($N$1:N334)+1,0)","v":0},{"$f":"IF(ISNUMBER(SEARCH($H$11,Q335)),MAX($O$1:O334)+1,0)","v":0},{"$f":"IF(ISNUMBER(SEARCH($H$6,Q335)),MAX($P$1:P334)+1,0)","v":0},"religare invesco psu equity","MLI345","Diversified equity",null,null,null,null,null,null,null,null,null,null,null,{"$f":"IFERROR(VLOOKUP(ROWS($AE$2:AE335),P335:Q2238,2,0),\"\")","v":""},null,null,null,null,{"$f":"IFERROR(VLOOKUP(ROWS($AJ$2:AJ335),O335:Q2238,3,0),\"\")","v":""},null,{"$f":"IFERROR(VLOOKUP(ROWS(AL$2:$AL335),N335:Q2238,4,0),\"\")","v":""}]
[null,null,null,null,null,null,null,null,null,null,null,null,null,{"$f":"IF(ISNUMBER(SEARCH($H$16,Q336)),MAX($N$1:N335)+1,0)","v":0},{"$f":"IF(ISNUMBER(SEARCH($H$11,Q336)),MAX($O$1:O335)+1,0)","v":0},{"$f":"IF(ISNUMBER(SEARCH($H$6,Q336)),MAX($P$1:P335)+1,0)","v":0},"religare invesco psu equity dp","MLI552","Diversified equity",null,null,null,null,null,null,null,null,null,null,null,{"$f":"IFERROR(VLOOKUP(ROWS($AE$2:AE336),P336:Q2239,2,0),\"\")","v":""},null,null,null,null,{"$f":"IFERROR(VLOOKUP(ROWS($AJ$2:AJ336),O336:Q2239,3,0),\"\")","v":""},null,{"$f":"IFERROR(VLOOKUP(ROWS(AL$2:$AL336),N336:Q2239,4,0),\"\")","v":""}]
[null,null,null,null,null,null,null,null,null,null,null,null,null,{"$f":"IF(ISNUMBER(SEARCH($H$16,Q337)),MAX($N$1:N336)+1,0)","v":0},{"$f":"IF(ISNUMBER(SEARCH($H$11,Q337)),MAX($O$1:O336)+1,0)","v":0},{"$f":"IF(ISNUMBER(SEARCH($H$6,Q337)),MAX($P$1:P336)+1,0)","v":0},"sbi contra fund","MSB010","Diversified equity",null,null,null,null,null,null,null,null,null,null,null,{"$f":"IFERROR(VLOOKUP(ROWS($AE$2:AE337),P337:Q2240,2,0),\"\")","v":""},null,null,null,null,{"$f":"IFERROR(VLOOKUP(ROWS($AJ$2:AJ337),O337:Q2240,3,0),\"\")","v":""},null,{"$f":"IFERROR(VLOOKUP(ROWS(AL$2:$AL337),N337:Q2240,4,0),\"\")","v":""}]
[null,null,null,null,null,null,null,null,null,null,null,null,null,{"$f":"IF(ISNUMBER(SEARCH($H$16,Q338)),MAX($N$1:N337)+1,0)","v":0},{"$f":"IF(ISNUMBER(SEARCH($H$11,Q338)),MAX($O$1:O337)+1,0)","v":0},{"$f":"IF(ISNUMBER(SEARCH($H$6,Q338)),MAX($P$1:P337)+1,0)","v":0},"sbi equity oppor sr 1 regular","MSB1031","Diversified equity",null,null,null,null,null,null,null,null,null,null,null,{"$f":"IFERROR(VLOOKUP(ROWS($AE$2:AE338),P338:Q2241,2,0),\"\")","v":""},null,null,null,null,{"$f":"IFERROR(VLOOKUP(ROWS($AJ$2:AJ338),O338:Q2241,3,0),\"\")","v":""},null,{"$f":"IFERROR(VLOOKUP(ROWS(AL$2:$AL338),N338:Q2241,4,0),\"\")","v":""}]
[null,null,null,null,null,null,null,null,null,null,null,null,null,{"$f":"IF(ISNUMBER(SEARCH($H$16,Q339)),MAX($N$1:N338)+1,0)","v":0},{"$f":"IF(ISNUMBER(SEARCH($H$11,Q339)),MAX($O$1:O338)+1,0)","v":0},{"$f":"IF(ISNUMBER(SEARCH($H$6,Q339)),MAX($P$1:P338)+1,0)","v":0},"sbi equity oppor sr 2 regular","MSB1083","Diversified equity",null,null,null,null,null,null,null,null,null,null,null,{"$f":"IFERROR(VLOOKUP(ROWS($AE$2:AE339),P339:Q2242,2,0),\"\")","v":""},null,null,null,null,{"$f":"IFERROR(VLOOKUP(ROWS($AJ$2:AJ339),O339:Q2242,3,0),\"\")","v":""},null,{"$f":"IFERROR(VLOOKUP(ROWS(AL$2:$AL339),N339:Q2242,4,0),\"\")","v":""}]
[null,null,null,null,null,null,null,null,null,null,null,null,null,{"$f":"IF(ISNUMBER(SEARCH($H$16,Q340)),MAX($N$1:N339)+1,0)","v":0},{"$f":"IF(ISNUMBER(SEARCH($H$11,Q340)),MAX($O$1:O339)+1,0)","v":0},{"$f":"IF(ISNUMBER(SEARCH($H$6,Q340)),MAX($P$1:P339)+1,0)","v":0},"sbi magnum multicap fund","MSB073","Diversified equity",null,null,null,null,null,null,null,null,null,null,null,{"$f":"IFERROR(VLOOKUP(ROWS($AE$2:AE340),P340:Q2243,2,0),\"\")","v":""},null,null,null,null,{"$f":"IFERROR(VLOOKUP(ROWS($AJ$2:AJ340),O340:Q2243,3,0),\"\")","v":""},null,{"$f":"IFERROR(VLOOKUP(ROWS(AL$2:$AL340),N340:Q2243,4,0),\"\")","v":""}]
[null,null,null,null,null,null,null,null,null,null,null,null,null,{"$f":"IF(ISNUMBER(SEARCH($H$16,Q341)),MAX($N$1:N340)+1,0)","v":0},{"$f":"IF(ISNUMBER(SEARCH($H$11,Q341)),MAX($O$1:O340)+1,0)","v":0},{"$f":"IF(ISNUMBER(SEARCH($H$6,Q341)),MAX($P$1:P340)+1,0)","v":0},"sbi magnum multiplier fund","MSB003","Diversified equity",null,null,null,null,null,null,null,null,null,null,null,{"$f":"IFERROR(VLOOKUP(ROWS($AE$2:AE341),P341:Q2244,2,0),\"\")","v":""},null,null,null,null,{"$f":"IFERROR(VLOOKUP(ROWS($AJ$2:AJ341),O341:Q2244,3,0),\"\")","v":""},null,{"$f":"IFERROR(VLOOKUP(ROWS(AL$2:$AL341),N341:Q2244,4,0),\"\")","v":""}]
[null,null,null,null,null,null,null,null,null,null,null,null,null,{"$f":"IF(ISNUMBER(SEARCH($H$16,Q342)),MAX($N$1:N341)+1,0)","v":0},{"$f":"IF(ISNUMBER(SEARCH($H$11,Q342)),MAX($O$1:O341)+1,0)","v":0},{"$f":"IF(ISNUMBER(SEARCH($H$6,Q342)),MAX($P$1:P341)+1,0)","v":0},"sbi one india fund","MSB083","Diversified equity",null,null,null,null,null,null,null,null,null,null,null,{"$f":"IFERROR(VLOOKUP(ROWS($AE$2:AE342),P342:Q2245,2,0),\"\")","v":""},null,null,null,null,{"$f":"IFERROR(VLOOKUP(ROWS($AJ$2:AJ342),O342:Q2245,3,0),\"\")","v":""},null,{"$f":"IFERROR(VLOOKUP(ROWS(AL$2:$AL342),N342:Q2245,4,0),\"\")","v":""}]
[null,null,null,null,null,null,null,null,null,null,null,null,null,{"$f":"IF(ISNUMBER(SEARCH($H$16,Q343)),MAX($N$1:N342)+1,0)","v":0},{"$f":"IF(ISNUMBER(SEARCH($H$11,Q343)),MAX($O$1:O342)+1,0)","v":0},{"$f":"IF(ISNUMBER(SEARCH($H$6,Q343)),MAX($P$1:P342)+1,0)","v":0},"sbi psu fund","MSB222","Diversified equity",null,null,null,null,null,null,null,null,null,null,null,{"$f":"IFERROR(VLOOKUP(ROWS($AE$2:AE343),P343:Q2246,2,0),\"\")","v":""},null,null,null,null,{"$f":"IFERROR(VLOOKUP(ROWS($AJ$2:AJ343),O343:Q2246,3,0),\"\")","v":""},null,{"$f":"IFERROR(VLOOKUP(ROWS(AL$2:$AL343),N343:Q2246,4,0),\"\")","v":""}]
[null,null,null,null,null,null,null,null,null,null,null,null,null,{"$f":"IF(ISNUMBER(SEARCH($H$16,Q344)),MAX($N$1:N343)+1,0)","v":0},{"$f":"IF(ISNUMBER(SEARCH($H$11,Q344)),MAX($O$1:O343)+1,0)","v":0},{"$f":"IF(ISNUMBER(SEARCH($H$6,Q344)),MAX($P$1:P343)+1,0)","v":0},"sundaram equity multiplier","MSN101","Diversified equity",null,null,null,null,null,null,null,null,null,null,null,{"$f":"IFERROR(VLOOKUP(ROWS($AE$2:AE344),P344:Q2247,2,0),\"\")","v":""},null,null,null,null,{"$f":"IFERROR(VLOOKUP(ROWS($AJ$2:AJ344),O344:Q2247,3,0),\"\")","v":""},null,{"$f":"IFERROR(VLOOKUP(ROWS(AL$2:$AL344),N344:Q2247,4,0),\"\")","v":""}]
[null,null,null,null,null,null,null,null,null,null,null,null,null,{"$f":"IF(ISNUMBER(SEARCH($H$16,Q345)),MAX($N$1:N344)+1,0)","v":0},{"$f":"IF(ISNUMBER(SEARCH($H$11,Q345)),MAX($O$1:O344)+1,0)","v":0},{"$f":"IF(ISNUMBER(SEARCH($H$6,Q345)),MAX($P$1:P344)+1,0)","v":0},"sundaram psu opportunities","MSN344","Diversified equity",null,null,null,null,null,null,null,null,null,null,null,{"$f":"IFERROR(VLOOKUP(ROWS($AE$2:AE345),P345:Q2248,2,0),\"\")","v":""},null,null,null,null,{"$f":"IFERROR(VLOOKUP(ROWS($AJ$2:AJ345),O345:Q2248,3,0),\"\")","v":""},null,{"$f":"IFERROR(VLOOKUP(ROWS(AL$2:$AL345),N345:Q2248,4,0),\"\")","v":""}]
[null,null,null,null,null,null,null,null,null,null,null,null,null,{"$f":"IF(ISNUMBER(SEARCH($H$16,Q346)),MAX($N$1:N345)+1,0)","v":0},{"$f":"IF(ISNUMBER(SEARCH($H$11,Q346)),MAX($O$1:O345)+1,0)","v":0},{"$f":"IF(ISNUMBER(SEARCH($H$6,Q346)),MAX($P$1:P345)+1,0)","v":0},"sundaram rural india fund","MSN097","Diversified equity",null,null,null,null,null,null,null,null,null,null,null,{"$f":"IFERROR(VLOOKUP(ROWS($AE$2:AE346),P346:Q2249,2,0),\"\")","v":""},null,null,null,null,{"$f":"IFERROR(VLOOKUP(ROWS($AJ$2:AJ346),O346:Q2249,3,0),\"\")","v":""},null,{"$f":"IFERROR(VLOOKUP(ROWS(AL$2:$AL346),N346:Q2249,4,0),\"\")","v":""}]
[null,null,null,null,null,null,null,null,null,null,null,null,null,{"$f":"IF(ISNUMBER(SEARCH($H$16,Q347)),MAX($N$1:N346)+1,0)","v":0},{"$f":"IF(ISNUMBER(SEARCH($H$11,Q347)),MAX($O$1:O346)+1,0)","v":0},{"$f":"IF(ISNUMBER(SEARCH($H$6,Q347)),MAX($P$1:P346)+1,0)","v":0},"tata dividend yield fund regular","MTA129","Diversified equity",null,null,null,null,null,null,null,null,null,null,null,{"$f":"IFERROR(VLOOKUP(ROWS($AE$2:AE347),P347:Q2250,2,0),\"\")","v":""},null,null,null,null,{"$f":"IFERROR(VLOOKUP(ROWS($AJ$2:AJ347),O347:Q2250,3,0),\"\")","v":""},null,{"$f":"IFERROR(VLOOKUP(ROWS(AL$2:$AL347),N347:Q2250,4,0),\"\")","v":""}]
[null,null,null,null,null,null,null,null,null,null,null,null,null,{"$f":"IF(ISNUMBER(SEARCH($H$16,Q348)),MAX($N$1:N347)+1,0)","v":0},{"$f":"IF(ISNUMBER(SEARCH($H$11,Q348)),MAX($O$1:O347)+1,0)","v":0},{"$f":"IF(ISNUMBER(SEARCH($H$6,Q348)),MAX($P$1:P347)+1,0)","v":0},"tata equity management","MTA147","Diversified equity",null,null,null,null,null,null,null,null,null,null,null,{"$f":"IFERROR(VLOOKUP(ROWS($AE$2:AE348),P348:Q2251,2,0),\"\")","v":""},null,null,null,null,{"$f":"IFERROR(VLOOKUP(ROWS($AJ$2:AJ348),O348:Q2251,3,0),\"\")","v":""},null,{"$f":"IFERROR(VLOOKUP(ROWS(AL$2:$AL348),N348:Q2251,4,0),\"\")","v":""}]
[null,null,null,null,null,null,null,null,null,null,null,null,null,{"$f":"IF(ISNUMBER(SEARCH($H$16,Q349)),MAX($N$1:N348)+1,0)","v":0},{"$f":"IF(ISNUMBER(SEARCH($H$11,Q349)),MAX($O$1:O348)+1,0)","v":0},{"$f":"IF(ISNUMBER(SEARCH($H$6,Q349)),MAX($P$1:P348)+1,0)","v":0},"tata equity opp fund regular","MTA043","Diversified equity",null,null,null,null,null,null,null,null,null,null,null,{"$f":"IFERROR(VLOOKUP(ROWS($AE$2:AE349),P349:Q2252,2,0),\"\")","v":""},null,null,null,null,{"$f":"IFERROR(VLOOKUP(ROWS($AJ$2:AJ349),O349:Q2252,3,0),\"\")","v":""},null,{"$f":"IFERROR(VLOOKUP(ROWS(AL$2:$AL349),N349:Q2252,4,0),\"\")","v":""}]
[null,null,null,null,null,null,null,null,null,null,null,null,null,{"$f":"IF(ISNUMBER(SEARCH($H$16,Q350)),MAX($N$1:N349)+1,0)","v":0},{"$f":"IF(ISNUMBER(SEARCH($H$11,Q350)),MAX($O$1:O349)+1,0)","v":0},{"$f":"IF(ISNUMBER(SEARCH($H$6,Q350)),MAX($P$1:P349)+1,0)","v":0},"tata equity p e fund","MTA125","Diversified equity",null,null,null,null,null,null,null,null,null,null,null,{"$f":"IFERROR(VLOOKUP(ROWS($AE$2:AE350),P350:Q2253,2,0),\"\")","v":""},null,null,null,null,{"$f":"IFERROR(VLOOKUP(ROWS($AJ$2:AJ350),O350:Q2253,3,0),\"\")","v":""},null,{"$f":"IFERROR(VLOOKUP(ROWS(AL$2:$AL350),N350:Q2253,4,0),\"\")","v":""}]
[null,null,null,null,null,null,null,null,null,null,null,null,null,{"$f":"IF(ISNUMBER(SEARCH($H$16,Q351)),MAX($N$1:N350)+1,0)","v":0},{"$f":"IF(ISNUMBER(SEARCH($H$11,Q351)),MAX($O$1:O350)+1,0)","v":0},{"$f":"IF(ISNUMBER(SEARCH($H$6,Q351)),MAX($P$1:P350)+1,0)","v":0},"tata ethical fund","MTA010","Diversified equity",null,null,null,null,null,null,null,null,null,null,null,{"$f":"IFERROR(VLOOKUP(ROWS($AE$2:AE351),P351:Q2254,2,0),\"\")","v":""},null,null,null,null,{"$f":"IFERROR(VLOOKUP(ROWS($AJ$2:AJ351),O351:Q2254,3,0),\"\")","v":""},null,{"$f":"IFERROR(VLOOKUP(ROWS(AL$2:$AL351),N351:Q2254,4,0),\"\")","v":""}]
[null,null,null,null,null,null,null,null,null,null,null,null,null,{"$f":"IF(ISNUMBER(SEARCH($H$16,Q352)),MAX($N$1:N351)+1,0)","v":0},{"$f":"IF(ISNUMBER(SEARCH($H$11,Q352)),MAX($O$1:O351)+1,0)","v":0},{"$f":"IF(ISNUMBER(SEARCH($H$6,Q352)),MAX($P$1:P351)+1,0)","v":0},"taurus ethical fund","MCM049","Diversified equity",null,null,null,null,null,null,null,null,null,null,null,{"$f":"IFERROR(VLOOKUP(ROWS($AE$2:AE352),P352:Q2255,2,0),\"\")","v":""},null,null,null,null,{"$f":"IFERROR(VLOOKUP(ROWS($AJ$2:AJ352),O352:Q2255,3,0),\"\")","v":""},null,{"$f":"IFERROR(VLOOKUP(ROWS(AL$2:$AL352),N352:Q2255,4,0),\"\")","v":""}]
[null,null,null,null,null,null,null,null,null,null,null,null,null,{"$f":"IF(ISNUMBER(SEARCH($H$16,Q353)),MAX($N$1:N352)+1,0)","v":0},{"$f":"IF(ISNUMBER(SEARCH($H$11,Q353)),MAX($O$1:O352)+1,0)","v":0},{"$f":"IF(ISNUMBER(SEARCH($H$6,Q353)),MAX($P$1:P352)+1,0)","v":0},"taurus star share","MCM042","Diversified equity",null,null,null,null,null,null,null,null,null,null,null,{"$f":"IFERROR(VLOOKUP(ROWS($AE$2:AE353),P353:Q2256,2,0),\"\")","v":""},null,null,null,null,{"$f":"IFERROR(VLOOKUP(ROWS($AJ$2:AJ353),O353:Q2256,3,0),\"\")","v":""},null,{"$f":"IFERROR(VLOOKUP(ROWS(AL$2:$AL353),N353:Q2256,4,0),\"\")","v":""}]
[null,null,null,null,null,null,null,null,null,null,null,null,null,{"$f":"IF(ISNUMBER(SEARCH($H$16,Q354)),MAX($N$1:N353)+1,0)","v":0},{"$f":"IF(ISNUMBER(SEARCH($H$11,Q354)),MAX($O$1:O353)+1,0)","v":0},{"$f":"IF(ISNUMBER(SEARCH($H$6,Q354)),MAX($P$1:P353)+1,0)","v":0},"templeton india growth fund","MTE024","Diversified equity",null,null,null,null,null,null,null,null,null,null,null,{"$f":"IFERROR(VLOOKUP(ROWS($AE$2:AE354),P354:Q2257,2,0),\"\")","v":""},null,null,null,null,{"$f":"IFERROR(VLOOKUP(ROWS($AJ$2:AJ354),O354:Q2257,3,0),\"\")","v":""},null,{"$f":"IFERROR(VLOOKUP(ROWS(AL$2:$AL354),N354:Q2257,4,0),\"\")","v":""}]
[null,null,null,null,null,null,null,null,null,null,null,null,null,{"$f":"IF(ISNUMBER(SEARCH($H$16,Q355)),MAX($N$1:N354)+1,0)","v":0},{"$f":"IF(ISNUMBER(SEARCH($H$11,Q355)),MAX($O$1:O354)+1,0)","v":0},{"$f":"IF(ISNUMBER(SEARCH($H$6,Q355)),MAX($P$1:P354)+1,0)","v":0},"templeton india growth fund dir","MTE295","Diversified equity",null,null,null,null,null,null,null,null,null,null,null,{"$f":"IFERROR(VLOOKUP(ROWS($AE$2:AE355),P355:Q2258,2,0),\"\")","v":""},null,null,null,null,{"$f":"IFERROR(VLOOKUP(ROWS($AJ$2:AJ355),O355:Q2258,3,0),\"\")","v":""},null,{"$f":"IFERROR(VLOOKUP(ROWS(AL$2:$AL355),N355:Q2258,4,0),\"\")","v":""}]
[null,null,null,null,null,null,null,null,null,null,null,null,null,{"$f":"IF(ISNUMBER(SEARCH($H$16,Q356)),MAX($N$1:N355)+1,0)","v":0},{"$f":"IF(ISNUMBER(SEARCH($H$11,Q356)),MAX($O$1:O355)+1,0)","v":0},{"$f":"IF(ISNUMBER(SEARCH($H$6,Q356)),MAX($P$1:P355)+1,0)","v":0},"union kbc equity fund","MUK001","Diversified equity",null,null,null,null,null,null,null,null,null,null,null,{"$f":"IFERROR(VLOOKUP(ROWS($AE$2:AE356),P356:Q2259,2,0),\"\")","v":""},null,null,null,null,{"$f":"IFERROR(VLOOKUP(ROWS($AJ$2:AJ356),O356:Q2259,3,0),\"\")","v":""},null,{"$f":"IFERROR(VLOOKUP(ROWS(AL$2:$AL356),N356:Q2259,4,0),\"\")","v":""}]
[null,null,null,null,null,null,null,null,null,null,null,null,null,{"$f":"IF(ISNUMBER(SEARCH($H$16,Q357)),MAX($N$1:N356)+1,0)","v":0},{"$f":"IF(ISNUMBER(SEARCH($H$11,Q357)),MAX($O$1:O356)+1,0)","v":0},{"$f":"IF(ISNUMBER(SEARCH($H$6,Q357)),MAX($P$1:P356)+1,0)","v":0},"uti dividend yield fund","MUT070","Diversified equity",null,null,null,null,null,null,null,null,null,null,null,{"$f":"IFERROR(VLOOKUP(ROWS($AE$2:AE357),P357:Q2260,2,0),\"\")","v":""},null,null,null,null,{"$f":"IFERROR(VLOOKUP(ROWS($AJ$2:AJ357),O357:Q2260,3,0),\"\")","v":""},null,{"$f":"IFERROR(VLOOKUP(ROWS(AL$2:$AL357),N357:Q2260,4,0),\"\")","v":""}]
[null,null,null,null,null,null,null,null,null,null,null,null,null,{"$f":"IF(ISNUMBER(SEARCH($H$16,Q358)),MAX($N$1:N357)+1,0)","v":0},{"$f":"IF(ISNUMBER(SEARCH($H$11,Q358)),MAX($O$1:O357)+1,0)","v":0},{"$f":"IF(ISNUMBER(SEARCH($H$6,Q358)),MAX($P$1:P357)+1,0)","v":0},"uti focussed equity sr i dp","MUT1575","Diversified equity",null,null,null,null,null,null,null,null,null,null,null,{"$f":"IFERROR(VLOOKUP(ROWS($AE$2:AE358),P358:Q2261,2,0),\"\")","v":""},null,null,null,null,{"$f":"IFERROR(VLOOKUP(ROWS($AJ$2:AJ358),O358:Q2261,3,0),\"\")","v":""},null,{"$f":"IFERROR(VLOOKUP(ROWS(AL$2:$AL358),N358:Q2261,4,0),\"\")","v":""}]
[null,null,null,null,null,null,null,null,null,null,null,null,null,{"$f":"IF(ISNUMBER(SEARCH($H$16,Q359)),MAX($N$1:N358)+1,0)","v":0},{"$f":"IF(ISNUMBER(SEARCH($H$11,Q359)),MAX($O$1:O358)+1,0)","v":0},{"$f":"IF(ISNUMBER(SEARCH($H$6,Q359)),MAX($P$1:P358)+1,0)","v":0},"uti focussed equity sr ii dp","MUT1704","Diversified equity",null,null,null,null,null,null,null,null,null,null,null,{"$f":"IFERROR(VLOOKUP(ROWS($AE$2:AE359),P359:Q2262,2,0),\"\")","v":""},null,null,null,null,{"$f":"IFERROR(VLOOKUP(ROWS($AJ$2:AJ359),O359:Q2262,3,0),\"\")","v":""},null,{"$f":"IFERROR(VLOOKUP(ROWS(AL$2:$AL359),N359:Q2262,4,0),\"\")","v":""}]
[null,null,null,null,null,null,null,null,null,null,null,null,null,{"$f":"IF(ISNUMBER(SEARCH($H$16,Q360)),MAX($N$1:N359)+1,0)","v":0},{"$f":"IF(ISNUMBER(SEARCH($H$11,Q360)),MAX($O$1:O359)+1,0)","v":0},{"$f":"IF(ISNUMBER(SEARCH($H$6,Q360)),MAX($P$1:P359)+1,0)","v":0},"uti focussed equity sr ii rp","MUT1706","Diversified equity",null,null,null,null,null,null,null,null,null,null,null,{"$f":"IFERROR(VLOOKUP(ROWS($AE$2:AE360),P360:Q2263,2,0),\"\")","v":""},null,null,null,null,{"$f":"IFERROR(VLOOKUP(ROWS($AJ$2:AJ360),O360:Q2263,3,0),\"\")","v":""},null,{"$f":"IFERROR(VLOOKUP(ROWS(AL$2:$AL360),N360:Q2263,4,0),\"\")","v":""}]
[null,null,null,null,null,null,null,null,null,null,null,null,null,{"$f":"IF(ISNUMBER(SEARCH($H$16,Q361)),MAX($N$1:N360)+1,0)","v":0},{"$f":"IF(ISNUMBER(SEARCH($H$11,Q361)),MAX($O$1:O360)+1,0)","v":0},{"$f":"IF(ISNUMBER(SEARCH($H$6,Q361)),MAX($P$1:P360)+1,0)","v":0},"uti focussed equity sr i rp","MUT1573","Diversified equity",null,null,null,null,null,null,null,null,null,null,null,{"$f":"IFERROR(VLOOKUP(ROWS($AE$2:AE361),P361:Q2264,2,0),\"\")","v":""},null,null,null,null,{"$f":"IFERROR(VLOOKUP(ROWS($AJ$2:AJ361),O361:Q2264,3,0),\"\")","v":""},null,{"$f":"IFERROR(VLOOKUP(ROWS(AL$2:$AL361),N361:Q2264,4,0),\"\")","v":""}]
[null,null,null,null,null,null,null,null,null,null,null,null,null,{"$f":"IF(ISNUMBER(SEARCH($H$16,Q362)),MAX($N$1:N361)+1,0)","v":0},{"$f":"IF(ISNUMBER(SEARCH($H$11,Q362)),MAX($O$1:O361)+1,0)","v":0},{"$f":"IF(ISNUMBER(SEARCH($H$6,Q362)),MAX($P$1:P361)+1,0)","v":0},"uti mnc fund","MUT023","Diversified equity",null,null,null,null,null,null,null,null,null,null,null,{"$f":"IFERROR(VLOOKUP(ROWS($AE$2:AE362),P362:Q2265,2,0),\"\")","v":""},null,null,null,null,{"$f":"IFERROR(VLOOKUP(ROWS($AJ$2:AJ362),O362:Q2265,3,0),\"\")","v":""},null,{"$f":"IFERROR(VLOOKUP(ROWS(AL$2:$AL362),N362:Q2265,4,0),\"\")","v":""}]
[null,null,null,null,null,null,null,null,null,null,null,null,null,{"$f":"IF(ISNUMBER(SEARCH($H$16,Q363)),MAX($N$1:N362)+1,0)","v":0},{"$f":"IF(ISNUMBER(SEARCH($H$11,Q363)),MAX($O$1:O362)+1,0)","v":0},{"$f":"IF(ISNUMBER(SEARCH($H$6,Q363)),MAX($P$1:P362)+1,0)","v":0},"uti multi cap fund dp","MUT1571","Diversified equity",null,null,null,null,null,null,null,null,null,null,null,{"$f":"IFERROR(VLOOKUP(ROWS($AE$2:AE363),P363:Q2266,2,0),\"\")","v":""},null,null,null,null,{"$f":"IFERROR(VLOOKUP(ROWS($AJ$2:AJ363),O363:Q2266,3,0),\"\")","v":""},null,{"$f":"IFERROR(VLOOKUP(ROWS(AL$2:$AL363),N363:Q2266,4,0),\"\")","v":""}]
[null,null,null,null,null,null,null,null,null,null,null,null,null,{"$f":"IF(ISNUMBER(SEARCH($H$16,Q364)),MAX($N$1:N363)+1,0)","v":0},{"$f":"IF(ISNUMBER(SEARCH($H$11,Q364)),MAX($O$1:O363)+1,0)","v":0},{"$f":"IF(ISNUMBER(SEARCH($H$6,Q364)),MAX($P$1:P363)+1,0)","v":0},"uti multi cap fund rp","MUT1569","Diversified equity",null,null,null,null,null,null,null,null,null,null,null,{"$f":"IFERROR(VLOOKUP(ROWS($AE$2:AE364),P364:Q2267,2,0),\"\")","v":""},null,null,null,null,{"$f":"IFERROR(VLOOKUP(ROWS($AJ$2:AJ364),O364:Q2267,3,0),\"\")","v":""},null,{"$f":"IFERROR(VLOOKUP(ROWS(AL$2:$AL364),N364:Q2267,4,0),\"\")","v":""}]
[null,null,null,null,null,null,null,null,null,null,null,null,null,{"$f":"IF(ISNUMBER(SEARCH($H$16,Q365)),MAX($N$1:N364)+1,0)","v":0},{"$f":"IF(ISNUMBER(SEARCH($H$11,Q365)),MAX($O$1:O364)+1,0)","v":0},{"$f":"IF(ISNUMBER(SEARCH($H$6,Q365)),MAX($P$1:P364)+1,0)","v":0},"baroda pioneer infrastructure","MBO046","Thematic - Infrastructure",null,null,null,null,null,null,null,null,null,null,null,{"$f":"IFERROR(VLOOKUP(ROWS($AE$2:AE365),P365:Q2268,2,0),\"\")","v":""},null,null,null,null,{"$f":"IFERROR(VLOOKUP(ROWS($AJ$2:AJ365),O365:Q2268,3,0),\"\")","v":""},null,{"$f":"IFERROR(VLOOKUP(ROWS(AL$2:$AL365),N365:Q2268,4,0),\"\")","v":""}]
[null,null,null,null,null,null,null,null,null,null,null,null,null,{"$f":"IF(ISNUMBER(SEARCH($H$16,Q366)),MAX($N$1:N365)+1,0)","v":0},{"$f":"IF(ISNUMBER(SEARCH($H$11,Q366)),MAX($O$1:O365)+1,0)","v":0},{"$f":"IF(ISNUMBER(SEARCH($H$6,Q366)),MAX($P$1:P365)+1,0)","v":0},"birla sl india reforms fund","MBS490","Thematic - Infrastructure",null,null,null,null,null,null,null,null,null,null,null,{"$f":"IFERROR(VLOOKUP(ROWS($AE$2:AE366),P366:Q2269,2,0),\"\")","v":""},null,null,null,null,{"$f":"IFERROR(VLOOKUP(ROWS($AJ$2:AJ366),O366:Q2269,3,0),\"\")","v":""},null,{"$f":"IFERROR(VLOOKUP(ROWS(AL$2:$AL366),N366:Q2269,4,0),\"\")","v":""}]
[null,null,null,null,null,null,null,null,null,null,null,null,null,{"$f":"IF(ISNUMBER(SEARCH($H$16,Q367)),MAX($N$1:N366)+1,0)","v":0},{"$f":"IF(ISNUMBER(SEARCH($H$11,Q367)),MAX($O$1:O366)+1,0)","v":0},{"$f":"IF(ISNUMBER(SEARCH($H$6,Q367)),MAX($P$1:P366)+1,0)","v":0},"birla sl infrastructure","MBS094","Thematic - Infrastructure",null,null,null,null,null,null,null,null,null,null,null,{"$f":"IFERROR(VLOOKUP(ROWS($AE$2:AE367),P367:Q2270,2,0),\"\")","v":""},null,null,null,null,{"$f":"IFERROR(VLOOKUP(ROWS($AJ$2:AJ367),O367:Q2270,3,0),\"\")","v":""},null,{"$f":"IFERROR(VLOOKUP(ROWS(AL$2:$AL367),N367:Q2270,4,0),\"\")","v":""}]
[null,null,null,null,null,null,null,null,null,null,null,null,null,{"$f":"IF(ISNUMBER(SEARCH($H$16,Q368)),MAX($N$1:N367)+1,0)","v":0},{"$f":"IF(ISNUMBER(SEARCH($H$11,Q368)),MAX($O$1:O367)+1,0)","v":0},{"$f":"IF(ISNUMBER(SEARCH($H$6,Q368)),MAX($P$1:P367)+1,0)","v":0},"boi axa focused infrast ","MBA057","Thematic - Infrastructure",null,null,null,null,null,null,null,null,null,null,null,{"$f":"IFERROR(VLOOKUP(ROWS($AE$2:AE368),P368:Q2271,2,0),\"\")","v":""},null,null,null,null,{"$f":"IFERROR(VLOOKUP(ROWS($AJ$2:AJ368),O368:Q2271,3,0),\"\")","v":""},null,{"$f":"IFERROR(VLOOKUP(ROWS(AL$2:$AL368),N368:Q2271,4,0),\"\")","v":""}]
[null,null,null,null,null,null,null,null,null,null,null,null,null,{"$f":"IF(ISNUMBER(SEARCH($H$16,Q369)),MAX($N$1:N368)+1,0)","v":0},{"$f":"IF(ISNUMBER(SEARCH($H$11,Q369)),MAX($O$1:O368)+1,0)","v":0},{"$f":"IF(ISNUMBER(SEARCH($H$6,Q369)),MAX($P$1:P368)+1,0)","v":0},"can robeco infrastructure","MCA040","Thematic - Infrastructure",null,null,null,null,null,null,null,null,null,null,null,{"$f":"IFERROR(VLOOKUP(ROWS($AE$2:AE369),P369:Q2272,2,0),\"\")","v":""},null,null,null,null,{"$f":"IFERROR(VLOOKUP(ROWS($AJ$2:AJ369),O369:Q2272,3,0),\"\")","v":""},null,{"$f":"IFERROR(VLOOKUP(ROWS(AL$2:$AL369),N369:Q2272,4,0),\"\")","v":""}]
[null,null,null,null,null,null,null,null,null,null,null,null,null,{"$f":"IF(ISNUMBER(SEARCH($H$16,Q370)),MAX($N$1:N369)+1,0)","v":0},{"$f":"IF(ISNUMBER(SEARCH($H$11,Q370)),MAX($O$1:O369)+1,0)","v":0},{"$f":"IF(ISNUMBER(SEARCH($H$6,Q370)),MAX($P$1:P369)+1,0)","v":0},"dsp br india tiger ip","MDS064","Thematic - Infrastructure",null,null,null,null,null,null,null,null,null,null,null,{"$f":"IFERROR(VLOOKUP(ROWS($AE$2:AE370),P370:Q2273,2,0),\"\")","v":""},null,null,null,null,{"$f":"IFERROR(VLOOKUP(ROWS($AJ$2:AJ370),O370:Q2273,3,0),\"\")","v":""},null,{"$f":"IFERROR(VLOOKUP(ROWS(AL$2:$AL370),N370:Q2273,4,0),\"\")","v":""}]
[null,null,null,null,null,null,null,null,null,null,null,null,null,{"$f":"IF(ISNUMBER(SEARCH($H$16,Q371)),MAX($N$1:N370)+1,0)","v":0},{"$f":"IF(ISNUMBER(SEARCH($H$11,Q371)),MAX($O$1:O370)+1,0)","v":0},{"$f":"IF(ISNUMBER(SEARCH($H$6,Q371)),MAX($P$1:P370)+1,0)","v":0},"dsp br india tiger rp","MDS039","Thematic - Infrastructure",null,null,null,null,null,null,null,null,null,null,null,{"$f":"IFERROR(VLOOKUP(ROWS($AE$2:AE371),P371:Q2274,2,0),\"\")","v":""},null,null,null,null,{"$f":"IFERROR(VLOOKUP(ROWS($AJ$2:AJ371),O371:Q2274,3,0),\"\")","v":""},null,{"$f":"IFERROR(VLOOKUP(ROWS(AL$2:$AL371),N371:Q2274,4,0),\"\")","v":""}]
[null,null,null,null,null,null,null,null,null,null,null,null,null,{"$f":"IF(ISNUMBER(SEARCH($H$16,Q372)),MAX($N$1:N371)+1,0)","v":0},{"$f":"IF(ISNUMBER(SEARCH($H$11,Q372)),MAX($O$1:O371)+1,0)","v":0},{"$f":"IF(ISNUMBER(SEARCH($H$6,Q372)),MAX($P$1:P371)+1,0)","v":0},"dsp br natural resources rp","MDS160","Thematic - Infrastructure",null,null,null,null,null,null,null,null,null,null,null,{"$f":"IFERROR(VLOOKUP(ROWS($AE$2:AE372),P372:Q2275,2,0),\"\")","v":""},null,null,null,null,{"$f":"IFERROR(VLOOKUP(ROWS($AJ$2:AJ372),O372:Q2275,3,0),\"\")","v":""},null,{"$f":"IFERROR(VLOOKUP(ROWS(AL$2:$AL372),N372:Q2275,4,0),\"\")","v":""}]
[null,null,null,null,null,null,null,null,null,null,null,null,null,{"$f":"IF(ISNUMBER(SEARCH($H$16,Q373)),MAX($N$1:N372)+1,0)","v":0},{"$f":"IF(ISNUMBER(SEARCH($H$11,Q373)),MAX($O$1:O372)+1,0)","v":0},{"$f":"IF(ISNUMBER(SEARCH($H$6,Q373)),MAX($P$1:P372)+1,0)","v":0},"escorts infrastructure","MES025","Thematic - Infrastructure",null,null,null,null,null,null,null,null,null,null,null,{"$f":"IFERROR(VLOOKUP(ROWS($AE$2:AE373),P373:Q2276,2,0),\"\")","v":""},null,null,null,null,{"$f":"IFERROR(VLOOKUP(ROWS($AJ$2:AJ373),O373:Q2276,3,0),\"\")","v":""},null,{"$f":"IFERROR(VLOOKUP(ROWS(AL$2:$AL373),N373:Q2276,4,0),\"\")","v":""}]
[null,null,null,null,null,null,null,null,null,null,null,null,null,{"$f":"IF(ISNUMBER(SEARCH($H$16,Q374)),MAX($N$1:N373)+1,0)","v":0},{"$f":"IF(ISNUMBER(SEARCH($H$11,Q374)),MAX($O$1:O373)+1,0)","v":0},{"$f":"IF(ISNUMBER(SEARCH($H$6,Q374)),MAX($P$1:P373)+1,0)","v":0},"escorts power and energy","MES033","Thematic - Infrastructure",null,null,null,null,null,null,null,null,null,null,null,{"$f":"IFERROR(VLOOKUP(ROWS($AE$2:AE374),P374:Q2277,2,0),\"\")","v":""},null,null,null,null,{"$f":"IFERROR(VLOOKUP(ROWS($AJ$2:AJ374),O374:Q2277,3,0),\"\")","v":""},null,{"$f":"IFERROR(VLOOKUP(ROWS(AL$2:$AL374),N374:Q2277,4,0),\"\")","v":""}]
[null,null,null,null,null,null,null,null,null,null,null,null,null,{"$f":"IF(ISNUMBER(SEARCH($H$16,Q375)),MAX($N$1:N374)+1,0)","v":0},{"$f":"IF(ISNUMBER(SEARCH($H$11,Q375)),MAX($O$1:O374)+1,0)","v":0},{"$f":"IF(ISNUMBER(SEARCH($H$6,Q375)),MAX($P$1:P374)+1,0)","v":0},"franklin build india fund","MTE266","Thematic - Infrastructure",null,null,null,null,null,null,null,null,null,null,null,{"$f":"IFERROR(VLOOKUP(ROWS($AE$2:AE375),P375:Q2278,2,0),\"\")","v":""},null,null,null,null,{"$f":"IFERROR(VLOOKUP(ROWS($AJ$2:AJ375),O375:Q2278,3,0),\"\")","v":""},null,{"$f":"IFERROR(VLOOKUP(ROWS(AL$2:$AL375),N375:Q2278,4,0),\"\")","v":""}]
[null,null,null,null,null,null,null,null,null,null,null,null,null,{"$f":"IF(ISNUMBER(SEARCH($H$16,Q376)),MAX($N$1:N375)+1,0)","v":0},{"$f":"IF(ISNUMBER(SEARCH($H$11,Q376)),MAX($O$1:O375)+1,0)","v":0},{"$f":"IF(ISNUMBER(SEARCH($H$6,Q376)),MAX($P$1:P375)+1,0)","v":0},"gs infra bees","MBM030","Thematic - Infrastructure",null,null,null,null,null,null,null,null,null,null,null,{"$f":"IFERROR(VLOOKUP(ROWS($AE$2:AE376),P376:Q2279,2,0),\"\")","v":""},null,null,null,null,{"$f":"IFERROR(VLOOKUP(ROWS($AJ$2:AJ376),O376:Q2279,3,0),\"\")","v":""},null,{"$f":"IFERROR(VLOOKUP(ROWS(AL$2:$AL376),N376:Q2279,4,0),\"\")","v":""}]
[null,null,null,null,null,null,null,null,null,null,null,null,null,{"$f":"IF(ISNUMBER(SEARCH($H$16,Q377)),MAX($N$1:N376)+1,0)","v":0},{"$f":"IF(ISNUMBER(SEARCH($H$11,Q377)),MAX($O$1:O376)+1,0)","v":0},{"$f":"IF(ISNUMBER(SEARCH($H$6,Q377)),MAX($P$1:P376)+1,0)","v":0},"hdfc infrastructure fund","MHD283","Thematic - Infrastructure",null,null,null,null,null,null,null,null,null,null,null,{"$f":"IFERROR(VLOOKUP(ROWS($AE$2:AE377),P377:Q2280,2,0),\"\")","v":""},null,null,null,null,{"$f":"IFERROR(VLOOKUP(ROWS($AJ$2:AJ377),O377:Q2280,3,0),\"\")","v":""},null,{"$f":"IFERROR(VLOOKUP(ROWS(AL$2:$AL377),N377:Q2280,4,0),\"\")","v":""}]
[null,null,null,null,null,null,null,null,null,null,null,null,null,{"$f":"IF(ISNUMBER(SEARCH($H$16,Q378)),MAX($N$1:N377)+1,0)","v":0},{"$f":"IF(ISNUMBER(SEARCH($H$11,Q378)),MAX($O$1:O377)+1,0)","v":0},{"$f":"IF(ISNUMBER(SEARCH($H$6,Q378)),MAX($P$1:P377)+1,0)","v":0},"hsbc progressive themes","MHS052","Thematic - Infrastructure",null,null,null,null,null,null,null,null,null,null,null,{"$f":"IFERROR(VLOOKUP(ROWS($AE$2:AE378),P378:Q2281,2,0),\"\")","v":""},null,null,null,null,{"$f":"IFERROR(VLOOKUP(ROWS($AJ$2:AJ378),O378:Q2281,3,0),\"\")","v":""},null,{"$f":"IFERROR(VLOOKUP(ROWS(AL$2:$AL378),N378:Q2281,4,0),\"\")","v":""}]
[null,null,null,null,null,null,null,null,null,null,null,null,null,{"$f":"IF(ISNUMBER(SEARCH($H$16,Q379)),MAX($N$1:N378)+1,0)","v":0},{"$f":"IF(ISNUMBER(SEARCH($H$11,Q379)),MAX($O$1:O378)+1,0)","v":0},{"$f":"IF(ISNUMBER(SEARCH($H$6,Q379)),MAX($P$1:P378)+1,0)","v":0},"icici pru infrastructure","MPI108","Thematic - Infrastructure",null,null,null,null,null,null,null,null,null,null,null,{"$f":"IFERROR(VLOOKUP(ROWS($AE$2:AE379),P379:Q2282,2,0),\"\")","v":""},null,null,null,null,{"$f":"IFERROR(VLOOKUP(ROWS($AJ$2:AJ379),O379:Q2282,3,0),\"\")","v":""},null,{"$f":"IFERROR(VLOOKUP(ROWS(AL$2:$AL379),N379:Q2282,4,0),\"\")","v":""}]
[null,null,null,null,null,null,null,null,null,null,null,null,null,{"$f":"IF(ISNUMBER(SEARCH($H$16,Q380)),MAX($N$1:N379)+1,0)","v":0},{"$f":"IF(ISNUMBER(SEARCH($H$11,Q380)),MAX($O$1:O379)+1,0)","v":0},{"$f":"IF(ISNUMBER(SEARCH($H$6,Q380)),MAX($P$1:P379)+1,0)","v":0},"icici pru infrastructure inst ","MPI149","Thematic - Infrastructure",null,null,null,null,null,null,null,null,null,null,null,{"$f":"IFERROR(VLOOKUP(ROWS($AE$2:AE380),P380:Q2283,2,0),\"\")","v":""},null,null,null,null,{"$f":"IFERROR(VLOOKUP(ROWS($AJ$2:AJ380),O380:Q2283,3,0),\"\")","v":""},null,{"$f":"IFERROR(VLOOKUP(ROWS(AL$2:$AL380),N380:Q2283,4,0),\"\")","v":""}]
[null,null,null,null,null,null,null,null,null,null,null,null,null,{"$f":"IF(ISNUMBER(SEARCH($H$16,Q381)),MAX($N$1:N380)+1,0)","v":0},{"$f":"IF(ISNUMBER(SEARCH($H$11,Q381)),MAX($O$1:O380)+1,0)","v":0},{"$f":"IF(ISNUMBER(SEARCH($H$6,Q381)),MAX($P$1:P380)+1,0)","v":0},"idfc infrastructure plan a","MAG446","Thematic - Infrastructure",null,null,null,null,null,null,null,null,null,null,null,{"$f":"IFERROR(VLOOKUP(ROWS($AE$2:AE381),P381:Q2284,2,0),\"\")","v":""},null,null,null,null,{"$f":"IFERROR(VLOOKUP(ROWS($AJ$2:AJ381),O381:Q2284,3,0),\"\")","v":""},null,{"$f":"IFERROR(VLOOKUP(ROWS(AL$2:$AL381),N381:Q2284,4,0),\"\")","v":""}]
[null,null,null,null,null,null,null,null,null,null,null,null,null,{"$f":"IF(ISNUMBER(SEARCH($H$16,Q382)),MAX($N$1:N381)+1,0)","v":0},{"$f":"IF(ISNUMBER(SEARCH($H$11,Q382)),MAX($O$1:O381)+1,0)","v":0},{"$f":"IF(ISNUMBER(SEARCH($H$6,Q382)),MAX($P$1:P381)+1,0)","v":0},"jm basic fund","MJM124","Thematic - Infrastructure",null,null,null,null,null,null,null,null,null,null,null,{"$f":"IFERROR(VLOOKUP(ROWS($AE$2:AE382),P382:Q2285,2,0),\"\")","v":""},null,null,null,null,{"$f":"IFERROR(VLOOKUP(ROWS($AJ$2:AJ382),O382:Q2285,3,0),\"\")","v":""},null,{"$f":"IFERROR(VLOOKUP(ROWS(AL$2:$AL382),N382:Q2285,4,0),\"\")","v":""}]
[null,null,null,null,null,null,null,null,null,null,null,null,null,{"$f":"IF(ISNUMBER(SEARCH($H$16,Q383)),MAX($N$1:N382)+1,0)","v":0},{"$f":"IF(ISNUMBER(SEARCH($H$11,Q383)),MAX($O$1:O382)+1,0)","v":0},{"$f":"IF(ISNUMBER(SEARCH($H$6,Q383)),MAX($P$1:P382)+1,0)","v":0},"kotak infras eco reform standard","MAI041","Thematic - Infrastructure",null,null,null,null,null,null,null,null,null,null,null,{"$f":"IFERROR(VLOOKUP(ROWS($AE$2:AE383),P383:Q2286,2,0),\"\")","v":""},null,null,null,null,{"$f":"IFERROR(VLOOKUP(ROWS($AJ$2:AJ383),O383:Q2286,3,0),\"\")","v":""},null,{"$f":"IFERROR(VLOOKUP(ROWS(AL$2:$AL383),N383:Q2286,4,0),\"\")","v":""}]
[null,null,null,null,null,null,null,null,null,null,null,null,null,{"$f":"IF(ISNUMBER(SEARCH($H$16,Q384)),MAX($N$1:N383)+1,0)","v":0},{"$f":"IF(ISNUMBER(SEARCH($H$11,Q384)),MAX($O$1:O383)+1,0)","v":0},{"$f":"IF(ISNUMBER(SEARCH($H$6,Q384)),MAX($P$1:P383)+1,0)","v":0},"lic infrastructure sr 1","MJB094","Thematic - Infrastructure",null,null,null,null,null,null,null,null,null,null,null,{"$f":"IFERROR(VLOOKUP(ROWS($AE$2:AE384),P384:Q2287,2,0),\"\")","v":""},null,null,null,null,{"$f":"IFERROR(VLOOKUP(ROWS($AJ$2:AJ384),O384:Q2287,3,0),\"\")","v":""},null,{"$f":"IFERROR(VLOOKUP(ROWS(AL$2:$AL384),N384:Q2287,4,0),\"\")","v":""}]
[null,null,null,null,null,null,null,null,null,null,null,null,null,{"$f":"IF(ISNUMBER(SEARCH($H$16,Q385)),MAX($N$1:N384)+1,0)","v":0},{"$f":"IF(ISNUMBER(SEARCH($H$11,Q385)),MAX($O$1:O384)+1,0)","v":0},{"$f":"IF(ISNUMBER(SEARCH($H$6,Q385)),MAX($P$1:P384)+1,0)","v":0},"l t infrastructure","MCC081","Thematic - Infrastructure",null,null,null,null,null,null,null,null,null,null,null,{"$f":"IFERROR(VLOOKUP(ROWS($AE$2:AE385),P385:Q2288,2,0),\"\")","v":""},null,null,null,null,{"$f":"IFERROR(VLOOKUP(ROWS($AJ$2:AJ385),O385:Q2288,3,0),\"\")","v":""},null,{"$f":"IFERROR(VLOOKUP(ROWS(AL$2:$AL385),N385:Q2288,4,0),\"\")","v":""}]
[null,null,null,null,null,null,null,null,null,null,null,null,null,{"$f":"IF(ISNUMBER(SEARCH($H$16,Q386)),MAX($N$1:N385)+1,0)","v":0},{"$f":"IF(ISNUMBER(SEARCH($H$11,Q386)),MAX($O$1:O385)+1,0)","v":0},{"$f":"IF(ISNUMBER(SEARCH($H$6,Q386)),MAX($P$1:P385)+1,0)","v":0},"reliance diver power rp","MRC055","Thematic - Infrastructure",null,null,null,null,null,null,null,null,null,null,null,{"$f":"IFERROR(VLOOKUP(ROWS($AE$2:AE386),P386:Q2289,2,0),\"\")","v":""},null,null,null,null,{"$f":"IFERROR(VLOOKUP(ROWS($AJ$2:AJ386),O386:Q2289,3,0),\"\")","v":""},null,{"$f":"IFERROR(VLOOKUP(ROWS(AL$2:$AL386),N386:Q2289,4,0),\"\")","v":""}]
[null,null,null,null,null,null,null,null,null,null,null,null,null,{"$f":"IF(ISNUMBER(SEARCH($H$16,Q387)),MAX($N$1:N386)+1,0)","v":0},{"$f":"IF(ISNUMBER(SEARCH($H$11,Q387)),MAX($O$1:O386)+1,0)","v":0},{"$f":"IF(ISNUMBER(SEARCH($H$6,Q387)),MAX($P$1:P386)+1,0)","v":0},"religare invesco infrastructure","MLI139","Thematic - Infrastructure",null,null,null,null,null,null,null,null,null,null,null,{"$f":"IFERROR(VLOOKUP(ROWS($AE$2:AE387),P387:Q2290,2,0),\"\")","v":""},null,null,null,null,{"$f":"IFERROR(VLOOKUP(ROWS($AJ$2:AJ387),O387:Q2290,3,0),\"\")","v":""},null,{"$f":"IFERROR(VLOOKUP(ROWS(AL$2:$AL387),N387:Q2290,4,0),\"\")","v":""}]
[null,null,null,null,null,null,null,null,null,null,null,null,null,{"$f":"IF(ISNUMBER(SEARCH($H$16,Q388)),MAX($N$1:N387)+1,0)","v":0},{"$f":"IF(ISNUMBER(SEARCH($H$11,Q388)),MAX($O$1:O387)+1,0)","v":0},{"$f":"IF(ISNUMBER(SEARCH($H$6,Q388)),MAX($P$1:P387)+1,0)","v":0},"sahara infrastructure fpo","MFI021","Thematic - Infrastructure",null,null,null,null,null,null,null,null,null,null,null,{"$f":"IFERROR(VLOOKUP(ROWS($AE$2:AE388),P388:Q2291,2,0),\"\")","v":""},null,null,null,null,{"$f":"IFERROR(VLOOKUP(ROWS($AJ$2:AJ388),O388:Q2291,3,0),\"\")","v":""},null,{"$f":"IFERROR(VLOOKUP(ROWS(AL$2:$AL388),N388:Q2291,4,0),\"\")","v":""}]
[null,null,null,null,null,null,null,null,null,null,null,null,null,{"$f":"IF(ISNUMBER(SEARCH($H$16,Q389)),MAX($N$1:N388)+1,0)","v":0},{"$f":"IF(ISNUMBER(SEARCH($H$11,Q389)),MAX($O$1:O388)+1,0)","v":0},{"$f":"IF(ISNUMBER(SEARCH($H$6,Q389)),MAX($P$1:P388)+1,0)","v":0},"sahara infrastructure vpo","MFI023","Thematic - Infrastructure",null,null,null,null,null,null,null,null,null,null,null,{"$f":"IFERROR(VLOOKUP(ROWS($AE$2:AE389),P389:Q2292,2,0),\"\")","v":""},null,null,null,null,{"$f":"IFERROR(VLOOKUP(ROWS($AJ$2:AJ389),O389:Q2292,3,0),\"\")","v":""},null,{"$f":"IFERROR(VLOOKUP(ROWS(AL$2:$AL389),N389:Q2292,4,0),\"\")","v":""}]
[null,null,null,null,null,null,null,null,null,null,null,null,null,{"$f":"IF(ISNUMBER(SEARCH($H$16,Q390)),MAX($N$1:N389)+1,0)","v":0},{"$f":"IF(ISNUMBER(SEARCH($H$11,Q390)),MAX($O$1:O389)+1,0)","v":0},{"$f":"IF(ISNUMBER(SEARCH($H$6,Q390)),MAX($P$1:P389)+1,0)","v":0},"sahara power natural res ","MFI051","Thematic - Infrastructure",null,null,null,null,null,null,null,null,null,null,null,{"$f":"IFERROR(VLOOKUP(ROWS($AE$2:AE390),P390:Q2293,2,0),\"\")","v":""},null,null,null,null,{"$f":"IFERROR(VLOOKUP(ROWS($AJ$2:AJ390),O390:Q2293,3,0),\"\")","v":""},null,{"$f":"IFERROR(VLOOKUP(ROWS(AL$2:$AL390),N390:Q2293,4,0),\"\")","v":""}]
[null,null,null,null,null,null,null,null,null,null,null,null,null,{"$f":"IF(ISNUMBER(SEARCH($H$16,Q391)),MAX($N$1:N390)+1,0)","v":0},{"$f":"IF(ISNUMBER(SEARCH($H$11,Q391)),MAX($O$1:O390)+1,0)","v":0},{"$f":"IF(ISNUMBER(SEARCH($H$6,Q391)),MAX($P$1:P390)+1,0)","v":0},"sbi infrastructure sr i","MSB091","Thematic - Infrastructure",null,null,null,null,null,null,null,null,null,null,null,{"$f":"IFERROR(VLOOKUP(ROWS($AE$2:AE391),P391:Q2294,2,0),\"\")","v":""},null,null,null,null,{"$f":"IFERROR(VLOOKUP(ROWS($AJ$2:AJ391),O391:Q2294,3,0),\"\")","v":""},null,{"$f":"IFERROR(VLOOKUP(ROWS(AL$2:$AL391),N391:Q2294,4,0),\"\")","v":""}]
[null,null,null,null,null,null,null,null,null,null,null,null,null,{"$f":"IF(ISNUMBER(SEARCH($H$16,Q392)),MAX($N$1:N391)+1,0)","v":0},{"$f":"IF(ISNUMBER(SEARCH($H$11,Q392)),MAX($O$1:O391)+1,0)","v":0},{"$f":"IF(ISNUMBER(SEARCH($H$6,Q392)),MAX($P$1:P391)+1,0)","v":0},"sundaram infrastructure adv dp","MSN555","Thematic - Infrastructure",null,null,null,null,null,null,null,null,null,null,null,{"$f":"IFERROR(VLOOKUP(ROWS($AE$2:AE392),P392:Q2295,2,0),\"\")","v":""},null,null,null,null,{"$f":"IFERROR(VLOOKUP(ROWS($AJ$2:AJ392),O392:Q2295,3,0),\"\")","v":""},null,{"$f":"IFERROR(VLOOKUP(ROWS(AL$2:$AL392),N392:Q2295,4,0),\"\")","v":""}]
[null,null,null,null,null,null,null,null,null,null,null,null,null,{"$f":"IF(ISNUMBER(SEARCH($H$16,Q393)),MAX($N$1:N392)+1,0)","v":0},{"$f":"IF(ISNUMBER(SEARCH($H$11,Q393)),MAX($O$1:O392)+1,0)","v":0},{"$f":"IF(ISNUMBER(SEARCH($H$6,Q393)),MAX($P$1:P392)+1,0)","v":0},"sundaram infrastructure adv rp","MSN083","Thematic - Infrastructure",null,null,null,null,null,null,null,null,null,null,null,{"$f":"IFERROR(VLOOKUP(ROWS($AE$2:AE393),P393:Q2296,2,0),\"\")","v":""},null,null,null,null,{"$f":"IFERROR(VLOOKUP(ROWS($AJ$2:AJ393),O393:Q2296,3,0),\"\")","v":""},null,{"$f":"IFERROR(VLOOKUP(ROWS(AL$2:$AL393),N393:Q2296,4,0),\"\")","v":""}]
[null,null,null,null,null,null,null,null,null,null,null,null,null,{"$f":"IF(ISNUMBER(SEARCH($H$16,Q394)),MAX($N$1:N393)+1,0)","v":0},{"$f":"IF(ISNUMBER(SEARCH($H$11,Q394)),MAX($O$1:O393)+1,0)","v":0},{"$f":"IF(ISNUMBER(SEARCH($H$6,Q394)),MAX($P$1:P393)+1,0)","v":0},"tata infrastructure fund regular","MTA131","Thematic - Infrastructure",null,null,null,null,null,null,null,null,null,null,null,{"$f":"IFERROR(VLOOKUP(ROWS($AE$2:AE394),P394:Q2297,2,0),\"\")","v":""},null,null,null,null,{"$f":"IFERROR(VLOOKUP(ROWS($AJ$2:AJ394),O394:Q2297,3,0),\"\")","v":""},null,{"$f":"IFERROR(VLOOKUP(ROWS(AL$2:$AL394),N394:Q2297,4,0),\"\")","v":""}]
[null,null,null,null,null,null,null,null,null,null,null,null,null,{"$f":"IF(ISNUMBER(SEARCH($H$16,Q395)),MAX($N$1:N394)+1,0)","v":0},{"$f":"IF(ISNUMBER(SEARCH($H$11,Q395)),MAX($O$1:O394)+1,0)","v":0},{"$f":"IF(ISNUMBER(SEARCH($H$6,Q395)),MAX($P$1:P394)+1,0)","v":0},"taurus infrastructure","MCM012","Thematic - Infrastructure",null,null,null,null,null,null,null,null,null,null,null,{"$f":"IFERROR(VLOOKUP(ROWS($AE$2:AE395),P395:Q2298,2,0),\"\")","v":""},null,null,null,null,{"$f":"IFERROR(VLOOKUP(ROWS($AJ$2:AJ395),O395:Q2298,3,0),\"\")","v":""},null,{"$f":"IFERROR(VLOOKUP(ROWS(AL$2:$AL395),N395:Q2298,4,0),\"\")","v":""}]
[null,null,null,null,null,null,null,null,null,null,null,null,null,{"$f":"IF(ISNUMBER(SEARCH($H$16,Q396)),MAX($N$1:N395)+1,0)","v":0},{"$f":"IF(ISNUMBER(SEARCH($H$11,Q396)),MAX($O$1:O395)+1,0)","v":0},{"$f":"IF(ISNUMBER(SEARCH($H$6,Q396)),MAX($P$1:P395)+1,0)","v":0},"uti infrastructure fund","MUT065","Thematic - Infrastructure",null,null,null,null,null,null,null,null,null,null,null,{"$f":"IFERROR(VLOOKUP(ROWS($AE$2:AE396),P396:Q2299,2,0),\"\")","v":""},null,null,null,null,{"$f":"IFERROR(VLOOKUP(ROWS($AJ$2:AJ396),O396:Q2299,3,0),\"\")","v":""},null,{"$f":"IFERROR(VLOOKUP(ROWS(AL$2:$AL396),N396:Q2299,4,0),\"\")","v":""}]
[null,null,null,null,null,null,null,null,null,null,null,null,null,{"$f":"IF(ISNUMBER(SEARCH($H$16,Q397)),MAX($N$1:N396)+1,0)","v":0},{"$f":"IF(ISNUMBER(SEARCH($H$11,Q397)),MAX($O$1:O396)+1,0)","v":0},{"$f":"IF(ISNUMBER(SEARCH($H$6,Q397)),MAX($P$1:P396)+1,0)","v":0},"axis long term equity fund","MAA011","ELSS",null,null,null,null,null,null,null,null,null,null,null,{"$f":"IFERROR(VLOOKUP(ROWS($AE$2:AE397),P397:Q2300,2,0),\"\")","v":""},null,null,null,null,{"$f":"IFERROR(VLOOKUP(ROWS($AJ$2:AJ397),O397:Q2300,3,0),\"\")","v":""},null,{"$f":"IFERROR(VLOOKUP(ROWS(AL$2:$AL397),N397:Q2300,4,0),\"\")","v":""}]
[null,null,null,null,null,null,null,null,null,null,null,null,null,{"$f":"IF(ISNUMBER(SEARCH($H$16,Q398)),MAX($N$1:N397)+1,0)","v":0},{"$f":"IF(ISNUMBER(SEARCH($H$11,Q398)),MAX($O$1:O397)+1,0)","v":0},{"$f":"IF(ISNUMBER(SEARCH($H$6,Q398)),MAX($P$1:P397)+1,0)","v":0},"baroda pioneer elss 96 plan a","MBO158","ELSS",null,null,null,null,null,null,null,null,null,null,null,{"$f":"IFERROR(VLOOKUP(ROWS($AE$2:AE398),P398:Q2301,2,0),\"\")","v":""},null,null,null,null,{"$f":"IFERROR(VLOOKUP(ROWS($AJ$2:AJ398),O398:Q2301,3,0),\"\")","v":""},null,{"$f":"IFERROR(VLOOKUP(ROWS(AL$2:$AL398),N398:Q2301,4,0),\"\")","v":""}]
[null,null,null,null,null,null,null,null,null,null,null,null,null,{"$f":"IF(ISNUMBER(SEARCH($H$16,Q399)),MAX($N$1:N398)+1,0)","v":0},{"$f":"IF(ISNUMBER(SEARCH($H$11,Q399)),MAX($O$1:O398)+1,0)","v":0},{"$f":"IF(ISNUMBER(SEARCH($H$6,Q399)),MAX($P$1:P398)+1,0)","v":0},"baroda pioneer elss 96 plan a","MBO224","ELSS",null,null,null,null,null,null,null,null,null,null,null,{"$f":"IFERROR(VLOOKUP(ROWS($AE$2:AE399),P399:Q2302,2,0),\"\")","v":""},null,null,null,null,{"$f":"IFERROR(VLOOKUP(ROWS($AJ$2:AJ399),O399:Q2302,3,0),\"\")","v":""},null,{"$f":"IFERROR(VLOOKUP(ROWS(AL$2:$AL399),N399:Q2302,4,0),\"\")","v":""}]
[null,null,null,null,null,null,null,null,null,null,null,null,null,{"$f":"IF(ISNUMBER(SEARCH($H$16,Q400)),MAX($N$1:N399)+1,0)","v":0},{"$f":"IF(ISNUMBER(SEARCH($H$11,Q400)),MAX($O$1:O399)+1,0)","v":0},{"$f":"IF(ISNUMBER(SEARCH($H$6,Q400)),MAX($P$1:P399)+1,0)","v":0},"baroda pioneer elss 96 plan b dir","MBO225","ELSS",null,null,null,null,null,null,null,null,null,null,null,{"$f":"IFERROR(VLOOKUP(ROWS($AE$2:AE400),P400:Q2303,2,0),\"\")","v":""},null,null,null,null,{"$f":"IFERROR(VLOOKUP(ROWS($AJ$2:AJ400),O400:Q2303,3,0),\"\")","v":""},null,{"$f":"IFERROR(VLOOKUP(ROWS(AL$2:$AL400),N400:Q2303,4,0),\"\")","v":""}]
[null,null,null,null,null,null,null,null,null,null,null,null,null,{"$f":"IF(ISNUMBER(SEARCH($H$16,Q401)),MAX($N$1:N400)+1,0)","v":0},{"$f":"IF(ISNUMBER(SEARCH($H$11,Q401)),MAX($O$1:O400)+1,0)","v":0},{"$f":"IF(ISNUMBER(SEARCH($H$6,Q401)),MAX($P$1:P400)+1,0)","v":0},"baroda pioneer elss 96 plan b dir bo ","MBO159","ELSS",null,null,null,null,null,null,null,null,null,null,null,{"$f":"IFERROR(VLOOKUP(ROWS($AE$2:AE401),P401:Q2304,2,0),\"\")","v":""},null,null,null,null,{"$f":"IFERROR(VLOOKUP(ROWS($AJ$2:AJ401),O401:Q2304,3,0),\"\")","v":""},null,{"$f":"IFERROR(VLOOKUP(ROWS(AL$2:$AL401),N401:Q2304,4,0),\"\")","v":""}]
[null,null,null,null,null,null,null,null,null,null,null,null,null,{"$f":"IF(ISNUMBER(SEARCH($H$16,Q402)),MAX($N$1:N401)+1,0)","v":0},{"$f":"IF(ISNUMBER(SEARCH($H$11,Q402)),MAX($O$1:O401)+1,0)","v":0},{"$f":"IF(ISNUMBER(SEARCH($H$6,Q402)),MAX($P$1:P401)+1,0)","v":0},"birla sl tax relief 96","MBS291","ELSS",null,null,null,null,null,null,null,null,null,null,null,{"$f":"IFERROR(VLOOKUP(ROWS($AE$2:AE402),P402:Q2305,2,0),\"\")","v":""},null,null,null,null,{"$f":"IFERROR(VLOOKUP(ROWS($AJ$2:AJ402),O402:Q2305,3,0),\"\")","v":""},null,{"$f":"IFERROR(VLOOKUP(ROWS(AL$2:$AL402),N402:Q2305,4,0),\"\")","v":""}]
[null,null,null,null,null,null,null,null,null,null,null,null,null,{"$f":"IF(ISNUMBER(SEARCH($H$16,Q403)),MAX($N$1:N402)+1,0)","v":0},{"$f":"IF(ISNUMBER(SEARCH($H$11,Q403)),MAX($O$1:O402)+1,0)","v":0},{"$f":"IF(ISNUMBER(SEARCH($H$6,Q403)),MAX($P$1:P402)+1,0)","v":0},"birla sl tax savings","MIN039","ELSS",null,null,null,null,null,null,null,null,null,null,null,{"$f":"IFERROR(VLOOKUP(ROWS($AE$2:AE403),P403:Q2306,2,0),\"\")","v":""},null,null,null,null,{"$f":"IFERROR(VLOOKUP(ROWS($AJ$2:AJ403),O403:Q2306,3,0),\"\")","v":""},null,{"$f":"IFERROR(VLOOKUP(ROWS(AL$2:$AL403),N403:Q2306,4,0),\"\")","v":""}]
[null,null,null,null,null,null,null,null,null,null,null,null,null,{"$f":"IF(ISNUMBER(SEARCH($H$16,Q404)),MAX($N$1:N403)+1,0)","v":0},{"$f":"IF(ISNUMBER(SEARCH($H$11,Q404)),MAX($O$1:O403)+1,0)","v":0},{"$f":"IF(ISNUMBER(SEARCH($H$6,Q404)),MAX($P$1:P403)+1,0)","v":0},"birla sun life tax plan","MBS099","ELSS",null,null,null,null,null,null,null,null,null,null,null,{"$f":"IFERROR(VLOOKUP(ROWS($AE$2:AE404),P404:Q2307,2,0),\"\")","v":""},null,null,null,null,{"$f":"IFERROR(VLOOKUP(ROWS($AJ$2:AJ404),O404:Q2307,3,0),\"\")","v":""},null,{"$f":"IFERROR(VLOOKUP(ROWS(AL$2:$AL404),N404:Q2307,4,0),\"\")","v":""}]
[null,null,null,null,null,null,null,null,null,null,null,null,null,{"$f":"IF(ISNUMBER(SEARCH($H$16,Q405)),MAX($N$1:N404)+1,0)","v":0},{"$f":"IF(ISNUMBER(SEARCH($H$11,Q405)),MAX($O$1:O404)+1,0)","v":0},{"$f":"IF(ISNUMBER(SEARCH($H$6,Q405)),MAX($P$1:P404)+1,0)","v":0},"bnp paribas long term equity","MAB041","ELSS",null,null,null,null,null,null,null,null,null,null,null,{"$f":"IFERROR(VLOOKUP(ROWS($AE$2:AE405),P405:Q2308,2,0),\"\")","v":""},null,null,null,null,{"$f":"IFERROR(VLOOKUP(ROWS($AJ$2:AJ405),O405:Q2308,3,0),\"\")","v":""},null,{"$f":"IFERROR(VLOOKUP(ROWS(AL$2:$AL405),N405:Q2308,4,0),\"\")","v":""}]
[null,null,null,null,null,null,null,null,null,null,null,null,null,{"$f":"IF(ISNUMBER(SEARCH($H$16,Q406)),MAX($N$1:N405)+1,0)","v":0},{"$f":"IF(ISNUMBER(SEARCH($H$11,Q406)),MAX($O$1:O405)+1,0)","v":0},{"$f":"IF(ISNUMBER(SEARCH($H$6,Q406)),MAX($P$1:P405)+1,0)","v":0},"bnp paribas long term equity dp","MAB724","ELSS",null,null,null,null,null,null,null,null,null,null,null,{"$f":"IFERROR(VLOOKUP(ROWS($AE$2:AE406),P406:Q2309,2,0),\"\")","v":""},null,null,null,null,{"$f":"IFERROR(VLOOKUP(ROWS($AJ$2:AJ406),O406:Q2309,3,0),\"\")","v":""},null,{"$f":"IFERROR(VLOOKUP(ROWS(AL$2:$AL406),N406:Q2309,4,0),\"\")","v":""}]
[null,null,null,null,null,null,null,null,null,null,null,null,null,{"$f":"IF(ISNUMBER(SEARCH($H$16,Q407)),MAX($N$1:N406)+1,0)","v":0},{"$f":"IF(ISNUMBER(SEARCH($H$11,Q407)),MAX($O$1:O406)+1,0)","v":0},{"$f":"IF(ISNUMBER(SEARCH($H$6,Q407)),MAX($P$1:P406)+1,0)","v":0},"boi axa tax advtg eco","MBA045","ELSS",null,null,null,null,null,null,null,null,null,null,null,{"$f":"IFERROR(VLOOKUP(ROWS($AE$2:AE407),P407:Q2310,2,0),\"\")","v":""},null,null,null,null,{"$f":"IFERROR(VLOOKUP(ROWS($AJ$2:AJ407),O407:Q2310,3,0),\"\")","v":""},null,{"$f":"IFERROR(VLOOKUP(ROWS(AL$2:$AL407),N407:Q2310,4,0),\"\")","v":""}]
[null,null,null,null,null,null,null,null,null,null,null,null,null,{"$f":"IF(ISNUMBER(SEARCH($H$16,Q408)),MAX($N$1:N407)+1,0)","v":0},{"$f":"IF(ISNUMBER(SEARCH($H$11,Q408)),MAX($O$1:O407)+1,0)","v":0},{"$f":"IF(ISNUMBER(SEARCH($H$6,Q408)),MAX($P$1:P407)+1,0)","v":0},"boi axa tax advtg rp","MBA043","ELSS",null,null,null,null,null,null,null,null,null,null,null,{"$f":"IFERROR(VLOOKUP(ROWS($AE$2:AE408),P408:Q2311,2,0),\"\")","v":""},null,null,null,null,{"$f":"IFERROR(VLOOKUP(ROWS($AJ$2:AJ408),O408:Q2311,3,0),\"\")","v":""},null,{"$f":"IFERROR(VLOOKUP(ROWS(AL$2:$AL408),N408:Q2311,4,0),\"\")","v":""}]
[null,null,null,null,null,null,null,null,null,null,null,null,null,{"$f":"IF(ISNUMBER(SEARCH($H$16,Q409)),MAX($N$1:N408)+1,0)","v":0},{"$f":"IF(ISNUMBER(SEARCH($H$11,Q409)),MAX($O$1:O408)+1,0)","v":0},{"$f":"IF(ISNUMBER(SEARCH($H$6,Q409)),MAX($P$1:P408)+1,0)","v":0},"can robeco eqty taxsaver","MCA152","ELSS",null,null,null,null,null,null,null,null,null,null,null,{"$f":"IFERROR(VLOOKUP(ROWS($AE$2:AE409),P409:Q2312,2,0),\"\")","v":""},null,null,null,null,{"$f":"IFERROR(VLOOKUP(ROWS($AJ$2:AJ409),O409:Q2312,3,0),\"\")","v":""},null,{"$f":"IFERROR(VLOOKUP(ROWS(AL$2:$AL409),N409:Q2312,4,0),\"\")","v":""}]
[null,null,null,null,null,null,null,null,null,null,null,null,null,{"$f":"IF(ISNUMBER(SEARCH($H$16,Q410)),MAX($N$1:N409)+1,0)","v":0},{"$f":"IF(ISNUMBER(SEARCH($H$11,Q410)),MAX($O$1:O409)+1,0)","v":0},{"$f":"IF(ISNUMBER(SEARCH($H$6,Q410)),MAX($P$1:P409)+1,0)","v":0},"dsp brtax saver fund","MDS060","ELSS",null,null,null,null,null,null,null,null,null,null,null,{"$f":"IFERROR(VLOOKUP(ROWS($AE$2:AE410),P410:Q2313,2,0),\"\")","v":""},null,null,null,null,{"$f":"IFERROR(VLOOKUP(ROWS($AJ$2:AJ410),O410:Q2313,3,0),\"\")","v":""},null,{"$f":"IFERROR(VLOOKUP(ROWS(AL$2:$AL410),N410:Q2313,4,0),\"\")","v":""}]
[null,null,null,null,null,null,null,null,null,null,null,null,null,{"$f":"IF(ISNUMBER(SEARCH($H$16,Q411)),MAX($N$1:N410)+1,0)","v":0},{"$f":"IF(ISNUMBER(SEARCH($H$11,Q411)),MAX($O$1:O410)+1,0)","v":0},{"$f":"IF(ISNUMBER(SEARCH($H$6,Q411)),MAX($P$1:P410)+1,0)","v":0},"dws tax saving fund","MDE043","ELSS",null,null,null,null,null,null,null,null,null,null,null,{"$f":"IFERROR(VLOOKUP(ROWS($AE$2:AE411),P411:Q2314,2,0),\"\")","v":""},null,null,null,null,{"$f":"IFERROR(VLOOKUP(ROWS($AJ$2:AJ411),O411:Q2314,3,0),\"\")","v":""},null,{"$f":"IFERROR(VLOOKUP(ROWS(AL$2:$AL411),N411:Q2314,4,0),\"\")","v":""}]
[null,null,null,null,null,null,null,null,null,null,null,null,null,{"$f":"IF(ISNUMBER(SEARCH($H$16,Q412)),MAX($N$1:N411)+1,0)","v":0},{"$f":"IF(ISNUMBER(SEARCH($H$11,Q412)),MAX($O$1:O411)+1,0)","v":0},{"$f":"IF(ISNUMBER(SEARCH($H$6,Q412)),MAX($P$1:P411)+1,0)","v":0},"edelweiss elss fund","MEW039","ELSS",null,null,null,null,null,null,null,null,null,null,null,{"$f":"IFERROR(VLOOKUP(ROWS($AE$2:AE412),P412:Q2315,2,0),\"\")","v":""},null,null,null,null,{"$f":"IFERROR(VLOOKUP(ROWS($AJ$2:AJ412),O412:Q2315,3,0),\"\")","v":""},null,{"$f":"IFERROR(VLOOKUP(ROWS(AL$2:$AL412),N412:Q2315,4,0),\"\")","v":""}]
[null,null,null,null,null,null,null,null,null,null,null,null,null,{"$f":"IF(ISNUMBER(SEARCH($H$16,Q413)),MAX($N$1:N412)+1,0)","v":0},{"$f":"IF(ISNUMBER(SEARCH($H$11,Q413)),MAX($O$1:O412)+1,0)","v":0},{"$f":"IF(ISNUMBER(SEARCH($H$6,Q413)),MAX($P$1:P412)+1,0)","v":0},"escorts tax plan","MES003","ELSS",null,null,null,null,null,null,null,null,null,null,null,{"$f":"IFERROR(VLOOKUP(ROWS($AE$2:AE413),P413:Q2316,2,0),\"\")","v":""},null,null,null,null,{"$f":"IFERROR(VLOOKUP(ROWS($AJ$2:AJ413),O413:Q2316,3,0),\"\")","v":""},null,{"$f":"IFERROR(VLOOKUP(ROWS(AL$2:$AL413),N413:Q2316,4,0),\"\")","v":""}]
[null,null,null,null,null,null,null,null,null,null,null,null,null,{"$f":"IF(ISNUMBER(SEARCH($H$16,Q414)),MAX($N$1:N413)+1,0)","v":0},{"$f":"IF(ISNUMBER(SEARCH($H$11,Q414)),MAX($O$1:O413)+1,0)","v":0},{"$f":"IF(ISNUMBER(SEARCH($H$6,Q414)),MAX($P$1:P413)+1,0)","v":0},"franklin india tax shield","MKP007","ELSS",null,null,null,null,null,null,null,null,null,null,null,{"$f":"IFERROR(VLOOKUP(ROWS($AE$2:AE414),P414:Q2317,2,0),\"\")","v":""},null,null,null,null,{"$f":"IFERROR(VLOOKUP(ROWS($AJ$2:AJ414),O414:Q2317,3,0),\"\")","v":""},null,{"$f":"IFERROR(VLOOKUP(ROWS(AL$2:$AL414),N414:Q2317,4,0),\"\")","v":""}]
[null,null,null,null,null,null,null,null,null,null,null,null,null,{"$f":"IF(ISNUMBER(SEARCH($H$16,Q415)),MAX($N$1:N414)+1,0)","v":0},{"$f":"IF(ISNUMBER(SEARCH($H$11,Q415)),MAX($O$1:O414)+1,0)","v":0},{"$f":"IF(ISNUMBER(SEARCH($H$6,Q415)),MAX($P$1:P414)+1,0)","v":0},"hdfc long term advantage","MHD009","ELSS",null,null,null,null,null,null,null,null,null,null,null,{"$f":"IFERROR(VLOOKUP(ROWS($AE$2:AE415),P415:Q2318,2,0),\"\")","v":""},null,null,null,null,{"$f":"IFERROR(VLOOKUP(ROWS($AJ$2:AJ415),O415:Q2318,3,0),\"\")","v":""},null,{"$f":"IFERROR(VLOOKUP(ROWS(AL$2:$AL415),N415:Q2318,4,0),\"\")","v":""}]
[null,null,null,null,null,null,null,null,null,null,null,null,null,{"$f":"IF(ISNUMBER(SEARCH($H$16,Q416)),MAX($N$1:N415)+1,0)","v":0},{"$f":"IF(ISNUMBER(SEARCH($H$11,Q416)),MAX($O$1:O415)+1,0)","v":0},{"$f":"IF(ISNUMBER(SEARCH($H$6,Q416)),MAX($P$1:P415)+1,0)","v":0},"hdfc tax saver","MZU017","ELSS",null,null,null,null,null,null,null,null,null,null,null,{"$f":"IFERROR(VLOOKUP(ROWS($AE$2:AE416),P416:Q2319,2,0),\"\")","v":""},null,null,null,null,{"$f":"IFERROR(VLOOKUP(ROWS($AJ$2:AJ416),O416:Q2319,3,0),\"\")","v":""},null,{"$f":"IFERROR(VLOOKUP(ROWS(AL$2:$AL416),N416:Q2319,4,0),\"\")","v":""}]
[null,null,null,null,null,null,null,null,null,null,null,null,null,{"$f":"IF(ISNUMBER(SEARCH($H$16,Q417)),MAX($N$1:N416)+1,0)","v":0},{"$f":"IF(ISNUMBER(SEARCH($H$11,Q417)),MAX($O$1:O416)+1,0)","v":0},{"$f":"IF(ISNUMBER(SEARCH($H$6,Q417)),MAX($P$1:P416)+1,0)","v":0},"hsbc tax saver equity fund","MHS069","ELSS",null,null,null,null,null,null,null,null,null,null,null,{"$f":"IFERROR(VLOOKUP(ROWS($AE$2:AE417),P417:Q2320,2,0),\"\")","v":""},null,null,null,null,{"$f":"IFERROR(VLOOKUP(ROWS($AJ$2:AJ417),O417:Q2320,3,0),\"\")","v":""},null,{"$f":"IFERROR(VLOOKUP(ROWS(AL$2:$AL417),N417:Q2320,4,0),\"\")","v":""}]
[null,null,null,null,null,null,null,null,null,null,null,null,null,{"$f":"IF(ISNUMBER(SEARCH($H$16,Q418)),MAX($N$1:N417)+1,0)","v":0},{"$f":"IF(ISNUMBER(SEARCH($H$11,Q418)),MAX($O$1:O417)+1,0)","v":0},{"$f":"IF(ISNUMBER(SEARCH($H$6,Q418)),MAX($P$1:P417)+1,0)","v":0},"icici pru right fund","MPI691","ELSS",null,null,null,null,null,null,null,null,null,null,null,{"$f":"IFERROR(VLOOKUP(ROWS($AE$2:AE418),P418:Q2321,2,0),\"\")","v":""},null,null,null,null,{"$f":"IFERROR(VLOOKUP(ROWS($AJ$2:AJ418),O418:Q2321,3,0),\"\")","v":""},null,{"$f":"IFERROR(VLOOKUP(ROWS(AL$2:$AL418),N418:Q2321,4,0),\"\")","v":""}]
[null,null,null,null,null,null,null,null,null,null,null,null,null,{"$f":"IF(ISNUMBER(SEARCH($H$16,Q419)),MAX($N$1:N418)+1,0)","v":0},{"$f":"IF(ISNUMBER(SEARCH($H$11,Q419)),MAX($O$1:O418)+1,0)","v":0},{"$f":"IF(ISNUMBER(SEARCH($H$6,Q419)),MAX($P$1:P418)+1,0)","v":0},"icici pru tax plan","MPI007","ELSS",null,null,null,null,null,null,null,null,null,null,null,{"$f":"IFERROR(VLOOKUP(ROWS($AE$2:AE419),P419:Q2322,2,0),\"\")","v":""},null,null,null,null,{"$f":"IFERROR(VLOOKUP(ROWS($AJ$2:AJ419),O419:Q2322,3,0),\"\")","v":""},null,{"$f":"IFERROR(VLOOKUP(ROWS(AL$2:$AL419),N419:Q2322,4,0),\"\")","v":""}]
[null,null,null,null,null,null,null,null,null,null,null,null,null,{"$f":"IF(ISNUMBER(SEARCH($H$16,Q420)),MAX($N$1:N419)+1,0)","v":0},{"$f":"IF(ISNUMBER(SEARCH($H$11,Q420)),MAX($O$1:O419)+1,0)","v":0},{"$f":"IF(ISNUMBER(SEARCH($H$6,Q420)),MAX($P$1:P419)+1,0)","v":0},"idbi equity advantage reg","MIB142","ELSS",null,null,null,null,null,null,null,null,null,null,null,{"$f":"IFERROR(VLOOKUP(ROWS($AE$2:AE420),P420:Q2323,2,0),\"\")","v":""},null,null,null,null,{"$f":"IFERROR(VLOOKUP(ROWS($AJ$2:AJ420),O420:Q2323,3,0),\"\")","v":""},null,{"$f":"IFERROR(VLOOKUP(ROWS(AL$2:$AL420),N420:Q2323,4,0),\"\")","v":""}]
[null,null,null,null,null,null,null,null,null,null,null,null,null,{"$f":"IF(ISNUMBER(SEARCH($H$16,Q421)),MAX($N$1:N420)+1,0)","v":0},{"$f":"IF(ISNUMBER(SEARCH($H$11,Q421)),MAX($O$1:O420)+1,0)","v":0},{"$f":"IF(ISNUMBER(SEARCH($H$6,Q421)),MAX($P$1:P420)+1,0)","v":0},"idfc tax advantage elss rp","MAG303","ELSS",null,null,null,null,null,null,null,null,null,null,null,{"$f":"IFERROR(VLOOKUP(ROWS($AE$2:AE421),P421:Q2324,2,0),\"\")","v":""},null,null,null,null,{"$f":"IFERROR(VLOOKUP(ROWS($AJ$2:AJ421),O421:Q2324,3,0),\"\")","v":""},null,{"$f":"IFERROR(VLOOKUP(ROWS(AL$2:$AL421),N421:Q2324,4,0),\"\")","v":""}]
[null,null,null,null,null,null,null,null,null,null,null,null,null,{"$f":"IF(ISNUMBER(SEARCH($H$16,Q422)),MAX($N$1:N421)+1,0)","v":0},{"$f":"IF(ISNUMBER(SEARCH($H$11,Q422)),MAX($O$1:O421)+1,0)","v":0},{"$f":"IF(ISNUMBER(SEARCH($H$6,Q422)),MAX($P$1:P421)+1,0)","v":0},"idfc tax saver fund","MAG123","ELSS",null,null,null,null,null,null,null,null,null,null,null,{"$f":"IFERROR(VLOOKUP(ROWS($AE$2:AE422),P422:Q2325,2,0),\"\")","v":""},null,null,null,null,{"$f":"IFERROR(VLOOKUP(ROWS($AJ$2:AJ422),O422:Q2325,3,0),\"\")","v":""},null,{"$f":"IFERROR(VLOOKUP(ROWS(AL$2:$AL422),N422:Q2325,4,0),\"\")","v":""}]
[null,null,null,null,null,null,null,null,null,null,null,null,null,{"$f":"IF(ISNUMBER(SEARCH($H$16,Q423)),MAX($N$1:N422)+1,0)","v":0},{"$f":"IF(ISNUMBER(SEARCH($H$11,Q423)),MAX($O$1:O422)+1,0)","v":0},{"$f":"IF(ISNUMBER(SEARCH($H$6,Q423)),MAX($P$1:P422)+1,0)","v":0},"jm tax gain fund","MJM157","ELSS",null,null,null,null,null,null,null,null,null,null,null,{"$f":"IFERROR(VLOOKUP(ROWS($AE$2:AE423),P423:Q2326,2,0),\"\")","v":""},null,null,null,null,{"$f":"IFERROR(VLOOKUP(ROWS($AJ$2:AJ423),O423:Q2326,3,0),\"\")","v":""},null,{"$f":"IFERROR(VLOOKUP(ROWS(AL$2:$AL423),N423:Q2326,4,0),\"\")","v":""}]
[null,null,null,null,null,null,null,null,null,null,null,null,null,{"$f":"IF(ISNUMBER(SEARCH($H$16,Q424)),MAX($N$1:N423)+1,0)","v":0},{"$f":"IF(ISNUMBER(SEARCH($H$11,Q424)),MAX($O$1:O423)+1,0)","v":0},{"$f":"IF(ISNUMBER(SEARCH($H$6,Q424)),MAX($P$1:P423)+1,0)","v":0},"jpmorgan tax advantage","MJP031","ELSS",null,null,null,null,null,null,null,null,null,null,null,{"$f":"IFERROR(VLOOKUP(ROWS($AE$2:AE424),P424:Q2327,2,0),\"\")","v":""},null,null,null,null,{"$f":"IFERROR(VLOOKUP(ROWS($AJ$2:AJ424),O424:Q2327,3,0),\"\")","v":""},null,{"$f":"IFERROR(VLOOKUP(ROWS(AL$2:$AL424),N424:Q2327,4,0),\"\")","v":""}]
[null,null,null,null,null,null,null,null,null,null,null,null,null,{"$f":"IF(ISNUMBER(SEARCH($H$16,Q425)),MAX($N$1:N424)+1,0)","v":0},{"$f":"IF(ISNUMBER(SEARCH($H$11,Q425)),MAX($O$1:O424)+1,0)","v":0},{"$f":"IF(ISNUMBER(SEARCH($H$6,Q425)),MAX($P$1:P424)+1,0)","v":0},"kotak tax saver regular","MKM081","ELSS",null,null,null,null,null,null,null,null,null,null,null,{"$f":"IFERROR(VLOOKUP(ROWS($AE$2:AE425),P425:Q2328,2,0),\"\")","v":""},null,null,null,null,{"$f":"IFERROR(VLOOKUP(ROWS($AJ$2:AJ425),O425:Q2328,3,0),\"\")","v":""},null,{"$f":"IFERROR(VLOOKUP(ROWS(AL$2:$AL425),N425:Q2328,4,0),\"\")","v":""}]
[null,null,null,null,null,null,null,null,null,null,null,null,null,{"$f":"IF(ISNUMBER(SEARCH($H$16,Q426)),MAX($N$1:N425)+1,0)","v":0},{"$f":"IF(ISNUMBER(SEARCH($H$11,Q426)),MAX($O$1:O425)+1,0)","v":0},{"$f":"IF(ISNUMBER(SEARCH($H$6,Q426)),MAX($P$1:P425)+1,0)","v":0},"lic nomura tax plan","MJB013","ELSS",null,null,null,null,null,null,null,null,null,null,null,{"$f":"IFERROR(VLOOKUP(ROWS($AE$2:AE426),P426:Q2329,2,0),\"\")","v":""},null,null,null,null,{"$f":"IFERROR(VLOOKUP(ROWS($AJ$2:AJ426),O426:Q2329,3,0),\"\")","v":""},null,{"$f":"IFERROR(VLOOKUP(ROWS(AL$2:$AL426),N426:Q2329,4,0),\"\")","v":""}]
[null,null,null,null,null,null,null,null,null,null,null,null,null,{"$f":"IF(ISNUMBER(SEARCH($H$16,Q427)),MAX($N$1:N426)+1,0)","v":0},{"$f":"IF(ISNUMBER(SEARCH($H$11,Q427)),MAX($O$1:O426)+1,0)","v":0},{"$f":"IF(ISNUMBER(SEARCH($H$6,Q427)),MAX($P$1:P426)+1,0)","v":0},"l t long term adv fund i","MCC117","ELSS",null,null,null,null,null,null,null,null,null,null,null,{"$f":"IFERROR(VLOOKUP(ROWS($AE$2:AE427),P427:Q2330,2,0),\"\")","v":""},null,null,null,null,{"$f":"IFERROR(VLOOKUP(ROWS($AJ$2:AJ427),O427:Q2330,3,0),\"\")","v":""},null,{"$f":"IFERROR(VLOOKUP(ROWS(AL$2:$AL427),N427:Q2330,4,0),\"\")","v":""}]
[null,null,null,null,null,null,null,null,null,null,null,null,null,{"$f":"IF(ISNUMBER(SEARCH($H$16,Q428)),MAX($N$1:N427)+1,0)","v":0},{"$f":"IF(ISNUMBER(SEARCH($H$11,Q428)),MAX($O$1:O427)+1,0)","v":0},{"$f":"IF(ISNUMBER(SEARCH($H$6,Q428)),MAX($P$1:P427)+1,0)","v":0},"l t tax advantage","MFF003","ELSS",null,null,null,null,null,null,null,null,null,null,null,{"$f":"IFERROR(VLOOKUP(ROWS($AE$2:AE428),P428:Q2331,2,0),\"\")","v":""},null,null,null,null,{"$f":"IFERROR(VLOOKUP(ROWS($AJ$2:AJ428),O428:Q2331,3,0),\"\")","v":""},null,{"$f":"IFERROR(VLOOKUP(ROWS(AL$2:$AL428),N428:Q2331,4,0),\"\")","v":""}]
[null,null,null,null,null,null,null,null,null,null,null,null,null,{"$f":"IF(ISNUMBER(SEARCH($H$16,Q429)),MAX($N$1:N428)+1,0)","v":0},{"$f":"IF(ISNUMBER(SEARCH($H$11,Q429)),MAX($O$1:O428)+1,0)","v":0},{"$f":"IF(ISNUMBER(SEARCH($H$6,Q429)),MAX($P$1:P428)+1,0)","v":0},"l t tax saver fund","MCC049","ELSS",null,null,null,null,null,null,null,null,null,null,null,{"$f":"IFERROR(VLOOKUP(ROWS($AE$2:AE429),P429:Q2332,2,0),\"\")","v":""},null,null,null,null,{"$f":"IFERROR(VLOOKUP(ROWS($AJ$2:AJ429),O429:Q2332,3,0),\"\")","v":""},null,{"$f":"IFERROR(VLOOKUP(ROWS(AL$2:$AL429),N429:Q2332,4,0),\"\")","v":""}]
[null,null,null,null,null,null,null,null,null,null,null,null,null,{"$f":"IF(ISNUMBER(SEARCH($H$16,Q430)),MAX($N$1:N429)+1,0)","v":0},{"$f":"IF(ISNUMBER(SEARCH($H$11,Q430)),MAX($O$1:O429)+1,0)","v":0},{"$f":"IF(ISNUMBER(SEARCH($H$6,Q430)),MAX($P$1:P429)+1,0)","v":0},"principal personal tax saver","MSF023","ELSS",null,null,null,null,null,null,null,null,null,null,null,{"$f":"IFERROR(VLOOKUP(ROWS($AE$2:AE430),P430:Q2333,2,0),\"\")","v":""},null,null,null,null,{"$f":"IFERROR(VLOOKUP(ROWS($AJ$2:AJ430),O430:Q2333,3,0),\"\")","v":""},null,{"$f":"IFERROR(VLOOKUP(ROWS(AL$2:$AL430),N430:Q2333,4,0),\"\")","v":""}]
[null,null,null,null,null,null,null,null,null,null,null,null,null,{"$f":"IF(ISNUMBER(SEARCH($H$16,Q431)),MAX($N$1:N430)+1,0)","v":0},{"$f":"IF(ISNUMBER(SEARCH($H$11,Q431)),MAX($O$1:O430)+1,0)","v":0},{"$f":"IF(ISNUMBER(SEARCH($H$6,Q431)),MAX($P$1:P430)+1,0)","v":0},"principal tax savings","MID026","ELSS",null,null,null,null,null,null,null,null,null,null,null,{"$f":"IFERROR(VLOOKUP(ROWS($AE$2:AE431),P431:Q2334,2,0),\"\")","v":""},null,null,null,null,{"$f":"IFERROR(VLOOKUP(ROWS($AJ$2:AJ431),O431:Q2334,3,0),\"\")","v":""},null,{"$f":"IFERROR(VLOOKUP(ROWS(AL$2:$AL431),N431:Q2334,4,0),\"\")","v":""}]
[null,null,null,null,null,null,null,null,null,null,null,null,null,{"$f":"IF(ISNUMBER(SEARCH($H$16,Q432)),MAX($N$1:N431)+1,0)","v":2},{"$f":"IF(ISNUMBER(SEARCH($H$11,Q432)),MAX($O$1:O431)+1,0)","v":0},{"$f":"IF(ISNUMBER(SEARCH($H$6,Q432)),MAX($P$1:P431)+1,0)","v":2},"quantum tax saving fund","MQU008","ELSS",null,null,null,null,null,null,null,null,null,null,null,{"$f":"IFERROR(VLOOKUP(ROWS($AE$2:AE432),P432:Q2335,2,0),\"\")","v":""},null,null,null,null,{"$f":"IFERROR(VLOOKUP(ROWS($AJ$2:AJ432),O432:Q2335,3,0),\"\")","v":""},null,{"$f":"IFERROR(VLOOKUP(ROWS(AL$2:$AL432),N432:Q2335,4,0),\"\")","v":""}]
[null,null,null,null,null,null,null,null,null,null,null,null,null,{"$f":"IF(ISNUMBER(SEARCH($H$16,Q433)),MAX($N$1:N432)+1,0)","v":0},{"$f":"IF(ISNUMBER(SEARCH($H$11,Q433)),MAX($O$1:O432)+1,0)","v":0},{"$f":"IF(ISNUMBER(SEARCH($H$6,Q433)),MAX($P$1:P432)+1,0)","v":0},"reliance elsf series 1","MRC270","ELSS",null,null,null,null,null,null,null,null,null,null,null,{"$f":"IFERROR(VLOOKUP(ROWS($AE$2:AE433),P433:Q2336,2,0),\"\")","v":""},null,null,null,null,{"$f":"IFERROR(VLOOKUP(ROWS($AJ$2:AJ433),O433:Q2336,3,0),\"\")","v":""},null,{"$f":"IFERROR(VLOOKUP(ROWS(AL$2:$AL433),N433:Q2336,4,0),\"\")","v":""}]
[null,null,null,null,null,null,null,null,null,null,null,null,null,{"$f":"IF(ISNUMBER(SEARCH($H$16,Q434)),MAX($N$1:N433)+1,0)","v":0},{"$f":"IF(ISNUMBER(SEARCH($H$11,Q434)),MAX($O$1:O433)+1,0)","v":0},{"$f":"IF(ISNUMBER(SEARCH($H$6,Q434)),MAX($P$1:P433)+1,0)","v":0},"reliance tax saver elss ","MRC101","ELSS",null,null,null,null,null,null,null,null,null,null,null,{"$f":"IFERROR(VLOOKUP(ROWS($AE$2:AE434),P434:Q2337,2,0),\"\")","v":""},null,null,null,null,{"$f":"IFERROR(VLOOKUP(ROWS($AJ$2:AJ434),O434:Q2337,3,0),\"\")","v":""},null,{"$f":"IFERROR(VLOOKUP(ROWS(AL$2:$AL434),N434:Q2337,4,0),\"\")","v":""}]
[null,null,null,null,null,null,null,null,null,null,null,null,null,{"$f":"IF(ISNUMBER(SEARCH($H$16,Q435)),MAX($N$1:N434)+1,0)","v":0},{"$f":"IF(ISNUMBER(SEARCH($H$11,Q435)),MAX($O$1:O434)+1,0)","v":0},{"$f":"IF(ISNUMBER(SEARCH($H$6,Q435)),MAX($P$1:P434)+1,0)","v":0},"religare invesco agile tax","MLI155","ELSS",null,null,null,null,null,null,null,null,null,null,null,{"$f":"IFERROR(VLOOKUP(ROWS($AE$2:AE435),P435:Q2338,2,0),\"\")","v":""},null,null,null,null,{"$f":"IFERROR(VLOOKUP(ROWS($AJ$2:AJ435),O435:Q2338,3,0),\"\")","v":""},null,{"$f":"IFERROR(VLOOKUP(ROWS(AL$2:$AL435),N435:Q2338,4,0),\"\")","v":""}]
[null,null,null,null,null,null,null,null,null,null,null,null,null,{"$f":"IF(ISNUMBER(SEARCH($H$16,Q436)),MAX($N$1:N435)+1,0)","v":0},{"$f":"IF(ISNUMBER(SEARCH($H$11,Q436)),MAX($O$1:O435)+1,0)","v":0},{"$f":"IF(ISNUMBER(SEARCH($H$6,Q436)),MAX($P$1:P435)+1,0)","v":0},"religare invesco tax plan","MLI011","ELSS",null,null,null,null,null,null,null,null,null,null,null,{"$f":"IFERROR(VLOOKUP(ROWS($AE$2:AE436),P436:Q2339,2,0),\"\")","v":""},null,null,null,null,{"$f":"IFERROR(VLOOKUP(ROWS($AJ$2:AJ436),O436:Q2339,3,0),\"\")","v":""},null,{"$f":"IFERROR(VLOOKUP(ROWS(AL$2:$AL436),N436:Q2339,4,0),\"\")","v":""}]
[null,null,null,null,null,null,null,null,null,null,null,null,null,{"$f":"IF(ISNUMBER(SEARCH($H$16,Q437)),MAX($N$1:N436)+1,0)","v":0},{"$f":"IF(ISNUMBER(SEARCH($H$11,Q437)),MAX($O$1:O436)+1,0)","v":0},{"$f":"IF(ISNUMBER(SEARCH($H$6,Q437)),MAX($P$1:P436)+1,0)","v":0},"religare invesco tax plan dp","MLI550","ELSS",null,null,null,null,null,null,null,null,null,null,null,{"$f":"IFERROR(VLOOKUP(ROWS($AE$2:AE437),P437:Q2340,2,0),\"\")","v":""},null,null,null,null,{"$f":"IFERROR(VLOOKUP(ROWS($AJ$2:AJ437),O437:Q2340,3,0),\"\")","v":""},null,{"$f":"IFERROR(VLOOKUP(ROWS(AL$2:$AL437),N437:Q2340,4,0),\"\")","v":""}]
[null,null,null,null,null,null,null,null,null,null,null,null,null,{"$f":"IF(ISNUMBER(SEARCH($H$16,Q438)),MAX($N$1:N437)+1,0)","v":0},{"$f":"IF(ISNUMBER(SEARCH($H$11,Q438)),MAX($O$1:O437)+1,0)","v":0},{"$f":"IF(ISNUMBER(SEARCH($H$6,Q438)),MAX($P$1:P437)+1,0)","v":0},"sahara taxgain","MFI011","ELSS",null,null,null,null,null,null,null,null,null,null,null,{"$f":"IFERROR(VLOOKUP(ROWS($AE$2:AE438),P438:Q2341,2,0),\"\")","v":""},null,null,null,null,{"$f":"IFERROR(VLOOKUP(ROWS($AJ$2:AJ438),O438:Q2341,3,0),\"\")","v":""},null,{"$f":"IFERROR(VLOOKUP(ROWS(AL$2:$AL438),N438:Q2341,4,0),\"\")","v":""}]
[null,null,null,null,null,null,null,null,null,null,null,null,null,{"$f":"IF(ISNUMBER(SEARCH($H$16,Q439)),MAX($N$1:N438)+1,0)","v":0},{"$f":"IF(ISNUMBER(SEARCH($H$11,Q439)),MAX($O$1:O438)+1,0)","v":0},{"$f":"IF(ISNUMBER(SEARCH($H$6,Q439)),MAX($P$1:P438)+1,0)","v":0},"sbi long term advantage sr1 dp","MSB1065","ELSS",null,null,null,null,null,null,null,null,null,null,null,{"$f":"IFERROR(VLOOKUP(ROWS($AE$2:AE439),P439:Q2342,2,0),\"\")","v":""},null,null,null,null,{"$f":"IFERROR(VLOOKUP(ROWS($AJ$2:AJ439),O439:Q2342,3,0),\"\")","v":""},null,{"$f":"IFERROR(VLOOKUP(ROWS(AL$2:$AL439),N439:Q2342,4,0),\"\")","v":""}]
[null,null,null,null,null,null,null,null,null,null,null,null,null,{"$f":"IF(ISNUMBER(SEARCH($H$16,Q440)),MAX($N$1:N439)+1,0)","v":0},{"$f":"IF(ISNUMBER(SEARCH($H$11,Q440)),MAX($O$1:O439)+1,0)","v":0},{"$f":"IF(ISNUMBER(SEARCH($H$6,Q440)),MAX($P$1:P439)+1,0)","v":0},"sbi long term advantage sr1 rp","MSB1063","ELSS",null,null,null,null,null,null,null,null,null,null,null,{"$f":"IFERROR(VLOOKUP(ROWS($AE$2:AE440),P440:Q2343,2,0),\"\")","v":""},null,null,null,null,{"$f":"IFERROR(VLOOKUP(ROWS($AJ$2:AJ440),O440:Q2343,3,0),\"\")","v":""},null,{"$f":"IFERROR(VLOOKUP(ROWS(AL$2:$AL440),N440:Q2343,4,0),\"\")","v":""}]
[null,null,null,null,null,null,null,null,null,null,null,null,null,{"$f":"IF(ISNUMBER(SEARCH($H$16,Q441)),MAX($N$1:N440)+1,0)","v":0},{"$f":"IF(ISNUMBER(SEARCH($H$11,Q441)),MAX($O$1:O440)+1,0)","v":0},{"$f":"IF(ISNUMBER(SEARCH($H$6,Q441)),MAX($P$1:P440)+1,0)","v":0},"sbi long term advantage sr2 dp","MSB1093","ELSS",null,null,null,null,null,null,null,null,null,null,null,{"$f":"IFERROR(VLOOKUP(ROWS($AE$2:AE441),P441:Q2344,2,0),\"\")","v":""},null,null,null,null,{"$f":"IFERROR(VLOOKUP(ROWS($AJ$2:AJ441),O441:Q2344,3,0),\"\")","v":""},null,{"$f":"IFERROR(VLOOKUP(ROWS(AL$2:$AL441),N441:Q2344,4,0),\"\")","v":""}]
[null,null,null,null,null,null,null,null,null,null,null,null,null,{"$f":"IF(ISNUMBER(SEARCH($H$16,Q442)),MAX($N$1:N441)+1,0)","v":0},{"$f":"IF(ISNUMBER(SEARCH($H$11,Q442)),MAX($O$1:O441)+1,0)","v":0},{"$f":"IF(ISNUMBER(SEARCH($H$6,Q442)),MAX($P$1:P441)+1,0)","v":0},"sbi long term advantage sr2 rp","MSB1091","ELSS",null,null,null,null,null,null,null,null,null,null,null,{"$f":"IFERROR(VLOOKUP(ROWS($AE$2:AE442),P442:Q2345,2,0),\"\")","v":""},null,null,null,null,{"$f":"IFERROR(VLOOKUP(ROWS($AJ$2:AJ442),O442:Q2345,3,0),\"\")","v":""},null,{"$f":"IFERROR(VLOOKUP(ROWS(AL$2:$AL442),N442:Q2345,4,0),\"\")","v":""}]
[null,null,null,null,null,null,null,null,null,null,null,null,null,{"$f":"IF(ISNUMBER(SEARCH($H$16,Q443)),MAX($N$1:N442)+1,0)","v":0},{"$f":"IF(ISNUMBER(SEARCH($H$11,Q443)),MAX($O$1:O442)+1,0)","v":0},{"$f":"IF(ISNUMBER(SEARCH($H$6,Q443)),MAX($P$1:P442)+1,0)","v":0},"sbi magnum tax gain","MSB093","ELSS",null,null,null,null,null,null,null,null,null,null,null,{"$f":"IFERROR(VLOOKUP(ROWS($AE$2:AE443),P443:Q2346,2,0),\"\")","v":""},null,null,null,null,{"$f":"IFERROR(VLOOKUP(ROWS($AJ$2:AJ443),O443:Q2346,3,0),\"\")","v":""},null,{"$f":"IFERROR(VLOOKUP(ROWS(AL$2:$AL443),N443:Q2346,4,0),\"\")","v":""}]
[null,null,null,null,null,null,null,null,null,null,null,null,null,{"$f":"IF(ISNUMBER(SEARCH($H$16,Q444)),MAX($N$1:N443)+1,0)","v":0},{"$f":"IF(ISNUMBER(SEARCH($H$11,Q444)),MAX($O$1:O443)+1,0)","v":0},{"$f":"IF(ISNUMBER(SEARCH($H$6,Q444)),MAX($P$1:P443)+1,0)","v":0},"sbi tax advantage sr 1","MSB135","ELSS",null,null,null,null,null,null,null,null,null,null,null,{"$f":"IFERROR(VLOOKUP(ROWS($AE$2:AE444),P444:Q2347,2,0),\"\")","v":""},null,null,null,null,{"$f":"IFERROR(VLOOKUP(ROWS($AJ$2:AJ444),O444:Q2347,3,0),\"\")","v":""},null,{"$f":"IFERROR(VLOOKUP(ROWS(AL$2:$AL444),N444:Q2347,4,0),\"\")","v":""}]
[null,null,null,null,null,null,null,null,null,null,null,null,null,{"$f":"IF(ISNUMBER(SEARCH($H$16,Q445)),MAX($N$1:N444)+1,0)","v":0},{"$f":"IF(ISNUMBER(SEARCH($H$11,Q445)),MAX($O$1:O444)+1,0)","v":0},{"$f":"IF(ISNUMBER(SEARCH($H$6,Q445)),MAX($P$1:P444)+1,0)","v":0},"sbi tax advantage sr 2","MSB368","ELSS",null,null,null,null,null,null,null,null,null,null,null,{"$f":"IFERROR(VLOOKUP(ROWS($AE$2:AE445),P445:Q2348,2,0),\"\")","v":""},null,null,null,null,{"$f":"IFERROR(VLOOKUP(ROWS($AJ$2:AJ445),O445:Q2348,3,0),\"\")","v":""},null,{"$f":"IFERROR(VLOOKUP(ROWS(AL$2:$AL445),N445:Q2348,4,0),\"\")","v":""}]
[null,null,null,null,null,null,null,null,null,null,null,null,null,{"$f":"IF(ISNUMBER(SEARCH($H$16,Q446)),MAX($N$1:N445)+1,0)","v":0},{"$f":"IF(ISNUMBER(SEARCH($H$11,Q446)),MAX($O$1:O445)+1,0)","v":0},{"$f":"IF(ISNUMBER(SEARCH($H$6,Q446)),MAX($P$1:P445)+1,0)","v":0},"sbi tax advantage sr 3 regular","MSB813","ELSS",null,null,null,null,null,null,null,null,null,null,null,{"$f":"IFERROR(VLOOKUP(ROWS($AE$2:AE446),P446:Q2349,2,0),\"\")","v":""},null,null,null,null,{"$f":"IFERROR(VLOOKUP(ROWS($AJ$2:AJ446),O446:Q2349,3,0),\"\")","v":""},null,{"$f":"IFERROR(VLOOKUP(ROWS(AL$2:$AL446),N446:Q2349,4,0),\"\")","v":""}]
[null,null,null,null,null,null,null,null,null,null,null,null,null,{"$f":"IF(ISNUMBER(SEARCH($H$16,Q447)),MAX($N$1:N446)+1,0)","v":0},{"$f":"IF(ISNUMBER(SEARCH($H$11,Q447)),MAX($O$1:O446)+1,0)","v":0},{"$f":"IF(ISNUMBER(SEARCH($H$6,Q447)),MAX($P$1:P446)+1,0)","v":0},"sundaram tax saver","MSN004","ELSS",null,null,null,null,null,null,null,null,null,null,null,{"$f":"IFERROR(VLOOKUP(ROWS($AE$2:AE447),P447:Q2350,2,0),\"\")","v":""},null,null,null,null,{"$f":"IFERROR(VLOOKUP(ROWS($AJ$2:AJ447),O447:Q2350,3,0),\"\")","v":""},null,{"$f":"IFERROR(VLOOKUP(ROWS(AL$2:$AL447),N447:Q2350,4,0),\"\")","v":""}]
[null,null,null,null,null,null,null,null,null,null,null,null,null,{"$f":"IF(ISNUMBER(SEARCH($H$16,Q448)),MAX($N$1:N447)+1,0)","v":0},{"$f":"IF(ISNUMBER(SEARCH($H$11,Q448)),MAX($O$1:O447)+1,0)","v":0},{"$f":"IF(ISNUMBER(SEARCH($H$6,Q448)),MAX($P$1:P447)+1,0)","v":0},"tata infra tax saving fund","MTA470","ELSS",null,null,null,null,null,null,null,null,null,null,null,{"$f":"IFERROR(VLOOKUP(ROWS($AE$2:AE448),P448:Q2351,2,0),\"\")","v":""},null,null,null,null,{"$f":"IFERROR(VLOOKUP(ROWS($AJ$2:AJ448),O448:Q2351,3,0),\"\")","v":""},null,{"$f":"IFERROR(VLOOKUP(ROWS(AL$2:$AL448),N448:Q2351,4,0),\"\")","v":""}]
[null,null,null,null,null,null,null,null,null,null,null,null,null,{"$f":"IF(ISNUMBER(SEARCH($H$16,Q449)),MAX($N$1:N448)+1,0)","v":0},{"$f":"IF(ISNUMBER(SEARCH($H$11,Q449)),MAX($O$1:O448)+1,0)","v":0},{"$f":"IF(ISNUMBER(SEARCH($H$6,Q449)),MAX($P$1:P448)+1,0)","v":0},"tata tax advantage fund 1","MTA142","ELSS",null,null,null,null,null,null,null,null,null,null,null,{"$f":"IFERROR(VLOOKUP(ROWS($AE$2:AE449),P449:Q2352,2,0),\"\")","v":""},null,null,null,null,{"$f":"IFERROR(VLOOKUP(ROWS($AJ$2:AJ449),O449:Q2352,3,0),\"\")","v":""},null,{"$f":"IFERROR(VLOOKUP(ROWS(AL$2:$AL449),N449:Q2352,4,0),\"\")","v":""}]
[null,null,null,null,null,null,null,null,null,null,null,null,null,{"$f":"IF(ISNUMBER(SEARCH($H$16,Q450)),MAX($N$1:N449)+1,0)","v":0},{"$f":"IF(ISNUMBER(SEARCH($H$11,Q450)),MAX($O$1:O449)+1,0)","v":0},{"$f":"IF(ISNUMBER(SEARCH($H$6,Q450)),MAX($P$1:P449)+1,0)","v":0},"tata tax saving fund regular plan","MTA003","ELSS",null,null,null,null,null,null,null,null,null,null,null,{"$f":"IFERROR(VLOOKUP(ROWS($AE$2:AE450),P450:Q2353,2,0),\"\")","v":""},null,null,null,null,{"$f":"IFERROR(VLOOKUP(ROWS($AJ$2:AJ450),O450:Q2353,3,0),\"\")","v":""},null,{"$f":"IFERROR(VLOOKUP(ROWS(AL$2:$AL450),N450:Q2353,4,0),\"\")","v":""}]
[null,null,null,null,null,null,null,null,null,null,null,null,null,{"$f":"IF(ISNUMBER(SEARCH($H$16,Q451)),MAX($N$1:N450)+1,0)","v":0},{"$f":"IF(ISNUMBER(SEARCH($H$11,Q451)),MAX($O$1:O450)+1,0)","v":0},{"$f":"IF(ISNUMBER(SEARCH($H$6,Q451)),MAX($P$1:P450)+1,0)","v":0},"tata tax saving fund regular plan","MTA1113","ELSS",null,null,null,null,null,null,null,null,null,null,null,{"$f":"IFERROR(VLOOKUP(ROWS($AE$2:AE451),P451:Q2354,2,0),\"\")","v":""},null,null,null,null,{"$f":"IFERROR(VLOOKUP(ROWS($AJ$2:AJ451),O451:Q2354,3,0),\"\")","v":""},null,{"$f":"IFERROR(VLOOKUP(ROWS(AL$2:$AL451),N451:Q2354,4,0),\"\")","v":""}]
[null,null,null,null,null,null,null,null,null,null,null,null,null,{"$f":"IF(ISNUMBER(SEARCH($H$16,Q452)),MAX($N$1:N451)+1,0)","v":0},{"$f":"IF(ISNUMBER(SEARCH($H$11,Q452)),MAX($O$1:O451)+1,0)","v":0},{"$f":"IF(ISNUMBER(SEARCH($H$6,Q452)),MAX($P$1:P451)+1,0)","v":0},"taurus tax shield","MCM014","ELSS",null,null,null,null,null,null,null,null,null,null,null,{"$f":"IFERROR(VLOOKUP(ROWS($AE$2:AE452),P452:Q2355,2,0),\"\")","v":""},null,null,null,null,{"$f":"IFERROR(VLOOKUP(ROWS($AJ$2:AJ452),O452:Q2355,3,0),\"\")","v":""},null,{"$f":"IFERROR(VLOOKUP(ROWS(AL$2:$AL452),N452:Q2355,4,0),\"\")","v":""}]
[null,null,null,null,null,null,null,null,null,null,null,null,null,{"$f":"IF(ISNUMBER(SEARCH($H$16,Q453)),MAX($N$1:N452)+1,0)","v":0},{"$f":"IF(ISNUMBER(SEARCH($H$11,Q453)),MAX($O$1:O452)+1,0)","v":0},{"$f":"IF(ISNUMBER(SEARCH($H$6,Q453)),MAX($P$1:P452)+1,0)","v":0},"union kbc tax saver scheme","MUK010","ELSS",null,null,null,null,null,null,null,null,null,null,null,{"$f":"IFERROR(VLOOKUP(ROWS($AE$2:AE453),P453:Q2356,2,0),\"\")","v":""},null,null,null,null,{"$f":"IFERROR(VLOOKUP(ROWS($AJ$2:AJ453),O453:Q2356,3,0),\"\")","v":""},null,{"$f":"IFERROR(VLOOKUP(ROWS(AL$2:$AL453),N453:Q2356,4,0),\"\")","v":""}]
[null,null,null,null,null,null,null,null,null,null,null,null,null,{"$f":"IF(ISNUMBER(SEARCH($H$16,Q454)),MAX($N$1:N453)+1,0)","v":0},{"$f":"IF(ISNUMBER(SEARCH($H$11,Q454)),MAX($O$1:O453)+1,0)","v":0},{"$f":"IF(ISNUMBER(SEARCH($H$6,Q454)),MAX($P$1:P453)+1,0)","v":0},"uti equity tax saving","MUT025","ELSS",null,null,null,null,null,null,null,null,null,null,null,{"$f":"IFERROR(VLOOKUP(ROWS($AE$2:AE454),P454:Q2357,2,0),\"\")","v":""},null,null,null,null,{"$f":"IFERROR(VLOOKUP(ROWS($AJ$2:AJ454),O454:Q2357,3,0),\"\")","v":""},null,{"$f":"IFERROR(VLOOKUP(ROWS(AL$2:$AL454),N454:Q2357,4,0),\"\")","v":""}]
[null,null,null,null,null,null,null,null,null,null,null,null,null,{"$f":"IF(ISNUMBER(SEARCH($H$16,Q455)),MAX($N$1:N454)+1,0)","v":0},{"$f":"IF(ISNUMBER(SEARCH($H$11,Q455)),MAX($O$1:O454)+1,0)","v":0},{"$f":"IF(ISNUMBER(SEARCH($H$6,Q455)),MAX($P$1:P454)+1,0)","v":0},"uti long term advantage","MUT110","ELSS",null,null,null,null,null,null,null,null,null,null,null,{"$f":"IFERROR(VLOOKUP(ROWS($AE$2:AE455),P455:Q2358,2,0),\"\")","v":""},null,null,null,null,{"$f":"IFERROR(VLOOKUP(ROWS($AJ$2:AJ455),O455:Q2358,3,0),\"\")","v":""},null,{"$f":"IFERROR(VLOOKUP(ROWS(AL$2:$AL455),N455:Q2358,4,0),\"\")","v":""}]
[null,null,null,null,null,null,null,null,null,null,null,null,null,{"$f":"IF(ISNUMBER(SEARCH($H$16,Q456)),MAX($N$1:N455)+1,0)","v":0},{"$f":"IF(ISNUMBER(SEARCH($H$11,Q456)),MAX($O$1:O455)+1,0)","v":0},{"$f":"IF(ISNUMBER(SEARCH($H$6,Q456)),MAX($P$1:P455)+1,0)","v":0},"uti long term advantage s2","MUT149","ELSS",null,null,null,null,null,null,null,null,null,null,null,{"$f":"IFERROR(VLOOKUP(ROWS($AE$2:AE456),P456:Q2359,2,0),\"\")","v":""},null,null,null,null,{"$f":"IFERROR(VLOOKUP(ROWS($AJ$2:AJ456),O456:Q2359,3,0),\"\")","v":""},null,{"$f":"IFERROR(VLOOKUP(ROWS(AL$2:$AL456),N456:Q2359,4,0),\"\")","v":""}]
[null,null,null,null,null,null,null,null,null,null,null,null,null,{"$f":"IF(ISNUMBER(SEARCH($H$16,Q457)),MAX($N$1:N456)+1,0)","v":0},{"$f":"IF(ISNUMBER(SEARCH($H$11,Q457)),MAX($O$1:O456)+1,0)","v":0},{"$f":"IF(ISNUMBER(SEARCH($H$6,Q457)),MAX($P$1:P456)+1,0)","v":0},"uti master equity plan us ","MUT101","ELSS",null,null,null,null,null,null,null,null,null,null,null,{"$f":"IFERROR(VLOOKUP(ROWS($AE$2:AE457),P457:Q2360,2,0),\"\")","v":""},null,null,null,null,{"$f":"IFERROR(VLOOKUP(ROWS($AJ$2:AJ457),O457:Q2360,3,0),\"\")","v":""},null,{"$f":"IFERROR(VLOOKUP(ROWS(AL$2:$AL457),N457:Q2360,4,0),\"\")","v":""}]
[null,null,null,null,null,null,null,null,null,null,null,null,null,{"$f":"IF(ISNUMBER(SEARCH($H$16,Q458)),MAX($N$1:N457)+1,0)","v":0},{"$f":"IF(ISNUMBER(SEARCH($H$11,Q458)),MAX($O$1:O457)+1,0)","v":0},{"$f":"IF(ISNUMBER(SEARCH($H$6,Q458)),MAX($P$1:P457)+1,0)","v":0},"sbi pharma fund","MSB062","Pharma",null,null,null,null,null,null,null,null,null,null,null,{"$f":"IFERROR(VLOOKUP(ROWS($AE$2:AE458),P458:Q2361,2,0),\"\")","v":""},null,null,null,null,{"$f":"IFERROR(VLOOKUP(ROWS($AJ$2:AJ458),O458:Q2361,3,0),\"\")","v":""},null,{"$f":"IFERROR(VLOOKUP(ROWS(AL$2:$AL458),N458:Q2361,4,0),\"\")","v":""}]
[null,null,null,null,null,null,null,null,null,null,null,null,null,{"$f":"IF(ISNUMBER(SEARCH($H$16,Q459)),MAX($N$1:N458)+1,0)","v":0},{"$f":"IF(ISNUMBER(SEARCH($H$11,Q459)),MAX($O$1:O458)+1,0)","v":0},{"$f":"IF(ISNUMBER(SEARCH($H$6,Q459)),MAX($P$1:P458)+1,0)","v":0},"reliance pharma fund","MRC058","Pharma",null,null,null,null,null,null,null,null,null,null,null,{"$f":"IFERROR(VLOOKUP(ROWS($AE$2:AE459),P459:Q2362,2,0),\"\")","v":""},null,null,null,null,{"$f":"IFERROR(VLOOKUP(ROWS($AJ$2:AJ459),O459:Q2362,3,0),\"\")","v":""},null,{"$f":"IFERROR(VLOOKUP(ROWS(AL$2:$AL459),N459:Q2362,4,0),\"\")","v":""}]
[null,null,null,null,null,null,null,null,null,null,null,null,null,{"$f":"IF(ISNUMBER(SEARCH($H$16,Q460)),MAX($N$1:N459)+1,0)","v":0},{"$f":"IF(ISNUMBER(SEARCH($H$11,Q460)),MAX($O$1:O459)+1,0)","v":0},{"$f":"IF(ISNUMBER(SEARCH($H$6,Q460)),MAX($P$1:P459)+1,0)","v":0},"uti pharma health","MUT031","Pharma",null,null,null,null,null,null,null,null,null,null,null,{"$f":"IFERROR(VLOOKUP(ROWS($AE$2:AE460),P460:Q2363,2,0),\"\")","v":""},null,null,null,null,{"$f":"IFERROR(VLOOKUP(ROWS($AJ$2:AJ460),O460:Q2363,3,0),\"\")","v":""},null,{"$f":"IFERROR(VLOOKUP(ROWS(AL$2:$AL460),N460:Q2363,4,0),\"\")","v":""}]
[null,null,null,null,null,null,null,null,null,null,null,null,null,{"$f":"IF(ISNUMBER(SEARCH($H$16,Q461)),MAX($N$1:N460)+1,0)","v":0},{"$f":"IF(ISNUMBER(SEARCH($H$11,Q461)),MAX($O$1:O460)+1,0)","v":0},{"$f":"IF(ISNUMBER(SEARCH($H$6,Q461)),MAX($P$1:P460)+1,0)","v":0},"baroda bank financial serv ","MBO078","Banking",null,null,null,null,null,null,null,null,null,null,null,{"$f":"IFERROR(VLOOKUP(ROWS($AE$2:AE461),P461:Q2364,2,0),\"\")","v":""},null,null,null,null,{"$f":"IFERROR(VLOOKUP(ROWS($AJ$2:AJ461),O461:Q2364,3,0),\"\")","v":""},null,{"$f":"IFERROR(VLOOKUP(ROWS(AL$2:$AL461),N461:Q2364,4,0),\"\")","v":""}]
[null,null,null,null,null,null,null,null,null,null,null,null,null,{"$f":"IF(ISNUMBER(SEARCH($H$16,Q462)),MAX($N$1:N461)+1,0)","v":0},{"$f":"IF(ISNUMBER(SEARCH($H$11,Q462)),MAX($O$1:O461)+1,0)","v":0},{"$f":"IF(ISNUMBER(SEARCH($H$6,Q462)),MAX($P$1:P461)+1,0)","v":0},"birla sl bank financial ser dp","MBS1453","Banking",null,null,null,null,null,null,null,null,null,null,null,{"$f":"IFERROR(VLOOKUP(ROWS($AE$2:AE462),P462:Q2365,2,0),\"\")","v":""},null,null,null,null,{"$f":"IFERROR(VLOOKUP(ROWS($AJ$2:AJ462),O462:Q2365,3,0),\"\")","v":""},null,{"$f":"IFERROR(VLOOKUP(ROWS(AL$2:$AL462),N462:Q2365,4,0),\"\")","v":""}]
[null,null,null,null,null,null,null,null,null,null,null,null,null,{"$f":"IF(ISNUMBER(SEARCH($H$16,Q463)),MAX($N$1:N462)+1,0)","v":0},{"$f":"IF(ISNUMBER(SEARCH($H$11,Q463)),MAX($O$1:O462)+1,0)","v":0},{"$f":"IF(ISNUMBER(SEARCH($H$6,Q463)),MAX($P$1:P462)+1,0)","v":0},"birla sl bank financial ser rp","MBS1451","Banking",null,null,null,null,null,null,null,null,null,null,null,{"$f":"IFERROR(VLOOKUP(ROWS($AE$2:AE463),P463:Q2366,2,0),\"\")","v":""},null,null,null,null,{"$f":"IFERROR(VLOOKUP(ROWS($AJ$2:AJ463),O463:Q2366,3,0),\"\")","v":""},null,{"$f":"IFERROR(VLOOKUP(ROWS(AL$2:$AL463),N463:Q2366,4,0),\"\")","v":""}]
[null,null,null,null,null,null,null,null,null,null,null,null,null,{"$f":"IF(ISNUMBER(SEARCH($H$16,Q464)),MAX($N$1:N463)+1,0)","v":0},{"$f":"IF(ISNUMBER(SEARCH($H$11,Q464)),MAX($O$1:O463)+1,0)","v":0},{"$f":"IF(ISNUMBER(SEARCH($H$6,Q464)),MAX($P$1:P463)+1,0)","v":0},"gs bank bees","MBM004","Banking",null,null,null,null,null,null,null,null,null,null,null,{"$f":"IFERROR(VLOOKUP(ROWS($AE$2:AE464),P464:Q2367,2,0),\"\")","v":""},null,null,null,null,{"$f":"IFERROR(VLOOKUP(ROWS($AJ$2:AJ464),O464:Q2367,3,0),\"\")","v":""},null,{"$f":"IFERROR(VLOOKUP(ROWS(AL$2:$AL464),N464:Q2367,4,0),\"\")","v":""}]
[null,null,null,null,null,null,null,null,null,null,null,null,null,{"$f":"IF(ISNUMBER(SEARCH($H$16,Q465)),MAX($N$1:N464)+1,0)","v":0},{"$f":"IF(ISNUMBER(SEARCH($H$11,Q465)),MAX($O$1:O464)+1,0)","v":0},{"$f":"IF(ISNUMBER(SEARCH($H$6,Q465)),MAX($P$1:P464)+1,0)","v":0},"gs psu bank bees","MBM018","Banking",null,null,null,null,null,null,null,null,null,null,null,{"$f":"IFERROR(VLOOKUP(ROWS($AE$2:AE465),P465:Q2368,2,0),\"\")","v":""},null,null,null,null,{"$f":"IFERROR(VLOOKUP(ROWS($AJ$2:AJ465),O465:Q2368,3,0),\"\")","v":""},null,{"$f":"IFERROR(VLOOKUP(ROWS(AL$2:$AL465),N465:Q2368,4,0),\"\")","v":""}]
[null,null,null,null,null,null,null,null,null,null,null,null,null,{"$f":"IF(ISNUMBER(SEARCH($H$16,Q466)),MAX($N$1:N465)+1,0)","v":0},{"$f":"IF(ISNUMBER(SEARCH($H$11,Q466)),MAX($O$1:O465)+1,0)","v":0},{"$f":"IF(ISNUMBER(SEARCH($H$6,Q466)),MAX($P$1:P465)+1,0)","v":0},"icici pru bkg fin serv rp","MPI447","Banking",null,null,null,null,null,null,null,null,null,null,null,{"$f":"IFERROR(VLOOKUP(ROWS($AE$2:AE466),P466:Q2369,2,0),\"\")","v":""},null,null,null,null,{"$f":"IFERROR(VLOOKUP(ROWS($AJ$2:AJ466),O466:Q2369,3,0),\"\")","v":""},null,{"$f":"IFERROR(VLOOKUP(ROWS(AL$2:$AL466),N466:Q2369,4,0),\"\")","v":""}]
[null,null,null,null,null,null,null,null,null,null,null,null,null,{"$f":"IF(ISNUMBER(SEARCH($H$16,Q467)),MAX($N$1:N466)+1,0)","v":0},{"$f":"IF(ISNUMBER(SEARCH($H$11,Q467)),MAX($O$1:O466)+1,0)","v":0},{"$f":"IF(ISNUMBER(SEARCH($H$6,Q467)),MAX($P$1:P466)+1,0)","v":0},"kotak psu bank etf","MKM178","Banking",null,null,null,null,null,null,null,null,null,null,null,{"$f":"IFERROR(VLOOKUP(ROWS($AE$2:AE467),P467:Q2370,2,0),\"\")","v":""},null,null,null,null,{"$f":"IFERROR(VLOOKUP(ROWS($AJ$2:AJ467),O467:Q2370,3,0),\"\")","v":""},null,{"$f":"IFERROR(VLOOKUP(ROWS(AL$2:$AL467),N467:Q2370,4,0),\"\")","v":""}]
[null,null,null,null,null,null,null,null,null,null,null,null,null,{"$f":"IF(ISNUMBER(SEARCH($H$16,Q468)),MAX($N$1:N467)+1,0)","v":0},{"$f":"IF(ISNUMBER(SEARCH($H$11,Q468)),MAX($O$1:O467)+1,0)","v":0},{"$f":"IF(ISNUMBER(SEARCH($H$6,Q468)),MAX($P$1:P467)+1,0)","v":0},"r*shares banking etf","MRC356","Banking",null,null,null,null,null,null,null,null,null,null,null,{"$f":"IFERROR(VLOOKUP(ROWS($AE$2:AE468),P468:Q2371,2,0),\"\")","v":""},null,null,null,null,{"$f":"IFERROR(VLOOKUP(ROWS($AJ$2:AJ468),O468:Q2371,3,0),\"\")","v":""},null,{"$f":"IFERROR(VLOOKUP(ROWS(AL$2:$AL468),N468:Q2371,4,0),\"\")","v":""}]
[null,null,null,null,null,null,null,null,null,null,null,null,null,{"$f":"IF(ISNUMBER(SEARCH($H$16,Q469)),MAX($N$1:N468)+1,0)","v":0},{"$f":"IF(ISNUMBER(SEARCH($H$11,Q469)),MAX($O$1:O468)+1,0)","v":0},{"$f":"IF(ISNUMBER(SEARCH($H$6,Q469)),MAX($P$1:P468)+1,0)","v":0},"r*shares sensex etf","MRC1688","Banking",null,null,null,null,null,null,null,null,null,null,null,{"$f":"IFERROR(VLOOKUP(ROWS($AE$2:AE469),P469:Q2372,2,0),\"\")","v":""},null,null,null,null,{"$f":"IFERROR(VLOOKUP(ROWS($AJ$2:AJ469),O469:Q2372,3,0),\"\")","v":""},null,{"$f":"IFERROR(VLOOKUP(ROWS(AL$2:$AL469),N469:Q2372,4,0),\"\")","v":""}]
[null,null,null,null,null,null,null,null,null,null,null,null,null,{"$f":"IF(ISNUMBER(SEARCH($H$16,Q470)),MAX($N$1:N469)+1,0)","v":0},{"$f":"IF(ISNUMBER(SEARCH($H$11,Q470)),MAX($O$1:O469)+1,0)","v":0},{"$f":"IF(ISNUMBER(SEARCH($H$6,Q470)),MAX($P$1:P469)+1,0)","v":0},"reliance banking fund","MRC026","Banking",null,null,null,null,null,null,null,null,null,null,null,{"$f":"IFERROR(VLOOKUP(ROWS($AE$2:AE470),P470:Q2373,2,0),\"\")","v":""},null,null,null,null,{"$f":"IFERROR(VLOOKUP(ROWS($AJ$2:AJ470),O470:Q2373,3,0),\"\")","v":""},null,{"$f":"IFERROR(VLOOKUP(ROWS(AL$2:$AL470),N470:Q2373,4,0),\"\")","v":""}]
[null,null,null,null,null,null,null,null,null,null,null,null,null,{"$f":"IF(ISNUMBER(SEARCH($H$16,Q471)),MAX($N$1:N470)+1,0)","v":0},{"$f":"IF(ISNUMBER(SEARCH($H$11,Q471)),MAX($O$1:O470)+1,0)","v":0},{"$f":"IF(ISNUMBER(SEARCH($H$6,Q471)),MAX($P$1:P470)+1,0)","v":0},"reliance banking fund ip","MRC447","Banking",null,null,null,null,null,null,null,null,null,null,null,{"$f":"IFERROR(VLOOKUP(ROWS($AE$2:AE471),P471:Q2374,2,0),\"\")","v":""},null,null,null,null,{"$f":"IFERROR(VLOOKUP(ROWS($AJ$2:AJ471),O471:Q2374,3,0),\"\")","v":""},null,{"$f":"IFERROR(VLOOKUP(ROWS(AL$2:$AL471),N471:Q2374,4,0),\"\")","v":""}]
[null,null,null,null,null,null,null,null,null,null,null,null,null,{"$f":"IF(ISNUMBER(SEARCH($H$16,Q472)),MAX($N$1:N471)+1,0)","v":0},{"$f":"IF(ISNUMBER(SEARCH($H$11,Q472)),MAX($O$1:O471)+1,0)","v":0},{"$f":"IF(ISNUMBER(SEARCH($H$6,Q472)),MAX($P$1:P471)+1,0)","v":0},"religare invesco banking dir","MLI570","Banking",null,null,null,null,null,null,null,null,null,null,null,{"$f":"IFERROR(VLOOKUP(ROWS($AE$2:AE472),P472:Q2375,2,0),\"\")","v":""},null,null,null,null,{"$f":"IFERROR(VLOOKUP(ROWS($AJ$2:AJ472),O472:Q2375,3,0),\"\")","v":""},null,{"$f":"IFERROR(VLOOKUP(ROWS(AL$2:$AL472),N472:Q2375,4,0),\"\")","v":""}]
[null,null,null,null,null,null,null,null,null,null,null,null,null,{"$f":"IF(ISNUMBER(SEARCH($H$16,Q473)),MAX($N$1:N472)+1,0)","v":0},{"$f":"IF(ISNUMBER(SEARCH($H$11,Q473)),MAX($O$1:O472)+1,0)","v":0},{"$f":"IF(ISNUMBER(SEARCH($H$6,Q473)),MAX($P$1:P472)+1,0)","v":0},"religare invesco banking rp","MLI257","Banking",null,null,null,null,null,null,null,null,null,null,null,{"$f":"IFERROR(VLOOKUP(ROWS($AE$2:AE473),P473:Q2376,2,0),\"\")","v":""},null,null,null,null,{"$f":"IFERROR(VLOOKUP(ROWS($AJ$2:AJ473),O473:Q2376,3,0),\"\")","v":""},null,{"$f":"IFERROR(VLOOKUP(ROWS(AL$2:$AL473),N473:Q2376,4,0),\"\")","v":""}]
[null,null,null,null,null,null,null,null,null,null,null,null,null,{"$f":"IF(ISNUMBER(SEARCH($H$16,Q474)),MAX($N$1:N473)+1,0)","v":0},{"$f":"IF(ISNUMBER(SEARCH($H$11,Q474)),MAX($O$1:O473)+1,0)","v":0},{"$f":"IF(ISNUMBER(SEARCH($H$6,Q474)),MAX($P$1:P473)+1,0)","v":0},"sahara bkg fin services","MFI053","Banking",null,null,null,null,null,null,null,null,null,null,null,{"$f":"IFERROR(VLOOKUP(ROWS($AE$2:AE474),P474:Q2377,2,0),\"\")","v":""},null,null,null,null,{"$f":"IFERROR(VLOOKUP(ROWS($AJ$2:AJ474),O474:Q2377,3,0),\"\")","v":""},null,{"$f":"IFERROR(VLOOKUP(ROWS(AL$2:$AL474),N474:Q2377,4,0),\"\")","v":""}]
[null,null,null,null,null,null,null,null,null,null,null,null,null,{"$f":"IF(ISNUMBER(SEARCH($H$16,Q475)),MAX($N$1:N474)+1,0)","v":0},{"$f":"IF(ISNUMBER(SEARCH($H$11,Q475)),MAX($O$1:O474)+1,0)","v":0},{"$f":"IF(ISNUMBER(SEARCH($H$6,Q475)),MAX($P$1:P474)+1,0)","v":0},"sbi banking financial services dp","MSB1101","Banking",null,null,null,null,null,null,null,null,null,null,null,{"$f":"IFERROR(VLOOKUP(ROWS($AE$2:AE475),P475:Q2378,2,0),\"\")","v":""},null,null,null,null,{"$f":"IFERROR(VLOOKUP(ROWS($AJ$2:AJ475),O475:Q2378,3,0),\"\")","v":""},null,{"$f":"IFERROR(VLOOKUP(ROWS(AL$2:$AL475),N475:Q2378,4,0),\"\")","v":""}]
[null,null,null,null,null,null,null,null,null,null,null,null,null,{"$f":"IF(ISNUMBER(SEARCH($H$16,Q476)),MAX($N$1:N475)+1,0)","v":0},{"$f":"IF(ISNUMBER(SEARCH($H$11,Q476)),MAX($O$1:O475)+1,0)","v":0},{"$f":"IF(ISNUMBER(SEARCH($H$6,Q476)),MAX($P$1:P475)+1,0)","v":0},"sbi banking financial services rp","MSB1099","Banking",null,null,null,null,null,null,null,null,null,null,null,{"$f":"IFERROR(VLOOKUP(ROWS($AE$2:AE476),P476:Q2379,2,0),\"\")","v":""},null,null,null,null,{"$f":"IFERROR(VLOOKUP(ROWS($AJ$2:AJ476),O476:Q2379,3,0),\"\")","v":""},null,{"$f":"IFERROR(VLOOKUP(ROWS(AL$2:$AL476),N476:Q2379,4,0),\"\")","v":""}]
[null,null,null,null,null,null,null,null,null,null,null,null,null,{"$f":"IF(ISNUMBER(SEARCH($H$16,Q477)),MAX($N$1:N476)+1,0)","v":0},{"$f":"IF(ISNUMBER(SEARCH($H$11,Q477)),MAX($O$1:O476)+1,0)","v":0},{"$f":"IF(ISNUMBER(SEARCH($H$6,Q477)),MAX($P$1:P476)+1,0)","v":0},"sundaram fin serv opp ip","MSN229","Banking",null,null,null,null,null,null,null,null,null,null,null,{"$f":"IFERROR(VLOOKUP(ROWS($AE$2:AE477),P477:Q2380,2,0),\"\")","v":""},null,null,null,null,{"$f":"IFERROR(VLOOKUP(ROWS($AJ$2:AJ477),O477:Q2380,3,0),\"\")","v":""},null,{"$f":"IFERROR(VLOOKUP(ROWS(AL$2:$AL477),N477:Q2380,4,0),\"\")","v":""}]
[null,null,null,null,null,null,null,null,null,null,null,null,null,{"$f":"IF(ISNUMBER(SEARCH($H$16,Q478)),MAX($N$1:N477)+1,0)","v":0},{"$f":"IF(ISNUMBER(SEARCH($H$11,Q478)),MAX($O$1:O477)+1,0)","v":0},{"$f":"IF(ISNUMBER(SEARCH($H$6,Q478)),MAX($P$1:P477)+1,0)","v":0},"sundaram fin serv opp rp","MSN227","Banking",null,null,null,null,null,null,null,null,null,null,null,{"$f":"IFERROR(VLOOKUP(ROWS($AE$2:AE478),P478:Q2381,2,0),\"\")","v":""},null,null,null,null,{"$f":"IFERROR(VLOOKUP(ROWS($AJ$2:AJ478),O478:Q2381,3,0),\"\")","v":""},null,{"$f":"IFERROR(VLOOKUP(ROWS(AL$2:$AL478),N478:Q2381,4,0),\"\")","v":""}]
[null,null,null,null,null,null,null,null,null,null,null,null,null,{"$f":"IF(ISNUMBER(SEARCH($H$16,Q479)),MAX($N$1:N478)+1,0)","v":0},{"$f":"IF(ISNUMBER(SEARCH($H$11,Q479)),MAX($O$1:O478)+1,0)","v":0},{"$f":"IF(ISNUMBER(SEARCH($H$6,Q479)),MAX($P$1:P478)+1,0)","v":0},"taurus banking financial serv ","MCM120","Banking",null,null,null,null,null,null,null,null,null,null,null,{"$f":"IFERROR(VLOOKUP(ROWS($AE$2:AE479),P479:Q2382,2,0),\"\")","v":""},null,null,null,null,{"$f":"IFERROR(VLOOKUP(ROWS($AJ$2:AJ479),O479:Q2382,3,0),\"\")","v":""},null,{"$f":"IFERROR(VLOOKUP(ROWS(AL$2:$AL479),N479:Q2382,4,0),\"\")","v":""}]
[null,null,null,null,null,null,null,null,null,null,null,null,null,{"$f":"IF(ISNUMBER(SEARCH($H$16,Q480)),MAX($N$1:N479)+1,0)","v":0},{"$f":"IF(ISNUMBER(SEARCH($H$11,Q480)),MAX($O$1:O479)+1,0)","v":0},{"$f":"IF(ISNUMBER(SEARCH($H$6,Q480)),MAX($P$1:P479)+1,0)","v":0},"uti banking sector","MUT064","Banking",null,null,null,null,null,null,null,null,null,null,null,{"$f":"IFERROR(VLOOKUP(ROWS($AE$2:AE480),P480:Q2383,2,0),\"\")","v":""},null,null,null,null,{"$f":"IFERROR(VLOOKUP(ROWS($AJ$2:AJ480),O480:Q2383,3,0),\"\")","v":""},null,{"$f":"IFERROR(VLOOKUP(ROWS(AL$2:$AL480),N480:Q2383,4,0),\"\")","v":""}]
[null,null,null,null,null,null,null,null,null,null,null,null,null,{"$f":"IF(ISNUMBER(SEARCH($H$16,Q481)),MAX($N$1:N480)+1,0)","v":0},{"$f":"IF(ISNUMBER(SEARCH($H$11,Q481)),MAX($O$1:O480)+1,0)","v":0},{"$f":"IF(ISNUMBER(SEARCH($H$6,Q481)),MAX($P$1:P480)+1,0)","v":0},"ICICI FMCG","MPI004","FMCG",null,null,null,null,null,null,null,null,null,null,null,{"$f":"IFERROR(VLOOKUP(ROWS($AE$2:AE481),P481:Q2384,2,0),\"\")","v":""},null,null,null,null,{"$f":"IFERROR(VLOOKUP(ROWS($AJ$2:AJ481),O481:Q2384,3,0),\"\")","v":""},null,{"$f":"IFERROR(VLOOKUP(ROWS(AL$2:$AL481),N481:Q2384,4,0),\"\")","v":""}]
[null,null,null,null,null,null,null,null,null,null,null,null,null,{"$f":"IF(ISNUMBER(SEARCH($H$16,Q482)),MAX($N$1:N481)+1,0)","v":0},{"$f":"IF(ISNUMBER(SEARCH($H$11,Q482)),MAX($O$1:O481)+1,0)","v":0},{"$f":"IF(ISNUMBER(SEARCH($H$6,Q482)),MAX($P$1:P481)+1,0)","v":0},"SBI FMCG","MSB492","FMCG",null,null,null,null,null,null,null,null,null,null,null,{"$f":"IFERROR(VLOOKUP(ROWS($AE$2:AE482),P482:Q2385,2,0),\"\")","v":""},null,null,null,null,{"$f":"IFERROR(VLOOKUP(ROWS($AJ$2:AJ482),O482:Q2385,3,0),\"\")","v":""},null,{"$f":"IFERROR(VLOOKUP(ROWS(AL$2:$AL482),N482:Q2385,4,0),\"\")","v":""}]
[null,null,null,null,null,null,null,null,null,null,null,null,null,{"$f":"IF(ISNUMBER(SEARCH($H$16,Q483)),MAX($N$1:N482)+1,0)","v":0},{"$f":"IF(ISNUMBER(SEARCH($H$11,Q483)),MAX($O$1:O482)+1,0)","v":0},{"$f":"IF(ISNUMBER(SEARCH($H$6,Q483)),MAX($P$1:P482)+1,0)","v":0},"icici pru technology direct","MPI1128","Technology",null,null,null,null,null,null,null,null,null,null,null,{"$f":"IFERROR(VLOOKUP(ROWS($AE$2:AE483),P483:Q2386,2,0),\"\")","v":""},null,null,null,null,{"$f":"IFERROR(VLOOKUP(ROWS($AJ$2:AJ483),O483:Q2386,3,0),\"\")","v":""},null,{"$f":"IFERROR(VLOOKUP(ROWS(AL$2:$AL483),N483:Q2386,4,0),\"\")","v":""}]
[null,null,null,null,null,null,null,null,null,null,null,null,null,{"$f":"IF(ISNUMBER(SEARCH($H$16,Q484)),MAX($N$1:N483)+1,0)","v":0},{"$f":"IF(ISNUMBER(SEARCH($H$11,Q484)),MAX($O$1:O483)+1,0)","v":0},{"$f":"IF(ISNUMBER(SEARCH($H$6,Q484)),MAX($P$1:P483)+1,0)","v":0},"icici pru tech fund","MPI015","Technology",null,null,null,null,null,null,null,null,null,null,null,{"$f":"IFERROR(VLOOKUP(ROWS($AE$2:AE484),P484:Q2387,2,0),\"\")","v":""},null,null,null,null,{"$f":"IFERROR(VLOOKUP(ROWS($AJ$2:AJ484),O484:Q2387,3,0),\"\")","v":""},null,{"$f":"IFERROR(VLOOKUP(ROWS(AL$2:$AL484),N484:Q2387,4,0),\"\")","v":""}]
[null,null,null,null,null,null,null,null,null,null,null,null,null,{"$f":"IF(ISNUMBER(SEARCH($H$16,Q485)),MAX($N$1:N484)+1,0)","v":0},{"$f":"IF(ISNUMBER(SEARCH($H$11,Q485)),MAX($O$1:O484)+1,0)","v":0},{"$f":"IF(ISNUMBER(SEARCH($H$6,Q485)),MAX($P$1:P484)+1,0)","v":0},"sbi it fund","MSB491","Technology",null,null,null,null,null,null,null,null,null,null,null,{"$f":"IFERROR(VLOOKUP(ROWS($AE$2:AE485),P485:Q2388,2,0),\"\")","v":""},null,null,null,null,{"$f":"IFERROR(VLOOKUP(ROWS($AJ$2:AJ485),O485:Q2388,3,0),\"\")","v":""},null,{"$f":"IFERROR(VLOOKUP(ROWS(AL$2:$AL485),N485:Q2388,4,0),\"\")","v":""}]
[null,null,null,null,null,null,null,null,null,null,null,null,null,{"$f":"IF(ISNUMBER(SEARCH($H$16,Q486)),MAX($N$1:N485)+1,0)","v":0},{"$f":"IF(ISNUMBER(SEARCH($H$11,Q486)),MAX($O$1:O485)+1,0)","v":0},{"$f":"IF(ISNUMBER(SEARCH($H$6,Q486)),MAX($P$1:P485)+1,0)","v":0},"birla sl new millennium","MAC025","Technology",null,null,null,null,null,null,null,null,null,null,null,{"$f":"IFERROR(VLOOKUP(ROWS($AE$2:AE486),P486:Q2389,2,0),\"\")","v":""},null,null,null,null,{"$f":"IFERROR(VLOOKUP(ROWS($AJ$2:AJ486),O486:Q2389,3,0),\"\")","v":""},null,{"$f":"IFERROR(VLOOKUP(ROWS(AL$2:$AL486),N486:Q2389,4,0),\"\")","v":""}]
[null,null,null,null,null,null,null,null,null,null,null,null,null,{"$f":"IF(ISNUMBER(SEARCH($H$16,Q487)),MAX($N$1:N486)+1,0)","v":0},{"$f":"IF(ISNUMBER(SEARCH($H$11,Q487)),MAX($O$1:O486)+1,0)","v":0},{"$f":"IF(ISNUMBER(SEARCH($H$6,Q487)),MAX($P$1:P486)+1,0)","v":0},"dsp br technology com rp","MDS010","Technology",null,null,null,null,null,null,null,null,null,null,null,{"$f":"IFERROR(VLOOKUP(ROWS($AE$2:AE487),P487:Q2390,2,0),\"\")","v":""},null,null,null,null,{"$f":"IFERROR(VLOOKUP(ROWS($AJ$2:AJ487),O487:Q2390,3,0),\"\")","v":""},null,{"$f":"IFERROR(VLOOKUP(ROWS(AL$2:$AL487),N487:Q2390,4,0),\"\")","v":""}]
[null,null,null,null,null,null,null,null,null,null,null,null,null,{"$f":"IF(ISNUMBER(SEARCH($H$16,Q488)),MAX($N$1:N487)+1,0)","v":0},{"$f":"IF(ISNUMBER(SEARCH($H$11,Q488)),MAX($O$1:O487)+1,0)","v":0},{"$f":"IF(ISNUMBER(SEARCH($H$6,Q488)),MAX($P$1:P487)+1,0)","v":0},"franklin infotech fund","MKP004","Technology",null,null,null,null,null,null,null,null,null,null,null,{"$f":"IFERROR(VLOOKUP(ROWS($AE$2:AE488),P488:Q2391,2,0),\"\")","v":""},null,null,null,null,{"$f":"IFERROR(VLOOKUP(ROWS($AJ$2:AJ488),O488:Q2391,3,0),\"\")","v":""},null,{"$f":"IFERROR(VLOOKUP(ROWS(AL$2:$AL488),N488:Q2391,4,0),\"\")","v":""}]
[null,null,null,null,null,null,null,null,null,null,null,null,null,{"$f":"IF(ISNUMBER(SEARCH($H$16,Q489)),MAX($N$1:N488)+1,0)","v":0},{"$f":"IF(ISNUMBER(SEARCH($H$11,Q489)),MAX($O$1:O488)+1,0)","v":0},{"$f":"IF(ISNUMBER(SEARCH($H$6,Q489)),MAX($P$1:P488)+1,0)","v":0},"uti transport logistics direct","MUT623","other sectors",null,null,null,null,null,null,null,null,null,null,null,{"$f":"IFERROR(VLOOKUP(ROWS($AE$2:AE489),P489:Q2392,2,0),\"\")","v":""},null,null,null,null,{"$f":"IFERROR(VLOOKUP(ROWS($AJ$2:AJ489),O489:Q2392,3,0),\"\")","v":""},null,{"$f":"IFERROR(VLOOKUP(ROWS(AL$2:$AL489),N489:Q2392,4,0),\"\")","v":""}]
[null,null,null,null,null,null,null,null,null,null,null,null,null,{"$f":"IF(ISNUMBER(SEARCH($H$16,Q490)),MAX($N$1:N489)+1,0)","v":0},{"$f":"IF(ISNUMBER(SEARCH($H$11,Q490)),MAX($O$1:O489)+1,0)","v":0},{"$f":"IF(ISNUMBER(SEARCH($H$6,Q490)),MAX($P$1:P489)+1,0)","v":0},"uti transport logistics","MUT066","other sectors",null,null,null,null,null,null,null,null,null,null,null,{"$f":"IFERROR(VLOOKUP(ROWS($AE$2:AE490),P490:Q2393,2,0),\"\")","v":""},null,null,null,null,{"$f":"IFERROR(VLOOKUP(ROWS($AJ$2:AJ490),O490:Q2393,3,0),\"\")","v":""},null,{"$f":"IFERROR(VLOOKUP(ROWS(AL$2:$AL490),N490:Q2393,4,0),\"\")","v":""}]
[null,null,null,null,null,null,null,null,null,null,null,null,null,{"$f":"IF(ISNUMBER(SEARCH($H$16,Q491)),MAX($N$1:N490)+1,0)","v":0},{"$f":"IF(ISNUMBER(SEARCH($H$11,Q491)),MAX($O$1:O490)+1,0)","v":0},{"$f":"IF(ISNUMBER(SEARCH($H$6,Q491)),MAX($P$1:P490)+1,0)","v":0},"can robeco force ip","MCA165","other sectors",null,null,null,null,null,null,null,null,null,null,null,{"$f":"IFERROR(VLOOKUP(ROWS($AE$2:AE491),P491:Q2394,2,0),\"\")","v":""},null,null,null,null,{"$f":"IFERROR(VLOOKUP(ROWS($AJ$2:AJ491),O491:Q2394,3,0),\"\")","v":""},null,{"$f":"IFERROR(VLOOKUP(ROWS(AL$2:$AL491),N491:Q2394,4,0),\"\")","v":""}]
[null,null,null,null,null,null,null,null,null,null,null,null,null,{"$f":"IF(ISNUMBER(SEARCH($H$16,Q492)),MAX($N$1:N491)+1,0)","v":0},{"$f":"IF(ISNUMBER(SEARCH($H$11,Q492)),MAX($O$1:O491)+1,0)","v":0},{"$f":"IF(ISNUMBER(SEARCH($H$6,Q492)),MAX($P$1:P491)+1,0)","v":0},"can robeco force rp","MCA163","other sectors",null,null,null,null,null,null,null,null,null,null,null,{"$f":"IFERROR(VLOOKUP(ROWS($AE$2:AE492),P492:Q2395,2,0),\"\")","v":""},null,null,null,null,{"$f":"IFERROR(VLOOKUP(ROWS($AJ$2:AJ492),O492:Q2395,3,0),\"\")","v":""},null,{"$f":"IFERROR(VLOOKUP(ROWS(AL$2:$AL492),N492:Q2395,4,0),\"\")","v":""}]
[null,null,null,null,null,null,null,null,null,null,null,null,null,{"$f":"IF(ISNUMBER(SEARCH($H$16,Q493)),MAX($N$1:N492)+1,0)","v":0},{"$f":"IF(ISNUMBER(SEARCH($H$11,Q493)),MAX($O$1:O492)+1,0)","v":0},{"$f":"IF(ISNUMBER(SEARCH($H$6,Q493)),MAX($P$1:P492)+1,0)","v":0},"sundaram media ent opp rp","MSN231","other sectors",null,null,null,null,null,null,null,null,null,null,null,{"$f":"IFERROR(VLOOKUP(ROWS($AE$2:AE493),P493:Q2396,2,0),\"\")","v":""},null,null,null,null,{"$f":"IFERROR(VLOOKUP(ROWS($AJ$2:AJ493),O493:Q2396,3,0),\"\")","v":""},null,{"$f":"IFERROR(VLOOKUP(ROWS(AL$2:$AL493),N493:Q2396,4,0),\"\")","v":""}]
[null,null,null,null,null,null,null,null,null,null,null,null,null,{"$f":"IF(ISNUMBER(SEARCH($H$16,Q494)),MAX($N$1:N493)+1,0)","v":0},{"$f":"IF(ISNUMBER(SEARCH($H$11,Q494)),MAX($O$1:O493)+1,0)","v":0},{"$f":"IF(ISNUMBER(SEARCH($H$6,Q494)),MAX($P$1:P493)+1,0)","v":0},"idfc ss 50 50 equity regular","MAG269","other sectors",null,null,null,null,null,null,null,null,null,null,null,{"$f":"IFERROR(VLOOKUP(ROWS($AE$2:AE494),P494:Q2397,2,0),\"\")","v":""},null,null,null,null,{"$f":"IFERROR(VLOOKUP(ROWS($AJ$2:AJ494),O494:Q2397,3,0),\"\")","v":""},null,{"$f":"IFERROR(VLOOKUP(ROWS(AL$2:$AL494),N494:Q2397,4,0),\"\")","v":""}]
[null,null,null,null,null,null,null,null,null,null,null,null,null,{"$f":"IF(ISNUMBER(SEARCH($H$16,Q495)),MAX($N$1:N494)+1,0)","v":0},{"$f":"IF(ISNUMBER(SEARCH($H$11,Q495)),MAX($O$1:O494)+1,0)","v":0},{"$f":"IF(ISNUMBER(SEARCH($H$6,Q495)),MAX($P$1:P494)+1,0)","v":0},"idfc ss 50 50 equity b","MAG333","other sectors",null,null,null,null,null,null,null,null,null,null,null,{"$f":"IFERROR(VLOOKUP(ROWS($AE$2:AE495),P495:Q2398,2,0),\"\")","v":""},null,null,null,null,{"$f":"IFERROR(VLOOKUP(ROWS($AJ$2:AJ495),O495:Q2398,3,0),\"\")","v":""},null,{"$f":"IFERROR(VLOOKUP(ROWS(AL$2:$AL495),N495:Q2398,4,0),\"\")","v":""}]
[null,null,null,null,null,null,null,null,null,null,null,null,null,{"$f":"IF(ISNUMBER(SEARCH($H$16,Q496)),MAX($N$1:N495)+1,0)","v":0},{"$f":"IF(ISNUMBER(SEARCH($H$11,Q496)),MAX($O$1:O495)+1,0)","v":0},{"$f":"IF(ISNUMBER(SEARCH($H$6,Q496)),MAX($P$1:P495)+1,0)","v":0},"sahara real fund ","MFI037","other sectors",null,null,null,null,null,null,null,null,null,null,null,{"$f":"IFERROR(VLOOKUP(ROWS($AE$2:AE496),P496:Q2399,2,0),\"\")","v":""},null,null,null,null,{"$f":"IFERROR(VLOOKUP(ROWS($AJ$2:AJ496),O496:Q2399,3,0),\"\")","v":""},null,{"$f":"IFERROR(VLOOKUP(ROWS(AL$2:$AL496),N496:Q2399,4,0),\"\")","v":""}]
[null,null,null,null,null,null,null,null,null,null,null,null,null,{"$f":"IF(ISNUMBER(SEARCH($H$16,Q497)),MAX($N$1:N496)+1,0)","v":0},{"$f":"IF(ISNUMBER(SEARCH($H$11,Q497)),MAX($O$1:O496)+1,0)","v":0},{"$f":"IF(ISNUMBER(SEARCH($H$6,Q497)),MAX($P$1:P496)+1,0)","v":0},"reliance media entertain","MRC071","other sectors",null,null,null,null,null,null,null,null,null,null,null,{"$f":"IFERROR(VLOOKUP(ROWS($AE$2:AE497),P497:Q2400,2,0),\"\")","v":""},null,null,null,null,{"$f":"IFERROR(VLOOKUP(ROWS($AJ$2:AJ497),O497:Q2400,3,0),\"\")","v":""},null,{"$f":"IFERROR(VLOOKUP(ROWS(AL$2:$AL497),N497:Q2400,4,0),\"\")","v":""}]
[null,null,null,null,null,null,null,null,null,null,null,null,null,{"$f":"IF(ISNUMBER(SEARCH($H$16,Q498)),MAX($N$1:N497)+1,0)","v":0},{"$f":"IF(ISNUMBER(SEARCH($H$11,Q498)),MAX($O$1:O497)+1,0)","v":0},{"$f":"IF(ISNUMBER(SEARCH($H$6,Q498)),MAX($P$1:P497)+1,0)","v":0},"uti energy fund","MUT030","other sectors",null,null,null,null,null,null,null,null,null,null,null,{"$f":"IFERROR(VLOOKUP(ROWS($AE$2:AE498),P498:Q2401,2,0),\"\")","v":""},null,null,null,null,{"$f":"IFERROR(VLOOKUP(ROWS($AJ$2:AJ498),O498:Q2401,3,0),\"\")","v":""},null,{"$f":"IFERROR(VLOOKUP(ROWS(AL$2:$AL498),N498:Q2401,4,0),\"\")","v":""}]
[null,null,null,null,null,null,null,null,null,null,null,null,null,{"$f":"IF(ISNUMBER(SEARCH($H$16,Q499)),MAX($N$1:N498)+1,0)","v":0},{"$f":"IF(ISNUMBER(SEARCH($H$11,Q499)),MAX($O$1:O498)+1,0)","v":0},{"$f":"IF(ISNUMBER(SEARCH($H$6,Q499)),MAX($P$1:P498)+1,0)","v":0},"sbi magnum comma fund","MSB069","other sectors",null,null,null,null,null,null,null,null,null,null,null,{"$f":"IFERROR(VLOOKUP(ROWS($AE$2:AE499),P499:Q2402,2,0),\"\")","v":""},null,null,null,null,{"$f":"IFERROR(VLOOKUP(ROWS($AJ$2:AJ499),O499:Q2402,3,0),\"\")","v":""},null,{"$f":"IFERROR(VLOOKUP(ROWS(AL$2:$AL499),N499:Q2402,4,0),\"\")","v":""}]
[null,null,null,null,null,null,null,null,null,null,null,null,null,{"$f":"IF(ISNUMBER(SEARCH($H$16,Q500)),MAX($N$1:N499)+1,0)","v":0},{"$f":"IF(ISNUMBER(SEARCH($H$11,Q500)),MAX($O$1:O499)+1,0)","v":0},{"$f":"IF(ISNUMBER(SEARCH($H$6,Q500)),MAX($P$1:P499)+1,0)","v":0},"baroda pioneer psu equity fund","MBO050","other sectors",null,null,null,null,null,null,null,null,null,null,null,{"$f":"IFERROR(VLOOKUP(ROWS($AE$2:AE500),P500:Q2403,2,0),\"\")","v":""},null,null,null,null,{"$f":"IFERROR(VLOOKUP(ROWS($AJ$2:AJ500),O500:Q2403,3,0),\"\")","v":""},null,{"$f":"IFERROR(VLOOKUP(ROWS(AL$2:$AL500),N500:Q2403,4,0),\"\")","v":""}]
[null,null,null,null,null,null,null,null,null,null,null,null,null,{"$f":"IF(ISNUMBER(SEARCH($H$16,Q501)),MAX($N$1:N500)+1,0)","v":0},{"$f":"IF(ISNUMBER(SEARCH($H$11,Q501)),MAX($O$1:O500)+1,0)","v":0},{"$f":"IF(ISNUMBER(SEARCH($H$6,Q501)),MAX($P$1:P500)+1,0)","v":0},"gs junior bees","MBM002","Index",null,null,null,null,null,null,null,null,null,null,null,{"$f":"IFERROR(VLOOKUP(ROWS($AE$2:AE501),P501:Q2404,2,0),\"\")","v":""},null,null,null,null,{"$f":"IFERROR(VLOOKUP(ROWS($AJ$2:AJ501),O501:Q2404,3,0),\"\")","v":""},null,{"$f":"IFERROR(VLOOKUP(ROWS(AL$2:$AL501),N501:Q2404,4,0),\"\")","v":""}]
[null,null,null,null,null,null,null,null,null,null,null,null,null,{"$f":"IF(ISNUMBER(SEARCH($H$16,Q502)),MAX($N$1:N501)+1,0)","v":0},{"$f":"IF(ISNUMBER(SEARCH($H$11,Q502)),MAX($O$1:O501)+1,0)","v":0},{"$f":"IF(ISNUMBER(SEARCH($H$6,Q502)),MAX($P$1:P501)+1,0)","v":0},"tata index fund sensex plan b ","MTA038","Index",null,null,null,null,null,null,null,null,null,null,null,{"$f":"IFERROR(VLOOKUP(ROWS($AE$2:AE502),P502:Q2405,2,0),\"\")","v":""},null,null,null,null,{"$f":"IFERROR(VLOOKUP(ROWS($AJ$2:AJ502),O502:Q2405,3,0),\"\")","v":""},null,{"$f":"IFERROR(VLOOKUP(ROWS(AL$2:$AL502),N502:Q2405,4,0),\"\")","v":""}]
[null,null,null,null,null,null,null,null,null,null,null,null,null,{"$f":"IF(ISNUMBER(SEARCH($H$16,Q503)),MAX($N$1:N502)+1,0)","v":0},{"$f":"IF(ISNUMBER(SEARCH($H$11,Q503)),MAX($O$1:O502)+1,0)","v":0},{"$f":"IF(ISNUMBER(SEARCH($H$6,Q503)),MAX($P$1:P502)+1,0)","v":0},"icici pru nifty junior direct","MPI1185","Index",null,null,null,null,null,null,null,null,null,null,null,{"$f":"IFERROR(VLOOKUP(ROWS($AE$2:AE503),P503:Q2406,2,0),\"\")","v":""},null,null,null,null,{"$f":"IFERROR(VLOOKUP(ROWS($AJ$2:AJ503),O503:Q2406,3,0),\"\")","v":""},null,{"$f":"IFERROR(VLOOKUP(ROWS(AL$2:$AL503),N503:Q2406,4,0),\"\")","v":""}]
[null,null,null,null,null,null,null,null,null,null,null,null,null,{"$f":"IF(ISNUMBER(SEARCH($H$16,Q504)),MAX($N$1:N503)+1,0)","v":0},{"$f":"IF(ISNUMBER(SEARCH($H$11,Q504)),MAX($O$1:O503)+1,0)","v":0},{"$f":"IF(ISNUMBER(SEARCH($H$6,Q504)),MAX($P$1:P503)+1,0)","v":0},"principal index fund midcap dp","MID364","Index",null,null,null,null,null,null,null,null,null,null,null,{"$f":"IFERROR(VLOOKUP(ROWS($AE$2:AE504),P504:Q2407,2,0),\"\")","v":""},null,null,null,null,{"$f":"IFERROR(VLOOKUP(ROWS($AJ$2:AJ504),O504:Q2407,3,0),\"\")","v":""},null,{"$f":"IFERROR(VLOOKUP(ROWS(AL$2:$AL504),N504:Q2407,4,0),\"\")","v":""}]
[null,null,null,null,null,null,null,null,null,null,null,null,null,{"$f":"IF(ISNUMBER(SEARCH($H$16,Q505)),MAX($N$1:N504)+1,0)","v":0},{"$f":"IF(ISNUMBER(SEARCH($H$11,Q505)),MAX($O$1:O504)+1,0)","v":0},{"$f":"IF(ISNUMBER(SEARCH($H$6,Q505)),MAX($P$1:P504)+1,0)","v":0},"idbi nifty junior index direct","MIB076","Index",null,null,null,null,null,null,null,null,null,null,null,{"$f":"IFERROR(VLOOKUP(ROWS($AE$2:AE505),P505:Q2408,2,0),\"\")","v":""},null,null,null,null,{"$f":"IFERROR(VLOOKUP(ROWS($AJ$2:AJ505),O505:Q2408,3,0),\"\")","v":""},null,{"$f":"IFERROR(VLOOKUP(ROWS(AL$2:$AL505),N505:Q2408,4,0),\"\")","v":""}]
[null,null,null,null,null,null,null,null,null,null,null,null,null,{"$f":"IF(ISNUMBER(SEARCH($H$16,Q506)),MAX($N$1:N505)+1,0)","v":0},{"$f":"IF(ISNUMBER(SEARCH($H$11,Q506)),MAX($O$1:O505)+1,0)","v":0},{"$f":"IF(ISNUMBER(SEARCH($H$6,Q506)),MAX($P$1:P505)+1,0)","v":0},"icici pru nifty junior index","MPI751","Index",null,null,null,null,null,null,null,null,null,null,null,{"$f":"IFERROR(VLOOKUP(ROWS($AE$2:AE506),P506:Q2409,2,0),\"\")","v":""},null,null,null,null,{"$f":"IFERROR(VLOOKUP(ROWS($AJ$2:AJ506),O506:Q2409,3,0),\"\")","v":""},null,{"$f":"IFERROR(VLOOKUP(ROWS(AL$2:$AL506),N506:Q2409,4,0),\"\")","v":""}]
[null,null,null,null,null,null,null,null,null,null,null,null,null,{"$f":"IF(ISNUMBER(SEARCH($H$16,Q507)),MAX($N$1:N506)+1,0)","v":0},{"$f":"IF(ISNUMBER(SEARCH($H$11,Q507)),MAX($O$1:O506)+1,0)","v":0},{"$f":"IF(ISNUMBER(SEARCH($H$6,Q507)),MAX($P$1:P506)+1,0)","v":0},"principal index fund midcap rp","MID362","Index",null,null,null,null,null,null,null,null,null,null,null,{"$f":"IFERROR(VLOOKUP(ROWS($AE$2:AE507),P507:Q2410,2,0),\"\")","v":""},null,null,null,null,{"$f":"IFERROR(VLOOKUP(ROWS($AJ$2:AJ507),O507:Q2410,3,0),\"\")","v":""},null,{"$f":"IFERROR(VLOOKUP(ROWS(AL$2:$AL507),N507:Q2410,4,0),\"\")","v":""}]
[null,null,null,null,null,null,null,null,null,null,null,null,null,{"$f":"IF(ISNUMBER(SEARCH($H$16,Q508)),MAX($N$1:N507)+1,0)","v":0},{"$f":"IF(ISNUMBER(SEARCH($H$11,Q508)),MAX($O$1:O507)+1,0)","v":0},{"$f":"IF(ISNUMBER(SEARCH($H$6,Q508)),MAX($P$1:P507)+1,0)","v":0},"idbi nifty junior index fund","MIB007","Index",null,null,null,null,null,null,null,null,null,null,null,{"$f":"IFERROR(VLOOKUP(ROWS($AE$2:AE508),P508:Q2411,2,0),\"\")","v":""},null,null,null,null,{"$f":"IFERROR(VLOOKUP(ROWS($AJ$2:AJ508),O508:Q2411,3,0),\"\")","v":""},null,{"$f":"IFERROR(VLOOKUP(ROWS(AL$2:$AL508),N508:Q2411,4,0),\"\")","v":""}]
[null,null,null,null,null,null,null,null,null,null,null,null,null,{"$f":"IF(ISNUMBER(SEARCH($H$16,Q509)),MAX($N$1:N508)+1,0)","v":0},{"$f":"IF(ISNUMBER(SEARCH($H$11,Q509)),MAX($O$1:O508)+1,0)","v":0},{"$f":"IF(ISNUMBER(SEARCH($H$6,Q509)),MAX($P$1:P508)+1,0)","v":0},"r*shares consumption etf","MRC1474","Index",null,null,null,null,null,null,null,null,null,null,null,{"$f":"IFERROR(VLOOKUP(ROWS($AE$2:AE509),P509:Q2412,2,0),\"\")","v":""},null,null,null,null,{"$f":"IFERROR(VLOOKUP(ROWS($AJ$2:AJ509),O509:Q2412,3,0),\"\")","v":""},null,{"$f":"IFERROR(VLOOKUP(ROWS(AL$2:$AL509),N509:Q2412,4,0),\"\")","v":""}]
[null,null,null,null,null,null,null,null,null,null,null,null,null,{"$f":"IF(ISNUMBER(SEARCH($H$16,Q510)),MAX($N$1:N509)+1,0)","v":0},{"$f":"IF(ISNUMBER(SEARCH($H$11,Q510)),MAX($O$1:O509)+1,0)","v":0},{"$f":"IF(ISNUMBER(SEARCH($H$6,Q510)),MAX($P$1:P509)+1,0)","v":0},"gs cnx 500 fund direct","MBM033","Index",null,null,null,null,null,null,null,null,null,null,null,{"$f":"IFERROR(VLOOKUP(ROWS($AE$2:AE510),P510:Q2413,2,0),\"\")","v":""},null,null,null,null,{"$f":"IFERROR(VLOOKUP(ROWS($AJ$2:AJ510),O510:Q2413,3,0),\"\")","v":""},null,{"$f":"IFERROR(VLOOKUP(ROWS(AL$2:$AL510),N510:Q2413,4,0),\"\")","v":""}]
[null,null,null,null,null,null,null,null,null,null,null,null,null,{"$f":"IF(ISNUMBER(SEARCH($H$16,Q511)),MAX($N$1:N510)+1,0)","v":0},{"$f":"IF(ISNUMBER(SEARCH($H$11,Q511)),MAX($O$1:O510)+1,0)","v":0},{"$f":"IF(ISNUMBER(SEARCH($H$6,Q511)),MAX($P$1:P510)+1,0)","v":0},"gs cnx 500 fund","MBM023","Index",null,null,null,null,null,null,null,null,null,null,null,{"$f":"IFERROR(VLOOKUP(ROWS($AE$2:AE511),P511:Q2414,2,0),\"\")","v":""},null,null,null,null,{"$f":"IFERROR(VLOOKUP(ROWS($AJ$2:AJ511),O511:Q2414,3,0),\"\")","v":""},null,{"$f":"IFERROR(VLOOKUP(ROWS(AL$2:$AL511),N511:Q2414,4,0),\"\")","v":""}]
[null,null,null,null,null,null,null,null,null,null,null,null,null,{"$f":"IF(ISNUMBER(SEARCH($H$16,Q512)),MAX($N$1:N511)+1,0)","v":0},{"$f":"IF(ISNUMBER(SEARCH($H$11,Q512)),MAX($O$1:O511)+1,0)","v":0},{"$f":"IF(ISNUMBER(SEARCH($H$6,Q512)),MAX($P$1:P511)+1,0)","v":0},"icici prudential cnx 100 etf","MPI1512","Index",null,null,null,null,null,null,null,null,null,null,null,{"$f":"IFERROR(VLOOKUP(ROWS($AE$2:AE512),P512:Q2415,2,0),\"\")","v":""},null,null,null,null,{"$f":"IFERROR(VLOOKUP(ROWS($AJ$2:AJ512),O512:Q2415,3,0),\"\")","v":""},null,{"$f":"IFERROR(VLOOKUP(ROWS(AL$2:$AL512),N512:Q2415,4,0),\"\")","v":""}]
[null,null,null,null,null,null,null,null,null,null,null,null,null,{"$f":"IF(ISNUMBER(SEARCH($H$16,Q513)),MAX($N$1:N512)+1,0)","v":0},{"$f":"IF(ISNUMBER(SEARCH($H$11,Q513)),MAX($O$1:O512)+1,0)","v":0},{"$f":"IF(ISNUMBER(SEARCH($H$6,Q513)),MAX($P$1:P512)+1,0)","v":0},"r*shares cnx 100 etf","MRC1048","Index",null,null,null,null,null,null,null,null,null,null,null,{"$f":"IFERROR(VLOOKUP(ROWS($AE$2:AE513),P513:Q2416,2,0),\"\")","v":""},null,null,null,null,{"$f":"IFERROR(VLOOKUP(ROWS($AJ$2:AJ513),O513:Q2416,3,0),\"\")","v":""},null,{"$f":"IFERROR(VLOOKUP(ROWS(AL$2:$AL513),N513:Q2416,4,0),\"\")","v":""}]
[null,null,null,null,null,null,null,null,null,null,null,null,null,{"$f":"IF(ISNUMBER(SEARCH($H$16,Q514)),MAX($N$1:N513)+1,0)","v":0},{"$f":"IF(ISNUMBER(SEARCH($H$11,Q514)),MAX($O$1:O513)+1,0)","v":0},{"$f":"IF(ISNUMBER(SEARCH($H$6,Q514)),MAX($P$1:P513)+1,0)","v":0},"iifl nifty etf","MII001","Index",null,null,null,null,null,null,null,null,null,null,null,{"$f":"IFERROR(VLOOKUP(ROWS($AE$2:AE514),P514:Q2417,2,0),\"\")","v":""},null,null,null,null,{"$f":"IFERROR(VLOOKUP(ROWS($AJ$2:AJ514),O514:Q2417,3,0),\"\")","v":""},null,{"$f":"IFERROR(VLOOKUP(ROWS(AL$2:$AL514),N514:Q2417,4,0),\"\")","v":""}]
[null,null,null,null,null,null,null,null,null,null,null,null,null,{"$f":"IF(ISNUMBER(SEARCH($H$16,Q515)),MAX($N$1:N514)+1,0)","v":0},{"$f":"IF(ISNUMBER(SEARCH($H$11,Q515)),MAX($O$1:O514)+1,0)","v":0},{"$f":"IF(ISNUMBER(SEARCH($H$6,Q515)),MAX($P$1:P514)+1,0)","v":0},"r*shares nifty etf","MRC1303","Index",null,null,null,null,null,null,null,null,null,null,null,{"$f":"IFERROR(VLOOKUP(ROWS($AE$2:AE515),P515:Q2418,2,0),\"\")","v":""},null,null,null,null,{"$f":"IFERROR(VLOOKUP(ROWS($AJ$2:AJ515),O515:Q2418,3,0),\"\")","v":""},null,{"$f":"IFERROR(VLOOKUP(ROWS(AL$2:$AL515),N515:Q2418,4,0),\"\")","v":""}]
[null,null,null,null,null,null,null,null,null,null,null,null,null,{"$f":"IF(ISNUMBER(SEARCH($H$16,Q516)),MAX($N$1:N515)+1,0)","v":0},{"$f":"IF(ISNUMBER(SEARCH($H$11,Q516)),MAX($O$1:O515)+1,0)","v":0},{"$f":"IF(ISNUMBER(SEARCH($H$6,Q516)),MAX($P$1:P515)+1,0)","v":0},"birla sun life nifty etf","MBS589","Index",null,null,null,null,null,null,null,null,null,null,null,{"$f":"IFERROR(VLOOKUP(ROWS($AE$2:AE516),P516:Q2419,2,0),\"\")","v":""},null,null,null,null,{"$f":"IFERROR(VLOOKUP(ROWS($AJ$2:AJ516),O516:Q2419,3,0),\"\")","v":""},null,{"$f":"IFERROR(VLOOKUP(ROWS(AL$2:$AL516),N516:Q2419,4,0),\"\")","v":""}]
[null,null,null,null,null,null,null,null,null,null,null,null,null,{"$f":"IF(ISNUMBER(SEARCH($H$16,Q517)),MAX($N$1:N516)+1,0)","v":0},{"$f":"IF(ISNUMBER(SEARCH($H$11,Q517)),MAX($O$1:O516)+1,0)","v":0},{"$f":"IF(ISNUMBER(SEARCH($H$6,Q517)),MAX($P$1:P516)+1,0)","v":0},"icici prudential nifty etf","MPI1312","Index",null,null,null,null,null,null,null,null,null,null,null,{"$f":"IFERROR(VLOOKUP(ROWS($AE$2:AE517),P517:Q2420,2,0),\"\")","v":""},null,null,null,null,{"$f":"IFERROR(VLOOKUP(ROWS($AJ$2:AJ517),O517:Q2420,3,0),\"\")","v":""},null,{"$f":"IFERROR(VLOOKUP(ROWS(AL$2:$AL517),N517:Q2420,4,0),\"\")","v":""}]
[null,null,null,null,null,null,null,null,null,null,null,null,null,{"$f":"IF(ISNUMBER(SEARCH($H$16,Q518)),MAX($N$1:N517)+1,0)","v":0},{"$f":"IF(ISNUMBER(SEARCH($H$11,Q518)),MAX($O$1:O517)+1,0)","v":0},{"$f":"IF(ISNUMBER(SEARCH($H$6,Q518)),MAX($P$1:P517)+1,0)","v":0},"hdfc index nifty plan direct","MHD1152","Index",null,null,null,null,null,null,null,null,null,null,null,{"$f":"IFERROR(VLOOKUP(ROWS($AE$2:AE518),P518:Q2421,2,0),\"\")","v":""},null,null,null,null,{"$f":"IFERROR(VLOOKUP(ROWS($AJ$2:AJ518),O518:Q2421,3,0),\"\")","v":""},null,{"$f":"IFERROR(VLOOKUP(ROWS(AL$2:$AL518),N518:Q2421,4,0),\"\")","v":""}]
[null,null,null,null,null,null,null,null,null,null,null,null,null,{"$f":"IF(ISNUMBER(SEARCH($H$16,Q519)),MAX($N$1:N518)+1,0)","v":3},{"$f":"IF(ISNUMBER(SEARCH($H$11,Q519)),MAX($O$1:O518)+1,0)","v":0},{"$f":"IF(ISNUMBER(SEARCH($H$6,Q519)),MAX($P$1:P518)+1,0)","v":3},"quantum index fund","MQU007","Index",null,null,null,null,null,null,null,null,null,null,null,{"$f":"IFERROR(VLOOKUP(ROWS($AE$2:AE519),P519:Q2422,2,0),\"\")","v":""},null,null,null,null,{"$f":"IFERROR(VLOOKUP(ROWS($AJ$2:AJ519),O519:Q2422,3,0),\"\")","v":""},null,{"$f":"IFERROR(VLOOKUP(ROWS(AL$2:$AL519),N519:Q2422,4,0),\"\")","v":""}]
[null,null,null,null,null,null,null,null,null,null,null,null,null,{"$f":"IF(ISNUMBER(SEARCH($H$16,Q520)),MAX($N$1:N519)+1,0)","v":0},{"$f":"IF(ISNUMBER(SEARCH($H$11,Q520)),MAX($O$1:O519)+1,0)","v":0},{"$f":"IF(ISNUMBER(SEARCH($H$6,Q520)),MAX($P$1:P519)+1,0)","v":0},"icici pru index fund direct","MPI1144","Index",null,null,null,null,null,null,null,null,null,null,null,{"$f":"IFERROR(VLOOKUP(ROWS($AE$2:AE520),P520:Q2423,2,0),\"\")","v":""},null,null,null,null,{"$f":"IFERROR(VLOOKUP(ROWS($AJ$2:AJ520),O520:Q2423,3,0),\"\")","v":""},null,{"$f":"IFERROR(VLOOKUP(ROWS(AL$2:$AL520),N520:Q2423,4,0),\"\")","v":""}]
[null,null,null,null,null,null,null,null,null,null,null,null,null,{"$f":"IF(ISNUMBER(SEARCH($H$16,Q521)),MAX($N$1:N520)+1,0)","v":0},{"$f":"IF(ISNUMBER(SEARCH($H$11,Q521)),MAX($O$1:O520)+1,0)","v":0},{"$f":"IF(ISNUMBER(SEARCH($H$6,Q521)),MAX($P$1:P520)+1,0)","v":0},"hdfc index nifty plan","MHD019","Index",null,null,null,null,null,null,null,null,null,null,null,{"$f":"IFERROR(VLOOKUP(ROWS($AE$2:AE521),P521:Q2424,2,0),\"\")","v":""},null,null,null,null,{"$f":"IFERROR(VLOOKUP(ROWS($AJ$2:AJ521),O521:Q2424,3,0),\"\")","v":""},null,{"$f":"IFERROR(VLOOKUP(ROWS(AL$2:$AL521),N521:Q2424,4,0),\"\")","v":""}]
[null,null,null,null,null,null,null,null,null,null,null,null,null,{"$f":"IF(ISNUMBER(SEARCH($H$16,Q522)),MAX($N$1:N521)+1,0)","v":0},{"$f":"IF(ISNUMBER(SEARCH($H$11,Q522)),MAX($O$1:O521)+1,0)","v":0},{"$f":"IF(ISNUMBER(SEARCH($H$6,Q522)),MAX($P$1:P521)+1,0)","v":0},"uti nifty index fund direct","MUT657","Index",null,null,null,null,null,null,null,null,null,null,null,{"$f":"IFERROR(VLOOKUP(ROWS($AE$2:AE522),P522:Q2425,2,0),\"\")","v":""},null,null,null,null,{"$f":"IFERROR(VLOOKUP(ROWS($AJ$2:AJ522),O522:Q2425,3,0),\"\")","v":""},null,{"$f":"IFERROR(VLOOKUP(ROWS(AL$2:$AL522),N522:Q2425,4,0),\"\")","v":""}]
[null,null,null,null,null,null,null,null,null,null,null,null,null,{"$f":"IF(ISNUMBER(SEARCH($H$16,Q523)),MAX($N$1:N522)+1,0)","v":0},{"$f":"IF(ISNUMBER(SEARCH($H$11,Q523)),MAX($O$1:O522)+1,0)","v":0},{"$f":"IF(ISNUMBER(SEARCH($H$6,Q523)),MAX($P$1:P522)+1,0)","v":0},"reliance index nifty direct","MRC922","Index",null,null,null,null,null,null,null,null,null,null,null,{"$f":"IFERROR(VLOOKUP(ROWS($AE$2:AE523),P523:Q2426,2,0),\"\")","v":""},null,null,null,null,{"$f":"IFERROR(VLOOKUP(ROWS($AJ$2:AJ523),O523:Q2426,3,0),\"\")","v":""},null,{"$f":"IFERROR(VLOOKUP(ROWS(AL$2:$AL523),N523:Q2426,4,0),\"\")","v":""}]
[null,null,null,null,null,null,null,null,null,null,null,null,null,{"$f":"IF(ISNUMBER(SEARCH($H$16,Q524)),MAX($N$1:N523)+1,0)","v":0},{"$f":"IF(ISNUMBER(SEARCH($H$11,Q524)),MAX($O$1:O523)+1,0)","v":0},{"$f":"IF(ISNUMBER(SEARCH($H$6,Q524)),MAX($P$1:P523)+1,0)","v":0},"franklin i index nse direct","MTE321","Index",null,null,null,null,null,null,null,null,null,null,null,{"$f":"IFERROR(VLOOKUP(ROWS($AE$2:AE524),P524:Q2427,2,0),\"\")","v":""},null,null,null,null,{"$f":"IFERROR(VLOOKUP(ROWS($AJ$2:AJ524),O524:Q2427,3,0),\"\")","v":""},null,{"$f":"IFERROR(VLOOKUP(ROWS(AL$2:$AL524),N524:Q2427,4,0),\"\")","v":""}]
[null,null,null,null,null,null,null,null,null,null,null,null,null,{"$f":"IF(ISNUMBER(SEARCH($H$16,Q525)),MAX($N$1:N524)+1,0)","v":0},{"$f":"IF(ISNUMBER(SEARCH($H$11,Q525)),MAX($O$1:O524)+1,0)","v":0},{"$f":"IF(ISNUMBER(SEARCH($H$6,Q525)),MAX($P$1:P524)+1,0)","v":0},"principal index fund direct","MID316","Index",null,null,null,null,null,null,null,null,null,null,null,{"$f":"IFERROR(VLOOKUP(ROWS($AE$2:AE525),P525:Q2428,2,0),\"\")","v":""},null,null,null,null,{"$f":"IFERROR(VLOOKUP(ROWS($AJ$2:AJ525),O525:Q2428,3,0),\"\")","v":""},null,{"$f":"IFERROR(VLOOKUP(ROWS(AL$2:$AL525),N525:Q2428,4,0),\"\")","v":""}]
[null,null,null,null,null,null,null,null,null,null,null,null,null,{"$f":"IF(ISNUMBER(SEARCH($H$16,Q526)),MAX($N$1:N525)+1,0)","v":0},{"$f":"IF(ISNUMBER(SEARCH($H$11,Q526)),MAX($O$1:O525)+1,0)","v":0},{"$f":"IF(ISNUMBER(SEARCH($H$6,Q526)),MAX($P$1:P525)+1,0)","v":0},"idfc nifty fund direct","MAG739","Index",null,null,null,null,null,null,null,null,null,null,null,{"$f":"IFERROR(VLOOKUP(ROWS($AE$2:AE526),P526:Q2429,2,0),\"\")","v":""},null,null,null,null,{"$f":"IFERROR(VLOOKUP(ROWS($AJ$2:AJ526),O526:Q2429,3,0),\"\")","v":""},null,{"$f":"IFERROR(VLOOKUP(ROWS(AL$2:$AL526),N526:Q2429,4,0),\"\")","v":""}]
[null,null,null,null,null,null,null,null,null,null,null,null,null,{"$f":"IF(ISNUMBER(SEARCH($H$16,Q527)),MAX($N$1:N526)+1,0)","v":0},{"$f":"IF(ISNUMBER(SEARCH($H$11,Q527)),MAX($O$1:O526)+1,0)","v":0},{"$f":"IF(ISNUMBER(SEARCH($H$6,Q527)),MAX($P$1:P526)+1,0)","v":0},"uti nifty index fund","MUT029","Index",null,null,null,null,null,null,null,null,null,null,null,{"$f":"IFERROR(VLOOKUP(ROWS($AE$2:AE527),P527:Q2430,2,0),\"\")","v":""},null,null,null,null,{"$f":"IFERROR(VLOOKUP(ROWS($AJ$2:AJ527),O527:Q2430,3,0),\"\")","v":""},null,{"$f":"IFERROR(VLOOKUP(ROWS(AL$2:$AL527),N527:Q2430,4,0),\"\")","v":""}]
[null,null,null,null,null,null,null,null,null,null,null,null,null,{"$f":"IF(ISNUMBER(SEARCH($H$16,Q528)),MAX($N$1:N527)+1,0)","v":0},{"$f":"IF(ISNUMBER(SEARCH($H$11,Q528)),MAX($O$1:O527)+1,0)","v":0},{"$f":"IF(ISNUMBER(SEARCH($H$6,Q528)),MAX($P$1:P527)+1,0)","v":0},"idfc nifty fund regular plan","MAG386","Index",null,null,null,null,null,null,null,null,null,null,null,{"$f":"IFERROR(VLOOKUP(ROWS($AE$2:AE528),P528:Q2431,2,0),\"\")","v":""},null,null,null,null,{"$f":"IFERROR(VLOOKUP(ROWS($AJ$2:AJ528),O528:Q2431,3,0),\"\")","v":""},null,{"$f":"IFERROR(VLOOKUP(ROWS(AL$2:$AL528),N528:Q2431,4,0),\"\")","v":""}]
[null,null,null,null,null,null,null,null,null,null,null,null,null,{"$f":"IF(ISNUMBER(SEARCH($H$16,Q529)),MAX($N$1:N528)+1,0)","v":0},{"$f":"IF(ISNUMBER(SEARCH($H$11,Q529)),MAX($O$1:O528)+1,0)","v":0},{"$f":"IF(ISNUMBER(SEARCH($H$6,Q529)),MAX($P$1:P528)+1,0)","v":0},"taurus nifty index direct","MCM153","Index",null,null,null,null,null,null,null,null,null,null,null,{"$f":"IFERROR(VLOOKUP(ROWS($AE$2:AE529),P529:Q2432,2,0),\"\")","v":""},null,null,null,null,{"$f":"IFERROR(VLOOKUP(ROWS($AJ$2:AJ529),O529:Q2432,3,0),\"\")","v":""},null,{"$f":"IFERROR(VLOOKUP(ROWS(AL$2:$AL529),N529:Q2432,4,0),\"\")","v":""}]
[null,null,null,null,null,null,null,null,null,null,null,null,null,{"$f":"IF(ISNUMBER(SEARCH($H$16,Q530)),MAX($N$1:N529)+1,0)","v":0},{"$f":"IF(ISNUMBER(SEARCH($H$11,Q530)),MAX($O$1:O529)+1,0)","v":0},{"$f":"IF(ISNUMBER(SEARCH($H$6,Q530)),MAX($P$1:P529)+1,0)","v":0},"icici pru index fund","MPI031","Index",null,null,null,null,null,null,null,null,null,null,null,{"$f":"IFERROR(VLOOKUP(ROWS($AE$2:AE530),P530:Q2433,2,0),\"\")","v":""},null,null,null,null,{"$f":"IFERROR(VLOOKUP(ROWS($AJ$2:AJ530),O530:Q2433,3,0),\"\")","v":""},null,{"$f":"IFERROR(VLOOKUP(ROWS(AL$2:$AL530),N530:Q2433,4,0),\"\")","v":""}]
[null,null,null,null,null,null,null,null,null,null,null,null,null,{"$f":"IF(ISNUMBER(SEARCH($H$16,Q531)),MAX($N$1:N530)+1,0)","v":0},{"$f":"IF(ISNUMBER(SEARCH($H$11,Q531)),MAX($O$1:O530)+1,0)","v":0},{"$f":"IF(ISNUMBER(SEARCH($H$6,Q531)),MAX($P$1:P530)+1,0)","v":0},"religare invesco nifty etf","MLI428","Index",null,null,null,null,null,null,null,null,null,null,null,{"$f":"IFERROR(VLOOKUP(ROWS($AE$2:AE531),P531:Q2434,2,0),\"\")","v":""},null,null,null,null,{"$f":"IFERROR(VLOOKUP(ROWS($AJ$2:AJ531),O531:Q2434,3,0),\"\")","v":""},null,{"$f":"IFERROR(VLOOKUP(ROWS(AL$2:$AL531),N531:Q2434,4,0),\"\")","v":""}]
[null,null,null,null,null,null,null,null,null,null,null,null,null,{"$f":"IF(ISNUMBER(SEARCH($H$16,Q532)),MAX($N$1:N531)+1,0)","v":0},{"$f":"IF(ISNUMBER(SEARCH($H$11,Q532)),MAX($O$1:O531)+1,0)","v":0},{"$f":"IF(ISNUMBER(SEARCH($H$6,Q532)),MAX($P$1:P531)+1,0)","v":0},"sbi sensex etf","MSB583","Index",null,null,null,null,null,null,null,null,null,null,null,{"$f":"IFERROR(VLOOKUP(ROWS($AE$2:AE532),P532:Q2435,2,0),\"\")","v":""},null,null,null,null,{"$f":"IFERROR(VLOOKUP(ROWS($AJ$2:AJ532),O532:Q2435,3,0),\"\")","v":""},null,{"$f":"IFERROR(VLOOKUP(ROWS(AL$2:$AL532),N532:Q2435,4,0),\"\")","v":""}]
[null,null,null,null,null,null,null,null,null,null,null,null,null,{"$f":"IF(ISNUMBER(SEARCH($H$16,Q533)),MAX($N$1:N532)+1,0)","v":0},{"$f":"IF(ISNUMBER(SEARCH($H$11,Q533)),MAX($O$1:O532)+1,0)","v":0},{"$f":"IF(ISNUMBER(SEARCH($H$6,Q533)),MAX($P$1:P532)+1,0)","v":0},"franklin i index nse","MTE035","Index",null,null,null,null,null,null,null,null,null,null,null,{"$f":"IFERROR(VLOOKUP(ROWS($AE$2:AE533),P533:Q2436,2,0),\"\")","v":""},null,null,null,null,{"$f":"IFERROR(VLOOKUP(ROWS($AJ$2:AJ533),O533:Q2436,3,0),\"\")","v":""},null,{"$f":"IFERROR(VLOOKUP(ROWS(AL$2:$AL533),N533:Q2436,4,0),\"\")","v":""}]
[null,null,null,null,null,null,null,null,null,null,null,null,null,{"$f":"IF(ISNUMBER(SEARCH($H$16,Q534)),MAX($N$1:N533)+1,0)","v":0},{"$f":"IF(ISNUMBER(SEARCH($H$11,Q534)),MAX($O$1:O533)+1,0)","v":0},{"$f":"IF(ISNUMBER(SEARCH($H$6,Q534)),MAX($P$1:P533)+1,0)","v":0},"lic nomura index nifty direct","MJB159","Index",null,null,null,null,null,null,null,null,null,null,null,{"$f":"IFERROR(VLOOKUP(ROWS($AE$2:AE534),P534:Q2437,2,0),\"\")","v":""},null,null,null,null,{"$f":"IFERROR(VLOOKUP(ROWS($AJ$2:AJ534),O534:Q2437,3,0),\"\")","v":""},null,{"$f":"IFERROR(VLOOKUP(ROWS(AL$2:$AL534),N534:Q2437,4,0),\"\")","v":""}]
[null,null,null,null,null,null,null,null,null,null,null,null,null,{"$f":"IF(ISNUMBER(SEARCH($H$16,Q535)),MAX($N$1:N534)+1,0)","v":0},{"$f":"IF(ISNUMBER(SEARCH($H$11,Q535)),MAX($O$1:O534)+1,0)","v":0},{"$f":"IF(ISNUMBER(SEARCH($H$6,Q535)),MAX($P$1:P534)+1,0)","v":0},"tata index fund nifty direct plan","MTA763","Index",null,null,null,null,null,null,null,null,null,null,null,{"$f":"IFERROR(VLOOKUP(ROWS($AE$2:AE535),P535:Q2438,2,0),\"\")","v":""},null,null,null,null,{"$f":"IFERROR(VLOOKUP(ROWS($AJ$2:AJ535),O535:Q2438,3,0),\"\")","v":""},null,{"$f":"IFERROR(VLOOKUP(ROWS(AL$2:$AL535),N535:Q2438,4,0),\"\")","v":""}]
[null,null,null,null,null,null,null,null,null,null,null,null,null,{"$f":"IF(ISNUMBER(SEARCH($H$16,Q536)),MAX($N$1:N535)+1,0)","v":0},{"$f":"IF(ISNUMBER(SEARCH($H$11,Q536)),MAX($O$1:O535)+1,0)","v":0},{"$f":"IF(ISNUMBER(SEARCH($H$6,Q536)),MAX($P$1:P535)+1,0)","v":0},"birla sun life index fund","MBS025","Index",null,null,null,null,null,null,null,null,null,null,null,{"$f":"IFERROR(VLOOKUP(ROWS($AE$2:AE536),P536:Q2439,2,0),\"\")","v":""},null,null,null,null,{"$f":"IFERROR(VLOOKUP(ROWS($AJ$2:AJ536),O536:Q2439,3,0),\"\")","v":""},null,{"$f":"IFERROR(VLOOKUP(ROWS(AL$2:$AL536),N536:Q2439,4,0),\"\")","v":""}]
[null,null,null,null,null,null,null,null,null,null,null,null,null,{"$f":"IF(ISNUMBER(SEARCH($H$16,Q537)),MAX($N$1:N536)+1,0)","v":0},{"$f":"IF(ISNUMBER(SEARCH($H$11,Q537)),MAX($O$1:O536)+1,0)","v":0},{"$f":"IF(ISNUMBER(SEARCH($H$6,Q537)),MAX($P$1:P536)+1,0)","v":0},"reliance index fund nifty","MRC590","Index",null,null,null,null,null,null,null,null,null,null,null,{"$f":"IFERROR(VLOOKUP(ROWS($AE$2:AE537),P537:Q2440,2,0),\"\")","v":""},null,null,null,null,{"$f":"IFERROR(VLOOKUP(ROWS($AJ$2:AJ537),O537:Q2440,3,0),\"\")","v":""},null,{"$f":"IFERROR(VLOOKUP(ROWS(AL$2:$AL537),N537:Q2440,4,0),\"\")","v":""}]
[null,null,null,null,null,null,null,null,null,null,null,null,null,{"$f":"IF(ISNUMBER(SEARCH($H$16,Q538)),MAX($N$1:N537)+1,0)","v":0},{"$f":"IF(ISNUMBER(SEARCH($H$11,Q538)),MAX($O$1:O537)+1,0)","v":0},{"$f":"IF(ISNUMBER(SEARCH($H$6,Q538)),MAX($P$1:P537)+1,0)","v":0},"principal index fund","MID009","Index",null,null,null,null,null,null,null,null,null,null,null,{"$f":"IFERROR(VLOOKUP(ROWS($AE$2:AE538),P538:Q2441,2,0),\"\")","v":""},null,null,null,null,{"$f":"IFERROR(VLOOKUP(ROWS($AJ$2:AJ538),O538:Q2441,3,0),\"\")","v":""},null,{"$f":"IFERROR(VLOOKUP(ROWS(AL$2:$AL538),N538:Q2441,4,0),\"\")","v":""}]
[null,null,null,null,null,null,null,null,null,null,null,null,null,{"$f":"IF(ISNUMBER(SEARCH($H$16,Q539)),MAX($N$1:N538)+1,0)","v":0},{"$f":"IF(ISNUMBER(SEARCH($H$11,Q539)),MAX($O$1:O538)+1,0)","v":0},{"$f":"IF(ISNUMBER(SEARCH($H$6,Q539)),MAX($P$1:P538)+1,0)","v":0},"birla sl index fund direct","MBS851","Index",null,null,null,null,null,null,null,null,null,null,null,{"$f":"IFERROR(VLOOKUP(ROWS($AE$2:AE539),P539:Q2442,2,0),\"\")","v":""},null,null,null,null,{"$f":"IFERROR(VLOOKUP(ROWS($AJ$2:AJ539),O539:Q2442,3,0),\"\")","v":""},null,{"$f":"IFERROR(VLOOKUP(ROWS(AL$2:$AL539),N539:Q2442,4,0),\"\")","v":""}]
[null,null,null,null,null,null,null,null,null,null,null,null,null,{"$f":"IF(ISNUMBER(SEARCH($H$16,Q540)),MAX($N$1:N539)+1,0)","v":0},{"$f":"IF(ISNUMBER(SEARCH($H$11,Q540)),MAX($O$1:O539)+1,0)","v":0},{"$f":"IF(ISNUMBER(SEARCH($H$6,Q540)),MAX($P$1:P539)+1,0)","v":0},"gs nifty bees","MBM001","Index",null,null,null,null,null,null,null,null,null,null,null,{"$f":"IFERROR(VLOOKUP(ROWS($AE$2:AE540),P540:Q2443,2,0),\"\")","v":""},null,null,null,null,{"$f":"IFERROR(VLOOKUP(ROWS($AJ$2:AJ540),O540:Q2443,3,0),\"\")","v":""},null,{"$f":"IFERROR(VLOOKUP(ROWS(AL$2:$AL540),N540:Q2443,4,0),\"\")","v":""}]
[null,null,null,null,null,null,null,null,null,null,null,null,null,{"$f":"IF(ISNUMBER(SEARCH($H$16,Q541)),MAX($N$1:N540)+1,0)","v":0},{"$f":"IF(ISNUMBER(SEARCH($H$11,Q541)),MAX($O$1:O540)+1,0)","v":0},{"$f":"IF(ISNUMBER(SEARCH($H$6,Q541)),MAX($P$1:P540)+1,0)","v":0},"taurus nifty index fund","MCM068","Index",null,null,null,null,null,null,null,null,null,null,null,{"$f":"IFERROR(VLOOKUP(ROWS($AE$2:AE541),P541:Q2444,2,0),\"\")","v":""},null,null,null,null,{"$f":"IFERROR(VLOOKUP(ROWS($AJ$2:AJ541),O541:Q2444,3,0),\"\")","v":""},null,{"$f":"IFERROR(VLOOKUP(ROWS(AL$2:$AL541),N541:Q2444,4,0),\"\")","v":""}]
[null,null,null,null,null,null,null,null,null,null,null,null,null,{"$f":"IF(ISNUMBER(SEARCH($H$16,Q542)),MAX($N$1:N541)+1,0)","v":0},{"$f":"IF(ISNUMBER(SEARCH($H$11,Q542)),MAX($O$1:O541)+1,0)","v":0},{"$f":"IF(ISNUMBER(SEARCH($H$6,Q542)),MAX($P$1:P541)+1,0)","v":0},"sbi nifty index fund direct","MSB507","Index",null,null,null,null,null,null,null,null,null,null,null,{"$f":"IFERROR(VLOOKUP(ROWS($AE$2:AE542),P542:Q2445,2,0),\"\")","v":""},null,null,null,null,{"$f":"IFERROR(VLOOKUP(ROWS($AJ$2:AJ542),O542:Q2445,3,0),\"\")","v":""},null,{"$f":"IFERROR(VLOOKUP(ROWS(AL$2:$AL542),N542:Q2445,4,0),\"\")","v":""}]
[null,null,null,null,null,null,null,null,null,null,null,null,null,{"$f":"IF(ISNUMBER(SEARCH($H$16,Q543)),MAX($N$1:N542)+1,0)","v":0},{"$f":"IF(ISNUMBER(SEARCH($H$11,Q543)),MAX($O$1:O542)+1,0)","v":0},{"$f":"IF(ISNUMBER(SEARCH($H$6,Q543)),MAX($P$1:P542)+1,0)","v":0},"idbi nifty index fund direct","MIB070","Index",null,null,null,null,null,null,null,null,null,null,null,{"$f":"IFERROR(VLOOKUP(ROWS($AE$2:AE543),P543:Q2446,2,0),\"\")","v":""},null,null,null,null,{"$f":"IFERROR(VLOOKUP(ROWS($AJ$2:AJ543),O543:Q2446,3,0),\"\")","v":""},null,{"$f":"IFERROR(VLOOKUP(ROWS(AL$2:$AL543),N543:Q2446,4,0),\"\")","v":""}]
[null,null,null,null,null,null,null,null,null,null,null,null,null,{"$f":"IF(ISNUMBER(SEARCH($H$16,Q544)),MAX($N$1:N543)+1,0)","v":0},{"$f":"IF(ISNUMBER(SEARCH($H$11,Q544)),MAX($O$1:O543)+1,0)","v":0},{"$f":"IF(ISNUMBER(SEARCH($H$6,Q544)),MAX($P$1:P543)+1,0)","v":0},"kotak nifty etf","MKM321","Index",null,null,null,null,null,null,null,null,null,null,null,{"$f":"IFERROR(VLOOKUP(ROWS($AE$2:AE544),P544:Q2447,2,0),\"\")","v":""},null,null,null,null,{"$f":"IFERROR(VLOOKUP(ROWS($AJ$2:AJ544),O544:Q2447,3,0),\"\")","v":""},null,{"$f":"IFERROR(VLOOKUP(ROWS(AL$2:$AL544),N544:Q2447,4,0),\"\")","v":""}]
[null,null,null,null,null,null,null,null,null,null,null,null,null,{"$f":"IF(ISNUMBER(SEARCH($H$16,Q545)),MAX($N$1:N544)+1,0)","v":0},{"$f":"IF(ISNUMBER(SEARCH($H$11,Q545)),MAX($O$1:O544)+1,0)","v":0},{"$f":"IF(ISNUMBER(SEARCH($H$6,Q545)),MAX($P$1:P544)+1,0)","v":0},"lic nomura index nifty plan","MJB018","Index",null,null,null,null,null,null,null,null,null,null,null,{"$f":"IFERROR(VLOOKUP(ROWS($AE$2:AE545),P545:Q2448,2,0),\"\")","v":""},null,null,null,null,{"$f":"IFERROR(VLOOKUP(ROWS($AJ$2:AJ545),O545:Q2448,3,0),\"\")","v":""},null,{"$f":"IFERROR(VLOOKUP(ROWS(AL$2:$AL545),N545:Q2448,4,0),\"\")","v":""}]
[null,null,null,null,null,null,null,null,null,null,null,null,null,{"$f":"IF(ISNUMBER(SEARCH($H$16,Q546)),MAX($N$1:N545)+1,0)","v":0},{"$f":"IF(ISNUMBER(SEARCH($H$11,Q546)),MAX($O$1:O545)+1,0)","v":0},{"$f":"IF(ISNUMBER(SEARCH($H$6,Q546)),MAX($P$1:P545)+1,0)","v":0},"tata index fund nifty regular plan","MTA035","Index",null,null,null,null,null,null,null,null,null,null,null,{"$f":"IFERROR(VLOOKUP(ROWS($AE$2:AE546),P546:Q2449,2,0),\"\")","v":""},null,null,null,null,{"$f":"IFERROR(VLOOKUP(ROWS($AJ$2:AJ546),O546:Q2449,3,0),\"\")","v":""},null,{"$f":"IFERROR(VLOOKUP(ROWS(AL$2:$AL546),N546:Q2449,4,0),\"\")","v":""}]
[null,null,null,null,null,null,null,null,null,null,null,null,null,{"$f":"IF(ISNUMBER(SEARCH($H$16,Q547)),MAX($N$1:N546)+1,0)","v":0},{"$f":"IF(ISNUMBER(SEARCH($H$11,Q547)),MAX($O$1:O546)+1,0)","v":0},{"$f":"IF(ISNUMBER(SEARCH($H$6,Q547)),MAX($P$1:P546)+1,0)","v":0},"sbi nifty index fund","MSB025","Index",null,null,null,null,null,null,null,null,null,null,null,{"$f":"IFERROR(VLOOKUP(ROWS($AE$2:AE547),P547:Q2450,2,0),\"\")","v":""},null,null,null,null,{"$f":"IFERROR(VLOOKUP(ROWS($AJ$2:AJ547),O547:Q2450,3,0),\"\")","v":""},null,{"$f":"IFERROR(VLOOKUP(ROWS(AL$2:$AL547),N547:Q2450,4,0),\"\")","v":""}]
[null,null,null,null,null,null,null,null,null,null,null,null,null,{"$f":"IF(ISNUMBER(SEARCH($H$16,Q548)),MAX($N$1:N547)+1,0)","v":0},{"$f":"IF(ISNUMBER(SEARCH($H$11,Q548)),MAX($O$1:O547)+1,0)","v":0},{"$f":"IF(ISNUMBER(SEARCH($H$6,Q548)),MAX($P$1:P547)+1,0)","v":0},"hdfc index sensex plan direct","MHD1153","Index",null,null,null,null,null,null,null,null,null,null,null,{"$f":"IFERROR(VLOOKUP(ROWS($AE$2:AE548),P548:Q2451,2,0),\"\")","v":""},null,null,null,null,{"$f":"IFERROR(VLOOKUP(ROWS($AJ$2:AJ548),O548:Q2451,3,0),\"\")","v":""},null,{"$f":"IFERROR(VLOOKUP(ROWS(AL$2:$AL548),N548:Q2451,4,0),\"\")","v":""}]
[null,null,null,null,null,null,null,null,null,null,null,null,null,{"$f":"IF(ISNUMBER(SEARCH($H$16,Q549)),MAX($N$1:N548)+1,0)","v":0},{"$f":"IF(ISNUMBER(SEARCH($H$11,Q549)),MAX($O$1:O548)+1,0)","v":0},{"$f":"IF(ISNUMBER(SEARCH($H$6,Q549)),MAX($P$1:P548)+1,0)","v":0},"idbi nifty index fund","MIB001","Index",null,null,null,null,null,null,null,null,null,null,null,{"$f":"IFERROR(VLOOKUP(ROWS($AE$2:AE549),P549:Q2452,2,0),\"\")","v":""},null,null,null,null,{"$f":"IFERROR(VLOOKUP(ROWS($AJ$2:AJ549),O549:Q2452,3,0),\"\")","v":""},null,{"$f":"IFERROR(VLOOKUP(ROWS(AL$2:$AL549),N549:Q2452,4,0),\"\")","v":""}]
[null,null,null,null,null,null,null,null,null,null,null,null,null,{"$f":"IF(ISNUMBER(SEARCH($H$16,Q550)),MAX($N$1:N549)+1,0)","v":0},{"$f":"IF(ISNUMBER(SEARCH($H$11,Q550)),MAX($O$1:O549)+1,0)","v":0},{"$f":"IF(ISNUMBER(SEARCH($H$6,Q550)),MAX($P$1:P549)+1,0)","v":0},"icici pru spice plan","MPI039","Index",null,null,null,null,null,null,null,null,null,null,null,{"$f":"IFERROR(VLOOKUP(ROWS($AE$2:AE550),P550:Q2453,2,0),\"\")","v":""},null,null,null,null,{"$f":"IFERROR(VLOOKUP(ROWS($AJ$2:AJ550),O550:Q2453,3,0),\"\")","v":""},null,{"$f":"IFERROR(VLOOKUP(ROWS(AL$2:$AL550),N550:Q2453,4,0),\"\")","v":""}]
[null,null,null,null,null,null,null,null,null,null,null,null,null,{"$f":"IF(ISNUMBER(SEARCH($H$16,Q551)),MAX($N$1:N550)+1,0)","v":0},{"$f":"IF(ISNUMBER(SEARCH($H$11,Q551)),MAX($O$1:O550)+1,0)","v":0},{"$f":"IF(ISNUMBER(SEARCH($H$6,Q551)),MAX($P$1:P550)+1,0)","v":0},"hdfc index sensex plan","MHD020","Index",null,null,null,null,null,null,null,null,null,null,null,{"$f":"IFERROR(VLOOKUP(ROWS($AE$2:AE551),P551:Q2454,2,0),\"\")","v":""},null,null,null,null,{"$f":"IFERROR(VLOOKUP(ROWS($AJ$2:AJ551),O551:Q2454,3,0),\"\")","v":""},null,{"$f":"IFERROR(VLOOKUP(ROWS(AL$2:$AL551),N551:Q2454,4,0),\"\")","v":""}]
[null,null,null,null,null,null,null,null,null,null,null,null,null,{"$f":"IF(ISNUMBER(SEARCH($H$16,Q552)),MAX($N$1:N551)+1,0)","v":0},{"$f":"IF(ISNUMBER(SEARCH($H$11,Q552)),MAX($O$1:O551)+1,0)","v":0},{"$f":"IF(ISNUMBER(SEARCH($H$6,Q552)),MAX($P$1:P551)+1,0)","v":0},"reliance index sensex direct","MRC927","Index",null,null,null,null,null,null,null,null,null,null,null,{"$f":"IFERROR(VLOOKUP(ROWS($AE$2:AE552),P552:Q2455,2,0),\"\")","v":""},null,null,null,null,{"$f":"IFERROR(VLOOKUP(ROWS($AJ$2:AJ552),O552:Q2455,3,0),\"\")","v":""},null,{"$f":"IFERROR(VLOOKUP(ROWS(AL$2:$AL552),N552:Q2455,4,0),\"\")","v":""}]
[null,null,null,null,null,null,null,null,null,null,null,null,null,{"$f":"IF(ISNUMBER(SEARCH($H$16,Q553)),MAX($N$1:N552)+1,0)","v":0},{"$f":"IF(ISNUMBER(SEARCH($H$11,Q553)),MAX($O$1:O552)+1,0)","v":0},{"$f":"IF(ISNUMBER(SEARCH($H$6,Q553)),MAX($P$1:P552)+1,0)","v":0},"tata index fund sensex direct","MTA764","Index",null,null,null,null,null,null,null,null,null,null,null,{"$f":"IFERROR(VLOOKUP(ROWS($AE$2:AE553),P553:Q2456,2,0),\"\")","v":""},null,null,null,null,{"$f":"IFERROR(VLOOKUP(ROWS($AJ$2:AJ553),O553:Q2456,3,0),\"\")","v":""},null,{"$f":"IFERROR(VLOOKUP(ROWS(AL$2:$AL553),N553:Q2456,4,0),\"\")","v":""}]
[null,null,null,null,null,null,null,null,null,null,null,null,null,{"$f":"IF(ISNUMBER(SEARCH($H$16,Q554)),MAX($N$1:N553)+1,0)","v":0},{"$f":"IF(ISNUMBER(SEARCH($H$11,Q554)),MAX($O$1:O553)+1,0)","v":0},{"$f":"IF(ISNUMBER(SEARCH($H$6,Q554)),MAX($P$1:P553)+1,0)","v":0},"lic nomura index sensex direct","MJB155","Index",null,null,null,null,null,null,null,null,null,null,null,{"$f":"IFERROR(VLOOKUP(ROWS($AE$2:AE554),P554:Q2457,2,0),\"\")","v":""},null,null,null,null,{"$f":"IFERROR(VLOOKUP(ROWS($AJ$2:AJ554),O554:Q2457,3,0),\"\")","v":""},null,{"$f":"IFERROR(VLOOKUP(ROWS(AL$2:$AL554),N554:Q2457,4,0),\"\")","v":""}]
[null,null,null,null,null,null,null,null,null,null,null,null,null,{"$f":"IF(ISNUMBER(SEARCH($H$16,Q555)),MAX($N$1:N554)+1,0)","v":0},{"$f":"IF(ISNUMBER(SEARCH($H$11,Q555)),MAX($O$1:O554)+1,0)","v":0},{"$f":"IF(ISNUMBER(SEARCH($H$6,Q555)),MAX($P$1:P554)+1,0)","v":0},"reliance index fund sensex","MRC595","Index",null,null,null,null,null,null,null,null,null,null,null,{"$f":"IFERROR(VLOOKUP(ROWS($AE$2:AE555),P555:Q2458,2,0),\"\")","v":""},null,null,null,null,{"$f":"IFERROR(VLOOKUP(ROWS($AJ$2:AJ555),O555:Q2458,3,0),\"\")","v":""},null,{"$f":"IFERROR(VLOOKUP(ROWS(AL$2:$AL555),N555:Q2458,4,0),\"\")","v":""}]
[null,null,null,null,null,null,null,null,null,null,null,null,null,{"$f":"IF(ISNUMBER(SEARCH($H$16,Q556)),MAX($N$1:N555)+1,0)","v":0},{"$f":"IF(ISNUMBER(SEARCH($H$11,Q556)),MAX($O$1:O555)+1,0)","v":0},{"$f":"IF(ISNUMBER(SEARCH($H$6,Q556)),MAX($P$1:P555)+1,0)","v":0},"lic nomura index sensex plan","MJB017","Index",null,null,null,null,null,null,null,null,null,null,null,{"$f":"IFERROR(VLOOKUP(ROWS($AE$2:AE556),P556:Q2459,2,0),\"\")","v":""},null,null,null,null,{"$f":"IFERROR(VLOOKUP(ROWS($AJ$2:AJ556),O556:Q2459,3,0),\"\")","v":""},null,{"$f":"IFERROR(VLOOKUP(ROWS(AL$2:$AL556),N556:Q2459,4,0),\"\")","v":""}]
[null,null,null,null,null,null,null,null,null,null,null,null,null,{"$f":"IF(ISNUMBER(SEARCH($H$16,Q557)),MAX($N$1:N556)+1,0)","v":0},{"$f":"IF(ISNUMBER(SEARCH($H$11,Q557)),MAX($O$1:O556)+1,0)","v":0},{"$f":"IF(ISNUMBER(SEARCH($H$6,Q557)),MAX($P$1:P556)+1,0)","v":0},"tata index fund sensex regular plan","MTA037","Index",null,null,null,null,null,null,null,null,null,null,null,{"$f":"IFERROR(VLOOKUP(ROWS($AE$2:AE557),P557:Q2460,2,0),\"\")","v":""},null,null,null,null,{"$f":"IFERROR(VLOOKUP(ROWS($AJ$2:AJ557),O557:Q2460,3,0),\"\")","v":""},null,{"$f":"IFERROR(VLOOKUP(ROWS(AL$2:$AL557),N557:Q2460,4,0),\"\")","v":""}]
[null,null,null,null,null,null,null,null,null,null,null,null,null,{"$f":"IF(ISNUMBER(SEARCH($H$16,Q558)),MAX($N$1:N557)+1,0)","v":0},{"$f":"IF(ISNUMBER(SEARCH($H$11,Q558)),MAX($O$1:O557)+1,0)","v":0},{"$f":"IF(ISNUMBER(SEARCH($H$6,Q558)),MAX($P$1:P557)+1,0)","v":0},"franklin i index bse","MKP038","Index",null,null,null,null,null,null,null,null,null,null,null,{"$f":"IFERROR(VLOOKUP(ROWS($AE$2:AE558),P558:Q2461,2,0),\"\")","v":""},null,null,null,null,{"$f":"IFERROR(VLOOKUP(ROWS($AJ$2:AJ558),O558:Q2461,3,0),\"\")","v":""},null,{"$f":"IFERROR(VLOOKUP(ROWS(AL$2:$AL558),N558:Q2461,4,0),\"\")","v":""}]
[null,null,null,null,null,null,null,null,null,null,null,null,null,{"$f":"IF(ISNUMBER(SEARCH($H$16,Q559)),MAX($N$1:N558)+1,0)","v":0},{"$f":"IF(ISNUMBER(SEARCH($H$11,Q559)),MAX($O$1:O558)+1,0)","v":0},{"$f":"IF(ISNUMBER(SEARCH($H$6,Q559)),MAX($P$1:P558)+1,0)","v":0},"kotak sensex etf","MKM237","Index",null,null,null,null,null,null,null,null,null,null,null,{"$f":"IFERROR(VLOOKUP(ROWS($AE$2:AE559),P559:Q2462,2,0),\"\")","v":""},null,null,null,null,{"$f":"IFERROR(VLOOKUP(ROWS($AJ$2:AJ559),O559:Q2462,3,0),\"\")","v":""},null,{"$f":"IFERROR(VLOOKUP(ROWS(AL$2:$AL559),N559:Q2462,4,0),\"\")","v":""}]
[null,null,null,null,null,null,null,null,null,null,null,null,null,{"$f":"IF(ISNUMBER(SEARCH($H$16,Q560)),MAX($N$1:N559)+1,0)","v":0},{"$f":"IF(ISNUMBER(SEARCH($H$11,Q560)),MAX($O$1:O559)+1,0)","v":0},{"$f":"IF(ISNUMBER(SEARCH($H$6,Q560)),MAX($P$1:P559)+1,0)","v":0},"r*shares dividend etf","MRC1519","Index",null,null,null,null,null,null,null,null,null,null,null,{"$f":"IFERROR(VLOOKUP(ROWS($AE$2:AE560),P560:Q2463,2,0),\"\")","v":""},null,null,null,null,{"$f":"IFERROR(VLOOKUP(ROWS($AJ$2:AJ560),O560:Q2463,3,0),\"\")","v":""},null,{"$f":"IFERROR(VLOOKUP(ROWS(AL$2:$AL560),N560:Q2463,4,0),\"\")","v":""}]
[null,null,null,null,null,null,null,null,null,null,null,null,null,{"$f":"IF(ISNUMBER(SEARCH($H$16,Q561)),MAX($N$1:N560)+1,0)","v":0},{"$f":"IF(ISNUMBER(SEARCH($H$11,Q561)),MAX($O$1:O560)+1,0)","v":0},{"$f":"IF(ISNUMBER(SEARCH($H$6,Q561)),MAX($P$1:P560)+1,0)","v":0},"gs cpse etf","MBM040","Index",null,null,null,null,null,null,null,null,null,null,null,{"$f":"IFERROR(VLOOKUP(ROWS($AE$2:AE561),P561:Q2464,2,0),\"\")","v":""},null,null,null,null,{"$f":"IFERROR(VLOOKUP(ROWS($AJ$2:AJ561),O561:Q2464,3,0),\"\")","v":""},null,{"$f":"IFERROR(VLOOKUP(ROWS(AL$2:$AL561),N561:Q2464,4,0),\"\")","v":""}]
[null,null,null,null,null,null,null,null,null,null,null,null,null,{"$f":"IF(ISNUMBER(SEARCH($H$16,Q562)),MAX($N$1:N561)+1,0)","v":0},{"$f":"IF(ISNUMBER(SEARCH($H$11,Q562)),MAX($O$1:O561)+1,0)","v":0},{"$f":"IF(ISNUMBER(SEARCH($H$6,Q562)),MAX($P$1:P561)+1,0)","v":0},"kotak banking etf","MKM903","Index",null,null,null,null,null,null,null,null,null,null,null,{"$f":"IFERROR(VLOOKUP(ROWS($AE$2:AE562),P562:Q2465,2,0),\"\")","v":""},null,null,null,null,{"$f":"IFERROR(VLOOKUP(ROWS($AJ$2:AJ562),O562:Q2465,3,0),\"\")","v":""},null,{"$f":"IFERROR(VLOOKUP(ROWS(AL$2:$AL562),N562:Q2465,4,0),\"\")","v":""}]
[null,null,null,null,null,null,null,null,null,null,null,null,null,{"$f":"IF(ISNUMBER(SEARCH($H$16,Q563)),MAX($N$1:N562)+1,0)","v":0},{"$f":"IF(ISNUMBER(SEARCH($H$11,Q563)),MAX($O$1:O562)+1,0)","v":0},{"$f":"IF(ISNUMBER(SEARCH($H$6,Q563)),MAX($P$1:P562)+1,0)","v":0},"sbi etf bse 100","MSB1112","Index",null,null,null,null,null,null,null,null,null,null,null,{"$f":"IFERROR(VLOOKUP(ROWS($AE$2:AE563),P563:Q2466,2,0),\"\")","v":""},null,null,null,null,{"$f":"IFERROR(VLOOKUP(ROWS($AJ$2:AJ563),O563:Q2466,3,0),\"\")","v":""},null,{"$f":"IFERROR(VLOOKUP(ROWS(AL$2:$AL563),N563:Q2466,4,0),\"\")","v":""}]
[null,null,null,null,null,null,null,null,null,null,null,null,null,{"$f":"IF(ISNUMBER(SEARCH($H$16,Q564)),MAX($N$1:N563)+1,0)","v":0},{"$f":"IF(ISNUMBER(SEARCH($H$11,Q564)),MAX($O$1:O563)+1,0)","v":0},{"$f":"IF(ISNUMBER(SEARCH($H$6,Q564)),MAX($P$1:P563)+1,0)","v":0},"sbi etf banking","MSB1111","Index",null,null,null,null,null,null,null,null,null,null,null,{"$f":"IFERROR(VLOOKUP(ROWS($AE$2:AE564),P564:Q2467,2,0),\"\")","v":""},null,null,null,null,{"$f":"IFERROR(VLOOKUP(ROWS($AJ$2:AJ564),O564:Q2467,3,0),\"\")","v":""},null,{"$f":"IFERROR(VLOOKUP(ROWS(AL$2:$AL564),N564:Q2467,4,0),\"\")","v":""}]
[null,null,null,null,null,null,null,null,null,null,null,null,null,{"$f":"IF(ISNUMBER(SEARCH($H$16,Q565)),MAX($N$1:N564)+1,0)","v":0},{"$f":"IF(ISNUMBER(SEARCH($H$11,Q565)),MAX($O$1:O564)+1,0)","v":0},{"$f":"IF(ISNUMBER(SEARCH($H$6,Q565)),MAX($P$1:P564)+1,0)","v":0},"sbi etf nifty junior","MSB1113","Index",null,null,null,null,null,null,null,null,null,null,null,{"$f":"IFERROR(VLOOKUP(ROWS($AE$2:AE565),P565:Q2468,2,0),\"\")","v":""},null,null,null,null,{"$f":"IFERROR(VLOOKUP(ROWS($AJ$2:AJ565),O565:Q2468,3,0),\"\")","v":""},null,{"$f":"IFERROR(VLOOKUP(ROWS(AL$2:$AL565),N565:Q2468,4,0),\"\")","v":""}]
[null,null,null,null,null,null,null,null,null,null,null,null,null,{"$f":"IF(ISNUMBER(SEARCH($H$16,Q566)),MAX($N$1:N565)+1,0)","v":0},{"$f":"IF(ISNUMBER(SEARCH($H$11,Q566)),MAX($O$1:O565)+1,0)","v":0},{"$f":"IF(ISNUMBER(SEARCH($H$6,Q566)),MAX($P$1:P565)+1,0)","v":0},"idbi rgess fund sr i plan a dp","MIB104","RGESS",null,null,null,null,null,null,null,null,null,null,null,{"$f":"IFERROR(VLOOKUP(ROWS($AE$2:AE566),P566:Q2469,2,0),\"\")","v":""},null,null,null,null,{"$f":"IFERROR(VLOOKUP(ROWS($AJ$2:AJ566),O566:Q2469,3,0),\"\")","v":""},null,{"$f":"IFERROR(VLOOKUP(ROWS(AL$2:$AL566),N566:Q2469,4,0),\"\")","v":""}]
[null,null,null,null,null,null,null,null,null,null,null,null,null,{"$f":"IF(ISNUMBER(SEARCH($H$16,Q567)),MAX($N$1:N566)+1,0)","v":0},{"$f":"IF(ISNUMBER(SEARCH($H$11,Q567)),MAX($O$1:O566)+1,0)","v":0},{"$f":"IF(ISNUMBER(SEARCH($H$6,Q567)),MAX($P$1:P566)+1,0)","v":0},"idbi rgess fund sr i plan a rp","MIB102","RGESS",null,null,null,null,null,null,null,null,null,null,null,{"$f":"IFERROR(VLOOKUP(ROWS($AE$2:AE567),P567:Q2470,2,0),\"\")","v":""},null,null,null,null,{"$f":"IFERROR(VLOOKUP(ROWS($AJ$2:AJ567),O567:Q2470,3,0),\"\")","v":""},null,{"$f":"IFERROR(VLOOKUP(ROWS(AL$2:$AL567),N567:Q2470,4,0),\"\")","v":""}]
[null,null,null,null,null,null,null,null,null,null,null,null,null,{"$f":"IF(ISNUMBER(SEARCH($H$16,Q568)),MAX($N$1:N567)+1,0)","v":0},{"$f":"IF(ISNUMBER(SEARCH($H$11,Q568)),MAX($O$1:O567)+1,0)","v":0},{"$f":"IF(ISNUMBER(SEARCH($H$6,Q568)),MAX($P$1:P567)+1,0)","v":0},"birla sl rgess series 1","MBS985","RGESS",null,null,null,null,null,null,null,null,null,null,null,{"$f":"IFERROR(VLOOKUP(ROWS($AE$2:AE568),P568:Q2471,2,0),\"\")","v":""},null,null,null,null,{"$f":"IFERROR(VLOOKUP(ROWS($AJ$2:AJ568),O568:Q2471,3,0),\"\")","v":""},null,{"$f":"IFERROR(VLOOKUP(ROWS(AL$2:$AL568),N568:Q2471,4,0),\"\")","v":""}]
[null,null,null,null,null,null,null,null,null,null,null,null,null,{"$f":"IF(ISNUMBER(SEARCH($H$16,Q569)),MAX($N$1:N568)+1,0)","v":0},{"$f":"IF(ISNUMBER(SEARCH($H$11,Q569)),MAX($O$1:O568)+1,0)","v":0},{"$f":"IF(ISNUMBER(SEARCH($H$6,Q569)),MAX($P$1:P568)+1,0)","v":0},"sundaram top 100 series i dp g","MSN987","RGESS",null,null,null,null,null,null,null,null,null,null,null,{"$f":"IFERROR(VLOOKUP(ROWS($AE$2:AE569),P569:Q2472,2,0),\"\")","v":""},null,null,null,null,{"$f":"IFERROR(VLOOKUP(ROWS($AJ$2:AJ569),O569:Q2472,3,0),\"\")","v":""},null,{"$f":"IFERROR(VLOOKUP(ROWS(AL$2:$AL569),N569:Q2472,4,0),\"\")","v":""}]
[null,null,null,null,null,null,null,null,null,null,null,null,null,{"$f":"IF(ISNUMBER(SEARCH($H$16,Q570)),MAX($N$1:N569)+1,0)","v":0},{"$f":"IF(ISNUMBER(SEARCH($H$11,Q570)),MAX($O$1:O569)+1,0)","v":0},{"$f":"IF(ISNUMBER(SEARCH($H$6,Q570)),MAX($P$1:P569)+1,0)","v":0},"sundaram top 100 series ii dp g","MSN997","RGESS",null,null,null,null,null,null,null,null,null,null,null,{"$f":"IFERROR(VLOOKUP(ROWS($AE$2:AE570),P570:Q2473,2,0),\"\")","v":""},null,null,null,null,{"$f":"IFERROR(VLOOKUP(ROWS($AJ$2:AJ570),O570:Q2473,3,0),\"\")","v":""},null,{"$f":"IFERROR(VLOOKUP(ROWS(AL$2:$AL570),N570:Q2473,4,0),\"\")","v":""}]
[null,null,null,null,null,null,null,null,null,null,null,null,null,{"$f":"IF(ISNUMBER(SEARCH($H$16,Q571)),MAX($N$1:N570)+1,0)","v":0},{"$f":"IF(ISNUMBER(SEARCH($H$11,Q571)),MAX($O$1:O570)+1,0)","v":0},{"$f":"IF(ISNUMBER(SEARCH($H$6,Q571)),MAX($P$1:P570)+1,0)","v":0},"birla sl focused equity sr 2 dp","MBS1659","RGESS",null,null,null,null,null,null,null,null,null,null,null,{"$f":"IFERROR(VLOOKUP(ROWS($AE$2:AE571),P571:Q2474,2,0),\"\")","v":""},null,null,null,null,{"$f":"IFERROR(VLOOKUP(ROWS($AJ$2:AJ571),O571:Q2474,3,0),\"\")","v":""},null,{"$f":"IFERROR(VLOOKUP(ROWS(AL$2:$AL571),N571:Q2474,4,0),\"\")","v":""}]
[null,null,null,null,null,null,null,null,null,null,null,null,null,{"$f":"IF(ISNUMBER(SEARCH($H$16,Q572)),MAX($N$1:N571)+1,0)","v":0},{"$f":"IF(ISNUMBER(SEARCH($H$11,Q572)),MAX($O$1:O571)+1,0)","v":0},{"$f":"IF(ISNUMBER(SEARCH($H$6,Q572)),MAX($P$1:P571)+1,0)","v":0},"birla sl focused equity sr 1 dp","MBS1581","RGESS",null,null,null,null,null,null,null,null,null,null,null,{"$f":"IFERROR(VLOOKUP(ROWS($AE$2:AE572),P572:Q2475,2,0),\"\")","v":""},null,null,null,null,{"$f":"IFERROR(VLOOKUP(ROWS($AJ$2:AJ572),O572:Q2475,3,0),\"\")","v":""},null,{"$f":"IFERROR(VLOOKUP(ROWS(AL$2:$AL572),N572:Q2475,4,0),\"\")","v":""}]
[null,null,null,null,null,null,null,null,null,null,null,null,null,{"$f":"IF(ISNUMBER(SEARCH($H$16,Q573)),MAX($N$1:N572)+1,0)","v":0},{"$f":"IF(ISNUMBER(SEARCH($H$11,Q573)),MAX($O$1:O572)+1,0)","v":0},{"$f":"IF(ISNUMBER(SEARCH($H$6,Q573)),MAX($P$1:P572)+1,0)","v":0},"sundaram top 100 series iii dp g","MSN1015","RGESS",null,null,null,null,null,null,null,null,null,null,null,{"$f":"IFERROR(VLOOKUP(ROWS($AE$2:AE573),P573:Q2476,2,0),\"\")","v":""},null,null,null,null,{"$f":"IFERROR(VLOOKUP(ROWS($AJ$2:AJ573),O573:Q2476,3,0),\"\")","v":""},null,{"$f":"IFERROR(VLOOKUP(ROWS(AL$2:$AL573),N573:Q2476,4,0),\"\")","v":""}]
[null,null,null,null,null,null,null,null,null,null,null,null,null,{"$f":"IF(ISNUMBER(SEARCH($H$16,Q574)),MAX($N$1:N573)+1,0)","v":0},{"$f":"IF(ISNUMBER(SEARCH($H$11,Q574)),MAX($O$1:O573)+1,0)","v":0},{"$f":"IF(ISNUMBER(SEARCH($H$6,Q574)),MAX($P$1:P573)+1,0)","v":0},"birla sl focused equity sr 1 rp","MBS1579","RGESS",null,null,null,null,null,null,null,null,null,null,null,{"$f":"IFERROR(VLOOKUP(ROWS($AE$2:AE574),P574:Q2477,2,0),\"\")","v":""},null,null,null,null,{"$f":"IFERROR(VLOOKUP(ROWS($AJ$2:AJ574),O574:Q2477,3,0),\"\")","v":""},null,{"$f":"IFERROR(VLOOKUP(ROWS(AL$2:$AL574),N574:Q2477,4,0),\"\")","v":""}]
[null,null,null,null,null,null,null,null,null,null,null,null,null,{"$f":"IF(ISNUMBER(SEARCH($H$16,Q575)),MAX($N$1:N574)+1,0)","v":0},{"$f":"IF(ISNUMBER(SEARCH($H$11,Q575)),MAX($O$1:O574)+1,0)","v":0},{"$f":"IF(ISNUMBER(SEARCH($H$6,Q575)),MAX($P$1:P574)+1,0)","v":0},"birla sl focused equity sr 2 rp","MBS1657","RGESS",null,null,null,null,null,null,null,null,null,null,null,{"$f":"IFERROR(VLOOKUP(ROWS($AE$2:AE575),P575:Q2478,2,0),\"\")","v":""},null,null,null,null,{"$f":"IFERROR(VLOOKUP(ROWS($AJ$2:AJ575),O575:Q2478,3,0),\"\")","v":""},null,{"$f":"IFERROR(VLOOKUP(ROWS(AL$2:$AL575),N575:Q2478,4,0),\"\")","v":""}]
[null,null,null,null,null,null,null,null,null,null,null,null,null,{"$f":"IF(ISNUMBER(SEARCH($H$16,Q576)),MAX($N$1:N575)+1,0)","v":0},{"$f":"IF(ISNUMBER(SEARCH($H$11,Q576)),MAX($O$1:O575)+1,0)","v":0},{"$f":"IF(ISNUMBER(SEARCH($H$6,Q576)),MAX($P$1:P575)+1,0)","v":0},"sundaram top 100 series i rp g","MSN985","RGESS",null,null,null,null,null,null,null,null,null,null,null,{"$f":"IFERROR(VLOOKUP(ROWS($AE$2:AE576),P576:Q2479,2,0),\"\")","v":""},null,null,null,null,{"$f":"IFERROR(VLOOKUP(ROWS($AJ$2:AJ576),O576:Q2479,3,0),\"\")","v":""},null,{"$f":"IFERROR(VLOOKUP(ROWS(AL$2:$AL576),N576:Q2479,4,0),\"\")","v":""}]
[null,null,null,null,null,null,null,null,null,null,null,null,null,{"$f":"IF(ISNUMBER(SEARCH($H$16,Q577)),MAX($N$1:N576)+1,0)","v":0},{"$f":"IF(ISNUMBER(SEARCH($H$11,Q577)),MAX($O$1:O576)+1,0)","v":0},{"$f":"IF(ISNUMBER(SEARCH($H$6,Q577)),MAX($P$1:P576)+1,0)","v":0},"sundaram top 100 series ii rp g","MSN995","RGESS",null,null,null,null,null,null,null,null,null,null,null,{"$f":"IFERROR(VLOOKUP(ROWS($AE$2:AE577),P577:Q2480,2,0),\"\")","v":""},null,null,null,null,{"$f":"IFERROR(VLOOKUP(ROWS($AJ$2:AJ577),O577:Q2480,3,0),\"\")","v":""},null,{"$f":"IFERROR(VLOOKUP(ROWS(AL$2:$AL577),N577:Q2480,4,0),\"\")","v":""}]
[null,null,null,null,null,null,null,null,null,null,null,null,null,{"$f":"IF(ISNUMBER(SEARCH($H$16,Q578)),MAX($N$1:N577)+1,0)","v":0},{"$f":"IF(ISNUMBER(SEARCH($H$11,Q578)),MAX($O$1:O577)+1,0)","v":0},{"$f":"IF(ISNUMBER(SEARCH($H$6,Q578)),MAX($P$1:P577)+1,0)","v":0},"sundaram top 100 series iii rp g","MSN1013","RGESS",null,null,null,null,null,null,null,null,null,null,null,{"$f":"IFERROR(VLOOKUP(ROWS($AE$2:AE578),P578:Q2481,2,0),\"\")","v":""},null,null,null,null,{"$f":"IFERROR(VLOOKUP(ROWS($AJ$2:AJ578),O578:Q2481,3,0),\"\")","v":""},null,{"$f":"IFERROR(VLOOKUP(ROWS(AL$2:$AL578),N578:Q2481,4,0),\"\")","v":""}]
[null,null,null,null,null,null,null,null,null,null,null,null,null,{"$f":"IF(ISNUMBER(SEARCH($H$16,Q579)),MAX($N$1:N578)+1,0)","v":0},{"$f":"IF(ISNUMBER(SEARCH($H$11,Q579)),MAX($O$1:O578)+1,0)","v":0},{"$f":"IF(ISNUMBER(SEARCH($H$6,Q579)),MAX($P$1:P578)+1,0)","v":0},"dsp br rgess fund sr 1 regular","MDS644","RGESS",null,null,null,null,null,null,null,null,null,null,null,{"$f":"IFERROR(VLOOKUP(ROWS($AE$2:AE579),P579:Q2482,2,0),\"\")","v":""},null,null,null,null,{"$f":"IFERROR(VLOOKUP(ROWS($AJ$2:AJ579),O579:Q2482,3,0),\"\")","v":""},null,{"$f":"IFERROR(VLOOKUP(ROWS(AL$2:$AL579),N579:Q2482,4,0),\"\")","v":""}]
[null,null,null,null,null,null,null,null,null,null,null,null,null,{"$f":"IF(ISNUMBER(SEARCH($H$16,Q580)),MAX($N$1:N579)+1,0)","v":0},{"$f":"IF(ISNUMBER(SEARCH($H$11,Q580)),MAX($O$1:O579)+1,0)","v":0},{"$f":"IF(ISNUMBER(SEARCH($H$6,Q580)),MAX($P$1:P579)+1,0)","v":0},"lic nomura rgess sr 2 regular","MJB312","RGESS",null,null,null,null,null,null,null,null,null,null,null,{"$f":"IFERROR(VLOOKUP(ROWS($AE$2:AE580),P580:Q2483,2,0),\"\")","v":""},null,null,null,null,{"$f":"IFERROR(VLOOKUP(ROWS($AJ$2:AJ580),O580:Q2483,3,0),\"\")","v":""},null,{"$f":"IFERROR(VLOOKUP(ROWS(AL$2:$AL580),N580:Q2483,4,0),\"\")","v":""}]
[null,null,null,null,null,null,null,null,null,null,null,null,null,{"$f":"IF(ISNUMBER(SEARCH($H$16,Q581)),MAX($N$1:N580)+1,0)","v":0},{"$f":"IF(ISNUMBER(SEARCH($H$11,Q581)),MAX($O$1:O580)+1,0)","v":0},{"$f":"IF(ISNUMBER(SEARCH($H$6,Q581)),MAX($P$1:P580)+1,0)","v":0},"hdfc rgess sr 1 feb 13","MHD1283","RGESS",null,null,null,null,null,null,null,null,null,null,null,{"$f":"IFERROR(VLOOKUP(ROWS($AE$2:AE581),P581:Q2484,2,0),\"\")","v":""},null,null,null,null,{"$f":"IFERROR(VLOOKUP(ROWS($AJ$2:AJ581),O581:Q2484,3,0),\"\")","v":""},null,{"$f":"IFERROR(VLOOKUP(ROWS(AL$2:$AL581),N581:Q2484,4,0),\"\")","v":""}]
[null,null,null,null,null,null,null,null,null,null,null,null,null,{"$f":"IF(ISNUMBER(SEARCH($H$16,Q582)),MAX($N$1:N581)+1,0)","v":0},{"$f":"IF(ISNUMBER(SEARCH($H$11,Q582)),MAX($O$1:O581)+1,0)","v":0},{"$f":"IF(ISNUMBER(SEARCH($H$6,Q582)),MAX($P$1:P581)+1,0)","v":0},"lic nomura rgess sr 1 regular","MJB201","RGESS",null,null,null,null,null,null,null,null,null,null,null,{"$f":"IFERROR(VLOOKUP(ROWS($AE$2:AE582),P582:Q2485,2,0),\"\")","v":""},null,null,null,null,{"$f":"IFERROR(VLOOKUP(ROWS($AJ$2:AJ582),O582:Q2485,3,0),\"\")","v":""},null,{"$f":"IFERROR(VLOOKUP(ROWS(AL$2:$AL582),N582:Q2485,4,0),\"\")","v":""}]
[null,null,null,null,null,null,null,null,null,null,null,null,null,{"$f":"IF(ISNUMBER(SEARCH($H$16,Q583)),MAX($N$1:N582)+1,0)","v":0},{"$f":"IF(ISNUMBER(SEARCH($H$11,Q583)),MAX($O$1:O582)+1,0)","v":0},{"$f":"IF(ISNUMBER(SEARCH($H$6,Q583)),MAX($P$1:P582)+1,0)","v":0},"hdfc rgess sr 2 regular","MHD1919","RGESS",null,null,null,null,null,null,null,null,null,null,null,{"$f":"IFERROR(VLOOKUP(ROWS($AE$2:AE583),P583:Q2486,2,0),\"\")","v":""},null,null,null,null,{"$f":"IFERROR(VLOOKUP(ROWS($AJ$2:AJ583),O583:Q2486,3,0),\"\")","v":""},null,{"$f":"IFERROR(VLOOKUP(ROWS(AL$2:$AL583),N583:Q2486,4,0),\"\")","v":""}]
[null,null,null,null,null,null,null,null,null,null,null,null,null,{"$f":"IF(ISNUMBER(SEARCH($H$16,Q584)),MAX($N$1:N583)+1,0)","v":0},{"$f":"IF(ISNUMBER(SEARCH($H$11,Q584)),MAX($O$1:O583)+1,0)","v":0},{"$f":"IF(ISNUMBER(SEARCH($H$6,Q584)),MAX($P$1:P583)+1,0)","v":0},"uti rgess","MUT723","RGESS",null,null,null,null,null,null,null,null,null,null,null,{"$f":"IFERROR(VLOOKUP(ROWS($AE$2:AE584),P584:Q2487,2,0),\"\")","v":""},null,null,null,null,{"$f":"IFERROR(VLOOKUP(ROWS($AJ$2:AJ584),O584:Q2487,3,0),\"\")","v":""},null,{"$f":"IFERROR(VLOOKUP(ROWS(AL$2:$AL584),N584:Q2487,4,0),\"\")","v":""}]
[null,null,null,null,null,null,null,null,null,null,null,null,null,{"$f":"IF(ISNUMBER(SEARCH($H$16,Q585)),MAX($N$1:N584)+1,0)","v":0},{"$f":"IF(ISNUMBER(SEARCH($H$11,Q585)),MAX($O$1:O584)+1,0)","v":0},{"$f":"IF(ISNUMBER(SEARCH($H$6,Q585)),MAX($P$1:P584)+1,0)","v":0},"hdfc focused equity fund plan b dp","MHD2572","RGESS",null,null,null,null,null,null,null,null,null,null,null,{"$f":"IFERROR(VLOOKUP(ROWS($AE$2:AE585),P585:Q2488,2,0),\"\")","v":""},null,null,null,null,{"$f":"IFERROR(VLOOKUP(ROWS($AJ$2:AJ585),O585:Q2488,3,0),\"\")","v":""},null,{"$f":"IFERROR(VLOOKUP(ROWS(AL$2:$AL585),N585:Q2488,4,0),\"\")","v":""}]
[null,null,null,null,null,null,null,null,null,null,null,null,null,{"$f":"IF(ISNUMBER(SEARCH($H$16,Q586)),MAX($N$1:N585)+1,0)","v":0},{"$f":"IF(ISNUMBER(SEARCH($H$11,Q586)),MAX($O$1:O585)+1,0)","v":0},{"$f":"IF(ISNUMBER(SEARCH($H$6,Q586)),MAX($P$1:P585)+1,0)","v":0},"birla sl focused equity sr 3 rp","MBS1955","RGESS",null,null,null,null,null,null,null,null,null,null,null,{"$f":"IFERROR(VLOOKUP(ROWS($AE$2:AE586),P586:Q2489,2,0),\"\")","v":""},null,null,null,null,{"$f":"IFERROR(VLOOKUP(ROWS($AJ$2:AJ586),O586:Q2489,3,0),\"\")","v":""},null,{"$f":"IFERROR(VLOOKUP(ROWS(AL$2:$AL586),N586:Q2489,4,0),\"\")","v":""}]
[null,null,null,null,null,null,null,null,null,null,null,null,null,{"$f":"IF(ISNUMBER(SEARCH($H$16,Q587)),MAX($N$1:N586)+1,0)","v":0},{"$f":"IF(ISNUMBER(SEARCH($H$11,Q587)),MAX($O$1:O586)+1,0)","v":0},{"$f":"IF(ISNUMBER(SEARCH($H$6,Q587)),MAX($P$1:P586)+1,0)","v":0},"birla sl focused equity sr 3 dp","MBS1958","RGESS",null,null,null,null,null,null,null,null,null,null,null,{"$f":"IFERROR(VLOOKUP(ROWS($AE$2:AE587),P587:Q2490,2,0),\"\")","v":""},null,null,null,null,{"$f":"IFERROR(VLOOKUP(ROWS($AJ$2:AJ587),O587:Q2490,3,0),\"\")","v":""},null,{"$f":"IFERROR(VLOOKUP(ROWS(AL$2:$AL587),N587:Q2490,4,0),\"\")","v":""}]
[null,null,null,null,null,null,null,null,null,null,null,null,null,{"$f":"IF(ISNUMBER(SEARCH($H$16,Q588)),MAX($N$1:N587)+1,0)","v":0},{"$f":"IF(ISNUMBER(SEARCH($H$11,Q588)),MAX($O$1:O587)+1,0)","v":0},{"$f":"IF(ISNUMBER(SEARCH($H$6,Q588)),MAX($P$1:P587)+1,0)","v":0},"birla sl focused equity sr 4 rp","MBS1980","RGESS",null,null,null,null,null,null,null,null,null,null,null,{"$f":"IFERROR(VLOOKUP(ROWS($AE$2:AE588),P588:Q2491,2,0),\"\")","v":""},null,null,null,null,{"$f":"IFERROR(VLOOKUP(ROWS($AJ$2:AJ588),O588:Q2491,3,0),\"\")","v":""},null,{"$f":"IFERROR(VLOOKUP(ROWS(AL$2:$AL588),N588:Q2491,4,0),\"\")","v":""}]
[null,null,null,null,null,null,null,null,null,null,null,null,null,{"$f":"IF(ISNUMBER(SEARCH($H$16,Q589)),MAX($N$1:N588)+1,0)","v":0},{"$f":"IF(ISNUMBER(SEARCH($H$11,Q589)),MAX($O$1:O588)+1,0)","v":0},{"$f":"IF(ISNUMBER(SEARCH($H$6,Q589)),MAX($P$1:P588)+1,0)","v":0},"birla sl focused equity sr 4 dp","MBS1982","RGESS",null,null,null,null,null,null,null,null,null,null,null,{"$f":"IFERROR(VLOOKUP(ROWS($AE$2:AE589),P589:Q2492,2,0),\"\")","v":""},null,null,null,null,{"$f":"IFERROR(VLOOKUP(ROWS($AJ$2:AJ589),O589:Q2492,3,0),\"\")","v":""},null,{"$f":"IFERROR(VLOOKUP(ROWS(AL$2:$AL589),N589:Q2492,4,0),\"\")","v":""}]
[null,null,null,null,null,null,null,null,null,null,null,null,null,{"$f":"IF(ISNUMBER(SEARCH($H$16,Q590)),MAX($N$1:N589)+1,0)","v":0},{"$f":"IF(ISNUMBER(SEARCH($H$11,Q590)),MAX($O$1:O589)+1,0)","v":0},{"$f":"IF(ISNUMBER(SEARCH($H$6,Q590)),MAX($P$1:P589)+1,0)","v":0},"birla sl focused equity sr 5 rp","MBS2028","RGESS",null,null,null,null,null,null,null,null,null,null,null,{"$f":"IFERROR(VLOOKUP(ROWS($AE$2:AE590),P590:Q2493,2,0),\"\")","v":""},null,null,null,null,{"$f":"IFERROR(VLOOKUP(ROWS($AJ$2:AJ590),O590:Q2493,3,0),\"\")","v":""},null,{"$f":"IFERROR(VLOOKUP(ROWS(AL$2:$AL590),N590:Q2493,4,0),\"\")","v":""}]
[null,null,null,null,null,null,null,null,null,null,null,null,null,{"$f":"IF(ISNUMBER(SEARCH($H$16,Q591)),MAX($N$1:N590)+1,0)","v":0},{"$f":"IF(ISNUMBER(SEARCH($H$11,Q591)),MAX($O$1:O590)+1,0)","v":0},{"$f":"IF(ISNUMBER(SEARCH($H$6,Q591)),MAX($P$1:P590)+1,0)","v":0},"birla sl focused equity sr 5 dp","MBS2030","RGESS",null,null,null,null,null,null,null,null,null,null,null,{"$f":"IFERROR(VLOOKUP(ROWS($AE$2:AE591),P591:Q2494,2,0),\"\")","v":""},null,null,null,null,{"$f":"IFERROR(VLOOKUP(ROWS($AJ$2:AJ591),O591:Q2494,3,0),\"\")","v":""},null,{"$f":"IFERROR(VLOOKUP(ROWS(AL$2:$AL591),N591:Q2494,4,0),\"\")","v":""}]
[null,null,null,null,null,null,null,null,null,null,null,null,null,{"$f":"IF(ISNUMBER(SEARCH($H$16,Q592)),MAX($N$1:N591)+1,0)","v":0},{"$f":"IF(ISNUMBER(SEARCH($H$11,Q592)),MAX($O$1:O591)+1,0)","v":0},{"$f":"IF(ISNUMBER(SEARCH($H$6,Q592)),MAX($P$1:P591)+1,0)","v":0},"hdfc focused equity fund plan a dp","MHD2509","RGESS",null,null,null,null,null,null,null,null,null,null,null,{"$f":"IFERROR(VLOOKUP(ROWS($AE$2:AE592),P592:Q2495,2,0),\"\")","v":""},null,null,null,null,{"$f":"IFERROR(VLOOKUP(ROWS($AJ$2:AJ592),O592:Q2495,3,0),\"\")","v":""},null,{"$f":"IFERROR(VLOOKUP(ROWS(AL$2:$AL592),N592:Q2495,4,0),\"\")","v":""}]
[null,null,null,null,null,null,null,null,null,null,null,null,null,{"$f":"IF(ISNUMBER(SEARCH($H$16,Q593)),MAX($N$1:N592)+1,0)","v":0},{"$f":"IF(ISNUMBER(SEARCH($H$11,Q593)),MAX($O$1:O592)+1,0)","v":0},{"$f":"IF(ISNUMBER(SEARCH($H$6,Q593)),MAX($P$1:P592)+1,0)","v":0},"hdfc focused equity fund plan b rp","MHD2570","RGESS",null,null,null,null,null,null,null,null,null,null,null,{"$f":"IFERROR(VLOOKUP(ROWS($AE$2:AE593),P593:Q2496,2,0),\"\")","v":""},null,null,null,null,{"$f":"IFERROR(VLOOKUP(ROWS($AJ$2:AJ593),O593:Q2496,3,0),\"\")","v":""},null,{"$f":"IFERROR(VLOOKUP(ROWS(AL$2:$AL593),N593:Q2496,4,0),\"\")","v":""}]
[null,null,null,null,null,null,null,null,null,null,null,null,null,{"$f":"IF(ISNUMBER(SEARCH($H$16,Q594)),MAX($N$1:N593)+1,0)","v":0},{"$f":"IF(ISNUMBER(SEARCH($H$11,Q594)),MAX($O$1:O593)+1,0)","v":0},{"$f":"IF(ISNUMBER(SEARCH($H$6,Q594)),MAX($P$1:P593)+1,0)","v":0},"hdfc focused equity fund plan a rp","MHD2507","RGESS",null,null,null,null,null,null,null,null,null,null,null,{"$f":"IFERROR(VLOOKUP(ROWS($AE$2:AE594),P594:Q2497,2,0),\"\")","v":""},null,null,null,null,{"$f":"IFERROR(VLOOKUP(ROWS($AJ$2:AJ594),O594:Q2497,3,0),\"\")","v":""},null,{"$f":"IFERROR(VLOOKUP(ROWS(AL$2:$AL594),N594:Q2497,4,0),\"\")","v":""}]
[null,null,null,null,null,null,null,null,null,null,null,null,null,{"$f":"IF(ISNUMBER(SEARCH($H$16,Q595)),MAX($N$1:N594)+1,0)","v":0},{"$f":"IF(ISNUMBER(SEARCH($H$11,Q595)),MAX($O$1:O594)+1,0)","v":0},{"$f":"IF(ISNUMBER(SEARCH($H$6,Q595)),MAX($P$1:P594)+1,0)","v":0},"icici pru blended plan b direct","MPI1177","arbitrage",null,null,null,null,null,null,null,null,null,null,null,{"$f":"IFERROR(VLOOKUP(ROWS($AE$2:AE595),P595:Q2498,2,0),\"\")","v":""},null,null,null,null,{"$f":"IFERROR(VLOOKUP(ROWS($AJ$2:AJ595),O595:Q2498,3,0),\"\")","v":""},null,{"$f":"IFERROR(VLOOKUP(ROWS(AL$2:$AL595),N595:Q2498,4,0),\"\")","v":""}]
[null,null,null,null,null,null,null,null,null,null,null,null,null,{"$f":"IF(ISNUMBER(SEARCH($H$16,Q596)),MAX($N$1:N595)+1,0)","v":0},{"$f":"IF(ISNUMBER(SEARCH($H$11,Q596)),MAX($O$1:O595)+1,0)","v":0},{"$f":"IF(ISNUMBER(SEARCH($H$6,Q596)),MAX($P$1:P595)+1,0)","v":0},"icici pru blended plan b","MPI106","arbitrage",null,null,null,null,null,null,null,null,null,null,null,{"$f":"IFERROR(VLOOKUP(ROWS($AE$2:AE596),P596:Q2499,2,0),\"\")","v":""},null,null,null,null,{"$f":"IFERROR(VLOOKUP(ROWS($AJ$2:AJ596),O596:Q2499,3,0),\"\")","v":""},null,{"$f":"IFERROR(VLOOKUP(ROWS(AL$2:$AL596),N596:Q2499,4,0),\"\")","v":""}]
[null,null,null,null,null,null,null,null,null,null,null,null,null,{"$f":"IF(ISNUMBER(SEARCH($H$16,Q597)),MAX($N$1:N596)+1,0)","v":0},{"$f":"IF(ISNUMBER(SEARCH($H$11,Q597)),MAX($O$1:O596)+1,0)","v":0},{"$f":"IF(ISNUMBER(SEARCH($H$6,Q597)),MAX($P$1:P596)+1,0)","v":0},"edelweiss arbitrage fund dir","MEW116","arbitrage",null,null,null,null,null,null,null,null,null,null,null,{"$f":"IFERROR(VLOOKUP(ROWS($AE$2:AE597),P597:Q2500,2,0),\"\")","v":""},null,null,null,null,{"$f":"IFERROR(VLOOKUP(ROWS($AJ$2:AJ597),O597:Q2500,3,0),\"\")","v":""},null,{"$f":"IFERROR(VLOOKUP(ROWS(AL$2:$AL597),N597:Q2500,4,0),\"\")","v":""}]
[null,null,null,null,null,null,null,null,null,null,null,null,null,{"$f":"IF(ISNUMBER(SEARCH($H$16,Q598)),MAX($N$1:N597)+1,0)","v":0},{"$f":"IF(ISNUMBER(SEARCH($H$11,Q598)),MAX($O$1:O597)+1,0)","v":0},{"$f":"IF(ISNUMBER(SEARCH($H$6,Q598)),MAX($P$1:P597)+1,0)","v":0},"axis enhanced arbitrage fund dp","MAA588","arbitrage",null,null,null,null,null,null,null,null,null,null,null,{"$f":"IFERROR(VLOOKUP(ROWS($AE$2:AE598),P598:Q2501,2,0),\"\")","v":""},null,null,null,null,{"$f":"IFERROR(VLOOKUP(ROWS($AJ$2:AJ598),O598:Q2501,3,0),\"\")","v":""},null,{"$f":"IFERROR(VLOOKUP(ROWS(AL$2:$AL598),N598:Q2501,4,0),\"\")","v":""}]
[null,null,null,null,null,null,null,null,null,null,null,null,null,{"$f":"IF(ISNUMBER(SEARCH($H$16,Q599)),MAX($N$1:N598)+1,0)","v":0},{"$f":"IF(ISNUMBER(SEARCH($H$11,Q599)),MAX($O$1:O598)+1,0)","v":0},{"$f":"IF(ISNUMBER(SEARCH($H$6,Q599)),MAX($P$1:P598)+1,0)","v":0},"religare invesco arbitrage dir","MLI572","arbitrage",null,null,null,null,null,null,null,null,null,null,null,{"$f":"IFERROR(VLOOKUP(ROWS($AE$2:AE599),P599:Q2502,2,0),\"\")","v":""},null,null,null,null,{"$f":"IFERROR(VLOOKUP(ROWS($AJ$2:AJ599),O599:Q2502,3,0),\"\")","v":""},null,{"$f":"IFERROR(VLOOKUP(ROWS(AL$2:$AL599),N599:Q2502,4,0),\"\")","v":""}]
[null,null,null,null,null,null,null,null,null,null,null,null,null,{"$f":"IF(ISNUMBER(SEARCH($H$16,Q600)),MAX($N$1:N599)+1,0)","v":0},{"$f":"IF(ISNUMBER(SEARCH($H$11,Q600)),MAX($O$1:O599)+1,0)","v":0},{"$f":"IF(ISNUMBER(SEARCH($H$6,Q600)),MAX($P$1:P599)+1,0)","v":0},"edelweiss arbitrage fund reg","MEW113","arbitrage",null,null,null,null,null,null,null,null,null,null,null,{"$f":"IFERROR(VLOOKUP(ROWS($AE$2:AE600),P600:Q2503,2,0),\"\")","v":""},null,null,null,null,{"$f":"IFERROR(VLOOKUP(ROWS($AJ$2:AJ600),O600:Q2503,3,0),\"\")","v":""},null,{"$f":"IFERROR(VLOOKUP(ROWS(AL$2:$AL600),N600:Q2503,4,0),\"\")","v":""}]
[null,null,null,null,null,null,null,null,null,null,null,null,null,{"$f":"IF(ISNUMBER(SEARCH($H$16,Q601)),MAX($N$1:N600)+1,0)","v":0},{"$f":"IF(ISNUMBER(SEARCH($H$11,Q601)),MAX($O$1:O600)+1,0)","v":0},{"$f":"IF(ISNUMBER(SEARCH($H$6,Q601)),MAX($P$1:P600)+1,0)","v":0},"reliance arbitrage advantage","MRC600","arbitrage",null,null,null,null,null,null,null,null,null,null,null,{"$f":"IFERROR(VLOOKUP(ROWS($AE$2:AE601),P601:Q2504,2,0),\"\")","v":""},null,null,null,null,{"$f":"IFERROR(VLOOKUP(ROWS($AJ$2:AJ601),O601:Q2504,3,0),\"\")","v":""},null,{"$f":"IFERROR(VLOOKUP(ROWS(AL$2:$AL601),N601:Q2504,4,0),\"\")","v":""}]
[null,null,null,null,null,null,null,null,null,null,null,null,null,{"$f":"IF(ISNUMBER(SEARCH($H$16,Q602)),MAX($N$1:N601)+1,0)","v":0},{"$f":"IF(ISNUMBER(SEARCH($H$11,Q602)),MAX($O$1:O601)+1,0)","v":0},{"$f":"IF(ISNUMBER(SEARCH($H$6,Q602)),MAX($P$1:P601)+1,0)","v":0},"dws arbitrage fund regular","MDE1256","arbitrage",null,null,null,null,null,null,null,null,null,null,null,{"$f":"IFERROR(VLOOKUP(ROWS($AE$2:AE602),P602:Q2505,2,0),\"\")","v":""},null,null,null,null,{"$f":"IFERROR(VLOOKUP(ROWS($AJ$2:AJ602),O602:Q2505,3,0),\"\")","v":""},null,{"$f":"IFERROR(VLOOKUP(ROWS(AL$2:$AL602),N602:Q2505,4,0),\"\")","v":""}]
[null,null,null,null,null,null,null,null,null,null,null,null,null,{"$f":"IF(ISNUMBER(SEARCH($H$16,Q603)),MAX($N$1:N602)+1,0)","v":0},{"$f":"IF(ISNUMBER(SEARCH($H$11,Q603)),MAX($O$1:O602)+1,0)","v":0},{"$f":"IF(ISNUMBER(SEARCH($H$6,Q603)),MAX($P$1:P602)+1,0)","v":0},"icici pru eqty arbitrage dp","MPI2249","arbitrage",null,null,null,null,null,null,null,null,null,null,null,{"$f":"IFERROR(VLOOKUP(ROWS($AE$2:AE603),P603:Q2506,2,0),\"\")","v":""},null,null,null,null,{"$f":"IFERROR(VLOOKUP(ROWS($AJ$2:AJ603),O603:Q2506,3,0),\"\")","v":""},null,{"$f":"IFERROR(VLOOKUP(ROWS(AL$2:$AL603),N603:Q2506,4,0),\"\")","v":""}]
[null,null,null,null,null,null,null,null,null,null,null,null,null,{"$f":"IF(ISNUMBER(SEARCH($H$16,Q604)),MAX($N$1:N603)+1,0)","v":0},{"$f":"IF(ISNUMBER(SEARCH($H$11,Q604)),MAX($O$1:O603)+1,0)","v":0},{"$f":"IF(ISNUMBER(SEARCH($H$6,Q604)),MAX($P$1:P603)+1,0)","v":0},"sbi arbitrage oppor fund","MSB081","arbitrage",null,null,null,null,null,null,null,null,null,null,null,{"$f":"IFERROR(VLOOKUP(ROWS($AE$2:AE604),P604:Q2507,2,0),\"\")","v":""},null,null,null,null,{"$f":"IFERROR(VLOOKUP(ROWS($AJ$2:AJ604),O604:Q2507,3,0),\"\")","v":""},null,{"$f":"IFERROR(VLOOKUP(ROWS(AL$2:$AL604),N604:Q2507,4,0),\"\")","v":""}]
[null,null,null,null,null,null,null,null,null,null,null,null,null,{"$f":"IF(ISNUMBER(SEARCH($H$16,Q605)),MAX($N$1:N604)+1,0)","v":0},{"$f":"IF(ISNUMBER(SEARCH($H$11,Q605)),MAX($O$1:O604)+1,0)","v":0},{"$f":"IF(ISNUMBER(SEARCH($H$6,Q605)),MAX($P$1:P604)+1,0)","v":0},"religare invesco arbitrage fund","MLI032","arbitrage",null,null,null,null,null,null,null,null,null,null,null,{"$f":"IFERROR(VLOOKUP(ROWS($AE$2:AE605),P605:Q2508,2,0),\"\")","v":""},null,null,null,null,{"$f":"IFERROR(VLOOKUP(ROWS($AJ$2:AJ605),O605:Q2508,3,0),\"\")","v":""},null,{"$f":"IFERROR(VLOOKUP(ROWS(AL$2:$AL605),N605:Q2508,4,0),\"\")","v":""}]
[null,null,null,null,null,null,null,null,null,null,null,null,null,{"$f":"IF(ISNUMBER(SEARCH($H$16,Q606)),MAX($N$1:N605)+1,0)","v":0},{"$f":"IF(ISNUMBER(SEARCH($H$11,Q606)),MAX($O$1:O605)+1,0)","v":0},{"$f":"IF(ISNUMBER(SEARCH($H$6,Q606)),MAX($P$1:P605)+1,0)","v":0},"birla sl enhanced arbitrage rp","MBS468","arbitrage",null,null,null,null,null,null,null,null,null,null,null,{"$f":"IFERROR(VLOOKUP(ROWS($AE$2:AE606),P606:Q2509,2,0),\"\")","v":""},null,null,null,null,{"$f":"IFERROR(VLOOKUP(ROWS($AJ$2:AJ606),O606:Q2509,3,0),\"\")","v":""},null,{"$f":"IFERROR(VLOOKUP(ROWS(AL$2:$AL606),N606:Q2509,4,0),\"\")","v":""}]
[null,null,null,null,null,null,null,null,null,null,null,null,null,{"$f":"IF(ISNUMBER(SEARCH($H$16,Q607)),MAX($N$1:N606)+1,0)","v":0},{"$f":"IF(ISNUMBER(SEARCH($H$11,Q607)),MAX($O$1:O606)+1,0)","v":0},{"$f":"IF(ISNUMBER(SEARCH($H$6,Q607)),MAX($P$1:P606)+1,0)","v":0},"kotak equity arbitrage regular","MKM079","arbitrage",null,null,null,null,null,null,null,null,null,null,null,{"$f":"IFERROR(VLOOKUP(ROWS($AE$2:AE607),P607:Q2510,2,0),\"\")","v":""},null,null,null,null,{"$f":"IFERROR(VLOOKUP(ROWS($AJ$2:AJ607),O607:Q2510,3,0),\"\")","v":""},null,{"$f":"IFERROR(VLOOKUP(ROWS(AL$2:$AL607),N607:Q2510,4,0),\"\")","v":""}]
[null,null,null,null,null,null,null,null,null,null,null,null,null,{"$f":"IF(ISNUMBER(SEARCH($H$16,Q608)),MAX($N$1:N607)+1,0)","v":0},{"$f":"IF(ISNUMBER(SEARCH($H$11,Q608)),MAX($O$1:O607)+1,0)","v":0},{"$f":"IF(ISNUMBER(SEARCH($H$6,Q608)),MAX($P$1:P607)+1,0)","v":0},"l t arbitrage oppor regular","MCC502","arbitrage",null,null,null,null,null,null,null,null,null,null,null,{"$f":"IFERROR(VLOOKUP(ROWS($AE$2:AE608),P608:Q2511,2,0),\"\")","v":""},null,null,null,null,{"$f":"IFERROR(VLOOKUP(ROWS($AJ$2:AJ608),O608:Q2511,3,0),\"\")","v":""},null,{"$f":"IFERROR(VLOOKUP(ROWS(AL$2:$AL608),N608:Q2511,4,0),\"\")","v":""}]
[null,null,null,null,null,null,null,null,null,null,null,null,null,{"$f":"IF(ISNUMBER(SEARCH($H$16,Q609)),MAX($N$1:N608)+1,0)","v":0},{"$f":"IF(ISNUMBER(SEARCH($H$11,Q609)),MAX($O$1:O608)+1,0)","v":0},{"$f":"IF(ISNUMBER(SEARCH($H$6,Q609)),MAX($P$1:P608)+1,0)","v":0},"icici pru equity arbitrage ip","MPI124","arbitrage",null,null,null,null,null,null,null,null,null,null,null,{"$f":"IFERROR(VLOOKUP(ROWS($AE$2:AE609),P609:Q2512,2,0),\"\")","v":""},null,null,null,null,{"$f":"IFERROR(VLOOKUP(ROWS($AJ$2:AJ609),O609:Q2512,3,0),\"\")","v":""},null,{"$f":"IFERROR(VLOOKUP(ROWS(AL$2:$AL609),N609:Q2512,4,0),\"\")","v":""}]
[null,null,null,null,null,null,null,null,null,null,null,null,null,{"$f":"IF(ISNUMBER(SEARCH($H$16,Q610)),MAX($N$1:N609)+1,0)","v":0},{"$f":"IF(ISNUMBER(SEARCH($H$11,Q610)),MAX($O$1:O609)+1,0)","v":0},{"$f":"IF(ISNUMBER(SEARCH($H$6,Q610)),MAX($P$1:P609)+1,0)","v":0},"icici pru equity arbitrage rp","MPI122","arbitrage",null,null,null,null,null,null,null,null,null,null,null,{"$f":"IFERROR(VLOOKUP(ROWS($AE$2:AE610),P610:Q2513,2,0),\"\")","v":""},null,null,null,null,{"$f":"IFERROR(VLOOKUP(ROWS($AJ$2:AJ610),O610:Q2513,3,0),\"\")","v":""},null,{"$f":"IFERROR(VLOOKUP(ROWS(AL$2:$AL610),N610:Q2513,4,0),\"\")","v":""}]
[null,null,null,null,null,null,null,null,null,null,null,null,null,{"$f":"IF(ISNUMBER(SEARCH($H$16,Q611)),MAX($N$1:N610)+1,0)","v":0},{"$f":"IF(ISNUMBER(SEARCH($H$11,Q611)),MAX($O$1:O610)+1,0)","v":0},{"$f":"IF(ISNUMBER(SEARCH($H$6,Q611)),MAX($P$1:P610)+1,0)","v":0},"idfc arbitrage plus b","MAG220","arbitrage",null,null,null,null,null,null,null,null,null,null,null,{"$f":"IFERROR(VLOOKUP(ROWS($AE$2:AE611),P611:Q2514,2,0),\"\")","v":""},null,null,null,null,{"$f":"IFERROR(VLOOKUP(ROWS($AJ$2:AJ611),O611:Q2514,3,0),\"\")","v":""},null,{"$f":"IFERROR(VLOOKUP(ROWS(AL$2:$AL611),N611:Q2514,4,0),\"\")","v":""}]
[null,null,null,null,null,null,null,null,null,null,null,null,null,{"$f":"IF(ISNUMBER(SEARCH($H$16,Q612)),MAX($N$1:N611)+1,0)","v":0},{"$f":"IF(ISNUMBER(SEARCH($H$11,Q612)),MAX($O$1:O611)+1,0)","v":0},{"$f":"IF(ISNUMBER(SEARCH($H$6,Q612)),MAX($P$1:P611)+1,0)","v":0},"uti spread fund","MUT102","arbitrage",null,null,null,null,null,null,null,null,null,null,null,{"$f":"IFERROR(VLOOKUP(ROWS($AE$2:AE612),P612:Q2515,2,0),\"\")","v":""},null,null,null,null,{"$f":"IFERROR(VLOOKUP(ROWS($AJ$2:AJ612),O612:Q2515,3,0),\"\")","v":""},null,{"$f":"IFERROR(VLOOKUP(ROWS(AL$2:$AL612),N612:Q2515,4,0),\"\")","v":""}]
[null,null,null,null,null,null,null,null,null,null,null,null,null,{"$f":"IF(ISNUMBER(SEARCH($H$16,Q613)),MAX($N$1:N612)+1,0)","v":0},{"$f":"IF(ISNUMBER(SEARCH($H$11,Q613)),MAX($O$1:O612)+1,0)","v":0},{"$f":"IF(ISNUMBER(SEARCH($H$6,Q613)),MAX($P$1:P612)+1,0)","v":0},"axis enhanced arbitrage fund rp","MAA586","arbitrage",null,null,null,null,null,null,null,null,null,null,null,{"$f":"IFERROR(VLOOKUP(ROWS($AE$2:AE613),P613:Q2516,2,0),\"\")","v":""},null,null,null,null,{"$f":"IFERROR(VLOOKUP(ROWS($AJ$2:AJ613),O613:Q2516,3,0),\"\")","v":""},null,{"$f":"IFERROR(VLOOKUP(ROWS(AL$2:$AL613),N613:Q2516,4,0),\"\")","v":""}]
[null,null,null,null,null,null,null,null,null,null,null,null,null,{"$f":"IF(ISNUMBER(SEARCH($H$16,Q614)),MAX($N$1:N613)+1,0)","v":0},{"$f":"IF(ISNUMBER(SEARCH($H$11,Q614)),MAX($O$1:O613)+1,0)","v":0},{"$f":"IF(ISNUMBER(SEARCH($H$6,Q614)),MAX($P$1:P613)+1,0)","v":0},"hdfc arbitrage fund wp dp","MHD2147","arbitrage",null,null,null,null,null,null,null,null,null,null,null,{"$f":"IFERROR(VLOOKUP(ROWS($AE$2:AE614),P614:Q2517,2,0),\"\")","v":""},null,null,null,null,{"$f":"IFERROR(VLOOKUP(ROWS($AJ$2:AJ614),O614:Q2517,3,0),\"\")","v":""},null,{"$f":"IFERROR(VLOOKUP(ROWS(AL$2:$AL614),N614:Q2517,4,0),\"\")","v":""}]
[null,null,null,null,null,null,null,null,null,null,null,null,null,{"$f":"IF(ISNUMBER(SEARCH($H$16,Q615)),MAX($N$1:N614)+1,0)","v":0},{"$f":"IF(ISNUMBER(SEARCH($H$11,Q615)),MAX($O$1:O614)+1,0)","v":0},{"$f":"IF(ISNUMBER(SEARCH($H$6,Q615)),MAX($P$1:P614)+1,0)","v":0},"idfc arbitrage inst","MAG121","arbitrage",null,null,null,null,null,null,null,null,null,null,null,{"$f":"IFERROR(VLOOKUP(ROWS($AE$2:AE615),P615:Q2518,2,0),\"\")","v":""},null,null,null,null,{"$f":"IFERROR(VLOOKUP(ROWS($AJ$2:AJ615),O615:Q2518,3,0),\"\")","v":""},null,{"$f":"IFERROR(VLOOKUP(ROWS(AL$2:$AL615),N615:Q2518,4,0),\"\")","v":""}]
[null,null,null,null,null,null,null,null,null,null,null,null,null,{"$f":"IF(ISNUMBER(SEARCH($H$16,Q616)),MAX($N$1:N615)+1,0)","v":0},{"$f":"IF(ISNUMBER(SEARCH($H$11,Q616)),MAX($O$1:O615)+1,0)","v":0},{"$f":"IF(ISNUMBER(SEARCH($H$6,Q616)),MAX($P$1:P615)+1,0)","v":0},"idfc arbitrage fund regular","MAG119","arbitrage",null,null,null,null,null,null,null,null,null,null,null,{"$f":"IFERROR(VLOOKUP(ROWS($AE$2:AE616),P616:Q2519,2,0),\"\")","v":""},null,null,null,null,{"$f":"IFERROR(VLOOKUP(ROWS($AJ$2:AJ616),O616:Q2519,3,0),\"\")","v":""},null,{"$f":"IFERROR(VLOOKUP(ROWS(AL$2:$AL616),N616:Q2519,4,0),\"\")","v":""}]
[null,null,null,null,null,null,null,null,null,null,null,null,null,{"$f":"IF(ISNUMBER(SEARCH($H$16,Q617)),MAX($N$1:N616)+1,0)","v":0},{"$f":"IF(ISNUMBER(SEARCH($H$11,Q617)),MAX($O$1:O616)+1,0)","v":0},{"$f":"IF(ISNUMBER(SEARCH($H$6,Q617)),MAX($P$1:P616)+1,0)","v":0},"icici pru blended plan a","MPI104","arbitrage",null,null,null,null,null,null,null,null,null,null,null,{"$f":"IFERROR(VLOOKUP(ROWS($AE$2:AE617),P617:Q2520,2,0),\"\")","v":""},null,null,null,null,{"$f":"IFERROR(VLOOKUP(ROWS($AJ$2:AJ617),O617:Q2520,3,0),\"\")","v":""},null,{"$f":"IFERROR(VLOOKUP(ROWS(AL$2:$AL617),N617:Q2520,4,0),\"\")","v":""}]
[null,null,null,null,null,null,null,null,null,null,null,null,null,{"$f":"IF(ISNUMBER(SEARCH($H$16,Q618)),MAX($N$1:N617)+1,0)","v":0},{"$f":"IF(ISNUMBER(SEARCH($H$11,Q618)),MAX($O$1:O617)+1,0)","v":0},{"$f":"IF(ISNUMBER(SEARCH($H$6,Q618)),MAX($P$1:P617)+1,0)","v":0},"hdfc arbitrage fund wp","MHD228","arbitrage",null,null,null,null,null,null,null,null,null,null,null,{"$f":"IFERROR(VLOOKUP(ROWS($AE$2:AE618),P618:Q2521,2,0),\"\")","v":""},null,null,null,null,{"$f":"IFERROR(VLOOKUP(ROWS($AJ$2:AJ618),O618:Q2521,3,0),\"\")","v":""},null,{"$f":"IFERROR(VLOOKUP(ROWS(AL$2:$AL618),N618:Q2521,4,0),\"\")","v":""}]
[null,null,null,null,null,null,null,null,null,null,null,null,null,{"$f":"IF(ISNUMBER(SEARCH($H$16,Q619)),MAX($N$1:N618)+1,0)","v":0},{"$f":"IF(ISNUMBER(SEARCH($H$11,Q619)),MAX($O$1:O618)+1,0)","v":0},{"$f":"IF(ISNUMBER(SEARCH($H$6,Q619)),MAX($P$1:P618)+1,0)","v":0},"jm arbitrage advantage","MJM068","arbitrage",null,null,null,null,null,null,null,null,null,null,null,{"$f":"IFERROR(VLOOKUP(ROWS($AE$2:AE619),P619:Q2522,2,0),\"\")","v":""},null,null,null,null,{"$f":"IFERROR(VLOOKUP(ROWS($AJ$2:AJ619),O619:Q2522,3,0),\"\")","v":""},null,{"$f":"IFERROR(VLOOKUP(ROWS(AL$2:$AL619),N619:Q2522,4,0),\"\")","v":""}]
[null,null,null,null,null,null,null,null,null,null,null,null,null,{"$f":"IF(ISNUMBER(SEARCH($H$16,Q620)),MAX($N$1:N619)+1,0)","v":0},{"$f":"IF(ISNUMBER(SEARCH($H$11,Q620)),MAX($O$1:O619)+1,0)","v":0},{"$f":"IF(ISNUMBER(SEARCH($H$6,Q620)),MAX($P$1:P619)+1,0)","v":0},"hdfc arbitrage fund rp","MHD225","arbitrage",null,null,null,null,null,null,null,null,null,null,null,{"$f":"IFERROR(VLOOKUP(ROWS($AE$2:AE620),P620:Q2523,2,0),\"\")","v":""},null,null,null,null,{"$f":"IFERROR(VLOOKUP(ROWS($AJ$2:AJ620),O620:Q2523,3,0),\"\")","v":""},null,{"$f":"IFERROR(VLOOKUP(ROWS(AL$2:$AL620),N620:Q2523,4,0),\"\")","v":""}]
[null,null,null,null,null,null,null,null,null,null,null,null,null,{"$f":"IF(ISNUMBER(SEARCH($H$16,Q621)),MAX($N$1:N620)+1,0)","v":0},{"$f":"IF(ISNUMBER(SEARCH($H$11,Q621)),MAX($O$1:O620)+1,0)","v":0},{"$f":"IF(ISNUMBER(SEARCH($H$6,Q621)),MAX($P$1:P620)+1,0)","v":0},"idfc arbitrage plus regular","MAG218","arbitrage",null,null,null,null,null,null,null,null,null,null,null,{"$f":"IFERROR(VLOOKUP(ROWS($AE$2:AE621),P621:Q2524,2,0),\"\")","v":""},null,null,null,null,{"$f":"IFERROR(VLOOKUP(ROWS($AJ$2:AJ621),O621:Q2524,3,0),\"\")","v":""},null,{"$f":"IFERROR(VLOOKUP(ROWS(AL$2:$AL621),N621:Q2524,4,0),\"\")","v":""}]
[null,null,null,null,null,null,null,null,null,null,null,null,null,{"$f":"IF(ISNUMBER(SEARCH($H$16,Q622)),MAX($N$1:N621)+1,0)","v":0},{"$f":"IF(ISNUMBER(SEARCH($H$11,Q622)),MAX($O$1:O621)+1,0)","v":0},{"$f":"IF(ISNUMBER(SEARCH($H$6,Q622)),MAX($P$1:P621)+1,0)","v":0},"icici pru blended b inst ","MPI140","arbitrage",null,null,null,null,null,null,null,null,null,null,null,{"$f":"IFERROR(VLOOKUP(ROWS($AE$2:AE622),P622:Q2525,2,0),\"\")","v":""},null,null,null,null,{"$f":"IFERROR(VLOOKUP(ROWS($AJ$2:AJ622),O622:Q2525,3,0),\"\")","v":""},null,{"$f":"IFERROR(VLOOKUP(ROWS(AL$2:$AL622),N622:Q2525,4,0),\"\")","v":""}]
[null,null,null,null,null,null,null,null,null,null,null,null,null,{"$f":"IF(ISNUMBER(SEARCH($H$16,Q623)),MAX($N$1:N622)+1,0)","v":0},{"$f":"IF(ISNUMBER(SEARCH($H$11,Q623)),MAX($O$1:O622)+1,0)","v":0},{"$f":"IF(ISNUMBER(SEARCH($H$6,Q623)),MAX($P$1:P622)+1,0)","v":0},"birla sl enhanced arbitrage ip","MBS470","arbitrage",null,null,null,null,null,null,null,null,null,null,null,{"$f":"IFERROR(VLOOKUP(ROWS($AE$2:AE623),P623:Q2526,2,0),\"\")","v":""},null,null,null,null,{"$f":"IFERROR(VLOOKUP(ROWS($AJ$2:AJ623),O623:Q2526,3,0),\"\")","v":""},null,{"$f":"IFERROR(VLOOKUP(ROWS(AL$2:$AL623),N623:Q2526,4,0),\"\")","v":""}]
[null,null,null,null,null,null,null,null,null,null,null,null,null,{"$f":"IF(ISNUMBER(SEARCH($H$16,Q624)),MAX($N$1:N623)+1,0)","v":0},{"$f":"IF(ISNUMBER(SEARCH($H$11,Q624)),MAX($O$1:O623)+1,0)","v":0},{"$f":"IF(ISNUMBER(SEARCH($H$6,Q624)),MAX($P$1:P623)+1,0)","v":0},"dsp br balanced fund direct","MDS608","Balanced",null,null,null,null,null,null,null,null,null,null,null,{"$f":"IFERROR(VLOOKUP(ROWS($AE$2:AE624),P624:Q2527,2,0),\"\")","v":""},null,null,null,null,{"$f":"IFERROR(VLOOKUP(ROWS($AJ$2:AJ624),O624:Q2527,3,0),\"\")","v":""},null,{"$f":"IFERROR(VLOOKUP(ROWS(AL$2:$AL624),N624:Q2527,4,0),\"\")","v":""}]
[null,null,null,null,null,null,null,null,null,null,null,null,null,{"$f":"IF(ISNUMBER(SEARCH($H$16,Q625)),MAX($N$1:N624)+1,0)","v":0},{"$f":"IF(ISNUMBER(SEARCH($H$11,Q625)),MAX($O$1:O624)+1,0)","v":0},{"$f":"IF(ISNUMBER(SEARCH($H$6,Q625)),MAX($P$1:P624)+1,0)","v":0},"tata balanced fund regular","MTA001","Balanced",null,null,null,null,null,null,null,null,null,null,null,{"$f":"IFERROR(VLOOKUP(ROWS($AE$2:AE625),P625:Q2528,2,0),\"\")","v":""},null,null,null,null,{"$f":"IFERROR(VLOOKUP(ROWS($AJ$2:AJ625),O625:Q2528,3,0),\"\")","v":""},null,{"$f":"IFERROR(VLOOKUP(ROWS(AL$2:$AL625),N625:Q2528,4,0),\"\")","v":""}]
[null,null,null,null,null,null,null,null,null,null,null,null,null,{"$f":"IF(ISNUMBER(SEARCH($H$16,Q626)),MAX($N$1:N625)+1,0)","v":0},{"$f":"IF(ISNUMBER(SEARCH($H$11,Q626)),MAX($O$1:O625)+1,0)","v":0},{"$f":"IF(ISNUMBER(SEARCH($H$6,Q626)),MAX($P$1:P625)+1,0)","v":0},"dsp br balanced fund","MDS005","Balanced",null,null,null,null,null,null,null,null,null,null,null,{"$f":"IFERROR(VLOOKUP(ROWS($AE$2:AE626),P626:Q2529,2,0),\"\")","v":""},null,null,null,null,{"$f":"IFERROR(VLOOKUP(ROWS($AJ$2:AJ626),O626:Q2529,3,0),\"\")","v":""},null,{"$f":"IFERROR(VLOOKUP(ROWS(AL$2:$AL626),N626:Q2529,4,0),\"\")","v":""}]
[null,null,null,null,null,null,null,null,null,null,null,null,null,{"$f":"IF(ISNUMBER(SEARCH($H$16,Q627)),MAX($N$1:N626)+1,0)","v":0},{"$f":"IF(ISNUMBER(SEARCH($H$11,Q627)),MAX($O$1:O626)+1,0)","v":0},{"$f":"IF(ISNUMBER(SEARCH($H$6,Q627)),MAX($P$1:P626)+1,0)","v":0},"franklin india balanced fund dp","MTE307","Balanced",null,null,null,null,null,null,null,null,null,null,null,{"$f":"IFERROR(VLOOKUP(ROWS($AE$2:AE627),P627:Q2530,2,0),\"\")","v":""},null,null,null,null,{"$f":"IFERROR(VLOOKUP(ROWS($AJ$2:AJ627),O627:Q2530,3,0),\"\")","v":""},null,{"$f":"IFERROR(VLOOKUP(ROWS(AL$2:$AL627),N627:Q2530,4,0),\"\")","v":""}]
[null,null,null,null,null,null,null,null,null,null,null,null,null,{"$f":"IF(ISNUMBER(SEARCH($H$16,Q628)),MAX($N$1:N627)+1,0)","v":0},{"$f":"IF(ISNUMBER(SEARCH($H$11,Q628)),MAX($O$1:O627)+1,0)","v":0},{"$f":"IF(ISNUMBER(SEARCH($H$6,Q628)),MAX($P$1:P627)+1,0)","v":0},"franklin india balanced fund","MKP027","Balanced",null,null,null,null,null,null,null,null,null,null,null,{"$f":"IFERROR(VLOOKUP(ROWS($AE$2:AE628),P628:Q2531,2,0),\"\")","v":""},null,null,null,null,{"$f":"IFERROR(VLOOKUP(ROWS($AJ$2:AJ628),O628:Q2531,3,0),\"\")","v":""},null,{"$f":"IFERROR(VLOOKUP(ROWS(AL$2:$AL628),N628:Q2531,4,0),\"\")","v":""}]
[null,null,null,null,null,null,null,null,null,null,null,null,null,{"$f":"IF(ISNUMBER(SEARCH($H$16,Q629)),MAX($N$1:N628)+1,0)","v":0},{"$f":"IF(ISNUMBER(SEARCH($H$11,Q629)),MAX($O$1:O628)+1,0)","v":0},{"$f":"IF(ISNUMBER(SEARCH($H$6,Q629)),MAX($P$1:P628)+1,0)","v":0},"l t india prudence fund","MFF103","Balanced",null,null,null,null,null,null,null,null,null,null,null,{"$f":"IFERROR(VLOOKUP(ROWS($AE$2:AE629),P629:Q2532,2,0),\"\")","v":""},null,null,null,null,{"$f":"IFERROR(VLOOKUP(ROWS($AJ$2:AJ629),O629:Q2532,3,0),\"\")","v":""},null,{"$f":"IFERROR(VLOOKUP(ROWS(AL$2:$AL629),N629:Q2532,4,0),\"\")","v":""}]
[null,null,null,null,null,null,null,null,null,null,null,null,null,{"$f":"IF(ISNUMBER(SEARCH($H$16,Q630)),MAX($N$1:N629)+1,0)","v":0},{"$f":"IF(ISNUMBER(SEARCH($H$11,Q630)),MAX($O$1:O629)+1,0)","v":0},{"$f":"IF(ISNUMBER(SEARCH($H$6,Q630)),MAX($P$1:P629)+1,0)","v":0},"can robeco balance","MCA051","Balanced",null,null,null,null,null,null,null,null,null,null,null,{"$f":"IFERROR(VLOOKUP(ROWS($AE$2:AE630),P630:Q2533,2,0),\"\")","v":""},null,null,null,null,{"$f":"IFERROR(VLOOKUP(ROWS($AJ$2:AJ630),O630:Q2533,3,0),\"\")","v":""},null,{"$f":"IFERROR(VLOOKUP(ROWS(AL$2:$AL630),N630:Q2533,4,0),\"\")","v":""}]
[null,null,null,null,null,null,null,null,null,null,null,null,null,{"$f":"IF(ISNUMBER(SEARCH($H$16,Q631)),MAX($N$1:N630)+1,0)","v":0},{"$f":"IF(ISNUMBER(SEARCH($H$11,Q631)),MAX($O$1:O630)+1,0)","v":0},{"$f":"IF(ISNUMBER(SEARCH($H$6,Q631)),MAX($P$1:P630)+1,0)","v":0},"sbi magnum balanced fund","MSB063","Balanced",null,null,null,null,null,null,null,null,null,null,null,{"$f":"IFERROR(VLOOKUP(ROWS($AE$2:AE631),P631:Q2534,2,0),\"\")","v":""},null,null,null,null,{"$f":"IFERROR(VLOOKUP(ROWS($AJ$2:AJ631),O631:Q2534,3,0),\"\")","v":""},null,{"$f":"IFERROR(VLOOKUP(ROWS(AL$2:$AL631),N631:Q2534,4,0),\"\")","v":""}]
[null,null,null,null,null,null,null,null,null,null,null,null,null,{"$f":"IF(ISNUMBER(SEARCH($H$16,Q632)),MAX($N$1:N631)+1,0)","v":0},{"$f":"IF(ISNUMBER(SEARCH($H$11,Q632)),MAX($O$1:O631)+1,0)","v":0},{"$f":"IF(ISNUMBER(SEARCH($H$6,Q632)),MAX($P$1:P631)+1,0)","v":0},"birla sun life 95 fund","MAC001","Balanced",null,null,null,null,null,null,null,null,null,null,null,{"$f":"IFERROR(VLOOKUP(ROWS($AE$2:AE632),P632:Q2535,2,0),\"\")","v":""},null,null,null,null,{"$f":"IFERROR(VLOOKUP(ROWS($AJ$2:AJ632),O632:Q2535,3,0),\"\")","v":""},null,{"$f":"IFERROR(VLOOKUP(ROWS(AL$2:$AL632),N632:Q2535,4,0),\"\")","v":""}]
[null,null,null,null,null,null,null,null,null,null,null,null,null,{"$f":"IF(ISNUMBER(SEARCH($H$16,Q633)),MAX($N$1:N632)+1,0)","v":0},{"$f":"IF(ISNUMBER(SEARCH($H$11,Q633)),MAX($O$1:O632)+1,0)","v":0},{"$f":"IF(ISNUMBER(SEARCH($H$6,Q633)),MAX($P$1:P632)+1,0)","v":0},"hdfc balanced fund","MHD002","Balanced",null,null,null,null,null,null,null,null,null,null,null,{"$f":"IFERROR(VLOOKUP(ROWS($AE$2:AE633),P633:Q2536,2,0),\"\")","v":""},null,null,null,null,{"$f":"IFERROR(VLOOKUP(ROWS($AJ$2:AJ633),O633:Q2536,3,0),\"\")","v":""},null,{"$f":"IFERROR(VLOOKUP(ROWS(AL$2:$AL633),N633:Q2536,4,0),\"\")","v":""}]
[null,null,null,null,null,null,null,null,null,null,null,null,null,{"$f":"IF(ISNUMBER(SEARCH($H$16,Q634)),MAX($N$1:N633)+1,0)","v":0},{"$f":"IF(ISNUMBER(SEARCH($H$11,Q634)),MAX($O$1:O633)+1,0)","v":0},{"$f":"IF(ISNUMBER(SEARCH($H$6,Q634)),MAX($P$1:P633)+1,0)","v":0},"icici pru balanced fund","MPI011","Balanced",null,null,null,null,null,null,null,null,null,null,null,{"$f":"IFERROR(VLOOKUP(ROWS($AE$2:AE634),P634:Q2537,2,0),\"\")","v":""},null,null,null,null,{"$f":"IFERROR(VLOOKUP(ROWS($AJ$2:AJ634),O634:Q2537,3,0),\"\")","v":""},null,{"$f":"IFERROR(VLOOKUP(ROWS(AL$2:$AL634),N634:Q2537,4,0),\"\")","v":""}]
[null,null,null,null,null,null,null,null,null,null,null,null,null,{"$f":"IF(ISNUMBER(SEARCH($H$16,Q635)),MAX($N$1:N634)+1,0)","v":0},{"$f":"IF(ISNUMBER(SEARCH($H$11,Q635)),MAX($O$1:O634)+1,0)","v":0},{"$f":"IF(ISNUMBER(SEARCH($H$6,Q635)),MAX($P$1:P634)+1,0)","v":0},"edelweiss absolute return fund","MEW051","Balanced",null,null,null,null,null,null,null,null,null,null,null,{"$f":"IFERROR(VLOOKUP(ROWS($AE$2:AE635),P635:Q2538,2,0),\"\")","v":""},null,null,null,null,{"$f":"IFERROR(VLOOKUP(ROWS($AJ$2:AJ635),O635:Q2538,3,0),\"\")","v":""},null,{"$f":"IFERROR(VLOOKUP(ROWS(AL$2:$AL635),N635:Q2538,4,0),\"\")","v":""}]
[null,null,null,null,null,null,null,null,null,null,null,null,null,{"$f":"IF(ISNUMBER(SEARCH($H$16,Q636)),MAX($N$1:N635)+1,0)","v":0},{"$f":"IF(ISNUMBER(SEARCH($H$11,Q636)),MAX($O$1:O635)+1,0)","v":0},{"$f":"IF(ISNUMBER(SEARCH($H$6,Q636)),MAX($P$1:P635)+1,0)","v":0},"reliance rsf balanced","MRC100","Balanced",null,null,null,null,null,null,null,null,null,null,null,{"$f":"IFERROR(VLOOKUP(ROWS($AE$2:AE636),P636:Q2539,2,0),\"\")","v":""},null,null,null,null,{"$f":"IFERROR(VLOOKUP(ROWS($AJ$2:AJ636),O636:Q2539,3,0),\"\")","v":""},null,{"$f":"IFERROR(VLOOKUP(ROWS(AL$2:$AL636),N636:Q2539,4,0),\"\")","v":""}]
[null,null,null,null,null,null,null,null,null,null,null,null,null,{"$f":"IF(ISNUMBER(SEARCH($H$16,Q637)),MAX($N$1:N636)+1,0)","v":0},{"$f":"IF(ISNUMBER(SEARCH($H$11,Q637)),MAX($O$1:O636)+1,0)","v":0},{"$f":"IF(ISNUMBER(SEARCH($H$6,Q637)),MAX($P$1:P636)+1,0)","v":0},"icici pru balanced adv","MPI126","Balanced",null,null,null,null,null,null,null,null,null,null,null,{"$f":"IFERROR(VLOOKUP(ROWS($AE$2:AE637),P637:Q2540,2,0),\"\")","v":""},null,null,null,null,{"$f":"IFERROR(VLOOKUP(ROWS($AJ$2:AJ637),O637:Q2540,3,0),\"\")","v":""},null,{"$f":"IFERROR(VLOOKUP(ROWS(AL$2:$AL637),N637:Q2540,4,0),\"\")","v":""}]
[null,null,null,null,null,null,null,null,null,null,null,null,null,{"$f":"IF(ISNUMBER(SEARCH($H$16,Q638)),MAX($N$1:N637)+1,0)","v":0},{"$f":"IF(ISNUMBER(SEARCH($H$11,Q638)),MAX($O$1:O637)+1,0)","v":0},{"$f":"IF(ISNUMBER(SEARCH($H$6,Q638)),MAX($P$1:P637)+1,0)","v":0},"shriram equity debt opp dir","MSR003","Balanced",null,null,null,null,null,null,null,null,null,null,null,{"$f":"IFERROR(VLOOKUP(ROWS($AE$2:AE638),P638:Q2541,2,0),\"\")","v":""},null,null,null,null,{"$f":"IFERROR(VLOOKUP(ROWS($AJ$2:AJ638),O638:Q2541,3,0),\"\")","v":""},null,{"$f":"IFERROR(VLOOKUP(ROWS(AL$2:$AL638),N638:Q2541,4,0),\"\")","v":""}]
[null,null,null,null,null,null,null,null,null,null,null,null,null,{"$f":"IF(ISNUMBER(SEARCH($H$16,Q639)),MAX($N$1:N638)+1,0)","v":0},{"$f":"IF(ISNUMBER(SEARCH($H$11,Q639)),MAX($O$1:O638)+1,0)","v":0},{"$f":"IF(ISNUMBER(SEARCH($H$6,Q639)),MAX($P$1:P638)+1,0)","v":0},"shriram equity debt opp reg","MSR001","Balanced",null,null,null,null,null,null,null,null,null,null,null,{"$f":"IFERROR(VLOOKUP(ROWS($AE$2:AE639),P639:Q2542,2,0),\"\")","v":""},null,null,null,null,{"$f":"IFERROR(VLOOKUP(ROWS($AJ$2:AJ639),O639:Q2542,3,0),\"\")","v":""},null,{"$f":"IFERROR(VLOOKUP(ROWS(AL$2:$AL639),N639:Q2542,4,0),\"\")","v":""}]
[null,null,null,null,null,null,null,null,null,null,null,null,null,{"$f":"IF(ISNUMBER(SEARCH($H$16,Q640)),MAX($N$1:N639)+1,0)","v":0},{"$f":"IF(ISNUMBER(SEARCH($H$11,Q640)),MAX($O$1:O639)+1,0)","v":0},{"$f":"IF(ISNUMBER(SEARCH($H$6,Q640)),MAX($P$1:P639)+1,0)","v":0},"uti balanced fund","MUT019","Balanced",null,null,null,null,null,null,null,null,null,null,null,{"$f":"IFERROR(VLOOKUP(ROWS($AE$2:AE640),P640:Q2543,2,0),\"\")","v":""},null,null,null,null,{"$f":"IFERROR(VLOOKUP(ROWS($AJ$2:AJ640),O640:Q2543,3,0),\"\")","v":""},null,{"$f":"IFERROR(VLOOKUP(ROWS(AL$2:$AL640),N640:Q2543,4,0),\"\")","v":""}]
[null,null,null,null,null,null,null,null,null,null,null,null,null,{"$f":"IF(ISNUMBER(SEARCH($H$16,Q641)),MAX($N$1:N640)+1,0)","v":0},{"$f":"IF(ISNUMBER(SEARCH($H$11,Q641)),MAX($O$1:O640)+1,0)","v":0},{"$f":"IF(ISNUMBER(SEARCH($H$6,Q641)),MAX($P$1:P640)+1,0)","v":0},"baroda pioneer balance","MBO012","Balanced",null,null,null,null,null,null,null,null,null,null,null,{"$f":"IFERROR(VLOOKUP(ROWS($AE$2:AE641),P641:Q2544,2,0),\"\")","v":""},null,null,null,null,{"$f":"IFERROR(VLOOKUP(ROWS($AJ$2:AJ641),O641:Q2544,3,0),\"\")","v":""},null,{"$f":"IFERROR(VLOOKUP(ROWS(AL$2:$AL641),N641:Q2544,4,0),\"\")","v":""}]
[null,null,null,null,null,null,null,null,null,null,null,null,null,{"$f":"IF(ISNUMBER(SEARCH($H$16,Q642)),MAX($N$1:N641)+1,0)","v":0},{"$f":"IF(ISNUMBER(SEARCH($H$11,Q642)),MAX($O$1:O641)+1,0)","v":0},{"$f":"IF(ISNUMBER(SEARCH($H$6,Q642)),MAX($P$1:P641)+1,0)","v":0},"hdfc prudence fund","MZU003","Balanced",null,null,null,null,null,null,null,null,null,null,null,{"$f":"IFERROR(VLOOKUP(ROWS($AE$2:AE642),P642:Q2545,2,0),\"\")","v":""},null,null,null,null,{"$f":"IFERROR(VLOOKUP(ROWS($AJ$2:AJ642),O642:Q2545,3,0),\"\")","v":""},null,{"$f":"IFERROR(VLOOKUP(ROWS(AL$2:$AL642),N642:Q2545,4,0),\"\")","v":""}]
[null,null,null,null,null,null,null,null,null,null,null,null,null,{"$f":"IF(ISNUMBER(SEARCH($H$16,Q643)),MAX($N$1:N642)+1,0)","v":0},{"$f":"IF(ISNUMBER(SEARCH($H$11,Q643)),MAX($O$1:O642)+1,0)","v":0},{"$f":"IF(ISNUMBER(SEARCH($H$6,Q643)),MAX($P$1:P642)+1,0)","v":0},"principal balanced","MSF006","Balanced",null,null,null,null,null,null,null,null,null,null,null,{"$f":"IFERROR(VLOOKUP(ROWS($AE$2:AE643),P643:Q2546,2,0),\"\")","v":""},null,null,null,null,{"$f":"IFERROR(VLOOKUP(ROWS($AJ$2:AJ643),O643:Q2546,3,0),\"\")","v":""},null,{"$f":"IFERROR(VLOOKUP(ROWS(AL$2:$AL643),N643:Q2546,4,0),\"\")","v":""}]
[null,null,null,null,null,null,null,null,null,null,null,null,null,{"$f":"IF(ISNUMBER(SEARCH($H$16,Q644)),MAX($N$1:N643)+1,0)","v":0},{"$f":"IF(ISNUMBER(SEARCH($H$11,Q644)),MAX($O$1:O643)+1,0)","v":0},{"$f":"IF(ISNUMBER(SEARCH($H$6,Q644)),MAX($P$1:P643)+1,0)","v":0},"lic nomura balanced c","MJB006","Balanced",null,null,null,null,null,null,null,null,null,null,null,{"$f":"IFERROR(VLOOKUP(ROWS($AE$2:AE644),P644:Q2547,2,0),\"\")","v":""},null,null,null,null,{"$f":"IFERROR(VLOOKUP(ROWS($AJ$2:AJ644),O644:Q2547,3,0),\"\")","v":""},null,{"$f":"IFERROR(VLOOKUP(ROWS(AL$2:$AL644),N644:Q2547,4,0),\"\")","v":""}]
[null,null,null,null,null,null,null,null,null,null,null,null,null,{"$f":"IF(ISNUMBER(SEARCH($H$16,Q645)),MAX($N$1:N644)+1,0)","v":0},{"$f":"IF(ISNUMBER(SEARCH($H$11,Q645)),MAX($O$1:O644)+1,0)","v":0},{"$f":"IF(ISNUMBER(SEARCH($H$6,Q645)),MAX($P$1:P644)+1,0)","v":0},"escorts balanced fund","MES006","Balanced",null,null,null,null,null,null,null,null,null,null,null,{"$f":"IFERROR(VLOOKUP(ROWS($AE$2:AE645),P645:Q2548,2,0),\"\")","v":""},null,null,null,null,{"$f":"IFERROR(VLOOKUP(ROWS($AJ$2:AJ645),O645:Q2548,3,0),\"\")","v":""},null,{"$f":"IFERROR(VLOOKUP(ROWS(AL$2:$AL645),N645:Q2548,4,0),\"\")","v":""}]
[null,null,null,null,null,null,null,null,null,null,null,null,null,{"$f":"IF(ISNUMBER(SEARCH($H$16,Q646)),MAX($N$1:N645)+1,0)","v":0},{"$f":"IF(ISNUMBER(SEARCH($H$11,Q646)),MAX($O$1:O645)+1,0)","v":0},{"$f":"IF(ISNUMBER(SEARCH($H$6,Q646)),MAX($P$1:P645)+1,0)","v":0},"birla sl dynamic aaf","MIN007","Balanced",null,null,null,null,null,null,null,null,null,null,null,{"$f":"IFERROR(VLOOKUP(ROWS($AE$2:AE646),P646:Q2549,2,0),\"\")","v":""},null,null,null,null,{"$f":"IFERROR(VLOOKUP(ROWS($AJ$2:AJ646),O646:Q2549,3,0),\"\")","v":""},null,{"$f":"IFERROR(VLOOKUP(ROWS(AL$2:$AL646),N646:Q2549,4,0),\"\")","v":""}]
[null,null,null,null,null,null,null,null,null,null,null,null,null,{"$f":"IF(ISNUMBER(SEARCH($H$16,Q647)),MAX($N$1:N646)+1,0)","v":0},{"$f":"IF(ISNUMBER(SEARCH($H$11,Q647)),MAX($O$1:O646)+1,0)","v":0},{"$f":"IF(ISNUMBER(SEARCH($H$6,Q647)),MAX($P$1:P646)+1,0)","v":0},"jm balanced fund","MJM004","Balanced",null,null,null,null,null,null,null,null,null,null,null,{"$f":"IFERROR(VLOOKUP(ROWS($AE$2:AE647),P647:Q2550,2,0),\"\")","v":""},null,null,null,null,{"$f":"IFERROR(VLOOKUP(ROWS($AJ$2:AJ647),O647:Q2550,3,0),\"\")","v":""},null,{"$f":"IFERROR(VLOOKUP(ROWS(AL$2:$AL647),N647:Q2550,4,0),\"\")","v":""}]
[null,null,null,null,null,null,null,null,null,null,null,null,null,{"$f":"IF(ISNUMBER(SEARCH($H$16,Q648)),MAX($N$1:N647)+1,0)","v":0},{"$f":"IF(ISNUMBER(SEARCH($H$11,Q648)),MAX($O$1:O647)+1,0)","v":0},{"$f":"IF(ISNUMBER(SEARCH($H$6,Q648)),MAX($P$1:P647)+1,0)","v":0},"sundaram balanced rp","MSN006","Balanced",null,null,null,null,null,null,null,null,null,null,null,{"$f":"IFERROR(VLOOKUP(ROWS($AE$2:AE648),P648:Q2551,2,0),\"\")","v":""},null,null,null,null,{"$f":"IFERROR(VLOOKUP(ROWS($AJ$2:AJ648),O648:Q2551,3,0),\"\")","v":""},null,{"$f":"IFERROR(VLOOKUP(ROWS(AL$2:$AL648),N648:Q2551,4,0),\"\")","v":""}]
[null,null,null,null,null,null,null,null,null,null,null,null,null,{"$f":"IF(ISNUMBER(SEARCH($H$16,Q649)),MAX($N$1:N648)+1,0)","v":0},{"$f":"IF(ISNUMBER(SEARCH($H$11,Q649)),MAX($O$1:O648)+1,0)","v":0},{"$f":"IF(ISNUMBER(SEARCH($H$6,Q649)),MAX($P$1:P648)+1,0)","v":0},"kotak balance regular plan","MKM006","Balanced",null,null,null,null,null,null,null,null,null,null,null,{"$f":"IFERROR(VLOOKUP(ROWS($AE$2:AE649),P649:Q2552,2,0),\"\")","v":""},null,null,null,null,{"$f":"IFERROR(VLOOKUP(ROWS($AJ$2:AJ649),O649:Q2552,3,0),\"\")","v":""},null,{"$f":"IFERROR(VLOOKUP(ROWS(AL$2:$AL649),N649:Q2552,4,0),\"\")","v":""}]
[null,null,null,null,null,null,null,null,null,null,null,null,null,{"$f":"IF(ISNUMBER(SEARCH($H$16,Q650)),MAX($N$1:N649)+1,0)","v":0},{"$f":"IF(ISNUMBER(SEARCH($H$11,Q650)),MAX($O$1:O649)+1,0)","v":0},{"$f":"IF(ISNUMBER(SEARCH($H$6,Q650)),MAX($P$1:P649)+1,0)","v":0},"kotak balance regular plan","MKM897","Balanced",null,null,null,null,null,null,null,null,null,null,null,{"$f":"IFERROR(VLOOKUP(ROWS($AE$2:AE650),P650:Q2553,2,0),\"\")","v":""},null,null,null,null,{"$f":"IFERROR(VLOOKUP(ROWS($AJ$2:AJ650),O650:Q2553,3,0),\"\")","v":""},null,{"$f":"IFERROR(VLOOKUP(ROWS(AL$2:$AL650),N650:Q2553,4,0),\"\")","v":""}]
[null,null,null,null,null,null,null,null,null,null,null,null,null,{"$f":"IF(ISNUMBER(SEARCH($H$16,Q651)),MAX($N$1:N650)+1,0)","v":0},{"$f":"IF(ISNUMBER(SEARCH($H$11,Q651)),MAX($O$1:O650)+1,0)","v":0},{"$f":"IF(ISNUMBER(SEARCH($H$6,Q651)),MAX($P$1:P650)+1,0)","v":0},"idfc ssif investment plan b","MAG316","Debt Long Term",null,null,null,null,null,null,null,null,null,null,null,{"$f":"IFERROR(VLOOKUP(ROWS($AE$2:AE651),P651:Q2554,2,0),\"\")","v":""},null,null,null,null,{"$f":"IFERROR(VLOOKUP(ROWS($AJ$2:AJ651),O651:Q2554,3,0),\"\")","v":""},null,{"$f":"IFERROR(VLOOKUP(ROWS(AL$2:$AL651),N651:Q2554,4,0),\"\")","v":""}]
[null,null,null,null,null,null,null,null,null,null,null,null,null,{"$f":"IF(ISNUMBER(SEARCH($H$16,Q652)),MAX($N$1:N651)+1,0)","v":0},{"$f":"IF(ISNUMBER(SEARCH($H$11,Q652)),MAX($O$1:O651)+1,0)","v":0},{"$f":"IF(ISNUMBER(SEARCH($H$6,Q652)),MAX($P$1:P651)+1,0)","v":0},"pramerica dynamic bond fund","MPA034","Debt Long Term",null,null,null,null,null,null,null,null,null,null,null,{"$f":"IFERROR(VLOOKUP(ROWS($AE$2:AE652),P652:Q2555,2,0),\"\")","v":""},null,null,null,null,{"$f":"IFERROR(VLOOKUP(ROWS($AJ$2:AJ652),O652:Q2555,3,0),\"\")","v":""},null,{"$f":"IFERROR(VLOOKUP(ROWS(AL$2:$AL652),N652:Q2555,4,0),\"\")","v":""}]
[null,null,null,null,null,null,null,null,null,null,null,null,null,{"$f":"IF(ISNUMBER(SEARCH($H$16,Q653)),MAX($N$1:N652)+1,0)","v":0},{"$f":"IF(ISNUMBER(SEARCH($H$11,Q653)),MAX($O$1:O652)+1,0)","v":0},{"$f":"IF(ISNUMBER(SEARCH($H$6,Q653)),MAX($P$1:P652)+1,0)","v":0},"icici pru long term plan rp","MPI034","Debt Long Term",null,null,null,null,null,null,null,null,null,null,null,{"$f":"IFERROR(VLOOKUP(ROWS($AE$2:AE653),P653:Q2556,2,0),\"\")","v":""},null,null,null,null,{"$f":"IFERROR(VLOOKUP(ROWS($AJ$2:AJ653),O653:Q2556,3,0),\"\")","v":""},null,{"$f":"IFERROR(VLOOKUP(ROWS(AL$2:$AL653),N653:Q2556,4,0),\"\")","v":""}]
[null,null,null,null,null,null,null,null,null,null,null,null,null,{"$f":"IF(ISNUMBER(SEARCH($H$16,Q654)),MAX($N$1:N653)+1,0)","v":0},{"$f":"IF(ISNUMBER(SEARCH($H$11,Q654)),MAX($O$1:O653)+1,0)","v":0},{"$f":"IF(ISNUMBER(SEARCH($H$6,Q654)),MAX($P$1:P653)+1,0)","v":0},"icici pru long term plan pp","MPI687","Debt Long Term",null,null,null,null,null,null,null,null,null,null,null,{"$f":"IFERROR(VLOOKUP(ROWS($AE$2:AE654),P654:Q2557,2,0),\"\")","v":""},null,null,null,null,{"$f":"IFERROR(VLOOKUP(ROWS($AJ$2:AJ654),O654:Q2557,3,0),\"\")","v":""},null,{"$f":"IFERROR(VLOOKUP(ROWS(AL$2:$AL654),N654:Q2557,4,0),\"\")","v":""}]
[null,null,null,null,null,null,null,null,null,null,null,null,null,{"$f":"IF(ISNUMBER(SEARCH($H$16,Q655)),MAX($N$1:N654)+1,0)","v":0},{"$f":"IF(ISNUMBER(SEARCH($H$11,Q655)),MAX($O$1:O654)+1,0)","v":0},{"$f":"IF(ISNUMBER(SEARCH($H$6,Q655)),MAX($P$1:P654)+1,0)","v":0},"idfc dynamic bond regular plan","MAG314","Debt Long Term",null,null,null,null,null,null,null,null,null,null,null,{"$f":"IFERROR(VLOOKUP(ROWS($AE$2:AE655),P655:Q2558,2,0),\"\")","v":""},null,null,null,null,{"$f":"IFERROR(VLOOKUP(ROWS($AJ$2:AJ655),O655:Q2558,3,0),\"\")","v":""},null,{"$f":"IFERROR(VLOOKUP(ROWS(AL$2:$AL655),N655:Q2558,4,0),\"\")","v":""}]
[null,null,null,null,null,null,null,null,null,null,null,null,null,{"$f":"IF(ISNUMBER(SEARCH($H$16,Q656)),MAX($N$1:N655)+1,0)","v":0},{"$f":"IF(ISNUMBER(SEARCH($H$11,Q656)),MAX($O$1:O655)+1,0)","v":0},{"$f":"IF(ISNUMBER(SEARCH($H$6,Q656)),MAX($P$1:P655)+1,0)","v":0},"icici pru long term plan","MPI689","Debt Long Term",null,null,null,null,null,null,null,null,null,null,null,{"$f":"IFERROR(VLOOKUP(ROWS($AE$2:AE656),P656:Q2559,2,0),\"\")","v":""},null,null,null,null,{"$f":"IFERROR(VLOOKUP(ROWS($AJ$2:AJ656),O656:Q2559,3,0),\"\")","v":""},null,{"$f":"IFERROR(VLOOKUP(ROWS(AL$2:$AL656),N656:Q2559,4,0),\"\")","v":""}]
[null,null,null,null,null,null,null,null,null,null,null,null,null,{"$f":"IF(ISNUMBER(SEARCH($H$16,Q657)),MAX($N$1:N656)+1,0)","v":0},{"$f":"IF(ISNUMBER(SEARCH($H$11,Q657)),MAX($O$1:O656)+1,0)","v":0},{"$f":"IF(ISNUMBER(SEARCH($H$6,Q657)),MAX($P$1:P656)+1,0)","v":0},"idfc ssif investment regular","MAG001","Debt Long Term",null,null,null,null,null,null,null,null,null,null,null,{"$f":"IFERROR(VLOOKUP(ROWS($AE$2:AE657),P657:Q2560,2,0),\"\")","v":""},null,null,null,null,{"$f":"IFERROR(VLOOKUP(ROWS($AJ$2:AJ657),O657:Q2560,3,0),\"\")","v":""},null,{"$f":"IFERROR(VLOOKUP(ROWS(AL$2:$AL657),N657:Q2560,4,0),\"\")","v":""}]
[null,null,null,null,null,null,null,null,null,null,null,null,null,{"$f":"IF(ISNUMBER(SEARCH($H$16,Q658)),MAX($N$1:N657)+1,0)","v":0},{"$f":"IF(ISNUMBER(SEARCH($H$11,Q658)),MAX($O$1:O657)+1,0)","v":0},{"$f":"IF(ISNUMBER(SEARCH($H$6,Q658)),MAX($P$1:P657)+1,0)","v":0},"idfc ssif investment plan f","MAG374","Debt Long Term",null,null,null,null,null,null,null,null,null,null,null,{"$f":"IFERROR(VLOOKUP(ROWS($AE$2:AE658),P658:Q2561,2,0),\"\")","v":""},null,null,null,null,{"$f":"IFERROR(VLOOKUP(ROWS($AJ$2:AJ658),O658:Q2561,3,0),\"\")","v":""},null,{"$f":"IFERROR(VLOOKUP(ROWS(AL$2:$AL658),N658:Q2561,4,0),\"\")","v":""}]
[null,null,null,null,null,null,null,null,null,null,null,null,null,{"$f":"IF(ISNUMBER(SEARCH($H$16,Q659)),MAX($N$1:N658)+1,0)","v":0},{"$f":"IF(ISNUMBER(SEARCH($H$11,Q659)),MAX($O$1:O658)+1,0)","v":0},{"$f":"IF(ISNUMBER(SEARCH($H$6,Q659)),MAX($P$1:P658)+1,0)","v":0},"sundaram flexible inc rp","MSN074","Debt Long Term",null,null,null,null,null,null,null,null,null,null,null,{"$f":"IFERROR(VLOOKUP(ROWS($AE$2:AE659),P659:Q2562,2,0),\"\")","v":""},null,null,null,null,{"$f":"IFERROR(VLOOKUP(ROWS($AJ$2:AJ659),O659:Q2562,3,0),\"\")","v":""},null,{"$f":"IFERROR(VLOOKUP(ROWS(AL$2:$AL659),N659:Q2562,4,0),\"\")","v":""}]
[null,null,null,null,null,null,null,null,null,null,null,null,null,{"$f":"IF(ISNUMBER(SEARCH($H$16,Q660)),MAX($N$1:N659)+1,0)","v":0},{"$f":"IF(ISNUMBER(SEARCH($H$11,Q660)),MAX($O$1:O659)+1,0)","v":0},{"$f":"IF(ISNUMBER(SEARCH($H$6,Q660)),MAX($P$1:P659)+1,0)","v":0},"icici pru dynamic bond ppp","MPI654","Debt Long Term",null,null,null,null,null,null,null,null,null,null,null,{"$f":"IFERROR(VLOOKUP(ROWS($AE$2:AE660),P660:Q2563,2,0),\"\")","v":""},null,null,null,null,{"$f":"IFERROR(VLOOKUP(ROWS($AJ$2:AJ660),O660:Q2563,3,0),\"\")","v":""},null,{"$f":"IFERROR(VLOOKUP(ROWS(AL$2:$AL660),N660:Q2563,4,0),\"\")","v":""}]
[null,null,null,null,null,null,null,null,null,null,null,null,null,{"$f":"IF(ISNUMBER(SEARCH($H$16,Q661)),MAX($N$1:N660)+1,0)","v":0},{"$f":"IF(ISNUMBER(SEARCH($H$11,Q661)),MAX($O$1:O660)+1,0)","v":0},{"$f":"IF(ISNUMBER(SEARCH($H$6,Q661)),MAX($P$1:P660)+1,0)","v":0},"idfc dynamic bond plan a","MAG017","Debt Long Term",null,null,null,null,null,null,null,null,null,null,null,{"$f":"IFERROR(VLOOKUP(ROWS($AE$2:AE661),P661:Q2564,2,0),\"\")","v":""},null,null,null,null,{"$f":"IFERROR(VLOOKUP(ROWS($AJ$2:AJ661),O661:Q2564,3,0),\"\")","v":""},null,{"$f":"IFERROR(VLOOKUP(ROWS(AL$2:$AL661),N661:Q2564,4,0),\"\")","v":""}]
[null,null,null,null,null,null,null,null,null,null,null,null,null,{"$f":"IF(ISNUMBER(SEARCH($H$16,Q662)),MAX($N$1:N661)+1,0)","v":0},{"$f":"IF(ISNUMBER(SEARCH($H$11,Q662)),MAX($O$1:O661)+1,0)","v":0},{"$f":"IF(ISNUMBER(SEARCH($H$6,Q662)),MAX($P$1:P661)+1,0)","v":0},"baroda pioneer dynamic bond","MBO080","Debt Long Term",null,null,null,null,null,null,null,null,null,null,null,{"$f":"IFERROR(VLOOKUP(ROWS($AE$2:AE662),P662:Q2565,2,0),\"\")","v":""},null,null,null,null,{"$f":"IFERROR(VLOOKUP(ROWS($AJ$2:AJ662),O662:Q2565,3,0),\"\")","v":""},null,{"$f":"IFERROR(VLOOKUP(ROWS(AL$2:$AL662),N662:Q2565,4,0),\"\")","v":""}]
[null,null,null,null,null,null,null,null,null,null,null,null,null,{"$f":"IF(ISNUMBER(SEARCH($H$16,Q663)),MAX($N$1:N662)+1,0)","v":0},{"$f":"IF(ISNUMBER(SEARCH($H$11,Q663)),MAX($O$1:O662)+1,0)","v":0},{"$f":"IF(ISNUMBER(SEARCH($H$6,Q663)),MAX($P$1:P662)+1,0)","v":0},"icici pru income ip","MPI046","Debt Long Term",null,null,null,null,null,null,null,null,null,null,null,{"$f":"IFERROR(VLOOKUP(ROWS($AE$2:AE663),P663:Q2566,2,0),\"\")","v":""},null,null,null,null,{"$f":"IFERROR(VLOOKUP(ROWS($AJ$2:AJ663),O663:Q2566,3,0),\"\")","v":""},null,{"$f":"IFERROR(VLOOKUP(ROWS(AL$2:$AL663),N663:Q2566,4,0),\"\")","v":""}]
[null,null,null,null,null,null,null,null,null,null,null,null,null,{"$f":"IF(ISNUMBER(SEARCH($H$16,Q664)),MAX($N$1:N663)+1,0)","v":0},{"$f":"IF(ISNUMBER(SEARCH($H$11,Q664)),MAX($O$1:O663)+1,0)","v":0},{"$f":"IF(ISNUMBER(SEARCH($H$6,Q664)),MAX($P$1:P663)+1,0)","v":0},"icici pru income opp rp","MPI501","Debt Long Term",null,null,null,null,null,null,null,null,null,null,null,{"$f":"IFERROR(VLOOKUP(ROWS($AE$2:AE664),P664:Q2567,2,0),\"\")","v":""},null,null,null,null,{"$f":"IFERROR(VLOOKUP(ROWS($AJ$2:AJ664),O664:Q2567,3,0),\"\")","v":""},null,{"$f":"IFERROR(VLOOKUP(ROWS(AL$2:$AL664),N664:Q2567,4,0),\"\")","v":""}]
[null,null,null,null,null,null,null,null,null,null,null,null,null,{"$f":"IF(ISNUMBER(SEARCH($H$16,Q665)),MAX($N$1:N664)+1,0)","v":0},{"$f":"IF(ISNUMBER(SEARCH($H$11,Q665)),MAX($O$1:O664)+1,0)","v":0},{"$f":"IF(ISNUMBER(SEARCH($H$6,Q665)),MAX($P$1:P664)+1,0)","v":0},"icici pru income opp ip","MPI504","Debt Long Term",null,null,null,null,null,null,null,null,null,null,null,{"$f":"IFERROR(VLOOKUP(ROWS($AE$2:AE665),P665:Q2568,2,0),\"\")","v":""},null,null,null,null,{"$f":"IFERROR(VLOOKUP(ROWS($AJ$2:AJ665),O665:Q2568,3,0),\"\")","v":""},null,{"$f":"IFERROR(VLOOKUP(ROWS(AL$2:$AL665),N665:Q2568,4,0),\"\")","v":""}]
[null,null,null,null,null,null,null,null,null,null,null,null,null,{"$f":"IF(ISNUMBER(SEARCH($H$16,Q666)),MAX($N$1:N665)+1,0)","v":0},{"$f":"IF(ISNUMBER(SEARCH($H$11,Q666)),MAX($O$1:O665)+1,0)","v":0},{"$f":"IF(ISNUMBER(SEARCH($H$6,Q666)),MAX($P$1:P665)+1,0)","v":0},"franklin india dynamic accrual fund","MTE002","Debt Long Term",null,null,null,null,null,null,null,null,null,null,null,{"$f":"IFERROR(VLOOKUP(ROWS($AE$2:AE666),P666:Q2569,2,0),\"\")","v":""},null,null,null,null,{"$f":"IFERROR(VLOOKUP(ROWS($AJ$2:AJ666),O666:Q2569,3,0),\"\")","v":""},null,{"$f":"IFERROR(VLOOKUP(ROWS(AL$2:$AL666),N666:Q2569,4,0),\"\")","v":""}]
[null,null,null,null,null,null,null,null,null,null,null,null,null,{"$f":"IF(ISNUMBER(SEARCH($H$16,Q667)),MAX($N$1:N666)+1,0)","v":0},{"$f":"IF(ISNUMBER(SEARCH($H$11,Q667)),MAX($O$1:O666)+1,0)","v":0},{"$f":"IF(ISNUMBER(SEARCH($H$6,Q667)),MAX($P$1:P666)+1,0)","v":0},"bnp paribas flexi debt dir","MAB746","Debt Long Term",null,null,null,null,null,null,null,null,null,null,null,{"$f":"IFERROR(VLOOKUP(ROWS($AE$2:AE667),P667:Q2570,2,0),\"\")","v":""},null,null,null,null,{"$f":"IFERROR(VLOOKUP(ROWS($AJ$2:AJ667),O667:Q2570,3,0),\"\")","v":""},null,{"$f":"IFERROR(VLOOKUP(ROWS(AL$2:$AL667),N667:Q2570,4,0),\"\")","v":""}]
[null,null,null,null,null,null,null,null,null,null,null,null,null,{"$f":"IF(ISNUMBER(SEARCH($H$16,Q668)),MAX($N$1:N667)+1,0)","v":0},{"$f":"IF(ISNUMBER(SEARCH($H$11,Q668)),MAX($O$1:O667)+1,0)","v":0},{"$f":"IF(ISNUMBER(SEARCH($H$6,Q668)),MAX($P$1:P667)+1,0)","v":0},"dws inflation indexed bond dir","MDE953","Debt Long Term",null,null,null,null,null,null,null,null,null,null,null,{"$f":"IFERROR(VLOOKUP(ROWS($AE$2:AE668),P668:Q2571,2,0),\"\")","v":""},null,null,null,null,{"$f":"IFERROR(VLOOKUP(ROWS($AJ$2:AJ668),O668:Q2571,3,0),\"\")","v":""},null,{"$f":"IFERROR(VLOOKUP(ROWS(AL$2:$AL668),N668:Q2571,4,0),\"\")","v":""}]
[null,null,null,null,null,null,null,null,null,null,null,null,null,{"$f":"IF(ISNUMBER(SEARCH($H$16,Q669)),MAX($N$1:N668)+1,0)","v":0},{"$f":"IF(ISNUMBER(SEARCH($H$11,Q669)),MAX($O$1:O668)+1,0)","v":0},{"$f":"IF(ISNUMBER(SEARCH($H$6,Q669)),MAX($P$1:P668)+1,0)","v":0},"l t flexi bond ip","MFF011","Debt Long Term",null,null,null,null,null,null,null,null,null,null,null,{"$f":"IFERROR(VLOOKUP(ROWS($AE$2:AE669),P669:Q2572,2,0),\"\")","v":""},null,null,null,null,{"$f":"IFERROR(VLOOKUP(ROWS($AJ$2:AJ669),O669:Q2572,3,0),\"\")","v":""},null,{"$f":"IFERROR(VLOOKUP(ROWS(AL$2:$AL669),N669:Q2572,4,0),\"\")","v":""}]
[null,null,null,null,null,null,null,null,null,null,null,null,null,{"$f":"IF(ISNUMBER(SEARCH($H$16,Q670)),MAX($N$1:N669)+1,0)","v":0},{"$f":"IF(ISNUMBER(SEARCH($H$11,Q670)),MAX($O$1:O669)+1,0)","v":0},{"$f":"IF(ISNUMBER(SEARCH($H$6,Q670)),MAX($P$1:P669)+1,0)","v":0},"hdfc high interest dynamic","MZU008","Debt Long Term",null,null,null,null,null,null,null,null,null,null,null,{"$f":"IFERROR(VLOOKUP(ROWS($AE$2:AE670),P670:Q2573,2,0),\"\")","v":""},null,null,null,null,{"$f":"IFERROR(VLOOKUP(ROWS($AJ$2:AJ670),O670:Q2573,3,0),\"\")","v":""},null,{"$f":"IFERROR(VLOOKUP(ROWS(AL$2:$AL670),N670:Q2573,4,0),\"\")","v":""}]
[null,null,null,null,null,null,null,null,null,null,null,null,null,{"$f":"IF(ISNUMBER(SEARCH($H$16,Q671)),MAX($N$1:N670)+1,0)","v":0},{"$f":"IF(ISNUMBER(SEARCH($H$11,Q671)),MAX($O$1:O670)+1,0)","v":0},{"$f":"IF(ISNUMBER(SEARCH($H$6,Q671)),MAX($P$1:P670)+1,0)","v":0},"birla sl income plus dap ","MBS438","Debt Long Term",null,null,null,null,null,null,null,null,null,null,null,{"$f":"IFERROR(VLOOKUP(ROWS($AE$2:AE671),P671:Q2574,2,0),\"\")","v":""},null,null,null,null,{"$f":"IFERROR(VLOOKUP(ROWS($AJ$2:AJ671),O671:Q2574,3,0),\"\")","v":""},null,{"$f":"IFERROR(VLOOKUP(ROWS(AL$2:$AL671),N671:Q2574,4,0),\"\")","v":""}]
[null,null,null,null,null,null,null,null,null,null,null,null,null,{"$f":"IF(ISNUMBER(SEARCH($H$16,Q672)),MAX($N$1:N671)+1,0)","v":0},{"$f":"IF(ISNUMBER(SEARCH($H$11,Q672)),MAX($O$1:O671)+1,0)","v":0},{"$f":"IF(ISNUMBER(SEARCH($H$6,Q672)),MAX($P$1:P671)+1,0)","v":0},"birla sl income plus b rp","MBS003","Debt Long Term",null,null,null,null,null,null,null,null,null,null,null,{"$f":"IFERROR(VLOOKUP(ROWS($AE$2:AE672),P672:Q2575,2,0),\"\")","v":""},null,null,null,null,{"$f":"IFERROR(VLOOKUP(ROWS($AJ$2:AJ672),O672:Q2575,3,0),\"\")","v":""},null,{"$f":"IFERROR(VLOOKUP(ROWS(AL$2:$AL672),N672:Q2575,4,0),\"\")","v":""}]
[null,null,null,null,null,null,null,null,null,null,null,null,null,{"$f":"IF(ISNUMBER(SEARCH($H$16,Q673)),MAX($N$1:N672)+1,0)","v":0},{"$f":"IF(ISNUMBER(SEARCH($H$11,Q673)),MAX($O$1:O672)+1,0)","v":0},{"$f":"IF(ISNUMBER(SEARCH($H$6,Q673)),MAX($P$1:P672)+1,0)","v":0},"icici pru income","MPI005","Debt Long Term",null,null,null,null,null,null,null,null,null,null,null,{"$f":"IFERROR(VLOOKUP(ROWS($AE$2:AE673),P673:Q2576,2,0),\"\")","v":""},null,null,null,null,{"$f":"IFERROR(VLOOKUP(ROWS($AJ$2:AJ673),O673:Q2576,3,0),\"\")","v":""},null,{"$f":"IFERROR(VLOOKUP(ROWS(AL$2:$AL673),N673:Q2576,4,0),\"\")","v":""}]
[null,null,null,null,null,null,null,null,null,null,null,null,null,{"$f":"IF(ISNUMBER(SEARCH($H$16,Q674)),MAX($N$1:N673)+1,0)","v":0},{"$f":"IF(ISNUMBER(SEARCH($H$11,Q674)),MAX($O$1:O673)+1,0)","v":0},{"$f":"IF(ISNUMBER(SEARCH($H$6,Q674)),MAX($P$1:P673)+1,0)","v":0},"can robeco dynamic bond rp","MCA157","Debt Long Term",null,null,null,null,null,null,null,null,null,null,null,{"$f":"IFERROR(VLOOKUP(ROWS($AE$2:AE674),P674:Q2577,2,0),\"\")","v":""},null,null,null,null,{"$f":"IFERROR(VLOOKUP(ROWS($AJ$2:AJ674),O674:Q2577,3,0),\"\")","v":""},null,{"$f":"IFERROR(VLOOKUP(ROWS(AL$2:$AL674),N674:Q2577,4,0),\"\")","v":""}]
[null,null,null,null,null,null,null,null,null,null,null,null,null,{"$f":"IF(ISNUMBER(SEARCH($H$16,Q675)),MAX($N$1:N674)+1,0)","v":0},{"$f":"IF(ISNUMBER(SEARCH($H$11,Q675)),MAX($O$1:O674)+1,0)","v":0},{"$f":"IF(ISNUMBER(SEARCH($H$6,Q675)),MAX($P$1:P674)+1,0)","v":0},"idfc ssif investment plan c","MAG326","Debt Long Term",null,null,null,null,null,null,null,null,null,null,null,{"$f":"IFERROR(VLOOKUP(ROWS($AE$2:AE675),P675:Q2578,2,0),\"\")","v":""},null,null,null,null,{"$f":"IFERROR(VLOOKUP(ROWS($AJ$2:AJ675),O675:Q2578,3,0),\"\")","v":""},null,{"$f":"IFERROR(VLOOKUP(ROWS(AL$2:$AL675),N675:Q2578,4,0),\"\")","v":""}]
[null,null,null,null,null,null,null,null,null,null,null,null,null,{"$f":"IF(ISNUMBER(SEARCH($H$16,Q676)),MAX($N$1:N675)+1,0)","v":0},{"$f":"IF(ISNUMBER(SEARCH($H$11,Q676)),MAX($O$1:O675)+1,0)","v":0},{"$f":"IF(ISNUMBER(SEARCH($H$6,Q676)),MAX($P$1:P675)+1,0)","v":0},"l t flexi bond regular","MFF009","Debt Long Term",null,null,null,null,null,null,null,null,null,null,null,{"$f":"IFERROR(VLOOKUP(ROWS($AE$2:AE676),P676:Q2579,2,0),\"\")","v":""},null,null,null,null,{"$f":"IFERROR(VLOOKUP(ROWS($AJ$2:AJ676),O676:Q2579,3,0),\"\")","v":""},null,{"$f":"IFERROR(VLOOKUP(ROWS(AL$2:$AL676),N676:Q2579,4,0),\"\")","v":""}]
[null,null,null,null,null,null,null,null,null,null,null,null,null,{"$f":"IF(ISNUMBER(SEARCH($H$16,Q677)),MAX($N$1:N676)+1,0)","v":0},{"$f":"IF(ISNUMBER(SEARCH($H$11,Q677)),MAX($O$1:O676)+1,0)","v":0},{"$f":"IF(ISNUMBER(SEARCH($H$6,Q677)),MAX($P$1:P676)+1,0)","v":0},"principal income long term","MID051","Debt Long Term",null,null,null,null,null,null,null,null,null,null,null,{"$f":"IFERROR(VLOOKUP(ROWS($AE$2:AE677),P677:Q2580,2,0),\"\")","v":""},null,null,null,null,{"$f":"IFERROR(VLOOKUP(ROWS($AJ$2:AJ677),O677:Q2580,3,0),\"\")","v":""},null,{"$f":"IFERROR(VLOOKUP(ROWS(AL$2:$AL677),N677:Q2580,4,0),\"\")","v":""}]
[null,null,null,null,null,null,null,null,null,null,null,null,null,{"$f":"IF(ISNUMBER(SEARCH($H$16,Q678)),MAX($N$1:N677)+1,0)","v":0},{"$f":"IF(ISNUMBER(SEARCH($H$11,Q678)),MAX($O$1:O677)+1,0)","v":0},{"$f":"IF(ISNUMBER(SEARCH($H$6,Q678)),MAX($P$1:P677)+1,0)","v":0},"tata dynamic bond plan b","MTA061","Debt Long Term",null,null,null,null,null,null,null,null,null,null,null,{"$f":"IFERROR(VLOOKUP(ROWS($AE$2:AE678),P678:Q2581,2,0),\"\")","v":""},null,null,null,null,{"$f":"IFERROR(VLOOKUP(ROWS($AJ$2:AJ678),O678:Q2581,3,0),\"\")","v":""},null,{"$f":"IFERROR(VLOOKUP(ROWS(AL$2:$AL678),N678:Q2581,4,0),\"\")","v":""}]
[null,null,null,null,null,null,null,null,null,null,null,null,null,{"$f":"IF(ISNUMBER(SEARCH($H$16,Q679)),MAX($N$1:N678)+1,0)","v":0},{"$f":"IF(ISNUMBER(SEARCH($H$11,Q679)),MAX($O$1:O678)+1,0)","v":0},{"$f":"IF(ISNUMBER(SEARCH($H$6,Q679)),MAX($P$1:P678)+1,0)","v":0},"reliance dynamic bond","MRC075","Debt Long Term",null,null,null,null,null,null,null,null,null,null,null,{"$f":"IFERROR(VLOOKUP(ROWS($AE$2:AE679),P679:Q2582,2,0),\"\")","v":""},null,null,null,null,{"$f":"IFERROR(VLOOKUP(ROWS($AJ$2:AJ679),O679:Q2582,3,0),\"\")","v":""},null,{"$f":"IFERROR(VLOOKUP(ROWS(AL$2:$AL679),N679:Q2582,4,0),\"\")","v":""}]
[null,null,null,null,null,null,null,null,null,null,null,null,null,{"$f":"IF(ISNUMBER(SEARCH($H$16,Q680)),MAX($N$1:N679)+1,0)","v":0},{"$f":"IF(ISNUMBER(SEARCH($H$11,Q680)),MAX($O$1:O679)+1,0)","v":0},{"$f":"IF(ISNUMBER(SEARCH($H$6,Q680)),MAX($P$1:P679)+1,0)","v":0},"uti bond fund","MUT021","Debt Long Term",null,null,null,null,null,null,null,null,null,null,null,{"$f":"IFERROR(VLOOKUP(ROWS($AE$2:AE680),P680:Q2583,2,0),\"\")","v":""},null,null,null,null,{"$f":"IFERROR(VLOOKUP(ROWS($AJ$2:AJ680),O680:Q2583,3,0),\"\")","v":""},null,{"$f":"IFERROR(VLOOKUP(ROWS(AL$2:$AL680),N680:Q2583,4,0),\"\")","v":""}]
[null,null,null,null,null,null,null,null,null,null,null,null,null,{"$f":"IF(ISNUMBER(SEARCH($H$16,Q681)),MAX($N$1:N680)+1,0)","v":0},{"$f":"IF(ISNUMBER(SEARCH($H$11,Q681)),MAX($O$1:O680)+1,0)","v":0},{"$f":"IF(ISNUMBER(SEARCH($H$6,Q681)),MAX($P$1:P680)+1,0)","v":0},"hdfc income fund","MHD003","Debt Long Term",null,null,null,null,null,null,null,null,null,null,null,{"$f":"IFERROR(VLOOKUP(ROWS($AE$2:AE681),P681:Q2584,2,0),\"\")","v":""},null,null,null,null,{"$f":"IFERROR(VLOOKUP(ROWS($AJ$2:AJ681),O681:Q2584,3,0),\"\")","v":""},null,{"$f":"IFERROR(VLOOKUP(ROWS(AL$2:$AL681),N681:Q2584,4,0),\"\")","v":""}]
[null,null,null,null,null,null,null,null,null,null,null,null,null,{"$f":"IF(ISNUMBER(SEARCH($H$16,Q682)),MAX($N$1:N681)+1,0)","v":0},{"$f":"IF(ISNUMBER(SEARCH($H$11,Q682)),MAX($O$1:O681)+1,0)","v":0},{"$f":"IF(ISNUMBER(SEARCH($H$6,Q682)),MAX($P$1:P681)+1,0)","v":0},"jpmorgan active bond ip","MJP011","Debt Long Term",null,null,null,null,null,null,null,null,null,null,null,{"$f":"IFERROR(VLOOKUP(ROWS($AE$2:AE682),P682:Q2585,2,0),\"\")","v":""},null,null,null,null,{"$f":"IFERROR(VLOOKUP(ROWS($AJ$2:AJ682),O682:Q2585,3,0),\"\")","v":""},null,{"$f":"IFERROR(VLOOKUP(ROWS(AL$2:$AL682),N682:Q2585,4,0),\"\")","v":""}]
[null,null,null,null,null,null,null,null,null,null,null,null,null,{"$f":"IF(ISNUMBER(SEARCH($H$16,Q683)),MAX($N$1:N682)+1,0)","v":0},{"$f":"IF(ISNUMBER(SEARCH($H$11,Q683)),MAX($O$1:O682)+1,0)","v":0},{"$f":"IF(ISNUMBER(SEARCH($H$6,Q683)),MAX($P$1:P682)+1,0)","v":0},"can robeco income","MCA015","Debt Long Term",null,null,null,null,null,null,null,null,null,null,null,{"$f":"IFERROR(VLOOKUP(ROWS($AE$2:AE683),P683:Q2586,2,0),\"\")","v":""},null,null,null,null,{"$f":"IFERROR(VLOOKUP(ROWS($AJ$2:AJ683),O683:Q2586,3,0),\"\")","v":""},null,{"$f":"IFERROR(VLOOKUP(ROWS(AL$2:$AL683),N683:Q2586,4,0),\"\")","v":""}]
[null,null,null,null,null,null,null,null,null,null,null,null,null,{"$f":"IF(ISNUMBER(SEARCH($H$16,Q684)),MAX($N$1:N683)+1,0)","v":0},{"$f":"IF(ISNUMBER(SEARCH($H$11,Q684)),MAX($O$1:O683)+1,0)","v":0},{"$f":"IF(ISNUMBER(SEARCH($H$6,Q684)),MAX($P$1:P683)+1,0)","v":0},"axis income fund reg ","MAA152","Debt Long Term",null,null,null,null,null,null,null,null,null,null,null,{"$f":"IFERROR(VLOOKUP(ROWS($AE$2:AE684),P684:Q2587,2,0),\"\")","v":""},null,null,null,null,{"$f":"IFERROR(VLOOKUP(ROWS($AJ$2:AJ684),O684:Q2587,3,0),\"\")","v":""},null,{"$f":"IFERROR(VLOOKUP(ROWS(AL$2:$AL684),N684:Q2587,4,0),\"\")","v":""}]
[null,null,null,null,null,null,null,null,null,null,null,null,null,{"$f":"IF(ISNUMBER(SEARCH($H$16,Q685)),MAX($N$1:N684)+1,0)","v":0},{"$f":"IF(ISNUMBER(SEARCH($H$11,Q685)),MAX($O$1:O684)+1,0)","v":0},{"$f":"IF(ISNUMBER(SEARCH($H$6,Q685)),MAX($P$1:P684)+1,0)","v":0},"indiabulls income fund","MIM036","Debt Long Term",null,null,null,null,null,null,null,null,null,null,null,{"$f":"IFERROR(VLOOKUP(ROWS($AE$2:AE685),P685:Q2588,2,0),\"\")","v":""},null,null,null,null,{"$f":"IFERROR(VLOOKUP(ROWS($AJ$2:AJ685),O685:Q2588,3,0),\"\")","v":""},null,{"$f":"IFERROR(VLOOKUP(ROWS(AL$2:$AL685),N685:Q2588,4,0),\"\")","v":""}]
[null,null,null,null,null,null,null,null,null,null,null,null,null,{"$f":"IF(ISNUMBER(SEARCH($H$16,Q686)),MAX($N$1:N685)+1,0)","v":0},{"$f":"IF(ISNUMBER(SEARCH($H$11,Q686)),MAX($O$1:O685)+1,0)","v":0},{"$f":"IF(ISNUMBER(SEARCH($H$6,Q686)),MAX($P$1:P685)+1,0)","v":0},"axis dynamic bond fund reg ","MAA105","Debt Long Term",null,null,null,null,null,null,null,null,null,null,null,{"$f":"IFERROR(VLOOKUP(ROWS($AE$2:AE686),P686:Q2589,2,0),\"\")","v":""},null,null,null,null,{"$f":"IFERROR(VLOOKUP(ROWS($AJ$2:AJ686),O686:Q2589,3,0),\"\")","v":""},null,{"$f":"IFERROR(VLOOKUP(ROWS(AL$2:$AL686),N686:Q2589,4,0),\"\")","v":""}]
[null,null,null,null,null,null,null,null,null,null,null,null,null,{"$f":"IF(ISNUMBER(SEARCH($H$16,Q687)),MAX($N$1:N686)+1,0)","v":0},{"$f":"IF(ISNUMBER(SEARCH($H$11,Q687)),MAX($O$1:O686)+1,0)","v":0},{"$f":"IF(ISNUMBER(SEARCH($H$6,Q687)),MAX($P$1:P686)+1,0)","v":0},"reliance income fund","MRC002","Debt Long Term",null,null,null,null,null,null,null,null,null,null,null,{"$f":"IFERROR(VLOOKUP(ROWS($AE$2:AE687),P687:Q2590,2,0),\"\")","v":""},null,null,null,null,{"$f":"IFERROR(VLOOKUP(ROWS($AJ$2:AJ687),O687:Q2590,3,0),\"\")","v":""},null,{"$f":"IFERROR(VLOOKUP(ROWS(AL$2:$AL687),N687:Q2590,4,0),\"\")","v":""}]
[null,null,null,null,null,null,null,null,null,null,null,null,null,{"$f":"IF(ISNUMBER(SEARCH($H$16,Q688)),MAX($N$1:N687)+1,0)","v":0},{"$f":"IF(ISNUMBER(SEARCH($H$11,Q688)),MAX($O$1:O687)+1,0)","v":0},{"$f":"IF(ISNUMBER(SEARCH($H$6,Q688)),MAX($P$1:P687)+1,0)","v":0},"dsp br strategic bond reg","MDS070","Debt Long Term",null,null,null,null,null,null,null,null,null,null,null,{"$f":"IFERROR(VLOOKUP(ROWS($AE$2:AE688),P688:Q2591,2,0),\"\")","v":""},null,null,null,null,{"$f":"IFERROR(VLOOKUP(ROWS($AJ$2:AJ688),O688:Q2591,3,0),\"\")","v":""},null,{"$f":"IFERROR(VLOOKUP(ROWS(AL$2:$AL688),N688:Q2591,4,0),\"\")","v":""}]
[null,null,null,null,null,null,null,null,null,null,null,null,null,{"$f":"IF(ISNUMBER(SEARCH($H$16,Q689)),MAX($N$1:N688)+1,0)","v":0},{"$f":"IF(ISNUMBER(SEARCH($H$11,Q689)),MAX($O$1:O688)+1,0)","v":0},{"$f":"IF(ISNUMBER(SEARCH($H$6,Q689)),MAX($P$1:P688)+1,0)","v":0},"bnp paribas flexi debt rp","MAB006","Debt Long Term",null,null,null,null,null,null,null,null,null,null,null,{"$f":"IFERROR(VLOOKUP(ROWS($AE$2:AE689),P689:Q2592,2,0),\"\")","v":""},null,null,null,null,{"$f":"IFERROR(VLOOKUP(ROWS($AJ$2:AJ689),O689:Q2592,3,0),\"\")","v":""},null,{"$f":"IFERROR(VLOOKUP(ROWS(AL$2:$AL689),N689:Q2592,4,0),\"\")","v":""}]
[null,null,null,null,null,null,null,null,null,null,null,null,null,{"$f":"IF(ISNUMBER(SEARCH($H$16,Q690)),MAX($N$1:N689)+1,0)","v":0},{"$f":"IF(ISNUMBER(SEARCH($H$11,Q690)),MAX($O$1:O689)+1,0)","v":0},{"$f":"IF(ISNUMBER(SEARCH($H$6,Q690)),MAX($P$1:P689)+1,0)","v":0},"icici pru dynamic bond rp","MPI646","Debt Long Term",null,null,null,null,null,null,null,null,null,null,null,{"$f":"IFERROR(VLOOKUP(ROWS($AE$2:AE690),P690:Q2593,2,0),\"\")","v":""},null,null,null,null,{"$f":"IFERROR(VLOOKUP(ROWS($AJ$2:AJ690),O690:Q2593,3,0),\"\")","v":""},null,{"$f":"IFERROR(VLOOKUP(ROWS(AL$2:$AL690),N690:Q2593,4,0),\"\")","v":""}]
[null,null,null,null,null,null,null,null,null,null,null,null,null,{"$f":"IF(ISNUMBER(SEARCH($H$16,Q691)),MAX($N$1:N690)+1,0)","v":0},{"$f":"IF(ISNUMBER(SEARCH($H$11,Q691)),MAX($O$1:O690)+1,0)","v":0},{"$f":"IF(ISNUMBER(SEARCH($H$6,Q691)),MAX($P$1:P690)+1,0)","v":0},"dsp br strategic bond inst","MDS073","Debt Long Term",null,null,null,null,null,null,null,null,null,null,null,{"$f":"IFERROR(VLOOKUP(ROWS($AE$2:AE691),P691:Q2594,2,0),\"\")","v":""},null,null,null,null,{"$f":"IFERROR(VLOOKUP(ROWS($AJ$2:AJ691),O691:Q2594,3,0),\"\")","v":""},null,{"$f":"IFERROR(VLOOKUP(ROWS(AL$2:$AL691),N691:Q2594,4,0),\"\")","v":""}]
[null,null,null,null,null,null,null,null,null,null,null,null,null,{"$f":"IF(ISNUMBER(SEARCH($H$16,Q692)),MAX($N$1:N691)+1,0)","v":0},{"$f":"IF(ISNUMBER(SEARCH($H$11,Q692)),MAX($O$1:O691)+1,0)","v":0},{"$f":"IF(ISNUMBER(SEARCH($H$6,Q692)),MAX($P$1:P691)+1,0)","v":0},"can robeco dynamic bond ip","MCA159","Debt Long Term",null,null,null,null,null,null,null,null,null,null,null,{"$f":"IFERROR(VLOOKUP(ROWS($AE$2:AE692),P692:Q2595,2,0),\"\")","v":""},null,null,null,null,{"$f":"IFERROR(VLOOKUP(ROWS($AJ$2:AJ692),O692:Q2595,3,0),\"\")","v":""},null,{"$f":"IFERROR(VLOOKUP(ROWS(AL$2:$AL692),N692:Q2595,4,0),\"\")","v":""}]
[null,null,null,null,null,null,null,null,null,null,null,null,null,{"$f":"IF(ISNUMBER(SEARCH($H$16,Q693)),MAX($N$1:N692)+1,0)","v":0},{"$f":"IF(ISNUMBER(SEARCH($H$11,Q693)),MAX($O$1:O692)+1,0)","v":0},{"$f":"IF(ISNUMBER(SEARCH($H$6,Q693)),MAX($P$1:P692)+1,0)","v":0},"bnp paribas flexi debt rp a","MAB521","Debt Long Term",null,null,null,null,null,null,null,null,null,null,null,{"$f":"IFERROR(VLOOKUP(ROWS($AE$2:AE693),P693:Q2596,2,0),\"\")","v":""},null,null,null,null,{"$f":"IFERROR(VLOOKUP(ROWS($AJ$2:AJ693),O693:Q2596,3,0),\"\")","v":""},null,{"$f":"IFERROR(VLOOKUP(ROWS(AL$2:$AL693),N693:Q2596,4,0),\"\")","v":""}]
[null,null,null,null,null,null,null,null,null,null,null,null,null,{"$f":"IF(ISNUMBER(SEARCH($H$16,Q694)),MAX($N$1:N693)+1,0)","v":0},{"$f":"IF(ISNUMBER(SEARCH($H$11,Q694)),MAX($O$1:O693)+1,0)","v":0},{"$f":"IF(ISNUMBER(SEARCH($H$6,Q694)),MAX($P$1:P693)+1,0)","v":0},"dws inflation indexed bond rp","MDE951","Debt Long Term",null,null,null,null,null,null,null,null,null,null,null,{"$f":"IFERROR(VLOOKUP(ROWS($AE$2:AE694),P694:Q2597,2,0),\"\")","v":""},null,null,null,null,{"$f":"IFERROR(VLOOKUP(ROWS($AJ$2:AJ694),O694:Q2597,3,0),\"\")","v":""},null,{"$f":"IFERROR(VLOOKUP(ROWS(AL$2:$AL694),N694:Q2597,4,0),\"\")","v":""}]
[null,null,null,null,null,null,null,null,null,null,null,null,null,{"$f":"IF(ISNUMBER(SEARCH($H$16,Q695)),MAX($N$1:N694)+1,0)","v":0},{"$f":"IF(ISNUMBER(SEARCH($H$11,Q695)),MAX($O$1:O694)+1,0)","v":0},{"$f":"IF(ISNUMBER(SEARCH($H$6,Q695)),MAX($P$1:P694)+1,0)","v":0},"dsp br bond fund retail","MDS001","Debt Long Term",null,null,null,null,null,null,null,null,null,null,null,{"$f":"IFERROR(VLOOKUP(ROWS($AE$2:AE695),P695:Q2598,2,0),\"\")","v":""},null,null,null,null,{"$f":"IFERROR(VLOOKUP(ROWS($AJ$2:AJ695),O695:Q2598,3,0),\"\")","v":""},null,{"$f":"IFERROR(VLOOKUP(ROWS(AL$2:$AL695),N695:Q2598,4,0),\"\")","v":""}]
[null,null,null,null,null,null,null,null,null,null,null,null,null,{"$f":"IF(ISNUMBER(SEARCH($H$16,Q696)),MAX($N$1:N695)+1,0)","v":0},{"$f":"IF(ISNUMBER(SEARCH($H$11,Q696)),MAX($O$1:O695)+1,0)","v":0},{"$f":"IF(ISNUMBER(SEARCH($H$6,Q696)),MAX($P$1:P695)+1,0)","v":0},"pramerica income fund reg","MPA149","Debt Long Term",null,null,null,null,null,null,null,null,null,null,null,{"$f":"IFERROR(VLOOKUP(ROWS($AE$2:AE696),P696:Q2599,2,0),\"\")","v":""},null,null,null,null,{"$f":"IFERROR(VLOOKUP(ROWS($AJ$2:AJ696),O696:Q2599,3,0),\"\")","v":""},null,{"$f":"IFERROR(VLOOKUP(ROWS(AL$2:$AL696),N696:Q2599,4,0),\"\")","v":""}]
[null,null,null,null,null,null,null,null,null,null,null,null,null,{"$f":"IF(ISNUMBER(SEARCH($H$16,Q697)),MAX($N$1:N696)+1,0)","v":0},{"$f":"IF(ISNUMBER(SEARCH($H$11,Q697)),MAX($O$1:O696)+1,0)","v":0},{"$f":"IF(ISNUMBER(SEARCH($H$6,Q697)),MAX($P$1:P696)+1,0)","v":0},"kotak bond plan a regular plan","MKM010","Debt Long Term",null,null,null,null,null,null,null,null,null,null,null,{"$f":"IFERROR(VLOOKUP(ROWS($AE$2:AE697),P697:Q2600,2,0),\"\")","v":""},null,null,null,null,{"$f":"IFERROR(VLOOKUP(ROWS($AJ$2:AJ697),O697:Q2600,3,0),\"\")","v":""},null,{"$f":"IFERROR(VLOOKUP(ROWS(AL$2:$AL697),N697:Q2600,4,0),\"\")","v":""}]
[null,null,null,null,null,null,null,null,null,null,null,null,null,{"$f":"IF(ISNUMBER(SEARCH($H$16,Q698)),MAX($N$1:N697)+1,0)","v":0},{"$f":"IF(ISNUMBER(SEARCH($H$11,Q698)),MAX($O$1:O697)+1,0)","v":0},{"$f":"IF(ISNUMBER(SEARCH($H$6,Q698)),MAX($P$1:P697)+1,0)","v":0},"idbi gilt fund","MIB067","Debt Long Term",null,null,null,null,null,null,null,null,null,null,null,{"$f":"IFERROR(VLOOKUP(ROWS($AE$2:AE698),P698:Q2601,2,0),\"\")","v":""},null,null,null,null,{"$f":"IFERROR(VLOOKUP(ROWS($AJ$2:AJ698),O698:Q2601,3,0),\"\")","v":""},null,{"$f":"IFERROR(VLOOKUP(ROWS(AL$2:$AL698),N698:Q2601,4,0),\"\")","v":""}]
[null,null,null,null,null,null,null,null,null,null,null,null,null,{"$f":"IF(ISNUMBER(SEARCH($H$16,Q699)),MAX($N$1:N698)+1,0)","v":0},{"$f":"IF(ISNUMBER(SEARCH($H$11,Q699)),MAX($O$1:O698)+1,0)","v":0},{"$f":"IF(ISNUMBER(SEARCH($H$6,Q699)),MAX($P$1:P698)+1,0)","v":0},"kotak bond deposit plan ","MKM008","Debt Long Term",null,null,null,null,null,null,null,null,null,null,null,{"$f":"IFERROR(VLOOKUP(ROWS($AE$2:AE699),P699:Q2602,2,0),\"\")","v":""},null,null,null,null,{"$f":"IFERROR(VLOOKUP(ROWS($AJ$2:AJ699),O699:Q2602,3,0),\"\")","v":""},null,{"$f":"IFERROR(VLOOKUP(ROWS(AL$2:$AL699),N699:Q2602,4,0),\"\")","v":""}]
[null,null,null,null,null,null,null,null,null,null,null,null,null,{"$f":"IF(ISNUMBER(SEARCH($H$16,Q700)),MAX($N$1:N699)+1,0)","v":0},{"$f":"IF(ISNUMBER(SEARCH($H$11,Q700)),MAX($O$1:O699)+1,0)","v":0},{"$f":"IF(ISNUMBER(SEARCH($H$6,Q700)),MAX($P$1:P699)+1,0)","v":0},"hsbc flexi debt fund","MHS159","Debt Long Term",null,null,null,null,null,null,null,null,null,null,null,{"$f":"IFERROR(VLOOKUP(ROWS($AE$2:AE700),P700:Q2603,2,0),\"\")","v":""},null,null,null,null,{"$f":"IFERROR(VLOOKUP(ROWS($AJ$2:AJ700),O700:Q2603,3,0),\"\")","v":""},null,{"$f":"IFERROR(VLOOKUP(ROWS(AL$2:$AL700),N700:Q2603,4,0),\"\")","v":""}]
[null,null,null,null,null,null,null,null,null,null,null,null,null,{"$f":"IF(ISNUMBER(SEARCH($H$16,Q701)),MAX($N$1:N700)+1,0)","v":0},{"$f":"IF(ISNUMBER(SEARCH($H$11,Q701)),MAX($O$1:O700)+1,0)","v":0},{"$f":"IF(ISNUMBER(SEARCH($H$6,Q701)),MAX($P$1:P700)+1,0)","v":0},"tata dynamic bond regular plan","MTA059","Debt Long Term",null,null,null,null,null,null,null,null,null,null,null,{"$f":"IFERROR(VLOOKUP(ROWS($AE$2:AE701),P701:Q2604,2,0),\"\")","v":""},null,null,null,null,{"$f":"IFERROR(VLOOKUP(ROWS($AJ$2:AJ701),O701:Q2604,3,0),\"\")","v":""},null,{"$f":"IFERROR(VLOOKUP(ROWS(AL$2:$AL701),N701:Q2604,4,0),\"\")","v":""}]
[null,null,null,null,null,null,null,null,null,null,null,null,null,{"$f":"IF(ISNUMBER(SEARCH($H$16,Q702)),MAX($N$1:N701)+1,0)","v":0},{"$f":"IF(ISNUMBER(SEARCH($H$11,Q702)),MAX($O$1:O701)+1,0)","v":0},{"$f":"IF(ISNUMBER(SEARCH($H$6,Q702)),MAX($P$1:P701)+1,0)","v":0},"sbi dynamic bond fund","MSB048","Debt Long Term",null,null,null,null,null,null,null,null,null,null,null,{"$f":"IFERROR(VLOOKUP(ROWS($AE$2:AE702),P702:Q2605,2,0),\"\")","v":""},null,null,null,null,{"$f":"IFERROR(VLOOKUP(ROWS($AJ$2:AJ702),O702:Q2605,3,0),\"\")","v":""},null,{"$f":"IFERROR(VLOOKUP(ROWS(AL$2:$AL702),N702:Q2605,4,0),\"\")","v":""}]
[null,null,null,null,null,null,null,null,null,null,null,null,null,{"$f":"IF(ISNUMBER(SEARCH($H$16,Q703)),MAX($N$1:N702)+1,0)","v":0},{"$f":"IF(ISNUMBER(SEARCH($H$11,Q703)),MAX($O$1:O702)+1,0)","v":0},{"$f":"IF(ISNUMBER(SEARCH($H$6,Q703)),MAX($P$1:P702)+1,0)","v":0},"sundaram income plus","MSN013","Debt Long Term",null,null,null,null,null,null,null,null,null,null,null,{"$f":"IFERROR(VLOOKUP(ROWS($AE$2:AE703),P703:Q2606,2,0),\"\")","v":""},null,null,null,null,{"$f":"IFERROR(VLOOKUP(ROWS($AJ$2:AJ703),O703:Q2606,3,0),\"\")","v":""},null,{"$f":"IFERROR(VLOOKUP(ROWS(AL$2:$AL703),N703:Q2606,4,0),\"\")","v":""}]
[null,null,null,null,null,null,null,null,null,null,null,null,null,{"$f":"IF(ISNUMBER(SEARCH($H$16,Q704)),MAX($N$1:N703)+1,0)","v":0},{"$f":"IF(ISNUMBER(SEARCH($H$11,Q704)),MAX($O$1:O703)+1,0)","v":0},{"$f":"IF(ISNUMBER(SEARCH($H$6,Q704)),MAX($P$1:P703)+1,0)","v":0},"iifl dynamic bond fund rp","MII016","Debt Long Term",null,null,null,null,null,null,null,null,null,null,null,{"$f":"IFERROR(VLOOKUP(ROWS($AE$2:AE704),P704:Q2607,2,0),\"\")","v":""},null,null,null,null,{"$f":"IFERROR(VLOOKUP(ROWS($AJ$2:AJ704),O704:Q2607,3,0),\"\")","v":""},null,{"$f":"IFERROR(VLOOKUP(ROWS(AL$2:$AL704),N704:Q2607,4,0),\"\")","v":""}]
[null,null,null,null,null,null,null,null,null,null,null,null,null,{"$f":"IF(ISNUMBER(SEARCH($H$16,Q705)),MAX($N$1:N704)+1,0)","v":0},{"$f":"IF(ISNUMBER(SEARCH($H$11,Q705)),MAX($O$1:O704)+1,0)","v":0},{"$f":"IF(ISNUMBER(SEARCH($H$6,Q705)),MAX($P$1:P704)+1,0)","v":0},"jm income fund","MJM006","Debt Long Term",null,null,null,null,null,null,null,null,null,null,null,{"$f":"IFERROR(VLOOKUP(ROWS($AE$2:AE705),P705:Q2608,2,0),\"\")","v":""},null,null,null,null,{"$f":"IFERROR(VLOOKUP(ROWS($AJ$2:AJ705),O705:Q2608,3,0),\"\")","v":""},null,{"$f":"IFERROR(VLOOKUP(ROWS(AL$2:$AL705),N705:Q2608,4,0),\"\")","v":""}]
[null,null,null,null,null,null,null,null,null,null,null,null,null,{"$f":"IF(ISNUMBER(SEARCH($H$16,Q706)),MAX($N$1:N705)+1,0)","v":0},{"$f":"IF(ISNUMBER(SEARCH($H$11,Q706)),MAX($O$1:O705)+1,0)","v":0},{"$f":"IF(ISNUMBER(SEARCH($H$6,Q706)),MAX($P$1:P705)+1,0)","v":0},"hsbc income investment rp","MHS005","Debt Long Term",null,null,null,null,null,null,null,null,null,null,null,{"$f":"IFERROR(VLOOKUP(ROWS($AE$2:AE706),P706:Q2609,2,0),\"\")","v":""},null,null,null,null,{"$f":"IFERROR(VLOOKUP(ROWS($AJ$2:AJ706),O706:Q2609,3,0),\"\")","v":""},null,{"$f":"IFERROR(VLOOKUP(ROWS(AL$2:$AL706),N706:Q2609,4,0),\"\")","v":""}]
[null,null,null,null,null,null,null,null,null,null,null,null,null,{"$f":"IF(ISNUMBER(SEARCH($H$16,Q707)),MAX($N$1:N706)+1,0)","v":0},{"$f":"IF(ISNUMBER(SEARCH($H$11,Q707)),MAX($O$1:O706)+1,0)","v":0},{"$f":"IF(ISNUMBER(SEARCH($H$6,Q707)),MAX($P$1:P706)+1,0)","v":0},"tata income plus plan b","MTA026","Debt Long Term",null,null,null,null,null,null,null,null,null,null,null,{"$f":"IFERROR(VLOOKUP(ROWS($AE$2:AE707),P707:Q2610,2,0),\"\")","v":""},null,null,null,null,{"$f":"IFERROR(VLOOKUP(ROWS($AJ$2:AJ707),O707:Q2610,3,0),\"\")","v":""},null,{"$f":"IFERROR(VLOOKUP(ROWS(AL$2:$AL707),N707:Q2610,4,0),\"\")","v":""}]
[null,null,null,null,null,null,null,null,null,null,null,null,null,{"$f":"IF(ISNUMBER(SEARCH($H$16,Q708)),MAX($N$1:N707)+1,0)","v":0},{"$f":"IF(ISNUMBER(SEARCH($H$11,Q708)),MAX($O$1:O707)+1,0)","v":0},{"$f":"IF(ISNUMBER(SEARCH($H$6,Q708)),MAX($P$1:P707)+1,0)","v":0},"hsbc flexi debt fund rp","MHS157","Debt Long Term",null,null,null,null,null,null,null,null,null,null,null,{"$f":"IFERROR(VLOOKUP(ROWS($AE$2:AE708),P708:Q2611,2,0),\"\")","v":""},null,null,null,null,{"$f":"IFERROR(VLOOKUP(ROWS($AJ$2:AJ708),O708:Q2611,3,0),\"\")","v":""},null,{"$f":"IFERROR(VLOOKUP(ROWS(AL$2:$AL708),N708:Q2611,4,0),\"\")","v":""}]
[null,null,null,null,null,null,null,null,null,null,null,null,null,{"$f":"IF(ISNUMBER(SEARCH($H$16,Q709)),MAX($N$1:N708)+1,0)","v":0},{"$f":"IF(ISNUMBER(SEARCH($H$11,Q709)),MAX($O$1:O708)+1,0)","v":0},{"$f":"IF(ISNUMBER(SEARCH($H$6,Q709)),MAX($P$1:P708)+1,0)","v":0},"baroda pioneer income","MBO002","Debt Long Term",null,null,null,null,null,null,null,null,null,null,null,{"$f":"IFERROR(VLOOKUP(ROWS($AE$2:AE709),P709:Q2612,2,0),\"\")","v":""},null,null,null,null,{"$f":"IFERROR(VLOOKUP(ROWS($AJ$2:AJ709),O709:Q2612,3,0),\"\")","v":""},null,{"$f":"IFERROR(VLOOKUP(ROWS(AL$2:$AL709),N709:Q2612,4,0),\"\")","v":""}]
[null,null,null,null,null,null,null,null,null,null,null,null,null,{"$f":"IF(ISNUMBER(SEARCH($H$16,Q710)),MAX($N$1:N709)+1,0)","v":0},{"$f":"IF(ISNUMBER(SEARCH($H$11,Q710)),MAX($O$1:O709)+1,0)","v":0},{"$f":"IF(ISNUMBER(SEARCH($H$6,Q710)),MAX($P$1:P709)+1,0)","v":0},"tata income fund regular","MTA005","Debt Long Term",null,null,null,null,null,null,null,null,null,null,null,{"$f":"IFERROR(VLOOKUP(ROWS($AE$2:AE710),P710:Q2613,2,0),\"\")","v":""},null,null,null,null,{"$f":"IFERROR(VLOOKUP(ROWS($AJ$2:AJ710),O710:Q2613,3,0),\"\")","v":""},null,{"$f":"IFERROR(VLOOKUP(ROWS(AL$2:$AL710),N710:Q2613,4,0),\"\")","v":""}]
[null,null,null,null,null,null,null,null,null,null,null,null,null,{"$f":"IF(ISNUMBER(SEARCH($H$16,Q711)),MAX($N$1:N710)+1,0)","v":0},{"$f":"IF(ISNUMBER(SEARCH($H$11,Q711)),MAX($O$1:O710)+1,0)","v":0},{"$f":"IF(ISNUMBER(SEARCH($H$6,Q711)),MAX($P$1:P710)+1,0)","v":0},"escorts income plan","MES001","Debt Long Term",null,null,null,null,null,null,null,null,null,null,null,{"$f":"IFERROR(VLOOKUP(ROWS($AE$2:AE711),P711:Q2614,2,0),\"\")","v":""},null,null,null,null,{"$f":"IFERROR(VLOOKUP(ROWS($AJ$2:AJ711),O711:Q2614,3,0),\"\")","v":""},null,{"$f":"IFERROR(VLOOKUP(ROWS(AL$2:$AL711),N711:Q2614,4,0),\"\")","v":""}]
[null,null,null,null,null,null,null,null,null,null,null,null,null,{"$f":"IF(ISNUMBER(SEARCH($H$16,Q712)),MAX($N$1:N711)+1,0)","v":0},{"$f":"IF(ISNUMBER(SEARCH($H$11,Q712)),MAX($O$1:O711)+1,0)","v":0},{"$f":"IF(ISNUMBER(SEARCH($H$6,Q712)),MAX($P$1:P711)+1,0)","v":0},"lic nomura bond fund","MJB002","Debt Long Term",null,null,null,null,null,null,null,null,null,null,null,{"$f":"IFERROR(VLOOKUP(ROWS($AE$2:AE712),P712:Q2615,2,0),\"\")","v":""},null,null,null,null,{"$f":"IFERROR(VLOOKUP(ROWS($AJ$2:AJ712),O712:Q2615,3,0),\"\")","v":""},null,{"$f":"IFERROR(VLOOKUP(ROWS(AL$2:$AL712),N712:Q2615,4,0),\"\")","v":""}]
[null,null,null,null,null,null,null,null,null,null,null,null,null,{"$f":"IF(ISNUMBER(SEARCH($H$16,Q713)),MAX($N$1:N712)+1,0)","v":0},{"$f":"IF(ISNUMBER(SEARCH($H$11,Q713)),MAX($O$1:O712)+1,0)","v":0},{"$f":"IF(ISNUMBER(SEARCH($H$6,Q713)),MAX($P$1:P712)+1,0)","v":0},"sbi magnum income fund","MSB004","Debt Long Term",null,null,null,null,null,null,null,null,null,null,null,{"$f":"IFERROR(VLOOKUP(ROWS($AE$2:AE713),P713:Q2616,2,0),\"\")","v":""},null,null,null,null,{"$f":"IFERROR(VLOOKUP(ROWS($AJ$2:AJ713),O713:Q2616,3,0),\"\")","v":""},null,{"$f":"IFERROR(VLOOKUP(ROWS(AL$2:$AL713),N713:Q2616,4,0),\"\")","v":""}]
[null,null,null,null,null,null,null,null,null,null,null,null,null,{"$f":"IF(ISNUMBER(SEARCH($H$16,Q714)),MAX($N$1:N713)+1,0)","v":0},{"$f":"IF(ISNUMBER(SEARCH($H$11,Q714)),MAX($O$1:O713)+1,0)","v":0},{"$f":"IF(ISNUMBER(SEARCH($H$6,Q714)),MAX($P$1:P713)+1,0)","v":0},"union kbc dynamic bond fund","MUK014","Debt Long Term",null,null,null,null,null,null,null,null,null,null,null,{"$f":"IFERROR(VLOOKUP(ROWS($AE$2:AE714),P714:Q2617,2,0),\"\")","v":""},null,null,null,null,{"$f":"IFERROR(VLOOKUP(ROWS($AJ$2:AJ714),O714:Q2617,3,0),\"\")","v":""},null,{"$f":"IFERROR(VLOOKUP(ROWS(AL$2:$AL714),N714:Q2617,4,0),\"\")","v":""}]
[null,null,null,null,null,null,null,null,null,null,null,null,null,{"$f":"IF(ISNUMBER(SEARCH($H$16,Q715)),MAX($N$1:N714)+1,0)","v":0},{"$f":"IF(ISNUMBER(SEARCH($H$11,Q715)),MAX($O$1:O714)+1,0)","v":0},{"$f":"IF(ISNUMBER(SEARCH($H$6,Q715)),MAX($P$1:P714)+1,0)","v":0},"jpmorgan active bond rp","MJP009","Debt Long Term",null,null,null,null,null,null,null,null,null,null,null,{"$f":"IFERROR(VLOOKUP(ROWS($AE$2:AE715),P715:Q2618,2,0),\"\")","v":""},null,null,null,null,{"$f":"IFERROR(VLOOKUP(ROWS($AJ$2:AJ715),O715:Q2618,3,0),\"\")","v":""},null,{"$f":"IFERROR(VLOOKUP(ROWS(AL$2:$AL715),N715:Q2618,4,0),\"\")","v":""}]
[null,null,null,null,null,null,null,null,null,null,null,null,null,{"$f":"IF(ISNUMBER(SEARCH($H$16,Q716)),MAX($N$1:N715)+1,0)","v":0},{"$f":"IF(ISNUMBER(SEARCH($H$11,Q716)),MAX($O$1:O715)+1,0)","v":0},{"$f":"IF(ISNUMBER(SEARCH($H$6,Q716)),MAX($P$1:P715)+1,0)","v":0},"bnp paribas bond fund dir","MAB752","Debt Long Term",null,null,null,null,null,null,null,null,null,null,null,{"$f":"IFERROR(VLOOKUP(ROWS($AE$2:AE716),P716:Q2619,2,0),\"\")","v":""},null,null,null,null,{"$f":"IFERROR(VLOOKUP(ROWS($AJ$2:AJ716),O716:Q2619,3,0),\"\")","v":""},null,{"$f":"IFERROR(VLOOKUP(ROWS(AL$2:$AL716),N716:Q2619,4,0),\"\")","v":""}]
[null,null,null,null,null,null,null,null,null,null,null,null,null,{"$f":"IF(ISNUMBER(SEARCH($H$16,Q717)),MAX($N$1:N716)+1,0)","v":0},{"$f":"IF(ISNUMBER(SEARCH($H$11,Q717)),MAX($O$1:O716)+1,0)","v":0},{"$f":"IF(ISNUMBER(SEARCH($H$6,Q717)),MAX($P$1:P716)+1,0)","v":0},"uti dynamic bond fund","MUT430","Debt Long Term",null,null,null,null,null,null,null,null,null,null,null,{"$f":"IFERROR(VLOOKUP(ROWS($AE$2:AE717),P717:Q2620,2,0),\"\")","v":""},null,null,null,null,{"$f":"IFERROR(VLOOKUP(ROWS($AJ$2:AJ717),O717:Q2620,3,0),\"\")","v":""},null,{"$f":"IFERROR(VLOOKUP(ROWS(AL$2:$AL717),N717:Q2620,4,0),\"\")","v":""}]
[null,null,null,null,null,null,null,null,null,null,null,null,null,{"$f":"IF(ISNUMBER(SEARCH($H$16,Q718)),MAX($N$1:N717)+1,0)","v":0},{"$f":"IF(ISNUMBER(SEARCH($H$11,Q718)),MAX($O$1:O717)+1,0)","v":0},{"$f":"IF(ISNUMBER(SEARCH($H$6,Q718)),MAX($P$1:P717)+1,0)","v":0},"axis fixed income opp regular","MAA572","Debt Long Term",null,null,null,null,null,null,null,null,null,null,null,{"$f":"IFERROR(VLOOKUP(ROWS($AE$2:AE718),P718:Q2621,2,0),\"\")","v":""},null,null,null,null,{"$f":"IFERROR(VLOOKUP(ROWS($AJ$2:AJ718),O718:Q2621,3,0),\"\")","v":""},null,{"$f":"IFERROR(VLOOKUP(ROWS(AL$2:$AL718),N718:Q2621,4,0),\"\")","v":""}]
[null,null,null,null,null,null,null,null,null,null,null,null,null,{"$f":"IF(ISNUMBER(SEARCH($H$16,Q719)),MAX($N$1:N718)+1,0)","v":0},{"$f":"IF(ISNUMBER(SEARCH($H$11,Q719)),MAX($O$1:O718)+1,0)","v":0},{"$f":"IF(ISNUMBER(SEARCH($H$6,Q719)),MAX($P$1:P718)+1,0)","v":0},"sundaram bond saver ip","MSN041","Debt Long Term",null,null,null,null,null,null,null,null,null,null,null,{"$f":"IFERROR(VLOOKUP(ROWS($AE$2:AE719),P719:Q2622,2,0),\"\")","v":""},null,null,null,null,{"$f":"IFERROR(VLOOKUP(ROWS($AJ$2:AJ719),O719:Q2622,3,0),\"\")","v":""},null,{"$f":"IFERROR(VLOOKUP(ROWS(AL$2:$AL719),N719:Q2622,4,0),\"\")","v":""}]
[null,null,null,null,null,null,null,null,null,null,null,null,null,{"$f":"IF(ISNUMBER(SEARCH($H$16,Q720)),MAX($N$1:N719)+1,0)","v":0},{"$f":"IF(ISNUMBER(SEARCH($H$11,Q720)),MAX($O$1:O719)+1,0)","v":0},{"$f":"IF(ISNUMBER(SEARCH($H$6,Q720)),MAX($P$1:P719)+1,0)","v":0},"sundaram bond saver","MSN002","Debt Long Term",null,null,null,null,null,null,null,null,null,null,null,{"$f":"IFERROR(VLOOKUP(ROWS($AE$2:AE720),P720:Q2623,2,0),\"\")","v":""},null,null,null,null,{"$f":"IFERROR(VLOOKUP(ROWS($AJ$2:AJ720),O720:Q2623,3,0),\"\")","v":""},null,{"$f":"IFERROR(VLOOKUP(ROWS(AL$2:$AL720),N720:Q2623,4,0),\"\")","v":""}]
[null,null,null,null,null,null,null,null,null,null,null,null,null,{"$f":"IF(ISNUMBER(SEARCH($H$16,Q721)),MAX($N$1:N720)+1,0)","v":0},{"$f":"IF(ISNUMBER(SEARCH($H$11,Q721)),MAX($O$1:O720)+1,0)","v":0},{"$f":"IF(ISNUMBER(SEARCH($H$6,Q721)),MAX($P$1:P720)+1,0)","v":0},"tata income plus regular plan","MTA023","Debt Long Term",null,null,null,null,null,null,null,null,null,null,null,{"$f":"IFERROR(VLOOKUP(ROWS($AE$2:AE721),P721:Q2624,2,0),\"\")","v":""},null,null,null,null,{"$f":"IFERROR(VLOOKUP(ROWS($AJ$2:AJ721),O721:Q2624,3,0),\"\")","v":""},null,{"$f":"IFERROR(VLOOKUP(ROWS(AL$2:$AL721),N721:Q2624,4,0),\"\")","v":""}]
[null,null,null,null,null,null,null,null,null,null,null,null,null,{"$f":"IF(ISNUMBER(SEARCH($H$16,Q722)),MAX($N$1:N721)+1,0)","v":0},{"$f":"IF(ISNUMBER(SEARCH($H$11,Q722)),MAX($O$1:O721)+1,0)","v":0},{"$f":"IF(ISNUMBER(SEARCH($H$6,Q722)),MAX($P$1:P721)+1,0)","v":0},"l t triple ace bond fund","MCC002","Debt Long Term",null,null,null,null,null,null,null,null,null,null,null,{"$f":"IFERROR(VLOOKUP(ROWS($AE$2:AE722),P722:Q2625,2,0),\"\")","v":""},null,null,null,null,{"$f":"IFERROR(VLOOKUP(ROWS($AJ$2:AJ722),O722:Q2625,3,0),\"\")","v":""},null,{"$f":"IFERROR(VLOOKUP(ROWS(AL$2:$AL722),N722:Q2625,4,0),\"\")","v":""}]
[null,null,null,null,null,null,null,null,null,null,null,null,null,{"$f":"IF(ISNUMBER(SEARCH($H$16,Q723)),MAX($N$1:N722)+1,0)","v":0},{"$f":"IF(ISNUMBER(SEARCH($H$11,Q723)),MAX($O$1:O722)+1,0)","v":0},{"$f":"IF(ISNUMBER(SEARCH($H$6,Q723)),MAX($P$1:P722)+1,0)","v":0},"can robeco medium term opp rp","MCA260","Debt Long Term",null,null,null,null,null,null,null,null,null,null,null,{"$f":"IFERROR(VLOOKUP(ROWS($AE$2:AE723),P723:Q2626,2,0),\"\")","v":""},null,null,null,null,{"$f":"IFERROR(VLOOKUP(ROWS($AJ$2:AJ723),O723:Q2626,3,0),\"\")","v":""},null,{"$f":"IFERROR(VLOOKUP(ROWS(AL$2:$AL723),N723:Q2626,4,0),\"\")","v":""}]
[null,null,null,null,null,null,null,null,null,null,null,null,null,{"$f":"IF(ISNUMBER(SEARCH($H$16,Q724)),MAX($N$1:N723)+1,0)","v":0},{"$f":"IF(ISNUMBER(SEARCH($H$11,Q724)),MAX($O$1:O723)+1,0)","v":0},{"$f":"IF(ISNUMBER(SEARCH($H$6,Q724)),MAX($P$1:P723)+1,0)","v":0},"bnp paribas bond fund","MAB498","Debt Long Term",null,null,null,null,null,null,null,null,null,null,null,{"$f":"IFERROR(VLOOKUP(ROWS($AE$2:AE724),P724:Q2627,2,0),\"\")","v":""},null,null,null,null,{"$f":"IFERROR(VLOOKUP(ROWS($AJ$2:AJ724),O724:Q2627,3,0),\"\")","v":""},null,{"$f":"IFERROR(VLOOKUP(ROWS(AL$2:$AL724),N724:Q2627,4,0),\"\")","v":""}]
[null,null,null,null,null,null,null,null,null,null,null,null,null,{"$f":"IF(ISNUMBER(SEARCH($H$16,Q725)),MAX($N$1:N724)+1,0)","v":0},{"$f":"IF(ISNUMBER(SEARCH($H$11,Q725)),MAX($O$1:O724)+1,0)","v":0},{"$f":"IF(ISNUMBER(SEARCH($H$6,Q725)),MAX($P$1:P724)+1,0)","v":0},"bnp paribas bond fund rp","MAB493","Debt Long Term",null,null,null,null,null,null,null,null,null,null,null,{"$f":"IFERROR(VLOOKUP(ROWS($AE$2:AE725),P725:Q2628,2,0),\"\")","v":""},null,null,null,null,{"$f":"IFERROR(VLOOKUP(ROWS($AJ$2:AJ725),O725:Q2628,3,0),\"\")","v":""},null,{"$f":"IFERROR(VLOOKUP(ROWS(AL$2:$AL725),N725:Q2628,4,0),\"\")","v":""}]
[null,null,null,null,null,null,null,null,null,null,null,null,null,{"$f":"IF(ISNUMBER(SEARCH($H$16,Q726)),MAX($N$1:N725)+1,0)","v":0},{"$f":"IF(ISNUMBER(SEARCH($H$11,Q726)),MAX($O$1:O725)+1,0)","v":0},{"$f":"IF(ISNUMBER(SEARCH($H$6,Q726)),MAX($P$1:P725)+1,0)","v":0},"idbi dynamic bond fund","MIB047","Debt Long Term",null,null,null,null,null,null,null,null,null,null,null,{"$f":"IFERROR(VLOOKUP(ROWS($AE$2:AE726),P726:Q2629,2,0),\"\")","v":""},null,null,null,null,{"$f":"IFERROR(VLOOKUP(ROWS($AJ$2:AJ726),O726:Q2629,3,0),\"\")","v":""},null,{"$f":"IFERROR(VLOOKUP(ROWS(AL$2:$AL726),N726:Q2629,4,0),\"\")","v":""}]
[null,null,null,null,null,null,null,null,null,null,null,null,null,{"$f":"IF(ISNUMBER(SEARCH($H$16,Q727)),MAX($N$1:N726)+1,0)","v":0},{"$f":"IF(ISNUMBER(SEARCH($H$11,Q727)),MAX($O$1:O726)+1,0)","v":0},{"$f":"IF(ISNUMBER(SEARCH($H$6,Q727)),MAX($P$1:P726)+1,0)","v":0},"religare invesco active income","MLI107","Debt Long Term",null,null,null,null,null,null,null,null,null,null,null,{"$f":"IFERROR(VLOOKUP(ROWS($AE$2:AE727),P727:Q2630,2,0),\"\")","v":""},null,null,null,null,{"$f":"IFERROR(VLOOKUP(ROWS($AJ$2:AJ727),O727:Q2630,3,0),\"\")","v":""},null,{"$f":"IFERROR(VLOOKUP(ROWS(AL$2:$AL727),N727:Q2630,4,0),\"\")","v":""}]
[null,null,null,null,null,null,null,null,null,null,null,null,null,{"$f":"IF(ISNUMBER(SEARCH($H$16,Q728)),MAX($N$1:N727)+1,0)","v":0},{"$f":"IF(ISNUMBER(SEARCH($H$11,Q728)),MAX($O$1:O727)+1,0)","v":0},{"$f":"IF(ISNUMBER(SEARCH($H$6,Q728)),MAX($P$1:P727)+1,0)","v":0},"baroda pioneer psu bond","MBO043","Debt Long Term",null,null,null,null,null,null,null,null,null,null,null,{"$f":"IFERROR(VLOOKUP(ROWS($AE$2:AE728),P728:Q2631,2,0),\"\")","v":""},null,null,null,null,{"$f":"IFERROR(VLOOKUP(ROWS($AJ$2:AJ728),O728:Q2631,3,0),\"\")","v":""},null,{"$f":"IFERROR(VLOOKUP(ROWS(AL$2:$AL728),N728:Q2631,4,0),\"\")","v":""}]
[null,null,null,null,null,null,null,null,null,null,null,null,null,{"$f":"IF(ISNUMBER(SEARCH($H$16,Q729)),MAX($N$1:N728)+1,0)","v":0},{"$f":"IF(ISNUMBER(SEARCH($H$11,Q729)),MAX($O$1:O728)+1,0)","v":0},{"$f":"IF(ISNUMBER(SEARCH($H$6,Q729)),MAX($P$1:P728)+1,0)","v":0},"taurus dynamic income fund","MCM076","Debt Long Term",null,null,null,null,null,null,null,null,null,null,null,{"$f":"IFERROR(VLOOKUP(ROWS($AE$2:AE729),P729:Q2632,2,0),\"\")","v":""},null,null,null,null,{"$f":"IFERROR(VLOOKUP(ROWS($AJ$2:AJ729),O729:Q2632,3,0),\"\")","v":""},null,{"$f":"IFERROR(VLOOKUP(ROWS(AL$2:$AL729),N729:Q2632,4,0),\"\")","v":""}]
[null,null,null,null,null,null,null,null,null,null,null,null,null,{"$f":"IF(ISNUMBER(SEARCH($H$16,Q730)),MAX($N$1:N729)+1,0)","v":0},{"$f":"IF(ISNUMBER(SEARCH($H$11,Q730)),MAX($O$1:O729)+1,0)","v":0},{"$f":"IF(ISNUMBER(SEARCH($H$6,Q730)),MAX($P$1:P729)+1,0)","v":0},"religare invesco active inc b","MLI112","Debt Long Term",null,null,null,null,null,null,null,null,null,null,null,{"$f":"IFERROR(VLOOKUP(ROWS($AE$2:AE730),P730:Q2633,2,0),\"\")","v":""},null,null,null,null,{"$f":"IFERROR(VLOOKUP(ROWS($AJ$2:AJ730),O730:Q2633,3,0),\"\")","v":""},null,{"$f":"IFERROR(VLOOKUP(ROWS(AL$2:$AL730),N730:Q2633,4,0),\"\")","v":""}]
[null,null,null,null,null,null,null,null,null,null,null,null,null,{"$f":"IF(ISNUMBER(SEARCH($H$16,Q731)),MAX($N$1:N730)+1,0)","v":0},{"$f":"IF(ISNUMBER(SEARCH($H$11,Q731)),MAX($O$1:O730)+1,0)","v":0},{"$f":"IF(ISNUMBER(SEARCH($H$6,Q731)),MAX($P$1:P730)+1,0)","v":0},"sahara income fund","MFI001","Debt Long Term",null,null,null,null,null,null,null,null,null,null,null,{"$f":"IFERROR(VLOOKUP(ROWS($AE$2:AE731),P731:Q2634,2,0),\"\")","v":""},null,null,null,null,{"$f":"IFERROR(VLOOKUP(ROWS($AJ$2:AJ731),O731:Q2634,3,0),\"\")","v":""},null,{"$f":"IFERROR(VLOOKUP(ROWS(AL$2:$AL731),N731:Q2634,4,0),\"\")","v":""}]
[null,null,null,null,null,null,null,null,null,null,null,null,null,{"$f":"IF(ISNUMBER(SEARCH($H$16,Q732)),MAX($N$1:N731)+1,0)","v":0},{"$f":"IF(ISNUMBER(SEARCH($H$11,Q732)),MAX($O$1:O731)+1,0)","v":0},{"$f":"IF(ISNUMBER(SEARCH($H$6,Q732)),MAX($P$1:P731)+1,0)","v":0},"peerless flexible income fund","MPM036","Debt Long Term",null,null,null,null,null,null,null,null,null,null,null,{"$f":"IFERROR(VLOOKUP(ROWS($AE$2:AE732),P732:Q2635,2,0),\"\")","v":""},null,null,null,null,{"$f":"IFERROR(VLOOKUP(ROWS($AJ$2:AJ732),O732:Q2635,3,0),\"\")","v":""},null,{"$f":"IFERROR(VLOOKUP(ROWS(AL$2:$AL732),N732:Q2635,4,0),\"\")","v":""}]
[null,null,null,null,null,null,null,null,null,null,null,null,null,{"$f":"IF(ISNUMBER(SEARCH($H$16,Q733)),MAX($N$1:N732)+1,0)","v":0},{"$f":"IF(ISNUMBER(SEARCH($H$11,Q733)),MAX($O$1:O732)+1,0)","v":0},{"$f":"IF(ISNUMBER(SEARCH($H$6,Q733)),MAX($P$1:P732)+1,0)","v":0},"hdfc inflation indexed bond","MMS044","Debt Long Term",null,null,null,null,null,null,null,null,null,null,null,{"$f":"IFERROR(VLOOKUP(ROWS($AE$2:AE733),P733:Q2636,2,0),\"\")","v":""},null,null,null,null,{"$f":"IFERROR(VLOOKUP(ROWS($AJ$2:AJ733),O733:Q2636,3,0),\"\")","v":""},null,{"$f":"IFERROR(VLOOKUP(ROWS(AL$2:$AL733),N733:Q2636,4,0),\"\")","v":""}]
[null,null,null,null,null,null,null,null,null,null,null,null,null,{"$f":"IF(ISNUMBER(SEARCH($H$16,Q734)),MAX($N$1:N733)+1,0)","v":0},{"$f":"IF(ISNUMBER(SEARCH($H$11,Q734)),MAX($O$1:O733)+1,0)","v":0},{"$f":"IF(ISNUMBER(SEARCH($H$6,Q734)),MAX($P$1:P733)+1,0)","v":0},"dws inflation indexed bond dir","MDE867","Debt Long Term",null,null,null,null,null,null,null,null,null,null,null,{"$f":"IFERROR(VLOOKUP(ROWS($AE$2:AE734),P734:Q2637,2,0),\"\")","v":""},null,null,null,null,{"$f":"IFERROR(VLOOKUP(ROWS($AJ$2:AJ734),O734:Q2637,3,0),\"\")","v":""},null,{"$f":"IFERROR(VLOOKUP(ROWS(AL$2:$AL734),N734:Q2637,4,0),\"\")","v":""}]
[null,null,null,null,null,null,null,null,null,null,null,null,null,{"$f":"IF(ISNUMBER(SEARCH($H$16,Q735)),MAX($N$1:N734)+1,0)","v":0},{"$f":"IF(ISNUMBER(SEARCH($H$11,Q735)),MAX($O$1:O734)+1,0)","v":0},{"$f":"IF(ISNUMBER(SEARCH($H$6,Q735)),MAX($P$1:P734)+1,0)","v":0},"dws inflation indexed bond rp","MDE862","Debt Long Term",null,null,null,null,null,null,null,null,null,null,null,{"$f":"IFERROR(VLOOKUP(ROWS($AE$2:AE735),P735:Q2638,2,0),\"\")","v":""},null,null,null,null,{"$f":"IFERROR(VLOOKUP(ROWS($AJ$2:AJ735),O735:Q2638,3,0),\"\")","v":""},null,{"$f":"IFERROR(VLOOKUP(ROWS(AL$2:$AL735),N735:Q2638,4,0),\"\")","v":""}]
[null,null,null,null,null,null,null,null,null,null,null,null,null,{"$f":"IF(ISNUMBER(SEARCH($H$16,Q736)),MAX($N$1:N735)+1,0)","v":0},{"$f":"IF(ISNUMBER(SEARCH($H$11,Q736)),MAX($O$1:O735)+1,0)","v":0},{"$f":"IF(ISNUMBER(SEARCH($H$6,Q736)),MAX($P$1:P735)+1,0)","v":0},"sbi inflation indexed bond dir","MSB1053","Debt Long Term",null,null,null,null,null,null,null,null,null,null,null,{"$f":"IFERROR(VLOOKUP(ROWS($AE$2:AE736),P736:Q2639,2,0),\"\")","v":""},null,null,null,null,{"$f":"IFERROR(VLOOKUP(ROWS($AJ$2:AJ736),O736:Q2639,3,0),\"\")","v":""},null,{"$f":"IFERROR(VLOOKUP(ROWS(AL$2:$AL736),N736:Q2639,4,0),\"\")","v":""}]
[null,null,null,null,null,null,null,null,null,null,null,null,null,{"$f":"IF(ISNUMBER(SEARCH($H$16,Q737)),MAX($N$1:N736)+1,0)","v":0},{"$f":"IF(ISNUMBER(SEARCH($H$11,Q737)),MAX($O$1:O736)+1,0)","v":0},{"$f":"IF(ISNUMBER(SEARCH($H$6,Q737)),MAX($P$1:P736)+1,0)","v":0},"axis income fund reg b ","MAA538","Debt Long Term",null,null,null,null,null,null,null,null,null,null,null,{"$f":"IFERROR(VLOOKUP(ROWS($AE$2:AE737),P737:Q2640,2,0),\"\")","v":""},null,null,null,null,{"$f":"IFERROR(VLOOKUP(ROWS($AJ$2:AJ737),O737:Q2640,3,0),\"\")","v":""},null,{"$f":"IFERROR(VLOOKUP(ROWS(AL$2:$AL737),N737:Q2640,4,0),\"\")","v":""}]
[null,null,null,null,null,null,null,null,null,null,null,null,null,{"$f":"IF(ISNUMBER(SEARCH($H$16,Q738)),MAX($N$1:N737)+1,0)","v":0},{"$f":"IF(ISNUMBER(SEARCH($H$11,Q738)),MAX($O$1:O737)+1,0)","v":0},{"$f":"IF(ISNUMBER(SEARCH($H$6,Q738)),MAX($P$1:P737)+1,0)","v":0},"axis dynamic bond fund reg b ","MAA540","Debt Long Term",null,null,null,null,null,null,null,null,null,null,null,{"$f":"IFERROR(VLOOKUP(ROWS($AE$2:AE738),P738:Q2641,2,0),\"\")","v":""},null,null,null,null,{"$f":"IFERROR(VLOOKUP(ROWS($AJ$2:AJ738),O738:Q2641,3,0),\"\")","v":""},null,{"$f":"IFERROR(VLOOKUP(ROWS(AL$2:$AL738),N738:Q2641,4,0),\"\")","v":""}]
[null,null,null,null,null,null,null,null,null,null,null,null,null,{"$f":"IF(ISNUMBER(SEARCH($H$16,Q739)),MAX($N$1:N738)+1,0)","v":0},{"$f":"IF(ISNUMBER(SEARCH($H$11,Q739)),MAX($O$1:O738)+1,0)","v":0},{"$f":"IF(ISNUMBER(SEARCH($H$6,Q739)),MAX($P$1:P738)+1,0)","v":0},"sundaram flexible inc ip","MSN079","Debt Long Term",null,null,null,null,null,null,null,null,null,null,null,{"$f":"IFERROR(VLOOKUP(ROWS($AE$2:AE739),P739:Q2642,2,0),\"\")","v":""},null,null,null,null,{"$f":"IFERROR(VLOOKUP(ROWS($AJ$2:AJ739),O739:Q2642,3,0),\"\")","v":""},null,{"$f":"IFERROR(VLOOKUP(ROWS(AL$2:$AL739),N739:Q2642,4,0),\"\")","v":""}]
[null,null,null,null,null,null,null,null,null,null,null,null,null,{"$f":"IF(ISNUMBER(SEARCH($H$16,Q740)),MAX($N$1:N739)+1,0)","v":0},{"$f":"IF(ISNUMBER(SEARCH($H$11,Q740)),MAX($O$1:O739)+1,0)","v":0},{"$f":"IF(ISNUMBER(SEARCH($H$6,Q740)),MAX($P$1:P739)+1,0)","v":0},"sbi inflation indexed bond reg","MSB1051","Debt Long Term",null,null,null,null,null,null,null,null,null,null,null,{"$f":"IFERROR(VLOOKUP(ROWS($AE$2:AE740),P740:Q2643,2,0),\"\")","v":""},null,null,null,null,{"$f":"IFERROR(VLOOKUP(ROWS($AJ$2:AJ740),O740:Q2643,3,0),\"\")","v":""},null,{"$f":"IFERROR(VLOOKUP(ROWS(AL$2:$AL740),N740:Q2643,4,0),\"\")","v":""}]
[null,null,null,null,null,null,null,null,null,null,null,null,null,{"$f":"IF(ISNUMBER(SEARCH($H$16,Q741)),MAX($N$1:N740)+1,0)","v":0},{"$f":"IF(ISNUMBER(SEARCH($H$11,Q741)),MAX($O$1:O740)+1,0)","v":0},{"$f":"IF(ISNUMBER(SEARCH($H$6,Q741)),MAX($P$1:P740)+1,0)","v":0},"icici pru dynamic bond pp","MPI650","Debt Long Term",null,null,null,null,null,null,null,null,null,null,null,{"$f":"IFERROR(VLOOKUP(ROWS($AE$2:AE741),P741:Q2644,2,0),\"\")","v":""},null,null,null,null,{"$f":"IFERROR(VLOOKUP(ROWS($AJ$2:AJ741),O741:Q2644,3,0),\"\")","v":""},null,{"$f":"IFERROR(VLOOKUP(ROWS(AL$2:$AL741),N741:Q2644,4,0),\"\")","v":""}]
[null,null,null,null,null,null,null,null,null,null,null,null,null,{"$f":"IF(ISNUMBER(SEARCH($H$16,Q742)),MAX($N$1:N741)+1,0)","v":0},{"$f":"IF(ISNUMBER(SEARCH($H$11,Q742)),MAX($O$1:O741)+1,0)","v":0},{"$f":"IF(ISNUMBER(SEARCH($H$6,Q742)),MAX($P$1:P741)+1,0)","v":0},"birla sl dynamic bond rp","MBS071","Debt Short Term",null,null,null,null,null,null,null,null,null,null,null,{"$f":"IFERROR(VLOOKUP(ROWS($AE$2:AE742),P742:Q2645,2,0),\"\")","v":""},null,null,null,null,{"$f":"IFERROR(VLOOKUP(ROWS($AJ$2:AJ742),O742:Q2645,3,0),\"\")","v":""},null,{"$f":"IFERROR(VLOOKUP(ROWS(AL$2:$AL742),N742:Q2645,4,0),\"\")","v":""}]
[null,null,null,null,null,null,null,null,null,null,null,null,null,{"$f":"IF(ISNUMBER(SEARCH($H$16,Q743)),MAX($N$1:N742)+1,0)","v":0},{"$f":"IF(ISNUMBER(SEARCH($H$11,Q743)),MAX($O$1:O742)+1,0)","v":0},{"$f":"IF(ISNUMBER(SEARCH($H$6,Q743)),MAX($P$1:P742)+1,0)","v":0},"franklin i stif inst ","MTE080","Debt Short Term",null,null,null,null,null,null,null,null,null,null,null,{"$f":"IFERROR(VLOOKUP(ROWS($AE$2:AE743),P743:Q2646,2,0),\"\")","v":""},null,null,null,null,{"$f":"IFERROR(VLOOKUP(ROWS($AJ$2:AJ743),O743:Q2646,3,0),\"\")","v":""},null,{"$f":"IFERROR(VLOOKUP(ROWS(AL$2:$AL743),N743:Q2646,4,0),\"\")","v":""}]
[null,null,null,null,null,null,null,null,null,null,null,null,null,{"$f":"IF(ISNUMBER(SEARCH($H$16,Q744)),MAX($N$1:N743)+1,0)","v":0},{"$f":"IF(ISNUMBER(SEARCH($H$11,Q744)),MAX($O$1:O743)+1,0)","v":0},{"$f":"IF(ISNUMBER(SEARCH($H$6,Q744)),MAX($P$1:P743)+1,0)","v":0},"kotak medium term regular","MKM807","Debt Short Term",null,null,null,null,null,null,null,null,null,null,null,{"$f":"IFERROR(VLOOKUP(ROWS($AE$2:AE744),P744:Q2647,2,0),\"\")","v":""},null,null,null,null,{"$f":"IFERROR(VLOOKUP(ROWS($AJ$2:AJ744),O744:Q2647,3,0),\"\")","v":""},null,{"$f":"IFERROR(VLOOKUP(ROWS(AL$2:$AL744),N744:Q2647,4,0),\"\")","v":""}]
[null,null,null,null,null,null,null,null,null,null,null,null,null,{"$f":"IF(ISNUMBER(SEARCH($H$16,Q745)),MAX($N$1:N744)+1,0)","v":0},{"$f":"IF(ISNUMBER(SEARCH($H$11,Q745)),MAX($O$1:O744)+1,0)","v":0},{"$f":"IF(ISNUMBER(SEARCH($H$6,Q745)),MAX($P$1:P744)+1,0)","v":0},"dws banking psu debt dir","MDE576","Debt Short Term",null,null,null,null,null,null,null,null,null,null,null,{"$f":"IFERROR(VLOOKUP(ROWS($AE$2:AE745),P745:Q2648,2,0),\"\")","v":""},null,null,null,null,{"$f":"IFERROR(VLOOKUP(ROWS($AJ$2:AJ745),O745:Q2648,3,0),\"\")","v":""},null,{"$f":"IFERROR(VLOOKUP(ROWS(AL$2:$AL745),N745:Q2648,4,0),\"\")","v":""}]
[null,null,null,null,null,null,null,null,null,null,null,null,null,{"$f":"IF(ISNUMBER(SEARCH($H$16,Q746)),MAX($N$1:N745)+1,0)","v":0},{"$f":"IF(ISNUMBER(SEARCH($H$11,Q746)),MAX($O$1:O745)+1,0)","v":0},{"$f":"IF(ISNUMBER(SEARCH($H$6,Q746)),MAX($P$1:P745)+1,0)","v":0},"birla sl treasury optimizer dap ","MBS467","Debt Short Term",null,null,null,null,null,null,null,null,null,null,null,{"$f":"IFERROR(VLOOKUP(ROWS($AE$2:AE746),P746:Q2649,2,0),\"\")","v":""},null,null,null,null,{"$f":"IFERROR(VLOOKUP(ROWS($AJ$2:AJ746),O746:Q2649,3,0),\"\")","v":""},null,{"$f":"IFERROR(VLOOKUP(ROWS(AL$2:$AL746),N746:Q2649,4,0),\"\")","v":""}]
[null,null,null,null,null,null,null,null,null,null,null,null,null,{"$f":"IF(ISNUMBER(SEARCH($H$16,Q747)),MAX($N$1:N746)+1,0)","v":0},{"$f":"IF(ISNUMBER(SEARCH($H$11,Q747)),MAX($O$1:O746)+1,0)","v":0},{"$f":"IF(ISNUMBER(SEARCH($H$6,Q747)),MAX($P$1:P746)+1,0)","v":0},"birla sl treasury optimizer reg","MBS351","Debt Short Term",null,null,null,null,null,null,null,null,null,null,null,{"$f":"IFERROR(VLOOKUP(ROWS($AE$2:AE747),P747:Q2650,2,0),\"\")","v":""},null,null,null,null,{"$f":"IFERROR(VLOOKUP(ROWS($AJ$2:AJ747),O747:Q2650,3,0),\"\")","v":""},null,{"$f":"IFERROR(VLOOKUP(ROWS(AL$2:$AL747),N747:Q2650,4,0),\"\")","v":""}]
[null,null,null,null,null,null,null,null,null,null,null,null,null,{"$f":"IF(ISNUMBER(SEARCH($H$16,Q748)),MAX($N$1:N747)+1,0)","v":0},{"$f":"IF(ISNUMBER(SEARCH($H$11,Q748)),MAX($O$1:O747)+1,0)","v":0},{"$f":"IF(ISNUMBER(SEARCH($H$6,Q748)),MAX($P$1:P747)+1,0)","v":0},"birla sl treasury optimizer rp","MAC029","Debt Short Term",null,null,null,null,null,null,null,null,null,null,null,{"$f":"IFERROR(VLOOKUP(ROWS($AE$2:AE748),P748:Q2651,2,0),\"\")","v":""},null,null,null,null,{"$f":"IFERROR(VLOOKUP(ROWS($AJ$2:AJ748),O748:Q2651,3,0),\"\")","v":""},null,{"$f":"IFERROR(VLOOKUP(ROWS(AL$2:$AL748),N748:Q2651,4,0),\"\")","v":""}]
[null,null,null,null,null,null,null,null,null,null,null,null,null,{"$f":"IF(ISNUMBER(SEARCH($H$16,Q749)),MAX($N$1:N748)+1,0)","v":0},{"$f":"IF(ISNUMBER(SEARCH($H$11,Q749)),MAX($O$1:O748)+1,0)","v":0},{"$f":"IF(ISNUMBER(SEARCH($H$6,Q749)),MAX($P$1:P748)+1,0)","v":0},"jpmorgan bank psu debt dir","MJP205","Debt Short Term",null,null,null,null,null,null,null,null,null,null,null,{"$f":"IFERROR(VLOOKUP(ROWS($AE$2:AE749),P749:Q2652,2,0),\"\")","v":""},null,null,null,null,{"$f":"IFERROR(VLOOKUP(ROWS($AJ$2:AJ749),O749:Q2652,3,0),\"\")","v":""},null,{"$f":"IFERROR(VLOOKUP(ROWS(AL$2:$AL749),N749:Q2652,4,0),\"\")","v":""}]
[null,null,null,null,null,null,null,null,null,null,null,null,null,{"$f":"IF(ISNUMBER(SEARCH($H$16,Q750)),MAX($N$1:N749)+1,0)","v":0},{"$f":"IF(ISNUMBER(SEARCH($H$11,Q750)),MAX($O$1:O749)+1,0)","v":0},{"$f":"IF(ISNUMBER(SEARCH($H$6,Q750)),MAX($P$1:P749)+1,0)","v":0},"dws banking psu debt rp","MDE574","Debt Short Term",null,null,null,null,null,null,null,null,null,null,null,{"$f":"IFERROR(VLOOKUP(ROWS($AE$2:AE750),P750:Q2653,2,0),\"\")","v":""},null,null,null,null,{"$f":"IFERROR(VLOOKUP(ROWS($AJ$2:AJ750),O750:Q2653,3,0),\"\")","v":""},null,{"$f":"IFERROR(VLOOKUP(ROWS(AL$2:$AL750),N750:Q2653,4,0),\"\")","v":""}]
[null,null,null,null,null,null,null,null,null,null,null,null,null,{"$f":"IF(ISNUMBER(SEARCH($H$16,Q751)),MAX($N$1:N750)+1,0)","v":0},{"$f":"IF(ISNUMBER(SEARCH($H$11,Q751)),MAX($O$1:O750)+1,0)","v":0},{"$f":"IF(ISNUMBER(SEARCH($H$6,Q751)),MAX($P$1:P750)+1,0)","v":0},"indiabulls short term fund dir","MIM065","Debt Short Term",null,null,null,null,null,null,null,null,null,null,null,{"$f":"IFERROR(VLOOKUP(ROWS($AE$2:AE751),P751:Q2654,2,0),\"\")","v":""},null,null,null,null,{"$f":"IFERROR(VLOOKUP(ROWS($AJ$2:AJ751),O751:Q2654,3,0),\"\")","v":""},null,{"$f":"IFERROR(VLOOKUP(ROWS(AL$2:$AL751),N751:Q2654,4,0),\"\")","v":""}]
[null,null,null,null,null,null,null,null,null,null,null,null,null,{"$f":"IF(ISNUMBER(SEARCH($H$16,Q752)),MAX($N$1:N751)+1,0)","v":0},{"$f":"IF(ISNUMBER(SEARCH($H$11,Q752)),MAX($O$1:O751)+1,0)","v":0},{"$f":"IF(ISNUMBER(SEARCH($H$6,Q752)),MAX($P$1:P751)+1,0)","v":0},"dsp banking psu debt dir","MDS869","Debt Short Term",null,null,null,null,null,null,null,null,null,null,null,{"$f":"IFERROR(VLOOKUP(ROWS($AE$2:AE752),P752:Q2655,2,0),\"\")","v":""},null,null,null,null,{"$f":"IFERROR(VLOOKUP(ROWS($AJ$2:AJ752),O752:Q2655,3,0),\"\")","v":""},null,{"$f":"IFERROR(VLOOKUP(ROWS(AL$2:$AL752),N752:Q2655,4,0),\"\")","v":""}]
[null,null,null,null,null,null,null,null,null,null,null,null,null,{"$f":"IF(ISNUMBER(SEARCH($H$16,Q753)),MAX($N$1:N752)+1,0)","v":0},{"$f":"IF(ISNUMBER(SEARCH($H$11,Q753)),MAX($O$1:O752)+1,0)","v":0},{"$f":"IF(ISNUMBER(SEARCH($H$6,Q753)),MAX($P$1:P752)+1,0)","v":0},"idfc ssif mtp plan f","MAG376","Debt Short Term",null,null,null,null,null,null,null,null,null,null,null,{"$f":"IFERROR(VLOOKUP(ROWS($AE$2:AE753),P753:Q2656,2,0),\"\")","v":""},null,null,null,null,{"$f":"IFERROR(VLOOKUP(ROWS($AJ$2:AJ753),O753:Q2656,3,0),\"\")","v":""},null,{"$f":"IFERROR(VLOOKUP(ROWS(AL$2:$AL753),N753:Q2656,4,0),\"\")","v":""}]
[null,null,null,null,null,null,null,null,null,null,null,null,null,{"$f":"IF(ISNUMBER(SEARCH($H$16,Q754)),MAX($N$1:N753)+1,0)","v":0},{"$f":"IF(ISNUMBER(SEARCH($H$11,Q754)),MAX($O$1:O753)+1,0)","v":0},{"$f":"IF(ISNUMBER(SEARCH($H$6,Q754)),MAX($P$1:P753)+1,0)","v":0},"jpmorgan bank psu debt reg","MJP198","Debt Short Term",null,null,null,null,null,null,null,null,null,null,null,{"$f":"IFERROR(VLOOKUP(ROWS($AE$2:AE754),P754:Q2657,2,0),\"\")","v":""},null,null,null,null,{"$f":"IFERROR(VLOOKUP(ROWS($AJ$2:AJ754),O754:Q2657,3,0),\"\")","v":""},null,{"$f":"IFERROR(VLOOKUP(ROWS(AL$2:$AL754),N754:Q2657,4,0),\"\")","v":""}]
[null,null,null,null,null,null,null,null,null,null,null,null,null,{"$f":"IF(ISNUMBER(SEARCH($H$16,Q755)),MAX($N$1:N754)+1,0)","v":0},{"$f":"IF(ISNUMBER(SEARCH($H$11,Q755)),MAX($O$1:O754)+1,0)","v":0},{"$f":"IF(ISNUMBER(SEARCH($H$6,Q755)),MAX($P$1:P754)+1,0)","v":0},"birla sl short term fund dap ","MBS437","Debt Short Term",null,null,null,null,null,null,null,null,null,null,null,{"$f":"IFERROR(VLOOKUP(ROWS($AE$2:AE755),P755:Q2658,2,0),\"\")","v":""},null,null,null,null,{"$f":"IFERROR(VLOOKUP(ROWS($AJ$2:AJ755),O755:Q2658,3,0),\"\")","v":""},null,{"$f":"IFERROR(VLOOKUP(ROWS(AL$2:$AL755),N755:Q2658,4,0),\"\")","v":""}]
[null,null,null,null,null,null,null,null,null,null,null,null,null,{"$f":"IF(ISNUMBER(SEARCH($H$16,Q756)),MAX($N$1:N755)+1,0)","v":0},{"$f":"IF(ISNUMBER(SEARCH($H$11,Q756)),MAX($O$1:O755)+1,0)","v":0},{"$f":"IF(ISNUMBER(SEARCH($H$6,Q756)),MAX($P$1:P755)+1,0)","v":0},"kotak low duration standard","MAI049","Debt Short Term",null,null,null,null,null,null,null,null,null,null,null,{"$f":"IFERROR(VLOOKUP(ROWS($AE$2:AE756),P756:Q2659,2,0),\"\")","v":""},null,null,null,null,{"$f":"IFERROR(VLOOKUP(ROWS($AJ$2:AJ756),O756:Q2659,3,0),\"\")","v":""},null,{"$f":"IFERROR(VLOOKUP(ROWS(AL$2:$AL756),N756:Q2659,4,0),\"\")","v":""}]
[null,null,null,null,null,null,null,null,null,null,null,null,null,{"$f":"IF(ISNUMBER(SEARCH($H$16,Q757)),MAX($N$1:N756)+1,0)","v":0},{"$f":"IF(ISNUMBER(SEARCH($H$11,Q757)),MAX($O$1:O756)+1,0)","v":0},{"$f":"IF(ISNUMBER(SEARCH($H$6,Q757)),MAX($P$1:P756)+1,0)","v":0},"idfc ssif mtp inst b","MAG312","Debt Short Term",null,null,null,null,null,null,null,null,null,null,null,{"$f":"IFERROR(VLOOKUP(ROWS($AE$2:AE757),P757:Q2660,2,0),\"\")","v":""},null,null,null,null,{"$f":"IFERROR(VLOOKUP(ROWS($AJ$2:AJ757),O757:Q2660,3,0),\"\")","v":""},null,{"$f":"IFERROR(VLOOKUP(ROWS(AL$2:$AL757),N757:Q2660,4,0),\"\")","v":""}]
[null,null,null,null,null,null,null,null,null,null,null,null,null,{"$f":"IF(ISNUMBER(SEARCH($H$16,Q758)),MAX($N$1:N757)+1,0)","v":0},{"$f":"IF(ISNUMBER(SEARCH($H$11,Q758)),MAX($O$1:O757)+1,0)","v":0},{"$f":"IF(ISNUMBER(SEARCH($H$6,Q758)),MAX($P$1:P757)+1,0)","v":0},"dws premier bond prem plus","MDE249","Debt Short Term",null,null,null,null,null,null,null,null,null,null,null,{"$f":"IFERROR(VLOOKUP(ROWS($AE$2:AE758),P758:Q2661,2,0),\"\")","v":""},null,null,null,null,{"$f":"IFERROR(VLOOKUP(ROWS($AJ$2:AJ758),O758:Q2661,3,0),\"\")","v":""},null,{"$f":"IFERROR(VLOOKUP(ROWS(AL$2:$AL758),N758:Q2661,4,0),\"\")","v":""}]
[null,null,null,null,null,null,null,null,null,null,null,null,null,{"$f":"IF(ISNUMBER(SEARCH($H$16,Q759)),MAX($N$1:N758)+1,0)","v":0},{"$f":"IF(ISNUMBER(SEARCH($H$11,Q759)),MAX($O$1:O758)+1,0)","v":0},{"$f":"IF(ISNUMBER(SEARCH($H$6,Q759)),MAX($P$1:P758)+1,0)","v":0},"icici pru short term plan ip","MPI043","Debt Short Term",null,null,null,null,null,null,null,null,null,null,null,{"$f":"IFERROR(VLOOKUP(ROWS($AE$2:AE759),P759:Q2662,2,0),\"\")","v":""},null,null,null,null,{"$f":"IFERROR(VLOOKUP(ROWS($AJ$2:AJ759),O759:Q2662,3,0),\"\")","v":""},null,{"$f":"IFERROR(VLOOKUP(ROWS(AL$2:$AL759),N759:Q2662,4,0),\"\")","v":""}]
[null,null,null,null,null,null,null,null,null,null,null,null,null,{"$f":"IF(ISNUMBER(SEARCH($H$16,Q760)),MAX($N$1:N759)+1,0)","v":0},{"$f":"IF(ISNUMBER(SEARCH($H$11,Q760)),MAX($O$1:O759)+1,0)","v":0},{"$f":"IF(ISNUMBER(SEARCH($H$6,Q760)),MAX($P$1:P759)+1,0)","v":0},"hdfc medium term opport ","MHD686","Debt Short Term",null,null,null,null,null,null,null,null,null,null,null,{"$f":"IFERROR(VLOOKUP(ROWS($AE$2:AE760),P760:Q2663,2,0),\"\")","v":""},null,null,null,null,{"$f":"IFERROR(VLOOKUP(ROWS($AJ$2:AJ760),O760:Q2663,3,0),\"\")","v":""},null,{"$f":"IFERROR(VLOOKUP(ROWS(AL$2:$AL760),N760:Q2663,4,0),\"\")","v":""}]
[null,null,null,null,null,null,null,null,null,null,null,null,null,{"$f":"IF(ISNUMBER(SEARCH($H$16,Q761)),MAX($N$1:N760)+1,0)","v":0},{"$f":"IF(ISNUMBER(SEARCH($H$11,Q761)),MAX($O$1:O760)+1,0)","v":0},{"$f":"IF(ISNUMBER(SEARCH($H$6,Q761)),MAX($P$1:P760)+1,0)","v":0},"idfc ssif stp plan d","MAG111","Debt Short Term",null,null,null,null,null,null,null,null,null,null,null,{"$f":"IFERROR(VLOOKUP(ROWS($AE$2:AE761),P761:Q2664,2,0),\"\")","v":""},null,null,null,null,{"$f":"IFERROR(VLOOKUP(ROWS($AJ$2:AJ761),O761:Q2664,3,0),\"\")","v":""},null,{"$f":"IFERROR(VLOOKUP(ROWS(AL$2:$AL761),N761:Q2664,4,0),\"\")","v":""}]
[null,null,null,null,null,null,null,null,null,null,null,null,null,{"$f":"IF(ISNUMBER(SEARCH($H$16,Q762)),MAX($N$1:N761)+1,0)","v":0},{"$f":"IF(ISNUMBER(SEARCH($H$11,Q762)),MAX($O$1:O761)+1,0)","v":0},{"$f":"IF(ISNUMBER(SEARCH($H$6,Q762)),MAX($P$1:P761)+1,0)","v":0},"idfc ssif mtp regular","MAG045","Debt Short Term",null,null,null,null,null,null,null,null,null,null,null,{"$f":"IFERROR(VLOOKUP(ROWS($AE$2:AE762),P762:Q2665,2,0),\"\")","v":""},null,null,null,null,{"$f":"IFERROR(VLOOKUP(ROWS($AJ$2:AJ762),O762:Q2665,3,0),\"\")","v":""},null,{"$f":"IFERROR(VLOOKUP(ROWS(AL$2:$AL762),N762:Q2665,4,0),\"\")","v":""}]
[null,null,null,null,null,null,null,null,null,null,null,null,null,{"$f":"IF(ISNUMBER(SEARCH($H$16,Q763)),MAX($N$1:N762)+1,0)","v":0},{"$f":"IF(ISNUMBER(SEARCH($H$11,Q763)),MAX($O$1:O762)+1,0)","v":0},{"$f":"IF(ISNUMBER(SEARCH($H$6,Q763)),MAX($P$1:P762)+1,0)","v":0},"kotak low duration retail","MAI045","Debt Short Term",null,null,null,null,null,null,null,null,null,null,null,{"$f":"IFERROR(VLOOKUP(ROWS($AE$2:AE763),P763:Q2666,2,0),\"\")","v":""},null,null,null,null,{"$f":"IFERROR(VLOOKUP(ROWS($AJ$2:AJ763),O763:Q2666,3,0),\"\")","v":""},null,{"$f":"IFERROR(VLOOKUP(ROWS(AL$2:$AL763),N763:Q2666,4,0),\"\")","v":""}]
[null,null,null,null,null,null,null,null,null,null,null,null,null,{"$f":"IF(ISNUMBER(SEARCH($H$16,Q764)),MAX($N$1:N763)+1,0)","v":0},{"$f":"IF(ISNUMBER(SEARCH($H$11,Q764)),MAX($O$1:O763)+1,0)","v":0},{"$f":"IF(ISNUMBER(SEARCH($H$6,Q764)),MAX($P$1:P763)+1,0)","v":0},"birla sl short term fund","MAC003","Debt Short Term",null,null,null,null,null,null,null,null,null,null,null,{"$f":"IFERROR(VLOOKUP(ROWS($AE$2:AE764),P764:Q2667,2,0),\"\")","v":""},null,null,null,null,{"$f":"IFERROR(VLOOKUP(ROWS($AJ$2:AJ764),O764:Q2667,3,0),\"\")","v":""},null,{"$f":"IFERROR(VLOOKUP(ROWS(AL$2:$AL764),N764:Q2667,4,0),\"\")","v":""}]
[null,null,null,null,null,null,null,null,null,null,null,null,null,{"$f":"IF(ISNUMBER(SEARCH($H$16,Q765)),MAX($N$1:N764)+1,0)","v":0},{"$f":"IF(ISNUMBER(SEARCH($H$11,Q765)),MAX($O$1:O764)+1,0)","v":0},{"$f":"IF(ISNUMBER(SEARCH($H$6,Q765)),MAX($P$1:P764)+1,0)","v":0},"icici pru banking psu debt pp","MPI771","Debt Short Term",null,null,null,null,null,null,null,null,null,null,null,{"$f":"IFERROR(VLOOKUP(ROWS($AE$2:AE765),P765:Q2668,2,0),\"\")","v":""},null,null,null,null,{"$f":"IFERROR(VLOOKUP(ROWS($AJ$2:AJ765),O765:Q2668,3,0),\"\")","v":""},null,{"$f":"IFERROR(VLOOKUP(ROWS(AL$2:$AL765),N765:Q2668,4,0),\"\")","v":""}]
[null,null,null,null,null,null,null,null,null,null,null,null,null,{"$f":"IF(ISNUMBER(SEARCH($H$16,Q766)),MAX($N$1:N765)+1,0)","v":0},{"$f":"IF(ISNUMBER(SEARCH($H$11,Q766)),MAX($O$1:O765)+1,0)","v":0},{"$f":"IF(ISNUMBER(SEARCH($H$6,Q766)),MAX($P$1:P765)+1,0)","v":0},"bnp paribas short term inc dir","MAB733","Debt Short Term",null,null,null,null,null,null,null,null,null,null,null,{"$f":"IFERROR(VLOOKUP(ROWS($AE$2:AE766),P766:Q2669,2,0),\"\")","v":""},null,null,null,null,{"$f":"IFERROR(VLOOKUP(ROWS($AJ$2:AJ766),O766:Q2669,3,0),\"\")","v":""},null,{"$f":"IFERROR(VLOOKUP(ROWS(AL$2:$AL766),N766:Q2669,4,0),\"\")","v":""}]
[null,null,null,null,null,null,null,null,null,null,null,null,null,{"$f":"IF(ISNUMBER(SEARCH($H$16,Q767)),MAX($N$1:N766)+1,0)","v":0},{"$f":"IF(ISNUMBER(SEARCH($H$11,Q767)),MAX($O$1:O766)+1,0)","v":0},{"$f":"IF(ISNUMBER(SEARCH($H$6,Q767)),MAX($P$1:P766)+1,0)","v":0},"reliance short term fund","MRC017","Debt Short Term",null,null,null,null,null,null,null,null,null,null,null,{"$f":"IFERROR(VLOOKUP(ROWS($AE$2:AE767),P767:Q2670,2,0),\"\")","v":""},null,null,null,null,{"$f":"IFERROR(VLOOKUP(ROWS($AJ$2:AJ767),O767:Q2670,3,0),\"\")","v":""},null,{"$f":"IFERROR(VLOOKUP(ROWS(AL$2:$AL767),N767:Q2670,4,0),\"\")","v":""}]
[null,null,null,null,null,null,null,null,null,null,null,null,null,{"$f":"IF(ISNUMBER(SEARCH($H$16,Q768)),MAX($N$1:N767)+1,0)","v":0},{"$f":"IF(ISNUMBER(SEARCH($H$11,Q768)),MAX($O$1:O767)+1,0)","v":0},{"$f":"IF(ISNUMBER(SEARCH($H$6,Q768)),MAX($P$1:P767)+1,0)","v":0},"boi axa stif ip","MBA040","Debt Short Term",null,null,null,null,null,null,null,null,null,null,null,{"$f":"IFERROR(VLOOKUP(ROWS($AE$2:AE768),P768:Q2671,2,0),\"\")","v":""},null,null,null,null,{"$f":"IFERROR(VLOOKUP(ROWS($AJ$2:AJ768),O768:Q2671,3,0),\"\")","v":""},null,{"$f":"IFERROR(VLOOKUP(ROWS(AL$2:$AL768),N768:Q2671,4,0),\"\")","v":""}]
[null,null,null,null,null,null,null,null,null,null,null,null,null,{"$f":"IF(ISNUMBER(SEARCH($H$16,Q769)),MAX($N$1:N768)+1,0)","v":0},{"$f":"IF(ISNUMBER(SEARCH($H$11,Q769)),MAX($O$1:O768)+1,0)","v":0},{"$f":"IF(ISNUMBER(SEARCH($H$6,Q769)),MAX($P$1:P768)+1,0)","v":0},"dsp banking psu debt reg","MDS863","Debt Short Term",null,null,null,null,null,null,null,null,null,null,null,{"$f":"IFERROR(VLOOKUP(ROWS($AE$2:AE769),P769:Q2672,2,0),\"\")","v":""},null,null,null,null,{"$f":"IFERROR(VLOOKUP(ROWS($AJ$2:AJ769),O769:Q2672,3,0),\"\")","v":""},null,{"$f":"IFERROR(VLOOKUP(ROWS(AL$2:$AL769),N769:Q2672,4,0),\"\")","v":""}]
[null,null,null,null,null,null,null,null,null,null,null,null,null,{"$f":"IF(ISNUMBER(SEARCH($H$16,Q770)),MAX($N$1:N769)+1,0)","v":0},{"$f":"IF(ISNUMBER(SEARCH($H$11,Q770)),MAX($O$1:O769)+1,0)","v":0},{"$f":"IF(ISNUMBER(SEARCH($H$6,Q770)),MAX($P$1:P769)+1,0)","v":0},"icici pru short term plan","MPI030","Debt Short Term",null,null,null,null,null,null,null,null,null,null,null,{"$f":"IFERROR(VLOOKUP(ROWS($AE$2:AE770),P770:Q2673,2,0),\"\")","v":""},null,null,null,null,{"$f":"IFERROR(VLOOKUP(ROWS($AJ$2:AJ770),O770:Q2673,3,0),\"\")","v":""},null,{"$f":"IFERROR(VLOOKUP(ROWS(AL$2:$AL770),N770:Q2673,4,0),\"\")","v":""}]
[null,null,null,null,null,null,null,null,null,null,null,null,null,{"$f":"IF(ISNUMBER(SEARCH($H$16,Q771)),MAX($N$1:N770)+1,0)","v":0},{"$f":"IF(ISNUMBER(SEARCH($H$11,Q771)),MAX($O$1:O770)+1,0)","v":0},{"$f":"IF(ISNUMBER(SEARCH($H$6,Q771)),MAX($P$1:P770)+1,0)","v":0},"hsbc income stp inst plan","MHS017","Debt Short Term",null,null,null,null,null,null,null,null,null,null,null,{"$f":"IFERROR(VLOOKUP(ROWS($AE$2:AE771),P771:Q2674,2,0),\"\")","v":""},null,null,null,null,{"$f":"IFERROR(VLOOKUP(ROWS($AJ$2:AJ771),O771:Q2674,3,0),\"\")","v":""},null,{"$f":"IFERROR(VLOOKUP(ROWS(AL$2:$AL771),N771:Q2674,4,0),\"\")","v":""}]
[null,null,null,null,null,null,null,null,null,null,null,null,null,{"$f":"IF(ISNUMBER(SEARCH($H$16,Q772)),MAX($N$1:N771)+1,0)","v":0},{"$f":"IF(ISNUMBER(SEARCH($H$11,Q772)),MAX($O$1:O771)+1,0)","v":0},{"$f":"IF(ISNUMBER(SEARCH($H$6,Q772)),MAX($P$1:P771)+1,0)","v":0},"hsbc income stp inst plus","MHS296","Debt Short Term",null,null,null,null,null,null,null,null,null,null,null,{"$f":"IFERROR(VLOOKUP(ROWS($AE$2:AE772),P772:Q2675,2,0),\"\")","v":""},null,null,null,null,{"$f":"IFERROR(VLOOKUP(ROWS($AJ$2:AJ772),O772:Q2675,3,0),\"\")","v":""},null,{"$f":"IFERROR(VLOOKUP(ROWS(AL$2:$AL772),N772:Q2675,4,0),\"\")","v":""}]
[null,null,null,null,null,null,null,null,null,null,null,null,null,{"$f":"IF(ISNUMBER(SEARCH($H$16,Q773)),MAX($N$1:N772)+1,0)","v":0},{"$f":"IF(ISNUMBER(SEARCH($H$11,Q773)),MAX($O$1:O772)+1,0)","v":0},{"$f":"IF(ISNUMBER(SEARCH($H$6,Q773)),MAX($P$1:P772)+1,0)","v":0},"hdfc short term opportunities","MHD677","Debt Short Term",null,null,null,null,null,null,null,null,null,null,null,{"$f":"IFERROR(VLOOKUP(ROWS($AE$2:AE773),P773:Q2676,2,0),\"\")","v":""},null,null,null,null,{"$f":"IFERROR(VLOOKUP(ROWS($AJ$2:AJ773),O773:Q2676,3,0),\"\")","v":""},null,{"$f":"IFERROR(VLOOKUP(ROWS(AL$2:$AL773),N773:Q2676,4,0),\"\")","v":""}]
[null,null,null,null,null,null,null,null,null,null,null,null,null,{"$f":"IF(ISNUMBER(SEARCH($H$16,Q774)),MAX($N$1:N773)+1,0)","v":0},{"$f":"IF(ISNUMBER(SEARCH($H$11,Q774)),MAX($O$1:O773)+1,0)","v":0},{"$f":"IF(ISNUMBER(SEARCH($H$6,Q774)),MAX($P$1:P773)+1,0)","v":0},"bnp paribas medium term inc rp","MAB853","Debt Short Term",null,null,null,null,null,null,null,null,null,null,null,{"$f":"IFERROR(VLOOKUP(ROWS($AE$2:AE774),P774:Q2677,2,0),\"\")","v":""},null,null,null,null,{"$f":"IFERROR(VLOOKUP(ROWS($AJ$2:AJ774),O774:Q2677,3,0),\"\")","v":""},null,{"$f":"IFERROR(VLOOKUP(ROWS(AL$2:$AL774),N774:Q2677,4,0),\"\")","v":""}]
[null,null,null,null,null,null,null,null,null,null,null,null,null,{"$f":"IF(ISNUMBER(SEARCH($H$16,Q775)),MAX($N$1:N774)+1,0)","v":0},{"$f":"IF(ISNUMBER(SEARCH($H$11,Q775)),MAX($O$1:O774)+1,0)","v":0},{"$f":"IF(ISNUMBER(SEARCH($H$6,Q775)),MAX($P$1:P774)+1,0)","v":0},"edelweiss short term income rp","MEW031","Debt Short Term",null,null,null,null,null,null,null,null,null,null,null,{"$f":"IFERROR(VLOOKUP(ROWS($AE$2:AE775),P775:Q2678,2,0),\"\")","v":""},null,null,null,null,{"$f":"IFERROR(VLOOKUP(ROWS($AJ$2:AJ775),O775:Q2678,3,0),\"\")","v":""},null,{"$f":"IFERROR(VLOOKUP(ROWS(AL$2:$AL775),N775:Q2678,4,0),\"\")","v":""}]
[null,null,null,null,null,null,null,null,null,null,null,null,null,{"$f":"IF(ISNUMBER(SEARCH($H$16,Q776)),MAX($N$1:N775)+1,0)","v":0},{"$f":"IF(ISNUMBER(SEARCH($H$11,Q776)),MAX($O$1:O775)+1,0)","v":0},{"$f":"IF(ISNUMBER(SEARCH($H$6,Q776)),MAX($P$1:P775)+1,0)","v":0},"dsp br short term fund","MDS016","Debt Short Term",null,null,null,null,null,null,null,null,null,null,null,{"$f":"IFERROR(VLOOKUP(ROWS($AE$2:AE776),P776:Q2679,2,0),\"\")","v":""},null,null,null,null,{"$f":"IFERROR(VLOOKUP(ROWS($AJ$2:AJ776),O776:Q2679,3,0),\"\")","v":""},null,{"$f":"IFERROR(VLOOKUP(ROWS(AL$2:$AL776),N776:Q2679,4,0),\"\")","v":""}]
[null,null,null,null,null,null,null,null,null,null,null,null,null,{"$f":"IF(ISNUMBER(SEARCH($H$16,Q777)),MAX($N$1:N776)+1,0)","v":0},{"$f":"IF(ISNUMBER(SEARCH($H$11,Q777)),MAX($O$1:O776)+1,0)","v":0},{"$f":"IF(ISNUMBER(SEARCH($H$6,Q777)),MAX($P$1:P776)+1,0)","v":0},"jpmorgan short term income","MJP034","Debt Short Term",null,null,null,null,null,null,null,null,null,null,null,{"$f":"IFERROR(VLOOKUP(ROWS($AE$2:AE777),P777:Q2680,2,0),\"\")","v":""},null,null,null,null,{"$f":"IFERROR(VLOOKUP(ROWS($AJ$2:AJ777),O777:Q2680,3,0),\"\")","v":""},null,{"$f":"IFERROR(VLOOKUP(ROWS(AL$2:$AL777),N777:Q2680,4,0),\"\")","v":""}]
[null,null,null,null,null,null,null,null,null,null,null,null,null,{"$f":"IF(ISNUMBER(SEARCH($H$16,Q778)),MAX($N$1:N777)+1,0)","v":0},{"$f":"IF(ISNUMBER(SEARCH($H$11,Q778)),MAX($O$1:O777)+1,0)","v":0},{"$f":"IF(ISNUMBER(SEARCH($H$6,Q778)),MAX($P$1:P777)+1,0)","v":0},"dws short maturity rp","MDE005","Debt Short Term",null,null,null,null,null,null,null,null,null,null,null,{"$f":"IFERROR(VLOOKUP(ROWS($AE$2:AE778),P778:Q2681,2,0),\"\")","v":""},null,null,null,null,{"$f":"IFERROR(VLOOKUP(ROWS($AJ$2:AJ778),O778:Q2681,3,0),\"\")","v":""},null,{"$f":"IFERROR(VLOOKUP(ROWS(AL$2:$AL778),N778:Q2681,4,0),\"\")","v":""}]
[null,null,null,null,null,null,null,null,null,null,null,null,null,{"$f":"IF(ISNUMBER(SEARCH($H$16,Q779)),MAX($N$1:N778)+1,0)","v":0},{"$f":"IF(ISNUMBER(SEARCH($H$11,Q779)),MAX($O$1:O778)+1,0)","v":0},{"$f":"IF(ISNUMBER(SEARCH($H$6,Q779)),MAX($P$1:P778)+1,0)","v":0},"idbi debt opportunities fund rp","MIB174","Debt Short Term",null,null,null,null,null,null,null,null,null,null,null,{"$f":"IFERROR(VLOOKUP(ROWS($AE$2:AE779),P779:Q2682,2,0),\"\")","v":""},null,null,null,null,{"$f":"IFERROR(VLOOKUP(ROWS($AJ$2:AJ779),O779:Q2682,3,0),\"\")","v":""},null,{"$f":"IFERROR(VLOOKUP(ROWS(AL$2:$AL779),N779:Q2682,4,0),\"\")","v":""}]
[null,null,null,null,null,null,null,null,null,null,null,null,null,{"$f":"IF(ISNUMBER(SEARCH($H$16,Q780)),MAX($N$1:N779)+1,0)","v":0},{"$f":"IF(ISNUMBER(SEARCH($H$11,Q780)),MAX($O$1:O779)+1,0)","v":0},{"$f":"IF(ISNUMBER(SEARCH($H$6,Q780)),MAX($P$1:P779)+1,0)","v":0},"sbi short horizon debt stf rp","MSB104","Debt Short Term",null,null,null,null,null,null,null,null,null,null,null,{"$f":"IFERROR(VLOOKUP(ROWS($AE$2:AE780),P780:Q2683,2,0),\"\")","v":""},null,null,null,null,{"$f":"IFERROR(VLOOKUP(ROWS($AJ$2:AJ780),O780:Q2683,3,0),\"\")","v":""},null,{"$f":"IFERROR(VLOOKUP(ROWS(AL$2:$AL780),N780:Q2683,4,0),\"\")","v":""}]
[null,null,null,null,null,null,null,null,null,null,null,null,null,{"$f":"IF(ISNUMBER(SEARCH($H$16,Q781)),MAX($N$1:N780)+1,0)","v":0},{"$f":"IF(ISNUMBER(SEARCH($H$11,Q781)),MAX($O$1:O780)+1,0)","v":0},{"$f":"IF(ISNUMBER(SEARCH($H$6,Q781)),MAX($P$1:P780)+1,0)","v":0},"sbi short term debt rp","MSB108","Debt Short Term",null,null,null,null,null,null,null,null,null,null,null,{"$f":"IFERROR(VLOOKUP(ROWS($AE$2:AE781),P781:Q2684,2,0),\"\")","v":""},null,null,null,null,{"$f":"IFERROR(VLOOKUP(ROWS($AJ$2:AJ781),O781:Q2684,3,0),\"\")","v":""},null,{"$f":"IFERROR(VLOOKUP(ROWS(AL$2:$AL781),N781:Q2684,4,0),\"\")","v":""}]
[null,null,null,null,null,null,null,null,null,null,null,null,null,{"$f":"IF(ISNUMBER(SEARCH($H$16,Q782)),MAX($N$1:N781)+1,0)","v":0},{"$f":"IF(ISNUMBER(SEARCH($H$11,Q782)),MAX($O$1:O781)+1,0)","v":0},{"$f":"IF(ISNUMBER(SEARCH($H$6,Q782)),MAX($P$1:P781)+1,0)","v":0},"tata short term bond fund regular","MTA020","Debt Short Term",null,null,null,null,null,null,null,null,null,null,null,{"$f":"IFERROR(VLOOKUP(ROWS($AE$2:AE782),P782:Q2685,2,0),\"\")","v":""},null,null,null,null,{"$f":"IFERROR(VLOOKUP(ROWS($AJ$2:AJ782),O782:Q2685,3,0),\"\")","v":""},null,{"$f":"IFERROR(VLOOKUP(ROWS(AL$2:$AL782),N782:Q2685,4,0),\"\")","v":""}]
[null,null,null,null,null,null,null,null,null,null,null,null,null,{"$f":"IF(ISNUMBER(SEARCH($H$16,Q783)),MAX($N$1:N782)+1,0)","v":0},{"$f":"IF(ISNUMBER(SEARCH($H$11,Q783)),MAX($O$1:O782)+1,0)","v":0},{"$f":"IF(ISNUMBER(SEARCH($H$6,Q783)),MAX($P$1:P782)+1,0)","v":0},"icici pru banking psu debt rp","MPI768","Debt Short Term",null,null,null,null,null,null,null,null,null,null,null,{"$f":"IFERROR(VLOOKUP(ROWS($AE$2:AE783),P783:Q2686,2,0),\"\")","v":""},null,null,null,null,{"$f":"IFERROR(VLOOKUP(ROWS($AJ$2:AJ783),O783:Q2686,3,0),\"\")","v":""},null,{"$f":"IFERROR(VLOOKUP(ROWS(AL$2:$AL783),N783:Q2686,4,0),\"\")","v":""}]
[null,null,null,null,null,null,null,null,null,null,null,null,null,{"$f":"IF(ISNUMBER(SEARCH($H$16,Q784)),MAX($N$1:N783)+1,0)","v":0},{"$f":"IF(ISNUMBER(SEARCH($H$11,Q784)),MAX($O$1:O783)+1,0)","v":0},{"$f":"IF(ISNUMBER(SEARCH($H$6,Q784)),MAX($P$1:P783)+1,0)","v":0},"idfc ssif stp plan c","MAG069","Debt Short Term",null,null,null,null,null,null,null,null,null,null,null,{"$f":"IFERROR(VLOOKUP(ROWS($AE$2:AE784),P784:Q2687,2,0),\"\")","v":""},null,null,null,null,{"$f":"IFERROR(VLOOKUP(ROWS($AJ$2:AJ784),O784:Q2687,3,0),\"\")","v":""},null,{"$f":"IFERROR(VLOOKUP(ROWS(AL$2:$AL784),N784:Q2687,4,0),\"\")","v":""}]
[null,null,null,null,null,null,null,null,null,null,null,null,null,{"$f":"IF(ISNUMBER(SEARCH($H$16,Q785)),MAX($N$1:N784)+1,0)","v":0},{"$f":"IF(ISNUMBER(SEARCH($H$11,Q785)),MAX($O$1:O784)+1,0)","v":0},{"$f":"IF(ISNUMBER(SEARCH($H$6,Q785)),MAX($P$1:P784)+1,0)","v":0},"icici pru banking psu debt","MPI726","Debt Short Term",null,null,null,null,null,null,null,null,null,null,null,{"$f":"IFERROR(VLOOKUP(ROWS($AE$2:AE785),P785:Q2688,2,0),\"\")","v":""},null,null,null,null,{"$f":"IFERROR(VLOOKUP(ROWS($AJ$2:AJ785),O785:Q2688,3,0),\"\")","v":""},null,{"$f":"IFERROR(VLOOKUP(ROWS(AL$2:$AL785),N785:Q2688,4,0),\"\")","v":""}]
[null,null,null,null,null,null,null,null,null,null,null,null,null,{"$f":"IF(ISNUMBER(SEARCH($H$16,Q786)),MAX($N$1:N785)+1,0)","v":0},{"$f":"IF(ISNUMBER(SEARCH($H$11,Q786)),MAX($O$1:O785)+1,0)","v":0},{"$f":"IF(ISNUMBER(SEARCH($H$6,Q786)),MAX($P$1:P785)+1,0)","v":0},"idfc ssif stp inst b","MAG024","Debt Short Term",null,null,null,null,null,null,null,null,null,null,null,{"$f":"IFERROR(VLOOKUP(ROWS($AE$2:AE786),P786:Q2689,2,0),\"\")","v":""},null,null,null,null,{"$f":"IFERROR(VLOOKUP(ROWS($AJ$2:AJ786),O786:Q2689,3,0),\"\")","v":""},null,{"$f":"IFERROR(VLOOKUP(ROWS(AL$2:$AL786),N786:Q2689,4,0),\"\")","v":""}]
[null,null,null,null,null,null,null,null,null,null,null,null,null,{"$f":"IF(ISNUMBER(SEARCH($H$16,Q787)),MAX($N$1:N786)+1,0)","v":0},{"$f":"IF(ISNUMBER(SEARCH($H$11,Q787)),MAX($O$1:O786)+1,0)","v":0},{"$f":"IF(ISNUMBER(SEARCH($H$6,Q787)),MAX($P$1:P786)+1,0)","v":0},"idfc ssif stp regular plan","MAG003","Debt Short Term",null,null,null,null,null,null,null,null,null,null,null,{"$f":"IFERROR(VLOOKUP(ROWS($AE$2:AE787),P787:Q2690,2,0),\"\")","v":""},null,null,null,null,{"$f":"IFERROR(VLOOKUP(ROWS($AJ$2:AJ787),O787:Q2690,3,0),\"\")","v":""},null,{"$f":"IFERROR(VLOOKUP(ROWS(AL$2:$AL787),N787:Q2690,4,0),\"\")","v":""}]
[null,null,null,null,null,null,null,null,null,null,null,null,null,{"$f":"IF(ISNUMBER(SEARCH($H$16,Q788)),MAX($N$1:N787)+1,0)","v":0},{"$f":"IF(ISNUMBER(SEARCH($H$11,Q788)),MAX($O$1:O787)+1,0)","v":0},{"$f":"IF(ISNUMBER(SEARCH($H$6,Q788)),MAX($P$1:P787)+1,0)","v":0},"kotak bond short term plan regular","MKM038","Debt Short Term",null,null,null,null,null,null,null,null,null,null,null,{"$f":"IFERROR(VLOOKUP(ROWS($AE$2:AE788),P788:Q2691,2,0),\"\")","v":""},null,null,null,null,{"$f":"IFERROR(VLOOKUP(ROWS($AJ$2:AJ788),O788:Q2691,3,0),\"\")","v":""},null,{"$f":"IFERROR(VLOOKUP(ROWS(AL$2:$AL788),N788:Q2691,4,0),\"\")","v":""}]
[null,null,null,null,null,null,null,null,null,null,null,null,null,{"$f":"IF(ISNUMBER(SEARCH($H$16,Q789)),MAX($N$1:N788)+1,0)","v":0},{"$f":"IF(ISNUMBER(SEARCH($H$11,Q789)),MAX($O$1:O788)+1,0)","v":0},{"$f":"IF(ISNUMBER(SEARCH($H$6,Q789)),MAX($P$1:P788)+1,0)","v":0},"hdfc high interest stp","MZU026","Debt Short Term",null,null,null,null,null,null,null,null,null,null,null,{"$f":"IFERROR(VLOOKUP(ROWS($AE$2:AE789),P789:Q2692,2,0),\"\")","v":""},null,null,null,null,{"$f":"IFERROR(VLOOKUP(ROWS($AJ$2:AJ789),O789:Q2692,3,0),\"\")","v":""},null,{"$f":"IFERROR(VLOOKUP(ROWS(AL$2:$AL789),N789:Q2692,4,0),\"\")","v":""}]
[null,null,null,null,null,null,null,null,null,null,null,null,null,{"$f":"IF(ISNUMBER(SEARCH($H$16,Q790)),MAX($N$1:N789)+1,0)","v":0},{"$f":"IF(ISNUMBER(SEARCH($H$11,Q790)),MAX($O$1:O789)+1,0)","v":0},{"$f":"IF(ISNUMBER(SEARCH($H$6,Q790)),MAX($P$1:P789)+1,0)","v":0},"sundaram debt stp ap","MSN015","Debt Short Term",null,null,null,null,null,null,null,null,null,null,null,{"$f":"IFERROR(VLOOKUP(ROWS($AE$2:AE790),P790:Q2693,2,0),\"\")","v":""},null,null,null,null,{"$f":"IFERROR(VLOOKUP(ROWS($AJ$2:AJ790),O790:Q2693,3,0),\"\")","v":""},null,{"$f":"IFERROR(VLOOKUP(ROWS(AL$2:$AL790),N790:Q2693,4,0),\"\")","v":""}]
[null,null,null,null,null,null,null,null,null,null,null,null,null,{"$f":"IF(ISNUMBER(SEARCH($H$16,Q791)),MAX($N$1:N790)+1,0)","v":0},{"$f":"IF(ISNUMBER(SEARCH($H$11,Q791)),MAX($O$1:O790)+1,0)","v":0},{"$f":"IF(ISNUMBER(SEARCH($H$6,Q791)),MAX($P$1:P790)+1,0)","v":0},"bnp paribas short term inc","MAB014","Debt Short Term",null,null,null,null,null,null,null,null,null,null,null,{"$f":"IFERROR(VLOOKUP(ROWS($AE$2:AE791),P791:Q2694,2,0),\"\")","v":""},null,null,null,null,{"$f":"IFERROR(VLOOKUP(ROWS($AJ$2:AJ791),O791:Q2694,3,0),\"\")","v":""},null,{"$f":"IFERROR(VLOOKUP(ROWS(AL$2:$AL791),N791:Q2694,4,0),\"\")","v":""}]
[null,null,null,null,null,null,null,null,null,null,null,null,null,{"$f":"IF(ISNUMBER(SEARCH($H$16,Q792)),MAX($N$1:N791)+1,0)","v":0},{"$f":"IF(ISNUMBER(SEARCH($H$11,Q792)),MAX($O$1:O791)+1,0)","v":0},{"$f":"IF(ISNUMBER(SEARCH($H$6,Q792)),MAX($P$1:P791)+1,0)","v":0},"axis short term fund rp","MAA022","Debt Short Term",null,null,null,null,null,null,null,null,null,null,null,{"$f":"IFERROR(VLOOKUP(ROWS($AE$2:AE792),P792:Q2695,2,0),\"\")","v":""},null,null,null,null,{"$f":"IFERROR(VLOOKUP(ROWS($AJ$2:AJ792),O792:Q2695,3,0),\"\")","v":""},null,{"$f":"IFERROR(VLOOKUP(ROWS(AL$2:$AL792),N792:Q2695,4,0),\"\")","v":""}]
[null,null,null,null,null,null,null,null,null,null,null,null,null,{"$f":"IF(ISNUMBER(SEARCH($H$16,Q793)),MAX($N$1:N792)+1,0)","v":0},{"$f":"IF(ISNUMBER(SEARCH($H$11,Q793)),MAX($O$1:O792)+1,0)","v":0},{"$f":"IF(ISNUMBER(SEARCH($H$6,Q793)),MAX($P$1:P792)+1,0)","v":0},"bnp paribas short term inc rp","MAB012","Debt Short Term",null,null,null,null,null,null,null,null,null,null,null,{"$f":"IFERROR(VLOOKUP(ROWS($AE$2:AE793),P793:Q2696,2,0),\"\")","v":""},null,null,null,null,{"$f":"IFERROR(VLOOKUP(ROWS($AJ$2:AJ793),O793:Q2696,3,0),\"\")","v":""},null,{"$f":"IFERROR(VLOOKUP(ROWS(AL$2:$AL793),N793:Q2696,4,0),\"\")","v":""}]
[null,null,null,null,null,null,null,null,null,null,null,null,null,{"$f":"IF(ISNUMBER(SEARCH($H$16,Q794)),MAX($N$1:N793)+1,0)","v":0},{"$f":"IF(ISNUMBER(SEARCH($H$11,Q794)),MAX($O$1:O793)+1,0)","v":0},{"$f":"IF(ISNUMBER(SEARCH($H$6,Q794)),MAX($P$1:P793)+1,0)","v":0},"principal income short term","MID054","Debt Short Term",null,null,null,null,null,null,null,null,null,null,null,{"$f":"IFERROR(VLOOKUP(ROWS($AE$2:AE794),P794:Q2697,2,0),\"\")","v":""},null,null,null,null,{"$f":"IFERROR(VLOOKUP(ROWS($AJ$2:AJ794),O794:Q2697,3,0),\"\")","v":""},null,{"$f":"IFERROR(VLOOKUP(ROWS(AL$2:$AL794),N794:Q2697,4,0),\"\")","v":""}]
[null,null,null,null,null,null,null,null,null,null,null,null,null,{"$f":"IF(ISNUMBER(SEARCH($H$16,Q795)),MAX($N$1:N794)+1,0)","v":0},{"$f":"IF(ISNUMBER(SEARCH($H$11,Q795)),MAX($O$1:O794)+1,0)","v":0},{"$f":"IF(ISNUMBER(SEARCH($H$6,Q795)),MAX($P$1:P794)+1,0)","v":0},"boi axa stif rp","MBA037","Debt Short Term",null,null,null,null,null,null,null,null,null,null,null,{"$f":"IFERROR(VLOOKUP(ROWS($AE$2:AE795),P795:Q2698,2,0),\"\")","v":""},null,null,null,null,{"$f":"IFERROR(VLOOKUP(ROWS($AJ$2:AJ795),O795:Q2698,3,0),\"\")","v":""},null,{"$f":"IFERROR(VLOOKUP(ROWS(AL$2:$AL795),N795:Q2698,4,0),\"\")","v":""}]
[null,null,null,null,null,null,null,null,null,null,null,null,null,{"$f":"IF(ISNUMBER(SEARCH($H$16,Q796)),MAX($N$1:N795)+1,0)","v":0},{"$f":"IF(ISNUMBER(SEARCH($H$11,Q796)),MAX($O$1:O795)+1,0)","v":0},{"$f":"IF(ISNUMBER(SEARCH($H$6,Q796)),MAX($P$1:P795)+1,0)","v":0},"l t short term income","MFF091","Debt Short Term",null,null,null,null,null,null,null,null,null,null,null,{"$f":"IFERROR(VLOOKUP(ROWS($AE$2:AE796),P796:Q2699,2,0),\"\")","v":""},null,null,null,null,{"$f":"IFERROR(VLOOKUP(ROWS($AJ$2:AJ796),O796:Q2699,3,0),\"\")","v":""},null,{"$f":"IFERROR(VLOOKUP(ROWS(AL$2:$AL796),N796:Q2699,4,0),\"\")","v":""}]
[null,null,null,null,null,null,null,null,null,null,null,null,null,{"$f":"IF(ISNUMBER(SEARCH($H$16,Q797)),MAX($N$1:N796)+1,0)","v":0},{"$f":"IF(ISNUMBER(SEARCH($H$11,Q797)),MAX($O$1:O796)+1,0)","v":0},{"$f":"IF(ISNUMBER(SEARCH($H$6,Q797)),MAX($P$1:P796)+1,0)","v":0},"idfc ssif stp plan f","MAG372","Debt Short Term",null,null,null,null,null,null,null,null,null,null,null,{"$f":"IFERROR(VLOOKUP(ROWS($AE$2:AE797),P797:Q2700,2,0),\"\")","v":""},null,null,null,null,{"$f":"IFERROR(VLOOKUP(ROWS($AJ$2:AJ797),O797:Q2700,3,0),\"\")","v":""},null,{"$f":"IFERROR(VLOOKUP(ROWS(AL$2:$AL797),N797:Q2700,4,0),\"\")","v":""}]
[null,null,null,null,null,null,null,null,null,null,null,null,null,{"$f":"IF(ISNUMBER(SEARCH($H$16,Q798)),MAX($N$1:N797)+1,0)","v":0},{"$f":"IF(ISNUMBER(SEARCH($H$11,Q798)),MAX($O$1:O797)+1,0)","v":0},{"$f":"IF(ISNUMBER(SEARCH($H$6,Q798)),MAX($P$1:P797)+1,0)","v":0},"l t short term opport ","MCC206","Debt Short Term",null,null,null,null,null,null,null,null,null,null,null,{"$f":"IFERROR(VLOOKUP(ROWS($AE$2:AE798),P798:Q2701,2,0),\"\")","v":""},null,null,null,null,{"$f":"IFERROR(VLOOKUP(ROWS($AJ$2:AJ798),O798:Q2701,3,0),\"\")","v":""},null,{"$f":"IFERROR(VLOOKUP(ROWS(AL$2:$AL798),N798:Q2701,4,0),\"\")","v":""}]
[null,null,null,null,null,null,null,null,null,null,null,null,null,{"$f":"IF(ISNUMBER(SEARCH($H$16,Q799)),MAX($N$1:N798)+1,0)","v":0},{"$f":"IF(ISNUMBER(SEARCH($H$11,Q799)),MAX($O$1:O798)+1,0)","v":0},{"$f":"IF(ISNUMBER(SEARCH($H$6,Q799)),MAX($P$1:P798)+1,0)","v":0},"axis short term fund reg ","MAA013","Debt Short Term",null,null,null,null,null,null,null,null,null,null,null,{"$f":"IFERROR(VLOOKUP(ROWS($AE$2:AE799),P799:Q2702,2,0),\"\")","v":""},null,null,null,null,{"$f":"IFERROR(VLOOKUP(ROWS($AJ$2:AJ799),O799:Q2702,3,0),\"\")","v":""},null,{"$f":"IFERROR(VLOOKUP(ROWS(AL$2:$AL799),N799:Q2702,4,0),\"\")","v":""}]
[null,null,null,null,null,null,null,null,null,null,null,null,null,{"$f":"IF(ISNUMBER(SEARCH($H$16,Q800)),MAX($N$1:N799)+1,0)","v":0},{"$f":"IF(ISNUMBER(SEARCH($H$11,Q800)),MAX($O$1:O799)+1,0)","v":0},{"$f":"IF(ISNUMBER(SEARCH($H$6,Q800)),MAX($P$1:P799)+1,0)","v":0},"uti short term income rp","MUT048","Debt Short Term",null,null,null,null,null,null,null,null,null,null,null,{"$f":"IFERROR(VLOOKUP(ROWS($AE$2:AE800),P800:Q2703,2,0),\"\")","v":""},null,null,null,null,{"$f":"IFERROR(VLOOKUP(ROWS($AJ$2:AJ800),O800:Q2703,3,0),\"\")","v":""},null,{"$f":"IFERROR(VLOOKUP(ROWS(AL$2:$AL800),N800:Q2703,4,0),\"\")","v":""}]
[null,null,null,null,null,null,null,null,null,null,null,null,null,{"$f":"IF(ISNUMBER(SEARCH($H$16,Q801)),MAX($N$1:N800)+1,0)","v":0},{"$f":"IF(ISNUMBER(SEARCH($H$11,Q801)),MAX($O$1:O800)+1,0)","v":0},{"$f":"IF(ISNUMBER(SEARCH($H$6,Q801)),MAX($P$1:P800)+1,0)","v":0},"edelweiss short term income ip","MEW033","Debt Short Term",null,null,null,null,null,null,null,null,null,null,null,{"$f":"IFERROR(VLOOKUP(ROWS($AE$2:AE801),P801:Q2704,2,0),\"\")","v":""},null,null,null,null,{"$f":"IFERROR(VLOOKUP(ROWS($AJ$2:AJ801),O801:Q2704,3,0),\"\")","v":""},null,{"$f":"IFERROR(VLOOKUP(ROWS(AL$2:$AL801),N801:Q2704,4,0),\"\")","v":""}]
[null,null,null,null,null,null,null,null,null,null,null,null,null,{"$f":"IF(ISNUMBER(SEARCH($H$16,Q802)),MAX($N$1:N801)+1,0)","v":0},{"$f":"IF(ISNUMBER(SEARCH($H$11,Q802)),MAX($O$1:O801)+1,0)","v":0},{"$f":"IF(ISNUMBER(SEARCH($H$6,Q802)),MAX($P$1:P801)+1,0)","v":0},"uti short term income ip","MUT056","Debt Short Term",null,null,null,null,null,null,null,null,null,null,null,{"$f":"IFERROR(VLOOKUP(ROWS($AE$2:AE802),P802:Q2705,2,0),\"\")","v":""},null,null,null,null,{"$f":"IFERROR(VLOOKUP(ROWS($AJ$2:AJ802),O802:Q2705,3,0),\"\")","v":""},null,{"$f":"IFERROR(VLOOKUP(ROWS(AL$2:$AL802),N802:Q2705,4,0),\"\")","v":""}]
[null,null,null,null,null,null,null,null,null,null,null,null,null,{"$f":"IF(ISNUMBER(SEARCH($H$16,Q803)),MAX($N$1:N802)+1,0)","v":0},{"$f":"IF(ISNUMBER(SEARCH($H$11,Q803)),MAX($O$1:O802)+1,0)","v":0},{"$f":"IF(ISNUMBER(SEARCH($H$6,Q803)),MAX($P$1:P802)+1,0)","v":0},"baroda pioneer short term bond","MBO048","Debt Short Term",null,null,null,null,null,null,null,null,null,null,null,{"$f":"IFERROR(VLOOKUP(ROWS($AE$2:AE803),P803:Q2706,2,0),\"\")","v":""},null,null,null,null,{"$f":"IFERROR(VLOOKUP(ROWS($AJ$2:AJ803),O803:Q2706,3,0),\"\")","v":""},null,{"$f":"IFERROR(VLOOKUP(ROWS(AL$2:$AL803),N803:Q2706,4,0),\"\")","v":""}]
[null,null,null,null,null,null,null,null,null,null,null,null,null,{"$f":"IF(ISNUMBER(SEARCH($H$16,Q804)),MAX($N$1:N803)+1,0)","v":0},{"$f":"IF(ISNUMBER(SEARCH($H$11,Q804)),MAX($O$1:O803)+1,0)","v":0},{"$f":"IF(ISNUMBER(SEARCH($H$6,Q804)),MAX($P$1:P803)+1,0)","v":0},"religare invesco mtbf","MLI384","Debt Short Term",null,null,null,null,null,null,null,null,null,null,null,{"$f":"IFERROR(VLOOKUP(ROWS($AE$2:AE804),P804:Q2707,2,0),\"\")","v":""},null,null,null,null,{"$f":"IFERROR(VLOOKUP(ROWS($AJ$2:AJ804),O804:Q2707,3,0),\"\")","v":""},null,{"$f":"IFERROR(VLOOKUP(ROWS(AL$2:$AL804),N804:Q2707,4,0),\"\")","v":""}]
[null,null,null,null,null,null,null,null,null,null,null,null,null,{"$f":"IF(ISNUMBER(SEARCH($H$16,Q805)),MAX($N$1:N804)+1,0)","v":0},{"$f":"IF(ISNUMBER(SEARCH($H$11,Q805)),MAX($O$1:O804)+1,0)","v":0},{"$f":"IF(ISNUMBER(SEARCH($H$6,Q805)),MAX($P$1:P804)+1,0)","v":0},"hsbc income fund stp rp","MHS003","Debt Short Term",null,null,null,null,null,null,null,null,null,null,null,{"$f":"IFERROR(VLOOKUP(ROWS($AE$2:AE805),P805:Q2708,2,0),\"\")","v":""},null,null,null,null,{"$f":"IFERROR(VLOOKUP(ROWS($AJ$2:AJ805),O805:Q2708,3,0),\"\")","v":""},null,{"$f":"IFERROR(VLOOKUP(ROWS(AL$2:$AL805),N805:Q2708,4,0),\"\")","v":""}]
[null,null,null,null,null,null,null,null,null,null,null,null,null,{"$f":"IF(ISNUMBER(SEARCH($H$16,Q806)),MAX($N$1:N805)+1,0)","v":0},{"$f":"IF(ISNUMBER(SEARCH($H$11,Q806)),MAX($O$1:O805)+1,0)","v":0},{"$f":"IF(ISNUMBER(SEARCH($H$6,Q806)),MAX($P$1:P805)+1,0)","v":0},"franklin i bank psu debt","MTE390","Debt Short Term",null,null,null,null,null,null,null,null,null,null,null,{"$f":"IFERROR(VLOOKUP(ROWS($AE$2:AE806),P806:Q2709,2,0),\"\")","v":""},null,null,null,null,{"$f":"IFERROR(VLOOKUP(ROWS($AJ$2:AJ806),O806:Q2709,3,0),\"\")","v":""},null,{"$f":"IFERROR(VLOOKUP(ROWS(AL$2:$AL806),N806:Q2709,4,0),\"\")","v":""}]
[null,null,null,null,null,null,null,null,null,null,null,null,null,{"$f":"IF(ISNUMBER(SEARCH($H$16,Q807)),MAX($N$1:N806)+1,0)","v":0},{"$f":"IF(ISNUMBER(SEARCH($H$11,Q807)),MAX($O$1:O806)+1,0)","v":0},{"$f":"IF(ISNUMBER(SEARCH($H$6,Q807)),MAX($P$1:P806)+1,0)","v":0},"can robeco short term ip","MCA155","Debt Short Term",null,null,null,null,null,null,null,null,null,null,null,{"$f":"IFERROR(VLOOKUP(ROWS($AE$2:AE807),P807:Q2710,2,0),\"\")","v":""},null,null,null,null,{"$f":"IFERROR(VLOOKUP(ROWS($AJ$2:AJ807),O807:Q2710,3,0),\"\")","v":""},null,{"$f":"IFERROR(VLOOKUP(ROWS(AL$2:$AL807),N807:Q2710,4,0),\"\")","v":""}]
[null,null,null,null,null,null,null,null,null,null,null,null,null,{"$f":"IF(ISNUMBER(SEARCH($H$16,Q808)),MAX($N$1:N807)+1,0)","v":0},{"$f":"IF(ISNUMBER(SEARCH($H$11,Q808)),MAX($O$1:O807)+1,0)","v":0},{"$f":"IF(ISNUMBER(SEARCH($H$6,Q808)),MAX($P$1:P807)+1,0)","v":0},"can robeco short term rp","MCA153","Debt Short Term",null,null,null,null,null,null,null,null,null,null,null,{"$f":"IFERROR(VLOOKUP(ROWS($AE$2:AE808),P808:Q2711,2,0),\"\")","v":""},null,null,null,null,{"$f":"IFERROR(VLOOKUP(ROWS($AJ$2:AJ808),O808:Q2711,3,0),\"\")","v":""},null,{"$f":"IFERROR(VLOOKUP(ROWS(AL$2:$AL808),N808:Q2711,4,0),\"\")","v":""}]
[null,null,null,null,null,null,null,null,null,null,null,null,null,{"$f":"IF(ISNUMBER(SEARCH($H$16,Q809)),MAX($N$1:N808)+1,0)","v":0},{"$f":"IF(ISNUMBER(SEARCH($H$11,Q809)),MAX($O$1:O808)+1,0)","v":0},{"$f":"IF(ISNUMBER(SEARCH($H$6,Q809)),MAX($P$1:P808)+1,0)","v":0},"religare invesco stf plan b","MLI028","Debt Short Term",null,null,null,null,null,null,null,null,null,null,null,{"$f":"IFERROR(VLOOKUP(ROWS($AE$2:AE809),P809:Q2712,2,0),\"\")","v":""},null,null,null,null,{"$f":"IFERROR(VLOOKUP(ROWS($AJ$2:AJ809),O809:Q2712,3,0),\"\")","v":""},null,{"$f":"IFERROR(VLOOKUP(ROWS(AL$2:$AL809),N809:Q2712,4,0),\"\")","v":""}]
[null,null,null,null,null,null,null,null,null,null,null,null,null,{"$f":"IF(ISNUMBER(SEARCH($H$16,Q810)),MAX($N$1:N809)+1,0)","v":0},{"$f":"IF(ISNUMBER(SEARCH($H$11,Q810)),MAX($O$1:O809)+1,0)","v":0},{"$f":"IF(ISNUMBER(SEARCH($H$6,Q810)),MAX($P$1:P809)+1,0)","v":0},"indiabulls short term fund reg","MIM060","Debt Short Term",null,null,null,null,null,null,null,null,null,null,null,{"$f":"IFERROR(VLOOKUP(ROWS($AE$2:AE810),P810:Q2713,2,0),\"\")","v":""},null,null,null,null,{"$f":"IFERROR(VLOOKUP(ROWS($AJ$2:AJ810),O810:Q2713,3,0),\"\")","v":""},null,{"$f":"IFERROR(VLOOKUP(ROWS(AL$2:$AL810),N810:Q2713,4,0),\"\")","v":""}]
[null,null,null,null,null,null,null,null,null,null,null,null,null,{"$f":"IF(ISNUMBER(SEARCH($H$16,Q811)),MAX($N$1:N810)+1,0)","v":0},{"$f":"IF(ISNUMBER(SEARCH($H$11,Q811)),MAX($O$1:O810)+1,0)","v":0},{"$f":"IF(ISNUMBER(SEARCH($H$6,Q811)),MAX($P$1:P810)+1,0)","v":0},"religare invesco stf fund","MLI025","Debt Short Term",null,null,null,null,null,null,null,null,null,null,null,{"$f":"IFERROR(VLOOKUP(ROWS($AE$2:AE811),P811:Q2714,2,0),\"\")","v":""},null,null,null,null,{"$f":"IFERROR(VLOOKUP(ROWS($AJ$2:AJ811),O811:Q2714,3,0),\"\")","v":""},null,{"$f":"IFERROR(VLOOKUP(ROWS(AL$2:$AL811),N811:Q2714,4,0),\"\")","v":""}]
[null,null,null,null,null,null,null,null,null,null,null,null,null,{"$f":"IF(ISNUMBER(SEARCH($H$16,Q812)),MAX($N$1:N811)+1,0)","v":0},{"$f":"IF(ISNUMBER(SEARCH($H$11,Q812)),MAX($O$1:O811)+1,0)","v":0},{"$f":"IF(ISNUMBER(SEARCH($H$6,Q812)),MAX($P$1:P811)+1,0)","v":0},"idbi short term bond fund","MIB030","Debt Short Term",null,null,null,null,null,null,null,null,null,null,null,{"$f":"IFERROR(VLOOKUP(ROWS($AE$2:AE812),P812:Q2715,2,0),\"\")","v":""},null,null,null,null,{"$f":"IFERROR(VLOOKUP(ROWS($AJ$2:AJ812),O812:Q2715,3,0),\"\")","v":""},null,{"$f":"IFERROR(VLOOKUP(ROWS(AL$2:$AL812),N812:Q2715,4,0),\"\")","v":""}]
[null,null,null,null,null,null,null,null,null,null,null,null,null,{"$f":"IF(ISNUMBER(SEARCH($H$16,Q813)),MAX($N$1:N812)+1,0)","v":0},{"$f":"IF(ISNUMBER(SEARCH($H$11,Q813)),MAX($O$1:O812)+1,0)","v":0},{"$f":"IF(ISNUMBER(SEARCH($H$6,Q813)),MAX($P$1:P812)+1,0)","v":0},"dws premier bond rp","MDE007","Debt Short Term",null,null,null,null,null,null,null,null,null,null,null,{"$f":"IFERROR(VLOOKUP(ROWS($AE$2:AE813),P813:Q2716,2,0),\"\")","v":""},null,null,null,null,{"$f":"IFERROR(VLOOKUP(ROWS($AJ$2:AJ813),O813:Q2716,3,0),\"\")","v":""},null,{"$f":"IFERROR(VLOOKUP(ROWS(AL$2:$AL813),N813:Q2716,4,0),\"\")","v":""}]
[null,null,null,null,null,null,null,null,null,null,null,null,null,{"$f":"IF(ISNUMBER(SEARCH($H$16,Q814)),MAX($N$1:N813)+1,0)","v":0},{"$f":"IF(ISNUMBER(SEARCH($H$11,Q814)),MAX($O$1:O813)+1,0)","v":0},{"$f":"IF(ISNUMBER(SEARCH($H$6,Q814)),MAX($P$1:P813)+1,0)","v":0},"uti banking psu debt dir","MUT1089","Debt Short Term",null,null,null,null,null,null,null,null,null,null,null,{"$f":"IFERROR(VLOOKUP(ROWS($AE$2:AE814),P814:Q2717,2,0),\"\")","v":""},null,null,null,null,{"$f":"IFERROR(VLOOKUP(ROWS($AJ$2:AJ814),O814:Q2717,3,0),\"\")","v":""},null,{"$f":"IFERROR(VLOOKUP(ROWS(AL$2:$AL814),N814:Q2717,4,0),\"\")","v":""}]
[null,null,null,null,null,null,null,null,null,null,null,null,null,{"$f":"IF(ISNUMBER(SEARCH($H$16,Q815)),MAX($N$1:N814)+1,0)","v":0},{"$f":"IF(ISNUMBER(SEARCH($H$11,Q815)),MAX($O$1:O814)+1,0)","v":0},{"$f":"IF(ISNUMBER(SEARCH($H$6,Q815)),MAX($P$1:P814)+1,0)","v":0},"peerless short term fund","MPM027","Debt Short Term",null,null,null,null,null,null,null,null,null,null,null,{"$f":"IFERROR(VLOOKUP(ROWS($AE$2:AE815),P815:Q2718,2,0),\"\")","v":""},null,null,null,null,{"$f":"IFERROR(VLOOKUP(ROWS($AJ$2:AJ815),O815:Q2718,3,0),\"\")","v":""},null,{"$f":"IFERROR(VLOOKUP(ROWS(AL$2:$AL815),N815:Q2718,4,0),\"\")","v":""}]
[null,null,null,null,null,null,null,null,null,null,null,null,null,{"$f":"IF(ISNUMBER(SEARCH($H$16,Q816)),MAX($N$1:N815)+1,0)","v":0},{"$f":"IF(ISNUMBER(SEARCH($H$11,Q816)),MAX($O$1:O815)+1,0)","v":0},{"$f":"IF(ISNUMBER(SEARCH($H$6,Q816)),MAX($P$1:P815)+1,0)","v":0},"peerless short term fund","MPM096","Debt Short Term",null,null,null,null,null,null,null,null,null,null,null,{"$f":"IFERROR(VLOOKUP(ROWS($AE$2:AE816),P816:Q2719,2,0),\"\")","v":""},null,null,null,null,{"$f":"IFERROR(VLOOKUP(ROWS($AJ$2:AJ816),O816:Q2719,3,0),\"\")","v":""},null,{"$f":"IFERROR(VLOOKUP(ROWS(AL$2:$AL816),N816:Q2719,4,0),\"\")","v":""}]
[null,null,null,null,null,null,null,null,null,null,null,null,null,{"$f":"IF(ISNUMBER(SEARCH($H$16,Q817)),MAX($N$1:N816)+1,0)","v":0},{"$f":"IF(ISNUMBER(SEARCH($H$11,Q817)),MAX($O$1:O816)+1,0)","v":0},{"$f":"IF(ISNUMBER(SEARCH($H$6,Q817)),MAX($P$1:P816)+1,0)","v":0},"religare invesco bank debt dir","MLI582","Debt Short Term",null,null,null,null,null,null,null,null,null,null,null,{"$f":"IFERROR(VLOOKUP(ROWS($AE$2:AE817),P817:Q2720,2,0),\"\")","v":""},null,null,null,null,{"$f":"IFERROR(VLOOKUP(ROWS($AJ$2:AJ817),O817:Q2720,3,0),\"\")","v":""},null,{"$f":"IFERROR(VLOOKUP(ROWS(AL$2:$AL817),N817:Q2720,4,0),\"\")","v":""}]
[null,null,null,null,null,null,null,null,null,null,null,null,null,{"$f":"IF(ISNUMBER(SEARCH($H$16,Q818)),MAX($N$1:N817)+1,0)","v":0},{"$f":"IF(ISNUMBER(SEARCH($H$11,Q818)),MAX($O$1:O817)+1,0)","v":0},{"$f":"IF(ISNUMBER(SEARCH($H$6,Q818)),MAX($P$1:P817)+1,0)","v":0},"uti banking psu debt reg","MUT1087","Debt Short Term",null,null,null,null,null,null,null,null,null,null,null,{"$f":"IFERROR(VLOOKUP(ROWS($AE$2:AE818),P818:Q2721,2,0),\"\")","v":""},null,null,null,null,{"$f":"IFERROR(VLOOKUP(ROWS($AJ$2:AJ818),O818:Q2721,3,0),\"\")","v":""},null,{"$f":"IFERROR(VLOOKUP(ROWS(AL$2:$AL818),N818:Q2721,4,0),\"\")","v":""}]
[null,null,null,null,null,null,null,null,null,null,null,null,null,{"$f":"IF(ISNUMBER(SEARCH($H$16,Q819)),MAX($N$1:N818)+1,0)","v":0},{"$f":"IF(ISNUMBER(SEARCH($H$11,Q819)),MAX($O$1:O818)+1,0)","v":0},{"$f":"IF(ISNUMBER(SEARCH($H$6,Q819)),MAX($P$1:P818)+1,0)","v":0},"jm short term plan","MJM026","Debt Short Term",null,null,null,null,null,null,null,null,null,null,null,{"$f":"IFERROR(VLOOKUP(ROWS($AE$2:AE819),P819:Q2722,2,0),\"\")","v":""},null,null,null,null,{"$f":"IFERROR(VLOOKUP(ROWS($AJ$2:AJ819),O819:Q2722,3,0),\"\")","v":""},null,{"$f":"IFERROR(VLOOKUP(ROWS(AL$2:$AL819),N819:Q2722,4,0),\"\")","v":""}]
[null,null,null,null,null,null,null,null,null,null,null,null,null,{"$f":"IF(ISNUMBER(SEARCH($H$16,Q820)),MAX($N$1:N819)+1,0)","v":0},{"$f":"IF(ISNUMBER(SEARCH($H$11,Q820)),MAX($O$1:O819)+1,0)","v":0},{"$f":"IF(ISNUMBER(SEARCH($H$6,Q820)),MAX($P$1:P819)+1,0)","v":0},"dws short maturity ip","MDE246","Debt Short Term",null,null,null,null,null,null,null,null,null,null,null,{"$f":"IFERROR(VLOOKUP(ROWS($AE$2:AE820),P820:Q2723,2,0),\"\")","v":""},null,null,null,null,{"$f":"IFERROR(VLOOKUP(ROWS($AJ$2:AJ820),O820:Q2723,3,0),\"\")","v":""},null,{"$f":"IFERROR(VLOOKUP(ROWS(AL$2:$AL820),N820:Q2723,4,0),\"\")","v":""}]
[null,null,null,null,null,null,null,null,null,null,null,null,null,{"$f":"IF(ISNUMBER(SEARCH($H$16,Q821)),MAX($N$1:N820)+1,0)","v":0},{"$f":"IF(ISNUMBER(SEARCH($H$11,Q821)),MAX($O$1:O820)+1,0)","v":0},{"$f":"IF(ISNUMBER(SEARCH($H$6,Q821)),MAX($P$1:P820)+1,0)","v":0},"principal debt savings fund rp","MID059","Debt Short Term",null,null,null,null,null,null,null,null,null,null,null,{"$f":"IFERROR(VLOOKUP(ROWS($AE$2:AE821),P821:Q2724,2,0),\"\")","v":""},null,null,null,null,{"$f":"IFERROR(VLOOKUP(ROWS($AJ$2:AJ821),O821:Q2724,3,0),\"\")","v":""},null,{"$f":"IFERROR(VLOOKUP(ROWS(AL$2:$AL821),N821:Q2724,4,0),\"\")","v":""}]
[null,null,null,null,null,null,null,null,null,null,null,null,null,{"$f":"IF(ISNUMBER(SEARCH($H$16,Q822)),MAX($N$1:N821)+1,0)","v":0},{"$f":"IF(ISNUMBER(SEARCH($H$11,Q822)),MAX($O$1:O821)+1,0)","v":0},{"$f":"IF(ISNUMBER(SEARCH($H$6,Q822)),MAX($P$1:P821)+1,0)","v":0},"dws short maturity rp","MDE332","Debt Short Term",null,null,null,null,null,null,null,null,null,null,null,{"$f":"IFERROR(VLOOKUP(ROWS($AE$2:AE822),P822:Q2725,2,0),\"\")","v":""},null,null,null,null,{"$f":"IFERROR(VLOOKUP(ROWS($AJ$2:AJ822),O822:Q2725,3,0),\"\")","v":""},null,{"$f":"IFERROR(VLOOKUP(ROWS(AL$2:$AL822),N822:Q2725,4,0),\"\")","v":""}]
[null,null,null,null,null,null,null,null,null,null,null,null,null,{"$f":"IF(ISNUMBER(SEARCH($H$16,Q823)),MAX($N$1:N822)+1,0)","v":0},{"$f":"IF(ISNUMBER(SEARCH($H$11,Q823)),MAX($O$1:O822)+1,0)","v":0},{"$f":"IF(ISNUMBER(SEARCH($H$6,Q823)),MAX($P$1:P822)+1,0)","v":0},"mirae short term bond rp","MMA074","Debt Short Term",null,null,null,null,null,null,null,null,null,null,null,{"$f":"IFERROR(VLOOKUP(ROWS($AE$2:AE823),P823:Q2726,2,0),\"\")","v":""},null,null,null,null,{"$f":"IFERROR(VLOOKUP(ROWS($AJ$2:AJ823),O823:Q2726,3,0),\"\")","v":""},null,{"$f":"IFERROR(VLOOKUP(ROWS(AL$2:$AL823),N823:Q2726,4,0),\"\")","v":""}]
[null,null,null,null,null,null,null,null,null,null,null,null,null,{"$f":"IF(ISNUMBER(SEARCH($H$16,Q824)),MAX($N$1:N823)+1,0)","v":0},{"$f":"IF(ISNUMBER(SEARCH($H$11,Q824)),MAX($O$1:O823)+1,0)","v":0},{"$f":"IF(ISNUMBER(SEARCH($H$6,Q824)),MAX($P$1:P823)+1,0)","v":0},"jm short term plan reg","MJM020","Debt Short Term",null,null,null,null,null,null,null,null,null,null,null,{"$f":"IFERROR(VLOOKUP(ROWS($AE$2:AE824),P824:Q2727,2,0),\"\")","v":""},null,null,null,null,{"$f":"IFERROR(VLOOKUP(ROWS($AJ$2:AJ824),O824:Q2727,3,0),\"\")","v":""},null,{"$f":"IFERROR(VLOOKUP(ROWS(AL$2:$AL824),N824:Q2727,4,0),\"\")","v":""}]
[null,null,null,null,null,null,null,null,null,null,null,null,null,{"$f":"IF(ISNUMBER(SEARCH($H$16,Q825)),MAX($N$1:N824)+1,0)","v":0},{"$f":"IF(ISNUMBER(SEARCH($H$11,Q825)),MAX($O$1:O824)+1,0)","v":0},{"$f":"IF(ISNUMBER(SEARCH($H$6,Q825)),MAX($P$1:P824)+1,0)","v":0},"kotak flexi debt plan a regular","MKM255","Debt Short Term",null,null,null,null,null,null,null,null,null,null,null,{"$f":"IFERROR(VLOOKUP(ROWS($AE$2:AE825),P825:Q2728,2,0),\"\")","v":""},null,null,null,null,{"$f":"IFERROR(VLOOKUP(ROWS($AJ$2:AJ825),O825:Q2728,3,0),\"\")","v":""},null,{"$f":"IFERROR(VLOOKUP(ROWS(AL$2:$AL825),N825:Q2728,4,0),\"\")","v":""}]
[null,null,null,null,null,null,null,null,null,null,null,null,null,{"$f":"IF(ISNUMBER(SEARCH($H$16,Q826)),MAX($N$1:N825)+1,0)","v":0},{"$f":"IF(ISNUMBER(SEARCH($H$11,Q826)),MAX($O$1:O825)+1,0)","v":0},{"$f":"IF(ISNUMBER(SEARCH($H$6,Q826)),MAX($P$1:P825)+1,0)","v":0},"pramerica short term income","MPA015","Debt Short Term",null,null,null,null,null,null,null,null,null,null,null,{"$f":"IFERROR(VLOOKUP(ROWS($AE$2:AE826),P826:Q2729,2,0),\"\")","v":""},null,null,null,null,{"$f":"IFERROR(VLOOKUP(ROWS($AJ$2:AJ826),O826:Q2729,3,0),\"\")","v":""},null,{"$f":"IFERROR(VLOOKUP(ROWS(AL$2:$AL826),N826:Q2729,4,0),\"\")","v":""}]
[null,null,null,null,null,null,null,null,null,null,null,null,null,{"$f":"IF(ISNUMBER(SEARCH($H$16,Q827)),MAX($N$1:N826)+1,0)","v":0},{"$f":"IF(ISNUMBER(SEARCH($H$11,Q827)),MAX($O$1:O826)+1,0)","v":0},{"$f":"IF(ISNUMBER(SEARCH($H$6,Q827)),MAX($P$1:P826)+1,0)","v":0},"dws premier bond ip","MDE242","Debt Short Term",null,null,null,null,null,null,null,null,null,null,null,{"$f":"IFERROR(VLOOKUP(ROWS($AE$2:AE827),P827:Q2730,2,0),\"\")","v":""},null,null,null,null,{"$f":"IFERROR(VLOOKUP(ROWS($AJ$2:AJ827),O827:Q2730,3,0),\"\")","v":""},null,{"$f":"IFERROR(VLOOKUP(ROWS(AL$2:$AL827),N827:Q2730,4,0),\"\")","v":""}]
[null,null,null,null,null,null,null,null,null,null,null,null,null,{"$f":"IF(ISNUMBER(SEARCH($H$16,Q828)),MAX($N$1:N827)+1,0)","v":0},{"$f":"IF(ISNUMBER(SEARCH($H$11,Q828)),MAX($O$1:O827)+1,0)","v":0},{"$f":"IF(ISNUMBER(SEARCH($H$6,Q828)),MAX($P$1:P827)+1,0)","v":0},"kotak flexi debt regular plan","MKM071","Debt Short Term",null,null,null,null,null,null,null,null,null,null,null,{"$f":"IFERROR(VLOOKUP(ROWS($AE$2:AE828),P828:Q2731,2,0),\"\")","v":""},null,null,null,null,{"$f":"IFERROR(VLOOKUP(ROWS($AJ$2:AJ828),O828:Q2731,3,0),\"\")","v":""},null,{"$f":"IFERROR(VLOOKUP(ROWS(AL$2:$AL828),N828:Q2731,4,0),\"\")","v":""}]
[null,null,null,null,null,null,null,null,null,null,null,null,null,{"$f":"IF(ISNUMBER(SEARCH($H$16,Q829)),MAX($N$1:N828)+1,0)","v":0},{"$f":"IF(ISNUMBER(SEARCH($H$11,Q829)),MAX($O$1:O828)+1,0)","v":0},{"$f":"IF(ISNUMBER(SEARCH($H$6,Q829)),MAX($P$1:P828)+1,0)","v":0},"religare invesco bank debt","MLI539","Debt Short Term",null,null,null,null,null,null,null,null,null,null,null,{"$f":"IFERROR(VLOOKUP(ROWS($AE$2:AE829),P829:Q2732,2,0),\"\")","v":""},null,null,null,null,{"$f":"IFERROR(VLOOKUP(ROWS($AJ$2:AJ829),O829:Q2732,3,0),\"\")","v":""},null,{"$f":"IFERROR(VLOOKUP(ROWS(AL$2:$AL829),N829:Q2732,4,0),\"\")","v":""}]
[null,null,null,null,null,null,null,null,null,null,null,null,null,{"$f":"IF(ISNUMBER(SEARCH($H$16,Q830)),MAX($N$1:N829)+1,0)","v":0},{"$f":"IF(ISNUMBER(SEARCH($H$11,Q830)),MAX($O$1:O829)+1,0)","v":0},{"$f":"IF(ISNUMBER(SEARCH($H$6,Q830)),MAX($P$1:P829)+1,0)","v":0},"sahara short term bond","MFI057","Debt Short Term",null,null,null,null,null,null,null,null,null,null,null,{"$f":"IFERROR(VLOOKUP(ROWS($AE$2:AE830),P830:Q2733,2,0),\"\")","v":""},null,null,null,null,{"$f":"IFERROR(VLOOKUP(ROWS($AJ$2:AJ830),O830:Q2733,3,0),\"\")","v":""},null,{"$f":"IFERROR(VLOOKUP(ROWS(AL$2:$AL830),N830:Q2733,4,0),\"\")","v":""}]
[null,null,null,null,null,null,null,null,null,null,null,null,null,{"$f":"IF(ISNUMBER(SEARCH($H$16,Q831)),MAX($N$1:N830)+1,0)","v":0},{"$f":"IF(ISNUMBER(SEARCH($H$11,Q831)),MAX($O$1:O830)+1,0)","v":0},{"$f":"IF(ISNUMBER(SEARCH($H$6,Q831)),MAX($P$1:P830)+1,0)","v":0},"gs short term fund","MBM027","Debt Short Term",null,null,null,null,null,null,null,null,null,null,null,{"$f":"IFERROR(VLOOKUP(ROWS($AE$2:AE831),P831:Q2734,2,0),\"\")","v":""},null,null,null,null,{"$f":"IFERROR(VLOOKUP(ROWS($AJ$2:AJ831),O831:Q2734,3,0),\"\")","v":""},null,{"$f":"IFERROR(VLOOKUP(ROWS(AL$2:$AL831),N831:Q2734,4,0),\"\")","v":""}]
[null,null,null,null,null,null,null,null,null,null,null,null,null,{"$f":"IF(ISNUMBER(SEARCH($H$16,Q832)),MAX($N$1:N831)+1,0)","v":0},{"$f":"IF(ISNUMBER(SEARCH($H$11,Q832)),MAX($O$1:O831)+1,0)","v":0},{"$f":"IF(ISNUMBER(SEARCH($H$6,Q832)),MAX($P$1:P831)+1,0)","v":0},"dws corporate debt opp reg","MDE1292","Debt Short Term",null,null,null,null,null,null,null,null,null,null,null,{"$f":"IFERROR(VLOOKUP(ROWS($AE$2:AE832),P832:Q2735,2,0),\"\")","v":""},null,null,null,null,{"$f":"IFERROR(VLOOKUP(ROWS($AJ$2:AJ832),O832:Q2735,3,0),\"\")","v":""},null,{"$f":"IFERROR(VLOOKUP(ROWS(AL$2:$AL832),N832:Q2735,4,0),\"\")","v":""}]
[null,null,null,null,null,null,null,null,null,null,null,null,null,{"$f":"IF(ISNUMBER(SEARCH($H$16,Q833)),MAX($N$1:N832)+1,0)","v":0},{"$f":"IF(ISNUMBER(SEARCH($H$11,Q833)),MAX($O$1:O832)+1,0)","v":0},{"$f":"IF(ISNUMBER(SEARCH($H$6,Q833)),MAX($P$1:P832)+1,0)","v":0},"dws corporate debt opp dir","MDE1298","Debt Short Term",null,null,null,null,null,null,null,null,null,null,null,{"$f":"IFERROR(VLOOKUP(ROWS($AE$2:AE833),P833:Q2736,2,0),\"\")","v":""},null,null,null,null,{"$f":"IFERROR(VLOOKUP(ROWS($AJ$2:AJ833),O833:Q2736,3,0),\"\")","v":""},null,{"$f":"IFERROR(VLOOKUP(ROWS(AL$2:$AL833),N833:Q2736,4,0),\"\")","v":""}]
[null,null,null,null,null,null,null,null,null,null,null,null,null,{"$f":"IF(ISNUMBER(SEARCH($H$16,Q834)),MAX($N$1:N833)+1,0)","v":0},{"$f":"IF(ISNUMBER(SEARCH($H$11,Q834)),MAX($O$1:O833)+1,0)","v":0},{"$f":"IF(ISNUMBER(SEARCH($H$6,Q834)),MAX($P$1:P833)+1,0)","v":0},"jpmorgan corporate debt opp rp","MJP288","Debt Short Term",null,null,null,null,null,null,null,null,null,null,null,{"$f":"IFERROR(VLOOKUP(ROWS($AE$2:AE834),P834:Q2737,2,0),\"\")","v":""},null,null,null,null,{"$f":"IFERROR(VLOOKUP(ROWS($AJ$2:AJ834),O834:Q2737,3,0),\"\")","v":""},null,{"$f":"IFERROR(VLOOKUP(ROWS(AL$2:$AL834),N834:Q2737,4,0),\"\")","v":""}]
[null,null,null,null,null,null,null,null,null,null,null,null,null,{"$f":"IF(ISNUMBER(SEARCH($H$16,Q835)),MAX($N$1:N834)+1,0)","v":0},{"$f":"IF(ISNUMBER(SEARCH($H$11,Q835)),MAX($O$1:O834)+1,0)","v":0},{"$f":"IF(ISNUMBER(SEARCH($H$6,Q835)),MAX($P$1:P834)+1,0)","v":0},"bnp paribas short term inc ipp","MAB029","Debt Short Term",null,null,null,null,null,null,null,null,null,null,null,{"$f":"IFERROR(VLOOKUP(ROWS($AE$2:AE835),P835:Q2738,2,0),\"\")","v":""},null,null,null,null,{"$f":"IFERROR(VLOOKUP(ROWS($AJ$2:AJ835),O835:Q2738,3,0),\"\")","v":""},null,{"$f":"IFERROR(VLOOKUP(ROWS(AL$2:$AL835),N835:Q2738,4,0),\"\")","v":""}]
[null,null,null,null,null,null,null,null,null,null,null,null,null,{"$f":"IF(ISNUMBER(SEARCH($H$16,Q836)),MAX($N$1:N835)+1,0)","v":0},{"$f":"IF(ISNUMBER(SEARCH($H$11,Q836)),MAX($O$1:O835)+1,0)","v":0},{"$f":"IF(ISNUMBER(SEARCH($H$6,Q836)),MAX($P$1:P835)+1,0)","v":0},"jpmorgan bank psu debt reg b ","MJP199","Debt Short Term",null,null,null,null,null,null,null,null,null,null,null,{"$f":"IFERROR(VLOOKUP(ROWS($AE$2:AE836),P836:Q2739,2,0),\"\")","v":""},null,null,null,null,{"$f":"IFERROR(VLOOKUP(ROWS($AJ$2:AJ836),O836:Q2739,3,0),\"\")","v":""},null,{"$f":"IFERROR(VLOOKUP(ROWS(AL$2:$AL836),N836:Q2739,4,0),\"\")","v":""}]
[null,null,null,null,null,null,null,null,null,null,null,null,null,{"$f":"IF(ISNUMBER(SEARCH($H$16,Q837)),MAX($N$1:N836)+1,0)","v":0},{"$f":"IF(ISNUMBER(SEARCH($H$11,Q837)),MAX($O$1:O836)+1,0)","v":0},{"$f":"IF(ISNUMBER(SEARCH($H$6,Q837)),MAX($P$1:P836)+1,0)","v":0},"hdfc corporate debt opp dir","MHD1999","Credit Oppur.",null,null,null,null,null,null,null,null,null,null,null,{"$f":"IFERROR(VLOOKUP(ROWS($AE$2:AE837),P837:Q2740,2,0),\"\")","v":""},null,null,null,null,{"$f":"IFERROR(VLOOKUP(ROWS($AJ$2:AJ837),O837:Q2740,3,0),\"\")","v":""},null,{"$f":"IFERROR(VLOOKUP(ROWS(AL$2:$AL837),N837:Q2740,4,0),\"\")","v":""}]
[null,null,null,null,null,null,null,null,null,null,null,null,null,{"$f":"IF(ISNUMBER(SEARCH($H$16,Q838)),MAX($N$1:N837)+1,0)","v":0},{"$f":"IF(ISNUMBER(SEARCH($H$11,Q838)),MAX($O$1:O837)+1,0)","v":0},{"$f":"IF(ISNUMBER(SEARCH($H$6,Q838)),MAX($P$1:P837)+1,0)","v":0},"franklin india iba","MKP009","Credit Oppur.",null,null,null,null,null,null,null,null,null,null,null,{"$f":"IFERROR(VLOOKUP(ROWS($AE$2:AE838),P838:Q2741,2,0),\"\")","v":""},null,null,null,null,{"$f":"IFERROR(VLOOKUP(ROWS($AJ$2:AJ838),O838:Q2741,3,0),\"\")","v":""},null,{"$f":"IFERROR(VLOOKUP(ROWS(AL$2:$AL838),N838:Q2741,4,0),\"\")","v":""}]
[null,null,null,null,null,null,null,null,null,null,null,null,null,{"$f":"IF(ISNUMBER(SEARCH($H$16,Q839)),MAX($N$1:N838)+1,0)","v":0},{"$f":"IF(ISNUMBER(SEARCH($H$11,Q839)),MAX($O$1:O838)+1,0)","v":0},{"$f":"IF(ISNUMBER(SEARCH($H$6,Q839)),MAX($P$1:P838)+1,0)","v":0},"reliance corporate bond fund","MRC1590","Credit Oppur.",null,null,null,null,null,null,null,null,null,null,null,{"$f":"IFERROR(VLOOKUP(ROWS($AE$2:AE839),P839:Q2742,2,0),\"\")","v":""},null,null,null,null,{"$f":"IFERROR(VLOOKUP(ROWS($AJ$2:AJ839),O839:Q2742,3,0),\"\")","v":""},null,{"$f":"IFERROR(VLOOKUP(ROWS(AL$2:$AL839),N839:Q2742,4,0),\"\")","v":""}]
[null,null,null,null,null,null,null,null,null,null,null,null,null,{"$f":"IF(ISNUMBER(SEARCH($H$16,Q840)),MAX($N$1:N839)+1,0)","v":0},{"$f":"IF(ISNUMBER(SEARCH($H$11,Q840)),MAX($O$1:O839)+1,0)","v":0},{"$f":"IF(ISNUMBER(SEARCH($H$6,Q840)),MAX($P$1:P839)+1,0)","v":0},"icici pru corporate bond c","MPI102","Credit Oppur.",null,null,null,null,null,null,null,null,null,null,null,{"$f":"IFERROR(VLOOKUP(ROWS($AE$2:AE840),P840:Q2743,2,0),\"\")","v":""},null,null,null,null,{"$f":"IFERROR(VLOOKUP(ROWS($AJ$2:AJ840),O840:Q2743,3,0),\"\")","v":""},null,{"$f":"IFERROR(VLOOKUP(ROWS(AL$2:$AL840),N840:Q2743,4,0),\"\")","v":""}]
[null,null,null,null,null,null,null,null,null,null,null,null,null,{"$f":"IF(ISNUMBER(SEARCH($H$16,Q841)),MAX($N$1:N840)+1,0)","v":0},{"$f":"IF(ISNUMBER(SEARCH($H$11,Q841)),MAX($O$1:O840)+1,0)","v":0},{"$f":"IF(ISNUMBER(SEARCH($H$6,Q841)),MAX($P$1:P840)+1,0)","v":0},"dsp br income oppor fund ip","MDS043","Credit Oppur.",null,null,null,null,null,null,null,null,null,null,null,{"$f":"IFERROR(VLOOKUP(ROWS($AE$2:AE841),P841:Q2744,2,0),\"\")","v":""},null,null,null,null,{"$f":"IFERROR(VLOOKUP(ROWS($AJ$2:AJ841),O841:Q2744,3,0),\"\")","v":""},null,{"$f":"IFERROR(VLOOKUP(ROWS(AL$2:$AL841),N841:Q2744,4,0),\"\")","v":""}]
[null,null,null,null,null,null,null,null,null,null,null,null,null,{"$f":"IF(ISNUMBER(SEARCH($H$16,Q842)),MAX($N$1:N841)+1,0)","v":0},{"$f":"IF(ISNUMBER(SEARCH($H$11,Q842)),MAX($O$1:O841)+1,0)","v":0},{"$f":"IF(ISNUMBER(SEARCH($H$6,Q842)),MAX($P$1:P841)+1,0)","v":0},"hdfc corporate debt opp reg","MHD1997","Credit Oppur.",null,null,null,null,null,null,null,null,null,null,null,{"$f":"IFERROR(VLOOKUP(ROWS($AE$2:AE842),P842:Q2745,2,0),\"\")","v":""},null,null,null,null,{"$f":"IFERROR(VLOOKUP(ROWS($AJ$2:AJ842),O842:Q2745,3,0),\"\")","v":""},null,{"$f":"IFERROR(VLOOKUP(ROWS(AL$2:$AL842),N842:Q2745,4,0),\"\")","v":""}]
[null,null,null,null,null,null,null,null,null,null,null,null,null,{"$f":"IF(ISNUMBER(SEARCH($H$16,Q843)),MAX($N$1:N842)+1,0)","v":0},{"$f":"IF(ISNUMBER(SEARCH($H$11,Q843)),MAX($O$1:O842)+1,0)","v":0},{"$f":"IF(ISNUMBER(SEARCH($H$6,Q843)),MAX($P$1:P842)+1,0)","v":0},"franklin i st income retail","MKP047","Credit Oppur.",null,null,null,null,null,null,null,null,null,null,null,{"$f":"IFERROR(VLOOKUP(ROWS($AE$2:AE843),P843:Q2746,2,0),\"\")","v":""},null,null,null,null,{"$f":"IFERROR(VLOOKUP(ROWS($AJ$2:AJ843),O843:Q2746,3,0),\"\")","v":""},null,{"$f":"IFERROR(VLOOKUP(ROWS(AL$2:$AL843),N843:Q2746,4,0),\"\")","v":""}]
[null,null,null,null,null,null,null,null,null,null,null,null,null,{"$f":"IF(ISNUMBER(SEARCH($H$16,Q844)),MAX($N$1:N843)+1,0)","v":0},{"$f":"IF(ISNUMBER(SEARCH($H$11,Q844)),MAX($O$1:O843)+1,0)","v":0},{"$f":"IF(ISNUMBER(SEARCH($H$6,Q844)),MAX($P$1:P843)+1,0)","v":0},"franklin india income oppor ","MTE272","Credit Oppur.",null,null,null,null,null,null,null,null,null,null,null,{"$f":"IFERROR(VLOOKUP(ROWS($AE$2:AE844),P844:Q2747,2,0),\"\")","v":""},null,null,null,null,{"$f":"IFERROR(VLOOKUP(ROWS($AJ$2:AJ844),O844:Q2747,3,0),\"\")","v":""},null,{"$f":"IFERROR(VLOOKUP(ROWS(AL$2:$AL844),N844:Q2747,4,0),\"\")","v":""}]
[null,null,null,null,null,null,null,null,null,null,null,null,null,{"$f":"IF(ISNUMBER(SEARCH($H$16,Q845)),MAX($N$1:N844)+1,0)","v":0},{"$f":"IF(ISNUMBER(SEARCH($H$11,Q845)),MAX($O$1:O844)+1,0)","v":0},{"$f":"IF(ISNUMBER(SEARCH($H$6,Q845)),MAX($P$1:P844)+1,0)","v":0},"icici pru corporate bond","MPI098","Credit Oppur.",null,null,null,null,null,null,null,null,null,null,null,{"$f":"IFERROR(VLOOKUP(ROWS($AE$2:AE845),P845:Q2748,2,0),\"\")","v":""},null,null,null,null,{"$f":"IFERROR(VLOOKUP(ROWS($AJ$2:AJ845),O845:Q2748,3,0),\"\")","v":""},null,{"$f":"IFERROR(VLOOKUP(ROWS(AL$2:$AL845),N845:Q2748,4,0),\"\")","v":""}]
[null,null,null,null,null,null,null,null,null,null,null,null,null,{"$f":"IF(ISNUMBER(SEARCH($H$16,Q846)),MAX($N$1:N845)+1,0)","v":0},{"$f":"IF(ISNUMBER(SEARCH($H$11,Q846)),MAX($O$1:O845)+1,0)","v":0},{"$f":"IF(ISNUMBER(SEARCH($H$6,Q846)),MAX($P$1:P845)+1,0)","v":0},"pramerica credit opp fund","MPA031","Credit Oppur.",null,null,null,null,null,null,null,null,null,null,null,{"$f":"IFERROR(VLOOKUP(ROWS($AE$2:AE846),P846:Q2749,2,0),\"\")","v":""},null,null,null,null,{"$f":"IFERROR(VLOOKUP(ROWS($AJ$2:AJ846),O846:Q2749,3,0),\"\")","v":""},null,{"$f":"IFERROR(VLOOKUP(ROWS(AL$2:$AL846),N846:Q2749,4,0),\"\")","v":""}]
[null,null,null,null,null,null,null,null,null,null,null,null,null,{"$f":"IF(ISNUMBER(SEARCH($H$16,Q847)),MAX($N$1:N846)+1,0)","v":0},{"$f":"IF(ISNUMBER(SEARCH($H$11,Q847)),MAX($O$1:O846)+1,0)","v":0},{"$f":"IF(ISNUMBER(SEARCH($H$6,Q847)),MAX($P$1:P846)+1,0)","v":0},"birla sl medium term ip","MBS454","Credit Oppur.",null,null,null,null,null,null,null,null,null,null,null,{"$f":"IFERROR(VLOOKUP(ROWS($AE$2:AE847),P847:Q2750,2,0),\"\")","v":""},null,null,null,null,{"$f":"IFERROR(VLOOKUP(ROWS($AJ$2:AJ847),O847:Q2750,3,0),\"\")","v":""},null,{"$f":"IFERROR(VLOOKUP(ROWS(AL$2:$AL847),N847:Q2750,4,0),\"\")","v":""}]
[null,null,null,null,null,null,null,null,null,null,null,null,null,{"$f":"IF(ISNUMBER(SEARCH($H$16,Q848)),MAX($N$1:N847)+1,0)","v":0},{"$f":"IF(ISNUMBER(SEARCH($H$11,Q848)),MAX($O$1:O847)+1,0)","v":0},{"$f":"IF(ISNUMBER(SEARCH($H$6,Q848)),MAX($P$1:P847)+1,0)","v":0},"birla sl medium term rp","MBS448","Credit Oppur.",null,null,null,null,null,null,null,null,null,null,null,{"$f":"IFERROR(VLOOKUP(ROWS($AE$2:AE848),P848:Q2751,2,0),\"\")","v":""},null,null,null,null,{"$f":"IFERROR(VLOOKUP(ROWS($AJ$2:AJ848),O848:Q2751,3,0),\"\")","v":""},null,{"$f":"IFERROR(VLOOKUP(ROWS(AL$2:$AL848),N848:Q2751,4,0),\"\")","v":""}]
[null,null,null,null,null,null,null,null,null,null,null,null,null,{"$f":"IF(ISNUMBER(SEARCH($H$16,Q849)),MAX($N$1:N848)+1,0)","v":0},{"$f":"IF(ISNUMBER(SEARCH($H$11,Q849)),MAX($O$1:O848)+1,0)","v":0},{"$f":"IF(ISNUMBER(SEARCH($H$6,Q849)),MAX($P$1:P848)+1,0)","v":0},"franklin corporate bond opp ","MTE285","Credit Oppur.",null,null,null,null,null,null,null,null,null,null,null,{"$f":"IFERROR(VLOOKUP(ROWS($AE$2:AE849),P849:Q2752,2,0),\"\")","v":""},null,null,null,null,{"$f":"IFERROR(VLOOKUP(ROWS($AJ$2:AJ849),O849:Q2752,3,0),\"\")","v":""},null,{"$f":"IFERROR(VLOOKUP(ROWS(AL$2:$AL849),N849:Q2752,4,0),\"\")","v":""}]
[null,null,null,null,null,null,null,null,null,null,null,null,null,{"$f":"IF(ISNUMBER(SEARCH($H$16,Q850)),MAX($N$1:N849)+1,0)","v":0},{"$f":"IF(ISNUMBER(SEARCH($H$11,Q850)),MAX($O$1:O849)+1,0)","v":0},{"$f":"IF(ISNUMBER(SEARCH($H$6,Q850)),MAX($P$1:P849)+1,0)","v":0},"icici pru corporate bond b","MPI100","Credit Oppur.",null,null,null,null,null,null,null,null,null,null,null,{"$f":"IFERROR(VLOOKUP(ROWS($AE$2:AE850),P850:Q2753,2,0),\"\")","v":""},null,null,null,null,{"$f":"IFERROR(VLOOKUP(ROWS($AJ$2:AJ850),O850:Q2753,3,0),\"\")","v":""},null,{"$f":"IFERROR(VLOOKUP(ROWS(AL$2:$AL850),N850:Q2753,4,0),\"\")","v":""}]
[null,null,null,null,null,null,null,null,null,null,null,null,null,{"$f":"IF(ISNUMBER(SEARCH($H$16,Q851)),MAX($N$1:N850)+1,0)","v":0},{"$f":"IF(ISNUMBER(SEARCH($H$11,Q851)),MAX($O$1:O850)+1,0)","v":0},{"$f":"IF(ISNUMBER(SEARCH($H$6,Q851)),MAX($P$1:P850)+1,0)","v":0},"l t income opportunities rp","MCC119","Credit Oppur.",null,null,null,null,null,null,null,null,null,null,null,{"$f":"IFERROR(VLOOKUP(ROWS($AE$2:AE851),P851:Q2754,2,0),\"\")","v":""},null,null,null,null,{"$f":"IFERROR(VLOOKUP(ROWS($AJ$2:AJ851),O851:Q2754,3,0),\"\")","v":""},null,{"$f":"IFERROR(VLOOKUP(ROWS(AL$2:$AL851),N851:Q2754,4,0),\"\")","v":""}]
[null,null,null,null,null,null,null,null,null,null,null,null,null,{"$f":"IF(ISNUMBER(SEARCH($H$16,Q852)),MAX($N$1:N851)+1,0)","v":0},{"$f":"IF(ISNUMBER(SEARCH($H$11,Q852)),MAX($O$1:O851)+1,0)","v":0},{"$f":"IF(ISNUMBER(SEARCH($H$6,Q852)),MAX($P$1:P851)+1,0)","v":0},"l t income opportunities ip","MCC123","Credit Oppur.",null,null,null,null,null,null,null,null,null,null,null,{"$f":"IFERROR(VLOOKUP(ROWS($AE$2:AE852),P852:Q2755,2,0),\"\")","v":""},null,null,null,null,{"$f":"IFERROR(VLOOKUP(ROWS($AJ$2:AJ852),O852:Q2755,3,0),\"\")","v":""},null,{"$f":"IFERROR(VLOOKUP(ROWS(AL$2:$AL852),N852:Q2755,4,0),\"\")","v":""}]
[null,null,null,null,null,null,null,null,null,null,null,null,null,{"$f":"IF(ISNUMBER(SEARCH($H$16,Q853)),MAX($N$1:N852)+1,0)","v":0},{"$f":"IF(ISNUMBER(SEARCH($H$11,Q853)),MAX($O$1:O852)+1,0)","v":0},{"$f":"IF(ISNUMBER(SEARCH($H$6,Q853)),MAX($P$1:P852)+1,0)","v":0},"icici pru regular savings fund","MPI789","Credit Oppur.",null,null,null,null,null,null,null,null,null,null,null,{"$f":"IFERROR(VLOOKUP(ROWS($AE$2:AE853),P853:Q2756,2,0),\"\")","v":""},null,null,null,null,{"$f":"IFERROR(VLOOKUP(ROWS($AJ$2:AJ853),O853:Q2756,3,0),\"\")","v":""},null,{"$f":"IFERROR(VLOOKUP(ROWS(AL$2:$AL853),N853:Q2756,4,0),\"\")","v":""}]
[null,null,null,null,null,null,null,null,null,null,null,null,null,{"$f":"IF(ISNUMBER(SEARCH($H$16,Q854)),MAX($N$1:N853)+1,0)","v":0},{"$f":"IF(ISNUMBER(SEARCH($H$11,Q854)),MAX($O$1:O853)+1,0)","v":0},{"$f":"IF(ISNUMBER(SEARCH($H$6,Q854)),MAX($P$1:P853)+1,0)","v":0},"dsp br income oppor fund rp","MDS027","Credit Oppur.",null,null,null,null,null,null,null,null,null,null,null,{"$f":"IFERROR(VLOOKUP(ROWS($AE$2:AE854),P854:Q2757,2,0),\"\")","v":""},null,null,null,null,{"$f":"IFERROR(VLOOKUP(ROWS($AJ$2:AJ854),O854:Q2757,3,0),\"\")","v":""},null,{"$f":"IFERROR(VLOOKUP(ROWS(AL$2:$AL854),N854:Q2757,4,0),\"\")","v":""}]
[null,null,null,null,null,null,null,null,null,null,null,null,null,{"$f":"IF(ISNUMBER(SEARCH($H$16,Q855)),MAX($N$1:N854)+1,0)","v":0},{"$f":"IF(ISNUMBER(SEARCH($H$11,Q855)),MAX($O$1:O854)+1,0)","v":0},{"$f":"IF(ISNUMBER(SEARCH($H$6,Q855)),MAX($P$1:P854)+1,0)","v":0},"hdfc short term plan","MHD017","Credit Oppur.",null,null,null,null,null,null,null,null,null,null,null,{"$f":"IFERROR(VLOOKUP(ROWS($AE$2:AE855),P855:Q2758,2,0),\"\")","v":""},null,null,null,null,{"$f":"IFERROR(VLOOKUP(ROWS($AJ$2:AJ855),O855:Q2758,3,0),\"\")","v":""},null,{"$f":"IFERROR(VLOOKUP(ROWS(AL$2:$AL855),N855:Q2758,4,0),\"\")","v":""}]
[null,null,null,null,null,null,null,null,null,null,null,null,null,{"$f":"IF(ISNUMBER(SEARCH($H$16,Q856)),MAX($N$1:N855)+1,0)","v":0},{"$f":"IF(ISNUMBER(SEARCH($H$11,Q856)),MAX($O$1:O855)+1,0)","v":0},{"$f":"IF(ISNUMBER(SEARCH($H$6,Q856)),MAX($P$1:P855)+1,0)","v":0},"uti income opportunities fund","MUT601","Credit Oppur.",null,null,null,null,null,null,null,null,null,null,null,{"$f":"IFERROR(VLOOKUP(ROWS($AE$2:AE856),P856:Q2759,2,0),\"\")","v":""},null,null,null,null,{"$f":"IFERROR(VLOOKUP(ROWS($AJ$2:AJ856),O856:Q2759,3,0),\"\")","v":""},null,{"$f":"IFERROR(VLOOKUP(ROWS(AL$2:$AL856),N856:Q2759,4,0),\"\")","v":""}]
[null,null,null,null,null,null,null,null,null,null,null,null,null,{"$f":"IF(ISNUMBER(SEARCH($H$16,Q857)),MAX($N$1:N856)+1,0)","v":0},{"$f":"IF(ISNUMBER(SEARCH($H$11,Q857)),MAX($O$1:O856)+1,0)","v":0},{"$f":"IF(ISNUMBER(SEARCH($H$6,Q857)),MAX($P$1:P856)+1,0)","v":0},"reliance rsf debt ip","MRC534","Credit Oppur.",null,null,null,null,null,null,null,null,null,null,null,{"$f":"IFERROR(VLOOKUP(ROWS($AE$2:AE857),P857:Q2760,2,0),\"\")","v":""},null,null,null,null,{"$f":"IFERROR(VLOOKUP(ROWS($AJ$2:AJ857),O857:Q2760,3,0),\"\")","v":""},null,{"$f":"IFERROR(VLOOKUP(ROWS(AL$2:$AL857),N857:Q2760,4,0),\"\")","v":""}]
[null,null,null,null,null,null,null,null,null,null,null,null,null,{"$f":"IF(ISNUMBER(SEARCH($H$16,Q858)),MAX($N$1:N857)+1,0)","v":0},{"$f":"IF(ISNUMBER(SEARCH($H$11,Q858)),MAX($O$1:O857)+1,0)","v":0},{"$f":"IF(ISNUMBER(SEARCH($H$6,Q858)),MAX($P$1:P857)+1,0)","v":0},"birla sl short term opp rp","MBS039","Credit Oppur.",null,null,null,null,null,null,null,null,null,null,null,{"$f":"IFERROR(VLOOKUP(ROWS($AE$2:AE858),P858:Q2761,2,0),\"\")","v":""},null,null,null,null,{"$f":"IFERROR(VLOOKUP(ROWS($AJ$2:AJ858),O858:Q2761,3,0),\"\")","v":""},null,{"$f":"IFERROR(VLOOKUP(ROWS(AL$2:$AL858),N858:Q2761,4,0),\"\")","v":""}]
[null,null,null,null,null,null,null,null,null,null,null,null,null,{"$f":"IF(ISNUMBER(SEARCH($H$16,Q859)),MAX($N$1:N858)+1,0)","v":0},{"$f":"IF(ISNUMBER(SEARCH($H$11,Q859)),MAX($O$1:O858)+1,0)","v":0},{"$f":"IF(ISNUMBER(SEARCH($H$6,Q859)),MAX($P$1:P858)+1,0)","v":0},"birla sl short term opp ip","MBS348","Credit Oppur.",null,null,null,null,null,null,null,null,null,null,null,{"$f":"IFERROR(VLOOKUP(ROWS($AE$2:AE859),P859:Q2762,2,0),\"\")","v":""},null,null,null,null,{"$f":"IFERROR(VLOOKUP(ROWS($AJ$2:AJ859),O859:Q2762,3,0),\"\")","v":""},null,{"$f":"IFERROR(VLOOKUP(ROWS(AL$2:$AL859),N859:Q2762,4,0),\"\")","v":""}]
[null,null,null,null,null,null,null,null,null,null,null,null,null,{"$f":"IF(ISNUMBER(SEARCH($H$16,Q860)),MAX($N$1:N859)+1,0)","v":0},{"$f":"IF(ISNUMBER(SEARCH($H$11,Q860)),MAX($O$1:O859)+1,0)","v":0},{"$f":"IF(ISNUMBER(SEARCH($H$6,Q860)),MAX($P$1:P859)+1,0)","v":0},"reliance rsf debt rp","MRC099","Credit Oppur.",null,null,null,null,null,null,null,null,null,null,null,{"$f":"IFERROR(VLOOKUP(ROWS($AE$2:AE860),P860:Q2763,2,0),\"\")","v":""},null,null,null,null,{"$f":"IFERROR(VLOOKUP(ROWS($AJ$2:AJ860),O860:Q2763,3,0),\"\")","v":""},null,{"$f":"IFERROR(VLOOKUP(ROWS(AL$2:$AL860),N860:Q2763,4,0),\"\")","v":""}]
[null,null,null,null,null,null,null,null,null,null,null,null,null,{"$f":"IF(ISNUMBER(SEARCH($H$16,Q861)),MAX($N$1:N860)+1,0)","v":0},{"$f":"IF(ISNUMBER(SEARCH($H$11,Q861)),MAX($O$1:O860)+1,0)","v":0},{"$f":"IF(ISNUMBER(SEARCH($H$6,Q861)),MAX($P$1:P860)+1,0)","v":0},"kotak income opportunities rp","MKM334","Credit Oppur.",null,null,null,null,null,null,null,null,null,null,null,{"$f":"IFERROR(VLOOKUP(ROWS($AE$2:AE861),P861:Q2764,2,0),\"\")","v":""},null,null,null,null,{"$f":"IFERROR(VLOOKUP(ROWS($AJ$2:AJ861),O861:Q2764,3,0),\"\")","v":""},null,{"$f":"IFERROR(VLOOKUP(ROWS(AL$2:$AL861),N861:Q2764,4,0),\"\")","v":""}]
[null,null,null,null,null,null,null,null,null,null,null,null,null,{"$f":"IF(ISNUMBER(SEARCH($H$16,Q862)),MAX($N$1:N861)+1,0)","v":0},{"$f":"IF(ISNUMBER(SEARCH($H$11,Q862)),MAX($O$1:O861)+1,0)","v":0},{"$f":"IF(ISNUMBER(SEARCH($H$6,Q862)),MAX($P$1:P861)+1,0)","v":0},"religare corporate bond opp rp","MLI895","Credit Oppur.",null,null,null,null,null,null,null,null,null,null,null,{"$f":"IFERROR(VLOOKUP(ROWS($AE$2:AE862),P862:Q2765,2,0),\"\")","v":""},null,null,null,null,{"$f":"IFERROR(VLOOKUP(ROWS($AJ$2:AJ862),O862:Q2765,3,0),\"\")","v":""},null,{"$f":"IFERROR(VLOOKUP(ROWS(AL$2:$AL862),N862:Q2765,4,0),\"\")","v":""}]
[null,null,null,null,null,null,null,null,null,null,null,null,null,{"$f":"IF(ISNUMBER(SEARCH($H$16,Q863)),MAX($N$1:N862)+1,0)","v":0},{"$f":"IF(ISNUMBER(SEARCH($H$11,Q863)),MAX($O$1:O862)+1,0)","v":0},{"$f":"IF(ISNUMBER(SEARCH($H$6,Q863)),MAX($P$1:P862)+1,0)","v":0},"birla sl corporate bond fund rp","MBS2049","Credit Oppur.",null,null,null,null,null,null,null,null,null,null,null,{"$f":"IFERROR(VLOOKUP(ROWS($AE$2:AE863),P863:Q2766,2,0),\"\")","v":""},null,null,null,null,{"$f":"IFERROR(VLOOKUP(ROWS($AJ$2:AJ863),O863:Q2766,3,0),\"\")","v":""},null,{"$f":"IFERROR(VLOOKUP(ROWS(AL$2:$AL863),N863:Q2766,4,0),\"\")","v":""}]
[null,null,null,null,null,null,null,null,null,null,null,null,null,{"$f":"IF(ISNUMBER(SEARCH($H$16,Q864)),MAX($N$1:N863)+1,0)","v":0},{"$f":"IF(ISNUMBER(SEARCH($H$11,Q864)),MAX($O$1:O863)+1,0)","v":0},{"$f":"IF(ISNUMBER(SEARCH($H$6,Q864)),MAX($P$1:P863)+1,0)","v":0},"escorts short term debt fund","MES020","Floating debt short term",null,null,null,null,null,null,null,null,null,null,null,{"$f":"IFERROR(VLOOKUP(ROWS($AE$2:AE864),P864:Q2767,2,0),\"\")","v":""},null,null,null,null,{"$f":"IFERROR(VLOOKUP(ROWS($AJ$2:AJ864),O864:Q2767,3,0),\"\")","v":""},null,{"$f":"IFERROR(VLOOKUP(ROWS(AL$2:$AL864),N864:Q2767,4,0),\"\")","v":""}]
[null,null,null,null,null,null,null,null,null,null,null,null,null,{"$f":"IF(ISNUMBER(SEARCH($H$16,Q865)),MAX($N$1:N864)+1,0)","v":0},{"$f":"IF(ISNUMBER(SEARCH($H$11,Q865)),MAX($O$1:O864)+1,0)","v":0},{"$f":"IF(ISNUMBER(SEARCH($H$6,Q865)),MAX($P$1:P864)+1,0)","v":0},"can robeco savings plus stp","MCA250","Floating debt short term",null,null,null,null,null,null,null,null,null,null,null,{"$f":"IFERROR(VLOOKUP(ROWS($AE$2:AE865),P865:Q2768,2,0),\"\")","v":""},null,null,null,null,{"$f":"IFERROR(VLOOKUP(ROWS($AJ$2:AJ865),O865:Q2768,3,0),\"\")","v":""},null,{"$f":"IFERROR(VLOOKUP(ROWS(AL$2:$AL865),N865:Q2768,4,0),\"\")","v":""}]
[null,null,null,null,null,null,null,null,null,null,null,null,null,{"$f":"IF(ISNUMBER(SEARCH($H$16,Q866)),MAX($N$1:N865)+1,0)","v":0},{"$f":"IF(ISNUMBER(SEARCH($H$11,Q866)),MAX($O$1:O865)+1,0)","v":0},{"$f":"IF(ISNUMBER(SEARCH($H$6,Q866)),MAX($P$1:P865)+1,0)","v":0},"can robeco savings plus stp","MCA031","Floating debt short term",null,null,null,null,null,null,null,null,null,null,null,{"$f":"IFERROR(VLOOKUP(ROWS($AE$2:AE866),P866:Q2769,2,0),\"\")","v":""},null,null,null,null,{"$f":"IFERROR(VLOOKUP(ROWS($AJ$2:AJ866),O866:Q2769,3,0),\"\")","v":""},null,{"$f":"IFERROR(VLOOKUP(ROWS(AL$2:$AL866),N866:Q2769,4,0),\"\")","v":""}]
[null,null,null,null,null,null,null,null,null,null,null,null,null,{"$f":"IF(ISNUMBER(SEARCH($H$16,Q867)),MAX($N$1:N866)+1,0)","v":0},{"$f":"IF(ISNUMBER(SEARCH($H$11,Q867)),MAX($O$1:O866)+1,0)","v":0},{"$f":"IF(ISNUMBER(SEARCH($H$6,Q867)),MAX($P$1:P866)+1,0)","v":0},"sbi savings fund","MSB053","Floating debt short term",null,null,null,null,null,null,null,null,null,null,null,{"$f":"IFERROR(VLOOKUP(ROWS($AE$2:AE867),P867:Q2770,2,0),\"\")","v":""},null,null,null,null,{"$f":"IFERROR(VLOOKUP(ROWS($AJ$2:AJ867),O867:Q2770,3,0),\"\")","v":""},null,{"$f":"IFERROR(VLOOKUP(ROWS(AL$2:$AL867),N867:Q2770,4,0),\"\")","v":""}]
[null,null,null,null,null,null,null,null,null,null,null,null,null,{"$f":"IF(ISNUMBER(SEARCH($H$16,Q868)),MAX($N$1:N867)+1,0)","v":0},{"$f":"IF(ISNUMBER(SEARCH($H$11,Q868)),MAX($O$1:O867)+1,0)","v":0},{"$f":"IF(ISNUMBER(SEARCH($H$6,Q868)),MAX($P$1:P867)+1,0)","v":0},"l t floating rate fund","MCC045","Floating debt short term",null,null,null,null,null,null,null,null,null,null,null,{"$f":"IFERROR(VLOOKUP(ROWS($AE$2:AE868),P868:Q2771,2,0),\"\")","v":""},null,null,null,null,{"$f":"IFERROR(VLOOKUP(ROWS($AJ$2:AJ868),O868:Q2771,3,0),\"\")","v":""},null,{"$f":"IFERROR(VLOOKUP(ROWS(AL$2:$AL868),N868:Q2771,4,0),\"\")","v":""}]
[null,null,null,null,null,null,null,null,null,null,null,null,null,{"$f":"IF(ISNUMBER(SEARCH($H$16,Q869)),MAX($N$1:N868)+1,0)","v":0},{"$f":"IF(ISNUMBER(SEARCH($H$11,Q869)),MAX($O$1:O868)+1,0)","v":0},{"$f":"IF(ISNUMBER(SEARCH($H$6,Q869)),MAX($P$1:P868)+1,0)","v":0},"pramerica short term floating","MPA037","Floating debt short term",null,null,null,null,null,null,null,null,null,null,null,{"$f":"IFERROR(VLOOKUP(ROWS($AE$2:AE869),P869:Q2772,2,0),\"\")","v":""},null,null,null,null,{"$f":"IFERROR(VLOOKUP(ROWS($AJ$2:AJ869),O869:Q2772,3,0),\"\")","v":""},null,{"$f":"IFERROR(VLOOKUP(ROWS(AL$2:$AL869),N869:Q2772,4,0),\"\")","v":""}]
[null,null,null,null,null,null,null,null,null,null,null,null,null,{"$f":"IF(ISNUMBER(SEARCH($H$16,Q870)),MAX($N$1:N869)+1,0)","v":0},{"$f":"IF(ISNUMBER(SEARCH($H$11,Q870)),MAX($O$1:O869)+1,0)","v":0},{"$f":"IF(ISNUMBER(SEARCH($H$6,Q870)),MAX($P$1:P869)+1,0)","v":0},"jm floater st fund","MJM033","Floating debt short term",null,null,null,null,null,null,null,null,null,null,null,{"$f":"IFERROR(VLOOKUP(ROWS($AE$2:AE870),P870:Q2773,2,0),\"\")","v":""},null,null,null,null,{"$f":"IFERROR(VLOOKUP(ROWS($AJ$2:AJ870),O870:Q2773,3,0),\"\")","v":""},null,{"$f":"IFERROR(VLOOKUP(ROWS(AL$2:$AL870),N870:Q2773,4,0),\"\")","v":""}]
[null,null,null,null,null,null,null,null,null,null,null,null,null,{"$f":"IF(ISNUMBER(SEARCH($H$16,Q871)),MAX($N$1:N870)+1,0)","v":0},{"$f":"IF(ISNUMBER(SEARCH($H$11,Q871)),MAX($O$1:O870)+1,0)","v":0},{"$f":"IF(ISNUMBER(SEARCH($H$6,Q871)),MAX($P$1:P870)+1,0)","v":0},"franklin i savings plus sip","MTE119","Floating Rate Debt - Long Term",null,null,null,null,null,null,null,null,null,null,null,{"$f":"IFERROR(VLOOKUP(ROWS($AE$2:AE871),P871:Q2774,2,0),\"\")","v":""},null,null,null,null,{"$f":"IFERROR(VLOOKUP(ROWS($AJ$2:AJ871),O871:Q2774,3,0),\"\")","v":""},null,{"$f":"IFERROR(VLOOKUP(ROWS(AL$2:$AL871),N871:Q2774,4,0),\"\")","v":""}]
[null,null,null,null,null,null,null,null,null,null,null,null,null,{"$f":"IF(ISNUMBER(SEARCH($H$16,Q872)),MAX($N$1:N871)+1,0)","v":0},{"$f":"IF(ISNUMBER(SEARCH($H$11,Q872)),MAX($O$1:O871)+1,0)","v":0},{"$f":"IF(ISNUMBER(SEARCH($H$6,Q872)),MAX($P$1:P871)+1,0)","v":0},"sbi corporate bond fund","MSB055","Floating Rate Debt - Long Term",null,null,null,null,null,null,null,null,null,null,null,{"$f":"IFERROR(VLOOKUP(ROWS($AE$2:AE872),P872:Q2775,2,0),\"\")","v":""},null,null,null,null,{"$f":"IFERROR(VLOOKUP(ROWS($AJ$2:AJ872),O872:Q2775,3,0),\"\")","v":""},null,{"$f":"IFERROR(VLOOKUP(ROWS(AL$2:$AL872),N872:Q2775,4,0),\"\")","v":""}]
[null,null,null,null,null,null,null,null,null,null,null,null,null,{"$f":"IF(ISNUMBER(SEARCH($H$16,Q873)),MAX($N$1:N872)+1,0)","v":0},{"$f":"IF(ISNUMBER(SEARCH($H$11,Q873)),MAX($O$1:O872)+1,0)","v":0},{"$f":"IF(ISNUMBER(SEARCH($H$6,Q873)),MAX($P$1:P872)+1,0)","v":0},"jm floater ltf premium","MJM057","Floating Rate Debt - Long Term",null,null,null,null,null,null,null,null,null,null,null,{"$f":"IFERROR(VLOOKUP(ROWS($AE$2:AE873),P873:Q2776,2,0),\"\")","v":""},null,null,null,null,{"$f":"IFERROR(VLOOKUP(ROWS($AJ$2:AJ873),O873:Q2776,3,0),\"\")","v":""},null,{"$f":"IFERROR(VLOOKUP(ROWS(AL$2:$AL873),N873:Q2776,4,0),\"\")","v":""}]
[null,null,null,null,null,null,null,null,null,null,null,null,null,{"$f":"IF(ISNUMBER(SEARCH($H$16,Q874)),MAX($N$1:N873)+1,0)","v":0},{"$f":"IF(ISNUMBER(SEARCH($H$11,Q874)),MAX($O$1:O873)+1,0)","v":0},{"$f":"IF(ISNUMBER(SEARCH($H$6,Q874)),MAX($P$1:P873)+1,0)","v":0},"jm floater long term fund","MJM035","Floating Rate Debt - Long Term",null,null,null,null,null,null,null,null,null,null,null,{"$f":"IFERROR(VLOOKUP(ROWS($AE$2:AE874),P874:Q2777,2,0),\"\")","v":""},null,null,null,null,{"$f":"IFERROR(VLOOKUP(ROWS($AJ$2:AJ874),O874:Q2777,3,0),\"\")","v":""},null,{"$f":"IFERROR(VLOOKUP(ROWS(AL$2:$AL874),N874:Q2777,4,0),\"\")","v":""}]
[null,null,null,null,null,null,null,null,null,null,null,null,null,{"$f":"IF(ISNUMBER(SEARCH($H$16,Q875)),MAX($N$1:N874)+1,0)","v":0},{"$f":"IF(ISNUMBER(SEARCH($H$11,Q875)),MAX($O$1:O874)+1,0)","v":0},{"$f":"IF(ISNUMBER(SEARCH($H$6,Q875)),MAX($P$1:P874)+1,0)","v":0},"franklin i savings plus rp","MTE019","Floating Rate Debt - Long Term",null,null,null,null,null,null,null,null,null,null,null,{"$f":"IFERROR(VLOOKUP(ROWS($AE$2:AE875),P875:Q2778,2,0),\"\")","v":""},null,null,null,null,{"$f":"IFERROR(VLOOKUP(ROWS($AJ$2:AJ875),O875:Q2778,3,0),\"\")","v":""},null,{"$f":"IFERROR(VLOOKUP(ROWS(AL$2:$AL875),N875:Q2778,4,0),\"\")","v":""}]
[null,null,null,null,null,null,null,null,null,null,null,null,null,{"$f":"IF(ISNUMBER(SEARCH($H$16,Q876)),MAX($N$1:N875)+1,0)","v":0},{"$f":"IF(ISNUMBER(SEARCH($H$11,Q876)),MAX($O$1:O875)+1,0)","v":0},{"$f":"IF(ISNUMBER(SEARCH($H$6,Q876)),MAX($P$1:P875)+1,0)","v":0},"franklin i savings plus ip","MTE088","Floating Rate Debt - Long Term",null,null,null,null,null,null,null,null,null,null,null,{"$f":"IFERROR(VLOOKUP(ROWS($AE$2:AE876),P876:Q2779,2,0),\"\")","v":""},null,null,null,null,{"$f":"IFERROR(VLOOKUP(ROWS($AJ$2:AJ876),O876:Q2779,3,0),\"\")","v":""},null,{"$f":"IFERROR(VLOOKUP(ROWS(AL$2:$AL876),N876:Q2779,4,0),\"\")","v":""}]
[null,null,null,null,null,null,null,null,null,null,null,null,null,{"$f":"IF(ISNUMBER(SEARCH($H$16,Q877)),MAX($N$1:N876)+1,0)","v":0},{"$f":"IF(ISNUMBER(SEARCH($H$11,Q877)),MAX($O$1:O876)+1,0)","v":0},{"$f":"IF(ISNUMBER(SEARCH($H$6,Q877)),MAX($P$1:P876)+1,0)","v":0},"hdfc floating rate inc ltp","MHD022","Floating Rate Debt - Long Term",null,null,null,null,null,null,null,null,null,null,null,{"$f":"IFERROR(VLOOKUP(ROWS($AE$2:AE877),P877:Q2780,2,0),\"\")","v":""},null,null,null,null,{"$f":"IFERROR(VLOOKUP(ROWS($AJ$2:AJ877),O877:Q2780,3,0),\"\")","v":""},null,{"$f":"IFERROR(VLOOKUP(ROWS(AL$2:$AL877),N877:Q2780,4,0),\"\")","v":""}]
[null,null,null,null,null,null,null,null,null,null,null,null,null,{"$f":"IF(ISNUMBER(SEARCH($H$16,Q878)),MAX($N$1:N877)+1,0)","v":0},{"$f":"IF(ISNUMBER(SEARCH($H$11,Q878)),MAX($O$1:O877)+1,0)","v":0},{"$f":"IF(ISNUMBER(SEARCH($H$6,Q878)),MAX($P$1:P877)+1,0)","v":0},"tata floating rate ltp","MTA068","Floating Rate Debt - Long Term",null,null,null,null,null,null,null,null,null,null,null,{"$f":"IFERROR(VLOOKUP(ROWS($AE$2:AE878),P878:Q2781,2,0),\"\")","v":""},null,null,null,null,{"$f":"IFERROR(VLOOKUP(ROWS($AJ$2:AJ878),O878:Q2781,3,0),\"\")","v":""},null,{"$f":"IFERROR(VLOOKUP(ROWS(AL$2:$AL878),N878:Q2781,4,0),\"\")","v":""}]
[null,null,null,null,null,null,null,null,null,null,null,null,null,{"$f":"IF(ISNUMBER(SEARCH($H$16,Q879)),MAX($N$1:N878)+1,0)","v":0},{"$f":"IF(ISNUMBER(SEARCH($H$11,Q879)),MAX($O$1:O878)+1,0)","v":0},{"$f":"IF(ISNUMBER(SEARCH($H$6,Q879)),MAX($P$1:P878)+1,0)","v":0},"kotak corporate bond institutional","MAI029","Ultra Short term debt",null,null,null,null,null,null,null,null,null,null,null,{"$f":"IFERROR(VLOOKUP(ROWS($AE$2:AE879),P879:Q2782,2,0),\"\")","v":""},null,null,null,null,{"$f":"IFERROR(VLOOKUP(ROWS($AJ$2:AJ879),O879:Q2782,3,0),\"\")","v":""},null,{"$f":"IFERROR(VLOOKUP(ROWS(AL$2:$AL879),N879:Q2782,4,0),\"\")","v":""}]
[null,null,null,null,null,null,null,null,null,null,null,null,null,{"$f":"IF(ISNUMBER(SEARCH($H$16,Q880)),MAX($N$1:N879)+1,0)","v":0},{"$f":"IF(ISNUMBER(SEARCH($H$11,Q880)),MAX($O$1:O879)+1,0)","v":0},{"$f":"IF(ISNUMBER(SEARCH($H$6,Q880)),MAX($P$1:P879)+1,0)","v":0},"kotak corporate bond retail","MAI023","Ultra Short term debt",null,null,null,null,null,null,null,null,null,null,null,{"$f":"IFERROR(VLOOKUP(ROWS($AE$2:AE880),P880:Q2783,2,0),\"\")","v":""},null,null,null,null,{"$f":"IFERROR(VLOOKUP(ROWS($AJ$2:AJ880),O880:Q2783,3,0),\"\")","v":""},null,{"$f":"IFERROR(VLOOKUP(ROWS(AL$2:$AL880),N880:Q2783,4,0),\"\")","v":""}]
[null,null,null,null,null,null,null,null,null,null,null,null,null,{"$f":"IF(ISNUMBER(SEARCH($H$16,Q881)),MAX($N$1:N880)+1,0)","v":0},{"$f":"IF(ISNUMBER(SEARCH($H$11,Q881)),MAX($O$1:O880)+1,0)","v":0},{"$f":"IF(ISNUMBER(SEARCH($H$6,Q881)),MAX($P$1:P880)+1,0)","v":0},"kotak corporate bond standard","MAI035","Ultra Short term debt",null,null,null,null,null,null,null,null,null,null,null,{"$f":"IFERROR(VLOOKUP(ROWS($AE$2:AE881),P881:Q2784,2,0),\"\")","v":""},null,null,null,null,{"$f":"IFERROR(VLOOKUP(ROWS($AJ$2:AJ881),O881:Q2784,3,0),\"\")","v":""},null,{"$f":"IFERROR(VLOOKUP(ROWS(AL$2:$AL881),N881:Q2784,4,0),\"\")","v":""}]
[null,null,null,null,null,null,null,null,null,null,null,null,null,{"$f":"IF(ISNUMBER(SEARCH($H$16,Q882)),MAX($N$1:N881)+1,0)","v":0},{"$f":"IF(ISNUMBER(SEARCH($H$11,Q882)),MAX($O$1:O881)+1,0)","v":0},{"$f":"IF(ISNUMBER(SEARCH($H$6,Q882)),MAX($P$1:P881)+1,0)","v":0},"taurus ustbf ip","MCM035","Ultra Short term debt",null,null,null,null,null,null,null,null,null,null,null,{"$f":"IFERROR(VLOOKUP(ROWS($AE$2:AE882),P882:Q2785,2,0),\"\")","v":""},null,null,null,null,{"$f":"IFERROR(VLOOKUP(ROWS($AJ$2:AJ882),O882:Q2785,3,0),\"\")","v":""},null,{"$f":"IFERROR(VLOOKUP(ROWS(AL$2:$AL882),N882:Q2785,4,0),\"\")","v":""}]
[null,null,null,null,null,null,null,null,null,null,null,null,null,{"$f":"IF(ISNUMBER(SEARCH($H$16,Q883)),MAX($N$1:N882)+1,0)","v":0},{"$f":"IF(ISNUMBER(SEARCH($H$11,Q883)),MAX($O$1:O882)+1,0)","v":0},{"$f":"IF(ISNUMBER(SEARCH($H$6,Q883)),MAX($P$1:P882)+1,0)","v":0},"franklin i low duration","MTE280","Ultra Short term debt",null,null,null,null,null,null,null,null,null,null,null,{"$f":"IFERROR(VLOOKUP(ROWS($AE$2:AE883),P883:Q2786,2,0),\"\")","v":""},null,null,null,null,{"$f":"IFERROR(VLOOKUP(ROWS($AJ$2:AJ883),O883:Q2786,3,0),\"\")","v":""},null,{"$f":"IFERROR(VLOOKUP(ROWS(AL$2:$AL883),N883:Q2786,4,0),\"\")","v":""}]
[null,null,null,null,null,null,null,null,null,null,null,null,null,{"$f":"IF(ISNUMBER(SEARCH($H$16,Q884)),MAX($N$1:N883)+1,0)","v":0},{"$f":"IF(ISNUMBER(SEARCH($H$11,Q884)),MAX($O$1:O883)+1,0)","v":0},{"$f":"IF(ISNUMBER(SEARCH($H$6,Q884)),MAX($P$1:P883)+1,0)","v":0},"franklin usbf sip","MTE188","Ultra Short term debt",null,null,null,null,null,null,null,null,null,null,null,{"$f":"IFERROR(VLOOKUP(ROWS($AE$2:AE884),P884:Q2787,2,0),\"\")","v":""},null,null,null,null,{"$f":"IFERROR(VLOOKUP(ROWS($AJ$2:AJ884),O884:Q2787,3,0),\"\")","v":""},null,{"$f":"IFERROR(VLOOKUP(ROWS(AL$2:$AL884),N884:Q2787,4,0),\"\")","v":""}]
[null,null,null,null,null,null,null,null,null,null,null,null,null,{"$f":"IF(ISNUMBER(SEARCH($H$16,Q885)),MAX($N$1:N884)+1,0)","v":0},{"$f":"IF(ISNUMBER(SEARCH($H$11,Q885)),MAX($O$1:O884)+1,0)","v":0},{"$f":"IF(ISNUMBER(SEARCH($H$6,Q885)),MAX($P$1:P884)+1,0)","v":0},"principal dof corporate bond","MID076","Ultra Short term debt",null,null,null,null,null,null,null,null,null,null,null,{"$f":"IFERROR(VLOOKUP(ROWS($AE$2:AE885),P885:Q2788,2,0),\"\")","v":""},null,null,null,null,{"$f":"IFERROR(VLOOKUP(ROWS($AJ$2:AJ885),O885:Q2788,3,0),\"\")","v":""},null,{"$f":"IFERROR(VLOOKUP(ROWS(AL$2:$AL885),N885:Q2788,4,0),\"\")","v":""}]
[null,null,null,null,null,null,null,null,null,null,null,null,null,{"$f":"IF(ISNUMBER(SEARCH($H$16,Q886)),MAX($N$1:N885)+1,0)","v":0},{"$f":"IF(ISNUMBER(SEARCH($H$11,Q886)),MAX($O$1:O885)+1,0)","v":0},{"$f":"IF(ISNUMBER(SEARCH($H$6,Q886)),MAX($P$1:P885)+1,0)","v":0},"hdfc banking psu debt reg","MHD2059","Ultra Short term debt",null,null,null,null,null,null,null,null,null,null,null,{"$f":"IFERROR(VLOOKUP(ROWS($AE$2:AE886),P886:Q2789,2,0),\"\")","v":""},null,null,null,null,{"$f":"IFERROR(VLOOKUP(ROWS($AJ$2:AJ886),O886:Q2789,3,0),\"\")","v":""},null,{"$f":"IFERROR(VLOOKUP(ROWS(AL$2:$AL886),N886:Q2789,4,0),\"\")","v":""}]
[null,null,null,null,null,null,null,null,null,null,null,null,null,{"$f":"IF(ISNUMBER(SEARCH($H$16,Q887)),MAX($N$1:N886)+1,0)","v":0},{"$f":"IF(ISNUMBER(SEARCH($H$11,Q887)),MAX($O$1:O886)+1,0)","v":0},{"$f":"IF(ISNUMBER(SEARCH($H$6,Q887)),MAX($P$1:P886)+1,0)","v":0},"reliance floating rate","MRC068","Ultra Short term debt",null,null,null,null,null,null,null,null,null,null,null,{"$f":"IFERROR(VLOOKUP(ROWS($AE$2:AE887),P887:Q2790,2,0),\"\")","v":""},null,null,null,null,{"$f":"IFERROR(VLOOKUP(ROWS($AJ$2:AJ887),O887:Q2790,3,0),\"\")","v":""},null,{"$f":"IFERROR(VLOOKUP(ROWS(AL$2:$AL887),N887:Q2790,4,0),\"\")","v":""}]
[null,null,null,null,null,null,null,null,null,null,null,null,null,{"$f":"IF(ISNUMBER(SEARCH($H$16,Q888)),MAX($N$1:N887)+1,0)","v":0},{"$f":"IF(ISNUMBER(SEARCH($H$11,Q888)),MAX($O$1:O887)+1,0)","v":0},{"$f":"IF(ISNUMBER(SEARCH($H$6,Q888)),MAX($P$1:P887)+1,0)","v":0},"sbi treasury advtantage dir","MSA033","Ultra Short term debt",null,null,null,null,null,null,null,null,null,null,null,{"$f":"IFERROR(VLOOKUP(ROWS($AE$2:AE888),P888:Q2791,2,0),\"\")","v":""},null,null,null,null,{"$f":"IFERROR(VLOOKUP(ROWS($AJ$2:AJ888),O888:Q2791,3,0),\"\")","v":""},null,{"$f":"IFERROR(VLOOKUP(ROWS(AL$2:$AL888),N888:Q2791,4,0),\"\")","v":""}]
[null,null,null,null,null,null,null,null,null,null,null,null,null,{"$f":"IF(ISNUMBER(SEARCH($H$16,Q889)),MAX($N$1:N888)+1,0)","v":0},{"$f":"IF(ISNUMBER(SEARCH($H$11,Q889)),MAX($O$1:O888)+1,0)","v":0},{"$f":"IF(ISNUMBER(SEARCH($H$6,Q889)),MAX($P$1:P888)+1,0)","v":0},"dws cash oppor rp","MDE065","Ultra Short term debt",null,null,null,null,null,null,null,null,null,null,null,{"$f":"IFERROR(VLOOKUP(ROWS($AE$2:AE889),P889:Q2792,2,0),\"\")","v":""},null,null,null,null,{"$f":"IFERROR(VLOOKUP(ROWS($AJ$2:AJ889),O889:Q2792,3,0),\"\")","v":""},null,{"$f":"IFERROR(VLOOKUP(ROWS(AL$2:$AL889),N889:Q2792,4,0),\"\")","v":""}]
[null,null,null,null,null,null,null,null,null,null,null,null,null,{"$f":"IF(ISNUMBER(SEARCH($H$16,Q890)),MAX($N$1:N889)+1,0)","v":0},{"$f":"IF(ISNUMBER(SEARCH($H$11,Q890)),MAX($O$1:O889)+1,0)","v":0},{"$f":"IF(ISNUMBER(SEARCH($H$6,Q890)),MAX($P$1:P889)+1,0)","v":0},"tata treasury manager ship","MTA173","Ultra Short term debt",null,null,null,null,null,null,null,null,null,null,null,{"$f":"IFERROR(VLOOKUP(ROWS($AE$2:AE890),P890:Q2793,2,0),\"\")","v":""},null,null,null,null,{"$f":"IFERROR(VLOOKUP(ROWS($AJ$2:AJ890),O890:Q2793,3,0),\"\")","v":""},null,{"$f":"IFERROR(VLOOKUP(ROWS(AL$2:$AL890),N890:Q2793,4,0),\"\")","v":""}]
[null,null,null,null,null,null,null,null,null,null,null,null,null,{"$f":"IF(ISNUMBER(SEARCH($H$16,Q891)),MAX($N$1:N890)+1,0)","v":0},{"$f":"IF(ISNUMBER(SEARCH($H$11,Q891)),MAX($O$1:O890)+1,0)","v":0},{"$f":"IF(ISNUMBER(SEARCH($H$6,Q891)),MAX($P$1:P890)+1,0)","v":0},"franklin usbf ip","MTE186","Ultra Short term debt",null,null,null,null,null,null,null,null,null,null,null,{"$f":"IFERROR(VLOOKUP(ROWS($AE$2:AE891),P891:Q2794,2,0),\"\")","v":""},null,null,null,null,{"$f":"IFERROR(VLOOKUP(ROWS($AJ$2:AJ891),O891:Q2794,3,0),\"\")","v":""},null,{"$f":"IFERROR(VLOOKUP(ROWS(AL$2:$AL891),N891:Q2794,4,0),\"\")","v":""}]
[null,null,null,null,null,null,null,null,null,null,null,null,null,{"$f":"IF(ISNUMBER(SEARCH($H$16,Q892)),MAX($N$1:N891)+1,0)","v":0},{"$f":"IF(ISNUMBER(SEARCH($H$11,Q892)),MAX($O$1:O891)+1,0)","v":0},{"$f":"IF(ISNUMBER(SEARCH($H$6,Q892)),MAX($P$1:P891)+1,0)","v":0},"icici pru ultra short term","MPI670","Ultra Short term debt",null,null,null,null,null,null,null,null,null,null,null,{"$f":"IFERROR(VLOOKUP(ROWS($AE$2:AE892),P892:Q2795,2,0),\"\")","v":""},null,null,null,null,{"$f":"IFERROR(VLOOKUP(ROWS($AJ$2:AJ892),O892:Q2795,3,0),\"\")","v":""},null,{"$f":"IFERROR(VLOOKUP(ROWS(AL$2:$AL892),N892:Q2795,4,0),\"\")","v":""}]
[null,null,null,null,null,null,null,null,null,null,null,null,null,{"$f":"IF(ISNUMBER(SEARCH($H$16,Q893)),MAX($N$1:N892)+1,0)","v":0},{"$f":"IF(ISNUMBER(SEARCH($H$11,Q893)),MAX($O$1:O892)+1,0)","v":0},{"$f":"IF(ISNUMBER(SEARCH($H$6,Q893)),MAX($P$1:P892)+1,0)","v":0},"icici pru ultra stp rp","MPI658","Ultra Short term debt",null,null,null,null,null,null,null,null,null,null,null,{"$f":"IFERROR(VLOOKUP(ROWS($AE$2:AE893),P893:Q2796,2,0),\"\")","v":""},null,null,null,null,{"$f":"IFERROR(VLOOKUP(ROWS($AJ$2:AJ893),O893:Q2796,3,0),\"\")","v":""},null,{"$f":"IFERROR(VLOOKUP(ROWS(AL$2:$AL893),N893:Q2796,4,0),\"\")","v":""}]
[null,null,null,null,null,null,null,null,null,null,null,null,null,{"$f":"IF(ISNUMBER(SEARCH($H$16,Q894)),MAX($N$1:N893)+1,0)","v":0},{"$f":"IF(ISNUMBER(SEARCH($H$11,Q894)),MAX($O$1:O893)+1,0)","v":0},{"$f":"IF(ISNUMBER(SEARCH($H$6,Q894)),MAX($P$1:P893)+1,0)","v":0},"dws ultra short term fund","MDE194","Ultra Short term debt",null,null,null,null,null,null,null,null,null,null,null,{"$f":"IFERROR(VLOOKUP(ROWS($AE$2:AE894),P894:Q2797,2,0),\"\")","v":""},null,null,null,null,{"$f":"IFERROR(VLOOKUP(ROWS($AJ$2:AJ894),O894:Q2797,3,0),\"\")","v":""},null,{"$f":"IFERROR(VLOOKUP(ROWS(AL$2:$AL894),N894:Q2797,4,0),\"\")","v":""}]
[null,null,null,null,null,null,null,null,null,null,null,null,null,{"$f":"IF(ISNUMBER(SEARCH($H$16,Q895)),MAX($N$1:N894)+1,0)","v":0},{"$f":"IF(ISNUMBER(SEARCH($H$11,Q895)),MAX($O$1:O894)+1,0)","v":0},{"$f":"IF(ISNUMBER(SEARCH($H$6,Q895)),MAX($P$1:P894)+1,0)","v":0},"sbi treasury advantage","MSA014","Ultra Short term debt",null,null,null,null,null,null,null,null,null,null,null,{"$f":"IFERROR(VLOOKUP(ROWS($AE$2:AE895),P895:Q2798,2,0),\"\")","v":""},null,null,null,null,{"$f":"IFERROR(VLOOKUP(ROWS($AJ$2:AJ895),O895:Q2798,3,0),\"\")","v":""},null,{"$f":"IFERROR(VLOOKUP(ROWS(AL$2:$AL895),N895:Q2798,4,0),\"\")","v":""}]
[null,null,null,null,null,null,null,null,null,null,null,null,null,{"$f":"IF(ISNUMBER(SEARCH($H$16,Q896)),MAX($N$1:N895)+1,0)","v":0},{"$f":"IF(ISNUMBER(SEARCH($H$11,Q896)),MAX($O$1:O895)+1,0)","v":0},{"$f":"IF(ISNUMBER(SEARCH($H$6,Q896)),MAX($P$1:P895)+1,0)","v":0},"taurus ustbf sip","MCM038","Ultra Short term debt",null,null,null,null,null,null,null,null,null,null,null,{"$f":"IFERROR(VLOOKUP(ROWS($AE$2:AE896),P896:Q2799,2,0),\"\")","v":""},null,null,null,null,{"$f":"IFERROR(VLOOKUP(ROWS($AJ$2:AJ896),O896:Q2799,3,0),\"\")","v":""},null,{"$f":"IFERROR(VLOOKUP(ROWS(AL$2:$AL896),N896:Q2799,4,0),\"\")","v":""}]
[null,null,null,null,null,null,null,null,null,null,null,null,null,{"$f":"IF(ISNUMBER(SEARCH($H$16,Q897)),MAX($N$1:N896)+1,0)","v":0},{"$f":"IF(ISNUMBER(SEARCH($H$11,Q897)),MAX($O$1:O896)+1,0)","v":0},{"$f":"IF(ISNUMBER(SEARCH($H$6,Q897)),MAX($P$1:P896)+1,0)","v":0},"birla sl saving fund dap ","MBS466","Ultra Short term debt",null,null,null,null,null,null,null,null,null,null,null,{"$f":"IFERROR(VLOOKUP(ROWS($AE$2:AE897),P897:Q2800,2,0),\"\")","v":""},null,null,null,null,{"$f":"IFERROR(VLOOKUP(ROWS($AJ$2:AJ897),O897:Q2800,3,0),\"\")","v":""},null,{"$f":"IFERROR(VLOOKUP(ROWS(AL$2:$AL897),N897:Q2800,4,0),\"\")","v":""}]
[null,null,null,null,null,null,null,null,null,null,null,null,null,{"$f":"IF(ISNUMBER(SEARCH($H$16,Q898)),MAX($N$1:N897)+1,0)","v":0},{"$f":"IF(ISNUMBER(SEARCH($H$11,Q898)),MAX($O$1:O897)+1,0)","v":0},{"$f":"IF(ISNUMBER(SEARCH($H$6,Q898)),MAX($P$1:P897)+1,0)","v":0},"birla sl saving fund ip","MBS037","Ultra Short term debt",null,null,null,null,null,null,null,null,null,null,null,{"$f":"IFERROR(VLOOKUP(ROWS($AE$2:AE898),P898:Q2801,2,0),\"\")","v":""},null,null,null,null,{"$f":"IFERROR(VLOOKUP(ROWS($AJ$2:AJ898),O898:Q2801,3,0),\"\")","v":""},null,{"$f":"IFERROR(VLOOKUP(ROWS(AL$2:$AL898),N898:Q2801,4,0),\"\")","v":""}]
[null,null,null,null,null,null,null,null,null,null,null,null,null,{"$f":"IF(ISNUMBER(SEARCH($H$16,Q899)),MAX($N$1:N898)+1,0)","v":0},{"$f":"IF(ISNUMBER(SEARCH($H$11,Q899)),MAX($O$1:O898)+1,0)","v":0},{"$f":"IF(ISNUMBER(SEARCH($H$6,Q899)),MAX($P$1:P898)+1,0)","v":0},"birla sl saving fund rp","MBS024","Ultra Short term debt",null,null,null,null,null,null,null,null,null,null,null,{"$f":"IFERROR(VLOOKUP(ROWS($AE$2:AE899),P899:Q2802,2,0),\"\")","v":""},null,null,null,null,{"$f":"IFERROR(VLOOKUP(ROWS($AJ$2:AJ899),O899:Q2802,3,0),\"\")","v":""},null,{"$f":"IFERROR(VLOOKUP(ROWS(AL$2:$AL899),N899:Q2802,4,0),\"\")","v":""}]
[null,null,null,null,null,null,null,null,null,null,null,null,null,{"$f":"IF(ISNUMBER(SEARCH($H$16,Q900)),MAX($N$1:N899)+1,0)","v":0},{"$f":"IF(ISNUMBER(SEARCH($H$11,Q900)),MAX($O$1:O899)+1,0)","v":0},{"$f":"IF(ISNUMBER(SEARCH($H$6,Q900)),MAX($P$1:P899)+1,0)","v":0},"baroda pioneer taf plan a","MBO038","Ultra Short term debt",null,null,null,null,null,null,null,null,null,null,null,{"$f":"IFERROR(VLOOKUP(ROWS($AE$2:AE900),P900:Q2803,2,0),\"\")","v":""},null,null,null,null,{"$f":"IFERROR(VLOOKUP(ROWS($AJ$2:AJ900),O900:Q2803,3,0),\"\")","v":""},null,{"$f":"IFERROR(VLOOKUP(ROWS(AL$2:$AL900),N900:Q2803,4,0),\"\")","v":""}]
[null,null,null,null,null,null,null,null,null,null,null,null,null,{"$f":"IF(ISNUMBER(SEARCH($H$16,Q901)),MAX($N$1:N900)+1,0)","v":0},{"$f":"IF(ISNUMBER(SEARCH($H$11,Q901)),MAX($O$1:O900)+1,0)","v":0},{"$f":"IF(ISNUMBER(SEARCH($H$6,Q901)),MAX($P$1:P900)+1,0)","v":0},"icici pru ultra stp sp+","MPI676","Ultra Short term debt",null,null,null,null,null,null,null,null,null,null,null,{"$f":"IFERROR(VLOOKUP(ROWS($AE$2:AE901),P901:Q2804,2,0),\"\")","v":""},null,null,null,null,{"$f":"IFERROR(VLOOKUP(ROWS($AJ$2:AJ901),O901:Q2804,3,0),\"\")","v":""},null,{"$f":"IFERROR(VLOOKUP(ROWS(AL$2:$AL901),N901:Q2804,4,0),\"\")","v":""}]
[null,null,null,null,null,null,null,null,null,null,null,null,null,{"$f":"IF(ISNUMBER(SEARCH($H$16,Q902)),MAX($N$1:N901)+1,0)","v":0},{"$f":"IF(ISNUMBER(SEARCH($H$11,Q902)),MAX($O$1:O901)+1,0)","v":0},{"$f":"IF(ISNUMBER(SEARCH($H$6,Q902)),MAX($P$1:P901)+1,0)","v":0},"icici pru ultra stp pp","MPI664","Ultra Short term debt",null,null,null,null,null,null,null,null,null,null,null,{"$f":"IFERROR(VLOOKUP(ROWS($AE$2:AE902),P902:Q2805,2,0),\"\")","v":""},null,null,null,null,{"$f":"IFERROR(VLOOKUP(ROWS($AJ$2:AJ902),O902:Q2805,3,0),\"\")","v":""},null,{"$f":"IFERROR(VLOOKUP(ROWS(AL$2:$AL902),N902:Q2805,4,0),\"\")","v":""}]
[null,null,null,null,null,null,null,null,null,null,null,null,null,{"$f":"IF(ISNUMBER(SEARCH($H$16,Q903)),MAX($N$1:N902)+1,0)","v":0},{"$f":"IF(ISNUMBER(SEARCH($H$11,Q903)),MAX($O$1:O902)+1,0)","v":0},{"$f":"IF(ISNUMBER(SEARCH($H$6,Q903)),MAX($P$1:P902)+1,0)","v":0},"birla sl frf ltp reg ","MBS460","Ultra Short term debt",null,null,null,null,null,null,null,null,null,null,null,{"$f":"IFERROR(VLOOKUP(ROWS($AE$2:AE903),P903:Q2806,2,0),\"\")","v":""},null,null,null,null,{"$f":"IFERROR(VLOOKUP(ROWS($AJ$2:AJ903),O903:Q2806,3,0),\"\")","v":""},null,{"$f":"IFERROR(VLOOKUP(ROWS(AL$2:$AL903),N903:Q2806,4,0),\"\")","v":""}]
[null,null,null,null,null,null,null,null,null,null,null,null,null,{"$f":"IF(ISNUMBER(SEARCH($H$16,Q904)),MAX($N$1:N903)+1,0)","v":0},{"$f":"IF(ISNUMBER(SEARCH($H$11,Q904)),MAX($O$1:O903)+1,0)","v":0},{"$f":"IF(ISNUMBER(SEARCH($H$6,Q904)),MAX($P$1:P903)+1,0)","v":0},"birla sl frf ltp rp","MBS043","Ultra Short term debt",null,null,null,null,null,null,null,null,null,null,null,{"$f":"IFERROR(VLOOKUP(ROWS($AE$2:AE904),P904:Q2807,2,0),\"\")","v":""},null,null,null,null,{"$f":"IFERROR(VLOOKUP(ROWS($AJ$2:AJ904),O904:Q2807,3,0),\"\")","v":""},null,{"$f":"IFERROR(VLOOKUP(ROWS(AL$2:$AL904),N904:Q2807,4,0),\"\")","v":""}]
[null,null,null,null,null,null,null,null,null,null,null,null,null,{"$f":"IF(ISNUMBER(SEARCH($H$16,Q905)),MAX($N$1:N904)+1,0)","v":0},{"$f":"IF(ISNUMBER(SEARCH($H$11,Q905)),MAX($O$1:O904)+1,0)","v":0},{"$f":"IF(ISNUMBER(SEARCH($H$6,Q905)),MAX($P$1:P904)+1,0)","v":0},"reliance medium term fund","MRC010","Ultra Short term debt",null,null,null,null,null,null,null,null,null,null,null,{"$f":"IFERROR(VLOOKUP(ROWS($AE$2:AE905),P905:Q2808,2,0),\"\")","v":""},null,null,null,null,{"$f":"IFERROR(VLOOKUP(ROWS($AJ$2:AJ905),O905:Q2808,3,0),\"\")","v":""},null,{"$f":"IFERROR(VLOOKUP(ROWS(AL$2:$AL905),N905:Q2808,4,0),\"\")","v":""}]
[null,null,null,null,null,null,null,null,null,null,null,null,null,{"$f":"IF(ISNUMBER(SEARCH($H$16,Q906)),MAX($N$1:N905)+1,0)","v":0},{"$f":"IF(ISNUMBER(SEARCH($H$11,Q906)),MAX($O$1:O905)+1,0)","v":0},{"$f":"IF(ISNUMBER(SEARCH($H$6,Q906)),MAX($P$1:P905)+1,0)","v":0},"hdfc floating rate inc stp wp","MHD247","Ultra Short term debt",null,null,null,null,null,null,null,null,null,null,null,{"$f":"IFERROR(VLOOKUP(ROWS($AE$2:AE906),P906:Q2809,2,0),\"\")","v":""},null,null,null,null,{"$f":"IFERROR(VLOOKUP(ROWS($AJ$2:AJ906),O906:Q2809,3,0),\"\")","v":""},null,{"$f":"IFERROR(VLOOKUP(ROWS(AL$2:$AL906),N906:Q2809,4,0),\"\")","v":""}]
[null,null,null,null,null,null,null,null,null,null,null,null,null,{"$f":"IF(ISNUMBER(SEARCH($H$16,Q907)),MAX($N$1:N906)+1,0)","v":0},{"$f":"IF(ISNUMBER(SEARCH($H$11,Q907)),MAX($O$1:O906)+1,0)","v":0},{"$f":"IF(ISNUMBER(SEARCH($H$6,Q907)),MAX($P$1:P906)+1,0)","v":0},"taurus short term income","MCM006","Ultra Short term debt",null,null,null,null,null,null,null,null,null,null,null,{"$f":"IFERROR(VLOOKUP(ROWS($AE$2:AE907),P907:Q2810,2,0),\"\")","v":""},null,null,null,null,{"$f":"IFERROR(VLOOKUP(ROWS($AJ$2:AJ907),O907:Q2810,3,0),\"\")","v":""},null,{"$f":"IFERROR(VLOOKUP(ROWS(AL$2:$AL907),N907:Q2810,4,0),\"\")","v":""}]
[null,null,null,null,null,null,null,null,null,null,null,null,null,{"$f":"IF(ISNUMBER(SEARCH($H$16,Q908)),MAX($N$1:N907)+1,0)","v":0},{"$f":"IF(ISNUMBER(SEARCH($H$11,Q908)),MAX($O$1:O907)+1,0)","v":0},{"$f":"IF(ISNUMBER(SEARCH($H$6,Q908)),MAX($P$1:P907)+1,0)","v":0},"icici pru flexi income","MPI036","Ultra Short term debt",null,null,null,null,null,null,null,null,null,null,null,{"$f":"IFERROR(VLOOKUP(ROWS($AE$2:AE908),P908:Q2811,2,0),\"\")","v":""},null,null,null,null,{"$f":"IFERROR(VLOOKUP(ROWS($AJ$2:AJ908),O908:Q2811,3,0),\"\")","v":""},null,{"$f":"IFERROR(VLOOKUP(ROWS(AL$2:$AL908),N908:Q2811,4,0),\"\")","v":""}]
[null,null,null,null,null,null,null,null,null,null,null,null,null,{"$f":"IF(ISNUMBER(SEARCH($H$16,Q909)),MAX($N$1:N908)+1,0)","v":0},{"$f":"IF(ISNUMBER(SEARCH($H$11,Q909)),MAX($O$1:O908)+1,0)","v":0},{"$f":"IF(ISNUMBER(SEARCH($H$6,Q909)),MAX($P$1:P908)+1,0)","v":0},"dws low duration fund ip","MDE052","Ultra Short term debt",null,null,null,null,null,null,null,null,null,null,null,{"$f":"IFERROR(VLOOKUP(ROWS($AE$2:AE909),P909:Q2812,2,0),\"\")","v":""},null,null,null,null,{"$f":"IFERROR(VLOOKUP(ROWS($AJ$2:AJ909),O909:Q2812,3,0),\"\")","v":""},null,{"$f":"IFERROR(VLOOKUP(ROWS(AL$2:$AL909),N909:Q2812,4,0),\"\")","v":""}]
[null,null,null,null,null,null,null,null,null,null,null,null,null,{"$f":"IF(ISNUMBER(SEARCH($H$16,Q910)),MAX($N$1:N909)+1,0)","v":0},{"$f":"IF(ISNUMBER(SEARCH($H$11,Q910)),MAX($O$1:O909)+1,0)","v":0},{"$f":"IF(ISNUMBER(SEARCH($H$6,Q910)),MAX($P$1:P909)+1,0)","v":0},"indiabulls ultra short term","MIM006","Ultra Short term debt",null,null,null,null,null,null,null,null,null,null,null,{"$f":"IFERROR(VLOOKUP(ROWS($AE$2:AE910),P910:Q2813,2,0),\"\")","v":""},null,null,null,null,{"$f":"IFERROR(VLOOKUP(ROWS($AJ$2:AJ910),O910:Q2813,3,0),\"\")","v":""},null,{"$f":"IFERROR(VLOOKUP(ROWS(AL$2:$AL910),N910:Q2813,4,0),\"\")","v":""}]
[null,null,null,null,null,null,null,null,null,null,null,null,null,{"$f":"IF(ISNUMBER(SEARCH($H$16,Q911)),MAX($N$1:N910)+1,0)","v":0},{"$f":"IF(ISNUMBER(SEARCH($H$11,Q911)),MAX($O$1:O910)+1,0)","v":0},{"$f":"IF(ISNUMBER(SEARCH($H$6,Q911)),MAX($P$1:P910)+1,0)","v":0},"kotak treasury advantage regular","MKM065","Ultra Short term debt",null,null,null,null,null,null,null,null,null,null,null,{"$f":"IFERROR(VLOOKUP(ROWS($AE$2:AE911),P911:Q2814,2,0),\"\")","v":""},null,null,null,null,{"$f":"IFERROR(VLOOKUP(ROWS($AJ$2:AJ911),O911:Q2814,3,0),\"\")","v":""},null,{"$f":"IFERROR(VLOOKUP(ROWS(AL$2:$AL911),N911:Q2814,4,0),\"\")","v":""}]
[null,null,null,null,null,null,null,null,null,null,null,null,null,{"$f":"IF(ISNUMBER(SEARCH($H$16,Q912)),MAX($N$1:N911)+1,0)","v":0},{"$f":"IF(ISNUMBER(SEARCH($H$11,Q912)),MAX($O$1:O911)+1,0)","v":0},{"$f":"IF(ISNUMBER(SEARCH($H$6,Q912)),MAX($P$1:P911)+1,0)","v":0},"bnp paribas money plus dir","MAB742","Ultra Short term debt",null,null,null,null,null,null,null,null,null,null,null,{"$f":"IFERROR(VLOOKUP(ROWS($AE$2:AE912),P912:Q2815,2,0),\"\")","v":""},null,null,null,null,{"$f":"IFERROR(VLOOKUP(ROWS($AJ$2:AJ912),O912:Q2815,3,0),\"\")","v":""},null,{"$f":"IFERROR(VLOOKUP(ROWS(AL$2:$AL912),N912:Q2815,4,0),\"\")","v":""}]
[null,null,null,null,null,null,null,null,null,null,null,null,null,{"$f":"IF(ISNUMBER(SEARCH($H$16,Q913)),MAX($N$1:N912)+1,0)","v":0},{"$f":"IF(ISNUMBER(SEARCH($H$11,Q913)),MAX($O$1:O912)+1,0)","v":0},{"$f":"IF(ISNUMBER(SEARCH($H$6,Q913)),MAX($P$1:P912)+1,0)","v":0},"uti treasury advtg inst","MUT119","Ultra Short term debt",null,null,null,null,null,null,null,null,null,null,null,{"$f":"IFERROR(VLOOKUP(ROWS($AE$2:AE913),P913:Q2816,2,0),\"\")","v":""},null,null,null,null,{"$f":"IFERROR(VLOOKUP(ROWS($AJ$2:AJ913),O913:Q2816,3,0),\"\")","v":""},null,{"$f":"IFERROR(VLOOKUP(ROWS(AL$2:$AL913),N913:Q2816,4,0),\"\")","v":""}]
[null,null,null,null,null,null,null,null,null,null,null,null,null,{"$f":"IF(ISNUMBER(SEARCH($H$16,Q914)),MAX($N$1:N913)+1,0)","v":0},{"$f":"IF(ISNUMBER(SEARCH($H$11,Q914)),MAX($O$1:O913)+1,0)","v":0},{"$f":"IF(ISNUMBER(SEARCH($H$6,Q914)),MAX($P$1:P913)+1,0)","v":0},"idfc ultra short term fund rp","MAG098","Ultra Short term debt",null,null,null,null,null,null,null,null,null,null,null,{"$f":"IFERROR(VLOOKUP(ROWS($AE$2:AE914),P914:Q2817,2,0),\"\")","v":""},null,null,null,null,{"$f":"IFERROR(VLOOKUP(ROWS($AJ$2:AJ914),O914:Q2817,3,0),\"\")","v":""},null,{"$f":"IFERROR(VLOOKUP(ROWS(AL$2:$AL914),N914:Q2817,4,0),\"\")","v":""}]
[null,null,null,null,null,null,null,null,null,null,null,null,null,{"$f":"IF(ISNUMBER(SEARCH($H$16,Q915)),MAX($N$1:N914)+1,0)","v":0},{"$f":"IF(ISNUMBER(SEARCH($H$11,Q915)),MAX($O$1:O914)+1,0)","v":0},{"$f":"IF(ISNUMBER(SEARCH($H$6,Q915)),MAX($P$1:P914)+1,0)","v":0},"franklin usbf rp","MTE184","Ultra Short term debt",null,null,null,null,null,null,null,null,null,null,null,{"$f":"IFERROR(VLOOKUP(ROWS($AE$2:AE915),P915:Q2818,2,0),\"\")","v":""},null,null,null,null,{"$f":"IFERROR(VLOOKUP(ROWS($AJ$2:AJ915),O915:Q2818,3,0),\"\")","v":""},null,{"$f":"IFERROR(VLOOKUP(ROWS(AL$2:$AL915),N915:Q2818,4,0),\"\")","v":""}]
[null,null,null,null,null,null,null,null,null,null,null,null,null,{"$f":"IF(ISNUMBER(SEARCH($H$16,Q916)),MAX($N$1:N915)+1,0)","v":0},{"$f":"IF(ISNUMBER(SEARCH($H$11,Q916)),MAX($O$1:O915)+1,0)","v":0},{"$f":"IF(ISNUMBER(SEARCH($H$6,Q916)),MAX($P$1:P915)+1,0)","v":0},"boi axa treasury adv rp","MBA013","Ultra Short term debt",null,null,null,null,null,null,null,null,null,null,null,{"$f":"IFERROR(VLOOKUP(ROWS($AE$2:AE916),P916:Q2819,2,0),\"\")","v":""},null,null,null,null,{"$f":"IFERROR(VLOOKUP(ROWS($AJ$2:AJ916),O916:Q2819,3,0),\"\")","v":""},null,{"$f":"IFERROR(VLOOKUP(ROWS(AL$2:$AL916),N916:Q2819,4,0),\"\")","v":""}]
[null,null,null,null,null,null,null,null,null,null,null,null,null,{"$f":"IF(ISNUMBER(SEARCH($H$16,Q917)),MAX($N$1:N916)+1,0)","v":0},{"$f":"IF(ISNUMBER(SEARCH($H$11,Q917)),MAX($O$1:O916)+1,0)","v":0},{"$f":"IF(ISNUMBER(SEARCH($H$6,Q917)),MAX($P$1:P916)+1,0)","v":0},"can robeco treasury adv rp","MCA099","Ultra Short term debt",null,null,null,null,null,null,null,null,null,null,null,{"$f":"IFERROR(VLOOKUP(ROWS($AE$2:AE917),P917:Q2820,2,0),\"\")","v":""},null,null,null,null,{"$f":"IFERROR(VLOOKUP(ROWS($AJ$2:AJ917),O917:Q2820,3,0),\"\")","v":""},null,{"$f":"IFERROR(VLOOKUP(ROWS(AL$2:$AL917),N917:Q2820,4,0),\"\")","v":""}]
[null,null,null,null,null,null,null,null,null,null,null,null,null,{"$f":"IF(ISNUMBER(SEARCH($H$16,Q918)),MAX($N$1:N917)+1,0)","v":0},{"$f":"IF(ISNUMBER(SEARCH($H$11,Q918)),MAX($O$1:O917)+1,0)","v":0},{"$f":"IF(ISNUMBER(SEARCH($H$6,Q918)),MAX($P$1:P917)+1,0)","v":0},"boi axa treasury adv ip","MBA017","Ultra Short term debt",null,null,null,null,null,null,null,null,null,null,null,{"$f":"IFERROR(VLOOKUP(ROWS($AE$2:AE918),P918:Q2821,2,0),\"\")","v":""},null,null,null,null,{"$f":"IFERROR(VLOOKUP(ROWS($AJ$2:AJ918),O918:Q2821,3,0),\"\")","v":""},null,{"$f":"IFERROR(VLOOKUP(ROWS(AL$2:$AL918),N918:Q2821,4,0),\"\")","v":""}]
[null,null,null,null,null,null,null,null,null,null,null,null,null,{"$f":"IF(ISNUMBER(SEARCH($H$16,Q919)),MAX($N$1:N918)+1,0)","v":0},{"$f":"IF(ISNUMBER(SEARCH($H$11,Q919)),MAX($O$1:O918)+1,0)","v":0},{"$f":"IF(ISNUMBER(SEARCH($H$6,Q919)),MAX($P$1:P918)+1,0)","v":0},"idfc mmf investment plan rp","MAG077","Ultra Short term debt",null,null,null,null,null,null,null,null,null,null,null,{"$f":"IFERROR(VLOOKUP(ROWS($AE$2:AE919),P919:Q2822,2,0),\"\")","v":""},null,null,null,null,{"$f":"IFERROR(VLOOKUP(ROWS($AJ$2:AJ919),O919:Q2822,3,0),\"\")","v":""},null,{"$f":"IFERROR(VLOOKUP(ROWS(AL$2:$AL919),N919:Q2822,4,0),\"\")","v":""}]
[null,null,null,null,null,null,null,null,null,null,null,null,null,{"$f":"IF(ISNUMBER(SEARCH($H$16,Q920)),MAX($N$1:N919)+1,0)","v":0},{"$f":"IF(ISNUMBER(SEARCH($H$11,Q920)),MAX($O$1:O919)+1,0)","v":0},{"$f":"IF(ISNUMBER(SEARCH($H$6,Q920)),MAX($P$1:P919)+1,0)","v":0},"jpmorgan treasury sip","MJP026","Ultra Short term debt",null,null,null,null,null,null,null,null,null,null,null,{"$f":"IFERROR(VLOOKUP(ROWS($AE$2:AE920),P920:Q2823,2,0),\"\")","v":""},null,null,null,null,{"$f":"IFERROR(VLOOKUP(ROWS($AJ$2:AJ920),O920:Q2823,3,0),\"\")","v":""},null,{"$f":"IFERROR(VLOOKUP(ROWS(AL$2:$AL920),N920:Q2823,4,0),\"\")","v":""}]
[null,null,null,null,null,null,null,null,null,null,null,null,null,{"$f":"IF(ISNUMBER(SEARCH($H$16,Q921)),MAX($N$1:N920)+1,0)","v":0},{"$f":"IF(ISNUMBER(SEARCH($H$11,Q921)),MAX($O$1:O920)+1,0)","v":0},{"$f":"IF(ISNUMBER(SEARCH($H$6,Q921)),MAX($P$1:P920)+1,0)","v":0},"idfc mmf investment plan a","MAG074","Ultra Short term debt",null,null,null,null,null,null,null,null,null,null,null,{"$f":"IFERROR(VLOOKUP(ROWS($AE$2:AE921),P921:Q2824,2,0),\"\")","v":""},null,null,null,null,{"$f":"IFERROR(VLOOKUP(ROWS($AJ$2:AJ921),O921:Q2824,3,0),\"\")","v":""},null,{"$f":"IFERROR(VLOOKUP(ROWS(AL$2:$AL921),N921:Q2824,4,0),\"\")","v":""}]
[null,null,null,null,null,null,null,null,null,null,null,null,null,{"$f":"IF(ISNUMBER(SEARCH($H$16,Q922)),MAX($N$1:N921)+1,0)","v":0},{"$f":"IF(ISNUMBER(SEARCH($H$11,Q922)),MAX($O$1:O921)+1,0)","v":0},{"$f":"IF(ISNUMBER(SEARCH($H$6,Q922)),MAX($P$1:P921)+1,0)","v":0},"axis banking debt fund","MAA165","Ultra Short term debt",null,null,null,null,null,null,null,null,null,null,null,{"$f":"IFERROR(VLOOKUP(ROWS($AE$2:AE922),P922:Q2825,2,0),\"\")","v":""},null,null,null,null,{"$f":"IFERROR(VLOOKUP(ROWS($AJ$2:AJ922),O922:Q2825,3,0),\"\")","v":""},null,{"$f":"IFERROR(VLOOKUP(ROWS(AL$2:$AL922),N922:Q2825,4,0),\"\")","v":""}]
[null,null,null,null,null,null,null,null,null,null,null,null,null,{"$f":"IF(ISNUMBER(SEARCH($H$16,Q923)),MAX($N$1:N922)+1,0)","v":0},{"$f":"IF(ISNUMBER(SEARCH($H$11,Q923)),MAX($O$1:O922)+1,0)","v":0},{"$f":"IF(ISNUMBER(SEARCH($H$6,Q923)),MAX($P$1:P922)+1,0)","v":0},"kotak banking psu debt dir","MKM551","Ultra Short term debt",null,null,null,null,null,null,null,null,null,null,null,{"$f":"IFERROR(VLOOKUP(ROWS($AE$2:AE923),P923:Q2826,2,0),\"\")","v":""},null,null,null,null,{"$f":"IFERROR(VLOOKUP(ROWS($AJ$2:AJ923),O923:Q2826,3,0),\"\")","v":""},null,{"$f":"IFERROR(VLOOKUP(ROWS(AL$2:$AL923),N923:Q2826,4,0),\"\")","v":""}]
[null,null,null,null,null,null,null,null,null,null,null,null,null,{"$f":"IF(ISNUMBER(SEARCH($H$16,Q924)),MAX($N$1:N923)+1,0)","v":0},{"$f":"IF(ISNUMBER(SEARCH($H$11,Q924)),MAX($O$1:O923)+1,0)","v":0},{"$f":"IF(ISNUMBER(SEARCH($H$6,Q924)),MAX($P$1:P923)+1,0)","v":0},"can robeco treasury adv ip","MCA055","Ultra Short term debt",null,null,null,null,null,null,null,null,null,null,null,{"$f":"IFERROR(VLOOKUP(ROWS($AE$2:AE924),P924:Q2827,2,0),\"\")","v":""},null,null,null,null,{"$f":"IFERROR(VLOOKUP(ROWS($AJ$2:AJ924),O924:Q2827,3,0),\"\")","v":""},null,{"$f":"IFERROR(VLOOKUP(ROWS(AL$2:$AL924),N924:Q2827,4,0),\"\")","v":""}]
[null,null,null,null,null,null,null,null,null,null,null,null,null,{"$f":"IF(ISNUMBER(SEARCH($H$16,Q925)),MAX($N$1:N924)+1,0)","v":0},{"$f":"IF(ISNUMBER(SEARCH($H$11,Q925)),MAX($O$1:O924)+1,0)","v":0},{"$f":"IF(ISNUMBER(SEARCH($H$6,Q925)),MAX($P$1:P924)+1,0)","v":0},"pramerica treasury advantage","MPA027","Ultra Short term debt",null,null,null,null,null,null,null,null,null,null,null,{"$f":"IFERROR(VLOOKUP(ROWS($AE$2:AE925),P925:Q2828,2,0),\"\")","v":""},null,null,null,null,{"$f":"IFERROR(VLOOKUP(ROWS($AJ$2:AJ925),O925:Q2828,3,0),\"\")","v":""},null,{"$f":"IFERROR(VLOOKUP(ROWS(AL$2:$AL925),N925:Q2828,4,0),\"\")","v":""}]
[null,null,null,null,null,null,null,null,null,null,null,null,null,{"$f":"IF(ISNUMBER(SEARCH($H$16,Q926)),MAX($N$1:N925)+1,0)","v":0},{"$f":"IF(ISNUMBER(SEARCH($H$11,Q926)),MAX($O$1:O925)+1,0)","v":0},{"$f":"IF(ISNUMBER(SEARCH($H$6,Q926)),MAX($P$1:P925)+1,0)","v":0},"idfc banking debt fund regular","MAG839","Ultra Short term debt",null,null,null,null,null,null,null,null,null,null,null,{"$f":"IFERROR(VLOOKUP(ROWS($AE$2:AE926),P926:Q2829,2,0),\"\")","v":""},null,null,null,null,{"$f":"IFERROR(VLOOKUP(ROWS($AJ$2:AJ926),O926:Q2829,3,0),\"\")","v":""},null,{"$f":"IFERROR(VLOOKUP(ROWS(AL$2:$AL926),N926:Q2829,4,0),\"\")","v":""}]
[null,null,null,null,null,null,null,null,null,null,null,null,null,{"$f":"IF(ISNUMBER(SEARCH($H$16,Q927)),MAX($N$1:N926)+1,0)","v":0},{"$f":"IF(ISNUMBER(SEARCH($H$11,Q927)),MAX($O$1:O926)+1,0)","v":0},{"$f":"IF(ISNUMBER(SEARCH($H$6,Q927)),MAX($P$1:P926)+1,0)","v":0},"religare invesco credit opp","MLI343","Ultra Short term debt",null,null,null,null,null,null,null,null,null,null,null,{"$f":"IFERROR(VLOOKUP(ROWS($AE$2:AE927),P927:Q2830,2,0),\"\")","v":""},null,null,null,null,{"$f":"IFERROR(VLOOKUP(ROWS($AJ$2:AJ927),O927:Q2830,3,0),\"\")","v":""},null,{"$f":"IFERROR(VLOOKUP(ROWS(AL$2:$AL927),N927:Q2830,4,0),\"\")","v":""}]
[null,null,null,null,null,null,null,null,null,null,null,null,null,{"$f":"IF(ISNUMBER(SEARCH($H$16,Q928)),MAX($N$1:N927)+1,0)","v":0},{"$f":"IF(ISNUMBER(SEARCH($H$11,Q928)),MAX($O$1:O927)+1,0)","v":0},{"$f":"IF(ISNUMBER(SEARCH($H$6,Q928)),MAX($P$1:P927)+1,0)","v":0},"sbi shdf ustbf ip","MSB099","Ultra Short term debt",null,null,null,null,null,null,null,null,null,null,null,{"$f":"IFERROR(VLOOKUP(ROWS($AE$2:AE928),P928:Q2831,2,0),\"\")","v":""},null,null,null,null,{"$f":"IFERROR(VLOOKUP(ROWS($AJ$2:AJ928),O928:Q2831,3,0),\"\")","v":""},null,{"$f":"IFERROR(VLOOKUP(ROWS(AL$2:$AL928),N928:Q2831,4,0),\"\")","v":""}]
[null,null,null,null,null,null,null,null,null,null,null,null,null,{"$f":"IF(ISNUMBER(SEARCH($H$16,Q929)),MAX($N$1:N928)+1,0)","v":0},{"$f":"IF(ISNUMBER(SEARCH($H$11,Q929)),MAX($O$1:O928)+1,0)","v":0},{"$f":"IF(ISNUMBER(SEARCH($H$6,Q929)),MAX($P$1:P928)+1,0)","v":0},"sbi ultra short term bond rp","MSB094","Ultra Short term debt",null,null,null,null,null,null,null,null,null,null,null,{"$f":"IFERROR(VLOOKUP(ROWS($AE$2:AE929),P929:Q2832,2,0),\"\")","v":""},null,null,null,null,{"$f":"IFERROR(VLOOKUP(ROWS($AJ$2:AJ929),O929:Q2832,3,0),\"\")","v":""},null,{"$f":"IFERROR(VLOOKUP(ROWS(AL$2:$AL929),N929:Q2832,4,0),\"\")","v":""}]
[null,null,null,null,null,null,null,null,null,null,null,null,null,{"$f":"IF(ISNUMBER(SEARCH($H$16,Q930)),MAX($N$1:N929)+1,0)","v":0},{"$f":"IF(ISNUMBER(SEARCH($H$11,Q930)),MAX($O$1:O929)+1,0)","v":0},{"$f":"IF(ISNUMBER(SEARCH($H$6,Q930)),MAX($P$1:P929)+1,0)","v":0},"tata floater fund","MTA137","Ultra Short term debt",null,null,null,null,null,null,null,null,null,null,null,{"$f":"IFERROR(VLOOKUP(ROWS($AE$2:AE930),P930:Q2833,2,0),\"\")","v":""},null,null,null,null,{"$f":"IFERROR(VLOOKUP(ROWS($AJ$2:AJ930),O930:Q2833,3,0),\"\")","v":""},null,{"$f":"IFERROR(VLOOKUP(ROWS(AL$2:$AL930),N930:Q2833,4,0),\"\")","v":""}]
[null,null,null,null,null,null,null,null,null,null,null,null,null,{"$f":"IF(ISNUMBER(SEARCH($H$16,Q931)),MAX($N$1:N930)+1,0)","v":0},{"$f":"IF(ISNUMBER(SEARCH($H$11,Q931)),MAX($O$1:O930)+1,0)","v":0},{"$f":"IF(ISNUMBER(SEARCH($H$6,Q931)),MAX($P$1:P930)+1,0)","v":0},"sundaram flexi inc stp ip","MSN070","Ultra Short term debt",null,null,null,null,null,null,null,null,null,null,null,{"$f":"IFERROR(VLOOKUP(ROWS($AE$2:AE931),P931:Q2834,2,0),\"\")","v":""},null,null,null,null,{"$f":"IFERROR(VLOOKUP(ROWS($AJ$2:AJ931),O931:Q2834,3,0),\"\")","v":""},null,{"$f":"IFERROR(VLOOKUP(ROWS(AL$2:$AL931),N931:Q2834,4,0),\"\")","v":""}]
[null,null,null,null,null,null,null,null,null,null,null,null,null,{"$f":"IF(ISNUMBER(SEARCH($H$16,Q932)),MAX($N$1:N931)+1,0)","v":0},{"$f":"IF(ISNUMBER(SEARCH($H$11,Q932)),MAX($O$1:O931)+1,0)","v":0},{"$f":"IF(ISNUMBER(SEARCH($H$6,Q932)),MAX($P$1:P931)+1,0)","v":0},"kotak banking psu debt rp","MKM001","Ultra Short term debt",null,null,null,null,null,null,null,null,null,null,null,{"$f":"IFERROR(VLOOKUP(ROWS($AE$2:AE932),P932:Q2835,2,0),\"\")","v":""},null,null,null,null,{"$f":"IFERROR(VLOOKUP(ROWS($AJ$2:AJ932),O932:Q2835,3,0),\"\")","v":""},null,{"$f":"IFERROR(VLOOKUP(ROWS(AL$2:$AL932),N932:Q2835,4,0),\"\")","v":""}]
[null,null,null,null,null,null,null,null,null,null,null,null,null,{"$f":"IF(ISNUMBER(SEARCH($H$16,Q933)),MAX($N$1:N932)+1,0)","v":0},{"$f":"IF(ISNUMBER(SEARCH($H$11,Q933)),MAX($O$1:O932)+1,0)","v":0},{"$f":"IF(ISNUMBER(SEARCH($H$6,Q933)),MAX($P$1:P932)+1,0)","v":0},"hdfc cmf treasury advan dir","MHD1182","Ultra Short term debt",null,null,null,null,null,null,null,null,null,null,null,{"$f":"IFERROR(VLOOKUP(ROWS($AE$2:AE933),P933:Q2836,2,0),\"\")","v":""},null,null,null,null,{"$f":"IFERROR(VLOOKUP(ROWS($AJ$2:AJ933),O933:Q2836,3,0),\"\")","v":""},null,{"$f":"IFERROR(VLOOKUP(ROWS(AL$2:$AL933),N933:Q2836,4,0),\"\")","v":""}]
[null,null,null,null,null,null,null,null,null,null,null,null,null,{"$f":"IF(ISNUMBER(SEARCH($H$16,Q934)),MAX($N$1:N933)+1,0)","v":0},{"$f":"IF(ISNUMBER(SEARCH($H$11,Q934)),MAX($O$1:O933)+1,0)","v":0},{"$f":"IF(ISNUMBER(SEARCH($H$6,Q934)),MAX($P$1:P933)+1,0)","v":0},"hdfc floating rate inc stp rp","MHD024","Ultra Short term debt",null,null,null,null,null,null,null,null,null,null,null,{"$f":"IFERROR(VLOOKUP(ROWS($AE$2:AE934),P934:Q2837,2,0),\"\")","v":""},null,null,null,null,{"$f":"IFERROR(VLOOKUP(ROWS($AJ$2:AJ934),O934:Q2837,3,0),\"\")","v":""},null,{"$f":"IFERROR(VLOOKUP(ROWS(AL$2:$AL934),N934:Q2837,4,0),\"\")","v":""}]
[null,null,null,null,null,null,null,null,null,null,null,null,null,{"$f":"IF(ISNUMBER(SEARCH($H$16,Q935)),MAX($N$1:N934)+1,0)","v":0},{"$f":"IF(ISNUMBER(SEARCH($H$11,Q935)),MAX($O$1:O934)+1,0)","v":0},{"$f":"IF(ISNUMBER(SEARCH($H$6,Q935)),MAX($P$1:P934)+1,0)","v":0},"edelweiss ultra stbf ip","MEW025","Ultra Short term debt",null,null,null,null,null,null,null,null,null,null,null,{"$f":"IFERROR(VLOOKUP(ROWS($AE$2:AE935),P935:Q2838,2,0),\"\")","v":""},null,null,null,null,{"$f":"IFERROR(VLOOKUP(ROWS($AJ$2:AJ935),O935:Q2838,3,0),\"\")","v":""},null,{"$f":"IFERROR(VLOOKUP(ROWS(AL$2:$AL935),N935:Q2838,4,0),\"\")","v":""}]
[null,null,null,null,null,null,null,null,null,null,null,null,null,{"$f":"IF(ISNUMBER(SEARCH($H$16,Q936)),MAX($N$1:N935)+1,0)","v":0},{"$f":"IF(ISNUMBER(SEARCH($H$11,Q936)),MAX($O$1:O935)+1,0)","v":0},{"$f":"IF(ISNUMBER(SEARCH($H$6,Q936)),MAX($P$1:P935)+1,0)","v":0},"hdfc cmf treasury advan wp","MHD064","Ultra Short term debt",null,null,null,null,null,null,null,null,null,null,null,{"$f":"IFERROR(VLOOKUP(ROWS($AE$2:AE936),P936:Q2839,2,0),\"\")","v":""},null,null,null,null,{"$f":"IFERROR(VLOOKUP(ROWS($AJ$2:AJ936),O936:Q2839,3,0),\"\")","v":""},null,{"$f":"IFERROR(VLOOKUP(ROWS(AL$2:$AL936),N936:Q2839,4,0),\"\")","v":""}]
[null,null,null,null,null,null,null,null,null,null,null,null,null,{"$f":"IF(ISNUMBER(SEARCH($H$16,Q937)),MAX($N$1:N936)+1,0)","v":0},{"$f":"IF(ISNUMBER(SEARCH($H$11,Q937)),MAX($O$1:O936)+1,0)","v":0},{"$f":"IF(ISNUMBER(SEARCH($H$6,Q937)),MAX($P$1:P936)+1,0)","v":0},"dsp br money manager ip","MDS053","Ultra Short term debt",null,null,null,null,null,null,null,null,null,null,null,{"$f":"IFERROR(VLOOKUP(ROWS($AE$2:AE937),P937:Q2840,2,0),\"\")","v":""},null,null,null,null,{"$f":"IFERROR(VLOOKUP(ROWS($AJ$2:AJ937),O937:Q2840,3,0),\"\")","v":""},null,{"$f":"IFERROR(VLOOKUP(ROWS(AL$2:$AL937),N937:Q2840,4,0),\"\")","v":""}]
[null,null,null,null,null,null,null,null,null,null,null,null,null,{"$f":"IF(ISNUMBER(SEARCH($H$16,Q938)),MAX($N$1:N937)+1,0)","v":0},{"$f":"IF(ISNUMBER(SEARCH($H$11,Q938)),MAX($O$1:O937)+1,0)","v":0},{"$f":"IF(ISNUMBER(SEARCH($H$6,Q938)),MAX($P$1:P937)+1,0)","v":0},"l t ultra short term fund","MCC021","Ultra Short term debt",null,null,null,null,null,null,null,null,null,null,null,{"$f":"IFERROR(VLOOKUP(ROWS($AE$2:AE938),P938:Q2841,2,0),\"\")","v":""},null,null,null,null,{"$f":"IFERROR(VLOOKUP(ROWS($AJ$2:AJ938),O938:Q2841,3,0),\"\")","v":""},null,{"$f":"IFERROR(VLOOKUP(ROWS(AL$2:$AL938),N938:Q2841,4,0),\"\")","v":""}]
[null,null,null,null,null,null,null,null,null,null,null,null,null,{"$f":"IF(ISNUMBER(SEARCH($H$16,Q939)),MAX($N$1:N938)+1,0)","v":0},{"$f":"IF(ISNUMBER(SEARCH($H$11,Q939)),MAX($O$1:O938)+1,0)","v":0},{"$f":"IF(ISNUMBER(SEARCH($H$6,Q939)),MAX($P$1:P938)+1,0)","v":0},"tata treasury manager rip","MTA167","Ultra Short term debt",null,null,null,null,null,null,null,null,null,null,null,{"$f":"IFERROR(VLOOKUP(ROWS($AE$2:AE939),P939:Q2842,2,0),\"\")","v":""},null,null,null,null,{"$f":"IFERROR(VLOOKUP(ROWS($AJ$2:AJ939),O939:Q2842,3,0),\"\")","v":""},null,{"$f":"IFERROR(VLOOKUP(ROWS(AL$2:$AL939),N939:Q2842,4,0),\"\")","v":""}]
[null,null,null,null,null,null,null,null,null,null,null,null,null,{"$f":"IF(ISNUMBER(SEARCH($H$16,Q940)),MAX($N$1:N939)+1,0)","v":0},{"$f":"IF(ISNUMBER(SEARCH($H$11,Q940)),MAX($O$1:O939)+1,0)","v":0},{"$f":"IF(ISNUMBER(SEARCH($H$6,Q940)),MAX($P$1:P939)+1,0)","v":0},"tata treasury manager regular plan","MTA169","Ultra Short term debt",null,null,null,null,null,null,null,null,null,null,null,{"$f":"IFERROR(VLOOKUP(ROWS($AE$2:AE940),P940:Q2843,2,0),\"\")","v":""},null,null,null,null,{"$f":"IFERROR(VLOOKUP(ROWS($AJ$2:AJ940),O940:Q2843,3,0),\"\")","v":""},null,{"$f":"IFERROR(VLOOKUP(ROWS(AL$2:$AL940),N940:Q2843,4,0),\"\")","v":""}]
[null,null,null,null,null,null,null,null,null,null,null,null,null,{"$f":"IF(ISNUMBER(SEARCH($H$16,Q941)),MAX($N$1:N940)+1,0)","v":0},{"$f":"IF(ISNUMBER(SEARCH($H$11,Q941)),MAX($O$1:O940)+1,0)","v":0},{"$f":"IF(ISNUMBER(SEARCH($H$6,Q941)),MAX($P$1:P940)+1,0)","v":0},"idfc mmf treasury plan ip b","MAG039","Ultra Short term debt",null,null,null,null,null,null,null,null,null,null,null,{"$f":"IFERROR(VLOOKUP(ROWS($AE$2:AE941),P941:Q2844,2,0),\"\")","v":""},null,null,null,null,{"$f":"IFERROR(VLOOKUP(ROWS($AJ$2:AJ941),O941:Q2844,3,0),\"\")","v":""},null,{"$f":"IFERROR(VLOOKUP(ROWS(AL$2:$AL941),N941:Q2844,4,0),\"\")","v":""}]
[null,null,null,null,null,null,null,null,null,null,null,null,null,{"$f":"IF(ISNUMBER(SEARCH($H$16,Q942)),MAX($N$1:N941)+1,0)","v":0},{"$f":"IF(ISNUMBER(SEARCH($H$11,Q942)),MAX($O$1:O941)+1,0)","v":0},{"$f":"IF(ISNUMBER(SEARCH($H$6,Q942)),MAX($P$1:P941)+1,0)","v":0},"jm money manager fund spp","MJM074","Ultra Short term debt",null,null,null,null,null,null,null,null,null,null,null,{"$f":"IFERROR(VLOOKUP(ROWS($AE$2:AE942),P942:Q2845,2,0),\"\")","v":""},null,null,null,null,{"$f":"IFERROR(VLOOKUP(ROWS($AJ$2:AJ942),O942:Q2845,3,0),\"\")","v":""},null,{"$f":"IFERROR(VLOOKUP(ROWS(AL$2:$AL942),N942:Q2845,4,0),\"\")","v":""}]
[null,null,null,null,null,null,null,null,null,null,null,null,null,{"$f":"IF(ISNUMBER(SEARCH($H$16,Q943)),MAX($N$1:N942)+1,0)","v":0},{"$f":"IF(ISNUMBER(SEARCH($H$11,Q943)),MAX($O$1:O942)+1,0)","v":0},{"$f":"IF(ISNUMBER(SEARCH($H$6,Q943)),MAX($P$1:P942)+1,0)","v":0},"principal bank cd fund","MID138","Ultra Short term debt",null,null,null,null,null,null,null,null,null,null,null,{"$f":"IFERROR(VLOOKUP(ROWS($AE$2:AE943),P943:Q2846,2,0),\"\")","v":""},null,null,null,null,{"$f":"IFERROR(VLOOKUP(ROWS($AJ$2:AJ943),O943:Q2846,3,0),\"\")","v":""},null,{"$f":"IFERROR(VLOOKUP(ROWS(AL$2:$AL943),N943:Q2846,4,0),\"\")","v":""}]
[null,null,null,null,null,null,null,null,null,null,null,null,null,{"$f":"IF(ISNUMBER(SEARCH($H$16,Q944)),MAX($N$1:N943)+1,0)","v":0},{"$f":"IF(ISNUMBER(SEARCH($H$11,Q944)),MAX($O$1:O943)+1,0)","v":0},{"$f":"IF(ISNUMBER(SEARCH($H$6,Q944)),MAX($P$1:P943)+1,0)","v":0},"idfc mmf treasury plan c sip","MAG056","Ultra Short term debt",null,null,null,null,null,null,null,null,null,null,null,{"$f":"IFERROR(VLOOKUP(ROWS($AE$2:AE944),P944:Q2847,2,0),\"\")","v":""},null,null,null,null,{"$f":"IFERROR(VLOOKUP(ROWS($AJ$2:AJ944),O944:Q2847,3,0),\"\")","v":""},null,{"$f":"IFERROR(VLOOKUP(ROWS(AL$2:$AL944),N944:Q2847,4,0),\"\")","v":""}]
[null,null,null,null,null,null,null,null,null,null,null,null,null,{"$f":"IF(ISNUMBER(SEARCH($H$16,Q945)),MAX($N$1:N944)+1,0)","v":0},{"$f":"IF(ISNUMBER(SEARCH($H$11,Q945)),MAX($O$1:O944)+1,0)","v":0},{"$f":"IF(ISNUMBER(SEARCH($H$6,Q945)),MAX($P$1:P944)+1,0)","v":0},"dws ultra short term fund pp","MDE349","Ultra Short term debt",null,null,null,null,null,null,null,null,null,null,null,{"$f":"IFERROR(VLOOKUP(ROWS($AE$2:AE945),P945:Q2848,2,0),\"\")","v":""},null,null,null,null,{"$f":"IFERROR(VLOOKUP(ROWS($AJ$2:AJ945),O945:Q2848,3,0),\"\")","v":""},null,{"$f":"IFERROR(VLOOKUP(ROWS(AL$2:$AL945),N945:Q2848,4,0),\"\")","v":""}]
[null,null,null,null,null,null,null,null,null,null,null,null,null,{"$f":"IF(ISNUMBER(SEARCH($H$16,Q946)),MAX($N$1:N945)+1,0)","v":0},{"$f":"IF(ISNUMBER(SEARCH($H$11,Q946)),MAX($O$1:O945)+1,0)","v":0},{"$f":"IF(ISNUMBER(SEARCH($H$6,Q946)),MAX($P$1:P945)+1,0)","v":0},"idfc mmf treasury plan rp","MAG020","Ultra Short term debt",null,null,null,null,null,null,null,null,null,null,null,{"$f":"IFERROR(VLOOKUP(ROWS($AE$2:AE946),P946:Q2849,2,0),\"\")","v":""},null,null,null,null,{"$f":"IFERROR(VLOOKUP(ROWS($AJ$2:AJ946),O946:Q2849,3,0),\"\")","v":""},null,{"$f":"IFERROR(VLOOKUP(ROWS(AL$2:$AL946),N946:Q2849,4,0),\"\")","v":""}]
[null,null,null,null,null,null,null,null,null,null,null,null,null,{"$f":"IF(ISNUMBER(SEARCH($H$16,Q947)),MAX($N$1:N946)+1,0)","v":0},{"$f":"IF(ISNUMBER(SEARCH($H$11,Q947)),MAX($O$1:O946)+1,0)","v":0},{"$f":"IF(ISNUMBER(SEARCH($H$6,Q947)),MAX($P$1:P946)+1,0)","v":0},"jm money manager fund rp","MJM070","Ultra Short term debt",null,null,null,null,null,null,null,null,null,null,null,{"$f":"IFERROR(VLOOKUP(ROWS($AE$2:AE947),P947:Q2850,2,0),\"\")","v":""},null,null,null,null,{"$f":"IFERROR(VLOOKUP(ROWS($AJ$2:AJ947),O947:Q2850,3,0),\"\")","v":""},null,{"$f":"IFERROR(VLOOKUP(ROWS(AL$2:$AL947),N947:Q2850,4,0),\"\")","v":""}]
[null,null,null,null,null,null,null,null,null,null,null,null,null,{"$f":"IF(ISNUMBER(SEARCH($H$16,Q948)),MAX($N$1:N947)+1,0)","v":0},{"$f":"IF(ISNUMBER(SEARCH($H$11,Q948)),MAX($O$1:O947)+1,0)","v":0},{"$f":"IF(ISNUMBER(SEARCH($H$6,Q948)),MAX($P$1:P947)+1,0)","v":0},"reliance money mgr ip","MRC129","Ultra Short term debt",null,null,null,null,null,null,null,null,null,null,null,{"$f":"IFERROR(VLOOKUP(ROWS($AE$2:AE948),P948:Q2851,2,0),\"\")","v":""},null,null,null,null,{"$f":"IFERROR(VLOOKUP(ROWS($AJ$2:AJ948),O948:Q2851,3,0),\"\")","v":""},null,{"$f":"IFERROR(VLOOKUP(ROWS(AL$2:$AL948),N948:Q2851,4,0),\"\")","v":""}]
[null,null,null,null,null,null,null,null,null,null,null,null,null,{"$f":"IF(ISNUMBER(SEARCH($H$16,Q949)),MAX($N$1:N948)+1,0)","v":0},{"$f":"IF(ISNUMBER(SEARCH($H$11,Q949)),MAX($O$1:O948)+1,0)","v":0},{"$f":"IF(ISNUMBER(SEARCH($H$6,Q949)),MAX($P$1:P948)+1,0)","v":0},"icici pru savings fund plan","MPI119","Ultra Short term debt",null,null,null,null,null,null,null,null,null,null,null,{"$f":"IFERROR(VLOOKUP(ROWS($AE$2:AE949),P949:Q2852,2,0),\"\")","v":""},null,null,null,null,{"$f":"IFERROR(VLOOKUP(ROWS($AJ$2:AJ949),O949:Q2852,3,0),\"\")","v":""},null,{"$f":"IFERROR(VLOOKUP(ROWS(AL$2:$AL949),N949:Q2852,4,0),\"\")","v":""}]
[null,null,null,null,null,null,null,null,null,null,null,null,null,{"$f":"IF(ISNUMBER(SEARCH($H$16,Q950)),MAX($N$1:N949)+1,0)","v":0},{"$f":"IF(ISNUMBER(SEARCH($H$11,Q950)),MAX($O$1:O949)+1,0)","v":0},{"$f":"IF(ISNUMBER(SEARCH($H$6,Q950)),MAX($P$1:P949)+1,0)","v":0},"uti floating rate stp retail","MIL034","Ultra Short term debt",null,null,null,null,null,null,null,null,null,null,null,{"$f":"IFERROR(VLOOKUP(ROWS($AE$2:AE950),P950:Q2853,2,0),\"\")","v":""},null,null,null,null,{"$f":"IFERROR(VLOOKUP(ROWS($AJ$2:AJ950),O950:Q2853,3,0),\"\")","v":""},null,{"$f":"IFERROR(VLOOKUP(ROWS(AL$2:$AL950),N950:Q2853,4,0),\"\")","v":""}]
[null,null,null,null,null,null,null,null,null,null,null,null,null,{"$f":"IF(ISNUMBER(SEARCH($H$16,Q951)),MAX($N$1:N950)+1,0)","v":0},{"$f":"IF(ISNUMBER(SEARCH($H$11,Q951)),MAX($O$1:O950)+1,0)","v":0},{"$f":"IF(ISNUMBER(SEARCH($H$6,Q951)),MAX($P$1:P950)+1,0)","v":0},"hsbc ultra short term bond","MHS061","Ultra Short term debt",null,null,null,null,null,null,null,null,null,null,null,{"$f":"IFERROR(VLOOKUP(ROWS($AE$2:AE951),P951:Q2854,2,0),\"\")","v":""},null,null,null,null,{"$f":"IFERROR(VLOOKUP(ROWS($AJ$2:AJ951),O951:Q2854,3,0),\"\")","v":""},null,{"$f":"IFERROR(VLOOKUP(ROWS(AL$2:$AL951),N951:Q2854,4,0),\"\")","v":""}]
[null,null,null,null,null,null,null,null,null,null,null,null,null,{"$f":"IF(ISNUMBER(SEARCH($H$16,Q952)),MAX($N$1:N951)+1,0)","v":0},{"$f":"IF(ISNUMBER(SEARCH($H$11,Q952)),MAX($O$1:O951)+1,0)","v":0},{"$f":"IF(ISNUMBER(SEARCH($H$6,Q952)),MAX($P$1:P951)+1,0)","v":0},"l t ultra short term fund rp","MCC004","Ultra Short term debt",null,null,null,null,null,null,null,null,null,null,null,{"$f":"IFERROR(VLOOKUP(ROWS($AE$2:AE952),P952:Q2855,2,0),\"\")","v":""},null,null,null,null,{"$f":"IFERROR(VLOOKUP(ROWS($AJ$2:AJ952),O952:Q2855,3,0),\"\")","v":""},null,{"$f":"IFERROR(VLOOKUP(ROWS(AL$2:$AL952),N952:Q2855,4,0),\"\")","v":""}]
[null,null,null,null,null,null,null,null,null,null,null,null,null,{"$f":"IF(ISNUMBER(SEARCH($H$16,Q953)),MAX($N$1:N952)+1,0)","v":0},{"$f":"IF(ISNUMBER(SEARCH($H$11,Q953)),MAX($O$1:O952)+1,0)","v":0},{"$f":"IF(ISNUMBER(SEARCH($H$6,Q953)),MAX($P$1:P952)+1,0)","v":0},"sundaram ultra stf sip","MSN115","Ultra Short term debt",null,null,null,null,null,null,null,null,null,null,null,{"$f":"IFERROR(VLOOKUP(ROWS($AE$2:AE953),P953:Q2856,2,0),\"\")","v":""},null,null,null,null,{"$f":"IFERROR(VLOOKUP(ROWS($AJ$2:AJ953),O953:Q2856,3,0),\"\")","v":""},null,{"$f":"IFERROR(VLOOKUP(ROWS(AL$2:$AL953),N953:Q2856,4,0),\"\")","v":""}]
[null,null,null,null,null,null,null,null,null,null,null,null,null,{"$f":"IF(ISNUMBER(SEARCH($H$16,Q954)),MAX($N$1:N953)+1,0)","v":0},{"$f":"IF(ISNUMBER(SEARCH($H$11,Q954)),MAX($O$1:O953)+1,0)","v":0},{"$f":"IF(ISNUMBER(SEARCH($H$6,Q954)),MAX($P$1:P953)+1,0)","v":0},"bnp paribas money plus rp","MAB035","Ultra Short term debt",null,null,null,null,null,null,null,null,null,null,null,{"$f":"IFERROR(VLOOKUP(ROWS($AE$2:AE954),P954:Q2857,2,0),\"\")","v":""},null,null,null,null,{"$f":"IFERROR(VLOOKUP(ROWS($AJ$2:AJ954),O954:Q2857,3,0),\"\")","v":""},null,{"$f":"IFERROR(VLOOKUP(ROWS(AL$2:$AL954),N954:Q2857,4,0),\"\")","v":""}]
[null,null,null,null,null,null,null,null,null,null,null,null,null,{"$f":"IF(ISNUMBER(SEARCH($H$16,Q955)),MAX($N$1:N954)+1,0)","v":0},{"$f":"IF(ISNUMBER(SEARCH($H$11,Q955)),MAX($O$1:O954)+1,0)","v":0},{"$f":"IF(ISNUMBER(SEARCH($H$6,Q955)),MAX($P$1:P954)+1,0)","v":0},"idfc mmf treasury plan f","MAG370","Ultra Short term debt",null,null,null,null,null,null,null,null,null,null,null,{"$f":"IFERROR(VLOOKUP(ROWS($AE$2:AE955),P955:Q2858,2,0),\"\")","v":""},null,null,null,null,{"$f":"IFERROR(VLOOKUP(ROWS($AJ$2:AJ955),O955:Q2858,3,0),\"\")","v":""},null,{"$f":"IFERROR(VLOOKUP(ROWS(AL$2:$AL955),N955:Q2858,4,0),\"\")","v":""}]
[null,null,null,null,null,null,null,null,null,null,null,null,null,{"$f":"IF(ISNUMBER(SEARCH($H$16,Q956)),MAX($N$1:N955)+1,0)","v":0},{"$f":"IF(ISNUMBER(SEARCH($H$11,Q956)),MAX($O$1:O955)+1,0)","v":0},{"$f":"IF(ISNUMBER(SEARCH($H$6,Q956)),MAX($P$1:P955)+1,0)","v":0},"can robeco treasury adv rp","MCA025","Ultra Short term debt",null,null,null,null,null,null,null,null,null,null,null,{"$f":"IFERROR(VLOOKUP(ROWS($AE$2:AE956),P956:Q2859,2,0),\"\")","v":""},null,null,null,null,{"$f":"IFERROR(VLOOKUP(ROWS($AJ$2:AJ956),O956:Q2859,3,0),\"\")","v":""},null,{"$f":"IFERROR(VLOOKUP(ROWS(AL$2:$AL956),N956:Q2859,4,0),\"\")","v":""}]
[null,null,null,null,null,null,null,null,null,null,null,null,null,{"$f":"IF(ISNUMBER(SEARCH($H$16,Q957)),MAX($N$1:N956)+1,0)","v":0},{"$f":"IF(ISNUMBER(SEARCH($H$11,Q957)),MAX($O$1:O956)+1,0)","v":0},{"$f":"IF(ISNUMBER(SEARCH($H$6,Q957)),MAX($P$1:P956)+1,0)","v":0},"uti floating rate stp ip","MUT405","Ultra Short term debt",null,null,null,null,null,null,null,null,null,null,null,{"$f":"IFERROR(VLOOKUP(ROWS($AE$2:AE957),P957:Q2860,2,0),\"\")","v":""},null,null,null,null,{"$f":"IFERROR(VLOOKUP(ROWS($AJ$2:AJ957),O957:Q2860,3,0),\"\")","v":""},null,{"$f":"IFERROR(VLOOKUP(ROWS(AL$2:$AL957),N957:Q2860,4,0),\"\")","v":""}]
[null,null,null,null,null,null,null,null,null,null,null,null,null,{"$f":"IF(ISNUMBER(SEARCH($H$16,Q958)),MAX($N$1:N957)+1,0)","v":0},{"$f":"IF(ISNUMBER(SEARCH($H$11,Q958)),MAX($O$1:O957)+1,0)","v":0},{"$f":"IF(ISNUMBER(SEARCH($H$6,Q958)),MAX($P$1:P957)+1,0)","v":0},"religare invesco ultra stf","MLI016","Ultra Short term debt",null,null,null,null,null,null,null,null,null,null,null,{"$f":"IFERROR(VLOOKUP(ROWS($AE$2:AE958),P958:Q2861,2,0),\"\")","v":""},null,null,null,null,{"$f":"IFERROR(VLOOKUP(ROWS($AJ$2:AJ958),O958:Q2861,3,0),\"\")","v":""},null,{"$f":"IFERROR(VLOOKUP(ROWS(AL$2:$AL958),N958:Q2861,4,0),\"\")","v":""}]
[null,null,null,null,null,null,null,null,null,null,null,null,null,{"$f":"IF(ISNUMBER(SEARCH($H$16,Q959)),MAX($N$1:N958)+1,0)","v":0},{"$f":"IF(ISNUMBER(SEARCH($H$11,Q959)),MAX($O$1:O958)+1,0)","v":0},{"$f":"IF(ISNUMBER(SEARCH($H$6,Q959)),MAX($P$1:P958)+1,0)","v":0},"jm money manager fund sp","MJM072","Ultra Short term debt",null,null,null,null,null,null,null,null,null,null,null,{"$f":"IFERROR(VLOOKUP(ROWS($AE$2:AE959),P959:Q2862,2,0),\"\")","v":""},null,null,null,null,{"$f":"IFERROR(VLOOKUP(ROWS($AJ$2:AJ959),O959:Q2862,3,0),\"\")","v":""},null,{"$f":"IFERROR(VLOOKUP(ROWS(AL$2:$AL959),N959:Q2862,4,0),\"\")","v":""}]
[null,null,null,null,null,null,null,null,null,null,null,null,null,{"$f":"IF(ISNUMBER(SEARCH($H$16,Q960)),MAX($N$1:N959)+1,0)","v":0},{"$f":"IF(ISNUMBER(SEARCH($H$11,Q960)),MAX($O$1:O959)+1,0)","v":0},{"$f":"IF(ISNUMBER(SEARCH($H$6,Q960)),MAX($P$1:P959)+1,0)","v":0},"hsbc floating rate fund ltp","MHS045","Ultra Short term debt",null,null,null,null,null,null,null,null,null,null,null,{"$f":"IFERROR(VLOOKUP(ROWS($AE$2:AE960),P960:Q2863,2,0),\"\")","v":""},null,null,null,null,{"$f":"IFERROR(VLOOKUP(ROWS($AJ$2:AJ960),O960:Q2863,3,0),\"\")","v":""},null,{"$f":"IFERROR(VLOOKUP(ROWS(AL$2:$AL960),N960:Q2863,4,0),\"\")","v":""}]
[null,null,null,null,null,null,null,null,null,null,null,null,null,{"$f":"IF(ISNUMBER(SEARCH($H$16,Q961)),MAX($N$1:N960)+1,0)","v":0},{"$f":"IF(ISNUMBER(SEARCH($H$11,Q961)),MAX($O$1:O960)+1,0)","v":0},{"$f":"IF(ISNUMBER(SEARCH($H$6,Q961)),MAX($P$1:P960)+1,0)","v":0},"dws treasury investment rp","MDE269","Ultra Short term debt",null,null,null,null,null,null,null,null,null,null,null,{"$f":"IFERROR(VLOOKUP(ROWS($AE$2:AE961),P961:Q2864,2,0),\"\")","v":""},null,null,null,null,{"$f":"IFERROR(VLOOKUP(ROWS($AJ$2:AJ961),O961:Q2864,3,0),\"\")","v":""},null,{"$f":"IFERROR(VLOOKUP(ROWS(AL$2:$AL961),N961:Q2864,4,0),\"\")","v":""}]
[null,null,null,null,null,null,null,null,null,null,null,null,null,{"$f":"IF(ISNUMBER(SEARCH($H$16,Q962)),MAX($N$1:N961)+1,0)","v":0},{"$f":"IF(ISNUMBER(SEARCH($H$11,Q962)),MAX($O$1:O961)+1,0)","v":0},{"$f":"IF(ISNUMBER(SEARCH($H$6,Q962)),MAX($P$1:P961)+1,0)","v":0},"birla sun life cash manager","MAC005","Ultra Short term debt",null,null,null,null,null,null,null,null,null,null,null,{"$f":"IFERROR(VLOOKUP(ROWS($AE$2:AE962),P962:Q2865,2,0),\"\")","v":""},null,null,null,null,{"$f":"IFERROR(VLOOKUP(ROWS($AJ$2:AJ962),O962:Q2865,3,0),\"\")","v":""},null,{"$f":"IFERROR(VLOOKUP(ROWS(AL$2:$AL962),N962:Q2865,4,0),\"\")","v":""}]
[null,null,null,null,null,null,null,null,null,null,null,null,null,{"$f":"IF(ISNUMBER(SEARCH($H$16,Q963)),MAX($N$1:N962)+1,0)","v":0},{"$f":"IF(ISNUMBER(SEARCH($H$11,Q963)),MAX($O$1:O962)+1,0)","v":0},{"$f":"IF(ISNUMBER(SEARCH($H$6,Q963)),MAX($P$1:P962)+1,0)","v":0},"axis treasury advantage reg ","MAA005","Ultra Short term debt",null,null,null,null,null,null,null,null,null,null,null,{"$f":"IFERROR(VLOOKUP(ROWS($AE$2:AE963),P963:Q2866,2,0),\"\")","v":""},null,null,null,null,{"$f":"IFERROR(VLOOKUP(ROWS($AJ$2:AJ963),O963:Q2866,3,0),\"\")","v":""},null,{"$f":"IFERROR(VLOOKUP(ROWS(AL$2:$AL963),N963:Q2866,4,0),\"\")","v":""}]
[null,null,null,null,null,null,null,null,null,null,null,null,null,{"$f":"IF(ISNUMBER(SEARCH($H$16,Q964)),MAX($N$1:N963)+1,0)","v":0},{"$f":"IF(ISNUMBER(SEARCH($H$11,Q964)),MAX($O$1:O963)+1,0)","v":0},{"$f":"IF(ISNUMBER(SEARCH($H$6,Q964)),MAX($P$1:P963)+1,0)","v":0},"icici pru savings fund a","MPI092","Ultra Short term debt",null,null,null,null,null,null,null,null,null,null,null,{"$f":"IFERROR(VLOOKUP(ROWS($AE$2:AE964),P964:Q2867,2,0),\"\")","v":""},null,null,null,null,{"$f":"IFERROR(VLOOKUP(ROWS($AJ$2:AJ964),O964:Q2867,3,0),\"\")","v":""},null,{"$f":"IFERROR(VLOOKUP(ROWS(AL$2:$AL964),N964:Q2867,4,0),\"\")","v":""}]
[null,null,null,null,null,null,null,null,null,null,null,null,null,{"$f":"IF(ISNUMBER(SEARCH($H$16,Q965)),MAX($N$1:N964)+1,0)","v":0},{"$f":"IF(ISNUMBER(SEARCH($H$11,Q965)),MAX($O$1:O964)+1,0)","v":0},{"$f":"IF(ISNUMBER(SEARCH($H$6,Q965)),MAX($P$1:P964)+1,0)","v":0},"taurus ustbf rp","MCM032","Ultra Short term debt",null,null,null,null,null,null,null,null,null,null,null,{"$f":"IFERROR(VLOOKUP(ROWS($AE$2:AE965),P965:Q2868,2,0),\"\")","v":""},null,null,null,null,{"$f":"IFERROR(VLOOKUP(ROWS($AJ$2:AJ965),O965:Q2868,3,0),\"\")","v":""},null,{"$f":"IFERROR(VLOOKUP(ROWS(AL$2:$AL965),N965:Q2868,4,0),\"\")","v":""}]
[null,null,null,null,null,null,null,null,null,null,null,null,null,{"$f":"IF(ISNUMBER(SEARCH($H$16,Q966)),MAX($N$1:N965)+1,0)","v":0},{"$f":"IF(ISNUMBER(SEARCH($H$11,Q966)),MAX($O$1:O965)+1,0)","v":0},{"$f":"IF(ISNUMBER(SEARCH($H$6,Q966)),MAX($P$1:P965)+1,0)","v":0},"uti treasury advtg rp","MIL001","Ultra Short term debt",null,null,null,null,null,null,null,null,null,null,null,{"$f":"IFERROR(VLOOKUP(ROWS($AE$2:AE966),P966:Q2869,2,0),\"\")","v":""},null,null,null,null,{"$f":"IFERROR(VLOOKUP(ROWS($AJ$2:AJ966),O966:Q2869,3,0),\"\")","v":""},null,{"$f":"IFERROR(VLOOKUP(ROWS(AL$2:$AL966),N966:Q2869,4,0),\"\")","v":""}]
[null,null,null,null,null,null,null,null,null,null,null,null,null,{"$f":"IF(ISNUMBER(SEARCH($H$16,Q967)),MAX($N$1:N966)+1,0)","v":0},{"$f":"IF(ISNUMBER(SEARCH($H$11,Q967)),MAX($O$1:O966)+1,0)","v":0},{"$f":"IF(ISNUMBER(SEARCH($H$6,Q967)),MAX($P$1:P966)+1,0)","v":0},"icici pru savings fund b","MPI048","Ultra Short term debt",null,null,null,null,null,null,null,null,null,null,null,{"$f":"IFERROR(VLOOKUP(ROWS($AE$2:AE967),P967:Q2870,2,0),\"\")","v":""},null,null,null,null,{"$f":"IFERROR(VLOOKUP(ROWS($AJ$2:AJ967),O967:Q2870,3,0),\"\")","v":""},null,{"$f":"IFERROR(VLOOKUP(ROWS(AL$2:$AL967),N967:Q2870,4,0),\"\")","v":""}]
[null,null,null,null,null,null,null,null,null,null,null,null,null,{"$f":"IF(ISNUMBER(SEARCH($H$16,Q968)),MAX($N$1:N967)+1,0)","v":0},{"$f":"IF(ISNUMBER(SEARCH($H$11,Q968)),MAX($O$1:O967)+1,0)","v":0},{"$f":"IF(ISNUMBER(SEARCH($H$6,Q968)),MAX($P$1:P967)+1,0)","v":0},"union kbc ultra stdf","MUK016","Ultra Short term debt",null,null,null,null,null,null,null,null,null,null,null,{"$f":"IFERROR(VLOOKUP(ROWS($AE$2:AE968),P968:Q2871,2,0),\"\")","v":""},null,null,null,null,{"$f":"IFERROR(VLOOKUP(ROWS($AJ$2:AJ968),O968:Q2871,3,0),\"\")","v":""},null,{"$f":"IFERROR(VLOOKUP(ROWS(AL$2:$AL968),N968:Q2871,4,0),\"\")","v":""}]
[null,null,null,null,null,null,null,null,null,null,null,null,null,{"$f":"IF(ISNUMBER(SEARCH($H$16,Q969)),MAX($N$1:N968)+1,0)","v":0},{"$f":"IF(ISNUMBER(SEARCH($H$11,Q969)),MAX($O$1:O968)+1,0)","v":0},{"$f":"IF(ISNUMBER(SEARCH($H$6,Q969)),MAX($P$1:P968)+1,0)","v":0},"lic nomura savings plus fund","MJB023","Ultra Short term debt",null,null,null,null,null,null,null,null,null,null,null,{"$f":"IFERROR(VLOOKUP(ROWS($AE$2:AE969),P969:Q2872,2,0),\"\")","v":""},null,null,null,null,{"$f":"IFERROR(VLOOKUP(ROWS($AJ$2:AJ969),O969:Q2872,3,0),\"\")","v":""},null,{"$f":"IFERROR(VLOOKUP(ROWS(AL$2:$AL969),N969:Q2872,4,0),\"\")","v":""}]
[null,null,null,null,null,null,null,null,null,null,null,null,null,{"$f":"IF(ISNUMBER(SEARCH($H$16,Q970)),MAX($N$1:N969)+1,0)","v":0},{"$f":"IF(ISNUMBER(SEARCH($H$11,Q970)),MAX($O$1:O969)+1,0)","v":0},{"$f":"IF(ISNUMBER(SEARCH($H$6,Q970)),MAX($P$1:P969)+1,0)","v":0},"pramerica ultra short term bond","MPA006","Ultra Short term debt",null,null,null,null,null,null,null,null,null,null,null,{"$f":"IFERROR(VLOOKUP(ROWS($AE$2:AE970),P970:Q2873,2,0),\"\")","v":""},null,null,null,null,{"$f":"IFERROR(VLOOKUP(ROWS($AJ$2:AJ970),O970:Q2873,3,0),\"\")","v":""},null,{"$f":"IFERROR(VLOOKUP(ROWS(AL$2:$AL970),N970:Q2873,4,0),\"\")","v":""}]
[null,null,null,null,null,null,null,null,null,null,null,null,null,{"$f":"IF(ISNUMBER(SEARCH($H$16,Q971)),MAX($N$1:N970)+1,0)","v":0},{"$f":"IF(ISNUMBER(SEARCH($H$11,Q971)),MAX($O$1:O970)+1,0)","v":0},{"$f":"IF(ISNUMBER(SEARCH($H$6,Q971)),MAX($P$1:P970)+1,0)","v":0},"reliance money mgr rp","MRC123","Ultra Short term debt",null,null,null,null,null,null,null,null,null,null,null,{"$f":"IFERROR(VLOOKUP(ROWS($AE$2:AE971),P971:Q2874,2,0),\"\")","v":""},null,null,null,null,{"$f":"IFERROR(VLOOKUP(ROWS($AJ$2:AJ971),O971:Q2874,3,0),\"\")","v":""},null,{"$f":"IFERROR(VLOOKUP(ROWS(AL$2:$AL971),N971:Q2874,4,0),\"\")","v":""}]
[null,null,null,null,null,null,null,null,null,null,null,null,null,{"$f":"IF(ISNUMBER(SEARCH($H$16,Q972)),MAX($N$1:N971)+1,0)","v":0},{"$f":"IF(ISNUMBER(SEARCH($H$11,Q972)),MAX($O$1:O971)+1,0)","v":0},{"$f":"IF(ISNUMBER(SEARCH($H$6,Q972)),MAX($P$1:P971)+1,0)","v":0},"dsp br money manager rp","MDS050","Ultra Short term debt",null,null,null,null,null,null,null,null,null,null,null,{"$f":"IFERROR(VLOOKUP(ROWS($AE$2:AE972),P972:Q2875,2,0),\"\")","v":""},null,null,null,null,{"$f":"IFERROR(VLOOKUP(ROWS($AJ$2:AJ972),O972:Q2875,3,0),\"\")","v":""},null,{"$f":"IFERROR(VLOOKUP(ROWS(AL$2:$AL972),N972:Q2875,4,0),\"\")","v":""}]
[null,null,null,null,null,null,null,null,null,null,null,null,null,{"$f":"IF(ISNUMBER(SEARCH($H$16,Q973)),MAX($N$1:N972)+1,0)","v":0},{"$f":"IF(ISNUMBER(SEARCH($H$11,Q973)),MAX($O$1:O972)+1,0)","v":0},{"$f":"IF(ISNUMBER(SEARCH($H$6,Q973)),MAX($P$1:P972)+1,0)","v":0},"peerless ultra short term sip","MPM021","Ultra Short term debt",null,null,null,null,null,null,null,null,null,null,null,{"$f":"IFERROR(VLOOKUP(ROWS($AE$2:AE973),P973:Q2876,2,0),\"\")","v":""},null,null,null,null,{"$f":"IFERROR(VLOOKUP(ROWS($AJ$2:AJ973),O973:Q2876,3,0),\"\")","v":""},null,{"$f":"IFERROR(VLOOKUP(ROWS(AL$2:$AL973),N973:Q2876,4,0),\"\")","v":""}]
[null,null,null,null,null,null,null,null,null,null,null,null,null,{"$f":"IF(ISNUMBER(SEARCH($H$16,Q974)),MAX($N$1:N973)+1,0)","v":0},{"$f":"IF(ISNUMBER(SEARCH($H$11,Q974)),MAX($O$1:O973)+1,0)","v":0},{"$f":"IF(ISNUMBER(SEARCH($H$6,Q974)),MAX($P$1:P973)+1,0)","v":0},"icici pru savings fund c","MPI095","Ultra Short term debt",null,null,null,null,null,null,null,null,null,null,null,{"$f":"IFERROR(VLOOKUP(ROWS($AE$2:AE974),P974:Q2877,2,0),\"\")","v":""},null,null,null,null,{"$f":"IFERROR(VLOOKUP(ROWS($AJ$2:AJ974),O974:Q2877,3,0),\"\")","v":""},null,{"$f":"IFERROR(VLOOKUP(ROWS(AL$2:$AL974),N974:Q2877,4,0),\"\")","v":""}]
[null,null,null,null,null,null,null,null,null,null,null,null,null,{"$f":"IF(ISNUMBER(SEARCH($H$16,Q975)),MAX($N$1:N974)+1,0)","v":0},{"$f":"IF(ISNUMBER(SEARCH($H$11,Q975)),MAX($O$1:O974)+1,0)","v":0},{"$f":"IF(ISNUMBER(SEARCH($H$6,Q975)),MAX($P$1:P974)+1,0)","v":0},"hsbc ultra stbf reg plan","MHS058","Ultra Short term debt",null,null,null,null,null,null,null,null,null,null,null,{"$f":"IFERROR(VLOOKUP(ROWS($AE$2:AE975),P975:Q2878,2,0),\"\")","v":""},null,null,null,null,{"$f":"IFERROR(VLOOKUP(ROWS($AJ$2:AJ975),O975:Q2878,3,0),\"\")","v":""},null,{"$f":"IFERROR(VLOOKUP(ROWS(AL$2:$AL975),N975:Q2878,4,0),\"\")","v":""}]
[null,null,null,null,null,null,null,null,null,null,null,null,null,{"$f":"IF(ISNUMBER(SEARCH($H$16,Q976)),MAX($N$1:N975)+1,0)","v":0},{"$f":"IF(ISNUMBER(SEARCH($H$11,Q976)),MAX($O$1:O975)+1,0)","v":0},{"$f":"IF(ISNUMBER(SEARCH($H$6,Q976)),MAX($P$1:P975)+1,0)","v":0},"jpmorgan treasury rp","MJP005","Ultra Short term debt",null,null,null,null,null,null,null,null,null,null,null,{"$f":"IFERROR(VLOOKUP(ROWS($AE$2:AE976),P976:Q2879,2,0),\"\")","v":""},null,null,null,null,{"$f":"IFERROR(VLOOKUP(ROWS($AJ$2:AJ976),O976:Q2879,3,0),\"\")","v":""},null,{"$f":"IFERROR(VLOOKUP(ROWS(AL$2:$AL976),N976:Q2879,4,0),\"\")","v":""}]
[null,null,null,null,null,null,null,null,null,null,null,null,null,{"$f":"IF(ISNUMBER(SEARCH($H$16,Q977)),MAX($N$1:N976)+1,0)","v":0},{"$f":"IF(ISNUMBER(SEARCH($H$11,Q977)),MAX($O$1:O976)+1,0)","v":0},{"$f":"IF(ISNUMBER(SEARCH($H$6,Q977)),MAX($P$1:P976)+1,0)","v":0},"edelweiss ultra stbf rp","MEW019","Ultra Short term debt",null,null,null,null,null,null,null,null,null,null,null,{"$f":"IFERROR(VLOOKUP(ROWS($AE$2:AE977),P977:Q2880,2,0),\"\")","v":""},null,null,null,null,{"$f":"IFERROR(VLOOKUP(ROWS($AJ$2:AJ977),O977:Q2880,3,0),\"\")","v":""},null,{"$f":"IFERROR(VLOOKUP(ROWS(AL$2:$AL977),N977:Q2880,4,0),\"\")","v":""}]
[null,null,null,null,null,null,null,null,null,null,null,null,null,{"$f":"IF(ISNUMBER(SEARCH($H$16,Q978)),MAX($N$1:N977)+1,0)","v":0},{"$f":"IF(ISNUMBER(SEARCH($H$11,Q978)),MAX($O$1:O977)+1,0)","v":0},{"$f":"IF(ISNUMBER(SEARCH($H$6,Q978)),MAX($P$1:P977)+1,0)","v":0},"baroda pioneer taf rp","MBO033","Ultra Short term debt",null,null,null,null,null,null,null,null,null,null,null,{"$f":"IFERROR(VLOOKUP(ROWS($AE$2:AE978),P978:Q2881,2,0),\"\")","v":""},null,null,null,null,{"$f":"IFERROR(VLOOKUP(ROWS($AJ$2:AJ978),O978:Q2881,3,0),\"\")","v":""},null,{"$f":"IFERROR(VLOOKUP(ROWS(AL$2:$AL978),N978:Q2881,4,0),\"\")","v":""}]
[null,null,null,null,null,null,null,null,null,null,null,null,null,{"$f":"IF(ISNUMBER(SEARCH($H$16,Q979)),MAX($N$1:N978)+1,0)","v":0},{"$f":"IF(ISNUMBER(SEARCH($H$11,Q979)),MAX($O$1:O978)+1,0)","v":0},{"$f":"IF(ISNUMBER(SEARCH($H$6,Q979)),MAX($P$1:P978)+1,0)","v":0},"idbi ultra short term fund","MIB009","Ultra Short term debt",null,null,null,null,null,null,null,null,null,null,null,{"$f":"IFERROR(VLOOKUP(ROWS($AE$2:AE979),P979:Q2882,2,0),\"\")","v":""},null,null,null,null,{"$f":"IFERROR(VLOOKUP(ROWS($AJ$2:AJ979),O979:Q2882,3,0),\"\")","v":""},null,{"$f":"IFERROR(VLOOKUP(ROWS(AL$2:$AL979),N979:Q2882,4,0),\"\")","v":""}]
[null,null,null,null,null,null,null,null,null,null,null,null,null,{"$f":"IF(ISNUMBER(SEARCH($H$16,Q980)),MAX($N$1:N979)+1,0)","v":0},{"$f":"IF(ISNUMBER(SEARCH($H$11,Q980)),MAX($O$1:O979)+1,0)","v":0},{"$f":"IF(ISNUMBER(SEARCH($H$6,Q980)),MAX($P$1:P979)+1,0)","v":0},"principal dof conservative","MID083","Ultra Short term debt",null,null,null,null,null,null,null,null,null,null,null,{"$f":"IFERROR(VLOOKUP(ROWS($AE$2:AE980),P980:Q2883,2,0),\"\")","v":""},null,null,null,null,{"$f":"IFERROR(VLOOKUP(ROWS($AJ$2:AJ980),O980:Q2883,3,0),\"\")","v":""},null,{"$f":"IFERROR(VLOOKUP(ROWS(AL$2:$AL980),N980:Q2883,4,0),\"\")","v":""}]
[null,null,null,null,null,null,null,null,null,null,null,null,null,{"$f":"IF(ISNUMBER(SEARCH($H$16,Q981)),MAX($N$1:N980)+1,0)","v":0},{"$f":"IF(ISNUMBER(SEARCH($H$11,Q981)),MAX($O$1:O980)+1,0)","v":0},{"$f":"IF(ISNUMBER(SEARCH($H$6,Q981)),MAX($P$1:P980)+1,0)","v":0},"icici pru flexi inc retail","MPI639","Ultra Short term debt",null,null,null,null,null,null,null,null,null,null,null,{"$f":"IFERROR(VLOOKUP(ROWS($AE$2:AE981),P981:Q2884,2,0),\"\")","v":""},null,null,null,null,{"$f":"IFERROR(VLOOKUP(ROWS($AJ$2:AJ981),O981:Q2884,3,0),\"\")","v":""},null,{"$f":"IFERROR(VLOOKUP(ROWS(AL$2:$AL981),N981:Q2884,4,0),\"\")","v":""}]
[null,null,null,null,null,null,null,null,null,null,null,null,null,{"$f":"IF(ISNUMBER(SEARCH($H$16,Q982)),MAX($N$1:N981)+1,0)","v":0},{"$f":"IF(ISNUMBER(SEARCH($H$11,Q982)),MAX($O$1:O981)+1,0)","v":0},{"$f":"IF(ISNUMBER(SEARCH($H$6,Q982)),MAX($P$1:P981)+1,0)","v":0},"l t low duration ip","MFF033","Ultra Short term debt",null,null,null,null,null,null,null,null,null,null,null,{"$f":"IFERROR(VLOOKUP(ROWS($AE$2:AE982),P982:Q2885,2,0),\"\")","v":""},null,null,null,null,{"$f":"IFERROR(VLOOKUP(ROWS($AJ$2:AJ982),O982:Q2885,3,0),\"\")","v":""},null,{"$f":"IFERROR(VLOOKUP(ROWS(AL$2:$AL982),N982:Q2885,4,0),\"\")","v":""}]
[null,null,null,null,null,null,null,null,null,null,null,null,null,{"$f":"IF(ISNUMBER(SEARCH($H$16,Q983)),MAX($N$1:N982)+1,0)","v":0},{"$f":"IF(ISNUMBER(SEARCH($H$11,Q983)),MAX($O$1:O982)+1,0)","v":0},{"$f":"IF(ISNUMBER(SEARCH($H$6,Q983)),MAX($P$1:P982)+1,0)","v":0},"l t low duration","MFF037","Ultra Short term debt",null,null,null,null,null,null,null,null,null,null,null,{"$f":"IFERROR(VLOOKUP(ROWS($AE$2:AE983),P983:Q2886,2,0),\"\")","v":""},null,null,null,null,{"$f":"IFERROR(VLOOKUP(ROWS($AJ$2:AJ983),O983:Q2886,3,0),\"\")","v":""},null,{"$f":"IFERROR(VLOOKUP(ROWS(AL$2:$AL983),N983:Q2886,4,0),\"\")","v":""}]
[null,null,null,null,null,null,null,null,null,null,null,null,null,{"$f":"IF(ISNUMBER(SEARCH($H$16,Q984)),MAX($N$1:N983)+1,0)","v":0},{"$f":"IF(ISNUMBER(SEARCH($H$11,Q984)),MAX($O$1:O983)+1,0)","v":0},{"$f":"IF(ISNUMBER(SEARCH($H$6,Q984)),MAX($P$1:P983)+1,0)","v":0},"bnp paribas money plus fund","MAB038","Ultra Short term debt",null,null,null,null,null,null,null,null,null,null,null,{"$f":"IFERROR(VLOOKUP(ROWS($AE$2:AE984),P984:Q2887,2,0),\"\")","v":""},null,null,null,null,{"$f":"IFERROR(VLOOKUP(ROWS($AJ$2:AJ984),O984:Q2887,3,0),\"\")","v":""},null,{"$f":"IFERROR(VLOOKUP(ROWS(AL$2:$AL984),N984:Q2887,4,0),\"\")","v":""}]
[null,null,null,null,null,null,null,null,null,null,null,null,null,{"$f":"IF(ISNUMBER(SEARCH($H$16,Q985)),MAX($N$1:N984)+1,0)","v":0},{"$f":"IF(ISNUMBER(SEARCH($H$11,Q985)),MAX($O$1:O984)+1,0)","v":0},{"$f":"IF(ISNUMBER(SEARCH($H$6,Q985)),MAX($P$1:P984)+1,0)","v":0},"l t low duration rp","MFF029","Ultra Short term debt",null,null,null,null,null,null,null,null,null,null,null,{"$f":"IFERROR(VLOOKUP(ROWS($AE$2:AE985),P985:Q2888,2,0),\"\")","v":""},null,null,null,null,{"$f":"IFERROR(VLOOKUP(ROWS($AJ$2:AJ985),O985:Q2888,3,0),\"\")","v":""},null,{"$f":"IFERROR(VLOOKUP(ROWS(AL$2:$AL985),N985:Q2888,4,0),\"\")","v":""}]
[null,null,null,null,null,null,null,null,null,null,null,null,null,{"$f":"IF(ISNUMBER(SEARCH($H$16,Q986)),MAX($N$1:N985)+1,0)","v":0},{"$f":"IF(ISNUMBER(SEARCH($H$11,Q986)),MAX($O$1:O985)+1,0)","v":0},{"$f":"IF(ISNUMBER(SEARCH($H$6,Q986)),MAX($P$1:P985)+1,0)","v":0},"hdfc cmf treasury advan rp","MZU005","Ultra Short term debt",null,null,null,null,null,null,null,null,null,null,null,{"$f":"IFERROR(VLOOKUP(ROWS($AE$2:AE986),P986:Q2889,2,0),\"\")","v":""},null,null,null,null,{"$f":"IFERROR(VLOOKUP(ROWS($AJ$2:AJ986),O986:Q2889,3,0),\"\")","v":""},null,{"$f":"IFERROR(VLOOKUP(ROWS(AL$2:$AL986),N986:Q2889,4,0),\"\")","v":""}]
[null,null,null,null,null,null,null,null,null,null,null,null,null,{"$f":"IF(ISNUMBER(SEARCH($H$16,Q987)),MAX($N$1:N986)+1,0)","v":0},{"$f":"IF(ISNUMBER(SEARCH($H$11,Q987)),MAX($O$1:O986)+1,0)","v":0},{"$f":"IF(ISNUMBER(SEARCH($H$6,Q987)),MAX($P$1:P986)+1,0)","v":0},"dws cash oppor ip","MDE159","Ultra Short term debt",null,null,null,null,null,null,null,null,null,null,null,{"$f":"IFERROR(VLOOKUP(ROWS($AE$2:AE987),P987:Q2890,2,0),\"\")","v":""},null,null,null,null,{"$f":"IFERROR(VLOOKUP(ROWS($AJ$2:AJ987),O987:Q2890,3,0),\"\")","v":""},null,{"$f":"IFERROR(VLOOKUP(ROWS(AL$2:$AL987),N987:Q2890,4,0),\"\")","v":""}]
[null,null,null,null,null,null,null,null,null,null,null,null,null,{"$f":"IF(ISNUMBER(SEARCH($H$16,Q988)),MAX($N$1:N987)+1,0)","v":0},{"$f":"IF(ISNUMBER(SEARCH($H$11,Q988)),MAX($O$1:O987)+1,0)","v":0},{"$f":"IF(ISNUMBER(SEARCH($H$6,Q988)),MAX($P$1:P987)+1,0)","v":0},"sundaram ultra stf ip","MSN109","Ultra Short term debt",null,null,null,null,null,null,null,null,null,null,null,{"$f":"IFERROR(VLOOKUP(ROWS($AE$2:AE988),P988:Q2891,2,0),\"\")","v":""},null,null,null,null,{"$f":"IFERROR(VLOOKUP(ROWS($AJ$2:AJ988),O988:Q2891,3,0),\"\")","v":""},null,{"$f":"IFERROR(VLOOKUP(ROWS(AL$2:$AL988),N988:Q2891,4,0),\"\")","v":""}]
[null,null,null,null,null,null,null,null,null,null,null,null,null,{"$f":"IF(ISNUMBER(SEARCH($H$16,Q989)),MAX($N$1:N988)+1,0)","v":0},{"$f":"IF(ISNUMBER(SEARCH($H$11,Q989)),MAX($O$1:O988)+1,0)","v":0},{"$f":"IF(ISNUMBER(SEARCH($H$6,Q989)),MAX($P$1:P988)+1,0)","v":0},"hsbc frf ltp rp ","MHS043","Ultra Short term debt",null,null,null,null,null,null,null,null,null,null,null,{"$f":"IFERROR(VLOOKUP(ROWS($AE$2:AE989),P989:Q2892,2,0),\"\")","v":""},null,null,null,null,{"$f":"IFERROR(VLOOKUP(ROWS($AJ$2:AJ989),O989:Q2892,3,0),\"\")","v":""},null,{"$f":"IFERROR(VLOOKUP(ROWS(AL$2:$AL989),N989:Q2892,4,0),\"\")","v":""}]
[null,null,null,null,null,null,null,null,null,null,null,null,null,{"$f":"IF(ISNUMBER(SEARCH($H$16,Q990)),MAX($N$1:N989)+1,0)","v":0},{"$f":"IF(ISNUMBER(SEARCH($H$11,Q990)),MAX($O$1:O989)+1,0)","v":0},{"$f":"IF(ISNUMBER(SEARCH($H$6,Q990)),MAX($P$1:P989)+1,0)","v":0},"religare invesco ultra stf rp","MLI013","Ultra Short term debt",null,null,null,null,null,null,null,null,null,null,null,{"$f":"IFERROR(VLOOKUP(ROWS($AE$2:AE990),P990:Q2893,2,0),\"\")","v":""},null,null,null,null,{"$f":"IFERROR(VLOOKUP(ROWS($AJ$2:AJ990),O990:Q2893,3,0),\"\")","v":""},null,{"$f":"IFERROR(VLOOKUP(ROWS(AL$2:$AL990),N990:Q2893,4,0),\"\")","v":""}]
[null,null,null,null,null,null,null,null,null,null,null,null,null,{"$f":"IF(ISNUMBER(SEARCH($H$16,Q991)),MAX($N$1:N990)+1,0)","v":0},{"$f":"IF(ISNUMBER(SEARCH($H$11,Q991)),MAX($O$1:O990)+1,0)","v":0},{"$f":"IF(ISNUMBER(SEARCH($H$6,Q991)),MAX($P$1:P990)+1,0)","v":0},"religare invesco credit opp rp","MLI341","Ultra Short term debt",null,null,null,null,null,null,null,null,null,null,null,{"$f":"IFERROR(VLOOKUP(ROWS($AE$2:AE991),P991:Q2894,2,0),\"\")","v":""},null,null,null,null,{"$f":"IFERROR(VLOOKUP(ROWS($AJ$2:AJ991),O991:Q2894,3,0),\"\")","v":""},null,{"$f":"IFERROR(VLOOKUP(ROWS(AL$2:$AL991),N991:Q2894,4,0),\"\")","v":""}]
[null,null,null,null,null,null,null,null,null,null,null,null,null,{"$f":"IF(ISNUMBER(SEARCH($H$16,Q992)),MAX($N$1:N991)+1,0)","v":0},{"$f":"IF(ISNUMBER(SEARCH($H$11,Q992)),MAX($O$1:O991)+1,0)","v":0},{"$f":"IF(ISNUMBER(SEARCH($H$6,Q992)),MAX($P$1:P991)+1,0)","v":0},"axis treasury advantage rp","MAA029","Ultra Short term debt",null,null,null,null,null,null,null,null,null,null,null,{"$f":"IFERROR(VLOOKUP(ROWS($AE$2:AE992),P992:Q2895,2,0),\"\")","v":""},null,null,null,null,{"$f":"IFERROR(VLOOKUP(ROWS($AJ$2:AJ992),O992:Q2895,3,0),\"\")","v":""},null,{"$f":"IFERROR(VLOOKUP(ROWS(AL$2:$AL992),N992:Q2895,4,0),\"\")","v":""}]
[null,null,null,null,null,null,null,null,null,null,null,null,null,{"$f":"IF(ISNUMBER(SEARCH($H$16,Q993)),MAX($N$1:N992)+1,0)","v":0},{"$f":"IF(ISNUMBER(SEARCH($H$11,Q993)),MAX($O$1:O992)+1,0)","v":0},{"$f":"IF(ISNUMBER(SEARCH($H$6,Q993)),MAX($P$1:P992)+1,0)","v":0},"idfc mmf treasury plan d","MAG341","Ultra Short term debt",null,null,null,null,null,null,null,null,null,null,null,{"$f":"IFERROR(VLOOKUP(ROWS($AE$2:AE993),P993:Q2896,2,0),\"\")","v":""},null,null,null,null,{"$f":"IFERROR(VLOOKUP(ROWS($AJ$2:AJ993),O993:Q2896,3,0),\"\")","v":""},null,{"$f":"IFERROR(VLOOKUP(ROWS(AL$2:$AL993),N993:Q2896,4,0),\"\")","v":""}]
[null,null,null,null,null,null,null,null,null,null,null,null,null,{"$f":"IF(ISNUMBER(SEARCH($H$16,Q994)),MAX($N$1:N993)+1,0)","v":0},{"$f":"IF(ISNUMBER(SEARCH($H$11,Q994)),MAX($O$1:O993)+1,0)","v":0},{"$f":"IF(ISNUMBER(SEARCH($H$6,Q994)),MAX($P$1:P993)+1,0)","v":0},"dws low duration fund rp","MDE045","Ultra Short term debt",null,null,null,null,null,null,null,null,null,null,null,{"$f":"IFERROR(VLOOKUP(ROWS($AE$2:AE994),P994:Q2897,2,0),\"\")","v":""},null,null,null,null,{"$f":"IFERROR(VLOOKUP(ROWS($AJ$2:AJ994),O994:Q2897,3,0),\"\")","v":""},null,{"$f":"IFERROR(VLOOKUP(ROWS(AL$2:$AL994),N994:Q2897,4,0),\"\")","v":""}]
[null,null,null,null,null,null,null,null,null,null,null,null,null,{"$f":"IF(ISNUMBER(SEARCH($H$16,Q995)),MAX($N$1:N994)+1,0)","v":0},{"$f":"IF(ISNUMBER(SEARCH($H$11,Q995)),MAX($O$1:O994)+1,0)","v":0},{"$f":"IF(ISNUMBER(SEARCH($H$6,Q995)),MAX($P$1:P994)+1,0)","v":0},"sundaram ultra stf rp","MSN103","Ultra Short term debt",null,null,null,null,null,null,null,null,null,null,null,{"$f":"IFERROR(VLOOKUP(ROWS($AE$2:AE995),P995:Q2898,2,0),\"\")","v":""},null,null,null,null,{"$f":"IFERROR(VLOOKUP(ROWS($AJ$2:AJ995),O995:Q2898,3,0),\"\")","v":""},null,{"$f":"IFERROR(VLOOKUP(ROWS(AL$2:$AL995),N995:Q2898,4,0),\"\")","v":""}]
[null,null,null,null,null,null,null,null,null,null,null,null,null,{"$f":"IF(ISNUMBER(SEARCH($H$16,Q996)),MAX($N$1:N995)+1,0)","v":0},{"$f":"IF(ISNUMBER(SEARCH($H$11,Q996)),MAX($O$1:O995)+1,0)","v":0},{"$f":"IF(ISNUMBER(SEARCH($H$6,Q996)),MAX($P$1:P995)+1,0)","v":0},"sundaram flexi inc stp rp","MSN068","Ultra Short term debt",null,null,null,null,null,null,null,null,null,null,null,{"$f":"IFERROR(VLOOKUP(ROWS($AE$2:AE996),P996:Q2899,2,0),\"\")","v":""},null,null,null,null,{"$f":"IFERROR(VLOOKUP(ROWS($AJ$2:AJ996),O996:Q2899,3,0),\"\")","v":""},null,{"$f":"IFERROR(VLOOKUP(ROWS(AL$2:$AL996),N996:Q2899,4,0),\"\")","v":""}]
[null,null,null,null,null,null,null,null,null,null,null,null,null,{"$f":"IF(ISNUMBER(SEARCH($H$16,Q997)),MAX($N$1:N996)+1,0)","v":0},{"$f":"IF(ISNUMBER(SEARCH($H$11,Q997)),MAX($O$1:O996)+1,0)","v":0},{"$f":"IF(ISNUMBER(SEARCH($H$6,Q997)),MAX($P$1:P996)+1,0)","v":0},"dws ultra short term fund rp","MDE026","Ultra Short term debt",null,null,null,null,null,null,null,null,null,null,null,{"$f":"IFERROR(VLOOKUP(ROWS($AE$2:AE997),P997:Q2900,2,0),\"\")","v":""},null,null,null,null,{"$f":"IFERROR(VLOOKUP(ROWS($AJ$2:AJ997),O997:Q2900,3,0),\"\")","v":""},null,{"$f":"IFERROR(VLOOKUP(ROWS(AL$2:$AL997),N997:Q2900,4,0),\"\")","v":""}]
[null,null,null,null,null,null,null,null,null,null,null,null,null,{"$f":"IF(ISNUMBER(SEARCH($H$16,Q998)),MAX($N$1:N997)+1,0)","v":0},{"$f":"IF(ISNUMBER(SEARCH($H$11,Q998)),MAX($O$1:O997)+1,0)","v":0},{"$f":"IF(ISNUMBER(SEARCH($H$6,Q998)),MAX($P$1:P997)+1,0)","v":0},"mirae ultra stbf rp","MMA014","Ultra Short term debt",null,null,null,null,null,null,null,null,null,null,null,{"$f":"IFERROR(VLOOKUP(ROWS($AE$2:AE998),P998:Q2901,2,0),\"\")","v":""},null,null,null,null,{"$f":"IFERROR(VLOOKUP(ROWS($AJ$2:AJ998),O998:Q2901,3,0),\"\")","v":""},null,{"$f":"IFERROR(VLOOKUP(ROWS(AL$2:$AL998),N998:Q2901,4,0),\"\")","v":""}]
[null,null,null,null,null,null,null,null,null,null,null,null,null,{"$f":"IF(ISNUMBER(SEARCH($H$16,Q999)),MAX($N$1:N998)+1,0)","v":0},{"$f":"IF(ISNUMBER(SEARCH($H$11,Q999)),MAX($O$1:O998)+1,0)","v":0},{"$f":"IF(ISNUMBER(SEARCH($H$6,Q999)),MAX($P$1:P998)+1,0)","v":0},"motilal ultra short term bond rp g","MMO013","Ultra Short term debt",null,null,null,null,null,null,null,null,null,null,null,{"$f":"IFERROR(VLOOKUP(ROWS($AE$2:AE999),P999:Q2902,2,0),\"\")","v":""},null,null,null,null,{"$f":"IFERROR(VLOOKUP(ROWS($AJ$2:AJ999),O999:Q2902,3,0),\"\")","v":""},null,{"$f":"IFERROR(VLOOKUP(ROWS(AL$2:$AL999),N999:Q2902,4,0),\"\")","v":""}]
[null,null,null,null,null,null,null,null,null,null,null,null,null,{"$f":"IF(ISNUMBER(SEARCH($H$16,Q1000)),MAX($N$1:N999)+1,0)","v":0},{"$f":"IF(ISNUMBER(SEARCH($H$11,Q1000)),MAX($O$1:O999)+1,0)","v":0},{"$f":"IF(ISNUMBER(SEARCH($H$6,Q1000)),MAX($P$1:P999)+1,0)","v":0},"peerless ultra short term rp","MPM013","Ultra Short term debt",null,null,null,null,null,null,null,null,null,null,null,{"$f":"IFERROR(VLOOKUP(ROWS($AE$2:AE1000),P1000:Q2903,2,0),\"\")","v":""},null,null,null,null,{"$f":"IFERROR(VLOOKUP(ROWS($AJ$2:AJ1000),O1000:Q2903,3,0),\"\")","v":""},null,{"$f":"IFERROR(VLOOKUP(ROWS(AL$2:$AL1000),N1000:Q2903,4,0),\"\")","v":""}]
[null,null,null,null,null,null,null,null,null,null,null,null,null,{"$f":"IF(ISNUMBER(SEARCH($H$16,Q1001)),MAX($N$1:N1000)+1,0)","v":0},{"$f":"IF(ISNUMBER(SEARCH($H$11,Q1001)),MAX($O$1:O1000)+1,0)","v":0},{"$f":"IF(ISNUMBER(SEARCH($H$6,Q1001)),MAX($P$1:P1000)+1,0)","v":0},"dws treasury investment ip","MDE271","Ultra Short term debt",null,null,null,null,null,null,null,null,null,null,null,{"$f":"IFERROR(VLOOKUP(ROWS($AE$2:AE1001),P1001:Q2904,2,0),\"\")","v":""},null,null,null,null,{"$f":"IFERROR(VLOOKUP(ROWS($AJ$2:AJ1001),O1001:Q2904,3,0),\"\")","v":""},null,{"$f":"IFERROR(VLOOKUP(ROWS(AL$2:$AL1001),N1001:Q2904,4,0),\"\")","v":""}]
[null,null,null,null,null,null,null,null,null,null,null,null,null,{"$f":"IF(ISNUMBER(SEARCH($H$16,Q1002)),MAX($N$1:N1001)+1,0)","v":0},{"$f":"IF(ISNUMBER(SEARCH($H$11,Q1002)),MAX($O$1:O1001)+1,0)","v":0},{"$f":"IF(ISNUMBER(SEARCH($H$6,Q1002)),MAX($P$1:P1001)+1,0)","v":0},"lic nomura income plus fund","MJB051","Ultra Short term debt",null,null,null,null,null,null,null,null,null,null,null,{"$f":"IFERROR(VLOOKUP(ROWS($AE$2:AE1002),P1002:Q2905,2,0),\"\")","v":""},null,null,null,null,{"$f":"IFERROR(VLOOKUP(ROWS($AJ$2:AJ1002),O1002:Q2905,3,0),\"\")","v":""},null,{"$f":"IFERROR(VLOOKUP(ROWS(AL$2:$AL1002),N1002:Q2905,4,0),\"\")","v":""}]
[null,null,null,null,null,null,null,null,null,null,null,null,null,{"$f":"IF(ISNUMBER(SEARCH($H$16,Q1003)),MAX($N$1:N1002)+1,0)","v":0},{"$f":"IF(ISNUMBER(SEARCH($H$11,Q1003)),MAX($O$1:O1002)+1,0)","v":0},{"$f":"IF(ISNUMBER(SEARCH($H$6,Q1003)),MAX($P$1:P1002)+1,0)","v":0},"franklin i low duration qd ","MTE010","Ultra Short term debt",null,null,null,null,null,null,null,null,null,null,null,{"$f":"IFERROR(VLOOKUP(ROWS($AE$2:AE1003),P1003:Q2906,2,0),\"\")","v":""},null,null,null,null,{"$f":"IFERROR(VLOOKUP(ROWS($AJ$2:AJ1003),O1003:Q2906,3,0),\"\")","v":""},null,{"$f":"IFERROR(VLOOKUP(ROWS(AL$2:$AL1003),N1003:Q2906,4,0),\"\")","v":""}]
[null,null,null,null,null,null,null,null,null,null,null,null,null,{"$f":"IF(ISNUMBER(SEARCH($H$16,Q1004)),MAX($N$1:N1003)+1,0)","v":0},{"$f":"IF(ISNUMBER(SEARCH($H$11,Q1004)),MAX($O$1:O1003)+1,0)","v":0},{"$f":"IF(ISNUMBER(SEARCH($H$6,Q1004)),MAX($P$1:P1003)+1,0)","v":0},"l t ultra short term fund","MCC498","Ultra Short term debt",null,null,null,null,null,null,null,null,null,null,null,{"$f":"IFERROR(VLOOKUP(ROWS($AE$2:AE1004),P1004:Q2907,2,0),\"\")","v":""},null,null,null,null,{"$f":"IFERROR(VLOOKUP(ROWS($AJ$2:AJ1004),O1004:Q2907,3,0),\"\")","v":""},null,{"$f":"IFERROR(VLOOKUP(ROWS(AL$2:$AL1004),N1004:Q2907,4,0),\"\")","v":""}]
[null,null,null,null,null,null,null,null,null,null,null,null,null,{"$f":"IF(ISNUMBER(SEARCH($H$16,Q1005)),MAX($N$1:N1004)+1,0)","v":0},{"$f":"IF(ISNUMBER(SEARCH($H$11,Q1005)),MAX($O$1:O1004)+1,0)","v":0},{"$f":"IF(ISNUMBER(SEARCH($H$6,Q1005)),MAX($P$1:P1004)+1,0)","v":0},"dsp br ultra short term fund rp","MDS1157","Ultra Short term debt",null,null,null,null,null,null,null,null,null,null,null,{"$f":"IFERROR(VLOOKUP(ROWS($AE$2:AE1005),P1005:Q2908,2,0),\"\")","v":""},null,null,null,null,{"$f":"IFERROR(VLOOKUP(ROWS($AJ$2:AJ1005),O1005:Q2908,3,0),\"\")","v":""},null,{"$f":"IFERROR(VLOOKUP(ROWS(AL$2:$AL1005),N1005:Q2908,4,0),\"\")","v":""}]
[null,null,null,null,null,null,null,null,null,null,null,null,null,{"$f":"IF(ISNUMBER(SEARCH($H$16,Q1006)),MAX($N$1:N1005)+1,0)","v":0},{"$f":"IF(ISNUMBER(SEARCH($H$11,Q1006)),MAX($O$1:O1005)+1,0)","v":0},{"$f":"IF(ISNUMBER(SEARCH($H$6,Q1006)),MAX($P$1:P1005)+1,0)","v":0},"idfc mmf investment plan f","MAG368","Ultra Short term debt",null,null,null,null,null,null,null,null,null,null,null,{"$f":"IFERROR(VLOOKUP(ROWS($AE$2:AE1006),P1006:Q2909,2,0),\"\")","v":""},null,null,null,null,{"$f":"IFERROR(VLOOKUP(ROWS($AJ$2:AJ1006),O1006:Q2909,3,0),\"\")","v":""},null,{"$f":"IFERROR(VLOOKUP(ROWS(AL$2:$AL1006),N1006:Q2909,4,0),\"\")","v":""}]
[null,null,null,null,null,null,null,null,null,null,null,null,null,{"$f":"IF(ISNUMBER(SEARCH($H$16,Q1007)),MAX($N$1:N1006)+1,0)","v":0},{"$f":"IF(ISNUMBER(SEARCH($H$11,Q1007)),MAX($O$1:O1006)+1,0)","v":0},{"$f":"IF(ISNUMBER(SEARCH($H$6,Q1007)),MAX($P$1:P1006)+1,0)","v":0},"hsbc ultra stbf inst plus","MHS065","Ultra Short term debt",null,null,null,null,null,null,null,null,null,null,null,{"$f":"IFERROR(VLOOKUP(ROWS($AE$2:AE1007),P1007:Q2910,2,0),\"\")","v":""},null,null,null,null,{"$f":"IFERROR(VLOOKUP(ROWS($AJ$2:AJ1007),O1007:Q2910,3,0),\"\")","v":""},null,{"$f":"IFERROR(VLOOKUP(ROWS(AL$2:$AL1007),N1007:Q2910,4,0),\"\")","v":""}]
[null,null,null,null,null,null,null,null,null,null,null,null,null,{"$f":"IF(ISNUMBER(SEARCH($H$16,Q1008)),MAX($N$1:N1007)+1,0)","v":0},{"$f":"IF(ISNUMBER(SEARCH($H$11,Q1008)),MAX($O$1:O1007)+1,0)","v":0},{"$f":"IF(ISNUMBER(SEARCH($H$6,Q1008)),MAX($P$1:P1007)+1,0)","v":0},"sbi benchmark g sec fund","MSA018","Gilt Short Term",null,null,null,null,null,null,null,null,null,null,null,{"$f":"IFERROR(VLOOKUP(ROWS($AE$2:AE1008),P1008:Q2911,2,0),\"\")","v":""},null,null,null,null,{"$f":"IFERROR(VLOOKUP(ROWS($AJ$2:AJ1008),O1008:Q2911,3,0),\"\")","v":""},null,{"$f":"IFERROR(VLOOKUP(ROWS(AL$2:$AL1008),N1008:Q2911,4,0),\"\")","v":""}]
[null,null,null,null,null,null,null,null,null,null,null,null,null,{"$f":"IF(ISNUMBER(SEARCH($H$16,Q1009)),MAX($N$1:N1008)+1,0)","v":0},{"$f":"IF(ISNUMBER(SEARCH($H$11,Q1009)),MAX($O$1:O1008)+1,0)","v":0},{"$f":"IF(ISNUMBER(SEARCH($H$6,Q1009)),MAX($P$1:P1008)+1,0)","v":0},"hsbc gilt fund stp","MHS021","Gilt Short Term",null,null,null,null,null,null,null,null,null,null,null,{"$f":"IFERROR(VLOOKUP(ROWS($AE$2:AE1009),P1009:Q2912,2,0),\"\")","v":""},null,null,null,null,{"$f":"IFERROR(VLOOKUP(ROWS($AJ$2:AJ1009),O1009:Q2912,3,0),\"\")","v":""},null,{"$f":"IFERROR(VLOOKUP(ROWS(AL$2:$AL1009),N1009:Q2912,4,0),\"\")","v":""}]
[null,null,null,null,null,null,null,null,null,null,null,null,null,{"$f":"IF(ISNUMBER(SEARCH($H$16,Q1010)),MAX($N$1:N1009)+1,0)","v":0},{"$f":"IF(ISNUMBER(SEARCH($H$11,Q1010)),MAX($O$1:O1009)+1,0)","v":0},{"$f":"IF(ISNUMBER(SEARCH($H$6,Q1010)),MAX($P$1:P1009)+1,0)","v":0},"sbi magnum gilt stp","MSB017","Gilt Short Term",null,null,null,null,null,null,null,null,null,null,null,{"$f":"IFERROR(VLOOKUP(ROWS($AE$2:AE1010),P1010:Q2913,2,0),\"\")","v":""},null,null,null,null,{"$f":"IFERROR(VLOOKUP(ROWS($AJ$2:AJ1010),O1010:Q2913,3,0),\"\")","v":""},null,{"$f":"IFERROR(VLOOKUP(ROWS(AL$2:$AL1010),N1010:Q2913,4,0),\"\")","v":""}]
[null,null,null,null,null,null,null,null,null,null,null,null,null,{"$f":"IF(ISNUMBER(SEARCH($H$16,Q1011)),MAX($N$1:N1010)+1,0)","v":0},{"$f":"IF(ISNUMBER(SEARCH($H$11,Q1011)),MAX($O$1:O1010)+1,0)","v":0},{"$f":"IF(ISNUMBER(SEARCH($H$6,Q1011)),MAX($P$1:P1010)+1,0)","v":0},"idfc gsec stp regular plan","MAG014","Gilt Short Term",null,null,null,null,null,null,null,null,null,null,null,{"$f":"IFERROR(VLOOKUP(ROWS($AE$2:AE1011),P1011:Q2914,2,0),\"\")","v":""},null,null,null,null,{"$f":"IFERROR(VLOOKUP(ROWS($AJ$2:AJ1011),O1011:Q2914,3,0),\"\")","v":""},null,{"$f":"IFERROR(VLOOKUP(ROWS(AL$2:$AL1011),N1011:Q2914,4,0),\"\")","v":""}]
[null,null,null,null,null,null,null,null,null,null,null,null,null,{"$f":"IF(ISNUMBER(SEARCH($H$16,Q1012)),MAX($N$1:N1011)+1,0)","v":0},{"$f":"IF(ISNUMBER(SEARCH($H$11,Q1012)),MAX($O$1:O1011)+1,0)","v":0},{"$f":"IF(ISNUMBER(SEARCH($H$6,Q1012)),MAX($P$1:P1011)+1,0)","v":0},"icici pru short term gilt dir","MPI1208","Gilt Short Term",null,null,null,null,null,null,null,null,null,null,null,{"$f":"IFERROR(VLOOKUP(ROWS($AE$2:AE1012),P1012:Q2915,2,0),\"\")","v":""},null,null,null,null,{"$f":"IFERROR(VLOOKUP(ROWS($AJ$2:AJ1012),O1012:Q2915,3,0),\"\")","v":""},null,{"$f":"IFERROR(VLOOKUP(ROWS(AL$2:$AL1012),N1012:Q2915,4,0),\"\")","v":""}]
[null,null,null,null,null,null,null,null,null,null,null,null,null,{"$f":"IF(ISNUMBER(SEARCH($H$16,Q1013)),MAX($N$1:N1012)+1,0)","v":0},{"$f":"IF(ISNUMBER(SEARCH($H$11,Q1013)),MAX($O$1:O1012)+1,0)","v":0},{"$f":"IF(ISNUMBER(SEARCH($H$6,Q1013)),MAX($P$1:P1012)+1,0)","v":0},"icici pru short term gilt","MPI009","Gilt Short Term",null,null,null,null,null,null,null,null,null,null,null,{"$f":"IFERROR(VLOOKUP(ROWS($AE$2:AE1013),P1013:Q2916,2,0),\"\")","v":""},null,null,null,null,{"$f":"IFERROR(VLOOKUP(ROWS($AJ$2:AJ1013),O1013:Q2916,3,0),\"\")","v":""},null,{"$f":"IFERROR(VLOOKUP(ROWS(AL$2:$AL1013),N1013:Q2916,4,0),\"\")","v":""}]
[null,null,null,null,null,null,null,null,null,null,null,null,null,{"$f":"IF(ISNUMBER(SEARCH($H$16,Q1014)),MAX($N$1:N1013)+1,0)","v":0},{"$f":"IF(ISNUMBER(SEARCH($H$11,Q1014)),MAX($O$1:O1013)+1,0)","v":0},{"$f":"IF(ISNUMBER(SEARCH($H$6,Q1014)),MAX($P$1:P1013)+1,0)","v":0},"tata gilt sec smf","MTA041","Gilt Short Term",null,null,null,null,null,null,null,null,null,null,null,{"$f":"IFERROR(VLOOKUP(ROWS($AE$2:AE1014),P1014:Q2917,2,0),\"\")","v":""},null,null,null,null,{"$f":"IFERROR(VLOOKUP(ROWS($AJ$2:AJ1014),O1014:Q2917,3,0),\"\")","v":""},null,{"$f":"IFERROR(VLOOKUP(ROWS(AL$2:$AL1014),N1014:Q2917,4,0),\"\")","v":""}]
[null,null,null,null,null,null,null,null,null,null,null,null,null,{"$f":"IF(ISNUMBER(SEARCH($H$16,Q1015)),MAX($N$1:N1014)+1,0)","v":0},{"$f":"IF(ISNUMBER(SEARCH($H$11,Q1015)),MAX($O$1:O1014)+1,0)","v":0},{"$f":"IF(ISNUMBER(SEARCH($H$6,Q1015)),MAX($P$1:P1014)+1,0)","v":0},"hdfc gilt fund stp","MHD015","Gilt Short Term",null,null,null,null,null,null,null,null,null,null,null,{"$f":"IFERROR(VLOOKUP(ROWS($AE$2:AE1015),P1015:Q2918,2,0),\"\")","v":""},null,null,null,null,{"$f":"IFERROR(VLOOKUP(ROWS($AJ$2:AJ1015),O1015:Q2918,3,0),\"\")","v":""},null,{"$f":"IFERROR(VLOOKUP(ROWS(AL$2:$AL1015),N1015:Q2918,4,0),\"\")","v":""}]
[null,null,null,null,null,null,null,null,null,null,null,null,null,{"$f":"IF(ISNUMBER(SEARCH($H$16,Q1016)),MAX($N$1:N1015)+1,0)","v":0},{"$f":"IF(ISNUMBER(SEARCH($H$11,Q1016)),MAX($O$1:O1015)+1,0)","v":0},{"$f":"IF(ISNUMBER(SEARCH($H$6,Q1016)),MAX($P$1:P1015)+1,0)","v":0},"mirae gilt savings rp","MMA053","Gilt Short Term",null,null,null,null,null,null,null,null,null,null,null,{"$f":"IFERROR(VLOOKUP(ROWS($AE$2:AE1016),P1016:Q2919,2,0),\"\")","v":""},null,null,null,null,{"$f":"IFERROR(VLOOKUP(ROWS($AJ$2:AJ1016),O1016:Q2919,3,0),\"\")","v":""},null,{"$f":"IFERROR(VLOOKUP(ROWS(AL$2:$AL1016),N1016:Q2919,4,0),\"\")","v":""}]
[null,null,null,null,null,null,null,null,null,null,null,null,null,{"$f":"IF(ISNUMBER(SEARCH($H$16,Q1017)),MAX($N$1:N1016)+1,0)","v":0},{"$f":"IF(ISNUMBER(SEARCH($H$11,Q1017)),MAX($O$1:O1016)+1,0)","v":0},{"$f":"IF(ISNUMBER(SEARCH($H$6,Q1017)),MAX($P$1:P1016)+1,0)","v":0},"religare invesco gilt sdp dp","MLI595","Gilt Short Term",null,null,null,null,null,null,null,null,null,null,null,{"$f":"IFERROR(VLOOKUP(ROWS($AE$2:AE1017),P1017:Q2920,2,0),\"\")","v":""},null,null,null,null,{"$f":"IFERROR(VLOOKUP(ROWS($AJ$2:AJ1017),O1017:Q2920,3,0),\"\")","v":""},null,{"$f":"IFERROR(VLOOKUP(ROWS(AL$2:$AL1017),N1017:Q2920,4,0),\"\")","v":""}]
[null,null,null,null,null,null,null,null,null,null,null,null,null,{"$f":"IF(ISNUMBER(SEARCH($H$16,Q1018)),MAX($N$1:N1017)+1,0)","v":0},{"$f":"IF(ISNUMBER(SEARCH($H$11,Q1018)),MAX($O$1:O1017)+1,0)","v":0},{"$f":"IF(ISNUMBER(SEARCH($H$6,Q1018)),MAX($P$1:P1017)+1,0)","v":0},"uti g sec fund stp","MUT054","Gilt Short Term",null,null,null,null,null,null,null,null,null,null,null,{"$f":"IFERROR(VLOOKUP(ROWS($AE$2:AE1018),P1018:Q2921,2,0),\"\")","v":""},null,null,null,null,{"$f":"IFERROR(VLOOKUP(ROWS($AJ$2:AJ1018),O1018:Q2921,3,0),\"\")","v":""},null,{"$f":"IFERROR(VLOOKUP(ROWS(AL$2:$AL1018),N1018:Q2921,4,0),\"\")","v":""}]
[null,null,null,null,null,null,null,null,null,null,null,null,null,{"$f":"IF(ISNUMBER(SEARCH($H$16,Q1019)),MAX($N$1:N1018)+1,0)","v":0},{"$f":"IF(ISNUMBER(SEARCH($H$11,Q1019)),MAX($O$1:O1018)+1,0)","v":0},{"$f":"IF(ISNUMBER(SEARCH($H$6,Q1019)),MAX($P$1:P1018)+1,0)","v":0},"religare invesco gilt sdp","MLI197","Gilt Short Term",null,null,null,null,null,null,null,null,null,null,null,{"$f":"IFERROR(VLOOKUP(ROWS($AE$2:AE1019),P1019:Q2922,2,0),\"\")","v":""},null,null,null,null,{"$f":"IFERROR(VLOOKUP(ROWS($AJ$2:AJ1019),O1019:Q2922,3,0),\"\")","v":""},null,{"$f":"IFERROR(VLOOKUP(ROWS(AL$2:$AL1019),N1019:Q2922,4,0),\"\")","v":""}]
[null,null,null,null,null,null,null,null,null,null,null,null,null,{"$f":"IF(ISNUMBER(SEARCH($H$16,Q1020)),MAX($N$1:N1019)+1,0)","v":0},{"$f":"IF(ISNUMBER(SEARCH($H$11,Q1020)),MAX($O$1:O1019)+1,0)","v":0},{"$f":"IF(ISNUMBER(SEARCH($H$6,Q1020)),MAX($P$1:P1019)+1,0)","v":0},"dsp br treasury bill fund","MDS015","Gilt Short Term",null,null,null,null,null,null,null,null,null,null,null,{"$f":"IFERROR(VLOOKUP(ROWS($AE$2:AE1020),P1020:Q2923,2,0),\"\")","v":""},null,null,null,null,{"$f":"IFERROR(VLOOKUP(ROWS($AJ$2:AJ1020),O1020:Q2923,3,0),\"\")","v":""},null,{"$f":"IFERROR(VLOOKUP(ROWS(AL$2:$AL1020),N1020:Q2923,4,0),\"\")","v":""}]
[null,null,null,null,null,null,null,null,null,null,null,null,null,{"$f":"IF(ISNUMBER(SEARCH($H$16,Q1021)),MAX($N$1:N1020)+1,0)","v":0},{"$f":"IF(ISNUMBER(SEARCH($H$11,Q1021)),MAX($O$1:O1020)+1,0)","v":0},{"$f":"IF(ISNUMBER(SEARCH($H$6,Q1021)),MAX($P$1:P1020)+1,0)","v":0},"birla sl gilt plus liquid","MBS010","Gilt Short Term",null,null,null,null,null,null,null,null,null,null,null,{"$f":"IFERROR(VLOOKUP(ROWS($AE$2:AE1021),P1021:Q2924,2,0),\"\")","v":""},null,null,null,null,{"$f":"IFERROR(VLOOKUP(ROWS($AJ$2:AJ1021),O1021:Q2924,3,0),\"\")","v":""},null,{"$f":"IFERROR(VLOOKUP(ROWS(AL$2:$AL1021),N1021:Q2924,4,0),\"\")","v":""}]
[null,null,null,null,null,null,null,null,null,null,null,null,null,{"$f":"IF(ISNUMBER(SEARCH($H$16,Q1022)),MAX($N$1:N1021)+1,0)","v":0},{"$f":"IF(ISNUMBER(SEARCH($H$11,Q1022)),MAX($O$1:O1021)+1,0)","v":0},{"$f":"IF(ISNUMBER(SEARCH($H$6,Q1022)),MAX($P$1:P1021)+1,0)","v":0},"birla sl g sec stf rp","MAC019","Gilt Short Term",null,null,null,null,null,null,null,null,null,null,null,{"$f":"IFERROR(VLOOKUP(ROWS($AE$2:AE1022),P1022:Q2925,2,0),\"\")","v":""},null,null,null,null,{"$f":"IFERROR(VLOOKUP(ROWS($AJ$2:AJ1022),O1022:Q2925,3,0),\"\")","v":""},null,{"$f":"IFERROR(VLOOKUP(ROWS(AL$2:$AL1022),N1022:Q2925,4,0),\"\")","v":""}]
[null,null,null,null,null,null,null,null,null,null,null,null,null,{"$f":"IF(ISNUMBER(SEARCH($H$16,Q1023)),MAX($N$1:N1022)+1,0)","v":0},{"$f":"IF(ISNUMBER(SEARCH($H$11,Q1023)),MAX($O$1:O1022)+1,0)","v":0},{"$f":"IF(ISNUMBER(SEARCH($H$6,Q1023)),MAX($P$1:P1022)+1,0)","v":0},"canara robeco gilt advantage","MCA180","Gilt Short Term",null,null,null,null,null,null,null,null,null,null,null,{"$f":"IFERROR(VLOOKUP(ROWS($AE$2:AE1023),P1023:Q2926,2,0),\"\")","v":""},null,null,null,null,{"$f":"IFERROR(VLOOKUP(ROWS($AJ$2:AJ1023),O1023:Q2926,3,0),\"\")","v":""},null,{"$f":"IFERROR(VLOOKUP(ROWS(AL$2:$AL1023),N1023:Q2926,4,0),\"\")","v":""}]
[null,null,null,null,null,null,null,null,null,null,null,null,null,{"$f":"IF(ISNUMBER(SEARCH($H$16,Q1024)),MAX($N$1:N1023)+1,0)","v":0},{"$f":"IF(ISNUMBER(SEARCH($H$11,Q1024)),MAX($O$1:O1023)+1,0)","v":0},{"$f":"IF(ISNUMBER(SEARCH($H$6,Q1024)),MAX($P$1:P1023)+1,0)","v":0},"icici pru gilt tp pf","MPI086","Gilt Short Term",null,null,null,null,null,null,null,null,null,null,null,{"$f":"IFERROR(VLOOKUP(ROWS($AE$2:AE1024),P1024:Q2927,2,0),\"\")","v":""},null,null,null,null,{"$f":"IFERROR(VLOOKUP(ROWS($AJ$2:AJ1024),O1024:Q2927,3,0),\"\")","v":""},null,{"$f":"IFERROR(VLOOKUP(ROWS(AL$2:$AL1024),N1024:Q2927,4,0),\"\")","v":""}]
[null,null,null,null,null,null,null,null,null,null,null,null,null,{"$f":"IF(ISNUMBER(SEARCH($H$16,Q1025)),MAX($N$1:N1024)+1,0)","v":0},{"$f":"IF(ISNUMBER(SEARCH($H$11,Q1025)),MAX($O$1:O1024)+1,0)","v":0},{"$f":"IF(ISNUMBER(SEARCH($H$6,Q1025)),MAX($P$1:P1024)+1,0)","v":0},"icici pru gilt tp pf qd ","MPI1092","Gilt Short Term",null,null,null,null,null,null,null,null,null,null,null,{"$f":"IFERROR(VLOOKUP(ROWS($AE$2:AE1025),P1025:Q2928,2,0),\"\")","v":""},null,null,null,null,{"$f":"IFERROR(VLOOKUP(ROWS($AJ$2:AJ1025),O1025:Q2928,3,0),\"\")","v":""},null,{"$f":"IFERROR(VLOOKUP(ROWS(AL$2:$AL1025),N1025:Q2928,4,0),\"\")","v":""}]
[null,null,null,null,null,null,null,null,null,null,null,null,null,{"$f":"IF(ISNUMBER(SEARCH($H$16,Q1026)),MAX($N$1:N1025)+1,0)","v":0},{"$f":"IF(ISNUMBER(SEARCH($H$11,Q1026)),MAX($O$1:O1025)+1,0)","v":0},{"$f":"IF(ISNUMBER(SEARCH($H$6,Q1026)),MAX($P$1:P1025)+1,0)","v":0},"birla sl g sec stf ip","MBS429","Gilt Short Term",null,null,null,null,null,null,null,null,null,null,null,{"$f":"IFERROR(VLOOKUP(ROWS($AE$2:AE1026),P1026:Q2929,2,0),\"\")","v":""},null,null,null,null,{"$f":"IFERROR(VLOOKUP(ROWS($AJ$2:AJ1026),O1026:Q2929,3,0),\"\")","v":""},null,{"$f":"IFERROR(VLOOKUP(ROWS(AL$2:$AL1026),N1026:Q2929,4,0),\"\")","v":""}]
[null,null,null,null,null,null,null,null,null,null,null,null,null,{"$f":"IF(ISNUMBER(SEARCH($H$16,Q1027)),MAX($N$1:N1026)+1,0)","v":0},{"$f":"IF(ISNUMBER(SEARCH($H$11,Q1027)),MAX($O$1:O1026)+1,0)","v":0},{"$f":"IF(ISNUMBER(SEARCH($H$6,Q1027)),MAX($P$1:P1026)+1,0)","v":0},"idfc gsec stp ip b","MAG320","Gilt Short Term",null,null,null,null,null,null,null,null,null,null,null,{"$f":"IFERROR(VLOOKUP(ROWS($AE$2:AE1027),P1027:Q2930,2,0),\"\")","v":""},null,null,null,null,{"$f":"IFERROR(VLOOKUP(ROWS($AJ$2:AJ1027),O1027:Q2930,3,0),\"\")","v":""},null,{"$f":"IFERROR(VLOOKUP(ROWS(AL$2:$AL1027),N1027:Q2930,4,0),\"\")","v":""}]
[null,null,null,null,null,null,null,null,null,null,null,null,null,{"$f":"IF(ISNUMBER(SEARCH($H$16,Q1028)),MAX($N$1:N1027)+1,0)","v":0},{"$f":"IF(ISNUMBER(SEARCH($H$11,Q1028)),MAX($O$1:O1027)+1,0)","v":0},{"$f":"IF(ISNUMBER(SEARCH($H$6,Q1028)),MAX($P$1:P1027)+1,0)","v":0},"sbi magnum gilt ltp direct","MSB568","Gilt Long Term",null,null,null,null,null,null,null,null,null,null,null,{"$f":"IFERROR(VLOOKUP(ROWS($AE$2:AE1028),P1028:Q2931,2,0),\"\")","v":""},null,null,null,null,{"$f":"IFERROR(VLOOKUP(ROWS($AJ$2:AJ1028),O1028:Q2931,3,0),\"\")","v":""},null,{"$f":"IFERROR(VLOOKUP(ROWS(AL$2:$AL1028),N1028:Q2931,4,0),\"\")","v":""}]
[null,null,null,null,null,null,null,null,null,null,null,null,null,{"$f":"IF(ISNUMBER(SEARCH($H$16,Q1029)),MAX($N$1:N1028)+1,0)","v":0},{"$f":"IF(ISNUMBER(SEARCH($H$11,Q1029)),MAX($O$1:O1028)+1,0)","v":0},{"$f":"IF(ISNUMBER(SEARCH($H$6,Q1029)),MAX($P$1:P1028)+1,0)","v":0},"sbi magnum gilt ltp pf 1yr","MSB040","Gilt Long Term",null,null,null,null,null,null,null,null,null,null,null,{"$f":"IFERROR(VLOOKUP(ROWS($AE$2:AE1029),P1029:Q2932,2,0),\"\")","v":""},null,null,null,null,{"$f":"IFERROR(VLOOKUP(ROWS($AJ$2:AJ1029),O1029:Q2932,3,0),\"\")","v":""},null,{"$f":"IFERROR(VLOOKUP(ROWS(AL$2:$AL1029),N1029:Q2932,4,0),\"\")","v":""}]
[null,null,null,null,null,null,null,null,null,null,null,null,null,{"$f":"IF(ISNUMBER(SEARCH($H$16,Q1030)),MAX($N$1:N1029)+1,0)","v":0},{"$f":"IF(ISNUMBER(SEARCH($H$11,Q1030)),MAX($O$1:O1029)+1,0)","v":0},{"$f":"IF(ISNUMBER(SEARCH($H$6,Q1030)),MAX($P$1:P1029)+1,0)","v":0},"sbi magnum gilt ltp pf 2yr","MSB042","Gilt Long Term",null,null,null,null,null,null,null,null,null,null,null,{"$f":"IFERROR(VLOOKUP(ROWS($AE$2:AE1030),P1030:Q2933,2,0),\"\")","v":""},null,null,null,null,{"$f":"IFERROR(VLOOKUP(ROWS($AJ$2:AJ1030),O1030:Q2933,3,0),\"\")","v":""},null,{"$f":"IFERROR(VLOOKUP(ROWS(AL$2:$AL1030),N1030:Q2933,4,0),\"\")","v":""}]
[null,null,null,null,null,null,null,null,null,null,null,null,null,{"$f":"IF(ISNUMBER(SEARCH($H$16,Q1031)),MAX($N$1:N1030)+1,0)","v":0},{"$f":"IF(ISNUMBER(SEARCH($H$11,Q1031)),MAX($O$1:O1030)+1,0)","v":0},{"$f":"IF(ISNUMBER(SEARCH($H$6,Q1031)),MAX($P$1:P1030)+1,0)","v":0},"sbi magnum gilt ltp pf","MSB038","Gilt Long Term",null,null,null,null,null,null,null,null,null,null,null,{"$f":"IFERROR(VLOOKUP(ROWS($AE$2:AE1031),P1031:Q2934,2,0),\"\")","v":""},null,null,null,null,{"$f":"IFERROR(VLOOKUP(ROWS($AJ$2:AJ1031),O1031:Q2934,3,0),\"\")","v":""},null,{"$f":"IFERROR(VLOOKUP(ROWS(AL$2:$AL1031),N1031:Q2934,4,0),\"\")","v":""}]
[null,null,null,null,null,null,null,null,null,null,null,null,null,{"$f":"IF(ISNUMBER(SEARCH($H$16,Q1032)),MAX($N$1:N1031)+1,0)","v":0},{"$f":"IF(ISNUMBER(SEARCH($H$11,Q1032)),MAX($O$1:O1031)+1,0)","v":0},{"$f":"IF(ISNUMBER(SEARCH($H$6,Q1032)),MAX($P$1:P1031)+1,0)","v":0},"sbi magnum gilt ltp pf 3yr","MSB044","Gilt Long Term",null,null,null,null,null,null,null,null,null,null,null,{"$f":"IFERROR(VLOOKUP(ROWS($AE$2:AE1032),P1032:Q2935,2,0),\"\")","v":""},null,null,null,null,{"$f":"IFERROR(VLOOKUP(ROWS($AJ$2:AJ1032),O1032:Q2935,3,0),\"\")","v":""},null,{"$f":"IFERROR(VLOOKUP(ROWS(AL$2:$AL1032),N1032:Q2935,4,0),\"\")","v":""}]
[null,null,null,null,null,null,null,null,null,null,null,null,null,{"$f":"IF(ISNUMBER(SEARCH($H$16,Q1033)),MAX($N$1:N1032)+1,0)","v":0},{"$f":"IF(ISNUMBER(SEARCH($H$11,Q1033)),MAX($O$1:O1032)+1,0)","v":0},{"$f":"IF(ISNUMBER(SEARCH($H$6,Q1033)),MAX($P$1:P1032)+1,0)","v":0},"sbi magnum gilt ltp","MSB019","Gilt Long Term",null,null,null,null,null,null,null,null,null,null,null,{"$f":"IFERROR(VLOOKUP(ROWS($AE$2:AE1033),P1033:Q2936,2,0),\"\")","v":""},null,null,null,null,{"$f":"IFERROR(VLOOKUP(ROWS($AJ$2:AJ1033),O1033:Q2936,3,0),\"\")","v":""},null,{"$f":"IFERROR(VLOOKUP(ROWS(AL$2:$AL1033),N1033:Q2936,4,0),\"\")","v":""}]
[null,null,null,null,null,null,null,null,null,null,null,null,null,{"$f":"IF(ISNUMBER(SEARCH($H$16,Q1034)),MAX($N$1:N1033)+1,0)","v":0},{"$f":"IF(ISNUMBER(SEARCH($H$11,Q1034)),MAX($O$1:O1033)+1,0)","v":0},{"$f":"IF(ISNUMBER(SEARCH($H$6,Q1034)),MAX($P$1:P1033)+1,0)","v":0},"bnp paribas govt sec ","MAB785","Gilt Long Term",null,null,null,null,null,null,null,null,null,null,null,{"$f":"IFERROR(VLOOKUP(ROWS($AE$2:AE1034),P1034:Q2937,2,0),\"\")","v":""},null,null,null,null,{"$f":"IFERROR(VLOOKUP(ROWS($AJ$2:AJ1034),O1034:Q2937,3,0),\"\")","v":""},null,{"$f":"IFERROR(VLOOKUP(ROWS(AL$2:$AL1034),N1034:Q2937,4,0),\"\")","v":""}]
[null,null,null,null,null,null,null,null,null,null,null,null,null,{"$f":"IF(ISNUMBER(SEARCH($H$16,Q1035)),MAX($N$1:N1034)+1,0)","v":0},{"$f":"IF(ISNUMBER(SEARCH($H$11,Q1035)),MAX($O$1:O1034)+1,0)","v":0},{"$f":"IF(ISNUMBER(SEARCH($H$6,Q1035)),MAX($P$1:P1034)+1,0)","v":0},"hdfc gilt fund ltp","MHD013","Gilt Long Term",null,null,null,null,null,null,null,null,null,null,null,{"$f":"IFERROR(VLOOKUP(ROWS($AE$2:AE1035),P1035:Q2938,2,0),\"\")","v":""},null,null,null,null,{"$f":"IFERROR(VLOOKUP(ROWS($AJ$2:AJ1035),O1035:Q2938,3,0),\"\")","v":""},null,{"$f":"IFERROR(VLOOKUP(ROWS(AL$2:$AL1035),N1035:Q2938,4,0),\"\")","v":""}]
[null,null,null,null,null,null,null,null,null,null,null,null,null,{"$f":"IF(ISNUMBER(SEARCH($H$16,Q1036)),MAX($N$1:N1035)+1,0)","v":0},{"$f":"IF(ISNUMBER(SEARCH($H$11,Q1036)),MAX($O$1:O1035)+1,0)","v":0},{"$f":"IF(ISNUMBER(SEARCH($H$6,Q1036)),MAX($P$1:P1035)+1,0)","v":0},"uti gilt advantage ltp pf","MIL036","Gilt Long Term",null,null,null,null,null,null,null,null,null,null,null,{"$f":"IFERROR(VLOOKUP(ROWS($AE$2:AE1036),P1036:Q2939,2,0),\"\")","v":""},null,null,null,null,{"$f":"IFERROR(VLOOKUP(ROWS($AJ$2:AJ1036),O1036:Q2939,3,0),\"\")","v":""},null,{"$f":"IFERROR(VLOOKUP(ROWS(AL$2:$AL1036),N1036:Q2939,4,0),\"\")","v":""}]
[null,null,null,null,null,null,null,null,null,null,null,null,null,{"$f":"IF(ISNUMBER(SEARCH($H$16,Q1037)),MAX($N$1:N1036)+1,0)","v":0},{"$f":"IF(ISNUMBER(SEARCH($H$11,Q1037)),MAX($O$1:O1036)+1,0)","v":0},{"$f":"IF(ISNUMBER(SEARCH($H$6,Q1037)),MAX($P$1:P1036)+1,0)","v":0},"uti gilt advantage ltp","MIL015","Gilt Long Term",null,null,null,null,null,null,null,null,null,null,null,{"$f":"IFERROR(VLOOKUP(ROWS($AE$2:AE1037),P1037:Q2940,2,0),\"\")","v":""},null,null,null,null,{"$f":"IFERROR(VLOOKUP(ROWS($AJ$2:AJ1037),O1037:Q2940,3,0),\"\")","v":""},null,{"$f":"IFERROR(VLOOKUP(ROWS(AL$2:$AL1037),N1037:Q2940,4,0),\"\")","v":""}]
[null,null,null,null,null,null,null,null,null,null,null,null,null,{"$f":"IF(ISNUMBER(SEARCH($H$16,Q1038)),MAX($N$1:N1037)+1,0)","v":0},{"$f":"IF(ISNUMBER(SEARCH($H$11,Q1038)),MAX($O$1:O1037)+1,0)","v":0},{"$f":"IF(ISNUMBER(SEARCH($H$6,Q1038)),MAX($P$1:P1037)+1,0)","v":0},"jpmorgan india g sec fund dp","MJP233","Gilt Long Term",null,null,null,null,null,null,null,null,null,null,null,{"$f":"IFERROR(VLOOKUP(ROWS($AE$2:AE1038),P1038:Q2941,2,0),\"\")","v":""},null,null,null,null,{"$f":"IFERROR(VLOOKUP(ROWS($AJ$2:AJ1038),O1038:Q2941,3,0),\"\")","v":""},null,{"$f":"IFERROR(VLOOKUP(ROWS(AL$2:$AL1038),N1038:Q2941,4,0),\"\")","v":""}]
[null,null,null,null,null,null,null,null,null,null,null,null,null,{"$f":"IF(ISNUMBER(SEARCH($H$16,Q1039)),MAX($N$1:N1038)+1,0)","v":0},{"$f":"IF(ISNUMBER(SEARCH($H$11,Q1039)),MAX($O$1:O1038)+1,0)","v":0},{"$f":"IF(ISNUMBER(SEARCH($H$6,Q1039)),MAX($P$1:P1038)+1,0)","v":0},"franklin i g sec ltp","MKP044","Gilt Long Term",null,null,null,null,null,null,null,null,null,null,null,{"$f":"IFERROR(VLOOKUP(ROWS($AE$2:AE1039),P1039:Q2942,2,0),\"\")","v":""},null,null,null,null,{"$f":"IFERROR(VLOOKUP(ROWS($AJ$2:AJ1039),O1039:Q2942,3,0),\"\")","v":""},null,{"$f":"IFERROR(VLOOKUP(ROWS(AL$2:$AL1039),N1039:Q2942,4,0),\"\")","v":""}]
[null,null,null,null,null,null,null,null,null,null,null,null,null,{"$f":"IF(ISNUMBER(SEARCH($H$16,Q1040)),MAX($N$1:N1039)+1,0)","v":0},{"$f":"IF(ISNUMBER(SEARCH($H$11,Q1040)),MAX($O$1:O1039)+1,0)","v":0},{"$f":"IF(ISNUMBER(SEARCH($H$6,Q1040)),MAX($P$1:P1039)+1,0)","v":0},"icici pru gilt inv plan pf","MPI1201","Gilt Long Term",null,null,null,null,null,null,null,null,null,null,null,{"$f":"IFERROR(VLOOKUP(ROWS($AE$2:AE1040),P1040:Q2943,2,0),\"\")","v":""},null,null,null,null,{"$f":"IFERROR(VLOOKUP(ROWS($AJ$2:AJ1040),O1040:Q2943,3,0),\"\")","v":""},null,{"$f":"IFERROR(VLOOKUP(ROWS(AL$2:$AL1040),N1040:Q2943,4,0),\"\")","v":""}]
[null,null,null,null,null,null,null,null,null,null,null,null,null,{"$f":"IF(ISNUMBER(SEARCH($H$16,Q1041)),MAX($N$1:N1040)+1,0)","v":0},{"$f":"IF(ISNUMBER(SEARCH($H$11,Q1041)),MAX($O$1:O1040)+1,0)","v":0},{"$f":"IF(ISNUMBER(SEARCH($H$6,Q1041)),MAX($P$1:P1040)+1,0)","v":0},"idfc gsec pf inst b","MAG053","Gilt Long Term",null,null,null,null,null,null,null,null,null,null,null,{"$f":"IFERROR(VLOOKUP(ROWS($AE$2:AE1041),P1041:Q2944,2,0),\"\")","v":""},null,null,null,null,{"$f":"IFERROR(VLOOKUP(ROWS($AJ$2:AJ1041),O1041:Q2944,3,0),\"\")","v":""},null,{"$f":"IFERROR(VLOOKUP(ROWS(AL$2:$AL1041),N1041:Q2944,4,0),\"\")","v":""}]
[null,null,null,null,null,null,null,null,null,null,null,null,null,{"$f":"IF(ISNUMBER(SEARCH($H$16,Q1042)),MAX($N$1:N1041)+1,0)","v":0},{"$f":"IF(ISNUMBER(SEARCH($H$11,Q1042)),MAX($O$1:O1041)+1,0)","v":0},{"$f":"IF(ISNUMBER(SEARCH($H$6,Q1042)),MAX($P$1:P1041)+1,0)","v":0},"reliance gilt sec ip","MRC455","Gilt Long Term",null,null,null,null,null,null,null,null,null,null,null,{"$f":"IFERROR(VLOOKUP(ROWS($AE$2:AE1042),P1042:Q2945,2,0),\"\")","v":""},null,null,null,null,{"$f":"IFERROR(VLOOKUP(ROWS($AJ$2:AJ1042),O1042:Q2945,3,0),\"\")","v":""},null,{"$f":"IFERROR(VLOOKUP(ROWS(AL$2:$AL1042),N1042:Q2945,4,0),\"\")","v":""}]
[null,null,null,null,null,null,null,null,null,null,null,null,null,{"$f":"IF(ISNUMBER(SEARCH($H$16,Q1043)),MAX($N$1:N1042)+1,0)","v":0},{"$f":"IF(ISNUMBER(SEARCH($H$11,Q1043)),MAX($O$1:O1042)+1,0)","v":0},{"$f":"IF(ISNUMBER(SEARCH($H$6,Q1043)),MAX($P$1:P1042)+1,0)","v":0},"idfc gsec pf regular plan","MAG049","Gilt Long Term",null,null,null,null,null,null,null,null,null,null,null,{"$f":"IFERROR(VLOOKUP(ROWS($AE$2:AE1043),P1043:Q2946,2,0),\"\")","v":""},null,null,null,null,{"$f":"IFERROR(VLOOKUP(ROWS($AJ$2:AJ1043),O1043:Q2946,3,0),\"\")","v":""},null,{"$f":"IFERROR(VLOOKUP(ROWS(AL$2:$AL1043),N1043:Q2946,4,0),\"\")","v":""}]
[null,null,null,null,null,null,null,null,null,null,null,null,null,{"$f":"IF(ISNUMBER(SEARCH($H$16,Q1044)),MAX($N$1:N1043)+1,0)","v":0},{"$f":"IF(ISNUMBER(SEARCH($H$11,Q1044)),MAX($O$1:O1043)+1,0)","v":0},{"$f":"IF(ISNUMBER(SEARCH($H$6,Q1044)),MAX($P$1:P1043)+1,0)","v":0},"l t gilt fund","MCC008","Gilt Long Term",null,null,null,null,null,null,null,null,null,null,null,{"$f":"IFERROR(VLOOKUP(ROWS($AE$2:AE1044),P1044:Q2947,2,0),\"\")","v":""},null,null,null,null,{"$f":"IFERROR(VLOOKUP(ROWS($AJ$2:AJ1044),O1044:Q2947,3,0),\"\")","v":""},null,{"$f":"IFERROR(VLOOKUP(ROWS(AL$2:$AL1044),N1044:Q2947,4,0),\"\")","v":""}]
[null,null,null,null,null,null,null,null,null,null,null,null,null,{"$f":"IF(ISNUMBER(SEARCH($H$16,Q1045)),MAX($N$1:N1044)+1,0)","v":0},{"$f":"IF(ISNUMBER(SEARCH($H$11,Q1045)),MAX($O$1:O1044)+1,0)","v":0},{"$f":"IF(ISNUMBER(SEARCH($H$6,Q1045)),MAX($P$1:P1044)+1,0)","v":0},"reliance gilt sec rp","MRC453","Gilt Long Term",null,null,null,null,null,null,null,null,null,null,null,{"$f":"IFERROR(VLOOKUP(ROWS($AE$2:AE1045),P1045:Q2948,2,0),\"\")","v":""},null,null,null,null,{"$f":"IFERROR(VLOOKUP(ROWS($AJ$2:AJ1045),O1045:Q2948,3,0),\"\")","v":""},null,{"$f":"IFERROR(VLOOKUP(ROWS(AL$2:$AL1045),N1045:Q2948,4,0),\"\")","v":""}]
[null,null,null,null,null,null,null,null,null,null,null,null,null,{"$f":"IF(ISNUMBER(SEARCH($H$16,Q1046)),MAX($N$1:N1045)+1,0)","v":0},{"$f":"IF(ISNUMBER(SEARCH($H$11,Q1046)),MAX($O$1:O1045)+1,0)","v":0},{"$f":"IF(ISNUMBER(SEARCH($H$6,Q1046)),MAX($P$1:P1045)+1,0)","v":0},"jpmorgan india g sec fund rp","MJP226","Gilt Long Term",null,null,null,null,null,null,null,null,null,null,null,{"$f":"IFERROR(VLOOKUP(ROWS($AE$2:AE1046),P1046:Q2949,2,0),\"\")","v":""},null,null,null,null,{"$f":"IFERROR(VLOOKUP(ROWS($AJ$2:AJ1046),O1046:Q2949,3,0),\"\")","v":""},null,{"$f":"IFERROR(VLOOKUP(ROWS(AL$2:$AL1046),N1046:Q2949,4,0),\"\")","v":""}]
[null,null,null,null,null,null,null,null,null,null,null,null,null,{"$f":"IF(ISNUMBER(SEARCH($H$16,Q1047)),MAX($N$1:N1046)+1,0)","v":0},{"$f":"IF(ISNUMBER(SEARCH($H$11,Q1047)),MAX($O$1:O1046)+1,0)","v":0},{"$f":"IF(ISNUMBER(SEARCH($H$6,Q1047)),MAX($P$1:P1046)+1,0)","v":0},"icici pru long term gilt dir","MPI1203","Gilt Long Term",null,null,null,null,null,null,null,null,null,null,null,{"$f":"IFERROR(VLOOKUP(ROWS($AE$2:AE1047),P1047:Q2950,2,0),\"\")","v":""},null,null,null,null,{"$f":"IFERROR(VLOOKUP(ROWS($AJ$2:AJ1047),O1047:Q2950,3,0),\"\")","v":""},null,{"$f":"IFERROR(VLOOKUP(ROWS(AL$2:$AL1047),N1047:Q2950,4,0),\"\")","v":""}]
[null,null,null,null,null,null,null,null,null,null,null,null,null,{"$f":"IF(ISNUMBER(SEARCH($H$16,Q1048)),MAX($N$1:N1047)+1,0)","v":0},{"$f":"IF(ISNUMBER(SEARCH($H$11,Q1048)),MAX($O$1:O1047)+1,0)","v":0},{"$f":"IF(ISNUMBER(SEARCH($H$6,Q1048)),MAX($P$1:P1047)+1,0)","v":0},"birla sun life gsec ltf","MAC017","Gilt Long Term",null,null,null,null,null,null,null,null,null,null,null,{"$f":"IFERROR(VLOOKUP(ROWS($AE$2:AE1048),P1048:Q2951,2,0),\"\")","v":""},null,null,null,null,{"$f":"IFERROR(VLOOKUP(ROWS($AJ$2:AJ1048),O1048:Q2951,3,0),\"\")","v":""},null,{"$f":"IFERROR(VLOOKUP(ROWS(AL$2:$AL1048),N1048:Q2951,4,0),\"\")","v":""}]
[null,null,null,null,null,null,null,null,null,null,null,null,null,{"$f":"IF(ISNUMBER(SEARCH($H$16,Q1049)),MAX($N$1:N1048)+1,0)","v":0},{"$f":"IF(ISNUMBER(SEARCH($H$11,Q1049)),MAX($O$1:O1048)+1,0)","v":0},{"$f":"IF(ISNUMBER(SEARCH($H$6,Q1049)),MAX($P$1:P1048)+1,0)","v":0},"franklin i govt sec pf","MTE036","Gilt Long Term",null,null,null,null,null,null,null,null,null,null,null,{"$f":"IFERROR(VLOOKUP(ROWS($AE$2:AE1049),P1049:Q2952,2,0),\"\")","v":""},null,null,null,null,{"$f":"IFERROR(VLOOKUP(ROWS($AJ$2:AJ1049),O1049:Q2952,3,0),\"\")","v":""},null,{"$f":"IFERROR(VLOOKUP(ROWS(AL$2:$AL1049),N1049:Q2952,4,0),\"\")","v":""}]
[null,null,null,null,null,null,null,null,null,null,null,null,null,{"$f":"IF(ISNUMBER(SEARCH($H$16,Q1050)),MAX($N$1:N1049)+1,0)","v":0},{"$f":"IF(ISNUMBER(SEARCH($H$11,Q1050)),MAX($O$1:O1049)+1,0)","v":0},{"$f":"IF(ISNUMBER(SEARCH($H$6,Q1050)),MAX($P$1:P1049)+1,0)","v":0},"franklin i govt sec cp","MTE005","Gilt Long Term",null,null,null,null,null,null,null,null,null,null,null,{"$f":"IFERROR(VLOOKUP(ROWS($AE$2:AE1050),P1050:Q2953,2,0),\"\")","v":""},null,null,null,null,{"$f":"IFERROR(VLOOKUP(ROWS($AJ$2:AJ1050),O1050:Q2953,3,0),\"\")","v":""},null,{"$f":"IFERROR(VLOOKUP(ROWS(AL$2:$AL1050),N1050:Q2953,4,0),\"\")","v":""}]
[null,null,null,null,null,null,null,null,null,null,null,null,null,{"$f":"IF(ISNUMBER(SEARCH($H$16,Q1051)),MAX($N$1:N1050)+1,0)","v":0},{"$f":"IF(ISNUMBER(SEARCH($H$11,Q1051)),MAX($O$1:O1050)+1,0)","v":0},{"$f":"IF(ISNUMBER(SEARCH($H$6,Q1051)),MAX($P$1:P1050)+1,0)","v":0},"tata gilt rp 28 02 13 ","MTA090","Gilt Long Term",null,null,null,null,null,null,null,null,null,null,null,{"$f":"IFERROR(VLOOKUP(ROWS($AE$2:AE1051),P1051:Q2954,2,0),\"\")","v":""},null,null,null,null,{"$f":"IFERROR(VLOOKUP(ROWS($AJ$2:AJ1051),O1051:Q2954,3,0),\"\")","v":""},null,{"$f":"IFERROR(VLOOKUP(ROWS(AL$2:$AL1051),N1051:Q2954,4,0),\"\")","v":""}]
[null,null,null,null,null,null,null,null,null,null,null,null,null,{"$f":"IF(ISNUMBER(SEARCH($H$16,Q1052)),MAX($N$1:N1051)+1,0)","v":0},{"$f":"IF(ISNUMBER(SEARCH($H$11,Q1052)),MAX($O$1:O1051)+1,0)","v":0},{"$f":"IF(ISNUMBER(SEARCH($H$6,Q1052)),MAX($P$1:P1051)+1,0)","v":0},"icici pru gilt inv plan pf","MPI067","Gilt Long Term",null,null,null,null,null,null,null,null,null,null,null,{"$f":"IFERROR(VLOOKUP(ROWS($AE$2:AE1052),P1052:Q2955,2,0),\"\")","v":""},null,null,null,null,{"$f":"IFERROR(VLOOKUP(ROWS($AJ$2:AJ1052),O1052:Q2955,3,0),\"\")","v":""},null,{"$f":"IFERROR(VLOOKUP(ROWS(AL$2:$AL1052),N1052:Q2955,4,0),\"\")","v":""}]
[null,null,null,null,null,null,null,null,null,null,null,null,null,{"$f":"IF(ISNUMBER(SEARCH($H$16,Q1053)),MAX($N$1:N1052)+1,0)","v":0},{"$f":"IF(ISNUMBER(SEARCH($H$11,Q1053)),MAX($O$1:O1052)+1,0)","v":0},{"$f":"IF(ISNUMBER(SEARCH($H$6,Q1053)),MAX($P$1:P1052)+1,0)","v":0},"can robeco gilt pgs","MCA009","Gilt Long Term",null,null,null,null,null,null,null,null,null,null,null,{"$f":"IFERROR(VLOOKUP(ROWS($AE$2:AE1053),P1053:Q2956,2,0),\"\")","v":""},null,null,null,null,{"$f":"IFERROR(VLOOKUP(ROWS($AJ$2:AJ1053),O1053:Q2956,3,0),\"\")","v":""},null,{"$f":"IFERROR(VLOOKUP(ROWS(AL$2:$AL1053),N1053:Q2956,4,0),\"\")","v":""}]
[null,null,null,null,null,null,null,null,null,null,null,null,null,{"$f":"IF(ISNUMBER(SEARCH($H$16,Q1054)),MAX($N$1:N1053)+1,0)","v":0},{"$f":"IF(ISNUMBER(SEARCH($H$11,Q1054)),MAX($O$1:O1053)+1,0)","v":0},{"$f":"IF(ISNUMBER(SEARCH($H$6,Q1054)),MAX($P$1:P1053)+1,0)","v":0},"idfc g sec investment a","MAG010","Gilt Long Term",null,null,null,null,null,null,null,null,null,null,null,{"$f":"IFERROR(VLOOKUP(ROWS($AE$2:AE1054),P1054:Q2957,2,0),\"\")","v":""},null,null,null,null,{"$f":"IFERROR(VLOOKUP(ROWS($AJ$2:AJ1054),O1054:Q2957,3,0),\"\")","v":""},null,{"$f":"IFERROR(VLOOKUP(ROWS(AL$2:$AL1054),N1054:Q2957,4,0),\"\")","v":""}]
[null,null,null,null,null,null,null,null,null,null,null,null,null,{"$f":"IF(ISNUMBER(SEARCH($H$16,Q1055)),MAX($N$1:N1054)+1,0)","v":0},{"$f":"IF(ISNUMBER(SEARCH($H$11,Q1055)),MAX($O$1:O1054)+1,0)","v":0},{"$f":"IF(ISNUMBER(SEARCH($H$6,Q1055)),MAX($P$1:P1054)+1,0)","v":0},"mirae gilt investment rp","MMA063","Gilt Long Term",null,null,null,null,null,null,null,null,null,null,null,{"$f":"IFERROR(VLOOKUP(ROWS($AE$2:AE1055),P1055:Q2958,2,0),\"\")","v":""},null,null,null,null,{"$f":"IFERROR(VLOOKUP(ROWS($AJ$2:AJ1055),O1055:Q2958,3,0),\"\")","v":""},null,{"$f":"IFERROR(VLOOKUP(ROWS(AL$2:$AL1055),N1055:Q2958,4,0),\"\")","v":""}]
[null,null,null,null,null,null,null,null,null,null,null,null,null,{"$f":"IF(ISNUMBER(SEARCH($H$16,Q1056)),MAX($N$1:N1055)+1,0)","v":0},{"$f":"IF(ISNUMBER(SEARCH($H$11,Q1056)),MAX($O$1:O1055)+1,0)","v":0},{"$f":"IF(ISNUMBER(SEARCH($H$6,Q1056)),MAX($P$1:P1055)+1,0)","v":0},"idfc g sec investment rp","MAG322","Gilt Long Term",null,null,null,null,null,null,null,null,null,null,null,{"$f":"IFERROR(VLOOKUP(ROWS($AE$2:AE1056),P1056:Q2959,2,0),\"\")","v":""},null,null,null,null,{"$f":"IFERROR(VLOOKUP(ROWS($AJ$2:AJ1056),O1056:Q2959,3,0),\"\")","v":""},null,{"$f":"IFERROR(VLOOKUP(ROWS(AL$2:$AL1056),N1056:Q2959,4,0),\"\")","v":""}]
[null,null,null,null,null,null,null,null,null,null,null,null,null,{"$f":"IF(ISNUMBER(SEARCH($H$16,Q1057)),MAX($N$1:N1056)+1,0)","v":0},{"$f":"IF(ISNUMBER(SEARCH($H$11,Q1057)),MAX($O$1:O1056)+1,0)","v":0},{"$f":"IF(ISNUMBER(SEARCH($H$6,Q1057)),MAX($P$1:P1056)+1,0)","v":0},"birla sl gilt plus pf plan","MBS011","Gilt Long Term",null,null,null,null,null,null,null,null,null,null,null,{"$f":"IFERROR(VLOOKUP(ROWS($AE$2:AE1057),P1057:Q2960,2,0),\"\")","v":""},null,null,null,null,{"$f":"IFERROR(VLOOKUP(ROWS($AJ$2:AJ1057),O1057:Q2960,3,0),\"\")","v":""},null,{"$f":"IFERROR(VLOOKUP(ROWS(AL$2:$AL1057),N1057:Q2960,4,0),\"\")","v":""}]
[null,null,null,null,null,null,null,null,null,null,null,null,null,{"$f":"IF(ISNUMBER(SEARCH($H$16,Q1058)),MAX($N$1:N1057)+1,0)","v":0},{"$f":"IF(ISNUMBER(SEARCH($H$11,Q1058)),MAX($O$1:O1057)+1,0)","v":0},{"$f":"IF(ISNUMBER(SEARCH($H$6,Q1058)),MAX($P$1:P1057)+1,0)","v":0},"icici pru long term gilt","MPI008","Gilt Long Term",null,null,null,null,null,null,null,null,null,null,null,{"$f":"IFERROR(VLOOKUP(ROWS($AE$2:AE1058),P1058:Q2961,2,0),\"\")","v":""},null,null,null,null,{"$f":"IFERROR(VLOOKUP(ROWS($AJ$2:AJ1058),O1058:Q2961,3,0),\"\")","v":""},null,{"$f":"IFERROR(VLOOKUP(ROWS(AL$2:$AL1058),N1058:Q2961,4,0),\"\")","v":""}]
[null,null,null,null,null,null,null,null,null,null,null,null,null,{"$f":"IF(ISNUMBER(SEARCH($H$16,Q1059)),MAX($N$1:N1058)+1,0)","v":0},{"$f":"IF(ISNUMBER(SEARCH($H$11,Q1059)),MAX($O$1:O1058)+1,0)","v":0},{"$f":"IF(ISNUMBER(SEARCH($H$6,Q1059)),MAX($P$1:P1058)+1,0)","v":0},"tata gilt high fund","MTA056","Gilt Long Term",null,null,null,null,null,null,null,null,null,null,null,{"$f":"IFERROR(VLOOKUP(ROWS($AE$2:AE1059),P1059:Q2962,2,0),\"\")","v":""},null,null,null,null,{"$f":"IFERROR(VLOOKUP(ROWS($AJ$2:AJ1059),O1059:Q2962,3,0),\"\")","v":""},null,{"$f":"IFERROR(VLOOKUP(ROWS(AL$2:$AL1059),N1059:Q2962,4,0),\"\")","v":""}]
[null,null,null,null,null,null,null,null,null,null,null,null,null,{"$f":"IF(ISNUMBER(SEARCH($H$16,Q1060)),MAX($N$1:N1059)+1,0)","v":0},{"$f":"IF(ISNUMBER(SEARCH($H$11,Q1060)),MAX($O$1:O1059)+1,0)","v":0},{"$f":"IF(ISNUMBER(SEARCH($H$6,Q1060)),MAX($P$1:P1059)+1,0)","v":0},"tata gilt rp 28 02 25 ","MTA114","Gilt Long Term",null,null,null,null,null,null,null,null,null,null,null,{"$f":"IFERROR(VLOOKUP(ROWS($AE$2:AE1060),P1060:Q2963,2,0),\"\")","v":""},null,null,null,null,{"$f":"IFERROR(VLOOKUP(ROWS($AJ$2:AJ1060),O1060:Q2963,3,0),\"\")","v":""},null,{"$f":"IFERROR(VLOOKUP(ROWS(AL$2:$AL1060),N1060:Q2963,4,0),\"\")","v":""}]
[null,null,null,null,null,null,null,null,null,null,null,null,null,{"$f":"IF(ISNUMBER(SEARCH($H$16,Q1061)),MAX($N$1:N1060)+1,0)","v":0},{"$f":"IF(ISNUMBER(SEARCH($H$11,Q1061)),MAX($O$1:O1060)+1,0)","v":0},{"$f":"IF(ISNUMBER(SEARCH($H$6,Q1061)),MAX($P$1:P1060)+1,0)","v":0},"principal gov securities fund","MID028","Gilt Long Term",null,null,null,null,null,null,null,null,null,null,null,{"$f":"IFERROR(VLOOKUP(ROWS($AE$2:AE1061),P1061:Q2964,2,0),\"\")","v":""},null,null,null,null,{"$f":"IFERROR(VLOOKUP(ROWS($AJ$2:AJ1061),O1061:Q2964,3,0),\"\")","v":""},null,{"$f":"IFERROR(VLOOKUP(ROWS(AL$2:$AL1061),N1061:Q2964,4,0),\"\")","v":""}]
[null,null,null,null,null,null,null,null,null,null,null,null,null,{"$f":"IF(ISNUMBER(SEARCH($H$16,Q1062)),MAX($N$1:N1061)+1,0)","v":0},{"$f":"IF(ISNUMBER(SEARCH($H$11,Q1062)),MAX($O$1:O1061)+1,0)","v":0},{"$f":"IF(ISNUMBER(SEARCH($H$6,Q1062)),MAX($P$1:P1061)+1,0)","v":0},"lic nomura govt sec fund","MJB012","Gilt Long Term",null,null,null,null,null,null,null,null,null,null,null,{"$f":"IFERROR(VLOOKUP(ROWS($AE$2:AE1062),P1062:Q2965,2,0),\"\")","v":""},null,null,null,null,{"$f":"IFERROR(VLOOKUP(ROWS($AJ$2:AJ1062),O1062:Q2965,3,0),\"\")","v":""},null,{"$f":"IFERROR(VLOOKUP(ROWS(AL$2:$AL1062),N1062:Q2965,4,0),\"\")","v":""}]
[null,null,null,null,null,null,null,null,null,null,null,null,null,{"$f":"IF(ISNUMBER(SEARCH($H$16,Q1063)),MAX($N$1:N1062)+1,0)","v":0},{"$f":"IF(ISNUMBER(SEARCH($H$11,Q1063)),MAX($O$1:O1062)+1,0)","v":0},{"$f":"IF(ISNUMBER(SEARCH($H$6,Q1063)),MAX($P$1:P1062)+1,0)","v":0},"lic nomura govt sec fund pf","MJB025","Gilt Long Term",null,null,null,null,null,null,null,null,null,null,null,{"$f":"IFERROR(VLOOKUP(ROWS($AE$2:AE1063),P1063:Q2966,2,0),\"\")","v":""},null,null,null,null,{"$f":"IFERROR(VLOOKUP(ROWS($AJ$2:AJ1063),O1063:Q2966,3,0),\"\")","v":""},null,{"$f":"IFERROR(VLOOKUP(ROWS(AL$2:$AL1063),N1063:Q2966,4,0),\"\")","v":""}]
[null,null,null,null,null,null,null,null,null,null,null,null,null,{"$f":"IF(ISNUMBER(SEARCH($H$16,Q1064)),MAX($N$1:N1063)+1,0)","v":0},{"$f":"IF(ISNUMBER(SEARCH($H$11,Q1064)),MAX($O$1:O1063)+1,0)","v":0},{"$f":"IF(ISNUMBER(SEARCH($H$6,Q1064)),MAX($P$1:P1063)+1,0)","v":0},"tata gilt sec fund","MTA014","Gilt Long Term",null,null,null,null,null,null,null,null,null,null,null,{"$f":"IFERROR(VLOOKUP(ROWS($AE$2:AE1064),P1064:Q2967,2,0),\"\")","v":""},null,null,null,null,{"$f":"IFERROR(VLOOKUP(ROWS($AJ$2:AJ1064),O1064:Q2967,3,0),\"\")","v":""},null,{"$f":"IFERROR(VLOOKUP(ROWS(AL$2:$AL1064),N1064:Q2967,4,0),\"\")","v":""}]
[null,null,null,null,null,null,null,null,null,null,null,null,null,{"$f":"IF(ISNUMBER(SEARCH($H$16,Q1065)),MAX($N$1:N1064)+1,0)","v":0},{"$f":"IF(ISNUMBER(SEARCH($H$11,Q1065)),MAX($O$1:O1064)+1,0)","v":0},{"$f":"IF(ISNUMBER(SEARCH($H$6,Q1065)),MAX($P$1:P1064)+1,0)","v":0},"tata gilt mid term fund","MTA510","Gilt Long Term",null,null,null,null,null,null,null,null,null,null,null,{"$f":"IFERROR(VLOOKUP(ROWS($AE$2:AE1065),P1065:Q2968,2,0),\"\")","v":""},null,null,null,null,{"$f":"IFERROR(VLOOKUP(ROWS($AJ$2:AJ1065),O1065:Q2968,3,0),\"\")","v":""},null,{"$f":"IFERROR(VLOOKUP(ROWS(AL$2:$AL1065),N1065:Q2968,4,0),\"\")","v":""}]
[null,null,null,null,null,null,null,null,null,null,null,null,null,{"$f":"IF(ISNUMBER(SEARCH($H$16,Q1066)),MAX($N$1:N1065)+1,0)","v":0},{"$f":"IF(ISNUMBER(SEARCH($H$11,Q1066)),MAX($O$1:O1065)+1,0)","v":0},{"$f":"IF(ISNUMBER(SEARCH($H$6,Q1066)),MAX($P$1:P1065)+1,0)","v":0},"kotak gilt inv pf trust regular","MKM056","Gilt Long Term",null,null,null,null,null,null,null,null,null,null,null,{"$f":"IFERROR(VLOOKUP(ROWS($AE$2:AE1066),P1066:Q2969,2,0),\"\")","v":""},null,null,null,null,{"$f":"IFERROR(VLOOKUP(ROWS($AJ$2:AJ1066),O1066:Q2969,3,0),\"\")","v":""},null,{"$f":"IFERROR(VLOOKUP(ROWS(AL$2:$AL1066),N1066:Q2969,4,0),\"\")","v":""}]
[null,null,null,null,null,null,null,null,null,null,null,null,null,{"$f":"IF(ISNUMBER(SEARCH($H$16,Q1067)),MAX($N$1:N1066)+1,0)","v":0},{"$f":"IF(ISNUMBER(SEARCH($H$11,Q1067)),MAX($O$1:O1066)+1,0)","v":0},{"$f":"IF(ISNUMBER(SEARCH($H$6,Q1067)),MAX($P$1:P1066)+1,0)","v":0},"kotak gilt invt regular","MKM002","Gilt Long Term",null,null,null,null,null,null,null,null,null,null,null,{"$f":"IFERROR(VLOOKUP(ROWS($AE$2:AE1067),P1067:Q2970,2,0),\"\")","v":""},null,null,null,null,{"$f":"IFERROR(VLOOKUP(ROWS($AJ$2:AJ1067),O1067:Q2970,3,0),\"\")","v":""},null,{"$f":"IFERROR(VLOOKUP(ROWS(AL$2:$AL1067),N1067:Q2970,4,0),\"\")","v":""}]
[null,null,null,null,null,null,null,null,null,null,null,null,null,{"$f":"IF(ISNUMBER(SEARCH($H$16,Q1068)),MAX($N$1:N1067)+1,0)","v":0},{"$f":"IF(ISNUMBER(SEARCH($H$11,Q1068)),MAX($O$1:O1067)+1,0)","v":0},{"$f":"IF(ISNUMBER(SEARCH($H$6,Q1068)),MAX($P$1:P1067)+1,0)","v":0},"baroda pioneer gilt fund","MBO004","Gilt Long Term",null,null,null,null,null,null,null,null,null,null,null,{"$f":"IFERROR(VLOOKUP(ROWS($AE$2:AE1068),P1068:Q2971,2,0),\"\")","v":""},null,null,null,null,{"$f":"IFERROR(VLOOKUP(ROWS($AJ$2:AJ1068),O1068:Q2971,3,0),\"\")","v":""},null,{"$f":"IFERROR(VLOOKUP(ROWS(AL$2:$AL1068),N1068:Q2971,4,0),\"\")","v":""}]
[null,null,null,null,null,null,null,null,null,null,null,null,null,{"$f":"IF(ISNUMBER(SEARCH($H$16,Q1069)),MAX($N$1:N1068)+1,0)","v":0},{"$f":"IF(ISNUMBER(SEARCH($H$11,Q1069)),MAX($O$1:O1068)+1,0)","v":0},{"$f":"IF(ISNUMBER(SEARCH($H$6,Q1069)),MAX($P$1:P1068)+1,0)","v":0},"religare invesco gilt ldp dp","MLI598","Gilt Long Term",null,null,null,null,null,null,null,null,null,null,null,{"$f":"IFERROR(VLOOKUP(ROWS($AE$2:AE1069),P1069:Q2972,2,0),\"\")","v":""},null,null,null,null,{"$f":"IFERROR(VLOOKUP(ROWS($AJ$2:AJ1069),O1069:Q2972,3,0),\"\")","v":""},null,{"$f":"IFERROR(VLOOKUP(ROWS(AL$2:$AL1069),N1069:Q2972,4,0),\"\")","v":""}]
[null,null,null,null,null,null,null,null,null,null,null,null,null,{"$f":"IF(ISNUMBER(SEARCH($H$16,Q1070)),MAX($N$1:N1069)+1,0)","v":0},{"$f":"IF(ISNUMBER(SEARCH($H$11,Q1070)),MAX($O$1:O1069)+1,0)","v":0},{"$f":"IF(ISNUMBER(SEARCH($H$6,Q1070)),MAX($P$1:P1069)+1,0)","v":0},"dsp br govt sec ","MDS007","Gilt Long Term",null,null,null,null,null,null,null,null,null,null,null,{"$f":"IFERROR(VLOOKUP(ROWS($AE$2:AE1070),P1070:Q2973,2,0),\"\")","v":""},null,null,null,null,{"$f":"IFERROR(VLOOKUP(ROWS($AJ$2:AJ1070),O1070:Q2973,3,0),\"\")","v":""},null,{"$f":"IFERROR(VLOOKUP(ROWS(AL$2:$AL1070),N1070:Q2973,4,0),\"\")","v":""}]
[null,null,null,null,null,null,null,null,null,null,null,null,null,{"$f":"IF(ISNUMBER(SEARCH($H$16,Q1071)),MAX($N$1:N1070)+1,0)","v":0},{"$f":"IF(ISNUMBER(SEARCH($H$11,Q1071)),MAX($O$1:O1070)+1,0)","v":0},{"$f":"IF(ISNUMBER(SEARCH($H$6,Q1071)),MAX($P$1:P1070)+1,0)","v":0},"jm g sec fund","MJM010","Gilt Long Term",null,null,null,null,null,null,null,null,null,null,null,{"$f":"IFERROR(VLOOKUP(ROWS($AE$2:AE1071),P1071:Q2974,2,0),\"\")","v":""},null,null,null,null,{"$f":"IFERROR(VLOOKUP(ROWS($AJ$2:AJ1071),O1071:Q2974,3,0),\"\")","v":""},null,{"$f":"IFERROR(VLOOKUP(ROWS(AL$2:$AL1071),N1071:Q2974,4,0),\"\")","v":""}]
[null,null,null,null,null,null,null,null,null,null,null,null,null,{"$f":"IF(ISNUMBER(SEARCH($H$16,Q1072)),MAX($N$1:N1071)+1,0)","v":0},{"$f":"IF(ISNUMBER(SEARCH($H$11,Q1072)),MAX($O$1:O1071)+1,0)","v":0},{"$f":"IF(ISNUMBER(SEARCH($H$6,Q1072)),MAX($P$1:P1071)+1,0)","v":0},"dws gilt fund rp","MDE229","Gilt Long Term",null,null,null,null,null,null,null,null,null,null,null,{"$f":"IFERROR(VLOOKUP(ROWS($AE$2:AE1072),P1072:Q2975,2,0),\"\")","v":""},null,null,null,null,{"$f":"IFERROR(VLOOKUP(ROWS($AJ$2:AJ1072),O1072:Q2975,3,0),\"\")","v":""},null,{"$f":"IFERROR(VLOOKUP(ROWS(AL$2:$AL1072),N1072:Q2975,4,0),\"\")","v":""}]
[null,null,null,null,null,null,null,null,null,null,null,null,null,{"$f":"IF(ISNUMBER(SEARCH($H$16,Q1073)),MAX($N$1:N1072)+1,0)","v":0},{"$f":"IF(ISNUMBER(SEARCH($H$11,Q1073)),MAX($O$1:O1072)+1,0)","v":0},{"$f":"IF(ISNUMBER(SEARCH($H$6,Q1073)),MAX($P$1:P1072)+1,0)","v":0},"indiabulls gilt fund","MIM019","Gilt Long Term",null,null,null,null,null,null,null,null,null,null,null,{"$f":"IFERROR(VLOOKUP(ROWS($AE$2:AE1073),P1073:Q2976,2,0),\"\")","v":""},null,null,null,null,{"$f":"IFERROR(VLOOKUP(ROWS($AJ$2:AJ1073),O1073:Q2976,3,0),\"\")","v":""},null,{"$f":"IFERROR(VLOOKUP(ROWS(AL$2:$AL1073),N1073:Q2976,4,0),\"\")","v":""}]
[null,null,null,null,null,null,null,null,null,null,null,null,null,{"$f":"IF(ISNUMBER(SEARCH($H$16,Q1074)),MAX($N$1:N1073)+1,0)","v":0},{"$f":"IF(ISNUMBER(SEARCH($H$11,Q1074)),MAX($O$1:O1073)+1,0)","v":0},{"$f":"IF(ISNUMBER(SEARCH($H$6,Q1074)),MAX($P$1:P1073)+1,0)","v":0},"axis constant maturity 10 year","MAA135","Gilt Long Term",null,null,null,null,null,null,null,null,null,null,null,{"$f":"IFERROR(VLOOKUP(ROWS($AE$2:AE1074),P1074:Q2977,2,0),\"\")","v":""},null,null,null,null,{"$f":"IFERROR(VLOOKUP(ROWS($AJ$2:AJ1074),O1074:Q2977,3,0),\"\")","v":""},null,{"$f":"IFERROR(VLOOKUP(ROWS(AL$2:$AL1074),N1074:Q2977,4,0),\"\")","v":""}]
[null,null,null,null,null,null,null,null,null,null,null,null,null,{"$f":"IF(ISNUMBER(SEARCH($H$16,Q1075)),MAX($N$1:N1074)+1,0)","v":0},{"$f":"IF(ISNUMBER(SEARCH($H$11,Q1075)),MAX($O$1:O1074)+1,0)","v":0},{"$f":"IF(ISNUMBER(SEARCH($H$6,Q1075)),MAX($P$1:P1074)+1,0)","v":0},"birla sl gilt plus regular","MBS009","Gilt Long Term",null,null,null,null,null,null,null,null,null,null,null,{"$f":"IFERROR(VLOOKUP(ROWS($AE$2:AE1075),P1075:Q2978,2,0),\"\")","v":""},null,null,null,null,{"$f":"IFERROR(VLOOKUP(ROWS($AJ$2:AJ1075),O1075:Q2978,3,0),\"\")","v":""},null,{"$f":"IFERROR(VLOOKUP(ROWS(AL$2:$AL1075),N1075:Q2978,4,0),\"\")","v":""}]
[null,null,null,null,null,null,null,null,null,null,null,null,null,{"$f":"IF(ISNUMBER(SEARCH($H$16,Q1076)),MAX($N$1:N1075)+1,0)","v":0},{"$f":"IF(ISNUMBER(SEARCH($H$11,Q1076)),MAX($O$1:O1075)+1,0)","v":0},{"$f":"IF(ISNUMBER(SEARCH($H$6,Q1076)),MAX($P$1:P1075)+1,0)","v":0},"religare invesco gilt ldp","MLI193","Gilt Long Term",null,null,null,null,null,null,null,null,null,null,null,{"$f":"IFERROR(VLOOKUP(ROWS($AE$2:AE1076),P1076:Q2979,2,0),\"\")","v":""},null,null,null,null,{"$f":"IFERROR(VLOOKUP(ROWS($AJ$2:AJ1076),O1076:Q2979,3,0),\"\")","v":""},null,{"$f":"IFERROR(VLOOKUP(ROWS(AL$2:$AL1076),N1076:Q2979,4,0),\"\")","v":""}]
[null,null,null,null,null,null,null,null,null,null,null,null,null,{"$f":"IF(ISNUMBER(SEARCH($H$16,Q1077)),MAX($N$1:N1076)+1,0)","v":0},{"$f":"IF(ISNUMBER(SEARCH($H$11,Q1077)),MAX($O$1:O1076)+1,0)","v":0},{"$f":"IF(ISNUMBER(SEARCH($H$6,Q1077)),MAX($P$1:P1076)+1,0)","v":0},"motilal most 10 year gilt fund","MMO004","Gilt Long Term",null,null,null,null,null,null,null,null,null,null,null,{"$f":"IFERROR(VLOOKUP(ROWS($AE$2:AE1077),P1077:Q2980,2,0),\"\")","v":""},null,null,null,null,{"$f":"IFERROR(VLOOKUP(ROWS($AJ$2:AJ1077),O1077:Q2980,3,0),\"\")","v":""},null,{"$f":"IFERROR(VLOOKUP(ROWS(AL$2:$AL1077),N1077:Q2980,4,0),\"\")","v":""}]
[null,null,null,null,null,null,null,null,null,null,null,null,null,{"$f":"IF(ISNUMBER(SEARCH($H$16,Q1078)),MAX($N$1:N1077)+1,0)","v":0},{"$f":"IF(ISNUMBER(SEARCH($H$11,Q1078)),MAX($O$1:O1077)+1,0)","v":0},{"$f":"IF(ISNUMBER(SEARCH($H$6,Q1078)),MAX($P$1:P1077)+1,0)","v":0},"edelweiss gilt fund","MEW049","Gilt Long Term",null,null,null,null,null,null,null,null,null,null,null,{"$f":"IFERROR(VLOOKUP(ROWS($AE$2:AE1078),P1078:Q2981,2,0),\"\")","v":""},null,null,null,null,{"$f":"IFERROR(VLOOKUP(ROWS($AJ$2:AJ1078),O1078:Q2981,3,0),\"\")","v":""},null,{"$f":"IFERROR(VLOOKUP(ROWS(AL$2:$AL1078),N1078:Q2981,4,0),\"\")","v":""}]
[null,null,null,null,null,null,null,null,null,null,null,null,null,{"$f":"IF(ISNUMBER(SEARCH($H$16,Q1079)),MAX($N$1:N1078)+1,0)","v":0},{"$f":"IF(ISNUMBER(SEARCH($H$11,Q1079)),MAX($O$1:O1078)+1,0)","v":0},{"$f":"IF(ISNUMBER(SEARCH($H$6,Q1079)),MAX($P$1:P1078)+1,0)","v":0},"sundaram gilt fund","MSN009","Gilt Long Term",null,null,null,null,null,null,null,null,null,null,null,{"$f":"IFERROR(VLOOKUP(ROWS($AE$2:AE1079),P1079:Q2982,2,0),\"\")","v":""},null,null,null,null,{"$f":"IFERROR(VLOOKUP(ROWS($AJ$2:AJ1079),O1079:Q2982,3,0),\"\")","v":""},null,{"$f":"IFERROR(VLOOKUP(ROWS(AL$2:$AL1079),N1079:Q2982,4,0),\"\")","v":""}]
[null,null,null,null,null,null,null,null,null,null,null,null,null,{"$f":"IF(ISNUMBER(SEARCH($H$16,Q1080)),MAX($N$1:N1079)+1,0)","v":0},{"$f":"IF(ISNUMBER(SEARCH($H$11,Q1080)),MAX($O$1:O1079)+1,0)","v":0},{"$f":"IF(ISNUMBER(SEARCH($H$6,Q1080)),MAX($P$1:P1079)+1,0)","v":0},"sahara gilt fund","MFI003","Gilt Long Term",null,null,null,null,null,null,null,null,null,null,null,{"$f":"IFERROR(VLOOKUP(ROWS($AE$2:AE1080),P1080:Q2983,2,0),\"\")","v":""},null,null,null,null,{"$f":"IFERROR(VLOOKUP(ROWS($AJ$2:AJ1080),O1080:Q2983,3,0),\"\")","v":""},null,{"$f":"IFERROR(VLOOKUP(ROWS(AL$2:$AL1080),N1080:Q2983,4,0),\"\")","v":""}]
[null,null,null,null,null,null,null,null,null,null,null,null,null,{"$f":"IF(ISNUMBER(SEARCH($H$16,Q1081)),MAX($N$1:N1080)+1,0)","v":0},{"$f":"IF(ISNUMBER(SEARCH($H$11,Q1081)),MAX($O$1:O1080)+1,0)","v":0},{"$f":"IF(ISNUMBER(SEARCH($H$6,Q1081)),MAX($P$1:P1080)+1,0)","v":0},"escorts gilt fund","MES007","Gilt Long Term",null,null,null,null,null,null,null,null,null,null,null,{"$f":"IFERROR(VLOOKUP(ROWS($AE$2:AE1081),P1081:Q2984,2,0),\"\")","v":""},null,null,null,null,{"$f":"IFERROR(VLOOKUP(ROWS($AJ$2:AJ1081),O1081:Q2984,3,0),\"\")","v":""},null,{"$f":"IFERROR(VLOOKUP(ROWS(AL$2:$AL1081),N1081:Q2984,4,0),\"\")","v":""}]
[null,null,null,null,null,null,null,null,null,null,null,null,null,{"$f":"IF(ISNUMBER(SEARCH($H$16,Q1082)),MAX($N$1:N1081)+1,0)","v":0},{"$f":"IF(ISNUMBER(SEARCH($H$11,Q1082)),MAX($O$1:O1081)+1,0)","v":0},{"$f":"IF(ISNUMBER(SEARCH($H$6,Q1082)),MAX($P$1:P1081)+1,0)","v":0},"icici pru constant mat gilt rp","MPI2237","Gilt Long Term",null,null,null,null,null,null,null,null,null,null,null,{"$f":"IFERROR(VLOOKUP(ROWS($AE$2:AE1082),P1082:Q2985,2,0),\"\")","v":""},null,null,null,null,{"$f":"IFERROR(VLOOKUP(ROWS($AJ$2:AJ1082),O1082:Q2985,3,0),\"\")","v":""},null,{"$f":"IFERROR(VLOOKUP(ROWS(AL$2:$AL1082),N1082:Q2985,4,0),\"\")","v":""}]
[null,null,null,null,null,null,null,null,null,null,null,null,null,{"$f":"IF(ISNUMBER(SEARCH($H$16,Q1083)),MAX($N$1:N1082)+1,0)","v":0},{"$f":"IF(ISNUMBER(SEARCH($H$11,Q1083)),MAX($O$1:O1082)+1,0)","v":0},{"$f":"IF(ISNUMBER(SEARCH($H$6,Q1083)),MAX($P$1:P1082)+1,0)","v":0},"icici pru constant mat gilt dp","MPI2241","Gilt Long Term",null,null,null,null,null,null,null,null,null,null,null,{"$f":"IFERROR(VLOOKUP(ROWS($AE$2:AE1083),P1083:Q2986,2,0),\"\")","v":""},null,null,null,null,{"$f":"IFERROR(VLOOKUP(ROWS($AJ$2:AJ1083),O1083:Q2986,3,0),\"\")","v":""},null,{"$f":"IFERROR(VLOOKUP(ROWS(AL$2:$AL1083),N1083:Q2986,4,0),\"\")","v":""}]
[null,null,null,null,null,null,null,null,null,null,null,null,null,{"$f":"IF(ISNUMBER(SEARCH($H$16,Q1084)),MAX($N$1:N1083)+1,0)","v":0},{"$f":"IF(ISNUMBER(SEARCH($H$11,Q1084)),MAX($O$1:O1083)+1,0)","v":0},{"$f":"IF(ISNUMBER(SEARCH($H$6,Q1084)),MAX($P$1:P1083)+1,0)","v":0},"dws gilt fund ip","MDE231","Gilt Long Term",null,null,null,null,null,null,null,null,null,null,null,{"$f":"IFERROR(VLOOKUP(ROWS($AE$2:AE1084),P1084:Q2987,2,0),\"\")","v":""},null,null,null,null,{"$f":"IFERROR(VLOOKUP(ROWS($AJ$2:AJ1084),O1084:Q2987,3,0),\"\")","v":""},null,{"$f":"IFERROR(VLOOKUP(ROWS(AL$2:$AL1084),N1084:Q2987,4,0),\"\")","v":""}]
[null,null,null,null,null,null,null,null,null,null,null,null,null,{"$f":"IF(ISNUMBER(SEARCH($H$16,Q1085)),MAX($N$1:N1084)+1,0)","v":0},{"$f":"IF(ISNUMBER(SEARCH($H$11,Q1085)),MAX($O$1:O1084)+1,0)","v":0},{"$f":"IF(ISNUMBER(SEARCH($H$6,Q1085)),MAX($P$1:P1084)+1,0)","v":0},"reliance gilt securitie rp","MRC1832","Gilt Long Term",null,null,null,null,null,null,null,null,null,null,null,{"$f":"IFERROR(VLOOKUP(ROWS($AE$2:AE1085),P1085:Q2988,2,0),\"\")","v":""},null,null,null,null,{"$f":"IFERROR(VLOOKUP(ROWS($AJ$2:AJ1085),O1085:Q2988,3,0),\"\")","v":""},null,{"$f":"IFERROR(VLOOKUP(ROWS(AL$2:$AL1085),N1085:Q2988,4,0),\"\")","v":""}]
[null,null,null,null,null,null,null,null,null,null,null,null,null,{"$f":"IF(ISNUMBER(SEARCH($H$16,Q1086)),MAX($N$1:N1085)+1,0)","v":0},{"$f":"IF(ISNUMBER(SEARCH($H$11,Q1086)),MAX($O$1:O1085)+1,0)","v":0},{"$f":"IF(ISNUMBER(SEARCH($H$6,Q1086)),MAX($P$1:P1085)+1,0)","v":0},"religare invesco gilt ldp ip","MLI195","Gilt Long Term",null,null,null,null,null,null,null,null,null,null,null,{"$f":"IFERROR(VLOOKUP(ROWS($AE$2:AE1086),P1086:Q2989,2,0),\"\")","v":""},null,null,null,null,{"$f":"IFERROR(VLOOKUP(ROWS($AJ$2:AJ1086),O1086:Q2989,3,0),\"\")","v":""},null,{"$f":"IFERROR(VLOOKUP(ROWS(AL$2:$AL1086),N1086:Q2989,4,0),\"\")","v":""}]
[null,null,null,null,null,null,null,null,null,null,null,null,null,{"$f":"IF(ISNUMBER(SEARCH($H$16,Q1087)),MAX($N$1:N1086)+1,0)","v":0},{"$f":"IF(ISNUMBER(SEARCH($H$11,Q1087)),MAX($O$1:O1086)+1,0)","v":0},{"$f":"IF(ISNUMBER(SEARCH($H$6,Q1087)),MAX($P$1:P1086)+1,0)","v":0},"dsp br cm 10yrs g sec fund rp","MDS1115","Gilt Long Term",null,null,null,null,null,null,null,null,null,null,null,{"$f":"IFERROR(VLOOKUP(ROWS($AE$2:AE1087),P1087:Q2990,2,0),\"\")","v":""},null,null,null,null,{"$f":"IFERROR(VLOOKUP(ROWS($AJ$2:AJ1087),O1087:Q2990,3,0),\"\")","v":""},null,{"$f":"IFERROR(VLOOKUP(ROWS(AL$2:$AL1087),N1087:Q2990,4,0),\"\")","v":""}]
[null,null,null,null,null,null,null,null,null,null,null,null,null,{"$f":"IF(ISNUMBER(SEARCH($H$16,Q1088)),MAX($N$1:N1087)+1,0)","v":0},{"$f":"IF(ISNUMBER(SEARCH($H$11,Q1088)),MAX($O$1:O1087)+1,0)","v":0},{"$f":"IF(ISNUMBER(SEARCH($H$6,Q1088)),MAX($P$1:P1087)+1,0)","v":0},"uti gilt adv ltp pf pdar ","MIL038","Gilt Long Term",null,null,null,null,null,null,null,null,null,null,null,{"$f":"IFERROR(VLOOKUP(ROWS($AE$2:AE1088),P1088:Q2991,2,0),\"\")","v":""},null,null,null,null,{"$f":"IFERROR(VLOOKUP(ROWS($AJ$2:AJ1088),O1088:Q2991,3,0),\"\")","v":""},null,{"$f":"IFERROR(VLOOKUP(ROWS(AL$2:$AL1088),N1088:Q2991,4,0),\"\")","v":""}]
[null,null,null,null,null,null,null,null,null,null,null,null,null,{"$f":"IF(ISNUMBER(SEARCH($H$16,Q1089)),MAX($N$1:N1088)+1,0)","v":0},{"$f":"IF(ISNUMBER(SEARCH($H$11,Q1089)),MAX($O$1:O1088)+1,0)","v":0},{"$f":"IF(ISNUMBER(SEARCH($H$6,Q1089)),MAX($P$1:P1088)+1,0)","v":0},"dsp br cm 10yrs g sec fund dp","MDS1119","Gilt Long Term",null,null,null,null,null,null,null,null,null,null,null,{"$f":"IFERROR(VLOOKUP(ROWS($AE$2:AE1089),P1089:Q2992,2,0),\"\")","v":""},null,null,null,null,{"$f":"IFERROR(VLOOKUP(ROWS($AJ$2:AJ1089),O1089:Q2992,3,0),\"\")","v":""},null,{"$f":"IFERROR(VLOOKUP(ROWS(AL$2:$AL1089),N1089:Q2992,4,0),\"\")","v":""}]
[null,null,null,null,null,null,null,null,null,null,null,null,null,{"$f":"IF(ISNUMBER(SEARCH($H$16,Q1090)),MAX($N$1:N1089)+1,0)","v":0},{"$f":"IF(ISNUMBER(SEARCH($H$11,Q1090)),MAX($O$1:O1089)+1,0)","v":0},{"$f":"IF(ISNUMBER(SEARCH($H$6,Q1090)),MAX($P$1:P1089)+1,0)","v":0},"icici pru multiple yield sr2 f","MPI1036","MIP Aggressive",null,null,null,null,null,null,null,null,null,null,null,{"$f":"IFERROR(VLOOKUP(ROWS($AE$2:AE1090),P1090:Q2993,2,0),\"\")","v":""},null,null,null,null,{"$f":"IFERROR(VLOOKUP(ROWS($AJ$2:AJ1090),O1090:Q2993,3,0),\"\")","v":""},null,{"$f":"IFERROR(VLOOKUP(ROWS(AL$2:$AL1090),N1090:Q2993,4,0),\"\")","v":""}]
[null,null,null,null,null,null,null,null,null,null,null,null,null,{"$f":"IF(ISNUMBER(SEARCH($H$16,Q1091)),MAX($N$1:N1090)+1,0)","v":0},{"$f":"IF(ISNUMBER(SEARCH($H$11,Q1091)),MAX($O$1:O1090)+1,0)","v":0},{"$f":"IF(ISNUMBER(SEARCH($H$6,Q1091)),MAX($P$1:P1090)+1,0)","v":0},"icici pru multiple yield sr2 d","MPI983","MIP Aggressive",null,null,null,null,null,null,null,null,null,null,null,{"$f":"IFERROR(VLOOKUP(ROWS($AE$2:AE1091),P1091:Q2994,2,0),\"\")","v":""},null,null,null,null,{"$f":"IFERROR(VLOOKUP(ROWS($AJ$2:AJ1091),O1091:Q2994,3,0),\"\")","v":""},null,{"$f":"IFERROR(VLOOKUP(ROWS(AL$2:$AL1091),N1091:Q2994,4,0),\"\")","v":""}]
[null,null,null,null,null,null,null,null,null,null,null,null,null,{"$f":"IF(ISNUMBER(SEARCH($H$16,Q1092)),MAX($N$1:N1091)+1,0)","v":0},{"$f":"IF(ISNUMBER(SEARCH($H$11,Q1092)),MAX($O$1:O1091)+1,0)","v":0},{"$f":"IF(ISNUMBER(SEARCH($H$6,Q1092)),MAX($P$1:P1091)+1,0)","v":0},"icici pru multiple yield plan d","MPI923","MIP Aggressive",null,null,null,null,null,null,null,null,null,null,null,{"$f":"IFERROR(VLOOKUP(ROWS($AE$2:AE1092),P1092:Q2995,2,0),\"\")","v":""},null,null,null,null,{"$f":"IFERROR(VLOOKUP(ROWS($AJ$2:AJ1092),O1092:Q2995,3,0),\"\")","v":""},null,{"$f":"IFERROR(VLOOKUP(ROWS(AL$2:$AL1092),N1092:Q2995,4,0),\"\")","v":""}]
[null,null,null,null,null,null,null,null,null,null,null,null,null,{"$f":"IF(ISNUMBER(SEARCH($H$16,Q1093)),MAX($N$1:N1092)+1,0)","v":0},{"$f":"IF(ISNUMBER(SEARCH($H$11,Q1093)),MAX($O$1:O1092)+1,0)","v":0},{"$f":"IF(ISNUMBER(SEARCH($H$6,Q1093)),MAX($P$1:P1092)+1,0)","v":0},"dws equity income fund","MDE031","MIP Aggressive",null,null,null,null,null,null,null,null,null,null,null,{"$f":"IFERROR(VLOOKUP(ROWS($AE$2:AE1093),P1093:Q2996,2,0),\"\")","v":""},null,null,null,null,{"$f":"IFERROR(VLOOKUP(ROWS($AJ$2:AJ1093),O1093:Q2996,3,0),\"\")","v":""},null,{"$f":"IFERROR(VLOOKUP(ROWS(AL$2:$AL1093),N1093:Q2996,4,0),\"\")","v":""}]
[null,null,null,null,null,null,null,null,null,null,null,null,null,{"$f":"IF(ISNUMBER(SEARCH($H$16,Q1094)),MAX($N$1:N1093)+1,0)","v":0},{"$f":"IF(ISNUMBER(SEARCH($H$11,Q1094)),MAX($O$1:O1093)+1,0)","v":0},{"$f":"IF(ISNUMBER(SEARCH($H$6,Q1094)),MAX($P$1:P1093)+1,0)","v":0},"birla sl mip ii wealth 25 dp","MBS865","MIP Aggressive",null,null,null,null,null,null,null,null,null,null,null,{"$f":"IFERROR(VLOOKUP(ROWS($AE$2:AE1094),P1094:Q2997,2,0),\"\")","v":""},null,null,null,null,{"$f":"IFERROR(VLOOKUP(ROWS($AJ$2:AJ1094),O1094:Q2997,3,0),\"\")","v":""},null,{"$f":"IFERROR(VLOOKUP(ROWS(AL$2:$AL1094),N1094:Q2997,4,0),\"\")","v":""}]
[null,null,null,null,null,null,null,null,null,null,null,null,null,{"$f":"IF(ISNUMBER(SEARCH($H$16,Q1095)),MAX($N$1:N1094)+1,0)","v":0},{"$f":"IF(ISNUMBER(SEARCH($H$11,Q1095)),MAX($O$1:O1094)+1,0)","v":0},{"$f":"IF(ISNUMBER(SEARCH($H$6,Q1095)),MAX($P$1:P1094)+1,0)","v":0},"icici pru multiple yield sr2 c","MPI963","MIP Aggressive",null,null,null,null,null,null,null,null,null,null,null,{"$f":"IFERROR(VLOOKUP(ROWS($AE$2:AE1095),P1095:Q2998,2,0),\"\")","v":""},null,null,null,null,{"$f":"IFERROR(VLOOKUP(ROWS($AJ$2:AJ1095),O1095:Q2998,3,0),\"\")","v":""},null,{"$f":"IFERROR(VLOOKUP(ROWS(AL$2:$AL1095),N1095:Q2998,4,0),\"\")","v":""}]
[null,null,null,null,null,null,null,null,null,null,null,null,null,{"$f":"IF(ISNUMBER(SEARCH($H$16,Q1096)),MAX($N$1:N1095)+1,0)","v":0},{"$f":"IF(ISNUMBER(SEARCH($H$11,Q1096)),MAX($O$1:O1095)+1,0)","v":0},{"$f":"IF(ISNUMBER(SEARCH($H$6,Q1096)),MAX($P$1:P1095)+1,0)","v":0},"icici pru multiple yield sr2 e","MPI1024","MIP Aggressive",null,null,null,null,null,null,null,null,null,null,null,{"$f":"IFERROR(VLOOKUP(ROWS($AE$2:AE1096),P1096:Q2999,2,0),\"\")","v":""},null,null,null,null,{"$f":"IFERROR(VLOOKUP(ROWS($AJ$2:AJ1096),O1096:Q2999,3,0),\"\")","v":""},null,{"$f":"IFERROR(VLOOKUP(ROWS(AL$2:$AL1096),N1096:Q2999,4,0),\"\")","v":""}]
[null,null,null,null,null,null,null,null,null,null,null,null,null,{"$f":"IF(ISNUMBER(SEARCH($H$16,Q1097)),MAX($N$1:N1096)+1,0)","v":0},{"$f":"IF(ISNUMBER(SEARCH($H$11,Q1097)),MAX($O$1:O1096)+1,0)","v":0},{"$f":"IF(ISNUMBER(SEARCH($H$6,Q1097)),MAX($P$1:P1096)+1,0)","v":0},"birla sl mip ii wealth 25","MBS061","MIP Aggressive",null,null,null,null,null,null,null,null,null,null,null,{"$f":"IFERROR(VLOOKUP(ROWS($AE$2:AE1097),P1097:Q3000,2,0),\"\")","v":""},null,null,null,null,{"$f":"IFERROR(VLOOKUP(ROWS($AJ$2:AJ1097),O1097:Q3000,3,0),\"\")","v":""},null,{"$f":"IFERROR(VLOOKUP(ROWS(AL$2:$AL1097),N1097:Q3000,4,0),\"\")","v":""}]
[null,null,null,null,null,null,null,null,null,null,null,null,null,{"$f":"IF(ISNUMBER(SEARCH($H$16,Q1098)),MAX($N$1:N1097)+1,0)","v":0},{"$f":"IF(ISNUMBER(SEARCH($H$11,Q1098)),MAX($O$1:O1097)+1,0)","v":0},{"$f":"IF(ISNUMBER(SEARCH($H$6,Q1098)),MAX($P$1:P1097)+1,0)","v":0},"icici pru multiple yield sr2 a","MPI957","MIP Aggressive",null,null,null,null,null,null,null,null,null,null,null,{"$f":"IFERROR(VLOOKUP(ROWS($AE$2:AE1098),P1098:Q3001,2,0),\"\")","v":""},null,null,null,null,{"$f":"IFERROR(VLOOKUP(ROWS($AJ$2:AJ1098),O1098:Q3001,3,0),\"\")","v":""},null,{"$f":"IFERROR(VLOOKUP(ROWS(AL$2:$AL1098),N1098:Q3001,4,0),\"\")","v":""}]
[null,null,null,null,null,null,null,null,null,null,null,null,null,{"$f":"IF(ISNUMBER(SEARCH($H$16,Q1099)),MAX($N$1:N1098)+1,0)","v":0},{"$f":"IF(ISNUMBER(SEARCH($H$11,Q1099)),MAX($O$1:O1098)+1,0)","v":0},{"$f":"IF(ISNUMBER(SEARCH($H$6,Q1099)),MAX($P$1:P1098)+1,0)","v":0},"icici pru multiple yield plan e","MPI946","MIP Aggressive",null,null,null,null,null,null,null,null,null,null,null,{"$f":"IFERROR(VLOOKUP(ROWS($AE$2:AE1099),P1099:Q3002,2,0),\"\")","v":""},null,null,null,null,{"$f":"IFERROR(VLOOKUP(ROWS($AJ$2:AJ1099),O1099:Q3002,3,0),\"\")","v":""},null,{"$f":"IFERROR(VLOOKUP(ROWS(AL$2:$AL1099),N1099:Q3002,4,0),\"\")","v":""}]
[null,null,null,null,null,null,null,null,null,null,null,null,null,{"$f":"IF(ISNUMBER(SEARCH($H$16,Q1100)),MAX($N$1:N1099)+1,0)","v":0},{"$f":"IF(ISNUMBER(SEARCH($H$11,Q1100)),MAX($O$1:O1099)+1,0)","v":0},{"$f":"IF(ISNUMBER(SEARCH($H$6,Q1100)),MAX($P$1:P1099)+1,0)","v":0},"hdfc dynamic pe ratio fof dp","MMS038","MIP Aggressive",null,null,null,null,null,null,null,null,null,null,null,{"$f":"IFERROR(VLOOKUP(ROWS($AE$2:AE1100),P1100:Q3003,2,0),\"\")","v":""},null,null,null,null,{"$f":"IFERROR(VLOOKUP(ROWS($AJ$2:AJ1100),O1100:Q3003,3,0),\"\")","v":""},null,{"$f":"IFERROR(VLOOKUP(ROWS(AL$2:$AL1100),N1100:Q3003,4,0),\"\")","v":""}]
[null,null,null,null,null,null,null,null,null,null,null,null,null,{"$f":"IF(ISNUMBER(SEARCH($H$16,Q1101)),MAX($N$1:N1100)+1,0)","v":0},{"$f":"IF(ISNUMBER(SEARCH($H$11,Q1101)),MAX($O$1:O1100)+1,0)","v":0},{"$f":"IF(ISNUMBER(SEARCH($H$6,Q1101)),MAX($P$1:P1100)+1,0)","v":0},"lic nomura floater mip plan a","MJB035","MIP Aggressive",null,null,null,null,null,null,null,null,null,null,null,{"$f":"IFERROR(VLOOKUP(ROWS($AE$2:AE1101),P1101:Q3004,2,0),\"\")","v":""},null,null,null,null,{"$f":"IFERROR(VLOOKUP(ROWS($AJ$2:AJ1101),O1101:Q3004,3,0),\"\")","v":""},null,{"$f":"IFERROR(VLOOKUP(ROWS(AL$2:$AL1101),N1101:Q3004,4,0),\"\")","v":""}]
[null,null,null,null,null,null,null,null,null,null,null,null,null,{"$f":"IF(ISNUMBER(SEARCH($H$16,Q1102)),MAX($N$1:N1101)+1,0)","v":0},{"$f":"IF(ISNUMBER(SEARCH($H$11,Q1102)),MAX($O$1:O1101)+1,0)","v":0},{"$f":"IF(ISNUMBER(SEARCH($H$6,Q1102)),MAX($P$1:P1101)+1,0)","v":0},"sundaram mip aggressive","MSN348","MIP Aggressive",null,null,null,null,null,null,null,null,null,null,null,{"$f":"IFERROR(VLOOKUP(ROWS($AE$2:AE1102),P1102:Q3005,2,0),\"\")","v":""},null,null,null,null,{"$f":"IFERROR(VLOOKUP(ROWS($AJ$2:AJ1102),O1102:Q3005,3,0),\"\")","v":""},null,{"$f":"IFERROR(VLOOKUP(ROWS(AL$2:$AL1102),N1102:Q3005,4,0),\"\")","v":""}]
[null,null,null,null,null,null,null,null,null,null,null,null,null,{"$f":"IF(ISNUMBER(SEARCH($H$16,Q1103)),MAX($N$1:N1102)+1,0)","v":0},{"$f":"IF(ISNUMBER(SEARCH($H$11,Q1103)),MAX($O$1:O1102)+1,0)","v":0},{"$f":"IF(ISNUMBER(SEARCH($H$6,Q1103)),MAX($P$1:P1102)+1,0)","v":0},"hdfc dynamic pe ratio fof","MMS019","MIP Aggressive",null,null,null,null,null,null,null,null,null,null,null,{"$f":"IFERROR(VLOOKUP(ROWS($AE$2:AE1103),P1103:Q3006,2,0),\"\")","v":""},null,null,null,null,{"$f":"IFERROR(VLOOKUP(ROWS($AJ$2:AJ1103),O1103:Q3006,3,0),\"\")","v":""},null,{"$f":"IFERROR(VLOOKUP(ROWS(AL$2:$AL1103),N1103:Q3006,4,0),\"\")","v":""}]
[null,null,null,null,null,null,null,null,null,null,null,null,null,{"$f":"IF(ISNUMBER(SEARCH($H$16,Q1104)),MAX($N$1:N1103)+1,0)","v":0},{"$f":"IF(ISNUMBER(SEARCH($H$11,Q1104)),MAX($O$1:O1103)+1,0)","v":0},{"$f":"IF(ISNUMBER(SEARCH($H$6,Q1104)),MAX($P$1:P1103)+1,0)","v":0},"icici pru multi yield sr4 b dp","MPI1469","MIP Aggressive",null,null,null,null,null,null,null,null,null,null,null,{"$f":"IFERROR(VLOOKUP(ROWS($AE$2:AE1104),P1104:Q3007,2,0),\"\")","v":""},null,null,null,null,{"$f":"IFERROR(VLOOKUP(ROWS($AJ$2:AJ1104),O1104:Q3007,3,0),\"\")","v":""},null,{"$f":"IFERROR(VLOOKUP(ROWS(AL$2:$AL1104),N1104:Q3007,4,0),\"\")","v":""}]
[null,null,null,null,null,null,null,null,null,null,null,null,null,{"$f":"IF(ISNUMBER(SEARCH($H$16,Q1105)),MAX($N$1:N1104)+1,0)","v":0},{"$f":"IF(ISNUMBER(SEARCH($H$11,Q1105)),MAX($O$1:O1104)+1,0)","v":0},{"$f":"IF(ISNUMBER(SEARCH($H$6,Q1105)),MAX($P$1:P1104)+1,0)","v":0},"icici pru multi yield sr4 d dp","MPI1482","MIP Aggressive",null,null,null,null,null,null,null,null,null,null,null,{"$f":"IFERROR(VLOOKUP(ROWS($AE$2:AE1105),P1105:Q3008,2,0),\"\")","v":""},null,null,null,null,{"$f":"IFERROR(VLOOKUP(ROWS($AJ$2:AJ1105),O1105:Q3008,3,0),\"\")","v":""},null,{"$f":"IFERROR(VLOOKUP(ROWS(AL$2:$AL1105),N1105:Q3008,4,0),\"\")","v":""}]
[null,null,null,null,null,null,null,null,null,null,null,null,null,{"$f":"IF(ISNUMBER(SEARCH($H$16,Q1106)),MAX($N$1:N1105)+1,0)","v":0},{"$f":"IF(ISNUMBER(SEARCH($H$11,Q1106)),MAX($O$1:O1105)+1,0)","v":0},{"$f":"IF(ISNUMBER(SEARCH($H$6,Q1106)),MAX($P$1:P1105)+1,0)","v":0},"tata mip plus fund","MTA117","MIP Aggressive",null,null,null,null,null,null,null,null,null,null,null,{"$f":"IFERROR(VLOOKUP(ROWS($AE$2:AE1106),P1106:Q3009,2,0),\"\")","v":""},null,null,null,null,{"$f":"IFERROR(VLOOKUP(ROWS($AJ$2:AJ1106),O1106:Q3009,3,0),\"\")","v":""},null,{"$f":"IFERROR(VLOOKUP(ROWS(AL$2:$AL1106),N1106:Q3009,4,0),\"\")","v":""}]
[null,null,null,null,null,null,null,null,null,null,null,null,null,{"$f":"IF(ISNUMBER(SEARCH($H$16,Q1107)),MAX($N$1:N1106)+1,0)","v":0},{"$f":"IF(ISNUMBER(SEARCH($H$11,Q1107)),MAX($O$1:O1106)+1,0)","v":0},{"$f":"IF(ISNUMBER(SEARCH($H$6,Q1107)),MAX($P$1:P1106)+1,0)","v":0},"franklin india mip","MKP032","MIP Aggressive",null,null,null,null,null,null,null,null,null,null,null,{"$f":"IFERROR(VLOOKUP(ROWS($AE$2:AE1107),P1107:Q3010,2,0),\"\")","v":""},null,null,null,null,{"$f":"IFERROR(VLOOKUP(ROWS($AJ$2:AJ1107),O1107:Q3010,3,0),\"\")","v":""},null,{"$f":"IFERROR(VLOOKUP(ROWS(AL$2:$AL1107),N1107:Q3010,4,0),\"\")","v":""}]
[null,null,null,null,null,null,null,null,null,null,null,null,null,{"$f":"IF(ISNUMBER(SEARCH($H$16,Q1108)),MAX($N$1:N1107)+1,0)","v":0},{"$f":"IF(ISNUMBER(SEARCH($H$11,Q1108)),MAX($O$1:O1107)+1,0)","v":0},{"$f":"IF(ISNUMBER(SEARCH($H$6,Q1108)),MAX($P$1:P1107)+1,0)","v":0},"icici pru multi yield sr4 a dir","MPI1430","MIP Aggressive",null,null,null,null,null,null,null,null,null,null,null,{"$f":"IFERROR(VLOOKUP(ROWS($AE$2:AE1108),P1108:Q3011,2,0),\"\")","v":""},null,null,null,null,{"$f":"IFERROR(VLOOKUP(ROWS($AJ$2:AJ1108),O1108:Q3011,3,0),\"\")","v":""},null,{"$f":"IFERROR(VLOOKUP(ROWS(AL$2:$AL1108),N1108:Q3011,4,0),\"\")","v":""}]
[null,null,null,null,null,null,null,null,null,null,null,null,null,{"$f":"IF(ISNUMBER(SEARCH($H$16,Q1109)),MAX($N$1:N1108)+1,0)","v":0},{"$f":"IF(ISNUMBER(SEARCH($H$11,Q1109)),MAX($O$1:O1108)+1,0)","v":0},{"$f":"IF(ISNUMBER(SEARCH($H$6,Q1109)),MAX($P$1:P1108)+1,0)","v":0},"reliance mip","MRC049","MIP Aggressive",null,null,null,null,null,null,null,null,null,null,null,{"$f":"IFERROR(VLOOKUP(ROWS($AE$2:AE1109),P1109:Q3012,2,0),\"\")","v":""},null,null,null,null,{"$f":"IFERROR(VLOOKUP(ROWS($AJ$2:AJ1109),O1109:Q3012,3,0),\"\")","v":""},null,{"$f":"IFERROR(VLOOKUP(ROWS(AL$2:$AL1109),N1109:Q3012,4,0),\"\")","v":""}]
[null,null,null,null,null,null,null,null,null,null,null,null,null,{"$f":"IF(ISNUMBER(SEARCH($H$16,Q1110)),MAX($N$1:N1109)+1,0)","v":0},{"$f":"IF(ISNUMBER(SEARCH($H$11,Q1110)),MAX($O$1:O1109)+1,0)","v":0},{"$f":"IF(ISNUMBER(SEARCH($H$6,Q1110)),MAX($P$1:P1109)+1,0)","v":0},"icici pru multi yield sr3 b dp","MPI1386","MIP Aggressive",null,null,null,null,null,null,null,null,null,null,null,{"$f":"IFERROR(VLOOKUP(ROWS($AE$2:AE1110),P1110:Q3013,2,0),\"\")","v":""},null,null,null,null,{"$f":"IFERROR(VLOOKUP(ROWS($AJ$2:AJ1110),O1110:Q3013,3,0),\"\")","v":""},null,{"$f":"IFERROR(VLOOKUP(ROWS(AL$2:$AL1110),N1110:Q3013,4,0),\"\")","v":""}]
[null,null,null,null,null,null,null,null,null,null,null,null,null,{"$f":"IF(ISNUMBER(SEARCH($H$16,Q1111)),MAX($N$1:N1110)+1,0)","v":0},{"$f":"IF(ISNUMBER(SEARCH($H$11,Q1111)),MAX($O$1:O1110)+1,0)","v":0},{"$f":"IF(ISNUMBER(SEARCH($H$6,Q1111)),MAX($P$1:P1110)+1,0)","v":0},"icici pru multi yield sr3 a dir d","MPI1332","MIP Aggressive",null,null,null,null,null,null,null,null,null,null,null,{"$f":"IFERROR(VLOOKUP(ROWS($AE$2:AE1111),P1111:Q3014,2,0),\"\")","v":""},null,null,null,null,{"$f":"IFERROR(VLOOKUP(ROWS($AJ$2:AJ1111),O1111:Q3014,3,0),\"\")","v":""},null,{"$f":"IFERROR(VLOOKUP(ROWS(AL$2:$AL1111),N1111:Q3014,4,0),\"\")","v":""}]
[null,null,null,null,null,null,null,null,null,null,null,null,null,{"$f":"IF(ISNUMBER(SEARCH($H$16,Q1112)),MAX($N$1:N1111)+1,0)","v":0},{"$f":"IF(ISNUMBER(SEARCH($H$11,Q1112)),MAX($O$1:O1111)+1,0)","v":0},{"$f":"IF(ISNUMBER(SEARCH($H$6,Q1112)),MAX($P$1:P1111)+1,0)","v":0},"icici prudential mip 25","MPI084","MIP Aggressive",null,null,null,null,null,null,null,null,null,null,null,{"$f":"IFERROR(VLOOKUP(ROWS($AE$2:AE1112),P1112:Q3015,2,0),\"\")","v":""},null,null,null,null,{"$f":"IFERROR(VLOOKUP(ROWS($AJ$2:AJ1112),O1112:Q3015,3,0),\"\")","v":""},null,{"$f":"IFERROR(VLOOKUP(ROWS(AL$2:$AL1112),N1112:Q3015,4,0),\"\")","v":""}]
[null,null,null,null,null,null,null,null,null,null,null,null,null,{"$f":"IF(ISNUMBER(SEARCH($H$16,Q1113)),MAX($N$1:N1112)+1,0)","v":0},{"$f":"IF(ISNUMBER(SEARCH($H$11,Q1113)),MAX($O$1:O1112)+1,0)","v":0},{"$f":"IF(ISNUMBER(SEARCH($H$6,Q1113)),MAX($P$1:P1112)+1,0)","v":0},"idfc monthly income plan rp","MAG361","MIP Aggressive",null,null,null,null,null,null,null,null,null,null,null,{"$f":"IFERROR(VLOOKUP(ROWS($AE$2:AE1113),P1113:Q3016,2,0),\"\")","v":""},null,null,null,null,{"$f":"IFERROR(VLOOKUP(ROWS($AJ$2:AJ1113),O1113:Q3016,3,0),\"\")","v":""},null,{"$f":"IFERROR(VLOOKUP(ROWS(AL$2:$AL1113),N1113:Q3016,4,0),\"\")","v":""}]
[null,null,null,null,null,null,null,null,null,null,null,null,null,{"$f":"IF(ISNUMBER(SEARCH($H$16,Q1114)),MAX($N$1:N1113)+1,0)","v":0},{"$f":"IF(ISNUMBER(SEARCH($H$11,Q1114)),MAX($O$1:O1113)+1,0)","v":0},{"$f":"IF(ISNUMBER(SEARCH($H$6,Q1114)),MAX($P$1:P1113)+1,0)","v":0},"icici pru multi yield sr4 d rp","MPI1480","MIP Aggressive",null,null,null,null,null,null,null,null,null,null,null,{"$f":"IFERROR(VLOOKUP(ROWS($AE$2:AE1114),P1114:Q3017,2,0),\"\")","v":""},null,null,null,null,{"$f":"IFERROR(VLOOKUP(ROWS($AJ$2:AJ1114),O1114:Q3017,3,0),\"\")","v":""},null,{"$f":"IFERROR(VLOOKUP(ROWS(AL$2:$AL1114),N1114:Q3017,4,0),\"\")","v":""}]
[null,null,null,null,null,null,null,null,null,null,null,null,null,{"$f":"IF(ISNUMBER(SEARCH($H$16,Q1115)),MAX($N$1:N1114)+1,0)","v":0},{"$f":"IF(ISNUMBER(SEARCH($H$11,Q1115)),MAX($O$1:O1114)+1,0)","v":0},{"$f":"IF(ISNUMBER(SEARCH($H$6,Q1115)),MAX($P$1:P1114)+1,0)","v":0},"uti mis advantage plan dir","MUT672","MIP Aggressive",null,null,null,null,null,null,null,null,null,null,null,{"$f":"IFERROR(VLOOKUP(ROWS($AE$2:AE1115),P1115:Q3018,2,0),\"\")","v":""},null,null,null,null,{"$f":"IFERROR(VLOOKUP(ROWS($AJ$2:AJ1115),O1115:Q3018,3,0),\"\")","v":""},null,{"$f":"IFERROR(VLOOKUP(ROWS(AL$2:$AL1115),N1115:Q3018,4,0),\"\")","v":""}]
[null,null,null,null,null,null,null,null,null,null,null,null,null,{"$f":"IF(ISNUMBER(SEARCH($H$16,Q1116)),MAX($N$1:N1115)+1,0)","v":0},{"$f":"IF(ISNUMBER(SEARCH($H$11,Q1116)),MAX($O$1:O1115)+1,0)","v":0},{"$f":"IF(ISNUMBER(SEARCH($H$6,Q1116)),MAX($P$1:P1115)+1,0)","v":0},"icici pru multi yield sr4 b rp","MPI1471","MIP Aggressive",null,null,null,null,null,null,null,null,null,null,null,{"$f":"IFERROR(VLOOKUP(ROWS($AE$2:AE1116),P1116:Q3019,2,0),\"\")","v":""},null,null,null,null,{"$f":"IFERROR(VLOOKUP(ROWS($AJ$2:AJ1116),O1116:Q3019,3,0),\"\")","v":""},null,{"$f":"IFERROR(VLOOKUP(ROWS(AL$2:$AL1116),N1116:Q3019,4,0),\"\")","v":""}]
[null,null,null,null,null,null,null,null,null,null,null,null,null,{"$f":"IF(ISNUMBER(SEARCH($H$16,Q1117)),MAX($N$1:N1116)+1,0)","v":0},{"$f":"IF(ISNUMBER(SEARCH($H$11,Q1117)),MAX($O$1:O1116)+1,0)","v":0},{"$f":"IF(ISNUMBER(SEARCH($H$6,Q1117)),MAX($P$1:P1116)+1,0)","v":0},"l t equity savings fund","MCC195","MIP Aggressive",null,null,null,null,null,null,null,null,null,null,null,{"$f":"IFERROR(VLOOKUP(ROWS($AE$2:AE1117),P1117:Q3020,2,0),\"\")","v":""},null,null,null,null,{"$f":"IFERROR(VLOOKUP(ROWS($AJ$2:AJ1117),O1117:Q3020,3,0),\"\")","v":""},null,{"$f":"IFERROR(VLOOKUP(ROWS(AL$2:$AL1117),N1117:Q3020,4,0),\"\")","v":""}]
[null,null,null,null,null,null,null,null,null,null,null,null,null,{"$f":"IF(ISNUMBER(SEARCH($H$16,Q1118)),MAX($N$1:N1117)+1,0)","v":0},{"$f":"IF(ISNUMBER(SEARCH($H$11,Q1118)),MAX($O$1:O1117)+1,0)","v":0},{"$f":"IF(ISNUMBER(SEARCH($H$6,Q1118)),MAX($P$1:P1117)+1,0)","v":0},"icici pru multi yield sr4 a rp","MPI1428","MIP Aggressive",null,null,null,null,null,null,null,null,null,null,null,{"$f":"IFERROR(VLOOKUP(ROWS($AE$2:AE1118),P1118:Q3021,2,0),\"\")","v":""},null,null,null,null,{"$f":"IFERROR(VLOOKUP(ROWS($AJ$2:AJ1118),O1118:Q3021,3,0),\"\")","v":""},null,{"$f":"IFERROR(VLOOKUP(ROWS(AL$2:$AL1118),N1118:Q3021,4,0),\"\")","v":""}]
[null,null,null,null,null,null,null,null,null,null,null,null,null,{"$f":"IF(ISNUMBER(SEARCH($H$16,Q1119)),MAX($N$1:N1118)+1,0)","v":0},{"$f":"IF(ISNUMBER(SEARCH($H$11,Q1119)),MAX($O$1:O1118)+1,0)","v":0},{"$f":"IF(ISNUMBER(SEARCH($H$6,Q1119)),MAX($P$1:P1118)+1,0)","v":0},"icici pru multi yield sr5 a dp","MPI1590","MIP Aggressive",null,null,null,null,null,null,null,null,null,null,null,{"$f":"IFERROR(VLOOKUP(ROWS($AE$2:AE1119),P1119:Q3022,2,0),\"\")","v":""},null,null,null,null,{"$f":"IFERROR(VLOOKUP(ROWS($AJ$2:AJ1119),O1119:Q3022,3,0),\"\")","v":""},null,{"$f":"IFERROR(VLOOKUP(ROWS(AL$2:$AL1119),N1119:Q3022,4,0),\"\")","v":""}]
[null,null,null,null,null,null,null,null,null,null,null,null,null,{"$f":"IF(ISNUMBER(SEARCH($H$16,Q1120)),MAX($N$1:N1119)+1,0)","v":0},{"$f":"IF(ISNUMBER(SEARCH($H$11,Q1120)),MAX($O$1:O1119)+1,0)","v":0},{"$f":"IF(ISNUMBER(SEARCH($H$6,Q1120)),MAX($P$1:P1119)+1,0)","v":0},"icici pru multi yield sr4 e dp","MPI1494","MIP Aggressive",null,null,null,null,null,null,null,null,null,null,null,{"$f":"IFERROR(VLOOKUP(ROWS($AE$2:AE1120),P1120:Q3023,2,0),\"\")","v":""},null,null,null,null,{"$f":"IFERROR(VLOOKUP(ROWS($AJ$2:AJ1120),O1120:Q3023,3,0),\"\")","v":""},null,{"$f":"IFERROR(VLOOKUP(ROWS(AL$2:$AL1120),N1120:Q3023,4,0),\"\")","v":""}]
[null,null,null,null,null,null,null,null,null,null,null,null,null,{"$f":"IF(ISNUMBER(SEARCH($H$16,Q1121)),MAX($N$1:N1120)+1,0)","v":0},{"$f":"IF(ISNUMBER(SEARCH($H$11,Q1121)),MAX($O$1:O1120)+1,0)","v":0},{"$f":"IF(ISNUMBER(SEARCH($H$6,Q1121)),MAX($P$1:P1120)+1,0)","v":0},"uti mis advantage plan","MIL040","MIP Aggressive",null,null,null,null,null,null,null,null,null,null,null,{"$f":"IFERROR(VLOOKUP(ROWS($AE$2:AE1121),P1121:Q3024,2,0),\"\")","v":""},null,null,null,null,{"$f":"IFERROR(VLOOKUP(ROWS($AJ$2:AJ1121),O1121:Q3024,3,0),\"\")","v":""},null,{"$f":"IFERROR(VLOOKUP(ROWS(AL$2:$AL1121),N1121:Q3024,4,0),\"\")","v":""}]
[null,null,null,null,null,null,null,null,null,null,null,null,null,{"$f":"IF(ISNUMBER(SEARCH($H$16,Q1122)),MAX($N$1:N1121)+1,0)","v":0},{"$f":"IF(ISNUMBER(SEARCH($H$11,Q1122)),MAX($O$1:O1121)+1,0)","v":0},{"$f":"IF(ISNUMBER(SEARCH($H$6,Q1122)),MAX($P$1:P1121)+1,0)","v":0},"icici pru multi yield sr4 c dp","MPI1473","MIP Aggressive",null,null,null,null,null,null,null,null,null,null,null,{"$f":"IFERROR(VLOOKUP(ROWS($AE$2:AE1122),P1122:Q3025,2,0),\"\")","v":""},null,null,null,null,{"$f":"IFERROR(VLOOKUP(ROWS($AJ$2:AJ1122),O1122:Q3025,3,0),\"\")","v":""},null,{"$f":"IFERROR(VLOOKUP(ROWS(AL$2:$AL1122),N1122:Q3025,4,0),\"\")","v":""}]
[null,null,null,null,null,null,null,null,null,null,null,null,null,{"$f":"IF(ISNUMBER(SEARCH($H$16,Q1123)),MAX($N$1:N1122)+1,0)","v":0},{"$f":"IF(ISNUMBER(SEARCH($H$11,Q1123)),MAX($O$1:O1122)+1,0)","v":0},{"$f":"IF(ISNUMBER(SEARCH($H$6,Q1123)),MAX($P$1:P1122)+1,0)","v":0},"axis income saver fund reg ","MAA039","MIP Aggressive",null,null,null,null,null,null,null,null,null,null,null,{"$f":"IFERROR(VLOOKUP(ROWS($AE$2:AE1123),P1123:Q3026,2,0),\"\")","v":""},null,null,null,null,{"$f":"IFERROR(VLOOKUP(ROWS($AJ$2:AJ1123),O1123:Q3026,3,0),\"\")","v":""},null,{"$f":"IFERROR(VLOOKUP(ROWS(AL$2:$AL1123),N1123:Q3026,4,0),\"\")","v":""}]
[null,null,null,null,null,null,null,null,null,null,null,null,null,{"$f":"IF(ISNUMBER(SEARCH($H$16,Q1124)),MAX($N$1:N1123)+1,0)","v":0},{"$f":"IF(ISNUMBER(SEARCH($H$11,Q1124)),MAX($O$1:O1123)+1,0)","v":0},{"$f":"IF(ISNUMBER(SEARCH($H$6,Q1124)),MAX($P$1:P1123)+1,0)","v":0},"icici pru multi yield sr3 d rp","MPI1414","MIP Aggressive",null,null,null,null,null,null,null,null,null,null,null,{"$f":"IFERROR(VLOOKUP(ROWS($AE$2:AE1124),P1124:Q3027,2,0),\"\")","v":""},null,null,null,null,{"$f":"IFERROR(VLOOKUP(ROWS($AJ$2:AJ1124),O1124:Q3027,3,0),\"\")","v":""},null,{"$f":"IFERROR(VLOOKUP(ROWS(AL$2:$AL1124),N1124:Q3027,4,0),\"\")","v":""}]
[null,null,null,null,null,null,null,null,null,null,null,null,null,{"$f":"IF(ISNUMBER(SEARCH($H$16,Q1125)),MAX($N$1:N1124)+1,0)","v":0},{"$f":"IF(ISNUMBER(SEARCH($H$11,Q1125)),MAX($O$1:O1124)+1,0)","v":0},{"$f":"IF(ISNUMBER(SEARCH($H$6,Q1125)),MAX($P$1:P1124)+1,0)","v":0},"icici pru multi yield sr3 a","MPI1330","MIP Aggressive",null,null,null,null,null,null,null,null,null,null,null,{"$f":"IFERROR(VLOOKUP(ROWS($AE$2:AE1125),P1125:Q3028,2,0),\"\")","v":""},null,null,null,null,{"$f":"IFERROR(VLOOKUP(ROWS($AJ$2:AJ1125),O1125:Q3028,3,0),\"\")","v":""},null,{"$f":"IFERROR(VLOOKUP(ROWS(AL$2:$AL1125),N1125:Q3028,4,0),\"\")","v":""}]
[null,null,null,null,null,null,null,null,null,null,null,null,null,{"$f":"IF(ISNUMBER(SEARCH($H$16,Q1126)),MAX($N$1:N1125)+1,0)","v":0},{"$f":"IF(ISNUMBER(SEARCH($H$11,Q1126)),MAX($O$1:O1125)+1,0)","v":0},{"$f":"IF(ISNUMBER(SEARCH($H$6,Q1126)),MAX($P$1:P1125)+1,0)","v":0},"icici pru multi yield sr3 b rp","MPI1384","MIP Aggressive",null,null,null,null,null,null,null,null,null,null,null,{"$f":"IFERROR(VLOOKUP(ROWS($AE$2:AE1126),P1126:Q3029,2,0),\"\")","v":""},null,null,null,null,{"$f":"IFERROR(VLOOKUP(ROWS($AJ$2:AJ1126),O1126:Q3029,3,0),\"\")","v":""},null,{"$f":"IFERROR(VLOOKUP(ROWS(AL$2:$AL1126),N1126:Q3029,4,0),\"\")","v":""}]
[null,null,null,null,null,null,null,null,null,null,null,null,null,{"$f":"IF(ISNUMBER(SEARCH($H$16,Q1127)),MAX($N$1:N1126)+1,0)","v":0},{"$f":"IF(ISNUMBER(SEARCH($H$11,Q1127)),MAX($O$1:O1126)+1,0)","v":0},{"$f":"IF(ISNUMBER(SEARCH($H$6,Q1127)),MAX($P$1:P1126)+1,0)","v":0},"icici pru multi yield sr5 b dp","MPI1690","MIP Aggressive",null,null,null,null,null,null,null,null,null,null,null,{"$f":"IFERROR(VLOOKUP(ROWS($AE$2:AE1127),P1127:Q3030,2,0),\"\")","v":""},null,null,null,null,{"$f":"IFERROR(VLOOKUP(ROWS($AJ$2:AJ1127),O1127:Q3030,3,0),\"\")","v":""},null,{"$f":"IFERROR(VLOOKUP(ROWS(AL$2:$AL1127),N1127:Q3030,4,0),\"\")","v":""}]
[null,null,null,null,null,null,null,null,null,null,null,null,null,{"$f":"IF(ISNUMBER(SEARCH($H$16,Q1128)),MAX($N$1:N1127)+1,0)","v":0},{"$f":"IF(ISNUMBER(SEARCH($H$11,Q1128)),MAX($O$1:O1127)+1,0)","v":0},{"$f":"IF(ISNUMBER(SEARCH($H$6,Q1128)),MAX($P$1:P1127)+1,0)","v":0},"icici pru multiple yield plan c","MPI909","MIP Aggressive",null,null,null,null,null,null,null,null,null,null,null,{"$f":"IFERROR(VLOOKUP(ROWS($AE$2:AE1128),P1128:Q3031,2,0),\"\")","v":""},null,null,null,null,{"$f":"IFERROR(VLOOKUP(ROWS($AJ$2:AJ1128),O1128:Q3031,3,0),\"\")","v":""},null,{"$f":"IFERROR(VLOOKUP(ROWS(AL$2:$AL1128),N1128:Q3031,4,0),\"\")","v":""}]
[null,null,null,null,null,null,null,null,null,null,null,null,null,{"$f":"IF(ISNUMBER(SEARCH($H$16,Q1129)),MAX($N$1:N1128)+1,0)","v":0},{"$f":"IF(ISNUMBER(SEARCH($H$11,Q1129)),MAX($O$1:O1128)+1,0)","v":0},{"$f":"IF(ISNUMBER(SEARCH($H$6,Q1129)),MAX($P$1:P1128)+1,0)","v":0},"icici pru multi yield sr5 a rp","MPI1588","MIP Aggressive",null,null,null,null,null,null,null,null,null,null,null,{"$f":"IFERROR(VLOOKUP(ROWS($AE$2:AE1129),P1129:Q3032,2,0),\"\")","v":""},null,null,null,null,{"$f":"IFERROR(VLOOKUP(ROWS($AJ$2:AJ1129),O1129:Q3032,3,0),\"\")","v":""},null,{"$f":"IFERROR(VLOOKUP(ROWS(AL$2:$AL1129),N1129:Q3032,4,0),\"\")","v":""}]
[null,null,null,null,null,null,null,null,null,null,null,null,null,{"$f":"IF(ISNUMBER(SEARCH($H$16,Q1130)),MAX($N$1:N1129)+1,0)","v":0},{"$f":"IF(ISNUMBER(SEARCH($H$11,Q1130)),MAX($O$1:O1129)+1,0)","v":0},{"$f":"IF(ISNUMBER(SEARCH($H$6,Q1130)),MAX($P$1:P1129)+1,0)","v":0},"icici pru multiple yield plan a","MPI879","MIP Aggressive",null,null,null,null,null,null,null,null,null,null,null,{"$f":"IFERROR(VLOOKUP(ROWS($AE$2:AE1130),P1130:Q3033,2,0),\"\")","v":""},null,null,null,null,{"$f":"IFERROR(VLOOKUP(ROWS($AJ$2:AJ1130),O1130:Q3033,3,0),\"\")","v":""},null,{"$f":"IFERROR(VLOOKUP(ROWS(AL$2:$AL1130),N1130:Q3033,4,0),\"\")","v":""}]
[null,null,null,null,null,null,null,null,null,null,null,null,null,{"$f":"IF(ISNUMBER(SEARCH($H$16,Q1131)),MAX($N$1:N1130)+1,0)","v":0},{"$f":"IF(ISNUMBER(SEARCH($H$11,Q1131)),MAX($O$1:O1130)+1,0)","v":0},{"$f":"IF(ISNUMBER(SEARCH($H$6,Q1131)),MAX($P$1:P1130)+1,0)","v":0},"icici pru multi yield sr4 c rp","MPI1475","MIP Aggressive",null,null,null,null,null,null,null,null,null,null,null,{"$f":"IFERROR(VLOOKUP(ROWS($AE$2:AE1131),P1131:Q3034,2,0),\"\")","v":""},null,null,null,null,{"$f":"IFERROR(VLOOKUP(ROWS($AJ$2:AJ1131),O1131:Q3034,3,0),\"\")","v":""},null,{"$f":"IFERROR(VLOOKUP(ROWS(AL$2:$AL1131),N1131:Q3034,4,0),\"\")","v":""}]
[null,null,null,null,null,null,null,null,null,null,null,null,null,{"$f":"IF(ISNUMBER(SEARCH($H$16,Q1132)),MAX($N$1:N1131)+1,0)","v":0},{"$f":"IF(ISNUMBER(SEARCH($H$11,Q1132)),MAX($O$1:O1131)+1,0)","v":0},{"$f":"IF(ISNUMBER(SEARCH($H$6,Q1132)),MAX($P$1:P1131)+1,0)","v":0},"icici pru multi yield sr4 e rp","MPI1492","MIP Aggressive",null,null,null,null,null,null,null,null,null,null,null,{"$f":"IFERROR(VLOOKUP(ROWS($AE$2:AE1132),P1132:Q3035,2,0),\"\")","v":""},null,null,null,null,{"$f":"IFERROR(VLOOKUP(ROWS($AJ$2:AJ1132),O1132:Q3035,3,0),\"\")","v":""},null,{"$f":"IFERROR(VLOOKUP(ROWS(AL$2:$AL1132),N1132:Q3035,4,0),\"\")","v":""}]
[null,null,null,null,null,null,null,null,null,null,null,null,null,{"$f":"IF(ISNUMBER(SEARCH($H$16,Q1133)),MAX($N$1:N1132)+1,0)","v":0},{"$f":"IF(ISNUMBER(SEARCH($H$11,Q1133)),MAX($O$1:O1132)+1,0)","v":0},{"$f":"IF(ISNUMBER(SEARCH($H$6,Q1133)),MAX($P$1:P1132)+1,0)","v":0},"icici pru multi yield sr3 c dir","MPI1411","MIP Aggressive",null,null,null,null,null,null,null,null,null,null,null,{"$f":"IFERROR(VLOOKUP(ROWS($AE$2:AE1133),P1133:Q3036,2,0),\"\")","v":""},null,null,null,null,{"$f":"IFERROR(VLOOKUP(ROWS($AJ$2:AJ1133),O1133:Q3036,3,0),\"\")","v":""},null,{"$f":"IFERROR(VLOOKUP(ROWS(AL$2:$AL1133),N1133:Q3036,4,0),\"\")","v":""}]
[null,null,null,null,null,null,null,null,null,null,null,null,null,{"$f":"IF(ISNUMBER(SEARCH($H$16,Q1134)),MAX($N$1:N1133)+1,0)","v":0},{"$f":"IF(ISNUMBER(SEARCH($H$11,Q1134)),MAX($O$1:O1133)+1,0)","v":0},{"$f":"IF(ISNUMBER(SEARCH($H$6,Q1134)),MAX($P$1:P1133)+1,0)","v":0},"dsp blackrock mip fund","MDS036","MIP Aggressive",null,null,null,null,null,null,null,null,null,null,null,{"$f":"IFERROR(VLOOKUP(ROWS($AE$2:AE1134),P1134:Q3037,2,0),\"\")","v":""},null,null,null,null,{"$f":"IFERROR(VLOOKUP(ROWS($AJ$2:AJ1134),O1134:Q3037,3,0),\"\")","v":""},null,{"$f":"IFERROR(VLOOKUP(ROWS(AL$2:$AL1134),N1134:Q3037,4,0),\"\")","v":""}]
[null,null,null,null,null,null,null,null,null,null,null,null,null,{"$f":"IF(ISNUMBER(SEARCH($H$16,Q1135)),MAX($N$1:N1134)+1,0)","v":0},{"$f":"IF(ISNUMBER(SEARCH($H$11,Q1135)),MAX($O$1:O1134)+1,0)","v":0},{"$f":"IF(ISNUMBER(SEARCH($H$6,Q1135)),MAX($P$1:P1134)+1,0)","v":0},"hsbc mip savings plan","MHS030","MIP Aggressive",null,null,null,null,null,null,null,null,null,null,null,{"$f":"IFERROR(VLOOKUP(ROWS($AE$2:AE1135),P1135:Q3038,2,0),\"\")","v":""},null,null,null,null,{"$f":"IFERROR(VLOOKUP(ROWS($AJ$2:AJ1135),O1135:Q3038,3,0),\"\")","v":""},null,{"$f":"IFERROR(VLOOKUP(ROWS(AL$2:$AL1135),N1135:Q3038,4,0),\"\")","v":""}]
[null,null,null,null,null,null,null,null,null,null,null,null,null,{"$f":"IF(ISNUMBER(SEARCH($H$16,Q1136)),MAX($N$1:N1135)+1,0)","v":0},{"$f":"IF(ISNUMBER(SEARCH($H$11,Q1136)),MAX($O$1:O1135)+1,0)","v":0},{"$f":"IF(ISNUMBER(SEARCH($H$6,Q1136)),MAX($P$1:P1135)+1,0)","v":0},"can robeco mip","MCA012","MIP Aggressive",null,null,null,null,null,null,null,null,null,null,null,{"$f":"IFERROR(VLOOKUP(ROWS($AE$2:AE1136),P1136:Q3039,2,0),\"\")","v":""},null,null,null,null,{"$f":"IFERROR(VLOOKUP(ROWS($AJ$2:AJ1136),O1136:Q3039,3,0),\"\")","v":""},null,{"$f":"IFERROR(VLOOKUP(ROWS(AL$2:$AL1136),N1136:Q3039,4,0),\"\")","v":""}]
[null,null,null,null,null,null,null,null,null,null,null,null,null,{"$f":"IF(ISNUMBER(SEARCH($H$16,Q1137)),MAX($N$1:N1136)+1,0)","v":0},{"$f":"IF(ISNUMBER(SEARCH($H$11,Q1137)),MAX($O$1:O1136)+1,0)","v":0},{"$f":"IF(ISNUMBER(SEARCH($H$6,Q1137)),MAX($P$1:P1136)+1,0)","v":0},"hdfc mip ltp","MHD041","MIP Aggressive",null,null,null,null,null,null,null,null,null,null,null,{"$f":"IFERROR(VLOOKUP(ROWS($AE$2:AE1137),P1137:Q3040,2,0),\"\")","v":""},null,null,null,null,{"$f":"IFERROR(VLOOKUP(ROWS($AJ$2:AJ1137),O1137:Q3040,3,0),\"\")","v":""},null,{"$f":"IFERROR(VLOOKUP(ROWS(AL$2:$AL1137),N1137:Q3040,4,0),\"\")","v":""}]
[null,null,null,null,null,null,null,null,null,null,null,null,null,{"$f":"IF(ISNUMBER(SEARCH($H$16,Q1138)),MAX($N$1:N1137)+1,0)","v":0},{"$f":"IF(ISNUMBER(SEARCH($H$11,Q1138)),MAX($O$1:O1137)+1,0)","v":0},{"$f":"IF(ISNUMBER(SEARCH($H$6,Q1138)),MAX($P$1:P1137)+1,0)","v":0},"kotak monthly income plan regular","MKM050","MIP Aggressive",null,null,null,null,null,null,null,null,null,null,null,{"$f":"IFERROR(VLOOKUP(ROWS($AE$2:AE1138),P1138:Q3041,2,0),\"\")","v":""},null,null,null,null,{"$f":"IFERROR(VLOOKUP(ROWS($AJ$2:AJ1138),O1138:Q3041,3,0),\"\")","v":""},null,{"$f":"IFERROR(VLOOKUP(ROWS(AL$2:$AL1138),N1138:Q3041,4,0),\"\")","v":""}]
[null,null,null,null,null,null,null,null,null,null,null,null,null,{"$f":"IF(ISNUMBER(SEARCH($H$16,Q1139)),MAX($N$1:N1138)+1,0)","v":0},{"$f":"IF(ISNUMBER(SEARCH($H$11,Q1139)),MAX($O$1:O1138)+1,0)","v":0},{"$f":"IF(ISNUMBER(SEARCH($H$6,Q1139)),MAX($P$1:P1138)+1,0)","v":0},"sbi regular savings fund","MSB030","MIP Aggressive",null,null,null,null,null,null,null,null,null,null,null,{"$f":"IFERROR(VLOOKUP(ROWS($AE$2:AE1139),P1139:Q3042,2,0),\"\")","v":""},null,null,null,null,{"$f":"IFERROR(VLOOKUP(ROWS($AJ$2:AJ1139),O1139:Q3042,3,0),\"\")","v":""},null,{"$f":"IFERROR(VLOOKUP(ROWS(AL$2:$AL1139),N1139:Q3042,4,0),\"\")","v":""}]
[null,null,null,null,null,null,null,null,null,null,null,null,null,{"$f":"IF(ISNUMBER(SEARCH($H$16,Q1140)),MAX($N$1:N1139)+1,0)","v":0},{"$f":"IF(ISNUMBER(SEARCH($H$11,Q1140)),MAX($O$1:O1139)+1,0)","v":0},{"$f":"IF(ISNUMBER(SEARCH($H$6,Q1140)),MAX($P$1:P1139)+1,0)","v":0},"icici pru multi yield sr5 b rp","MPI1688","MIP Aggressive",null,null,null,null,null,null,null,null,null,null,null,{"$f":"IFERROR(VLOOKUP(ROWS($AE$2:AE1140),P1140:Q3043,2,0),\"\")","v":""},null,null,null,null,{"$f":"IFERROR(VLOOKUP(ROWS($AJ$2:AJ1140),O1140:Q3043,3,0),\"\")","v":""},null,{"$f":"IFERROR(VLOOKUP(ROWS(AL$2:$AL1140),N1140:Q3043,4,0),\"\")","v":""}]
[null,null,null,null,null,null,null,null,null,null,null,null,null,{"$f":"IF(ISNUMBER(SEARCH($H$16,Q1141)),MAX($N$1:N1140)+1,0)","v":0},{"$f":"IF(ISNUMBER(SEARCH($H$11,Q1141)),MAX($O$1:O1140)+1,0)","v":0},{"$f":"IF(ISNUMBER(SEARCH($H$6,Q1141)),MAX($P$1:P1140)+1,0)","v":0},"icici pru multi yield sr3 d rp","MPI1412","MIP Aggressive",null,null,null,null,null,null,null,null,null,null,null,{"$f":"IFERROR(VLOOKUP(ROWS($AE$2:AE1141),P1141:Q3044,2,0),\"\")","v":""},null,null,null,null,{"$f":"IFERROR(VLOOKUP(ROWS($AJ$2:AJ1141),O1141:Q3044,3,0),\"\")","v":""},null,{"$f":"IFERROR(VLOOKUP(ROWS(AL$2:$AL1141),N1141:Q3044,4,0),\"\")","v":""}]
[null,null,null,null,null,null,null,null,null,null,null,null,null,{"$f":"IF(ISNUMBER(SEARCH($H$16,Q1142)),MAX($N$1:N1141)+1,0)","v":0},{"$f":"IF(ISNUMBER(SEARCH($H$11,Q1142)),MAX($O$1:O1141)+1,0)","v":0},{"$f":"IF(ISNUMBER(SEARCH($H$6,Q1142)),MAX($P$1:P1141)+1,0)","v":0},"icici pru multiple yield plan b","MPI895","MIP Aggressive",null,null,null,null,null,null,null,null,null,null,null,{"$f":"IFERROR(VLOOKUP(ROWS($AE$2:AE1142),P1142:Q3045,2,0),\"\")","v":""},null,null,null,null,{"$f":"IFERROR(VLOOKUP(ROWS($AJ$2:AJ1142),O1142:Q3045,3,0),\"\")","v":""},null,{"$f":"IFERROR(VLOOKUP(ROWS(AL$2:$AL1142),N1142:Q3045,4,0),\"\")","v":""}]
[null,null,null,null,null,null,null,null,null,null,null,null,null,{"$f":"IF(ISNUMBER(SEARCH($H$16,Q1143)),MAX($N$1:N1142)+1,0)","v":0},{"$f":"IF(ISNUMBER(SEARCH($H$11,Q1143)),MAX($O$1:O1142)+1,0)","v":0},{"$f":"IF(ISNUMBER(SEARCH($H$6,Q1143)),MAX($P$1:P1142)+1,0)","v":0},"l t mip regular","MCC026","MIP Aggressive",null,null,null,null,null,null,null,null,null,null,null,{"$f":"IFERROR(VLOOKUP(ROWS($AE$2:AE1143),P1143:Q3046,2,0),\"\")","v":""},null,null,null,null,{"$f":"IFERROR(VLOOKUP(ROWS($AJ$2:AJ1143),O1143:Q3046,3,0),\"\")","v":""},null,{"$f":"IFERROR(VLOOKUP(ROWS(AL$2:$AL1143),N1143:Q3046,4,0),\"\")","v":""}]
[null,null,null,null,null,null,null,null,null,null,null,null,null,{"$f":"IF(ISNUMBER(SEARCH($H$16,Q1144)),MAX($N$1:N1143)+1,0)","v":0},{"$f":"IF(ISNUMBER(SEARCH($H$11,Q1144)),MAX($O$1:O1143)+1,0)","v":0},{"$f":"IF(ISNUMBER(SEARCH($H$6,Q1144)),MAX($P$1:P1143)+1,0)","v":0},"baroda pioneer mip fund","MBO016","MIP Aggressive",null,null,null,null,null,null,null,null,null,null,null,{"$f":"IFERROR(VLOOKUP(ROWS($AE$2:AE1144),P1144:Q3047,2,0),\"\")","v":""},null,null,null,null,{"$f":"IFERROR(VLOOKUP(ROWS($AJ$2:AJ1144),O1144:Q3047,3,0),\"\")","v":""},null,{"$f":"IFERROR(VLOOKUP(ROWS(AL$2:$AL1144),N1144:Q3047,4,0),\"\")","v":""}]
[null,null,null,null,null,null,null,null,null,null,null,null,null,{"$f":"IF(ISNUMBER(SEARCH($H$16,Q1145)),MAX($N$1:N1144)+1,0)","v":0},{"$f":"IF(ISNUMBER(SEARCH($H$11,Q1145)),MAX($O$1:O1144)+1,0)","v":0},{"$f":"IF(ISNUMBER(SEARCH($H$6,Q1145)),MAX($P$1:P1144)+1,0)","v":0},"bnp paribas mip","MAB003","MIP Aggressive",null,null,null,null,null,null,null,null,null,null,null,{"$f":"IFERROR(VLOOKUP(ROWS($AE$2:AE1145),P1145:Q3048,2,0),\"\")","v":""},null,null,null,null,{"$f":"IFERROR(VLOOKUP(ROWS($AJ$2:AJ1145),O1145:Q3048,3,0),\"\")","v":""},null,{"$f":"IFERROR(VLOOKUP(ROWS(AL$2:$AL1145),N1145:Q3048,4,0),\"\")","v":""}]
[null,null,null,null,null,null,null,null,null,null,null,null,null,{"$f":"IF(ISNUMBER(SEARCH($H$16,Q1146)),MAX($N$1:N1145)+1,0)","v":0},{"$f":"IF(ISNUMBER(SEARCH($H$11,Q1146)),MAX($O$1:O1145)+1,0)","v":0},{"$f":"IF(ISNUMBER(SEARCH($H$6,Q1146)),MAX($P$1:P1145)+1,0)","v":0},"icici pru multi yield sr3 c rp","MPI1409","MIP Aggressive",null,null,null,null,null,null,null,null,null,null,null,{"$f":"IFERROR(VLOOKUP(ROWS($AE$2:AE1146),P1146:Q3049,2,0),\"\")","v":""},null,null,null,null,{"$f":"IFERROR(VLOOKUP(ROWS($AJ$2:AJ1146),O1146:Q3049,3,0),\"\")","v":""},null,{"$f":"IFERROR(VLOOKUP(ROWS(AL$2:$AL1146),N1146:Q3049,4,0),\"\")","v":""}]
[null,null,null,null,null,null,null,null,null,null,null,null,null,{"$f":"IF(ISNUMBER(SEARCH($H$16,Q1147)),MAX($N$1:N1146)+1,0)","v":0},{"$f":"IF(ISNUMBER(SEARCH($H$11,Q1147)),MAX($O$1:O1146)+1,0)","v":0},{"$f":"IF(ISNUMBER(SEARCH($H$6,Q1147)),MAX($P$1:P1146)+1,0)","v":0},"boi axa reg return rp","MBA047","MIP Aggressive",null,null,null,null,null,null,null,null,null,null,null,{"$f":"IFERROR(VLOOKUP(ROWS($AE$2:AE1147),P1147:Q3050,2,0),\"\")","v":""},null,null,null,null,{"$f":"IFERROR(VLOOKUP(ROWS($AJ$2:AJ1147),O1147:Q3050,3,0),\"\")","v":""},null,{"$f":"IFERROR(VLOOKUP(ROWS(AL$2:$AL1147),N1147:Q3050,4,0),\"\")","v":""}]
[null,null,null,null,null,null,null,null,null,null,null,null,null,{"$f":"IF(ISNUMBER(SEARCH($H$16,Q1148)),MAX($N$1:N1147)+1,0)","v":0},{"$f":"IF(ISNUMBER(SEARCH($H$11,Q1148)),MAX($O$1:O1147)+1,0)","v":0},{"$f":"IF(ISNUMBER(SEARCH($H$6,Q1148)),MAX($P$1:P1147)+1,0)","v":0},"boi axa reg return ep","MBA051","MIP Aggressive",null,null,null,null,null,null,null,null,null,null,null,{"$f":"IFERROR(VLOOKUP(ROWS($AE$2:AE1148),P1148:Q3051,2,0),\"\")","v":""},null,null,null,null,{"$f":"IFERROR(VLOOKUP(ROWS($AJ$2:AJ1148),O1148:Q3051,3,0),\"\")","v":""},null,{"$f":"IFERROR(VLOOKUP(ROWS(AL$2:$AL1148),N1148:Q3051,4,0),\"\")","v":""}]
[null,null,null,null,null,null,null,null,null,null,null,null,null,{"$f":"IF(ISNUMBER(SEARCH($H$16,Q1149)),MAX($N$1:N1148)+1,0)","v":0},{"$f":"IF(ISNUMBER(SEARCH($H$11,Q1149)),MAX($O$1:O1148)+1,0)","v":0},{"$f":"IF(ISNUMBER(SEARCH($H$6,Q1149)),MAX($P$1:P1148)+1,0)","v":0},"peerless income plus fund","MPM025","MIP Aggressive",null,null,null,null,null,null,null,null,null,null,null,{"$f":"IFERROR(VLOOKUP(ROWS($AE$2:AE1149),P1149:Q3052,2,0),\"\")","v":""},null,null,null,null,{"$f":"IFERROR(VLOOKUP(ROWS($AJ$2:AJ1149),O1149:Q3052,3,0),\"\")","v":""},null,{"$f":"IFERROR(VLOOKUP(ROWS(AL$2:$AL1149),N1149:Q3052,4,0),\"\")","v":""}]
[null,null,null,null,null,null,null,null,null,null,null,null,null,{"$f":"IF(ISNUMBER(SEARCH($H$16,Q1150)),MAX($N$1:N1149)+1,0)","v":0},{"$f":"IF(ISNUMBER(SEARCH($H$11,Q1150)),MAX($O$1:O1149)+1,0)","v":0},{"$f":"IF(ISNUMBER(SEARCH($H$6,Q1150)),MAX($P$1:P1149)+1,0)","v":0},"pramerica dynamic mif","MPA020","MIP Aggressive",null,null,null,null,null,null,null,null,null,null,null,{"$f":"IFERROR(VLOOKUP(ROWS($AE$2:AE1150),P1150:Q3053,2,0),\"\")","v":""},null,null,null,null,{"$f":"IFERROR(VLOOKUP(ROWS($AJ$2:AJ1150),O1150:Q3053,3,0),\"\")","v":""},null,{"$f":"IFERROR(VLOOKUP(ROWS(AL$2:$AL1150),N1150:Q3053,4,0),\"\")","v":""}]
[null,null,null,null,null,null,null,null,null,null,null,null,null,{"$f":"IF(ISNUMBER(SEARCH($H$16,Q1151)),MAX($N$1:N1150)+1,0)","v":0},{"$f":"IF(ISNUMBER(SEARCH($H$11,Q1151)),MAX($O$1:O1150)+1,0)","v":0},{"$f":"IF(ISNUMBER(SEARCH($H$6,Q1151)),MAX($P$1:P1150)+1,0)","v":0},"idbi monthly income plan","MIB013","MIP Aggressive",null,null,null,null,null,null,null,null,null,null,null,{"$f":"IFERROR(VLOOKUP(ROWS($AE$2:AE1151),P1151:Q3054,2,0),\"\")","v":""},null,null,null,null,{"$f":"IFERROR(VLOOKUP(ROWS($AJ$2:AJ1151),O1151:Q3054,3,0),\"\")","v":""},null,{"$f":"IFERROR(VLOOKUP(ROWS(AL$2:$AL1151),N1151:Q3054,4,0),\"\")","v":""}]
[null,null,null,null,null,null,null,null,null,null,null,null,null,{"$f":"IF(ISNUMBER(SEARCH($H$16,Q1152)),MAX($N$1:N1151)+1,0)","v":0},{"$f":"IF(ISNUMBER(SEARCH($H$11,Q1152)),MAX($O$1:O1151)+1,0)","v":0},{"$f":"IF(ISNUMBER(SEARCH($H$6,Q1152)),MAX($P$1:P1151)+1,0)","v":0},"religare invesco mip","MLI360","MIP Aggressive",null,null,null,null,null,null,null,null,null,null,null,{"$f":"IFERROR(VLOOKUP(ROWS($AE$2:AE1152),P1152:Q3055,2,0),\"\")","v":""},null,null,null,null,{"$f":"IFERROR(VLOOKUP(ROWS($AJ$2:AJ1152),O1152:Q3055,3,0),\"\")","v":""},null,{"$f":"IFERROR(VLOOKUP(ROWS(AL$2:$AL1152),N1152:Q3055,4,0),\"\")","v":""}]
[null,null,null,null,null,null,null,null,null,null,null,null,null,{"$f":"IF(ISNUMBER(SEARCH($H$16,Q1153)),MAX($N$1:N1152)+1,0)","v":0},{"$f":"IF(ISNUMBER(SEARCH($H$11,Q1153)),MAX($O$1:O1152)+1,0)","v":0},{"$f":"IF(ISNUMBER(SEARCH($H$6,Q1153)),MAX($P$1:P1152)+1,0)","v":0},"hdfc multiple yield 2005 dp","MHD1219","MIP Aggressive",null,null,null,null,null,null,null,null,null,null,null,{"$f":"IFERROR(VLOOKUP(ROWS($AE$2:AE1153),P1153:Q3056,2,0),\"\")","v":""},null,null,null,null,{"$f":"IFERROR(VLOOKUP(ROWS($AJ$2:AJ1153),O1153:Q3056,3,0),\"\")","v":""},null,{"$f":"IFERROR(VLOOKUP(ROWS(AL$2:$AL1153),N1153:Q3056,4,0),\"\")","v":""}]
[null,null,null,null,null,null,null,null,null,null,null,null,null,{"$f":"IF(ISNUMBER(SEARCH($H$16,Q1154)),MAX($N$1:N1153)+1,0)","v":0},{"$f":"IF(ISNUMBER(SEARCH($H$11,Q1154)),MAX($O$1:O1153)+1,0)","v":0},{"$f":"IF(ISNUMBER(SEARCH($H$6,Q1154)),MAX($P$1:P1153)+1,0)","v":0},"taurus mip advantage fund","MCM070","MIP Aggressive",null,null,null,null,null,null,null,null,null,null,null,{"$f":"IFERROR(VLOOKUP(ROWS($AE$2:AE1154),P1154:Q3057,2,0),\"\")","v":""},null,null,null,null,{"$f":"IFERROR(VLOOKUP(ROWS($AJ$2:AJ1154),O1154:Q3057,3,0),\"\")","v":""},null,{"$f":"IFERROR(VLOOKUP(ROWS(AL$2:$AL1154),N1154:Q3057,4,0),\"\")","v":""}]
[null,null,null,null,null,null,null,null,null,null,null,null,null,{"$f":"IF(ISNUMBER(SEARCH($H$16,Q1155)),MAX($N$1:N1154)+1,0)","v":0},{"$f":"IF(ISNUMBER(SEARCH($H$11,Q1155)),MAX($O$1:O1154)+1,0)","v":0},{"$f":"IF(ISNUMBER(SEARCH($H$6,Q1155)),MAX($P$1:P1154)+1,0)","v":0},"hdfc multiple yield 2005","MHD050","MIP Aggressive",null,null,null,null,null,null,null,null,null,null,null,{"$f":"IFERROR(VLOOKUP(ROWS($AE$2:AE1155),P1155:Q3058,2,0),\"\")","v":""},null,null,null,null,{"$f":"IFERROR(VLOOKUP(ROWS($AJ$2:AJ1155),O1155:Q3058,3,0),\"\")","v":""},null,{"$f":"IFERROR(VLOOKUP(ROWS(AL$2:$AL1155),N1155:Q3058,4,0),\"\")","v":""}]
[null,null,null,null,null,null,null,null,null,null,null,null,null,{"$f":"IF(ISNUMBER(SEARCH($H$16,Q1156)),MAX($N$1:N1155)+1,0)","v":0},{"$f":"IF(ISNUMBER(SEARCH($H$11,Q1156)),MAX($O$1:O1155)+1,0)","v":0},{"$f":"IF(ISNUMBER(SEARCH($H$6,Q1156)),MAX($P$1:P1155)+1,0)","v":0},"hdfc mip stp","MHD038","MIP Aggressive",null,null,null,null,null,null,null,null,null,null,null,{"$f":"IFERROR(VLOOKUP(ROWS($AE$2:AE1156),P1156:Q3059,2,0),\"\")","v":""},null,null,null,null,{"$f":"IFERROR(VLOOKUP(ROWS($AJ$2:AJ1156),O1156:Q3059,3,0),\"\")","v":""},null,{"$f":"IFERROR(VLOOKUP(ROWS(AL$2:$AL1156),N1156:Q3059,4,0),\"\")","v":""}]
[null,null,null,null,null,null,null,null,null,null,null,null,null,{"$f":"IF(ISNUMBER(SEARCH($H$16,Q1157)),MAX($N$1:N1156)+1,0)","v":0},{"$f":"IF(ISNUMBER(SEARCH($H$11,Q1157)),MAX($O$1:O1156)+1,0)","v":0},{"$f":"IF(ISNUMBER(SEARCH($H$6,Q1157)),MAX($P$1:P1156)+1,0)","v":0},"sundaram mip moderate","MSN048","MIP Aggressive",null,null,null,null,null,null,null,null,null,null,null,{"$f":"IFERROR(VLOOKUP(ROWS($AE$2:AE1157),P1157:Q3060,2,0),\"\")","v":""},null,null,null,null,{"$f":"IFERROR(VLOOKUP(ROWS($AJ$2:AJ1157),O1157:Q3060,3,0),\"\")","v":""},null,{"$f":"IFERROR(VLOOKUP(ROWS(AL$2:$AL1157),N1157:Q3060,4,0),\"\")","v":""}]
[null,null,null,null,null,null,null,null,null,null,null,null,null,{"$f":"IF(ISNUMBER(SEARCH($H$16,Q1158)),MAX($N$1:N1157)+1,0)","v":0},{"$f":"IF(ISNUMBER(SEARCH($H$11,Q1158)),MAX($O$1:O1157)+1,0)","v":0},{"$f":"IF(ISNUMBER(SEARCH($H$6,Q1158)),MAX($P$1:P1157)+1,0)","v":0},"lic nomura mip","MJB020","MIP Aggressive",null,null,null,null,null,null,null,null,null,null,null,{"$f":"IFERROR(VLOOKUP(ROWS($AE$2:AE1158),P1158:Q3061,2,0),\"\")","v":""},null,null,null,null,{"$f":"IFERROR(VLOOKUP(ROWS($AJ$2:AJ1158),O1158:Q3061,3,0),\"\")","v":""},null,{"$f":"IFERROR(VLOOKUP(ROWS(AL$2:$AL1158),N1158:Q3061,4,0),\"\")","v":""}]
[null,null,null,null,null,null,null,null,null,null,null,null,null,{"$f":"IF(ISNUMBER(SEARCH($H$16,Q1159)),MAX($N$1:N1158)+1,0)","v":0},{"$f":"IF(ISNUMBER(SEARCH($H$11,Q1159)),MAX($O$1:O1158)+1,0)","v":0},{"$f":"IF(ISNUMBER(SEARCH($H$6,Q1159)),MAX($P$1:P1158)+1,0)","v":0},"religare invesco mip plus dp","MLI578","MIP Aggressive",null,null,null,null,null,null,null,null,null,null,null,{"$f":"IFERROR(VLOOKUP(ROWS($AE$2:AE1159),P1159:Q3062,2,0),\"\")","v":""},null,null,null,null,{"$f":"IFERROR(VLOOKUP(ROWS($AJ$2:AJ1159),O1159:Q3062,3,0),\"\")","v":""},null,{"$f":"IFERROR(VLOOKUP(ROWS(AL$2:$AL1159),N1159:Q3062,4,0),\"\")","v":""}]
[null,null,null,null,null,null,null,null,null,null,null,null,null,{"$f":"IF(ISNUMBER(SEARCH($H$16,Q1160)),MAX($N$1:N1159)+1,0)","v":0},{"$f":"IF(ISNUMBER(SEARCH($H$11,Q1160)),MAX($O$1:O1159)+1,0)","v":0},{"$f":"IF(ISNUMBER(SEARCH($H$6,Q1160)),MAX($P$1:P1159)+1,0)","v":0},"sahara classic fund","MFI041","MIP Aggressive",null,null,null,null,null,null,null,null,null,null,null,{"$f":"IFERROR(VLOOKUP(ROWS($AE$2:AE1160),P1160:Q3063,2,0),\"\")","v":""},null,null,null,null,{"$f":"IFERROR(VLOOKUP(ROWS($AJ$2:AJ1160),O1160:Q3063,3,0),\"\")","v":""},null,{"$f":"IFERROR(VLOOKUP(ROWS(AL$2:$AL1160),N1160:Q3063,4,0),\"\")","v":""}]
[null,null,null,null,null,null,null,null,null,null,null,null,null,{"$f":"IF(ISNUMBER(SEARCH($H$16,Q1161)),MAX($N$1:N1160)+1,0)","v":0},{"$f":"IF(ISNUMBER(SEARCH($H$11,Q1161)),MAX($O$1:O1160)+1,0)","v":0},{"$f":"IF(ISNUMBER(SEARCH($H$6,Q1161)),MAX($P$1:P1160)+1,0)","v":0},"religare invesco mi mip plus","MLI362","MIP Aggressive",null,null,null,null,null,null,null,null,null,null,null,{"$f":"IFERROR(VLOOKUP(ROWS($AE$2:AE1161),P1161:Q3064,2,0),\"\")","v":""},null,null,null,null,{"$f":"IFERROR(VLOOKUP(ROWS($AJ$2:AJ1161),O1161:Q3064,3,0),\"\")","v":""},null,{"$f":"IFERROR(VLOOKUP(ROWS(AL$2:$AL1161),N1161:Q3064,4,0),\"\")","v":""}]
[null,null,null,null,null,null,null,null,null,null,null,null,null,{"$f":"IF(ISNUMBER(SEARCH($H$16,Q1162)),MAX($N$1:N1161)+1,0)","v":0},{"$f":"IF(ISNUMBER(SEARCH($H$11,Q1162)),MAX($O$1:O1161)+1,0)","v":0},{"$f":"IF(ISNUMBER(SEARCH($H$6,Q1162)),MAX($P$1:P1161)+1,0)","v":0},"jpmorgan india hybrid sr 1","MJP064","MIP Aggressive",null,null,null,null,null,null,null,null,null,null,null,{"$f":"IFERROR(VLOOKUP(ROWS($AE$2:AE1162),P1162:Q3065,2,0),\"\")","v":""},null,null,null,null,{"$f":"IFERROR(VLOOKUP(ROWS($AJ$2:AJ1162),O1162:Q3065,3,0),\"\")","v":""},null,{"$f":"IFERROR(VLOOKUP(ROWS(AL$2:$AL1162),N1162:Q3065,4,0),\"\")","v":""}]
[null,null,null,null,null,null,null,null,null,null,null,null,null,{"$f":"IF(ISNUMBER(SEARCH($H$16,Q1163)),MAX($N$1:N1162)+1,0)","v":0},{"$f":"IF(ISNUMBER(SEARCH($H$11,Q1163)),MAX($O$1:O1162)+1,0)","v":0},{"$f":"IF(ISNUMBER(SEARCH($H$6,Q1163)),MAX($P$1:P1162)+1,0)","v":0},"hdfc multiple yield fund","MHD046","MIP Aggressive",null,null,null,null,null,null,null,null,null,null,null,{"$f":"IFERROR(VLOOKUP(ROWS($AE$2:AE1163),P1163:Q3066,2,0),\"\")","v":""},null,null,null,null,{"$f":"IFERROR(VLOOKUP(ROWS($AJ$2:AJ1163),O1163:Q3066,3,0),\"\")","v":""},null,{"$f":"IFERROR(VLOOKUP(ROWS(AL$2:$AL1163),N1163:Q3066,4,0),\"\")","v":""}]
[null,null,null,null,null,null,null,null,null,null,null,null,null,{"$f":"IF(ISNUMBER(SEARCH($H$16,Q1164)),MAX($N$1:N1163)+1,0)","v":0},{"$f":"IF(ISNUMBER(SEARCH($H$11,Q1164)),MAX($O$1:O1163)+1,0)","v":0},{"$f":"IF(ISNUMBER(SEARCH($H$6,Q1164)),MAX($P$1:P1163)+1,0)","v":0},"icici pru multiple yield sr2 b","MPI961","MIP Aggressive",null,null,null,null,null,null,null,null,null,null,null,{"$f":"IFERROR(VLOOKUP(ROWS($AE$2:AE1164),P1164:Q3067,2,0),\"\")","v":""},null,null,null,null,{"$f":"IFERROR(VLOOKUP(ROWS($AJ$2:AJ1164),O1164:Q3067,3,0),\"\")","v":""},null,{"$f":"IFERROR(VLOOKUP(ROWS(AL$2:$AL1164),N1164:Q3067,4,0),\"\")","v":""}]
[null,null,null,null,null,null,null,null,null,null,null,null,null,{"$f":"IF(ISNUMBER(SEARCH($H$16,Q1165)),MAX($N$1:N1164)+1,0)","v":0},{"$f":"IF(ISNUMBER(SEARCH($H$11,Q1165)),MAX($O$1:O1164)+1,0)","v":0},{"$f":"IF(ISNUMBER(SEARCH($H$6,Q1165)),MAX($P$1:P1164)+1,0)","v":0},"sbi magnum mip direct","MSB538","MIP Conservative",null,null,null,null,null,null,null,null,null,null,null,{"$f":"IFERROR(VLOOKUP(ROWS($AE$2:AE1165),P1165:Q3068,2,0),\"\")","v":""},null,null,null,null,{"$f":"IFERROR(VLOOKUP(ROWS($AJ$2:AJ1165),O1165:Q3068,3,0),\"\")","v":""},null,{"$f":"IFERROR(VLOOKUP(ROWS(AL$2:$AL1165),N1165:Q3068,4,0),\"\")","v":""}]
[null,null,null,null,null,null,null,null,null,null,null,null,null,{"$f":"IF(ISNUMBER(SEARCH($H$16,Q1166)),MAX($N$1:N1165)+1,0)","v":0},{"$f":"IF(ISNUMBER(SEARCH($H$11,Q1166)),MAX($O$1:O1165)+1,0)","v":0},{"$f":"IF(ISNUMBER(SEARCH($H$6,Q1166)),MAX($P$1:P1165)+1,0)","v":0},"sundaram cpof sr 4 2 yrs","MSN481","MIP Conservative",null,null,null,null,null,null,null,null,null,null,null,{"$f":"IFERROR(VLOOKUP(ROWS($AE$2:AE1166),P1166:Q3069,2,0),\"\")","v":""},null,null,null,null,{"$f":"IFERROR(VLOOKUP(ROWS($AJ$2:AJ1166),O1166:Q3069,3,0),\"\")","v":""},null,{"$f":"IFERROR(VLOOKUP(ROWS(AL$2:$AL1166),N1166:Q3069,4,0),\"\")","v":""}]
[null,null,null,null,null,null,null,null,null,null,null,null,null,{"$f":"IF(ISNUMBER(SEARCH($H$16,Q1167)),MAX($N$1:N1166)+1,0)","v":0},{"$f":"IF(ISNUMBER(SEARCH($H$11,Q1167)),MAX($O$1:O1166)+1,0)","v":0},{"$f":"IF(ISNUMBER(SEARCH($H$6,Q1167)),MAX($P$1:P1166)+1,0)","v":0},"sbi magnum mip","MSB021","MIP Conservative",null,null,null,null,null,null,null,null,null,null,null,{"$f":"IFERROR(VLOOKUP(ROWS($AE$2:AE1167),P1167:Q3070,2,0),\"\")","v":""},null,null,null,null,{"$f":"IFERROR(VLOOKUP(ROWS($AJ$2:AJ1167),O1167:Q3070,3,0),\"\")","v":""},null,{"$f":"IFERROR(VLOOKUP(ROWS(AL$2:$AL1167),N1167:Q3070,4,0),\"\")","v":""}]
[null,null,null,null,null,null,null,null,null,null,null,null,null,{"$f":"IF(ISNUMBER(SEARCH($H$16,Q1168)),MAX($N$1:N1167)+1,0)","v":0},{"$f":"IF(ISNUMBER(SEARCH($H$11,Q1168)),MAX($O$1:O1167)+1,0)","v":0},{"$f":"IF(ISNUMBER(SEARCH($H$6,Q1168)),MAX($P$1:P1167)+1,0)","v":0},"birla sl monthly income","MAC008","MIP Conservative",null,null,null,null,null,null,null,null,null,null,null,{"$f":"IFERROR(VLOOKUP(ROWS($AE$2:AE1168),P1168:Q3071,2,0),\"\")","v":""},null,null,null,null,{"$f":"IFERROR(VLOOKUP(ROWS($AJ$2:AJ1168),O1168:Q3071,3,0),\"\")","v":""},null,{"$f":"IFERROR(VLOOKUP(ROWS(AL$2:$AL1168),N1168:Q3071,4,0),\"\")","v":""}]
[null,null,null,null,null,null,null,null,null,null,null,null,null,{"$f":"IF(ISNUMBER(SEARCH($H$16,Q1169)),MAX($N$1:N1168)+1,0)","v":0},{"$f":"IF(ISNUMBER(SEARCH($H$11,Q1169)),MAX($O$1:O1168)+1,0)","v":0},{"$f":"IF(ISNUMBER(SEARCH($H$6,Q1169)),MAX($P$1:P1168)+1,0)","v":0},"sbi magnum mip floater","MSB075","MIP Conservative",null,null,null,null,null,null,null,null,null,null,null,{"$f":"IFERROR(VLOOKUP(ROWS($AE$2:AE1169),P1169:Q3072,2,0),\"\")","v":""},null,null,null,null,{"$f":"IFERROR(VLOOKUP(ROWS($AJ$2:AJ1169),O1169:Q3072,3,0),\"\")","v":""},null,{"$f":"IFERROR(VLOOKUP(ROWS(AL$2:$AL1169),N1169:Q3072,4,0),\"\")","v":""}]
[null,null,null,null,null,null,null,null,null,null,null,null,null,{"$f":"IF(ISNUMBER(SEARCH($H$16,Q1170)),MAX($N$1:N1169)+1,0)","v":0},{"$f":"IF(ISNUMBER(SEARCH($H$11,Q1170)),MAX($O$1:O1169)+1,0)","v":0},{"$f":"IF(ISNUMBER(SEARCH($H$6,Q1170)),MAX($P$1:P1169)+1,0)","v":0},"birla sl mip ii savings 5 dp","MBS862","MIP Conservative",null,null,null,null,null,null,null,null,null,null,null,{"$f":"IFERROR(VLOOKUP(ROWS($AE$2:AE1170),P1170:Q3073,2,0),\"\")","v":""},null,null,null,null,{"$f":"IFERROR(VLOOKUP(ROWS($AJ$2:AJ1170),O1170:Q3073,3,0),\"\")","v":""},null,{"$f":"IFERROR(VLOOKUP(ROWS(AL$2:$AL1170),N1170:Q3073,4,0),\"\")","v":""}]
[null,null,null,null,null,null,null,null,null,null,null,null,null,{"$f":"IF(ISNUMBER(SEARCH($H$16,Q1171)),MAX($N$1:N1170)+1,0)","v":0},{"$f":"IF(ISNUMBER(SEARCH($H$11,Q1171)),MAX($O$1:O1170)+1,0)","v":0},{"$f":"IF(ISNUMBER(SEARCH($H$6,Q1171)),MAX($P$1:P1170)+1,0)","v":0},"icici prudential regular income dir","MPI1165","MIP Conservative",null,null,null,null,null,null,null,null,null,null,null,{"$f":"IFERROR(VLOOKUP(ROWS($AE$2:AE1171),P1171:Q3074,2,0),\"\")","v":""},null,null,null,null,{"$f":"IFERROR(VLOOKUP(ROWS($AJ$2:AJ1171),O1171:Q3074,3,0),\"\")","v":""},null,{"$f":"IFERROR(VLOOKUP(ROWS(AL$2:$AL1171),N1171:Q3074,4,0),\"\")","v":""}]
[null,null,null,null,null,null,null,null,null,null,null,null,null,{"$f":"IF(ISNUMBER(SEARCH($H$16,Q1172)),MAX($N$1:N1171)+1,0)","v":0},{"$f":"IF(ISNUMBER(SEARCH($H$11,Q1172)),MAX($O$1:O1171)+1,0)","v":0},{"$f":"IF(ISNUMBER(SEARCH($H$6,Q1172)),MAX($P$1:P1171)+1,0)","v":0},"birla sl mip ii savings 5","MBS064","MIP Conservative",null,null,null,null,null,null,null,null,null,null,null,{"$f":"IFERROR(VLOOKUP(ROWS($AE$2:AE1172),P1172:Q3075,2,0),\"\")","v":""},null,null,null,null,{"$f":"IFERROR(VLOOKUP(ROWS($AJ$2:AJ1172),O1172:Q3075,3,0),\"\")","v":""},null,{"$f":"IFERROR(VLOOKUP(ROWS(AL$2:$AL1172),N1172:Q3075,4,0),\"\")","v":""}]
[null,null,null,null,null,null,null,null,null,null,null,null,null,{"$f":"IF(ISNUMBER(SEARCH($H$16,Q1173)),MAX($N$1:N1172)+1,0)","v":0},{"$f":"IF(ISNUMBER(SEARCH($H$11,Q1173)),MAX($O$1:O1172)+1,0)","v":0},{"$f":"IF(ISNUMBER(SEARCH($H$6,Q1173)),MAX($P$1:P1172)+1,0)","v":0},"icici prudential regular income","MPI867","MIP Conservative",null,null,null,null,null,null,null,null,null,null,null,{"$f":"IFERROR(VLOOKUP(ROWS($AE$2:AE1173),P1173:Q3076,2,0),\"\")","v":""},null,null,null,null,{"$f":"IFERROR(VLOOKUP(ROWS($AJ$2:AJ1173),O1173:Q3076,3,0),\"\")","v":""},null,{"$f":"IFERROR(VLOOKUP(ROWS(AL$2:$AL1173),N1173:Q3076,4,0),\"\")","v":""}]
[null,null,null,null,null,null,null,null,null,null,null,null,null,{"$f":"IF(ISNUMBER(SEARCH($H$16,Q1174)),MAX($N$1:N1173)+1,0)","v":0},{"$f":"IF(ISNUMBER(SEARCH($H$11,Q1174)),MAX($O$1:O1173)+1,0)","v":0},{"$f":"IF(ISNUMBER(SEARCH($H$6,Q1174)),MAX($P$1:P1173)+1,0)","v":0},"icici pru mip","MPI019","MIP Conservative",null,null,null,null,null,null,null,null,null,null,null,{"$f":"IFERROR(VLOOKUP(ROWS($AE$2:AE1174),P1174:Q3077,2,0),\"\")","v":""},null,null,null,null,{"$f":"IFERROR(VLOOKUP(ROWS($AJ$2:AJ1174),O1174:Q3077,3,0),\"\")","v":""},null,{"$f":"IFERROR(VLOOKUP(ROWS(AL$2:$AL1174),N1174:Q3077,4,0),\"\")","v":""}]
[null,null,null,null,null,null,null,null,null,null,null,null,null,{"$f":"IF(ISNUMBER(SEARCH($H$16,Q1175)),MAX($N$1:N1174)+1,0)","v":0},{"$f":"IF(ISNUMBER(SEARCH($H$11,Q1175)),MAX($O$1:O1174)+1,0)","v":0},{"$f":"IF(ISNUMBER(SEARCH($H$6,Q1175)),MAX($P$1:P1174)+1,0)","v":0},"sundaram mip conservative","MSN352","MIP Conservative",null,null,null,null,null,null,null,null,null,null,null,{"$f":"IFERROR(VLOOKUP(ROWS($AE$2:AE1175),P1175:Q3078,2,0),\"\")","v":""},null,null,null,null,{"$f":"IFERROR(VLOOKUP(ROWS($AJ$2:AJ1175),O1175:Q3078,3,0),\"\")","v":""},null,{"$f":"IFERROR(VLOOKUP(ROWS(AL$2:$AL1175),N1175:Q3078,4,0),\"\")","v":""}]
[null,null,null,null,null,null,null,null,null,null,null,null,null,{"$f":"IF(ISNUMBER(SEARCH($H$16,Q1176)),MAX($N$1:N1175)+1,0)","v":0},{"$f":"IF(ISNUMBER(SEARCH($H$11,Q1176)),MAX($O$1:O1175)+1,0)","v":0},{"$f":"IF(ISNUMBER(SEARCH($H$6,Q1176)),MAX($P$1:P1175)+1,0)","v":0},"sundaram cpof sr 7 3 yrs","MSN493","MIP Conservative",null,null,null,null,null,null,null,null,null,null,null,{"$f":"IFERROR(VLOOKUP(ROWS($AE$2:AE1176),P1176:Q3079,2,0),\"\")","v":""},null,null,null,null,{"$f":"IFERROR(VLOOKUP(ROWS($AJ$2:AJ1176),O1176:Q3079,3,0),\"\")","v":""},null,{"$f":"IFERROR(VLOOKUP(ROWS(AL$2:$AL1176),N1176:Q3079,4,0),\"\")","v":""}]
[null,null,null,null,null,null,null,null,null,null,null,null,null,{"$f":"IF(ISNUMBER(SEARCH($H$16,Q1177)),MAX($N$1:N1176)+1,0)","v":0},{"$f":"IF(ISNUMBER(SEARCH($H$11,Q1177)),MAX($O$1:O1176)+1,0)","v":0},{"$f":"IF(ISNUMBER(SEARCH($H$6,Q1177)),MAX($P$1:P1176)+1,0)","v":0},"uti monthly income scheme","MUT041","MIP Conservative",null,null,null,null,null,null,null,null,null,null,null,{"$f":"IFERROR(VLOOKUP(ROWS($AE$2:AE1177),P1177:Q3080,2,0),\"\")","v":""},null,null,null,null,{"$f":"IFERROR(VLOOKUP(ROWS($AJ$2:AJ1177),O1177:Q3080,3,0),\"\")","v":""},null,{"$f":"IFERROR(VLOOKUP(ROWS(AL$2:$AL1177),N1177:Q3080,4,0),\"\")","v":""}]
[null,null,null,null,null,null,null,null,null,null,null,null,null,{"$f":"IF(ISNUMBER(SEARCH($H$16,Q1178)),MAX($N$1:N1177)+1,0)","v":0},{"$f":"IF(ISNUMBER(SEARCH($H$11,Q1178)),MAX($O$1:O1177)+1,0)","v":0},{"$f":"IF(ISNUMBER(SEARCH($H$6,Q1178)),MAX($P$1:P1177)+1,0)","v":0},"hsbc mip regular plan","MHS027","MIP Conservative",null,null,null,null,null,null,null,null,null,null,null,{"$f":"IFERROR(VLOOKUP(ROWS($AE$2:AE1178),P1178:Q3081,2,0),\"\")","v":""},null,null,null,null,{"$f":"IFERROR(VLOOKUP(ROWS($AJ$2:AJ1178),O1178:Q3081,3,0),\"\")","v":""},null,{"$f":"IFERROR(VLOOKUP(ROWS(AL$2:$AL1178),N1178:Q3081,4,0),\"\")","v":""}]
[null,null,null,null,null,null,null,null,null,null,null,null,null,{"$f":"IF(ISNUMBER(SEARCH($H$16,Q1179)),MAX($N$1:N1178)+1,0)","v":0},{"$f":"IF(ISNUMBER(SEARCH($H$11,Q1179)),MAX($O$1:O1178)+1,0)","v":0},{"$f":"IF(ISNUMBER(SEARCH($H$6,Q1179)),MAX($P$1:P1178)+1,0)","v":0},"tata monthly income fund","MTA055","MIP Conservative",null,null,null,null,null,null,null,null,null,null,null,{"$f":"IFERROR(VLOOKUP(ROWS($AE$2:AE1179),P1179:Q3082,2,0),\"\")","v":""},null,null,null,null,{"$f":"IFERROR(VLOOKUP(ROWS($AJ$2:AJ1179),O1179:Q3082,3,0),\"\")","v":""},null,{"$f":"IFERROR(VLOOKUP(ROWS(AL$2:$AL1179),N1179:Q3082,4,0),\"\")","v":""}]
[null,null,null,null,null,null,null,null,null,null,null,null,null,{"$f":"IF(ISNUMBER(SEARCH($H$16,Q1180)),MAX($N$1:N1179)+1,0)","v":0},{"$f":"IF(ISNUMBER(SEARCH($H$11,Q1180)),MAX($O$1:O1179)+1,0)","v":0},{"$f":"IF(ISNUMBER(SEARCH($H$6,Q1180)),MAX($P$1:P1179)+1,0)","v":0},"birla sun life mip","MBS019","MIP Conservative",null,null,null,null,null,null,null,null,null,null,null,{"$f":"IFERROR(VLOOKUP(ROWS($AE$2:AE1180),P1180:Q3083,2,0),\"\")","v":""},null,null,null,null,{"$f":"IFERROR(VLOOKUP(ROWS($AJ$2:AJ1180),O1180:Q3083,3,0),\"\")","v":""},null,{"$f":"IFERROR(VLOOKUP(ROWS(AL$2:$AL1180),N1180:Q3083,4,0),\"\")","v":""}]
[null,null,null,null,null,null,null,null,null,null,null,null,null,{"$f":"IF(ISNUMBER(SEARCH($H$16,Q1181)),MAX($N$1:N1180)+1,0)","v":0},{"$f":"IF(ISNUMBER(SEARCH($H$11,Q1181)),MAX($O$1:O1180)+1,0)","v":0},{"$f":"IF(ISNUMBER(SEARCH($H$6,Q1181)),MAX($P$1:P1180)+1,0)","v":0},"principal debt sav mip","MID035","MIP Conservative",null,null,null,null,null,null,null,null,null,null,null,{"$f":"IFERROR(VLOOKUP(ROWS($AE$2:AE1181),P1181:Q3084,2,0),\"\")","v":""},null,null,null,null,{"$f":"IFERROR(VLOOKUP(ROWS($AJ$2:AJ1181),O1181:Q3084,3,0),\"\")","v":""},null,{"$f":"IFERROR(VLOOKUP(ROWS(AL$2:$AL1181),N1181:Q3084,4,0),\"\")","v":""}]
[null,null,null,null,null,null,null,null,null,null,null,null,null,{"$f":"IF(ISNUMBER(SEARCH($H$16,Q1182)),MAX($N$1:N1181)+1,0)","v":0},{"$f":"IF(ISNUMBER(SEARCH($H$11,Q1182)),MAX($O$1:O1181)+1,0)","v":0},{"$f":"IF(ISNUMBER(SEARCH($H$6,Q1182)),MAX($P$1:P1181)+1,0)","v":0},"sundaram cpof sr 3 5 yrs","MSN478","MIP Conservative",null,null,null,null,null,null,null,null,null,null,null,{"$f":"IFERROR(VLOOKUP(ROWS($AE$2:AE1182),P1182:Q3085,2,0),\"\")","v":""},null,null,null,null,{"$f":"IFERROR(VLOOKUP(ROWS($AJ$2:AJ1182),O1182:Q3085,3,0),\"\")","v":""},null,{"$f":"IFERROR(VLOOKUP(ROWS(AL$2:$AL1182),N1182:Q3085,4,0),\"\")","v":""}]
[null,null,null,null,null,null,null,null,null,null,null,null,null,{"$f":"IF(ISNUMBER(SEARCH($H$16,Q1183)),MAX($N$1:N1182)+1,0)","v":0},{"$f":"IF(ISNUMBER(SEARCH($H$11,Q1183)),MAX($O$1:O1182)+1,0)","v":0},{"$f":"IF(ISNUMBER(SEARCH($H$6,Q1183)),MAX($P$1:P1182)+1,0)","v":0},"jm monthly income plan","MJM042","MIP Conservative",null,null,null,null,null,null,null,null,null,null,null,{"$f":"IFERROR(VLOOKUP(ROWS($AE$2:AE1183),P1183:Q3086,2,0),\"\")","v":""},null,null,null,null,{"$f":"IFERROR(VLOOKUP(ROWS($AJ$2:AJ1183),O1183:Q3086,3,0),\"\")","v":""},null,{"$f":"IFERROR(VLOOKUP(ROWS(AL$2:$AL1183),N1183:Q3086,4,0),\"\")","v":""}]
[null,null,null,null,null,null,null,null,null,null,null,null,null,{"$f":"IF(ISNUMBER(SEARCH($H$16,Q1184)),MAX($N$1:N1183)+1,0)","v":0},{"$f":"IF(ISNUMBER(SEARCH($H$11,Q1184)),MAX($O$1:O1183)+1,0)","v":0},{"$f":"IF(ISNUMBER(SEARCH($H$6,Q1184)),MAX($P$1:P1183)+1,0)","v":0},"sundaram cpof sr 4 5 yrs","MSN485","MIP Conservative",null,null,null,null,null,null,null,null,null,null,null,{"$f":"IFERROR(VLOOKUP(ROWS($AE$2:AE1184),P1184:Q3087,2,0),\"\")","v":""},null,null,null,null,{"$f":"IFERROR(VLOOKUP(ROWS($AJ$2:AJ1184),O1184:Q3087,3,0),\"\")","v":""},null,{"$f":"IFERROR(VLOOKUP(ROWS(AL$2:$AL1184),N1184:Q3087,4,0),\"\")","v":""}]
[null,null,null,null,null,null,null,null,null,null,null,null,null,{"$f":"IF(ISNUMBER(SEARCH($H$16,Q1185)),MAX($N$1:N1184)+1,0)","v":0},{"$f":"IF(ISNUMBER(SEARCH($H$11,Q1185)),MAX($O$1:O1184)+1,0)","v":0},{"$f":"IF(ISNUMBER(SEARCH($H$6,Q1185)),MAX($P$1:P1184)+1,0)","v":0},"sundaram cpof sr 9 3 yrs","MSN537","MIP Conservative",null,null,null,null,null,null,null,null,null,null,null,{"$f":"IFERROR(VLOOKUP(ROWS($AE$2:AE1185),P1185:Q3088,2,0),\"\")","v":""},null,null,null,null,{"$f":"IFERROR(VLOOKUP(ROWS($AJ$2:AJ1185),O1185:Q3088,3,0),\"\")","v":""},null,{"$f":"IFERROR(VLOOKUP(ROWS(AL$2:$AL1185),N1185:Q3088,4,0),\"\")","v":""}]
[null,null,null,null,null,null,null,null,null,null,null,null,null,{"$f":"IF(ISNUMBER(SEARCH($H$16,Q1186)),MAX($N$1:N1185)+1,0)","v":0},{"$f":"IF(ISNUMBER(SEARCH($H$11,Q1186)),MAX($O$1:O1185)+1,0)","v":0},{"$f":"IF(ISNUMBER(SEARCH($H$6,Q1186)),MAX($P$1:P1185)+1,0)","v":0},"dws income advantage rp","MDE130","MIP Conservative",null,null,null,null,null,null,null,null,null,null,null,{"$f":"IFERROR(VLOOKUP(ROWS($AE$2:AE1186),P1186:Q3089,2,0),\"\")","v":""},null,null,null,null,{"$f":"IFERROR(VLOOKUP(ROWS($AJ$2:AJ1186),O1186:Q3089,3,0),\"\")","v":""},null,{"$f":"IFERROR(VLOOKUP(ROWS(AL$2:$AL1186),N1186:Q3089,4,0),\"\")","v":""}]
[null,null,null,null,null,null,null,null,null,null,null,null,null,{"$f":"IF(ISNUMBER(SEARCH($H$16,Q1187)),MAX($N$1:N1186)+1,0)","v":0},{"$f":"IF(ISNUMBER(SEARCH($H$11,Q1187)),MAX($O$1:O1186)+1,0)","v":0},{"$f":"IF(ISNUMBER(SEARCH($H$6,Q1187)),MAX($P$1:P1186)+1,0)","v":0},"can robeco yield advantage","MCA186","MIP Conservative",null,null,null,null,null,null,null,null,null,null,null,{"$f":"IFERROR(VLOOKUP(ROWS($AE$2:AE1187),P1187:Q3090,2,0),\"\")","v":""},null,null,null,null,{"$f":"IFERROR(VLOOKUP(ROWS($AJ$2:AJ1187),O1187:Q3090,3,0),\"\")","v":""},null,{"$f":"IFERROR(VLOOKUP(ROWS(AL$2:$AL1187),N1187:Q3090,4,0),\"\")","v":""}]
[null,null,null,null,null,null,null,null,null,null,null,null,null,{"$f":"IF(ISNUMBER(SEARCH($H$16,Q1188)),MAX($N$1:N1187)+1,0)","v":0},{"$f":"IF(ISNUMBER(SEARCH($H$11,Q1188)),MAX($O$1:O1187)+1,0)","v":0},{"$f":"IF(ISNUMBER(SEARCH($H$6,Q1188)),MAX($P$1:P1187)+1,0)","v":0},"dws income advantage ip","MDE132","MIP Conservative",null,null,null,null,null,null,null,null,null,null,null,{"$f":"IFERROR(VLOOKUP(ROWS($AE$2:AE1188),P1188:Q3091,2,0),\"\")","v":""},null,null,null,null,{"$f":"IFERROR(VLOOKUP(ROWS($AJ$2:AJ1188),O1188:Q3091,3,0),\"\")","v":""},null,{"$f":"IFERROR(VLOOKUP(ROWS(AL$2:$AL1188),N1188:Q3091,4,0),\"\")","v":""}]
[null,null,null,null,null,null,null,null,null,null,null,null,null,{"$f":"IF(ISNUMBER(SEARCH($H$16,Q1189)),MAX($N$1:N1188)+1,0)","v":0},{"$f":"IF(ISNUMBER(SEARCH($H$11,Q1189)),MAX($O$1:O1188)+1,0)","v":0},{"$f":"IF(ISNUMBER(SEARCH($H$6,Q1189)),MAX($P$1:P1188)+1,0)","v":0},"escorts liquid plan","MES016","Liquid",null,null,null,null,null,null,null,null,null,null,null,{"$f":"IFERROR(VLOOKUP(ROWS($AE$2:AE1189),P1189:Q3092,2,0),\"\")","v":""},null,null,null,null,{"$f":"IFERROR(VLOOKUP(ROWS($AJ$2:AJ1189),O1189:Q3092,3,0),\"\")","v":""},null,{"$f":"IFERROR(VLOOKUP(ROWS(AL$2:$AL1189),N1189:Q3092,4,0),\"\")","v":""}]
[null,null,null,null,null,null,null,null,null,null,null,null,null,{"$f":"IF(ISNUMBER(SEARCH($H$16,Q1190)),MAX($N$1:N1189)+1,0)","v":0},{"$f":"IF(ISNUMBER(SEARCH($H$11,Q1190)),MAX($O$1:O1189)+1,0)","v":0},{"$f":"IF(ISNUMBER(SEARCH($H$6,Q1190)),MAX($P$1:P1189)+1,0)","v":0},"sbi liquid fund ip","MSA004","Liquid",null,null,null,null,null,null,null,null,null,null,null,{"$f":"IFERROR(VLOOKUP(ROWS($AE$2:AE1190),P1190:Q3093,2,0),\"\")","v":""},null,null,null,null,{"$f":"IFERROR(VLOOKUP(ROWS($AJ$2:AJ1190),O1190:Q3093,3,0),\"\")","v":""},null,{"$f":"IFERROR(VLOOKUP(ROWS(AL$2:$AL1190),N1190:Q3093,4,0),\"\")","v":""}]
[null,null,null,null,null,null,null,null,null,null,null,null,null,{"$f":"IF(ISNUMBER(SEARCH($H$16,Q1191)),MAX($N$1:N1190)+1,0)","v":0},{"$f":"IF(ISNUMBER(SEARCH($H$11,Q1191)),MAX($O$1:O1190)+1,0)","v":0},{"$f":"IF(ISNUMBER(SEARCH($H$6,Q1191)),MAX($P$1:P1190)+1,0)","v":0},"principal money manager fund","MID160","Liquid",null,null,null,null,null,null,null,null,null,null,null,{"$f":"IFERROR(VLOOKUP(ROWS($AE$2:AE1191),P1191:Q3094,2,0),\"\")","v":""},null,null,null,null,{"$f":"IFERROR(VLOOKUP(ROWS($AJ$2:AJ1191),O1191:Q3094,3,0),\"\")","v":""},null,{"$f":"IFERROR(VLOOKUP(ROWS(AL$2:$AL1191),N1191:Q3094,4,0),\"\")","v":""}]
[null,null,null,null,null,null,null,null,null,null,null,null,null,{"$f":"IF(ISNUMBER(SEARCH($H$16,Q1192)),MAX($N$1:N1191)+1,0)","v":0},{"$f":"IF(ISNUMBER(SEARCH($H$11,Q1192)),MAX($O$1:O1191)+1,0)","v":0},{"$f":"IF(ISNUMBER(SEARCH($H$6,Q1192)),MAX($P$1:P1191)+1,0)","v":0},"jm high liquidity inst","MJM024","Liquid",null,null,null,null,null,null,null,null,null,null,null,{"$f":"IFERROR(VLOOKUP(ROWS($AE$2:AE1192),P1192:Q3095,2,0),\"\")","v":""},null,null,null,null,{"$f":"IFERROR(VLOOKUP(ROWS($AJ$2:AJ1192),O1192:Q3095,3,0),\"\")","v":""},null,{"$f":"IFERROR(VLOOKUP(ROWS(AL$2:$AL1192),N1192:Q3095,4,0),\"\")","v":""}]
[null,null,null,null,null,null,null,null,null,null,null,null,null,{"$f":"IF(ISNUMBER(SEARCH($H$16,Q1193)),MAX($N$1:N1192)+1,0)","v":0},{"$f":"IF(ISNUMBER(SEARCH($H$11,Q1193)),MAX($O$1:O1192)+1,0)","v":0},{"$f":"IF(ISNUMBER(SEARCH($H$6,Q1193)),MAX($P$1:P1192)+1,0)","v":0},"birla sl cash plus dap ","MBS465","Liquid",null,null,null,null,null,null,null,null,null,null,null,{"$f":"IFERROR(VLOOKUP(ROWS($AE$2:AE1193),P1193:Q3096,2,0),\"\")","v":""},null,null,null,null,{"$f":"IFERROR(VLOOKUP(ROWS($AJ$2:AJ1193),O1193:Q3096,3,0),\"\")","v":""},null,{"$f":"IFERROR(VLOOKUP(ROWS(AL$2:$AL1193),N1193:Q3096,4,0),\"\")","v":""}]
[null,null,null,null,null,null,null,null,null,null,null,null,null,{"$f":"IF(ISNUMBER(SEARCH($H$16,Q1194)),MAX($N$1:N1193)+1,0)","v":0},{"$f":"IF(ISNUMBER(SEARCH($H$11,Q1194)),MAX($O$1:O1193)+1,0)","v":0},{"$f":"IF(ISNUMBER(SEARCH($H$6,Q1194)),MAX($P$1:P1193)+1,0)","v":0},"franklin i tma liquid sip","MTE083","Liquid",null,null,null,null,null,null,null,null,null,null,null,{"$f":"IFERROR(VLOOKUP(ROWS($AE$2:AE1194),P1194:Q3097,2,0),\"\")","v":""},null,null,null,null,{"$f":"IFERROR(VLOOKUP(ROWS($AJ$2:AJ1194),O1194:Q3097,3,0),\"\")","v":""},null,{"$f":"IFERROR(VLOOKUP(ROWS(AL$2:$AL1194),N1194:Q3097,4,0),\"\")","v":""}]
[null,null,null,null,null,null,null,null,null,null,null,null,null,{"$f":"IF(ISNUMBER(SEARCH($H$16,Q1195)),MAX($N$1:N1194)+1,0)","v":0},{"$f":"IF(ISNUMBER(SEARCH($H$11,Q1195)),MAX($O$1:O1194)+1,0)","v":0},{"$f":"IF(ISNUMBER(SEARCH($H$6,Q1195)),MAX($P$1:P1194)+1,0)","v":0},"taurus liquid fund sip","MCM046","Liquid",null,null,null,null,null,null,null,null,null,null,null,{"$f":"IFERROR(VLOOKUP(ROWS($AE$2:AE1195),P1195:Q3098,2,0),\"\")","v":""},null,null,null,null,{"$f":"IFERROR(VLOOKUP(ROWS($AJ$2:AJ1195),O1195:Q3098,3,0),\"\")","v":""},null,{"$f":"IFERROR(VLOOKUP(ROWS(AL$2:$AL1195),N1195:Q3098,4,0),\"\")","v":""}]
[null,null,null,null,null,null,null,null,null,null,null,null,null,{"$f":"IF(ISNUMBER(SEARCH($H$16,Q1196)),MAX($N$1:N1195)+1,0)","v":0},{"$f":"IF(ISNUMBER(SEARCH($H$11,Q1196)),MAX($O$1:O1195)+1,0)","v":0},{"$f":"IF(ISNUMBER(SEARCH($H$6,Q1196)),MAX($P$1:P1195)+1,0)","v":0},"religare invesco liquid dp","MLI611","Liquid",null,null,null,null,null,null,null,null,null,null,null,{"$f":"IFERROR(VLOOKUP(ROWS($AE$2:AE1196),P1196:Q3099,2,0),\"\")","v":""},null,null,null,null,{"$f":"IFERROR(VLOOKUP(ROWS($AJ$2:AJ1196),O1196:Q3099,3,0),\"\")","v":""},null,{"$f":"IFERROR(VLOOKUP(ROWS(AL$2:$AL1196),N1196:Q3099,4,0),\"\")","v":""}]
[null,null,null,null,null,null,null,null,null,null,null,null,null,{"$f":"IF(ISNUMBER(SEARCH($H$16,Q1197)),MAX($N$1:N1196)+1,0)","v":0},{"$f":"IF(ISNUMBER(SEARCH($H$11,Q1197)),MAX($O$1:O1196)+1,0)","v":0},{"$f":"IF(ISNUMBER(SEARCH($H$6,Q1197)),MAX($P$1:P1196)+1,0)","v":0},"pramerica liquid fund","MPA001","Liquid",null,null,null,null,null,null,null,null,null,null,null,{"$f":"IFERROR(VLOOKUP(ROWS($AE$2:AE1197),P1197:Q3100,2,0),\"\")","v":""},null,null,null,null,{"$f":"IFERROR(VLOOKUP(ROWS($AJ$2:AJ1197),O1197:Q3100,3,0),\"\")","v":""},null,{"$f":"IFERROR(VLOOKUP(ROWS(AL$2:$AL1197),N1197:Q3100,4,0),\"\")","v":""}]
[null,null,null,null,null,null,null,null,null,null,null,null,null,{"$f":"IF(ISNUMBER(SEARCH($H$16,Q1198)),MAX($N$1:N1197)+1,0)","v":0},{"$f":"IF(ISNUMBER(SEARCH($H$11,Q1198)),MAX($O$1:O1197)+1,0)","v":0},{"$f":"IF(ISNUMBER(SEARCH($H$6,Q1198)),MAX($P$1:P1197)+1,0)","v":0},"principal cash management","MID086","Liquid",null,null,null,null,null,null,null,null,null,null,null,{"$f":"IFERROR(VLOOKUP(ROWS($AE$2:AE1198),P1198:Q3101,2,0),\"\")","v":""},null,null,null,null,{"$f":"IFERROR(VLOOKUP(ROWS($AJ$2:AJ1198),O1198:Q3101,3,0),\"\")","v":""},null,{"$f":"IFERROR(VLOOKUP(ROWS(AL$2:$AL1198),N1198:Q3101,4,0),\"\")","v":""}]
[null,null,null,null,null,null,null,null,null,null,null,null,null,{"$f":"IF(ISNUMBER(SEARCH($H$16,Q1199)),MAX($N$1:N1198)+1,0)","v":0},{"$f":"IF(ISNUMBER(SEARCH($H$11,Q1199)),MAX($O$1:O1198)+1,0)","v":0},{"$f":"IF(ISNUMBER(SEARCH($H$6,Q1199)),MAX($P$1:P1198)+1,0)","v":0},"jm high liquidity","MJM008","Liquid",null,null,null,null,null,null,null,null,null,null,null,{"$f":"IFERROR(VLOOKUP(ROWS($AE$2:AE1199),P1199:Q3102,2,0),\"\")","v":""},null,null,null,null,{"$f":"IFERROR(VLOOKUP(ROWS($AJ$2:AJ1199),O1199:Q3102,3,0),\"\")","v":""},null,{"$f":"IFERROR(VLOOKUP(ROWS(AL$2:$AL1199),N1199:Q3102,4,0),\"\")","v":""}]
[null,null,null,null,null,null,null,null,null,null,null,null,null,{"$f":"IF(ISNUMBER(SEARCH($H$16,Q1200)),MAX($N$1:N1199)+1,0)","v":0},{"$f":"IF(ISNUMBER(SEARCH($H$11,Q1200)),MAX($O$1:O1199)+1,0)","v":0},{"$f":"IF(ISNUMBER(SEARCH($H$6,Q1200)),MAX($P$1:P1199)+1,0)","v":0},"indiabulls liquid fund","MIM001","Liquid",null,null,null,null,null,null,null,null,null,null,null,{"$f":"IFERROR(VLOOKUP(ROWS($AE$2:AE1200),P1200:Q3103,2,0),\"\")","v":""},null,null,null,null,{"$f":"IFERROR(VLOOKUP(ROWS($AJ$2:AJ1200),O1200:Q3103,3,0),\"\")","v":""},null,{"$f":"IFERROR(VLOOKUP(ROWS(AL$2:$AL1200),N1200:Q3103,4,0),\"\")","v":""}]
[null,null,null,null,null,null,null,null,null,null,null,null,null,{"$f":"IF(ISNUMBER(SEARCH($H$16,Q1201)),MAX($N$1:N1200)+1,0)","v":0},{"$f":"IF(ISNUMBER(SEARCH($H$11,Q1201)),MAX($O$1:O1200)+1,0)","v":0},{"$f":"IF(ISNUMBER(SEARCH($H$6,Q1201)),MAX($P$1:P1200)+1,0)","v":0},"jm high liquidity sip","MJM050","Liquid",null,null,null,null,null,null,null,null,null,null,null,{"$f":"IFERROR(VLOOKUP(ROWS($AE$2:AE1201),P1201:Q3104,2,0),\"\")","v":""},null,null,null,null,{"$f":"IFERROR(VLOOKUP(ROWS($AJ$2:AJ1201),O1201:Q3104,3,0),\"\")","v":""},null,{"$f":"IFERROR(VLOOKUP(ROWS(AL$2:$AL1201),N1201:Q3104,4,0),\"\")","v":""}]
[null,null,null,null,null,null,null,null,null,null,null,null,null,{"$f":"IF(ISNUMBER(SEARCH($H$16,Q1202)),MAX($N$1:N1201)+1,0)","v":0},{"$f":"IF(ISNUMBER(SEARCH($H$11,Q1202)),MAX($O$1:O1201)+1,0)","v":0},{"$f":"IF(ISNUMBER(SEARCH($H$6,Q1202)),MAX($P$1:P1201)+1,0)","v":0},"hdfc liquid premium plan","MHD026","Liquid",null,null,null,null,null,null,null,null,null,null,null,{"$f":"IFERROR(VLOOKUP(ROWS($AE$2:AE1202),P1202:Q3105,2,0),\"\")","v":""},null,null,null,null,{"$f":"IFERROR(VLOOKUP(ROWS($AJ$2:AJ1202),O1202:Q3105,3,0),\"\")","v":""},null,{"$f":"IFERROR(VLOOKUP(ROWS(AL$2:$AL1202),N1202:Q3105,4,0),\"\")","v":""}]
[null,null,null,null,null,null,null,null,null,null,null,null,null,{"$f":"IF(ISNUMBER(SEARCH($H$16,Q1203)),MAX($N$1:N1202)+1,0)","v":0},{"$f":"IF(ISNUMBER(SEARCH($H$11,Q1203)),MAX($O$1:O1202)+1,0)","v":0},{"$f":"IF(ISNUMBER(SEARCH($H$6,Q1203)),MAX($P$1:P1202)+1,0)","v":0},"kotak floater stp regular","MKM047","Liquid",null,null,null,null,null,null,null,null,null,null,null,{"$f":"IFERROR(VLOOKUP(ROWS($AE$2:AE1203),P1203:Q3106,2,0),\"\")","v":""},null,null,null,null,{"$f":"IFERROR(VLOOKUP(ROWS($AJ$2:AJ1203),O1203:Q3106,3,0),\"\")","v":""},null,{"$f":"IFERROR(VLOOKUP(ROWS(AL$2:$AL1203),N1203:Q3106,4,0),\"\")","v":""}]
[null,null,null,null,null,null,null,null,null,null,null,null,null,{"$f":"IF(ISNUMBER(SEARCH($H$16,Q1204)),MAX($N$1:N1203)+1,0)","v":0},{"$f":"IF(ISNUMBER(SEARCH($H$11,Q1204)),MAX($O$1:O1203)+1,0)","v":0},{"$f":"IF(ISNUMBER(SEARCH($H$6,Q1204)),MAX($P$1:P1203)+1,0)","v":0},"religare invesco liquid fund","MLI007","Liquid",null,null,null,null,null,null,null,null,null,null,null,{"$f":"IFERROR(VLOOKUP(ROWS($AE$2:AE1204),P1204:Q3107,2,0),\"\")","v":""},null,null,null,null,{"$f":"IFERROR(VLOOKUP(ROWS($AJ$2:AJ1204),O1204:Q3107,3,0),\"\")","v":""},null,{"$f":"IFERROR(VLOOKUP(ROWS(AL$2:$AL1204),N1204:Q3107,4,0),\"\")","v":""}]
[null,null,null,null,null,null,null,null,null,null,null,null,null,{"$f":"IF(ISNUMBER(SEARCH($H$16,Q1205)),MAX($N$1:N1204)+1,0)","v":0},{"$f":"IF(ISNUMBER(SEARCH($H$11,Q1205)),MAX($O$1:O1204)+1,0)","v":0},{"$f":"IF(ISNUMBER(SEARCH($H$6,Q1205)),MAX($P$1:P1204)+1,0)","v":0},"birla sl cash plus ip","MBS035","Liquid",null,null,null,null,null,null,null,null,null,null,null,{"$f":"IFERROR(VLOOKUP(ROWS($AE$2:AE1205),P1205:Q3108,2,0),\"\")","v":""},null,null,null,null,{"$f":"IFERROR(VLOOKUP(ROWS($AJ$2:AJ1205),O1205:Q3108,3,0),\"\")","v":""},null,{"$f":"IFERROR(VLOOKUP(ROWS(AL$2:$AL1205),N1205:Q3108,4,0),\"\")","v":""}]
[null,null,null,null,null,null,null,null,null,null,null,null,null,{"$f":"IF(ISNUMBER(SEARCH($H$16,Q1206)),MAX($N$1:N1205)+1,0)","v":0},{"$f":"IF(ISNUMBER(SEARCH($H$11,Q1206)),MAX($O$1:O1205)+1,0)","v":0},{"$f":"IF(ISNUMBER(SEARCH($H$6,Q1206)),MAX($P$1:P1205)+1,0)","v":0},"birla sl cash plus ipp","MBS059","Liquid",null,null,null,null,null,null,null,null,null,null,null,{"$f":"IFERROR(VLOOKUP(ROWS($AE$2:AE1206),P1206:Q3109,2,0),\"\")","v":""},null,null,null,null,{"$f":"IFERROR(VLOOKUP(ROWS($AJ$2:AJ1206),O1206:Q3109,3,0),\"\")","v":""},null,{"$f":"IFERROR(VLOOKUP(ROWS(AL$2:$AL1206),N1206:Q3109,4,0),\"\")","v":""}]
[null,null,null,null,null,null,null,null,null,null,null,null,null,{"$f":"IF(ISNUMBER(SEARCH($H$16,Q1207)),MAX($N$1:N1206)+1,0)","v":0},{"$f":"IF(ISNUMBER(SEARCH($H$11,Q1207)),MAX($O$1:O1206)+1,0)","v":0},{"$f":"IF(ISNUMBER(SEARCH($H$6,Q1207)),MAX($P$1:P1206)+1,0)","v":0},"idfc cash fund regular","MAG071","Liquid",null,null,null,null,null,null,null,null,null,null,null,{"$f":"IFERROR(VLOOKUP(ROWS($AE$2:AE1207),P1207:Q3110,2,0),\"\")","v":""},null,null,null,null,{"$f":"IFERROR(VLOOKUP(ROWS($AJ$2:AJ1207),O1207:Q3110,3,0),\"\")","v":""},null,{"$f":"IFERROR(VLOOKUP(ROWS(AL$2:$AL1207),N1207:Q3110,4,0),\"\")","v":""}]
[null,null,null,null,null,null,null,null,null,null,null,null,null,{"$f":"IF(ISNUMBER(SEARCH($H$16,Q1208)),MAX($N$1:N1207)+1,0)","v":0},{"$f":"IF(ISNUMBER(SEARCH($H$11,Q1208)),MAX($O$1:O1207)+1,0)","v":0},{"$f":"IF(ISNUMBER(SEARCH($H$6,Q1208)),MAX($P$1:P1207)+1,0)","v":0},"birla sl cash plus rp","MBS004","Liquid",null,null,null,null,null,null,null,null,null,null,null,{"$f":"IFERROR(VLOOKUP(ROWS($AE$2:AE1208),P1208:Q3111,2,0),\"\")","v":""},null,null,null,null,{"$f":"IFERROR(VLOOKUP(ROWS($AJ$2:AJ1208),O1208:Q3111,3,0),\"\")","v":""},null,{"$f":"IFERROR(VLOOKUP(ROWS(AL$2:$AL1208),N1208:Q3111,4,0),\"\")","v":""}]
[null,null,null,null,null,null,null,null,null,null,null,null,null,{"$f":"IF(ISNUMBER(SEARCH($H$16,Q1209)),MAX($N$1:N1208)+1,0)","v":0},{"$f":"IF(ISNUMBER(SEARCH($H$11,Q1209)),MAX($O$1:O1208)+1,0)","v":0},{"$f":"IF(ISNUMBER(SEARCH($H$6,Q1209)),MAX($P$1:P1208)+1,0)","v":0},"birla sl frf stp rp","MBS041","Liquid",null,null,null,null,null,null,null,null,null,null,null,{"$f":"IFERROR(VLOOKUP(ROWS($AE$2:AE1209),P1209:Q3112,2,0),\"\")","v":""},null,null,null,null,{"$f":"IFERROR(VLOOKUP(ROWS($AJ$2:AJ1209),O1209:Q3112,3,0),\"\")","v":""},null,{"$f":"IFERROR(VLOOKUP(ROWS(AL$2:$AL1209),N1209:Q3112,4,0),\"\")","v":""}]
[null,null,null,null,null,null,null,null,null,null,null,null,null,{"$f":"IF(ISNUMBER(SEARCH($H$16,Q1210)),MAX($N$1:N1209)+1,0)","v":0},{"$f":"IF(ISNUMBER(SEARCH($H$11,Q1210)),MAX($O$1:O1209)+1,0)","v":0},{"$f":"IF(ISNUMBER(SEARCH($H$6,Q1210)),MAX($P$1:P1209)+1,0)","v":0},"birla sl frf stp reg ","MBS091","Liquid",null,null,null,null,null,null,null,null,null,null,null,{"$f":"IFERROR(VLOOKUP(ROWS($AE$2:AE1210),P1210:Q3113,2,0),\"\")","v":""},null,null,null,null,{"$f":"IFERROR(VLOOKUP(ROWS($AJ$2:AJ1210),O1210:Q3113,3,0),\"\")","v":""},null,{"$f":"IFERROR(VLOOKUP(ROWS(AL$2:$AL1210),N1210:Q3113,4,0),\"\")","v":""}]
[null,null,null,null,null,null,null,null,null,null,null,null,null,{"$f":"IF(ISNUMBER(SEARCH($H$16,Q1211)),MAX($N$1:N1210)+1,0)","v":0},{"$f":"IF(ISNUMBER(SEARCH($H$11,Q1211)),MAX($O$1:O1210)+1,0)","v":0},{"$f":"IF(ISNUMBER(SEARCH($H$6,Q1211)),MAX($P$1:P1210)+1,0)","v":0},"sbi liquid fund rp","MSA001","Liquid",null,null,null,null,null,null,null,null,null,null,null,{"$f":"IFERROR(VLOOKUP(ROWS($AE$2:AE1211),P1211:Q3114,2,0),\"\")","v":""},null,null,null,null,{"$f":"IFERROR(VLOOKUP(ROWS($AJ$2:AJ1211),O1211:Q3114,3,0),\"\")","v":""},null,{"$f":"IFERROR(VLOOKUP(ROWS(AL$2:$AL1211),N1211:Q3114,4,0),\"\")","v":""}]
[null,null,null,null,null,null,null,null,null,null,null,null,null,{"$f":"IF(ISNUMBER(SEARCH($H$16,Q1212)),MAX($N$1:N1211)+1,0)","v":0},{"$f":"IF(ISNUMBER(SEARCH($H$11,Q1212)),MAX($O$1:O1211)+1,0)","v":0},{"$f":"IF(ISNUMBER(SEARCH($H$6,Q1212)),MAX($P$1:P1211)+1,0)","v":0},"hdfc liquid fund","MHD007","Liquid",null,null,null,null,null,null,null,null,null,null,null,{"$f":"IFERROR(VLOOKUP(ROWS($AE$2:AE1212),P1212:Q3115,2,0),\"\")","v":""},null,null,null,null,{"$f":"IFERROR(VLOOKUP(ROWS($AJ$2:AJ1212),O1212:Q3115,3,0),\"\")","v":""},null,{"$f":"IFERROR(VLOOKUP(ROWS(AL$2:$AL1212),N1212:Q3115,4,0),\"\")","v":""}]
[null,null,null,null,null,null,null,null,null,null,null,null,null,{"$f":"IF(ISNUMBER(SEARCH($H$16,Q1213)),MAX($N$1:N1212)+1,0)","v":0},{"$f":"IF(ISNUMBER(SEARCH($H$11,Q1213)),MAX($O$1:O1212)+1,0)","v":0},{"$f":"IF(ISNUMBER(SEARCH($H$6,Q1213)),MAX($P$1:P1212)+1,0)","v":0},"uti money market fund ip","MUT402","Liquid",null,null,null,null,null,null,null,null,null,null,null,{"$f":"IFERROR(VLOOKUP(ROWS($AE$2:AE1213),P1213:Q3116,2,0),\"\")","v":""},null,null,null,null,{"$f":"IFERROR(VLOOKUP(ROWS($AJ$2:AJ1213),O1213:Q3116,3,0),\"\")","v":""},null,{"$f":"IFERROR(VLOOKUP(ROWS(AL$2:$AL1213),N1213:Q3116,4,0),\"\")","v":""}]
[null,null,null,null,null,null,null,null,null,null,null,null,null,{"$f":"IF(ISNUMBER(SEARCH($H$16,Q1214)),MAX($N$1:N1213)+1,0)","v":0},{"$f":"IF(ISNUMBER(SEARCH($H$11,Q1214)),MAX($O$1:O1213)+1,0)","v":0},{"$f":"IF(ISNUMBER(SEARCH($H$6,Q1214)),MAX($P$1:P1213)+1,0)","v":0},"reliance liquidity fund","MRC094","Liquid",null,null,null,null,null,null,null,null,null,null,null,{"$f":"IFERROR(VLOOKUP(ROWS($AE$2:AE1214),P1214:Q3117,2,0),\"\")","v":""},null,null,null,null,{"$f":"IFERROR(VLOOKUP(ROWS($AJ$2:AJ1214),O1214:Q3117,3,0),\"\")","v":""},null,{"$f":"IFERROR(VLOOKUP(ROWS(AL$2:$AL1214),N1214:Q3117,4,0),\"\")","v":""}]
[null,null,null,null,null,null,null,null,null,null,null,null,null,{"$f":"IF(ISNUMBER(SEARCH($H$16,Q1215)),MAX($N$1:N1214)+1,0)","v":0},{"$f":"IF(ISNUMBER(SEARCH($H$11,Q1215)),MAX($O$1:O1214)+1,0)","v":0},{"$f":"IF(ISNUMBER(SEARCH($H$6,Q1215)),MAX($P$1:P1214)+1,0)","v":0},"lic nomura liquid fund","MJB015","Liquid",null,null,null,null,null,null,null,null,null,null,null,{"$f":"IFERROR(VLOOKUP(ROWS($AE$2:AE1215),P1215:Q3118,2,0),\"\")","v":""},null,null,null,null,{"$f":"IFERROR(VLOOKUP(ROWS($AJ$2:AJ1215),O1215:Q3118,3,0),\"\")","v":""},null,{"$f":"IFERROR(VLOOKUP(ROWS(AL$2:$AL1215),N1215:Q3118,4,0),\"\")","v":""}]
[null,null,null,null,null,null,null,null,null,null,null,null,null,{"$f":"IF(ISNUMBER(SEARCH($H$16,Q1216)),MAX($N$1:N1215)+1,0)","v":0},{"$f":"IF(ISNUMBER(SEARCH($H$11,Q1216)),MAX($O$1:O1215)+1,0)","v":0},{"$f":"IF(ISNUMBER(SEARCH($H$6,Q1216)),MAX($P$1:P1215)+1,0)","v":0},"hdfc cmf saving plan","MZU006","Liquid",null,null,null,null,null,null,null,null,null,null,null,{"$f":"IFERROR(VLOOKUP(ROWS($AE$2:AE1216),P1216:Q3119,2,0),\"\")","v":""},null,null,null,null,{"$f":"IFERROR(VLOOKUP(ROWS($AJ$2:AJ1216),O1216:Q3119,3,0),\"\")","v":""},null,{"$f":"IFERROR(VLOOKUP(ROWS(AL$2:$AL1216),N1216:Q3119,4,0),\"\")","v":""}]
[null,null,null,null,null,null,null,null,null,null,null,null,null,{"$f":"IF(ISNUMBER(SEARCH($H$16,Q1217)),MAX($N$1:N1216)+1,0)","v":0},{"$f":"IF(ISNUMBER(SEARCH($H$11,Q1217)),MAX($O$1:O1216)+1,0)","v":0},{"$f":"IF(ISNUMBER(SEARCH($H$6,Q1217)),MAX($P$1:P1216)+1,0)","v":0},"uti liquid cash inst ","MUT058","Liquid",null,null,null,null,null,null,null,null,null,null,null,{"$f":"IFERROR(VLOOKUP(ROWS($AE$2:AE1217),P1217:Q3120,2,0),\"\")","v":""},null,null,null,null,{"$f":"IFERROR(VLOOKUP(ROWS($AJ$2:AJ1217),O1217:Q3120,3,0),\"\")","v":""},null,{"$f":"IFERROR(VLOOKUP(ROWS(AL$2:$AL1217),N1217:Q3120,4,0),\"\")","v":""}]
[null,null,null,null,null,null,null,null,null,null,null,null,null,{"$f":"IF(ISNUMBER(SEARCH($H$16,Q1218)),MAX($N$1:N1217)+1,0)","v":0},{"$f":"IF(ISNUMBER(SEARCH($H$11,Q1218)),MAX($O$1:O1217)+1,0)","v":0},{"$f":"IF(ISNUMBER(SEARCH($H$6,Q1218)),MAX($P$1:P1217)+1,0)","v":0},"tata money market fund regular","MTA127","Liquid",null,null,null,null,null,null,null,null,null,null,null,{"$f":"IFERROR(VLOOKUP(ROWS($AE$2:AE1218),P1218:Q3121,2,0),\"\")","v":""},null,null,null,null,{"$f":"IFERROR(VLOOKUP(ROWS($AJ$2:AJ1218),O1218:Q3121,3,0),\"\")","v":""},null,{"$f":"IFERROR(VLOOKUP(ROWS(AL$2:$AL1218),N1218:Q3121,4,0),\"\")","v":""}]
[null,null,null,null,null,null,null,null,null,null,null,null,null,{"$f":"IF(ISNUMBER(SEARCH($H$16,Q1219)),MAX($N$1:N1218)+1,0)","v":0},{"$f":"IF(ISNUMBER(SEARCH($H$11,Q1219)),MAX($O$1:O1218)+1,0)","v":0},{"$f":"IF(ISNUMBER(SEARCH($H$6,Q1219)),MAX($P$1:P1218)+1,0)","v":0},"tata liquid fund regular plan","MTA048","Liquid",null,null,null,null,null,null,null,null,null,null,null,{"$f":"IFERROR(VLOOKUP(ROWS($AE$2:AE1219),P1219:Q3122,2,0),\"\")","v":""},null,null,null,null,{"$f":"IFERROR(VLOOKUP(ROWS($AJ$2:AJ1219),O1219:Q3122,3,0),\"\")","v":""},null,{"$f":"IFERROR(VLOOKUP(ROWS(AL$2:$AL1219),N1219:Q3122,4,0),\"\")","v":""}]
[null,null,null,null,null,null,null,null,null,null,null,null,null,{"$f":"IF(ISNUMBER(SEARCH($H$16,Q1220)),MAX($N$1:N1219)+1,0)","v":0},{"$f":"IF(ISNUMBER(SEARCH($H$11,Q1220)),MAX($O$1:O1219)+1,0)","v":0},{"$f":"IF(ISNUMBER(SEARCH($H$6,Q1220)),MAX($P$1:P1219)+1,0)","v":0},"peerless liquid fund sip","MPM009","Liquid",null,null,null,null,null,null,null,null,null,null,null,{"$f":"IFERROR(VLOOKUP(ROWS($AE$2:AE1220),P1220:Q3123,2,0),\"\")","v":""},null,null,null,null,{"$f":"IFERROR(VLOOKUP(ROWS($AJ$2:AJ1220),O1220:Q3123,3,0),\"\")","v":""},null,{"$f":"IFERROR(VLOOKUP(ROWS(AL$2:$AL1220),N1220:Q3123,4,0),\"\")","v":""}]
[null,null,null,null,null,null,null,null,null,null,null,null,null,{"$f":"IF(ISNUMBER(SEARCH($H$16,Q1221)),MAX($N$1:N1220)+1,0)","v":0},{"$f":"IF(ISNUMBER(SEARCH($H$11,Q1221)),MAX($O$1:O1220)+1,0)","v":0},{"$f":"IF(ISNUMBER(SEARCH($H$6,Q1221)),MAX($P$1:P1220)+1,0)","v":0},"icici pru money market fund","MPI129","Liquid",null,null,null,null,null,null,null,null,null,null,null,{"$f":"IFERROR(VLOOKUP(ROWS($AE$2:AE1221),P1221:Q3124,2,0),\"\")","v":""},null,null,null,null,{"$f":"IFERROR(VLOOKUP(ROWS($AJ$2:AJ1221),O1221:Q3124,3,0),\"\")","v":""},null,{"$f":"IFERROR(VLOOKUP(ROWS(AL$2:$AL1221),N1221:Q3124,4,0),\"\")","v":""}]
[null,null,null,null,null,null,null,null,null,null,null,null,null,{"$f":"IF(ISNUMBER(SEARCH($H$16,Q1222)),MAX($N$1:N1221)+1,0)","v":0},{"$f":"IF(ISNUMBER(SEARCH($H$11,Q1222)),MAX($O$1:O1221)+1,0)","v":0},{"$f":"IF(ISNUMBER(SEARCH($H$6,Q1222)),MAX($P$1:P1221)+1,0)","v":0},"sbi magnum insta cash","MSB005","Liquid",null,null,null,null,null,null,null,null,null,null,null,{"$f":"IFERROR(VLOOKUP(ROWS($AE$2:AE1222),P1222:Q3125,2,0),\"\")","v":""},null,null,null,null,{"$f":"IFERROR(VLOOKUP(ROWS($AJ$2:AJ1222),O1222:Q3125,3,0),\"\")","v":""},null,{"$f":"IFERROR(VLOOKUP(ROWS(AL$2:$AL1222),N1222:Q3125,4,0),\"\")","v":""}]
[null,null,null,null,null,null,null,null,null,null,null,null,null,{"$f":"IF(ISNUMBER(SEARCH($H$16,Q1223)),MAX($N$1:N1222)+1,0)","v":0},{"$f":"IF(ISNUMBER(SEARCH($H$11,Q1223)),MAX($O$1:O1222)+1,0)","v":0},{"$f":"IF(ISNUMBER(SEARCH($H$6,Q1223)),MAX($P$1:P1222)+1,0)","v":0},"sbi premier liquid fund rp","MSB087","Liquid",null,null,null,null,null,null,null,null,null,null,null,{"$f":"IFERROR(VLOOKUP(ROWS($AE$2:AE1223),P1223:Q3126,2,0),\"\")","v":""},null,null,null,null,{"$f":"IFERROR(VLOOKUP(ROWS($AJ$2:AJ1223),O1223:Q3126,3,0),\"\")","v":""},null,{"$f":"IFERROR(VLOOKUP(ROWS(AL$2:$AL1223),N1223:Q3126,4,0),\"\")","v":""}]
[null,null,null,null,null,null,null,null,null,null,null,null,null,{"$f":"IF(ISNUMBER(SEARCH($H$16,Q1224)),MAX($N$1:N1223)+1,0)","v":0},{"$f":"IF(ISNUMBER(SEARCH($H$11,Q1224)),MAX($O$1:O1223)+1,0)","v":0},{"$f":"IF(ISNUMBER(SEARCH($H$6,Q1224)),MAX($P$1:P1223)+1,0)","v":0},"sbi premier liquid ip","MSB036","Liquid",null,null,null,null,null,null,null,null,null,null,null,{"$f":"IFERROR(VLOOKUP(ROWS($AE$2:AE1224),P1224:Q3127,2,0),\"\")","v":""},null,null,null,null,{"$f":"IFERROR(VLOOKUP(ROWS($AJ$2:AJ1224),O1224:Q3127,3,0),\"\")","v":""},null,{"$f":"IFERROR(VLOOKUP(ROWS(AL$2:$AL1224),N1224:Q3127,4,0),\"\")","v":""}]
[null,null,null,null,null,null,null,null,null,null,null,null,null,{"$f":"IF(ISNUMBER(SEARCH($H$16,Q1225)),MAX($N$1:N1224)+1,0)","v":0},{"$f":"IF(ISNUMBER(SEARCH($H$11,Q1225)),MAX($O$1:O1224)+1,0)","v":0},{"$f":"IF(ISNUMBER(SEARCH($H$6,Q1225)),MAX($P$1:P1224)+1,0)","v":0},"icici pru liquid plan","MPI115","Liquid",null,null,null,null,null,null,null,null,null,null,null,{"$f":"IFERROR(VLOOKUP(ROWS($AE$2:AE1225),P1225:Q3128,2,0),\"\")","v":""},null,null,null,null,{"$f":"IFERROR(VLOOKUP(ROWS($AJ$2:AJ1225),O1225:Q3128,3,0),\"\")","v":""},null,{"$f":"IFERROR(VLOOKUP(ROWS(AL$2:$AL1225),N1225:Q3128,4,0),\"\")","v":""}]
[null,null,null,null,null,null,null,null,null,null,null,null,null,{"$f":"IF(ISNUMBER(SEARCH($H$16,Q1226)),MAX($N$1:N1225)+1,0)","v":0},{"$f":"IF(ISNUMBER(SEARCH($H$11,Q1226)),MAX($O$1:O1225)+1,0)","v":0},{"$f":"IF(ISNUMBER(SEARCH($H$6,Q1226)),MAX($P$1:P1225)+1,0)","v":0},"sundaram money fund","MSN005","Liquid",null,null,null,null,null,null,null,null,null,null,null,{"$f":"IFERROR(VLOOKUP(ROWS($AE$2:AE1226),P1226:Q3129,2,0),\"\")","v":""},null,null,null,null,{"$f":"IFERROR(VLOOKUP(ROWS($AJ$2:AJ1226),O1226:Q3129,3,0),\"\")","v":""},null,{"$f":"IFERROR(VLOOKUP(ROWS(AL$2:$AL1226),N1226:Q3129,4,0),\"\")","v":""}]
[null,null,null,null,null,null,null,null,null,null,null,null,null,{"$f":"IF(ISNUMBER(SEARCH($H$16,Q1227)),MAX($N$1:N1226)+1,0)","v":0},{"$f":"IF(ISNUMBER(SEARCH($H$11,Q1227)),MAX($O$1:O1226)+1,0)","v":0},{"$f":"IF(ISNUMBER(SEARCH($H$6,Q1227)),MAX($P$1:P1226)+1,0)","v":0},"sundaram money super inst","MSN091","Liquid",null,null,null,null,null,null,null,null,null,null,null,{"$f":"IFERROR(VLOOKUP(ROWS($AE$2:AE1227),P1227:Q3130,2,0),\"\")","v":""},null,null,null,null,{"$f":"IFERROR(VLOOKUP(ROWS($AJ$2:AJ1227),O1227:Q3130,3,0),\"\")","v":""},null,{"$f":"IFERROR(VLOOKUP(ROWS(AL$2:$AL1227),N1227:Q3130,4,0),\"\")","v":""}]
[null,null,null,null,null,null,null,null,null,null,null,null,null,{"$f":"IF(ISNUMBER(SEARCH($H$16,Q1228)),MAX($N$1:N1227)+1,0)","v":0},{"$f":"IF(ISNUMBER(SEARCH($H$11,Q1228)),MAX($O$1:O1227)+1,0)","v":0},{"$f":"IF(ISNUMBER(SEARCH($H$6,Q1228)),MAX($P$1:P1227)+1,0)","v":0},"kotak liquid plan a regular","MKM053","Liquid",null,null,null,null,null,null,null,null,null,null,null,{"$f":"IFERROR(VLOOKUP(ROWS($AE$2:AE1228),P1228:Q3131,2,0),\"\")","v":""},null,null,null,null,{"$f":"IFERROR(VLOOKUP(ROWS($AJ$2:AJ1228),O1228:Q3131,3,0),\"\")","v":""},null,{"$f":"IFERROR(VLOOKUP(ROWS(AL$2:$AL1228),N1228:Q3131,4,0),\"\")","v":""}]
[null,null,null,null,null,null,null,null,null,null,null,null,null,{"$f":"IF(ISNUMBER(SEARCH($H$16,Q1229)),MAX($N$1:N1228)+1,0)","v":0},{"$f":"IF(ISNUMBER(SEARCH($H$11,Q1229)),MAX($O$1:O1228)+1,0)","v":0},{"$f":"IF(ISNUMBER(SEARCH($H$6,Q1229)),MAX($P$1:P1228)+1,0)","v":0},"sundaram money inst plan","MSN060","Liquid",null,null,null,null,null,null,null,null,null,null,null,{"$f":"IFERROR(VLOOKUP(ROWS($AE$2:AE1229),P1229:Q3132,2,0),\"\")","v":""},null,null,null,null,{"$f":"IFERROR(VLOOKUP(ROWS($AJ$2:AJ1229),O1229:Q3132,3,0),\"\")","v":""},null,{"$f":"IFERROR(VLOOKUP(ROWS(AL$2:$AL1229),N1229:Q3132,4,0),\"\")","v":""}]
[null,null,null,null,null,null,null,null,null,null,null,null,null,{"$f":"IF(ISNUMBER(SEARCH($H$16,Q1230)),MAX($N$1:N1229)+1,0)","v":0},{"$f":"IF(ISNUMBER(SEARCH($H$11,Q1230)),MAX($O$1:O1229)+1,0)","v":0},{"$f":"IF(ISNUMBER(SEARCH($H$6,Q1230)),MAX($P$1:P1229)+1,0)","v":0},"jpmorgan liquid sip","MJP021","Liquid",null,null,null,null,null,null,null,null,null,null,null,{"$f":"IFERROR(VLOOKUP(ROWS($AE$2:AE1230),P1230:Q3133,2,0),\"\")","v":""},null,null,null,null,{"$f":"IFERROR(VLOOKUP(ROWS($AJ$2:AJ1230),O1230:Q3133,3,0),\"\")","v":""},null,{"$f":"IFERROR(VLOOKUP(ROWS(AL$2:$AL1230),N1230:Q3133,4,0),\"\")","v":""}]
[null,null,null,null,null,null,null,null,null,null,null,null,null,{"$f":"IF(ISNUMBER(SEARCH($H$16,Q1231)),MAX($N$1:N1230)+1,0)","v":0},{"$f":"IF(ISNUMBER(SEARCH($H$11,Q1231)),MAX($O$1:O1230)+1,0)","v":0},{"$f":"IF(ISNUMBER(SEARCH($H$6,Q1231)),MAX($P$1:P1230)+1,0)","v":0},"reliance liquid tp ip","MRC046","Liquid",null,null,null,null,null,null,null,null,null,null,null,{"$f":"IFERROR(VLOOKUP(ROWS($AE$2:AE1231),P1231:Q3134,2,0),\"\")","v":""},null,null,null,null,{"$f":"IFERROR(VLOOKUP(ROWS($AJ$2:AJ1231),O1231:Q3134,3,0),\"\")","v":""},null,{"$f":"IFERROR(VLOOKUP(ROWS(AL$2:$AL1231),N1231:Q3134,4,0),\"\")","v":""}]
[null,null,null,null,null,null,null,null,null,null,null,null,null,{"$f":"IF(ISNUMBER(SEARCH($H$16,Q1232)),MAX($N$1:N1231)+1,0)","v":0},{"$f":"IF(ISNUMBER(SEARCH($H$11,Q1232)),MAX($O$1:O1231)+1,0)","v":0},{"$f":"IF(ISNUMBER(SEARCH($H$6,Q1232)),MAX($P$1:P1231)+1,0)","v":0},"dws insta cash plus fund","MDE124","Liquid",null,null,null,null,null,null,null,null,null,null,null,{"$f":"IFERROR(VLOOKUP(ROWS($AE$2:AE1232),P1232:Q3135,2,0),\"\")","v":""},null,null,null,null,{"$f":"IFERROR(VLOOKUP(ROWS($AJ$2:AJ1232),O1232:Q3135,3,0),\"\")","v":""},null,{"$f":"IFERROR(VLOOKUP(ROWS(AL$2:$AL1232),N1232:Q3135,4,0),\"\")","v":""}]
[null,null,null,null,null,null,null,null,null,null,null,null,null,{"$f":"IF(ISNUMBER(SEARCH($H$16,Q1233)),MAX($N$1:N1232)+1,0)","v":0},{"$f":"IF(ISNUMBER(SEARCH($H$11,Q1233)),MAX($O$1:O1232)+1,0)","v":0},{"$f":"IF(ISNUMBER(SEARCH($H$6,Q1233)),MAX($P$1:P1232)+1,0)","v":0},"dsp br liquidity fund ip","MDS047","Liquid",null,null,null,null,null,null,null,null,null,null,null,{"$f":"IFERROR(VLOOKUP(ROWS($AE$2:AE1233),P1233:Q3136,2,0),\"\")","v":""},null,null,null,null,{"$f":"IFERROR(VLOOKUP(ROWS($AJ$2:AJ1233),O1233:Q3136,3,0),\"\")","v":""},null,{"$f":"IFERROR(VLOOKUP(ROWS(AL$2:$AL1233),N1233:Q3136,4,0),\"\")","v":""}]
[null,null,null,null,null,null,null,null,null,null,null,null,null,{"$f":"IF(ISNUMBER(SEARCH($H$16,Q1234)),MAX($N$1:N1233)+1,0)","v":0},{"$f":"IF(ISNUMBER(SEARCH($H$11,Q1234)),MAX($O$1:O1233)+1,0)","v":0},{"$f":"IF(ISNUMBER(SEARCH($H$6,Q1234)),MAX($P$1:P1233)+1,0)","v":0},"taurus liquid fund ip","MCM043","Liquid",null,null,null,null,null,null,null,null,null,null,null,{"$f":"IFERROR(VLOOKUP(ROWS($AE$2:AE1234),P1234:Q3137,2,0),\"\")","v":""},null,null,null,null,{"$f":"IFERROR(VLOOKUP(ROWS($AJ$2:AJ1234),O1234:Q3137,3,0),\"\")","v":""},null,{"$f":"IFERROR(VLOOKUP(ROWS(AL$2:$AL1234),N1234:Q3137,4,0),\"\")","v":""}]
[null,null,null,null,null,null,null,null,null,null,null,null,null,{"$f":"IF(ISNUMBER(SEARCH($H$16,Q1235)),MAX($N$1:N1234)+1,0)","v":0},{"$f":"IF(ISNUMBER(SEARCH($H$11,Q1235)),MAX($O$1:O1234)+1,0)","v":0},{"$f":"IF(ISNUMBER(SEARCH($H$6,Q1235)),MAX($P$1:P1234)+1,0)","v":0},"l t liquid super inst","MCC053","Liquid",null,null,null,null,null,null,null,null,null,null,null,{"$f":"IFERROR(VLOOKUP(ROWS($AE$2:AE1235),P1235:Q3138,2,0),\"\")","v":""},null,null,null,null,{"$f":"IFERROR(VLOOKUP(ROWS($AJ$2:AJ1235),O1235:Q3138,3,0),\"\")","v":""},null,{"$f":"IFERROR(VLOOKUP(ROWS(AL$2:$AL1235),N1235:Q3138,4,0),\"\")","v":""}]
[null,null,null,null,null,null,null,null,null,null,null,null,null,{"$f":"IF(ISNUMBER(SEARCH($H$16,Q1236)),MAX($N$1:N1235)+1,0)","v":0},{"$f":"IF(ISNUMBER(SEARCH($H$11,Q1236)),MAX($O$1:O1235)+1,0)","v":0},{"$f":"IF(ISNUMBER(SEARCH($H$6,Q1236)),MAX($P$1:P1235)+1,0)","v":0},"l t liquid inst plus g","MCC020","Liquid",null,null,null,null,null,null,null,null,null,null,null,{"$f":"IFERROR(VLOOKUP(ROWS($AE$2:AE1236),P1236:Q3139,2,0),\"\")","v":""},null,null,null,null,{"$f":"IFERROR(VLOOKUP(ROWS($AJ$2:AJ1236),O1236:Q3139,3,0),\"\")","v":""},null,{"$f":"IFERROR(VLOOKUP(ROWS(AL$2:$AL1236),N1236:Q3139,4,0),\"\")","v":""}]
[null,null,null,null,null,null,null,null,null,null,null,null,null,{"$f":"IF(ISNUMBER(SEARCH($H$16,Q1237)),MAX($N$1:N1236)+1,0)","v":0},{"$f":"IF(ISNUMBER(SEARCH($H$11,Q1237)),MAX($O$1:O1236)+1,0)","v":0},{"$f":"IF(ISNUMBER(SEARCH($H$6,Q1237)),MAX($P$1:P1236)+1,0)","v":0},"axis liquid fund reg ","MAA001","Liquid",null,null,null,null,null,null,null,null,null,null,null,{"$f":"IFERROR(VLOOKUP(ROWS($AE$2:AE1237),P1237:Q3140,2,0),\"\")","v":""},null,null,null,null,{"$f":"IFERROR(VLOOKUP(ROWS($AJ$2:AJ1237),O1237:Q3140,3,0),\"\")","v":""},null,{"$f":"IFERROR(VLOOKUP(ROWS(AL$2:$AL1237),N1237:Q3140,4,0),\"\")","v":""}]
[null,null,null,null,null,null,null,null,null,null,null,null,null,{"$f":"IF(ISNUMBER(SEARCH($H$16,Q1238)),MAX($N$1:N1237)+1,0)","v":0},{"$f":"IF(ISNUMBER(SEARCH($H$11,Q1238)),MAX($O$1:O1237)+1,0)","v":0},{"$f":"IF(ISNUMBER(SEARCH($H$6,Q1238)),MAX($P$1:P1237)+1,0)","v":0},"baroda pioneer liquid plan a","MBO031","Liquid",null,null,null,null,null,null,null,null,null,null,null,{"$f":"IFERROR(VLOOKUP(ROWS($AE$2:AE1238),P1238:Q3141,2,0),\"\")","v":""},null,null,null,null,{"$f":"IFERROR(VLOOKUP(ROWS($AJ$2:AJ1238),O1238:Q3141,3,0),\"\")","v":""},null,{"$f":"IFERROR(VLOOKUP(ROWS(AL$2:$AL1238),N1238:Q3141,4,0),\"\")","v":""}]
[null,null,null,null,null,null,null,null,null,null,null,null,null,{"$f":"IF(ISNUMBER(SEARCH($H$16,Q1239)),MAX($N$1:N1238)+1,0)","v":0},{"$f":"IF(ISNUMBER(SEARCH($H$11,Q1239)),MAX($O$1:O1238)+1,0)","v":0},{"$f":"IF(ISNUMBER(SEARCH($H$6,Q1239)),MAX($P$1:P1238)+1,0)","v":0},"boi axa liquid fund rp","MBA001","Liquid",null,null,null,null,null,null,null,null,null,null,null,{"$f":"IFERROR(VLOOKUP(ROWS($AE$2:AE1239),P1239:Q3142,2,0),\"\")","v":""},null,null,null,null,{"$f":"IFERROR(VLOOKUP(ROWS($AJ$2:AJ1239),O1239:Q3142,3,0),\"\")","v":""},null,{"$f":"IFERROR(VLOOKUP(ROWS(AL$2:$AL1239),N1239:Q3142,4,0),\"\")","v":""}]
[null,null,null,null,null,null,null,null,null,null,null,null,null,{"$f":"IF(ISNUMBER(SEARCH($H$16,Q1240)),MAX($N$1:N1239)+1,0)","v":0},{"$f":"IF(ISNUMBER(SEARCH($H$11,Q1240)),MAX($O$1:O1239)+1,0)","v":0},{"$f":"IF(ISNUMBER(SEARCH($H$6,Q1240)),MAX($P$1:P1239)+1,0)","v":0},"hsbc cash fund","MHS033","Liquid",null,null,null,null,null,null,null,null,null,null,null,{"$f":"IFERROR(VLOOKUP(ROWS($AE$2:AE1240),P1240:Q3143,2,0),\"\")","v":""},null,null,null,null,{"$f":"IFERROR(VLOOKUP(ROWS($AJ$2:AJ1240),O1240:Q3143,3,0),\"\")","v":""},null,{"$f":"IFERROR(VLOOKUP(ROWS(AL$2:$AL1240),N1240:Q3143,4,0),\"\")","v":""}]
[null,null,null,null,null,null,null,null,null,null,null,null,null,{"$f":"IF(ISNUMBER(SEARCH($H$16,Q1241)),MAX($N$1:N1240)+1,0)","v":0},{"$f":"IF(ISNUMBER(SEARCH($H$11,Q1241)),MAX($O$1:O1240)+1,0)","v":0},{"$f":"IF(ISNUMBER(SEARCH($H$6,Q1241)),MAX($P$1:P1240)+1,0)","v":0},"bnp paribas overnight fund dir","MAB738","Liquid",null,null,null,null,null,null,null,null,null,null,null,{"$f":"IFERROR(VLOOKUP(ROWS($AE$2:AE1241),P1241:Q3144,2,0),\"\")","v":""},null,null,null,null,{"$f":"IFERROR(VLOOKUP(ROWS($AJ$2:AJ1241),O1241:Q3144,3,0),\"\")","v":""},null,{"$f":"IFERROR(VLOOKUP(ROWS(AL$2:$AL1241),N1241:Q3144,4,0),\"\")","v":""}]
[null,null,null,null,null,null,null,null,null,null,null,null,null,{"$f":"IF(ISNUMBER(SEARCH($H$16,Q1242)),MAX($N$1:N1241)+1,0)","v":0},{"$f":"IF(ISNUMBER(SEARCH($H$11,Q1242)),MAX($O$1:O1241)+1,0)","v":0},{"$f":"IF(ISNUMBER(SEARCH($H$6,Q1242)),MAX($P$1:P1241)+1,0)","v":0},"boi axa liquid fund ip","MBA005","Liquid",null,null,null,null,null,null,null,null,null,null,null,{"$f":"IFERROR(VLOOKUP(ROWS($AE$2:AE1242),P1242:Q3145,2,0),\"\")","v":""},null,null,null,null,{"$f":"IFERROR(VLOOKUP(ROWS($AJ$2:AJ1242),O1242:Q3145,3,0),\"\")","v":""},null,{"$f":"IFERROR(VLOOKUP(ROWS(AL$2:$AL1242),N1242:Q3145,4,0),\"\")","v":""}]
[null,null,null,null,null,null,null,null,null,null,null,null,null,{"$f":"IF(ISNUMBER(SEARCH($H$16,Q1243)),MAX($N$1:N1242)+1,0)","v":0},{"$f":"IF(ISNUMBER(SEARCH($H$11,Q1243)),MAX($O$1:O1242)+1,0)","v":0},{"$f":"IF(ISNUMBER(SEARCH($H$6,Q1243)),MAX($P$1:P1242)+1,0)","v":0},"dsp br liquidity fund","MDS004","Liquid",null,null,null,null,null,null,null,null,null,null,null,{"$f":"IFERROR(VLOOKUP(ROWS($AE$2:AE1243),P1243:Q3146,2,0),\"\")","v":""},null,null,null,null,{"$f":"IFERROR(VLOOKUP(ROWS($AJ$2:AJ1243),O1243:Q3146,3,0),\"\")","v":""},null,{"$f":"IFERROR(VLOOKUP(ROWS(AL$2:$AL1243),N1243:Q3146,4,0),\"\")","v":""}]
[null,null,null,null,null,null,null,null,null,null,null,null,null,{"$f":"IF(ISNUMBER(SEARCH($H$16,Q1244)),MAX($N$1:N1243)+1,0)","v":0},{"$f":"IF(ISNUMBER(SEARCH($H$11,Q1244)),MAX($O$1:O1243)+1,0)","v":0},{"$f":"IF(ISNUMBER(SEARCH($H$6,Q1244)),MAX($P$1:P1243)+1,0)","v":0},"bnp paribas overnight fund","MAB019","Liquid",null,null,null,null,null,null,null,null,null,null,null,{"$f":"IFERROR(VLOOKUP(ROWS($AE$2:AE1244),P1244:Q3147,2,0),\"\")","v":""},null,null,null,null,{"$f":"IFERROR(VLOOKUP(ROWS($AJ$2:AJ1244),O1244:Q3147,3,0),\"\")","v":""},null,{"$f":"IFERROR(VLOOKUP(ROWS(AL$2:$AL1244),N1244:Q3147,4,0),\"\")","v":""}]
[null,null,null,null,null,null,null,null,null,null,null,null,null,{"$f":"IF(ISNUMBER(SEARCH($H$16,Q1245)),MAX($N$1:N1244)+1,0)","v":0},{"$f":"IF(ISNUMBER(SEARCH($H$11,Q1245)),MAX($O$1:O1244)+1,0)","v":0},{"$f":"IF(ISNUMBER(SEARCH($H$6,Q1245)),MAX($P$1:P1244)+1,0)","v":0},"idbi liquid fund","MIB003","Liquid",null,null,null,null,null,null,null,null,null,null,null,{"$f":"IFERROR(VLOOKUP(ROWS($AE$2:AE1245),P1245:Q3148,2,0),\"\")","v":""},null,null,null,null,{"$f":"IFERROR(VLOOKUP(ROWS($AJ$2:AJ1245),O1245:Q3148,3,0),\"\")","v":""},null,{"$f":"IFERROR(VLOOKUP(ROWS(AL$2:$AL1245),N1245:Q3148,4,0),\"\")","v":""}]
[null,null,null,null,null,null,null,null,null,null,null,null,null,{"$f":"IF(ISNUMBER(SEARCH($H$16,Q1246)),MAX($N$1:N1245)+1,0)","v":0},{"$f":"IF(ISNUMBER(SEARCH($H$11,Q1246)),MAX($O$1:O1245)+1,0)","v":0},{"$f":"IF(ISNUMBER(SEARCH($H$6,Q1246)),MAX($P$1:P1245)+1,0)","v":0},"can robeco liquid reg plan","MCA088","Liquid",null,null,null,null,null,null,null,null,null,null,null,{"$f":"IFERROR(VLOOKUP(ROWS($AE$2:AE1246),P1246:Q3149,2,0),\"\")","v":""},null,null,null,null,{"$f":"IFERROR(VLOOKUP(ROWS($AJ$2:AJ1246),O1246:Q3149,3,0),\"\")","v":""},null,{"$f":"IFERROR(VLOOKUP(ROWS(AL$2:$AL1246),N1246:Q3149,4,0),\"\")","v":""}]
[null,null,null,null,null,null,null,null,null,null,null,null,null,{"$f":"IF(ISNUMBER(SEARCH($H$16,Q1247)),MAX($N$1:N1246)+1,0)","v":0},{"$f":"IF(ISNUMBER(SEARCH($H$11,Q1247)),MAX($O$1:O1246)+1,0)","v":0},{"$f":"IF(ISNUMBER(SEARCH($H$6,Q1247)),MAX($P$1:P1246)+1,0)","v":0},"dws treasury cash plan rp","MDE265","Liquid",null,null,null,null,null,null,null,null,null,null,null,{"$f":"IFERROR(VLOOKUP(ROWS($AE$2:AE1247),P1247:Q3150,2,0),\"\")","v":""},null,null,null,null,{"$f":"IFERROR(VLOOKUP(ROWS($AJ$2:AJ1247),O1247:Q3150,3,0),\"\")","v":""},null,{"$f":"IFERROR(VLOOKUP(ROWS(AL$2:$AL1247),N1247:Q3150,4,0),\"\")","v":""}]
[null,null,null,null,null,null,null,null,null,null,null,null,null,{"$f":"IF(ISNUMBER(SEARCH($H$16,Q1248)),MAX($N$1:N1247)+1,0)","v":0},{"$f":"IF(ISNUMBER(SEARCH($H$11,Q1248)),MAX($O$1:O1247)+1,0)","v":0},{"$f":"IF(ISNUMBER(SEARCH($H$6,Q1248)),MAX($P$1:P1247)+1,0)","v":0},"boi axa liquid fund sip","MBA009","Liquid",null,null,null,null,null,null,null,null,null,null,null,{"$f":"IFERROR(VLOOKUP(ROWS($AE$2:AE1248),P1248:Q3151,2,0),\"\")","v":""},null,null,null,null,{"$f":"IFERROR(VLOOKUP(ROWS($AJ$2:AJ1248),O1248:Q3151,3,0),\"\")","v":""},null,{"$f":"IFERROR(VLOOKUP(ROWS(AL$2:$AL1248),N1248:Q3151,4,0),\"\")","v":""}]
[null,null,null,null,null,null,null,null,null,null,null,null,null,{"$f":"IF(ISNUMBER(SEARCH($H$16,Q1249)),MAX($N$1:N1248)+1,0)","v":0},{"$f":"IF(ISNUMBER(SEARCH($H$11,Q1249)),MAX($O$1:O1248)+1,0)","v":0},{"$f":"IF(ISNUMBER(SEARCH($H$6,Q1249)),MAX($P$1:P1248)+1,0)","v":0},"union kbc liquid fund","MUK003","Liquid",null,null,null,null,null,null,null,null,null,null,null,{"$f":"IFERROR(VLOOKUP(ROWS($AE$2:AE1249),P1249:Q3152,2,0),\"\")","v":""},null,null,null,null,{"$f":"IFERROR(VLOOKUP(ROWS($AJ$2:AJ1249),O1249:Q3152,3,0),\"\")","v":""},null,{"$f":"IFERROR(VLOOKUP(ROWS(AL$2:$AL1249),N1249:Q3152,4,0),\"\")","v":""}]
[null,null,null,null,null,null,null,null,null,null,null,null,null,{"$f":"IF(ISNUMBER(SEARCH($H$16,Q1250)),MAX($N$1:N1249)+1,0)","v":0},{"$f":"IF(ISNUMBER(SEARCH($H$11,Q1250)),MAX($O$1:O1249)+1,0)","v":0},{"$f":"IF(ISNUMBER(SEARCH($H$6,Q1250)),MAX($P$1:P1249)+1,0)","v":0},"bnp paribas overnight fund rp","MAB017","Liquid",null,null,null,null,null,null,null,null,null,null,null,{"$f":"IFERROR(VLOOKUP(ROWS($AE$2:AE1250),P1250:Q3153,2,0),\"\")","v":""},null,null,null,null,{"$f":"IFERROR(VLOOKUP(ROWS($AJ$2:AJ1250),O1250:Q3153,3,0),\"\")","v":""},null,{"$f":"IFERROR(VLOOKUP(ROWS(AL$2:$AL1250),N1250:Q3153,4,0),\"\")","v":""}]
[null,null,null,null,null,null,null,null,null,null,null,null,null,{"$f":"IF(ISNUMBER(SEARCH($H$16,Q1251)),MAX($N$1:N1250)+1,0)","v":0},{"$f":"IF(ISNUMBER(SEARCH($H$11,Q1251)),MAX($O$1:O1250)+1,0)","v":0},{"$f":"IF(ISNUMBER(SEARCH($H$6,Q1251)),MAX($P$1:P1250)+1,0)","v":0},"hsbc cash fund inst plan","MHS013","Liquid",null,null,null,null,null,null,null,null,null,null,null,{"$f":"IFERROR(VLOOKUP(ROWS($AE$2:AE1251),P1251:Q3154,2,0),\"\")","v":""},null,null,null,null,{"$f":"IFERROR(VLOOKUP(ROWS($AJ$2:AJ1251),O1251:Q3154,3,0),\"\")","v":""},null,{"$f":"IFERROR(VLOOKUP(ROWS(AL$2:$AL1251),N1251:Q3154,4,0),\"\")","v":""}]
[null,null,null,null,null,null,null,null,null,null,null,null,null,{"$f":"IF(ISNUMBER(SEARCH($H$16,Q1252)),MAX($N$1:N1251)+1,0)","v":0},{"$f":"IF(ISNUMBER(SEARCH($H$11,Q1252)),MAX($O$1:O1251)+1,0)","v":0},{"$f":"IF(ISNUMBER(SEARCH($H$6,Q1252)),MAX($P$1:P1251)+1,0)","v":0},"can robeco liquid ip","MCA027","Liquid",null,null,null,null,null,null,null,null,null,null,null,{"$f":"IFERROR(VLOOKUP(ROWS($AE$2:AE1252),P1252:Q3155,2,0),\"\")","v":""},null,null,null,null,{"$f":"IFERROR(VLOOKUP(ROWS($AJ$2:AJ1252),O1252:Q3155,3,0),\"\")","v":""},null,{"$f":"IFERROR(VLOOKUP(ROWS(AL$2:$AL1252),N1252:Q3155,4,0),\"\")","v":""}]
[null,null,null,null,null,null,null,null,null,null,null,null,null,{"$f":"IF(ISNUMBER(SEARCH($H$16,Q1253)),MAX($N$1:N1252)+1,0)","v":0},{"$f":"IF(ISNUMBER(SEARCH($H$11,Q1253)),MAX($O$1:O1252)+1,0)","v":0},{"$f":"IF(ISNUMBER(SEARCH($H$6,Q1253)),MAX($P$1:P1252)+1,0)","v":0},"jpmorgan i liquid fund","MJP003","Liquid",null,null,null,null,null,null,null,null,null,null,null,{"$f":"IFERROR(VLOOKUP(ROWS($AE$2:AE1253),P1253:Q3156,2,0),\"\")","v":""},null,null,null,null,{"$f":"IFERROR(VLOOKUP(ROWS($AJ$2:AJ1253),O1253:Q3156,3,0),\"\")","v":""},null,{"$f":"IFERROR(VLOOKUP(ROWS(AL$2:$AL1253),N1253:Q3156,4,0),\"\")","v":""}]
[null,null,null,null,null,null,null,null,null,null,null,null,null,{"$f":"IF(ISNUMBER(SEARCH($H$16,Q1254)),MAX($N$1:N1253)+1,0)","v":0},{"$f":"IF(ISNUMBER(SEARCH($H$11,Q1254)),MAX($O$1:O1253)+1,0)","v":0},{"$f":"IF(ISNUMBER(SEARCH($H$6,Q1254)),MAX($P$1:P1253)+1,0)","v":0},"l t liquid","MCC013","Liquid",null,null,null,null,null,null,null,null,null,null,null,{"$f":"IFERROR(VLOOKUP(ROWS($AE$2:AE1254),P1254:Q3157,2,0),\"\")","v":""},null,null,null,null,{"$f":"IFERROR(VLOOKUP(ROWS($AJ$2:AJ1254),O1254:Q3157,3,0),\"\")","v":""},null,{"$f":"IFERROR(VLOOKUP(ROWS(AL$2:$AL1254),N1254:Q3157,4,0),\"\")","v":""}]
[null,null,null,null,null,null,null,null,null,null,null,null,null,{"$f":"IF(ISNUMBER(SEARCH($H$16,Q1255)),MAX($N$1:N1254)+1,0)","v":0},{"$f":"IF(ISNUMBER(SEARCH($H$11,Q1255)),MAX($O$1:O1254)+1,0)","v":0},{"$f":"IF(ISNUMBER(SEARCH($H$6,Q1255)),MAX($P$1:P1254)+1,0)","v":0},"mirae liquid fund rp","MMA005","Liquid",null,null,null,null,null,null,null,null,null,null,null,{"$f":"IFERROR(VLOOKUP(ROWS($AE$2:AE1255),P1255:Q3158,2,0),\"\")","v":""},null,null,null,null,{"$f":"IFERROR(VLOOKUP(ROWS($AJ$2:AJ1255),O1255:Q3158,3,0),\"\")","v":""},null,{"$f":"IFERROR(VLOOKUP(ROWS(AL$2:$AL1255),N1255:Q3158,4,0),\"\")","v":""}]
[null,null,null,null,null,null,null,null,null,null,null,null,null,{"$f":"IF(ISNUMBER(SEARCH($H$16,Q1256)),MAX($N$1:N1255)+1,0)","v":0},{"$f":"IF(ISNUMBER(SEARCH($H$11,Q1256)),MAX($O$1:O1255)+1,0)","v":0},{"$f":"IF(ISNUMBER(SEARCH($H$6,Q1256)),MAX($P$1:P1255)+1,0)","v":0},"kotak liquid inst plan regular","MKM042","Liquid",null,null,null,null,null,null,null,null,null,null,null,{"$f":"IFERROR(VLOOKUP(ROWS($AE$2:AE1256),P1256:Q3159,2,0),\"\")","v":""},null,null,null,null,{"$f":"IFERROR(VLOOKUP(ROWS($AJ$2:AJ1256),O1256:Q3159,3,0),\"\")","v":""},null,{"$f":"IFERROR(VLOOKUP(ROWS(AL$2:$AL1256),N1256:Q3159,4,0),\"\")","v":""}]
[null,null,null,null,null,null,null,null,null,null,null,null,null,{"$f":"IF(ISNUMBER(SEARCH($H$16,Q1257)),MAX($N$1:N1256)+1,0)","v":4},{"$f":"IF(ISNUMBER(SEARCH($H$11,Q1257)),MAX($O$1:O1256)+1,0)","v":0},{"$f":"IF(ISNUMBER(SEARCH($H$6,Q1257)),MAX($P$1:P1256)+1,0)","v":4},"quantum liquid fund","MQU003","Liquid",null,null,null,null,null,null,null,null,null,null,null,{"$f":"IFERROR(VLOOKUP(ROWS($AE$2:AE1257),P1257:Q3160,2,0),\"\")","v":""},null,null,null,null,{"$f":"IFERROR(VLOOKUP(ROWS($AJ$2:AJ1257),O1257:Q3160,3,0),\"\")","v":""},null,{"$f":"IFERROR(VLOOKUP(ROWS(AL$2:$AL1257),N1257:Q3160,4,0),\"\")","v":""}]
[null,null,null,null,null,null,null,null,null,null,null,null,null,{"$f":"IF(ISNUMBER(SEARCH($H$16,Q1258)),MAX($N$1:N1257)+1,0)","v":0},{"$f":"IF(ISNUMBER(SEARCH($H$11,Q1258)),MAX($O$1:O1257)+1,0)","v":0},{"$f":"IF(ISNUMBER(SEARCH($H$6,Q1258)),MAX($P$1:P1257)+1,0)","v":0},"franklin i tma liquid ip","MTE072","Liquid",null,null,null,null,null,null,null,null,null,null,null,{"$f":"IFERROR(VLOOKUP(ROWS($AE$2:AE1258),P1258:Q3161,2,0),\"\")","v":""},null,null,null,null,{"$f":"IFERROR(VLOOKUP(ROWS($AJ$2:AJ1258),O1258:Q3161,3,0),\"\")","v":""},null,{"$f":"IFERROR(VLOOKUP(ROWS(AL$2:$AL1258),N1258:Q3161,4,0),\"\")","v":""}]
[null,null,null,null,null,null,null,null,null,null,null,null,null,{"$f":"IF(ISNUMBER(SEARCH($H$16,Q1259)),MAX($N$1:N1258)+1,0)","v":0},{"$f":"IF(ISNUMBER(SEARCH($H$11,Q1259)),MAX($O$1:O1258)+1,0)","v":0},{"$f":"IF(ISNUMBER(SEARCH($H$6,Q1259)),MAX($P$1:P1258)+1,0)","v":0},"mirae cash mgmt fund","MMA048","Liquid",null,null,null,null,null,null,null,null,null,null,null,{"$f":"IFERROR(VLOOKUP(ROWS($AE$2:AE1259),P1259:Q3162,2,0),\"\")","v":""},null,null,null,null,{"$f":"IFERROR(VLOOKUP(ROWS($AJ$2:AJ1259),O1259:Q3162,3,0),\"\")","v":""},null,{"$f":"IFERROR(VLOOKUP(ROWS(AL$2:$AL1259),N1259:Q3162,4,0),\"\")","v":""}]
[null,null,null,null,null,null,null,null,null,null,null,null,null,{"$f":"IF(ISNUMBER(SEARCH($H$16,Q1260)),MAX($N$1:N1259)+1,0)","v":0},{"$f":"IF(ISNUMBER(SEARCH($H$11,Q1260)),MAX($O$1:O1259)+1,0)","v":0},{"$f":"IF(ISNUMBER(SEARCH($H$6,Q1260)),MAX($P$1:P1259)+1,0)","v":0},"mirae liquid fund ip","MMA008","Liquid",null,null,null,null,null,null,null,null,null,null,null,{"$f":"IFERROR(VLOOKUP(ROWS($AE$2:AE1260),P1260:Q3163,2,0),\"\")","v":""},null,null,null,null,{"$f":"IFERROR(VLOOKUP(ROWS($AJ$2:AJ1260),O1260:Q3163,3,0),\"\")","v":""},null,{"$f":"IFERROR(VLOOKUP(ROWS(AL$2:$AL1260),N1260:Q3163,4,0),\"\")","v":""}]
[null,null,null,null,null,null,null,null,null,null,null,null,null,{"$f":"IF(ISNUMBER(SEARCH($H$16,Q1261)),MAX($N$1:N1260)+1,0)","v":0},{"$f":"IF(ISNUMBER(SEARCH($H$11,Q1261)),MAX($O$1:O1260)+1,0)","v":0},{"$f":"IF(ISNUMBER(SEARCH($H$6,Q1261)),MAX($P$1:P1260)+1,0)","v":0},"edelweiss liquid fund ip","MEW007","Liquid",null,null,null,null,null,null,null,null,null,null,null,{"$f":"IFERROR(VLOOKUP(ROWS($AE$2:AE1261),P1261:Q3164,2,0),\"\")","v":""},null,null,null,null,{"$f":"IFERROR(VLOOKUP(ROWS($AJ$2:AJ1261),O1261:Q3164,3,0),\"\")","v":""},null,{"$f":"IFERROR(VLOOKUP(ROWS(AL$2:$AL1261),N1261:Q3164,4,0),\"\")","v":""}]
[null,null,null,null,null,null,null,null,null,null,null,null,null,{"$f":"IF(ISNUMBER(SEARCH($H$16,Q1262)),MAX($N$1:N1261)+1,0)","v":0},{"$f":"IF(ISNUMBER(SEARCH($H$11,Q1262)),MAX($O$1:O1261)+1,0)","v":0},{"$f":"IF(ISNUMBER(SEARCH($H$6,Q1262)),MAX($P$1:P1261)+1,0)","v":0},"sbi magnum cash liq float g","MSB027","Liquid",null,null,null,null,null,null,null,null,null,null,null,{"$f":"IFERROR(VLOOKUP(ROWS($AE$2:AE1262),P1262:Q3165,2,0),\"\")","v":""},null,null,null,null,{"$f":"IFERROR(VLOOKUP(ROWS($AJ$2:AJ1262),O1262:Q3165,3,0),\"\")","v":""},null,{"$f":"IFERROR(VLOOKUP(ROWS(AL$2:$AL1262),N1262:Q3165,4,0),\"\")","v":""}]
[null,null,null,null,null,null,null,null,null,null,null,null,null,{"$f":"IF(ISNUMBER(SEARCH($H$16,Q1263)),MAX($N$1:N1262)+1,0)","v":0},{"$f":"IF(ISNUMBER(SEARCH($H$11,Q1263)),MAX($O$1:O1262)+1,0)","v":0},{"$f":"IF(ISNUMBER(SEARCH($H$6,Q1263)),MAX($P$1:P1262)+1,0)","v":0},"idfc cash fund inst plan b","MAG022","Liquid",null,null,null,null,null,null,null,null,null,null,null,{"$f":"IFERROR(VLOOKUP(ROWS($AE$2:AE1263),P1263:Q3166,2,0),\"\")","v":""},null,null,null,null,{"$f":"IFERROR(VLOOKUP(ROWS($AJ$2:AJ1263),O1263:Q3166,3,0),\"\")","v":""},null,{"$f":"IFERROR(VLOOKUP(ROWS(AL$2:$AL1263),N1263:Q3166,4,0),\"\")","v":""}]
[null,null,null,null,null,null,null,null,null,null,null,null,null,{"$f":"IF(ISNUMBER(SEARCH($H$16,Q1264)),MAX($N$1:N1263)+1,0)","v":0},{"$f":"IF(ISNUMBER(SEARCH($H$11,Q1264)),MAX($O$1:O1263)+1,0)","v":0},{"$f":"IF(ISNUMBER(SEARCH($H$6,Q1264)),MAX($P$1:P1263)+1,0)","v":0},"tata liquid fund hip","MTA039","Liquid",null,null,null,null,null,null,null,null,null,null,null,{"$f":"IFERROR(VLOOKUP(ROWS($AE$2:AE1264),P1264:Q3167,2,0),\"\")","v":""},null,null,null,null,{"$f":"IFERROR(VLOOKUP(ROWS($AJ$2:AJ1264),O1264:Q3167,3,0),\"\")","v":""},null,{"$f":"IFERROR(VLOOKUP(ROWS(AL$2:$AL1264),N1264:Q3167,4,0),\"\")","v":""}]
[null,null,null,null,null,null,null,null,null,null,null,null,null,{"$f":"IF(ISNUMBER(SEARCH($H$16,Q1265)),MAX($N$1:N1264)+1,0)","v":0},{"$f":"IF(ISNUMBER(SEARCH($H$11,Q1265)),MAX($O$1:O1264)+1,0)","v":0},{"$f":"IF(ISNUMBER(SEARCH($H$6,Q1265)),MAX($P$1:P1264)+1,0)","v":0},"can robeco liquid retail","MCA013","Liquid",null,null,null,null,null,null,null,null,null,null,null,{"$f":"IFERROR(VLOOKUP(ROWS($AE$2:AE1265),P1265:Q3168,2,0),\"\")","v":""},null,null,null,null,{"$f":"IFERROR(VLOOKUP(ROWS($AJ$2:AJ1265),O1265:Q3168,3,0),\"\")","v":""},null,{"$f":"IFERROR(VLOOKUP(ROWS(AL$2:$AL1265),N1265:Q3168,4,0),\"\")","v":""}]
[null,null,null,null,null,null,null,null,null,null,null,null,null,{"$f":"IF(ISNUMBER(SEARCH($H$16,Q1266)),MAX($N$1:N1265)+1,0)","v":0},{"$f":"IF(ISNUMBER(SEARCH($H$11,Q1266)),MAX($O$1:O1265)+1,0)","v":0},{"$f":"IF(ISNUMBER(SEARCH($H$6,Q1266)),MAX($P$1:P1265)+1,0)","v":0},"axis liquid fund retail","MAA025","Liquid",null,null,null,null,null,null,null,null,null,null,null,{"$f":"IFERROR(VLOOKUP(ROWS($AE$2:AE1266),P1266:Q3169,2,0),\"\")","v":""},null,null,null,null,{"$f":"IFERROR(VLOOKUP(ROWS($AJ$2:AJ1266),O1266:Q3169,3,0),\"\")","v":""},null,{"$f":"IFERROR(VLOOKUP(ROWS(AL$2:$AL1266),N1266:Q3169,4,0),\"\")","v":""}]
[null,null,null,null,null,null,null,null,null,null,null,null,null,{"$f":"IF(ISNUMBER(SEARCH($H$16,Q1267)),MAX($N$1:N1266)+1,0)","v":0},{"$f":"IF(ISNUMBER(SEARCH($H$11,Q1267)),MAX($O$1:O1266)+1,0)","v":0},{"$f":"IF(ISNUMBER(SEARCH($H$6,Q1267)),MAX($P$1:P1266)+1,0)","v":0},"hdfc liquid premium plus","MHD028","Liquid",null,null,null,null,null,null,null,null,null,null,null,{"$f":"IFERROR(VLOOKUP(ROWS($AE$2:AE1267),P1267:Q3170,2,0),\"\")","v":""},null,null,null,null,{"$f":"IFERROR(VLOOKUP(ROWS($AJ$2:AJ1267),O1267:Q3170,3,0),\"\")","v":""},null,{"$f":"IFERROR(VLOOKUP(ROWS(AL$2:$AL1267),N1267:Q3170,4,0),\"\")","v":""}]
[null,null,null,null,null,null,null,null,null,null,null,null,null,{"$f":"IF(ISNUMBER(SEARCH($H$16,Q1268)),MAX($N$1:N1267)+1,0)","v":0},{"$f":"IF(ISNUMBER(SEARCH($H$11,Q1268)),MAX($O$1:O1267)+1,0)","v":0},{"$f":"IF(ISNUMBER(SEARCH($H$6,Q1268)),MAX($P$1:P1267)+1,0)","v":0},"idfc cash fund plan a","MAG007","Liquid",null,null,null,null,null,null,null,null,null,null,null,{"$f":"IFERROR(VLOOKUP(ROWS($AE$2:AE1268),P1268:Q3171,2,0),\"\")","v":""},null,null,null,null,{"$f":"IFERROR(VLOOKUP(ROWS($AJ$2:AJ1268),O1268:Q3171,3,0),\"\")","v":""},null,{"$f":"IFERROR(VLOOKUP(ROWS(AL$2:$AL1268),N1268:Q3171,4,0),\"\")","v":""}]
[null,null,null,null,null,null,null,null,null,null,null,null,null,{"$f":"IF(ISNUMBER(SEARCH($H$16,Q1269)),MAX($N$1:N1268)+1,0)","v":0},{"$f":"IF(ISNUMBER(SEARCH($H$11,Q1269)),MAX($O$1:O1268)+1,0)","v":0},{"$f":"IF(ISNUMBER(SEARCH($H$6,Q1269)),MAX($P$1:P1268)+1,0)","v":0},"franklin i tma reg","MKP012","Liquid",null,null,null,null,null,null,null,null,null,null,null,{"$f":"IFERROR(VLOOKUP(ROWS($AE$2:AE1269),P1269:Q3172,2,0),\"\")","v":""},null,null,null,null,{"$f":"IFERROR(VLOOKUP(ROWS($AJ$2:AJ1269),O1269:Q3172,3,0),\"\")","v":""},null,{"$f":"IFERROR(VLOOKUP(ROWS(AL$2:$AL1269),N1269:Q3172,4,0),\"\")","v":""}]
[null,null,null,null,null,null,null,null,null,null,null,null,null,{"$f":"IF(ISNUMBER(SEARCH($H$16,Q1270)),MAX($N$1:N1269)+1,0)","v":0},{"$f":"IF(ISNUMBER(SEARCH($H$11,Q1270)),MAX($O$1:O1269)+1,0)","v":0},{"$f":"IF(ISNUMBER(SEARCH($H$6,Q1270)),MAX($P$1:P1269)+1,0)","v":0},"iifl liquid fund regular","MII038","Liquid",null,null,null,null,null,null,null,null,null,null,null,{"$f":"IFERROR(VLOOKUP(ROWS($AE$2:AE1270),P1270:Q3173,2,0),\"\")","v":""},null,null,null,null,{"$f":"IFERROR(VLOOKUP(ROWS($AJ$2:AJ1270),O1270:Q3173,3,0),\"\")","v":""},null,{"$f":"IFERROR(VLOOKUP(ROWS(AL$2:$AL1270),N1270:Q3173,4,0),\"\")","v":""}]
[null,null,null,null,null,null,null,null,null,null,null,null,null,{"$f":"IF(ISNUMBER(SEARCH($H$16,Q1271)),MAX($N$1:N1270)+1,0)","v":0},{"$f":"IF(ISNUMBER(SEARCH($H$11,Q1271)),MAX($O$1:O1270)+1,0)","v":0},{"$f":"IF(ISNUMBER(SEARCH($H$6,Q1271)),MAX($P$1:P1270)+1,0)","v":0},"tata liquidity mgmt fund regular","MTA144","Liquid",null,null,null,null,null,null,null,null,null,null,null,{"$f":"IFERROR(VLOOKUP(ROWS($AE$2:AE1271),P1271:Q3174,2,0),\"\")","v":""},null,null,null,null,{"$f":"IFERROR(VLOOKUP(ROWS($AJ$2:AJ1271),O1271:Q3174,3,0),\"\")","v":""},null,{"$f":"IFERROR(VLOOKUP(ROWS(AL$2:$AL1271),N1271:Q3174,4,0),\"\")","v":""}]
[null,null,null,null,null,null,null,null,null,null,null,null,null,{"$f":"IF(ISNUMBER(SEARCH($H$16,Q1272)),MAX($N$1:N1271)+1,0)","v":0},{"$f":"IF(ISNUMBER(SEARCH($H$11,Q1272)),MAX($O$1:O1271)+1,0)","v":0},{"$f":"IF(ISNUMBER(SEARCH($H$6,Q1272)),MAX($P$1:P1271)+1,0)","v":0},"uti money market fund","MUT028","Liquid",null,null,null,null,null,null,null,null,null,null,null,{"$f":"IFERROR(VLOOKUP(ROWS($AE$2:AE1272),P1272:Q3175,2,0),\"\")","v":""},null,null,null,null,{"$f":"IFERROR(VLOOKUP(ROWS($AJ$2:AJ1272),O1272:Q3175,3,0),\"\")","v":""},null,{"$f":"IFERROR(VLOOKUP(ROWS(AL$2:$AL1272),N1272:Q3175,4,0),\"\")","v":""}]
[null,null,null,null,null,null,null,null,null,null,null,null,null,{"$f":"IF(ISNUMBER(SEARCH($H$16,Q1273)),MAX($N$1:N1272)+1,0)","v":0},{"$f":"IF(ISNUMBER(SEARCH($H$11,Q1273)),MAX($O$1:O1272)+1,0)","v":0},{"$f":"IF(ISNUMBER(SEARCH($H$6,Q1273)),MAX($P$1:P1272)+1,0)","v":0},"reliance liquid cash","MRC014","Liquid",null,null,null,null,null,null,null,null,null,null,null,{"$f":"IFERROR(VLOOKUP(ROWS($AE$2:AE1273),P1273:Q3176,2,0),\"\")","v":""},null,null,null,null,{"$f":"IFERROR(VLOOKUP(ROWS($AJ$2:AJ1273),O1273:Q3176,3,0),\"\")","v":""},null,{"$f":"IFERROR(VLOOKUP(ROWS(AL$2:$AL1273),N1273:Q3176,4,0),\"\")","v":""}]
[null,null,null,null,null,null,null,null,null,null,null,null,null,{"$f":"IF(ISNUMBER(SEARCH($H$16,Q1274)),MAX($N$1:N1273)+1,0)","v":0},{"$f":"IF(ISNUMBER(SEARCH($H$11,Q1274)),MAX($O$1:O1273)+1,0)","v":0},{"$f":"IF(ISNUMBER(SEARCH($H$6,Q1274)),MAX($P$1:P1273)+1,0)","v":0},"uti liquid cash plan","MUT046","Liquid",null,null,null,null,null,null,null,null,null,null,null,{"$f":"IFERROR(VLOOKUP(ROWS($AE$2:AE1274),P1274:Q3177,2,0),\"\")","v":""},null,null,null,null,{"$f":"IFERROR(VLOOKUP(ROWS($AJ$2:AJ1274),O1274:Q3177,3,0),\"\")","v":""},null,{"$f":"IFERROR(VLOOKUP(ROWS(AL$2:$AL1274),N1274:Q3177,4,0),\"\")","v":""}]
[null,null,null,null,null,null,null,null,null,null,null,null,null,{"$f":"IF(ISNUMBER(SEARCH($H$16,Q1275)),MAX($N$1:N1274)+1,0)","v":0},{"$f":"IF(ISNUMBER(SEARCH($H$11,Q1275)),MAX($O$1:O1274)+1,0)","v":0},{"$f":"IF(ISNUMBER(SEARCH($H$6,Q1275)),MAX($P$1:P1274)+1,0)","v":0},"taurus liquid fund rp","MCM010","Liquid",null,null,null,null,null,null,null,null,null,null,null,{"$f":"IFERROR(VLOOKUP(ROWS($AE$2:AE1275),P1275:Q3178,2,0),\"\")","v":""},null,null,null,null,{"$f":"IFERROR(VLOOKUP(ROWS($AJ$2:AJ1275),O1275:Q3178,3,0),\"\")","v":""},null,{"$f":"IFERROR(VLOOKUP(ROWS(AL$2:$AL1275),N1275:Q3178,4,0),\"\")","v":""}]
[null,null,null,null,null,null,null,null,null,null,null,null,null,{"$f":"IF(ISNUMBER(SEARCH($H$16,Q1276)),MAX($N$1:N1275)+1,0)","v":0},{"$f":"IF(ISNUMBER(SEARCH($H$11,Q1276)),MAX($O$1:O1275)+1,0)","v":0},{"$f":"IF(ISNUMBER(SEARCH($H$6,Q1276)),MAX($P$1:P1275)+1,0)","v":0},"icici pru money market rp","MPI033","Liquid",null,null,null,null,null,null,null,null,null,null,null,{"$f":"IFERROR(VLOOKUP(ROWS($AE$2:AE1276),P1276:Q3179,2,0),\"\")","v":""},null,null,null,null,{"$f":"IFERROR(VLOOKUP(ROWS($AJ$2:AJ1276),O1276:Q3179,3,0),\"\")","v":""},null,{"$f":"IFERROR(VLOOKUP(ROWS(AL$2:$AL1276),N1276:Q3179,4,0),\"\")","v":""}]
[null,null,null,null,null,null,null,null,null,null,null,null,null,{"$f":"IF(ISNUMBER(SEARCH($H$16,Q1277)),MAX($N$1:N1276)+1,0)","v":0},{"$f":"IF(ISNUMBER(SEARCH($H$11,Q1277)),MAX($O$1:O1276)+1,0)","v":0},{"$f":"IF(ISNUMBER(SEARCH($H$6,Q1277)),MAX($P$1:P1276)+1,0)","v":0},"religare invesco overnight dp","MLI576","Liquid",null,null,null,null,null,null,null,null,null,null,null,{"$f":"IFERROR(VLOOKUP(ROWS($AE$2:AE1277),P1277:Q3180,2,0),\"\")","v":""},null,null,null,null,{"$f":"IFERROR(VLOOKUP(ROWS($AJ$2:AJ1277),O1277:Q3180,3,0),\"\")","v":""},null,{"$f":"IFERROR(VLOOKUP(ROWS(AL$2:$AL1277),N1277:Q3180,4,0),\"\")","v":""}]
[null,null,null,null,null,null,null,null,null,null,null,null,null,{"$f":"IF(ISNUMBER(SEARCH($H$16,Q1278)),MAX($N$1:N1277)+1,0)","v":0},{"$f":"IF(ISNUMBER(SEARCH($H$11,Q1278)),MAX($O$1:O1277)+1,0)","v":0},{"$f":"IF(ISNUMBER(SEARCH($H$6,Q1278)),MAX($P$1:P1277)+1,0)","v":0},"icici pru liquid ins plan","MPI041","Liquid",null,null,null,null,null,null,null,null,null,null,null,{"$f":"IFERROR(VLOOKUP(ROWS($AE$2:AE1278),P1278:Q3181,2,0),\"\")","v":""},null,null,null,null,{"$f":"IFERROR(VLOOKUP(ROWS($AJ$2:AJ1278),O1278:Q3181,3,0),\"\")","v":""},null,{"$f":"IFERROR(VLOOKUP(ROWS(AL$2:$AL1278),N1278:Q3181,4,0),\"\")","v":""}]
[null,null,null,null,null,null,null,null,null,null,null,null,null,{"$f":"IF(ISNUMBER(SEARCH($H$16,Q1279)),MAX($N$1:N1278)+1,0)","v":0},{"$f":"IF(ISNUMBER(SEARCH($H$11,Q1279)),MAX($O$1:O1278)+1,0)","v":0},{"$f":"IF(ISNUMBER(SEARCH($H$6,Q1279)),MAX($P$1:P1278)+1,0)","v":0},"tata liquid fund app ","MTA011","Liquid",null,null,null,null,null,null,null,null,null,null,null,{"$f":"IFERROR(VLOOKUP(ROWS($AE$2:AE1279),P1279:Q3182,2,0),\"\")","v":""},null,null,null,null,{"$f":"IFERROR(VLOOKUP(ROWS($AJ$2:AJ1279),O1279:Q3182,3,0),\"\")","v":""},null,{"$f":"IFERROR(VLOOKUP(ROWS(AL$2:$AL1279),N1279:Q3182,4,0),\"\")","v":""}]
[null,null,null,null,null,null,null,null,null,null,null,null,null,{"$f":"IF(ISNUMBER(SEARCH($H$16,Q1280)),MAX($N$1:N1279)+1,0)","v":0},{"$f":"IF(ISNUMBER(SEARCH($H$11,Q1280)),MAX($O$1:O1279)+1,0)","v":0},{"$f":"IF(ISNUMBER(SEARCH($H$6,Q1280)),MAX($P$1:P1279)+1,0)","v":0},"tata money market fund g ","MTA071","Liquid",null,null,null,null,null,null,null,null,null,null,null,{"$f":"IFERROR(VLOOKUP(ROWS($AE$2:AE1280),P1280:Q3183,2,0),\"\")","v":""},null,null,null,null,{"$f":"IFERROR(VLOOKUP(ROWS($AJ$2:AJ1280),O1280:Q3183,3,0),\"\")","v":""},null,{"$f":"IFERROR(VLOOKUP(ROWS(AL$2:$AL1280),N1280:Q3183,4,0),\"\")","v":""}]
[null,null,null,null,null,null,null,null,null,null,null,null,null,{"$f":"IF(ISNUMBER(SEARCH($H$16,Q1281)),MAX($N$1:N1280)+1,0)","v":0},{"$f":"IF(ISNUMBER(SEARCH($H$11,Q1281)),MAX($O$1:O1280)+1,0)","v":0},{"$f":"IF(ISNUMBER(SEARCH($H$6,Q1281)),MAX($P$1:P1280)+1,0)","v":0},"icici pru liquid plan inst i","MPI134","Liquid",null,null,null,null,null,null,null,null,null,null,null,{"$f":"IFERROR(VLOOKUP(ROWS($AE$2:AE1281),P1281:Q3184,2,0),\"\")","v":""},null,null,null,null,{"$f":"IFERROR(VLOOKUP(ROWS($AJ$2:AJ1281),O1281:Q3184,3,0),\"\")","v":""},null,{"$f":"IFERROR(VLOOKUP(ROWS(AL$2:$AL1281),N1281:Q3184,4,0),\"\")","v":""}]
[null,null,null,null,null,null,null,null,null,null,null,null,null,{"$f":"IF(ISNUMBER(SEARCH($H$16,Q1282)),MAX($N$1:N1281)+1,0)","v":0},{"$f":"IF(ISNUMBER(SEARCH($H$11,Q1282)),MAX($O$1:O1281)+1,0)","v":0},{"$f":"IF(ISNUMBER(SEARCH($H$6,Q1282)),MAX($P$1:P1281)+1,0)","v":0},"icici pru liquid plan retail","MPI001","Liquid",null,null,null,null,null,null,null,null,null,null,null,{"$f":"IFERROR(VLOOKUP(ROWS($AE$2:AE1282),P1282:Q3185,2,0),\"\")","v":""},null,null,null,null,{"$f":"IFERROR(VLOOKUP(ROWS($AJ$2:AJ1282),O1282:Q3185,3,0),\"\")","v":""},null,{"$f":"IFERROR(VLOOKUP(ROWS(AL$2:$AL1282),N1282:Q3185,4,0),\"\")","v":""}]
[null,null,null,null,null,null,null,null,null,null,null,null,null,{"$f":"IF(ISNUMBER(SEARCH($H$16,Q1283)),MAX($N$1:N1282)+1,0)","v":0},{"$f":"IF(ISNUMBER(SEARCH($H$11,Q1283)),MAX($O$1:O1282)+1,0)","v":0},{"$f":"IF(ISNUMBER(SEARCH($H$6,Q1283)),MAX($P$1:P1282)+1,0)","v":0},"sahara liq variable pricing g","MFI029","Liquid",null,null,null,null,null,null,null,null,null,null,null,{"$f":"IFERROR(VLOOKUP(ROWS($AE$2:AE1283),P1283:Q3186,2,0),\"\")","v":""},null,null,null,null,{"$f":"IFERROR(VLOOKUP(ROWS($AJ$2:AJ1283),O1283:Q3186,3,0),\"\")","v":""},null,{"$f":"IFERROR(VLOOKUP(ROWS(AL$2:$AL1283),N1283:Q3186,4,0),\"\")","v":""}]
[null,null,null,null,null,null,null,null,null,null,null,null,null,{"$f":"IF(ISNUMBER(SEARCH($H$16,Q1284)),MAX($N$1:N1283)+1,0)","v":0},{"$f":"IF(ISNUMBER(SEARCH($H$11,Q1284)),MAX($O$1:O1283)+1,0)","v":0},{"$f":"IF(ISNUMBER(SEARCH($H$6,Q1284)),MAX($P$1:P1283)+1,0)","v":0},"l t cash fund rp","MFF013","Liquid",null,null,null,null,null,null,null,null,null,null,null,{"$f":"IFERROR(VLOOKUP(ROWS($AE$2:AE1284),P1284:Q3187,2,0),\"\")","v":""},null,null,null,null,{"$f":"IFERROR(VLOOKUP(ROWS($AJ$2:AJ1284),O1284:Q3187,3,0),\"\")","v":""},null,{"$f":"IFERROR(VLOOKUP(ROWS(AL$2:$AL1284),N1284:Q3187,4,0),\"\")","v":""}]
[null,null,null,null,null,null,null,null,null,null,null,null,null,{"$f":"IF(ISNUMBER(SEARCH($H$16,Q1285)),MAX($N$1:N1284)+1,0)","v":0},{"$f":"IF(ISNUMBER(SEARCH($H$11,Q1285)),MAX($O$1:O1284)+1,0)","v":0},{"$f":"IF(ISNUMBER(SEARCH($H$6,Q1285)),MAX($P$1:P1284)+1,0)","v":0},"hsbc cash fund rp","MHS007","Liquid",null,null,null,null,null,null,null,null,null,null,null,{"$f":"IFERROR(VLOOKUP(ROWS($AE$2:AE1285),P1285:Q3188,2,0),\"\")","v":""},null,null,null,null,{"$f":"IFERROR(VLOOKUP(ROWS($AJ$2:AJ1285),O1285:Q3188,3,0),\"\")","v":""},null,{"$f":"IFERROR(VLOOKUP(ROWS(AL$2:$AL1285),N1285:Q3188,4,0),\"\")","v":""}]
[null,null,null,null,null,null,null,null,null,null,null,null,null,{"$f":"IF(ISNUMBER(SEARCH($H$16,Q1286)),MAX($N$1:N1285)+1,0)","v":0},{"$f":"IF(ISNUMBER(SEARCH($H$11,Q1286)),MAX($O$1:O1285)+1,0)","v":0},{"$f":"IF(ISNUMBER(SEARCH($H$6,Q1286)),MAX($P$1:P1285)+1,0)","v":0},"religare invesco overnight","MLI135","Liquid",null,null,null,null,null,null,null,null,null,null,null,{"$f":"IFERROR(VLOOKUP(ROWS($AE$2:AE1286),P1286:Q3189,2,0),\"\")","v":""},null,null,null,null,{"$f":"IFERROR(VLOOKUP(ROWS($AJ$2:AJ1286),O1286:Q3189,3,0),\"\")","v":""},null,{"$f":"IFERROR(VLOOKUP(ROWS(AL$2:$AL1286),N1286:Q3189,4,0),\"\")","v":""}]
[null,null,null,null,null,null,null,null,null,null,null,null,null,{"$f":"IF(ISNUMBER(SEARCH($H$16,Q1287)),MAX($N$1:N1286)+1,0)","v":0},{"$f":"IF(ISNUMBER(SEARCH($H$11,Q1287)),MAX($O$1:O1286)+1,0)","v":0},{"$f":"IF(ISNUMBER(SEARCH($H$6,Q1287)),MAX($P$1:P1286)+1,0)","v":0},"reliance liquid fund tp","MRC007","Liquid",null,null,null,null,null,null,null,null,null,null,null,{"$f":"IFERROR(VLOOKUP(ROWS($AE$2:AE1287),P1287:Q3190,2,0),\"\")","v":""},null,null,null,null,{"$f":"IFERROR(VLOOKUP(ROWS($AJ$2:AJ1287),O1287:Q3190,3,0),\"\")","v":""},null,{"$f":"IFERROR(VLOOKUP(ROWS(AL$2:$AL1287),N1287:Q3190,4,0),\"\")","v":""}]
[null,null,null,null,null,null,null,null,null,null,null,null,null,{"$f":"IF(ISNUMBER(SEARCH($H$16,Q1288)),MAX($N$1:N1287)+1,0)","v":0},{"$f":"IF(ISNUMBER(SEARCH($H$11,Q1288)),MAX($O$1:O1287)+1,0)","v":0},{"$f":"IF(ISNUMBER(SEARCH($H$6,Q1288)),MAX($P$1:P1287)+1,0)","v":0},"edelweiss liquid fund sip","MEW013","Liquid",null,null,null,null,null,null,null,null,null,null,null,{"$f":"IFERROR(VLOOKUP(ROWS($AE$2:AE1288),P1288:Q3191,2,0),\"\")","v":""},null,null,null,null,{"$f":"IFERROR(VLOOKUP(ROWS($AJ$2:AJ1288),O1288:Q3191,3,0),\"\")","v":""},null,{"$f":"IFERROR(VLOOKUP(ROWS(AL$2:$AL1288),N1288:Q3191,4,0),\"\")","v":""}]
[null,null,null,null,null,null,null,null,null,null,null,null,null,{"$f":"IF(ISNUMBER(SEARCH($H$16,Q1289)),MAX($N$1:N1288)+1,0)","v":0},{"$f":"IF(ISNUMBER(SEARCH($H$11,Q1289)),MAX($O$1:O1288)+1,0)","v":0},{"$f":"IF(ISNUMBER(SEARCH($H$6,Q1289)),MAX($P$1:P1288)+1,0)","v":0},"l t cash fund ip","MFF017","Liquid",null,null,null,null,null,null,null,null,null,null,null,{"$f":"IFERROR(VLOOKUP(ROWS($AE$2:AE1289),P1289:Q3192,2,0),\"\")","v":""},null,null,null,null,{"$f":"IFERROR(VLOOKUP(ROWS($AJ$2:AJ1289),O1289:Q3192,3,0),\"\")","v":""},null,{"$f":"IFERROR(VLOOKUP(ROWS(AL$2:$AL1289),N1289:Q3192,4,0),\"\")","v":""}]
[null,null,null,null,null,null,null,null,null,null,null,null,null,{"$f":"IF(ISNUMBER(SEARCH($H$16,Q1290)),MAX($N$1:N1289)+1,0)","v":0},{"$f":"IF(ISNUMBER(SEARCH($H$11,Q1290)),MAX($O$1:O1289)+1,0)","v":0},{"$f":"IF(ISNUMBER(SEARCH($H$6,Q1290)),MAX($P$1:P1289)+1,0)","v":0},"kotak liquid regular","MKM019","Liquid",null,null,null,null,null,null,null,null,null,null,null,{"$f":"IFERROR(VLOOKUP(ROWS($AE$2:AE1290),P1290:Q3193,2,0),\"\")","v":""},null,null,null,null,{"$f":"IFERROR(VLOOKUP(ROWS($AJ$2:AJ1290),O1290:Q3193,3,0),\"\")","v":""},null,{"$f":"IFERROR(VLOOKUP(ROWS(AL$2:$AL1290),N1290:Q3193,4,0),\"\")","v":""}]
[null,null,null,null,null,null,null,null,null,null,null,null,null,{"$f":"IF(ISNUMBER(SEARCH($H$16,Q1291)),MAX($N$1:N1290)+1,0)","v":0},{"$f":"IF(ISNUMBER(SEARCH($H$11,Q1291)),MAX($O$1:O1290)+1,0)","v":0},{"$f":"IF(ISNUMBER(SEARCH($H$6,Q1291)),MAX($P$1:P1290)+1,0)","v":0},"l t cash fund","MFF021","Liquid",null,null,null,null,null,null,null,null,null,null,null,{"$f":"IFERROR(VLOOKUP(ROWS($AE$2:AE1291),P1291:Q3194,2,0),\"\")","v":""},null,null,null,null,{"$f":"IFERROR(VLOOKUP(ROWS($AJ$2:AJ1291),O1291:Q3194,3,0),\"\")","v":""},null,{"$f":"IFERROR(VLOOKUP(ROWS(AL$2:$AL1291),N1291:Q3194,4,0),\"\")","v":""}]
[null,null,null,null,null,null,null,null,null,null,null,null,null,{"$f":"IF(ISNUMBER(SEARCH($H$16,Q1292)),MAX($N$1:N1291)+1,0)","v":0},{"$f":"IF(ISNUMBER(SEARCH($H$11,Q1292)),MAX($O$1:O1291)+1,0)","v":0},{"$f":"IF(ISNUMBER(SEARCH($H$6,Q1292)),MAX($P$1:P1291)+1,0)","v":0},"icici pru liquid ins plus","MPI061","Liquid",null,null,null,null,null,null,null,null,null,null,null,{"$f":"IFERROR(VLOOKUP(ROWS($AE$2:AE1292),P1292:Q3195,2,0),\"\")","v":""},null,null,null,null,{"$f":"IFERROR(VLOOKUP(ROWS($AJ$2:AJ1292),O1292:Q3195,3,0),\"\")","v":""},null,{"$f":"IFERROR(VLOOKUP(ROWS(AL$2:$AL1292),N1292:Q3195,4,0),\"\")","v":""}]
[null,null,null,null,null,null,null,null,null,null,null,null,null,{"$f":"IF(ISNUMBER(SEARCH($H$16,Q1293)),MAX($N$1:N1292)+1,0)","v":0},{"$f":"IF(ISNUMBER(SEARCH($H$11,Q1293)),MAX($O$1:O1292)+1,0)","v":0},{"$f":"IF(ISNUMBER(SEARCH($H$6,Q1293)),MAX($P$1:P1292)+1,0)","v":0},"hdfc cmf call plan","MZU028","Liquid",null,null,null,null,null,null,null,null,null,null,null,{"$f":"IFERROR(VLOOKUP(ROWS($AE$2:AE1293),P1293:Q3196,2,0),\"\")","v":""},null,null,null,null,{"$f":"IFERROR(VLOOKUP(ROWS($AJ$2:AJ1293),O1293:Q3196,3,0),\"\")","v":""},null,{"$f":"IFERROR(VLOOKUP(ROWS(AL$2:$AL1293),N1293:Q3196,4,0),\"\")","v":""}]
[null,null,null,null,null,null,null,null,null,null,null,null,null,{"$f":"IF(ISNUMBER(SEARCH($H$16,Q1294)),MAX($N$1:N1293)+1,0)","v":0},{"$f":"IF(ISNUMBER(SEARCH($H$11,Q1294)),MAX($O$1:O1293)+1,0)","v":0},{"$f":"IF(ISNUMBER(SEARCH($H$6,Q1294)),MAX($P$1:P1293)+1,0)","v":0},"sahara liquid fixed pricing g","MFI025","Liquid",null,null,null,null,null,null,null,null,null,null,null,{"$f":"IFERROR(VLOOKUP(ROWS($AE$2:AE1294),P1294:Q3197,2,0),\"\")","v":""},null,null,null,null,{"$f":"IFERROR(VLOOKUP(ROWS($AJ$2:AJ1294),O1294:Q3197,3,0),\"\")","v":""},null,{"$f":"IFERROR(VLOOKUP(ROWS(AL$2:$AL1294),N1294:Q3197,4,0),\"\")","v":""}]
[null,null,null,null,null,null,null,null,null,null,null,null,null,{"$f":"IF(ISNUMBER(SEARCH($H$16,Q1295)),MAX($N$1:N1294)+1,0)","v":0},{"$f":"IF(ISNUMBER(SEARCH($H$11,Q1295)),MAX($O$1:O1294)+1,0)","v":0},{"$f":"IF(ISNUMBER(SEARCH($H$6,Q1295)),MAX($P$1:P1294)+1,0)","v":0},"baroda pioneer liquid","MBO006","Liquid",null,null,null,null,null,null,null,null,null,null,null,{"$f":"IFERROR(VLOOKUP(ROWS($AE$2:AE1295),P1295:Q3198,2,0),\"\")","v":""},null,null,null,null,{"$f":"IFERROR(VLOOKUP(ROWS($AJ$2:AJ1295),O1295:Q3198,3,0),\"\")","v":""},null,{"$f":"IFERROR(VLOOKUP(ROWS(AL$2:$AL1295),N1295:Q3198,4,0),\"\")","v":""}]
[null,null,null,null,null,null,null,null,null,null,null,null,null,{"$f":"IF(ISNUMBER(SEARCH($H$16,Q1296)),MAX($N$1:N1295)+1,0)","v":0},{"$f":"IF(ISNUMBER(SEARCH($H$11,Q1296)),MAX($O$1:O1295)+1,0)","v":0},{"$f":"IF(ISNUMBER(SEARCH($H$6,Q1296)),MAX($P$1:P1295)+1,0)","v":0},"religare invesco liquid rp","MLI001","Liquid",null,null,null,null,null,null,null,null,null,null,null,{"$f":"IFERROR(VLOOKUP(ROWS($AE$2:AE1296),P1296:Q3199,2,0),\"\")","v":""},null,null,null,null,{"$f":"IFERROR(VLOOKUP(ROWS($AJ$2:AJ1296),O1296:Q3199,3,0),\"\")","v":""},null,{"$f":"IFERROR(VLOOKUP(ROWS(AL$2:$AL1296),N1296:Q3199,4,0),\"\")","v":""}]
[null,null,null,null,null,null,null,null,null,null,null,null,null,{"$f":"IF(ISNUMBER(SEARCH($H$16,Q1297)),MAX($N$1:N1296)+1,0)","v":0},{"$f":"IF(ISNUMBER(SEARCH($H$11,Q1297)),MAX($O$1:O1296)+1,0)","v":0},{"$f":"IF(ISNUMBER(SEARCH($H$6,Q1297)),MAX($P$1:P1296)+1,0)","v":0},"edelweiss liquid fund rp","MEW001","Liquid",null,null,null,null,null,null,null,null,null,null,null,{"$f":"IFERROR(VLOOKUP(ROWS($AE$2:AE1297),P1297:Q3200,2,0),\"\")","v":""},null,null,null,null,{"$f":"IFERROR(VLOOKUP(ROWS($AJ$2:AJ1297),O1297:Q3200,3,0),\"\")","v":""},null,{"$f":"IFERROR(VLOOKUP(ROWS(AL$2:$AL1297),N1297:Q3200,4,0),\"\")","v":""}]
[null,null,null,null,null,null,null,null,null,null,null,null,null,{"$f":"IF(ISNUMBER(SEARCH($H$16,Q1298)),MAX($N$1:N1297)+1,0)","v":0},{"$f":"IF(ISNUMBER(SEARCH($H$11,Q1298)),MAX($O$1:O1297)+1,0)","v":0},{"$f":"IF(ISNUMBER(SEARCH($H$6,Q1298)),MAX($P$1:P1297)+1,0)","v":0},"franklin i cash mgmt","MTE151","Liquid",null,null,null,null,null,null,null,null,null,null,null,{"$f":"IFERROR(VLOOKUP(ROWS($AE$2:AE1298),P1298:Q3201,2,0),\"\")","v":""},null,null,null,null,{"$f":"IFERROR(VLOOKUP(ROWS($AJ$2:AJ1298),O1298:Q3201,3,0),\"\")","v":""},null,{"$f":"IFERROR(VLOOKUP(ROWS(AL$2:$AL1298),N1298:Q3201,4,0),\"\")","v":""}]
[null,null,null,null,null,null,null,null,null,null,null,null,null,{"$f":"IF(ISNUMBER(SEARCH($H$16,Q1299)),MAX($N$1:N1298)+1,0)","v":0},{"$f":"IF(ISNUMBER(SEARCH($H$11,Q1299)),MAX($O$1:O1298)+1,0)","v":0},{"$f":"IF(ISNUMBER(SEARCH($H$6,Q1299)),MAX($P$1:P1298)+1,0)","v":0},"dws treasury cash plan ip","MDE267","Liquid",null,null,null,null,null,null,null,null,null,null,null,{"$f":"IFERROR(VLOOKUP(ROWS($AE$2:AE1299),P1299:Q3202,2,0),\"\")","v":""},null,null,null,null,{"$f":"IFERROR(VLOOKUP(ROWS($AJ$2:AJ1299),O1299:Q3202,3,0),\"\")","v":""},null,{"$f":"IFERROR(VLOOKUP(ROWS(AL$2:$AL1299),N1299:Q3202,4,0),\"\")","v":""}]
[null,null,null,null,null,null,null,null,null,null,null,null,null,{"$f":"IF(ISNUMBER(SEARCH($H$16,Q1300)),MAX($N$1:N1299)+1,0)","v":0},{"$f":"IF(ISNUMBER(SEARCH($H$11,Q1300)),MAX($O$1:O1299)+1,0)","v":0},{"$f":"IF(ISNUMBER(SEARCH($H$6,Q1300)),MAX($P$1:P1299)+1,0)","v":0},"dws insta cash inst","MDE039","Liquid",null,null,null,null,null,null,null,null,null,null,null,{"$f":"IFERROR(VLOOKUP(ROWS($AE$2:AE1300),P1300:Q3203,2,0),\"\")","v":""},null,null,null,null,{"$f":"IFERROR(VLOOKUP(ROWS($AJ$2:AJ1300),O1300:Q3203,3,0),\"\")","v":""},null,{"$f":"IFERROR(VLOOKUP(ROWS(AL$2:$AL1300),N1300:Q3203,4,0),\"\")","v":""}]
[null,null,null,null,null,null,null,null,null,null,null,null,null,{"$f":"IF(ISNUMBER(SEARCH($H$16,Q1301)),MAX($N$1:N1300)+1,0)","v":0},{"$f":"IF(ISNUMBER(SEARCH($H$11,Q1301)),MAX($O$1:O1300)+1,0)","v":0},{"$f":"IF(ISNUMBER(SEARCH($H$6,Q1301)),MAX($P$1:P1300)+1,0)","v":0},"dws insta cash plus fund rp","MDE003","Liquid",null,null,null,null,null,null,null,null,null,null,null,{"$f":"IFERROR(VLOOKUP(ROWS($AE$2:AE1301),P1301:Q3204,2,0),\"\")","v":""},null,null,null,null,{"$f":"IFERROR(VLOOKUP(ROWS($AJ$2:AJ1301),O1301:Q3204,3,0),\"\")","v":""},null,{"$f":"IFERROR(VLOOKUP(ROWS(AL$2:$AL1301),N1301:Q3204,4,0),\"\")","v":""}]
[null,null,null,null,null,null,null,null,null,null,null,null,null,{"$f":"IF(ISNUMBER(SEARCH($H$16,Q1302)),MAX($N$1:N1301)+1,0)","v":0},{"$f":"IF(ISNUMBER(SEARCH($H$11,Q1302)),MAX($O$1:O1301)+1,0)","v":0},{"$f":"IF(ISNUMBER(SEARCH($H$6,Q1302)),MAX($P$1:P1301)+1,0)","v":0},"peerless liquid fund rp","MPM001","Liquid",null,null,null,null,null,null,null,null,null,null,null,{"$f":"IFERROR(VLOOKUP(ROWS($AE$2:AE1302),P1302:Q3205,2,0),\"\")","v":""},null,null,null,null,{"$f":"IFERROR(VLOOKUP(ROWS($AJ$2:AJ1302),O1302:Q3205,3,0),\"\")","v":""},null,{"$f":"IFERROR(VLOOKUP(ROWS(AL$2:$AL1302),N1302:Q3205,4,0),\"\")","v":""}]
[null,null,null,null,null,null,null,null,null,null,null,null,null,{"$f":"IF(ISNUMBER(SEARCH($H$16,Q1303)),MAX($N$1:N1302)+1,0)","v":0},{"$f":"IF(ISNUMBER(SEARCH($H$11,Q1303)),MAX($O$1:O1302)+1,0)","v":0},{"$f":"IF(ISNUMBER(SEARCH($H$6,Q1303)),MAX($P$1:P1302)+1,0)","v":0},"tata liquid fund shipp","MTA442","Liquid",null,null,null,null,null,null,null,null,null,null,null,{"$f":"IFERROR(VLOOKUP(ROWS($AE$2:AE1303),P1303:Q3206,2,0),\"\")","v":""},null,null,null,null,{"$f":"IFERROR(VLOOKUP(ROWS($AJ$2:AJ1303),O1303:Q3206,3,0),\"\")","v":""},null,{"$f":"IFERROR(VLOOKUP(ROWS(AL$2:$AL1303),N1303:Q3206,4,0),\"\")","v":""}]
[null,null,null,null,null,null,null,null,null,null,null,null,null,{"$f":"IF(ISNUMBER(SEARCH($H$16,Q1304)),MAX($N$1:N1303)+1,0)","v":0},{"$f":"IF(ISNUMBER(SEARCH($H$11,Q1304)),MAX($O$1:O1303)+1,0)","v":0},{"$f":"IF(ISNUMBER(SEARCH($H$6,Q1304)),MAX($P$1:P1303)+1,0)","v":0},"bnp paribas overnight fund ipp","MAB032","Liquid",null,null,null,null,null,null,null,null,null,null,null,{"$f":"IFERROR(VLOOKUP(ROWS($AE$2:AE1304),P1304:Q3207,2,0),\"\")","v":""},null,null,null,null,{"$f":"IFERROR(VLOOKUP(ROWS($AJ$2:AJ1304),O1304:Q3207,3,0),\"\")","v":""},null,{"$f":"IFERROR(VLOOKUP(ROWS(AL$2:$AL1304),N1304:Q3207,4,0),\"\")","v":""}]
[null,null,null,null,null,null,null,null,null,null,null,null,null,{"$f":"IF(ISNUMBER(SEARCH($H$16,Q1305)),MAX($N$1:N1304)+1,0)","v":0},{"$f":"IF(ISNUMBER(SEARCH($H$11,Q1305)),MAX($O$1:O1304)+1,0)","v":0},{"$f":"IF(ISNUMBER(SEARCH($H$6,Q1305)),MAX($P$1:P1304)+1,0)","v":0},"gs liquid bees","MBM003","Liquid",null,null,null,null,null,null,null,null,null,null,null,{"$f":"IFERROR(VLOOKUP(ROWS($AE$2:AE1305),P1305:Q3208,2,0),\"\")","v":""},null,null,null,null,{"$f":"IFERROR(VLOOKUP(ROWS($AJ$2:AJ1305),O1305:Q3208,3,0),\"\")","v":""},null,{"$f":"IFERROR(VLOOKUP(ROWS(AL$2:$AL1305),N1305:Q3208,4,0),\"\")","v":""}]
[null,null,null,null,null,null,null,null,null,null,null,null,null,{"$f":"IF(ISNUMBER(SEARCH($H$16,Q1306)),MAX($N$1:N1305)+1,0)","v":0},{"$f":"IF(ISNUMBER(SEARCH($H$11,Q1306)),MAX($O$1:O1305)+1,0)","v":0},{"$f":"IF(ISNUMBER(SEARCH($H$6,Q1306)),MAX($P$1:P1305)+1,0)","v":0},"tata growing eco infra b direct","MTA753","International",null,null,null,null,null,null,null,null,null,null,null,{"$f":"IFERROR(VLOOKUP(ROWS($AE$2:AE1306),P1306:Q3209,2,0),\"\")","v":""},null,null,null,null,{"$f":"IFERROR(VLOOKUP(ROWS($AJ$2:AJ1306),O1306:Q3209,3,0),\"\")","v":""},null,{"$f":"IFERROR(VLOOKUP(ROWS(AL$2:$AL1306),N1306:Q3209,4,0),\"\")","v":""}]
[null,null,null,null,null,null,null,null,null,null,null,null,null,{"$f":"IF(ISNUMBER(SEARCH($H$16,Q1307)),MAX($N$1:N1306)+1,0)","v":0},{"$f":"IF(ISNUMBER(SEARCH($H$11,Q1307)),MAX($O$1:O1306)+1,0)","v":0},{"$f":"IF(ISNUMBER(SEARCH($H$6,Q1307)),MAX($P$1:P1306)+1,0)","v":0},"tata growing eco infra b","MTA342","International",null,null,null,null,null,null,null,null,null,null,null,{"$f":"IFERROR(VLOOKUP(ROWS($AE$2:AE1307),P1307:Q3210,2,0),\"\")","v":""},null,null,null,null,{"$f":"IFERROR(VLOOKUP(ROWS($AJ$2:AJ1307),O1307:Q3210,3,0),\"\")","v":""},null,{"$f":"IFERROR(VLOOKUP(ROWS(AL$2:$AL1307),N1307:Q3210,4,0),\"\")","v":""}]
[null,null,null,null,null,null,null,null,null,null,null,null,null,{"$f":"IF(ISNUMBER(SEARCH($H$16,Q1308)),MAX($N$1:N1307)+1,0)","v":0},{"$f":"IF(ISNUMBER(SEARCH($H$11,Q1308)),MAX($O$1:O1307)+1,0)","v":0},{"$f":"IF(ISNUMBER(SEARCH($H$6,Q1308)),MAX($P$1:P1307)+1,0)","v":0},"tata indo global infra","MTA183","International",null,null,null,null,null,null,null,null,null,null,null,{"$f":"IFERROR(VLOOKUP(ROWS($AE$2:AE1308),P1308:Q3211,2,0),\"\")","v":""},null,null,null,null,{"$f":"IFERROR(VLOOKUP(ROWS($AJ$2:AJ1308),O1308:Q3211,3,0),\"\")","v":""},null,{"$f":"IFERROR(VLOOKUP(ROWS(AL$2:$AL1308),N1308:Q3211,4,0),\"\")","v":""}]
[null,null,null,null,null,null,null,null,null,null,null,null,null,{"$f":"IF(ISNUMBER(SEARCH($H$16,Q1309)),MAX($N$1:N1308)+1,0)","v":0},{"$f":"IF(ISNUMBER(SEARCH($H$11,Q1309)),MAX($O$1:O1308)+1,0)","v":0},{"$f":"IF(ISNUMBER(SEARCH($H$6,Q1309)),MAX($P$1:P1308)+1,0)","v":0},"icici pru equity savings sr1 dp","MPI1819","International",null,null,null,null,null,null,null,null,null,null,null,{"$f":"IFERROR(VLOOKUP(ROWS($AE$2:AE1309),P1309:Q3212,2,0),\"\")","v":""},null,null,null,null,{"$f":"IFERROR(VLOOKUP(ROWS($AJ$2:AJ1309),O1309:Q3212,3,0),\"\")","v":""},null,{"$f":"IFERROR(VLOOKUP(ROWS(AL$2:$AL1309),N1309:Q3212,4,0),\"\")","v":""}]
[null,null,null,null,null,null,null,null,null,null,null,null,null,{"$f":"IF(ISNUMBER(SEARCH($H$16,Q1310)),MAX($N$1:N1309)+1,0)","v":0},{"$f":"IF(ISNUMBER(SEARCH($H$11,Q1310)),MAX($O$1:O1309)+1,0)","v":0},{"$f":"IF(ISNUMBER(SEARCH($H$6,Q1310)),MAX($P$1:P1309)+1,0)","v":0},"icici pru equity savings sr1 rp","MPI1817","International",null,null,null,null,null,null,null,null,null,null,null,{"$f":"IFERROR(VLOOKUP(ROWS($AE$2:AE1310),P1310:Q3213,2,0),\"\")","v":""},null,null,null,null,{"$f":"IFERROR(VLOOKUP(ROWS($AJ$2:AJ1310),O1310:Q3213,3,0),\"\")","v":""},null,{"$f":"IFERROR(VLOOKUP(ROWS(AL$2:$AL1310),N1310:Q3213,4,0),\"\")","v":""}]
[null,null,null,null,null,null,null,null,null,null,null,null,null,{"$f":"IF(ISNUMBER(SEARCH($H$16,Q1311)),MAX($N$1:N1310)+1,0)","v":0},{"$f":"IF(ISNUMBER(SEARCH($H$11,Q1311)),MAX($O$1:O1310)+1,0)","v":0},{"$f":"IF(ISNUMBER(SEARCH($H$6,Q1311)),MAX($P$1:P1310)+1,0)","v":0},"franklin i ff us opp ","MTE287","International",null,null,null,null,null,null,null,null,null,null,null,{"$f":"IFERROR(VLOOKUP(ROWS($AE$2:AE1311),P1311:Q3214,2,0),\"\")","v":""},null,null,null,null,{"$f":"IFERROR(VLOOKUP(ROWS($AJ$2:AJ1311),O1311:Q3214,3,0),\"\")","v":""},null,{"$f":"IFERROR(VLOOKUP(ROWS(AL$2:$AL1311),N1311:Q3214,4,0),\"\")","v":""}]
[null,null,null,null,null,null,null,null,null,null,null,null,null,{"$f":"IF(ISNUMBER(SEARCH($H$16,Q1312)),MAX($N$1:N1311)+1,0)","v":0},{"$f":"IF(ISNUMBER(SEARCH($H$11,Q1312)),MAX($O$1:O1311)+1,0)","v":0},{"$f":"IF(ISNUMBER(SEARCH($H$6,Q1312)),MAX($P$1:P1311)+1,0)","v":0},"motilal most shares nasdaq 100 etf","MMO003","International",null,null,null,null,null,null,null,null,null,null,null,{"$f":"IFERROR(VLOOKUP(ROWS($AE$2:AE1312),P1312:Q3215,2,0),\"\")","v":""},null,null,null,null,{"$f":"IFERROR(VLOOKUP(ROWS($AJ$2:AJ1312),O1312:Q3215,3,0),\"\")","v":""},null,{"$f":"IFERROR(VLOOKUP(ROWS(AL$2:$AL1312),N1312:Q3215,4,0),\"\")","v":""}]
[null,null,null,null,null,null,null,null,null,null,null,null,null,{"$f":"IF(ISNUMBER(SEARCH($H$16,Q1313)),MAX($N$1:N1312)+1,0)","v":0},{"$f":"IF(ISNUMBER(SEARCH($H$11,Q1313)),MAX($O$1:O1312)+1,0)","v":0},{"$f":"IF(ISNUMBER(SEARCH($H$6,Q1313)),MAX($P$1:P1312)+1,0)","v":0},"tata growing eco infra a","MTA340","International",null,null,null,null,null,null,null,null,null,null,null,{"$f":"IFERROR(VLOOKUP(ROWS($AE$2:AE1313),P1313:Q3216,2,0),\"\")","v":""},null,null,null,null,{"$f":"IFERROR(VLOOKUP(ROWS($AJ$2:AJ1313),O1313:Q3216,3,0),\"\")","v":""},null,{"$f":"IFERROR(VLOOKUP(ROWS(AL$2:$AL1313),N1313:Q3216,4,0),\"\")","v":""}]
[null,null,null,null,null,null,null,null,null,null,null,null,null,{"$f":"IF(ISNUMBER(SEARCH($H$16,Q1314)),MAX($N$1:N1313)+1,0)","v":0},{"$f":"IF(ISNUMBER(SEARCH($H$11,Q1314)),MAX($O$1:O1313)+1,0)","v":0},{"$f":"IF(ISNUMBER(SEARCH($H$6,Q1314)),MAX($P$1:P1313)+1,0)","v":0},"reliance japan equity fund dp","MRC1653","International",null,null,null,null,null,null,null,null,null,null,null,{"$f":"IFERROR(VLOOKUP(ROWS($AE$2:AE1314),P1314:Q3217,2,0),\"\")","v":""},null,null,null,null,{"$f":"IFERROR(VLOOKUP(ROWS($AJ$2:AJ1314),O1314:Q3217,3,0),\"\")","v":""},null,{"$f":"IFERROR(VLOOKUP(ROWS(AL$2:$AL1314),N1314:Q3217,4,0),\"\")","v":""}]
[null,null,null,null,null,null,null,null,null,null,null,null,null,{"$f":"IF(ISNUMBER(SEARCH($H$16,Q1315)),MAX($N$1:N1314)+1,0)","v":0},{"$f":"IF(ISNUMBER(SEARCH($H$11,Q1315)),MAX($O$1:O1314)+1,0)","v":0},{"$f":"IF(ISNUMBER(SEARCH($H$6,Q1315)),MAX($P$1:P1314)+1,0)","v":0},"icici pru global stable eqty rp","MPI1579","International",null,null,null,null,null,null,null,null,null,null,null,{"$f":"IFERROR(VLOOKUP(ROWS($AE$2:AE1315),P1315:Q3218,2,0),\"\")","v":""},null,null,null,null,{"$f":"IFERROR(VLOOKUP(ROWS($AJ$2:AJ1315),O1315:Q3218,3,0),\"\")","v":""},null,{"$f":"IFERROR(VLOOKUP(ROWS(AL$2:$AL1315),N1315:Q3218,4,0),\"\")","v":""}]
[null,null,null,null,null,null,null,null,null,null,null,null,null,{"$f":"IF(ISNUMBER(SEARCH($H$16,Q1316)),MAX($N$1:N1315)+1,0)","v":0},{"$f":"IF(ISNUMBER(SEARCH($H$11,Q1316)),MAX($O$1:O1315)+1,0)","v":0},{"$f":"IF(ISNUMBER(SEARCH($H$6,Q1316)),MAX($P$1:P1315)+1,0)","v":0},"reliance japan equity fund","MRC1650","International",null,null,null,null,null,null,null,null,null,null,null,{"$f":"IFERROR(VLOOKUP(ROWS($AE$2:AE1316),P1316:Q3219,2,0),\"\")","v":""},null,null,null,null,{"$f":"IFERROR(VLOOKUP(ROWS($AJ$2:AJ1316),O1316:Q3219,3,0),\"\")","v":""},null,{"$f":"IFERROR(VLOOKUP(ROWS(AL$2:$AL1316),N1316:Q3219,4,0),\"\")","v":""}]
[null,null,null,null,null,null,null,null,null,null,null,null,null,{"$f":"IF(ISNUMBER(SEARCH($H$16,Q1317)),MAX($N$1:N1316)+1,0)","v":0},{"$f":"IF(ISNUMBER(SEARCH($H$11,Q1317)),MAX($O$1:O1316)+1,0)","v":0},{"$f":"IF(ISNUMBER(SEARCH($H$6,Q1317)),MAX($P$1:P1316)+1,0)","v":0},"icici pru global stable eqty rp","MPI1577","International",null,null,null,null,null,null,null,null,null,null,null,{"$f":"IFERROR(VLOOKUP(ROWS($AE$2:AE1317),P1317:Q3220,2,0),\"\")","v":""},null,null,null,null,{"$f":"IFERROR(VLOOKUP(ROWS($AJ$2:AJ1317),O1317:Q3220,3,0),\"\")","v":""},null,{"$f":"IFERROR(VLOOKUP(ROWS(AL$2:$AL1317),N1317:Q3220,4,0),\"\")","v":""}]
[null,null,null,null,null,null,null,null,null,null,null,null,null,{"$f":"IF(ISNUMBER(SEARCH($H$16,Q1318)),MAX($N$1:N1317)+1,0)","v":0},{"$f":"IF(ISNUMBER(SEARCH($H$11,Q1318)),MAX($O$1:O1317)+1,0)","v":0},{"$f":"IF(ISNUMBER(SEARCH($H$6,Q1318)),MAX($P$1:P1317)+1,0)","v":0},"dsp br us flexible* equity fund","MDS532","International",null,null,null,null,null,null,null,null,null,null,null,{"$f":"IFERROR(VLOOKUP(ROWS($AE$2:AE1318),P1318:Q3221,2,0),\"\")","v":""},null,null,null,null,{"$f":"IFERROR(VLOOKUP(ROWS($AJ$2:AJ1318),O1318:Q3221,3,0),\"\")","v":""},null,{"$f":"IFERROR(VLOOKUP(ROWS(AL$2:$AL1318),N1318:Q3221,4,0),\"\")","v":""}]
[null,null,null,null,null,null,null,null,null,null,null,null,null,{"$f":"IF(ISNUMBER(SEARCH($H$16,Q1319)),MAX($N$1:N1318)+1,0)","v":0},{"$f":"IF(ISNUMBER(SEARCH($H$11,Q1319)),MAX($O$1:O1318)+1,0)","v":0},{"$f":"IF(ISNUMBER(SEARCH($H$6,Q1319)),MAX($P$1:P1318)+1,0)","v":0},"kotak us equity fund standard","MAI097","International",null,null,null,null,null,null,null,null,null,null,null,{"$f":"IFERROR(VLOOKUP(ROWS($AE$2:AE1319),P1319:Q3222,2,0),\"\")","v":""},null,null,null,null,{"$f":"IFERROR(VLOOKUP(ROWS($AJ$2:AJ1319),O1319:Q3222,3,0),\"\")","v":""},null,{"$f":"IFERROR(VLOOKUP(ROWS(AL$2:$AL1319),N1319:Q3222,4,0),\"\")","v":""}]
[null,null,null,null,null,null,null,null,null,null,null,null,null,{"$f":"IF(ISNUMBER(SEARCH($H$16,Q1320)),MAX($N$1:N1319)+1,0)","v":0},{"$f":"IF(ISNUMBER(SEARCH($H$11,Q1320)),MAX($O$1:O1319)+1,0)","v":0},{"$f":"IF(ISNUMBER(SEARCH($H$6,Q1320)),MAX($P$1:P1319)+1,0)","v":0},"icici pru us bluechip equity","MPI1065","International",null,null,null,null,null,null,null,null,null,null,null,{"$f":"IFERROR(VLOOKUP(ROWS($AE$2:AE1320),P1320:Q3223,2,0),\"\")","v":""},null,null,null,null,{"$f":"IFERROR(VLOOKUP(ROWS($AJ$2:AJ1320),O1320:Q3223,3,0),\"\")","v":""},null,{"$f":"IFERROR(VLOOKUP(ROWS(AL$2:$AL1320),N1320:Q3223,4,0),\"\")","v":""}]
[null,null,null,null,null,null,null,null,null,null,null,null,null,{"$f":"IF(ISNUMBER(SEARCH($H$16,Q1321)),MAX($N$1:N1320)+1,0)","v":0},{"$f":"IF(ISNUMBER(SEARCH($H$11,Q1321)),MAX($O$1:O1320)+1,0)","v":0},{"$f":"IF(ISNUMBER(SEARCH($H$6,Q1321)),MAX($P$1:P1320)+1,0)","v":0},"birla sl intl equity a","MBS203","International",null,null,null,null,null,null,null,null,null,null,null,{"$f":"IFERROR(VLOOKUP(ROWS($AE$2:AE1321),P1321:Q3224,2,0),\"\")","v":""},null,null,null,null,{"$f":"IFERROR(VLOOKUP(ROWS($AJ$2:AJ1321),O1321:Q3224,3,0),\"\")","v":""},null,{"$f":"IFERROR(VLOOKUP(ROWS(AL$2:$AL1321),N1321:Q3224,4,0),\"\")","v":""}]
[null,null,null,null,null,null,null,null,null,null,null,null,null,{"$f":"IF(ISNUMBER(SEARCH($H$16,Q1322)),MAX($N$1:N1321)+1,0)","v":0},{"$f":"IF(ISNUMBER(SEARCH($H$11,Q1322)),MAX($O$1:O1321)+1,0)","v":0},{"$f":"IF(ISNUMBER(SEARCH($H$6,Q1322)),MAX($P$1:P1321)+1,0)","v":0},"dws top euroland offshore fund dp g","MDE504","International",null,null,null,null,null,null,null,null,null,null,null,{"$f":"IFERROR(VLOOKUP(ROWS($AE$2:AE1322),P1322:Q3225,2,0),\"\")","v":""},null,null,null,null,{"$f":"IFERROR(VLOOKUP(ROWS($AJ$2:AJ1322),O1322:Q3225,3,0),\"\")","v":""},null,{"$f":"IFERROR(VLOOKUP(ROWS(AL$2:$AL1322),N1322:Q3225,4,0),\"\")","v":""}]
[null,null,null,null,null,null,null,null,null,null,null,null,null,{"$f":"IF(ISNUMBER(SEARCH($H$16,Q1323)),MAX($N$1:N1322)+1,0)","v":0},{"$f":"IF(ISNUMBER(SEARCH($H$11,Q1323)),MAX($O$1:O1322)+1,0)","v":0},{"$f":"IF(ISNUMBER(SEARCH($H$6,Q1323)),MAX($P$1:P1322)+1,0)","v":0},"dws top euroland offshore fund","MDE120","International",null,null,null,null,null,null,null,null,null,null,null,{"$f":"IFERROR(VLOOKUP(ROWS($AE$2:AE1323),P1323:Q3226,2,0),\"\")","v":""},null,null,null,null,{"$f":"IFERROR(VLOOKUP(ROWS($AJ$2:AJ1323),O1323:Q3226,3,0),\"\")","v":""},null,{"$f":"IFERROR(VLOOKUP(ROWS(AL$2:$AL1323),N1323:Q3226,4,0),\"\")","v":""}]
[null,null,null,null,null,null,null,null,null,null,null,null,null,{"$f":"IF(ISNUMBER(SEARCH($H$16,Q1324)),MAX($N$1:N1323)+1,0)","v":0},{"$f":"IF(ISNUMBER(SEARCH($H$11,Q1324)),MAX($O$1:O1323)+1,0)","v":0},{"$f":"IF(ISNUMBER(SEARCH($H$6,Q1324)),MAX($P$1:P1323)+1,0)","v":0},"jpmorgan europe dynamic equity dir","MJP225","International",null,null,null,null,null,null,null,null,null,null,null,{"$f":"IFERROR(VLOOKUP(ROWS($AE$2:AE1324),P1324:Q3227,2,0),\"\")","v":""},null,null,null,null,{"$f":"IFERROR(VLOOKUP(ROWS($AJ$2:AJ1324),O1324:Q3227,3,0),\"\")","v":""},null,{"$f":"IFERROR(VLOOKUP(ROWS(AL$2:$AL1324),N1324:Q3227,4,0),\"\")","v":""}]
[null,null,null,null,null,null,null,null,null,null,null,null,null,{"$f":"IF(ISNUMBER(SEARCH($H$16,Q1325)),MAX($N$1:N1324)+1,0)","v":0},{"$f":"IF(ISNUMBER(SEARCH($H$11,Q1325)),MAX($O$1:O1324)+1,0)","v":0},{"$f":"IF(ISNUMBER(SEARCH($H$6,Q1325)),MAX($P$1:P1324)+1,0)","v":0},"jpmorgan europe dynamic equity reg","MJP224","International",null,null,null,null,null,null,null,null,null,null,null,{"$f":"IFERROR(VLOOKUP(ROWS($AE$2:AE1325),P1325:Q3228,2,0),\"\")","v":""},null,null,null,null,{"$f":"IFERROR(VLOOKUP(ROWS($AJ$2:AJ1325),O1325:Q3228,3,0),\"\")","v":""},null,{"$f":"IFERROR(VLOOKUP(ROWS(AL$2:$AL1325),N1325:Q3228,4,0),\"\")","v":""}]
[null,null,null,null,null,null,null,null,null,null,null,null,null,{"$f":"IF(ISNUMBER(SEARCH($H$16,Q1326)),MAX($N$1:N1325)+1,0)","v":0},{"$f":"IF(ISNUMBER(SEARCH($H$11,Q1326)),MAX($O$1:O1325)+1,0)","v":0},{"$f":"IF(ISNUMBER(SEARCH($H$6,Q1326)),MAX($P$1:P1325)+1,0)","v":0},"birla sl global real estate dir","MIN375","International",null,null,null,null,null,null,null,null,null,null,null,{"$f":"IFERROR(VLOOKUP(ROWS($AE$2:AE1326),P1326:Q3229,2,0),\"\")","v":""},null,null,null,null,{"$f":"IFERROR(VLOOKUP(ROWS($AJ$2:AJ1326),O1326:Q3229,3,0),\"\")","v":""},null,{"$f":"IFERROR(VLOOKUP(ROWS(AL$2:$AL1326),N1326:Q3229,4,0),\"\")","v":""}]
[null,null,null,null,null,null,null,null,null,null,null,null,null,{"$f":"IF(ISNUMBER(SEARCH($H$16,Q1327)),MAX($N$1:N1326)+1,0)","v":0},{"$f":"IF(ISNUMBER(SEARCH($H$11,Q1327)),MAX($O$1:O1326)+1,0)","v":0},{"$f":"IF(ISNUMBER(SEARCH($H$6,Q1327)),MAX($P$1:P1326)+1,0)","v":0},"birla sl comm eqty gap rp","MBS397","International",null,null,null,null,null,null,null,null,null,null,null,{"$f":"IFERROR(VLOOKUP(ROWS($AE$2:AE1327),P1327:Q3230,2,0),\"\")","v":""},null,null,null,null,{"$f":"IFERROR(VLOOKUP(ROWS($AJ$2:AJ1327),O1327:Q3230,3,0),\"\")","v":""},null,{"$f":"IFERROR(VLOOKUP(ROWS(AL$2:$AL1327),N1327:Q3230,4,0),\"\")","v":""}]
[null,null,null,null,null,null,null,null,null,null,null,null,null,{"$f":"IF(ISNUMBER(SEARCH($H$16,Q1328)),MAX($N$1:N1327)+1,0)","v":0},{"$f":"IF(ISNUMBER(SEARCH($H$11,Q1328)),MAX($O$1:O1327)+1,0)","v":0},{"$f":"IF(ISNUMBER(SEARCH($H$6,Q1328)),MAX($P$1:P1327)+1,0)","v":0},"birla sl global real estate rp","MIN168","International",null,null,null,null,null,null,null,null,null,null,null,{"$f":"IFERROR(VLOOKUP(ROWS($AE$2:AE1328),P1328:Q3231,2,0),\"\")","v":""},null,null,null,null,{"$f":"IFERROR(VLOOKUP(ROWS($AJ$2:AJ1328),O1328:Q3231,3,0),\"\")","v":""},null,{"$f":"IFERROR(VLOOKUP(ROWS(AL$2:$AL1328),N1328:Q3231,4,0),\"\")","v":""}]
[null,null,null,null,null,null,null,null,null,null,null,null,null,{"$f":"IF(ISNUMBER(SEARCH($H$16,Q1329)),MAX($N$1:N1328)+1,0)","v":0},{"$f":"IF(ISNUMBER(SEARCH($H$11,Q1329)),MAX($O$1:O1328)+1,0)","v":0},{"$f":"IF(ISNUMBER(SEARCH($H$6,Q1329)),MAX($P$1:P1328)+1,0)","v":0},"gs hang seng bees","MBM026","International",null,null,null,null,null,null,null,null,null,null,null,{"$f":"IFERROR(VLOOKUP(ROWS($AE$2:AE1329),P1329:Q3232,2,0),\"\")","v":""},null,null,null,null,{"$f":"IFERROR(VLOOKUP(ROWS($AJ$2:AJ1329),O1329:Q3232,3,0),\"\")","v":""},null,{"$f":"IFERROR(VLOOKUP(ROWS(AL$2:$AL1329),N1329:Q3232,4,0),\"\")","v":""}]
[null,null,null,null,null,null,null,null,null,null,null,null,null,{"$f":"IF(ISNUMBER(SEARCH($H$16,Q1330)),MAX($N$1:N1329)+1,0)","v":0},{"$f":"IF(ISNUMBER(SEARCH($H$11,Q1330)),MAX($O$1:O1329)+1,0)","v":0},{"$f":"IF(ISNUMBER(SEARCH($H$6,Q1330)),MAX($P$1:P1329)+1,0)","v":0},"jpmorgan greater china eqty","MJP033","International",null,null,null,null,null,null,null,null,null,null,null,{"$f":"IFERROR(VLOOKUP(ROWS($AE$2:AE1330),P1330:Q3233,2,0),\"\")","v":""},null,null,null,null,{"$f":"IFERROR(VLOOKUP(ROWS($AJ$2:AJ1330),O1330:Q3233,3,0),\"\")","v":""},null,{"$f":"IFERROR(VLOOKUP(ROWS(AL$2:$AL1330),N1330:Q3233,4,0),\"\")","v":""}]
[null,null,null,null,null,null,null,null,null,null,null,null,null,{"$f":"IF(ISNUMBER(SEARCH($H$16,Q1331)),MAX($N$1:N1330)+1,0)","v":0},{"$f":"IF(ISNUMBER(SEARCH($H$11,Q1331)),MAX($O$1:O1330)+1,0)","v":0},{"$f":"IF(ISNUMBER(SEARCH($H$6,Q1331)),MAX($P$1:P1330)+1,0)","v":0},"mirae china advantage fund","MMA084","International",null,null,null,null,null,null,null,null,null,null,null,{"$f":"IFERROR(VLOOKUP(ROWS($AE$2:AE1331),P1331:Q3234,2,0),\"\")","v":""},null,null,null,null,{"$f":"IFERROR(VLOOKUP(ROWS($AJ$2:AJ1331),O1331:Q3234,3,0),\"\")","v":""},null,{"$f":"IFERROR(VLOOKUP(ROWS(AL$2:$AL1331),N1331:Q3234,4,0),\"\")","v":""}]
[null,null,null,null,null,null,null,null,null,null,null,null,null,{"$f":"IF(ISNUMBER(SEARCH($H$16,Q1332)),MAX($N$1:N1331)+1,0)","v":0},{"$f":"IF(ISNUMBER(SEARCH($H$11,Q1332)),MAX($O$1:O1331)+1,0)","v":0},{"$f":"IF(ISNUMBER(SEARCH($H$6,Q1332)),MAX($P$1:P1331)+1,0)","v":0},"dsp br world world agriculture","MDS408","International",null,null,null,null,null,null,null,null,null,null,null,{"$f":"IFERROR(VLOOKUP(ROWS($AE$2:AE1332),P1332:Q3235,2,0),\"\")","v":""},null,null,null,null,{"$f":"IFERROR(VLOOKUP(ROWS($AJ$2:AJ1332),O1332:Q3235,3,0),\"\")","v":""},null,{"$f":"IFERROR(VLOOKUP(ROWS(AL$2:$AL1332),N1332:Q3235,4,0),\"\")","v":""}]
[null,null,null,null,null,null,null,null,null,null,null,null,null,{"$f":"IF(ISNUMBER(SEARCH($H$16,Q1333)),MAX($N$1:N1332)+1,0)","v":0},{"$f":"IF(ISNUMBER(SEARCH($H$11,Q1333)),MAX($O$1:O1332)+1,0)","v":0},{"$f":"IF(ISNUMBER(SEARCH($H$6,Q1333)),MAX($P$1:P1332)+1,0)","v":0},"dws global agribusiness offshore dp g","MDE501","International",null,null,null,null,null,null,null,null,null,null,null,{"$f":"IFERROR(VLOOKUP(ROWS($AE$2:AE1333),P1333:Q3236,2,0),\"\")","v":""},null,null,null,null,{"$f":"IFERROR(VLOOKUP(ROWS($AJ$2:AJ1333),O1333:Q3236,3,0),\"\")","v":""},null,{"$f":"IFERROR(VLOOKUP(ROWS(AL$2:$AL1333),N1333:Q3236,4,0),\"\")","v":""}]
[null,null,null,null,null,null,null,null,null,null,null,null,null,{"$f":"IF(ISNUMBER(SEARCH($H$16,Q1334)),MAX($N$1:N1333)+1,0)","v":0},{"$f":"IF(ISNUMBER(SEARCH($H$11,Q1334)),MAX($O$1:O1333)+1,0)","v":0},{"$f":"IF(ISNUMBER(SEARCH($H$6,Q1334)),MAX($P$1:P1333)+1,0)","v":0},"dws global agribusiness offshore","MDE284","International",null,null,null,null,null,null,null,null,null,null,null,{"$f":"IFERROR(VLOOKUP(ROWS($AE$2:AE1334),P1334:Q3237,2,0),\"\")","v":""},null,null,null,null,{"$f":"IFERROR(VLOOKUP(ROWS($AJ$2:AJ1334),O1334:Q3237,3,0),\"\")","v":""},null,{"$f":"IFERROR(VLOOKUP(ROWS(AL$2:$AL1334),N1334:Q3237,4,0),\"\")","v":""}]
[null,null,null,null,null,null,null,null,null,null,null,null,null,{"$f":"IF(ISNUMBER(SEARCH($H$16,Q1335)),MAX($N$1:N1334)+1,0)","v":0},{"$f":"IF(ISNUMBER(SEARCH($H$11,Q1335)),MAX($O$1:O1334)+1,0)","v":0},{"$f":"IF(ISNUMBER(SEARCH($H$6,Q1335)),MAX($P$1:P1334)+1,0)","v":0},"franklin asian equity fund","MTE182","International",null,null,null,null,null,null,null,null,null,null,null,{"$f":"IFERROR(VLOOKUP(ROWS($AE$2:AE1335),P1335:Q3238,2,0),\"\")","v":""},null,null,null,null,{"$f":"IFERROR(VLOOKUP(ROWS($AJ$2:AJ1335),O1335:Q3238,3,0),\"\")","v":""},null,{"$f":"IFERROR(VLOOKUP(ROWS(AL$2:$AL1335),N1335:Q3238,4,0),\"\")","v":""}]
[null,null,null,null,null,null,null,null,null,null,null,null,null,{"$f":"IF(ISNUMBER(SEARCH($H$16,Q1336)),MAX($N$1:N1335)+1,0)","v":0},{"$f":"IF(ISNUMBER(SEARCH($H$11,Q1336)),MAX($O$1:O1335)+1,0)","v":0},{"$f":"IF(ISNUMBER(SEARCH($H$6,Q1336)),MAX($P$1:P1335)+1,0)","v":0},"l t global real assets","MFF063","International",null,null,null,null,null,null,null,null,null,null,null,{"$f":"IFERROR(VLOOKUP(ROWS($AE$2:AE1336),P1336:Q3239,2,0),\"\")","v":""},null,null,null,null,{"$f":"IFERROR(VLOOKUP(ROWS($AJ$2:AJ1336),O1336:Q3239,3,0),\"\")","v":""},null,{"$f":"IFERROR(VLOOKUP(ROWS(AL$2:$AL1336),N1336:Q3239,4,0),\"\")","v":""}]
[null,null,null,null,null,null,null,null,null,null,null,null,null,{"$f":"IF(ISNUMBER(SEARCH($H$16,Q1337)),MAX($N$1:N1336)+1,0)","v":0},{"$f":"IF(ISNUMBER(SEARCH($H$11,Q1337)),MAX($O$1:O1336)+1,0)","v":0},{"$f":"IF(ISNUMBER(SEARCH($H$6,Q1337)),MAX($P$1:P1336)+1,0)","v":0},"hsbc asia pacific ej dyf dp","MHS435","International",null,null,null,null,null,null,null,null,null,null,null,{"$f":"IFERROR(VLOOKUP(ROWS($AE$2:AE1337),P1337:Q3240,2,0),\"\")","v":""},null,null,null,null,{"$f":"IFERROR(VLOOKUP(ROWS($AJ$2:AJ1337),O1337:Q3240,3,0),\"\")","v":""},null,{"$f":"IFERROR(VLOOKUP(ROWS(AL$2:$AL1337),N1337:Q3240,4,0),\"\")","v":""}]
[null,null,null,null,null,null,null,null,null,null,null,null,null,{"$f":"IF(ISNUMBER(SEARCH($H$16,Q1338)),MAX($N$1:N1337)+1,0)","v":0},{"$f":"IF(ISNUMBER(SEARCH($H$11,Q1338)),MAX($O$1:O1337)+1,0)","v":0},{"$f":"IF(ISNUMBER(SEARCH($H$6,Q1338)),MAX($P$1:P1337)+1,0)","v":0},"hsbc asia pacific ej dyf rp","MHS433","International",null,null,null,null,null,null,null,null,null,null,null,{"$f":"IFERROR(VLOOKUP(ROWS($AE$2:AE1338),P1338:Q3241,2,0),\"\")","v":""},null,null,null,null,{"$f":"IFERROR(VLOOKUP(ROWS($AJ$2:AJ1338),O1338:Q3241,3,0),\"\")","v":""},null,{"$f":"IFERROR(VLOOKUP(ROWS(AL$2:$AL1338),N1338:Q3241,4,0),\"\")","v":""}]
[null,null,null,null,null,null,null,null,null,null,null,null,null,{"$f":"IF(ISNUMBER(SEARCH($H$16,Q1339)),MAX($N$1:N1338)+1,0)","v":0},{"$f":"IF(ISNUMBER(SEARCH($H$11,Q1339)),MAX($O$1:O1338)+1,0)","v":0},{"$f":"IF(ISNUMBER(SEARCH($H$6,Q1339)),MAX($P$1:P1338)+1,0)","v":0},"kotak global emerging mkt regular","MKM162","International",null,null,null,null,null,null,null,null,null,null,null,{"$f":"IFERROR(VLOOKUP(ROWS($AE$2:AE1339),P1339:Q3242,2,0),\"\")","v":""},null,null,null,null,{"$f":"IFERROR(VLOOKUP(ROWS($AJ$2:AJ1339),O1339:Q3242,3,0),\"\")","v":""},null,{"$f":"IFERROR(VLOOKUP(ROWS(AL$2:$AL1339),N1339:Q3242,4,0),\"\")","v":""}]
[null,null,null,null,null,null,null,null,null,null,null,null,null,{"$f":"IF(ISNUMBER(SEARCH($H$16,Q1340)),MAX($N$1:N1339)+1,0)","v":0},{"$f":"IF(ISNUMBER(SEARCH($H$11,Q1340)),MAX($O$1:O1339)+1,0)","v":0},{"$f":"IF(ISNUMBER(SEARCH($H$6,Q1340)),MAX($P$1:P1339)+1,0)","v":0},"jpmorgan asean equity off shore","MJP049","International",null,null,null,null,null,null,null,null,null,null,null,{"$f":"IFERROR(VLOOKUP(ROWS($AE$2:AE1340),P1340:Q3243,2,0),\"\")","v":""},null,null,null,null,{"$f":"IFERROR(VLOOKUP(ROWS($AJ$2:AJ1340),O1340:Q3243,3,0),\"\")","v":""},null,{"$f":"IFERROR(VLOOKUP(ROWS(AL$2:$AL1340),N1340:Q3243,4,0),\"\")","v":""}]
[null,null,null,null,null,null,null,null,null,null,null,null,null,{"$f":"IF(ISNUMBER(SEARCH($H$16,Q1341)),MAX($N$1:N1340)+1,0)","v":0},{"$f":"IF(ISNUMBER(SEARCH($H$11,Q1341)),MAX($O$1:O1340)+1,0)","v":0},{"$f":"IF(ISNUMBER(SEARCH($H$6,Q1341)),MAX($P$1:P1340)+1,0)","v":0},"jpmorgan emer mkts opp equity dp","MJP282","International",null,null,null,null,null,null,null,null,null,null,null,{"$f":"IFERROR(VLOOKUP(ROWS($AE$2:AE1341),P1341:Q3244,2,0),\"\")","v":""},null,null,null,null,{"$f":"IFERROR(VLOOKUP(ROWS($AJ$2:AJ1341),O1341:Q3244,3,0),\"\")","v":""},null,{"$f":"IFERROR(VLOOKUP(ROWS(AL$2:$AL1341),N1341:Q3244,4,0),\"\")","v":""}]
[null,null,null,null,null,null,null,null,null,null,null,null,null,{"$f":"IF(ISNUMBER(SEARCH($H$16,Q1342)),MAX($N$1:N1341)+1,0)","v":0},{"$f":"IF(ISNUMBER(SEARCH($H$11,Q1342)),MAX($O$1:O1341)+1,0)","v":0},{"$f":"IF(ISNUMBER(SEARCH($H$6,Q1342)),MAX($P$1:P1341)+1,0)","v":0},"jpmorgan emer mkts opp equity rp","MJP281","International",null,null,null,null,null,null,null,null,null,null,null,{"$f":"IFERROR(VLOOKUP(ROWS($AE$2:AE1342),P1342:Q3245,2,0),\"\")","v":""},null,null,null,null,{"$f":"IFERROR(VLOOKUP(ROWS($AJ$2:AJ1342),O1342:Q3245,3,0),\"\")","v":""},null,{"$f":"IFERROR(VLOOKUP(ROWS(AL$2:$AL1342),N1342:Q3245,4,0),\"\")","v":""}]
[null,null,null,null,null,null,null,null,null,null,null,null,null,{"$f":"IF(ISNUMBER(SEARCH($H$16,Q1343)),MAX($N$1:N1342)+1,0)","v":0},{"$f":"IF(ISNUMBER(SEARCH($H$11,Q1343)),MAX($O$1:O1342)+1,0)","v":0},{"$f":"IF(ISNUMBER(SEARCH($H$6,Q1343)),MAX($P$1:P1342)+1,0)","v":0},"jpmorgan eemea eq off shore fund","MJP038","International",null,null,null,null,null,null,null,null,null,null,null,{"$f":"IFERROR(VLOOKUP(ROWS($AE$2:AE1343),P1343:Q3246,2,0),\"\")","v":""},null,null,null,null,{"$f":"IFERROR(VLOOKUP(ROWS($AJ$2:AJ1343),O1343:Q3246,3,0),\"\")","v":""},null,{"$f":"IFERROR(VLOOKUP(ROWS(AL$2:$AL1343),N1343:Q3246,4,0),\"\")","v":""}]
[null,null,null,null,null,null,null,null,null,null,null,null,null,{"$f":"IF(ISNUMBER(SEARCH($H$16,Q1344)),MAX($N$1:N1343)+1,0)","v":0},{"$f":"IF(ISNUMBER(SEARCH($H$11,Q1344)),MAX($O$1:O1343)+1,0)","v":0},{"$f":"IF(ISNUMBER(SEARCH($H$6,Q1344)),MAX($P$1:P1343)+1,0)","v":0},"hsbc emerging markets fund","MHS186","International",null,null,null,null,null,null,null,null,null,null,null,{"$f":"IFERROR(VLOOKUP(ROWS($AE$2:AE1344),P1344:Q3247,2,0),\"\")","v":""},null,null,null,null,{"$f":"IFERROR(VLOOKUP(ROWS($AJ$2:AJ1344),O1344:Q3247,3,0),\"\")","v":""},null,{"$f":"IFERROR(VLOOKUP(ROWS(AL$2:$AL1344),N1344:Q3247,4,0),\"\")","v":""}]
[null,null,null,null,null,null,null,null,null,null,null,null,null,{"$f":"IF(ISNUMBER(SEARCH($H$16,Q1345)),MAX($N$1:N1344)+1,0)","v":0},{"$f":"IF(ISNUMBER(SEARCH($H$11,Q1345)),MAX($O$1:O1344)+1,0)","v":0},{"$f":"IF(ISNUMBER(SEARCH($H$6,Q1345)),MAX($P$1:P1344)+1,0)","v":0},"sundaram global advantage","MSN135","International",null,null,null,null,null,null,null,null,null,null,null,{"$f":"IFERROR(VLOOKUP(ROWS($AE$2:AE1345),P1345:Q3248,2,0),\"\")","v":""},null,null,null,null,{"$f":"IFERROR(VLOOKUP(ROWS($AJ$2:AJ1345),O1345:Q3248,3,0),\"\")","v":""},null,{"$f":"IFERROR(VLOOKUP(ROWS(AL$2:$AL1345),N1345:Q3248,4,0),\"\")","v":""}]
[null,null,null,null,null,null,null,null,null,null,null,null,null,{"$f":"IF(ISNUMBER(SEARCH($H$16,Q1346)),MAX($N$1:N1345)+1,0)","v":0},{"$f":"IF(ISNUMBER(SEARCH($H$11,Q1346)),MAX($O$1:O1345)+1,0)","v":0},{"$f":"IF(ISNUMBER(SEARCH($H$6,Q1346)),MAX($P$1:P1345)+1,0)","v":0},"dsp br world energy rp","MDS265","International",null,null,null,null,null,null,null,null,null,null,null,{"$f":"IFERROR(VLOOKUP(ROWS($AE$2:AE1346),P1346:Q3249,2,0),\"\")","v":""},null,null,null,null,{"$f":"IFERROR(VLOOKUP(ROWS($AJ$2:AJ1346),O1346:Q3249,3,0),\"\")","v":""},null,{"$f":"IFERROR(VLOOKUP(ROWS(AL$2:$AL1346),N1346:Q3249,4,0),\"\")","v":""}]
[null,null,null,null,null,null,null,null,null,null,null,null,null,{"$f":"IF(ISNUMBER(SEARCH($H$16,Q1347)),MAX($N$1:N1346)+1,0)","v":0},{"$f":"IF(ISNUMBER(SEARCH($H$11,Q1347)),MAX($O$1:O1346)+1,0)","v":0},{"$f":"IF(ISNUMBER(SEARCH($H$6,Q1347)),MAX($P$1:P1346)+1,0)","v":0},"birla sl global commodities dir","MIN356","International",null,null,null,null,null,null,null,null,null,null,null,{"$f":"IFERROR(VLOOKUP(ROWS($AE$2:AE1347),P1347:Q3250,2,0),\"\")","v":""},null,null,null,null,{"$f":"IFERROR(VLOOKUP(ROWS($AJ$2:AJ1347),O1347:Q3250,3,0),\"\")","v":""},null,{"$f":"IFERROR(VLOOKUP(ROWS(AL$2:$AL1347),N1347:Q3250,4,0),\"\")","v":""}]
[null,null,null,null,null,null,null,null,null,null,null,null,null,{"$f":"IF(ISNUMBER(SEARCH($H$16,Q1348)),MAX($N$1:N1347)+1,0)","v":0},{"$f":"IF(ISNUMBER(SEARCH($H$11,Q1348)),MAX($O$1:O1347)+1,0)","v":0},{"$f":"IF(ISNUMBER(SEARCH($H$6,Q1348)),MAX($P$1:P1347)+1,0)","v":0},"birla sl global commodities","MIN289","International",null,null,null,null,null,null,null,null,null,null,null,{"$f":"IFERROR(VLOOKUP(ROWS($AE$2:AE1348),P1348:Q3251,2,0),\"\")","v":""},null,null,null,null,{"$f":"IFERROR(VLOOKUP(ROWS($AJ$2:AJ1348),O1348:Q3251,3,0),\"\")","v":""},null,{"$f":"IFERROR(VLOOKUP(ROWS(AL$2:$AL1348),N1348:Q3251,4,0),\"\")","v":""}]
[null,null,null,null,null,null,null,null,null,null,null,null,null,{"$f":"IF(ISNUMBER(SEARCH($H$16,Q1349)),MAX($N$1:N1348)+1,0)","v":0},{"$f":"IF(ISNUMBER(SEARCH($H$11,Q1349)),MAX($O$1:O1348)+1,0)","v":0},{"$f":"IF(ISNUMBER(SEARCH($H$6,Q1349)),MAX($P$1:P1348)+1,0)","v":0},"birla sl latin america eqty dir","MIN367","International",null,null,null,null,null,null,null,null,null,null,null,{"$f":"IFERROR(VLOOKUP(ROWS($AE$2:AE1349),P1349:Q3252,2,0),\"\")","v":""},null,null,null,null,{"$f":"IFERROR(VLOOKUP(ROWS($AJ$2:AJ1349),O1349:Q3252,3,0),\"\")","v":""},null,{"$f":"IFERROR(VLOOKUP(ROWS(AL$2:$AL1349),N1349:Q3252,4,0),\"\")","v":""}]
[null,null,null,null,null,null,null,null,null,null,null,null,null,{"$f":"IF(ISNUMBER(SEARCH($H$16,Q1350)),MAX($N$1:N1349)+1,0)","v":0},{"$f":"IF(ISNUMBER(SEARCH($H$11,Q1350)),MAX($O$1:O1349)+1,0)","v":0},{"$f":"IF(ISNUMBER(SEARCH($H$6,Q1350)),MAX($P$1:P1349)+1,0)","v":0},"birla sl latin america equity","MIN252","International",null,null,null,null,null,null,null,null,null,null,null,{"$f":"IFERROR(VLOOKUP(ROWS($AE$2:AE1350),P1350:Q3253,2,0),\"\")","v":""},null,null,null,null,{"$f":"IFERROR(VLOOKUP(ROWS($AJ$2:AJ1350),O1350:Q3253,3,0),\"\")","v":""},null,{"$f":"IFERROR(VLOOKUP(ROWS(AL$2:$AL1350),N1350:Q3253,4,0),\"\")","v":""}]
[null,null,null,null,null,null,null,null,null,null,null,null,null,{"$f":"IF(ISNUMBER(SEARCH($H$16,Q1351)),MAX($N$1:N1350)+1,0)","v":0},{"$f":"IF(ISNUMBER(SEARCH($H$11,Q1351)),MAX($O$1:O1350)+1,0)","v":0},{"$f":"IF(ISNUMBER(SEARCH($H$6,Q1351)),MAX($P$1:P1350)+1,0)","v":0},"mirae global commo stock","MMA032","International",null,null,null,null,null,null,null,null,null,null,null,{"$f":"IFERROR(VLOOKUP(ROWS($AE$2:AE1351),P1351:Q3254,2,0),\"\")","v":""},null,null,null,null,{"$f":"IFERROR(VLOOKUP(ROWS($AJ$2:AJ1351),O1351:Q3254,3,0),\"\")","v":""},null,{"$f":"IFERROR(VLOOKUP(ROWS(AL$2:$AL1351),N1351:Q3254,4,0),\"\")","v":""}]
[null,null,null,null,null,null,null,null,null,null,null,null,null,{"$f":"IF(ISNUMBER(SEARCH($H$16,Q1352)),MAX($N$1:N1351)+1,0)","v":0},{"$f":"IF(ISNUMBER(SEARCH($H$11,Q1352)),MAX($O$1:O1351)+1,0)","v":0},{"$f":"IF(ISNUMBER(SEARCH($H$6,Q1352)),MAX($P$1:P1351)+1,0)","v":0},"dsp br world gold rp","MDS107","International",null,null,null,null,null,null,null,null,null,null,null,{"$f":"IFERROR(VLOOKUP(ROWS($AE$2:AE1352),P1352:Q3255,2,0),\"\")","v":""},null,null,null,null,{"$f":"IFERROR(VLOOKUP(ROWS($AJ$2:AJ1352),O1352:Q3255,3,0),\"\")","v":""},null,{"$f":"IFERROR(VLOOKUP(ROWS(AL$2:$AL1352),N1352:Q3255,4,0),\"\")","v":""}]
[null,null,null,null,null,null,null,null,null,null,null,null,null,{"$f":"IF(ISNUMBER(SEARCH($H$16,Q1353)),MAX($N$1:N1352)+1,0)","v":0},{"$f":"IF(ISNUMBER(SEARCH($H$11,Q1353)),MAX($O$1:O1352)+1,0)","v":0},{"$f":"IF(ISNUMBER(SEARCH($H$6,Q1353)),MAX($P$1:P1352)+1,0)","v":0},"dsp br world mining fund rp","MDS273","International",null,null,null,null,null,null,null,null,null,null,null,{"$f":"IFERROR(VLOOKUP(ROWS($AE$2:AE1353),P1353:Q3256,2,0),\"\")","v":""},null,null,null,null,{"$f":"IFERROR(VLOOKUP(ROWS($AJ$2:AJ1353),O1353:Q3256,3,0),\"\")","v":""},null,{"$f":"IFERROR(VLOOKUP(ROWS(AL$2:$AL1353),N1353:Q3256,4,0),\"\")","v":""}]
[null,null,null,null,null,null,null,null,null,null,null,null,null,{"$f":"IF(ISNUMBER(SEARCH($H$16,Q1354)),MAX($N$1:N1353)+1,0)","v":0},{"$f":"IF(ISNUMBER(SEARCH($H$11,Q1354)),MAX($O$1:O1353)+1,0)","v":0},{"$f":"IF(ISNUMBER(SEARCH($H$6,Q1354)),MAX($P$1:P1353)+1,0)","v":0},"kotak world gold fund standard","MAI053","International",null,null,null,null,null,null,null,null,null,null,null,{"$f":"IFERROR(VLOOKUP(ROWS($AE$2:AE1354),P1354:Q3257,2,0),\"\")","v":""},null,null,null,null,{"$f":"IFERROR(VLOOKUP(ROWS($AJ$2:AJ1354),O1354:Q3257,3,0),\"\")","v":""},null,{"$f":"IFERROR(VLOOKUP(ROWS(AL$2:$AL1354),N1354:Q3257,4,0),\"\")","v":""}]
[null,null,null,null,null,null,null,null,null,null,null,null,null,{"$f":"IF(ISNUMBER(SEARCH($H$16,Q1355)),MAX($N$1:N1354)+1,0)","v":0},{"$f":"IF(ISNUMBER(SEARCH($H$11,Q1355)),MAX($O$1:O1354)+1,0)","v":0},{"$f":"IF(ISNUMBER(SEARCH($H$6,Q1355)),MAX($P$1:P1354)+1,0)","v":0},"hsbc brazil fund","MHS301","International",null,null,null,null,null,null,null,null,null,null,null,{"$f":"IFERROR(VLOOKUP(ROWS($AE$2:AE1355),P1355:Q3258,2,0),\"\")","v":""},null,null,null,null,{"$f":"IFERROR(VLOOKUP(ROWS($AJ$2:AJ1355),O1355:Q3258,3,0),\"\")","v":""},null,{"$f":"IFERROR(VLOOKUP(ROWS(AL$2:$AL1355),N1355:Q3258,4,0),\"\")","v":""}]
[null,null,null,null,null,null,null,null,null,null,null,null,null,{"$f":"IF(ISNUMBER(SEARCH($H$16,Q1356)),MAX($N$1:N1355)+1,0)","v":0},{"$f":"IF(ISNUMBER(SEARCH($H$11,Q1356)),MAX($O$1:O1355)+1,0)","v":0},{"$f":"IF(ISNUMBER(SEARCH($H$6,Q1356)),MAX($P$1:P1355)+1,0)","v":0},"birla sl comm eqty gap ip","MBS400","International",null,null,null,null,null,null,null,null,null,null,null,{"$f":"IFERROR(VLOOKUP(ROWS($AE$2:AE1356),P1356:Q3259,2,0),\"\")","v":""},null,null,null,null,{"$f":"IFERROR(VLOOKUP(ROWS($AJ$2:AJ1356),O1356:Q3259,3,0),\"\")","v":""},null,{"$f":"IFERROR(VLOOKUP(ROWS(AL$2:$AL1356),N1356:Q3259,4,0),\"\")","v":""}]
[null,null,null,null,null,null,null,null,null,null,null,null,null,{"$f":"IF(ISNUMBER(SEARCH($H$16,Q1357)),MAX($N$1:N1356)+1,0)","v":0},{"$f":"IF(ISNUMBER(SEARCH($H$11,Q1357)),MAX($O$1:O1356)+1,0)","v":0},{"$f":"IF(ISNUMBER(SEARCH($H$6,Q1357)),MAX($P$1:P1356)+1,0)","v":0},"motilal oswal most shares gold etf","MMO006","Gold etf",null,null,null,null,null,null,null,null,null,null,null,{"$f":"IFERROR(VLOOKUP(ROWS($AE$2:AE1357),P1357:Q3260,2,0),\"\")","v":""},null,null,null,null,{"$f":"IFERROR(VLOOKUP(ROWS($AJ$2:AJ1357),O1357:Q3260,3,0),\"\")","v":""},null,{"$f":"IFERROR(VLOOKUP(ROWS(AL$2:$AL1357),N1357:Q3260,4,0),\"\")","v":""}]
[null,null,null,null,null,null,null,null,null,null,null,null,null,{"$f":"IF(ISNUMBER(SEARCH($H$16,Q1358)),MAX($N$1:N1357)+1,0)","v":0},{"$f":"IF(ISNUMBER(SEARCH($H$11,Q1358)),MAX($O$1:O1357)+1,0)","v":0},{"$f":"IF(ISNUMBER(SEARCH($H$6,Q1358)),MAX($P$1:P1357)+1,0)","v":0},"gs gold bees","MBM017","Gold etf",null,null,null,null,null,null,null,null,null,null,null,{"$f":"IFERROR(VLOOKUP(ROWS($AE$2:AE1358),P1358:Q3261,2,0),\"\")","v":""},null,null,null,null,{"$f":"IFERROR(VLOOKUP(ROWS($AJ$2:AJ1358),O1358:Q3261,3,0),\"\")","v":""},null,{"$f":"IFERROR(VLOOKUP(ROWS(AL$2:$AL1358),N1358:Q3261,4,0),\"\")","v":""}]
[null,null,null,null,null,null,null,null,null,null,null,null,null,{"$f":"IF(ISNUMBER(SEARCH($H$16,Q1359)),MAX($N$1:N1358)+1,0)","v":0},{"$f":"IF(ISNUMBER(SEARCH($H$11,Q1359)),MAX($O$1:O1358)+1,0)","v":0},{"$f":"IF(ISNUMBER(SEARCH($H$6,Q1359)),MAX($P$1:P1358)+1,0)","v":0},"birla sun life gold etf","MBS563","Gold etf",null,null,null,null,null,null,null,null,null,null,null,{"$f":"IFERROR(VLOOKUP(ROWS($AE$2:AE1359),P1359:Q3262,2,0),\"\")","v":""},null,null,null,null,{"$f":"IFERROR(VLOOKUP(ROWS($AJ$2:AJ1359),O1359:Q3262,3,0),\"\")","v":""},null,{"$f":"IFERROR(VLOOKUP(ROWS(AL$2:$AL1359),N1359:Q3262,4,0),\"\")","v":""}]
[null,null,null,null,null,null,null,null,null,null,null,null,null,{"$f":"IF(ISNUMBER(SEARCH($H$16,Q1360)),MAX($N$1:N1359)+1,0)","v":0},{"$f":"IF(ISNUMBER(SEARCH($H$11,Q1360)),MAX($O$1:O1359)+1,0)","v":0},{"$f":"IF(ISNUMBER(SEARCH($H$6,Q1360)),MAX($P$1:P1359)+1,0)","v":0},"sbi gold exchange traded fund","MSB211","Gold etf",null,null,null,null,null,null,null,null,null,null,null,{"$f":"IFERROR(VLOOKUP(ROWS($AE$2:AE1360),P1360:Q3263,2,0),\"\")","v":""},null,null,null,null,{"$f":"IFERROR(VLOOKUP(ROWS($AJ$2:AJ1360),O1360:Q3263,3,0),\"\")","v":""},null,{"$f":"IFERROR(VLOOKUP(ROWS(AL$2:$AL1360),N1360:Q3263,4,0),\"\")","v":""}]
[null,null,null,null,null,null,null,null,null,null,null,null,null,{"$f":"IF(ISNUMBER(SEARCH($H$16,Q1361)),MAX($N$1:N1360)+1,0)","v":0},{"$f":"IF(ISNUMBER(SEARCH($H$11,Q1361)),MAX($O$1:O1360)+1,0)","v":0},{"$f":"IF(ISNUMBER(SEARCH($H$6,Q1361)),MAX($P$1:P1360)+1,0)","v":0},"idbi gold exchange traded fund","MIB042","Gold etf",null,null,null,null,null,null,null,null,null,null,null,{"$f":"IFERROR(VLOOKUP(ROWS($AE$2:AE1361),P1361:Q3264,2,0),\"\")","v":""},null,null,null,null,{"$f":"IFERROR(VLOOKUP(ROWS($AJ$2:AJ1361),O1361:Q3264,3,0),\"\")","v":""},null,{"$f":"IFERROR(VLOOKUP(ROWS(AL$2:$AL1361),N1361:Q3264,4,0),\"\")","v":""}]
[null,null,null,null,null,null,null,null,null,null,null,null,null,{"$f":"IF(ISNUMBER(SEARCH($H$16,Q1362)),MAX($N$1:N1361)+1,0)","v":0},{"$f":"IF(ISNUMBER(SEARCH($H$11,Q1362)),MAX($O$1:O1361)+1,0)","v":0},{"$f":"IF(ISNUMBER(SEARCH($H$6,Q1362)),MAX($P$1:P1361)+1,0)","v":0},"axis gold etf","MAA093","Gold etf",null,null,null,null,null,null,null,null,null,null,null,{"$f":"IFERROR(VLOOKUP(ROWS($AE$2:AE1362),P1362:Q3265,2,0),\"\")","v":""},null,null,null,null,{"$f":"IFERROR(VLOOKUP(ROWS($AJ$2:AJ1362),O1362:Q3265,3,0),\"\")","v":""},null,{"$f":"IFERROR(VLOOKUP(ROWS(AL$2:$AL1362),N1362:Q3265,4,0),\"\")","v":""}]
[null,null,null,null,null,null,null,null,null,null,null,null,null,{"$f":"IF(ISNUMBER(SEARCH($H$16,Q1363)),MAX($N$1:N1362)+1,0)","v":5},{"$f":"IF(ISNUMBER(SEARCH($H$11,Q1363)),MAX($O$1:O1362)+1,0)","v":0},{"$f":"IF(ISNUMBER(SEARCH($H$6,Q1363)),MAX($P$1:P1362)+1,0)","v":5},"quantum gold fund","MQU006","Gold etf",null,null,null,null,null,null,null,null,null,null,null,{"$f":"IFERROR(VLOOKUP(ROWS($AE$2:AE1363),P1363:Q3266,2,0),\"\")","v":""},null,null,null,null,{"$f":"IFERROR(VLOOKUP(ROWS($AJ$2:AJ1363),O1363:Q3266,3,0),\"\")","v":""},null,{"$f":"IFERROR(VLOOKUP(ROWS(AL$2:$AL1363),N1363:Q3266,4,0),\"\")","v":""}]
[null,null,null,null,null,null,null,null,null,null,null,null,null,{"$f":"IF(ISNUMBER(SEARCH($H$16,Q1364)),MAX($N$1:N1363)+1,0)","v":0},{"$f":"IF(ISNUMBER(SEARCH($H$11,Q1364)),MAX($O$1:O1363)+1,0)","v":0},{"$f":"IF(ISNUMBER(SEARCH($H$6,Q1364)),MAX($P$1:P1363)+1,0)","v":0},"uti gold exchange traded fund","MUT113","Gold etf",null,null,null,null,null,null,null,null,null,null,null,{"$f":"IFERROR(VLOOKUP(ROWS($AE$2:AE1364),P1364:Q3267,2,0),\"\")","v":""},null,null,null,null,{"$f":"IFERROR(VLOOKUP(ROWS($AJ$2:AJ1364),O1364:Q3267,3,0),\"\")","v":""},null,{"$f":"IFERROR(VLOOKUP(ROWS(AL$2:$AL1364),N1364:Q3267,4,0),\"\")","v":""}]
[null,null,null,null,null,null,null,null,null,null,null,null,null,{"$f":"IF(ISNUMBER(SEARCH($H$16,Q1365)),MAX($N$1:N1364)+1,0)","v":0},{"$f":"IF(ISNUMBER(SEARCH($H$11,Q1365)),MAX($O$1:O1364)+1,0)","v":0},{"$f":"IF(ISNUMBER(SEARCH($H$6,Q1365)),MAX($P$1:P1364)+1,0)","v":0},"kotak gold etf","MKM103","Gold etf",null,null,null,null,null,null,null,null,null,null,null,{"$f":"IFERROR(VLOOKUP(ROWS($AE$2:AE1365),P1365:Q3268,2,0),\"\")","v":""},null,null,null,null,{"$f":"IFERROR(VLOOKUP(ROWS($AJ$2:AJ1365),O1365:Q3268,3,0),\"\")","v":""},null,{"$f":"IFERROR(VLOOKUP(ROWS(AL$2:$AL1365),N1365:Q3268,4,0),\"\")","v":""}]
[null,null,null,null,null,null,null,null,null,null,null,null,null,{"$f":"IF(ISNUMBER(SEARCH($H$16,Q1366)),MAX($N$1:N1365)+1,0)","v":0},{"$f":"IF(ISNUMBER(SEARCH($H$11,Q1366)),MAX($O$1:O1365)+1,0)","v":0},{"$f":"IF(ISNUMBER(SEARCH($H$6,Q1366)),MAX($P$1:P1365)+1,0)","v":0},"hdfc gold exchange traded fund","MHD679","Gold etf",null,null,null,null,null,null,null,null,null,null,null,{"$f":"IFERROR(VLOOKUP(ROWS($AE$2:AE1366),P1366:Q3269,2,0),\"\")","v":""},null,null,null,null,{"$f":"IFERROR(VLOOKUP(ROWS($AJ$2:AJ1366),O1366:Q3269,3,0),\"\")","v":""},null,{"$f":"IFERROR(VLOOKUP(ROWS(AL$2:$AL1366),N1366:Q3269,4,0),\"\")","v":""}]
[null,null,null,null,null,null,null,null,null,null,null,null,null,{"$f":"IF(ISNUMBER(SEARCH($H$16,Q1367)),MAX($N$1:N1366)+1,0)","v":0},{"$f":"IF(ISNUMBER(SEARCH($H$11,Q1367)),MAX($O$1:O1366)+1,0)","v":0},{"$f":"IF(ISNUMBER(SEARCH($H$6,Q1367)),MAX($P$1:P1366)+1,0)","v":0},"can gold exchange traded fund","MCA191","Gold etf",null,null,null,null,null,null,null,null,null,null,null,{"$f":"IFERROR(VLOOKUP(ROWS($AE$2:AE1367),P1367:Q3270,2,0),\"\")","v":""},null,null,null,null,{"$f":"IFERROR(VLOOKUP(ROWS($AJ$2:AJ1367),O1367:Q3270,3,0),\"\")","v":""},null,{"$f":"IFERROR(VLOOKUP(ROWS(AL$2:$AL1367),N1367:Q3270,4,0),\"\")","v":""}]
[null,null,null,null,null,null,null,null,null,null,null,null,null,{"$f":"IF(ISNUMBER(SEARCH($H$16,Q1368)),MAX($N$1:N1367)+1,0)","v":0},{"$f":"IF(ISNUMBER(SEARCH($H$11,Q1368)),MAX($O$1:O1367)+1,0)","v":0},{"$f":"IF(ISNUMBER(SEARCH($H$6,Q1368)),MAX($P$1:P1367)+1,0)","v":0},"icici pru gold etf","MPI753","Gold etf",null,null,null,null,null,null,null,null,null,null,null,{"$f":"IFERROR(VLOOKUP(ROWS($AE$2:AE1368),P1368:Q3271,2,0),\"\")","v":""},null,null,null,null,{"$f":"IFERROR(VLOOKUP(ROWS($AJ$2:AJ1368),O1368:Q3271,3,0),\"\")","v":""},null,{"$f":"IFERROR(VLOOKUP(ROWS(AL$2:$AL1368),N1368:Q3271,4,0),\"\")","v":""}]
[null,null,null,null,null,null,null,null,null,null,null,null,null,{"$f":"IF(ISNUMBER(SEARCH($H$16,Q1369)),MAX($N$1:N1368)+1,0)","v":0},{"$f":"IF(ISNUMBER(SEARCH($H$11,Q1369)),MAX($O$1:O1368)+1,0)","v":0},{"$f":"IF(ISNUMBER(SEARCH($H$6,Q1369)),MAX($P$1:P1368)+1,0)","v":0},"religare invesco gold etf","MLI347","Gold etf",null,null,null,null,null,null,null,null,null,null,null,{"$f":"IFERROR(VLOOKUP(ROWS($AE$2:AE1369),P1369:Q3272,2,0),\"\")","v":""},null,null,null,null,{"$f":"IFERROR(VLOOKUP(ROWS($AJ$2:AJ1369),O1369:Q3272,3,0),\"\")","v":""},null,{"$f":"IFERROR(VLOOKUP(ROWS(AL$2:$AL1369),N1369:Q3272,4,0),\"\")","v":""}]
[null,null,null,null,null,null,null,null,null,null,null,null,null,{"$f":"IF(ISNUMBER(SEARCH($H$16,Q1370)),MAX($N$1:N1369)+1,0)","v":0},{"$f":"IF(ISNUMBER(SEARCH($H$11,Q1370)),MAX($O$1:O1369)+1,0)","v":0},{"$f":"IF(ISNUMBER(SEARCH($H$6,Q1370)),MAX($P$1:P1369)+1,0)","v":0},"r*shares gold etf","MRC256","Gold etf",null,null,null,null,null,null,null,null,null,null,null,{"$f":"IFERROR(VLOOKUP(ROWS($AE$2:AE1370),P1370:Q3273,2,0),\"\")","v":""},null,null,null,null,{"$f":"IFERROR(VLOOKUP(ROWS($AJ$2:AJ1370),O1370:Q3273,3,0),\"\")","v":""},null,{"$f":"IFERROR(VLOOKUP(ROWS(AL$2:$AL1370),N1370:Q3273,4,0),\"\")","v":""}]
[null,null,null,null,null,null,null,null,null,null,null,null,null,{"$f":"IF(ISNUMBER(SEARCH($H$16,Q1371)),MAX($N$1:N1370)+1,0)","v":0},{"$f":"IF(ISNUMBER(SEARCH($H$11,Q1371)),MAX($O$1:O1370)+1,0)","v":0},{"$f":"IF(ISNUMBER(SEARCH($H$6,Q1371)),MAX($P$1:P1370)+1,0)","v":0},"birla sl aaf aggressive","MBS051","Equity fund of funds",null,null,null,null,null,null,null,null,null,null,null,{"$f":"IFERROR(VLOOKUP(ROWS($AE$2:AE1371),P1371:Q3274,2,0),\"\")","v":""},null,null,null,null,{"$f":"IFERROR(VLOOKUP(ROWS($AJ$2:AJ1371),O1371:Q3274,3,0),\"\")","v":""},null,{"$f":"IFERROR(VLOOKUP(ROWS(AL$2:$AL1371),N1371:Q3274,4,0),\"\")","v":""}]
[null,null,null,null,null,null,null,null,null,null,null,null,null,{"$f":"IF(ISNUMBER(SEARCH($H$16,Q1372)),MAX($N$1:N1371)+1,0)","v":6},{"$f":"IF(ISNUMBER(SEARCH($H$11,Q1372)),MAX($O$1:O1371)+1,0)","v":0},{"$f":"IF(ISNUMBER(SEARCH($H$6,Q1372)),MAX($P$1:P1371)+1,0)","v":6},"quantum equity fof","MQU010","Equity fund of funds",null,null,null,null,null,null,null,null,null,null,null,{"$f":"IFERROR(VLOOKUP(ROWS($AE$2:AE1372),P1372:Q3275,2,0),\"\")","v":""},null,null,null,null,{"$f":"IFERROR(VLOOKUP(ROWS($AJ$2:AJ1372),O1372:Q3275,3,0),\"\")","v":""},null,{"$f":"IFERROR(VLOOKUP(ROWS(AL$2:$AL1372),N1372:Q3275,4,0),\"\")","v":""}]
[null,null,null,null,null,null,null,null,null,null,null,null,null,{"$f":"IF(ISNUMBER(SEARCH($H$16,Q1373)),MAX($N$1:N1372)+1,0)","v":0},{"$f":"IF(ISNUMBER(SEARCH($H$11,Q1373)),MAX($O$1:O1372)+1,0)","v":0},{"$f":"IF(ISNUMBER(SEARCH($H$6,Q1373)),MAX($P$1:P1372)+1,0)","v":0},"birla sl 5 star mm fof","MIO025","Equity fund of funds",null,null,null,null,null,null,null,null,null,null,null,{"$f":"IFERROR(VLOOKUP(ROWS($AE$2:AE1373),P1373:Q3276,2,0),\"\")","v":""},null,null,null,null,{"$f":"IFERROR(VLOOKUP(ROWS($AJ$2:AJ1373),O1373:Q3276,3,0),\"\")","v":""},null,{"$f":"IFERROR(VLOOKUP(ROWS(AL$2:$AL1373),N1373:Q3276,4,0),\"\")","v":""}]
[null,null,null,null,null,null,null,null,null,null,null,null,null,{"$f":"IF(ISNUMBER(SEARCH($H$16,Q1374)),MAX($N$1:N1373)+1,0)","v":0},{"$f":"IF(ISNUMBER(SEARCH($H$11,Q1374)),MAX($O$1:O1373)+1,0)","v":0},{"$f":"IF(ISNUMBER(SEARCH($H$6,Q1374)),MAX($P$1:P1373)+1,0)","v":0},"hsbc managed sol growth rp","MHS441","Equity fund of funds",null,null,null,null,null,null,null,null,null,null,null,{"$f":"IFERROR(VLOOKUP(ROWS($AE$2:AE1374),P1374:Q3277,2,0),\"\")","v":""},null,null,null,null,{"$f":"IFERROR(VLOOKUP(ROWS($AJ$2:AJ1374),O1374:Q3277,3,0),\"\")","v":""},null,{"$f":"IFERROR(VLOOKUP(ROWS(AL$2:$AL1374),N1374:Q3277,4,0),\"\")","v":""}]
[null,null,null,null,null,null,null,null,null,null,null,null,null,{"$f":"IF(ISNUMBER(SEARCH($H$16,Q1375)),MAX($N$1:N1374)+1,0)","v":0},{"$f":"IF(ISNUMBER(SEARCH($H$11,Q1375)),MAX($O$1:O1374)+1,0)","v":0},{"$f":"IF(ISNUMBER(SEARCH($H$6,Q1375)),MAX($P$1:P1374)+1,0)","v":0},"kotak asset allocator fund regular","MKM063","Equity fund of funds",null,null,null,null,null,null,null,null,null,null,null,{"$f":"IFERROR(VLOOKUP(ROWS($AE$2:AE1375),P1375:Q3278,2,0),\"\")","v":""},null,null,null,null,{"$f":"IFERROR(VLOOKUP(ROWS($AJ$2:AJ1375),O1375:Q3278,3,0),\"\")","v":""},null,{"$f":"IFERROR(VLOOKUP(ROWS(AL$2:$AL1375),N1375:Q3278,4,0),\"\")","v":""}]
[null,null,null,null,null,null,null,null,null,null,null,null,null,{"$f":"IF(ISNUMBER(SEARCH($H$16,Q1376)),MAX($N$1:N1375)+1,0)","v":0},{"$f":"IF(ISNUMBER(SEARCH($H$11,Q1376)),MAX($O$1:O1375)+1,0)","v":0},{"$f":"IF(ISNUMBER(SEARCH($H$6,Q1376)),MAX($P$1:P1375)+1,0)","v":0},"sundaram hybrid sr a 3yr rp","MSN674","Equity fund of funds",null,null,null,null,null,null,null,null,null,null,null,{"$f":"IFERROR(VLOOKUP(ROWS($AE$2:AE1376),P1376:Q3279,2,0),\"\")","v":""},null,null,null,null,{"$f":"IFERROR(VLOOKUP(ROWS($AJ$2:AJ1376),O1376:Q3279,3,0),\"\")","v":""},null,{"$f":"IFERROR(VLOOKUP(ROWS(AL$2:$AL1376),N1376:Q3279,4,0),\"\")","v":""}]
[null,null,null,null,null,null,null,null,null,null,null,null,null,{"$f":"IF(ISNUMBER(SEARCH($H$16,Q1377)),MAX($N$1:N1376)+1,0)","v":0},{"$f":"IF(ISNUMBER(SEARCH($H$11,Q1377)),MAX($O$1:O1376)+1,0)","v":0},{"$f":"IF(ISNUMBER(SEARCH($H$6,Q1377)),MAX($P$1:P1376)+1,0)","v":0},"principal global oppor","MID065","Equity fund of funds",null,null,null,null,null,null,null,null,null,null,null,{"$f":"IFERROR(VLOOKUP(ROWS($AE$2:AE1377),P1377:Q3280,2,0),\"\")","v":""},null,null,null,null,{"$f":"IFERROR(VLOOKUP(ROWS($AJ$2:AJ1377),O1377:Q3280,3,0),\"\")","v":""},null,{"$f":"IFERROR(VLOOKUP(ROWS(AL$2:$AL1377),N1377:Q3280,4,0),\"\")","v":""}]
[null,null,null,null,null,null,null,null,null,null,null,null,null,{"$f":"IF(ISNUMBER(SEARCH($H$16,Q1378)),MAX($N$1:N1377)+1,0)","v":0},{"$f":"IF(ISNUMBER(SEARCH($H$11,Q1378)),MAX($O$1:O1377)+1,0)","v":0},{"$f":"IF(ISNUMBER(SEARCH($H$6,Q1378)),MAX($P$1:P1377)+1,0)","v":0},"birla sl aaf moderate plan","MBS053","Hybrid fund of funds",null,null,null,null,null,null,null,null,null,null,null,{"$f":"IFERROR(VLOOKUP(ROWS($AE$2:AE1378),P1378:Q3281,2,0),\"\")","v":""},null,null,null,null,{"$f":"IFERROR(VLOOKUP(ROWS($AJ$2:AJ1378),O1378:Q3281,3,0),\"\")","v":""},null,{"$f":"IFERROR(VLOOKUP(ROWS(AL$2:$AL1378),N1378:Q3281,4,0),\"\")","v":""}]
[null,null,null,null,null,null,null,null,null,null,null,null,null,{"$f":"IF(ISNUMBER(SEARCH($H$16,Q1379)),MAX($N$1:N1378)+1,0)","v":0},{"$f":"IF(ISNUMBER(SEARCH($H$11,Q1379)),MAX($O$1:O1378)+1,0)","v":0},{"$f":"IF(ISNUMBER(SEARCH($H$6,Q1379)),MAX($P$1:P1378)+1,0)","v":0},"franklin i ls fof 20s plan","MTE027","Hybrid fund of funds",null,null,null,null,null,null,null,null,null,null,null,{"$f":"IFERROR(VLOOKUP(ROWS($AE$2:AE1379),P1379:Q3282,2,0),\"\")","v":""},null,null,null,null,{"$f":"IFERROR(VLOOKUP(ROWS($AJ$2:AJ1379),O1379:Q3282,3,0),\"\")","v":""},null,{"$f":"IFERROR(VLOOKUP(ROWS(AL$2:$AL1379),N1379:Q3282,4,0),\"\")","v":""}]
[null,null,null,null,null,null,null,null,null,null,null,null,null,{"$f":"IF(ISNUMBER(SEARCH($H$16,Q1380)),MAX($N$1:N1379)+1,0)","v":0},{"$f":"IF(ISNUMBER(SEARCH($H$11,Q1380)),MAX($O$1:O1379)+1,0)","v":0},{"$f":"IF(ISNUMBER(SEARCH($H$6,Q1380)),MAX($P$1:P1379)+1,0)","v":0},"birla sl aa multi mgr fof","MIO005","Hybrid fund of funds",null,null,null,null,null,null,null,null,null,null,null,{"$f":"IFERROR(VLOOKUP(ROWS($AE$2:AE1380),P1380:Q3283,2,0),\"\")","v":""},null,null,null,null,{"$f":"IFERROR(VLOOKUP(ROWS($AJ$2:AJ1380),O1380:Q3283,3,0),\"\")","v":""},null,{"$f":"IFERROR(VLOOKUP(ROWS(AL$2:$AL1380),N1380:Q3283,4,0),\"\")","v":""}]
[null,null,null,null,null,null,null,null,null,null,null,null,null,{"$f":"IF(ISNUMBER(SEARCH($H$16,Q1381)),MAX($N$1:N1380)+1,0)","v":0},{"$f":"IF(ISNUMBER(SEARCH($H$11,Q1381)),MAX($O$1:O1380)+1,0)","v":0},{"$f":"IF(ISNUMBER(SEARCH($H$6,Q1381)),MAX($P$1:P1380)+1,0)","v":0},"birla sl fp fof aggressive","MIO051","Hybrid fund of funds",null,null,null,null,null,null,null,null,null,null,null,{"$f":"IFERROR(VLOOKUP(ROWS($AE$2:AE1381),P1381:Q3284,2,0),\"\")","v":""},null,null,null,null,{"$f":"IFERROR(VLOOKUP(ROWS($AJ$2:AJ1381),O1381:Q3284,3,0),\"\")","v":""},null,{"$f":"IFERROR(VLOOKUP(ROWS(AL$2:$AL1381),N1381:Q3284,4,0),\"\")","v":""}]
[null,null,null,null,null,null,null,null,null,null,null,null,null,{"$f":"IF(ISNUMBER(SEARCH($H$16,Q1382)),MAX($N$1:N1381)+1,0)","v":0},{"$f":"IF(ISNUMBER(SEARCH($H$11,Q1382)),MAX($O$1:O1381)+1,0)","v":0},{"$f":"IF(ISNUMBER(SEARCH($H$6,Q1382)),MAX($P$1:P1381)+1,0)","v":0},"franklin i ls fof 30s plan","MTE029","Hybrid fund of funds",null,null,null,null,null,null,null,null,null,null,null,{"$f":"IFERROR(VLOOKUP(ROWS($AE$2:AE1382),P1382:Q3285,2,0),\"\")","v":""},null,null,null,null,{"$f":"IFERROR(VLOOKUP(ROWS($AJ$2:AJ1382),O1382:Q3285,3,0),\"\")","v":""},null,{"$f":"IFERROR(VLOOKUP(ROWS(AL$2:$AL1382),N1382:Q3285,4,0),\"\")","v":""}]
[null,null,null,null,null,null,null,null,null,null,null,null,null,{"$f":"IF(ISNUMBER(SEARCH($H$16,Q1383)),MAX($N$1:N1382)+1,0)","v":0},{"$f":"IF(ISNUMBER(SEARCH($H$11,Q1383)),MAX($O$1:O1382)+1,0)","v":0},{"$f":"IF(ISNUMBER(SEARCH($H$6,Q1383)),MAX($P$1:P1382)+1,0)","v":0},"birla sl aaf conservative","MBS055","Hybrid fund of funds",null,null,null,null,null,null,null,null,null,null,null,{"$f":"IFERROR(VLOOKUP(ROWS($AE$2:AE1383),P1383:Q3286,2,0),\"\")","v":""},null,null,null,null,{"$f":"IFERROR(VLOOKUP(ROWS($AJ$2:AJ1383),O1383:Q3286,3,0),\"\")","v":""},null,{"$f":"IFERROR(VLOOKUP(ROWS(AL$2:$AL1383),N1383:Q3286,4,0),\"\")","v":""}]
[null,null,null,null,null,null,null,null,null,null,null,null,null,{"$f":"IF(ISNUMBER(SEARCH($H$16,Q1384)),MAX($N$1:N1383)+1,0)","v":0},{"$f":"IF(ISNUMBER(SEARCH($H$11,Q1384)),MAX($O$1:O1383)+1,0)","v":0},{"$f":"IF(ISNUMBER(SEARCH($H$6,Q1384)),MAX($P$1:P1383)+1,0)","v":0},"franklin i ls fof 40s plan","MTE031","Hybrid fund of funds",null,null,null,null,null,null,null,null,null,null,null,{"$f":"IFERROR(VLOOKUP(ROWS($AE$2:AE1384),P1384:Q3287,2,0),\"\")","v":""},null,null,null,null,{"$f":"IFERROR(VLOOKUP(ROWS($AJ$2:AJ1384),O1384:Q3287,3,0),\"\")","v":""},null,{"$f":"IFERROR(VLOOKUP(ROWS(AL$2:$AL1384),N1384:Q3287,4,0),\"\")","v":""}]
[null,null,null,null,null,null,null,null,null,null,null,null,null,{"$f":"IF(ISNUMBER(SEARCH($H$16,Q1385)),MAX($N$1:N1384)+1,0)","v":0},{"$f":"IF(ISNUMBER(SEARCH($H$11,Q1385)),MAX($O$1:O1384)+1,0)","v":0},{"$f":"IF(ISNUMBER(SEARCH($H$6,Q1385)),MAX($P$1:P1384)+1,0)","v":0},"franklin i dyn pe ratio fof","MTE025","Hybrid fund of funds",null,null,null,null,null,null,null,null,null,null,null,{"$f":"IFERROR(VLOOKUP(ROWS($AE$2:AE1385),P1385:Q3288,2,0),\"\")","v":""},null,null,null,null,{"$f":"IFERROR(VLOOKUP(ROWS($AJ$2:AJ1385),O1385:Q3288,3,0),\"\")","v":""},null,{"$f":"IFERROR(VLOOKUP(ROWS(AL$2:$AL1385),N1385:Q3288,4,0),\"\")","v":""}]
[null,null,null,null,null,null,null,null,null,null,null,null,null,{"$f":"IF(ISNUMBER(SEARCH($H$16,Q1386)),MAX($N$1:N1385)+1,0)","v":0},{"$f":"IF(ISNUMBER(SEARCH($H$11,Q1386)),MAX($O$1:O1385)+1,0)","v":0},{"$f":"IF(ISNUMBER(SEARCH($H$6,Q1386)),MAX($P$1:P1385)+1,0)","v":0},"idfc aafof aggressive regular","MAG355","Hybrid fund of funds",null,null,null,null,null,null,null,null,null,null,null,{"$f":"IFERROR(VLOOKUP(ROWS($AE$2:AE1386),P1386:Q3289,2,0),\"\")","v":""},null,null,null,null,{"$f":"IFERROR(VLOOKUP(ROWS($AJ$2:AJ1386),O1386:Q3289,3,0),\"\")","v":""},null,{"$f":"IFERROR(VLOOKUP(ROWS(AL$2:$AL1386),N1386:Q3289,4,0),\"\")","v":""}]
[null,null,null,null,null,null,null,null,null,null,null,null,null,{"$f":"IF(ISNUMBER(SEARCH($H$16,Q1387)),MAX($N$1:N1386)+1,0)","v":0},{"$f":"IF(ISNUMBER(SEARCH($H$11,Q1387)),MAX($O$1:O1386)+1,0)","v":0},{"$f":"IF(ISNUMBER(SEARCH($H$6,Q1387)),MAX($P$1:P1386)+1,0)","v":0},"idfc aafof moderate regular","MAG359","Hybrid fund of funds",null,null,null,null,null,null,null,null,null,null,null,{"$f":"IFERROR(VLOOKUP(ROWS($AE$2:AE1387),P1387:Q3290,2,0),\"\")","v":""},null,null,null,null,{"$f":"IFERROR(VLOOKUP(ROWS($AJ$2:AJ1387),O1387:Q3290,3,0),\"\")","v":""},null,{"$f":"IFERROR(VLOOKUP(ROWS(AL$2:$AL1387),N1387:Q3290,4,0),\"\")","v":""}]
[null,null,null,null,null,null,null,null,null,null,null,null,null,{"$f":"IF(ISNUMBER(SEARCH($H$16,Q1388)),MAX($N$1:N1387)+1,0)","v":0},{"$f":"IF(ISNUMBER(SEARCH($H$11,Q1388)),MAX($O$1:O1387)+1,0)","v":0},{"$f":"IF(ISNUMBER(SEARCH($H$6,Q1388)),MAX($P$1:P1387)+1,0)","v":0},"hsbc managed sol moderate rp","MHS445","Hybrid fund of funds",null,null,null,null,null,null,null,null,null,null,null,{"$f":"IFERROR(VLOOKUP(ROWS($AE$2:AE1388),P1388:Q3291,2,0),\"\")","v":""},null,null,null,null,{"$f":"IFERROR(VLOOKUP(ROWS($AJ$2:AJ1388),O1388:Q3291,3,0),\"\")","v":""},null,{"$f":"IFERROR(VLOOKUP(ROWS(AL$2:$AL1388),N1388:Q3291,4,0),\"\")","v":""}]
[null,null,null,null,null,null,null,null,null,null,null,null,null,{"$f":"IF(ISNUMBER(SEARCH($H$16,Q1389)),MAX($N$1:N1388)+1,0)","v":0},{"$f":"IF(ISNUMBER(SEARCH($H$11,Q1389)),MAX($O$1:O1388)+1,0)","v":0},{"$f":"IF(ISNUMBER(SEARCH($H$6,Q1389)),MAX($P$1:P1388)+1,0)","v":0},"franklin i ls fof 50s plus","MTE033","Hybrid fund of funds",null,null,null,null,null,null,null,null,null,null,null,{"$f":"IFERROR(VLOOKUP(ROWS($AE$2:AE1389),P1389:Q3292,2,0),\"\")","v":""},null,null,null,null,{"$f":"IFERROR(VLOOKUP(ROWS($AJ$2:AJ1389),O1389:Q3292,3,0),\"\")","v":""},null,{"$f":"IFERROR(VLOOKUP(ROWS(AL$2:$AL1389),N1389:Q3292,4,0),\"\")","v":""}]
[null,null,null,null,null,null,null,null,null,null,null,null,null,{"$f":"IF(ISNUMBER(SEARCH($H$16,Q1390)),MAX($N$1:N1389)+1,0)","v":0},{"$f":"IF(ISNUMBER(SEARCH($H$11,Q1390)),MAX($O$1:O1389)+1,0)","v":0},{"$f":"IF(ISNUMBER(SEARCH($H$6,Q1390)),MAX($P$1:P1389)+1,0)","v":0},"idfc aafof conservative regular","MAG357","Hybrid fund of funds",null,null,null,null,null,null,null,null,null,null,null,{"$f":"IFERROR(VLOOKUP(ROWS($AE$2:AE1390),P1390:Q3293,2,0),\"\")","v":""},null,null,null,null,{"$f":"IFERROR(VLOOKUP(ROWS($AJ$2:AJ1390),O1390:Q3293,3,0),\"\")","v":""},null,{"$f":"IFERROR(VLOOKUP(ROWS(AL$2:$AL1390),N1390:Q3293,4,0),\"\")","v":""}]
[null,null,null,null,null,null,null,null,null,null,null,null,null,{"$f":"IF(ISNUMBER(SEARCH($H$16,Q1391)),MAX($N$1:N1390)+1,0)","v":0},{"$f":"IF(ISNUMBER(SEARCH($H$11,Q1391)),MAX($O$1:O1390)+1,0)","v":0},{"$f":"IF(ISNUMBER(SEARCH($H$6,Q1391)),MAX($P$1:P1390)+1,0)","v":0},"birla sl fp fof prudent","MIO049","Hybrid fund of funds",null,null,null,null,null,null,null,null,null,null,null,{"$f":"IFERROR(VLOOKUP(ROWS($AE$2:AE1391),P1391:Q3294,2,0),\"\")","v":""},null,null,null,null,{"$f":"IFERROR(VLOOKUP(ROWS($AJ$2:AJ1391),O1391:Q3294,3,0),\"\")","v":""},null,{"$f":"IFERROR(VLOOKUP(ROWS(AL$2:$AL1391),N1391:Q3294,4,0),\"\")","v":""}]
[null,null,null,null,null,null,null,null,null,null,null,null,null,{"$f":"IF(ISNUMBER(SEARCH($H$16,Q1392)),MAX($N$1:N1391)+1,0)","v":0},{"$f":"IF(ISNUMBER(SEARCH($H$11,Q1392)),MAX($O$1:O1391)+1,0)","v":0},{"$f":"IF(ISNUMBER(SEARCH($H$6,Q1392)),MAX($P$1:P1391)+1,0)","v":0},"franklin i ls fof 50s plus frp g","MTE038","Hybrid fund of funds",null,null,null,null,null,null,null,null,null,null,null,{"$f":"IFERROR(VLOOKUP(ROWS($AE$2:AE1392),P1392:Q3295,2,0),\"\")","v":""},null,null,null,null,{"$f":"IFERROR(VLOOKUP(ROWS($AJ$2:AJ1392),O1392:Q3295,3,0),\"\")","v":""},null,{"$f":"IFERROR(VLOOKUP(ROWS(AL$2:$AL1392),N1392:Q3295,4,0),\"\")","v":""}]
[null,null,null,null,null,null,null,null,null,null,null,null,null,{"$f":"IF(ISNUMBER(SEARCH($H$16,Q1393)),MAX($N$1:N1392)+1,0)","v":0},{"$f":"IF(ISNUMBER(SEARCH($H$11,Q1393)),MAX($O$1:O1392)+1,0)","v":0},{"$f":"IF(ISNUMBER(SEARCH($H$6,Q1393)),MAX($P$1:P1392)+1,0)","v":0},"icici pru very aggressive","MPI074","Hybrid fund of funds",null,null,null,null,null,null,null,null,null,null,null,{"$f":"IFERROR(VLOOKUP(ROWS($AE$2:AE1393),P1393:Q3296,2,0),\"\")","v":""},null,null,null,null,{"$f":"IFERROR(VLOOKUP(ROWS($AJ$2:AJ1393),O1393:Q3296,3,0),\"\")","v":""},null,{"$f":"IFERROR(VLOOKUP(ROWS(AL$2:$AL1393),N1393:Q3296,4,0),\"\")","v":""}]
[null,null,null,null,null,null,null,null,null,null,null,null,null,{"$f":"IF(ISNUMBER(SEARCH($H$16,Q1394)),MAX($N$1:N1393)+1,0)","v":0},{"$f":"IF(ISNUMBER(SEARCH($H$11,Q1394)),MAX($O$1:O1393)+1,0)","v":0},{"$f":"IF(ISNUMBER(SEARCH($H$6,Q1394)),MAX($P$1:P1393)+1,0)","v":0},"jpmorgan us value eqt offshore reg","MJP171","Hybrid fund of funds",null,null,null,null,null,null,null,null,null,null,null,{"$f":"IFERROR(VLOOKUP(ROWS($AE$2:AE1394),P1394:Q3297,2,0),\"\")","v":""},null,null,null,null,{"$f":"IFERROR(VLOOKUP(ROWS($AJ$2:AJ1394),O1394:Q3297,3,0),\"\")","v":""},null,{"$f":"IFERROR(VLOOKUP(ROWS(AL$2:$AL1394),N1394:Q3297,4,0),\"\")","v":""}]
[null,null,null,null,null,null,null,null,null,null,null,null,null,{"$f":"IF(ISNUMBER(SEARCH($H$16,Q1395)),MAX($N$1:N1394)+1,0)","v":0},{"$f":"IF(ISNUMBER(SEARCH($H$11,Q1395)),MAX($O$1:O1394)+1,0)","v":0},{"$f":"IF(ISNUMBER(SEARCH($H$6,Q1395)),MAX($P$1:P1394)+1,0)","v":0},"icici pru moderate plan","MPI072","Hybrid fund of funds",null,null,null,null,null,null,null,null,null,null,null,{"$f":"IFERROR(VLOOKUP(ROWS($AE$2:AE1395),P1395:Q3298,2,0),\"\")","v":""},null,null,null,null,{"$f":"IFERROR(VLOOKUP(ROWS($AJ$2:AJ1395),O1395:Q3298,3,0),\"\")","v":""},null,{"$f":"IFERROR(VLOOKUP(ROWS(AL$2:$AL1395),N1395:Q3298,4,0),\"\")","v":""}]
[null,null,null,null,null,null,null,null,null,null,null,null,null,{"$f":"IF(ISNUMBER(SEARCH($H$16,Q1396)),MAX($N$1:N1395)+1,0)","v":0},{"$f":"IF(ISNUMBER(SEARCH($H$11,Q1396)),MAX($O$1:O1395)+1,0)","v":0},{"$f":"IF(ISNUMBER(SEARCH($H$6,Q1396)),MAX($P$1:P1395)+1,0)","v":0},"birla sl fp fof conservative","MIO047","Hybrid fund of funds",null,null,null,null,null,null,null,null,null,null,null,{"$f":"IFERROR(VLOOKUP(ROWS($AE$2:AE1396),P1396:Q3299,2,0),\"\")","v":""},null,null,null,null,{"$f":"IFERROR(VLOOKUP(ROWS($AJ$2:AJ1396),O1396:Q3299,3,0),\"\")","v":""},null,{"$f":"IFERROR(VLOOKUP(ROWS(AL$2:$AL1396),N1396:Q3299,4,0),\"\")","v":""}]
[null,null,null,null,null,null,null,null,null,null,null,null,null,{"$f":"IF(ISNUMBER(SEARCH($H$16,Q1397)),MAX($N$1:N1396)+1,0)","v":0},{"$f":"IF(ISNUMBER(SEARCH($H$11,Q1397)),MAX($O$1:O1396)+1,0)","v":0},{"$f":"IF(ISNUMBER(SEARCH($H$6,Q1397)),MAX($P$1:P1396)+1,0)","v":0},"icici pru aggressive plan","MPI076","Hybrid fund of funds",null,null,null,null,null,null,null,null,null,null,null,{"$f":"IFERROR(VLOOKUP(ROWS($AE$2:AE1397),P1397:Q3300,2,0),\"\")","v":""},null,null,null,null,{"$f":"IFERROR(VLOOKUP(ROWS($AJ$2:AJ1397),O1397:Q3300,3,0),\"\")","v":""},null,{"$f":"IFERROR(VLOOKUP(ROWS(AL$2:$AL1397),N1397:Q3300,4,0),\"\")","v":""}]
[null,null,null,null,null,null,null,null,null,null,null,null,null,{"$f":"IF(ISNUMBER(SEARCH($H$16,Q1398)),MAX($N$1:N1397)+1,0)","v":0},{"$f":"IF(ISNUMBER(SEARCH($H$11,Q1398)),MAX($O$1:O1397)+1,0)","v":0},{"$f":"IF(ISNUMBER(SEARCH($H$6,Q1398)),MAX($P$1:P1397)+1,0)","v":0},"dsp dynamic asset allocation rp","MDS959","Hybrid fund of funds",null,null,null,null,null,null,null,null,null,null,null,{"$f":"IFERROR(VLOOKUP(ROWS($AE$2:AE1398),P1398:Q3301,2,0),\"\")","v":""},null,null,null,null,{"$f":"IFERROR(VLOOKUP(ROWS($AJ$2:AJ1398),O1398:Q3301,3,0),\"\")","v":""},null,{"$f":"IFERROR(VLOOKUP(ROWS(AL$2:$AL1398),N1398:Q3301,4,0),\"\")","v":""}]
[null,null,null,null,null,null,null,null,null,null,null,null,null,{"$f":"IF(ISNUMBER(SEARCH($H$16,Q1399)),MAX($N$1:N1398)+1,0)","v":0},{"$f":"IF(ISNUMBER(SEARCH($H$11,Q1399)),MAX($O$1:O1398)+1,0)","v":0},{"$f":"IF(ISNUMBER(SEARCH($H$6,Q1399)),MAX($P$1:P1398)+1,0)","v":0},"icici pru cautious plan","MPI070","Hybrid fund of funds",null,null,null,null,null,null,null,null,null,null,null,{"$f":"IFERROR(VLOOKUP(ROWS($AE$2:AE1399),P1399:Q3302,2,0),\"\")","v":""},null,null,null,null,{"$f":"IFERROR(VLOOKUP(ROWS($AJ$2:AJ1399),O1399:Q3302,3,0),\"\")","v":""},null,{"$f":"IFERROR(VLOOKUP(ROWS(AL$2:$AL1399),N1399:Q3302,4,0),\"\")","v":""}]
[null,null,null,null,null,null,null,null,null,null,null,null,null,{"$f":"IF(ISNUMBER(SEARCH($H$16,Q1400)),MAX($N$1:N1399)+1,0)","v":0},{"$f":"IF(ISNUMBER(SEARCH($H$11,Q1400)),MAX($O$1:O1399)+1,0)","v":0},{"$f":"IF(ISNUMBER(SEARCH($H$6,Q1400)),MAX($P$1:P1399)+1,0)","v":0},"religare global equity inc rp","MLI867","Hybrid fund of funds",null,null,null,null,null,null,null,null,null,null,null,{"$f":"IFERROR(VLOOKUP(ROWS($AE$2:AE1400),P1400:Q3303,2,0),\"\")","v":""},null,null,null,null,{"$f":"IFERROR(VLOOKUP(ROWS($AJ$2:AJ1400),O1400:Q3303,3,0),\"\")","v":""},null,{"$f":"IFERROR(VLOOKUP(ROWS(AL$2:$AL1400),N1400:Q3303,4,0),\"\")","v":""}]
[null,null,null,null,null,null,null,null,null,null,null,null,null,{"$f":"IF(ISNUMBER(SEARCH($H$16,Q1401)),MAX($N$1:N1400)+1,0)","v":0},{"$f":"IF(ISNUMBER(SEARCH($H$11,Q1401)),MAX($O$1:O1400)+1,0)","v":0},{"$f":"IF(ISNUMBER(SEARCH($H$6,Q1401)),MAX($P$1:P1400)+1,0)","v":0},"edelweiss debt corp opp ","MEW057","Hybrid fund of funds",null,null,null,null,null,null,null,null,null,null,null,{"$f":"IFERROR(VLOOKUP(ROWS($AE$2:AE1401),P1401:Q3304,2,0),\"\")","v":""},null,null,null,null,{"$f":"IFERROR(VLOOKUP(ROWS($AJ$2:AJ1401),O1401:Q3304,3,0),\"\")","v":""},null,{"$f":"IFERROR(VLOOKUP(ROWS(AL$2:$AL1401),N1401:Q3304,4,0),\"\")","v":""}]
[null,null,null,null,null,null,null,null,null,null,null,null,null,{"$f":"IF(ISNUMBER(SEARCH($H$16,Q1402)),MAX($N$1:N1401)+1,0)","v":0},{"$f":"IF(ISNUMBER(SEARCH($H$11,Q1402)),MAX($O$1:O1401)+1,0)","v":0},{"$f":"IF(ISNUMBER(SEARCH($H$6,Q1402)),MAX($P$1:P1401)+1,0)","v":0},"dsp global allocation fund rp","MDS1103","Hybrid fund of funds",null,null,null,null,null,null,null,null,null,null,null,{"$f":"IFERROR(VLOOKUP(ROWS($AE$2:AE1402),P1402:Q3305,2,0),\"\")","v":""},null,null,null,null,{"$f":"IFERROR(VLOOKUP(ROWS($AJ$2:AJ1402),O1402:Q3305,3,0),\"\")","v":""},null,{"$f":"IFERROR(VLOOKUP(ROWS(AL$2:$AL1402),N1402:Q3305,4,0),\"\")","v":""}]
[null,null,null,null,null,null,null,null,null,null,null,null,null,{"$f":"IF(ISNUMBER(SEARCH($H$16,Q1403)),MAX($N$1:N1402)+1,0)","v":0},{"$f":"IF(ISNUMBER(SEARCH($H$11,Q1403)),MAX($O$1:O1402)+1,0)","v":0},{"$f":"IF(ISNUMBER(SEARCH($H$6,Q1403)),MAX($P$1:P1402)+1,0)","v":0},"religare pan european equity rp","MLI779","Hybrid fund of funds",null,null,null,null,null,null,null,null,null,null,null,{"$f":"IFERROR(VLOOKUP(ROWS($AE$2:AE1403),P1403:Q3306,2,0),\"\")","v":""},null,null,null,null,{"$f":"IFERROR(VLOOKUP(ROWS($AJ$2:AJ1403),O1403:Q3306,3,0),\"\")","v":""},null,{"$f":"IFERROR(VLOOKUP(ROWS(AL$2:$AL1403),N1403:Q3306,4,0),\"\")","v":""}]
[null,null,null,null,null,null,null,null,null,null,null,null,null,{"$f":"IF(ISNUMBER(SEARCH($H$16,Q1404)),MAX($N$1:N1403)+1,0)","v":0},{"$f":"IF(ISNUMBER(SEARCH($H$11,Q1404)),MAX($O$1:O1403)+1,0)","v":0},{"$f":"IF(ISNUMBER(SEARCH($H$6,Q1404)),MAX($P$1:P1403)+1,0)","v":0},"franklin feeder franklin euro gr","MTE394","Hybrid fund of funds",null,null,null,null,null,null,null,null,null,null,null,{"$f":"IFERROR(VLOOKUP(ROWS($AE$2:AE1404),P1404:Q3307,2,0),\"\")","v":""},null,null,null,null,{"$f":"IFERROR(VLOOKUP(ROWS($AJ$2:AJ1404),O1404:Q3307,3,0),\"\")","v":""},null,{"$f":"IFERROR(VLOOKUP(ROWS(AL$2:$AL1404),N1404:Q3307,4,0),\"\")","v":""}]
[null,null,null,null,null,null,null,null,null,null,null,null,null,{"$f":"IF(ISNUMBER(SEARCH($H$16,Q1405)),MAX($N$1:N1404)+1,0)","v":0},{"$f":"IF(ISNUMBER(SEARCH($H$11,Q1405)),MAX($O$1:O1404)+1,0)","v":0},{"$f":"IF(ISNUMBER(SEARCH($H$6,Q1405)),MAX($P$1:P1404)+1,0)","v":0},"franklin i multi asset sol ","MTE400","Hybrid fund of funds",null,null,null,null,null,null,null,null,null,null,null,{"$f":"IFERROR(VLOOKUP(ROWS($AE$2:AE1405),P1405:Q3308,2,0),\"\")","v":""},null,null,null,null,{"$f":"IFERROR(VLOOKUP(ROWS($AJ$2:AJ1405),O1405:Q3308,3,0),\"\")","v":""},null,{"$f":"IFERROR(VLOOKUP(ROWS(AL$2:$AL1405),N1405:Q3308,4,0),\"\")","v":""}]
[null,null,null,null,null,null,null,null,null,null,null,null,null,{"$f":"IF(ISNUMBER(SEARCH($H$16,Q1406)),MAX($N$1:N1405)+1,0)","v":0},{"$f":"IF(ISNUMBER(SEARCH($H$11,Q1406)),MAX($O$1:O1405)+1,0)","v":0},{"$f":"IF(ISNUMBER(SEARCH($H$6,Q1406)),MAX($P$1:P1405)+1,0)","v":0},"sbi dynamic asset allocation fund rp","MSB1107","Hybrid fund of funds",null,null,null,null,null,null,null,null,null,null,null,{"$f":"IFERROR(VLOOKUP(ROWS($AE$2:AE1406),P1406:Q3309,2,0),\"\")","v":""},null,null,null,null,{"$f":"IFERROR(VLOOKUP(ROWS($AJ$2:AJ1406),O1406:Q3309,3,0),\"\")","v":""},null,{"$f":"IFERROR(VLOOKUP(ROWS(AL$2:$AL1406),N1406:Q3309,4,0),\"\")","v":""}]
[null,null,null,null,null,null,null,null,null,null,null,null,null,{"$f":"IF(ISNUMBER(SEARCH($H$16,Q1407)),MAX($N$1:N1406)+1,0)","v":0},{"$f":"IF(ISNUMBER(SEARCH($H$11,Q1407)),MAX($O$1:O1406)+1,0)","v":0},{"$f":"IF(ISNUMBER(SEARCH($H$6,Q1407)),MAX($P$1:P1406)+1,0)","v":0},"birla sun life gold fund","MBS684","Commodity fund of funds",null,null,null,null,null,null,null,null,null,null,null,{"$f":"IFERROR(VLOOKUP(ROWS($AE$2:AE1407),P1407:Q3310,2,0),\"\")","v":""},null,null,null,null,{"$f":"IFERROR(VLOOKUP(ROWS($AJ$2:AJ1407),O1407:Q3310,3,0),\"\")","v":""},null,{"$f":"IFERROR(VLOOKUP(ROWS(AL$2:$AL1407),N1407:Q3310,4,0),\"\")","v":""}]
[null,null,null,null,null,null,null,null,null,null,null,null,null,{"$f":"IF(ISNUMBER(SEARCH($H$16,Q1408)),MAX($N$1:N1407)+1,0)","v":0},{"$f":"IF(ISNUMBER(SEARCH($H$11,Q1408)),MAX($O$1:O1407)+1,0)","v":0},{"$f":"IF(ISNUMBER(SEARCH($H$6,Q1408)),MAX($P$1:P1407)+1,0)","v":0},"icici pru reg gold savings fund","MPI933","Commodity fund of funds",null,null,null,null,null,null,null,null,null,null,null,{"$f":"IFERROR(VLOOKUP(ROWS($AE$2:AE1408),P1408:Q3311,2,0),\"\")","v":""},null,null,null,null,{"$f":"IFERROR(VLOOKUP(ROWS($AJ$2:AJ1408),O1408:Q3311,3,0),\"\")","v":""},null,{"$f":"IFERROR(VLOOKUP(ROWS(AL$2:$AL1408),N1408:Q3311,4,0),\"\")","v":""}]
[null,null,null,null,null,null,null,null,null,null,null,null,null,{"$f":"IF(ISNUMBER(SEARCH($H$16,Q1409)),MAX($N$1:N1408)+1,0)","v":0},{"$f":"IF(ISNUMBER(SEARCH($H$11,Q1409)),MAX($O$1:O1408)+1,0)","v":0},{"$f":"IF(ISNUMBER(SEARCH($H$6,Q1409)),MAX($P$1:P1408)+1,0)","v":0},"religare invesco gold fund","MLI464","Commodity fund of funds",null,null,null,null,null,null,null,null,null,null,null,{"$f":"IFERROR(VLOOKUP(ROWS($AE$2:AE1409),P1409:Q3312,2,0),\"\")","v":""},null,null,null,null,{"$f":"IFERROR(VLOOKUP(ROWS($AJ$2:AJ1409),O1409:Q3312,3,0),\"\")","v":""},null,{"$f":"IFERROR(VLOOKUP(ROWS(AL$2:$AL1409),N1409:Q3312,4,0),\"\")","v":""}]
[null,null,null,null,null,null,null,null,null,null,null,null,null,{"$f":"IF(ISNUMBER(SEARCH($H$16,Q1410)),MAX($N$1:N1409)+1,0)","v":0},{"$f":"IF(ISNUMBER(SEARCH($H$11,Q1410)),MAX($O$1:O1409)+1,0)","v":0},{"$f":"IF(ISNUMBER(SEARCH($H$6,Q1410)),MAX($P$1:P1409)+1,0)","v":0},"hdfc gold fund","MHD857","Commodity fund of funds",null,null,null,null,null,null,null,null,null,null,null,{"$f":"IFERROR(VLOOKUP(ROWS($AE$2:AE1410),P1410:Q3313,2,0),\"\")","v":""},null,null,null,null,{"$f":"IFERROR(VLOOKUP(ROWS($AJ$2:AJ1410),O1410:Q3313,3,0),\"\")","v":""},null,{"$f":"IFERROR(VLOOKUP(ROWS(AL$2:$AL1410),N1410:Q3313,4,0),\"\")","v":""}]
[null,null,null,null,null,null,null,null,null,null,null,null,null,{"$f":"IF(ISNUMBER(SEARCH($H$16,Q1411)),MAX($N$1:N1410)+1,0)","v":0},{"$f":"IF(ISNUMBER(SEARCH($H$11,Q1411)),MAX($O$1:O1410)+1,0)","v":0},{"$f":"IF(ISNUMBER(SEARCH($H$6,Q1411)),MAX($P$1:P1410)+1,0)","v":0},"reliance gold savings fund","MRC647","Commodity fund of funds",null,null,null,null,null,null,null,null,null,null,null,{"$f":"IFERROR(VLOOKUP(ROWS($AE$2:AE1411),P1411:Q3314,2,0),\"\")","v":""},null,null,null,null,{"$f":"IFERROR(VLOOKUP(ROWS($AJ$2:AJ1411),O1411:Q3314,3,0),\"\")","v":""},null,{"$f":"IFERROR(VLOOKUP(ROWS(AL$2:$AL1411),N1411:Q3314,4,0),\"\")","v":""}]
[null,null,null,null,null,null,null,null,null,null,null,null,null,{"$f":"IF(ISNUMBER(SEARCH($H$16,Q1412)),MAX($N$1:N1411)+1,0)","v":0},{"$f":"IF(ISNUMBER(SEARCH($H$11,Q1412)),MAX($O$1:O1411)+1,0)","v":0},{"$f":"IF(ISNUMBER(SEARCH($H$6,Q1412)),MAX($P$1:P1411)+1,0)","v":0},"sbi gold fund","MSB327","Commodity fund of funds",null,null,null,null,null,null,null,null,null,null,null,{"$f":"IFERROR(VLOOKUP(ROWS($AE$2:AE1412),P1412:Q3315,2,0),\"\")","v":""},null,null,null,null,{"$f":"IFERROR(VLOOKUP(ROWS($AJ$2:AJ1412),O1412:Q3315,3,0),\"\")","v":""},null,{"$f":"IFERROR(VLOOKUP(ROWS(AL$2:$AL1412),N1412:Q3315,4,0),\"\")","v":""}]
[null,null,null,null,null,null,null,null,null,null,null,null,null,{"$f":"IF(ISNUMBER(SEARCH($H$16,Q1413)),MAX($N$1:N1412)+1,0)","v":7},{"$f":"IF(ISNUMBER(SEARCH($H$11,Q1413)),MAX($O$1:O1412)+1,0)","v":0},{"$f":"IF(ISNUMBER(SEARCH($H$6,Q1413)),MAX($P$1:P1412)+1,0)","v":7},"quantum gold savings fund","MQU012","Commodity fund of funds",null,null,null,null,null,null,null,null,null,null,null,{"$f":"IFERROR(VLOOKUP(ROWS($AE$2:AE1413),P1413:Q3316,2,0),\"\")","v":""},null,null,null,null,{"$f":"IFERROR(VLOOKUP(ROWS($AJ$2:AJ1413),O1413:Q3316,3,0),\"\")","v":""},null,{"$f":"IFERROR(VLOOKUP(ROWS(AL$2:$AL1413),N1413:Q3316,4,0),\"\")","v":""}]
[null,null,null,null,null,null,null,null,null,null,null,null,null,{"$f":"IF(ISNUMBER(SEARCH($H$16,Q1414)),MAX($N$1:N1413)+1,0)","v":0},{"$f":"IF(ISNUMBER(SEARCH($H$11,Q1414)),MAX($O$1:O1413)+1,0)","v":0},{"$f":"IF(ISNUMBER(SEARCH($H$6,Q1414)),MAX($P$1:P1413)+1,0)","v":0},"idbi gold fund","MIB066","Commodity fund of funds",null,null,null,null,null,null,null,null,null,null,null,{"$f":"IFERROR(VLOOKUP(ROWS($AE$2:AE1414),P1414:Q3317,2,0),\"\")","v":""},null,null,null,null,{"$f":"IFERROR(VLOOKUP(ROWS($AJ$2:AJ1414),O1414:Q3317,3,0),\"\")","v":""},null,{"$f":"IFERROR(VLOOKUP(ROWS(AL$2:$AL1414),N1414:Q3317,4,0),\"\")","v":""}]
[null,null,null,null,null,null,null,null,null,null,null,null,null,{"$f":"IF(ISNUMBER(SEARCH($H$16,Q1415)),MAX($N$1:N1414)+1,0)","v":0},{"$f":"IF(ISNUMBER(SEARCH($H$11,Q1415)),MAX($O$1:O1414)+1,0)","v":0},{"$f":"IF(ISNUMBER(SEARCH($H$6,Q1415)),MAX($P$1:P1414)+1,0)","v":0},"canara robeco gold savings","MCA196","Commodity fund of funds",null,null,null,null,null,null,null,null,null,null,null,{"$f":"IFERROR(VLOOKUP(ROWS($AE$2:AE1415),P1415:Q3318,2,0),\"\")","v":""},null,null,null,null,{"$f":"IFERROR(VLOOKUP(ROWS($AJ$2:AJ1415),O1415:Q3318,3,0),\"\")","v":""},null,{"$f":"IFERROR(VLOOKUP(ROWS(AL$2:$AL1415),N1415:Q3318,4,0),\"\")","v":""}]
[null,null,null,null,null,null,null,null,null,null,null,null,null,{"$f":"IF(ISNUMBER(SEARCH($H$16,Q1416)),MAX($N$1:N1415)+1,0)","v":0},{"$f":"IF(ISNUMBER(SEARCH($H$11,Q1416)),MAX($O$1:O1415)+1,0)","v":0},{"$f":"IF(ISNUMBER(SEARCH($H$6,Q1416)),MAX($P$1:P1415)+1,0)","v":0},"kotak gold fund","MKM391","Commodity fund of funds",null,null,null,null,null,null,null,null,null,null,null,{"$f":"IFERROR(VLOOKUP(ROWS($AE$2:AE1416),P1416:Q3319,2,0),\"\")","v":""},null,null,null,null,{"$f":"IFERROR(VLOOKUP(ROWS($AJ$2:AJ1416),O1416:Q3319,3,0),\"\")","v":""},null,{"$f":"IFERROR(VLOOKUP(ROWS(AL$2:$AL1416),N1416:Q3319,4,0),\"\")","v":""}]
[null,null,null,null,null,null,null,null,null,null,null,null,null,{"$f":"IF(ISNUMBER(SEARCH($H$16,Q1417)),MAX($N$1:N1416)+1,0)","v":0},{"$f":"IF(ISNUMBER(SEARCH($H$11,Q1417)),MAX($O$1:O1416)+1,0)","v":0},{"$f":"IF(ISNUMBER(SEARCH($H$6,Q1417)),MAX($P$1:P1416)+1,0)","v":0},"axis gold fund","MAA124","Commodity fund of funds",null,null,null,null,null,null,null,null,null,null,null,{"$f":"IFERROR(VLOOKUP(ROWS($AE$2:AE1417),P1417:Q3320,2,0),\"\")","v":""},null,null,null,null,{"$f":"IFERROR(VLOOKUP(ROWS($AJ$2:AJ1417),O1417:Q3320,3,0),\"\")","v":""},null,{"$f":"IFERROR(VLOOKUP(ROWS(AL$2:$AL1417),N1417:Q3320,4,0),\"\")","v":""}]
[null,null,null,null,null,null,null,null,null,null,null,null,null,{"$f":"IF(ISNUMBER(SEARCH($H$16,Q1418)),MAX($N$1:N1417)+1,0)","v":0},{"$f":"IF(ISNUMBER(SEARCH($H$11,Q1418)),MAX($O$1:O1417)+1,0)","v":0},{"$f":"IF(ISNUMBER(SEARCH($H$6,Q1418)),MAX($P$1:P1417)+1,0)","v":0},"axis cpof sr2 3 years ","MAA128","Capital protection funds",null,null,null,null,null,null,null,null,null,null,null,{"$f":"IFERROR(VLOOKUP(ROWS($AE$2:AE1418),P1418:Q3321,2,0),\"\")","v":""},null,null,null,null,{"$f":"IFERROR(VLOOKUP(ROWS($AJ$2:AJ1418),O1418:Q3321,3,0),\"\")","v":""},null,{"$f":"IFERROR(VLOOKUP(ROWS(AL$2:$AL1418),N1418:Q3321,4,0),\"\")","v":""}]
[null,null,null,null,null,null,null,null,null,null,null,null,null,{"$f":"IF(ISNUMBER(SEARCH($H$16,Q1419)),MAX($N$1:N1418)+1,0)","v":0},{"$f":"IF(ISNUMBER(SEARCH($H$11,Q1419)),MAX($O$1:O1418)+1,0)","v":0},{"$f":"IF(ISNUMBER(SEARCH($H$6,Q1419)),MAX($P$1:P1418)+1,0)","v":0},"axis cpof sr1 3 years ","MAA126","Capital protection funds",null,null,null,null,null,null,null,null,null,null,null,{"$f":"IFERROR(VLOOKUP(ROWS($AE$2:AE1419),P1419:Q3322,2,0),\"\")","v":""},null,null,null,null,{"$f":"IFERROR(VLOOKUP(ROWS($AJ$2:AJ1419),O1419:Q3322,3,0),\"\")","v":""},null,{"$f":"IFERROR(VLOOKUP(ROWS(AL$2:$AL1419),N1419:Q3322,4,0),\"\")","v":""}]
[null,null,null,null,null,null,null,null,null,null,null,null,null,{"$f":"IF(ISNUMBER(SEARCH($H$16,Q1420)),MAX($N$1:N1419)+1,0)","v":0},{"$f":"IF(ISNUMBER(SEARCH($H$11,Q1420)),MAX($O$1:O1419)+1,0)","v":0},{"$f":"IF(ISNUMBER(SEARCH($H$6,Q1420)),MAX($P$1:P1419)+1,0)","v":0},"birla sl cpof sr7 36 months ","MBS610","Capital protection funds",null,null,null,null,null,null,null,null,null,null,null,{"$f":"IFERROR(VLOOKUP(ROWS($AE$2:AE1420),P1420:Q3323,2,0),\"\")","v":""},null,null,null,null,{"$f":"IFERROR(VLOOKUP(ROWS($AJ$2:AJ1420),O1420:Q3323,3,0),\"\")","v":""},null,{"$f":"IFERROR(VLOOKUP(ROWS(AL$2:$AL1420),N1420:Q3323,4,0),\"\")","v":""}]
[null,null,null,null,null,null,null,null,null,null,null,null,null,{"$f":"IF(ISNUMBER(SEARCH($H$16,Q1421)),MAX($N$1:N1420)+1,0)","v":0},{"$f":"IF(ISNUMBER(SEARCH($H$11,Q1421)),MAX($O$1:O1420)+1,0)","v":0},{"$f":"IF(ISNUMBER(SEARCH($H$6,Q1421)),MAX($P$1:P1420)+1,0)","v":0},"icici pru cpo fund sr i 24m","MPI839","Capital protection funds",null,null,null,null,null,null,null,null,null,null,null,{"$f":"IFERROR(VLOOKUP(ROWS($AE$2:AE1421),P1421:Q3324,2,0),\"\")","v":""},null,null,null,null,{"$f":"IFERROR(VLOOKUP(ROWS($AJ$2:AJ1421),O1421:Q3324,3,0),\"\")","v":""},null,{"$f":"IFERROR(VLOOKUP(ROWS(AL$2:$AL1421),N1421:Q3324,4,0),\"\")","v":""}]
[null,null,null,null,null,null,null,null,null,null,null,null,null,{"$f":"IF(ISNUMBER(SEARCH($H$16,Q1422)),MAX($N$1:N1421)+1,0)","v":0},{"$f":"IF(ISNUMBER(SEARCH($H$11,Q1422)),MAX($O$1:O1421)+1,0)","v":0},{"$f":"IF(ISNUMBER(SEARCH($H$6,Q1422)),MAX($P$1:P1421)+1,0)","v":0},"icici pru cpo fund sr ii 24m","MPI903","Capital protection funds",null,null,null,null,null,null,null,null,null,null,null,{"$f":"IFERROR(VLOOKUP(ROWS($AE$2:AE1422),P1422:Q3325,2,0),\"\")","v":""},null,null,null,null,{"$f":"IFERROR(VLOOKUP(ROWS($AJ$2:AJ1422),O1422:Q3325,3,0),\"\")","v":""},null,{"$f":"IFERROR(VLOOKUP(ROWS(AL$2:$AL1422),N1422:Q3325,4,0),\"\")","v":""}]
[null,null,null,null,null,null,null,null,null,null,null,null,null,{"$f":"IF(ISNUMBER(SEARCH($H$16,Q1423)),MAX($N$1:N1422)+1,0)","v":0},{"$f":"IF(ISNUMBER(SEARCH($H$11,Q1423)),MAX($O$1:O1422)+1,0)","v":0},{"$f":"IF(ISNUMBER(SEARCH($H$6,Q1423)),MAX($P$1:P1422)+1,0)","v":0},"axis cpof sr3 3 years ","MAA133","Capital protection funds",null,null,null,null,null,null,null,null,null,null,null,{"$f":"IFERROR(VLOOKUP(ROWS($AE$2:AE1423),P1423:Q3326,2,0),\"\")","v":""},null,null,null,null,{"$f":"IFERROR(VLOOKUP(ROWS($AJ$2:AJ1423),O1423:Q3326,3,0),\"\")","v":""},null,{"$f":"IFERROR(VLOOKUP(ROWS(AL$2:$AL1423),N1423:Q3326,4,0),\"\")","v":""}]
[null,null,null,null,null,null,null,null,null,null,null,null,null,{"$f":"IF(ISNUMBER(SEARCH($H$16,Q1424)),MAX($N$1:N1423)+1,0)","v":0},{"$f":"IF(ISNUMBER(SEARCH($H$11,Q1424)),MAX($O$1:O1423)+1,0)","v":0},{"$f":"IF(ISNUMBER(SEARCH($H$6,Q1424)),MAX($P$1:P1423)+1,0)","v":0},"axis cpof sr4 3 years ","MAA138","Capital protection funds",null,null,null,null,null,null,null,null,null,null,null,{"$f":"IFERROR(VLOOKUP(ROWS($AE$2:AE1424),P1424:Q3327,2,0),\"\")","v":""},null,null,null,null,{"$f":"IFERROR(VLOOKUP(ROWS($AJ$2:AJ1424),O1424:Q3327,3,0),\"\")","v":""},null,{"$f":"IFERROR(VLOOKUP(ROWS(AL$2:$AL1424),N1424:Q3327,4,0),\"\")","v":""}]
[null,null,null,null,null,null,null,null,null,null,null,null,null,{"$f":"IF(ISNUMBER(SEARCH($H$16,Q1425)),MAX($N$1:N1424)+1,0)","v":0},{"$f":"IF(ISNUMBER(SEARCH($H$11,Q1425)),MAX($O$1:O1424)+1,0)","v":0},{"$f":"IF(ISNUMBER(SEARCH($H$6,Q1425)),MAX($P$1:P1424)+1,0)","v":0},"icici pru cpof sr 4g 60m reg","MPI1730","Capital protection funds",null,null,null,null,null,null,null,null,null,null,null,{"$f":"IFERROR(VLOOKUP(ROWS($AE$2:AE1425),P1425:Q3328,2,0),\"\")","v":""},null,null,null,null,{"$f":"IFERROR(VLOOKUP(ROWS($AJ$2:AJ1425),O1425:Q3328,3,0),\"\")","v":""},null,{"$f":"IFERROR(VLOOKUP(ROWS(AL$2:$AL1425),N1425:Q3328,4,0),\"\")","v":""}]
[null,null,null,null,null,null,null,null,null,null,null,null,null,{"$f":"IF(ISNUMBER(SEARCH($H$16,Q1426)),MAX($N$1:N1425)+1,0)","v":0},{"$f":"IF(ISNUMBER(SEARCH($H$11,Q1426)),MAX($O$1:O1425)+1,0)","v":0},{"$f":"IF(ISNUMBER(SEARCH($H$6,Q1426)),MAX($P$1:P1425)+1,0)","v":0},"sundaram cpof sr 1 2 yrs","MSN439","Capital protection funds",null,null,null,null,null,null,null,null,null,null,null,{"$f":"IFERROR(VLOOKUP(ROWS($AE$2:AE1426),P1426:Q3329,2,0),\"\")","v":""},null,null,null,null,{"$f":"IFERROR(VLOOKUP(ROWS($AJ$2:AJ1426),O1426:Q3329,3,0),\"\")","v":""},null,{"$f":"IFERROR(VLOOKUP(ROWS(AL$2:$AL1426),N1426:Q3329,4,0),\"\")","v":""}]
[null,null,null,null,null,null,null,null,null,null,null,null,null,{"$f":"IF(ISNUMBER(SEARCH($H$16,Q1427)),MAX($N$1:N1426)+1,0)","v":0},{"$f":"IF(ISNUMBER(SEARCH($H$11,Q1427)),MAX($O$1:O1426)+1,0)","v":0},{"$f":"IF(ISNUMBER(SEARCH($H$6,Q1427)),MAX($P$1:P1426)+1,0)","v":0},"sundaram cpof sr 3 2 yrs","MSN449","Capital protection funds",null,null,null,null,null,null,null,null,null,null,null,{"$f":"IFERROR(VLOOKUP(ROWS($AE$2:AE1427),P1427:Q3330,2,0),\"\")","v":""},null,null,null,null,{"$f":"IFERROR(VLOOKUP(ROWS($AJ$2:AJ1427),O1427:Q3330,3,0),\"\")","v":""},null,{"$f":"IFERROR(VLOOKUP(ROWS(AL$2:$AL1427),N1427:Q3330,4,0),\"\")","v":""}]
[null,null,null,null,null,null,null,null,null,null,null,null,null,{"$f":"IF(ISNUMBER(SEARCH($H$16,Q1428)),MAX($N$1:N1427)+1,0)","v":0},{"$f":"IF(ISNUMBER(SEARCH($H$11,Q1428)),MAX($O$1:O1427)+1,0)","v":0},{"$f":"IF(ISNUMBER(SEARCH($H$6,Q1428)),MAX($P$1:P1427)+1,0)","v":0},"idfc cpof series ii","MAG390","Capital protection funds",null,null,null,null,null,null,null,null,null,null,null,{"$f":"IFERROR(VLOOKUP(ROWS($AE$2:AE1428),P1428:Q3331,2,0),\"\")","v":""},null,null,null,null,{"$f":"IFERROR(VLOOKUP(ROWS($AJ$2:AJ1428),O1428:Q3331,3,0),\"\")","v":""},null,{"$f":"IFERROR(VLOOKUP(ROWS(AL$2:$AL1428),N1428:Q3331,4,0),\"\")","v":""}]
[null,null,null,null,null,null,null,null,null,null,null,null,null,{"$f":"IF(ISNUMBER(SEARCH($H$16,Q1429)),MAX($N$1:N1428)+1,0)","v":0},{"$f":"IF(ISNUMBER(SEARCH($H$11,Q1429)),MAX($O$1:O1428)+1,0)","v":0},{"$f":"IF(ISNUMBER(SEARCH($H$6,Q1429)),MAX($P$1:P1428)+1,0)","v":0},"icici pru cpo fund ii sr 12 12m","MPI1053","Capital protection funds",null,null,null,null,null,null,null,null,null,null,null,{"$f":"IFERROR(VLOOKUP(ROWS($AE$2:AE1429),P1429:Q3332,2,0),\"\")","v":""},null,null,null,null,{"$f":"IFERROR(VLOOKUP(ROWS($AJ$2:AJ1429),O1429:Q3332,3,0),\"\")","v":""},null,{"$f":"IFERROR(VLOOKUP(ROWS(AL$2:$AL1429),N1429:Q3332,4,0),\"\")","v":""}]
[null,null,null,null,null,null,null,null,null,null,null,null,null,{"$f":"IF(ISNUMBER(SEARCH($H$16,Q1430)),MAX($N$1:N1429)+1,0)","v":0},{"$f":"IF(ISNUMBER(SEARCH($H$11,Q1430)),MAX($O$1:O1429)+1,0)","v":0},{"$f":"IF(ISNUMBER(SEARCH($H$6,Q1430)),MAX($P$1:P1429)+1,0)","v":0},"icici pru cpof sr 4f 60m reg","MPI1692","Capital protection funds",null,null,null,null,null,null,null,null,null,null,null,{"$f":"IFERROR(VLOOKUP(ROWS($AE$2:AE1430),P1430:Q3333,2,0),\"\")","v":""},null,null,null,null,{"$f":"IFERROR(VLOOKUP(ROWS($AJ$2:AJ1430),O1430:Q3333,3,0),\"\")","v":""},null,{"$f":"IFERROR(VLOOKUP(ROWS(AL$2:$AL1430),N1430:Q3333,4,0),\"\")","v":""}]
[null,null,null,null,null,null,null,null,null,null,null,null,null,{"$f":"IF(ISNUMBER(SEARCH($H$16,Q1431)),MAX($N$1:N1430)+1,0)","v":0},{"$f":"IF(ISNUMBER(SEARCH($H$11,Q1431)),MAX($O$1:O1430)+1,0)","v":0},{"$f":"IF(ISNUMBER(SEARCH($H$6,Q1431)),MAX($P$1:P1430)+1,0)","v":0},"icici pru cpof sr3 e 60m ","MPI1110","Capital protection funds",null,null,null,null,null,null,null,null,null,null,null,{"$f":"IFERROR(VLOOKUP(ROWS($AE$2:AE1431),P1431:Q3334,2,0),\"\")","v":""},null,null,null,null,{"$f":"IFERROR(VLOOKUP(ROWS($AJ$2:AJ1431),O1431:Q3334,3,0),\"\")","v":""},null,{"$f":"IFERROR(VLOOKUP(ROWS(AL$2:$AL1431),N1431:Q3334,4,0),\"\")","v":""}]
[null,null,null,null,null,null,null,null,null,null,null,null,null,{"$f":"IF(ISNUMBER(SEARCH($H$16,Q1432)),MAX($N$1:N1431)+1,0)","v":0},{"$f":"IF(ISNUMBER(SEARCH($H$11,Q1432)),MAX($O$1:O1431)+1,0)","v":0},{"$f":"IF(ISNUMBER(SEARCH($H$6,Q1432)),MAX($P$1:P1431)+1,0)","v":0},"birla sl cpof sr6 761 days ","MBS576","Capital protection funds",null,null,null,null,null,null,null,null,null,null,null,{"$f":"IFERROR(VLOOKUP(ROWS($AE$2:AE1432),P1432:Q3335,2,0),\"\")","v":""},null,null,null,null,{"$f":"IFERROR(VLOOKUP(ROWS($AJ$2:AJ1432),O1432:Q3335,3,0),\"\")","v":""},null,{"$f":"IFERROR(VLOOKUP(ROWS(AL$2:$AL1432),N1432:Q3335,4,0),\"\")","v":""}]
[null,null,null,null,null,null,null,null,null,null,null,null,null,{"$f":"IF(ISNUMBER(SEARCH($H$16,Q1433)),MAX($N$1:N1432)+1,0)","v":0},{"$f":"IF(ISNUMBER(SEARCH($H$11,Q1433)),MAX($O$1:O1432)+1,0)","v":0},{"$f":"IF(ISNUMBER(SEARCH($H$6,Q1433)),MAX($P$1:P1432)+1,0)","v":0},"icici pru cpo fund ii sr vi 24m","MPI981","Capital protection funds",null,null,null,null,null,null,null,null,null,null,null,{"$f":"IFERROR(VLOOKUP(ROWS($AE$2:AE1433),P1433:Q3336,2,0),\"\")","v":""},null,null,null,null,{"$f":"IFERROR(VLOOKUP(ROWS($AJ$2:AJ1433),O1433:Q3336,3,0),\"\")","v":""},null,{"$f":"IFERROR(VLOOKUP(ROWS(AL$2:$AL1433),N1433:Q3336,4,0),\"\")","v":""}]
[null,null,null,null,null,null,null,null,null,null,null,null,null,{"$f":"IF(ISNUMBER(SEARCH($H$16,Q1434)),MAX($N$1:N1433)+1,0)","v":0},{"$f":"IF(ISNUMBER(SEARCH($H$11,Q1434)),MAX($O$1:O1433)+1,0)","v":0},{"$f":"IF(ISNUMBER(SEARCH($H$6,Q1434)),MAX($P$1:P1433)+1,0)","v":0},"icici pru cpof sr 3h 60m","MPI1377","Capital protection funds",null,null,null,null,null,null,null,null,null,null,null,{"$f":"IFERROR(VLOOKUP(ROWS($AE$2:AE1434),P1434:Q3337,2,0),\"\")","v":""},null,null,null,null,{"$f":"IFERROR(VLOOKUP(ROWS($AJ$2:AJ1434),O1434:Q3337,3,0),\"\")","v":""},null,{"$f":"IFERROR(VLOOKUP(ROWS(AL$2:$AL1434),N1434:Q3337,4,0),\"\")","v":""}]
[null,null,null,null,null,null,null,null,null,null,null,null,null,{"$f":"IF(ISNUMBER(SEARCH($H$16,Q1435)),MAX($N$1:N1434)+1,0)","v":0},{"$f":"IF(ISNUMBER(SEARCH($H$11,Q1435)),MAX($O$1:O1434)+1,0)","v":0},{"$f":"IF(ISNUMBER(SEARCH($H$6,Q1435)),MAX($P$1:P1434)+1,0)","v":0},"icici pru cpof sr iii b 60m","MPI1087","Capital protection funds",null,null,null,null,null,null,null,null,null,null,null,{"$f":"IFERROR(VLOOKUP(ROWS($AE$2:AE1435),P1435:Q3338,2,0),\"\")","v":""},null,null,null,null,{"$f":"IFERROR(VLOOKUP(ROWS($AJ$2:AJ1435),O1435:Q3338,3,0),\"\")","v":""},null,{"$f":"IFERROR(VLOOKUP(ROWS(AL$2:$AL1435),N1435:Q3338,4,0),\"\")","v":""}]
[null,null,null,null,null,null,null,null,null,null,null,null,null,{"$f":"IF(ISNUMBER(SEARCH($H$16,Q1436)),MAX($N$1:N1435)+1,0)","v":0},{"$f":"IF(ISNUMBER(SEARCH($H$11,Q1436)),MAX($O$1:O1435)+1,0)","v":0},{"$f":"IF(ISNUMBER(SEARCH($H$6,Q1436)),MAX($P$1:P1435)+1,0)","v":0},"icici pru cpo fund sr iv 36m","MPI935","Capital protection funds",null,null,null,null,null,null,null,null,null,null,null,{"$f":"IFERROR(VLOOKUP(ROWS($AE$2:AE1436),P1436:Q3339,2,0),\"\")","v":""},null,null,null,null,{"$f":"IFERROR(VLOOKUP(ROWS($AJ$2:AJ1436),O1436:Q3339,3,0),\"\")","v":""},null,{"$f":"IFERROR(VLOOKUP(ROWS(AL$2:$AL1436),N1436:Q3339,4,0),\"\")","v":""}]
[null,null,null,null,null,null,null,null,null,null,null,null,null,{"$f":"IF(ISNUMBER(SEARCH($H$16,Q1437)),MAX($N$1:N1436)+1,0)","v":0},{"$f":"IF(ISNUMBER(SEARCH($H$11,Q1437)),MAX($O$1:O1436)+1,0)","v":0},{"$f":"IF(ISNUMBER(SEARCH($H$6,Q1437)),MAX($P$1:P1436)+1,0)","v":0},"icici pru cpo fund sr v 60m","MPI925","Capital protection funds",null,null,null,null,null,null,null,null,null,null,null,{"$f":"IFERROR(VLOOKUP(ROWS($AE$2:AE1437),P1437:Q3340,2,0),\"\")","v":""},null,null,null,null,{"$f":"IFERROR(VLOOKUP(ROWS($AJ$2:AJ1437),O1437:Q3340,3,0),\"\")","v":""},null,{"$f":"IFERROR(VLOOKUP(ROWS(AL$2:$AL1437),N1437:Q3340,4,0),\"\")","v":""}]
[null,null,null,null,null,null,null,null,null,null,null,null,null,{"$f":"IF(ISNUMBER(SEARCH($H$16,Q1438)),MAX($N$1:N1437)+1,0)","v":0},{"$f":"IF(ISNUMBER(SEARCH($H$11,Q1438)),MAX($O$1:O1437)+1,0)","v":0},{"$f":"IF(ISNUMBER(SEARCH($H$6,Q1438)),MAX($P$1:P1437)+1,0)","v":0},"sundaram cpof sr 2 2 yrs","MSN443","Capital protection funds",null,null,null,null,null,null,null,null,null,null,null,{"$f":"IFERROR(VLOOKUP(ROWS($AE$2:AE1438),P1438:Q3341,2,0),\"\")","v":""},null,null,null,null,{"$f":"IFERROR(VLOOKUP(ROWS($AJ$2:AJ1438),O1438:Q3341,3,0),\"\")","v":""},null,{"$f":"IFERROR(VLOOKUP(ROWS(AL$2:$AL1438),N1438:Q3341,4,0),\"\")","v":""}]
[null,null,null,null,null,null,null,null,null,null,null,null,null,{"$f":"IF(ISNUMBER(SEARCH($H$16,Q1439)),MAX($N$1:N1438)+1,0)","v":0},{"$f":"IF(ISNUMBER(SEARCH($H$11,Q1439)),MAX($O$1:O1438)+1,0)","v":0},{"$f":"IF(ISNUMBER(SEARCH($H$6,Q1439)),MAX($P$1:P1438)+1,0)","v":0},"sundaram cpof sr 2 3 yrs","MSN384","Capital protection funds",null,null,null,null,null,null,null,null,null,null,null,{"$f":"IFERROR(VLOOKUP(ROWS($AE$2:AE1439),P1439:Q3342,2,0),\"\")","v":""},null,null,null,null,{"$f":"IFERROR(VLOOKUP(ROWS($AJ$2:AJ1439),O1439:Q3342,3,0),\"\")","v":""},null,{"$f":"IFERROR(VLOOKUP(ROWS(AL$2:$AL1439),N1439:Q3342,4,0),\"\")","v":""}]
[null,null,null,null,null,null,null,null,null,null,null,null,null,{"$f":"IF(ISNUMBER(SEARCH($H$16,Q1440)),MAX($N$1:N1439)+1,0)","v":0},{"$f":"IF(ISNUMBER(SEARCH($H$11,Q1440)),MAX($O$1:O1439)+1,0)","v":0},{"$f":"IF(ISNUMBER(SEARCH($H$6,Q1440)),MAX($P$1:P1439)+1,0)","v":0},"icici pru cpof sr 4d 60m reg","MPI1634","Capital protection funds",null,null,null,null,null,null,null,null,null,null,null,{"$f":"IFERROR(VLOOKUP(ROWS($AE$2:AE1440),P1440:Q3343,2,0),\"\")","v":""},null,null,null,null,{"$f":"IFERROR(VLOOKUP(ROWS($AJ$2:AJ1440),O1440:Q3343,3,0),\"\")","v":""},null,{"$f":"IFERROR(VLOOKUP(ROWS(AL$2:$AL1440),N1440:Q3343,4,0),\"\")","v":""}]
[null,null,null,null,null,null,null,null,null,null,null,null,null,{"$f":"IF(ISNUMBER(SEARCH($H$16,Q1441)),MAX($N$1:N1440)+1,0)","v":0},{"$f":"IF(ISNUMBER(SEARCH($H$11,Q1441)),MAX($O$1:O1440)+1,0)","v":0},{"$f":"IF(ISNUMBER(SEARCH($H$6,Q1441)),MAX($P$1:P1440)+1,0)","v":0},"idfc cpof series iii","MAG395","Capital protection funds",null,null,null,null,null,null,null,null,null,null,null,{"$f":"IFERROR(VLOOKUP(ROWS($AE$2:AE1441),P1441:Q3344,2,0),\"\")","v":""},null,null,null,null,{"$f":"IFERROR(VLOOKUP(ROWS($AJ$2:AJ1441),O1441:Q3344,3,0),\"\")","v":""},null,{"$f":"IFERROR(VLOOKUP(ROWS(AL$2:$AL1441),N1441:Q3344,4,0),\"\")","v":""}]
[null,null,null,null,null,null,null,null,null,null,null,null,null,{"$f":"IF(ISNUMBER(SEARCH($H$16,Q1442)),MAX($N$1:N1441)+1,0)","v":0},{"$f":"IF(ISNUMBER(SEARCH($H$11,Q1442)),MAX($O$1:O1441)+1,0)","v":0},{"$f":"IF(ISNUMBER(SEARCH($H$6,Q1442)),MAX($P$1:P1441)+1,0)","v":0},"franklin capital protection 5yrs","MTE115","Capital protection funds",null,null,null,null,null,null,null,null,null,null,null,{"$f":"IFERROR(VLOOKUP(ROWS($AE$2:AE1442),P1442:Q3345,2,0),\"\")","v":""},null,null,null,null,{"$f":"IFERROR(VLOOKUP(ROWS($AJ$2:AJ1442),O1442:Q3345,3,0),\"\")","v":""},null,{"$f":"IFERROR(VLOOKUP(ROWS(AL$2:$AL1442),N1442:Q3345,4,0),\"\")","v":""}]
[null,null,null,null,null,null,null,null,null,null,null,null,null,{"$f":"IF(ISNUMBER(SEARCH($H$16,Q1443)),MAX($N$1:N1442)+1,0)","v":0},{"$f":"IF(ISNUMBER(SEARCH($H$11,Q1443)),MAX($O$1:O1442)+1,0)","v":0},{"$f":"IF(ISNUMBER(SEARCH($H$6,Q1443)),MAX($P$1:P1442)+1,0)","v":0},"birla sl cpof sr 2 36 mths ","MBS489","Capital protection funds",null,null,null,null,null,null,null,null,null,null,null,{"$f":"IFERROR(VLOOKUP(ROWS($AE$2:AE1443),P1443:Q3346,2,0),\"\")","v":""},null,null,null,null,{"$f":"IFERROR(VLOOKUP(ROWS($AJ$2:AJ1443),O1443:Q3346,3,0),\"\")","v":""},null,{"$f":"IFERROR(VLOOKUP(ROWS(AL$2:$AL1443),N1443:Q3346,4,0),\"\")","v":""}]
[null,null,null,null,null,null,null,null,null,null,null,null,null,{"$f":"IF(ISNUMBER(SEARCH($H$16,Q1444)),MAX($N$1:N1443)+1,0)","v":0},{"$f":"IF(ISNUMBER(SEARCH($H$11,Q1444)),MAX($O$1:O1443)+1,0)","v":0},{"$f":"IF(ISNUMBER(SEARCH($H$6,Q1444)),MAX($P$1:P1443)+1,0)","v":0},"birla sl cpof sr1 27 mths ","MBS478","Capital protection funds",null,null,null,null,null,null,null,null,null,null,null,{"$f":"IFERROR(VLOOKUP(ROWS($AE$2:AE1444),P1444:Q3347,2,0),\"\")","v":""},null,null,null,null,{"$f":"IFERROR(VLOOKUP(ROWS($AJ$2:AJ1444),O1444:Q3347,3,0),\"\")","v":""},null,{"$f":"IFERROR(VLOOKUP(ROWS(AL$2:$AL1444),N1444:Q3347,4,0),\"\")","v":""}]
[null,null,null,null,null,null,null,null,null,null,null,null,null,{"$f":"IF(ISNUMBER(SEARCH($H$16,Q1445)),MAX($N$1:N1444)+1,0)","v":0},{"$f":"IF(ISNUMBER(SEARCH($H$11,Q1445)),MAX($O$1:O1444)+1,0)","v":0},{"$f":"IF(ISNUMBER(SEARCH($H$6,Q1445)),MAX($P$1:P1444)+1,0)","v":0},"icici pru cpof sr 3g 60m ","MPI1288","Capital protection funds",null,null,null,null,null,null,null,null,null,null,null,{"$f":"IFERROR(VLOOKUP(ROWS($AE$2:AE1445),P1445:Q3348,2,0),\"\")","v":""},null,null,null,null,{"$f":"IFERROR(VLOOKUP(ROWS($AJ$2:AJ1445),O1445:Q3348,3,0),\"\")","v":""},null,{"$f":"IFERROR(VLOOKUP(ROWS(AL$2:$AL1445),N1445:Q3348,4,0),\"\")","v":""}]
[null,null,null,null,null,null,null,null,null,null,null,null,null,{"$f":"IF(ISNUMBER(SEARCH($H$16,Q1446)),MAX($N$1:N1445)+1,0)","v":0},{"$f":"IF(ISNUMBER(SEARCH($H$11,Q1446)),MAX($O$1:O1445)+1,0)","v":0},{"$f":"IF(ISNUMBER(SEARCH($H$6,Q1446)),MAX($P$1:P1445)+1,0)","v":0},"birla sl cpof sr9 36 months ","MBS694","Capital protection funds",null,null,null,null,null,null,null,null,null,null,null,{"$f":"IFERROR(VLOOKUP(ROWS($AE$2:AE1446),P1446:Q3349,2,0),\"\")","v":""},null,null,null,null,{"$f":"IFERROR(VLOOKUP(ROWS($AJ$2:AJ1446),O1446:Q3349,3,0),\"\")","v":""},null,{"$f":"IFERROR(VLOOKUP(ROWS(AL$2:$AL1446),N1446:Q3349,4,0),\"\")","v":""}]
[null,null,null,null,null,null,null,null,null,null,null,null,null,{"$f":"IF(ISNUMBER(SEARCH($H$16,Q1447)),MAX($N$1:N1446)+1,0)","v":0},{"$f":"IF(ISNUMBER(SEARCH($H$11,Q1447)),MAX($O$1:O1446)+1,0)","v":0},{"$f":"IF(ISNUMBER(SEARCH($H$6,Q1447)),MAX($P$1:P1446)+1,0)","v":0},"icici pru cpof sr 4e 36m reg","MPI1642","Capital protection funds",null,null,null,null,null,null,null,null,null,null,null,{"$f":"IFERROR(VLOOKUP(ROWS($AE$2:AE1447),P1447:Q3350,2,0),\"\")","v":""},null,null,null,null,{"$f":"IFERROR(VLOOKUP(ROWS($AJ$2:AJ1447),O1447:Q3350,3,0),\"\")","v":""},null,{"$f":"IFERROR(VLOOKUP(ROWS(AL$2:$AL1447),N1447:Q3350,4,0),\"\")","v":""}]
[null,null,null,null,null,null,null,null,null,null,null,null,null,{"$f":"IF(ISNUMBER(SEARCH($H$16,Q1448)),MAX($N$1:N1447)+1,0)","v":0},{"$f":"IF(ISNUMBER(SEARCH($H$11,Q1448)),MAX($O$1:O1447)+1,0)","v":0},{"$f":"IF(ISNUMBER(SEARCH($H$6,Q1448)),MAX($P$1:P1447)+1,0)","v":0},"religare invesco cpof sr i","MLI412","Capital protection funds",null,null,null,null,null,null,null,null,null,null,null,{"$f":"IFERROR(VLOOKUP(ROWS($AE$2:AE1448),P1448:Q3351,2,0),\"\")","v":""},null,null,null,null,{"$f":"IFERROR(VLOOKUP(ROWS($AJ$2:AJ1448),O1448:Q3351,3,0),\"\")","v":""},null,{"$f":"IFERROR(VLOOKUP(ROWS(AL$2:$AL1448),N1448:Q3351,4,0),\"\")","v":""}]
[null,null,null,null,null,null,null,null,null,null,null,null,null,{"$f":"IF(ISNUMBER(SEARCH($H$16,Q1449)),MAX($N$1:N1448)+1,0)","v":0},{"$f":"IF(ISNUMBER(SEARCH($H$11,Q1449)),MAX($O$1:O1448)+1,0)","v":0},{"$f":"IF(ISNUMBER(SEARCH($H$6,Q1449)),MAX($P$1:P1448)+1,0)","v":0},"birla sl cpof 5yrs plan","MBS124","Capital protection funds",null,null,null,null,null,null,null,null,null,null,null,{"$f":"IFERROR(VLOOKUP(ROWS($AE$2:AE1449),P1449:Q3352,2,0),\"\")","v":""},null,null,null,null,{"$f":"IFERROR(VLOOKUP(ROWS($AJ$2:AJ1449),O1449:Q3352,3,0),\"\")","v":""},null,{"$f":"IFERROR(VLOOKUP(ROWS(AL$2:$AL1449),N1449:Q3352,4,0),\"\")","v":""}]
[null,null,null,null,null,null,null,null,null,null,null,null,null,{"$f":"IF(ISNUMBER(SEARCH($H$16,Q1450)),MAX($N$1:N1449)+1,0)","v":0},{"$f":"IF(ISNUMBER(SEARCH($H$11,Q1450)),MAX($O$1:O1449)+1,0)","v":0},{"$f":"IF(ISNUMBER(SEARCH($H$6,Q1450)),MAX($P$1:P1449)+1,0)","v":0},"icici pru cpo fund ii sr ix 36m","MPI1046","Capital protection funds",null,null,null,null,null,null,null,null,null,null,null,{"$f":"IFERROR(VLOOKUP(ROWS($AE$2:AE1450),P1450:Q3353,2,0),\"\")","v":""},null,null,null,null,{"$f":"IFERROR(VLOOKUP(ROWS($AJ$2:AJ1450),O1450:Q3353,3,0),\"\")","v":""},null,{"$f":"IFERROR(VLOOKUP(ROWS(AL$2:$AL1450),N1450:Q3353,4,0),\"\")","v":""}]
[null,null,null,null,null,null,null,null,null,null,null,null,null,{"$f":"IF(ISNUMBER(SEARCH($H$16,Q1451)),MAX($N$1:N1450)+1,0)","v":0},{"$f":"IF(ISNUMBER(SEARCH($H$11,Q1451)),MAX($O$1:O1450)+1,0)","v":0},{"$f":"IF(ISNUMBER(SEARCH($H$6,Q1451)),MAX($P$1:P1450)+1,0)","v":0},"sundaram cpof sr 5 3 yrs","MSN453","Capital protection funds",null,null,null,null,null,null,null,null,null,null,null,{"$f":"IFERROR(VLOOKUP(ROWS($AE$2:AE1451),P1451:Q3354,2,0),\"\")","v":""},null,null,null,null,{"$f":"IFERROR(VLOOKUP(ROWS($AJ$2:AJ1451),O1451:Q3354,3,0),\"\")","v":""},null,{"$f":"IFERROR(VLOOKUP(ROWS(AL$2:$AL1451),N1451:Q3354,4,0),\"\")","v":""}]
[null,null,null,null,null,null,null,null,null,null,null,null,null,{"$f":"IF(ISNUMBER(SEARCH($H$16,Q1452)),MAX($N$1:N1451)+1,0)","v":0},{"$f":"IF(ISNUMBER(SEARCH($H$11,Q1452)),MAX($O$1:O1451)+1,0)","v":0},{"$f":"IF(ISNUMBER(SEARCH($H$6,Q1452)),MAX($P$1:P1451)+1,0)","v":0},"sundaram cpof sr i 5 yrs","MSN133","Capital protection funds",null,null,null,null,null,null,null,null,null,null,null,{"$f":"IFERROR(VLOOKUP(ROWS($AE$2:AE1452),P1452:Q3355,2,0),\"\")","v":""},null,null,null,null,{"$f":"IFERROR(VLOOKUP(ROWS($AJ$2:AJ1452),O1452:Q3355,3,0),\"\")","v":""},null,{"$f":"IFERROR(VLOOKUP(ROWS(AL$2:$AL1452),N1452:Q3355,4,0),\"\")","v":""}]
[null,null,null,null,null,null,null,null,null,null,null,null,null,{"$f":"IF(ISNUMBER(SEARCH($H$16,Q1453)),MAX($N$1:N1452)+1,0)","v":0},{"$f":"IF(ISNUMBER(SEARCH($H$11,Q1453)),MAX($O$1:O1452)+1,0)","v":0},{"$f":"IF(ISNUMBER(SEARCH($H$6,Q1453)),MAX($P$1:P1452)+1,0)","v":0},"icici pru cpo fund ii sr 7 24m","MPI997","Capital protection funds",null,null,null,null,null,null,null,null,null,null,null,{"$f":"IFERROR(VLOOKUP(ROWS($AE$2:AE1453),P1453:Q3356,2,0),\"\")","v":""},null,null,null,null,{"$f":"IFERROR(VLOOKUP(ROWS($AJ$2:AJ1453),O1453:Q3356,3,0),\"\")","v":""},null,{"$f":"IFERROR(VLOOKUP(ROWS(AL$2:$AL1453),N1453:Q3356,4,0),\"\")","v":""}]
[null,null,null,null,null,null,null,null,null,null,null,null,null,{"$f":"IF(ISNUMBER(SEARCH($H$16,Q1454)),MAX($N$1:N1453)+1,0)","v":0},{"$f":"IF(ISNUMBER(SEARCH($H$11,Q1454)),MAX($O$1:O1453)+1,0)","v":0},{"$f":"IF(ISNUMBER(SEARCH($H$6,Q1454)),MAX($P$1:P1453)+1,0)","v":0},"icici pru cpo fund ii sr 11 12m","MPI1034","Capital protection funds",null,null,null,null,null,null,null,null,null,null,null,{"$f":"IFERROR(VLOOKUP(ROWS($AE$2:AE1454),P1454:Q3357,2,0),\"\")","v":""},null,null,null,null,{"$f":"IFERROR(VLOOKUP(ROWS($AJ$2:AJ1454),O1454:Q3357,3,0),\"\")","v":""},null,{"$f":"IFERROR(VLOOKUP(ROWS(AL$2:$AL1454),N1454:Q3357,4,0),\"\")","v":""}]
[null,null,null,null,null,null,null,null,null,null,null,null,null,{"$f":"IF(ISNUMBER(SEARCH($H$16,Q1455)),MAX($N$1:N1454)+1,0)","v":0},{"$f":"IF(ISNUMBER(SEARCH($H$11,Q1455)),MAX($O$1:O1454)+1,0)","v":0},{"$f":"IF(ISNUMBER(SEARCH($H$6,Q1455)),MAX($P$1:P1454)+1,0)","v":0},"icici pru cpo fund ii sr 8 24m","MPI1018","Capital protection funds",null,null,null,null,null,null,null,null,null,null,null,{"$f":"IFERROR(VLOOKUP(ROWS($AE$2:AE1455),P1455:Q3358,2,0),\"\")","v":""},null,null,null,null,{"$f":"IFERROR(VLOOKUP(ROWS($AJ$2:AJ1455),O1455:Q3358,3,0),\"\")","v":""},null,{"$f":"IFERROR(VLOOKUP(ROWS(AL$2:$AL1455),N1455:Q3358,4,0),\"\")","v":""}]
[null,null,null,null,null,null,null,null,null,null,null,null,null,{"$f":"IF(ISNUMBER(SEARCH($H$16,Q1456)),MAX($N$1:N1455)+1,0)","v":0},{"$f":"IF(ISNUMBER(SEARCH($H$11,Q1456)),MAX($O$1:O1455)+1,0)","v":0},{"$f":"IF(ISNUMBER(SEARCH($H$6,Q1456)),MAX($P$1:P1455)+1,0)","v":0},"sbi capital protection fund sr ii","MSB283","Capital protection funds",null,null,null,null,null,null,null,null,null,null,null,{"$f":"IFERROR(VLOOKUP(ROWS($AE$2:AE1456),P1456:Q3359,2,0),\"\")","v":""},null,null,null,null,{"$f":"IFERROR(VLOOKUP(ROWS($AJ$2:AJ1456),O1456:Q3359,3,0),\"\")","v":""},null,{"$f":"IFERROR(VLOOKUP(ROWS(AL$2:$AL1456),N1456:Q3359,4,0),\"\")","v":""}]
[null,null,null,null,null,null,null,null,null,null,null,null,null,{"$f":"IF(ISNUMBER(SEARCH($H$16,Q1457)),MAX($N$1:N1456)+1,0)","v":0},{"$f":"IF(ISNUMBER(SEARCH($H$11,Q1457)),MAX($O$1:O1456)+1,0)","v":0},{"$f":"IF(ISNUMBER(SEARCH($H$6,Q1457)),MAX($P$1:P1456)+1,0)","v":0},"birla sl cpof sr5 832 days ","MBS558","Capital protection funds",null,null,null,null,null,null,null,null,null,null,null,{"$f":"IFERROR(VLOOKUP(ROWS($AE$2:AE1457),P1457:Q3360,2,0),\"\")","v":""},null,null,null,null,{"$f":"IFERROR(VLOOKUP(ROWS($AJ$2:AJ1457),O1457:Q3360,3,0),\"\")","v":""},null,{"$f":"IFERROR(VLOOKUP(ROWS(AL$2:$AL1457),N1457:Q3360,4,0),\"\")","v":""}]
[null,null,null,null,null,null,null,null,null,null,null,null,null,{"$f":"IF(ISNUMBER(SEARCH($H$16,Q1458)),MAX($N$1:N1457)+1,0)","v":0},{"$f":"IF(ISNUMBER(SEARCH($H$11,Q1458)),MAX($O$1:O1457)+1,0)","v":0},{"$f":"IF(ISNUMBER(SEARCH($H$6,Q1458)),MAX($P$1:P1457)+1,0)","v":0},"icici pru cpof sr iii c 36m","MPI1095","Capital protection funds",null,null,null,null,null,null,null,null,null,null,null,{"$f":"IFERROR(VLOOKUP(ROWS($AE$2:AE1458),P1458:Q3361,2,0),\"\")","v":""},null,null,null,null,{"$f":"IFERROR(VLOOKUP(ROWS($AJ$2:AJ1458),O1458:Q3361,3,0),\"\")","v":""},null,{"$f":"IFERROR(VLOOKUP(ROWS(AL$2:$AL1458),N1458:Q3361,4,0),\"\")","v":""}]
[null,null,null,null,null,null,null,null,null,null,null,null,null,{"$f":"IF(ISNUMBER(SEARCH($H$16,Q1459)),MAX($N$1:N1458)+1,0)","v":0},{"$f":"IF(ISNUMBER(SEARCH($H$11,Q1459)),MAX($O$1:O1458)+1,0)","v":0},{"$f":"IF(ISNUMBER(SEARCH($H$6,Q1459)),MAX($P$1:P1458)+1,0)","v":0},"birla sl cpof sr4 36 mths ","MBS519","Capital protection funds",null,null,null,null,null,null,null,null,null,null,null,{"$f":"IFERROR(VLOOKUP(ROWS($AE$2:AE1459),P1459:Q3362,2,0),\"\")","v":""},null,null,null,null,{"$f":"IFERROR(VLOOKUP(ROWS($AJ$2:AJ1459),O1459:Q3362,3,0),\"\")","v":""},null,{"$f":"IFERROR(VLOOKUP(ROWS(AL$2:$AL1459),N1459:Q3362,4,0),\"\")","v":""}]
[null,null,null,null,null,null,null,null,null,null,null,null,null,{"$f":"IF(ISNUMBER(SEARCH($H$16,Q1460)),MAX($N$1:N1459)+1,0)","v":0},{"$f":"IF(ISNUMBER(SEARCH($H$11,Q1460)),MAX($O$1:O1459)+1,0)","v":0},{"$f":"IF(ISNUMBER(SEARCH($H$6,Q1460)),MAX($P$1:P1459)+1,0)","v":0},"icici pru cpof sr3 d 36m ","MPI1108","Capital protection funds",null,null,null,null,null,null,null,null,null,null,null,{"$f":"IFERROR(VLOOKUP(ROWS($AE$2:AE1460),P1460:Q3363,2,0),\"\")","v":""},null,null,null,null,{"$f":"IFERROR(VLOOKUP(ROWS($AJ$2:AJ1460),O1460:Q3363,3,0),\"\")","v":""},null,{"$f":"IFERROR(VLOOKUP(ROWS(AL$2:$AL1460),N1460:Q3363,4,0),\"\")","v":""}]
[null,null,null,null,null,null,null,null,null,null,null,null,null,{"$f":"IF(ISNUMBER(SEARCH($H$16,Q1461)),MAX($N$1:N1460)+1,0)","v":0},{"$f":"IF(ISNUMBER(SEARCH($H$11,Q1461)),MAX($O$1:O1460)+1,0)","v":0},{"$f":"IF(ISNUMBER(SEARCH($H$6,Q1461)),MAX($P$1:P1460)+1,0)","v":0},"icici pru cpof sr 3f 36m ","MPI1268","Capital protection funds",null,null,null,null,null,null,null,null,null,null,null,{"$f":"IFERROR(VLOOKUP(ROWS($AE$2:AE1461),P1461:Q3364,2,0),\"\")","v":""},null,null,null,null,{"$f":"IFERROR(VLOOKUP(ROWS($AJ$2:AJ1461),O1461:Q3364,3,0),\"\")","v":""},null,{"$f":"IFERROR(VLOOKUP(ROWS(AL$2:$AL1461),N1461:Q3364,4,0),\"\")","v":""}]
[null,null,null,null,null,null,null,null,null,null,null,null,null,{"$f":"IF(ISNUMBER(SEARCH($H$16,Q1462)),MAX($N$1:N1461)+1,0)","v":0},{"$f":"IF(ISNUMBER(SEARCH($H$11,Q1462)),MAX($O$1:O1461)+1,0)","v":0},{"$f":"IF(ISNUMBER(SEARCH($H$6,Q1462)),MAX($P$1:P1461)+1,0)","v":0},"icici pru cpof sr iii a 36m","MPI1085","Capital protection funds",null,null,null,null,null,null,null,null,null,null,null,{"$f":"IFERROR(VLOOKUP(ROWS($AE$2:AE1462),P1462:Q3365,2,0),\"\")","v":""},null,null,null,null,{"$f":"IFERROR(VLOOKUP(ROWS($AJ$2:AJ1462),O1462:Q3365,3,0),\"\")","v":""},null,{"$f":"IFERROR(VLOOKUP(ROWS(AL$2:$AL1462),N1462:Q3365,4,0),\"\")","v":""}]
[null,null,null,null,null,null,null,null,null,null,null,null,null,{"$f":"IF(ISNUMBER(SEARCH($H$16,Q1463)),MAX($N$1:N1462)+1,0)","v":0},{"$f":"IF(ISNUMBER(SEARCH($H$11,Q1463)),MAX($O$1:O1462)+1,0)","v":0},{"$f":"IF(ISNUMBER(SEARCH($H$6,Q1463)),MAX($P$1:P1462)+1,0)","v":0},"sundaram cpof sr 6 3 yrs","MSN463","Capital protection funds",null,null,null,null,null,null,null,null,null,null,null,{"$f":"IFERROR(VLOOKUP(ROWS($AE$2:AE1463),P1463:Q3366,2,0),\"\")","v":""},null,null,null,null,{"$f":"IFERROR(VLOOKUP(ROWS($AJ$2:AJ1463),O1463:Q3366,3,0),\"\")","v":""},null,{"$f":"IFERROR(VLOOKUP(ROWS(AL$2:$AL1463),N1463:Q3366,4,0),\"\")","v":""}]
[null,null,null,null,null,null,null,null,null,null,null,null,null,{"$f":"IF(ISNUMBER(SEARCH($H$16,Q1464)),MAX($N$1:N1463)+1,0)","v":0},{"$f":"IF(ISNUMBER(SEARCH($H$11,Q1464)),MAX($O$1:O1463)+1,0)","v":0},{"$f":"IF(ISNUMBER(SEARCH($H$6,Q1464)),MAX($P$1:P1463)+1,0)","v":0},"icici pru cpo fund sr iii 36m","MPI901","Capital protection funds",null,null,null,null,null,null,null,null,null,null,null,{"$f":"IFERROR(VLOOKUP(ROWS($AE$2:AE1464),P1464:Q3367,2,0),\"\")","v":""},null,null,null,null,{"$f":"IFERROR(VLOOKUP(ROWS($AJ$2:AJ1464),O1464:Q3367,3,0),\"\")","v":""},null,{"$f":"IFERROR(VLOOKUP(ROWS(AL$2:$AL1464),N1464:Q3367,4,0),\"\")","v":""}]
[null,null,null,null,null,null,null,null,null,null,null,null,null,{"$f":"IF(ISNUMBER(SEARCH($H$16,Q1465)),MAX($N$1:N1464)+1,0)","v":0},{"$f":"IF(ISNUMBER(SEARCH($H$11,Q1465)),MAX($O$1:O1464)+1,0)","v":0},{"$f":"IF(ISNUMBER(SEARCH($H$6,Q1465)),MAX($P$1:P1464)+1,0)","v":0},"sbi capital protection fund sr iii","MSB331","Capital protection funds",null,null,null,null,null,null,null,null,null,null,null,{"$f":"IFERROR(VLOOKUP(ROWS($AE$2:AE1465),P1465:Q3368,2,0),\"\")","v":""},null,null,null,null,{"$f":"IFERROR(VLOOKUP(ROWS($AJ$2:AJ1465),O1465:Q3368,3,0),\"\")","v":""},null,{"$f":"IFERROR(VLOOKUP(ROWS(AL$2:$AL1465),N1465:Q3368,4,0),\"\")","v":""}]
[null,null,null,null,null,null,null,null,null,null,null,null,null,{"$f":"IF(ISNUMBER(SEARCH($H$16,Q1466)),MAX($N$1:N1465)+1,0)","v":0},{"$f":"IF(ISNUMBER(SEARCH($H$11,Q1466)),MAX($O$1:O1465)+1,0)","v":0},{"$f":"IF(ISNUMBER(SEARCH($H$6,Q1466)),MAX($P$1:P1465)+1,0)","v":0},"sundaram cpof sr 3 3 yrs","MSN425","Capital protection funds",null,null,null,null,null,null,null,null,null,null,null,{"$f":"IFERROR(VLOOKUP(ROWS($AE$2:AE1466),P1466:Q3369,2,0),\"\")","v":""},null,null,null,null,{"$f":"IFERROR(VLOOKUP(ROWS($AJ$2:AJ1466),O1466:Q3369,3,0),\"\")","v":""},null,{"$f":"IFERROR(VLOOKUP(ROWS(AL$2:$AL1466),N1466:Q3369,4,0),\"\")","v":""}]
[null,null,null,null,null,null,null,null,null,null,null,null,null,{"$f":"IF(ISNUMBER(SEARCH($H$16,Q1467)),MAX($N$1:N1466)+1,0)","v":0},{"$f":"IF(ISNUMBER(SEARCH($H$11,Q1467)),MAX($O$1:O1466)+1,0)","v":0},{"$f":"IF(ISNUMBER(SEARCH($H$6,Q1467)),MAX($P$1:P1466)+1,0)","v":0},"birla sl cpof sr 18 1093d rp","MBS1545","Capital protection funds",null,null,null,null,null,null,null,null,null,null,null,{"$f":"IFERROR(VLOOKUP(ROWS($AE$2:AE1467),P1467:Q3370,2,0),\"\")","v":""},null,null,null,null,{"$f":"IFERROR(VLOOKUP(ROWS($AJ$2:AJ1467),O1467:Q3370,3,0),\"\")","v":""},null,{"$f":"IFERROR(VLOOKUP(ROWS(AL$2:$AL1467),N1467:Q3370,4,0),\"\")","v":""}]
[null,null,null,null,null,null,null,null,null,null,null,null,null,{"$f":"IF(ISNUMBER(SEARCH($H$16,Q1468)),MAX($N$1:N1467)+1,0)","v":0},{"$f":"IF(ISNUMBER(SEARCH($H$11,Q1468)),MAX($O$1:O1467)+1,0)","v":0},{"$f":"IF(ISNUMBER(SEARCH($H$6,Q1468)),MAX($P$1:P1467)+1,0)","v":0},"idfc cpof series i","MAG366","Capital protection funds",null,null,null,null,null,null,null,null,null,null,null,{"$f":"IFERROR(VLOOKUP(ROWS($AE$2:AE1468),P1468:Q3371,2,0),\"\")","v":""},null,null,null,null,{"$f":"IFERROR(VLOOKUP(ROWS($AJ$2:AJ1468),O1468:Q3371,3,0),\"\")","v":""},null,{"$f":"IFERROR(VLOOKUP(ROWS(AL$2:$AL1468),N1468:Q3371,4,0),\"\")","v":""}]
[null,null,null,null,null,null,null,null,null,null,null,null,null,{"$f":"IF(ISNUMBER(SEARCH($H$16,Q1469)),MAX($N$1:N1468)+1,0)","v":0},{"$f":"IF(ISNUMBER(SEARCH($H$11,Q1469)),MAX($O$1:O1468)+1,0)","v":0},{"$f":"IF(ISNUMBER(SEARCH($H$6,Q1469)),MAX($P$1:P1468)+1,0)","v":0},"jpmorgan i capital protection","MJP039","Capital protection funds",null,null,null,null,null,null,null,null,null,null,null,{"$f":"IFERROR(VLOOKUP(ROWS($AE$2:AE1469),P1469:Q3372,2,0),\"\")","v":""},null,null,null,null,{"$f":"IFERROR(VLOOKUP(ROWS($AJ$2:AJ1469),O1469:Q3372,3,0),\"\")","v":""},null,{"$f":"IFERROR(VLOOKUP(ROWS(AL$2:$AL1469),N1469:Q3372,4,0),\"\")","v":""}]
[null,null,null,null,null,null,null,null,null,null,null,null,null,{"$f":"IF(ISNUMBER(SEARCH($H$16,Q1470)),MAX($N$1:N1469)+1,0)","v":0},{"$f":"IF(ISNUMBER(SEARCH($H$11,Q1470)),MAX($O$1:O1469)+1,0)","v":0},{"$f":"IF(ISNUMBER(SEARCH($H$6,Q1470)),MAX($P$1:P1469)+1,0)","v":0},"canara cpof sr 1 36m a","MCA178","Capital protection funds",null,null,null,null,null,null,null,null,null,null,null,{"$f":"IFERROR(VLOOKUP(ROWS($AE$2:AE1470),P1470:Q3373,2,0),\"\")","v":""},null,null,null,null,{"$f":"IFERROR(VLOOKUP(ROWS($AJ$2:AJ1470),O1470:Q3373,3,0),\"\")","v":""},null,{"$f":"IFERROR(VLOOKUP(ROWS(AL$2:$AL1470),N1470:Q3373,4,0),\"\")","v":""}]
[null,null,null,null,null,null,null,null,null,null,null,null,null,{"$f":"IF(ISNUMBER(SEARCH($H$16,Q1471)),MAX($N$1:N1470)+1,0)","v":0},{"$f":"IF(ISNUMBER(SEARCH($H$11,Q1471)),MAX($O$1:O1470)+1,0)","v":0},{"$f":"IF(ISNUMBER(SEARCH($H$6,Q1471)),MAX($P$1:P1470)+1,0)","v":0},"sundaram cpof sr 4 3 yrs","MSN447","Capital protection funds",null,null,null,null,null,null,null,null,null,null,null,{"$f":"IFERROR(VLOOKUP(ROWS($AE$2:AE1471),P1471:Q3374,2,0),\"\")","v":""},null,null,null,null,{"$f":"IFERROR(VLOOKUP(ROWS($AJ$2:AJ1471),O1471:Q3374,3,0),\"\")","v":""},null,{"$f":"IFERROR(VLOOKUP(ROWS(AL$2:$AL1471),N1471:Q3374,4,0),\"\")","v":""}]
[null,null,null,null,null,null,null,null,null,null,null,null,null,{"$f":"IF(ISNUMBER(SEARCH($H$16,Q1472)),MAX($N$1:N1471)+1,0)","v":0},{"$f":"IF(ISNUMBER(SEARCH($H$11,Q1472)),MAX($O$1:O1471)+1,0)","v":0},{"$f":"IF(ISNUMBER(SEARCH($H$6,Q1472)),MAX($P$1:P1471)+1,0)","v":0},"birla sl cpof sr 16 1095d rp","MBS1374","Capital protection funds",null,null,null,null,null,null,null,null,null,null,null,{"$f":"IFERROR(VLOOKUP(ROWS($AE$2:AE1472),P1472:Q3375,2,0),\"\")","v":""},null,null,null,null,{"$f":"IFERROR(VLOOKUP(ROWS($AJ$2:AJ1472),O1472:Q3375,3,0),\"\")","v":""},null,{"$f":"IFERROR(VLOOKUP(ROWS(AL$2:$AL1472),N1472:Q3375,4,0),\"\")","v":""}]
[null,null,null,null,null,null,null,null,null,null,null,null,null,{"$f":"IF(ISNUMBER(SEARCH($H$16,Q1473)),MAX($N$1:N1472)+1,0)","v":0},{"$f":"IF(ISNUMBER(SEARCH($H$11,Q1473)),MAX($O$1:O1472)+1,0)","v":0},{"$f":"IF(ISNUMBER(SEARCH($H$6,Q1473)),MAX($P$1:P1472)+1,0)","v":0},"birla sl cpof sr3 36 mths ","MBS518","Capital protection funds",null,null,null,null,null,null,null,null,null,null,null,{"$f":"IFERROR(VLOOKUP(ROWS($AE$2:AE1473),P1473:Q3376,2,0),\"\")","v":""},null,null,null,null,{"$f":"IFERROR(VLOOKUP(ROWS($AJ$2:AJ1473),O1473:Q3376,3,0),\"\")","v":""},null,{"$f":"IFERROR(VLOOKUP(ROWS(AL$2:$AL1473),N1473:Q3376,4,0),\"\")","v":""}]
[null,null,null,null,null,null,null,null,null,null,null,null,null,{"$f":"IF(ISNUMBER(SEARCH($H$16,Q1474)),MAX($N$1:N1473)+1,0)","v":0},{"$f":"IF(ISNUMBER(SEARCH($H$11,Q1474)),MAX($O$1:O1473)+1,0)","v":0},{"$f":"IF(ISNUMBER(SEARCH($H$6,Q1474)),MAX($P$1:P1473)+1,0)","v":0},"birla sl cpof sr 17 1094d rp","MBS1436","Capital protection funds",null,null,null,null,null,null,null,null,null,null,null,{"$f":"IFERROR(VLOOKUP(ROWS($AE$2:AE1474),P1474:Q3377,2,0),\"\")","v":""},null,null,null,null,{"$f":"IFERROR(VLOOKUP(ROWS($AJ$2:AJ1474),O1474:Q3377,3,0),\"\")","v":""},null,{"$f":"IFERROR(VLOOKUP(ROWS(AL$2:$AL1474),N1474:Q3377,4,0),\"\")","v":""}]
[null,null,null,null,null,null,null,null,null,null,null,null,null,{"$f":"IF(ISNUMBER(SEARCH($H$16,Q1475)),MAX($N$1:N1474)+1,0)","v":0},{"$f":"IF(ISNUMBER(SEARCH($H$11,Q1475)),MAX($O$1:O1474)+1,0)","v":0},{"$f":"IF(ISNUMBER(SEARCH($H$6,Q1475)),MAX($P$1:P1474)+1,0)","v":0},"birla sl cpof sr8 25 months ","MBS627","Capital protection funds",null,null,null,null,null,null,null,null,null,null,null,{"$f":"IFERROR(VLOOKUP(ROWS($AE$2:AE1475),P1475:Q3378,2,0),\"\")","v":""},null,null,null,null,{"$f":"IFERROR(VLOOKUP(ROWS($AJ$2:AJ1475),O1475:Q3378,3,0),\"\")","v":""},null,{"$f":"IFERROR(VLOOKUP(ROWS(AL$2:$AL1475),N1475:Q3378,4,0),\"\")","v":""}]
[null,null,null,null,null,null,null,null,null,null,null,null,null,{"$f":"IF(ISNUMBER(SEARCH($H$16,Q1476)),MAX($N$1:N1475)+1,0)","v":0},{"$f":"IF(ISNUMBER(SEARCH($H$11,Q1476)),MAX($O$1:O1475)+1,0)","v":0},{"$f":"IF(ISNUMBER(SEARCH($H$6,Q1476)),MAX($P$1:P1475)+1,0)","v":0},"birla sl cpof sr 20 1094d rp","MBS1793","Capital protection funds",null,null,null,null,null,null,null,null,null,null,null,{"$f":"IFERROR(VLOOKUP(ROWS($AE$2:AE1476),P1476:Q3379,2,0),\"\")","v":""},null,null,null,null,{"$f":"IFERROR(VLOOKUP(ROWS($AJ$2:AJ1476),O1476:Q3379,3,0),\"\")","v":""},null,{"$f":"IFERROR(VLOOKUP(ROWS(AL$2:$AL1476),N1476:Q3379,4,0),\"\")","v":""}]
[null,null,null,null,null,null,null,null,null,null,null,null,null,{"$f":"IF(ISNUMBER(SEARCH($H$16,Q1477)),MAX($N$1:N1476)+1,0)","v":0},{"$f":"IF(ISNUMBER(SEARCH($H$11,Q1477)),MAX($O$1:O1476)+1,0)","v":0},{"$f":"IF(ISNUMBER(SEARCH($H$6,Q1477)),MAX($P$1:P1476)+1,0)","v":0},"birla sl cpof sr 19 1093d rp","MBS1619","Capital protection funds",null,null,null,null,null,null,null,null,null,null,null,{"$f":"IFERROR(VLOOKUP(ROWS($AE$2:AE1477),P1477:Q3380,2,0),\"\")","v":""},null,null,null,null,{"$f":"IFERROR(VLOOKUP(ROWS($AJ$2:AJ1477),O1477:Q3380,3,0),\"\")","v":""},null,{"$f":"IFERROR(VLOOKUP(ROWS(AL$2:$AL1477),N1477:Q3380,4,0),\"\")","v":""}]
[null,null,null,null,null,null,null,null,null,null,null,null,null,{"$f":"IF(ISNUMBER(SEARCH($H$16,Q1478)),MAX($N$1:N1477)+1,0)","v":0},{"$f":"IF(ISNUMBER(SEARCH($H$11,Q1478)),MAX($O$1:O1477)+1,0)","v":0},{"$f":"IF(ISNUMBER(SEARCH($H$6,Q1478)),MAX($P$1:P1477)+1,0)","v":0},"icici pru cpo fund ii sr x 36m","MPI1061","Capital protection funds",null,null,null,null,null,null,null,null,null,null,null,{"$f":"IFERROR(VLOOKUP(ROWS($AE$2:AE1478),P1478:Q3381,2,0),\"\")","v":""},null,null,null,null,{"$f":"IFERROR(VLOOKUP(ROWS($AJ$2:AJ1478),O1478:Q3381,3,0),\"\")","v":""},null,{"$f":"IFERROR(VLOOKUP(ROWS(AL$2:$AL1478),N1478:Q3381,4,0),\"\")","v":""}]
[null,null,null,null,null,null,null,null,null,null,null,null,null,{"$f":"IF(ISNUMBER(SEARCH($H$16,Q1479)),MAX($N$1:N1478)+1,0)","v":0},{"$f":"IF(ISNUMBER(SEARCH($H$11,Q1479)),MAX($O$1:O1478)+1,0)","v":0},{"$f":"IF(ISNUMBER(SEARCH($H$6,Q1479)),MAX($P$1:P1478)+1,0)","v":0},"birla sl cpof sr 11 36m ","MBS774","Capital protection funds",null,null,null,null,null,null,null,null,null,null,null,{"$f":"IFERROR(VLOOKUP(ROWS($AE$2:AE1479),P1479:Q3382,2,0),\"\")","v":""},null,null,null,null,{"$f":"IFERROR(VLOOKUP(ROWS($AJ$2:AJ1479),O1479:Q3382,3,0),\"\")","v":""},null,{"$f":"IFERROR(VLOOKUP(ROWS(AL$2:$AL1479),N1479:Q3382,4,0),\"\")","v":""}]
[null,null,null,null,null,null,null,null,null,null,null,null,null,{"$f":"IF(ISNUMBER(SEARCH($H$16,Q1480)),MAX($N$1:N1479)+1,0)","v":0},{"$f":"IF(ISNUMBER(SEARCH($H$11,Q1480)),MAX($O$1:O1479)+1,0)","v":0},{"$f":"IF(ISNUMBER(SEARCH($H$6,Q1480)),MAX($P$1:P1479)+1,0)","v":0},"tata cpof series ii 3yrs ","MTA714","Capital protection funds",null,null,null,null,null,null,null,null,null,null,null,{"$f":"IFERROR(VLOOKUP(ROWS($AE$2:AE1480),P1480:Q3383,2,0),\"\")","v":""},null,null,null,null,{"$f":"IFERROR(VLOOKUP(ROWS($AJ$2:AJ1480),O1480:Q3383,3,0),\"\")","v":""},null,{"$f":"IFERROR(VLOOKUP(ROWS(AL$2:$AL1480),N1480:Q3383,4,0),\"\")","v":""}]
[null,null,null,null,null,null,null,null,null,null,null,null,null,{"$f":"IF(ISNUMBER(SEARCH($H$16,Q1481)),MAX($N$1:N1480)+1,0)","v":0},{"$f":"IF(ISNUMBER(SEARCH($H$11,Q1481)),MAX($O$1:O1480)+1,0)","v":0},{"$f":"IF(ISNUMBER(SEARCH($H$6,Q1481)),MAX($P$1:P1480)+1,0)","v":0},"birla sl cpof sr 10 36 months ","MBS759","Capital protection funds",null,null,null,null,null,null,null,null,null,null,null,{"$f":"IFERROR(VLOOKUP(ROWS($AE$2:AE1481),P1481:Q3384,2,0),\"\")","v":""},null,null,null,null,{"$f":"IFERROR(VLOOKUP(ROWS($AJ$2:AJ1481),O1481:Q3384,3,0),\"\")","v":""},null,{"$f":"IFERROR(VLOOKUP(ROWS(AL$2:$AL1481),N1481:Q3384,4,0),\"\")","v":""}]
[null,null,null,null,null,null,null,null,null,null,null,null,null,{"$f":"IF(ISNUMBER(SEARCH($H$16,Q1482)),MAX($N$1:N1481)+1,0)","v":0},{"$f":"IF(ISNUMBER(SEARCH($H$11,Q1482)),MAX($O$1:O1481)+1,0)","v":0},{"$f":"IF(ISNUMBER(SEARCH($H$6,Q1482)),MAX($P$1:P1481)+1,0)","v":0},"lic nomura cpof sr 1 regular","MJB272","Capital protection funds",null,null,null,null,null,null,null,null,null,null,null,{"$f":"IFERROR(VLOOKUP(ROWS($AE$2:AE1482),P1482:Q3385,2,0),\"\")","v":""},null,null,null,null,{"$f":"IFERROR(VLOOKUP(ROWS($AJ$2:AJ1482),O1482:Q3385,3,0),\"\")","v":""},null,{"$f":"IFERROR(VLOOKUP(ROWS(AL$2:$AL1482),N1482:Q3385,4,0),\"\")","v":""}]
[null,null,null,null,null,null,null,null,null,null,null,null,null,{"$f":"IF(ISNUMBER(SEARCH($H$16,Q1483)),MAX($N$1:N1482)+1,0)","v":0},{"$f":"IF(ISNUMBER(SEARCH($H$11,Q1483)),MAX($O$1:O1482)+1,0)","v":0},{"$f":"IF(ISNUMBER(SEARCH($H$6,Q1483)),MAX($P$1:P1482)+1,0)","v":0},"lic nomura cpof sr 3 regular","MJB324","Capital protection funds",null,null,null,null,null,null,null,null,null,null,null,{"$f":"IFERROR(VLOOKUP(ROWS($AE$2:AE1483),P1483:Q3386,2,0),\"\")","v":""},null,null,null,null,{"$f":"IFERROR(VLOOKUP(ROWS($AJ$2:AJ1483),O1483:Q3386,3,0),\"\")","v":""},null,{"$f":"IFERROR(VLOOKUP(ROWS(AL$2:$AL1483),N1483:Q3386,4,0),\"\")","v":""}]
[null,null,null,null,null,null,null,null,null,null,null,null,null,{"$f":"IF(ISNUMBER(SEARCH($H$16,Q1484)),MAX($N$1:N1483)+1,0)","v":0},{"$f":"IF(ISNUMBER(SEARCH($H$11,Q1484)),MAX($O$1:O1483)+1,0)","v":0},{"$f":"IF(ISNUMBER(SEARCH($H$6,Q1484)),MAX($P$1:P1483)+1,0)","v":0},"birla sl cpof sr 22 1100d rp","MBS1903","Capital protection funds",null,null,null,null,null,null,null,null,null,null,null,{"$f":"IFERROR(VLOOKUP(ROWS($AE$2:AE1484),P1484:Q3387,2,0),\"\")","v":""},null,null,null,null,{"$f":"IFERROR(VLOOKUP(ROWS($AJ$2:AJ1484),O1484:Q3387,3,0),\"\")","v":""},null,{"$f":"IFERROR(VLOOKUP(ROWS(AL$2:$AL1484),N1484:Q3387,4,0),\"\")","v":""}]
[null,null,null,null,null,null,null,null,null,null,null,null,null,{"$f":"IF(ISNUMBER(SEARCH($H$16,Q1485)),MAX($N$1:N1484)+1,0)","v":0},{"$f":"IF(ISNUMBER(SEARCH($H$11,Q1485)),MAX($O$1:O1484)+1,0)","v":0},{"$f":"IF(ISNUMBER(SEARCH($H$6,Q1485)),MAX($P$1:P1484)+1,0)","v":0},"lic nomura cpof sr 2 regular","MJB284","Capital protection funds",null,null,null,null,null,null,null,null,null,null,null,{"$f":"IFERROR(VLOOKUP(ROWS($AE$2:AE1485),P1485:Q3388,2,0),\"\")","v":""},null,null,null,null,{"$f":"IFERROR(VLOOKUP(ROWS($AJ$2:AJ1485),O1485:Q3388,3,0),\"\")","v":""},null,{"$f":"IFERROR(VLOOKUP(ROWS(AL$2:$AL1485),N1485:Q3388,4,0),\"\")","v":""}]
[null,null,null,null,null,null,null,null,null,null,null,null,null,{"$f":"IF(ISNUMBER(SEARCH($H$16,Q1486)),MAX($N$1:N1485)+1,0)","v":0},{"$f":"IF(ISNUMBER(SEARCH($H$11,Q1486)),MAX($O$1:O1485)+1,0)","v":0},{"$f":"IF(ISNUMBER(SEARCH($H$6,Q1486)),MAX($P$1:P1485)+1,0)","v":0},"birla sl cpof sr 21 1094d rp","MBS1869","Capital protection funds",null,null,null,null,null,null,null,null,null,null,null,{"$f":"IFERROR(VLOOKUP(ROWS($AE$2:AE1486),P1486:Q3389,2,0),\"\")","v":""},null,null,null,null,{"$f":"IFERROR(VLOOKUP(ROWS($AJ$2:AJ1486),O1486:Q3389,3,0),\"\")","v":""},null,{"$f":"IFERROR(VLOOKUP(ROWS(AL$2:$AL1486),N1486:Q3389,4,0),\"\")","v":""}]
[null,null,null,null,null,null,null,null,null,null,null,null,null,{"$f":"IF(ISNUMBER(SEARCH($H$16,Q1487)),MAX($N$1:N1486)+1,0)","v":0},{"$f":"IF(ISNUMBER(SEARCH($H$11,Q1487)),MAX($O$1:O1486)+1,0)","v":0},{"$f":"IF(ISNUMBER(SEARCH($H$6,Q1487)),MAX($P$1:P1486)+1,0)","v":0},"tata cpof series i 3yrs ","MTA699","Capital protection funds",null,null,null,null,null,null,null,null,null,null,null,{"$f":"IFERROR(VLOOKUP(ROWS($AE$2:AE1487),P1487:Q3390,2,0),\"\")","v":""},null,null,null,null,{"$f":"IFERROR(VLOOKUP(ROWS($AJ$2:AJ1487),O1487:Q3390,3,0),\"\")","v":""},null,{"$f":"IFERROR(VLOOKUP(ROWS(AL$2:$AL1487),N1487:Q3390,4,0),\"\")","v":""}]
[null,null,null,null,null,null,null,null,null,null,null,null,null,{"$f":"IF(ISNUMBER(SEARCH($H$16,Q1488)),MAX($N$1:N1487)+1,0)","v":0},{"$f":"IF(ISNUMBER(SEARCH($H$11,Q1488)),MAX($O$1:O1487)+1,0)","v":0},{"$f":"IF(ISNUMBER(SEARCH($H$6,Q1488)),MAX($P$1:P1487)+1,0)","v":0},"uti cpos sr iv i 1103d reg","MUT1485","Capital protection funds",null,null,null,null,null,null,null,null,null,null,null,{"$f":"IFERROR(VLOOKUP(ROWS($AE$2:AE1488),P1488:Q3391,2,0),\"\")","v":""},null,null,null,null,{"$f":"IFERROR(VLOOKUP(ROWS($AJ$2:AJ1488),O1488:Q3391,3,0),\"\")","v":""},null,{"$f":"IFERROR(VLOOKUP(ROWS(AL$2:$AL1488),N1488:Q3391,4,0),\"\")","v":""}]
[null,null,null,null,null,null,null,null,null,null,null,null,null,{"$f":"IF(ISNUMBER(SEARCH($H$16,Q1489)),MAX($N$1:N1488)+1,0)","v":0},{"$f":"IF(ISNUMBER(SEARCH($H$11,Q1489)),MAX($O$1:O1488)+1,0)","v":0},{"$f":"IF(ISNUMBER(SEARCH($H$6,Q1489)),MAX($P$1:P1488)+1,0)","v":0},"lic nomura cpof sr 4 regular","MJB348","Capital protection funds",null,null,null,null,null,null,null,null,null,null,null,{"$f":"IFERROR(VLOOKUP(ROWS($AE$2:AE1489),P1489:Q3392,2,0),\"\")","v":""},null,null,null,null,{"$f":"IFERROR(VLOOKUP(ROWS($AJ$2:AJ1489),O1489:Q3392,3,0),\"\")","v":""},null,{"$f":"IFERROR(VLOOKUP(ROWS(AL$2:$AL1489),N1489:Q3392,4,0),\"\")","v":""}]
[null,null,null,null,null,null,null,null,null,null,null,null,null,{"$f":"IF(ISNUMBER(SEARCH($H$16,Q1490)),MAX($N$1:N1489)+1,0)","v":0},{"$f":"IF(ISNUMBER(SEARCH($H$11,Q1490)),MAX($O$1:O1489)+1,0)","v":0},{"$f":"IF(ISNUMBER(SEARCH($H$6,Q1490)),MAX($P$1:P1489)+1,0)","v":0},"sundaram cpof sr 2 5 yrs","MSN415","Capital protection funds",null,null,null,null,null,null,null,null,null,null,null,{"$f":"IFERROR(VLOOKUP(ROWS($AE$2:AE1490),P1490:Q3393,2,0),\"\")","v":""},null,null,null,null,{"$f":"IFERROR(VLOOKUP(ROWS($AJ$2:AJ1490),O1490:Q3393,3,0),\"\")","v":""},null,{"$f":"IFERROR(VLOOKUP(ROWS(AL$2:$AL1490),N1490:Q3393,4,0),\"\")","v":""}]
[null,null,null,null,null,null,null,null,null,null,null,null,null,{"$f":"IF(ISNUMBER(SEARCH($H$16,Q1491)),MAX($N$1:N1490)+1,0)","v":0},{"$f":"IF(ISNUMBER(SEARCH($H$11,Q1491)),MAX($O$1:O1490)+1,0)","v":0},{"$f":"IF(ISNUMBER(SEARCH($H$6,Q1491)),MAX($P$1:P1490)+1,0)","v":0},"birla sl cpof sr 13 1093d ","MBS779","Capital protection funds",null,null,null,null,null,null,null,null,null,null,null,{"$f":"IFERROR(VLOOKUP(ROWS($AE$2:AE1491),P1491:Q3394,2,0),\"\")","v":""},null,null,null,null,{"$f":"IFERROR(VLOOKUP(ROWS($AJ$2:AJ1491),O1491:Q3394,3,0),\"\")","v":""},null,{"$f":"IFERROR(VLOOKUP(ROWS(AL$2:$AL1491),N1491:Q3394,4,0),\"\")","v":""}]
[null,null,null,null,null,null,null,null,null,null,null,null,null,{"$f":"IF(ISNUMBER(SEARCH($H$16,Q1492)),MAX($N$1:N1491)+1,0)","v":0},{"$f":"IF(ISNUMBER(SEARCH($H$11,Q1492)),MAX($O$1:O1491)+1,0)","v":0},{"$f":"IF(ISNUMBER(SEARCH($H$6,Q1492)),MAX($P$1:P1491)+1,0)","v":0},"hsbc cpof sr 1 plan 1 790d rp","MHS373","Capital protection funds",null,null,null,null,null,null,null,null,null,null,null,{"$f":"IFERROR(VLOOKUP(ROWS($AE$2:AE1492),P1492:Q3395,2,0),\"\")","v":""},null,null,null,null,{"$f":"IFERROR(VLOOKUP(ROWS($AJ$2:AJ1492),O1492:Q3395,3,0),\"\")","v":""},null,{"$f":"IFERROR(VLOOKUP(ROWS(AL$2:$AL1492),N1492:Q3395,4,0),\"\")","v":""}]
[null,null,null,null,null,null,null,null,null,null,null,null,null,{"$f":"IF(ISNUMBER(SEARCH($H$16,Q1493)),MAX($N$1:N1492)+1,0)","v":0},{"$f":"IF(ISNUMBER(SEARCH($H$11,Q1493)),MAX($O$1:O1492)+1,0)","v":0},{"$f":"IF(ISNUMBER(SEARCH($H$6,Q1493)),MAX($P$1:P1492)+1,0)","v":0},"birla sl cpof sr 12 1094d ","MBS771","Capital protection funds",null,null,null,null,null,null,null,null,null,null,null,{"$f":"IFERROR(VLOOKUP(ROWS($AE$2:AE1493),P1493:Q3396,2,0),\"\")","v":""},null,null,null,null,{"$f":"IFERROR(VLOOKUP(ROWS($AJ$2:AJ1493),O1493:Q3396,3,0),\"\")","v":""},null,{"$f":"IFERROR(VLOOKUP(ROWS(AL$2:$AL1493),N1493:Q3396,4,0),\"\")","v":""}]
[null,null,null,null,null,null,null,null,null,null,null,null,null,{"$f":"IF(ISNUMBER(SEARCH($H$16,Q1494)),MAX($N$1:N1493)+1,0)","v":0},{"$f":"IF(ISNUMBER(SEARCH($H$11,Q1494)),MAX($O$1:O1493)+1,0)","v":0},{"$f":"IF(ISNUMBER(SEARCH($H$6,Q1494)),MAX($P$1:P1493)+1,0)","v":0},"birla sl cpof sr 14 1093d ","MBS780","Capital protection funds",null,null,null,null,null,null,null,null,null,null,null,{"$f":"IFERROR(VLOOKUP(ROWS($AE$2:AE1494),P1494:Q3397,2,0),\"\")","v":""},null,null,null,null,{"$f":"IFERROR(VLOOKUP(ROWS($AJ$2:AJ1494),O1494:Q3397,3,0),\"\")","v":""},null,{"$f":"IFERROR(VLOOKUP(ROWS(AL$2:$AL1494),N1494:Q3397,4,0),\"\")","v":""}]
[null,null,null,null,null,null,null,null,null,null,null,null,null,{"$f":"IF(ISNUMBER(SEARCH($H$16,Q1495)),MAX($N$1:N1494)+1,0)","v":0},{"$f":"IF(ISNUMBER(SEARCH($H$11,Q1495)),MAX($O$1:O1494)+1,0)","v":0},{"$f":"IF(ISNUMBER(SEARCH($H$6,Q1495)),MAX($P$1:P1494)+1,0)","v":0},"union kbc cpof series 1","MUK023","Capital protection funds",null,null,null,null,null,null,null,null,null,null,null,{"$f":"IFERROR(VLOOKUP(ROWS($AE$2:AE1495),P1495:Q3398,2,0),\"\")","v":""},null,null,null,null,{"$f":"IFERROR(VLOOKUP(ROWS($AJ$2:AJ1495),O1495:Q3398,3,0),\"\")","v":""},null,{"$f":"IFERROR(VLOOKUP(ROWS(AL$2:$AL1495),N1495:Q3398,4,0),\"\")","v":""}]
[null,null,null,null,null,null,null,null,null,null,null,null,null,{"$f":"IF(ISNUMBER(SEARCH($H$16,Q1496)),MAX($N$1:N1495)+1,0)","v":0},{"$f":"IF(ISNUMBER(SEARCH($H$11,Q1496)),MAX($O$1:O1495)+1,0)","v":0},{"$f":"IF(ISNUMBER(SEARCH($H$6,Q1496)),MAX($P$1:P1495)+1,0)","v":0},"union kbc cpof series 4 reg","MUK073","Capital protection funds",null,null,null,null,null,null,null,null,null,null,null,{"$f":"IFERROR(VLOOKUP(ROWS($AE$2:AE1496),P1496:Q3399,2,0),\"\")","v":""},null,null,null,null,{"$f":"IFERROR(VLOOKUP(ROWS($AJ$2:AJ1496),O1496:Q3399,3,0),\"\")","v":""},null,{"$f":"IFERROR(VLOOKUP(ROWS(AL$2:$AL1496),N1496:Q3399,4,0),\"\")","v":""}]
[null,null,null,null,null,null,null,null,null,null,null,null,null,{"$f":"IF(ISNUMBER(SEARCH($H$16,Q1497)),MAX($N$1:N1496)+1,0)","v":0},{"$f":"IF(ISNUMBER(SEARCH($H$11,Q1497)),MAX($O$1:O1496)+1,0)","v":0},{"$f":"IF(ISNUMBER(SEARCH($H$6,Q1497)),MAX($P$1:P1496)+1,0)","v":0},"union kbc cpof series 5 reg","MUK077","Capital protection funds",null,null,null,null,null,null,null,null,null,null,null,{"$f":"IFERROR(VLOOKUP(ROWS($AE$2:AE1497),P1497:Q3400,2,0),\"\")","v":""},null,null,null,null,{"$f":"IFERROR(VLOOKUP(ROWS($AJ$2:AJ1497),O1497:Q3400,3,0),\"\")","v":""},null,{"$f":"IFERROR(VLOOKUP(ROWS(AL$2:$AL1497),N1497:Q3400,4,0),\"\")","v":""}]
[null,null,null,null,null,null,null,null,null,null,null,null,null,{"$f":"IF(ISNUMBER(SEARCH($H$16,Q1498)),MAX($N$1:N1497)+1,0)","v":0},{"$f":"IF(ISNUMBER(SEARCH($H$11,Q1498)),MAX($O$1:O1497)+1,0)","v":0},{"$f":"IF(ISNUMBER(SEARCH($H$6,Q1498)),MAX($P$1:P1497)+1,0)","v":0},"union kbc cpof series 3","MUK051","Capital protection funds",null,null,null,null,null,null,null,null,null,null,null,{"$f":"IFERROR(VLOOKUP(ROWS($AE$2:AE1498),P1498:Q3401,2,0),\"\")","v":""},null,null,null,null,{"$f":"IFERROR(VLOOKUP(ROWS($AJ$2:AJ1498),O1498:Q3401,3,0),\"\")","v":""},null,{"$f":"IFERROR(VLOOKUP(ROWS(AL$2:$AL1498),N1498:Q3401,4,0),\"\")","v":""}]
[null,null,null,null,null,null,null,null,null,null,null,null,null,{"$f":"IF(ISNUMBER(SEARCH($H$16,Q1499)),MAX($N$1:N1498)+1,0)","v":0},{"$f":"IF(ISNUMBER(SEARCH($H$11,Q1499)),MAX($O$1:O1498)+1,0)","v":0},{"$f":"IF(ISNUMBER(SEARCH($H$6,Q1499)),MAX($P$1:P1498)+1,0)","v":0},"axis cpof sr5 42 months ","MAA171","Capital protection funds",null,null,null,null,null,null,null,null,null,null,null,{"$f":"IFERROR(VLOOKUP(ROWS($AE$2:AE1499),P1499:Q3402,2,0),\"\")","v":""},null,null,null,null,{"$f":"IFERROR(VLOOKUP(ROWS($AJ$2:AJ1499),O1499:Q3402,3,0),\"\")","v":""},null,{"$f":"IFERROR(VLOOKUP(ROWS(AL$2:$AL1499),N1499:Q3402,4,0),\"\")","v":""}]
[null,null,null,null,null,null,null,null,null,null,null,null,null,{"$f":"IF(ISNUMBER(SEARCH($H$16,Q1500)),MAX($N$1:N1499)+1,0)","v":0},{"$f":"IF(ISNUMBER(SEARCH($H$11,Q1500)),MAX($O$1:O1499)+1,0)","v":0},{"$f":"IF(ISNUMBER(SEARCH($H$6,Q1500)),MAX($P$1:P1499)+1,0)","v":0},"union kbc cpof series 2","MUK047","Capital protection funds",null,null,null,null,null,null,null,null,null,null,null,{"$f":"IFERROR(VLOOKUP(ROWS($AE$2:AE1500),P1500:Q3403,2,0),\"\")","v":""},null,null,null,null,{"$f":"IFERROR(VLOOKUP(ROWS($AJ$2:AJ1500),O1500:Q3403,3,0),\"\")","v":""},null,{"$f":"IFERROR(VLOOKUP(ROWS(AL$2:$AL1500),N1500:Q3403,4,0),\"\")","v":""}]
[null,null,null,null,null,null,null,null,null,null,null,null,null,{"$f":"IF(ISNUMBER(SEARCH($H$16,Q1501)),MAX($N$1:N1500)+1,0)","v":0},{"$f":"IF(ISNUMBER(SEARCH($H$11,Q1501)),MAX($O$1:O1500)+1,0)","v":0},{"$f":"IF(ISNUMBER(SEARCH($H$6,Q1501)),MAX($P$1:P1500)+1,0)","v":0},"icici pru cpo fund ii sr 13 12m","MPI1055","Capital protection funds",null,null,null,null,null,null,null,null,null,null,null,{"$f":"IFERROR(VLOOKUP(ROWS($AE$2:AE1501),P1501:Q3404,2,0),\"\")","v":""},null,null,null,null,{"$f":"IFERROR(VLOOKUP(ROWS($AJ$2:AJ1501),O1501:Q3404,3,0),\"\")","v":""},null,{"$f":"IFERROR(VLOOKUP(ROWS(AL$2:$AL1501),N1501:Q3404,4,0),\"\")","v":""}]
[null,null,null,null,null,null,null,null,null,null,null,null,null,{"$f":"IF(ISNUMBER(SEARCH($H$16,Q1502)),MAX($N$1:N1501)+1,0)","v":0},{"$f":"IF(ISNUMBER(SEARCH($H$11,Q1502)),MAX($O$1:O1501)+1,0)","v":0},{"$f":"IF(ISNUMBER(SEARCH($H$6,Q1502)),MAX($P$1:P1501)+1,0)","v":0},"uti cpos sr iv ii 1104d reg","MUT1577","Capital protection funds",null,null,null,null,null,null,null,null,null,null,null,{"$f":"IFERROR(VLOOKUP(ROWS($AE$2:AE1502),P1502:Q3405,2,0),\"\")","v":""},null,null,null,null,{"$f":"IFERROR(VLOOKUP(ROWS($AJ$2:AJ1502),O1502:Q3405,3,0),\"\")","v":""},null,{"$f":"IFERROR(VLOOKUP(ROWS(AL$2:$AL1502),N1502:Q3405,4,0),\"\")","v":""}]
[null,null,null,null,null,null,null,null,null,null,null,null,null,{"$f":"IF(ISNUMBER(SEARCH($H$16,Q1503)),MAX($N$1:N1502)+1,0)","v":0},{"$f":"IF(ISNUMBER(SEARCH($H$11,Q1503)),MAX($O$1:O1502)+1,0)","v":0},{"$f":"IF(ISNUMBER(SEARCH($H$6,Q1503)),MAX($P$1:P1502)+1,0)","v":0},"uti cpos sr iv iii 1105d reg","MUT1660","Capital protection funds",null,null,null,null,null,null,null,null,null,null,null,{"$f":"IFERROR(VLOOKUP(ROWS($AE$2:AE1503),P1503:Q3406,2,0),\"\")","v":""},null,null,null,null,{"$f":"IFERROR(VLOOKUP(ROWS($AJ$2:AJ1503),O1503:Q3406,3,0),\"\")","v":""},null,{"$f":"IFERROR(VLOOKUP(ROWS(AL$2:$AL1503),N1503:Q3406,4,0),\"\")","v":""}]
[null,null,null,null,null,null,null,null,null,null,null,null,null,{"$f":"IF(ISNUMBER(SEARCH($H$16,Q1504)),MAX($N$1:N1503)+1,0)","v":0},{"$f":"IF(ISNUMBER(SEARCH($H$11,Q1504)),MAX($O$1:O1503)+1,0)","v":0},{"$f":"IF(ISNUMBER(SEARCH($H$6,Q1504)),MAX($P$1:P1503)+1,0)","v":0},"uti cpos sr v i 1163d reg","MUT1761","Capital protection funds",null,null,null,null,null,null,null,null,null,null,null,{"$f":"IFERROR(VLOOKUP(ROWS($AE$2:AE1504),P1504:Q3407,2,0),\"\")","v":""},null,null,null,null,{"$f":"IFERROR(VLOOKUP(ROWS($AJ$2:AJ1504),O1504:Q3407,3,0),\"\")","v":""},null,{"$f":"IFERROR(VLOOKUP(ROWS(AL$2:$AL1504),N1504:Q3407,4,0),\"\")","v":""}]
[null,null,null,null,null,null,null,null,null,null,null,null,null,{"$f":"IF(ISNUMBER(SEARCH($H$16,Q1505)),MAX($N$1:N1504)+1,0)","v":0},{"$f":"IF(ISNUMBER(SEARCH($H$11,Q1505)),MAX($O$1:O1504)+1,0)","v":0},{"$f":"IF(ISNUMBER(SEARCH($H$6,Q1505)),MAX($P$1:P1504)+1,0)","v":0},"birla sl cpof sr 25 1226d rp","MBS1971","Capital protection funds",null,null,null,null,null,null,null,null,null,null,null,{"$f":"IFERROR(VLOOKUP(ROWS($AE$2:AE1505),P1505:Q3408,2,0),\"\")","v":""},null,null,null,null,{"$f":"IFERROR(VLOOKUP(ROWS($AJ$2:AJ1505),O1505:Q3408,3,0),\"\")","v":""},null,{"$f":"IFERROR(VLOOKUP(ROWS(AL$2:$AL1505),N1505:Q3408,4,0),\"\")","v":""}]
[null,null,null,null,null,null,null,null,null,null,null,null,null,{"$f":"IF(ISNUMBER(SEARCH($H$16,Q1506)),MAX($N$1:N1505)+1,0)","v":0},{"$f":"IF(ISNUMBER(SEARCH($H$11,Q1506)),MAX($O$1:O1505)+1,0)","v":0},{"$f":"IF(ISNUMBER(SEARCH($H$6,Q1506)),MAX($P$1:P1505)+1,0)","v":0},"birla sl cpof sr 23 1099d rp","MBS1917","Capital protection funds",null,null,null,null,null,null,null,null,null,null,null,{"$f":"IFERROR(VLOOKUP(ROWS($AE$2:AE1506),P1506:Q3409,2,0),\"\")","v":""},null,null,null,null,{"$f":"IFERROR(VLOOKUP(ROWS($AJ$2:AJ1506),O1506:Q3409,3,0),\"\")","v":""},null,{"$f":"IFERROR(VLOOKUP(ROWS(AL$2:$AL1506),N1506:Q3409,4,0),\"\")","v":""}]
[null,null,null,null,null,null,null,null,null,null,null,null,null,{"$f":"IF(ISNUMBER(SEARCH($H$16,Q1507)),MAX($N$1:N1506)+1,0)","v":0},{"$f":"IF(ISNUMBER(SEARCH($H$11,Q1507)),MAX($O$1:O1506)+1,0)","v":0},{"$f":"IF(ISNUMBER(SEARCH($H$6,Q1507)),MAX($P$1:P1506)+1,0)","v":0},"lic nomura cpof sr 5 regular","MJB360","Capital protection funds",null,null,null,null,null,null,null,null,null,null,null,{"$f":"IFERROR(VLOOKUP(ROWS($AE$2:AE1507),P1507:Q3410,2,0),\"\")","v":""},null,null,null,null,{"$f":"IFERROR(VLOOKUP(ROWS($AJ$2:AJ1507),O1507:Q3410,3,0),\"\")","v":""},null,{"$f":"IFERROR(VLOOKUP(ROWS(AL$2:$AL1507),N1507:Q3410,4,0),\"\")","v":""}]
[null,null,null,null,null,null,null,null,null,null,null,null,null,{"$f":"IF(ISNUMBER(SEARCH($H$16,Q1508)),MAX($N$1:N1507)+1,0)","v":0},{"$f":"IF(ISNUMBER(SEARCH($H$11,Q1508)),MAX($O$1:O1507)+1,0)","v":0},{"$f":"IF(ISNUMBER(SEARCH($H$6,Q1508)),MAX($P$1:P1507)+1,0)","v":0},"birla sl cpof sr 26 1226d rp","MBS2035","Capital protection funds",null,null,null,null,null,null,null,null,null,null,null,{"$f":"IFERROR(VLOOKUP(ROWS($AE$2:AE1508),P1508:Q3411,2,0),\"\")","v":""},null,null,null,null,{"$f":"IFERROR(VLOOKUP(ROWS($AJ$2:AJ1508),O1508:Q3411,3,0),\"\")","v":""},null,{"$f":"IFERROR(VLOOKUP(ROWS(AL$2:$AL1508),N1508:Q3411,4,0),\"\")","v":""}]
[null,null,null,null,null,null,null,null,null,null,null,null,null,{"$f":"IF(ISNUMBER(SEARCH($H$16,Q1509)),MAX($N$1:N1508)+1,0)","v":0},{"$f":"IF(ISNUMBER(SEARCH($H$11,Q1509)),MAX($O$1:O1508)+1,0)","v":0},{"$f":"IF(ISNUMBER(SEARCH($H$6,Q1509)),MAX($P$1:P1508)+1,0)","v":0},"tata sip fund series 3 36 m ","MTA614","Debt Oriented Hybrid Speciality Funds",null,null,null,null,null,null,null,null,null,null,null,{"$f":"IFERROR(VLOOKUP(ROWS($AE$2:AE1509),P1509:Q3412,2,0),\"\")","v":""},null,null,null,null,{"$f":"IFERROR(VLOOKUP(ROWS($AJ$2:AJ1509),O1509:Q3412,3,0),\"\")","v":""},null,{"$f":"IFERROR(VLOOKUP(ROWS(AL$2:$AL1509),N1509:Q3412,4,0),\"\")","v":""}]
[null,null,null,null,null,null,null,null,null,null,null,null,null,{"$f":"IF(ISNUMBER(SEARCH($H$16,Q1510)),MAX($N$1:N1509)+1,0)","v":0},{"$f":"IF(ISNUMBER(SEARCH($H$11,Q1510)),MAX($O$1:O1509)+1,0)","v":0},{"$f":"IF(ISNUMBER(SEARCH($H$6,Q1510)),MAX($P$1:P1509)+1,0)","v":0},"icici pru ccp study plan","MPI027","Debt Oriented Hybrid Speciality Funds",null,null,null,null,null,null,null,null,null,null,null,{"$f":"IFERROR(VLOOKUP(ROWS($AE$2:AE1510),P1510:Q3413,2,0),\"\")","v":""},null,null,null,null,{"$f":"IFERROR(VLOOKUP(ROWS($AJ$2:AJ1510),O1510:Q3413,3,0),\"\")","v":""},null,{"$f":"IFERROR(VLOOKUP(ROWS(AL$2:$AL1510),N1510:Q3413,4,0),\"\")","v":""}]
[null,null,null,null,null,null,null,null,null,null,null,null,null,{"$f":"IF(ISNUMBER(SEARCH($H$16,Q1511)),MAX($N$1:N1510)+1,0)","v":0},{"$f":"IF(ISNUMBER(SEARCH($H$11,Q1511)),MAX($O$1:O1510)+1,0)","v":0},{"$f":"IF(ISNUMBER(SEARCH($H$6,Q1511)),MAX($P$1:P1510)+1,0)","v":0},"uti childrens career balanced","MUT002","Debt Oriented Hybrid Speciality Funds",null,null,null,null,null,null,null,null,null,null,null,{"$f":"IFERROR(VLOOKUP(ROWS($AE$2:AE1511),P1511:Q3414,2,0),\"\")","v":""},null,null,null,null,{"$f":"IFERROR(VLOOKUP(ROWS($AJ$2:AJ1511),O1511:Q3414,3,0),\"\")","v":""},null,{"$f":"IFERROR(VLOOKUP(ROWS(AL$2:$AL1511),N1511:Q3414,4,0),\"\")","v":""}]
[null,null,null,null,null,null,null,null,null,null,null,null,null,{"$f":"IF(ISNUMBER(SEARCH($H$16,Q1512)),MAX($N$1:N1511)+1,0)","v":0},{"$f":"IF(ISNUMBER(SEARCH($H$11,Q1512)),MAX($O$1:O1511)+1,0)","v":0},{"$f":"IF(ISNUMBER(SEARCH($H$6,Q1512)),MAX($P$1:P1511)+1,0)","v":0},"tata retirement sav conservative","MTA623","Debt Oriented Hybrid Speciality Funds",null,null,null,null,null,null,null,null,null,null,null,{"$f":"IFERROR(VLOOKUP(ROWS($AE$2:AE1512),P1512:Q3415,2,0),\"\")","v":""},null,null,null,null,{"$f":"IFERROR(VLOOKUP(ROWS($AJ$2:AJ1512),O1512:Q3415,3,0),\"\")","v":""},null,{"$f":"IFERROR(VLOOKUP(ROWS(AL$2:$AL1512),N1512:Q3415,4,0),\"\")","v":""}]
[null,null,null,null,null,null,null,null,null,null,null,null,null,{"$f":"IF(ISNUMBER(SEARCH($H$16,Q1513)),MAX($N$1:N1512)+1,0)","v":0},{"$f":"IF(ISNUMBER(SEARCH($H$11,Q1513)),MAX($O$1:O1512)+1,0)","v":0},{"$f":"IF(ISNUMBER(SEARCH($H$6,Q1513)),MAX($P$1:P1512)+1,0)","v":0},"uti mahila unit scheme","MUT036","Debt Oriented Hybrid Speciality Funds",null,null,null,null,null,null,null,null,null,null,null,{"$f":"IFERROR(VLOOKUP(ROWS($AE$2:AE1513),P1513:Q3416,2,0),\"\")","v":""},null,null,null,null,{"$f":"IFERROR(VLOOKUP(ROWS($AJ$2:AJ1513),O1513:Q3416,3,0),\"\")","v":""},null,{"$f":"IFERROR(VLOOKUP(ROWS(AL$2:$AL1513),N1513:Q3416,4,0),\"\")","v":""}]
[null,null,null,null,null,null,null,null,null,null,null,null,null,{"$f":"IF(ISNUMBER(SEARCH($H$16,Q1514)),MAX($N$1:N1513)+1,0)","v":0},{"$f":"IF(ISNUMBER(SEARCH($H$11,Q1514)),MAX($O$1:O1513)+1,0)","v":0},{"$f":"IF(ISNUMBER(SEARCH($H$6,Q1514)),MAX($P$1:P1513)+1,0)","v":0},"hdfc childrens gift sav ","MHD012","Debt Oriented Hybrid Speciality Funds",null,null,null,null,null,null,null,null,null,null,null,{"$f":"IFERROR(VLOOKUP(ROWS($AE$2:AE1514),P1514:Q3417,2,0),\"\")","v":""},null,null,null,null,{"$f":"IFERROR(VLOOKUP(ROWS($AJ$2:AJ1514),O1514:Q3417,3,0),\"\")","v":""},null,{"$f":"IFERROR(VLOOKUP(ROWS(AL$2:$AL1514),N1514:Q3417,4,0),\"\")","v":""}]
[null,null,null,null,null,null,null,null,null,null,null,null,null,{"$f":"IF(ISNUMBER(SEARCH($H$16,Q1515)),MAX($N$1:N1514)+1,0)","v":0},{"$f":"IF(ISNUMBER(SEARCH($H$11,Q1515)),MAX($O$1:O1514)+1,0)","v":0},{"$f":"IF(ISNUMBER(SEARCH($H$6,Q1515)),MAX($P$1:P1514)+1,0)","v":0},"sbi magnum childrens benefit","MSB026","Debt Oriented Hybrid Speciality Funds",null,null,null,null,null,null,null,null,null,null,null,{"$f":"IFERROR(VLOOKUP(ROWS($AE$2:AE1515),P1515:Q3418,2,0),\"\")","v":""},null,null,null,null,{"$f":"IFERROR(VLOOKUP(ROWS($AJ$2:AJ1515),O1515:Q3418,3,0),\"\")","v":""},null,{"$f":"IFERROR(VLOOKUP(ROWS(AL$2:$AL1515),N1515:Q3418,4,0),\"\")","v":""}]
[null,null,null,null,null,null,null,null,null,null,null,null,null,{"$f":"IF(ISNUMBER(SEARCH($H$16,Q1516)),MAX($N$1:N1515)+1,0)","v":0},{"$f":"IF(ISNUMBER(SEARCH($H$11,Q1516)),MAX($O$1:O1515)+1,0)","v":0},{"$f":"IF(ISNUMBER(SEARCH($H$6,Q1516)),MAX($P$1:P1515)+1,0)","v":0},"uti crts 81","MUT112","Debt Oriented Hybrid Speciality Funds",null,null,null,null,null,null,null,null,null,null,null,{"$f":"IFERROR(VLOOKUP(ROWS($AE$2:AE1516),P1516:Q3419,2,0),\"\")","v":""},null,null,null,null,{"$f":"IFERROR(VLOOKUP(ROWS($AJ$2:AJ1516),O1516:Q3419,3,0),\"\")","v":""},null,{"$f":"IFERROR(VLOOKUP(ROWS(AL$2:$AL1516),N1516:Q3419,4,0),\"\")","v":""}]
[null,null,null,null,null,null,null,null,null,null,null,null,null,{"$f":"IF(ISNUMBER(SEARCH($H$16,Q1517)),MAX($N$1:N1516)+1,0)","v":0},{"$f":"IF(ISNUMBER(SEARCH($H$11,Q1517)),MAX($O$1:O1516)+1,0)","v":0},{"$f":"IF(ISNUMBER(SEARCH($H$6,Q1517)),MAX($P$1:P1516)+1,0)","v":0},"union kbc aaf conservative","MUK025","Debt Oriented Hybrid Speciality Funds",null,null,null,null,null,null,null,null,null,null,null,{"$f":"IFERROR(VLOOKUP(ROWS($AE$2:AE1517),P1517:Q3420,2,0),\"\")","v":""},null,null,null,null,{"$f":"IFERROR(VLOOKUP(ROWS($AJ$2:AJ1517),O1517:Q3420,3,0),\"\")","v":""},null,{"$f":"IFERROR(VLOOKUP(ROWS(AL$2:$AL1517),N1517:Q3420,4,0),\"\")","v":""}]
[null,null,null,null,null,null,null,null,null,null,null,null,null,{"$f":"IF(ISNUMBER(SEARCH($H$16,Q1518)),MAX($N$1:N1517)+1,0)","v":0},{"$f":"IF(ISNUMBER(SEARCH($H$11,Q1518)),MAX($O$1:O1517)+1,0)","v":0},{"$f":"IF(ISNUMBER(SEARCH($H$6,Q1518)),MAX($P$1:P1517)+1,0)","v":0},"axis triple advantage fund","MAA091","Debt Oriented Hybrid Speciality Funds",null,null,null,null,null,null,null,null,null,null,null,{"$f":"IFERROR(VLOOKUP(ROWS($AE$2:AE1518),P1518:Q3421,2,0),\"\")","v":""},null,null,null,null,{"$f":"IFERROR(VLOOKUP(ROWS($AJ$2:AJ1518),O1518:Q3421,3,0),\"\")","v":""},null,{"$f":"IFERROR(VLOOKUP(ROWS(AL$2:$AL1518),N1518:Q3421,4,0),\"\")","v":""}]
[null,null,null,null,null,null,null,null,null,null,null,null,null,{"$f":"IF(ISNUMBER(SEARCH($H$16,Q1519)),MAX($N$1:N1518)+1,0)","v":0},{"$f":"IF(ISNUMBER(SEARCH($H$11,Q1519)),MAX($O$1:O1518)+1,0)","v":0},{"$f":"IF(ISNUMBER(SEARCH($H$6,Q1519)),MAX($P$1:P1518)+1,0)","v":0},"peerless 3 in 1 fund","MPM031","Debt Oriented Hybrid Speciality Funds",null,null,null,null,null,null,null,null,null,null,null,{"$f":"IFERROR(VLOOKUP(ROWS($AE$2:AE1519),P1519:Q3422,2,0),\"\")","v":""},null,null,null,null,{"$f":"IFERROR(VLOOKUP(ROWS($AJ$2:AJ1519),O1519:Q3422,3,0),\"\")","v":""},null,{"$f":"IFERROR(VLOOKUP(ROWS(AL$2:$AL1519),N1519:Q3422,4,0),\"\")","v":""}]
[null,null,null,null,null,null,null,null,null,null,null,null,null,{"$f":"IF(ISNUMBER(SEARCH($H$16,Q1520)),MAX($N$1:N1519)+1,0)","v":0},{"$f":"IF(ISNUMBER(SEARCH($H$11,Q1520)),MAX($O$1:O1519)+1,0)","v":0},{"$f":"IF(ISNUMBER(SEARCH($H$6,Q1520)),MAX($P$1:P1519)+1,0)","v":0},"kotak multi asset allocation rp","MKM370","Debt Oriented Hybrid Speciality Funds",null,null,null,null,null,null,null,null,null,null,null,{"$f":"IFERROR(VLOOKUP(ROWS($AE$2:AE1520),P1520:Q3423,2,0),\"\")","v":""},null,null,null,null,{"$f":"IFERROR(VLOOKUP(ROWS($AJ$2:AJ1520),O1520:Q3423,3,0),\"\")","v":""},null,{"$f":"IFERROR(VLOOKUP(ROWS(AL$2:$AL1520),N1520:Q3423,4,0),\"\")","v":""}]
[null,null,null,null,null,null,null,null,null,null,null,null,null,{"$f":"IF(ISNUMBER(SEARCH($H$16,Q1521)),MAX($N$1:N1520)+1,0)","v":0},{"$f":"IF(ISNUMBER(SEARCH($H$11,Q1521)),MAX($O$1:O1520)+1,0)","v":0},{"$f":"IF(ISNUMBER(SEARCH($H$6,Q1521)),MAX($P$1:P1520)+1,0)","v":0},"union kbc aaf moderate plan","MUK021","Debt Oriented Hybrid Speciality Funds",null,null,null,null,null,null,null,null,null,null,null,{"$f":"IFERROR(VLOOKUP(ROWS($AE$2:AE1521),P1521:Q3424,2,0),\"\")","v":""},null,null,null,null,{"$f":"IFERROR(VLOOKUP(ROWS($AJ$2:AJ1521),O1521:Q3424,3,0),\"\")","v":""},null,{"$f":"IFERROR(VLOOKUP(ROWS(AL$2:$AL1521),N1521:Q3424,4,0),\"\")","v":""}]
[null,null,null,null,null,null,null,null,null,null,null,null,null,{"$f":"IF(ISNUMBER(SEARCH($H$16,Q1522)),MAX($N$1:N1521)+1,0)","v":8},{"$f":"IF(ISNUMBER(SEARCH($H$11,Q1522)),MAX($O$1:O1521)+1,0)","v":0},{"$f":"IF(ISNUMBER(SEARCH($H$6,Q1522)),MAX($P$1:P1521)+1,0)","v":8},"quantum multi asset fund","MQU013","Debt Oriented Hybrid Speciality Funds",null,null,null,null,null,null,null,null,null,null,null,{"$f":"IFERROR(VLOOKUP(ROWS($AE$2:AE1522),P1522:Q3425,2,0),\"\")","v":""},null,null,null,null,{"$f":"IFERROR(VLOOKUP(ROWS($AJ$2:AJ1522),O1522:Q3425,3,0),\"\")","v":""},null,{"$f":"IFERROR(VLOOKUP(ROWS(AL$2:$AL1522),N1522:Q3425,4,0),\"\")","v":""}]
[null,null,null,null,null,null,null,null,null,null,null,null,null,{"$f":"IF(ISNUMBER(SEARCH($H$16,Q1523)),MAX($N$1:N1522)+1,0)","v":0},{"$f":"IF(ISNUMBER(SEARCH($H$11,Q1523)),MAX($O$1:O1522)+1,0)","v":0},{"$f":"IF(ISNUMBER(SEARCH($H$6,Q1523)),MAX($P$1:P1522)+1,0)","v":0},"bnp paribas income gold fund","MAB713","Debt Oriented Hybrid Speciality Funds",null,null,null,null,null,null,null,null,null,null,null,{"$f":"IFERROR(VLOOKUP(ROWS($AE$2:AE1523),P1523:Q3426,2,0),\"\")","v":""},null,null,null,null,{"$f":"IFERROR(VLOOKUP(ROWS($AJ$2:AJ1523),O1523:Q3426,3,0),\"\")","v":""},null,{"$f":"IFERROR(VLOOKUP(ROWS(AL$2:$AL1523),N1523:Q3426,4,0),\"\")","v":""}]
[null,null,null,null,null,null,null,null,null,null,null,null,null,{"$f":"IF(ISNUMBER(SEARCH($H$16,Q1524)),MAX($N$1:N1523)+1,0)","v":0},{"$f":"IF(ISNUMBER(SEARCH($H$11,Q1524)),MAX($O$1:O1523)+1,0)","v":0},{"$f":"IF(ISNUMBER(SEARCH($H$6,Q1524)),MAX($P$1:P1523)+1,0)","v":0},"canara robeco indigo fund","MCA172","Debt Oriented Hybrid Speciality Funds",null,null,null,null,null,null,null,null,null,null,null,{"$f":"IFERROR(VLOOKUP(ROWS($AE$2:AE1524),P1524:Q3427,2,0),\"\")","v":""},null,null,null,null,{"$f":"IFERROR(VLOOKUP(ROWS($AJ$2:AJ1524),O1524:Q3427,3,0),\"\")","v":""},null,{"$f":"IFERROR(VLOOKUP(ROWS(AL$2:$AL1524),N1524:Q3427,4,0),\"\")","v":""}]
[null,null,null,null,null,null,null,null,null,null,null,null,null,{"$f":"IF(ISNUMBER(SEARCH($H$16,Q1525)),MAX($N$1:N1524)+1,0)","v":0},{"$f":"IF(ISNUMBER(SEARCH($H$11,Q1525)),MAX($O$1:O1524)+1,0)","v":0},{"$f":"IF(ISNUMBER(SEARCH($H$6,Q1525)),MAX($P$1:P1524)+1,0)","v":0},"sbi edge fund","MSB032","Debt Oriented Hybrid Speciality Funds",null,null,null,null,null,null,null,null,null,null,null,{"$f":"IFERROR(VLOOKUP(ROWS($AE$2:AE1525),P1525:Q3428,2,0),\"\")","v":""},null,null,null,null,{"$f":"IFERROR(VLOOKUP(ROWS($AJ$2:AJ1525),O1525:Q3428,3,0),\"\")","v":""},null,{"$f":"IFERROR(VLOOKUP(ROWS(AL$2:$AL1525),N1525:Q3428,4,0),\"\")","v":""}]
[null,null,null,null,null,null,null,null,null,null,null,null,null,{"$f":"IF(ISNUMBER(SEARCH($H$16,Q1526)),MAX($N$1:N1525)+1,0)","v":0},{"$f":"IF(ISNUMBER(SEARCH($H$11,Q1526)),MAX($O$1:O1525)+1,0)","v":0},{"$f":"IF(ISNUMBER(SEARCH($H$6,Q1526)),MAX($P$1:P1525)+1,0)","v":0},"hdfc debt cancer cure 2014 100 rp","MHD1995","Debt Oriented Hybrid Speciality Funds",null,null,null,null,null,null,null,null,null,null,null,{"$f":"IFERROR(VLOOKUP(ROWS($AE$2:AE1526),P1526:Q3429,2,0),\"\")","v":""},null,null,null,null,{"$f":"IFERROR(VLOOKUP(ROWS($AJ$2:AJ1526),O1526:Q3429,3,0),\"\")","v":""},null,{"$f":"IFERROR(VLOOKUP(ROWS(AL$2:$AL1526),N1526:Q3429,4,0),\"\")","v":""}]
[null,null,null,null,null,null,null,null,null,null,null,null,null,{"$f":"IF(ISNUMBER(SEARCH($H$16,Q1527)),MAX($N$1:N1526)+1,0)","v":0},{"$f":"IF(ISNUMBER(SEARCH($H$11,Q1527)),MAX($O$1:O1526)+1,0)","v":0},{"$f":"IF(ISNUMBER(SEARCH($H$6,Q1527)),MAX($P$1:P1526)+1,0)","v":0},"hdfc debt cancer cure 2014 50 rp","MHD2033","Debt Oriented Hybrid Speciality Funds",null,null,null,null,null,null,null,null,null,null,null,{"$f":"IFERROR(VLOOKUP(ROWS($AE$2:AE1527),P1527:Q3430,2,0),\"\")","v":""},null,null,null,null,{"$f":"IFERROR(VLOOKUP(ROWS($AJ$2:AJ1527),O1527:Q3430,3,0),\"\")","v":""},null,{"$f":"IFERROR(VLOOKUP(ROWS(AL$2:$AL1527),N1527:Q3430,4,0),\"\")","v":""}]
[null,null,null,null,null,null,null,null,null,null,null,null,null,{"$f":"IF(ISNUMBER(SEARCH($H$16,Q1528)),MAX($N$1:N1527)+1,0)","v":0},{"$f":"IF(ISNUMBER(SEARCH($H$11,Q1528)),MAX($O$1:O1527)+1,0)","v":0},{"$f":"IF(ISNUMBER(SEARCH($H$6,Q1528)),MAX($P$1:P1527)+1,0)","v":0},"hdfc debt fund for cancer cure","MHD754","Debt Oriented Hybrid Speciality Funds",null,null,null,null,null,null,null,null,null,null,null,{"$f":"IFERROR(VLOOKUP(ROWS($AE$2:AE1528),P1528:Q3431,2,0),\"\")","v":""},null,null,null,null,{"$f":"IFERROR(VLOOKUP(ROWS($AJ$2:AJ1528),O1528:Q3431,3,0),\"\")","v":""},null,{"$f":"IFERROR(VLOOKUP(ROWS(AL$2:$AL1528),N1528:Q3431,4,0),\"\")","v":""}]
[null,null,null,null,null,null,null,null,null,null,null,null,null,{"$f":"IF(ISNUMBER(SEARCH($H$16,Q1529)),MAX($N$1:N1528)+1,0)","v":0},{"$f":"IF(ISNUMBER(SEARCH($H$11,Q1529)),MAX($O$1:O1528)+1,0)","v":0},{"$f":"IF(ISNUMBER(SEARCH($H$6,Q1529)),MAX($P$1:P1528)+1,0)","v":0},"reliance rf income generation","MRC1795","Debt Oriented Hybrid Speciality Funds",null,null,null,null,null,null,null,null,null,null,null,{"$f":"IFERROR(VLOOKUP(ROWS($AE$2:AE1529),P1529:Q3432,2,0),\"\")","v":""},null,null,null,null,{"$f":"IFERROR(VLOOKUP(ROWS($AJ$2:AJ1529),O1529:Q3432,3,0),\"\")","v":""},null,{"$f":"IFERROR(VLOOKUP(ROWS(AL$2:$AL1529),N1529:Q3432,4,0),\"\")","v":""}]
[null,null,null,null,null,null,null,null,null,null,null,null,null,{"$f":"IF(ISNUMBER(SEARCH($H$16,Q1530)),MAX($N$1:N1529)+1,0)","v":0},{"$f":"IF(ISNUMBER(SEARCH($H$11,Q1530)),MAX($O$1:O1529)+1,0)","v":0},{"$f":"IF(ISNUMBER(SEARCH($H$6,Q1530)),MAX($P$1:P1529)+1,0)","v":0},"tata retirement sav moderate","MTA622","Equity Oriented Hybrid Speciality Funds",null,null,null,null,null,null,null,null,null,null,null,{"$f":"IFERROR(VLOOKUP(ROWS($AE$2:AE1530),P1530:Q3433,2,0),\"\")","v":""},null,null,null,null,{"$f":"IFERROR(VLOOKUP(ROWS($AJ$2:AJ1530),O1530:Q3433,3,0),\"\")","v":""},null,{"$f":"IFERROR(VLOOKUP(ROWS(AL$2:$AL1530),N1530:Q3433,4,0),\"\")","v":""}]
[null,null,null,null,null,null,null,null,null,null,null,null,null,{"$f":"IF(ISNUMBER(SEARCH($H$16,Q1531)),MAX($N$1:N1530)+1,0)","v":0},{"$f":"IF(ISNUMBER(SEARCH($H$11,Q1531)),MAX($O$1:O1530)+1,0)","v":0},{"$f":"IF(ISNUMBER(SEARCH($H$6,Q1531)),MAX($P$1:P1530)+1,0)","v":0},"l t india equity and gold fund","MFF105","Equity Oriented Hybrid Speciality Funds",null,null,null,null,null,null,null,null,null,null,null,{"$f":"IFERROR(VLOOKUP(ROWS($AE$2:AE1531),P1531:Q3434,2,0),\"\")","v":""},null,null,null,null,{"$f":"IFERROR(VLOOKUP(ROWS($AJ$2:AJ1531),O1531:Q3434,3,0),\"\")","v":""},null,{"$f":"IFERROR(VLOOKUP(ROWS(AL$2:$AL1531),N1531:Q3434,4,0),\"\")","v":""}]
[null,null,null,null,null,null,null,null,null,null,null,null,null,{"$f":"IF(ISNUMBER(SEARCH($H$16,Q1532)),MAX($N$1:N1531)+1,0)","v":0},{"$f":"IF(ISNUMBER(SEARCH($H$11,Q1532)),MAX($O$1:O1531)+1,0)","v":0},{"$f":"IF(ISNUMBER(SEARCH($H$6,Q1532)),MAX($P$1:P1531)+1,0)","v":0},"tata retirement sav progresive","MTA624","Equity Oriented Hybrid Speciality Funds",null,null,null,null,null,null,null,null,null,null,null,{"$f":"IFERROR(VLOOKUP(ROWS($AE$2:AE1532),P1532:Q3435,2,0),\"\")","v":""},null,null,null,null,{"$f":"IFERROR(VLOOKUP(ROWS($AJ$2:AJ1532),O1532:Q3435,3,0),\"\")","v":""},null,{"$f":"IFERROR(VLOOKUP(ROWS(AL$2:$AL1532),N1532:Q3435,4,0),\"\")","v":""}]
[null,null,null,null,null,null,null,null,null,null,null,null,null,{"$f":"IF(ISNUMBER(SEARCH($H$16,Q1533)),MAX($N$1:N1532)+1,0)","v":0},{"$f":"IF(ISNUMBER(SEARCH($H$11,Q1533)),MAX($O$1:O1532)+1,0)","v":0},{"$f":"IF(ISNUMBER(SEARCH($H$6,Q1533)),MAX($P$1:P1532)+1,0)","v":0},"franklin i pension plan","MKP011","Equity Oriented Hybrid Speciality Funds",null,null,null,null,null,null,null,null,null,null,null,{"$f":"IFERROR(VLOOKUP(ROWS($AE$2:AE1533),P1533:Q3436,2,0),\"\")","v":""},null,null,null,null,{"$f":"IFERROR(VLOOKUP(ROWS($AJ$2:AJ1533),O1533:Q3436,3,0),\"\")","v":""},null,{"$f":"IFERROR(VLOOKUP(ROWS(AL$2:$AL1533),N1533:Q3436,4,0),\"\")","v":""}]
[null,null,null,null,null,null,null,null,null,null,null,null,null,{"$f":"IF(ISNUMBER(SEARCH($H$16,Q1534)),MAX($N$1:N1533)+1,0)","v":0},{"$f":"IF(ISNUMBER(SEARCH($H$11,Q1534)),MAX($O$1:O1533)+1,0)","v":0},{"$f":"IF(ISNUMBER(SEARCH($H$6,Q1534)),MAX($P$1:P1533)+1,0)","v":0},"hdfc childrens gift inv ","MHD011","Equity Oriented Hybrid Speciality Funds",null,null,null,null,null,null,null,null,null,null,null,{"$f":"IFERROR(VLOOKUP(ROWS($AE$2:AE1534),P1534:Q3437,2,0),\"\")","v":""},null,null,null,null,{"$f":"IFERROR(VLOOKUP(ROWS($AJ$2:AJ1534),O1534:Q3437,3,0),\"\")","v":""},null,{"$f":"IFERROR(VLOOKUP(ROWS(AL$2:$AL1534),N1534:Q3437,4,0),\"\")","v":""}]
[null,null,null,null,null,null,null,null,null,null,null,null,null,{"$f":"IF(ISNUMBER(SEARCH($H$16,Q1535)),MAX($N$1:N1534)+1,0)","v":0},{"$f":"IF(ISNUMBER(SEARCH($H$11,Q1535)),MAX($O$1:O1534)+1,0)","v":0},{"$f":"IF(ISNUMBER(SEARCH($H$6,Q1535)),MAX($P$1:P1534)+1,0)","v":0},"sbi magnum nri fund fap","MSB050","Equity Oriented Hybrid Speciality Funds",null,null,null,null,null,null,null,null,null,null,null,{"$f":"IFERROR(VLOOKUP(ROWS($AE$2:AE1535),P1535:Q3438,2,0),\"\")","v":""},null,null,null,null,{"$f":"IFERROR(VLOOKUP(ROWS($AJ$2:AJ1535),O1535:Q3438,3,0),\"\")","v":""},null,{"$f":"IFERROR(VLOOKUP(ROWS(AL$2:$AL1535),N1535:Q3438,4,0),\"\")","v":""}]
[null,null,null,null,null,null,null,null,null,null,null,null,null,{"$f":"IF(ISNUMBER(SEARCH($H$16,Q1536)),MAX($N$1:N1535)+1,0)","v":0},{"$f":"IF(ISNUMBER(SEARCH($H$11,Q1536)),MAX($O$1:O1535)+1,0)","v":0},{"$f":"IF(ISNUMBER(SEARCH($H$6,Q1536)),MAX($P$1:P1535)+1,0)","v":0},"uti ccp advantage fund","MUT068","Equity Oriented Hybrid Speciality Funds",null,null,null,null,null,null,null,null,null,null,null,{"$f":"IFERROR(VLOOKUP(ROWS($AE$2:AE1536),P1536:Q3439,2,0),\"\")","v":""},null,null,null,null,{"$f":"IFERROR(VLOOKUP(ROWS($AJ$2:AJ1536),O1536:Q3439,3,0),\"\")","v":""},null,{"$f":"IFERROR(VLOOKUP(ROWS(AL$2:$AL1536),N1536:Q3439,4,0),\"\")","v":""}]
[null,null,null,null,null,null,null,null,null,null,null,null,null,{"$f":"IF(ISNUMBER(SEARCH($H$16,Q1537)),MAX($N$1:N1536)+1,0)","v":0},{"$f":"IF(ISNUMBER(SEARCH($H$11,Q1537)),MAX($O$1:O1536)+1,0)","v":0},{"$f":"IF(ISNUMBER(SEARCH($H$6,Q1537)),MAX($P$1:P1536)+1,0)","v":0},"tata young citizens fund regular","MTA002","Equity Oriented Hybrid Speciality Funds",null,null,null,null,null,null,null,null,null,null,null,{"$f":"IFERROR(VLOOKUP(ROWS($AE$2:AE1537),P1537:Q3440,2,0),\"\")","v":""},null,null,null,null,{"$f":"IFERROR(VLOOKUP(ROWS($AJ$2:AJ1537),O1537:Q3440,3,0),\"\")","v":""},null,{"$f":"IFERROR(VLOOKUP(ROWS(AL$2:$AL1537),N1537:Q3440,4,0),\"\")","v":""}]
[null,null,null,null,null,null,null,null,null,null,null,null,null,{"$f":"IF(ISNUMBER(SEARCH($H$16,Q1538)),MAX($N$1:N1537)+1,0)","v":0},{"$f":"IF(ISNUMBER(SEARCH($H$11,Q1538)),MAX($O$1:O1537)+1,0)","v":0},{"$f":"IF(ISNUMBER(SEARCH($H$6,Q1538)),MAX($P$1:P1537)+1,0)","v":0},"lic nomura unit linked insurance","MJB235","Equity Oriented Hybrid Speciality Funds",null,null,null,null,null,null,null,null,null,null,null,{"$f":"IFERROR(VLOOKUP(ROWS($AE$2:AE1538),P1538:Q3441,2,0),\"\")","v":""},null,null,null,null,{"$f":"IFERROR(VLOOKUP(ROWS($AJ$2:AJ1538),O1538:Q3441,3,0),\"\")","v":""},null,{"$f":"IFERROR(VLOOKUP(ROWS(AL$2:$AL1538),N1538:Q3441,4,0),\"\")","v":""}]
[null,null,null,null,null,null,null,null,null,null,null,null,null,{"$f":"IF(ISNUMBER(SEARCH($H$16,Q1539)),MAX($N$1:N1538)+1,0)","v":0},{"$f":"IF(ISNUMBER(SEARCH($H$11,Q1539)),MAX($O$1:O1538)+1,0)","v":0},{"$f":"IF(ISNUMBER(SEARCH($H$6,Q1539)),MAX($P$1:P1538)+1,0)","v":0},"lic nomura unit linked insurance","MJB003","Equity Oriented Hybrid Speciality Funds",null,null,null,null,null,null,null,null,null,null,null,{"$f":"IFERROR(VLOOKUP(ROWS($AE$2:AE1539),P1539:Q3442,2,0),\"\")","v":""},null,null,null,null,{"$f":"IFERROR(VLOOKUP(ROWS($AJ$2:AJ1539),O1539:Q3442,3,0),\"\")","v":""},null,{"$f":"IFERROR(VLOOKUP(ROWS(AL$2:$AL1539),N1539:Q3442,4,0),\"\")","v":""}]
[null,null,null,null,null,null,null,null,null,null,null,null,null,{"$f":"IF(ISNUMBER(SEARCH($H$16,Q1540)),MAX($N$1:N1539)+1,0)","v":0},{"$f":"IF(ISNUMBER(SEARCH($H$11,Q1540)),MAX($O$1:O1539)+1,0)","v":0},{"$f":"IF(ISNUMBER(SEARCH($H$6,Q1540)),MAX($P$1:P1539)+1,0)","v":0},"uti unit linked insurance plan","MUT018","Equity Oriented Hybrid Speciality Funds",null,null,null,null,null,null,null,null,null,null,null,{"$f":"IFERROR(VLOOKUP(ROWS($AE$2:AE1540),P1540:Q3443,2,0),\"\")","v":""},null,null,null,null,{"$f":"IFERROR(VLOOKUP(ROWS($AJ$2:AJ1540),O1540:Q3443,3,0),\"\")","v":""},null,{"$f":"IFERROR(VLOOKUP(ROWS(AL$2:$AL1540),N1540:Q3443,4,0),\"\")","v":""}]
[null,null,null,null,null,null,null,null,null,null,null,null,null,{"$f":"IF(ISNUMBER(SEARCH($H$16,Q1541)),MAX($N$1:N1540)+1,0)","v":0},{"$f":"IF(ISNUMBER(SEARCH($H$11,Q1541)),MAX($O$1:O1540)+1,0)","v":0},{"$f":"IF(ISNUMBER(SEARCH($H$6,Q1541)),MAX($P$1:P1540)+1,0)","v":0},"boi axa eqty debt rebalancer rp","MBA137","Equity Oriented Hybrid Speciality Funds",null,null,null,null,null,null,null,null,null,null,null,{"$f":"IFERROR(VLOOKUP(ROWS($AE$2:AE1541),P1541:Q3444,2,0),\"\")","v":""},null,null,null,null,{"$f":"IFERROR(VLOOKUP(ROWS($AJ$2:AJ1541),O1541:Q3444,3,0),\"\")","v":""},null,{"$f":"IFERROR(VLOOKUP(ROWS(AL$2:$AL1541),N1541:Q3444,4,0),\"\")","v":""}]
[null,null,null,null,null,null,null,null,null,null,null,null,null,{"$f":"IF(ISNUMBER(SEARCH($H$16,Q1542)),MAX($N$1:N1541)+1,0)","v":0},{"$f":"IF(ISNUMBER(SEARCH($H$11,Q1542)),MAX($O$1:O1541)+1,0)","v":0},{"$f":"IF(ISNUMBER(SEARCH($H$6,Q1542)),MAX($P$1:P1541)+1,0)","v":0},"lic nomura childrens fund","MJB014","Equity Oriented Hybrid Speciality Funds",null,null,null,null,null,null,null,null,null,null,null,{"$f":"IFERROR(VLOOKUP(ROWS($AE$2:AE1542),P1542:Q3445,2,0),\"\")","v":""},null,null,null,null,{"$f":"IFERROR(VLOOKUP(ROWS($AJ$2:AJ1542),O1542:Q3445,3,0),\"\")","v":""},null,{"$f":"IFERROR(VLOOKUP(ROWS(AL$2:$AL1542),N1542:Q3445,4,0),\"\")","v":""}]
[null,null,null,null,null,null,null,null,null,null,null,null,null,{"$f":"IF(ISNUMBER(SEARCH($H$16,Q1543)),MAX($N$1:N1542)+1,0)","v":0},{"$f":"IF(ISNUMBER(SEARCH($H$11,Q1543)),MAX($O$1:O1542)+1,0)","v":0},{"$f":"IF(ISNUMBER(SEARCH($H$6,Q1543)),MAX($P$1:P1542)+1,0)","v":0},"uti retirement benefit pension","MUT015","Equity Oriented Hybrid Speciality Funds",null,null,null,null,null,null,null,null,null,null,null,{"$f":"IFERROR(VLOOKUP(ROWS($AE$2:AE1543),P1543:Q3446,2,0),\"\")","v":""},null,null,null,null,{"$f":"IFERROR(VLOOKUP(ROWS($AJ$2:AJ1543),O1543:Q3446,3,0),\"\")","v":""},null,{"$f":"IFERROR(VLOOKUP(ROWS(AL$2:$AL1543),N1543:Q3446,4,0),\"\")","v":""}]
[null,null,null,null,null,null,null,null,null,null,null,null,null,{"$f":"IF(ISNUMBER(SEARCH($H$16,Q1544)),MAX($N$1:N1543)+1,0)","v":0},{"$f":"IF(ISNUMBER(SEARCH($H$11,Q1544)),MAX($O$1:O1543)+1,0)","v":0},{"$f":"IF(ISNUMBER(SEARCH($H$6,Q1544)),MAX($P$1:P1543)+1,0)","v":0},"pramerica dynamic aaf","MPA013","Equity Oriented Hybrid Speciality Funds",null,null,null,null,null,null,null,null,null,null,null,{"$f":"IFERROR(VLOOKUP(ROWS($AE$2:AE1544),P1544:Q3447,2,0),\"\")","v":""},null,null,null,null,{"$f":"IFERROR(VLOOKUP(ROWS($AJ$2:AJ1544),O1544:Q3447,3,0),\"\")","v":""},null,{"$f":"IFERROR(VLOOKUP(ROWS(AL$2:$AL1544),N1544:Q3447,4,0),\"\")","v":""}]
[null,null,null,null,null,null,null,null,null,null,null,null,null,{"$f":"IF(ISNUMBER(SEARCH($H$16,Q1545)),MAX($N$1:N1544)+1,0)","v":0},{"$f":"IF(ISNUMBER(SEARCH($H$11,Q1545)),MAX($O$1:O1544)+1,0)","v":0},{"$f":"IF(ISNUMBER(SEARCH($H$6,Q1545)),MAX($P$1:P1544)+1,0)","v":0},"principal smart equity fund","MID247","Equity Oriented Hybrid Speciality Funds",null,null,null,null,null,null,null,null,null,null,null,{"$f":"IFERROR(VLOOKUP(ROWS($AE$2:AE1545),P1545:Q3448,2,0),\"\")","v":""},null,null,null,null,{"$f":"IFERROR(VLOOKUP(ROWS($AJ$2:AJ1545),O1545:Q3448,3,0),\"\")","v":""},null,{"$f":"IFERROR(VLOOKUP(ROWS(AL$2:$AL1545),N1545:Q3448,4,0),\"\")","v":""}]
[null,null,null,null,null,null,null,null,null,null,null,null,null,{"$f":"IF(ISNUMBER(SEARCH($H$16,Q1546)),MAX($N$1:N1545)+1,0)","v":0},{"$f":"IF(ISNUMBER(SEARCH($H$11,Q1546)),MAX($O$1:O1545)+1,0)","v":0},{"$f":"IF(ISNUMBER(SEARCH($H$6,Q1546)),MAX($P$1:P1545)+1,0)","v":0},"icici pru ccp gift plan","MPI026","Equity Oriented Hybrid Speciality Funds",null,null,null,null,null,null,null,null,null,null,null,{"$f":"IFERROR(VLOOKUP(ROWS($AE$2:AE1546),P1546:Q3449,2,0),\"\")","v":""},null,null,null,null,{"$f":"IFERROR(VLOOKUP(ROWS($AJ$2:AJ1546),O1546:Q3449,3,0),\"\")","v":""},null,{"$f":"IFERROR(VLOOKUP(ROWS(AL$2:$AL1546),N1546:Q3449,4,0),\"\")","v":""}]
[null,null,null,null,null,null,null,null,null,null,null,null,null,{"$f":"IF(ISNUMBER(SEARCH($H$16,Q1547)),MAX($N$1:N1546)+1,0)","v":0},{"$f":"IF(ISNUMBER(SEARCH($H$11,Q1547)),MAX($O$1:O1546)+1,0)","v":0},{"$f":"IF(ISNUMBER(SEARCH($H$6,Q1547)),MAX($P$1:P1546)+1,0)","v":0},"uti wealth builder sr 2 rp","MUT321","Equity Oriented Hybrid Speciality Funds",null,null,null,null,null,null,null,null,null,null,null,{"$f":"IFERROR(VLOOKUP(ROWS($AE$2:AE1547),P1547:Q3450,2,0),\"\")","v":""},null,null,null,null,{"$f":"IFERROR(VLOOKUP(ROWS($AJ$2:AJ1547),O1547:Q3450,3,0),\"\")","v":""},null,{"$f":"IFERROR(VLOOKUP(ROWS(AL$2:$AL1547),N1547:Q3450,4,0),\"\")","v":""}]
[null,null,null,null,null,null,null,null,null,null,null,null,null,{"$f":"IF(ISNUMBER(SEARCH($H$16,Q1548)),MAX($N$1:N1547)+1,0)","v":0},{"$f":"IF(ISNUMBER(SEARCH($H$11,Q1548)),MAX($O$1:O1547)+1,0)","v":0},{"$f":"IF(ISNUMBER(SEARCH($H$6,Q1548)),MAX($P$1:P1547)+1,0)","v":0},"lic nomura ulis 10yrs reg prc yearly rp","MJB414","Equity Oriented Hybrid Speciality Funds",null,null,null,null,null,null,null,null,null,null,null,{"$f":"IFERROR(VLOOKUP(ROWS($AE$2:AE1548),P1548:Q3451,2,0),\"\")","v":""},null,null,null,null,{"$f":"IFERROR(VLOOKUP(ROWS($AJ$2:AJ1548),O1548:Q3451,3,0),\"\")","v":""},null,{"$f":"IFERROR(VLOOKUP(ROWS(AL$2:$AL1548),N1548:Q3451,4,0),\"\")","v":""}]
[null,null,null,null,null,null,null,null,null,null,null,null,null,{"$f":"IF(ISNUMBER(SEARCH($H$16,Q1549)),MAX($N$1:N1548)+1,0)","v":0},{"$f":"IF(ISNUMBER(SEARCH($H$11,Q1549)),MAX($O$1:O1548)+1,0)","v":0},{"$f":"IF(ISNUMBER(SEARCH($H$6,Q1549)),MAX($P$1:P1548)+1,0)","v":0},"lic nomura ulis 10yrs reg prc half y rp","MJB413","Equity Oriented Hybrid Speciality Funds",null,null,null,null,null,null,null,null,null,null,null,{"$f":"IFERROR(VLOOKUP(ROWS($AE$2:AE1549),P1549:Q3452,2,0),\"\")","v":""},null,null,null,null,{"$f":"IFERROR(VLOOKUP(ROWS($AJ$2:AJ1549),O1549:Q3452,3,0),\"\")","v":""},null,{"$f":"IFERROR(VLOOKUP(ROWS(AL$2:$AL1549),N1549:Q3452,4,0),\"\")","v":""}]
[null,null,null,null,null,null,null,null,null,null,null,null,null,{"$f":"IF(ISNUMBER(SEARCH($H$16,Q1550)),MAX($N$1:N1549)+1,0)","v":0},{"$f":"IF(ISNUMBER(SEARCH($H$11,Q1550)),MAX($O$1:O1549)+1,0)","v":0},{"$f":"IF(ISNUMBER(SEARCH($H$6,Q1550)),MAX($P$1:P1549)+1,0)","v":0},"lic nomura ulis 10yrs reg prc mthly rp","MJB412","Equity Oriented Hybrid Speciality Funds",null,null,null,null,null,null,null,null,null,null,null,{"$f":"IFERROR(VLOOKUP(ROWS($AE$2:AE1550),P1550:Q3453,2,0),\"\")","v":""},null,null,null,null,{"$f":"IFERROR(VLOOKUP(ROWS($AJ$2:AJ1550),O1550:Q3453,3,0),\"\")","v":""},null,{"$f":"IFERROR(VLOOKUP(ROWS(AL$2:$AL1550),N1550:Q3453,4,0),\"\")","v":""}]
[null,null,null,null,null,null,null,null,null,null,null,null,null,{"$f":"IF(ISNUMBER(SEARCH($H$16,Q1551)),MAX($N$1:N1550)+1,0)","v":0},{"$f":"IF(ISNUMBER(SEARCH($H$11,Q1551)),MAX($O$1:O1550)+1,0)","v":0},{"$f":"IF(ISNUMBER(SEARCH($H$6,Q1551)),MAX($P$1:P1550)+1,0)","v":0},"lic nomura ulis 10yrs reg puc half y rp","MJB415","Equity Oriented Hybrid Speciality Funds",null,null,null,null,null,null,null,null,null,null,null,{"$f":"IFERROR(VLOOKUP(ROWS($AE$2:AE1551),P1551:Q3454,2,0),\"\")","v":""},null,null,null,null,{"$f":"IFERROR(VLOOKUP(ROWS($AJ$2:AJ1551),O1551:Q3454,3,0),\"\")","v":""},null,{"$f":"IFERROR(VLOOKUP(ROWS(AL$2:$AL1551),N1551:Q3454,4,0),\"\")","v":""}]
[null,null,null,null,null,null,null,null,null,null,null,null,null,{"$f":"IF(ISNUMBER(SEARCH($H$16,Q1552)),MAX($N$1:N1551)+1,0)","v":0},{"$f":"IF(ISNUMBER(SEARCH($H$11,Q1552)),MAX($O$1:O1551)+1,0)","v":0},{"$f":"IF(ISNUMBER(SEARCH($H$6,Q1552)),MAX($P$1:P1551)+1,0)","v":0},"lic nomura ulis 10yrs reg puc mthly rp","MJB416","Equity Oriented Hybrid Speciality Funds",null,null,null,null,null,null,null,null,null,null,null,{"$f":"IFERROR(VLOOKUP(ROWS($AE$2:AE1552),P1552:Q3455,2,0),\"\")","v":""},null,null,null,null,{"$f":"IFERROR(VLOOKUP(ROWS($AJ$2:AJ1552),O1552:Q3455,3,0),\"\")","v":""},null,{"$f":"IFERROR(VLOOKUP(ROWS(AL$2:$AL1552),N1552:Q3455,4,0),\"\")","v":""}]
[null,null,null,null,null,null,null,null,null,null,null,null,null,{"$f":"IF(ISNUMBER(SEARCH($H$16,Q1553)),MAX($N$1:N1552)+1,0)","v":0},{"$f":"IF(ISNUMBER(SEARCH($H$11,Q1553)),MAX($O$1:O1552)+1,0)","v":0},{"$f":"IF(ISNUMBER(SEARCH($H$6,Q1553)),MAX($P$1:P1552)+1,0)","v":0},"lic nomura ulis 10yrs reg prc mthly rp","MJB425","Equity Oriented Hybrid Speciality Funds",null,null,null,null,null,null,null,null,null,null,null,{"$f":"IFERROR(VLOOKUP(ROWS($AE$2:AE1553),P1553:Q3456,2,0),\"\")","v":""},null,null,null,null,{"$f":"IFERROR(VLOOKUP(ROWS($AJ$2:AJ1553),O1553:Q3456,3,0),\"\")","v":""},null,{"$f":"IFERROR(VLOOKUP(ROWS(AL$2:$AL1553),N1553:Q3456,4,0),\"\")","v":""}]
[null,null,null,null,null,null,null,null,null,null,null,null,null,{"$f":"IF(ISNUMBER(SEARCH($H$16,Q1554)),MAX($N$1:N1553)+1,0)","v":0},{"$f":"IF(ISNUMBER(SEARCH($H$11,Q1554)),MAX($O$1:O1553)+1,0)","v":0},{"$f":"IF(ISNUMBER(SEARCH($H$6,Q1554)),MAX($P$1:P1553)+1,0)","v":0},"lic nomura ulis 10yrs reg prc half y rp","MJB426","Equity Oriented Hybrid Speciality Funds",null,null,null,null,null,null,null,null,null,null,null,{"$f":"IFERROR(VLOOKUP(ROWS($AE$2:AE1554),P1554:Q3457,2,0),\"\")","v":""},null,null,null,null,{"$f":"IFERROR(VLOOKUP(ROWS($AJ$2:AJ1554),O1554:Q3457,3,0),\"\")","v":""},null,{"$f":"IFERROR(VLOOKUP(ROWS(AL$2:$AL1554),N1554:Q3457,4,0),\"\")","v":""}]
[null,null,null,null,null,null,null,null,null,null,null,null,null,{"$f":"IF(ISNUMBER(SEARCH($H$16,Q1555)),MAX($N$1:N1554)+1,0)","v":0},{"$f":"IF(ISNUMBER(SEARCH($H$11,Q1555)),MAX($O$1:O1554)+1,0)","v":0},{"$f":"IF(ISNUMBER(SEARCH($H$6,Q1555)),MAX($P$1:P1554)+1,0)","v":0},"lic nomura ulis 10yrs reg prc yearly rp","MJB427","Equity Oriented Hybrid Speciality Funds",null,null,null,null,null,null,null,null,null,null,null,{"$f":"IFERROR(VLOOKUP(ROWS($AE$2:AE1555),P1555:Q3458,2,0),\"\")","v":""},null,null,null,null,{"$f":"IFERROR(VLOOKUP(ROWS($AJ$2:AJ1555),O1555:Q3458,3,0),\"\")","v":""},null,{"$f":"IFERROR(VLOOKUP(ROWS(AL$2:$AL1555),N1555:Q3458,4,0),\"\")","v":""}]
[null,null,null,null,null,null,null,null,null,null,null,null,null,{"$f":"IF(ISNUMBER(SEARCH($H$16,Q1556)),MAX($N$1:N1555)+1,0)","v":0},{"$f":"IF(ISNUMBER(SEARCH($H$11,Q1556)),MAX($O$1:O1555)+1,0)","v":0},{"$f":"IF(ISNUMBER(SEARCH($H$6,Q1556)),MAX($P$1:P1555)+1,0)","v":0},"lic nomura ulis 10yrs reg puc half y rp","MJB428","Equity Oriented Hybrid Speciality Funds",null,null,null,null,null,null,null,null,null,null,null,{"$f":"IFERROR(VLOOKUP(ROWS($AE$2:AE1556),P1556:Q3459,2,0),\"\")","v":""},null,null,null,null,{"$f":"IFERROR(VLOOKUP(ROWS($AJ$2:AJ1556),O1556:Q3459,3,0),\"\")","v":""},null,{"$f":"IFERROR(VLOOKUP(ROWS(AL$2:$AL1556),N1556:Q3459,4,0),\"\")","v":""}]
[null,null,null,null,null,null,null,null,null,null,null,null,null,{"$f":"IF(ISNUMBER(SEARCH($H$16,Q1557)),MAX($N$1:N1556)+1,0)","v":0},{"$f":"IF(ISNUMBER(SEARCH($H$11,Q1557)),MAX($O$1:O1556)+1,0)","v":0},{"$f":"IF(ISNUMBER(SEARCH($H$6,Q1557)),MAX($P$1:P1556)+1,0)","v":0},"lic nomura ulis 10yrs reg puc mthly rp","MJB429","Equity Oriented Hybrid Speciality Funds",null,null,null,null,null,null,null,null,null,null,null,{"$f":"IFERROR(VLOOKUP(ROWS($AE$2:AE1557),P1557:Q3460,2,0),\"\")","v":""},null,null,null,null,{"$f":"IFERROR(VLOOKUP(ROWS($AJ$2:AJ1557),O1557:Q3460,3,0),\"\")","v":""},null,{"$f":"IFERROR(VLOOKUP(ROWS(AL$2:$AL1557),N1557:Q3460,4,0),\"\")","v":""}]
[null,null,null,null,null,null,null,null,null,null,null,null,null,{"$f":"IF(ISNUMBER(SEARCH($H$16,Q1558)),MAX($N$1:N1557)+1,0)","v":0},{"$f":"IF(ISNUMBER(SEARCH($H$11,Q1558)),MAX($O$1:O1557)+1,0)","v":0},{"$f":"IF(ISNUMBER(SEARCH($H$6,Q1558)),MAX($P$1:P1557)+1,0)","v":0},"lic nomura ulis 10yrs reg puc yearly rp","MJB430","Equity Oriented Hybrid Speciality Funds",null,null,null,null,null,null,null,null,null,null,null,{"$f":"IFERROR(VLOOKUP(ROWS($AE$2:AE1558),P1558:Q3461,2,0),\"\")","v":""},null,null,null,null,{"$f":"IFERROR(VLOOKUP(ROWS($AJ$2:AJ1558),O1558:Q3461,3,0),\"\")","v":""},null,{"$f":"IFERROR(VLOOKUP(ROWS(AL$2:$AL1558),N1558:Q3461,4,0),\"\")","v":""}]
[null,null,null,null,null,null,null,null,null,null,null,null,null,{"$f":"IF(ISNUMBER(SEARCH($H$16,Q1559)),MAX($N$1:N1558)+1,0)","v":0},{"$f":"IF(ISNUMBER(SEARCH($H$11,Q1559)),MAX($O$1:O1558)+1,0)","v":0},{"$f":"IF(ISNUMBER(SEARCH($H$6,Q1559)),MAX($P$1:P1558)+1,0)","v":0},"lic nomura ulis 10yrs sing premium rp","MJB418","Equity Oriented Hybrid Speciality Funds",null,null,null,null,null,null,null,null,null,null,null,{"$f":"IFERROR(VLOOKUP(ROWS($AE$2:AE1559),P1559:Q3462,2,0),\"\")","v":""},null,null,null,null,{"$f":"IFERROR(VLOOKUP(ROWS($AJ$2:AJ1559),O1559:Q3462,3,0),\"\")","v":""},null,{"$f":"IFERROR(VLOOKUP(ROWS(AL$2:$AL1559),N1559:Q3462,4,0),\"\")","v":""}]
[null,null,null,null,null,null,null,null,null,null,null,null,null,{"$f":"IF(ISNUMBER(SEARCH($H$16,Q1560)),MAX($N$1:N1559)+1,0)","v":0},{"$f":"IF(ISNUMBER(SEARCH($H$11,Q1560)),MAX($O$1:O1559)+1,0)","v":0},{"$f":"IF(ISNUMBER(SEARCH($H$6,Q1560)),MAX($P$1:P1559)+1,0)","v":0},"lic nomura ulis 10yrs reg puc yearly rp","MJB417","Equity Oriented Hybrid Speciality Funds",null,null,null,null,null,null,null,null,null,null,null,{"$f":"IFERROR(VLOOKUP(ROWS($AE$2:AE1560),P1560:Q3463,2,0),\"\")","v":""},null,null,null,null,{"$f":"IFERROR(VLOOKUP(ROWS($AJ$2:AJ1560),O1560:Q3463,3,0),\"\")","v":""},null,{"$f":"IFERROR(VLOOKUP(ROWS(AL$2:$AL1560),N1560:Q3463,4,0),\"\")","v":""}]
[null,null,null,null,null,null,null,null,null,null,null,null,null,{"$f":"IF(ISNUMBER(SEARCH($H$16,Q1561)),MAX($N$1:N1560)+1,0)","v":0},{"$f":"IF(ISNUMBER(SEARCH($H$11,Q1561)),MAX($O$1:O1560)+1,0)","v":0},{"$f":"IF(ISNUMBER(SEARCH($H$6,Q1561)),MAX($P$1:P1560)+1,0)","v":0},"reliance rf wealth creation","MRC1789","Equity Oriented Hybrid Speciality Funds",null,null,null,null,null,null,null,null,null,null,null,{"$f":"IFERROR(VLOOKUP(ROWS($AE$2:AE1561),P1561:Q3464,2,0),\"\")","v":""},null,null,null,null,{"$f":"IFERROR(VLOOKUP(ROWS($AJ$2:AJ1561),O1561:Q3464,3,0),\"\")","v":""},null,{"$f":"IFERROR(VLOOKUP(ROWS(AL$2:$AL1561),N1561:Q3464,4,0),\"\")","v":""}]
[null,null,null,null,null,null,null,null,null,null,null,null,null,{"$f":"IF(ISNUMBER(SEARCH($H$16,Q1562)),MAX($N$1:N1561)+1,0)","v":0},{"$f":"IF(ISNUMBER(SEARCH($H$11,Q1562)),MAX($O$1:O1561)+1,0)","v":0},{"$f":"IF(ISNUMBER(SEARCH($H$6,Q1562)),MAX($P$1:P1561)+1,0)","v":0},null,null,null,null,null,null,null,null,null,null,null,null,null,null,{"$f":"IFERROR(VLOOKUP(ROWS($AE$2:AE1562),P1562:Q3465,2,0),\"\")","v":""},null,null,null,null,{"$f":"IFERROR(VLOOKUP(ROWS($AJ$2:AJ1562),O1562:Q3465,3,0),\"\")","v":""},null,{"$f":"IFERROR(VLOOKUP(ROWS(AL$2:$AL1562),N1562:Q3465,4,0),\"\")","v":""}]
[null,null,null,null,null,null,null,null,null,null,null,null,null,{"$f":"IF(ISNUMBER(SEARCH($H$16,Q1563)),MAX($N$1:N1562)+1,0)","v":0},{"$f":"IF(ISNUMBER(SEARCH($H$11,Q1563)),MAX($O$1:O1562)+1,0)","v":0},{"$f":"IF(ISNUMBER(SEARCH($H$6,Q1563)),MAX($P$1:P1562)+1,0)","v":0},null,null,null,null,null,null,null,null,null,null,null,null,null,null,{"$f":"IFERROR(VLOOKUP(ROWS($AE$2:AE1563),P1563:Q3466,2,0),\"\")","v":""},null,null,null,null,{"$f":"IFERROR(VLOOKUP(ROWS($AJ$2:AJ1563),O1563:Q3466,3,0),\"\")","v":""},null,{"$f":"IFERROR(VLOOKUP(ROWS(AL$2:$AL1563),N1563:Q3466,4,0),\"\")","v":""}]
[null,null,null,null,null,null,null,null,null,null,null,null,null,{"$f":"IF(ISNUMBER(SEARCH($H$16,Q1564)),MAX($N$1:N1563)+1,0)","v":0},{"$f":"IF(ISNUMBER(SEARCH($H$11,Q1564)),MAX($O$1:O1563)+1,0)","v":0},{"$f":"IF(ISNUMBER(SEARCH($H$6,Q1564)),MAX($P$1:P1563)+1,0)","v":0},null,null,null,null,null,null,null,null,null,null,null,null,null,null,{"$f":"IFERROR(VLOOKUP(ROWS($AE$2:AE1564),P1564:Q3467,2,0),\"\")","v":""},null,null,null,null,{"$f":"IFERROR(VLOOKUP(ROWS($AJ$2:AJ1564),O1564:Q3467,3,0),\"\")","v":""},null,{"$f":"IFERROR(VLOOKUP(ROWS(AL$2:$AL1564),N1564:Q3467,4,0),\"\")","v":""}]
[null,null,null,null,null,null,null,null,null,null,null,null,null,{"$f":"IF(ISNUMBER(SEARCH($H$16,Q1565)),MAX($N$1:N1564)+1,0)","v":0},{"$f":"IF(ISNUMBER(SEARCH($H$11,Q1565)),MAX($O$1:O1564)+1,0)","v":0},{"$f":"IF(ISNUMBER(SEARCH($H$6,Q1565)),MAX($P$1:P1564)+1,0)","v":0},null,null,null,null,null,null,null,null,null,null,null,null,null,null,{"$f":"IFERROR(VLOOKUP(ROWS($AE$2:AE1565),P1565:Q3468,2,0),\"\")","v":""},null,null,null,null,{"$f":"IFERROR(VLOOKUP(ROWS($AJ$2:AJ1565),O1565:Q3468,3,0),\"\")","v":""},null,{"$f":"IFERROR(VLOOKUP(ROWS(AL$2:$AL1565),N1565:Q3468,4,0),\"\")","v":""}]
[null,null,null,null,null,null,null,null,null,null,null,null,null,{"$f":"IF(ISNUMBER(SEARCH($H$16,Q1566)),MAX($N$1:N1565)+1,0)","v":0},{"$f":"IF(ISNUMBER(SEARCH($H$11,Q1566)),MAX($O$1:O1565)+1,0)","v":0},{"$f":"IF(ISNUMBER(SEARCH($H$6,Q1566)),MAX($P$1:P1565)+1,0)","v":0},null,null,null,null,null,null,null,null,null,null,null,null,null,null,{"$f":"IFERROR(VLOOKUP(ROWS($AE$2:AE1566),P1566:Q3469,2,0),\"\")","v":""},null,null,null,null,{"$f":"IFERROR(VLOOKUP(ROWS($AJ$2:AJ1566),O1566:Q3469,3,0),\"\")","v":""},null,{"$f":"IFERROR(VLOOKUP(ROWS(AL$2:$AL1566),N1566:Q3469,4,0),\"\")","v":""}]
[null,null,null,null,null,null,null,null,null,null,null,null,null,{"$f":"IF(ISNUMBER(SEARCH($H$16,Q1567)),MAX($N$1:N1566)+1,0)","v":0},{"$f":"IF(ISNUMBER(SEARCH($H$11,Q1567)),MAX($O$1:O1566)+1,0)","v":0},{"$f":"IF(ISNUMBER(SEARCH($H$6,Q1567)),MAX($P$1:P1566)+1,0)","v":0},null,null,null,null,null,null,null,null,null,null,null,null,null,null,{"$f":"IFERROR(VLOOKUP(ROWS($AE$2:AE1567),P1567:Q3470,2,0),\"\")","v":""},null,null,null,null,{"$f":"IFERROR(VLOOKUP(ROWS($AJ$2:AJ1567),O1567:Q3470,3,0),\"\")","v":""},null,{"$f":"IFERROR(VLOOKUP(ROWS(AL$2:$AL1567),N1567:Q3470,4,0),\"\")","v":""}]
[null,null,null,null,null,null,null,null,null,null,null,null,null,{"$f":"IF(ISNUMBER(SEARCH($H$16,Q1568)),MAX($N$1:N1567)+1,0)","v":0},{"$f":"IF(ISNUMBER(SEARCH($H$11,Q1568)),MAX($O$1:O1567)+1,0)","v":0},{"$f":"IF(ISNUMBER(SEARCH($H$6,Q1568)),MAX($P$1:P1567)+1,0)","v":0},null,null,null,null,null,null,null,null,null,null,null,null,null,null,{"$f":"IFERROR(VLOOKUP(ROWS($AE$2:AE1568),P1568:Q3471,2,0),\"\")","v":""},null,null,null,null,{"$f":"IFERROR(VLOOKUP(ROWS($AJ$2:AJ1568),O1568:Q3471,3,0),\"\")","v":""},null,{"$f":"IFERROR(VLOOKUP(ROWS(AL$2:$AL1568),N1568:Q3471,4,0),\"\")","v":""}]
[null,null,null,null,null,null,null,null,null,null,null,null,null,{"$f":"IF(ISNUMBER(SEARCH($H$16,Q1569)),MAX($N$1:N1568)+1,0)","v":0},{"$f":"IF(ISNUMBER(SEARCH($H$11,Q1569)),MAX($O$1:O1568)+1,0)","v":0},{"$f":"IF(ISNUMBER(SEARCH($H$6,Q1569)),MAX($P$1:P1568)+1,0)","v":0},null,null,null,null,null,null,null,null,null,null,null,null,null,null,{"$f":"IFERROR(VLOOKUP(ROWS($AE$2:AE1569),P1569:Q3472,2,0),\"\")","v":""},null,null,null,null,{"$f":"IFERROR(VLOOKUP(ROWS($AJ$2:AJ1569),O1569:Q3472,3,0),\"\")","v":""},null,{"$f":"IFERROR(VLOOKUP(ROWS(AL$2:$AL1569),N1569:Q3472,4,0),\"\")","v":""}]
[null,null,null,null,null,null,null,null,null,null,null,null,null,{"$f":"IF(ISNUMBER(SEARCH($H$16,Q1570)),MAX($N$1:N1569)+1,0)","v":0},{"$f":"IF(ISNUMBER(SEARCH($H$11,Q1570)),MAX($O$1:O1569)+1,0)","v":0},{"$f":"IF(ISNUMBER(SEARCH($H$6,Q1570)),MAX($P$1:P1569)+1,0)","v":0},null,null,null,null,null,null,null,null,null,null,null,null,null,null,{"$f":"IFERROR(VLOOKUP(ROWS($AE$2:AE1570),P1570:Q3473,2,0),\"\")","v":""},null,null,null,null,{"$f":"IFERROR(VLOOKUP(ROWS($AJ$2:AJ1570),O1570:Q3473,3,0),\"\")","v":""},null,{"$f":"IFERROR(VLOOKUP(ROWS(AL$2:$AL1570),N1570:Q3473,4,0),\"\")","v":""}]
[null,null,null,null,null,null,null,null,null,null,null,null,null,{"$f":"IF(ISNUMBER(SEARCH($H$16,Q1571)),MAX($N$1:N1570)+1,0)","v":0},{"$f":"IF(ISNUMBER(SEARCH($H$11,Q1571)),MAX($O$1:O1570)+1,0)","v":0},{"$f":"IF(ISNUMBER(SEARCH($H$6,Q1571)),MAX($P$1:P1570)+1,0)","v":0},null,null,null,null,null,null,null,null,null,null,null,null,null,null,{"$f":"IFERROR(VLOOKUP(ROWS($AE$2:AE1571),P1571:Q3474,2,0),\"\")","v":""},null,null,null,null,{"$f":"IFERROR(VLOOKUP(ROWS($AJ$2:AJ1571),O1571:Q3474,3,0),\"\")","v":""},null,{"$f":"IFERROR(VLOOKUP(ROWS(AL$2:$AL1571),N1571:Q3474,4,0),\"\")","v":""}]
[null,null,null,null,null,null,null,null,null,null,null,null,null,{"$f":"IF(ISNUMBER(SEARCH($H$16,Q1572)),MAX($N$1:N1571)+1,0)","v":0},{"$f":"IF(ISNUMBER(SEARCH($H$11,Q1572)),MAX($O$1:O1571)+1,0)","v":0},{"$f":"IF(ISNUMBER(SEARCH($H$6,Q1572)),MAX($P$1:P1571)+1,0)","v":0},null,null,null,null,null,null,null,null,null,null,null,null,null,null,{"$f":"IFERROR(VLOOKUP(ROWS($AE$2:AE1572),P1572:Q3475,2,0),\"\")","v":""},null,null,null,null,{"$f":"IFERROR(VLOOKUP(ROWS($AJ$2:AJ1572),O1572:Q3475,3,0),\"\")","v":""},null,{"$f":"IFERROR(VLOOKUP(ROWS(AL$2:$AL1572),N1572:Q3475,4,0),\"\")","v":""}]
[null,null,null,null,null,null,null,null,null,null,null,null,null,{"$f":"IF(ISNUMBER(SEARCH($H$16,Q1573)),MAX($N$1:N1572)+1,0)","v":0},{"$f":"IF(ISNUMBER(SEARCH($H$11,Q1573)),MAX($O$1:O1572)+1,0)","v":0},{"$f":"IF(ISNUMBER(SEARCH($H$6,Q1573)),MAX($P$1:P1572)+1,0)","v":0},null,null,null,null,null,null,null,null,null,null,null,null,null,null,{"$f":"IFERROR(VLOOKUP(ROWS($AE$2:AE1573),P1573:Q3476,2,0),\"\")","v":""},null,null,null,null,{"$f":"IFERROR(VLOOKUP(ROWS($AJ$2:AJ1573),O1573:Q3476,3,0),\"\")","v":""},null,{"$f":"IFERROR(VLOOKUP(ROWS(AL$2:$AL1573),N1573:Q3476,4,0),\"\")","v":""}]
[null,null,null,null,null,null,null,null,null,null,null,null,null,{"$f":"IF(ISNUMBER(SEARCH($H$16,Q1574)),MAX($N$1:N1573)+1,0)","v":0},{"$f":"IF(ISNUMBER(SEARCH($H$11,Q1574)),MAX($O$1:O1573)+1,0)","v":0},{"$f":"IF(ISNUMBER(SEARCH($H$6,Q1574)),MAX($P$1:P1573)+1,0)","v":0},null,null,null,null,null,null,null,null,null,null,null,null,null,null,{"$f":"IFERROR(VLOOKUP(ROWS($AE$2:AE1574),P1574:Q3477,2,0),\"\")","v":""},null,null,null,null,{"$f":"IFERROR(VLOOKUP(ROWS($AJ$2:AJ1574),O1574:Q3477,3,0),\"\")","v":""},null,{"$f":"IFERROR(VLOOKUP(ROWS(AL$2:$AL1574),N1574:Q3477,4,0),\"\")","v":""}]
[null,null,null,null,null,null,null,null,null,null,null,null,null,{"$f":"IF(ISNUMBER(SEARCH($H$16,Q1575)),MAX($N$1:N1574)+1,0)","v":0},{"$f":"IF(ISNUMBER(SEARCH($H$11,Q1575)),MAX($O$1:O1574)+1,0)","v":0},{"$f":"IF(ISNUMBER(SEARCH($H$6,Q1575)),MAX($P$1:P1574)+1,0)","v":0},null,null,null,null,null,null,null,null,null,null,null,null,null,null,{"$f":"IFERROR(VLOOKUP(ROWS($AE$2:AE1575),P1575:Q3478,2,0),\"\")","v":""},null,null,null,null,{"$f":"IFERROR(VLOOKUP(ROWS($AJ$2:AJ1575),O1575:Q3478,3,0),\"\")","v":""},null,{"$f":"IFERROR(VLOOKUP(ROWS(AL$2:$AL1575),N1575:Q3478,4,0),\"\")","v":""}]
[null,null,null,null,null,null,null,null,null,null,null,null,null,{"$f":"IF(ISNUMBER(SEARCH($H$16,Q1576)),MAX($N$1:N1575)+1,0)","v":0},{"$f":"IF(ISNUMBER(SEARCH($H$11,Q1576)),MAX($O$1:O1575)+1,0)","v":0},{"$f":"IF(ISNUMBER(SEARCH($H$6,Q1576)),MAX($P$1:P1575)+1,0)","v":0},null,null,null,null,null,null,null,null,null,null,null,null,null,null,{"$f":"IFERROR(VLOOKUP(ROWS($AE$2:AE1576),P1576:Q3479,2,0),\"\")","v":""},null,null,null,null,{"$f":"IFERROR(VLOOKUP(ROWS($AJ$2:AJ1576),O1576:Q3479,3,0),\"\")","v":""},null,{"$f":"IFERROR(VLOOKUP(ROWS(AL$2:$AL1576),N1576:Q3479,4,0),\"\")","v":""}]
[null,null,null,null,null,null,null,null,null,null,null,null,null,{"$f":"IF(ISNUMBER(SEARCH($H$16,Q1577)),MAX($N$1:N1576)+1,0)","v":0},{"$f":"IF(ISNUMBER(SEARCH($H$11,Q1577)),MAX($O$1:O1576)+1,0)","v":0},{"$f":"IF(ISNUMBER(SEARCH($H$6,Q1577)),MAX($P$1:P1576)+1,0)","v":0},null,null,null,null,null,null,null,null,null,null,null,null,null,null,{"$f":"IFERROR(VLOOKUP(ROWS($AE$2:AE1577),P1577:Q3480,2,0),\"\")","v":""},null,null,null,null,{"$f":"IFERROR(VLOOKUP(ROWS($AJ$2:AJ1577),O1577:Q3480,3,0),\"\")","v":""},null,{"$f":"IFERROR(VLOOKUP(ROWS(AL$2:$AL1577),N1577:Q3480,4,0),\"\")","v":""}]
[null,null,null,null,null,null,null,null,null,null,null,null,null,{"$f":"IF(ISNUMBER(SEARCH($H$16,Q1578)),MAX($N$1:N1577)+1,0)","v":0},{"$f":"IF(ISNUMBER(SEARCH($H$11,Q1578)),MAX($O$1:O1577)+1,0)","v":0},{"$f":"IF(ISNUMBER(SEARCH($H$6,Q1578)),MAX($P$1:P1577)+1,0)","v":0},null,null,null,null,null,null,null,null,null,null,null,null,null,null,{"$f":"IFERROR(VLOOKUP(ROWS($AE$2:AE1578),P1578:Q3481,2,0),\"\")","v":""},null,null,null,null,{"$f":"IFERROR(VLOOKUP(ROWS($AJ$2:AJ1578),O1578:Q3481,3,0),\"\")","v":""},null,{"$f":"IFERROR(VLOOKUP(ROWS(AL$2:$AL1578),N1578:Q3481,4,0),\"\")","v":""}]
[null,null,null,null,null,null,null,null,null,null,null,null,null,{"$f":"IF(ISNUMBER(SEARCH($H$16,Q1579)),MAX($N$1:N1578)+1,0)","v":0},{"$f":"IF(ISNUMBER(SEARCH($H$11,Q1579)),MAX($O$1:O1578)+1,0)","v":0},{"$f":"IF(ISNUMBER(SEARCH($H$6,Q1579)),MAX($P$1:P1578)+1,0)","v":0},null,null,null,null,null,null,null,null,null,null,null,null,null,null,{"$f":"IFERROR(VLOOKUP(ROWS($AE$2:AE1579),P1579:Q3482,2,0),\"\")","v":""},null,null,null,null,{"$f":"IFERROR(VLOOKUP(ROWS($AJ$2:AJ1579),O1579:Q3482,3,0),\"\")","v":""},null,{"$f":"IFERROR(VLOOKUP(ROWS(AL$2:$AL1579),N1579:Q3482,4,0),\"\")","v":""}]
[null,null,null,null,null,null,null,null,null,null,null,null,null,{"$f":"IF(ISNUMBER(SEARCH($H$16,Q1580)),MAX($N$1:N1579)+1,0)","v":0},{"$f":"IF(ISNUMBER(SEARCH($H$11,Q1580)),MAX($O$1:O1579)+1,0)","v":0},{"$f":"IF(ISNUMBER(SEARCH($H$6,Q1580)),MAX($P$1:P1579)+1,0)","v":0},null,null,null,null,null,null,null,null,null,null,null,null,null,null,{"$f":"IFERROR(VLOOKUP(ROWS($AE$2:AE1580),P1580:Q3483,2,0),\"\")","v":""},null,null,null,null,{"$f":"IFERROR(VLOOKUP(ROWS($AJ$2:AJ1580),O1580:Q3483,3,0),\"\")","v":""},null,{"$f":"IFERROR(VLOOKUP(ROWS(AL$2:$AL1580),N1580:Q3483,4,0),\"\")","v":""}]
[null,null,null,null,null,null,null,null,null,null,null,null,null,{"$f":"IF(ISNUMBER(SEARCH($H$16,Q1581)),MAX($N$1:N1580)+1,0)","v":0},{"$f":"IF(ISNUMBER(SEARCH($H$11,Q1581)),MAX($O$1:O1580)+1,0)","v":0},{"$f":"IF(ISNUMBER(SEARCH($H$6,Q1581)),MAX($P$1:P1580)+1,0)","v":0},null,null,null,null,null,null,null,null,null,null,null,null,null,null,{"$f":"IFERROR(VLOOKUP(ROWS($AE$2:AE1581),P1581:Q3484,2,0),\"\")","v":""},null,null,null,null,{"$f":"IFERROR(VLOOKUP(ROWS($AJ$2:AJ1581),O1581:Q3484,3,0),\"\")","v":""},null,{"$f":"IFERROR(VLOOKUP(ROWS(AL$2:$AL1581),N1581:Q3484,4,0),\"\")","v":""}]
[null,null,null,null,null,null,null,null,null,null,null,null,null,{"$f":"IF(ISNUMBER(SEARCH($H$16,Q1582)),MAX($N$1:N1581)+1,0)","v":0},{"$f":"IF(ISNUMBER(SEARCH($H$11,Q1582)),MAX($O$1:O1581)+1,0)","v":0},{"$f":"IF(ISNUMBER(SEARCH($H$6,Q1582)),MAX($P$1:P1581)+1,0)","v":0},null,null,null,null,null,null,null,null,null,null,null,null,null,null,{"$f":"IFERROR(VLOOKUP(ROWS($AE$2:AE1582),P1582:Q3485,2,0),\"\")","v":""},null,null,null,null,{"$f":"IFERROR(VLOOKUP(ROWS($AJ$2:AJ1582),O1582:Q3485,3,0),\"\")","v":""},null,{"$f":"IFERROR(VLOOKUP(ROWS(AL$2:$AL1582),N1582:Q3485,4,0),\"\")","v":""}]
[null,null,null,null,null,null,null,null,null,null,null,null,null,{"$f":"IF(ISNUMBER(SEARCH($H$16,Q1583)),MAX($N$1:N1582)+1,0)","v":0},{"$f":"IF(ISNUMBER(SEARCH($H$11,Q1583)),MAX($O$1:O1582)+1,0)","v":0},{"$f":"IF(ISNUMBER(SEARCH($H$6,Q1583)),MAX($P$1:P1582)+1,0)","v":0},null,null,null,null,null,null,null,null,null,null,null,null,null,null,{"$f":"IFERROR(VLOOKUP(ROWS($AE$2:AE1583),P1583:Q3486,2,0),\"\")","v":""},null,null,null,null,{"$f":"IFERROR(VLOOKUP(ROWS($AJ$2:AJ1583),O1583:Q3486,3,0),\"\")","v":""},null,{"$f":"IFERROR(VLOOKUP(ROWS(AL$2:$AL1583),N1583:Q3486,4,0),\"\")","v":""}]
[null,null,null,null,null,null,null,null,null,null,null,null,null,{"$f":"IF(ISNUMBER(SEARCH($H$16,Q1584)),MAX($N$1:N1583)+1,0)","v":0},{"$f":"IF(ISNUMBER(SEARCH($H$11,Q1584)),MAX($O$1:O1583)+1,0)","v":0},{"$f":"IF(ISNUMBER(SEARCH($H$6,Q1584)),MAX($P$1:P1583)+1,0)","v":0},null,null,null,null,null,null,null,null,null,null,null,null,null,null,{"$f":"IFERROR(VLOOKUP(ROWS($AE$2:AE1584),P1584:Q3487,2,0),\"\")","v":""},null,null,null,null,{"$f":"IFERROR(VLOOKUP(ROWS($AJ$2:AJ1584),O1584:Q3487,3,0),\"\")","v":""},null,{"$f":"IFERROR(VLOOKUP(ROWS(AL$2:$AL1584),N1584:Q3487,4,0),\"\")","v":""}]
[null,null,null,null,null,null,null,null,null,null,null,null,null,{"$f":"IF(ISNUMBER(SEARCH($H$16,Q1585)),MAX($N$1:N1584)+1,0)","v":0},{"$f":"IF(ISNUMBER(SEARCH($H$11,Q1585)),MAX($O$1:O1584)+1,0)","v":0},{"$f":"IF(ISNUMBER(SEARCH($H$6,Q1585)),MAX($P$1:P1584)+1,0)","v":0},null,null,null,null,null,null,null,null,null,null,null,null,null,null,{"$f":"IFERROR(VLOOKUP(ROWS($AE$2:AE1585),P1585:Q3488,2,0),\"\")","v":""},null,null,null,null,{"$f":"IFERROR(VLOOKUP(ROWS($AJ$2:AJ1585),O1585:Q3488,3,0),\"\")","v":""},null,{"$f":"IFERROR(VLOOKUP(ROWS(AL$2:$AL1585),N1585:Q3488,4,0),\"\")","v":""}]
[null,null,null,null,null,null,null,null,null,null,null,null,null,{"$f":"IF(ISNUMBER(SEARCH($H$16,Q1586)),MAX($N$1:N1585)+1,0)","v":0},{"$f":"IF(ISNUMBER(SEARCH($H$11,Q1586)),MAX($O$1:O1585)+1,0)","v":0},{"$f":"IF(ISNUMBER(SEARCH($H$6,Q1586)),MAX($P$1:P1585)+1,0)","v":0},null,null,null,null,null,null,null,null,null,null,null,null,null,null,{"$f":"IFERROR(VLOOKUP(ROWS($AE$2:AE1586),P1586:Q3489,2,0),\"\")","v":""},null,null,null,null,{"$f":"IFERROR(VLOOKUP(ROWS($AJ$2:AJ1586),O1586:Q3489,3,0),\"\")","v":""},null,{"$f":"IFERROR(VLOOKUP(ROWS(AL$2:$AL1586),N1586:Q3489,4,0),\"\")","v":""}]
[null,null,null,null,null,null,null,null,null,null,null,null,null,{"$f":"IF(ISNUMBER(SEARCH($H$16,Q1587)),MAX($N$1:N1586)+1,0)","v":0},{"$f":"IF(ISNUMBER(SEARCH($H$11,Q1587)),MAX($O$1:O1586)+1,0)","v":0},{"$f":"IF(ISNUMBER(SEARCH($H$6,Q1587)),MAX($P$1:P1586)+1,0)","v":0},null,null,null,null,null,null,null,null,null,null,null,null,null,null,{"$f":"IFERROR(VLOOKUP(ROWS($AE$2:AE1587),P1587:Q3490,2,0),\"\")","v":""},null,null,null,null,{"$f":"IFERROR(VLOOKUP(ROWS($AJ$2:AJ1587),O1587:Q3490,3,0),\"\")","v":""},null,{"$f":"IFERROR(VLOOKUP(ROWS(AL$2:$AL1587),N1587:Q3490,4,0),\"\")","v":""}]
[null,null,null,null,null,null,null,null,null,null,null,null,null,{"$f":"IF(ISNUMBER(SEARCH($H$16,Q1588)),MAX($N$1:N1587)+1,0)","v":0},{"$f":"IF(ISNUMBER(SEARCH($H$11,Q1588)),MAX($O$1:O1587)+1,0)","v":0},{"$f":"IF(ISNUMBER(SEARCH($H$6,Q1588)),MAX($P$1:P1587)+1,0)","v":0},null,null,null,null,null,null,null,null,null,null,null,null,null,null,{"$f":"IFERROR(VLOOKUP(ROWS($AE$2:AE1588),P1588:Q3491,2,0),\"\")","v":""},null,null,null,null,{"$f":"IFERROR(VLOOKUP(ROWS($AJ$2:AJ1588),O1588:Q3491,3,0),\"\")","v":""},null,{"$f":"IFERROR(VLOOKUP(ROWS(AL$2:$AL1588),N1588:Q3491,4,0),\"\")","v":""}]
[null,null,null,null,null,null,null,null,null,null,null,null,null,{"$f":"IF(ISNUMBER(SEARCH($H$16,Q1589)),MAX($N$1:N1588)+1,0)","v":0},{"$f":"IF(ISNUMBER(SEARCH($H$11,Q1589)),MAX($O$1:O1588)+1,0)","v":0},{"$f":"IF(ISNUMBER(SEARCH($H$6,Q1589)),MAX($P$1:P1588)+1,0)","v":0},null,null,null,null,null,null,null,null,null,null,null,null,null,null,{"$f":"IFERROR(VLOOKUP(ROWS($AE$2:AE1589),P1589:Q3492,2,0),\"\")","v":""},null,null,null,null,{"$f":"IFERROR(VLOOKUP(ROWS($AJ$2:AJ1589),O1589:Q3492,3,0),\"\")","v":""},null,{"$f":"IFERROR(VLOOKUP(ROWS(AL$2:$AL1589),N1589:Q3492,4,0),\"\")","v":""}]
[null,null,null,null,null,null,null,null,null,null,null,null,null,{"$f":"IF(ISNUMBER(SEARCH($H$16,Q1590)),MAX($N$1:N1589)+1,0)","v":0},{"$f":"IF(ISNUMBER(SEARCH($H$11,Q1590)),MAX($O$1:O1589)+1,0)","v":0},{"$f":"IF(ISNUMBER(SEARCH($H$6,Q1590)),MAX($P$1:P1589)+1,0)","v":0},null,null,null,null,null,null,null,null,null,null,null,null,null,null,{"$f":"IFERROR(VLOOKUP(ROWS($AE$2:AE1590),P1590:Q3493,2,0),\"\")","v":""},null,null,null,null,{"$f":"IFERROR(VLOOKUP(ROWS($AJ$2:AJ1590),O1590:Q3493,3,0),\"\")","v":""},null,{"$f":"IFERROR(VLOOKUP(ROWS(AL$2:$AL1590),N1590:Q3493,4,0),\"\")","v":""}]
[null,null,null,null,null,null,null,null,null,null,null,null,null,{"$f":"IF(ISNUMBER(SEARCH($H$16,Q1591)),MAX($N$1:N1590)+1,0)","v":0},{"$f":"IF(ISNUMBER(SEARCH($H$11,Q1591)),MAX($O$1:O1590)+1,0)","v":0},{"$f":"IF(ISNUMBER(SEARCH($H$6,Q1591)),MAX($P$1:P1590)+1,0)","v":0},null,null,null,null,null,null,null,null,null,null,null,null,null,null,{"$f":"IFERROR(VLOOKUP(ROWS($AE$2:AE1591),P1591:Q3494,2,0),\"\")","v":""},null,null,null,null,{"$f":"IFERROR(VLOOKUP(ROWS($AJ$2:AJ1591),O1591:Q3494,3,0),\"\")","v":""},null,{"$f":"IFERROR(VLOOKUP(ROWS(AL$2:$AL1591),N1591:Q3494,4,0),\"\")","v":""}]
[null,null,null,null,null,null,null,null,null,null,null,null,null,{"$f":"IF(ISNUMBER(SEARCH($H$16,Q1592)),MAX($N$1:N1591)+1,0)","v":0},{"$f":"IF(ISNUMBER(SEARCH($H$11,Q1592)),MAX($O$1:O1591)+1,0)","v":0},{"$f":"IF(ISNUMBER(SEARCH($H$6,Q1592)),MAX($P$1:P1591)+1,0)","v":0},null,null,null,null,null,null,null,null,null,null,null,null,null,null,{"$f":"IFERROR(VLOOKUP(ROWS($AE$2:AE1592),P1592:Q3495,2,0),\"\")","v":""},null,null,null,null,{"$f":"IFERROR(VLOOKUP(ROWS($AJ$2:AJ1592),O1592:Q3495,3,0),\"\")","v":""},null,{"$f":"IFERROR(VLOOKUP(ROWS(AL$2:$AL1592),N1592:Q3495,4,0),\"\")","v":""}]
[null,null,null,null,null,null,null,null,null,null,null,null,null,{"$f":"IF(ISNUMBER(SEARCH($H$16,Q1593)),MAX($N$1:N1592)+1,0)","v":0},{"$f":"IF(ISNUMBER(SEARCH($H$11,Q1593)),MAX($O$1:O1592)+1,0)","v":0},{"$f":"IF(ISNUMBER(SEARCH($H$6,Q1593)),MAX($P$1:P1592)+1,0)","v":0},null,null,null,null,null,null,null,null,null,null,null,null,null,null,{"$f":"IFERROR(VLOOKUP(ROWS($AE$2:AE1593),P1593:Q3496,2,0),\"\")","v":""},null,null,null,null,{"$f":"IFERROR(VLOOKUP(ROWS($AJ$2:AJ1593),O1593:Q3496,3,0),\"\")","v":""},null,{"$f":"IFERROR(VLOOKUP(ROWS(AL$2:$AL1593),N1593:Q3496,4,0),\"\")","v":""}]
[null,null,null,null,null,null,null,null,null,null,null,null,null,{"$f":"IF(ISNUMBER(SEARCH($H$16,Q1594)),MAX($N$1:N1593)+1,0)","v":0},{"$f":"IF(ISNUMBER(SEARCH($H$11,Q1594)),MAX($O$1:O1593)+1,0)","v":0},{"$f":"IF(ISNUMBER(SEARCH($H$6,Q1594)),MAX($P$1:P1593)+1,0)","v":0},null,null,null,null,null,null,null,null,null,null,null,null,null,null,{"$f":"IFERROR(VLOOKUP(ROWS($AE$2:AE1594),P1594:Q3497,2,0),\"\")","v":""},null,null,null,null,{"$f":"IFERROR(VLOOKUP(ROWS($AJ$2:AJ1594),O1594:Q3497,3,0),\"\")","v":""},null,{"$f":"IFERROR(VLOOKUP(ROWS(AL$2:$AL1594),N1594:Q3497,4,0),\"\")","v":""}]
[null,null,null,null,null,null,null,null,null,null,null,null,null,{"$f":"IF(ISNUMBER(SEARCH($H$16,Q1595)),MAX($N$1:N1594)+1,0)","v":0},{"$f":"IF(ISNUMBER(SEARCH($H$11,Q1595)),MAX($O$1:O1594)+1,0)","v":0},{"$f":"IF(ISNUMBER(SEARCH($H$6,Q1595)),MAX($P$1:P1594)+1,0)","v":0},null,null,null,null,null,null,null,null,null,null,null,null,null,null,{"$f":"IFERROR(VLOOKUP(ROWS($AE$2:AE1595),P1595:Q3498,2,0),\"\")","v":""},null,null,null,null,{"$f":"IFERROR(VLOOKUP(ROWS($AJ$2:AJ1595),O1595:Q3498,3,0),\"\")","v":""},null,{"$f":"IFERROR(VLOOKUP(ROWS(AL$2:$AL1595),N1595:Q3498,4,0),\"\")","v":""}]
[null,null,null,null,null,null,null,null,null,null,null,null,null,{"$f":"IF(ISNUMBER(SEARCH($H$16,Q1596)),MAX($N$1:N1595)+1,0)","v":0},{"$f":"IF(ISNUMBER(SEARCH($H$11,Q1596)),MAX($O$1:O1595)+1,0)","v":0},{"$f":"IF(ISNUMBER(SEARCH($H$6,Q1596)),MAX($P$1:P1595)+1,0)","v":0},null,null,null,null,null,null,null,null,null,null,null,null,null,null,{"$f":"IFERROR(VLOOKUP(ROWS($AE$2:AE1596),P1596:Q3499,2,0),\"\")","v":""},null,null,null,null,{"$f":"IFERROR(VLOOKUP(ROWS($AJ$2:AJ1596),O1596:Q3499,3,0),\"\")","v":""},null,{"$f":"IFERROR(VLOOKUP(ROWS(AL$2:$AL1596),N1596:Q3499,4,0),\"\")","v":""}]
[null,null,null,null,null,null,null,null,null,null,null,null,null,{"$f":"IF(ISNUMBER(SEARCH($H$16,Q1597)),MAX($N$1:N1596)+1,0)","v":0},{"$f":"IF(ISNUMBER(SEARCH($H$11,Q1597)),MAX($O$1:O1596)+1,0)","v":0},{"$f":"IF(ISNUMBER(SEARCH($H$6,Q1597)),MAX($P$1:P1596)+1,0)","v":0},null,null,null,null,null,null,null,null,null,null,null,null,null,null,{"$f":"IFERROR(VLOOKUP(ROWS($AE$2:AE1597),P1597:Q3500,2,0),\"\")","v":""},null,null,null,null,{"$f":"IFERROR(VLOOKUP(ROWS($AJ$2:AJ1597),O1597:Q3500,3,0),\"\")","v":""},null,{"$f":"IFERROR(VLOOKUP(ROWS(AL$2:$AL1597),N1597:Q3500,4,0),\"\")","v":""}]
[null,null,null,null,null,null,null,null,null,null,null,null,null,{"$f":"IF(ISNUMBER(SEARCH($H$16,Q1598)),MAX($N$1:N1597)+1,0)","v":0},{"$f":"IF(ISNUMBER(SEARCH($H$11,Q1598)),MAX($O$1:O1597)+1,0)","v":0},{"$f":"IF(ISNUMBER(SEARCH($H$6,Q1598)),MAX($P$1:P1597)+1,0)","v":0},null,null,null,null,null,null,null,null,null,null,null,null,null,null,{"$f":"IFERROR(VLOOKUP(ROWS($AE$2:AE1598),P1598:Q3501,2,0),\"\")","v":""},null,null,null,null,{"$f":"IFERROR(VLOOKUP(ROWS($AJ$2:AJ1598),O1598:Q3501,3,0),\"\")","v":""},null,{"$f":"IFERROR(VLOOKUP(ROWS(AL$2:$AL1598),N1598:Q3501,4,0),\"\")","v":""}]
[null,null,null,null,null,null,null,null,null,null,null,null,null,{"$f":"IF(ISNUMBER(SEARCH($H$16,Q1599)),MAX($N$1:N1598)+1,0)","v":0},{"$f":"IF(ISNUMBER(SEARCH($H$11,Q1599)),MAX($O$1:O1598)+1,0)","v":0},{"$f":"IF(ISNUMBER(SEARCH($H$6,Q1599)),MAX($P$1:P1598)+1,0)","v":0},null,null,null,null,null,null,null,null,null,null,null,null,null,null,{"$f":"IFERROR(VLOOKUP(ROWS($AE$2:AE1599),P1599:Q3502,2,0),\"\")","v":""},null,null,null,null,{"$f":"IFERROR(VLOOKUP(ROWS($AJ$2:AJ1599),O1599:Q3502,3,0),\"\")","v":""},null,{"$f":"IFERROR(VLOOKUP(ROWS(AL$2:$AL1599),N1599:Q3502,4,0),\"\")","v":""}]
[null,null,null,null,null,null,null,null,null,null,null,null,null,{"$f":"IF(ISNUMBER(SEARCH($H$16,Q1600)),MAX($N$1:N1599)+1,0)","v":0},{"$f":"IF(ISNUMBER(SEARCH($H$11,Q1600)),MAX($O$1:O1599)+1,0)","v":0},{"$f":"IF(ISNUMBER(SEARCH($H$6,Q1600)),MAX($P$1:P1599)+1,0)","v":0},null,null,null,null,null,null,null,null,null,null,null,null,null,null,{"$f":"IFERROR(VLOOKUP(ROWS($AE$2:AE1600),P1600:Q3503,2,0),\"\")","v":""},null,null,null,null,{"$f":"IFERROR(VLOOKUP(ROWS($AJ$2:AJ1600),O1600:Q3503,3,0),\"\")","v":""},null,{"$f":"IFERROR(VLOOKUP(ROWS(AL$2:$AL1600),N1600:Q3503,4,0),\"\")","v":""}]
[null,null,null,null,null,null,null,null,null,null,null,null,null,{"$f":"IF(ISNUMBER(SEARCH($H$16,Q1601)),MAX($N$1:N1600)+1,0)","v":0},{"$f":"IF(ISNUMBER(SEARCH($H$11,Q1601)),MAX($O$1:O1600)+1,0)","v":0},{"$f":"IF(ISNUMBER(SEARCH($H$6,Q1601)),MAX($P$1:P1600)+1,0)","v":0},null,null,null,null,null,null,null,null,null,null,null,null,null,null,{"$f":"IFERROR(VLOOKUP(ROWS($AE$2:AE1601),P1601:Q3504,2,0),\"\")","v":""},null,null,null,null,{"$f":"IFERROR(VLOOKUP(ROWS($AJ$2:AJ1601),O1601:Q3504,3,0),\"\")","v":""},null,{"$f":"IFERROR(VLOOKUP(ROWS(AL$2:$AL1601),N1601:Q3504,4,0),\"\")","v":""}]
[null,null,null,null,null,null,null,null,null,null,null,null,null,{"$f":"IF(ISNUMBER(SEARCH($H$16,Q1602)),MAX($N$1:N1601)+1,0)","v":0},{"$f":"IF(ISNUMBER(SEARCH($H$11,Q1602)),MAX($O$1:O1601)+1,0)","v":0},{"$f":"IF(ISNUMBER(SEARCH($H$6,Q1602)),MAX($P$1:P1601)+1,0)","v":0},null,null,null,null,null,null,null,null,null,null,null,null,null,null,{"$f":"IFERROR(VLOOKUP(ROWS($AE$2:AE1602),P1602:Q3505,2,0),\"\")","v":""},null,null,null,null,{"$f":"IFERROR(VLOOKUP(ROWS($AJ$2:AJ1602),O1602:Q3505,3,0),\"\")","v":""},null,{"$f":"IFERROR(VLOOKUP(ROWS(AL$2:$AL1602),N1602:Q3505,4,0),\"\")","v":""}]
[null,null,null,null,null,null,null,null,null,null,null,null,null,{"$f":"IF(ISNUMBER(SEARCH($H$16,Q1603)),MAX($N$1:N1602)+1,0)","v":0},{"$f":"IF(ISNUMBER(SEARCH($H$11,Q1603)),MAX($O$1:O1602)+1,0)","v":0},{"$f":"IF(ISNUMBER(SEARCH($H$6,Q1603)),MAX($P$1:P1602)+1,0)","v":0},null,null,null,null,null,null,null,null,null,null,null,null,null,null,{"$f":"IFERROR(VLOOKUP(ROWS($AE$2:AE1603),P1603:Q3506,2,0),\"\")","v":""},null,null,null,null,{"$f":"IFERROR(VLOOKUP(ROWS($AJ$2:AJ1603),O1603:Q3506,3,0),\"\")","v":""},null,{"$f":"IFERROR(VLOOKUP(ROWS(AL$2:$AL1603),N1603:Q3506,4,0),\"\")","v":""}]
[null,null,null,null,null,null,null,null,null,null,null,null,null,{"$f":"IF(ISNUMBER(SEARCH($H$16,Q1604)),MAX($N$1:N1603)+1,0)","v":0},{"$f":"IF(ISNUMBER(SEARCH($H$11,Q1604)),MAX($O$1:O1603)+1,0)","v":0},{"$f":"IF(ISNUMBER(SEARCH($H$6,Q1604)),MAX($P$1:P1603)+1,0)","v":0},null,null,null,null,null,null,null,null,null,null,null,null,null,null,{"$f":"IFERROR(VLOOKUP(ROWS($AE$2:AE1604),P1604:Q3507,2,0),\"\")","v":""},null,null,null,null,{"$f":"IFERROR(VLOOKUP(ROWS($AJ$2:AJ1604),O1604:Q3507,3,0),\"\")","v":""},null,{"$f":"IFERROR(VLOOKUP(ROWS(AL$2:$AL1604),N1604:Q3507,4,0),\"\")","v":""}]
[null,null,null,null,null,null,null,null,null,null,null,null,null,{"$f":"IF(ISNUMBER(SEARCH($H$16,Q1605)),MAX($N$1:N1604)+1,0)","v":0},{"$f":"IF(ISNUMBER(SEARCH($H$11,Q1605)),MAX($O$1:O1604)+1,0)","v":0},{"$f":"IF(ISNUMBER(SEARCH($H$6,Q1605)),MAX($P$1:P1604)+1,0)","v":0},null,null,null,null,null,null,null,null,null,null,null,null,null,null,{"$f":"IFERROR(VLOOKUP(ROWS($AE$2:AE1605),P1605:Q3508,2,0),\"\")","v":""},null,null,null,null,{"$f":"IFERROR(VLOOKUP(ROWS($AJ$2:AJ1605),O1605:Q3508,3,0),\"\")","v":""},null,{"$f":"IFERROR(VLOOKUP(ROWS(AL$2:$AL1605),N1605:Q3508,4,0),\"\")","v":""}]
[null,null,null,null,null,null,null,null,null,null,null,null,null,{"$f":"IF(ISNUMBER(SEARCH($H$16,Q1606)),MAX($N$1:N1605)+1,0)","v":0},{"$f":"IF(ISNUMBER(SEARCH($H$11,Q1606)),MAX($O$1:O1605)+1,0)","v":0},{"$f":"IF(ISNUMBER(SEARCH($H$6,Q1606)),MAX($P$1:P1605)+1,0)","v":0},null,null,null,null,null,null,null,null,null,null,null,null,null,null,{"$f":"IFERROR(VLOOKUP(ROWS($AE$2:AE1606),P1606:Q3509,2,0),\"\")","v":""},null,null,null,null,{"$f":"IFERROR(VLOOKUP(ROWS($AJ$2:AJ1606),O1606:Q3509,3,0),\"\")","v":""},null,{"$f":"IFERROR(VLOOKUP(ROWS(AL$2:$AL1606),N1606:Q3509,4,0),\"\")","v":""}]
[null,null,null,null,null,null,null,null,null,null,null,null,null,{"$f":"IF(ISNUMBER(SEARCH($H$16,Q1607)),MAX($N$1:N1606)+1,0)","v":0},{"$f":"IF(ISNUMBER(SEARCH($H$11,Q1607)),MAX($O$1:O1606)+1,0)","v":0},{"$f":"IF(ISNUMBER(SEARCH($H$6,Q1607)),MAX($P$1:P1606)+1,0)","v":0},null,null,null,null,null,null,null,null,null,null,null,null,null,null,{"$f":"IFERROR(VLOOKUP(ROWS($AE$2:AE1607),P1607:Q3510,2,0),\"\")","v":""},null,null,null,null,{"$f":"IFERROR(VLOOKUP(ROWS($AJ$2:AJ1607),O1607:Q3510,3,0),\"\")","v":""},null,{"$f":"IFERROR(VLOOKUP(ROWS(AL$2:$AL1607),N1607:Q3510,4,0),\"\")","v":""}]
[null,null,null,null,null,null,null,null,null,null,null,null,null,{"$f":"IF(ISNUMBER(SEARCH($H$16,Q1608)),MAX($N$1:N1607)+1,0)","v":0},{"$f":"IF(ISNUMBER(SEARCH($H$11,Q1608)),MAX($O$1:O1607)+1,0)","v":0},{"$f":"IF(ISNUMBER(SEARCH($H$6,Q1608)),MAX($P$1:P1607)+1,0)","v":0},null,null,null,null,null,null,null,null,null,null,null,null,null,null,{"$f":"IFERROR(VLOOKUP(ROWS($AE$2:AE1608),P1608:Q3511,2,0),\"\")","v":""},null,null,null,null,{"$f":"IFERROR(VLOOKUP(ROWS($AJ$2:AJ1608),O1608:Q3511,3,0),\"\")","v":""},null,{"$f":"IFERROR(VLOOKUP(ROWS(AL$2:$AL1608),N1608:Q3511,4,0),\"\")","v":""}]
[null,null,null,null,null,null,null,null,null,null,null,null,null,{"$f":"IF(ISNUMBER(SEARCH($H$16,Q1609)),MAX($N$1:N1608)+1,0)","v":0},{"$f":"IF(ISNUMBER(SEARCH($H$11,Q1609)),MAX($O$1:O1608)+1,0)","v":0},{"$f":"IF(ISNUMBER(SEARCH($H$6,Q1609)),MAX($P$1:P1608)+1,0)","v":0},null,null,null,null,null,null,null,null,null,null,null,null,null,null,{"$f":"IFERROR(VLOOKUP(ROWS($AE$2:AE1609),P1609:Q3512,2,0),\"\")","v":""},null,null,null,null,{"$f":"IFERROR(VLOOKUP(ROWS($AJ$2:AJ1609),O1609:Q3512,3,0),\"\")","v":""},null,{"$f":"IFERROR(VLOOKUP(ROWS(AL$2:$AL1609),N1609:Q3512,4,0),\"\")","v":""}]
[null,null,null,null,null,null,null,null,null,null,null,null,null,{"$f":"IF(ISNUMBER(SEARCH($H$16,Q1610)),MAX($N$1:N1609)+1,0)","v":0},{"$f":"IF(ISNUMBER(SEARCH($H$11,Q1610)),MAX($O$1:O1609)+1,0)","v":0},{"$f":"IF(ISNUMBER(SEARCH($H$6,Q1610)),MAX($P$1:P1609)+1,0)","v":0},null,null,null,null,null,null,null,null,null,null,null,null,null,null,{"$f":"IFERROR(VLOOKUP(ROWS($AE$2:AE1610),P1610:Q3513,2,0),\"\")","v":""},null,null,null,null,{"$f":"IFERROR(VLOOKUP(ROWS($AJ$2:AJ1610),O1610:Q3513,3,0),\"\")","v":""},null,{"$f":"IFERROR(VLOOKUP(ROWS(AL$2:$AL1610),N1610:Q3513,4,0),\"\")","v":""}]
[null,null,null,null,null,null,null,null,null,null,null,null,null,{"$f":"IF(ISNUMBER(SEARCH($H$16,Q1611)),MAX($N$1:N1610)+1,0)","v":0},{"$f":"IF(ISNUMBER(SEARCH($H$11,Q1611)),MAX($O$1:O1610)+1,0)","v":0},{"$f":"IF(ISNUMBER(SEARCH($H$6,Q1611)),MAX($P$1:P1610)+1,0)","v":0},null,null,null,null,null,null,null,null,null,null,null,null,null,null,{"$f":"IFERROR(VLOOKUP(ROWS($AE$2:AE1611),P1611:Q3514,2,0),\"\")","v":""},null,null,null,null,{"$f":"IFERROR(VLOOKUP(ROWS($AJ$2:AJ1611),O1611:Q3514,3,0),\"\")","v":""},null,{"$f":"IFERROR(VLOOKUP(ROWS(AL$2:$AL1611),N1611:Q3514,4,0),\"\")","v":""}]
[null,null,null,null,null,null,null,null,null,null,null,null,null,{"$f":"IF(ISNUMBER(SEARCH($H$16,Q1612)),MAX($N$1:N1611)+1,0)","v":0},{"$f":"IF(ISNUMBER(SEARCH($H$11,Q1612)),MAX($O$1:O1611)+1,0)","v":0},{"$f":"IF(ISNUMBER(SEARCH($H$6,Q1612)),MAX($P$1:P1611)+1,0)","v":0},null,null,null,null,null,null,null,null,null,null,null,null,null,null,{"$f":"IFERROR(VLOOKUP(ROWS($AE$2:AE1612),P1612:Q3515,2,0),\"\")","v":""},null,null,null,null,{"$f":"IFERROR(VLOOKUP(ROWS($AJ$2:AJ1612),O1612:Q3515,3,0),\"\")","v":""},null,{"$f":"IFERROR(VLOOKUP(ROWS(AL$2:$AL1612),N1612:Q3515,4,0),\"\")","v":""}]
[null,null,null,null,null,null,null,null,null,null,null,null,null,{"$f":"IF(ISNUMBER(SEARCH($H$16,Q1613)),MAX($N$1:N1612)+1,0)","v":0},{"$f":"IF(ISNUMBER(SEARCH($H$11,Q1613)),MAX($O$1:O1612)+1,0)","v":0},{"$f":"IF(ISNUMBER(SEARCH($H$6,Q1613)),MAX($P$1:P1612)+1,0)","v":0},null,null,null,null,null,null,null,null,null,null,null,null,null,null,{"$f":"IFERROR(VLOOKUP(ROWS($AE$2:AE1613),P1613:Q3516,2,0),\"\")","v":""},null,null,null,null,{"$f":"IFERROR(VLOOKUP(ROWS($AJ$2:AJ1613),O1613:Q3516,3,0),\"\")","v":""},null,{"$f":"IFERROR(VLOOKUP(ROWS(AL$2:$AL1613),N1613:Q3516,4,0),\"\")","v":""}]
[null,null,null,null,null,null,null,null,null,null,null,null,null,{"$f":"IF(ISNUMBER(SEARCH($H$16,Q1614)),MAX($N$1:N1613)+1,0)","v":0},{"$f":"IF(ISNUMBER(SEARCH($H$11,Q1614)),MAX($O$1:O1613)+1,0)","v":0},{"$f":"IF(ISNUMBER(SEARCH($H$6,Q1614)),MAX($P$1:P1613)+1,0)","v":0},null,null,null,null,null,null,null,null,null,null,null,null,null,null,{"$f":"IFERROR(VLOOKUP(ROWS($AE$2:AE1614),P1614:Q3517,2,0),\"\")","v":""},null,null,null,null,{"$f":"IFERROR(VLOOKUP(ROWS($AJ$2:AJ1614),O1614:Q3517,3,0),\"\")","v":""},null,{"$f":"IFERROR(VLOOKUP(ROWS(AL$2:$AL1614),N1614:Q3517,4,0),\"\")","v":""}]
[null,null,null,null,null,null,null,null,null,null,null,null,null,{"$f":"IF(ISNUMBER(SEARCH($H$16,Q1615)),MAX($N$1:N1614)+1,0)","v":0},{"$f":"IF(ISNUMBER(SEARCH($H$11,Q1615)),MAX($O$1:O1614)+1,0)","v":0},{"$f":"IF(ISNUMBER(SEARCH($H$6,Q1615)),MAX($P$1:P1614)+1,0)","v":0},null,null,null,null,null,null,null,null,null,null,null,null,null,null,{"$f":"IFERROR(VLOOKUP(ROWS($AE$2:AE1615),P1615:Q3518,2,0),\"\")","v":""},null,null,null,null,{"$f":"IFERROR(VLOOKUP(ROWS($AJ$2:AJ1615),O1615:Q3518,3,0),\"\")","v":""},null,{"$f":"IFERROR(VLOOKUP(ROWS(AL$2:$AL1615),N1615:Q3518,4,0),\"\")","v":""}]
[null,null,null,null,null,null,null,null,null,null,null,null,null,{"$f":"IF(ISNUMBER(SEARCH($H$16,Q1616)),MAX($N$1:N1615)+1,0)","v":0},{"$f":"IF(ISNUMBER(SEARCH($H$11,Q1616)),MAX($O$1:O1615)+1,0)","v":0},{"$f":"IF(ISNUMBER(SEARCH($H$6,Q1616)),MAX($P$1:P1615)+1,0)","v":0},null,null,null,null,null,null,null,null,null,null,null,null,null,null,{"$f":"IFERROR(VLOOKUP(ROWS($AE$2:AE1616),P1616:Q3519,2,0),\"\")","v":""},null,null,null,null,{"$f":"IFERROR(VLOOKUP(ROWS($AJ$2:AJ1616),O1616:Q3519,3,0),\"\")","v":""},null,{"$f":"IFERROR(VLOOKUP(ROWS(AL$2:$AL1616),N1616:Q3519,4,0),\"\")","v":""}]
[null,null,null,null,null,null,null,null,null,null,null,null,null,{"$f":"IF(ISNUMBER(SEARCH($H$16,Q1617)),MAX($N$1:N1616)+1,0)","v":0},{"$f":"IF(ISNUMBER(SEARCH($H$11,Q1617)),MAX($O$1:O1616)+1,0)","v":0},{"$f":"IF(ISNUMBER(SEARCH($H$6,Q1617)),MAX($P$1:P1616)+1,0)","v":0},null,null,null,null,null,null,null,null,null,null,null,null,null,null,{"$f":"IFERROR(VLOOKUP(ROWS($AE$2:AE1617),P1617:Q3520,2,0),\"\")","v":""},null,null,null,null,{"$f":"IFERROR(VLOOKUP(ROWS($AJ$2:AJ1617),O1617:Q3520,3,0),\"\")","v":""},null,{"$f":"IFERROR(VLOOKUP(ROWS(AL$2:$AL1617),N1617:Q3520,4,0),\"\")","v":""}]
[null,null,null,null,null,null,null,null,null,null,null,null,null,{"$f":"IF(ISNUMBER(SEARCH($H$16,Q1618)),MAX($N$1:N1617)+1,0)","v":0},{"$f":"IF(ISNUMBER(SEARCH($H$11,Q1618)),MAX($O$1:O1617)+1,0)","v":0},{"$f":"IF(ISNUMBER(SEARCH($H$6,Q1618)),MAX($P$1:P1617)+1,0)","v":0},null,null,null,null,null,null,null,null,null,null,null,null,null,null,{"$f":"IFERROR(VLOOKUP(ROWS($AE$2:AE1618),P1618:Q3521,2,0),\"\")","v":""},null,null,null,null,{"$f":"IFERROR(VLOOKUP(ROWS($AJ$2:AJ1618),O1618:Q3521,3,0),\"\")","v":""},null,{"$f":"IFERROR(VLOOKUP(ROWS(AL$2:$AL1618),N1618:Q3521,4,0),\"\")","v":""}]
[null,null,null,null,null,null,null,null,null,null,null,null,null,{"$f":"IF(ISNUMBER(SEARCH($H$16,Q1619)),MAX($N$1:N1618)+1,0)","v":0},{"$f":"IF(ISNUMBER(SEARCH($H$11,Q1619)),MAX($O$1:O1618)+1,0)","v":0},{"$f":"IF(ISNUMBER(SEARCH($H$6,Q1619)),MAX($P$1:P1618)+1,0)","v":0},null,null,null,null,null,null,null,null,null,null,null,null,null,null,{"$f":"IFERROR(VLOOKUP(ROWS($AE$2:AE1619),P1619:Q3522,2,0),\"\")","v":""},null,null,null,null,{"$f":"IFERROR(VLOOKUP(ROWS($AJ$2:AJ1619),O1619:Q3522,3,0),\"\")","v":""},null,{"$f":"IFERROR(VLOOKUP(ROWS(AL$2:$AL1619),N1619:Q3522,4,0),\"\")","v":""}]
[null,null,null,null,null,null,null,null,null,null,null,null,null,{"$f":"IF(ISNUMBER(SEARCH($H$16,Q1620)),MAX($N$1:N1619)+1,0)","v":0},{"$f":"IF(ISNUMBER(SEARCH($H$11,Q1620)),MAX($O$1:O1619)+1,0)","v":0},{"$f":"IF(ISNUMBER(SEARCH($H$6,Q1620)),MAX($P$1:P1619)+1,0)","v":0},null,null,null,null,null,null,null,null,null,null,null,null,null,null,{"$f":"IFERROR(VLOOKUP(ROWS($AE$2:AE1620),P1620:Q3523,2,0),\"\")","v":""},null,null,null,null,{"$f":"IFERROR(VLOOKUP(ROWS($AJ$2:AJ1620),O1620:Q3523,3,0),\"\")","v":""},null,{"$f":"IFERROR(VLOOKUP(ROWS(AL$2:$AL1620),N1620:Q3523,4,0),\"\")","v":""}]
[null,null,null,null,null,null,null,null,null,null,null,null,null,{"$f":"IF(ISNUMBER(SEARCH($H$16,Q1621)),MAX($N$1:N1620)+1,0)","v":0},{"$f":"IF(ISNUMBER(SEARCH($H$11,Q1621)),MAX($O$1:O1620)+1,0)","v":0},{"$f":"IF(ISNUMBER(SEARCH($H$6,Q1621)),MAX($P$1:P1620)+1,0)","v":0},null,null,null,null,null,null,null,null,null,null,null,null,null,null,{"$f":"IFERROR(VLOOKUP(ROWS($AE$2:AE1621),P1621:Q3524,2,0),\"\")","v":""},null,null,null,null,{"$f":"IFERROR(VLOOKUP(ROWS($AJ$2:AJ1621),O1621:Q3524,3,0),\"\")","v":""},null,{"$f":"IFERROR(VLOOKUP(ROWS(AL$2:$AL1621),N1621:Q3524,4,0),\"\")","v":""}]
[null,null,null,null,null,null,null,null,null,null,null,null,null,{"$f":"IF(ISNUMBER(SEARCH($H$16,Q1622)),MAX($N$1:N1621)+1,0)","v":0},{"$f":"IF(ISNUMBER(SEARCH($H$11,Q1622)),MAX($O$1:O1621)+1,0)","v":0},{"$f":"IF(ISNUMBER(SEARCH($H$6,Q1622)),MAX($P$1:P1621)+1,0)","v":0},null,null,null,null,null,null,null,null,null,null,null,null,null,null,{"$f":"IFERROR(VLOOKUP(ROWS($AE$2:AE1622),P1622:Q3525,2,0),\"\")","v":""},null,null,null,null,{"$f":"IFERROR(VLOOKUP(ROWS($AJ$2:AJ1622),O1622:Q3525,3,0),\"\")","v":""},null,{"$f":"IFERROR(VLOOKUP(ROWS(AL$2:$AL1622),N1622:Q3525,4,0),\"\")","v":""}]
[null,null,null,null,null,null,null,null,null,null,null,null,null,{"$f":"IF(ISNUMBER(SEARCH($H$16,Q1623)),MAX($N$1:N1622)+1,0)","v":0},{"$f":"IF(ISNUMBER(SEARCH($H$11,Q1623)),MAX($O$1:O1622)+1,0)","v":0},{"$f":"IF(ISNUMBER(SEARCH($H$6,Q1623)),MAX($P$1:P1622)+1,0)","v":0},null,null,null,null,null,null,null,null,null,null,null,null,null,null,{"$f":"IFERROR(VLOOKUP(ROWS($AE$2:AE1623),P1623:Q3526,2,0),\"\")","v":""},null,null,null,null,{"$f":"IFERROR(VLOOKUP(ROWS($AJ$2:AJ1623),O1623:Q3526,3,0),\"\")","v":""},null,{"$f":"IFERROR(VLOOKUP(ROWS(AL$2:$AL1623),N1623:Q3526,4,0),\"\")","v":""}]
[null,null,null,null,null,null,null,null,null,null,null,null,null,{"$f":"IF(ISNUMBER(SEARCH($H$16,Q1624)),MAX($N$1:N1623)+1,0)","v":0},{"$f":"IF(ISNUMBER(SEARCH($H$11,Q1624)),MAX($O$1:O1623)+1,0)","v":0},{"$f":"IF(ISNUMBER(SEARCH($H$6,Q1624)),MAX($P$1:P1623)+1,0)","v":0},null,null,null,null,null,null,null,null,null,null,null,null,null,null,{"$f":"IFERROR(VLOOKUP(ROWS($AE$2:AE1624),P1624:Q3527,2,0),\"\")","v":""},null,null,null,null,{"$f":"IFERROR(VLOOKUP(ROWS($AJ$2:AJ1624),O1624:Q3527,3,0),\"\")","v":""},null,{"$f":"IFERROR(VLOOKUP(ROWS(AL$2:$AL1624),N1624:Q3527,4,0),\"\")","v":""}]
[null,null,null,null,null,null,null,null,null,null,null,null,null,{"$f":"IF(ISNUMBER(SEARCH($H$16,Q1625)),MAX($N$1:N1624)+1,0)","v":0},{"$f":"IF(ISNUMBER(SEARCH($H$11,Q1625)),MAX($O$1:O1624)+1,0)","v":0},{"$f":"IF(ISNUMBER(SEARCH($H$6,Q1625)),MAX($P$1:P1624)+1,0)","v":0},null,null,null,null,null,null,null,null,null,null,null,null,null,null,{"$f":"IFERROR(VLOOKUP(ROWS($AE$2:AE1625),P1625:Q3528,2,0),\"\")","v":""},null,null,null,null,{"$f":"IFERROR(VLOOKUP(ROWS($AJ$2:AJ1625),O1625:Q3528,3,0),\"\")","v":""},null,{"$f":"IFERROR(VLOOKUP(ROWS(AL$2:$AL1625),N1625:Q3528,4,0),\"\")","v":""}]
[null,null,null,null,null,null,null,null,null,null,null,null,null,{"$f":"IF(ISNUMBER(SEARCH($H$16,Q1626)),MAX($N$1:N1625)+1,0)","v":0},{"$f":"IF(ISNUMBER(SEARCH($H$11,Q1626)),MAX($O$1:O1625)+1,0)","v":0},{"$f":"IF(ISNUMBER(SEARCH($H$6,Q1626)),MAX($P$1:P1625)+1,0)","v":0},null,null,null,null,null,null,null,null,null,null,null,null,null,null,{"$f":"IFERROR(VLOOKUP(ROWS($AE$2:AE1626),P1626:Q3529,2,0),\"\")","v":""},null,null,null,null,{"$f":"IFERROR(VLOOKUP(ROWS($AJ$2:AJ1626),O1626:Q3529,3,0),\"\")","v":""},null,{"$f":"IFERROR(VLOOKUP(ROWS(AL$2:$AL1626),N1626:Q3529,4,0),\"\")","v":""}]
[null,null,null,null,null,null,null,null,null,null,null,null,null,{"$f":"IF(ISNUMBER(SEARCH($H$16,Q1627)),MAX($N$1:N1626)+1,0)","v":0},{"$f":"IF(ISNUMBER(SEARCH($H$11,Q1627)),MAX($O$1:O1626)+1,0)","v":0},{"$f":"IF(ISNUMBER(SEARCH($H$6,Q1627)),MAX($P$1:P1626)+1,0)","v":0},null,null,null,null,null,null,null,null,null,null,null,null,null,null,{"$f":"IFERROR(VLOOKUP(ROWS($AE$2:AE1627),P1627:Q3530,2,0),\"\")","v":""},null,null,null,null,{"$f":"IFERROR(VLOOKUP(ROWS($AJ$2:AJ1627),O1627:Q3530,3,0),\"\")","v":""},null,{"$f":"IFERROR(VLOOKUP(ROWS(AL$2:$AL1627),N1627:Q3530,4,0),\"\")","v":""}]
[null,null,null,null,null,null,null,null,null,null,null,null,null,{"$f":"IF(ISNUMBER(SEARCH($H$16,Q1628)),MAX($N$1:N1627)+1,0)","v":0},{"$f":"IF(ISNUMBER(SEARCH($H$11,Q1628)),MAX($O$1:O1627)+1,0)","v":0},{"$f":"IF(ISNUMBER(SEARCH($H$6,Q1628)),MAX($P$1:P1627)+1,0)","v":0},null,null,null,null,null,null,null,null,null,null,null,null,null,null,{"$f":"IFERROR(VLOOKUP(ROWS($AE$2:AE1628),P1628:Q3531,2,0),\"\")","v":""},null,null,null,null,{"$f":"IFERROR(VLOOKUP(ROWS($AJ$2:AJ1628),O1628:Q3531,3,0),\"\")","v":""},null,{"$f":"IFERROR(VLOOKUP(ROWS(AL$2:$AL1628),N1628:Q3531,4,0),\"\")","v":""}]
[null,null,null,null,null,null,null,null,null,null,null,null,null,{"$f":"IF(ISNUMBER(SEARCH($H$16,Q1629)),MAX($N$1:N1628)+1,0)","v":0},{"$f":"IF(ISNUMBER(SEARCH($H$11,Q1629)),MAX($O$1:O1628)+1,0)","v":0},{"$f":"IF(ISNUMBER(SEARCH($H$6,Q1629)),MAX($P$1:P1628)+1,0)","v":0},null,null,null,null,null,null,null,null,null,null,null,null,null,null,{"$f":"IFERROR(VLOOKUP(ROWS($AE$2:AE1629),P1629:Q3532,2,0),\"\")","v":""},null,null,null,null,{"$f":"IFERROR(VLOOKUP(ROWS($AJ$2:AJ1629),O1629:Q3532,3,0),\"\")","v":""},null,{"$f":"IFERROR(VLOOKUP(ROWS(AL$2:$AL1629),N1629:Q3532,4,0),\"\")","v":""}]
[null,null,null,null,null,null,null,null,null,null,null,null,null,{"$f":"IF(ISNUMBER(SEARCH($H$16,Q1630)),MAX($N$1:N1629)+1,0)","v":0},{"$f":"IF(ISNUMBER(SEARCH($H$11,Q1630)),MAX($O$1:O1629)+1,0)","v":0},{"$f":"IF(ISNUMBER(SEARCH($H$6,Q1630)),MAX($P$1:P1629)+1,0)","v":0},null,null,null,null,null,null,null,null,null,null,null,null,null,null,{"$f":"IFERROR(VLOOKUP(ROWS($AE$2:AE1630),P1630:Q3533,2,0),\"\")","v":""},null,null,null,null,{"$f":"IFERROR(VLOOKUP(ROWS($AJ$2:AJ1630),O1630:Q3533,3,0),\"\")","v":""},null,{"$f":"IFERROR(VLOOKUP(ROWS(AL$2:$AL1630),N1630:Q3533,4,0),\"\")","v":""}]
[null,null,null,null,null,null,null,null,null,null,null,null,null,{"$f":"IF(ISNUMBER(SEARCH($H$16,Q1631)),MAX($N$1:N1630)+1,0)","v":0},{"$f":"IF(ISNUMBER(SEARCH($H$11,Q1631)),MAX($O$1:O1630)+1,0)","v":0},{"$f":"IF(ISNUMBER(SEARCH($H$6,Q1631)),MAX($P$1:P1630)+1,0)","v":0},null,null,null,null,null,null,null,null,null,null,null,null,null,null,{"$f":"IFERROR(VLOOKUP(ROWS($AE$2:AE1631),P1631:Q3534,2,0),\"\")","v":""},null,null,null,null,{"$f":"IFERROR(VLOOKUP(ROWS($AJ$2:AJ1631),O1631:Q3534,3,0),\"\")","v":""},null,{"$f":"IFERROR(VLOOKUP(ROWS(AL$2:$AL1631),N1631:Q3534,4,0),\"\")","v":""}]
[null,null,null,null,null,null,null,null,null,null,null,null,null,{"$f":"IF(ISNUMBER(SEARCH($H$16,Q1632)),MAX($N$1:N1631)+1,0)","v":0},{"$f":"IF(ISNUMBER(SEARCH($H$11,Q1632)),MAX($O$1:O1631)+1,0)","v":0},{"$f":"IF(ISNUMBER(SEARCH($H$6,Q1632)),MAX($P$1:P1631)+1,0)","v":0},null,null,null,null,null,null,null,null,null,null,null,null,null,null,{"$f":"IFERROR(VLOOKUP(ROWS($AE$2:AE1632),P1632:Q3535,2,0),\"\")","v":""},null,null,null,null,{"$f":"IFERROR(VLOOKUP(ROWS($AJ$2:AJ1632),O1632:Q3535,3,0),\"\")","v":""},null,{"$f":"IFERROR(VLOOKUP(ROWS(AL$2:$AL1632),N1632:Q3535,4,0),\"\")","v":""}]
[null,null,null,null,null,null,null,null,null,null,null,null,null,{"$f":"IF(ISNUMBER(SEARCH($H$16,Q1633)),MAX($N$1:N1632)+1,0)","v":0},{"$f":"IF(ISNUMBER(SEARCH($H$11,Q1633)),MAX($O$1:O1632)+1,0)","v":0},{"$f":"IF(ISNUMBER(SEARCH($H$6,Q1633)),MAX($P$1:P1632)+1,0)","v":0},null,null,null,null,null,null,null,null,null,null,null,null,null,null,{"$f":"IFERROR(VLOOKUP(ROWS($AE$2:AE1633),P1633:Q3536,2,0),\"\")","v":""},null,null,null,null,{"$f":"IFERROR(VLOOKUP(ROWS($AJ$2:AJ1633),O1633:Q3536,3,0),\"\")","v":""},null,{"$f":"IFERROR(VLOOKUP(ROWS(AL$2:$AL1633),N1633:Q3536,4,0),\"\")","v":""}]
[null,null,null,null,null,null,null,null,null,null,null,null,null,{"$f":"IF(ISNUMBER(SEARCH($H$16,Q1634)),MAX($N$1:N1633)+1,0)","v":0},{"$f":"IF(ISNUMBER(SEARCH($H$11,Q1634)),MAX($O$1:O1633)+1,0)","v":0},{"$f":"IF(ISNUMBER(SEARCH($H$6,Q1634)),MAX($P$1:P1633)+1,0)","v":0},null,null,null,null,null,null,null,null,null,null,null,null,null,null,{"$f":"IFERROR(VLOOKUP(ROWS($AE$2:AE1634),P1634:Q3537,2,0),\"\")","v":""},null,null,null,null,{"$f":"IFERROR(VLOOKUP(ROWS($AJ$2:AJ1634),O1634:Q3537,3,0),\"\")","v":""},null,{"$f":"IFERROR(VLOOKUP(ROWS(AL$2:$AL1634),N1634:Q3537,4,0),\"\")","v":""}]
[null,null,null,null,null,null,null,null,null,null,null,null,null,{"$f":"IF(ISNUMBER(SEARCH($H$16,Q1635)),MAX($N$1:N1634)+1,0)","v":0},{"$f":"IF(ISNUMBER(SEARCH($H$11,Q1635)),MAX($O$1:O1634)+1,0)","v":0},{"$f":"IF(ISNUMBER(SEARCH($H$6,Q1635)),MAX($P$1:P1634)+1,0)","v":0},null,null,null,null,null,null,null,null,null,null,null,null,null,null,{"$f":"IFERROR(VLOOKUP(ROWS($AE$2:AE1635),P1635:Q3538,2,0),\"\")","v":""},null,null,null,null,{"$f":"IFERROR(VLOOKUP(ROWS($AJ$2:AJ1635),O1635:Q3538,3,0),\"\")","v":""},null,{"$f":"IFERROR(VLOOKUP(ROWS(AL$2:$AL1635),N1635:Q3538,4,0),\"\")","v":""}]
[null,null,null,null,null,null,null,null,null,null,null,null,null,{"$f":"IF(ISNUMBER(SEARCH($H$16,Q1636)),MAX($N$1:N1635)+1,0)","v":0},{"$f":"IF(ISNUMBER(SEARCH($H$11,Q1636)),MAX($O$1:O1635)+1,0)","v":0},{"$f":"IF(ISNUMBER(SEARCH($H$6,Q1636)),MAX($P$1:P1635)+1,0)","v":0},null,null,null,null,null,null,null,null,null,null,null,null,null,null,{"$f":"IFERROR(VLOOKUP(ROWS($AE$2:AE1636),P1636:Q3539,2,0),\"\")","v":""},null,null,null,null,{"$f":"IFERROR(VLOOKUP(ROWS($AJ$2:AJ1636),O1636:Q3539,3,0),\"\")","v":""},null,{"$f":"IFERROR(VLOOKUP(ROWS(AL$2:$AL1636),N1636:Q3539,4,0),\"\")","v":""}]
[null,null,null,null,null,null,null,null,null,null,null,null,null,{"$f":"IF(ISNUMBER(SEARCH($H$16,Q1637)),MAX($N$1:N1636)+1,0)","v":0},{"$f":"IF(ISNUMBER(SEARCH($H$11,Q1637)),MAX($O$1:O1636)+1,0)","v":0},{"$f":"IF(ISNUMBER(SEARCH($H$6,Q1637)),MAX($P$1:P1636)+1,0)","v":0},null,null,null,null,null,null,null,null,null,null,null,null,null,null,{"$f":"IFERROR(VLOOKUP(ROWS($AE$2:AE1637),P1637:Q3540,2,0),\"\")","v":""},null,null,null,null,{"$f":"IFERROR(VLOOKUP(ROWS($AJ$2:AJ1637),O1637:Q3540,3,0),\"\")","v":""},null,{"$f":"IFERROR(VLOOKUP(ROWS(AL$2:$AL1637),N1637:Q3540,4,0),\"\")","v":""}]
[null,null,null,null,null,null,null,null,null,null,null,null,null,{"$f":"IF(ISNUMBER(SEARCH($H$16,Q1638)),MAX($N$1:N1637)+1,0)","v":0},{"$f":"IF(ISNUMBER(SEARCH($H$11,Q1638)),MAX($O$1:O1637)+1,0)","v":0},{"$f":"IF(ISNUMBER(SEARCH($H$6,Q1638)),MAX($P$1:P1637)+1,0)","v":0},null,null,null,null,null,null,null,null,null,null,null,null,null,null,{"$f":"IFERROR(VLOOKUP(ROWS($AE$2:AE1638),P1638:Q3541,2,0),\"\")","v":""},null,null,null,null,{"$f":"IFERROR(VLOOKUP(ROWS($AJ$2:AJ1638),O1638:Q3541,3,0),\"\")","v":""},null,{"$f":"IFERROR(VLOOKUP(ROWS(AL$2:$AL1638),N1638:Q3541,4,0),\"\")","v":""}]
[null,null,null,null,null,null,null,null,null,null,null,null,null,{"$f":"IF(ISNUMBER(SEARCH($H$16,Q1639)),MAX($N$1:N1638)+1,0)","v":0},{"$f":"IF(ISNUMBER(SEARCH($H$11,Q1639)),MAX($O$1:O1638)+1,0)","v":0},{"$f":"IF(ISNUMBER(SEARCH($H$6,Q1639)),MAX($P$1:P1638)+1,0)","v":0},null,null,null,null,null,null,null,null,null,null,null,null,null,null,{"$f":"IFERROR(VLOOKUP(ROWS($AE$2:AE1639),P1639:Q3542,2,0),\"\")","v":""},null,null,null,null,{"$f":"IFERROR(VLOOKUP(ROWS($AJ$2:AJ1639),O1639:Q3542,3,0),\"\")","v":""},null,{"$f":"IFERROR(VLOOKUP(ROWS(AL$2:$AL1639),N1639:Q3542,4,0),\"\")","v":""}]
[null,null,null,null,null,null,null,null,null,null,null,null,null,{"$f":"IF(ISNUMBER(SEARCH($H$16,Q1640)),MAX($N$1:N1639)+1,0)","v":0},{"$f":"IF(ISNUMBER(SEARCH($H$11,Q1640)),MAX($O$1:O1639)+1,0)","v":0},{"$f":"IF(ISNUMBER(SEARCH($H$6,Q1640)),MAX($P$1:P1639)+1,0)","v":0},null,null,null,null,null,null,null,null,null,null,null,null,null,null,{"$f":"IFERROR(VLOOKUP(ROWS($AE$2:AE1640),P1640:Q3543,2,0),\"\")","v":""},null,null,null,null,{"$f":"IFERROR(VLOOKUP(ROWS($AJ$2:AJ1640),O1640:Q3543,3,0),\"\")","v":""},null,{"$f":"IFERROR(VLOOKUP(ROWS(AL$2:$AL1640),N1640:Q3543,4,0),\"\")","v":""}]
[null,null,null,null,null,null,null,null,null,null,null,null,null,{"$f":"IF(ISNUMBER(SEARCH($H$16,Q1641)),MAX($N$1:N1640)+1,0)","v":0},{"$f":"IF(ISNUMBER(SEARCH($H$11,Q1641)),MAX($O$1:O1640)+1,0)","v":0},{"$f":"IF(ISNUMBER(SEARCH($H$6,Q1641)),MAX($P$1:P1640)+1,0)","v":0},null,null,null,null,null,null,null,null,null,null,null,null,null,null,{"$f":"IFERROR(VLOOKUP(ROWS($AE$2:AE1641),P1641:Q3544,2,0),\"\")","v":""},null,null,null,null,{"$f":"IFERROR(VLOOKUP(ROWS($AJ$2:AJ1641),O1641:Q3544,3,0),\"\")","v":""},null,{"$f":"IFERROR(VLOOKUP(ROWS(AL$2:$AL1641),N1641:Q3544,4,0),\"\")","v":""}]
[null,null,null,null,null,null,null,null,null,null,null,null,null,{"$f":"IF(ISNUMBER(SEARCH($H$16,Q1642)),MAX($N$1:N1641)+1,0)","v":0},{"$f":"IF(ISNUMBER(SEARCH($H$11,Q1642)),MAX($O$1:O1641)+1,0)","v":0},{"$f":"IF(ISNUMBER(SEARCH($H$6,Q1642)),MAX($P$1:P1641)+1,0)","v":0},null,null,null,null,null,null,null,null,null,null,null,null,null,null,{"$f":"IFERROR(VLOOKUP(ROWS($AE$2:AE1642),P1642:Q3545,2,0),\"\")","v":""},null,null,null,null,{"$f":"IFERROR(VLOOKUP(ROWS($AJ$2:AJ1642),O1642:Q3545,3,0),\"\")","v":""},null,{"$f":"IFERROR(VLOOKUP(ROWS(AL$2:$AL1642),N1642:Q3545,4,0),\"\")","v":""}]
[null,null,null,null,null,null,null,null,null,null,null,null,null,{"$f":"IF(ISNUMBER(SEARCH($H$16,Q1643)),MAX($N$1:N1642)+1,0)","v":0},{"$f":"IF(ISNUMBER(SEARCH($H$11,Q1643)),MAX($O$1:O1642)+1,0)","v":0},{"$f":"IF(ISNUMBER(SEARCH($H$6,Q1643)),MAX($P$1:P1642)+1,0)","v":0},null,null,null,null,null,null,null,null,null,null,null,null,null,null,{"$f":"IFERROR(VLOOKUP(ROWS($AE$2:AE1643),P1643:Q3546,2,0),\"\")","v":""},null,null,null,null,{"$f":"IFERROR(VLOOKUP(ROWS($AJ$2:AJ1643),O1643:Q3546,3,0),\"\")","v":""},null,{"$f":"IFERROR(VLOOKUP(ROWS(AL$2:$AL1643),N1643:Q3546,4,0),\"\")","v":""}]
[null,null,null,null,null,null,null,null,null,null,null,null,null,{"$f":"IF(ISNUMBER(SEARCH($H$16,Q1644)),MAX($N$1:N1643)+1,0)","v":0},{"$f":"IF(ISNUMBER(SEARCH($H$11,Q1644)),MAX($O$1:O1643)+1,0)","v":0},{"$f":"IF(ISNUMBER(SEARCH($H$6,Q1644)),MAX($P$1:P1643)+1,0)","v":0},null,null,null,null,null,null,null,null,null,null,null,null,null,null,{"$f":"IFERROR(VLOOKUP(ROWS($AE$2:AE1644),P1644:Q3547,2,0),\"\")","v":""},null,null,null,null,{"$f":"IFERROR(VLOOKUP(ROWS($AJ$2:AJ1644),O1644:Q3547,3,0),\"\")","v":""},null,{"$f":"IFERROR(VLOOKUP(ROWS(AL$2:$AL1644),N1644:Q3547,4,0),\"\")","v":""}]
[null,null,null,null,null,null,null,null,null,null,null,null,null,{"$f":"IF(ISNUMBER(SEARCH($H$16,Q1645)),MAX($N$1:N1644)+1,0)","v":0},{"$f":"IF(ISNUMBER(SEARCH($H$11,Q1645)),MAX($O$1:O1644)+1,0)","v":0},{"$f":"IF(ISNUMBER(SEARCH($H$6,Q1645)),MAX($P$1:P1644)+1,0)","v":0},null,null,null,null,null,null,null,null,null,null,null,null,null,null,{"$f":"IFERROR(VLOOKUP(ROWS($AE$2:AE1645),P1645:Q3548,2,0),\"\")","v":""},null,null,null,null,{"$f":"IFERROR(VLOOKUP(ROWS($AJ$2:AJ1645),O1645:Q3548,3,0),\"\")","v":""},null,{"$f":"IFERROR(VLOOKUP(ROWS(AL$2:$AL1645),N1645:Q3548,4,0),\"\")","v":""}]
[null,null,null,null,null,null,null,null,null,null,null,null,null,{"$f":"IF(ISNUMBER(SEARCH($H$16,Q1646)),MAX($N$1:N1645)+1,0)","v":0},{"$f":"IF(ISNUMBER(SEARCH($H$11,Q1646)),MAX($O$1:O1645)+1,0)","v":0},{"$f":"IF(ISNUMBER(SEARCH($H$6,Q1646)),MAX($P$1:P1645)+1,0)","v":0},null,null,null,null,null,null,null,null,null,null,null,null,null,null,{"$f":"IFERROR(VLOOKUP(ROWS($AE$2:AE1646),P1646:Q3549,2,0),\"\")","v":""},null,null,null,null,{"$f":"IFERROR(VLOOKUP(ROWS($AJ$2:AJ1646),O1646:Q3549,3,0),\"\")","v":""},null,{"$f":"IFERROR(VLOOKUP(ROWS(AL$2:$AL1646),N1646:Q3549,4,0),\"\")","v":""}]
[null,null,null,null,null,null,null,null,null,null,null,null,null,{"$f":"IF(ISNUMBER(SEARCH($H$16,Q1647)),MAX($N$1:N1646)+1,0)","v":0},{"$f":"IF(ISNUMBER(SEARCH($H$11,Q1647)),MAX($O$1:O1646)+1,0)","v":0},{"$f":"IF(ISNUMBER(SEARCH($H$6,Q1647)),MAX($P$1:P1646)+1,0)","v":0},null,null,null,null,null,null,null,null,null,null,null,null,null,null,{"$f":"IFERROR(VLOOKUP(ROWS($AE$2:AE1647),P1647:Q3550,2,0),\"\")","v":""},null,null,null,null,{"$f":"IFERROR(VLOOKUP(ROWS($AJ$2:AJ1647),O1647:Q3550,3,0),\"\")","v":""},null,{"$f":"IFERROR(VLOOKUP(ROWS(AL$2:$AL1647),N1647:Q3550,4,0),\"\")","v":""}]
[null,null,null,null,null,null,null,null,null,null,null,null,null,{"$f":"IF(ISNUMBER(SEARCH($H$16,Q1648)),MAX($N$1:N1647)+1,0)","v":0},{"$f":"IF(ISNUMBER(SEARCH($H$11,Q1648)),MAX($O$1:O1647)+1,0)","v":0},{"$f":"IF(ISNUMBER(SEARCH($H$6,Q1648)),MAX($P$1:P1647)+1,0)","v":0},null,null,null,null,null,null,null,null,null,null,null,null,null,null,{"$f":"IFERROR(VLOOKUP(ROWS($AE$2:AE1648),P1648:Q3551,2,0),\"\")","v":""},null,null,null,null,{"$f":"IFERROR(VLOOKUP(ROWS($AJ$2:AJ1648),O1648:Q3551,3,0),\"\")","v":""},null,{"$f":"IFERROR(VLOOKUP(ROWS(AL$2:$AL1648),N1648:Q3551,4,0),\"\")","v":""}]
[null,null,null,null,null,null,null,null,null,null,null,null,null,{"$f":"IF(ISNUMBER(SEARCH($H$16,Q1649)),MAX($N$1:N1648)+1,0)","v":0},{"$f":"IF(ISNUMBER(SEARCH($H$11,Q1649)),MAX($O$1:O1648)+1,0)","v":0},{"$f":"IF(ISNUMBER(SEARCH($H$6,Q1649)),MAX($P$1:P1648)+1,0)","v":0},null,null,null,null,null,null,null,null,null,null,null,null,null,null,{"$f":"IFERROR(VLOOKUP(ROWS($AE$2:AE1649),P1649:Q3552,2,0),\"\")","v":""},null,null,null,null,{"$f":"IFERROR(VLOOKUP(ROWS($AJ$2:AJ1649),O1649:Q3552,3,0),\"\")","v":""},null,{"$f":"IFERROR(VLOOKUP(ROWS(AL$2:$AL1649),N1649:Q3552,4,0),\"\")","v":""}]
[null,null,null,null,null,null,null,null,null,null,null,null,null,{"$f":"IF(ISNUMBER(SEARCH($H$16,Q1650)),MAX($N$1:N1649)+1,0)","v":0},{"$f":"IF(ISNUMBER(SEARCH($H$11,Q1650)),MAX($O$1:O1649)+1,0)","v":0},{"$f":"IF(ISNUMBER(SEARCH($H$6,Q1650)),MAX($P$1:P1649)+1,0)","v":0},null,null,null,null,null,null,null,null,null,null,null,null,null,null,{"$f":"IFERROR(VLOOKUP(ROWS($AE$2:AE1650),P1650:Q3553,2,0),\"\")","v":""},null,null,null,null,{"$f":"IFERROR(VLOOKUP(ROWS($AJ$2:AJ1650),O1650:Q3553,3,0),\"\")","v":""},null,{"$f":"IFERROR(VLOOKUP(ROWS(AL$2:$AL1650),N1650:Q3553,4,0),\"\")","v":""}]
[null,null,null,null,null,null,null,null,null,null,null,null,null,{"$f":"IF(ISNUMBER(SEARCH($H$16,Q1651)),MAX($N$1:N1650)+1,0)","v":0},{"$f":"IF(ISNUMBER(SEARCH($H$11,Q1651)),MAX($O$1:O1650)+1,0)","v":0},{"$f":"IF(ISNUMBER(SEARCH($H$6,Q1651)),MAX($P$1:P1650)+1,0)","v":0},null,null,null,null,null,null,null,null,null,null,null,null,null,null,{"$f":"IFERROR(VLOOKUP(ROWS($AE$2:AE1651),P1651:Q3554,2,0),\"\")","v":""},null,null,null,null,{"$f":"IFERROR(VLOOKUP(ROWS($AJ$2:AJ1651),O1651:Q3554,3,0),\"\")","v":""},null,{"$f":"IFERROR(VLOOKUP(ROWS(AL$2:$AL1651),N1651:Q3554,4,0),\"\")","v":""}]
[null,null,null,null,null,null,null,null,null,null,null,null,null,{"$f":"IF(ISNUMBER(SEARCH($H$16,Q1652)),MAX($N$1:N1651)+1,0)","v":0},{"$f":"IF(ISNUMBER(SEARCH($H$11,Q1652)),MAX($O$1:O1651)+1,0)","v":0},{"$f":"IF(ISNUMBER(SEARCH($H$6,Q1652)),MAX($P$1:P1651)+1,0)","v":0},null,null,null,null,null,null,null,null,null,null,null,null,null,null,{"$f":"IFERROR(VLOOKUP(ROWS($AE$2:AE1652),P1652:Q3555,2,0),\"\")","v":""},null,null,null,null,{"$f":"IFERROR(VLOOKUP(ROWS($AJ$2:AJ1652),O1652:Q3555,3,0),\"\")","v":""},null,{"$f":"IFERROR(VLOOKUP(ROWS(AL$2:$AL1652),N1652:Q3555,4,0),\"\")","v":""}]
[null,null,null,null,null,null,null,null,null,null,null,null,null,{"$f":"IF(ISNUMBER(SEARCH($H$16,Q1653)),MAX($N$1:N1652)+1,0)","v":0},{"$f":"IF(ISNUMBER(SEARCH($H$11,Q1653)),MAX($O$1:O1652)+1,0)","v":0},{"$f":"IF(ISNUMBER(SEARCH($H$6,Q1653)),MAX($P$1:P1652)+1,0)","v":0},null,null,null,null,null,null,null,null,null,null,null,null,null,null,{"$f":"IFERROR(VLOOKUP(ROWS($AE$2:AE1653),P1653:Q3556,2,0),\"\")","v":""},null,null,null,null,{"$f":"IFERROR(VLOOKUP(ROWS($AJ$2:AJ1653),O1653:Q3556,3,0),\"\")","v":""},null,{"$f":"IFERROR(VLOOKUP(ROWS(AL$2:$AL1653),N1653:Q3556,4,0),\"\")","v":""}]
[null,null,null,null,null,null,null,null,null,null,null,null,null,{"$f":"IF(ISNUMBER(SEARCH($H$16,Q1654)),MAX($N$1:N1653)+1,0)","v":0},{"$f":"IF(ISNUMBER(SEARCH($H$11,Q1654)),MAX($O$1:O1653)+1,0)","v":0},{"$f":"IF(ISNUMBER(SEARCH($H$6,Q1654)),MAX($P$1:P1653)+1,0)","v":0},null,null,null,null,null,null,null,null,null,null,null,null,null,null,{"$f":"IFERROR(VLOOKUP(ROWS($AE$2:AE1654),P1654:Q3557,2,0),\"\")","v":""},null,null,null,null,{"$f":"IFERROR(VLOOKUP(ROWS($AJ$2:AJ1654),O1654:Q3557,3,0),\"\")","v":""},null,{"$f":"IFERROR(VLOOKUP(ROWS(AL$2:$AL1654),N1654:Q3557,4,0),\"\")","v":""}]
[null,null,null,null,null,null,null,null,null,null,null,null,null,{"$f":"IF(ISNUMBER(SEARCH($H$16,Q1655)),MAX($N$1:N1654)+1,0)","v":0},{"$f":"IF(ISNUMBER(SEARCH($H$11,Q1655)),MAX($O$1:O1654)+1,0)","v":0},{"$f":"IF(ISNUMBER(SEARCH($H$6,Q1655)),MAX($P$1:P1654)+1,0)","v":0},null,null,null,null,null,null,null,null,null,null,null,null,null,null,{"$f":"IFERROR(VLOOKUP(ROWS($AE$2:AE1655),P1655:Q3558,2,0),\"\")","v":""},null,null,null,null,{"$f":"IFERROR(VLOOKUP(ROWS($AJ$2:AJ1655),O1655:Q3558,3,0),\"\")","v":""},null,{"$f":"IFERROR(VLOOKUP(ROWS(AL$2:$AL1655),N1655:Q3558,4,0),\"\")","v":""}]
[null,null,null,null,null,null,null,null,null,null,null,null,null,{"$f":"IF(ISNUMBER(SEARCH($H$16,Q1656)),MAX($N$1:N1655)+1,0)","v":0},{"$f":"IF(ISNUMBER(SEARCH($H$11,Q1656)),MAX($O$1:O1655)+1,0)","v":0},{"$f":"IF(ISNUMBER(SEARCH($H$6,Q1656)),MAX($P$1:P1655)+1,0)","v":0},null,null,null,null,null,null,null,null,null,null,null,null,null,null,{"$f":"IFERROR(VLOOKUP(ROWS($AE$2:AE1656),P1656:Q3559,2,0),\"\")","v":""},null,null,null,null,{"$f":"IFERROR(VLOOKUP(ROWS($AJ$2:AJ1656),O1656:Q3559,3,0),\"\")","v":""},null,{"$f":"IFERROR(VLOOKUP(ROWS(AL$2:$AL1656),N1656:Q3559,4,0),\"\")","v":""}]
[null,null,null,null,null,null,null,null,null,null,null,null,null,{"$f":"IF(ISNUMBER(SEARCH($H$16,Q1657)),MAX($N$1:N1656)+1,0)","v":0},{"$f":"IF(ISNUMBER(SEARCH($H$11,Q1657)),MAX($O$1:O1656)+1,0)","v":0},{"$f":"IF(ISNUMBER(SEARCH($H$6,Q1657)),MAX($P$1:P1656)+1,0)","v":0},null,null,null,null,null,null,null,null,null,null,null,null,null,null,{"$f":"IFERROR(VLOOKUP(ROWS($AE$2:AE1657),P1657:Q3560,2,0),\"\")","v":""},null,null,null,null,{"$f":"IFERROR(VLOOKUP(ROWS($AJ$2:AJ1657),O1657:Q3560,3,0),\"\")","v":""},null,{"$f":"IFERROR(VLOOKUP(ROWS(AL$2:$AL1657),N1657:Q3560,4,0),\"\")","v":""}]
[null,null,null,null,null,null,null,null,null,null,null,null,null,{"$f":"IF(ISNUMBER(SEARCH($H$16,Q1658)),MAX($N$1:N1657)+1,0)","v":0},{"$f":"IF(ISNUMBER(SEARCH($H$11,Q1658)),MAX($O$1:O1657)+1,0)","v":0},{"$f":"IF(ISNUMBER(SEARCH($H$6,Q1658)),MAX($P$1:P1657)+1,0)","v":0},null,null,null,null,null,null,null,null,null,null,null,null,null,null,{"$f":"IFERROR(VLOOKUP(ROWS($AE$2:AE1658),P1658:Q3561,2,0),\"\")","v":""},null,null,null,null,{"$f":"IFERROR(VLOOKUP(ROWS($AJ$2:AJ1658),O1658:Q3561,3,0),\"\")","v":""},null,{"$f":"IFERROR(VLOOKUP(ROWS(AL$2:$AL1658),N1658:Q3561,4,0),\"\")","v":""}]
[null,null,null,null,null,null,null,null,null,null,null,null,null,{"$f":"IF(ISNUMBER(SEARCH($H$16,Q1659)),MAX($N$1:N1658)+1,0)","v":0},{"$f":"IF(ISNUMBER(SEARCH($H$11,Q1659)),MAX($O$1:O1658)+1,0)","v":0},{"$f":"IF(ISNUMBER(SEARCH($H$6,Q1659)),MAX($P$1:P1658)+1,0)","v":0},null,null,null,null,null,null,null,null,null,null,null,null,null,null,{"$f":"IFERROR(VLOOKUP(ROWS($AE$2:AE1659),P1659:Q3562,2,0),\"\")","v":""},null,null,null,null,{"$f":"IFERROR(VLOOKUP(ROWS($AJ$2:AJ1659),O1659:Q3562,3,0),\"\")","v":""},null,{"$f":"IFERROR(VLOOKUP(ROWS(AL$2:$AL1659),N1659:Q3562,4,0),\"\")","v":""}]
[null,null,null,null,null,null,null,null,null,null,null,null,null,{"$f":"IF(ISNUMBER(SEARCH($H$16,Q1660)),MAX($N$1:N1659)+1,0)","v":0},{"$f":"IF(ISNUMBER(SEARCH($H$11,Q1660)),MAX($O$1:O1659)+1,0)","v":0},{"$f":"IF(ISNUMBER(SEARCH($H$6,Q1660)),MAX($P$1:P1659)+1,0)","v":0},null,null,null,null,null,null,null,null,null,null,null,null,null,null,{"$f":"IFERROR(VLOOKUP(ROWS($AE$2:AE1660),P1660:Q3563,2,0),\"\")","v":""},null,null,null,null,{"$f":"IFERROR(VLOOKUP(ROWS($AJ$2:AJ1660),O1660:Q3563,3,0),\"\")","v":""},null,{"$f":"IFERROR(VLOOKUP(ROWS(AL$2:$AL1660),N1660:Q3563,4,0),\"\")","v":""}]
[null,null,null,null,null,null,null,null,null,null,null,null,null,{"$f":"IF(ISNUMBER(SEARCH($H$16,Q1661)),MAX($N$1:N1660)+1,0)","v":0},{"$f":"IF(ISNUMBER(SEARCH($H$11,Q1661)),MAX($O$1:O1660)+1,0)","v":0},{"$f":"IF(ISNUMBER(SEARCH($H$6,Q1661)),MAX($P$1:P1660)+1,0)","v":0},null,null,null,null,null,null,null,null,null,null,null,null,null,null,{"$f":"IFERROR(VLOOKUP(ROWS($AE$2:AE1661),P1661:Q3564,2,0),\"\")","v":""},null,null,null,null,{"$f":"IFERROR(VLOOKUP(ROWS($AJ$2:AJ1661),O1661:Q3564,3,0),\"\")","v":""},null,{"$f":"IFERROR(VLOOKUP(ROWS(AL$2:$AL1661),N1661:Q3564,4,0),\"\")","v":""}]
[null,null,null,null,null,null,null,null,null,null,null,null,null,{"$f":"IF(ISNUMBER(SEARCH($H$16,Q1662)),MAX($N$1:N1661)+1,0)","v":0},{"$f":"IF(ISNUMBER(SEARCH($H$11,Q1662)),MAX($O$1:O1661)+1,0)","v":0},{"$f":"IF(ISNUMBER(SEARCH($H$6,Q1662)),MAX($P$1:P1661)+1,0)","v":0},null,null,null,null,null,null,null,null,null,null,null,null,null,null,{"$f":"IFERROR(VLOOKUP(ROWS($AE$2:AE1662),P1662:Q3565,2,0),\"\")","v":""},null,null,null,null,{"$f":"IFERROR(VLOOKUP(ROWS($AJ$2:AJ1662),O1662:Q3565,3,0),\"\")","v":""},null,{"$f":"IFERROR(VLOOKUP(ROWS(AL$2:$AL1662),N1662:Q3565,4,0),\"\")","v":""}]
[null,null,null,null,null,null,null,null,null,null,null,null,null,{"$f":"IF(ISNUMBER(SEARCH($H$16,Q1663)),MAX($N$1:N1662)+1,0)","v":0},{"$f":"IF(ISNUMBER(SEARCH($H$11,Q1663)),MAX($O$1:O1662)+1,0)","v":0},{"$f":"IF(ISNUMBER(SEARCH($H$6,Q1663)),MAX($P$1:P1662)+1,0)","v":0},null,null,null,null,null,null,null,null,null,null,null,null,null,null,{"$f":"IFERROR(VLOOKUP(ROWS($AE$2:AE1663),P1663:Q3566,2,0),\"\")","v":""},null,null,null,null,{"$f":"IFERROR(VLOOKUP(ROWS($AJ$2:AJ1663),O1663:Q3566,3,0),\"\")","v":""},null,{"$f":"IFERROR(VLOOKUP(ROWS(AL$2:$AL1663),N1663:Q3566,4,0),\"\")","v":""}]
[null,null,null,null,null,null,null,null,null,null,null,null,null,{"$f":"IF(ISNUMBER(SEARCH($H$16,Q1664)),MAX($N$1:N1663)+1,0)","v":0},{"$f":"IF(ISNUMBER(SEARCH($H$11,Q1664)),MAX($O$1:O1663)+1,0)","v":0},{"$f":"IF(ISNUMBER(SEARCH($H$6,Q1664)),MAX($P$1:P1663)+1,0)","v":0},null,null,null,null,null,null,null,null,null,null,null,null,null,null,{"$f":"IFERROR(VLOOKUP(ROWS($AE$2:AE1664),P1664:Q3567,2,0),\"\")","v":""},null,null,null,null,{"$f":"IFERROR(VLOOKUP(ROWS($AJ$2:AJ1664),O1664:Q3567,3,0),\"\")","v":""},null,{"$f":"IFERROR(VLOOKUP(ROWS(AL$2:$AL1664),N1664:Q3567,4,0),\"\")","v":""}]
[null,null,null,null,null,null,null,null,null,null,null,null,null,{"$f":"IF(ISNUMBER(SEARCH($H$16,Q1665)),MAX($N$1:N1664)+1,0)","v":0},{"$f":"IF(ISNUMBER(SEARCH($H$11,Q1665)),MAX($O$1:O1664)+1,0)","v":0},{"$f":"IF(ISNUMBER(SEARCH($H$6,Q1665)),MAX($P$1:P1664)+1,0)","v":0},null,null,null,null,null,null,null,null,null,null,null,null,null,null,{"$f":"IFERROR(VLOOKUP(ROWS($AE$2:AE1665),P1665:Q3568,2,0),\"\")","v":""},null,null,null,null,{"$f":"IFERROR(VLOOKUP(ROWS($AJ$2:AJ1665),O1665:Q3568,3,0),\"\")","v":""},null,{"$f":"IFERROR(VLOOKUP(ROWS(AL$2:$AL1665),N1665:Q3568,4,0),\"\")","v":""}]
[null,null,null,null,null,null,null,null,null,null,null,null,null,{"$f":"IF(ISNUMBER(SEARCH($H$16,Q1666)),MAX($N$1:N1665)+1,0)","v":0},{"$f":"IF(ISNUMBER(SEARCH($H$11,Q1666)),MAX($O$1:O1665)+1,0)","v":0},{"$f":"IF(ISNUMBER(SEARCH($H$6,Q1666)),MAX($P$1:P1665)+1,0)","v":0},null,null,null,null,null,null,null,null,null,null,null,null,null,null,{"$f":"IFERROR(VLOOKUP(ROWS($AE$2:AE1666),P1666:Q3569,2,0),\"\")","v":""},null,null,null,null,{"$f":"IFERROR(VLOOKUP(ROWS($AJ$2:AJ1666),O1666:Q3569,3,0),\"\")","v":""},null,{"$f":"IFERROR(VLOOKUP(ROWS(AL$2:$AL1666),N1666:Q3569,4,0),\"\")","v":""}]
[null,null,null,null,null,null,null,null,null,null,null,null,null,{"$f":"IF(ISNUMBER(SEARCH($H$16,Q1667)),MAX($N$1:N1666)+1,0)","v":0},{"$f":"IF(ISNUMBER(SEARCH($H$11,Q1667)),MAX($O$1:O1666)+1,0)","v":0},{"$f":"IF(ISNUMBER(SEARCH($H$6,Q1667)),MAX($P$1:P1666)+1,0)","v":0},null,null,null,null,null,null,null,null,null,null,null,null,null,null,{"$f":"IFERROR(VLOOKUP(ROWS($AE$2:AE1667),P1667:Q3570,2,0),\"\")","v":""},null,null,null,null,{"$f":"IFERROR(VLOOKUP(ROWS($AJ$2:AJ1667),O1667:Q3570,3,0),\"\")","v":""},null,{"$f":"IFERROR(VLOOKUP(ROWS(AL$2:$AL1667),N1667:Q3570,4,0),\"\")","v":""}]
[null,null,null,null,null,null,null,null,null,null,null,null,null,{"$f":"IF(ISNUMBER(SEARCH($H$16,Q1668)),MAX($N$1:N1667)+1,0)","v":0},{"$f":"IF(ISNUMBER(SEARCH($H$11,Q1668)),MAX($O$1:O1667)+1,0)","v":0},{"$f":"IF(ISNUMBER(SEARCH($H$6,Q1668)),MAX($P$1:P1667)+1,0)","v":0},null,null,null,null,null,null,null,null,null,null,null,null,null,null,{"$f":"IFERROR(VLOOKUP(ROWS($AE$2:AE1668),P1668:Q3571,2,0),\"\")","v":""},null,null,null,null,{"$f":"IFERROR(VLOOKUP(ROWS($AJ$2:AJ1668),O1668:Q3571,3,0),\"\")","v":""},null,{"$f":"IFERROR(VLOOKUP(ROWS(AL$2:$AL1668),N1668:Q3571,4,0),\"\")","v":""}]
[null,null,null,null,null,null,null,null,null,null,null,null,null,{"$f":"IF(ISNUMBER(SEARCH($H$16,Q1669)),MAX($N$1:N1668)+1,0)","v":0},{"$f":"IF(ISNUMBER(SEARCH($H$11,Q1669)),MAX($O$1:O1668)+1,0)","v":0},{"$f":"IF(ISNUMBER(SEARCH($H$6,Q1669)),MAX($P$1:P1668)+1,0)","v":0},null,null,null,null,null,null,null,null,null,null,null,null,null,null,{"$f":"IFERROR(VLOOKUP(ROWS($AE$2:AE1669),P1669:Q3572,2,0),\"\")","v":""},null,null,null,null,{"$f":"IFERROR(VLOOKUP(ROWS($AJ$2:AJ1669),O1669:Q3572,3,0),\"\")","v":""},null,{"$f":"IFERROR(VLOOKUP(ROWS(AL$2:$AL1669),N1669:Q3572,4,0),\"\")","v":""}]
[null,null,null,null,null,null,null,null,null,null,null,null,null,{"$f":"IF(ISNUMBER(SEARCH($H$16,Q1670)),MAX($N$1:N1669)+1,0)","v":0},{"$f":"IF(ISNUMBER(SEARCH($H$11,Q1670)),MAX($O$1:O1669)+1,0)","v":0},{"$f":"IF(ISNUMBER(SEARCH($H$6,Q1670)),MAX($P$1:P1669)+1,0)","v":0},null,null,null,null,null,null,null,null,null,null,null,null,null,null,{"$f":"IFERROR(VLOOKUP(ROWS($AE$2:AE1670),P1670:Q3573,2,0),\"\")","v":""},null,null,null,null,{"$f":"IFERROR(VLOOKUP(ROWS($AJ$2:AJ1670),O1670:Q3573,3,0),\"\")","v":""},null,{"$f":"IFERROR(VLOOKUP(ROWS(AL$2:$AL1670),N1670:Q3573,4,0),\"\")","v":""}]
[null,null,null,null,null,null,null,null,null,null,null,null,null,{"$f":"IF(ISNUMBER(SEARCH($H$16,Q1671)),MAX($N$1:N1670)+1,0)","v":0},{"$f":"IF(ISNUMBER(SEARCH($H$11,Q1671)),MAX($O$1:O1670)+1,0)","v":0},{"$f":"IF(ISNUMBER(SEARCH($H$6,Q1671)),MAX($P$1:P1670)+1,0)","v":0},null,null,null,null,null,null,null,null,null,null,null,null,null,null,{"$f":"IFERROR(VLOOKUP(ROWS($AE$2:AE1671),P1671:Q3574,2,0),\"\")","v":""},null,null,null,null,{"$f":"IFERROR(VLOOKUP(ROWS($AJ$2:AJ1671),O1671:Q3574,3,0),\"\")","v":""},null,{"$f":"IFERROR(VLOOKUP(ROWS(AL$2:$AL1671),N1671:Q3574,4,0),\"\")","v":""}]
[null,null,null,null,null,null,null,null,null,null,null,null,null,{"$f":"IF(ISNUMBER(SEARCH($H$16,Q1672)),MAX($N$1:N1671)+1,0)","v":0},{"$f":"IF(ISNUMBER(SEARCH($H$11,Q1672)),MAX($O$1:O1671)+1,0)","v":0},{"$f":"IF(ISNUMBER(SEARCH($H$6,Q1672)),MAX($P$1:P1671)+1,0)","v":0},null,null,null,null,null,null,null,null,null,null,null,null,null,null,{"$f":"IFERROR(VLOOKUP(ROWS($AE$2:AE1672),P1672:Q3575,2,0),\"\")","v":""},null,null,null,null,{"$f":"IFERROR(VLOOKUP(ROWS($AJ$2:AJ1672),O1672:Q3575,3,0),\"\")","v":""},null,{"$f":"IFERROR(VLOOKUP(ROWS(AL$2:$AL1672),N1672:Q3575,4,0),\"\")","v":""}]
[null,null,null,null,null,null,null,null,null,null,null,null,null,{"$f":"IF(ISNUMBER(SEARCH($H$16,Q1673)),MAX($N$1:N1672)+1,0)","v":0},{"$f":"IF(ISNUMBER(SEARCH($H$11,Q1673)),MAX($O$1:O1672)+1,0)","v":0},{"$f":"IF(ISNUMBER(SEARCH($H$6,Q1673)),MAX($P$1:P1672)+1,0)","v":0},null,null,null,null,null,null,null,null,null,null,null,null,null,null,{"$f":"IFERROR(VLOOKUP(ROWS($AE$2:AE1673),P1673:Q3576,2,0),\"\")","v":""},null,null,null,null,{"$f":"IFERROR(VLOOKUP(ROWS($AJ$2:AJ1673),O1673:Q3576,3,0),\"\")","v":""},null,{"$f":"IFERROR(VLOOKUP(ROWS(AL$2:$AL1673),N1673:Q3576,4,0),\"\")","v":""}]
[null,null,null,null,null,null,null,null,null,null,null,null,null,{"$f":"IF(ISNUMBER(SEARCH($H$16,Q1674)),MAX($N$1:N1673)+1,0)","v":0},{"$f":"IF(ISNUMBER(SEARCH($H$11,Q1674)),MAX($O$1:O1673)+1,0)","v":0},{"$f":"IF(ISNUMBER(SEARCH($H$6,Q1674)),MAX($P$1:P1673)+1,0)","v":0},null,null,null,null,null,null,null,null,null,null,null,null,null,null,{"$f":"IFERROR(VLOOKUP(ROWS($AE$2:AE1674),P1674:Q3577,2,0),\"\")","v":""},null,null,null,null,{"$f":"IFERROR(VLOOKUP(ROWS($AJ$2:AJ1674),O1674:Q3577,3,0),\"\")","v":""},null,{"$f":"IFERROR(VLOOKUP(ROWS(AL$2:$AL1674),N1674:Q3577,4,0),\"\")","v":""}]
[null,null,null,null,null,null,null,null,null,null,null,null,null,{"$f":"IF(ISNUMBER(SEARCH($H$16,Q1675)),MAX($N$1:N1674)+1,0)","v":0},{"$f":"IF(ISNUMBER(SEARCH($H$11,Q1675)),MAX($O$1:O1674)+1,0)","v":0},{"$f":"IF(ISNUMBER(SEARCH($H$6,Q1675)),MAX($P$1:P1674)+1,0)","v":0},null,null,null,null,null,null,null,null,null,null,null,null,null,null,{"$f":"IFERROR(VLOOKUP(ROWS($AE$2:AE1675),P1675:Q3578,2,0),\"\")","v":""},null,null,null,null,{"$f":"IFERROR(VLOOKUP(ROWS($AJ$2:AJ1675),O1675:Q3578,3,0),\"\")","v":""},null,{"$f":"IFERROR(VLOOKUP(ROWS(AL$2:$AL1675),N1675:Q3578,4,0),\"\")","v":""}]
[null,null,null,null,null,null,null,null,null,null,null,null,null,{"$f":"IF(ISNUMBER(SEARCH($H$16,Q1676)),MAX($N$1:N1675)+1,0)","v":0},{"$f":"IF(ISNUMBER(SEARCH($H$11,Q1676)),MAX($O$1:O1675)+1,0)","v":0},{"$f":"IF(ISNUMBER(SEARCH($H$6,Q1676)),MAX($P$1:P1675)+1,0)","v":0},null,null,null,null,null,null,null,null,null,null,null,null,null,null,{"$f":"IFERROR(VLOOKUP(ROWS($AE$2:AE1676),P1676:Q3579,2,0),\"\")","v":""},null,null,null,null,{"$f":"IFERROR(VLOOKUP(ROWS($AJ$2:AJ1676),O1676:Q3579,3,0),\"\")","v":""},null,{"$f":"IFERROR(VLOOKUP(ROWS(AL$2:$AL1676),N1676:Q3579,4,0),\"\")","v":""}]
[null,null,null,null,null,null,null,null,null,null,null,null,null,{"$f":"IF(ISNUMBER(SEARCH($H$16,Q1677)),MAX($N$1:N1676)+1,0)","v":0},{"$f":"IF(ISNUMBER(SEARCH($H$11,Q1677)),MAX($O$1:O1676)+1,0)","v":0},{"$f":"IF(ISNUMBER(SEARCH($H$6,Q1677)),MAX($P$1:P1676)+1,0)","v":0},null,null,null,null,null,null,null,null,null,null,null,null,null,null,{"$f":"IFERROR(VLOOKUP(ROWS($AE$2:AE1677),P1677:Q3580,2,0),\"\")","v":""},null,null,null,null,{"$f":"IFERROR(VLOOKUP(ROWS($AJ$2:AJ1677),O1677:Q3580,3,0),\"\")","v":""},null,{"$f":"IFERROR(VLOOKUP(ROWS(AL$2:$AL1677),N1677:Q3580,4,0),\"\")","v":""}]
[null,null,null,null,null,null,null,null,null,null,null,null,null,{"$f":"IF(ISNUMBER(SEARCH($H$16,Q1678)),MAX($N$1:N1677)+1,0)","v":0},{"$f":"IF(ISNUMBER(SEARCH($H$11,Q1678)),MAX($O$1:O1677)+1,0)","v":0},{"$f":"IF(ISNUMBER(SEARCH($H$6,Q1678)),MAX($P$1:P1677)+1,0)","v":0},null,null,null,null,null,null,null,null,null,null,null,null,null,null,{"$f":"IFERROR(VLOOKUP(ROWS($AE$2:AE1678),P1678:Q3581,2,0),\"\")","v":""},null,null,null,null,{"$f":"IFERROR(VLOOKUP(ROWS($AJ$2:AJ1678),O1678:Q3581,3,0),\"\")","v":""},null,{"$f":"IFERROR(VLOOKUP(ROWS(AL$2:$AL1678),N1678:Q3581,4,0),\"\")","v":""}]
[null,null,null,null,null,null,null,null,null,null,null,null,null,{"$f":"IF(ISNUMBER(SEARCH($H$16,Q1679)),MAX($N$1:N1678)+1,0)","v":0},{"$f":"IF(ISNUMBER(SEARCH($H$11,Q1679)),MAX($O$1:O1678)+1,0)","v":0},{"$f":"IF(ISNUMBER(SEARCH($H$6,Q1679)),MAX($P$1:P1678)+1,0)","v":0},null,null,null,null,null,null,null,null,null,null,null,null,null,null,{"$f":"IFERROR(VLOOKUP(ROWS($AE$2:AE1679),P1679:Q3582,2,0),\"\")","v":""},null,null,null,null,{"$f":"IFERROR(VLOOKUP(ROWS($AJ$2:AJ1679),O1679:Q3582,3,0),\"\")","v":""},null,{"$f":"IFERROR(VLOOKUP(ROWS(AL$2:$AL1679),N1679:Q3582,4,0),\"\")","v":""}]
[null,null,null,null,null,null,null,null,null,null,null,null,null,{"$f":"IF(ISNUMBER(SEARCH($H$16,Q1680)),MAX($N$1:N1679)+1,0)","v":0},{"$f":"IF(ISNUMBER(SEARCH($H$11,Q1680)),MAX($O$1:O1679)+1,0)","v":0},{"$f":"IF(ISNUMBER(SEARCH($H$6,Q1680)),MAX($P$1:P1679)+1,0)","v":0},null,null,null,null,null,null,null,null,null,null,null,null,null,null,{"$f":"IFERROR(VLOOKUP(ROWS($AE$2:AE1680),P1680:Q3583,2,0),\"\")","v":""},null,null,null,null,{"$f":"IFERROR(VLOOKUP(ROWS($AJ$2:AJ1680),O1680:Q3583,3,0),\"\")","v":""},null,{"$f":"IFERROR(VLOOKUP(ROWS(AL$2:$AL1680),N1680:Q3583,4,0),\"\")","v":""}]
[null,null,null,null,null,null,null,null,null,null,null,null,null,{"$f":"IF(ISNUMBER(SEARCH($H$16,Q1681)),MAX($N$1:N1680)+1,0)","v":0},{"$f":"IF(ISNUMBER(SEARCH($H$11,Q1681)),MAX($O$1:O1680)+1,0)","v":0},{"$f":"IF(ISNUMBER(SEARCH($H$6,Q1681)),MAX($P$1:P1680)+1,0)","v":0},null,null,null,null,null,null,null,null,null,null,null,null,null,null,{"$f":"IFERROR(VLOOKUP(ROWS($AE$2:AE1681),P1681:Q3584,2,0),\"\")","v":""},null,null,null,null,{"$f":"IFERROR(VLOOKUP(ROWS($AJ$2:AJ1681),O1681:Q3584,3,0),\"\")","v":""},null,{"$f":"IFERROR(VLOOKUP(ROWS(AL$2:$AL1681),N1681:Q3584,4,0),\"\")","v":""}]
[null,null,null,null,null,null,null,null,null,null,null,null,null,{"$f":"IF(ISNUMBER(SEARCH($H$16,Q1682)),MAX($N$1:N1681)+1,0)","v":0},{"$f":"IF(ISNUMBER(SEARCH($H$11,Q1682)),MAX($O$1:O1681)+1,0)","v":0},{"$f":"IF(ISNUMBER(SEARCH($H$6,Q1682)),MAX($P$1:P1681)+1,0)","v":0},null,null,null,null,null,null,null,null,null,null,null,null,null,null,{"$f":"IFERROR(VLOOKUP(ROWS($AE$2:AE1682),P1682:Q3585,2,0),\"\")","v":""},null,null,null,null,{"$f":"IFERROR(VLOOKUP(ROWS($AJ$2:AJ1682),O1682:Q3585,3,0),\"\")","v":""},null,{"$f":"IFERROR(VLOOKUP(ROWS(AL$2:$AL1682),N1682:Q3585,4,0),\"\")","v":""}]
[null,null,null,null,null,null,null,null,null,null,null,null,null,{"$f":"IF(ISNUMBER(SEARCH($H$16,Q1683)),MAX($N$1:N1682)+1,0)","v":0},{"$f":"IF(ISNUMBER(SEARCH($H$11,Q1683)),MAX($O$1:O1682)+1,0)","v":0},{"$f":"IF(ISNUMBER(SEARCH($H$6,Q1683)),MAX($P$1:P1682)+1,0)","v":0},null,null,null,null,null,null,null,null,null,null,null,null,null,null,{"$f":"IFERROR(VLOOKUP(ROWS($AE$2:AE1683),P1683:Q3586,2,0),\"\")","v":""},null,null,null,null,{"$f":"IFERROR(VLOOKUP(ROWS($AJ$2:AJ1683),O1683:Q3586,3,0),\"\")","v":""},null,{"$f":"IFERROR(VLOOKUP(ROWS(AL$2:$AL1683),N1683:Q3586,4,0),\"\")","v":""}]
[null,null,null,null,null,null,null,null,null,null,null,null,null,{"$f":"IF(ISNUMBER(SEARCH($H$16,Q1684)),MAX($N$1:N1683)+1,0)","v":0},{"$f":"IF(ISNUMBER(SEARCH($H$11,Q1684)),MAX($O$1:O1683)+1,0)","v":0},{"$f":"IF(ISNUMBER(SEARCH($H$6,Q1684)),MAX($P$1:P1683)+1,0)","v":0},null,null,null,null,null,null,null,null,null,null,null,null,null,null,{"$f":"IFERROR(VLOOKUP(ROWS($AE$2:AE1684),P1684:Q3587,2,0),\"\")","v":""},null,null,null,null,{"$f":"IFERROR(VLOOKUP(ROWS($AJ$2:AJ1684),O1684:Q3587,3,0),\"\")","v":""},null,{"$f":"IFERROR(VLOOKUP(ROWS(AL$2:$AL1684),N1684:Q3587,4,0),\"\")","v":""}]
[null,null,null,null,null,null,null,null,null,null,null,null,null,{"$f":"IF(ISNUMBER(SEARCH($H$16,Q1685)),MAX($N$1:N1684)+1,0)","v":0},{"$f":"IF(ISNUMBER(SEARCH($H$11,Q1685)),MAX($O$1:O1684)+1,0)","v":0},{"$f":"IF(ISNUMBER(SEARCH($H$6,Q1685)),MAX($P$1:P1684)+1,0)","v":0},null,null,null,null,null,null,null,null,null,null,null,null,null,null,{"$f":"IFERROR(VLOOKUP(ROWS($AE$2:AE1685),P1685:Q3588,2,0),\"\")","v":""},null,null,null,null,{"$f":"IFERROR(VLOOKUP(ROWS($AJ$2:AJ1685),O1685:Q3588,3,0),\"\")","v":""},null,{"$f":"IFERROR(VLOOKUP(ROWS(AL$2:$AL1685),N1685:Q3588,4,0),\"\")","v":""}]
[null,null,null,null,null,null,null,null,null,null,null,null,null,{"$f":"IF(ISNUMBER(SEARCH($H$16,Q1686)),MAX($N$1:N1685)+1,0)","v":0},{"$f":"IF(ISNUMBER(SEARCH($H$11,Q1686)),MAX($O$1:O1685)+1,0)","v":0},{"$f":"IF(ISNUMBER(SEARCH($H$6,Q1686)),MAX($P$1:P1685)+1,0)","v":0},null,null,null,null,null,null,null,null,null,null,null,null,null,null,{"$f":"IFERROR(VLOOKUP(ROWS($AE$2:AE1686),P1686:Q3589,2,0),\"\")","v":""},null,null,null,null,{"$f":"IFERROR(VLOOKUP(ROWS($AJ$2:AJ1686),O1686:Q3589,3,0),\"\")","v":""},null,{"$f":"IFERROR(VLOOKUP(ROWS(AL$2:$AL1686),N1686:Q3589,4,0),\"\")","v":""}]
[null,null,null,null,null,null,null,null,null,null,null,null,null,{"$f":"IF(ISNUMBER(SEARCH($H$16,Q1687)),MAX($N$1:N1686)+1,0)","v":0},{"$f":"IF(ISNUMBER(SEARCH($H$11,Q1687)),MAX($O$1:O1686)+1,0)","v":0},{"$f":"IF(ISNUMBER(SEARCH($H$6,Q1687)),MAX($P$1:P1686)+1,0)","v":0},null,null,null,null,null,null,null,null,null,null,null,null,null,null,{"$f":"IFERROR(VLOOKUP(ROWS($AE$2:AE1687),P1687:Q3590,2,0),\"\")","v":""},null,null,null,null,{"$f":"IFERROR(VLOOKUP(ROWS($AJ$2:AJ1687),O1687:Q3590,3,0),\"\")","v":""},null,{"$f":"IFERROR(VLOOKUP(ROWS(AL$2:$AL1687),N1687:Q3590,4,0),\"\")","v":""}]
[null,null,null,null,null,null,null,null,null,null,null,null,null,{"$f":"IF(ISNUMBER(SEARCH($H$16,Q1688)),MAX($N$1:N1687)+1,0)","v":0},{"$f":"IF(ISNUMBER(SEARCH($H$11,Q1688)),MAX($O$1:O1687)+1,0)","v":0},{"$f":"IF(ISNUMBER(SEARCH($H$6,Q1688)),MAX($P$1:P1687)+1,0)","v":0},null,null,null,null,null,null,null,null,null,null,null,null,null,null,{"$f":"IFERROR(VLOOKUP(ROWS($AE$2:AE1688),P1688:Q3591,2,0),\"\")","v":""},null,null,null,null,{"$f":"IFERROR(VLOOKUP(ROWS($AJ$2:AJ1688),O1688:Q3591,3,0),\"\")","v":""},null,{"$f":"IFERROR(VLOOKUP(ROWS(AL$2:$AL1688),N1688:Q3591,4,0),\"\")","v":""}]
[null,null,null,null,null,null,null,null,null,null,null,null,null,{"$f":"IF(ISNUMBER(SEARCH($H$16,Q1689)),MAX($N$1:N1688)+1,0)","v":0},{"$f":"IF(ISNUMBER(SEARCH($H$11,Q1689)),MAX($O$1:O1688)+1,0)","v":0},{"$f":"IF(ISNUMBER(SEARCH($H$6,Q1689)),MAX($P$1:P1688)+1,0)","v":0},null,null,null,null,null,null,null,null,null,null,null,null,null,null,{"$f":"IFERROR(VLOOKUP(ROWS($AE$2:AE1689),P1689:Q3592,2,0),\"\")","v":""},null,null,null,null,{"$f":"IFERROR(VLOOKUP(ROWS($AJ$2:AJ1689),O1689:Q3592,3,0),\"\")","v":""},null,{"$f":"IFERROR(VLOOKUP(ROWS(AL$2:$AL1689),N1689:Q3592,4,0),\"\")","v":""}]
[null,null,null,null,null,null,null,null,null,null,null,null,null,{"$f":"IF(ISNUMBER(SEARCH($H$16,Q1690)),MAX($N$1:N1689)+1,0)","v":0},{"$f":"IF(ISNUMBER(SEARCH($H$11,Q1690)),MAX($O$1:O1689)+1,0)","v":0},{"$f":"IF(ISNUMBER(SEARCH($H$6,Q1690)),MAX($P$1:P1689)+1,0)","v":0},null,null,null,null,null,null,null,null,null,null,null,null,null,null,{"$f":"IFERROR(VLOOKUP(ROWS($AE$2:AE1690),P1690:Q3593,2,0),\"\")","v":""},null,null,null,null,{"$f":"IFERROR(VLOOKUP(ROWS($AJ$2:AJ1690),O1690:Q3593,3,0),\"\")","v":""},null,{"$f":"IFERROR(VLOOKUP(ROWS(AL$2:$AL1690),N1690:Q3593,4,0),\"\")","v":""}]
[null,null,null,null,null,null,null,null,null,null,null,null,null,{"$f":"IF(ISNUMBER(SEARCH($H$16,Q1691)),MAX($N$1:N1690)+1,0)","v":0},{"$f":"IF(ISNUMBER(SEARCH($H$11,Q1691)),MAX($O$1:O1690)+1,0)","v":0},{"$f":"IF(ISNUMBER(SEARCH($H$6,Q1691)),MAX($P$1:P1690)+1,0)","v":0},null,null,null,null,null,null,null,null,null,null,null,null,null,null,{"$f":"IFERROR(VLOOKUP(ROWS($AE$2:AE1691),P1691:Q3594,2,0),\"\")","v":""},null,null,null,null,{"$f":"IFERROR(VLOOKUP(ROWS($AJ$2:AJ1691),O1691:Q3594,3,0),\"\")","v":""},null,{"$f":"IFERROR(VLOOKUP(ROWS(AL$2:$AL1691),N1691:Q3594,4,0),\"\")","v":""}]
[null,null,null,null,null,null,null,null,null,null,null,null,null,{"$f":"IF(ISNUMBER(SEARCH($H$16,Q1692)),MAX($N$1:N1691)+1,0)","v":0},{"$f":"IF(ISNUMBER(SEARCH($H$11,Q1692)),MAX($O$1:O1691)+1,0)","v":0},{"$f":"IF(ISNUMBER(SEARCH($H$6,Q1692)),MAX($P$1:P1691)+1,0)","v":0},null,null,null,null,null,null,null,null,null,null,null,null,null,null,{"$f":"IFERROR(VLOOKUP(ROWS($AE$2:AE1692),P1692:Q3595,2,0),\"\")","v":""},null,null,null,null,{"$f":"IFERROR(VLOOKUP(ROWS($AJ$2:AJ1692),O1692:Q3595,3,0),\"\")","v":""},null,{"$f":"IFERROR(VLOOKUP(ROWS(AL$2:$AL1692),N1692:Q3595,4,0),\"\")","v":""}]
[null,null,null,null,null,null,null,null,null,null,null,null,null,{"$f":"IF(ISNUMBER(SEARCH($H$16,Q1693)),MAX($N$1:N1692)+1,0)","v":0},{"$f":"IF(ISNUMBER(SEARCH($H$11,Q1693)),MAX($O$1:O1692)+1,0)","v":0},{"$f":"IF(ISNUMBER(SEARCH($H$6,Q1693)),MAX($P$1:P1692)+1,0)","v":0},null,null,null,null,null,null,null,null,null,null,null,null,null,null,{"$f":"IFERROR(VLOOKUP(ROWS($AE$2:AE1693),P1693:Q3596,2,0),\"\")","v":""},null,null,null,null,{"$f":"IFERROR(VLOOKUP(ROWS($AJ$2:AJ1693),O1693:Q3596,3,0),\"\")","v":""},null,{"$f":"IFERROR(VLOOKUP(ROWS(AL$2:$AL1693),N1693:Q3596,4,0),\"\")","v":""}]
[null,null,null,null,null,null,null,null,null,null,null,null,null,{"$f":"IF(ISNUMBER(SEARCH($H$16,Q1694)),MAX($N$1:N1693)+1,0)","v":0},{"$f":"IF(ISNUMBER(SEARCH($H$11,Q1694)),MAX($O$1:O1693)+1,0)","v":0},{"$f":"IF(ISNUMBER(SEARCH($H$6,Q1694)),MAX($P$1:P1693)+1,0)","v":0},null,null,null,null,null,null,null,null,null,null,null,null,null,null,{"$f":"IFERROR(VLOOKUP(ROWS($AE$2:AE1694),P1694:Q3597,2,0),\"\")","v":""},null,null,null,null,{"$f":"IFERROR(VLOOKUP(ROWS($AJ$2:AJ1694),O1694:Q3597,3,0),\"\")","v":""},null,{"$f":"IFERROR(VLOOKUP(ROWS(AL$2:$AL1694),N1694:Q3597,4,0),\"\")","v":""}]
[null,null,null,null,null,null,null,null,null,null,null,null,null,{"$f":"IF(ISNUMBER(SEARCH($H$16,Q1695)),MAX($N$1:N1694)+1,0)","v":0},{"$f":"IF(ISNUMBER(SEARCH($H$11,Q1695)),MAX($O$1:O1694)+1,0)","v":0},{"$f":"IF(ISNUMBER(SEARCH($H$6,Q1695)),MAX($P$1:P1694)+1,0)","v":0},null,null,null,null,null,null,null,null,null,null,null,null,null,null,{"$f":"IFERROR(VLOOKUP(ROWS($AE$2:AE1695),P1695:Q3598,2,0),\"\")","v":""},null,null,null,null,{"$f":"IFERROR(VLOOKUP(ROWS($AJ$2:AJ1695),O1695:Q3598,3,0),\"\")","v":""},null,{"$f":"IFERROR(VLOOKUP(ROWS(AL$2:$AL1695),N1695:Q3598,4,0),\"\")","v":""}]
[null,null,null,null,null,null,null,null,null,null,null,null,null,{"$f":"IF(ISNUMBER(SEARCH($H$16,Q1696)),MAX($N$1:N1695)+1,0)","v":0},{"$f":"IF(ISNUMBER(SEARCH($H$11,Q1696)),MAX($O$1:O1695)+1,0)","v":0},{"$f":"IF(ISNUMBER(SEARCH($H$6,Q1696)),MAX($P$1:P1695)+1,0)","v":0},null,null,null,null,null,null,null,null,null,null,null,null,null,null,{"$f":"IFERROR(VLOOKUP(ROWS($AE$2:AE1696),P1696:Q3599,2,0),\"\")","v":""},null,null,null,null,{"$f":"IFERROR(VLOOKUP(ROWS($AJ$2:AJ1696),O1696:Q3599,3,0),\"\")","v":""},null,{"$f":"IFERROR(VLOOKUP(ROWS(AL$2:$AL1696),N1696:Q3599,4,0),\"\")","v":""}]
[null,null,null,null,null,null,null,null,null,null,null,null,null,{"$f":"IF(ISNUMBER(SEARCH($H$16,Q1697)),MAX($N$1:N1696)+1,0)","v":0},{"$f":"IF(ISNUMBER(SEARCH($H$11,Q1697)),MAX($O$1:O1696)+1,0)","v":0},{"$f":"IF(ISNUMBER(SEARCH($H$6,Q1697)),MAX($P$1:P1696)+1,0)","v":0},null,null,null,null,null,null,null,null,null,null,null,null,null,null,{"$f":"IFERROR(VLOOKUP(ROWS($AE$2:AE1697),P1697:Q3600,2,0),\"\")","v":""},null,null,null,null,{"$f":"IFERROR(VLOOKUP(ROWS($AJ$2:AJ1697),O1697:Q3600,3,0),\"\")","v":""},null,{"$f":"IFERROR(VLOOKUP(ROWS(AL$2:$AL1697),N1697:Q3600,4,0),\"\")","v":""}]
[null,null,null,null,null,null,null,null,null,null,null,null,null,{"$f":"IF(ISNUMBER(SEARCH($H$16,Q1698)),MAX($N$1:N1697)+1,0)","v":0},{"$f":"IF(ISNUMBER(SEARCH($H$11,Q1698)),MAX($O$1:O1697)+1,0)","v":0},{"$f":"IF(ISNUMBER(SEARCH($H$6,Q1698)),MAX($P$1:P1697)+1,0)","v":0},null,null,null,null,null,null,null,null,null,null,null,null,null,null,{"$f":"IFERROR(VLOOKUP(ROWS($AE$2:AE1698),P1698:Q3601,2,0),\"\")","v":""},null,null,null,null,{"$f":"IFERROR(VLOOKUP(ROWS($AJ$2:AJ1698),O1698:Q3601,3,0),\"\")","v":""},null,{"$f":"IFERROR(VLOOKUP(ROWS(AL$2:$AL1698),N1698:Q3601,4,0),\"\")","v":""}]
[null,null,null,null,null,null,null,null,null,null,null,null,null,{"$f":"IF(ISNUMBER(SEARCH($H$16,Q1699)),MAX($N$1:N1698)+1,0)","v":0},{"$f":"IF(ISNUMBER(SEARCH($H$11,Q1699)),MAX($O$1:O1698)+1,0)","v":0},{"$f":"IF(ISNUMBER(SEARCH($H$6,Q1699)),MAX($P$1:P1698)+1,0)","v":0},null,null,null,null,null,null,null,null,null,null,null,null,null,null,{"$f":"IFERROR(VLOOKUP(ROWS($AE$2:AE1699),P1699:Q3602,2,0),\"\")","v":""},null,null,null,null,{"$f":"IFERROR(VLOOKUP(ROWS($AJ$2:AJ1699),O1699:Q3602,3,0),\"\")","v":""},null,{"$f":"IFERROR(VLOOKUP(ROWS(AL$2:$AL1699),N1699:Q3602,4,0),\"\")","v":""}]
[null,null,null,null,null,null,null,null,null,null,null,null,null,{"$f":"IF(ISNUMBER(SEARCH($H$16,Q1700)),MAX($N$1:N1699)+1,0)","v":0},{"$f":"IF(ISNUMBER(SEARCH($H$11,Q1700)),MAX($O$1:O1699)+1,0)","v":0},{"$f":"IF(ISNUMBER(SEARCH($H$6,Q1700)),MAX($P$1:P1699)+1,0)","v":0},null,null,null,null,null,null,null,null,null,null,null,null,null,null,{"$f":"IFERROR(VLOOKUP(ROWS($AE$2:AE1700),P1700:Q3603,2,0),\"\")","v":""},null,null,null,null,{"$f":"IFERROR(VLOOKUP(ROWS($AJ$2:AJ1700),O1700:Q3603,3,0),\"\")","v":""},null,{"$f":"IFERROR(VLOOKUP(ROWS(AL$2:$AL1700),N1700:Q3603,4,0),\"\")","v":""}]
[null,null,null,null,null,null,null,null,null,null,null,null,null,{"$f":"IF(ISNUMBER(SEARCH($H$16,Q1701)),MAX($N$1:N1700)+1,0)","v":0},{"$f":"IF(ISNUMBER(SEARCH($H$11,Q1701)),MAX($O$1:O1700)+1,0)","v":0},{"$f":"IF(ISNUMBER(SEARCH($H$6,Q1701)),MAX($P$1:P1700)+1,0)","v":0},null,null,null,null,null,null,null,null,null,null,null,null,null,null,{"$f":"IFERROR(VLOOKUP(ROWS($AE$2:AE1701),P1701:Q3604,2,0),\"\")","v":""},null,null,null,null,{"$f":"IFERROR(VLOOKUP(ROWS($AJ$2:AJ1701),O1701:Q3604,3,0),\"\")","v":""},null,{"$f":"IFERROR(VLOOKUP(ROWS(AL$2:$AL1701),N1701:Q3604,4,0),\"\")","v":""}]
[null,null,null,null,null,null,null,null,null,null,null,null,null,{"$f":"IF(ISNUMBER(SEARCH($H$16,Q1702)),MAX($N$1:N1701)+1,0)","v":0},{"$f":"IF(ISNUMBER(SEARCH($H$11,Q1702)),MAX($O$1:O1701)+1,0)","v":0},{"$f":"IF(ISNUMBER(SEARCH($H$6,Q1702)),MAX($P$1:P1701)+1,0)","v":0},null,null,null,null,null,null,null,null,null,null,null,null,null,null,{"$f":"IFERROR(VLOOKUP(ROWS($AE$2:AE1702),P1702:Q3605,2,0),\"\")","v":""},null,null,null,null,{"$f":"IFERROR(VLOOKUP(ROWS($AJ$2:AJ1702),O1702:Q3605,3,0),\"\")","v":""},null,{"$f":"IFERROR(VLOOKUP(ROWS(AL$2:$AL1702),N1702:Q3605,4,0),\"\")","v":""}]
[null,null,null,null,null,null,null,null,null,null,null,null,null,{"$f":"IF(ISNUMBER(SEARCH($H$16,Q1703)),MAX($N$1:N1702)+1,0)","v":0},{"$f":"IF(ISNUMBER(SEARCH($H$11,Q1703)),MAX($O$1:O1702)+1,0)","v":0},{"$f":"IF(ISNUMBER(SEARCH($H$6,Q1703)),MAX($P$1:P1702)+1,0)","v":0},null,null,null,null,null,null,null,null,null,null,null,null,null,null,{"$f":"IFERROR(VLOOKUP(ROWS($AE$2:AE1703),P1703:Q3606,2,0),\"\")","v":""},null,null,null,null,{"$f":"IFERROR(VLOOKUP(ROWS($AJ$2:AJ1703),O1703:Q3606,3,0),\"\")","v":""},null,{"$f":"IFERROR(VLOOKUP(ROWS(AL$2:$AL1703),N1703:Q3606,4,0),\"\")","v":""}]
[null,null,null,null,null,null,null,null,null,null,null,null,null,{"$f":"IF(ISNUMBER(SEARCH($H$16,Q1704)),MAX($N$1:N1703)+1,0)","v":0},{"$f":"IF(ISNUMBER(SEARCH($H$11,Q1704)),MAX($O$1:O1703)+1,0)","v":0},{"$f":"IF(ISNUMBER(SEARCH($H$6,Q1704)),MAX($P$1:P1703)+1,0)","v":0},null,null,null,null,null,null,null,null,null,null,null,null,null,null,{"$f":"IFERROR(VLOOKUP(ROWS($AE$2:AE1704),P1704:Q3607,2,0),\"\")","v":""},null,null,null,null,{"$f":"IFERROR(VLOOKUP(ROWS($AJ$2:AJ1704),O1704:Q3607,3,0),\"\")","v":""},null,{"$f":"IFERROR(VLOOKUP(ROWS(AL$2:$AL1704),N1704:Q3607,4,0),\"\")","v":""}]
[null,null,null,null,null,null,null,null,null,null,null,null,null,{"$f":"IF(ISNUMBER(SEARCH($H$16,Q1705)),MAX($N$1:N1704)+1,0)","v":0},{"$f":"IF(ISNUMBER(SEARCH($H$11,Q1705)),MAX($O$1:O1704)+1,0)","v":0},{"$f":"IF(ISNUMBER(SEARCH($H$6,Q1705)),MAX($P$1:P1704)+1,0)","v":0},null,null,null,null,null,null,null,null,null,null,null,null,null,null,{"$f":"IFERROR(VLOOKUP(ROWS($AE$2:AE1705),P1705:Q3608,2,0),\"\")","v":""},null,null,null,null,{"$f":"IFERROR(VLOOKUP(ROWS($AJ$2:AJ1705),O1705:Q3608,3,0),\"\")","v":""},null,{"$f":"IFERROR(VLOOKUP(ROWS(AL$2:$AL1705),N1705:Q3608,4,0),\"\")","v":""}]
[null,null,null,null,null,null,null,null,null,null,null,null,null,{"$f":"IF(ISNUMBER(SEARCH($H$16,Q1706)),MAX($N$1:N1705)+1,0)","v":0},{"$f":"IF(ISNUMBER(SEARCH($H$11,Q1706)),MAX($O$1:O1705)+1,0)","v":0},{"$f":"IF(ISNUMBER(SEARCH($H$6,Q1706)),MAX($P$1:P1705)+1,0)","v":0},null,null,null,null,null,null,null,null,null,null,null,null,null,null,{"$f":"IFERROR(VLOOKUP(ROWS($AE$2:AE1706),P1706:Q3609,2,0),\"\")","v":""},null,null,null,null,{"$f":"IFERROR(VLOOKUP(ROWS($AJ$2:AJ1706),O1706:Q3609,3,0),\"\")","v":""},null,{"$f":"IFERROR(VLOOKUP(ROWS(AL$2:$AL1706),N1706:Q3609,4,0),\"\")","v":""}]
[null,null,null,null,null,null,null,null,null,null,null,null,null,{"$f":"IF(ISNUMBER(SEARCH($H$16,Q1707)),MAX($N$1:N1706)+1,0)","v":0},{"$f":"IF(ISNUMBER(SEARCH($H$11,Q1707)),MAX($O$1:O1706)+1,0)","v":0},{"$f":"IF(ISNUMBER(SEARCH($H$6,Q1707)),MAX($P$1:P1706)+1,0)","v":0},null,null,null,null,null,null,null,null,null,null,null,null,null,null,{"$f":"IFERROR(VLOOKUP(ROWS($AE$2:AE1707),P1707:Q3610,2,0),\"\")","v":""},null,null,null,null,{"$f":"IFERROR(VLOOKUP(ROWS($AJ$2:AJ1707),O1707:Q3610,3,0),\"\")","v":""},null,{"$f":"IFERROR(VLOOKUP(ROWS(AL$2:$AL1707),N1707:Q3610,4,0),\"\")","v":""}]
[null,null,null,null,null,null,null,null,null,null,null,null,null,{"$f":"IF(ISNUMBER(SEARCH($H$16,Q1708)),MAX($N$1:N1707)+1,0)","v":0},{"$f":"IF(ISNUMBER(SEARCH($H$11,Q1708)),MAX($O$1:O1707)+1,0)","v":0},{"$f":"IF(ISNUMBER(SEARCH($H$6,Q1708)),MAX($P$1:P1707)+1,0)","v":0},null,null,null,null,null,null,null,null,null,null,null,null,null,null,{"$f":"IFERROR(VLOOKUP(ROWS($AE$2:AE1708),P1708:Q3611,2,0),\"\")","v":""},null,null,null,null,{"$f":"IFERROR(VLOOKUP(ROWS($AJ$2:AJ1708),O1708:Q3611,3,0),\"\")","v":""},null,{"$f":"IFERROR(VLOOKUP(ROWS(AL$2:$AL1708),N1708:Q3611,4,0),\"\")","v":""}]
[null,null,null,null,null,null,null,null,null,null,null,null,null,{"$f":"IF(ISNUMBER(SEARCH($H$16,Q1709)),MAX($N$1:N1708)+1,0)","v":0},{"$f":"IF(ISNUMBER(SEARCH($H$11,Q1709)),MAX($O$1:O1708)+1,0)","v":0},{"$f":"IF(ISNUMBER(SEARCH($H$6,Q1709)),MAX($P$1:P1708)+1,0)","v":0},null,null,null,null,null,null,null,null,null,null,null,null,null,null,{"$f":"IFERROR(VLOOKUP(ROWS($AE$2:AE1709),P1709:Q3612,2,0),\"\")","v":""},null,null,null,null,{"$f":"IFERROR(VLOOKUP(ROWS($AJ$2:AJ1709),O1709:Q3612,3,0),\"\")","v":""},null,{"$f":"IFERROR(VLOOKUP(ROWS(AL$2:$AL1709),N1709:Q3612,4,0),\"\")","v":""}]
[null,null,null,null,null,null,null,null,null,null,null,null,null,{"$f":"IF(ISNUMBER(SEARCH($H$16,Q1710)),MAX($N$1:N1709)+1,0)","v":0},{"$f":"IF(ISNUMBER(SEARCH($H$11,Q1710)),MAX($O$1:O1709)+1,0)","v":0},{"$f":"IF(ISNUMBER(SEARCH($H$6,Q1710)),MAX($P$1:P1709)+1,0)","v":0},null,null,null,null,null,null,null,null,null,null,null,null,null,null,{"$f":"IFERROR(VLOOKUP(ROWS($AE$2:AE1710),P1710:Q3613,2,0),\"\")","v":""},null,null,null,null,{"$f":"IFERROR(VLOOKUP(ROWS($AJ$2:AJ1710),O1710:Q3613,3,0),\"\")","v":""},null,{"$f":"IFERROR(VLOOKUP(ROWS(AL$2:$AL1710),N1710:Q3613,4,0),\"\")","v":""}]
[null,null,null,null,null,null,null,null,null,null,null,null,null,{"$f":"IF(ISNUMBER(SEARCH($H$16,Q1711)),MAX($N$1:N1710)+1,0)","v":0},{"$f":"IF(ISNUMBER(SEARCH($H$11,Q1711)),MAX($O$1:O1710)+1,0)","v":0},{"$f":"IF(ISNUMBER(SEARCH($H$6,Q1711)),MAX($P$1:P1710)+1,0)","v":0},null,null,null,null,null,null,null,null,null,null,null,null,null,null,{"$f":"IFERROR(VLOOKUP(ROWS($AE$2:AE1711),P1711:Q3614,2,0),\"\")","v":""},null,null,null,null,{"$f":"IFERROR(VLOOKUP(ROWS($AJ$2:AJ1711),O1711:Q3614,3,0),\"\")","v":""},null,{"$f":"IFERROR(VLOOKUP(ROWS(AL$2:$AL1711),N1711:Q3614,4,0),\"\")","v":""}]
[null,null,null,null,null,null,null,null,null,null,null,null,null,{"$f":"IF(ISNUMBER(SEARCH($H$16,Q1712)),MAX($N$1:N1711)+1,0)","v":0},{"$f":"IF(ISNUMBER(SEARCH($H$11,Q1712)),MAX($O$1:O1711)+1,0)","v":0},{"$f":"IF(ISNUMBER(SEARCH($H$6,Q1712)),MAX($P$1:P1711)+1,0)","v":0},null,null,null,null,null,null,null,null,null,null,null,null,null,null,{"$f":"IFERROR(VLOOKUP(ROWS($AE$2:AE1712),P1712:Q3615,2,0),\"\")","v":""},null,null,null,null,{"$f":"IFERROR(VLOOKUP(ROWS($AJ$2:AJ1712),O1712:Q3615,3,0),\"\")","v":""},null,{"$f":"IFERROR(VLOOKUP(ROWS(AL$2:$AL1712),N1712:Q3615,4,0),\"\")","v":""}]
[null,null,null,null,null,null,null,null,null,null,null,null,null,{"$f":"IF(ISNUMBER(SEARCH($H$16,Q1713)),MAX($N$1:N1712)+1,0)","v":0},{"$f":"IF(ISNUMBER(SEARCH($H$11,Q1713)),MAX($O$1:O1712)+1,0)","v":0},{"$f":"IF(ISNUMBER(SEARCH($H$6,Q1713)),MAX($P$1:P1712)+1,0)","v":0},null,null,null,null,null,null,null,null,null,null,null,null,null,null,{"$f":"IFERROR(VLOOKUP(ROWS($AE$2:AE1713),P1713:Q3616,2,0),\"\")","v":""},null,null,null,null,{"$f":"IFERROR(VLOOKUP(ROWS($AJ$2:AJ1713),O1713:Q3616,3,0),\"\")","v":""},null,{"$f":"IFERROR(VLOOKUP(ROWS(AL$2:$AL1713),N1713:Q3616,4,0),\"\")","v":""}]
[null,null,null,null,null,null,null,null,null,null,null,null,null,{"$f":"IF(ISNUMBER(SEARCH($H$16,Q1714)),MAX($N$1:N1713)+1,0)","v":0},{"$f":"IF(ISNUMBER(SEARCH($H$11,Q1714)),MAX($O$1:O1713)+1,0)","v":0},{"$f":"IF(ISNUMBER(SEARCH($H$6,Q1714)),MAX($P$1:P1713)+1,0)","v":0},null,null,null,null,null,null,null,null,null,null,null,null,null,null,{"$f":"IFERROR(VLOOKUP(ROWS($AE$2:AE1714),P1714:Q3617,2,0),\"\")","v":""},null,null,null,null,{"$f":"IFERROR(VLOOKUP(ROWS($AJ$2:AJ1714),O1714:Q3617,3,0),\"\")","v":""},null,{"$f":"IFERROR(VLOOKUP(ROWS(AL$2:$AL1714),N1714:Q3617,4,0),\"\")","v":""}]
[null,null,null,null,null,null,null,null,null,null,null,null,null,{"$f":"IF(ISNUMBER(SEARCH($H$16,Q1715)),MAX($N$1:N1714)+1,0)","v":0},{"$f":"IF(ISNUMBER(SEARCH($H$11,Q1715)),MAX($O$1:O1714)+1,0)","v":0},{"$f":"IF(ISNUMBER(SEARCH($H$6,Q1715)),MAX($P$1:P1714)+1,0)","v":0},null,null,null,null,null,null,null,null,null,null,null,null,null,null,{"$f":"IFERROR(VLOOKUP(ROWS($AE$2:AE1715),P1715:Q3618,2,0),\"\")","v":""},null,null,null,null,{"$f":"IFERROR(VLOOKUP(ROWS($AJ$2:AJ1715),O1715:Q3618,3,0),\"\")","v":""},null,{"$f":"IFERROR(VLOOKUP(ROWS(AL$2:$AL1715),N1715:Q3618,4,0),\"\")","v":""}]
[null,null,null,null,null,null,null,null,null,null,null,null,null,{"$f":"IF(ISNUMBER(SEARCH($H$16,Q1716)),MAX($N$1:N1715)+1,0)","v":0},{"$f":"IF(ISNUMBER(SEARCH($H$11,Q1716)),MAX($O$1:O1715)+1,0)","v":0},{"$f":"IF(ISNUMBER(SEARCH($H$6,Q1716)),MAX($P$1:P1715)+1,0)","v":0},null,null,null,null,null,null,null,null,null,null,null,null,null,null,{"$f":"IFERROR(VLOOKUP(ROWS($AE$2:AE1716),P1716:Q3619,2,0),\"\")","v":""},null,null,null,null,{"$f":"IFERROR(VLOOKUP(ROWS($AJ$2:AJ1716),O1716:Q3619,3,0),\"\")","v":""},null,{"$f":"IFERROR(VLOOKUP(ROWS(AL$2:$AL1716),N1716:Q3619,4,0),\"\")","v":""}]
[null,null,null,null,null,null,null,null,null,null,null,null,null,{"$f":"IF(ISNUMBER(SEARCH($H$16,Q1717)),MAX($N$1:N1716)+1,0)","v":0},{"$f":"IF(ISNUMBER(SEARCH($H$11,Q1717)),MAX($O$1:O1716)+1,0)","v":0},{"$f":"IF(ISNUMBER(SEARCH($H$6,Q1717)),MAX($P$1:P1716)+1,0)","v":0},null,null,null,null,null,null,null,null,null,null,null,null,null,null,{"$f":"IFERROR(VLOOKUP(ROWS($AE$2:AE1717),P1717:Q3620,2,0),\"\")","v":""},null,null,null,null,{"$f":"IFERROR(VLOOKUP(ROWS($AJ$2:AJ1717),O1717:Q3620,3,0),\"\")","v":""},null,{"$f":"IFERROR(VLOOKUP(ROWS(AL$2:$AL1717),N1717:Q3620,4,0),\"\")","v":""}]
[null,null,null,null,null,null,null,null,null,null,null,null,null,{"$f":"IF(ISNUMBER(SEARCH($H$16,Q1718)),MAX($N$1:N1717)+1,0)","v":0},{"$f":"IF(ISNUMBER(SEARCH($H$11,Q1718)),MAX($O$1:O1717)+1,0)","v":0},{"$f":"IF(ISNUMBER(SEARCH($H$6,Q1718)),MAX($P$1:P1717)+1,0)","v":0},null,null,null,null,null,null,null,null,null,null,null,null,null,null,{"$f":"IFERROR(VLOOKUP(ROWS($AE$2:AE1718),P1718:Q3621,2,0),\"\")","v":""},null,null,null,null,{"$f":"IFERROR(VLOOKUP(ROWS($AJ$2:AJ1718),O1718:Q3621,3,0),\"\")","v":""},null,{"$f":"IFERROR(VLOOKUP(ROWS(AL$2:$AL1718),N1718:Q3621,4,0),\"\")","v":""}]
[null,null,null,null,null,null,null,null,null,null,null,null,null,{"$f":"IF(ISNUMBER(SEARCH($H$16,Q1719)),MAX($N$1:N1718)+1,0)","v":0},{"$f":"IF(ISNUMBER(SEARCH($H$11,Q1719)),MAX($O$1:O1718)+1,0)","v":0},{"$f":"IF(ISNUMBER(SEARCH($H$6,Q1719)),MAX($P$1:P1718)+1,0)","v":0},null,null,null,null,null,null,null,null,null,null,null,null,null,null,{"$f":"IFERROR(VLOOKUP(ROWS($AE$2:AE1719),P1719:Q3622,2,0),\"\")","v":""},null,null,null,null,{"$f":"IFERROR(VLOOKUP(ROWS($AJ$2:AJ1719),O1719:Q3622,3,0),\"\")","v":""},null,{"$f":"IFERROR(VLOOKUP(ROWS(AL$2:$AL1719),N1719:Q3622,4,0),\"\")","v":""}]
[null,null,null,null,null,null,null,null,null,null,null,null,null,{"$f":"IF(ISNUMBER(SEARCH($H$16,Q1720)),MAX($N$1:N1719)+1,0)","v":0},{"$f":"IF(ISNUMBER(SEARCH($H$11,Q1720)),MAX($O$1:O1719)+1,0)","v":0},{"$f":"IF(ISNUMBER(SEARCH($H$6,Q1720)),MAX($P$1:P1719)+1,0)","v":0},null,null,null,null,null,null,null,null,null,null,null,null,null,null,{"$f":"IFERROR(VLOOKUP(ROWS($AE$2:AE1720),P1720:Q3623,2,0),\"\")","v":""},null,null,null,null,{"$f":"IFERROR(VLOOKUP(ROWS($AJ$2:AJ1720),O1720:Q3623,3,0),\"\")","v":""},null,{"$f":"IFERROR(VLOOKUP(ROWS(AL$2:$AL1720),N1720:Q3623,4,0),\"\")","v":""}]
[null,null,null,null,null,null,null,null,null,null,null,null,null,{"$f":"IF(ISNUMBER(SEARCH($H$16,Q1721)),MAX($N$1:N1720)+1,0)","v":0},{"$f":"IF(ISNUMBER(SEARCH($H$11,Q1721)),MAX($O$1:O1720)+1,0)","v":0},{"$f":"IF(ISNUMBER(SEARCH($H$6,Q1721)),MAX($P$1:P1720)+1,0)","v":0},null,null,null,null,null,null,null,null,null,null,null,null,null,null,{"$f":"IFERROR(VLOOKUP(ROWS($AE$2:AE1721),P1721:Q3624,2,0),\"\")","v":""},null,null,null,null,{"$f":"IFERROR(VLOOKUP(ROWS($AJ$2:AJ1721),O1721:Q3624,3,0),\"\")","v":""},null,{"$f":"IFERROR(VLOOKUP(ROWS(AL$2:$AL1721),N1721:Q3624,4,0),\"\")","v":""}]
[null,null,null,null,null,null,null,null,null,null,null,null,null,{"$f":"IF(ISNUMBER(SEARCH($H$16,Q1722)),MAX($N$1:N1721)+1,0)","v":0},{"$f":"IF(ISNUMBER(SEARCH($H$11,Q1722)),MAX($O$1:O1721)+1,0)","v":0},{"$f":"IF(ISNUMBER(SEARCH($H$6,Q1722)),MAX($P$1:P1721)+1,0)","v":0},null,null,null,null,null,null,null,null,null,null,null,null,null,null,{"$f":"IFERROR(VLOOKUP(ROWS($AE$2:AE1722),P1722:Q3625,2,0),\"\")","v":""},null,null,null,null,{"$f":"IFERROR(VLOOKUP(ROWS($AJ$2:AJ1722),O1722:Q3625,3,0),\"\")","v":""},null,{"$f":"IFERROR(VLOOKUP(ROWS(AL$2:$AL1722),N1722:Q3625,4,0),\"\")","v":""}]
[null,null,null,null,null,null,null,null,null,null,null,null,null,{"$f":"IF(ISNUMBER(SEARCH($H$16,Q1723)),MAX($N$1:N1722)+1,0)","v":0},{"$f":"IF(ISNUMBER(SEARCH($H$11,Q1723)),MAX($O$1:O1722)+1,0)","v":0},{"$f":"IF(ISNUMBER(SEARCH($H$6,Q1723)),MAX($P$1:P1722)+1,0)","v":0},null,null,null,null,null,null,null,null,null,null,null,null,null,null,{"$f":"IFERROR(VLOOKUP(ROWS($AE$2:AE1723),P1723:Q3626,2,0),\"\")","v":""},null,null,null,null,{"$f":"IFERROR(VLOOKUP(ROWS($AJ$2:AJ1723),O1723:Q3626,3,0),\"\")","v":""},null,{"$f":"IFERROR(VLOOKUP(ROWS(AL$2:$AL1723),N1723:Q3626,4,0),\"\")","v":""}]
[null,null,null,null,null,null,null,null,null,null,null,null,null,{"$f":"IF(ISNUMBER(SEARCH($H$16,Q1724)),MAX($N$1:N1723)+1,0)","v":0},{"$f":"IF(ISNUMBER(SEARCH($H$11,Q1724)),MAX($O$1:O1723)+1,0)","v":0},{"$f":"IF(ISNUMBER(SEARCH($H$6,Q1724)),MAX($P$1:P1723)+1,0)","v":0},null,null,null,null,null,null,null,null,null,null,null,null,null,null,{"$f":"IFERROR(VLOOKUP(ROWS($AE$2:AE1724),P1724:Q3627,2,0),\"\")","v":""},null,null,null,null,{"$f":"IFERROR(VLOOKUP(ROWS($AJ$2:AJ1724),O1724:Q3627,3,0),\"\")","v":""},null,{"$f":"IFERROR(VLOOKUP(ROWS(AL$2:$AL1724),N1724:Q3627,4,0),\"\")","v":""}]
[null,null,null,null,null,null,null,null,null,null,null,null,null,{"$f":"IF(ISNUMBER(SEARCH($H$16,Q1725)),MAX($N$1:N1724)+1,0)","v":0},{"$f":"IF(ISNUMBER(SEARCH($H$11,Q1725)),MAX($O$1:O1724)+1,0)","v":0},{"$f":"IF(ISNUMBER(SEARCH($H$6,Q1725)),MAX($P$1:P1724)+1,0)","v":0},null,null,null,null,null,null,null,null,null,null,null,null,null,null,{"$f":"IFERROR(VLOOKUP(ROWS($AE$2:AE1725),P1725:Q3628,2,0),\"\")","v":""},null,null,null,null,{"$f":"IFERROR(VLOOKUP(ROWS($AJ$2:AJ1725),O1725:Q3628,3,0),\"\")","v":""},null,{"$f":"IFERROR(VLOOKUP(ROWS(AL$2:$AL1725),N1725:Q3628,4,0),\"\")","v":""}]
[null,null,null,null,null,null,null,null,null,null,null,null,null,{"$f":"IF(ISNUMBER(SEARCH($H$16,Q1726)),MAX($N$1:N1725)+1,0)","v":0},{"$f":"IF(ISNUMBER(SEARCH($H$11,Q1726)),MAX($O$1:O1725)+1,0)","v":0},{"$f":"IF(ISNUMBER(SEARCH($H$6,Q1726)),MAX($P$1:P1725)+1,0)","v":0},null,null,null,null,null,null,null,null,null,null,null,null,null,null,{"$f":"IFERROR(VLOOKUP(ROWS($AE$2:AE1726),P1726:Q3629,2,0),\"\")","v":""},null,null,null,null,{"$f":"IFERROR(VLOOKUP(ROWS($AJ$2:AJ1726),O1726:Q3629,3,0),\"\")","v":""},null,{"$f":"IFERROR(VLOOKUP(ROWS(AL$2:$AL1726),N1726:Q3629,4,0),\"\")","v":""}]
[null,null,null,null,null,null,null,null,null,null,null,null,null,{"$f":"IF(ISNUMBER(SEARCH($H$16,Q1727)),MAX($N$1:N1726)+1,0)","v":0},{"$f":"IF(ISNUMBER(SEARCH($H$11,Q1727)),MAX($O$1:O1726)+1,0)","v":0},{"$f":"IF(ISNUMBER(SEARCH($H$6,Q1727)),MAX($P$1:P1726)+1,0)","v":0},null,null,null,null,null,null,null,null,null,null,null,null,null,null,{"$f":"IFERROR(VLOOKUP(ROWS($AE$2:AE1727),P1727:Q3630,2,0),\"\")","v":""},null,null,null,null,{"$f":"IFERROR(VLOOKUP(ROWS($AJ$2:AJ1727),O1727:Q3630,3,0),\"\")","v":""},null,{"$f":"IFERROR(VLOOKUP(ROWS(AL$2:$AL1727),N1727:Q3630,4,0),\"\")","v":""}]
[null,null,null,null,null,null,null,null,null,null,null,null,null,{"$f":"IF(ISNUMBER(SEARCH($H$16,Q1728)),MAX($N$1:N1727)+1,0)","v":0},{"$f":"IF(ISNUMBER(SEARCH($H$11,Q1728)),MAX($O$1:O1727)+1,0)","v":0},{"$f":"IF(ISNUMBER(SEARCH($H$6,Q1728)),MAX($P$1:P1727)+1,0)","v":0},null,null,null,null,null,null,null,null,null,null,null,null,null,null,{"$f":"IFERROR(VLOOKUP(ROWS($AE$2:AE1728),P1728:Q3631,2,0),\"\")","v":""},null,null,null,null,{"$f":"IFERROR(VLOOKUP(ROWS($AJ$2:AJ1728),O1728:Q3631,3,0),\"\")","v":""},null,{"$f":"IFERROR(VLOOKUP(ROWS(AL$2:$AL1728),N1728:Q3631,4,0),\"\")","v":""}]
[null,null,null,null,null,null,null,null,null,null,null,null,null,{"$f":"IF(ISNUMBER(SEARCH($H$16,Q1729)),MAX($N$1:N1728)+1,0)","v":0},{"$f":"IF(ISNUMBER(SEARCH($H$11,Q1729)),MAX($O$1:O1728)+1,0)","v":0},{"$f":"IF(ISNUMBER(SEARCH($H$6,Q1729)),MAX($P$1:P1728)+1,0)","v":0},null,null,null,null,null,null,null,null,null,null,null,null,null,null,{"$f":"IFERROR(VLOOKUP(ROWS($AE$2:AE1729),P1729:Q3632,2,0),\"\")","v":""},null,null,null,null,{"$f":"IFERROR(VLOOKUP(ROWS($AJ$2:AJ1729),O1729:Q3632,3,0),\"\")","v":""},null,{"$f":"IFERROR(VLOOKUP(ROWS(AL$2:$AL1729),N1729:Q3632,4,0),\"\")","v":""}]
[null,null,null,null,null,null,null,null,null,null,null,null,null,{"$f":"IF(ISNUMBER(SEARCH($H$16,Q1730)),MAX($N$1:N1729)+1,0)","v":0},{"$f":"IF(ISNUMBER(SEARCH($H$11,Q1730)),MAX($O$1:O1729)+1,0)","v":0},{"$f":"IF(ISNUMBER(SEARCH($H$6,Q1730)),MAX($P$1:P1729)+1,0)","v":0},null,null,null,null,null,null,null,null,null,null,null,null,null,null,{"$f":"IFERROR(VLOOKUP(ROWS($AE$2:AE1730),P1730:Q3633,2,0),\"\")","v":""},null,null,null,null,{"$f":"IFERROR(VLOOKUP(ROWS($AJ$2:AJ1730),O1730:Q3633,3,0),\"\")","v":""},null,{"$f":"IFERROR(VLOOKUP(ROWS(AL$2:$AL1730),N1730:Q3633,4,0),\"\")","v":""}]
[null,null,null,null,null,null,null,null,null,null,null,null,null,{"$f":"IF(ISNUMBER(SEARCH($H$16,Q1731)),MAX($N$1:N1730)+1,0)","v":0},{"$f":"IF(ISNUMBER(SEARCH($H$11,Q1731)),MAX($O$1:O1730)+1,0)","v":0},{"$f":"IF(ISNUMBER(SEARCH($H$6,Q1731)),MAX($P$1:P1730)+1,0)","v":0},null,null,null,null,null,null,null,null,null,null,null,null,null,null,{"$f":"IFERROR(VLOOKUP(ROWS($AE$2:AE1731),P1731:Q3634,2,0),\"\")","v":""},null,null,null,null,{"$f":"IFERROR(VLOOKUP(ROWS($AJ$2:AJ1731),O1731:Q3634,3,0),\"\")","v":""},null,{"$f":"IFERROR(VLOOKUP(ROWS(AL$2:$AL1731),N1731:Q3634,4,0),\"\")","v":""}]
[null,null,null,null,null,null,null,null,null,null,null,null,null,{"$f":"IF(ISNUMBER(SEARCH($H$16,Q1732)),MAX($N$1:N1731)+1,0)","v":0},{"$f":"IF(ISNUMBER(SEARCH($H$11,Q1732)),MAX($O$1:O1731)+1,0)","v":0},{"$f":"IF(ISNUMBER(SEARCH($H$6,Q1732)),MAX($P$1:P1731)+1,0)","v":0},null,null,null,null,null,null,null,null,null,null,null,null,null,null,{"$f":"IFERROR(VLOOKUP(ROWS($AE$2:AE1732),P1732:Q3635,2,0),\"\")","v":""},null,null,null,null,{"$f":"IFERROR(VLOOKUP(ROWS($AJ$2:AJ1732),O1732:Q3635,3,0),\"\")","v":""},null,{"$f":"IFERROR(VLOOKUP(ROWS(AL$2:$AL1732),N1732:Q3635,4,0),\"\")","v":""}]
[null,null,null,null,null,null,null,null,null,null,null,null,null,{"$f":"IF(ISNUMBER(SEARCH($H$16,Q1733)),MAX($N$1:N1732)+1,0)","v":0},{"$f":"IF(ISNUMBER(SEARCH($H$11,Q1733)),MAX($O$1:O1732)+1,0)","v":0},{"$f":"IF(ISNUMBER(SEARCH($H$6,Q1733)),MAX($P$1:P1732)+1,0)","v":0},null,null,null,null,null,null,null,null,null,null,null,null,null,null,{"$f":"IFERROR(VLOOKUP(ROWS($AE$2:AE1733),P1733:Q3636,2,0),\"\")","v":""},null,null,null,null,{"$f":"IFERROR(VLOOKUP(ROWS($AJ$2:AJ1733),O1733:Q3636,3,0),\"\")","v":""},null,{"$f":"IFERROR(VLOOKUP(ROWS(AL$2:$AL1733),N1733:Q3636,4,0),\"\")","v":""}]
[null,null,null,null,null,null,null,null,null,null,null,null,null,{"$f":"IF(ISNUMBER(SEARCH($H$16,Q1734)),MAX($N$1:N1733)+1,0)","v":0},{"$f":"IF(ISNUMBER(SEARCH($H$11,Q1734)),MAX($O$1:O1733)+1,0)","v":0},{"$f":"IF(ISNUMBER(SEARCH($H$6,Q1734)),MAX($P$1:P1733)+1,0)","v":0},null,null,null,null,null,null,null,null,null,null,null,null,null,null,{"$f":"IFERROR(VLOOKUP(ROWS($AE$2:AE1734),P1734:Q3637,2,0),\"\")","v":""},null,null,null,null,{"$f":"IFERROR(VLOOKUP(ROWS($AJ$2:AJ1734),O1734:Q3637,3,0),\"\")","v":""},null,{"$f":"IFERROR(VLOOKUP(ROWS(AL$2:$AL1734),N1734:Q3637,4,0),\"\")","v":""}]
[null,null,null,null,null,null,null,null,null,null,null,null,null,{"$f":"IF(ISNUMBER(SEARCH($H$16,Q1735)),MAX($N$1:N1734)+1,0)","v":0},{"$f":"IF(ISNUMBER(SEARCH($H$11,Q1735)),MAX($O$1:O1734)+1,0)","v":0},{"$f":"IF(ISNUMBER(SEARCH($H$6,Q1735)),MAX($P$1:P1734)+1,0)","v":0},null,null,null,null,null,null,null,null,null,null,null,null,null,null,{"$f":"IFERROR(VLOOKUP(ROWS($AE$2:AE1735),P1735:Q3638,2,0),\"\")","v":""},null,null,null,null,{"$f":"IFERROR(VLOOKUP(ROWS($AJ$2:AJ1735),O1735:Q3638,3,0),\"\")","v":""},null,{"$f":"IFERROR(VLOOKUP(ROWS(AL$2:$AL1735),N1735:Q3638,4,0),\"\")","v":""}]
[null,null,null,null,null,null,null,null,null,null,null,null,null,{"$f":"IF(ISNUMBER(SEARCH($H$16,Q1736)),MAX($N$1:N1735)+1,0)","v":0},{"$f":"IF(ISNUMBER(SEARCH($H$11,Q1736)),MAX($O$1:O1735)+1,0)","v":0},{"$f":"IF(ISNUMBER(SEARCH($H$6,Q1736)),MAX($P$1:P1735)+1,0)","v":0},null,null,null,null,null,null,null,null,null,null,null,null,null,null,{"$f":"IFERROR(VLOOKUP(ROWS($AE$2:AE1736),P1736:Q3639,2,0),\"\")","v":""},null,null,null,null,{"$f":"IFERROR(VLOOKUP(ROWS($AJ$2:AJ1736),O1736:Q3639,3,0),\"\")","v":""},null,{"$f":"IFERROR(VLOOKUP(ROWS(AL$2:$AL1736),N1736:Q3639,4,0),\"\")","v":""}]
[null,null,null,null,null,null,null,null,null,null,null,null,null,{"$f":"IF(ISNUMBER(SEARCH($H$16,Q1737)),MAX($N$1:N1736)+1,0)","v":0},{"$f":"IF(ISNUMBER(SEARCH($H$11,Q1737)),MAX($O$1:O1736)+1,0)","v":0},{"$f":"IF(ISNUMBER(SEARCH($H$6,Q1737)),MAX($P$1:P1736)+1,0)","v":0},null,null,null,null,null,null,null,null,null,null,null,null,null,null,{"$f":"IFERROR(VLOOKUP(ROWS($AE$2:AE1737),P1737:Q3640,2,0),\"\")","v":""},null,null,null,null,{"$f":"IFERROR(VLOOKUP(ROWS($AJ$2:AJ1737),O1737:Q3640,3,0),\"\")","v":""},null,{"$f":"IFERROR(VLOOKUP(ROWS(AL$2:$AL1737),N1737:Q3640,4,0),\"\")","v":""}]
[null,null,null,null,null,null,null,null,null,null,null,null,null,{"$f":"IF(ISNUMBER(SEARCH($H$16,Q1738)),MAX($N$1:N1737)+1,0)","v":0},{"$f":"IF(ISNUMBER(SEARCH($H$11,Q1738)),MAX($O$1:O1737)+1,0)","v":0},{"$f":"IF(ISNUMBER(SEARCH($H$6,Q1738)),MAX($P$1:P1737)+1,0)","v":0},null,null,null,null,null,null,null,null,null,null,null,null,null,null,{"$f":"IFERROR(VLOOKUP(ROWS($AE$2:AE1738),P1738:Q3641,2,0),\"\")","v":""},null,null,null,null,{"$f":"IFERROR(VLOOKUP(ROWS($AJ$2:AJ1738),O1738:Q3641,3,0),\"\")","v":""},null,{"$f":"IFERROR(VLOOKUP(ROWS(AL$2:$AL1738),N1738:Q3641,4,0),\"\")","v":""}]
[null,null,null,null,null,null,null,null,null,null,null,null,null,{"$f":"IF(ISNUMBER(SEARCH($H$16,Q1739)),MAX($N$1:N1738)+1,0)","v":0},{"$f":"IF(ISNUMBER(SEARCH($H$11,Q1739)),MAX($O$1:O1738)+1,0)","v":0},{"$f":"IF(ISNUMBER(SEARCH($H$6,Q1739)),MAX($P$1:P1738)+1,0)","v":0},null,null,null,null,null,null,null,null,null,null,null,null,null,null,{"$f":"IFERROR(VLOOKUP(ROWS($AE$2:AE1739),P1739:Q3642,2,0),\"\")","v":""},null,null,null,null,{"$f":"IFERROR(VLOOKUP(ROWS($AJ$2:AJ1739),O1739:Q3642,3,0),\"\")","v":""},null,{"$f":"IFERROR(VLOOKUP(ROWS(AL$2:$AL1739),N1739:Q3642,4,0),\"\")","v":""}]
[null,null,null,null,null,null,null,null,null,null,null,null,null,{"$f":"IF(ISNUMBER(SEARCH($H$16,Q1740)),MAX($N$1:N1739)+1,0)","v":0},{"$f":"IF(ISNUMBER(SEARCH($H$11,Q1740)),MAX($O$1:O1739)+1,0)","v":0},{"$f":"IF(ISNUMBER(SEARCH($H$6,Q1740)),MAX($P$1:P1739)+1,0)","v":0},null,null,null,null,null,null,null,null,null,null,null,null,null,null,{"$f":"IFERROR(VLOOKUP(ROWS($AE$2:AE1740),P1740:Q3643,2,0),\"\")","v":""},null,null,null,null,{"$f":"IFERROR(VLOOKUP(ROWS($AJ$2:AJ1740),O1740:Q3643,3,0),\"\")","v":""},null,{"$f":"IFERROR(VLOOKUP(ROWS(AL$2:$AL1740),N1740:Q3643,4,0),\"\")","v":""}]
[null,null,null,null,null,null,null,null,null,null,null,null,null,{"$f":"IF(ISNUMBER(SEARCH($H$16,Q1741)),MAX($N$1:N1740)+1,0)","v":0},{"$f":"IF(ISNUMBER(SEARCH($H$11,Q1741)),MAX($O$1:O1740)+1,0)","v":0},{"$f":"IF(ISNUMBER(SEARCH($H$6,Q1741)),MAX($P$1:P1740)+1,0)","v":0},null,null,null,null,null,null,null,null,null,null,null,null,null,null,{"$f":"IFERROR(VLOOKUP(ROWS($AE$2:AE1741),P1741:Q3644,2,0),\"\")","v":""},null,null,null,null,{"$f":"IFERROR(VLOOKUP(ROWS($AJ$2:AJ1741),O1741:Q3644,3,0),\"\")","v":""},null,{"$f":"IFERROR(VLOOKUP(ROWS(AL$2:$AL1741),N1741:Q3644,4,0),\"\")","v":""}]
[null,null,null,null,null,null,null,null,null,null,null,null,null,{"$f":"IF(ISNUMBER(SEARCH($H$16,Q1742)),MAX($N$1:N1741)+1,0)","v":0},{"$f":"IF(ISNUMBER(SEARCH($H$11,Q1742)),MAX($O$1:O1741)+1,0)","v":0},{"$f":"IF(ISNUMBER(SEARCH($H$6,Q1742)),MAX($P$1:P1741)+1,0)","v":0},null,null,null,null,null,null,null,null,null,null,null,null,null,null,{"$f":"IFERROR(VLOOKUP(ROWS($AE$2:AE1742),P1742:Q3645,2,0),\"\")","v":""},null,null,null,null,{"$f":"IFERROR(VLOOKUP(ROWS($AJ$2:AJ1742),O1742:Q3645,3,0),\"\")","v":""},null,{"$f":"IFERROR(VLOOKUP(ROWS(AL$2:$AL1742),N1742:Q3645,4,0),\"\")","v":""}]
[null,null,null,null,null,null,null,null,null,null,null,null,null,{"$f":"IF(ISNUMBER(SEARCH($H$16,Q1743)),MAX($N$1:N1742)+1,0)","v":0},{"$f":"IF(ISNUMBER(SEARCH($H$11,Q1743)),MAX($O$1:O1742)+1,0)","v":0},{"$f":"IF(ISNUMBER(SEARCH($H$6,Q1743)),MAX($P$1:P1742)+1,0)","v":0},null,null,null,null,null,null,null,null,null,null,null,null,null,null,{"$f":"IFERROR(VLOOKUP(ROWS($AE$2:AE1743),P1743:Q3646,2,0),\"\")","v":""},null,null,null,null,{"$f":"IFERROR(VLOOKUP(ROWS($AJ$2:AJ1743),O1743:Q3646,3,0),\"\")","v":""},null,{"$f":"IFERROR(VLOOKUP(ROWS(AL$2:$AL1743),N1743:Q3646,4,0),\"\")","v":""}]
[null,null,null,null,null,null,null,null,null,null,null,null,null,{"$f":"IF(ISNUMBER(SEARCH($H$16,Q1744)),MAX($N$1:N1743)+1,0)","v":0},{"$f":"IF(ISNUMBER(SEARCH($H$11,Q1744)),MAX($O$1:O1743)+1,0)","v":0},{"$f":"IF(ISNUMBER(SEARCH($H$6,Q1744)),MAX($P$1:P1743)+1,0)","v":0},null,null,null,null,null,null,null,null,null,null,null,null,null,null,{"$f":"IFERROR(VLOOKUP(ROWS($AE$2:AE1744),P1744:Q3647,2,0),\"\")","v":""},null,null,null,null,{"$f":"IFERROR(VLOOKUP(ROWS($AJ$2:AJ1744),O1744:Q3647,3,0),\"\")","v":""},null,{"$f":"IFERROR(VLOOKUP(ROWS(AL$2:$AL1744),N1744:Q3647,4,0),\"\")","v":""}]
[null,null,null,null,null,null,null,null,null,null,null,null,null,{"$f":"IF(ISNUMBER(SEARCH($H$16,Q1745)),MAX($N$1:N1744)+1,0)","v":0},{"$f":"IF(ISNUMBER(SEARCH($H$11,Q1745)),MAX($O$1:O1744)+1,0)","v":0},{"$f":"IF(ISNUMBER(SEARCH($H$6,Q1745)),MAX($P$1:P1744)+1,0)","v":0},null,null,null,null,null,null,null,null,null,null,null,null,null,null,{"$f":"IFERROR(VLOOKUP(ROWS($AE$2:AE1745),P1745:Q3648,2,0),\"\")","v":""},null,null,null,null,{"$f":"IFERROR(VLOOKUP(ROWS($AJ$2:AJ1745),O1745:Q3648,3,0),\"\")","v":""},null,{"$f":"IFERROR(VLOOKUP(ROWS(AL$2:$AL1745),N1745:Q3648,4,0),\"\")","v":""}]
[null,null,null,null,null,null,null,null,null,null,null,null,null,{"$f":"IF(ISNUMBER(SEARCH($H$16,Q1746)),MAX($N$1:N1745)+1,0)","v":0},{"$f":"IF(ISNUMBER(SEARCH($H$11,Q1746)),MAX($O$1:O1745)+1,0)","v":0},{"$f":"IF(ISNUMBER(SEARCH($H$6,Q1746)),MAX($P$1:P1745)+1,0)","v":0},null,null,null,null,null,null,null,null,null,null,null,null,null,null,{"$f":"IFERROR(VLOOKUP(ROWS($AE$2:AE1746),P1746:Q3649,2,0),\"\")","v":""},null,null,null,null,{"$f":"IFERROR(VLOOKUP(ROWS($AJ$2:AJ1746),O1746:Q3649,3,0),\"\")","v":""},null,{"$f":"IFERROR(VLOOKUP(ROWS(AL$2:$AL1746),N1746:Q3649,4,0),\"\")","v":""}]
[null,null,null,null,null,null,null,null,null,null,null,null,null,{"$f":"IF(ISNUMBER(SEARCH($H$16,Q1747)),MAX($N$1:N1746)+1,0)","v":0},{"$f":"IF(ISNUMBER(SEARCH($H$11,Q1747)),MAX($O$1:O1746)+1,0)","v":0},{"$f":"IF(ISNUMBER(SEARCH($H$6,Q1747)),MAX($P$1:P1746)+1,0)","v":0},null,null,null,null,null,null,null,null,null,null,null,null,null,null,{"$f":"IFERROR(VLOOKUP(ROWS($AE$2:AE1747),P1747:Q3650,2,0),\"\")","v":""},null,null,null,null,{"$f":"IFERROR(VLOOKUP(ROWS($AJ$2:AJ1747),O1747:Q3650,3,0),\"\")","v":""},null,{"$f":"IFERROR(VLOOKUP(ROWS(AL$2:$AL1747),N1747:Q3650,4,0),\"\")","v":""}]
[null,null,null,null,null,null,null,null,null,null,null,null,null,{"$f":"IF(ISNUMBER(SEARCH($H$16,Q1748)),MAX($N$1:N1747)+1,0)","v":0},{"$f":"IF(ISNUMBER(SEARCH($H$11,Q1748)),MAX($O$1:O1747)+1,0)","v":0},{"$f":"IF(ISNUMBER(SEARCH($H$6,Q1748)),MAX($P$1:P1747)+1,0)","v":0},null,null,null,null,null,null,null,null,null,null,null,null,null,null,{"$f":"IFERROR(VLOOKUP(ROWS($AE$2:AE1748),P1748:Q3651,2,0),\"\")","v":""},null,null,null,null,{"$f":"IFERROR(VLOOKUP(ROWS($AJ$2:AJ1748),O1748:Q3651,3,0),\"\")","v":""},null,{"$f":"IFERROR(VLOOKUP(ROWS(AL$2:$AL1748),N1748:Q3651,4,0),\"\")","v":""}]
[null,null,null,null,null,null,null,null,null,null,null,null,null,{"$f":"IF(ISNUMBER(SEARCH($H$16,Q1749)),MAX($N$1:N1748)+1,0)","v":0},{"$f":"IF(ISNUMBER(SEARCH($H$11,Q1749)),MAX($O$1:O1748)+1,0)","v":0},{"$f":"IF(ISNUMBER(SEARCH($H$6,Q1749)),MAX($P$1:P1748)+1,0)","v":0},null,null,null,null,null,null,null,null,null,null,null,null,null,null,{"$f":"IFERROR(VLOOKUP(ROWS($AE$2:AE1749),P1749:Q3652,2,0),\"\")","v":""},null,null,null,null,{"$f":"IFERROR(VLOOKUP(ROWS($AJ$2:AJ1749),O1749:Q3652,3,0),\"\")","v":""},null,{"$f":"IFERROR(VLOOKUP(ROWS(AL$2:$AL1749),N1749:Q3652,4,0),\"\")","v":""}]
[null,null,null,null,null,null,null,null,null,null,null,null,null,{"$f":"IF(ISNUMBER(SEARCH($H$16,Q1750)),MAX($N$1:N1749)+1,0)","v":0},{"$f":"IF(ISNUMBER(SEARCH($H$11,Q1750)),MAX($O$1:O1749)+1,0)","v":0},{"$f":"IF(ISNUMBER(SEARCH($H$6,Q1750)),MAX($P$1:P1749)+1,0)","v":0},null,null,null,null,null,null,null,null,null,null,null,null,null,null,{"$f":"IFERROR(VLOOKUP(ROWS($AE$2:AE1750),P1750:Q3653,2,0),\"\")","v":""},null,null,null,null,{"$f":"IFERROR(VLOOKUP(ROWS($AJ$2:AJ1750),O1750:Q3653,3,0),\"\")","v":""},null,{"$f":"IFERROR(VLOOKUP(ROWS(AL$2:$AL1750),N1750:Q3653,4,0),\"\")","v":""}]
[null,null,null,null,null,null,null,null,null,null,null,null,null,{"$f":"IF(ISNUMBER(SEARCH($H$16,Q1751)),MAX($N$1:N1750)+1,0)","v":0},{"$f":"IF(ISNUMBER(SEARCH($H$11,Q1751)),MAX($O$1:O1750)+1,0)","v":0},{"$f":"IF(ISNUMBER(SEARCH($H$6,Q1751)),MAX($P$1:P1750)+1,0)","v":0},null,null,null,null,null,null,null,null,null,null,null,null,null,null,{"$f":"IFERROR(VLOOKUP(ROWS($AE$2:AE1751),P1751:Q3654,2,0),\"\")","v":""},null,null,null,null,{"$f":"IFERROR(VLOOKUP(ROWS($AJ$2:AJ1751),O1751:Q3654,3,0),\"\")","v":""},null,{"$f":"IFERROR(VLOOKUP(ROWS(AL$2:$AL1751),N1751:Q3654,4,0),\"\")","v":""}]
[null,null,null,null,null,null,null,null,null,null,null,null,null,{"$f":"IF(ISNUMBER(SEARCH($H$16,Q1752)),MAX($N$1:N1751)+1,0)","v":0},{"$f":"IF(ISNUMBER(SEARCH($H$11,Q1752)),MAX($O$1:O1751)+1,0)","v":0},{"$f":"IF(ISNUMBER(SEARCH($H$6,Q1752)),MAX($P$1:P1751)+1,0)","v":0},null,null,null,null,null,null,null,null,null,null,null,null,null,null,{"$f":"IFERROR(VLOOKUP(ROWS($AE$2:AE1752),P1752:Q3655,2,0),\"\")","v":""},null,null,null,null,{"$f":"IFERROR(VLOOKUP(ROWS($AJ$2:AJ1752),O1752:Q3655,3,0),\"\")","v":""},null,{"$f":"IFERROR(VLOOKUP(ROWS(AL$2:$AL1752),N1752:Q3655,4,0),\"\")","v":""}]
[null,null,null,null,null,null,null,null,null,null,null,null,null,{"$f":"IF(ISNUMBER(SEARCH($H$16,Q1753)),MAX($N$1:N1752)+1,0)","v":0},{"$f":"IF(ISNUMBER(SEARCH($H$11,Q1753)),MAX($O$1:O1752)+1,0)","v":0},{"$f":"IF(ISNUMBER(SEARCH($H$6,Q1753)),MAX($P$1:P1752)+1,0)","v":0},null,null,null,null,null,null,null,null,null,null,null,null,null,null,{"$f":"IFERROR(VLOOKUP(ROWS($AE$2:AE1753),P1753:Q3656,2,0),\"\")","v":""},null,null,null,null,{"$f":"IFERROR(VLOOKUP(ROWS($AJ$2:AJ1753),O1753:Q3656,3,0),\"\")","v":""},null,{"$f":"IFERROR(VLOOKUP(ROWS(AL$2:$AL1753),N1753:Q3656,4,0),\"\")","v":""}]
[null,null,null,null,null,null,null,null,null,null,null,null,null,{"$f":"IF(ISNUMBER(SEARCH($H$16,Q1754)),MAX($N$1:N1753)+1,0)","v":0},{"$f":"IF(ISNUMBER(SEARCH($H$11,Q1754)),MAX($O$1:O1753)+1,0)","v":0},{"$f":"IF(ISNUMBER(SEARCH($H$6,Q1754)),MAX($P$1:P1753)+1,0)","v":0},null,null,null,null,null,null,null,null,null,null,null,null,null,null,{"$f":"IFERROR(VLOOKUP(ROWS($AE$2:AE1754),P1754:Q3657,2,0),\"\")","v":""},null,null,null,null,{"$f":"IFERROR(VLOOKUP(ROWS($AJ$2:AJ1754),O1754:Q3657,3,0),\"\")","v":""},null,{"$f":"IFERROR(VLOOKUP(ROWS(AL$2:$AL1754),N1754:Q3657,4,0),\"\")","v":""}]
[null,null,null,null,null,null,null,null,null,null,null,null,null,{"$f":"IF(ISNUMBER(SEARCH($H$16,Q1755)),MAX($N$1:N1754)+1,0)","v":0},{"$f":"IF(ISNUMBER(SEARCH($H$11,Q1755)),MAX($O$1:O1754)+1,0)","v":0},{"$f":"IF(ISNUMBER(SEARCH($H$6,Q1755)),MAX($P$1:P1754)+1,0)","v":0},null,null,null,null,null,null,null,null,null,null,null,null,null,null,{"$f":"IFERROR(VLOOKUP(ROWS($AE$2:AE1755),P1755:Q3658,2,0),\"\")","v":""},null,null,null,null,{"$f":"IFERROR(VLOOKUP(ROWS($AJ$2:AJ1755),O1755:Q3658,3,0),\"\")","v":""},null,{"$f":"IFERROR(VLOOKUP(ROWS(AL$2:$AL1755),N1755:Q3658,4,0),\"\")","v":""}]
[null,null,null,null,null,null,null,null,null,null,null,null,null,{"$f":"IF(ISNUMBER(SEARCH($H$16,Q1756)),MAX($N$1:N1755)+1,0)","v":0},{"$f":"IF(ISNUMBER(SEARCH($H$11,Q1756)),MAX($O$1:O1755)+1,0)","v":0},{"$f":"IF(ISNUMBER(SEARCH($H$6,Q1756)),MAX($P$1:P1755)+1,0)","v":0},null,null,null,null,null,null,null,null,null,null,null,null,null,null,{"$f":"IFERROR(VLOOKUP(ROWS($AE$2:AE1756),P1756:Q3659,2,0),\"\")","v":""},null,null,null,null,{"$f":"IFERROR(VLOOKUP(ROWS($AJ$2:AJ1756),O1756:Q3659,3,0),\"\")","v":""},null,{"$f":"IFERROR(VLOOKUP(ROWS(AL$2:$AL1756),N1756:Q3659,4,0),\"\")","v":""}]
[null,null,null,null,null,null,null,null,null,null,null,null,null,{"$f":"IF(ISNUMBER(SEARCH($H$16,Q1757)),MAX($N$1:N1756)+1,0)","v":0},{"$f":"IF(ISNUMBER(SEARCH($H$11,Q1757)),MAX($O$1:O1756)+1,0)","v":0},{"$f":"IF(ISNUMBER(SEARCH($H$6,Q1757)),MAX($P$1:P1756)+1,0)","v":0},null,null,null,null,null,null,null,null,null,null,null,null,null,null,{"$f":"IFERROR(VLOOKUP(ROWS($AE$2:AE1757),P1757:Q3660,2,0),\"\")","v":""},null,null,null,null,{"$f":"IFERROR(VLOOKUP(ROWS($AJ$2:AJ1757),O1757:Q3660,3,0),\"\")","v":""},null,{"$f":"IFERROR(VLOOKUP(ROWS(AL$2:$AL1757),N1757:Q3660,4,0),\"\")","v":""}]
[null,null,null,null,null,null,null,null,null,null,null,null,null,{"$f":"IF(ISNUMBER(SEARCH($H$16,Q1758)),MAX($N$1:N1757)+1,0)","v":0},{"$f":"IF(ISNUMBER(SEARCH($H$11,Q1758)),MAX($O$1:O1757)+1,0)","v":0},{"$f":"IF(ISNUMBER(SEARCH($H$6,Q1758)),MAX($P$1:P1757)+1,0)","v":0},null,null,null,null,null,null,null,null,null,null,null,null,null,null,{"$f":"IFERROR(VLOOKUP(ROWS($AE$2:AE1758),P1758:Q3661,2,0),\"\")","v":""},null,null,null,null,{"$f":"IFERROR(VLOOKUP(ROWS($AJ$2:AJ1758),O1758:Q3661,3,0),\"\")","v":""},null,{"$f":"IFERROR(VLOOKUP(ROWS(AL$2:$AL1758),N1758:Q3661,4,0),\"\")","v":""}]
[null,null,null,null,null,null,null,null,null,null,null,null,null,{"$f":"IF(ISNUMBER(SEARCH($H$16,Q1759)),MAX($N$1:N1758)+1,0)","v":0},{"$f":"IF(ISNUMBER(SEARCH($H$11,Q1759)),MAX($O$1:O1758)+1,0)","v":0},{"$f":"IF(ISNUMBER(SEARCH($H$6,Q1759)),MAX($P$1:P1758)+1,0)","v":0},null,null,null,null,null,null,null,null,null,null,null,null,null,null,{"$f":"IFERROR(VLOOKUP(ROWS($AE$2:AE1759),P1759:Q3662,2,0),\"\")","v":""},null,null,null,null,{"$f":"IFERROR(VLOOKUP(ROWS($AJ$2:AJ1759),O1759:Q3662,3,0),\"\")","v":""},null,{"$f":"IFERROR(VLOOKUP(ROWS(AL$2:$AL1759),N1759:Q3662,4,0),\"\")","v":""}]
[null,null,null,null,null,null,null,null,null,null,null,null,null,{"$f":"IF(ISNUMBER(SEARCH($H$16,Q1760)),MAX($N$1:N1759)+1,0)","v":0},{"$f":"IF(ISNUMBER(SEARCH($H$11,Q1760)),MAX($O$1:O1759)+1,0)","v":0},{"$f":"IF(ISNUMBER(SEARCH($H$6,Q1760)),MAX($P$1:P1759)+1,0)","v":0},null,null,null,null,null,null,null,null,null,null,null,null,null,null,{"$f":"IFERROR(VLOOKUP(ROWS($AE$2:AE1760),P1760:Q3663,2,0),\"\")","v":""},null,null,null,null,{"$f":"IFERROR(VLOOKUP(ROWS($AJ$2:AJ1760),O1760:Q3663,3,0),\"\")","v":""},null,{"$f":"IFERROR(VLOOKUP(ROWS(AL$2:$AL1760),N1760:Q3663,4,0),\"\")","v":""}]
[null,null,null,null,null,null,null,null,null,null,null,null,null,{"$f":"IF(ISNUMBER(SEARCH($H$16,Q1761)),MAX($N$1:N1760)+1,0)","v":0},{"$f":"IF(ISNUMBER(SEARCH($H$11,Q1761)),MAX($O$1:O1760)+1,0)","v":0},{"$f":"IF(ISNUMBER(SEARCH($H$6,Q1761)),MAX($P$1:P1760)+1,0)","v":0},null,null,null,null,null,null,null,null,null,null,null,null,null,null,{"$f":"IFERROR(VLOOKUP(ROWS($AE$2:AE1761),P1761:Q3664,2,0),\"\")","v":""},null,null,null,null,{"$f":"IFERROR(VLOOKUP(ROWS($AJ$2:AJ1761),O1761:Q3664,3,0),\"\")","v":""},null,{"$f":"IFERROR(VLOOKUP(ROWS(AL$2:$AL1761),N1761:Q3664,4,0),\"\")","v":""}]
[null,null,null,null,null,null,null,null,null,null,null,null,null,{"$f":"IF(ISNUMBER(SEARCH($H$16,Q1762)),MAX($N$1:N1761)+1,0)","v":0},{"$f":"IF(ISNUMBER(SEARCH($H$11,Q1762)),MAX($O$1:O1761)+1,0)","v":0},{"$f":"IF(ISNUMBER(SEARCH($H$6,Q1762)),MAX($P$1:P1761)+1,0)","v":0},null,null,null,null,null,null,null,null,null,null,null,null,null,null,{"$f":"IFERROR(VLOOKUP(ROWS($AE$2:AE1762),P1762:Q3665,2,0),\"\")","v":""},null,null,null,null,{"$f":"IFERROR(VLOOKUP(ROWS($AJ$2:AJ1762),O1762:Q3665,3,0),\"\")","v":""},null,{"$f":"IFERROR(VLOOKUP(ROWS(AL$2:$AL1762),N1762:Q3665,4,0),\"\")","v":""}]
[null,null,null,null,null,null,null,null,null,null,null,null,null,{"$f":"IF(ISNUMBER(SEARCH($H$16,Q1763)),MAX($N$1:N1762)+1,0)","v":0},{"$f":"IF(ISNUMBER(SEARCH($H$11,Q1763)),MAX($O$1:O1762)+1,0)","v":0},{"$f":"IF(ISNUMBER(SEARCH($H$6,Q1763)),MAX($P$1:P1762)+1,0)","v":0},null,null,null,null,null,null,null,null,null,null,null,null,null,null,{"$f":"IFERROR(VLOOKUP(ROWS($AE$2:AE1763),P1763:Q3666,2,0),\"\")","v":""},null,null,null,null,{"$f":"IFERROR(VLOOKUP(ROWS($AJ$2:AJ1763),O1763:Q3666,3,0),\"\")","v":""},null,{"$f":"IFERROR(VLOOKUP(ROWS(AL$2:$AL1763),N1763:Q3666,4,0),\"\")","v":""}]
[null,null,null,null,null,null,null,null,null,null,null,null,null,{"$f":"IF(ISNUMBER(SEARCH($H$16,Q1764)),MAX($N$1:N1763)+1,0)","v":0},{"$f":"IF(ISNUMBER(SEARCH($H$11,Q1764)),MAX($O$1:O1763)+1,0)","v":0},{"$f":"IF(ISNUMBER(SEARCH($H$6,Q1764)),MAX($P$1:P1763)+1,0)","v":0},null,null,null,null,null,null,null,null,null,null,null,null,null,null,{"$f":"IFERROR(VLOOKUP(ROWS($AE$2:AE1764),P1764:Q3667,2,0),\"\")","v":""},null,null,null,null,{"$f":"IFERROR(VLOOKUP(ROWS($AJ$2:AJ1764),O1764:Q3667,3,0),\"\")","v":""},null,{"$f":"IFERROR(VLOOKUP(ROWS(AL$2:$AL1764),N1764:Q3667,4,0),\"\")","v":""}]
[null,null,null,null,null,null,null,null,null,null,null,null,null,{"$f":"IF(ISNUMBER(SEARCH($H$16,Q1765)),MAX($N$1:N1764)+1,0)","v":0},{"$f":"IF(ISNUMBER(SEARCH($H$11,Q1765)),MAX($O$1:O1764)+1,0)","v":0},{"$f":"IF(ISNUMBER(SEARCH($H$6,Q1765)),MAX($P$1:P1764)+1,0)","v":0},null,null,null,null,null,null,null,null,null,null,null,null,null,null,{"$f":"IFERROR(VLOOKUP(ROWS($AE$2:AE1765),P1765:Q3668,2,0),\"\")","v":""},null,null,null,null,{"$f":"IFERROR(VLOOKUP(ROWS($AJ$2:AJ1765),O1765:Q3668,3,0),\"\")","v":""},null,{"$f":"IFERROR(VLOOKUP(ROWS(AL$2:$AL1765),N1765:Q3668,4,0),\"\")","v":""}]
[null,null,null,null,null,null,null,null,null,null,null,null,null,{"$f":"IF(ISNUMBER(SEARCH($H$16,Q1766)),MAX($N$1:N1765)+1,0)","v":0},{"$f":"IF(ISNUMBER(SEARCH($H$11,Q1766)),MAX($O$1:O1765)+1,0)","v":0},{"$f":"IF(ISNUMBER(SEARCH($H$6,Q1766)),MAX($P$1:P1765)+1,0)","v":0},null,null,null,null,null,null,null,null,null,null,null,null,null,null,{"$f":"IFERROR(VLOOKUP(ROWS($AE$2:AE1766),P1766:Q3669,2,0),\"\")","v":""},null,null,null,null,{"$f":"IFERROR(VLOOKUP(ROWS($AJ$2:AJ1766),O1766:Q3669,3,0),\"\")","v":""},null,{"$f":"IFERROR(VLOOKUP(ROWS(AL$2:$AL1766),N1766:Q3669,4,0),\"\")","v":""}]
[null,null,null,null,null,null,null,null,null,null,null,null,null,{"$f":"IF(ISNUMBER(SEARCH($H$16,Q1767)),MAX($N$1:N1766)+1,0)","v":0},{"$f":"IF(ISNUMBER(SEARCH($H$11,Q1767)),MAX($O$1:O1766)+1,0)","v":0},{"$f":"IF(ISNUMBER(SEARCH($H$6,Q1767)),MAX($P$1:P1766)+1,0)","v":0},null,null,null,null,null,null,null,null,null,null,null,null,null,null,{"$f":"IFERROR(VLOOKUP(ROWS($AE$2:AE1767),P1767:Q3670,2,0),\"\")","v":""},null,null,null,null,{"$f":"IFERROR(VLOOKUP(ROWS($AJ$2:AJ1767),O1767:Q3670,3,0),\"\")","v":""},null,{"$f":"IFERROR(VLOOKUP(ROWS(AL$2:$AL1767),N1767:Q3670,4,0),\"\")","v":""}]
[null,null,null,null,null,null,null,null,null,null,null,null,null,{"$f":"IF(ISNUMBER(SEARCH($H$16,Q1768)),MAX($N$1:N1767)+1,0)","v":0},{"$f":"IF(ISNUMBER(SEARCH($H$11,Q1768)),MAX($O$1:O1767)+1,0)","v":0},{"$f":"IF(ISNUMBER(SEARCH($H$6,Q1768)),MAX($P$1:P1767)+1,0)","v":0},null,null,null,null,null,null,null,null,null,null,null,null,null,null,{"$f":"IFERROR(VLOOKUP(ROWS($AE$2:AE1768),P1768:Q3671,2,0),\"\")","v":""},null,null,null,null,{"$f":"IFERROR(VLOOKUP(ROWS($AJ$2:AJ1768),O1768:Q3671,3,0),\"\")","v":""},null,{"$f":"IFERROR(VLOOKUP(ROWS(AL$2:$AL1768),N1768:Q3671,4,0),\"\")","v":""}]
[null,null,null,null,null,null,null,null,null,null,null,null,null,{"$f":"IF(ISNUMBER(SEARCH($H$16,Q1769)),MAX($N$1:N1768)+1,0)","v":0},{"$f":"IF(ISNUMBER(SEARCH($H$11,Q1769)),MAX($O$1:O1768)+1,0)","v":0},{"$f":"IF(ISNUMBER(SEARCH($H$6,Q1769)),MAX($P$1:P1768)+1,0)","v":0},null,null,null,null,null,null,null,null,null,null,null,null,null,null,{"$f":"IFERROR(VLOOKUP(ROWS($AE$2:AE1769),P1769:Q3672,2,0),\"\")","v":""},null,null,null,null,{"$f":"IFERROR(VLOOKUP(ROWS($AJ$2:AJ1769),O1769:Q3672,3,0),\"\")","v":""},null,{"$f":"IFERROR(VLOOKUP(ROWS(AL$2:$AL1769),N1769:Q3672,4,0),\"\")","v":""}]
[null,null,null,null,null,null,null,null,null,null,null,null,null,{"$f":"IF(ISNUMBER(SEARCH($H$16,Q1770)),MAX($N$1:N1769)+1,0)","v":0},{"$f":"IF(ISNUMBER(SEARCH($H$11,Q1770)),MAX($O$1:O1769)+1,0)","v":0},{"$f":"IF(ISNUMBER(SEARCH($H$6,Q1770)),MAX($P$1:P1769)+1,0)","v":0},null,null,null,null,null,null,null,null,null,null,null,null,null,null,{"$f":"IFERROR(VLOOKUP(ROWS($AE$2:AE1770),P1770:Q3673,2,0),\"\")","v":""},null,null,null,null,{"$f":"IFERROR(VLOOKUP(ROWS($AJ$2:AJ1770),O1770:Q3673,3,0),\"\")","v":""},null,{"$f":"IFERROR(VLOOKUP(ROWS(AL$2:$AL1770),N1770:Q3673,4,0),\"\")","v":""}]
[null,null,null,null,null,null,null,null,null,null,null,null,null,{"$f":"IF(ISNUMBER(SEARCH($H$16,Q1771)),MAX($N$1:N1770)+1,0)","v":0},{"$f":"IF(ISNUMBER(SEARCH($H$11,Q1771)),MAX($O$1:O1770)+1,0)","v":0},{"$f":"IF(ISNUMBER(SEARCH($H$6,Q1771)),MAX($P$1:P1770)+1,0)","v":0},null,null,null,null,null,null,null,null,null,null,null,null,null,null,{"$f":"IFERROR(VLOOKUP(ROWS($AE$2:AE1771),P1771:Q3674,2,0),\"\")","v":""},null,null,null,null,{"$f":"IFERROR(VLOOKUP(ROWS($AJ$2:AJ1771),O1771:Q3674,3,0),\"\")","v":""},null,{"$f":"IFERROR(VLOOKUP(ROWS(AL$2:$AL1771),N1771:Q3674,4,0),\"\")","v":""}]
[null,null,null,null,null,null,null,null,null,null,null,null,null,{"$f":"IF(ISNUMBER(SEARCH($H$16,Q1772)),MAX($N$1:N1771)+1,0)","v":0},{"$f":"IF(ISNUMBER(SEARCH($H$11,Q1772)),MAX($O$1:O1771)+1,0)","v":0},{"$f":"IF(ISNUMBER(SEARCH($H$6,Q1772)),MAX($P$1:P1771)+1,0)","v":0},null,null,null,null,null,null,null,null,null,null,null,null,null,null,{"$f":"IFERROR(VLOOKUP(ROWS($AE$2:AE1772),P1772:Q3675,2,0),\"\")","v":""},null,null,null,null,{"$f":"IFERROR(VLOOKUP(ROWS($AJ$2:AJ1772),O1772:Q3675,3,0),\"\")","v":""},null,{"$f":"IFERROR(VLOOKUP(ROWS(AL$2:$AL1772),N1772:Q3675,4,0),\"\")","v":""}]
[null,null,null,null,null,null,null,null,null,null,null,null,null,{"$f":"IF(ISNUMBER(SEARCH($H$16,Q1773)),MAX($N$1:N1772)+1,0)","v":0},{"$f":"IF(ISNUMBER(SEARCH($H$11,Q1773)),MAX($O$1:O1772)+1,0)","v":0},{"$f":"IF(ISNUMBER(SEARCH($H$6,Q1773)),MAX($P$1:P1772)+1,0)","v":0},null,null,null,null,null,null,null,null,null,null,null,null,null,null,{"$f":"IFERROR(VLOOKUP(ROWS($AE$2:AE1773),P1773:Q3676,2,0),\"\")","v":""},null,null,null,null,{"$f":"IFERROR(VLOOKUP(ROWS($AJ$2:AJ1773),O1773:Q3676,3,0),\"\")","v":""},null,{"$f":"IFERROR(VLOOKUP(ROWS(AL$2:$AL1773),N1773:Q3676,4,0),\"\")","v":""}]
[null,null,null,null,null,null,null,null,null,null,null,null,null,{"$f":"IF(ISNUMBER(SEARCH($H$16,Q1774)),MAX($N$1:N1773)+1,0)","v":0},{"$f":"IF(ISNUMBER(SEARCH($H$11,Q1774)),MAX($O$1:O1773)+1,0)","v":0},{"$f":"IF(ISNUMBER(SEARCH($H$6,Q1774)),MAX($P$1:P1773)+1,0)","v":0},null,null,null,null,null,null,null,null,null,null,null,null,null,null,{"$f":"IFERROR(VLOOKUP(ROWS($AE$2:AE1774),P1774:Q3677,2,0),\"\")","v":""},null,null,null,null,{"$f":"IFERROR(VLOOKUP(ROWS($AJ$2:AJ1774),O1774:Q3677,3,0),\"\")","v":""},null,{"$f":"IFERROR(VLOOKUP(ROWS(AL$2:$AL1774),N1774:Q3677,4,0),\"\")","v":""}]
[null,null,null,null,null,null,null,null,null,null,null,null,null,{"$f":"IF(ISNUMBER(SEARCH($H$16,Q1775)),MAX($N$1:N1774)+1,0)","v":0},{"$f":"IF(ISNUMBER(SEARCH($H$11,Q1775)),MAX($O$1:O1774)+1,0)","v":0},{"$f":"IF(ISNUMBER(SEARCH($H$6,Q1775)),MAX($P$1:P1774)+1,0)","v":0},null,null,null,null,null,null,null,null,null,null,null,null,null,null,{"$f":"IFERROR(VLOOKUP(ROWS($AE$2:AE1775),P1775:Q3678,2,0),\"\")","v":""},null,null,null,null,{"$f":"IFERROR(VLOOKUP(ROWS($AJ$2:AJ1775),O1775:Q3678,3,0),\"\")","v":""},null,{"$f":"IFERROR(VLOOKUP(ROWS(AL$2:$AL1775),N1775:Q3678,4,0),\"\")","v":""}]
[null,null,null,null,null,null,null,null,null,null,null,null,null,{"$f":"IF(ISNUMBER(SEARCH($H$16,Q1776)),MAX($N$1:N1775)+1,0)","v":0},{"$f":"IF(ISNUMBER(SEARCH($H$11,Q1776)),MAX($O$1:O1775)+1,0)","v":0},{"$f":"IF(ISNUMBER(SEARCH($H$6,Q1776)),MAX($P$1:P1775)+1,0)","v":0},null,null,null,null,null,null,null,null,null,null,null,null,null,null,{"$f":"IFERROR(VLOOKUP(ROWS($AE$2:AE1776),P1776:Q3679,2,0),\"\")","v":""},null,null,null,null,{"$f":"IFERROR(VLOOKUP(ROWS($AJ$2:AJ1776),O1776:Q3679,3,0),\"\")","v":""},null,{"$f":"IFERROR(VLOOKUP(ROWS(AL$2:$AL1776),N1776:Q3679,4,0),\"\")","v":""}]
[null,null,null,null,null,null,null,null,null,null,null,null,null,{"$f":"IF(ISNUMBER(SEARCH($H$16,Q1777)),MAX($N$1:N1776)+1,0)","v":0},{"$f":"IF(ISNUMBER(SEARCH($H$11,Q1777)),MAX($O$1:O1776)+1,0)","v":0},{"$f":"IF(ISNUMBER(SEARCH($H$6,Q1777)),MAX($P$1:P1776)+1,0)","v":0},null,null,null,null,null,null,null,null,null,null,null,null,null,null,{"$f":"IFERROR(VLOOKUP(ROWS($AE$2:AE1777),P1777:Q3680,2,0),\"\")","v":""},null,null,null,null,{"$f":"IFERROR(VLOOKUP(ROWS($AJ$2:AJ1777),O1777:Q3680,3,0),\"\")","v":""},null,{"$f":"IFERROR(VLOOKUP(ROWS(AL$2:$AL1777),N1777:Q3680,4,0),\"\")","v":""}]
[null,null,null,null,null,null,null,null,null,null,null,null,null,{"$f":"IF(ISNUMBER(SEARCH($H$16,Q1778)),MAX($N$1:N1777)+1,0)","v":0},{"$f":"IF(ISNUMBER(SEARCH($H$11,Q1778)),MAX($O$1:O1777)+1,0)","v":0},{"$f":"IF(ISNUMBER(SEARCH($H$6,Q1778)),MAX($P$1:P1777)+1,0)","v":0},null,null,null,null,null,null,null,null,null,null,null,null,null,null,{"$f":"IFERROR(VLOOKUP(ROWS($AE$2:AE1778),P1778:Q3681,2,0),\"\")","v":""},null,null,null,null,{"$f":"IFERROR(VLOOKUP(ROWS($AJ$2:AJ1778),O1778:Q3681,3,0),\"\")","v":""},null,{"$f":"IFERROR(VLOOKUP(ROWS(AL$2:$AL1778),N1778:Q3681,4,0),\"\")","v":""}]
[null,null,null,null,null,null,null,null,null,null,null,null,null,{"$f":"IF(ISNUMBER(SEARCH($H$16,Q1779)),MAX($N$1:N1778)+1,0)","v":0},{"$f":"IF(ISNUMBER(SEARCH($H$11,Q1779)),MAX($O$1:O1778)+1,0)","v":0},{"$f":"IF(ISNUMBER(SEARCH($H$6,Q1779)),MAX($P$1:P1778)+1,0)","v":0},null,null,null,null,null,null,null,null,null,null,null,null,null,null,{"$f":"IFERROR(VLOOKUP(ROWS($AE$2:AE1779),P1779:Q3682,2,0),\"\")","v":""},null,null,null,null,{"$f":"IFERROR(VLOOKUP(ROWS($AJ$2:AJ1779),O1779:Q3682,3,0),\"\")","v":""},null,{"$f":"IFERROR(VLOOKUP(ROWS(AL$2:$AL1779),N1779:Q3682,4,0),\"\")","v":""}]
[null,null,null,null,null,null,null,null,null,null,null,null,null,{"$f":"IF(ISNUMBER(SEARCH($H$16,Q1780)),MAX($N$1:N1779)+1,0)","v":0},{"$f":"IF(ISNUMBER(SEARCH($H$11,Q1780)),MAX($O$1:O1779)+1,0)","v":0},{"$f":"IF(ISNUMBER(SEARCH($H$6,Q1780)),MAX($P$1:P1779)+1,0)","v":0},null,null,null,null,null,null,null,null,null,null,null,null,null,null,{"$f":"IFERROR(VLOOKUP(ROWS($AE$2:AE1780),P1780:Q3683,2,0),\"\")","v":""},null,null,null,null,{"$f":"IFERROR(VLOOKUP(ROWS($AJ$2:AJ1780),O1780:Q3683,3,0),\"\")","v":""},null,{"$f":"IFERROR(VLOOKUP(ROWS(AL$2:$AL1780),N1780:Q3683,4,0),\"\")","v":""}]
[null,null,null,null,null,null,null,null,null,null,null,null,null,{"$f":"IF(ISNUMBER(SEARCH($H$16,Q1781)),MAX($N$1:N1780)+1,0)","v":0},{"$f":"IF(ISNUMBER(SEARCH($H$11,Q1781)),MAX($O$1:O1780)+1,0)","v":0},{"$f":"IF(ISNUMBER(SEARCH($H$6,Q1781)),MAX($P$1:P1780)+1,0)","v":0},null,null,null,null,null,null,null,null,null,null,null,null,null,null,{"$f":"IFERROR(VLOOKUP(ROWS($AE$2:AE1781),P1781:Q3684,2,0),\"\")","v":""},null,null,null,null,{"$f":"IFERROR(VLOOKUP(ROWS($AJ$2:AJ1781),O1781:Q3684,3,0),\"\")","v":""},null,{"$f":"IFERROR(VLOOKUP(ROWS(AL$2:$AL1781),N1781:Q3684,4,0),\"\")","v":""}]
[null,null,null,null,null,null,null,null,null,null,null,null,null,{"$f":"IF(ISNUMBER(SEARCH($H$16,Q1782)),MAX($N$1:N1781)+1,0)","v":0},{"$f":"IF(ISNUMBER(SEARCH($H$11,Q1782)),MAX($O$1:O1781)+1,0)","v":0},{"$f":"IF(ISNUMBER(SEARCH($H$6,Q1782)),MAX($P$1:P1781)+1,0)","v":0},null,null,null,null,null,null,null,null,null,null,null,null,null,null,{"$f":"IFERROR(VLOOKUP(ROWS($AE$2:AE1782),P1782:Q3685,2,0),\"\")","v":""},null,null,null,null,{"$f":"IFERROR(VLOOKUP(ROWS($AJ$2:AJ1782),O1782:Q3685,3,0),\"\")","v":""},null,{"$f":"IFERROR(VLOOKUP(ROWS(AL$2:$AL1782),N1782:Q3685,4,0),\"\")","v":""}]
[null,null,null,null,null,null,null,null,null,null,null,null,null,{"$f":"IF(ISNUMBER(SEARCH($H$16,Q1783)),MAX($N$1:N1782)+1,0)","v":0},{"$f":"IF(ISNUMBER(SEARCH($H$11,Q1783)),MAX($O$1:O1782)+1,0)","v":0},{"$f":"IF(ISNUMBER(SEARCH($H$6,Q1783)),MAX($P$1:P1782)+1,0)","v":0},null,null,null,null,null,null,null,null,null,null,null,null,null,null,{"$f":"IFERROR(VLOOKUP(ROWS($AE$2:AE1783),P1783:Q3686,2,0),\"\")","v":""},null,null,null,null,{"$f":"IFERROR(VLOOKUP(ROWS($AJ$2:AJ1783),O1783:Q3686,3,0),\"\")","v":""},null,{"$f":"IFERROR(VLOOKUP(ROWS(AL$2:$AL1783),N1783:Q3686,4,0),\"\")","v":""}]
[null,null,null,null,null,null,null,null,null,null,null,null,null,{"$f":"IF(ISNUMBER(SEARCH($H$16,Q1784)),MAX($N$1:N1783)+1,0)","v":0},{"$f":"IF(ISNUMBER(SEARCH($H$11,Q1784)),MAX($O$1:O1783)+1,0)","v":0},{"$f":"IF(ISNUMBER(SEARCH($H$6,Q1784)),MAX($P$1:P1783)+1,0)","v":0},null,null,null,null,null,null,null,null,null,null,null,null,null,null,{"$f":"IFERROR(VLOOKUP(ROWS($AE$2:AE1784),P1784:Q3687,2,0),\"\")","v":""},null,null,null,null,{"$f":"IFERROR(VLOOKUP(ROWS($AJ$2:AJ1784),O1784:Q3687,3,0),\"\")","v":""},null,{"$f":"IFERROR(VLOOKUP(ROWS(AL$2:$AL1784),N1784:Q3687,4,0),\"\")","v":""}]
[null,null,null,null,null,null,null,null,null,null,null,null,null,{"$f":"IF(ISNUMBER(SEARCH($H$16,Q1785)),MAX($N$1:N1784)+1,0)","v":0},{"$f":"IF(ISNUMBER(SEARCH($H$11,Q1785)),MAX($O$1:O1784)+1,0)","v":0},{"$f":"IF(ISNUMBER(SEARCH($H$6,Q1785)),MAX($P$1:P1784)+1,0)","v":0},null,null,null,null,null,null,null,null,null,null,null,null,null,null,{"$f":"IFERROR(VLOOKUP(ROWS($AE$2:AE1785),P1785:Q3688,2,0),\"\")","v":""},null,null,null,null,{"$f":"IFERROR(VLOOKUP(ROWS($AJ$2:AJ1785),O1785:Q3688,3,0),\"\")","v":""},null,{"$f":"IFERROR(VLOOKUP(ROWS(AL$2:$AL1785),N1785:Q3688,4,0),\"\")","v":""}]
[null,null,null,null,null,null,null,null,null,null,null,null,null,{"$f":"IF(ISNUMBER(SEARCH($H$16,Q1786)),MAX($N$1:N1785)+1,0)","v":0},{"$f":"IF(ISNUMBER(SEARCH($H$11,Q1786)),MAX($O$1:O1785)+1,0)","v":0},{"$f":"IF(ISNUMBER(SEARCH($H$6,Q1786)),MAX($P$1:P1785)+1,0)","v":0},null,null,null,null,null,null,null,null,null,null,null,null,null,null,{"$f":"IFERROR(VLOOKUP(ROWS($AE$2:AE1786),P1786:Q3689,2,0),\"\")","v":""},null,null,null,null,{"$f":"IFERROR(VLOOKUP(ROWS($AJ$2:AJ1786),O1786:Q3689,3,0),\"\")","v":""},null,{"$f":"IFERROR(VLOOKUP(ROWS(AL$2:$AL1786),N1786:Q3689,4,0),\"\")","v":""}]
[null,null,null,null,null,null,null,null,null,null,null,null,null,{"$f":"IF(ISNUMBER(SEARCH($H$16,Q1787)),MAX($N$1:N1786)+1,0)","v":0},{"$f":"IF(ISNUMBER(SEARCH($H$11,Q1787)),MAX($O$1:O1786)+1,0)","v":0},{"$f":"IF(ISNUMBER(SEARCH($H$6,Q1787)),MAX($P$1:P1786)+1,0)","v":0},null,null,null,null,null,null,null,null,null,null,null,null,null,null,{"$f":"IFERROR(VLOOKUP(ROWS($AE$2:AE1787),P1787:Q3690,2,0),\"\")","v":""},null,null,null,null,{"$f":"IFERROR(VLOOKUP(ROWS($AJ$2:AJ1787),O1787:Q3690,3,0),\"\")","v":""},null,{"$f":"IFERROR(VLOOKUP(ROWS(AL$2:$AL1787),N1787:Q3690,4,0),\"\")","v":""}]
[null,null,null,null,null,null,null,null,null,null,null,null,null,{"$f":"IF(ISNUMBER(SEARCH($H$16,Q1788)),MAX($N$1:N1787)+1,0)","v":0},{"$f":"IF(ISNUMBER(SEARCH($H$11,Q1788)),MAX($O$1:O1787)+1,0)","v":0},{"$f":"IF(ISNUMBER(SEARCH($H$6,Q1788)),MAX($P$1:P1787)+1,0)","v":0},null,null,null,null,null,null,null,null,null,null,null,null,null,null,{"$f":"IFERROR(VLOOKUP(ROWS($AE$2:AE1788),P1788:Q3691,2,0),\"\")","v":""},null,null,null,null,{"$f":"IFERROR(VLOOKUP(ROWS($AJ$2:AJ1788),O1788:Q3691,3,0),\"\")","v":""},null,{"$f":"IFERROR(VLOOKUP(ROWS(AL$2:$AL1788),N1788:Q3691,4,0),\"\")","v":""}]
[null,null,null,null,null,null,null,null,null,null,null,null,null,{"$f":"IF(ISNUMBER(SEARCH($H$16,Q1789)),MAX($N$1:N1788)+1,0)","v":0},{"$f":"IF(ISNUMBER(SEARCH($H$11,Q1789)),MAX($O$1:O1788)+1,0)","v":0},{"$f":"IF(ISNUMBER(SEARCH($H$6,Q1789)),MAX($P$1:P1788)+1,0)","v":0},null,null,null,null,null,null,null,null,null,null,null,null,null,null,{"$f":"IFERROR(VLOOKUP(ROWS($AE$2:AE1789),P1789:Q3692,2,0),\"\")","v":""},null,null,null,null,{"$f":"IFERROR(VLOOKUP(ROWS($AJ$2:AJ1789),O1789:Q3692,3,0),\"\")","v":""},null,{"$f":"IFERROR(VLOOKUP(ROWS(AL$2:$AL1789),N1789:Q3692,4,0),\"\")","v":""}]
[null,null,null,null,null,null,null,null,null,null,null,null,null,{"$f":"IF(ISNUMBER(SEARCH($H$16,Q1790)),MAX($N$1:N1789)+1,0)","v":0},{"$f":"IF(ISNUMBER(SEARCH($H$11,Q1790)),MAX($O$1:O1789)+1,0)","v":0},{"$f":"IF(ISNUMBER(SEARCH($H$6,Q1790)),MAX($P$1:P1789)+1,0)","v":0},null,null,null,null,null,null,null,null,null,null,null,null,null,null,{"$f":"IFERROR(VLOOKUP(ROWS($AE$2:AE1790),P1790:Q3693,2,0),\"\")","v":""},null,null,null,null,{"$f":"IFERROR(VLOOKUP(ROWS($AJ$2:AJ1790),O1790:Q3693,3,0),\"\")","v":""},null,{"$f":"IFERROR(VLOOKUP(ROWS(AL$2:$AL1790),N1790:Q3693,4,0),\"\")","v":""}]
[null,null,null,null,null,null,null,null,null,null,null,null,null,{"$f":"IF(ISNUMBER(SEARCH($H$16,Q1791)),MAX($N$1:N1790)+1,0)","v":0},{"$f":"IF(ISNUMBER(SEARCH($H$11,Q1791)),MAX($O$1:O1790)+1,0)","v":0},{"$f":"IF(ISNUMBER(SEARCH($H$6,Q1791)),MAX($P$1:P1790)+1,0)","v":0},null,null,null,null,null,null,null,null,null,null,null,null,null,null,{"$f":"IFERROR(VLOOKUP(ROWS($AE$2:AE1791),P1791:Q3694,2,0),\"\")","v":""},null,null,null,null,{"$f":"IFERROR(VLOOKUP(ROWS($AJ$2:AJ1791),O1791:Q3694,3,0),\"\")","v":""},null,{"$f":"IFERROR(VLOOKUP(ROWS(AL$2:$AL1791),N1791:Q3694,4,0),\"\")","v":""}]
[null,null,null,null,null,null,null,null,null,null,null,null,null,{"$f":"IF(ISNUMBER(SEARCH($H$16,Q1792)),MAX($N$1:N1791)+1,0)","v":0},{"$f":"IF(ISNUMBER(SEARCH($H$11,Q1792)),MAX($O$1:O1791)+1,0)","v":0},{"$f":"IF(ISNUMBER(SEARCH($H$6,Q1792)),MAX($P$1:P1791)+1,0)","v":0},null,null,null,null,null,null,null,null,null,null,null,null,null,null,{"$f":"IFERROR(VLOOKUP(ROWS($AE$2:AE1792),P1792:Q3695,2,0),\"\")","v":""},null,null,null,null,{"$f":"IFERROR(VLOOKUP(ROWS($AJ$2:AJ1792),O1792:Q3695,3,0),\"\")","v":""},null,{"$f":"IFERROR(VLOOKUP(ROWS(AL$2:$AL1792),N1792:Q3695,4,0),\"\")","v":""}]
[null,null,null,null,null,null,null,null,null,null,null,null,null,{"$f":"IF(ISNUMBER(SEARCH($H$16,Q1793)),MAX($N$1:N1792)+1,0)","v":0},{"$f":"IF(ISNUMBER(SEARCH($H$11,Q1793)),MAX($O$1:O1792)+1,0)","v":0},{"$f":"IF(ISNUMBER(SEARCH($H$6,Q1793)),MAX($P$1:P1792)+1,0)","v":0},null,null,null,null,null,null,null,null,null,null,null,null,null,null,{"$f":"IFERROR(VLOOKUP(ROWS($AE$2:AE1793),P1793:Q3696,2,0),\"\")","v":""},null,null,null,null,{"$f":"IFERROR(VLOOKUP(ROWS($AJ$2:AJ1793),O1793:Q3696,3,0),\"\")","v":""},null,{"$f":"IFERROR(VLOOKUP(ROWS(AL$2:$AL1793),N1793:Q3696,4,0),\"\")","v":""}]
[null,null,null,null,null,null,null,null,null,null,null,null,null,{"$f":"IF(ISNUMBER(SEARCH($H$16,Q1794)),MAX($N$1:N1793)+1,0)","v":0},{"$f":"IF(ISNUMBER(SEARCH($H$11,Q1794)),MAX($O$1:O1793)+1,0)","v":0},{"$f":"IF(ISNUMBER(SEARCH($H$6,Q1794)),MAX($P$1:P1793)+1,0)","v":0},null,null,null,null,null,null,null,null,null,null,null,null,null,null,{"$f":"IFERROR(VLOOKUP(ROWS($AE$2:AE1794),P1794:Q3697,2,0),\"\")","v":""},null,null,null,null,{"$f":"IFERROR(VLOOKUP(ROWS($AJ$2:AJ1794),O1794:Q3697,3,0),\"\")","v":""},null,{"$f":"IFERROR(VLOOKUP(ROWS(AL$2:$AL1794),N1794:Q3697,4,0),\"\")","v":""}]
[null,null,null,null,null,null,null,null,null,null,null,null,null,{"$f":"IF(ISNUMBER(SEARCH($H$16,Q1795)),MAX($N$1:N1794)+1,0)","v":0},{"$f":"IF(ISNUMBER(SEARCH($H$11,Q1795)),MAX($O$1:O1794)+1,0)","v":0},{"$f":"IF(ISNUMBER(SEARCH($H$6,Q1795)),MAX($P$1:P1794)+1,0)","v":0},null,null,null,null,null,null,null,null,null,null,null,null,null,null,{"$f":"IFERROR(VLOOKUP(ROWS($AE$2:AE1795),P1795:Q3698,2,0),\"\")","v":""},null,null,null,null,{"$f":"IFERROR(VLOOKUP(ROWS($AJ$2:AJ1795),O1795:Q3698,3,0),\"\")","v":""},null,{"$f":"IFERROR(VLOOKUP(ROWS(AL$2:$AL1795),N1795:Q3698,4,0),\"\")","v":""}]
[null,null,null,null,null,null,null,null,null,null,null,null,null,{"$f":"IF(ISNUMBER(SEARCH($H$16,Q1796)),MAX($N$1:N1795)+1,0)","v":0},{"$f":"IF(ISNUMBER(SEARCH($H$11,Q1796)),MAX($O$1:O1795)+1,0)","v":0},{"$f":"IF(ISNUMBER(SEARCH($H$6,Q1796)),MAX($P$1:P1795)+1,0)","v":0},null,null,null,null,null,null,null,null,null,null,null,null,null,null,{"$f":"IFERROR(VLOOKUP(ROWS($AE$2:AE1796),P1796:Q3699,2,0),\"\")","v":""},null,null,null,null,{"$f":"IFERROR(VLOOKUP(ROWS($AJ$2:AJ1796),O1796:Q3699,3,0),\"\")","v":""},null,{"$f":"IFERROR(VLOOKUP(ROWS(AL$2:$AL1796),N1796:Q3699,4,0),\"\")","v":""}]
[null,null,null,null,null,null,null,null,null,null,null,null,null,{"$f":"IF(ISNUMBER(SEARCH($H$16,Q1797)),MAX($N$1:N1796)+1,0)","v":0},{"$f":"IF(ISNUMBER(SEARCH($H$11,Q1797)),MAX($O$1:O1796)+1,0)","v":0},{"$f":"IF(ISNUMBER(SEARCH($H$6,Q1797)),MAX($P$1:P1796)+1,0)","v":0},null,null,null,null,null,null,null,null,null,null,null,null,null,null,{"$f":"IFERROR(VLOOKUP(ROWS($AE$2:AE1797),P1797:Q3700,2,0),\"\")","v":""},null,null,null,null,{"$f":"IFERROR(VLOOKUP(ROWS($AJ$2:AJ1797),O1797:Q3700,3,0),\"\")","v":""},null,{"$f":"IFERROR(VLOOKUP(ROWS(AL$2:$AL1797),N1797:Q3700,4,0),\"\")","v":""}]
[null,null,null,null,null,null,null,null,null,null,null,null,null,{"$f":"IF(ISNUMBER(SEARCH($H$16,Q1798)),MAX($N$1:N1797)+1,0)","v":0},{"$f":"IF(ISNUMBER(SEARCH($H$11,Q1798)),MAX($O$1:O1797)+1,0)","v":0},{"$f":"IF(ISNUMBER(SEARCH($H$6,Q1798)),MAX($P$1:P1797)+1,0)","v":0},null,null,null,null,null,null,null,null,null,null,null,null,null,null,{"$f":"IFERROR(VLOOKUP(ROWS($AE$2:AE1798),P1798:Q3701,2,0),\"\")","v":""},null,null,null,null,{"$f":"IFERROR(VLOOKUP(ROWS($AJ$2:AJ1798),O1798:Q3701,3,0),\"\")","v":""},null,{"$f":"IFERROR(VLOOKUP(ROWS(AL$2:$AL1798),N1798:Q3701,4,0),\"\")","v":""}]
[null,null,null,null,null,null,null,null,null,null,null,null,null,{"$f":"IF(ISNUMBER(SEARCH($H$16,Q1799)),MAX($N$1:N1798)+1,0)","v":0},{"$f":"IF(ISNUMBER(SEARCH($H$11,Q1799)),MAX($O$1:O1798)+1,0)","v":0},{"$f":"IF(ISNUMBER(SEARCH($H$6,Q1799)),MAX($P$1:P1798)+1,0)","v":0},null,null,null,null,null,null,null,null,null,null,null,null,null,null,{"$f":"IFERROR(VLOOKUP(ROWS($AE$2:AE1799),P1799:Q3702,2,0),\"\")","v":""},null,null,null,null,{"$f":"IFERROR(VLOOKUP(ROWS($AJ$2:AJ1799),O1799:Q3702,3,0),\"\")","v":""},null,{"$f":"IFERROR(VLOOKUP(ROWS(AL$2:$AL1799),N1799:Q3702,4,0),\"\")","v":""}]
[null,null,null,null,null,null,null,null,null,null,null,null,null,{"$f":"IF(ISNUMBER(SEARCH($H$16,Q1800)),MAX($N$1:N1799)+1,0)","v":0},{"$f":"IF(ISNUMBER(SEARCH($H$11,Q1800)),MAX($O$1:O1799)+1,0)","v":0},{"$f":"IF(ISNUMBER(SEARCH($H$6,Q1800)),MAX($P$1:P1799)+1,0)","v":0},null,null,null,null,null,null,null,null,null,null,null,null,null,null,{"$f":"IFERROR(VLOOKUP(ROWS($AE$2:AE1800),P1800:Q3703,2,0),\"\")","v":""},null,null,null,null,{"$f":"IFERROR(VLOOKUP(ROWS($AJ$2:AJ1800),O1800:Q3703,3,0),\"\")","v":""},null,{"$f":"IFERROR(VLOOKUP(ROWS(AL$2:$AL1800),N1800:Q3703,4,0),\"\")","v":""}]
[null,null,null,null,null,null,null,null,null,null,null,null,null,{"$f":"IF(ISNUMBER(SEARCH($H$16,Q1801)),MAX($N$1:N1800)+1,0)","v":0},{"$f":"IF(ISNUMBER(SEARCH($H$11,Q1801)),MAX($O$1:O1800)+1,0)","v":0},{"$f":"IF(ISNUMBER(SEARCH($H$6,Q1801)),MAX($P$1:P1800)+1,0)","v":0},null,null,null,null,null,null,null,null,null,null,null,null,null,null,{"$f":"IFERROR(VLOOKUP(ROWS($AE$2:AE1801),P1801:Q3704,2,0),\"\")","v":""},null,null,null,null,{"$f":"IFERROR(VLOOKUP(ROWS($AJ$2:AJ1801),O1801:Q3704,3,0),\"\")","v":""},null,{"$f":"IFERROR(VLOOKUP(ROWS(AL$2:$AL1801),N1801:Q3704,4,0),\"\")","v":""}]
[null,null,null,null,null,null,null,null,null,null,null,null,null,{"$f":"IF(ISNUMBER(SEARCH($H$16,Q1802)),MAX($N$1:N1801)+1,0)","v":0},{"$f":"IF(ISNUMBER(SEARCH($H$11,Q1802)),MAX($O$1:O1801)+1,0)","v":0},{"$f":"IF(ISNUMBER(SEARCH($H$6,Q1802)),MAX($P$1:P1801)+1,0)","v":0},null,null,null,null,null,null,null,null,null,null,null,null,null,null,{"$f":"IFERROR(VLOOKUP(ROWS($AE$2:AE1802),P1802:Q3705,2,0),\"\")","v":""},null,null,null,null,{"$f":"IFERROR(VLOOKUP(ROWS($AJ$2:AJ1802),O1802:Q3705,3,0),\"\")","v":""},null,{"$f":"IFERROR(VLOOKUP(ROWS(AL$2:$AL1802),N1802:Q3705,4,0),\"\")","v":""}]
[null,null,null,null,null,null,null,null,null,null,null,null,null,{"$f":"IF(ISNUMBER(SEARCH($H$16,Q1803)),MAX($N$1:N1802)+1,0)","v":0},{"$f":"IF(ISNUMBER(SEARCH($H$11,Q1803)),MAX($O$1:O1802)+1,0)","v":0},{"$f":"IF(ISNUMBER(SEARCH($H$6,Q1803)),MAX($P$1:P1802)+1,0)","v":0},null,null,null,null,null,null,null,null,null,null,null,null,null,null,{"$f":"IFERROR(VLOOKUP(ROWS($AE$2:AE1803),P1803:Q3706,2,0),\"\")","v":""},null,null,null,null,{"$f":"IFERROR(VLOOKUP(ROWS($AJ$2:AJ1803),O1803:Q3706,3,0),\"\")","v":""},null,{"$f":"IFERROR(VLOOKUP(ROWS(AL$2:$AL1803),N1803:Q3706,4,0),\"\")","v":""}]
[null,null,null,null,null,null,null,null,null,null,null,null,null,{"$f":"IF(ISNUMBER(SEARCH($H$16,Q1804)),MAX($N$1:N1803)+1,0)","v":0},{"$f":"IF(ISNUMBER(SEARCH($H$11,Q1804)),MAX($O$1:O1803)+1,0)","v":0},{"$f":"IF(ISNUMBER(SEARCH($H$6,Q1804)),MAX($P$1:P1803)+1,0)","v":0},null,null,null,null,null,null,null,null,null,null,null,null,null,null,{"$f":"IFERROR(VLOOKUP(ROWS($AE$2:AE1804),P1804:Q3707,2,0),\"\")","v":""},null,null,null,null,{"$f":"IFERROR(VLOOKUP(ROWS($AJ$2:AJ1804),O1804:Q3707,3,0),\"\")","v":""},null,{"$f":"IFERROR(VLOOKUP(ROWS(AL$2:$AL1804),N1804:Q3707,4,0),\"\")","v":""}]
[null,null,null,null,null,null,null,null,null,null,null,null,null,{"$f":"IF(ISNUMBER(SEARCH($H$16,Q1805)),MAX($N$1:N1804)+1,0)","v":0},{"$f":"IF(ISNUMBER(SEARCH($H$11,Q1805)),MAX($O$1:O1804)+1,0)","v":0},{"$f":"IF(ISNUMBER(SEARCH($H$6,Q1805)),MAX($P$1:P1804)+1,0)","v":0},null,null,null,null,null,null,null,null,null,null,null,null,null,null,{"$f":"IFERROR(VLOOKUP(ROWS($AE$2:AE1805),P1805:Q3708,2,0),\"\")","v":""},null,null,null,null,{"$f":"IFERROR(VLOOKUP(ROWS($AJ$2:AJ1805),O1805:Q3708,3,0),\"\")","v":""},null,{"$f":"IFERROR(VLOOKUP(ROWS(AL$2:$AL1805),N1805:Q3708,4,0),\"\")","v":""}]
[null,null,null,null,null,null,null,null,null,null,null,null,null,{"$f":"IF(ISNUMBER(SEARCH($H$16,Q1806)),MAX($N$1:N1805)+1,0)","v":0},{"$f":"IF(ISNUMBER(SEARCH($H$11,Q1806)),MAX($O$1:O1805)+1,0)","v":0},{"$f":"IF(ISNUMBER(SEARCH($H$6,Q1806)),MAX($P$1:P1805)+1,0)","v":0},null,null,null,null,null,null,null,null,null,null,null,null,null,null,{"$f":"IFERROR(VLOOKUP(ROWS($AE$2:AE1806),P1806:Q3709,2,0),\"\")","v":""},null,null,null,null,{"$f":"IFERROR(VLOOKUP(ROWS($AJ$2:AJ1806),O1806:Q3709,3,0),\"\")","v":""},null,{"$f":"IFERROR(VLOOKUP(ROWS(AL$2:$AL1806),N1806:Q3709,4,0),\"\")","v":""}]
[null,null,null,null,null,null,null,null,null,null,null,null,null,{"$f":"IF(ISNUMBER(SEARCH($H$16,Q1807)),MAX($N$1:N1806)+1,0)","v":0},{"$f":"IF(ISNUMBER(SEARCH($H$11,Q1807)),MAX($O$1:O1806)+1,0)","v":0},{"$f":"IF(ISNUMBER(SEARCH($H$6,Q1807)),MAX($P$1:P1806)+1,0)","v":0},null,null,null,null,null,null,null,null,null,null,null,null,null,null,{"$f":"IFERROR(VLOOKUP(ROWS($AE$2:AE1807),P1807:Q3710,2,0),\"\")","v":""},null,null,null,null,{"$f":"IFERROR(VLOOKUP(ROWS($AJ$2:AJ1807),O1807:Q3710,3,0),\"\")","v":""},null,{"$f":"IFERROR(VLOOKUP(ROWS(AL$2:$AL1807),N1807:Q3710,4,0),\"\")","v":""}]
[null,null,null,null,null,null,null,null,null,null,null,null,null,{"$f":"IF(ISNUMBER(SEARCH($H$16,Q1808)),MAX($N$1:N1807)+1,0)","v":0},{"$f":"IF(ISNUMBER(SEARCH($H$11,Q1808)),MAX($O$1:O1807)+1,0)","v":0},{"$f":"IF(ISNUMBER(SEARCH($H$6,Q1808)),MAX($P$1:P1807)+1,0)","v":0},null,null,null,null,null,null,null,null,null,null,null,null,null,null,{"$f":"IFERROR(VLOOKUP(ROWS($AE$2:AE1808),P1808:Q3711,2,0),\"\")","v":""},null,null,null,null,{"$f":"IFERROR(VLOOKUP(ROWS($AJ$2:AJ1808),O1808:Q3711,3,0),\"\")","v":""},null,{"$f":"IFERROR(VLOOKUP(ROWS(AL$2:$AL1808),N1808:Q3711,4,0),\"\")","v":""}]
[null,null,null,null,null,null,null,null,null,null,null,null,null,{"$f":"IF(ISNUMBER(SEARCH($H$16,Q1809)),MAX($N$1:N1808)+1,0)","v":0},{"$f":"IF(ISNUMBER(SEARCH($H$11,Q1809)),MAX($O$1:O1808)+1,0)","v":0},{"$f":"IF(ISNUMBER(SEARCH($H$6,Q1809)),MAX($P$1:P1808)+1,0)","v":0},null,null,null,null,null,null,null,null,null,null,null,null,null,null,{"$f":"IFERROR(VLOOKUP(ROWS($AE$2:AE1809),P1809:Q3712,2,0),\"\")","v":""},null,null,null,null,{"$f":"IFERROR(VLOOKUP(ROWS($AJ$2:AJ1809),O1809:Q3712,3,0),\"\")","v":""},null,{"$f":"IFERROR(VLOOKUP(ROWS(AL$2:$AL1809),N1809:Q3712,4,0),\"\")","v":""}]
[null,null,null,null,null,null,null,null,null,null,null,null,null,{"$f":"IF(ISNUMBER(SEARCH($H$16,Q1810)),MAX($N$1:N1809)+1,0)","v":0},{"$f":"IF(ISNUMBER(SEARCH($H$11,Q1810)),MAX($O$1:O1809)+1,0)","v":0},{"$f":"IF(ISNUMBER(SEARCH($H$6,Q1810)),MAX($P$1:P1809)+1,0)","v":0},null,null,null,null,null,null,null,null,null,null,null,null,null,null,{"$f":"IFERROR(VLOOKUP(ROWS($AE$2:AE1810),P1810:Q3713,2,0),\"\")","v":""},null,null,null,null,{"$f":"IFERROR(VLOOKUP(ROWS($AJ$2:AJ1810),O1810:Q3713,3,0),\"\")","v":""},null,{"$f":"IFERROR(VLOOKUP(ROWS(AL$2:$AL1810),N1810:Q3713,4,0),\"\")","v":""}]
[null,null,null,null,null,null,null,null,null,null,null,null,null,{"$f":"IF(ISNUMBER(SEARCH($H$16,Q1811)),MAX($N$1:N1810)+1,0)","v":0},{"$f":"IF(ISNUMBER(SEARCH($H$11,Q1811)),MAX($O$1:O1810)+1,0)","v":0},{"$f":"IF(ISNUMBER(SEARCH($H$6,Q1811)),MAX($P$1:P1810)+1,0)","v":0},null,null,null,null,null,null,null,null,null,null,null,null,null,null,{"$f":"IFERROR(VLOOKUP(ROWS($AE$2:AE1811),P1811:Q3714,2,0),\"\")","v":""},null,null,null,null,{"$f":"IFERROR(VLOOKUP(ROWS($AJ$2:AJ1811),O1811:Q3714,3,0),\"\")","v":""},null,{"$f":"IFERROR(VLOOKUP(ROWS(AL$2:$AL1811),N1811:Q3714,4,0),\"\")","v":""}]
[null,null,null,null,null,null,null,null,null,null,null,null,null,{"$f":"IF(ISNUMBER(SEARCH($H$16,Q1812)),MAX($N$1:N1811)+1,0)","v":0},{"$f":"IF(ISNUMBER(SEARCH($H$11,Q1812)),MAX($O$1:O1811)+1,0)","v":0},{"$f":"IF(ISNUMBER(SEARCH($H$6,Q1812)),MAX($P$1:P1811)+1,0)","v":0},null,null,null,null,null,null,null,null,null,null,null,null,null,null,{"$f":"IFERROR(VLOOKUP(ROWS($AE$2:AE1812),P1812:Q3715,2,0),\"\")","v":""},null,null,null,null,{"$f":"IFERROR(VLOOKUP(ROWS($AJ$2:AJ1812),O1812:Q3715,3,0),\"\")","v":""},null,{"$f":"IFERROR(VLOOKUP(ROWS(AL$2:$AL1812),N1812:Q3715,4,0),\"\")","v":""}]
[null,null,null,null,null,null,null,null,null,null,null,null,null,{"$f":"IF(ISNUMBER(SEARCH($H$16,Q1813)),MAX($N$1:N1812)+1,0)","v":0},{"$f":"IF(ISNUMBER(SEARCH($H$11,Q1813)),MAX($O$1:O1812)+1,0)","v":0},{"$f":"IF(ISNUMBER(SEARCH($H$6,Q1813)),MAX($P$1:P1812)+1,0)","v":0},null,null,null,null,null,null,null,null,null,null,null,null,null,null,{"$f":"IFERROR(VLOOKUP(ROWS($AE$2:AE1813),P1813:Q3716,2,0),\"\")","v":""},null,null,null,null,{"$f":"IFERROR(VLOOKUP(ROWS($AJ$2:AJ1813),O1813:Q3716,3,0),\"\")","v":""},null,{"$f":"IFERROR(VLOOKUP(ROWS(AL$2:$AL1813),N1813:Q3716,4,0),\"\")","v":""}]
[null,null,null,null,null,null,null,null,null,null,null,null,null,{"$f":"IF(ISNUMBER(SEARCH($H$16,Q1814)),MAX($N$1:N1813)+1,0)","v":0},{"$f":"IF(ISNUMBER(SEARCH($H$11,Q1814)),MAX($O$1:O1813)+1,0)","v":0},{"$f":"IF(ISNUMBER(SEARCH($H$6,Q1814)),MAX($P$1:P1813)+1,0)","v":0},null,null,null,null,null,null,null,null,null,null,null,null,null,null,{"$f":"IFERROR(VLOOKUP(ROWS($AE$2:AE1814),P1814:Q3717,2,0),\"\")","v":""},null,null,null,null,{"$f":"IFERROR(VLOOKUP(ROWS($AJ$2:AJ1814),O1814:Q3717,3,0),\"\")","v":""},null,{"$f":"IFERROR(VLOOKUP(ROWS(AL$2:$AL1814),N1814:Q3717,4,0),\"\")","v":""}]
[null,null,null,null,null,null,null,null,null,null,null,null,null,{"$f":"IF(ISNUMBER(SEARCH($H$16,Q1815)),MAX($N$1:N1814)+1,0)","v":0},{"$f":"IF(ISNUMBER(SEARCH($H$11,Q1815)),MAX($O$1:O1814)+1,0)","v":0},{"$f":"IF(ISNUMBER(SEARCH($H$6,Q1815)),MAX($P$1:P1814)+1,0)","v":0},null,null,null,null,null,null,null,null,null,null,null,null,null,null,{"$f":"IFERROR(VLOOKUP(ROWS($AE$2:AE1815),P1815:Q3718,2,0),\"\")","v":""},null,null,null,null,{"$f":"IFERROR(VLOOKUP(ROWS($AJ$2:AJ1815),O1815:Q3718,3,0),\"\")","v":""},null,{"$f":"IFERROR(VLOOKUP(ROWS(AL$2:$AL1815),N1815:Q3718,4,0),\"\")","v":""}]
[null,null,null,null,null,null,null,null,null,null,null,null,null,{"$f":"IF(ISNUMBER(SEARCH($H$16,Q1816)),MAX($N$1:N1815)+1,0)","v":0},{"$f":"IF(ISNUMBER(SEARCH($H$11,Q1816)),MAX($O$1:O1815)+1,0)","v":0},{"$f":"IF(ISNUMBER(SEARCH($H$6,Q1816)),MAX($P$1:P1815)+1,0)","v":0},null,null,null,null,null,null,null,null,null,null,null,null,null,null,{"$f":"IFERROR(VLOOKUP(ROWS($AE$2:AE1816),P1816:Q3719,2,0),\"\")","v":""},null,null,null,null,{"$f":"IFERROR(VLOOKUP(ROWS($AJ$2:AJ1816),O1816:Q3719,3,0),\"\")","v":""},null,{"$f":"IFERROR(VLOOKUP(ROWS(AL$2:$AL1816),N1816:Q3719,4,0),\"\")","v":""}]
[null,null,null,null,null,null,null,null,null,null,null,null,null,{"$f":"IF(ISNUMBER(SEARCH($H$16,Q1817)),MAX($N$1:N1816)+1,0)","v":0},{"$f":"IF(ISNUMBER(SEARCH($H$11,Q1817)),MAX($O$1:O1816)+1,0)","v":0},{"$f":"IF(ISNUMBER(SEARCH($H$6,Q1817)),MAX($P$1:P1816)+1,0)","v":0},null,null,null,null,null,null,null,null,null,null,null,null,null,null,{"$f":"IFERROR(VLOOKUP(ROWS($AE$2:AE1817),P1817:Q3720,2,0),\"\")","v":""},null,null,null,null,{"$f":"IFERROR(VLOOKUP(ROWS($AJ$2:AJ1817),O1817:Q3720,3,0),\"\")","v":""},null,{"$f":"IFERROR(VLOOKUP(ROWS(AL$2:$AL1817),N1817:Q3720,4,0),\"\")","v":""}]
[null,null,null,null,null,null,null,null,null,null,null,null,null,{"$f":"IF(ISNUMBER(SEARCH($H$16,Q1818)),MAX($N$1:N1817)+1,0)","v":0},{"$f":"IF(ISNUMBER(SEARCH($H$11,Q1818)),MAX($O$1:O1817)+1,0)","v":0},{"$f":"IF(ISNUMBER(SEARCH($H$6,Q1818)),MAX($P$1:P1817)+1,0)","v":0},null,null,null,null,null,null,null,null,null,null,null,null,null,null,{"$f":"IFERROR(VLOOKUP(ROWS($AE$2:AE1818),P1818:Q3721,2,0),\"\")","v":""},null,null,null,null,{"$f":"IFERROR(VLOOKUP(ROWS($AJ$2:AJ1818),O1818:Q3721,3,0),\"\")","v":""},null,{"$f":"IFERROR(VLOOKUP(ROWS(AL$2:$AL1818),N1818:Q3721,4,0),\"\")","v":""}]
[null,null,null,null,null,null,null,null,null,null,null,null,null,{"$f":"IF(ISNUMBER(SEARCH($H$16,Q1819)),MAX($N$1:N1818)+1,0)","v":0},{"$f":"IF(ISNUMBER(SEARCH($H$11,Q1819)),MAX($O$1:O1818)+1,0)","v":0},{"$f":"IF(ISNUMBER(SEARCH($H$6,Q1819)),MAX($P$1:P1818)+1,0)","v":0},null,null,null,null,null,null,null,null,null,null,null,null,null,null,{"$f":"IFERROR(VLOOKUP(ROWS($AE$2:AE1819),P1819:Q3722,2,0),\"\")","v":""},null,null,null,null,{"$f":"IFERROR(VLOOKUP(ROWS($AJ$2:AJ1819),O1819:Q3722,3,0),\"\")","v":""},null,{"$f":"IFERROR(VLOOKUP(ROWS(AL$2:$AL1819),N1819:Q3722,4,0),\"\")","v":""}]
[null,null,null,null,null,null,null,null,null,null,null,null,null,{"$f":"IF(ISNUMBER(SEARCH($H$16,Q1820)),MAX($N$1:N1819)+1,0)","v":0},{"$f":"IF(ISNUMBER(SEARCH($H$11,Q1820)),MAX($O$1:O1819)+1,0)","v":0},{"$f":"IF(ISNUMBER(SEARCH($H$6,Q1820)),MAX($P$1:P1819)+1,0)","v":0},null,null,null,null,null,null,null,null,null,null,null,null,null,null,{"$f":"IFERROR(VLOOKUP(ROWS($AE$2:AE1820),P1820:Q3723,2,0),\"\")","v":""},null,null,null,null,{"$f":"IFERROR(VLOOKUP(ROWS($AJ$2:AJ1820),O1820:Q3723,3,0),\"\")","v":""},null,{"$f":"IFERROR(VLOOKUP(ROWS(AL$2:$AL1820),N1820:Q3723,4,0),\"\")","v":""}]
[null,null,null,null,null,null,null,null,null,null,null,null,null,{"$f":"IF(ISNUMBER(SEARCH($H$16,Q1821)),MAX($N$1:N1820)+1,0)","v":0},{"$f":"IF(ISNUMBER(SEARCH($H$11,Q1821)),MAX($O$1:O1820)+1,0)","v":0},{"$f":"IF(ISNUMBER(SEARCH($H$6,Q1821)),MAX($P$1:P1820)+1,0)","v":0},null,null,null,null,null,null,null,null,null,null,null,null,null,null,{"$f":"IFERROR(VLOOKUP(ROWS($AE$2:AE1821),P1821:Q3724,2,0),\"\")","v":""},null,null,null,null,{"$f":"IFERROR(VLOOKUP(ROWS($AJ$2:AJ1821),O1821:Q3724,3,0),\"\")","v":""},null,{"$f":"IFERROR(VLOOKUP(ROWS(AL$2:$AL1821),N1821:Q3724,4,0),\"\")","v":""}]
[null,null,null,null,null,null,null,null,null,null,null,null,null,{"$f":"IF(ISNUMBER(SEARCH($H$16,Q1822)),MAX($N$1:N1821)+1,0)","v":0},{"$f":"IF(ISNUMBER(SEARCH($H$11,Q1822)),MAX($O$1:O1821)+1,0)","v":0},{"$f":"IF(ISNUMBER(SEARCH($H$6,Q1822)),MAX($P$1:P1821)+1,0)","v":0},null,null,null,null,null,null,null,null,null,null,null,null,null,null,{"$f":"IFERROR(VLOOKUP(ROWS($AE$2:AE1822),P1822:Q3725,2,0),\"\")","v":""},null,null,null,null,{"$f":"IFERROR(VLOOKUP(ROWS($AJ$2:AJ1822),O1822:Q3725,3,0),\"\")","v":""},null,{"$f":"IFERROR(VLOOKUP(ROWS(AL$2:$AL1822),N1822:Q3725,4,0),\"\")","v":""}]
[null,null,null,null,null,null,null,null,null,null,null,null,null,{"$f":"IF(ISNUMBER(SEARCH($H$16,Q1823)),MAX($N$1:N1822)+1,0)","v":0},{"$f":"IF(ISNUMBER(SEARCH($H$11,Q1823)),MAX($O$1:O1822)+1,0)","v":0},{"$f":"IF(ISNUMBER(SEARCH($H$6,Q1823)),MAX($P$1:P1822)+1,0)","v":0},null,null,null,null,null,null,null,null,null,null,null,null,null,null,{"$f":"IFERROR(VLOOKUP(ROWS($AE$2:AE1823),P1823:Q3726,2,0),\"\")","v":""},null,null,null,null,{"$f":"IFERROR(VLOOKUP(ROWS($AJ$2:AJ1823),O1823:Q3726,3,0),\"\")","v":""},null,{"$f":"IFERROR(VLOOKUP(ROWS(AL$2:$AL1823),N1823:Q3726,4,0),\"\")","v":""}]
[null,null,null,null,null,null,null,null,null,null,null,null,null,{"$f":"IF(ISNUMBER(SEARCH($H$16,Q1824)),MAX($N$1:N1823)+1,0)","v":0},{"$f":"IF(ISNUMBER(SEARCH($H$11,Q1824)),MAX($O$1:O1823)+1,0)","v":0},{"$f":"IF(ISNUMBER(SEARCH($H$6,Q1824)),MAX($P$1:P1823)+1,0)","v":0},null,null,null,null,null,null,null,null,null,null,null,null,null,null,{"$f":"IFERROR(VLOOKUP(ROWS($AE$2:AE1824),P1824:Q3727,2,0),\"\")","v":""},null,null,null,null,{"$f":"IFERROR(VLOOKUP(ROWS($AJ$2:AJ1824),O1824:Q3727,3,0),\"\")","v":""},null,{"$f":"IFERROR(VLOOKUP(ROWS(AL$2:$AL1824),N1824:Q3727,4,0),\"\")","v":""}]
[null,null,null,null,null,null,null,null,null,null,null,null,null,{"$f":"IF(ISNUMBER(SEARCH($H$16,Q1825)),MAX($N$1:N1824)+1,0)","v":0},{"$f":"IF(ISNUMBER(SEARCH($H$11,Q1825)),MAX($O$1:O1824)+1,0)","v":0},{"$f":"IF(ISNUMBER(SEARCH($H$6,Q1825)),MAX($P$1:P1824)+1,0)","v":0},null,null,null,null,null,null,null,null,null,null,null,null,null,null,{"$f":"IFERROR(VLOOKUP(ROWS($AE$2:AE1825),P1825:Q3728,2,0),\"\")","v":""},null,null,null,null,{"$f":"IFERROR(VLOOKUP(ROWS($AJ$2:AJ1825),O1825:Q3728,3,0),\"\")","v":""},null,{"$f":"IFERROR(VLOOKUP(ROWS(AL$2:$AL1825),N1825:Q3728,4,0),\"\")","v":""}]
[null,null,null,null,null,null,null,null,null,null,null,null,null,{"$f":"IF(ISNUMBER(SEARCH($H$16,Q1826)),MAX($N$1:N1825)+1,0)","v":0},{"$f":"IF(ISNUMBER(SEARCH($H$11,Q1826)),MAX($O$1:O1825)+1,0)","v":0},{"$f":"IF(ISNUMBER(SEARCH($H$6,Q1826)),MAX($P$1:P1825)+1,0)","v":0},null,null,null,null,null,null,null,null,null,null,null,null,null,null,{"$f":"IFERROR(VLOOKUP(ROWS($AE$2:AE1826),P1826:Q3729,2,0),\"\")","v":""},null,null,null,null,{"$f":"IFERROR(VLOOKUP(ROWS($AJ$2:AJ1826),O1826:Q3729,3,0),\"\")","v":""},null,{"$f":"IFERROR(VLOOKUP(ROWS(AL$2:$AL1826),N1826:Q3729,4,0),\"\")","v":""}]
[null,null,null,null,null,null,null,null,null,null,null,null,null,{"$f":"IF(ISNUMBER(SEARCH($H$16,Q1827)),MAX($N$1:N1826)+1,0)","v":0},{"$f":"IF(ISNUMBER(SEARCH($H$11,Q1827)),MAX($O$1:O1826)+1,0)","v":0},{"$f":"IF(ISNUMBER(SEARCH($H$6,Q1827)),MAX($P$1:P1826)+1,0)","v":0},null,null,null,null,null,null,null,null,null,null,null,null,null,null,{"$f":"IFERROR(VLOOKUP(ROWS($AE$2:AE1827),P1827:Q3730,2,0),\"\")","v":""},null,null,null,null,{"$f":"IFERROR(VLOOKUP(ROWS($AJ$2:AJ1827),O1827:Q3730,3,0),\"\")","v":""},null,{"$f":"IFERROR(VLOOKUP(ROWS(AL$2:$AL1827),N1827:Q3730,4,0),\"\")","v":""}]
[null,null,null,null,null,null,null,null,null,null,null,null,null,{"$f":"IF(ISNUMBER(SEARCH($H$16,Q1828)),MAX($N$1:N1827)+1,0)","v":0},{"$f":"IF(ISNUMBER(SEARCH($H$11,Q1828)),MAX($O$1:O1827)+1,0)","v":0},{"$f":"IF(ISNUMBER(SEARCH($H$6,Q1828)),MAX($P$1:P1827)+1,0)","v":0},null,null,null,null,null,null,null,null,null,null,null,null,null,null,{"$f":"IFERROR(VLOOKUP(ROWS($AE$2:AE1828),P1828:Q3731,2,0),\"\")","v":""},null,null,null,null,{"$f":"IFERROR(VLOOKUP(ROWS($AJ$2:AJ1828),O1828:Q3731,3,0),\"\")","v":""},null,{"$f":"IFERROR(VLOOKUP(ROWS(AL$2:$AL1828),N1828:Q3731,4,0),\"\")","v":""}]
[null,null,null,null,null,null,null,null,null,null,null,null,null,{"$f":"IF(ISNUMBER(SEARCH($H$16,Q1829)),MAX($N$1:N1828)+1,0)","v":0},{"$f":"IF(ISNUMBER(SEARCH($H$11,Q1829)),MAX($O$1:O1828)+1,0)","v":0},{"$f":"IF(ISNUMBER(SEARCH($H$6,Q1829)),MAX($P$1:P1828)+1,0)","v":0},null,null,null,null,null,null,null,null,null,null,null,null,null,null,{"$f":"IFERROR(VLOOKUP(ROWS($AE$2:AE1829),P1829:Q3732,2,0),\"\")","v":""},null,null,null,null,{"$f":"IFERROR(VLOOKUP(ROWS($AJ$2:AJ1829),O1829:Q3732,3,0),\"\")","v":""},null,{"$f":"IFERROR(VLOOKUP(ROWS(AL$2:$AL1829),N1829:Q3732,4,0),\"\")","v":""}]
[null,null,null,null,null,null,null,null,null,null,null,null,null,{"$f":"IF(ISNUMBER(SEARCH($H$16,Q1830)),MAX($N$1:N1829)+1,0)","v":0},{"$f":"IF(ISNUMBER(SEARCH($H$11,Q1830)),MAX($O$1:O1829)+1,0)","v":0},{"$f":"IF(ISNUMBER(SEARCH($H$6,Q1830)),MAX($P$1:P1829)+1,0)","v":0},null,null,null,null,null,null,null,null,null,null,null,null,null,null,{"$f":"IFERROR(VLOOKUP(ROWS($AE$2:AE1830),P1830:Q3733,2,0),\"\")","v":""},null,null,null,null,{"$f":"IFERROR(VLOOKUP(ROWS($AJ$2:AJ1830),O1830:Q3733,3,0),\"\")","v":""},null,{"$f":"IFERROR(VLOOKUP(ROWS(AL$2:$AL1830),N1830:Q3733,4,0),\"\")","v":""}]
[null,null,null,null,null,null,null,null,null,null,null,null,null,{"$f":"IF(ISNUMBER(SEARCH($H$16,Q1831)),MAX($N$1:N1830)+1,0)","v":0},{"$f":"IF(ISNUMBER(SEARCH($H$11,Q1831)),MAX($O$1:O1830)+1,0)","v":0},{"$f":"IF(ISNUMBER(SEARCH($H$6,Q1831)),MAX($P$1:P1830)+1,0)","v":0},null,null,null,null,null,null,null,null,null,null,null,null,null,null,{"$f":"IFERROR(VLOOKUP(ROWS($AE$2:AE1831),P1831:Q3734,2,0),\"\")","v":""},null,null,null,null,{"$f":"IFERROR(VLOOKUP(ROWS($AJ$2:AJ1831),O1831:Q3734,3,0),\"\")","v":""},null,{"$f":"IFERROR(VLOOKUP(ROWS(AL$2:$AL1831),N1831:Q3734,4,0),\"\")","v":""}]
[null,null,null,null,null,null,null,null,null,null,null,null,null,{"$f":"IF(ISNUMBER(SEARCH($H$16,Q1832)),MAX($N$1:N1831)+1,0)","v":0},{"$f":"IF(ISNUMBER(SEARCH($H$11,Q1832)),MAX($O$1:O1831)+1,0)","v":0},{"$f":"IF(ISNUMBER(SEARCH($H$6,Q1832)),MAX($P$1:P1831)+1,0)","v":0},null,null,null,null,null,null,null,null,null,null,null,null,null,null,{"$f":"IFERROR(VLOOKUP(ROWS($AE$2:AE1832),P1832:Q3735,2,0),\"\")","v":""},null,null,null,null,{"$f":"IFERROR(VLOOKUP(ROWS($AJ$2:AJ1832),O1832:Q3735,3,0),\"\")","v":""},null,{"$f":"IFERROR(VLOOKUP(ROWS(AL$2:$AL1832),N1832:Q3735,4,0),\"\")","v":""}]
[null,null,null,null,null,null,null,null,null,null,null,null,null,{"$f":"IF(ISNUMBER(SEARCH($H$16,Q1833)),MAX($N$1:N1832)+1,0)","v":0},{"$f":"IF(ISNUMBER(SEARCH($H$11,Q1833)),MAX($O$1:O1832)+1,0)","v":0},{"$f":"IF(ISNUMBER(SEARCH($H$6,Q1833)),MAX($P$1:P1832)+1,0)","v":0},null,null,null,null,null,null,null,null,null,null,null,null,null,null,{"$f":"IFERROR(VLOOKUP(ROWS($AE$2:AE1833),P1833:Q3736,2,0),\"\")","v":""},null,null,null,null,{"$f":"IFERROR(VLOOKUP(ROWS($AJ$2:AJ1833),O1833:Q3736,3,0),\"\")","v":""},null,{"$f":"IFERROR(VLOOKUP(ROWS(AL$2:$AL1833),N1833:Q3736,4,0),\"\")","v":""}]
[null,null,null,null,null,null,null,null,null,null,null,null,null,{"$f":"IF(ISNUMBER(SEARCH($H$16,Q1834)),MAX($N$1:N1833)+1,0)","v":0},{"$f":"IF(ISNUMBER(SEARCH($H$11,Q1834)),MAX($O$1:O1833)+1,0)","v":0},{"$f":"IF(ISNUMBER(SEARCH($H$6,Q1834)),MAX($P$1:P1833)+1,0)","v":0},null,null,null,null,null,null,null,null,null,null,null,null,null,null,{"$f":"IFERROR(VLOOKUP(ROWS($AE$2:AE1834),P1834:Q3737,2,0),\"\")","v":""},null,null,null,null,{"$f":"IFERROR(VLOOKUP(ROWS($AJ$2:AJ1834),O1834:Q3737,3,0),\"\")","v":""},null,{"$f":"IFERROR(VLOOKUP(ROWS(AL$2:$AL1834),N1834:Q3737,4,0),\"\")","v":""}]
[null,null,null,null,null,null,null,null,null,null,null,null,null,{"$f":"IF(ISNUMBER(SEARCH($H$16,Q1835)),MAX($N$1:N1834)+1,0)","v":0},{"$f":"IF(ISNUMBER(SEARCH($H$11,Q1835)),MAX($O$1:O1834)+1,0)","v":0},{"$f":"IF(ISNUMBER(SEARCH($H$6,Q1835)),MAX($P$1:P1834)+1,0)","v":0},null,null,null,null,null,null,null,null,null,null,null,null,null,null,{"$f":"IFERROR(VLOOKUP(ROWS($AE$2:AE1835),P1835:Q3738,2,0),\"\")","v":""},null,null,null,null,{"$f":"IFERROR(VLOOKUP(ROWS($AJ$2:AJ1835),O1835:Q3738,3,0),\"\")","v":""},null,{"$f":"IFERROR(VLOOKUP(ROWS(AL$2:$AL1835),N1835:Q3738,4,0),\"\")","v":""}]
[null,null,null,null,null,null,null,null,null,null,null,null,null,{"$f":"IF(ISNUMBER(SEARCH($H$16,Q1836)),MAX($N$1:N1835)+1,0)","v":0},{"$f":"IF(ISNUMBER(SEARCH($H$11,Q1836)),MAX($O$1:O1835)+1,0)","v":0},{"$f":"IF(ISNUMBER(SEARCH($H$6,Q1836)),MAX($P$1:P1835)+1,0)","v":0},null,null,null,null,null,null,null,null,null,null,null,null,null,null,{"$f":"IFERROR(VLOOKUP(ROWS($AE$2:AE1836),P1836:Q3739,2,0),\"\")","v":""},null,null,null,null,{"$f":"IFERROR(VLOOKUP(ROWS($AJ$2:AJ1836),O1836:Q3739,3,0),\"\")","v":""},null,{"$f":"IFERROR(VLOOKUP(ROWS(AL$2:$AL1836),N1836:Q3739,4,0),\"\")","v":""}]
[null,null,null,null,null,null,null,null,null,null,null,null,null,{"$f":"IF(ISNUMBER(SEARCH($H$16,Q1837)),MAX($N$1:N1836)+1,0)","v":0},{"$f":"IF(ISNUMBER(SEARCH($H$11,Q1837)),MAX($O$1:O1836)+1,0)","v":0},{"$f":"IF(ISNUMBER(SEARCH($H$6,Q1837)),MAX($P$1:P1836)+1,0)","v":0},null,null,null,null,null,null,null,null,null,null,null,null,null,null,{"$f":"IFERROR(VLOOKUP(ROWS($AE$2:AE1837),P1837:Q3740,2,0),\"\")","v":""},null,null,null,null,{"$f":"IFERROR(VLOOKUP(ROWS($AJ$2:AJ1837),O1837:Q3740,3,0),\"\")","v":""},null,{"$f":"IFERROR(VLOOKUP(ROWS(AL$2:$AL1837),N1837:Q3740,4,0),\"\")","v":""}]
[null,null,null,null,null,null,null,null,null,null,null,null,null,{"$f":"IF(ISNUMBER(SEARCH($H$16,Q1838)),MAX($N$1:N1837)+1,0)","v":0},{"$f":"IF(ISNUMBER(SEARCH($H$11,Q1838)),MAX($O$1:O1837)+1,0)","v":0},{"$f":"IF(ISNUMBER(SEARCH($H$6,Q1838)),MAX($P$1:P1837)+1,0)","v":0},null,null,null,null,null,null,null,null,null,null,null,null,null,null,{"$f":"IFERROR(VLOOKUP(ROWS($AE$2:AE1838),P1838:Q3741,2,0),\"\")","v":""},null,null,null,null,{"$f":"IFERROR(VLOOKUP(ROWS($AJ$2:AJ1838),O1838:Q3741,3,0),\"\")","v":""},null,{"$f":"IFERROR(VLOOKUP(ROWS(AL$2:$AL1838),N1838:Q3741,4,0),\"\")","v":""}]
[null,null,null,null,null,null,null,null,null,null,null,null,null,{"$f":"IF(ISNUMBER(SEARCH($H$16,Q1839)),MAX($N$1:N1838)+1,0)","v":0},{"$f":"IF(ISNUMBER(SEARCH($H$11,Q1839)),MAX($O$1:O1838)+1,0)","v":0},{"$f":"IF(ISNUMBER(SEARCH($H$6,Q1839)),MAX($P$1:P1838)+1,0)","v":0},null,null,null,null,null,null,null,null,null,null,null,null,null,null,{"$f":"IFERROR(VLOOKUP(ROWS($AE$2:AE1839),P1839:Q3742,2,0),\"\")","v":""},null,null,null,null,{"$f":"IFERROR(VLOOKUP(ROWS($AJ$2:AJ1839),O1839:Q3742,3,0),\"\")","v":""},null,{"$f":"IFERROR(VLOOKUP(ROWS(AL$2:$AL1839),N1839:Q3742,4,0),\"\")","v":""}]
[null,null,null,null,null,null,null,null,null,null,null,null,null,{"$f":"IF(ISNUMBER(SEARCH($H$16,Q1840)),MAX($N$1:N1839)+1,0)","v":0},{"$f":"IF(ISNUMBER(SEARCH($H$11,Q1840)),MAX($O$1:O1839)+1,0)","v":0},{"$f":"IF(ISNUMBER(SEARCH($H$6,Q1840)),MAX($P$1:P1839)+1,0)","v":0},null,null,null,null,null,null,null,null,null,null,null,null,null,null,{"$f":"IFERROR(VLOOKUP(ROWS($AE$2:AE1840),P1840:Q3743,2,0),\"\")","v":""},null,null,null,null,{"$f":"IFERROR(VLOOKUP(ROWS($AJ$2:AJ1840),O1840:Q3743,3,0),\"\")","v":""},null,{"$f":"IFERROR(VLOOKUP(ROWS(AL$2:$AL1840),N1840:Q3743,4,0),\"\")","v":""}]
[null,null,null,null,null,null,null,null,null,null,null,null,null,{"$f":"IF(ISNUMBER(SEARCH($H$16,Q1841)),MAX($N$1:N1840)+1,0)","v":0},{"$f":"IF(ISNUMBER(SEARCH($H$11,Q1841)),MAX($O$1:O1840)+1,0)","v":0},{"$f":"IF(ISNUMBER(SEARCH($H$6,Q1841)),MAX($P$1:P1840)+1,0)","v":0},null,null,null,null,null,null,null,null,null,null,null,null,null,null,{"$f":"IFERROR(VLOOKUP(ROWS($AE$2:AE1841),P1841:Q3744,2,0),\"\")","v":""},null,null,null,null,{"$f":"IFERROR(VLOOKUP(ROWS($AJ$2:AJ1841),O1841:Q3744,3,0),\"\")","v":""},null,{"$f":"IFERROR(VLOOKUP(ROWS(AL$2:$AL1841),N1841:Q3744,4,0),\"\")","v":""}]
[null,null,null,null,null,null,null,null,null,null,null,null,null,{"$f":"IF(ISNUMBER(SEARCH($H$16,Q1842)),MAX($N$1:N1841)+1,0)","v":0},{"$f":"IF(ISNUMBER(SEARCH($H$11,Q1842)),MAX($O$1:O1841)+1,0)","v":0},{"$f":"IF(ISNUMBER(SEARCH($H$6,Q1842)),MAX($P$1:P1841)+1,0)","v":0},null,null,null,null,null,null,null,null,null,null,null,null,null,null,{"$f":"IFERROR(VLOOKUP(ROWS($AE$2:AE1842),P1842:Q3745,2,0),\"\")","v":""},null,null,null,null,{"$f":"IFERROR(VLOOKUP(ROWS($AJ$2:AJ1842),O1842:Q3745,3,0),\"\")","v":""},null,{"$f":"IFERROR(VLOOKUP(ROWS(AL$2:$AL1842),N1842:Q3745,4,0),\"\")","v":""}]
[null,null,null,null,null,null,null,null,null,null,null,null,null,{"$f":"IF(ISNUMBER(SEARCH($H$16,Q1843)),MAX($N$1:N1842)+1,0)","v":0},{"$f":"IF(ISNUMBER(SEARCH($H$11,Q1843)),MAX($O$1:O1842)+1,0)","v":0},{"$f":"IF(ISNUMBER(SEARCH($H$6,Q1843)),MAX($P$1:P1842)+1,0)","v":0},null,null,null,null,null,null,null,null,null,null,null,null,null,null,{"$f":"IFERROR(VLOOKUP(ROWS($AE$2:AE1843),P1843:Q3746,2,0),\"\")","v":""},null,null,null,null,{"$f":"IFERROR(VLOOKUP(ROWS($AJ$2:AJ1843),O1843:Q3746,3,0),\"\")","v":""},null,{"$f":"IFERROR(VLOOKUP(ROWS(AL$2:$AL1843),N1843:Q3746,4,0),\"\")","v":""}]
[null,null,null,null,null,null,null,null,null,null,null,null,null,{"$f":"IF(ISNUMBER(SEARCH($H$16,Q1844)),MAX($N$1:N1843)+1,0)","v":0},{"$f":"IF(ISNUMBER(SEARCH($H$11,Q1844)),MAX($O$1:O1843)+1,0)","v":0},{"$f":"IF(ISNUMBER(SEARCH($H$6,Q1844)),MAX($P$1:P1843)+1,0)","v":0},null,null,null,null,null,null,null,null,null,null,null,null,null,null,{"$f":"IFERROR(VLOOKUP(ROWS($AE$2:AE1844),P1844:Q3747,2,0),\"\")","v":""},null,null,null,null,{"$f":"IFERROR(VLOOKUP(ROWS($AJ$2:AJ1844),O1844:Q3747,3,0),\"\")","v":""},null,{"$f":"IFERROR(VLOOKUP(ROWS(AL$2:$AL1844),N1844:Q3747,4,0),\"\")","v":""}]
[null,null,null,null,null,null,null,null,null,null,null,null,null,{"$f":"IF(ISNUMBER(SEARCH($H$16,Q1845)),MAX($N$1:N1844)+1,0)","v":0},{"$f":"IF(ISNUMBER(SEARCH($H$11,Q1845)),MAX($O$1:O1844)+1,0)","v":0},{"$f":"IF(ISNUMBER(SEARCH($H$6,Q1845)),MAX($P$1:P1844)+1,0)","v":0},null,null,null,null,null,null,null,null,null,null,null,null,null,null,{"$f":"IFERROR(VLOOKUP(ROWS($AE$2:AE1845),P1845:Q3748,2,0),\"\")","v":""},null,null,null,null,{"$f":"IFERROR(VLOOKUP(ROWS($AJ$2:AJ1845),O1845:Q3748,3,0),\"\")","v":""},null,{"$f":"IFERROR(VLOOKUP(ROWS(AL$2:$AL1845),N1845:Q3748,4,0),\"\")","v":""}]
[null,null,null,null,null,null,null,null,null,null,null,null,null,{"$f":"IF(ISNUMBER(SEARCH($H$16,Q1846)),MAX($N$1:N1845)+1,0)","v":0},{"$f":"IF(ISNUMBER(SEARCH($H$11,Q1846)),MAX($O$1:O1845)+1,0)","v":0},{"$f":"IF(ISNUMBER(SEARCH($H$6,Q1846)),MAX($P$1:P1845)+1,0)","v":0},null,null,null,null,null,null,null,null,null,null,null,null,null,null,{"$f":"IFERROR(VLOOKUP(ROWS($AE$2:AE1846),P1846:Q3749,2,0),\"\")","v":""},null,null,null,null,{"$f":"IFERROR(VLOOKUP(ROWS($AJ$2:AJ1846),O1846:Q3749,3,0),\"\")","v":""},null,{"$f":"IFERROR(VLOOKUP(ROWS(AL$2:$AL1846),N1846:Q3749,4,0),\"\")","v":""}]
[null,null,null,null,null,null,null,null,null,null,null,null,null,{"$f":"IF(ISNUMBER(SEARCH($H$16,Q1847)),MAX($N$1:N1846)+1,0)","v":0},{"$f":"IF(ISNUMBER(SEARCH($H$11,Q1847)),MAX($O$1:O1846)+1,0)","v":0},{"$f":"IF(ISNUMBER(SEARCH($H$6,Q1847)),MAX($P$1:P1846)+1,0)","v":0},null,null,null,null,null,null,null,null,null,null,null,null,null,null,{"$f":"IFERROR(VLOOKUP(ROWS($AE$2:AE1847),P1847:Q3750,2,0),\"\")","v":""},null,null,null,null,{"$f":"IFERROR(VLOOKUP(ROWS($AJ$2:AJ1847),O1847:Q3750,3,0),\"\")","v":""},null,{"$f":"IFERROR(VLOOKUP(ROWS(AL$2:$AL1847),N1847:Q3750,4,0),\"\")","v":""}]
[null,null,null,null,null,null,null,null,null,null,null,null,null,{"$f":"IF(ISNUMBER(SEARCH($H$16,Q1848)),MAX($N$1:N1847)+1,0)","v":0},{"$f":"IF(ISNUMBER(SEARCH($H$11,Q1848)),MAX($O$1:O1847)+1,0)","v":0},{"$f":"IF(ISNUMBER(SEARCH($H$6,Q1848)),MAX($P$1:P1847)+1,0)","v":0},null,null,null,null,null,null,null,null,null,null,null,null,null,null,{"$f":"IFERROR(VLOOKUP(ROWS($AE$2:AE1848),P1848:Q3751,2,0),\"\")","v":""},null,null,null,null,{"$f":"IFERROR(VLOOKUP(ROWS($AJ$2:AJ1848),O1848:Q3751,3,0),\"\")","v":""},null,{"$f":"IFERROR(VLOOKUP(ROWS(AL$2:$AL1848),N1848:Q3751,4,0),\"\")","v":""}]
[null,null,null,null,null,null,null,null,null,null,null,null,null,{"$f":"IF(ISNUMBER(SEARCH($H$16,Q1849)),MAX($N$1:N1848)+1,0)","v":0},{"$f":"IF(ISNUMBER(SEARCH($H$11,Q1849)),MAX($O$1:O1848)+1,0)","v":0},{"$f":"IF(ISNUMBER(SEARCH($H$6,Q1849)),MAX($P$1:P1848)+1,0)","v":0},null,null,null,null,null,null,null,null,null,null,null,null,null,null,{"$f":"IFERROR(VLOOKUP(ROWS($AE$2:AE1849),P1849:Q3752,2,0),\"\")","v":""},null,null,null,null,{"$f":"IFERROR(VLOOKUP(ROWS($AJ$2:AJ1849),O1849:Q3752,3,0),\"\")","v":""},null,{"$f":"IFERROR(VLOOKUP(ROWS(AL$2:$AL1849),N1849:Q3752,4,0),\"\")","v":""}]
[null,null,null,null,null,null,null,null,null,null,null,null,null,{"$f":"IF(ISNUMBER(SEARCH($H$16,Q1850)),MAX($N$1:N1849)+1,0)","v":0},{"$f":"IF(ISNUMBER(SEARCH($H$11,Q1850)),MAX($O$1:O1849)+1,0)","v":0},{"$f":"IF(ISNUMBER(SEARCH($H$6,Q1850)),MAX($P$1:P1849)+1,0)","v":0},null,null,null,null,null,null,null,null,null,null,null,null,null,null,{"$f":"IFERROR(VLOOKUP(ROWS($AE$2:AE1850),P1850:Q3753,2,0),\"\")","v":""},null,null,null,null,{"$f":"IFERROR(VLOOKUP(ROWS($AJ$2:AJ1850),O1850:Q3753,3,0),\"\")","v":""},null,{"$f":"IFERROR(VLOOKUP(ROWS(AL$2:$AL1850),N1850:Q3753,4,0),\"\")","v":""}]
[null,null,null,null,null,null,null,null,null,null,null,null,null,{"$f":"IF(ISNUMBER(SEARCH($H$16,Q1851)),MAX($N$1:N1850)+1,0)","v":0},{"$f":"IF(ISNUMBER(SEARCH($H$11,Q1851)),MAX($O$1:O1850)+1,0)","v":0},{"$f":"IF(ISNUMBER(SEARCH($H$6,Q1851)),MAX($P$1:P1850)+1,0)","v":0},null,null,null,null,null,null,null,null,null,null,null,null,null,null,{"$f":"IFERROR(VLOOKUP(ROWS($AE$2:AE1851),P1851:Q3754,2,0),\"\")","v":""},null,null,null,null,{"$f":"IFERROR(VLOOKUP(ROWS($AJ$2:AJ1851),O1851:Q3754,3,0),\"\")","v":""},null,{"$f":"IFERROR(VLOOKUP(ROWS(AL$2:$AL1851),N1851:Q3754,4,0),\"\")","v":""}]
[null,null,null,null,null,null,null,null,null,null,null,null,null,{"$f":"IF(ISNUMBER(SEARCH($H$16,Q1852)),MAX($N$1:N1851)+1,0)","v":0},{"$f":"IF(ISNUMBER(SEARCH($H$11,Q1852)),MAX($O$1:O1851)+1,0)","v":0},{"$f":"IF(ISNUMBER(SEARCH($H$6,Q1852)),MAX($P$1:P1851)+1,0)","v":0},null,null,null,null,null,null,null,null,null,null,null,null,null,null,{"$f":"IFERROR(VLOOKUP(ROWS($AE$2:AE1852),P1852:Q3755,2,0),\"\")","v":""},null,null,null,null,{"$f":"IFERROR(VLOOKUP(ROWS($AJ$2:AJ1852),O1852:Q3755,3,0),\"\")","v":""},null,{"$f":"IFERROR(VLOOKUP(ROWS(AL$2:$AL1852),N1852:Q3755,4,0),\"\")","v":""}]
[null,null,null,null,null,null,null,null,null,null,null,null,null,{"$f":"IF(ISNUMBER(SEARCH($H$16,Q1853)),MAX($N$1:N1852)+1,0)","v":0},{"$f":"IF(ISNUMBER(SEARCH($H$11,Q1853)),MAX($O$1:O1852)+1,0)","v":0},{"$f":"IF(ISNUMBER(SEARCH($H$6,Q1853)),MAX($P$1:P1852)+1,0)","v":0},null,null,null,null,null,null,null,null,null,null,null,null,null,null,{"$f":"IFERROR(VLOOKUP(ROWS($AE$2:AE1853),P1853:Q3756,2,0),\"\")","v":""},null,null,null,null,{"$f":"IFERROR(VLOOKUP(ROWS($AJ$2:AJ1853),O1853:Q3756,3,0),\"\")","v":""},null,{"$f":"IFERROR(VLOOKUP(ROWS(AL$2:$AL1853),N1853:Q3756,4,0),\"\")","v":""}]
[null,null,null,null,null,null,null,null,null,null,null,null,null,{"$f":"IF(ISNUMBER(SEARCH($H$16,Q1854)),MAX($N$1:N1853)+1,0)","v":0},{"$f":"IF(ISNUMBER(SEARCH($H$11,Q1854)),MAX($O$1:O1853)+1,0)","v":0},{"$f":"IF(ISNUMBER(SEARCH($H$6,Q1854)),MAX($P$1:P1853)+1,0)","v":0},null,null,null,null,null,null,null,null,null,null,null,null,null,null,{"$f":"IFERROR(VLOOKUP(ROWS($AE$2:AE1854),P1854:Q3757,2,0),\"\")","v":""},null,null,null,null,{"$f":"IFERROR(VLOOKUP(ROWS($AJ$2:AJ1854),O1854:Q3757,3,0),\"\")","v":""},null,{"$f":"IFERROR(VLOOKUP(ROWS(AL$2:$AL1854),N1854:Q3757,4,0),\"\")","v":""}]
[null,null,null,null,null,null,null,null,null,null,null,null,null,{"$f":"IF(ISNUMBER(SEARCH($H$16,Q1855)),MAX($N$1:N1854)+1,0)","v":0},{"$f":"IF(ISNUMBER(SEARCH($H$11,Q1855)),MAX($O$1:O1854)+1,0)","v":0},{"$f":"IF(ISNUMBER(SEARCH($H$6,Q1855)),MAX($P$1:P1854)+1,0)","v":0},null,null,null,null,null,null,null,null,null,null,null,null,null,null,{"$f":"IFERROR(VLOOKUP(ROWS($AE$2:AE1855),P1855:Q3758,2,0),\"\")","v":""},null,null,null,null,{"$f":"IFERROR(VLOOKUP(ROWS($AJ$2:AJ1855),O1855:Q3758,3,0),\"\")","v":""},null,{"$f":"IFERROR(VLOOKUP(ROWS(AL$2:$AL1855),N1855:Q3758,4,0),\"\")","v":""}]
[null,null,null,null,null,null,null,null,null,null,null,null,null,{"$f":"IF(ISNUMBER(SEARCH($H$16,Q1856)),MAX($N$1:N1855)+1,0)","v":0},{"$f":"IF(ISNUMBER(SEARCH($H$11,Q1856)),MAX($O$1:O1855)+1,0)","v":0},{"$f":"IF(ISNUMBER(SEARCH($H$6,Q1856)),MAX($P$1:P1855)+1,0)","v":0},null,null,null,null,null,null,null,null,null,null,null,null,null,null,{"$f":"IFERROR(VLOOKUP(ROWS($AE$2:AE1856),P1856:Q3759,2,0),\"\")","v":""},null,null,null,null,{"$f":"IFERROR(VLOOKUP(ROWS($AJ$2:AJ1856),O1856:Q3759,3,0),\"\")","v":""},null,{"$f":"IFERROR(VLOOKUP(ROWS(AL$2:$AL1856),N1856:Q3759,4,0),\"\")","v":""}]
[null,null,null,null,null,null,null,null,null,null,null,null,null,{"$f":"IF(ISNUMBER(SEARCH($H$16,Q1857)),MAX($N$1:N1856)+1,0)","v":0},{"$f":"IF(ISNUMBER(SEARCH($H$11,Q1857)),MAX($O$1:O1856)+1,0)","v":0},{"$f":"IF(ISNUMBER(SEARCH($H$6,Q1857)),MAX($P$1:P1856)+1,0)","v":0},null,null,null,null,null,null,null,null,null,null,null,null,null,null,{"$f":"IFERROR(VLOOKUP(ROWS($AE$2:AE1857),P1857:Q3760,2,0),\"\")","v":""},null,null,null,null,{"$f":"IFERROR(VLOOKUP(ROWS($AJ$2:AJ1857),O1857:Q3760,3,0),\"\")","v":""},null,{"$f":"IFERROR(VLOOKUP(ROWS(AL$2:$AL1857),N1857:Q3760,4,0),\"\")","v":""}]
[null,null,null,null,null,null,null,null,null,null,null,null,null,{"$f":"IF(ISNUMBER(SEARCH($H$16,Q1858)),MAX($N$1:N1857)+1,0)","v":0},{"$f":"IF(ISNUMBER(SEARCH($H$11,Q1858)),MAX($O$1:O1857)+1,0)","v":0},{"$f":"IF(ISNUMBER(SEARCH($H$6,Q1858)),MAX($P$1:P1857)+1,0)","v":0},null,null,null,null,null,null,null,null,null,null,null,null,null,null,{"$f":"IFERROR(VLOOKUP(ROWS($AE$2:AE1858),P1858:Q3761,2,0),\"\")","v":""},null,null,null,null,{"$f":"IFERROR(VLOOKUP(ROWS($AJ$2:AJ1858),O1858:Q3761,3,0),\"\")","v":""},null,{"$f":"IFERROR(VLOOKUP(ROWS(AL$2:$AL1858),N1858:Q3761,4,0),\"\")","v":""}]
[null,null,null,null,null,null,null,null,null,null,null,null,null,{"$f":"IF(ISNUMBER(SEARCH($H$16,Q1859)),MAX($N$1:N1858)+1,0)","v":0},{"$f":"IF(ISNUMBER(SEARCH($H$11,Q1859)),MAX($O$1:O1858)+1,0)","v":0},{"$f":"IF(ISNUMBER(SEARCH($H$6,Q1859)),MAX($P$1:P1858)+1,0)","v":0},null,null,null,null,null,null,null,null,null,null,null,null,null,null,{"$f":"IFERROR(VLOOKUP(ROWS($AE$2:AE1859),P1859:Q3762,2,0),\"\")","v":""},null,null,null,null,{"$f":"IFERROR(VLOOKUP(ROWS($AJ$2:AJ1859),O1859:Q3762,3,0),\"\")","v":""},null,{"$f":"IFERROR(VLOOKUP(ROWS(AL$2:$AL1859),N1859:Q3762,4,0),\"\")","v":""}]
[null,null,null,null,null,null,null,null,null,null,null,null,null,{"$f":"IF(ISNUMBER(SEARCH($H$16,Q1860)),MAX($N$1:N1859)+1,0)","v":0},{"$f":"IF(ISNUMBER(SEARCH($H$11,Q1860)),MAX($O$1:O1859)+1,0)","v":0},{"$f":"IF(ISNUMBER(SEARCH($H$6,Q1860)),MAX($P$1:P1859)+1,0)","v":0},null,null,null,null,null,null,null,null,null,null,null,null,null,null,{"$f":"IFERROR(VLOOKUP(ROWS($AE$2:AE1860),P1860:Q3763,2,0),\"\")","v":""},null,null,null,null,{"$f":"IFERROR(VLOOKUP(ROWS($AJ$2:AJ1860),O1860:Q3763,3,0),\"\")","v":""},null,{"$f":"IFERROR(VLOOKUP(ROWS(AL$2:$AL1860),N1860:Q3763,4,0),\"\")","v":""}]
[null,null,null,null,null,null,null,null,null,null,null,null,null,{"$f":"IF(ISNUMBER(SEARCH($H$16,Q1861)),MAX($N$1:N1860)+1,0)","v":0},{"$f":"IF(ISNUMBER(SEARCH($H$11,Q1861)),MAX($O$1:O1860)+1,0)","v":0},{"$f":"IF(ISNUMBER(SEARCH($H$6,Q1861)),MAX($P$1:P1860)+1,0)","v":0},null,null,null,null,null,null,null,null,null,null,null,null,null,null,{"$f":"IFERROR(VLOOKUP(ROWS($AE$2:AE1861),P1861:Q3764,2,0),\"\")","v":""},null,null,null,null,{"$f":"IFERROR(VLOOKUP(ROWS($AJ$2:AJ1861),O1861:Q3764,3,0),\"\")","v":""},null,{"$f":"IFERROR(VLOOKUP(ROWS(AL$2:$AL1861),N1861:Q3764,4,0),\"\")","v":""}]
[null,null,null,null,null,null,null,null,null,null,null,null,null,{"$f":"IF(ISNUMBER(SEARCH($H$16,Q1862)),MAX($N$1:N1861)+1,0)","v":0},{"$f":"IF(ISNUMBER(SEARCH($H$11,Q1862)),MAX($O$1:O1861)+1,0)","v":0},{"$f":"IF(ISNUMBER(SEARCH($H$6,Q1862)),MAX($P$1:P1861)+1,0)","v":0},null,null,null,null,null,null,null,null,null,null,null,null,null,null,{"$f":"IFERROR(VLOOKUP(ROWS($AE$2:AE1862),P1862:Q3765,2,0),\"\")","v":""},null,null,null,null,{"$f":"IFERROR(VLOOKUP(ROWS($AJ$2:AJ1862),O1862:Q3765,3,0),\"\")","v":""},null,{"$f":"IFERROR(VLOOKUP(ROWS(AL$2:$AL1862),N1862:Q3765,4,0),\"\")","v":""}]
[null,null,null,null,null,null,null,null,null,null,null,null,null,{"$f":"IF(ISNUMBER(SEARCH($H$16,Q1863)),MAX($N$1:N1862)+1,0)","v":0},{"$f":"IF(ISNUMBER(SEARCH($H$11,Q1863)),MAX($O$1:O1862)+1,0)","v":0},{"$f":"IF(ISNUMBER(SEARCH($H$6,Q1863)),MAX($P$1:P1862)+1,0)","v":0},null,null,null,null,null,null,null,null,null,null,null,null,null,null,{"$f":"IFERROR(VLOOKUP(ROWS($AE$2:AE1863),P1863:Q3766,2,0),\"\")","v":""},null,null,null,null,{"$f":"IFERROR(VLOOKUP(ROWS($AJ$2:AJ1863),O1863:Q3766,3,0),\"\")","v":""},null,{"$f":"IFERROR(VLOOKUP(ROWS(AL$2:$AL1863),N1863:Q3766,4,0),\"\")","v":""}]
[null,null,null,null,null,null,null,null,null,null,null,null,null,{"$f":"IF(ISNUMBER(SEARCH($H$16,Q1864)),MAX($N$1:N1863)+1,0)","v":0},{"$f":"IF(ISNUMBER(SEARCH($H$11,Q1864)),MAX($O$1:O1863)+1,0)","v":0},{"$f":"IF(ISNUMBER(SEARCH($H$6,Q1864)),MAX($P$1:P1863)+1,0)","v":0},null,null,null,null,null,null,null,null,null,null,null,null,null,null,{"$f":"IFERROR(VLOOKUP(ROWS($AE$2:AE1864),P1864:Q3767,2,0),\"\")","v":""},null,null,null,null,{"$f":"IFERROR(VLOOKUP(ROWS($AJ$2:AJ1864),O1864:Q3767,3,0),\"\")","v":""},null,{"$f":"IFERROR(VLOOKUP(ROWS(AL$2:$AL1864),N1864:Q3767,4,0),\"\")","v":""}]
[null,null,null,null,null,null,null,null,null,null,null,null,null,{"$f":"IF(ISNUMBER(SEARCH($H$16,Q1865)),MAX($N$1:N1864)+1,0)","v":0},{"$f":"IF(ISNUMBER(SEARCH($H$11,Q1865)),MAX($O$1:O1864)+1,0)","v":0},{"$f":"IF(ISNUMBER(SEARCH($H$6,Q1865)),MAX($P$1:P1864)+1,0)","v":0},null,null,null,null,null,null,null,null,null,null,null,null,null,null,{"$f":"IFERROR(VLOOKUP(ROWS($AE$2:AE1865),P1865:Q3768,2,0),\"\")","v":""},null,null,null,null,{"$f":"IFERROR(VLOOKUP(ROWS($AJ$2:AJ1865),O1865:Q3768,3,0),\"\")","v":""},null,{"$f":"IFERROR(VLOOKUP(ROWS(AL$2:$AL1865),N1865:Q3768,4,0),\"\")","v":""}]
[null,null,null,null,null,null,null,null,null,null,null,null,null,{"$f":"IF(ISNUMBER(SEARCH($H$16,Q1866)),MAX($N$1:N1865)+1,0)","v":0},{"$f":"IF(ISNUMBER(SEARCH($H$11,Q1866)),MAX($O$1:O1865)+1,0)","v":0},{"$f":"IF(ISNUMBER(SEARCH($H$6,Q1866)),MAX($P$1:P1865)+1,0)","v":0},null,null,null,null,null,null,null,null,null,null,null,null,null,null,{"$f":"IFERROR(VLOOKUP(ROWS($AE$2:AE1866),P1866:Q3769,2,0),\"\")","v":""},null,null,null,null,{"$f":"IFERROR(VLOOKUP(ROWS($AJ$2:AJ1866),O1866:Q3769,3,0),\"\")","v":""},null,{"$f":"IFERROR(VLOOKUP(ROWS(AL$2:$AL1866),N1866:Q3769,4,0),\"\")","v":""}]
[null,null,null,null,null,null,null,null,null,null,null,null,null,{"$f":"IF(ISNUMBER(SEARCH($H$16,Q1867)),MAX($N$1:N1866)+1,0)","v":0},{"$f":"IF(ISNUMBER(SEARCH($H$11,Q1867)),MAX($O$1:O1866)+1,0)","v":0},{"$f":"IF(ISNUMBER(SEARCH($H$6,Q1867)),MAX($P$1:P1866)+1,0)","v":0},null,null,null,null,null,null,null,null,null,null,null,null,null,null,{"$f":"IFERROR(VLOOKUP(ROWS($AE$2:AE1867),P1867:Q3770,2,0),\"\")","v":""},null,null,null,null,{"$f":"IFERROR(VLOOKUP(ROWS($AJ$2:AJ1867),O1867:Q3770,3,0),\"\")","v":""},null,{"$f":"IFERROR(VLOOKUP(ROWS(AL$2:$AL1867),N1867:Q3770,4,0),\"\")","v":""}]
[null,null,null,null,null,null,null,null,null,null,null,null,null,{"$f":"IF(ISNUMBER(SEARCH($H$16,Q1868)),MAX($N$1:N1867)+1,0)","v":0},{"$f":"IF(ISNUMBER(SEARCH($H$11,Q1868)),MAX($O$1:O1867)+1,0)","v":0},{"$f":"IF(ISNUMBER(SEARCH($H$6,Q1868)),MAX($P$1:P1867)+1,0)","v":0},null,null,null,null,null,null,null,null,null,null,null,null,null,null,{"$f":"IFERROR(VLOOKUP(ROWS($AE$2:AE1868),P1868:Q3771,2,0),\"\")","v":""},null,null,null,null,{"$f":"IFERROR(VLOOKUP(ROWS($AJ$2:AJ1868),O1868:Q3771,3,0),\"\")","v":""},null,{"$f":"IFERROR(VLOOKUP(ROWS(AL$2:$AL1868),N1868:Q3771,4,0),\"\")","v":""}]
[null,null,null,null,null,null,null,null,null,null,null,null,null,{"$f":"IF(ISNUMBER(SEARCH($H$16,Q1869)),MAX($N$1:N1868)+1,0)","v":0},{"$f":"IF(ISNUMBER(SEARCH($H$11,Q1869)),MAX($O$1:O1868)+1,0)","v":0},{"$f":"IF(ISNUMBER(SEARCH($H$6,Q1869)),MAX($P$1:P1868)+1,0)","v":0},null,null,null,null,null,null,null,null,null,null,null,null,null,null,{"$f":"IFERROR(VLOOKUP(ROWS($AE$2:AE1869),P1869:Q3772,2,0),\"\")","v":""},null,null,null,null,{"$f":"IFERROR(VLOOKUP(ROWS($AJ$2:AJ1869),O1869:Q3772,3,0),\"\")","v":""},null,{"$f":"IFERROR(VLOOKUP(ROWS(AL$2:$AL1869),N1869:Q3772,4,0),\"\")","v":""}]
[null,null,null,null,null,null,null,null,null,null,null,null,null,{"$f":"IF(ISNUMBER(SEARCH($H$16,Q1870)),MAX($N$1:N1869)+1,0)","v":0},{"$f":"IF(ISNUMBER(SEARCH($H$11,Q1870)),MAX($O$1:O1869)+1,0)","v":0},{"$f":"IF(ISNUMBER(SEARCH($H$6,Q1870)),MAX($P$1:P1869)+1,0)","v":0},null,null,null,null,null,null,null,null,null,null,null,null,null,null,{"$f":"IFERROR(VLOOKUP(ROWS($AE$2:AE1870),P1870:Q3773,2,0),\"\")","v":""},null,null,null,null,{"$f":"IFERROR(VLOOKUP(ROWS($AJ$2:AJ1870),O1870:Q3773,3,0),\"\")","v":""},null,{"$f":"IFERROR(VLOOKUP(ROWS(AL$2:$AL1870),N1870:Q3773,4,0),\"\")","v":""}]
[null,null,null,null,null,null,null,null,null,null,null,null,null,{"$f":"IF(ISNUMBER(SEARCH($H$16,Q1871)),MAX($N$1:N1870)+1,0)","v":0},{"$f":"IF(ISNUMBER(SEARCH($H$11,Q1871)),MAX($O$1:O1870)+1,0)","v":0},{"$f":"IF(ISNUMBER(SEARCH($H$6,Q1871)),MAX($P$1:P1870)+1,0)","v":0},null,null,null,null,null,null,null,null,null,null,null,null,null,null,{"$f":"IFERROR(VLOOKUP(ROWS($AE$2:AE1871),P1871:Q3774,2,0),\"\")","v":""},null,null,null,null,{"$f":"IFERROR(VLOOKUP(ROWS($AJ$2:AJ1871),O1871:Q3774,3,0),\"\")","v":""},null,{"$f":"IFERROR(VLOOKUP(ROWS(AL$2:$AL1871),N1871:Q3774,4,0),\"\")","v":""}]
[null,null,null,null,null,null,null,null,null,null,null,null,null,{"$f":"IF(ISNUMBER(SEARCH($H$16,Q1872)),MAX($N$1:N1871)+1,0)","v":0},{"$f":"IF(ISNUMBER(SEARCH($H$11,Q1872)),MAX($O$1:O1871)+1,0)","v":0},{"$f":"IF(ISNUMBER(SEARCH($H$6,Q1872)),MAX($P$1:P1871)+1,0)","v":0},null,null,null,null,null,null,null,null,null,null,null,null,null,null,{"$f":"IFERROR(VLOOKUP(ROWS($AE$2:AE1872),P1872:Q3775,2,0),\"\")","v":""},null,null,null,null,{"$f":"IFERROR(VLOOKUP(ROWS($AJ$2:AJ1872),O1872:Q3775,3,0),\"\")","v":""},null,{"$f":"IFERROR(VLOOKUP(ROWS(AL$2:$AL1872),N1872:Q3775,4,0),\"\")","v":""}]
[null,null,null,null,null,null,null,null,null,null,null,null,null,{"$f":"IF(ISNUMBER(SEARCH($H$16,Q1873)),MAX($N$1:N1872)+1,0)","v":0},{"$f":"IF(ISNUMBER(SEARCH($H$11,Q1873)),MAX($O$1:O1872)+1,0)","v":0},{"$f":"IF(ISNUMBER(SEARCH($H$6,Q1873)),MAX($P$1:P1872)+1,0)","v":0},null,null,null,null,null,null,null,null,null,null,null,null,null,null,{"$f":"IFERROR(VLOOKUP(ROWS($AE$2:AE1873),P1873:Q3776,2,0),\"\")","v":""},null,null,null,null,{"$f":"IFERROR(VLOOKUP(ROWS($AJ$2:AJ1873),O1873:Q3776,3,0),\"\")","v":""},null,{"$f":"IFERROR(VLOOKUP(ROWS(AL$2:$AL1873),N1873:Q3776,4,0),\"\")","v":""}]
[null,null,null,null,null,null,null,null,null,null,null,null,null,{"$f":"IF(ISNUMBER(SEARCH($H$16,Q1874)),MAX($N$1:N1873)+1,0)","v":0},{"$f":"IF(ISNUMBER(SEARCH($H$11,Q1874)),MAX($O$1:O1873)+1,0)","v":0},{"$f":"IF(ISNUMBER(SEARCH($H$6,Q1874)),MAX($P$1:P1873)+1,0)","v":0},null,null,null,null,null,null,null,null,null,null,null,null,null,null,{"$f":"IFERROR(VLOOKUP(ROWS($AE$2:AE1874),P1874:Q3777,2,0),\"\")","v":""},null,null,null,null,{"$f":"IFERROR(VLOOKUP(ROWS($AJ$2:AJ1874),O1874:Q3777,3,0),\"\")","v":""},null,{"$f":"IFERROR(VLOOKUP(ROWS(AL$2:$AL1874),N1874:Q3777,4,0),\"\")","v":""}]
[null,null,null,null,null,null,null,null,null,null,null,null,null,{"$f":"IF(ISNUMBER(SEARCH($H$16,Q1875)),MAX($N$1:N1874)+1,0)","v":0},{"$f":"IF(ISNUMBER(SEARCH($H$11,Q1875)),MAX($O$1:O1874)+1,0)","v":0},{"$f":"IF(ISNUMBER(SEARCH($H$6,Q1875)),MAX($P$1:P1874)+1,0)","v":0},null,null,null,null,null,null,null,null,null,null,null,null,null,null,{"$f":"IFERROR(VLOOKUP(ROWS($AE$2:AE1875),P1875:Q3778,2,0),\"\")","v":""},null,null,null,null,{"$f":"IFERROR(VLOOKUP(ROWS($AJ$2:AJ1875),O1875:Q3778,3,0),\"\")","v":""},null,{"$f":"IFERROR(VLOOKUP(ROWS(AL$2:$AL1875),N1875:Q3778,4,0),\"\")","v":""}]
[null,null,null,null,null,null,null,null,null,null,null,null,null,{"$f":"IF(ISNUMBER(SEARCH($H$16,Q1876)),MAX($N$1:N1875)+1,0)","v":0},{"$f":"IF(ISNUMBER(SEARCH($H$11,Q1876)),MAX($O$1:O1875)+1,0)","v":0},{"$f":"IF(ISNUMBER(SEARCH($H$6,Q1876)),MAX($P$1:P1875)+1,0)","v":0},null,null,null,null,null,null,null,null,null,null,null,null,null,null,{"$f":"IFERROR(VLOOKUP(ROWS($AE$2:AE1876),P1876:Q3779,2,0),\"\")","v":""},null,null,null,null,{"$f":"IFERROR(VLOOKUP(ROWS($AJ$2:AJ1876),O1876:Q3779,3,0),\"\")","v":""},null,{"$f":"IFERROR(VLOOKUP(ROWS(AL$2:$AL1876),N1876:Q3779,4,0),\"\")","v":""}]
[null,null,null,null,null,null,null,null,null,null,null,null,null,{"$f":"IF(ISNUMBER(SEARCH($H$16,Q1877)),MAX($N$1:N1876)+1,0)","v":0},{"$f":"IF(ISNUMBER(SEARCH($H$11,Q1877)),MAX($O$1:O1876)+1,0)","v":0},{"$f":"IF(ISNUMBER(SEARCH($H$6,Q1877)),MAX($P$1:P1876)+1,0)","v":0},null,null,null,null,null,null,null,null,null,null,null,null,null,null,{"$f":"IFERROR(VLOOKUP(ROWS($AE$2:AE1877),P1877:Q3780,2,0),\"\")","v":""},null,null,null,null,{"$f":"IFERROR(VLOOKUP(ROWS($AJ$2:AJ1877),O1877:Q3780,3,0),\"\")","v":""},null,{"$f":"IFERROR(VLOOKUP(ROWS(AL$2:$AL1877),N1877:Q3780,4,0),\"\")","v":""}]
[null,null,null,null,null,null,null,null,null,null,null,null,null,{"$f":"IF(ISNUMBER(SEARCH($H$16,Q1878)),MAX($N$1:N1877)+1,0)","v":0},{"$f":"IF(ISNUMBER(SEARCH($H$11,Q1878)),MAX($O$1:O1877)+1,0)","v":0},{"$f":"IF(ISNUMBER(SEARCH($H$6,Q1878)),MAX($P$1:P1877)+1,0)","v":0},null,null,null,null,null,null,null,null,null,null,null,null,null,null,{"$f":"IFERROR(VLOOKUP(ROWS($AE$2:AE1878),P1878:Q3781,2,0),\"\")","v":""},null,null,null,null,{"$f":"IFERROR(VLOOKUP(ROWS($AJ$2:AJ1878),O1878:Q3781,3,0),\"\")","v":""},null,{"$f":"IFERROR(VLOOKUP(ROWS(AL$2:$AL1878),N1878:Q3781,4,0),\"\")","v":""}]
[null,null,null,null,null,null,null,null,null,null,null,null,null,{"$f":"IF(ISNUMBER(SEARCH($H$16,Q1879)),MAX($N$1:N1878)+1,0)","v":0},{"$f":"IF(ISNUMBER(SEARCH($H$11,Q1879)),MAX($O$1:O1878)+1,0)","v":0},{"$f":"IF(ISNUMBER(SEARCH($H$6,Q1879)),MAX($P$1:P1878)+1,0)","v":0},null,null,null,null,null,null,null,null,null,null,null,null,null,null,{"$f":"IFERROR(VLOOKUP(ROWS($AE$2:AE1879),P1879:Q3782,2,0),\"\")","v":""},null,null,null,null,{"$f":"IFERROR(VLOOKUP(ROWS($AJ$2:AJ1879),O1879:Q3782,3,0),\"\")","v":""},null,{"$f":"IFERROR(VLOOKUP(ROWS(AL$2:$AL1879),N1879:Q3782,4,0),\"\")","v":""}]
[null,null,null,null,null,null,null,null,null,null,null,null,null,{"$f":"IF(ISNUMBER(SEARCH($H$16,Q1880)),MAX($N$1:N1879)+1,0)","v":0},{"$f":"IF(ISNUMBER(SEARCH($H$11,Q1880)),MAX($O$1:O1879)+1,0)","v":0},{"$f":"IF(ISNUMBER(SEARCH($H$6,Q1880)),MAX($P$1:P1879)+1,0)","v":0},null,null,null,null,null,null,null,null,null,null,null,null,null,null,{"$f":"IFERROR(VLOOKUP(ROWS($AE$2:AE1880),P1880:Q3783,2,0),\"\")","v":""},null,null,null,null,{"$f":"IFERROR(VLOOKUP(ROWS($AJ$2:AJ1880),O1880:Q3783,3,0),\"\")","v":""},null,{"$f":"IFERROR(VLOOKUP(ROWS(AL$2:$AL1880),N1880:Q3783,4,0),\"\")","v":""}]
[null,null,null,null,null,null,null,null,null,null,null,null,null,{"$f":"IF(ISNUMBER(SEARCH($H$16,Q1881)),MAX($N$1:N1880)+1,0)","v":0},{"$f":"IF(ISNUMBER(SEARCH($H$11,Q1881)),MAX($O$1:O1880)+1,0)","v":0},{"$f":"IF(ISNUMBER(SEARCH($H$6,Q1881)),MAX($P$1:P1880)+1,0)","v":0},null,null,null,null,null,null,null,null,null,null,null,null,null,null,{"$f":"IFERROR(VLOOKUP(ROWS($AE$2:AE1881),P1881:Q3784,2,0),\"\")","v":""},null,null,null,null,{"$f":"IFERROR(VLOOKUP(ROWS($AJ$2:AJ1881),O1881:Q3784,3,0),\"\")","v":""},null,{"$f":"IFERROR(VLOOKUP(ROWS(AL$2:$AL1881),N1881:Q3784,4,0),\"\")","v":""}]
[null,null,null,null,null,null,null,null,null,null,null,null,null,{"$f":"IF(ISNUMBER(SEARCH($H$16,Q1882)),MAX($N$1:N1881)+1,0)","v":0},{"$f":"IF(ISNUMBER(SEARCH($H$11,Q1882)),MAX($O$1:O1881)+1,0)","v":0},{"$f":"IF(ISNUMBER(SEARCH($H$6,Q1882)),MAX($P$1:P1881)+1,0)","v":0},null,null,null,null,null,null,null,null,null,null,null,null,null,null,{"$f":"IFERROR(VLOOKUP(ROWS($AE$2:AE1882),P1882:Q3785,2,0),\"\")","v":""},null,null,null,null,{"$f":"IFERROR(VLOOKUP(ROWS($AJ$2:AJ1882),O1882:Q3785,3,0),\"\")","v":""},null,{"$f":"IFERROR(VLOOKUP(ROWS(AL$2:$AL1882),N1882:Q3785,4,0),\"\")","v":""}]
[null,null,null,null,null,null,null,null,null,null,null,null,null,{"$f":"IF(ISNUMBER(SEARCH($H$16,Q1883)),MAX($N$1:N1882)+1,0)","v":0},{"$f":"IF(ISNUMBER(SEARCH($H$11,Q1883)),MAX($O$1:O1882)+1,0)","v":0},{"$f":"IF(ISNUMBER(SEARCH($H$6,Q1883)),MAX($P$1:P1882)+1,0)","v":0},null,null,null,null,null,null,null,null,null,null,null,null,null,null,{"$f":"IFERROR(VLOOKUP(ROWS($AE$2:AE1883),P1883:Q3786,2,0),\"\")","v":""},null,null,null,null,{"$f":"IFERROR(VLOOKUP(ROWS($AJ$2:AJ1883),O1883:Q3786,3,0),\"\")","v":""},null,{"$f":"IFERROR(VLOOKUP(ROWS(AL$2:$AL1883),N1883:Q3786,4,0),\"\")","v":""}]
[null,null,null,null,null,null,null,null,null,null,null,null,null,{"$f":"IF(ISNUMBER(SEARCH($H$16,Q1884)),MAX($N$1:N1883)+1,0)","v":0},{"$f":"IF(ISNUMBER(SEARCH($H$11,Q1884)),MAX($O$1:O1883)+1,0)","v":0},{"$f":"IF(ISNUMBER(SEARCH($H$6,Q1884)),MAX($P$1:P1883)+1,0)","v":0},null,null,null,null,null,null,null,null,null,null,null,null,null,null,{"$f":"IFERROR(VLOOKUP(ROWS($AE$2:AE1884),P1884:Q3787,2,0),\"\")","v":""},null,null,null,null,{"$f":"IFERROR(VLOOKUP(ROWS($AJ$2:AJ1884),O1884:Q3787,3,0),\"\")","v":""},null,{"$f":"IFERROR(VLOOKUP(ROWS(AL$2:$AL1884),N1884:Q3787,4,0),\"\")","v":""}]
[null,null,null,null,null,null,null,null,null,null,null,null,null,{"$f":"IF(ISNUMBER(SEARCH($H$16,Q1885)),MAX($N$1:N1884)+1,0)","v":0},{"$f":"IF(ISNUMBER(SEARCH($H$11,Q1885)),MAX($O$1:O1884)+1,0)","v":0},{"$f":"IF(ISNUMBER(SEARCH($H$6,Q1885)),MAX($P$1:P1884)+1,0)","v":0},null,null,null,null,null,null,null,null,null,null,null,null,null,null,{"$f":"IFERROR(VLOOKUP(ROWS($AE$2:AE1885),P1885:Q3788,2,0),\"\")","v":""},null,null,null,null,{"$f":"IFERROR(VLOOKUP(ROWS($AJ$2:AJ1885),O1885:Q3788,3,0),\"\")","v":""},null,{"$f":"IFERROR(VLOOKUP(ROWS(AL$2:$AL1885),N1885:Q3788,4,0),\"\")","v":""}]
[null,null,null,null,null,null,null,null,null,null,null,null,null,{"$f":"IF(ISNUMBER(SEARCH($H$16,Q1886)),MAX($N$1:N1885)+1,0)","v":0},{"$f":"IF(ISNUMBER(SEARCH($H$11,Q1886)),MAX($O$1:O1885)+1,0)","v":0},{"$f":"IF(ISNUMBER(SEARCH($H$6,Q1886)),MAX($P$1:P1885)+1,0)","v":0},null,null,null,null,null,null,null,null,null,null,null,null,null,null,{"$f":"IFERROR(VLOOKUP(ROWS($AE$2:AE1886),P1886:Q3789,2,0),\"\")","v":""},null,null,null,null,{"$f":"IFERROR(VLOOKUP(ROWS($AJ$2:AJ1886),O1886:Q3789,3,0),\"\")","v":""},null,{"$f":"IFERROR(VLOOKUP(ROWS(AL$2:$AL1886),N1886:Q3789,4,0),\"\")","v":""}]
[null,null,null,null,null,null,null,null,null,null,null,null,null,{"$f":"IF(ISNUMBER(SEARCH($H$16,Q1887)),MAX($N$1:N1886)+1,0)","v":0},{"$f":"IF(ISNUMBER(SEARCH($H$11,Q1887)),MAX($O$1:O1886)+1,0)","v":0},{"$f":"IF(ISNUMBER(SEARCH($H$6,Q1887)),MAX($P$1:P1886)+1,0)","v":0},null,null,null,null,null,null,null,null,null,null,null,null,null,null,{"$f":"IFERROR(VLOOKUP(ROWS($AE$2:AE1887),P1887:Q3790,2,0),\"\")","v":""},null,null,null,null,{"$f":"IFERROR(VLOOKUP(ROWS($AJ$2:AJ1887),O1887:Q3790,3,0),\"\")","v":""},null,{"$f":"IFERROR(VLOOKUP(ROWS(AL$2:$AL1887),N1887:Q3790,4,0),\"\")","v":""}]
[null,null,null,null,null,null,null,null,null,null,null,null,null,{"$f":"IF(ISNUMBER(SEARCH($H$16,Q1888)),MAX($N$1:N1887)+1,0)","v":0},{"$f":"IF(ISNUMBER(SEARCH($H$11,Q1888)),MAX($O$1:O1887)+1,0)","v":0},{"$f":"IF(ISNUMBER(SEARCH($H$6,Q1888)),MAX($P$1:P1887)+1,0)","v":0},null,null,null,null,null,null,null,null,null,null,null,null,null,null,{"$f":"IFERROR(VLOOKUP(ROWS($AE$2:AE1888),P1888:Q3791,2,0),\"\")","v":""},null,null,null,null,{"$f":"IFERROR(VLOOKUP(ROWS($AJ$2:AJ1888),O1888:Q3791,3,0),\"\")","v":""},null,{"$f":"IFERROR(VLOOKUP(ROWS(AL$2:$AL1888),N1888:Q3791,4,0),\"\")","v":""}]
[null,null,null,null,null,null,null,null,null,null,null,null,null,{"$f":"IF(ISNUMBER(SEARCH($H$16,Q1889)),MAX($N$1:N1888)+1,0)","v":0},{"$f":"IF(ISNUMBER(SEARCH($H$11,Q1889)),MAX($O$1:O1888)+1,0)","v":0},{"$f":"IF(ISNUMBER(SEARCH($H$6,Q1889)),MAX($P$1:P1888)+1,0)","v":0},null,null,null,null,null,null,null,null,null,null,null,null,null,null,{"$f":"IFERROR(VLOOKUP(ROWS($AE$2:AE1889),P1889:Q3792,2,0),\"\")","v":""},null,null,null,null,{"$f":"IFERROR(VLOOKUP(ROWS($AJ$2:AJ1889),O1889:Q3792,3,0),\"\")","v":""},null,{"$f":"IFERROR(VLOOKUP(ROWS(AL$2:$AL1889),N1889:Q3792,4,0),\"\")","v":""}]
[null,null,null,null,null,null,null,null,null,null,null,null,null,{"$f":"IF(ISNUMBER(SEARCH($H$16,Q1890)),MAX($N$1:N1889)+1,0)","v":0},{"$f":"IF(ISNUMBER(SEARCH($H$11,Q1890)),MAX($O$1:O1889)+1,0)","v":0},{"$f":"IF(ISNUMBER(SEARCH($H$6,Q1890)),MAX($P$1:P1889)+1,0)","v":0},null,null,null,null,null,null,null,null,null,null,null,null,null,null,{"$f":"IFERROR(VLOOKUP(ROWS($AE$2:AE1890),P1890:Q3793,2,0),\"\")","v":""},null,null,null,null,{"$f":"IFERROR(VLOOKUP(ROWS($AJ$2:AJ1890),O1890:Q3793,3,0),\"\")","v":""},null,{"$f":"IFERROR(VLOOKUP(ROWS(AL$2:$AL1890),N1890:Q3793,4,0),\"\")","v":""}]
[null,null,null,null,null,null,null,null,null,null,null,null,null,{"$f":"IF(ISNUMBER(SEARCH($H$16,Q1891)),MAX($N$1:N1890)+1,0)","v":0},{"$f":"IF(ISNUMBER(SEARCH($H$11,Q1891)),MAX($O$1:O1890)+1,0)","v":0},{"$f":"IF(ISNUMBER(SEARCH($H$6,Q1891)),MAX($P$1:P1890)+1,0)","v":0},null,null,null,null,null,null,null,null,null,null,null,null,null,null,{"$f":"IFERROR(VLOOKUP(ROWS($AE$2:AE1891),P1891:Q3794,2,0),\"\")","v":""},null,null,null,null,{"$f":"IFERROR(VLOOKUP(ROWS($AJ$2:AJ1891),O1891:Q3794,3,0),\"\")","v":""},null,{"$f":"IFERROR(VLOOKUP(ROWS(AL$2:$AL1891),N1891:Q3794,4,0),\"\")","v":""}]
[null,null,null,null,null,null,null,null,null,null,null,null,null,{"$f":"IF(ISNUMBER(SEARCH($H$16,Q1892)),MAX($N$1:N1891)+1,0)","v":0},{"$f":"IF(ISNUMBER(SEARCH($H$11,Q1892)),MAX($O$1:O1891)+1,0)","v":0},{"$f":"IF(ISNUMBER(SEARCH($H$6,Q1892)),MAX($P$1:P1891)+1,0)","v":0},null,null,null,null,null,null,null,null,null,null,null,null,null,null,{"$f":"IFERROR(VLOOKUP(ROWS($AE$2:AE1892),P1892:Q3795,2,0),\"\")","v":""},null,null,null,null,{"$f":"IFERROR(VLOOKUP(ROWS($AJ$2:AJ1892),O1892:Q3795,3,0),\"\")","v":""},null,{"$f":"IFERROR(VLOOKUP(ROWS(AL$2:$AL1892),N1892:Q3795,4,0),\"\")","v":""}]
[null,null,null,null,null,null,null,null,null,null,null,null,null,{"$f":"IF(ISNUMBER(SEARCH($H$16,Q1893)),MAX($N$1:N1892)+1,0)","v":0},{"$f":"IF(ISNUMBER(SEARCH($H$11,Q1893)),MAX($O$1:O1892)+1,0)","v":0},{"$f":"IF(ISNUMBER(SEARCH($H$6,Q1893)),MAX($P$1:P1892)+1,0)","v":0},null,null,null,null,null,null,null,null,null,null,null,null,null,null,{"$f":"IFERROR(VLOOKUP(ROWS($AE$2:AE1893),P1893:Q3796,2,0),\"\")","v":""},null,null,null,null,{"$f":"IFERROR(VLOOKUP(ROWS($AJ$2:AJ1893),O1893:Q3796,3,0),\"\")","v":""},null,{"$f":"IFERROR(VLOOKUP(ROWS(AL$2:$AL1893),N1893:Q3796,4,0),\"\")","v":""}]
[null,null,null,null,null,null,null,null,null,null,null,null,null,{"$f":"IF(ISNUMBER(SEARCH($H$16,Q1894)),MAX($N$1:N1893)+1,0)","v":0},{"$f":"IF(ISNUMBER(SEARCH($H$11,Q1894)),MAX($O$1:O1893)+1,0)","v":0},{"$f":"IF(ISNUMBER(SEARCH($H$6,Q1894)),MAX($P$1:P1893)+1,0)","v":0},null,null,null,null,null,null,null,null,null,null,null,null,null,null,{"$f":"IFERROR(VLOOKUP(ROWS($AE$2:AE1894),P1894:Q3797,2,0),\"\")","v":""},null,null,null,null,{"$f":"IFERROR(VLOOKUP(ROWS($AJ$2:AJ1894),O1894:Q3797,3,0),\"\")","v":""},null,{"$f":"IFERROR(VLOOKUP(ROWS(AL$2:$AL1894),N1894:Q3797,4,0),\"\")","v":""}]
[null,null,null,null,null,null,null,null,null,null,null,null,null,{"$f":"IF(ISNUMBER(SEARCH($H$16,Q1895)),MAX($N$1:N1894)+1,0)","v":0},{"$f":"IF(ISNUMBER(SEARCH($H$11,Q1895)),MAX($O$1:O1894)+1,0)","v":0},{"$f":"IF(ISNUMBER(SEARCH($H$6,Q1895)),MAX($P$1:P1894)+1,0)","v":0},null,null,null,null,null,null,null,null,null,null,null,null,null,null,{"$f":"IFERROR(VLOOKUP(ROWS($AE$2:AE1895),P1895:Q3798,2,0),\"\")","v":""},null,null,null,null,{"$f":"IFERROR(VLOOKUP(ROWS($AJ$2:AJ1895),O1895:Q3798,3,0),\"\")","v":""},null,{"$f":"IFERROR(VLOOKUP(ROWS(AL$2:$AL1895),N1895:Q3798,4,0),\"\")","v":""}]
[null,null,null,null,null,null,null,null,null,null,null,null,null,{"$f":"IF(ISNUMBER(SEARCH($H$16,Q1896)),MAX($N$1:N1895)+1,0)","v":0},{"$f":"IF(ISNUMBER(SEARCH($H$11,Q1896)),MAX($O$1:O1895)+1,0)","v":0},{"$f":"IF(ISNUMBER(SEARCH($H$6,Q1896)),MAX($P$1:P1895)+1,0)","v":0},null,null,null,null,null,null,null,null,null,null,null,null,null,null,{"$f":"IFERROR(VLOOKUP(ROWS($AE$2:AE1896),P1896:Q3799,2,0),\"\")","v":""},null,null,null,null,{"$f":"IFERROR(VLOOKUP(ROWS($AJ$2:AJ1896),O1896:Q3799,3,0),\"\")","v":""},null,{"$f":"IFERROR(VLOOKUP(ROWS(AL$2:$AL1896),N1896:Q3799,4,0),\"\")","v":""}]
[null,null,null,null,null,null,null,null,null,null,null,null,null,{"$f":"IF(ISNUMBER(SEARCH($H$16,Q1897)),MAX($N$1:N1896)+1,0)","v":0},{"$f":"IF(ISNUMBER(SEARCH($H$11,Q1897)),MAX($O$1:O1896)+1,0)","v":0},{"$f":"IF(ISNUMBER(SEARCH($H$6,Q1897)),MAX($P$1:P1896)+1,0)","v":0},null,null,null,null,null,null,null,null,null,null,null,null,null,null,{"$f":"IFERROR(VLOOKUP(ROWS($AE$2:AE1897),P1897:Q3800,2,0),\"\")","v":""},null,null,null,null,{"$f":"IFERROR(VLOOKUP(ROWS($AJ$2:AJ1897),O1897:Q3800,3,0),\"\")","v":""},null,{"$f":"IFERROR(VLOOKUP(ROWS(AL$2:$AL1897),N1897:Q3800,4,0),\"\")","v":""}]
[null,null,null,null,null,null,null,null,null,null,null,null,null,{"$f":"IF(ISNUMBER(SEARCH($H$16,Q1898)),MAX($N$1:N1897)+1,0)","v":0},{"$f":"IF(ISNUMBER(SEARCH($H$11,Q1898)),MAX($O$1:O1897)+1,0)","v":0},{"$f":"IF(ISNUMBER(SEARCH($H$6,Q1898)),MAX($P$1:P1897)+1,0)","v":0},null,null,null,null,null,null,null,null,null,null,null,null,null,null,{"$f":"IFERROR(VLOOKUP(ROWS($AE$2:AE1898),P1898:Q3801,2,0),\"\")","v":""},null,null,null,null,{"$f":"IFERROR(VLOOKUP(ROWS($AJ$2:AJ1898),O1898:Q3801,3,0),\"\")","v":""},null,{"$f":"IFERROR(VLOOKUP(ROWS(AL$2:$AL1898),N1898:Q3801,4,0),\"\")","v":""}]
[null,null,null,null,null,null,null,null,null,null,null,null,null,{"$f":"IF(ISNUMBER(SEARCH($H$16,Q1899)),MAX($N$1:N1898)+1,0)","v":0},{"$f":"IF(ISNUMBER(SEARCH($H$11,Q1899)),MAX($O$1:O1898)+1,0)","v":0},{"$f":"IF(ISNUMBER(SEARCH($H$6,Q1899)),MAX($P$1:P1898)+1,0)","v":0},null,null,null,null,null,null,null,null,null,null,null,null,null,null,{"$f":"IFERROR(VLOOKUP(ROWS($AE$2:AE1899),P1899:Q3802,2,0),\"\")","v":""},null,null,null,null,{"$f":"IFERROR(VLOOKUP(ROWS($AJ$2:AJ1899),O1899:Q3802,3,0),\"\")","v":""},null,{"$f":"IFERROR(VLOOKUP(ROWS(AL$2:$AL1899),N1899:Q3802,4,0),\"\")","v":""}]
[null,null,null,null,null,null,null,null,null,null,null,null,null,{"$f":"IF(ISNUMBER(SEARCH($H$16,Q1900)),MAX($N$1:N1899)+1,0)","v":0},{"$f":"IF(ISNUMBER(SEARCH($H$11,Q1900)),MAX($O$1:O1899)+1,0)","v":0},{"$f":"IF(ISNUMBER(SEARCH($H$6,Q1900)),MAX($P$1:P1899)+1,0)","v":0},null,null,null,null,null,null,null,null,null,null,null,null,null,null,{"$f":"IFERROR(VLOOKUP(ROWS($AE$2:AE1900),P1900:Q3803,2,0),\"\")","v":""},null,null,null,null,{"$f":"IFERROR(VLOOKUP(ROWS($AJ$2:AJ1900),O1900:Q3803,3,0),\"\")","v":""},null,{"$f":"IFERROR(VLOOKUP(ROWS(AL$2:$AL1900),N1900:Q3803,4,0),\"\")","v":""}]
[null,null,null,null,null,null,null,null,null,null,null,null,null,{"$f":"IF(ISNUMBER(SEARCH($H$16,Q1901)),MAX($N$1:N1900)+1,0)","v":0},{"$f":"IF(ISNUMBER(SEARCH($H$11,Q1901)),MAX($O$1:O1900)+1,0)","v":0},{"$f":"IF(ISNUMBER(SEARCH($H$6,Q1901)),MAX($P$1:P1900)+1,0)","v":0},null,null,null,null,null,null,null,null,null,null,null,null,null,null,{"$f":"IFERROR(VLOOKUP(ROWS($AE$2:AE1901),P1901:Q3804,2,0),\"\")","v":""},null,null,null,null,{"$f":"IFERROR(VLOOKUP(ROWS($AJ$2:AJ1901),O1901:Q3804,3,0),\"\")","v":""},null,{"$f":"IFERROR(VLOOKUP(ROWS(AL$2:$AL1901),N1901:Q3804,4,0),\"\")","v":""}]
[null,null,null,null,null,null,null,null,null,null,null,null,null,{"$f":"IF(ISNUMBER(SEARCH($H$16,Q1902)),MAX($N$1:N1901)+1,0)","v":0},{"$f":"IF(ISNUMBER(SEARCH($H$11,Q1902)),MAX($O$1:O1901)+1,0)","v":0},{"$f":"IF(ISNUMBER(SEARCH($H$6,Q1902)),MAX($P$1:P1901)+1,0)","v":0},null,null,null,null,null,null,null,null,null,null,null,null,null,null,{"$f":"IFERROR(VLOOKUP(ROWS($AE$2:AE1902),P1902:Q3805,2,0),\"\")","v":""},null,null,null,null,{"$f":"IFERROR(VLOOKUP(ROWS($AJ$2:AJ1902),O1902:Q3805,3,0),\"\")","v":""},null,{"$f":"IFERROR(VLOOKUP(ROWS(AL$2:$AL1902),N1902:Q3805,4,0),\"\")","v":""}]
[null,null,null,null,null,null,null,null,null,null,null,null,null,{"$f":"IF(ISNUMBER(SEARCH($H$16,Q1903)),MAX($N$1:N1902)+1,0)","v":0},{"$f":"IF(ISNUMBER(SEARCH($H$11,Q1903)),MAX($O$1:O1902)+1,0)","v":0},{"$f":"IF(ISNUMBER(SEARCH($H$6,Q1903)),MAX($P$1:P1902)+1,0)","v":0},null,null,null,null,null,null,null,null,null,null,null,null,null,null,{"$f":"IFERROR(VLOOKUP(ROWS($AE$2:AE1903),P1903:Q3806,2,0),\"\")","v":""},null,null,null,null,{"$f":"IFERROR(VLOOKUP(ROWS($AJ$2:AJ1903),O1903:Q3806,3,0),\"\")","v":""},null,{"$f":"IFERROR(VLOOKUP(ROWS(AL$2:$AL1903),N1903:Q3806,4,0),\"\")","v":""}]
[null,null,null,null,null,null,null,null,null,null,null,null,null,{"$f":"IF(ISNUMBER(SEARCH($H$16,Q1904)),MAX($N$1:N1903)+1,0)","v":0},{"$f":"IF(ISNUMBER(SEARCH($H$11,Q1904)),MAX($O$1:O1903)+1,0)","v":0},{"$f":"IF(ISNUMBER(SEARCH($H$6,Q1904)),MAX($P$1:P1903)+1,0)","v":0},null,null,null,null,null,null,null,null,null,null,null,null,null,null,{"$f":"IFERROR(VLOOKUP(ROWS($AE$2:AE1904),P1904:Q3807,2,0),\"\")","v":""},null,null,null,null,{"$f":"IFERROR(VLOOKUP(ROWS($AJ$2:AJ1904),O1904:Q3807,3,0),\"\")","v":""},null,{"$f":"IFERROR(VLOOKUP(ROWS(AL$2:$AL1904),N1904:Q3807,4,0),\"\")","v":""}]
[null,null,null,null,null,null,null,null,null,null,null,null,null,{"$f":"IF(ISNUMBER(SEARCH($H$16,Q1905)),MAX($N$1:N1904)+1,0)","v":0},{"$f":"IF(ISNUMBER(SEARCH($H$11,Q1905)),MAX($O$1:O1904)+1,0)","v":0},{"$f":"IF(ISNUMBER(SEARCH($H$6,Q1905)),MAX($P$1:P1904)+1,0)","v":0},null,null,null,null,null,null,null,null,null,null,null,null,null,null,{"$f":"IFERROR(VLOOKUP(ROWS($AE$2:AE1905),P1905:Q3808,2,0),\"\")","v":""},null,null,null,null,{"$f":"IFERROR(VLOOKUP(ROWS($AJ$2:AJ1905),O1905:Q3808,3,0),\"\")","v":""},null,{"$f":"IFERROR(VLOOKUP(ROWS(AL$2:$AL1905),N1905:Q3808,4,0),\"\")","v":""}]

{"sheet":"Results-simple","index":2,"n_rows":104,"n_cols":35,"rows_kept":104,"cut":false,"hidden":false,"merged":[[17,1,18,1],[17,2,18,2],[0,35,0,40],[0,25,0,30],[0,17,0,21],[0,9,0,14],[9,0,9,3],[11,1,12,1],[11,2,12,2],[14,1,15,1],[14,2,15,2]]}
[null,{"$f":"'mf1'!A1","v":"quantum tax saving fund"},{"$f":"'mf2'!A1","v":"quantum long term equity"},{"$f":"'mf3'!A1","v":"quantum tax saving fund"},null,{"$f":"IF(ISERROR(MATCH(\"Others / Unlisted\",'mf1'!A1:A1068,0)),IF(ISERROR(MATCH(\"debt\",'mf1'!A1:A1068,0)),IF(ISERROR(MATCH(\"Money Market\",'mf1'!A1:A1068,0)),IF(ISERROR(MATCH(\"Cash / Call\",'mf1'!A1:A1068,0)),COUNTA('mf1'!A5:A1068)+3,MATCH(\"Cash / Call\",'mf1'!A1:A1068,0)),MATCH(\"Money Market\",'mf1'!A1:A1068,0)),MATCH(\"debt\",'mf1'!A1:A1068,0)),MATCH(\"Others / Unlisted\",'mf1'!A1:A1068,0))","v":29},{"$f":"IF(ISERROR(MATCH(\"debt\",'mf1'!A1:A1068,0)),IF(ISERROR(MATCH(\"Money Market\",'mf1'!A1:A1068,0)),IF(ISERROR(MATCH(\"Cash / Call\",'mf1'!A1:A1068,0)),COUNTA('mf1'!A5:A1068)+3,MATCH(\"Cash / Call\",'mf1'!A1:A1068,0)),MATCH(\"Money Market\",'mf1'!A1:A1068,0)),MATCH(\"debt\",'mf1'!A1:A1068,0))","v":29},{"$f":"IF(ISERROR(MATCH(\"Money Market\",'mf1'!A1:A1068,0)),MATCH(\"Cash / Call\",'mf1'!A1:A1068,0),MATCH(\"Money Market\",'mf1'!A1:A1068,0))+1","v":30},null,"mf1 vsmf2",null,null,null,null,null,null,null,"mf2 vsmf3",null,null,null,null,null,null,null,"mf1 vsmf3",null,null,null,null,null,"Others / Unlisted",{"$f":"IF(ISERROR(MATCH(AF1,'mf1'!$A$1:$A$1068,0)),\"\",MATCH(AF1,'mf1'!$A$1:$A$1068,0))","v":""},{"$f":"IF(ISERROR(MATCH(AF1,'mf2'!$A$1:$A$1068,0)),\"\",MATCH(AF1,'mf2'!$A$1:$A$1068,0))","v":""},{"$f":"IF(ISERROR(MATCH(AF1,'mf3'!$A$1:$A$1068,0)),\"\",MATCH(AF1,'mf3'!$A$1:$A$1068,0))","v":""}]
["Category (see definitions page)",{"$f":"INDEX(Main!Q2:S1905,MATCH(Main!F8,Main!Q2:Q1905,0),3)","v":"ELSS"},{"$f":"INDEX(Main!Q2:S1905,MATCH(Main!F13,Main!Q2:Q1905,0),3)","v":"Diversified equity"},{"$f":"INDEX(Main!Q2:S1905,MATCH(Main!F18,Main!Q2:Q1905,0),3)","v":"ELSS"},null,{"$f":"IF(ISERROR(MATCH(\"Others / Unlisted\",'mf2'!A1:A1068,0)),IF(ISERROR(MATCH(\"debt\",'mf2'!A1:A1068,0)),IF(ISERROR(MATCH(\"Money Market\",'mf2'!A1:A1068,0)),IF(ISERROR(MATCH(\"Cash / Call\",'mf2'!A1:A1068,0)),MATCH(\"Mutual Funds\",'mf2'!A1:A1068,0),MATCH(\"Cash / Call\",'mf2'!A1:A1068,0)),MATCH(\"Money Market\",'mf2'!A1:A1068,0)),MATCH(\"debt\",'mf2'!A1:A1068,0)),MATCH(\"Others / Unlisted\",'mf2'!A1:A1068,0))","v":29},{"$f":"IF(ISERROR(MATCH(\"debt\",'mf2'!A1:A1068,0)),IF(ISERROR(MATCH(\"Money Market\",'mf2'!A1:A1068,0)),MATCH(\"Cash / Call\",'mf2'!A1:A1068,0),MATCH(\"Money Market\",'mf2'!A1:A1068,0)),MATCH(\"debt\",'mf2'!A1:A1068,0))","v":29},{"$f":"IF(ISERROR(MATCH(\"Money Market\",'mf2'!A1:A1068,0)),MATCH(\"Cash / Call\",'mf2'!A1:A1068,0),MATCH(\"Money Market\",'mf2'!A1:A1068,0))+1","v":30},1,{"$f":"INDEX(INDIRECT(\"mf2!A\"&$G$11):INDIRECT(\"mf2!A\"&$H$15),MATCH('mf1'!A5,INDIRECT(\"mf2!A\"&$G$11):INDIRECT(\"mf2!A\"&$H$15),0),1)","v":"Bajaj Auto"},{"$f":"INDEX('mf2'!$A$5:$E$100,MATCH('mf1'!A5,'mf2'!$A$5:$A$100,0),5)","v":8.14},{"$f":"IF(ISERROR(J2),0,1)","v":1},null,null,{"$f":"IF(ISERROR(INDEX('mf2'!$A$5:$A$100,MATCH('mf1'!F5,'mf2'!$A$5:$A$100,0),1)),\"\",INDEX('mf2'!$A$5:$A$100,MATCH('mf1'!F5,'mf2'!$A$5:$A$100,0),1))","v":""},null,null,{"$f":"INDEX(INDIRECT(\"mf3!A\"&$G$12):INDIRECT(\"mf3!A\"&$H$16),MATCH('mf2'!A5,INDIRECT(\"mf3!A\"&$G$12):INDIRECT(\"mf3!A\"&$H$16),0),1)","v":"Bajaj Auto"},{"$f":"INDEX('mf3'!$A$5:$E$100,MATCH('mf2'!A5,'mf3'!$A$5:$A$100,0),5)","v":7.97},{"$f":"IF(ISERROR(R2),0,1)","v":1},null,null,null,{"$f":"INDIRECT(\"mf3!A\"&$G$12)","v":"Bajaj Auto"},null,{"$f":"INDEX(INDIRECT(\"mf3!A\"&$G$12):INDIRECT(\"mf3!A\"&$H$16),MATCH('mf1'!A5,INDIRECT(\"mf3!A\"&$G$12):INDIRECT(\"mf3!A\"&$H$16),0),1)","v":"Bajaj Auto"},{"$f":"INDEX('mf3'!$A$5:$E$100,MATCH('mf1'!A5,'mf3'!$A$5:$A$100,0),5)","v":7.97},{"$f":"IF(ISERROR(Z2),0,1)","v":1},null,null,null,"Debt",{"$f":"IF(ISERROR(MATCH(AF2,'mf1'!$A$1:$A$1068,0)),\"\",MATCH(AF2,'mf1'!$A$1:$A$1068,0))","v":""},{"$f":"IF(ISERROR(MATCH(AF2,'mf2'!$A$1:$A$1068,0)),\"\",MATCH(AF2,'mf2'!$A$1:$A$1068,0))","v":""},{"$f":"IF(ISERROR(MATCH(AF2,'mf3'!$A$1:$A$1068,0)),\"\",MATCH(AF2,'mf3'!$A$1:$A$1068,0))","v":""}]
["Number of Stocks",{"$f":"SUM(Sheet1!O1:O205)","v":24},{"$f":"SUM(Sheet1!T1:T205)","v":24},{"$f":"SUM(Sheet1!Y1:Y205)","v":24},null,{"$f":"IF(ISERROR(MATCH(\"Others / Unlisted\",'mf3'!A1:A1068,0)),IF(ISERROR(MATCH(\"debt\",'mf3'!A1:A1068,0)),IF(ISERROR(MATCH(\"Money Market\",'mf3'!A1:A1068,0)),IF(ISERROR(MATCH(\"Cash / Call\",'mf3'!A1:A1068,0)),COUNTA('mf3'!A5:A1068)+3,MATCH(\"Cash / Call\",'mf3'!A1:A1068,0)),MATCH(\"Money Market\",'mf3'!A1:A1068,0)),MATCH(\"debt\",'mf3'!A1:A1068,0)),MATCH(\"Others / Unlisted\",'mf3'!A1:A1068,0))","v":29},{"$f":"IF(ISERROR(MATCH(\"debt\",'mf3'!A1:A1068,0)),IF(ISERROR(MATCH(\"Money Market\",'mf3'!A1:A1068,0)),MATCH(\"Cash / Call\",'mf3'!A1:A1068,0),MATCH(\"Money Market\",'mf3'!A1:A1068,0)),MATCH(\"debt\",'mf3'!A1:A1068,0))","v":29},{"$f":"IF(ISERROR(MATCH(\"Money Market\",'mf3'!A1:A1068,0)),MATCH(\"Cash / Call\",'mf3'!A1:A1068,0),MATCH(\"Money Market\",'mf3'!A1:A1068,0))+1","v":30},{"$f":"I2+1","v":2},{"$f":"INDEX(INDIRECT(\"mf2!A\"&$G$11):INDIRECT(\"mf2!A\"&$H$15),MATCH('mf1'!A6,INDIRECT(\"mf2!A\"&$G$11):INDIRECT(\"mf2!A\"&$H$15),0),1)","v":"HDFC"},{"$f":"INDEX('mf2'!$A$5:$E$100,MATCH('mf1'!A6,'mf2'!$A$5:$A$100,0),5)","v":6.76},{"$f":"IF(ISERROR(J3),0,1)","v":1},null,null,null,null,null,{"$f":"INDEX(INDIRECT(\"mf3!A\"&$G$12):INDIRECT(\"mf3!A\"&$H$16),MATCH('mf2'!A6,INDIRECT(\"mf3!A\"&$G$12):INDIRECT(\"mf3!A\"&$H$16),0),1)","v":"Hero Motocorp"},{"$f":"INDEX('mf3'!$A$5:$E$100,MATCH('mf2'!A6,'mf3'!$A$5:$A$100,0),5)","v":6.74},{"$f":"IF(ISERROR(R3),0,1)","v":1},null,null,null,{"$f":"INDIRECT(\"mf3!A\"&$H$16)","v":"Kotak Mahindra"},null,{"$f":"INDEX(INDIRECT(\"mf3!A\"&$G$12):INDIRECT(\"mf3!A\"&$H$16),MATCH('mf1'!A6,INDIRECT(\"mf3!A\"&$G$12):INDIRECT(\"mf3!A\"&$H$16),0),1)","v":"HDFC"},{"$f":"INDEX('mf3'!$A$5:$E$100,MATCH('mf1'!A6,'mf3'!$A$5:$A$100,0),5)","v":6.75},{"$f":"IF(ISERROR(Z3),0,1)","v":1},null,null,null,"Cash / Call",{"$f":"IF(ISERROR(MATCH(AF3,'mf1'!$A$1:$A$1068,0)),\"\",MATCH(AF3,'mf1'!$A$1:$A$1068,0))","v":""},{"$f":"IF(ISERROR(MATCH(AF3,'mf2'!$A$1:$A$1068,0)),\"\",MATCH(AF3,'mf2'!$A$1:$A$1068,0))","v":""},{"$f":"IF(ISERROR(MATCH(AF3,'mf3'!$A$1:$A$1068,0)),\"\",MATCH(AF3,'mf3'!$A$1:$A$1068,0))","v":""}]
["% equity portfolio displayed byMOney control",{"$f":"SUM('mf1'!E5:E100)","v":91.27},{"$f":"SUM('mf2'!E5:E100)","v":90.560000000000016},{"$f":"SUM('mf3'!E5:E100)","v":91.27},null,"Money Market","Cash/Call",null,{"$f":"I3+1","v":3},{"$f":"INDEX(INDIRECT(\"mf2!A\"&$G$11):INDIRECT(\"mf2!A\"&$H$15),MATCH('mf1'!A7,INDIRECT(\"mf2!A\"&$G$11):INDIRECT(\"mf2!A\"&$H$15),0),1)","v":"Hero Motocorp"},{"$f":"INDEX('mf2'!$A$5:$E$100,MATCH('mf1'!A7,'mf2'!$A$5:$A$100,0),5)","v":6.77},1,null,null,null,null,null,{"$f":"INDEX(INDIRECT(\"mf3!A\"&$G$12):INDIRECT(\"mf3!A\"&$H$16),MATCH('mf2'!A7,INDIRECT(\"mf3!A\"&$G$12):INDIRECT(\"mf3!A\"&$H$16),0),1)","v":"HDFC"},{"$f":"INDEX('mf3'!$A$5:$E$100,MATCH('mf2'!A7,'mf3'!$A$5:$A$100,0),5)","v":6.75},1,null,null,null,null,null,{"$f":"INDEX(INDIRECT(\"mf3!A\"&$G$12):INDIRECT(\"mf3!A\"&$H$16),MATCH('mf1'!A7,INDIRECT(\"mf3!A\"&$G$12):INDIRECT(\"mf3!A\"&$H$16),0),1)","v":"Hero Motocorp"},{"$f":"INDEX('mf3'!$A$5:$E$100,MATCH('mf1'!A7,'mf3'!$A$5:$A$100,0),5)","v":6.74},1,null,null,null,"Mutual Funds",{"$f":"IF(ISERROR(MATCH(AF4,'mf1'!$A$1:$A$1068,0)),\"\",MATCH(AF4,'mf1'!$A$1:$A$1068,0))","v":""},{"$f":"IF(ISERROR(MATCH(AF4,'mf2'!$A$1:$A$1068,0)),\"\",MATCH(AF4,'mf2'!$A$1:$A$1068,0))","v":""},{"$f":"IF(ISERROR(MATCH(AF4,'mf3'!$A$1:$A$1068,0)),\"\",MATCH(AF4,'mf3'!$A$1:$A$1068,0))","v":""}]
["Money Market",{"$f":"IF(F5=0,0,IF(INDIRECT(\"mf1!D\"&F5)=\"%\",\"\",INDIRECT(\"mf1!D\"&F5)))","v":""},{"$f":"IF(F6=0,0,IF(INDIRECT(\"mf2!D\"&F6)=\"%\",\"\",INDIRECT(\"mf2!D\"&F6)))","v":""},{"$f":"IF(F7=0,0,IF(INDIRECT(\"mf3!D\"&F7)=\"%\",\"\",INDIRECT(\"mf3!D\"&F7)))","v":""},null,{"$f":"IF(ISERROR(MATCH(\"Money Market\",'mf1'!A1:A1068,0)),0,MATCH(\"Money Market\",'mf1'!A1:A1068,0))","v":29},{"$f":"IF(ISERROR(MATCH(\"Cash / Call\",'mf1'!A1:A1068,0)),0,MATCH(\"Cash / Call\",'mf1'!A1:A1068,0))+1","v":1},{"$f":"MATCH(\"Cash / Call\",'mf1'!A1:A1068,0)+1","v":{"$error":"#N/A"}},4,{"$f":"INDEX(INDIRECT(\"mf2!A\"&$G$11):INDIRECT(\"mf2!A\"&$H$15),MATCH('mf1'!A8,INDIRECT(\"mf2!A\"&$G$11):INDIRECT(\"mf2!A\"&$H$15),0),1)","v":"Infosys"},{"$f":"INDEX('mf2'!$A$5:$E$100,MATCH('mf1'!A8,'mf2'!$A$5:$A$100,0),5)","v":5.59},1,null,null,null,null,null,{"$f":"INDEX(INDIRECT(\"mf3!A\"&$G$12):INDIRECT(\"mf3!A\"&$H$16),MATCH('mf2'!A8,INDIRECT(\"mf3!A\"&$G$12):INDIRECT(\"mf3!A\"&$H$16),0),1)","v":"Infosys"},{"$f":"INDEX('mf3'!$A$5:$E$100,MATCH('mf2'!A8,'mf3'!$A$5:$A$100,0),5)","v":5.57},1,null,null,null,null,null,{"$f":"INDEX(INDIRECT(\"mf3!A\"&$G$12):INDIRECT(\"mf3!A\"&$H$16),MATCH('mf1'!A8,INDIRECT(\"mf3!A\"&$G$12):INDIRECT(\"mf3!A\"&$H$16),0),1)","v":"Infosys"},{"$f":"INDEX('mf3'!$A$5:$E$100,MATCH('mf1'!A8,'mf3'!$A$5:$A$100,0),5)","v":5.57},1,null,null,null,"Money Market",{"$f":"IF(ISERROR(MATCH(AF5,'mf1'!$A$1:$A$1068,0)),\"\",MATCH(AF5,'mf1'!$A$1:$A$1068,0))","v":29},{"$f":"IF(ISERROR(MATCH(AF5,'mf2'!$A$1:$A$1068,0)),\"\",MATCH(AF5,'mf2'!$A$1:$A$1068,0))","v":29},{"$f":"IF(ISERROR(MATCH(AF5,'mf3'!$A$1:$A$1068,0)),\"\",MATCH(AF5,'mf3'!$A$1:$A$1068,0))","v":29}]
["Cash / Call",{"$f":"INDIRECT(\"mf1!D\"&G5)","v":0},{"$f":"INDIRECT(\"mf2!D\"&G6)","v":0},{"$f":"INDIRECT(\"mf3!D\"&G7)","v":0},null,{"$f":"IF(ISERROR(MATCH(\"Money Market\",'mf2'!A1:A1068,0)),0,MATCH(\"Money Market\",'mf2'!A1:A1068,0))","v":29},{"$f":"IF(ISERROR(MATCH(\"Cash / Call\",'mf2'!A1:A1068,0)),0,MATCH(\"Cash / Call\",'mf2'!A1:A1068,0))+1","v":1},{"$f":"MATCH(\"Cash / Call\",'mf2'!A1:A1068,0)+1","v":{"$error":"#N/A"}},5,{"$f":"INDEX(INDIRECT(\"mf2!A\"&$G$11):INDIRECT(\"mf2!A\"&$H$15),MATCH('mf1'!A9,INDIRECT(\"mf2!A\"&$G$11):INDIRECT(\"mf2!A\"&$H$15),0),1)","v":"TCS"},{"$f":"INDEX('mf2'!$A$5:$E$100,MATCH('mf1'!A9,'mf2'!$A$5:$A$100,0),5)","v":4.8600000000000003},1,null,null,null,null,null,{"$f":"INDEX(INDIRECT(\"mf3!A\"&$G$12):INDIRECT(\"mf3!A\"&$H$16),MATCH('mf2'!A9,INDIRECT(\"mf3!A\"&$G$12):INDIRECT(\"mf3!A\"&$H$16),0),1)","v":"TCS"},{"$f":"INDEX('mf3'!$A$5:$E$100,MATCH('mf2'!A9,'mf3'!$A$5:$A$100,0),5)","v":4.93},1,null,null,null,null,null,{"$f":"INDEX(INDIRECT(\"mf3!A\"&$G$12):INDIRECT(\"mf3!A\"&$H$16),MATCH('mf1'!A9,INDIRECT(\"mf3!A\"&$G$12):INDIRECT(\"mf3!A\"&$H$16),0),1)","v":"TCS"},{"$f":"INDEX('mf3'!$A$5:$E$100,MATCH('mf1'!A9,'mf3'!$A$5:$A$100,0),5)","v":4.93},1,null,null,null,"Collateralised Borrowing & Lending Obligation (CBLO) ",{"$f":"IF(ISERROR(MATCH(AF6,'mf1'!$A$1:$A$1068,0)),\"\",MATCH(AF6,'mf1'!$A$1:$A$1068,0))","v":30},{"$f":"IF(ISERROR(MATCH(AF6,'mf2'!$A$1:$A$1068,0)),\"\",MATCH(AF6,'mf2'!$A$1:$A$1068,0))","v":30},{"$f":"IF(ISERROR(MATCH(AF6,'mf3'!$A$1:$A$1068,0)),\"\",MATCH(AF6,'mf3'!$A$1:$A$1068,0))","v":30}]
["Others / Unlisted (incl international equity) or",null,null,null,null,{"$f":"IF(ISERROR(MATCH(\"Money Market\",'mf3'!A1:A1068,0)),0,MATCH(\"Money Market\",'mf3'!A1:A1068,0))","v":29},{"$f":"IF(ISERROR(MATCH(\"Cash / Call\",'mf3'!A1:A1068,0)),0,MATCH(\"Cash / Call\",'mf3'!A1:A1068,0))+1","v":1},{"$f":"MATCH(\"Cash / Call\",'mf3'!A1:A1068,0)+1","v":{"$error":"#N/A"}},6,{"$f":"INDEX(INDIRECT(\"mf2!A\"&$G$11):INDIRECT(\"mf2!A\"&$H$15),MATCH('mf1'!A10,INDIRECT(\"mf2!A\"&$G$11):INDIRECT(\"mf2!A\"&$H$15),0),1)","v":"Tata Motors"},{"$f":"INDEX('mf2'!$A$5:$E$100,MATCH('mf1'!A10,'mf2'!$A$5:$A$100,0),5)","v":4.59},1,null,null,null,null,null,{"$f":"INDEX(INDIRECT(\"mf3!A\"&$G$12):INDIRECT(\"mf3!A\"&$H$16),MATCH('mf2'!A10,INDIRECT(\"mf3!A\"&$G$12):INDIRECT(\"mf3!A\"&$H$16),0),1)","v":"Tata Motors"},{"$f":"INDEX('mf3'!$A$5:$E$100,MATCH('mf2'!A10,'mf3'!$A$5:$A$100,0),5)","v":4.54},1,null,null,null,null,null,{"$f":"INDEX(INDIRECT(\"mf3!A\"&$G$12):INDIRECT(\"mf3!A\"&$H$16),MATCH('mf1'!A10,INDIRECT(\"mf3!A\"&$G$12):INDIRECT(\"mf3!A\"&$H$16),0),1)","v":"Tata Motors"},{"$f":"INDEX('mf3'!$A$5:$E$100,MATCH('mf1'!A10,'mf3'!$A$5:$A$100,0),5)","v":4.54},1]
["Debt (as the case maybe",{"$f":"100-SUM(B4:B6)","v":8.730000000000004},{"$f":"100-SUM(C4:C6)","v":9.4399999999999835},{"$f":"100-SUM(D4:D6)","v":8.730000000000004},null,null,null,null,7,{"$f":"INDEX(INDIRECT(\"mf2!A\"&$G$11):INDIRECT(\"mf2!A\"&$H$15),MATCH('mf1'!A11,INDIRECT(\"mf2!A\"&$G$11):INDIRECT(\"mf2!A\"&$H$15),0),1)","v":"IOC"},{"$f":"INDEX('mf2'!$A$5:$E$100,MATCH('mf1'!A11,'mf2'!$A$5:$A$100,0),5)","v":4.18},1,null,null,null,null,null,{"$f":"INDEX(INDIRECT(\"mf3!A\"&$G$12):INDIRECT(\"mf3!A\"&$H$16),MATCH('mf2'!A11,INDIRECT(\"mf3!A\"&$G$12):INDIRECT(\"mf3!A\"&$H$16),0),1)","v":"IOC"},{"$f":"INDEX('mf3'!$A$5:$E$100,MATCH('mf2'!A11,'mf3'!$A$5:$A$100,0),5)","v":4.25},1,null,null,null,null,null,{"$f":"INDEX(INDIRECT(\"mf3!A\"&$G$12):INDIRECT(\"mf3!A\"&$H$16),MATCH('mf1'!A11,INDIRECT(\"mf3!A\"&$G$12):INDIRECT(\"mf3!A\"&$H$16),0),1)","v":"IOC"},{"$f":"INDEX('mf3'!$A$5:$E$100,MATCH('mf1'!A11,'mf3'!$A$5:$A$100,0),5)","v":4.25},1]
["Total AUM Crore",{"$f":" SUM('mf1'!D1:D10000)","v":51.72},{"$f":" SUM('mf2'!D1:D10000)","v":545.0100000000001},{"$f":" SUM('mf3'!D1:D10000)","v":51.72},null,null,null,null,8,{"$f":"INDEX(INDIRECT(\"mf2!A\"&$G$11):INDIRECT(\"mf2!A\"&$H$15),MATCH('mf1'!A12,INDIRECT(\"mf2!A\"&$G$11):INDIRECT(\"mf2!A\"&$H$15),0),1)","v":"Tata Chemicals"},{"$f":"INDEX('mf2'!$A$5:$E$100,MATCH('mf1'!A12,'mf2'!$A$5:$A$100,0),5)","v":4.16},1,null,null,null,null,null,{"$f":"INDEX(INDIRECT(\"mf3!A\"&$G$12):INDIRECT(\"mf3!A\"&$H$16),MATCH('mf2'!A12,INDIRECT(\"mf3!A\"&$G$12):INDIRECT(\"mf3!A\"&$H$16),0),1)","v":"Tata Chemicals"},{"$f":"INDEX('mf3'!$A$5:$E$100,MATCH('mf2'!A12,'mf3'!$A$5:$A$100,0),5)","v":4.2},1,null,null,null,null,null,{"$f":"INDEX(INDIRECT(\"mf3!A\"&$G$12):INDIRECT(\"mf3!A\"&$H$16),MATCH('mf1'!A12,INDIRECT(\"mf3!A\"&$G$12):INDIRECT(\"mf3!A\"&$H$16),0),1)","v":"Tata Chemicals"},{"$f":"INDEX('mf3'!$A$5:$E$100,MATCH('mf1'!A12,'mf3'!$A$5:$A$100,0),5)","v":4.2},1,null,null,null,null,{"$f":"MIN(AG1:AG6)-1","v":28},{"$f":"MIN(AH1:AH6)-1","v":28},{"$f":"MIN(AI1:AI6)-1","v":28}]
["MoneyControl repeats some stocks twice in the portfolio list. So that will be reflected in the advanced result page.",null,null,null,null,{"$f":"IF(ISERROR(MATCH(\"Cash / Call\",'mf1'!A1:A1068,0)-MATCH(\"Mutual Funds\",'mf1'!A1:A1068,0)),0,MATCH(\"Cash / Call\",'mf1'!A1:A1068,0)-MATCH(\"Mutual Funds\",'mf1'!A1:A1068,0))","v":0},5,{"$f":"H14","v":28},9,{"$f":"INDEX(INDIRECT(\"mf2!A\"&$G$11):INDIRECT(\"mf2!A\"&$H$15),MATCH('mf1'!A13,INDIRECT(\"mf2!A\"&$G$11):INDIRECT(\"mf2!A\"&$H$15),0),1)","v":"NTPC"},{"$f":"INDEX('mf2'!$A$5:$E$100,MATCH('mf1'!A13,'mf2'!$A$5:$A$100,0),5)","v":4.05},1,null,null,null,null,null,{"$f":"INDEX(INDIRECT(\"mf3!A\"&$G$12):INDIRECT(\"mf3!A\"&$H$16),MATCH('mf2'!A13,INDIRECT(\"mf3!A\"&$G$12):INDIRECT(\"mf3!A\"&$H$16),0),1)","v":"NTPC"},{"$f":"INDEX('mf3'!$A$5:$E$100,MATCH('mf2'!A13,'mf3'!$A$5:$A$100,0),5)","v":3.91},1,null,null,null,null,null,{"$f":"INDEX(INDIRECT(\"mf3!A\"&$G$12):INDIRECT(\"mf3!A\"&$H$16),MATCH('mf1'!A13,INDIRECT(\"mf3!A\"&$G$12):INDIRECT(\"mf3!A\"&$H$16),0),1)","v":"NTPC"},{"$f":"INDEX('mf3'!$A$5:$E$100,MATCH('mf1'!A13,'mf3'!$A$5:$A$100,0),5)","v":3.91},1,null,null,null,null,"mf1","mf2","mf3"]
["Overlap in equity portfolio","% percentage overlap","No of common stocks",null,null,null,5,{"$f":"H15","v":28},10,{"$f":"INDEX(INDIRECT(\"mf2!A\"&$G$11):INDIRECT(\"mf2!A\"&$H$15),MATCH('mf1'!A14,INDIRECT(\"mf2!A\"&$G$11):INDIRECT(\"mf2!A\"&$H$15),0),1)","v":"Petronet LNG"},{"$f":"INDEX('mf2'!$A$5:$E$100,MATCH('mf1'!A14,'mf2'!$A$5:$A$100,0),5)","v":3.48},1,null,null,null,null,null,{"$f":"INDEX(INDIRECT(\"mf3!A\"&$G$12):INDIRECT(\"mf3!A\"&$H$16),MATCH('mf2'!A14,INDIRECT(\"mf3!A\"&$G$12):INDIRECT(\"mf3!A\"&$H$16),0),1)","v":"SBI"},{"$f":"INDEX('mf3'!$A$5:$E$100,MATCH('mf2'!A14,'mf3'!$A$5:$A$100,0),5)","v":3.67},1,null,null,null,null,null,{"$f":"INDEX(INDIRECT(\"mf3!A\"&$G$12):INDIRECT(\"mf3!A\"&$H$16),MATCH('mf1'!A14,INDIRECT(\"mf3!A\"&$G$12):INDIRECT(\"mf3!A\"&$H$16),0),1)","v":"Petronet LNG"},{"$f":"INDEX('mf3'!$A$5:$E$100,MATCH('mf1'!A14,'mf3'!$A$5:$A$100,0),5)","v":3.76},1]
[{"$f":"B1","v":"quantum tax saving fund"},{"$f":"2*C12/(B3+C3)","v":1},{"$f":"SUM('Results-advanced'!AJ78:AJ177)","v":24},null,"Click to view MF1 Fund Page at Moneycontrol",null,5,{"$f":"H16","v":28},11,{"$f":"INDEX(INDIRECT(\"mf2!A\"&$G$11):INDIRECT(\"mf2!A\"&$H$15),MATCH('mf1'!A15,INDIRECT(\"mf2!A\"&$G$11):INDIRECT(\"mf2!A\"&$H$15),0),1)","v":"SBI"},{"$f":"INDEX('mf2'!$A$5:$E$100,MATCH('mf1'!A15,'mf2'!$A$5:$A$100,0),5)","v":3.57},1,null,null,null,null,null,{"$f":"INDEX(INDIRECT(\"mf3!A\"&$G$12):INDIRECT(\"mf3!A\"&$H$16),MATCH('mf2'!A15,INDIRECT(\"mf3!A\"&$G$12):INDIRECT(\"mf3!A\"&$H$16),0),1)","v":"ICICI Bank"},{"$f":"INDEX('mf3'!$A$5:$E$100,MATCH('mf2'!A15,'mf3'!$A$5:$A$100,0),5)","v":3.47},1,null,null,null,null,null,{"$f":"INDEX(INDIRECT(\"mf3!A\"&$G$12):INDIRECT(\"mf3!A\"&$H$16),MATCH('mf1'!A15,INDIRECT(\"mf3!A\"&$G$12):INDIRECT(\"mf3!A\"&$H$16),0),1)","v":"SBI"},{"$f":"INDEX('mf3'!$A$5:$E$100,MATCH('mf1'!A15,'mf3'!$A$5:$A$100,0),5)","v":3.67},1]
[{"$f":"C1","v":"quantum long term equity"},null,null,null,null,null,null,null,12,{"$f":"INDEX(INDIRECT(\"mf2!A\"&$G$11):INDIRECT(\"mf2!A\"&$H$15),MATCH('mf1'!A16,INDIRECT(\"mf2!A\"&$G$11):INDIRECT(\"mf2!A\"&$H$15),0),1)","v":"ICICI Bank"},{"$f":"INDEX('mf2'!$A$5:$E$100,MATCH('mf1'!A16,'mf2'!$A$5:$A$100,0),5)","v":3.52},1,null,null,null,null,null,{"$f":"INDEX(INDIRECT(\"mf3!A\"&$G$12):INDIRECT(\"mf3!A\"&$H$16),MATCH('mf2'!A16,INDIRECT(\"mf3!A\"&$G$12):INDIRECT(\"mf3!A\"&$H$16),0),1)","v":"Petronet LNG"},{"$f":"INDEX('mf3'!$A$5:$E$100,MATCH('mf2'!A16,'mf3'!$A$5:$A$100,0),5)","v":3.76},1,null,null,null,null,null,{"$f":"INDEX(INDIRECT(\"mf3!A\"&$G$12):INDIRECT(\"mf3!A\"&$H$16),MATCH('mf1'!A16,INDIRECT(\"mf3!A\"&$G$12):INDIRECT(\"mf3!A\"&$H$16),0),1)","v":"ICICI Bank"},{"$f":"INDEX('mf3'!$A$5:$E$100,MATCH('mf1'!A16,'mf3'!$A$5:$A$100,0),5)","v":3.47},1]
[null,null,null,null,"Click to view MF2 Fund Page at Moneycontrol",null,null,{"$f":"AG9","v":28},13,{"$f":"INDEX(INDIRECT(\"mf2!A\"&$G$11):INDIRECT(\"mf2!A\"&$H$15),MATCH('mf1'!A17,INDIRECT(\"mf2!A\"&$G$11):INDIRECT(\"mf2!A\"&$H$15),0),1)","v":"Power Grid Corp"},{"$f":"INDEX('mf2'!$A$5:$E$100,MATCH('mf1'!A17,'mf2'!$A$5:$A$100,0),5)","v":2.83},1,null,null,null,null,null,{"$f":"INDEX(INDIRECT(\"mf3!A\"&$G$12):INDIRECT(\"mf3!A\"&$H$16),MATCH('mf2'!A17,INDIRECT(\"mf3!A\"&$G$12):INDIRECT(\"mf3!A\"&$H$16),0),1)","v":"Exide Ind"},{"$f":"INDEX('mf3'!$A$5:$E$100,MATCH('mf2'!A17,'mf3'!$A$5:$A$100,0),5)","v":3.08},1,null,null,null,null,null,{"$f":"INDEX(INDIRECT(\"mf3!A\"&$G$12):INDIRECT(\"mf3!A\"&$H$16),MATCH('mf1'!A17,INDIRECT(\"mf3!A\"&$G$12):INDIRECT(\"mf3!A\"&$H$16),0),1)","v":"Power Grid Corp"},{"$f":"INDEX('mf3'!$A$5:$E$100,MATCH('mf1'!A17,'mf3'!$A$5:$A$100,0),5)","v":3.26},1]
[{"$f":"C1","v":"quantum long term equity"},{"$f":"2*C15/(C3+D3)","v":1},{"$f":"SUM('Results-advanced'!AO78:AO177)","v":24},null,null,null,null,{"$f":"AH9","v":28},14,{"$f":"INDEX(INDIRECT(\"mf2!A\"&$G$11):INDIRECT(\"mf2!A\"&$H$15),MATCH('mf1'!A18,INDIRECT(\"mf2!A\"&$G$11):INDIRECT(\"mf2!A\"&$H$15),0),1)","v":"ONGC"},{"$f":"INDEX('mf2'!$A$5:$E$100,MATCH('mf1'!A18,'mf2'!$A$5:$A$100,0),5)","v":3.15},1,null,null,null,null,null,{"$f":"INDEX(INDIRECT(\"mf3!A\"&$G$12):INDIRECT(\"mf3!A\"&$H$16),MATCH('mf2'!A18,INDIRECT(\"mf3!A\"&$G$12):INDIRECT(\"mf3!A\"&$H$16),0),1)","v":"ONGC"},{"$f":"INDEX('mf3'!$A$5:$E$100,MATCH('mf2'!A18,'mf3'!$A$5:$A$100,0),5)","v":3.25},1,null,null,null,null,null,{"$f":"INDEX(INDIRECT(\"mf3!A\"&$G$12):INDIRECT(\"mf3!A\"&$H$16),MATCH('mf1'!A18,INDIRECT(\"mf3!A\"&$G$12):INDIRECT(\"mf3!A\"&$H$16),0),1)","v":"ONGC"},{"$f":"INDEX('mf3'!$A$5:$E$100,MATCH('mf1'!A18,'mf3'!$A$5:$A$100,0),5)","v":3.25},1]
[{"$f":"D1","v":"quantum tax saving fund"},null,null,null,"Click to view MF3 Fund Page at Moneycontrol",null,null,{"$f":"AI9","v":28},15,{"$f":"INDEX(INDIRECT(\"mf2!A\"&$G$11):INDIRECT(\"mf2!A\"&$H$15),MATCH('mf1'!A19,INDIRECT(\"mf2!A\"&$G$11):INDIRECT(\"mf2!A\"&$H$15),0),1)","v":"Indian Hotels"},{"$f":"INDEX('mf2'!$A$5:$E$100,MATCH('mf1'!A19,'mf2'!$A$5:$A$100,0),5)","v":3.04},1,null,null,null,null,null,{"$f":"INDEX(INDIRECT(\"mf3!A\"&$G$12):INDIRECT(\"mf3!A\"&$H$16),MATCH('mf2'!A19,INDIRECT(\"mf3!A\"&$G$12):INDIRECT(\"mf3!A\"&$H$16),0),1)","v":"Indian Hotels"},{"$f":"INDEX('mf3'!$A$5:$E$100,MATCH('mf2'!A19,'mf3'!$A$5:$A$100,0),5)","v":3.16},1,null,null,null,null,null,{"$f":"INDEX(INDIRECT(\"mf3!A\"&$G$12):INDIRECT(\"mf3!A\"&$H$16),MATCH('mf1'!A19,INDIRECT(\"mf3!A\"&$G$12):INDIRECT(\"mf3!A\"&$H$16),0),1)","v":"Indian Hotels"},{"$f":"INDEX('mf3'!$A$5:$E$100,MATCH('mf1'!A19,'mf3'!$A$5:$A$100,0),5)","v":3.16},1]
[null,null,null,null,null,null,null,null,16,{"$f":"INDEX(INDIRECT(\"mf2!A\"&$G$11):INDIRECT(\"mf2!A\"&$H$15),MATCH('mf1'!A20,INDIRECT(\"mf2!A\"&$G$11):INDIRECT(\"mf2!A\"&$H$15),0),1)","v":"Cipla"},{"$f":"INDEX('mf2'!$A$5:$E$100,MATCH('mf1'!A20,'mf2'!$A$5:$A$100,0),5)","v":2.83},1,null,null,null,null,null,{"$f":"INDEX(INDIRECT(\"mf3!A\"&$G$12):INDIRECT(\"mf3!A\"&$H$16),MATCH('mf2'!A20,INDIRECT(\"mf3!A\"&$G$12):INDIRECT(\"mf3!A\"&$H$16),0),1)","v":"Cipla"},{"$f":"INDEX('mf3'!$A$5:$E$100,MATCH('mf2'!A20,'mf3'!$A$5:$A$100,0),5)","v":3.09},1,null,null,null,null,null,{"$f":"INDEX(INDIRECT(\"mf3!A\"&$G$12):INDIRECT(\"mf3!A\"&$H$16),MATCH('mf1'!A20,INDIRECT(\"mf3!A\"&$G$12):INDIRECT(\"mf3!A\"&$H$16),0),1)","v":"Cipla"},{"$f":"INDEX('mf3'!$A$5:$E$100,MATCH('mf1'!A20,'mf3'!$A$5:$A$100,0),5)","v":3.09},1]
[{"$f":"B1","v":"quantum tax saving fund"},{"$f":"2*C18/(B3+D3)","v":1},{"$f":"SUM('Results-advanced'!AT78:AT177)","v":24},null,"Click on above links to check if the correct porftolio has been downloaded",null,null,null,17,{"$f":"INDEX(INDIRECT(\"mf2!A\"&$G$11):INDIRECT(\"mf2!A\"&$H$15),MATCH('mf1'!A21,INDIRECT(\"mf2!A\"&$G$11):INDIRECT(\"mf2!A\"&$H$15),0),1)","v":"Exide Ind"},{"$f":"INDEX('mf2'!$A$5:$E$100,MATCH('mf1'!A21,'mf2'!$A$5:$A$100,0),5)","v":3.2},1,null,null,null,null,null,{"$f":"INDEX(INDIRECT(\"mf3!A\"&$G$12):INDIRECT(\"mf3!A\"&$H$16),MATCH('mf2'!A21,INDIRECT(\"mf3!A\"&$G$12):INDIRECT(\"mf3!A\"&$H$16),0),1)","v":"Power Grid Corp"},{"$f":"INDEX('mf3'!$A$5:$E$100,MATCH('mf2'!A21,'mf3'!$A$5:$A$100,0),5)","v":3.26},1,null,null,null,null,null,{"$f":"INDEX(INDIRECT(\"mf3!A\"&$G$12):INDIRECT(\"mf3!A\"&$H$16),MATCH('mf1'!A21,INDIRECT(\"mf3!A\"&$G$12):INDIRECT(\"mf3!A\"&$H$16),0),1)","v":"Exide Ind"},{"$f":"INDEX('mf3'!$A$5:$E$100,MATCH('mf1'!A21,'mf3'!$A$5:$A$100,0),5)","v":3.08},1]
[{"$f":"D1","v":"quantum tax saving fund"},null,null,null,null,null,{"$f":"INDEX(INDIRECT(\"mf3!A\"&$G$12):INDIRECT(\"mf3!A\"&$H$12),MATCH('mf1'!A5,INDIRECT(\"mf3!A\"&$G$12):INDIRECT(\"mf3!A\"&$H$12),0),1)","v":"Bajaj Auto"},null,18,{"$f":"INDEX(INDIRECT(\"mf2!A\"&$G$11):INDIRECT(\"mf2!A\"&$H$15),MATCH('mf1'!A22,INDIRECT(\"mf2!A\"&$G$11):INDIRECT(\"mf2!A\"&$H$15),0),1)","v":"PTC India"},{"$f":"INDEX('mf2'!$A$5:$E$100,MATCH('mf1'!A22,'mf2'!$A$5:$A$100,0),5)","v":2.73},1,null,null,null,null,null,{"$f":"INDEX(INDIRECT(\"mf3!A\"&$G$12):INDIRECT(\"mf3!A\"&$H$16),MATCH('mf2'!A22,INDIRECT(\"mf3!A\"&$G$12):INDIRECT(\"mf3!A\"&$H$16),0),1)","v":"PTC India"},{"$f":"INDEX('mf3'!$A$5:$E$100,MATCH('mf2'!A22,'mf3'!$A$5:$A$100,0),5)","v":2.81},1,null,null,null,null,null,{"$f":"INDEX(INDIRECT(\"mf3!A\"&$G$12):INDIRECT(\"mf3!A\"&$H$16),MATCH('mf1'!A22,INDIRECT(\"mf3!A\"&$G$12):INDIRECT(\"mf3!A\"&$H$16),0),1)","v":"PTC India"},{"$f":"INDEX('mf3'!$A$5:$E$100,MATCH('mf1'!A22,'mf3'!$A$5:$A$100,0),5)","v":2.81},1]
[null,null,null,null,null,null,"old",{"$f":"F1-1-IF(ISERROR(MATCH(\"Cash / Call\",'mf1'!A1:A1068,0)-MATCH(\"Mutual Funds\",'mf1'!A1:A1068,0)),0,MATCH(\"Cash / Call\",'mf1'!A1:A1068,0)-MATCH(\"Mutual Funds\",'mf1'!A1:A1068,0))","v":28},19,{"$f":"INDEX(INDIRECT(\"mf2!A\"&$G$11):INDIRECT(\"mf2!A\"&$H$15),MATCH('mf1'!A23,INDIRECT(\"mf2!A\"&$G$11):INDIRECT(\"mf2!A\"&$H$15),0),1)","v":"GAIL"},{"$f":"INDEX('mf2'!$A$5:$E$100,MATCH('mf1'!A23,'mf2'!$A$5:$A$100,0),5)","v":2.56},1,null,null,null,null,null,{"$f":"INDEX(INDIRECT(\"mf3!A\"&$G$12):INDIRECT(\"mf3!A\"&$H$16),MATCH('mf2'!A23,INDIRECT(\"mf3!A\"&$G$12):INDIRECT(\"mf3!A\"&$H$16),0),1)","v":"GAIL"},{"$f":"INDEX('mf3'!$A$5:$E$100,MATCH('mf2'!A23,'mf3'!$A$5:$A$100,0),5)","v":2.6},1,null,null,null,null,null,{"$f":"INDEX(INDIRECT(\"mf3!A\"&$G$12):INDIRECT(\"mf3!A\"&$H$16),MATCH('mf1'!A23,INDIRECT(\"mf3!A\"&$G$12):INDIRECT(\"mf3!A\"&$H$16),0),1)","v":"GAIL"},{"$f":"INDEX('mf3'!$A$5:$E$100,MATCH('mf1'!A23,'mf3'!$A$5:$A$100,0),5)","v":2.6},1]
[null,null,null,null,null,null,"old",{"$f":"F2-1-IF(ISERROR(MATCH(\"Cash / Call\",'mf2'!A1:A1068,0)-MATCH(\"Mutual Funds\",'mf2'!A1:A1068,0)),0,MATCH(\"Cash / Call\",'mf2'!A1:A1068,0)-MATCH(\"Mutual Funds\",'mf2'!A1:A1068,0))","v":28},20,{"$f":"INDEX(INDIRECT(\"mf2!A\"&$G$11):INDIRECT(\"mf2!A\"&$H$15),MATCH('mf1'!A24,INDIRECT(\"mf2!A\"&$G$11):INDIRECT(\"mf2!A\"&$H$15),0),1)","v":"Bharti Airtel"},{"$f":"INDEX('mf2'!$A$5:$E$100,MATCH('mf1'!A24,'mf2'!$A$5:$A$100,0),5)","v":2.2999999999999998},1,null,null,null,null,null,{"$f":"INDEX(INDIRECT(\"mf3!A\"&$G$12):INDIRECT(\"mf3!A\"&$H$16),MATCH('mf2'!A24,INDIRECT(\"mf3!A\"&$G$12):INDIRECT(\"mf3!A\"&$H$16),0),1)","v":"Bharti Airtel"},{"$f":"INDEX('mf3'!$A$5:$E$100,MATCH('mf2'!A24,'mf3'!$A$5:$A$100,0),5)","v":2.29},1,null,null,null,null,null,{"$f":"INDEX(INDIRECT(\"mf3!A\"&$G$12):INDIRECT(\"mf3!A\"&$H$16),MATCH('mf1'!A24,INDIRECT(\"mf3!A\"&$G$12):INDIRECT(\"mf3!A\"&$H$16),0),1)","v":"Bharti Airtel"},{"$f":"INDEX('mf3'!$A$5:$E$100,MATCH('mf1'!A24,'mf3'!$A$5:$A$100,0),5)","v":2.29},1]
["Portfolio Breakup for Equity and Equity oriented Balanced Funds (excluding international stocks)",null,null,null,null,null,"old",{"$f":"F3-1-IF(ISERROR(MATCH(\"Cash / Call\",'mf3'!A1:A1068,0)-MATCH(\"Mutual Funds\",'mf3'!A1:A1068,0)),0,MATCH(\"Cash / Call\",'mf3'!A1:A1068,0)-MATCH(\"Mutual Funds\",'mf3'!A1:A1068,0))","v":28},21,{"$f":"INDEX(INDIRECT(\"mf2!A\"&$G$11):INDIRECT(\"mf2!A\"&$H$15),MATCH('mf1'!A25,INDIRECT(\"mf2!A\"&$G$11):INDIRECT(\"mf2!A\"&$H$15),0),1)","v":"Larsen"},{"$f":"INDEX('mf2'!$A$5:$E$100,MATCH('mf1'!A25,'mf2'!$A$5:$A$100,0),5)","v":2.12},1,null,null,null,null,null,{"$f":"INDEX(INDIRECT(\"mf3!A\"&$G$12):INDIRECT(\"mf3!A\"&$H$16),MATCH('mf2'!A25,INDIRECT(\"mf3!A\"&$G$12):INDIRECT(\"mf3!A\"&$H$16),0),1)","v":"Wipro"},{"$f":"INDEX('mf3'!$A$5:$E$100,MATCH('mf2'!A25,'mf3'!$A$5:$A$100,0),5)","v":2.12},1,null,null,null,null,null,{"$f":"INDEX(INDIRECT(\"mf3!A\"&$G$12):INDIRECT(\"mf3!A\"&$H$16),MATCH('mf1'!A25,INDIRECT(\"mf3!A\"&$G$12):INDIRECT(\"mf3!A\"&$H$16),0),1)","v":"Larsen"},{"$f":"INDEX('mf3'!$A$5:$E$100,MATCH('mf1'!A25,'mf3'!$A$5:$A$100,0),5)","v":2.13},1]
["Sectors",{"$f":"B1","v":"quantum tax saving fund"},{"$f":"C1","v":"quantum long term equity"},{"$f":"D1","v":"quantum tax saving fund"},null,null,null,null,22,{"$f":"INDEX(INDIRECT(\"mf2!A\"&$G$11):INDIRECT(\"mf2!A\"&$H$15),MATCH('mf1'!A26,INDIRECT(\"mf2!A\"&$G$11):INDIRECT(\"mf2!A\"&$H$15),0),1)","v":"Wipro"},{"$f":"INDEX('mf2'!$A$5:$E$100,MATCH('mf1'!A26,'mf2'!$A$5:$A$100,0),5)","v":2.2000000000000002},1,null,null,null,null,null,{"$f":"INDEX(INDIRECT(\"mf3!A\"&$G$12):INDIRECT(\"mf3!A\"&$H$16),MATCH('mf2'!A26,INDIRECT(\"mf3!A\"&$G$12):INDIRECT(\"mf3!A\"&$H$16),0),1)","v":"Larsen"},{"$f":"INDEX('mf3'!$A$5:$E$100,MATCH('mf2'!A26,'mf3'!$A$5:$A$100,0),5)","v":2.13},1,null,null,null,null,null,{"$f":"INDEX(INDIRECT(\"mf3!A\"&$G$12):INDIRECT(\"mf3!A\"&$H$16),MATCH('mf1'!A26,INDIRECT(\"mf3!A\"&$G$12):INDIRECT(\"mf3!A\"&$H$16),0),1)","v":"Wipro"},{"$f":"INDEX('mf3'!$A$5:$E$100,MATCH('mf1'!A26,'mf3'!$A$5:$A$100,0),5)","v":2.12},1]
["Automotive",{"$f":"SUMIF('mf1'!$B$5:$E$146,A24,'mf1'!$E$5:$E$146)","v":22.33},{"$f":"SUMIF('mf2'!$B$5:$E$146,A24,'mf2'!$E$5:$E$146)","v":22.7},{"$f":"SUMIF('mf3'!$B$5:$E$146,A24,'mf3'!$E$5:$E$146)","v":22.33},null,null,null,null,23,{"$f":"INDEX(INDIRECT(\"mf2!A\"&$G$11):INDIRECT(\"mf2!A\"&$H$15),MATCH('mf1'!A27,INDIRECT(\"mf2!A\"&$G$11):INDIRECT(\"mf2!A\"&$H$15),0),1)","v":"Tata Steel"},{"$f":"INDEX('mf2'!$A$5:$E$100,MATCH('mf1'!A27,'mf2'!$A$5:$A$100,0),5)","v":2.11},1,null,null,null,null,null,{"$f":"INDEX(INDIRECT(\"mf3!A\"&$G$12):INDIRECT(\"mf3!A\"&$H$16),MATCH('mf2'!A27,INDIRECT(\"mf3!A\"&$G$12):INDIRECT(\"mf3!A\"&$H$16),0),1)","v":"Tata Steel"},{"$f":"INDEX('mf3'!$A$5:$E$100,MATCH('mf2'!A27,'mf3'!$A$5:$A$100,0),5)","v":1.88},1,null,null,null,null,null,{"$f":"INDEX(INDIRECT(\"mf3!A\"&$G$12):INDIRECT(\"mf3!A\"&$H$16),MATCH('mf1'!A27,INDIRECT(\"mf3!A\"&$G$12):INDIRECT(\"mf3!A\"&$H$16),0),1)","v":"Tata Steel"},{"$f":"INDEX('mf3'!$A$5:$E$100,MATCH('mf1'!A27,'mf3'!$A$5:$A$100,0),5)","v":1.88},1]
["Banking & Financial Services",{"$f":"SUMIF('mf1'!$B$5:$E$146,A25,'mf1'!$E$5:$E$146)","v":15.73},{"$f":"SUMIF('mf2'!$B$5:$E$146,A25,'mf2'!$E$5:$E$146)","v":15.67},{"$f":"SUMIF('mf3'!$B$5:$E$146,A25,'mf3'!$E$5:$E$146)","v":15.73},null,null,null,null,24,{"$f":"INDEX(INDIRECT(\"mf2!A\"&$G$11):INDIRECT(\"mf2!A\"&$H$15),MATCH('mf1'!A28,INDIRECT(\"mf2!A\"&$G$11):INDIRECT(\"mf2!A\"&$H$15),0),1)","v":"Kotak Mahindra"},{"$f":"INDEX('mf2'!$A$5:$E$100,MATCH('mf1'!A28,'mf2'!$A$5:$A$100,0),5)","v":1.82},1,null,null,null,null,null,{"$f":"INDEX(INDIRECT(\"mf3!A\"&$G$12):INDIRECT(\"mf3!A\"&$H$16),MATCH('mf2'!A28,INDIRECT(\"mf3!A\"&$G$12):INDIRECT(\"mf3!A\"&$H$16),0),1)","v":"Kotak Mahindra"},{"$f":"INDEX('mf3'!$A$5:$E$100,MATCH('mf2'!A28,'mf3'!$A$5:$A$100,0),5)","v":1.84},1,null,null,null,null,null,{"$f":"INDEX(INDIRECT(\"mf3!A\"&$G$12):INDIRECT(\"mf3!A\"&$H$16),MATCH('mf1'!A28,INDIRECT(\"mf3!A\"&$G$12):INDIRECT(\"mf3!A\"&$H$16),0),1)","v":"Kotak Mahindra"},{"$f":"INDEX('mf3'!$A$5:$E$100,MATCH('mf1'!A28,'mf3'!$A$5:$A$100,0),5)","v":1.84},1]
["Cement & Construction",{"$f":"SUMIF('mf1'!$B$5:$E$146,A26,'mf1'!$E$5:$E$146)","v":0},{"$f":"SUMIF('mf2'!$B$5:$E$146,A26,'mf2'!$E$5:$E$146)","v":0},{"$f":"SUMIF('mf3'!$B$5:$E$146,A26,'mf3'!$E$5:$E$146)","v":0},null,null,null,null,25,{"$f":"INDEX(INDIRECT(\"mf2!A\"&$G$11):INDIRECT(\"mf2!A\"&$H$15),MATCH('mf1'!A29,INDIRECT(\"mf2!A\"&$G$11):INDIRECT(\"mf2!A\"&$H$15),0),1)","v":{"$error":"#N/A"}},{"$f":"INDEX('mf2'!$A$5:$E$100,MATCH('mf1'!A29,'mf2'!$A$5:$A$100,0),5)","v":0},0,null,null,null,null,null,{"$f":"INDEX(INDIRECT(\"mf3!A\"&$G$12):INDIRECT(\"mf3!A\"&$H$16),MATCH('mf2'!A29,INDIRECT(\"mf3!A\"&$G$12):INDIRECT(\"mf3!A\"&$H$16),0),1)","v":{"$error":"#N/A"}},{"$f":"INDEX('mf3'!$A$5:$E$100,MATCH('mf2'!A29,'mf3'!$A$5:$A$100,0),5)","v":0},0,null,null,null,null,null,{"$f":"INDEX(INDIRECT(\"mf3!A\"&$G$12):INDIRECT(\"mf3!A\"&$H$16),MATCH('mf1'!A29,INDIRECT(\"mf3!A\"&$G$12):INDIRECT(\"mf3!A\"&$H$16),0),1)","v":{"$error":"#N/A"}},{"$f":"INDEX('mf3'!$A$5:$E$100,MATCH('mf1'!A29,'mf3'!$A$5:$A$100,0),5)","v":0},0]
["Chemicals",{"$f":"SUMIF('mf1'!$B$5:$E$146,A27,'mf1'!$E$5:$E$146)","v":4.2},{"$f":"SUMIF('mf2'!$B$5:$E$146,A27,'mf2'!$E$5:$E$146)","v":4.16},{"$f":"SUMIF('mf3'!$B$5:$E$146,A27,'mf3'!$E$5:$E$146)","v":4.2},null,null,null,null,26,{"$f":"INDEX(INDIRECT(\"mf2!A\"&$G$11):INDIRECT(\"mf2!A\"&$H$15),MATCH('mf1'!A30,INDIRECT(\"mf2!A\"&$G$11):INDIRECT(\"mf2!A\"&$H$15),0),1)","v":{"$error":"#N/A"}},{"$f":"INDEX('mf2'!$A$5:$E$100,MATCH('mf1'!A30,'mf2'!$A$5:$A$100,0),5)","v":0},0,null,null,null,null,null,{"$f":"INDEX(INDIRECT(\"mf3!A\"&$G$12):INDIRECT(\"mf3!A\"&$H$16),MATCH('mf2'!A30,INDIRECT(\"mf3!A\"&$G$12):INDIRECT(\"mf3!A\"&$H$16),0),1)","v":{"$error":"#N/A"}},{"$f":"INDEX('mf3'!$A$5:$E$100,MATCH('mf2'!A30,'mf3'!$A$5:$A$100,0),5)","v":0},{"$f":"IF(ISERROR(R27),0,1)","v":0},null,null,null,null,null,{"$f":"INDEX(INDIRECT(\"mf3!A\"&$G$12):INDIRECT(\"mf3!A\"&$H$16),MATCH('mf1'!A30,INDIRECT(\"mf3!A\"&$G$12):INDIRECT(\"mf3!A\"&$H$16),0),1)","v":{"$error":"#N/A"}},{"$f":"INDEX('mf3'!$A$5:$E$100,MATCH('mf1'!A30,'mf3'!$A$5:$A$100,0),5)","v":0},0]
["Conglomerates",{"$f":"SUMIF('mf1'!$B$5:$E$146,A28,'mf1'!$E$5:$E$146)","v":0},{"$f":"SUMIF('mf2'!$B$5:$E$146,A28,'mf2'!$E$5:$E$146)","v":0},{"$f":"SUMIF('mf3'!$B$5:$E$146,A28,'mf3'!$E$5:$E$146)","v":0},null,null,null,null,27,{"$f":"INDEX(INDIRECT(\"mf2!A\"&$G$11):INDIRECT(\"mf2!A\"&$H$15),MATCH('mf1'!A31,INDIRECT(\"mf2!A\"&$G$11):INDIRECT(\"mf2!A\"&$H$15),0),1)","v":{"$error":"#N/A"}},{"$f":"INDEX('mf2'!$A$5:$E$100,MATCH('mf1'!A31,'mf2'!$A$5:$A$100,0),5)","v":{"$error":"#N/A"}},0,null,null,null,null,null,{"$f":"INDEX(INDIRECT(\"mf3!A\"&$G$12):INDIRECT(\"mf3!A\"&$H$16),MATCH('mf2'!A31,INDIRECT(\"mf3!A\"&$G$12):INDIRECT(\"mf3!A\"&$H$16),0),1)","v":{"$error":"#N/A"}},{"$f":"INDEX('mf3'!$A$5:$E$100,MATCH('mf2'!A31,'mf3'!$A$5:$A$100,0),5)","v":{"$error":"#N/A"}},{"$f":"IF(ISERROR(R28),0,1)","v":0},null,null,null,null,null,{"$f":"INDEX(INDIRECT(\"mf3!A\"&$G$12):INDIRECT(\"mf3!A\"&$H$16),MATCH('mf1'!A31,INDIRECT(\"mf3!A\"&$G$12):INDIRECT(\"mf3!A\"&$H$16),0),1)","v":{"$error":"#N/A"}},{"$f":"INDEX('mf3'!$A$5:$E$100,MATCH('mf1'!A31,'mf3'!$A$5:$A$100,0),5)","v":{"$error":"#N/A"}},0]
["Consumer Durables",{"$f":"SUMIF('mf1'!$B$5:$E$146,A29,'mf1'!$E$5:$E$146)","v":0},{"$f":"SUMIF('mf2'!$B$5:$E$146,A29,'mf2'!$E$5:$E$146)","v":0},{"$f":"SUMIF('mf3'!$B$5:$E$146,A29,'mf3'!$E$5:$E$146)","v":0},null,null,null,null,28,{"$f":"INDEX(INDIRECT(\"mf2!A\"&$G$11):INDIRECT(\"mf2!A\"&$H$15),MATCH('mf1'!A32,INDIRECT(\"mf2!A\"&$G$11):INDIRECT(\"mf2!A\"&$H$15),0),1)","v":{"$error":"#N/A"}},{"$f":"INDEX('mf2'!$A$5:$E$100,MATCH('mf1'!A32,'mf2'!$A$5:$A$100,0),5)","v":{"$error":"#N/A"}},0,null,null,null,null,null,{"$f":"INDEX(INDIRECT(\"mf3!A\"&$G$12):INDIRECT(\"mf3!A\"&$H$16),MATCH('mf2'!A32,INDIRECT(\"mf3!A\"&$G$12):INDIRECT(\"mf3!A\"&$H$16),0),1)","v":{"$error":"#N/A"}},{"$f":"INDEX('mf3'!$A$5:$E$100,MATCH('mf2'!A32,'mf3'!$A$5:$A$100,0),5)","v":{"$error":"#N/A"}},0,null,null,null,null,null,{"$f":"INDEX(INDIRECT(\"mf3!A\"&$G$12):INDIRECT(\"mf3!A\"&$H$16),MATCH('mf1'!A32,INDIRECT(\"mf3!A\"&$G$12):INDIRECT(\"mf3!A\"&$H$16),0),1)","v":{"$error":"#N/A"}},{"$f":"INDEX('mf3'!$A$5:$E$100,MATCH('mf1'!A32,'mf3'!$A$5:$A$100,0),5)","v":{"$error":"#N/A"}},0]
["Consumer Non-durables",{"$f":"SUMIF('mf1'!$B$5:$E$146,A30,'mf1'!$E$5:$E$146)","v":0},{"$f":"SUMIF('mf2'!$B$5:$E$146,A30,'mf2'!$E$5:$E$146)","v":0},{"$f":"SUMIF('mf3'!$B$5:$E$146,A30,'mf3'!$E$5:$E$146)","v":0},null,null,null,null,29,{"$f":"INDEX(INDIRECT(\"mf2!A\"&$G$11):INDIRECT(\"mf2!A\"&$H$15),MATCH('mf1'!A33,INDIRECT(\"mf2!A\"&$G$11):INDIRECT(\"mf2!A\"&$H$15),0),1)","v":{"$error":"#N/A"}},{"$f":"INDEX('mf2'!$A$5:$E$100,MATCH('mf1'!A33,'mf2'!$A$5:$A$100,0),5)","v":{"$error":"#N/A"}},0,null,null,null,null,null,{"$f":"INDEX(INDIRECT(\"mf3!A\"&$G$12):INDIRECT(\"mf3!A\"&$H$16),MATCH('mf2'!A33,INDIRECT(\"mf3!A\"&$G$12):INDIRECT(\"mf3!A\"&$H$16),0),1)","v":{"$error":"#N/A"}},{"$f":"INDEX('mf3'!$A$5:$E$100,MATCH('mf2'!A33,'mf3'!$A$5:$A$100,0),5)","v":{"$error":"#N/A"}},0,null,null,null,null,null,{"$f":"INDEX(INDIRECT(\"mf3!A\"&$G$12):INDIRECT(\"mf3!A\"&$H$16),MATCH('mf1'!A33,INDIRECT(\"mf3!A\"&$G$12):INDIRECT(\"mf3!A\"&$H$16),0),1)","v":{"$error":"#N/A"}},{"$f":"INDEX('mf3'!$A$5:$E$100,MATCH('mf1'!A33,'mf3'!$A$5:$A$100,0),5)","v":{"$error":"#N/A"}},0]
["Engineering & Capital Goods",{"$f":"SUMIF('mf1'!$B$5:$E$146,A31,'mf1'!$E$5:$E$146)","v":2.13},{"$f":"SUMIF('mf2'!$B$5:$E$146,A31,'mf2'!$E$5:$E$146)","v":2.12},{"$f":"SUMIF('mf3'!$B$5:$E$146,A31,'mf3'!$E$5:$E$146)","v":2.13},null,null,null,null,30,{"$f":"INDEX(INDIRECT(\"mf2!A\"&$G$11):INDIRECT(\"mf2!A\"&$H$15),MATCH('mf1'!A34,INDIRECT(\"mf2!A\"&$G$11):INDIRECT(\"mf2!A\"&$H$15),0),1)","v":{"$error":"#N/A"}},{"$f":"INDEX('mf2'!$A$5:$E$100,MATCH('mf1'!A34,'mf2'!$A$5:$A$100,0),5)","v":{"$error":"#N/A"}},0,null,null,null,null,null,{"$f":"INDEX(INDIRECT(\"mf3!A\"&$G$12):INDIRECT(\"mf3!A\"&$H$16),MATCH('mf2'!A34,INDIRECT(\"mf3!A\"&$G$12):INDIRECT(\"mf3!A\"&$H$16),0),1)","v":{"$error":"#N/A"}},{"$f":"INDEX('mf3'!$A$5:$E$100,MATCH('mf2'!A34,'mf3'!$A$5:$A$100,0),5)","v":{"$error":"#N/A"}},0,null,null,null,null,null,{"$f":"INDEX(INDIRECT(\"mf3!A\"&$G$12):INDIRECT(\"mf3!A\"&$H$16),MATCH('mf1'!A34,INDIRECT(\"mf3!A\"&$G$12):INDIRECT(\"mf3!A\"&$H$16),0),1)","v":{"$error":"#N/A"}},{"$f":"INDEX('mf3'!$A$5:$E$100,MATCH('mf1'!A34,'mf3'!$A$5:$A$100,0),5)","v":{"$error":"#N/A"}},0]
["Food & Beverages",{"$f":"SUMIF('mf1'!$B$5:$E$146,A32,'mf1'!$E$5:$E$146)","v":0},{"$f":"SUMIF('mf2'!$B$5:$E$146,A32,'mf2'!$E$5:$E$146)","v":0},{"$f":"SUMIF('mf3'!$B$5:$E$146,A32,'mf3'!$E$5:$E$146)","v":0},null,null,null,null,31,{"$f":"INDEX(INDIRECT(\"mf2!A\"&$G$11):INDIRECT(\"mf2!A\"&$H$15),MATCH('mf1'!A35,INDIRECT(\"mf2!A\"&$G$11):INDIRECT(\"mf2!A\"&$H$15),0),1)","v":{"$error":"#N/A"}},{"$f":"INDEX('mf2'!$A$5:$E$100,MATCH('mf1'!A35,'mf2'!$A$5:$A$100,0),5)","v":{"$error":"#N/A"}},0,null,null,null,null,null,{"$f":"INDEX(INDIRECT(\"mf3!A\"&$G$12):INDIRECT(\"mf3!A\"&$H$16),MATCH('mf2'!A35,INDIRECT(\"mf3!A\"&$G$12):INDIRECT(\"mf3!A\"&$H$16),0),1)","v":{"$error":"#N/A"}},{"$f":"INDEX('mf3'!$A$5:$E$100,MATCH('mf2'!A35,'mf3'!$A$5:$A$100,0),5)","v":{"$error":"#N/A"}},0,null,null,null,null,null,{"$f":"INDEX(INDIRECT(\"mf3!A\"&$G$12):INDIRECT(\"mf3!A\"&$H$16),MATCH('mf1'!A35,INDIRECT(\"mf3!A\"&$G$12):INDIRECT(\"mf3!A\"&$H$16),0),1)","v":{"$error":"#N/A"}},{"$f":"INDEX('mf3'!$A$5:$E$100,MATCH('mf1'!A35,'mf3'!$A$5:$A$100,0),5)","v":{"$error":"#N/A"}},0]
["Information Technology",{"$f":"SUMIF('mf1'!$B$5:$E$146,A33,'mf1'!$E$5:$E$146)","v":12.620000000000001},{"$f":"SUMIF('mf2'!$B$5:$E$146,A33,'mf2'!$E$5:$E$146)","v":12.649999999999999},{"$f":"SUMIF('mf3'!$B$5:$E$146,A33,'mf3'!$E$5:$E$146)","v":12.620000000000001},null,null,null,null,32,{"$f":"INDEX(INDIRECT(\"mf2!A\"&$G$11):INDIRECT(\"mf2!A\"&$H$15),MATCH('mf1'!A36,INDIRECT(\"mf2!A\"&$G$11):INDIRECT(\"mf2!A\"&$H$15),0),1)","v":{"$error":"#N/A"}},{"$f":"INDEX('mf2'!$A$5:$E$100,MATCH('mf1'!A36,'mf2'!$A$5:$A$100,0),5)","v":{"$error":"#N/A"}},0,null,null,null,null,null,{"$f":"INDEX(INDIRECT(\"mf3!A\"&$G$12):INDIRECT(\"mf3!A\"&$H$16),MATCH('mf2'!A36,INDIRECT(\"mf3!A\"&$G$12):INDIRECT(\"mf3!A\"&$H$16),0),1)","v":{"$error":"#N/A"}},{"$f":"INDEX('mf3'!$A$5:$E$100,MATCH('mf2'!A36,'mf3'!$A$5:$A$100,0),5)","v":{"$error":"#N/A"}},0,null,null,null,null,null,{"$f":"INDEX(INDIRECT(\"mf3!A\"&$G$12):INDIRECT(\"mf3!A\"&$H$16),MATCH('mf1'!A36,INDIRECT(\"mf3!A\"&$G$12):INDIRECT(\"mf3!A\"&$H$16),0),1)","v":{"$error":"#N/A"}},{"$f":"INDEX('mf3'!$A$5:$E$100,MATCH('mf1'!A36,'mf3'!$A$5:$A$100,0),5)","v":{"$error":"#N/A"}},0]
["Manufacturing",{"$f":"SUMIF('mf1'!$B$5:$E$146,A34,'mf1'!$E$5:$E$146)","v":0},{"$f":"SUMIF('mf2'!$B$5:$E$146,A34,'mf2'!$E$5:$E$146)","v":0},{"$f":"SUMIF('mf3'!$B$5:$E$146,A34,'mf3'!$E$5:$E$146)","v":0},null,null,null,null,33,{"$f":"INDEX(INDIRECT(\"mf2!A\"&$G$11):INDIRECT(\"mf2!A\"&$H$15),MATCH('mf1'!A37,INDIRECT(\"mf2!A\"&$G$11):INDIRECT(\"mf2!A\"&$H$15),0),1)","v":{"$error":"#N/A"}},{"$f":"INDEX('mf2'!$A$5:$E$100,MATCH('mf1'!A37,'mf2'!$A$5:$A$100,0),5)","v":{"$error":"#N/A"}},0,null,null,null,null,null,{"$f":"INDEX(INDIRECT(\"mf3!A\"&$G$12):INDIRECT(\"mf3!A\"&$H$16),MATCH('mf2'!A37,INDIRECT(\"mf3!A\"&$G$12):INDIRECT(\"mf3!A\"&$H$16),0),1)","v":{"$error":"#N/A"}},{"$f":"INDEX('mf3'!$A$5:$E$100,MATCH('mf2'!A37,'mf3'!$A$5:$A$100,0),5)","v":{"$error":"#N/A"}},0,null,null,null,null,null,{"$f":"INDEX(INDIRECT(\"mf3!A\"&$G$12):INDIRECT(\"mf3!A\"&$H$16),MATCH('mf1'!A37,INDIRECT(\"mf3!A\"&$G$12):INDIRECT(\"mf3!A\"&$H$16),0),1)","v":{"$error":"#N/A"}},{"$f":"INDEX('mf3'!$A$5:$E$100,MATCH('mf1'!A37,'mf3'!$A$5:$A$100,0),5)","v":{"$error":"#N/A"}},0]
["Media & Entertainment",{"$f":"SUMIF('mf1'!$B$5:$E$146,A35,'mf1'!$E$5:$E$146)","v":0},{"$f":"SUMIF('mf2'!$B$5:$E$146,A35,'mf2'!$E$5:$E$146)","v":0},{"$f":"SUMIF('mf3'!$B$5:$E$146,A35,'mf3'!$E$5:$E$146)","v":0},null,null,null,null,34,{"$f":"INDEX(INDIRECT(\"mf2!A\"&$G$11):INDIRECT(\"mf2!A\"&$H$15),MATCH('mf1'!A38,INDIRECT(\"mf2!A\"&$G$11):INDIRECT(\"mf2!A\"&$H$15),0),1)","v":{"$error":"#N/A"}},{"$f":"INDEX('mf2'!$A$5:$E$100,MATCH('mf1'!A38,'mf2'!$A$5:$A$100,0),5)","v":{"$error":"#N/A"}},0,null,null,null,null,null,{"$f":"INDEX(INDIRECT(\"mf3!A\"&$G$12):INDIRECT(\"mf3!A\"&$H$16),MATCH('mf2'!A38,INDIRECT(\"mf3!A\"&$G$12):INDIRECT(\"mf3!A\"&$H$16),0),1)","v":{"$error":"#N/A"}},{"$f":"INDEX('mf3'!$A$5:$E$100,MATCH('mf2'!A38,'mf3'!$A$5:$A$100,0),5)","v":{"$error":"#N/A"}},0,null,null,null,null,null,{"$f":"INDEX(INDIRECT(\"mf3!A\"&$G$12):INDIRECT(\"mf3!A\"&$H$16),MATCH('mf1'!A38,INDIRECT(\"mf3!A\"&$G$12):INDIRECT(\"mf3!A\"&$H$16),0),1)","v":{"$error":"#N/A"}},{"$f":"INDEX('mf3'!$A$5:$E$100,MATCH('mf1'!A38,'mf3'!$A$5:$A$100,0),5)","v":{"$error":"#N/A"}},0]
["Metals & Mining",{"$f":"SUMIF('mf1'!$B$5:$E$146,A36,'mf1'!$E$5:$E$146)","v":1.88},{"$f":"SUMIF('mf2'!$B$5:$E$146,A36,'mf2'!$E$5:$E$146)","v":2.11},{"$f":"SUMIF('mf3'!$B$5:$E$146,A36,'mf3'!$E$5:$E$146)","v":1.88},null,null,null,null,35,{"$f":"INDEX(INDIRECT(\"mf2!A\"&$G$11):INDIRECT(\"mf2!A\"&$H$15),MATCH('mf1'!A39,INDIRECT(\"mf2!A\"&$G$11):INDIRECT(\"mf2!A\"&$H$15),0),1)","v":{"$error":"#N/A"}},{"$f":"INDEX('mf2'!$A$5:$E$100,MATCH('mf1'!A39,'mf2'!$A$5:$A$100,0),5)","v":{"$error":"#N/A"}},0,null,null,null,null,null,{"$f":"INDEX(INDIRECT(\"mf3!A\"&$G$12):INDIRECT(\"mf3!A\"&$H$16),MATCH('mf2'!A39,INDIRECT(\"mf3!A\"&$G$12):INDIRECT(\"mf3!A\"&$H$16),0),1)","v":{"$error":"#N/A"}},{"$f":"INDEX('mf3'!$A$5:$E$100,MATCH('mf2'!A39,'mf3'!$A$5:$A$100,0),5)","v":{"$error":"#N/A"}},0,null,null,null,null,null,{"$f":"INDEX(INDIRECT(\"mf3!A\"&$G$12):INDIRECT(\"mf3!A\"&$H$16),MATCH('mf1'!A39,INDIRECT(\"mf3!A\"&$G$12):INDIRECT(\"mf3!A\"&$H$16),0),1)","v":{"$error":"#N/A"}},{"$f":"INDEX('mf3'!$A$5:$E$100,MATCH('mf1'!A39,'mf3'!$A$5:$A$100,0),5)","v":{"$error":"#N/A"}},0]
["Miscellaneous",{"$f":"SUMIF('mf1'!$B$5:$E$146,A37,'mf1'!$E$5:$E$146)","v":0},{"$f":"SUMIF('mf2'!$B$5:$E$146,A37,'mf2'!$E$5:$E$146)","v":0},{"$f":"SUMIF('mf3'!$B$5:$E$146,A37,'mf3'!$E$5:$E$146)","v":0},null,null,null,null,36,{"$f":"INDEX(INDIRECT(\"mf2!A\"&$G$11):INDIRECT(\"mf2!A\"&$H$15),MATCH('mf1'!A40,INDIRECT(\"mf2!A\"&$G$11):INDIRECT(\"mf2!A\"&$H$15),0),1)","v":{"$error":"#N/A"}},{"$f":"INDEX('mf2'!$A$5:$E$100,MATCH('mf1'!A40,'mf2'!$A$5:$A$100,0),5)","v":{"$error":"#N/A"}},0,null,null,null,null,null,{"$f":"INDEX(INDIRECT(\"mf3!A\"&$G$12):INDIRECT(\"mf3!A\"&$H$16),MATCH('mf2'!A40,INDIRECT(\"mf3!A\"&$G$12):INDIRECT(\"mf3!A\"&$H$16),0),1)","v":{"$error":"#N/A"}},{"$f":"INDEX('mf3'!$A$5:$E$100,MATCH('mf2'!A40,'mf3'!$A$5:$A$100,0),5)","v":{"$error":"#N/A"}},0,null,null,null,null,null,{"$f":"INDEX(INDIRECT(\"mf3!A\"&$G$12):INDIRECT(\"mf3!A\"&$H$16),MATCH('mf1'!A40,INDIRECT(\"mf3!A\"&$G$12):INDIRECT(\"mf3!A\"&$H$16),0),1)","v":{"$error":"#N/A"}},{"$f":"INDEX('mf3'!$A$5:$E$100,MATCH('mf1'!A40,'mf3'!$A$5:$A$100,0),5)","v":{"$error":"#N/A"}},0]
["Oil & Gas",{"$f":"SUMIF('mf1'!$B$5:$E$146,A38,'mf1'!$E$5:$E$146)","v":13.86},{"$f":"SUMIF('mf2'!$B$5:$E$146,A38,'mf2'!$E$5:$E$146)","v":13.370000000000001},{"$f":"SUMIF('mf3'!$B$5:$E$146,A38,'mf3'!$E$5:$E$146)","v":13.86},null,null,null,null,37,{"$f":"INDEX(INDIRECT(\"mf2!A\"&$G$11):INDIRECT(\"mf2!A\"&$H$15),MATCH('mf1'!A41,INDIRECT(\"mf2!A\"&$G$11):INDIRECT(\"mf2!A\"&$H$15),0),1)","v":{"$error":"#N/A"}},{"$f":"INDEX('mf2'!$A$5:$E$100,MATCH('mf1'!A41,'mf2'!$A$5:$A$100,0),5)","v":{"$error":"#N/A"}},0,null,null,null,null,null,{"$f":"INDEX(INDIRECT(\"mf3!A\"&$G$12):INDIRECT(\"mf3!A\"&$H$16),MATCH('mf2'!A41,INDIRECT(\"mf3!A\"&$G$12):INDIRECT(\"mf3!A\"&$H$16),0),1)","v":{"$error":"#N/A"}},{"$f":"INDEX('mf3'!$A$5:$E$100,MATCH('mf2'!A41,'mf3'!$A$5:$A$100,0),5)","v":{"$error":"#N/A"}},0,null,null,null,null,null,{"$f":"INDEX(INDIRECT(\"mf3!A\"&$G$12):INDIRECT(\"mf3!A\"&$H$16),MATCH('mf1'!A41,INDIRECT(\"mf3!A\"&$G$12):INDIRECT(\"mf3!A\"&$H$16),0),1)","v":{"$error":"#N/A"}},{"$f":"INDEX('mf3'!$A$5:$E$100,MATCH('mf1'!A41,'mf3'!$A$5:$A$100,0),5)","v":{"$error":"#N/A"}},0]
["Pharmaceuticals",{"$f":"SUMIF('mf1'!$B$5:$E$146,A39,'mf1'!$E$5:$E$146)","v":3.09},{"$f":"SUMIF('mf2'!$B$5:$E$146,A39,'mf2'!$E$5:$E$146)","v":2.83},{"$f":"SUMIF('mf3'!$B$5:$E$146,A39,'mf3'!$E$5:$E$146)","v":3.09},null,null,null,null,38,{"$f":"INDEX(INDIRECT(\"mf2!A\"&$G$11):INDIRECT(\"mf2!A\"&$H$15),MATCH('mf1'!A42,INDIRECT(\"mf2!A\"&$G$11):INDIRECT(\"mf2!A\"&$H$15),0),1)","v":{"$error":"#N/A"}},{"$f":"INDEX('mf2'!$A$5:$E$100,MATCH('mf1'!A42,'mf2'!$A$5:$A$100,0),5)","v":{"$error":"#N/A"}},0,null,null,null,null,null,{"$f":"INDEX(INDIRECT(\"mf3!A\"&$G$12):INDIRECT(\"mf3!A\"&$H$16),MATCH('mf2'!A42,INDIRECT(\"mf3!A\"&$G$12):INDIRECT(\"mf3!A\"&$H$16),0),1)","v":{"$error":"#N/A"}},{"$f":"INDEX('mf3'!$A$5:$E$100,MATCH('mf2'!A42,'mf3'!$A$5:$A$100,0),5)","v":{"$error":"#N/A"}},0,null,null,null,null,null,{"$f":"INDEX(INDIRECT(\"mf3!A\"&$G$12):INDIRECT(\"mf3!A\"&$H$16),MATCH('mf1'!A42,INDIRECT(\"mf3!A\"&$G$12):INDIRECT(\"mf3!A\"&$H$16),0),1)","v":{"$error":"#N/A"}},{"$f":"INDEX('mf3'!$A$5:$E$100,MATCH('mf1'!A42,'mf3'!$A$5:$A$100,0),5)","v":{"$error":"#N/A"}},0]
["Services",{"$f":"SUMIF('mf1'!$B$5:$E$146,A40,'mf1'!$E$5:$E$146)","v":5.9700000000000006},{"$f":"SUMIF('mf2'!$B$5:$E$146,A40,'mf2'!$E$5:$E$146)","v":5.77},{"$f":"SUMIF('mf3'!$B$5:$E$146,A40,'mf3'!$E$5:$E$146)","v":5.9700000000000006},null,null,null,null,39,{"$f":"INDEX(INDIRECT(\"mf2!A\"&$G$11):INDIRECT(\"mf2!A\"&$H$15),MATCH('mf1'!A43,INDIRECT(\"mf2!A\"&$G$11):INDIRECT(\"mf2!A\"&$H$15),0),1)","v":{"$error":"#N/A"}},{"$f":"INDEX('mf2'!$A$5:$E$100,MATCH('mf1'!A43,'mf2'!$A$5:$A$100,0),5)","v":{"$error":"#N/A"}},0,null,null,null,null,null,{"$f":"INDEX(INDIRECT(\"mf3!A\"&$G$12):INDIRECT(\"mf3!A\"&$H$16),MATCH('mf2'!A43,INDIRECT(\"mf3!A\"&$G$12):INDIRECT(\"mf3!A\"&$H$16),0),1)","v":{"$error":"#N/A"}},{"$f":"INDEX('mf3'!$A$5:$E$100,MATCH('mf2'!A43,'mf3'!$A$5:$A$100,0),5)","v":{"$error":"#N/A"}},0,null,null,null,null,null,{"$f":"INDEX(INDIRECT(\"mf3!A\"&$G$12):INDIRECT(\"mf3!A\"&$H$16),MATCH('mf1'!A43,INDIRECT(\"mf3!A\"&$G$12):INDIRECT(\"mf3!A\"&$H$16),0),1)","v":{"$error":"#N/A"}},{"$f":"INDEX('mf3'!$A$5:$E$100,MATCH('mf1'!A43,'mf3'!$A$5:$A$100,0),5)","v":{"$error":"#N/A"}},0]
["Telecommunication",{"$f":"SUMIF('mf1'!$B$5:$E$146,A41,'mf1'!$E$5:$E$146)","v":2.29},{"$f":"SUMIF('mf2'!$B$5:$E$146,A41,'mf2'!$E$5:$E$146)","v":2.2999999999999998},{"$f":"SUMIF('mf3'!$B$5:$E$146,A41,'mf3'!$E$5:$E$146)","v":2.29},null,null,null,null,40,{"$f":"INDEX(INDIRECT(\"mf2!A\"&$G$11):INDIRECT(\"mf2!A\"&$H$15),MATCH('mf1'!A44,INDIRECT(\"mf2!A\"&$G$11):INDIRECT(\"mf2!A\"&$H$15),0),1)","v":{"$error":"#N/A"}},{"$f":"INDEX('mf2'!$A$5:$E$100,MATCH('mf1'!A44,'mf2'!$A$5:$A$100,0),5)","v":{"$error":"#N/A"}},0,null,null,null,null,null,{"$f":"INDEX(INDIRECT(\"mf3!A\"&$G$12):INDIRECT(\"mf3!A\"&$H$16),MATCH('mf2'!A44,INDIRECT(\"mf3!A\"&$G$12):INDIRECT(\"mf3!A\"&$H$16),0),1)","v":{"$error":"#N/A"}},{"$f":"INDEX('mf3'!$A$5:$E$100,MATCH('mf2'!A44,'mf3'!$A$5:$A$100,0),5)","v":{"$error":"#N/A"}},0,null,null,null,null,null,{"$f":"INDEX(INDIRECT(\"mf3!A\"&$G$12):INDIRECT(\"mf3!A\"&$H$16),MATCH('mf1'!A44,INDIRECT(\"mf3!A\"&$G$12):INDIRECT(\"mf3!A\"&$H$16),0),1)","v":{"$error":"#N/A"}},{"$f":"INDEX('mf3'!$A$5:$E$100,MATCH('mf1'!A44,'mf3'!$A$5:$A$100,0),5)","v":{"$error":"#N/A"}},0]
["Utilities",{"$f":"SUMIF('mf1'!$B$5:$E$146,A42,'mf1'!$E$5:$E$146)","v":7.17},{"$f":"SUMIF('mf2'!$B$5:$E$146,A42,'mf2'!$E$5:$E$146)","v":6.88},{"$f":"SUMIF('mf3'!$B$5:$E$146,A42,'mf3'!$E$5:$E$146)","v":7.17},null,null,null,null,41,{"$f":"INDEX(INDIRECT(\"mf2!A\"&$G$11):INDIRECT(\"mf2!A\"&$H$15),MATCH('mf1'!A45,INDIRECT(\"mf2!A\"&$G$11):INDIRECT(\"mf2!A\"&$H$15),0),1)","v":{"$error":"#N/A"}},{"$f":"INDEX('mf2'!$A$5:$E$100,MATCH('mf1'!A45,'mf2'!$A$5:$A$100,0),5)","v":{"$error":"#N/A"}},0,null,null,null,null,null,{"$f":"INDEX(INDIRECT(\"mf3!A\"&$G$12):INDIRECT(\"mf3!A\"&$H$16),MATCH('mf2'!A45,INDIRECT(\"mf3!A\"&$G$12):INDIRECT(\"mf3!A\"&$H$16),0),1)","v":{"$error":"#N/A"}},{"$f":"INDEX('mf3'!$A$5:$E$100,MATCH('mf2'!A45,'mf3'!$A$5:$A$100,0),5)","v":{"$error":"#N/A"}},0,null,null,null,null,null,{"$f":"INDEX(INDIRECT(\"mf3!A\"&$G$12):INDIRECT(\"mf3!A\"&$H$16),MATCH('mf1'!A45,INDIRECT(\"mf3!A\"&$G$12):INDIRECT(\"mf3!A\"&$H$16),0),1)","v":{"$error":"#N/A"}},{"$f":"INDEX('mf3'!$A$5:$E$100,MATCH('mf1'!A45,'mf3'!$A$5:$A$100,0),5)","v":{"$error":"#N/A"}},0]
[null,{"$f":"SUMIF('mf1'!$B$5:$E$146,A43,'mf1'!$E$5:$E$146)","v":0},{"$f":"SUMIF('mf2'!$B$5:$E$146,A43,'mf2'!$E$5:$E$146)","v":0},{"$f":"SUMIF('mf3'!$B$5:$E$146,A43,'mf3'!$E$5:$E$146)","v":0},null,null,null,null,42,{"$f":"INDEX(INDIRECT(\"mf2!A\"&$G$11):INDIRECT(\"mf2!A\"&$H$15),MATCH('mf1'!A46,INDIRECT(\"mf2!A\"&$G$11):INDIRECT(\"mf2!A\"&$H$15),0),1)","v":{"$error":"#N/A"}},{"$f":"INDEX('mf2'!$A$5:$E$100,MATCH('mf1'!A46,'mf2'!$A$5:$A$100,0),5)","v":{"$error":"#N/A"}},0,null,null,null,null,null,{"$f":"INDEX(INDIRECT(\"mf3!A\"&$G$12):INDIRECT(\"mf3!A\"&$H$16),MATCH('mf2'!A46,INDIRECT(\"mf3!A\"&$G$12):INDIRECT(\"mf3!A\"&$H$16),0),1)","v":{"$error":"#N/A"}},{"$f":"INDEX('mf3'!$A$5:$E$100,MATCH('mf2'!A46,'mf3'!$A$5:$A$100,0),5)","v":{"$error":"#N/A"}},0,null,null,null,null,null,{"$f":"INDEX(INDIRECT(\"mf3!A\"&$G$12):INDIRECT(\"mf3!A\"&$H$16),MATCH('mf1'!A46,INDIRECT(\"mf3!A\"&$G$12):INDIRECT(\"mf3!A\"&$H$16),0),1)","v":{"$error":"#N/A"}},{"$f":"INDEX('mf3'!$A$5:$E$100,MATCH('mf1'!A46,'mf3'!$A$5:$A$100,0),5)","v":{"$error":"#N/A"}},0]
[null,{"$f":"SUMIF('mf1'!$B$5:$E$146,A44,'mf1'!$E$5:$E$146)","v":0},{"$f":"SUMIF('mf2'!$B$5:$E$146,A44,'mf2'!$E$5:$E$146)","v":0},{"$f":"SUMIF('mf3'!$B$5:$E$146,A44,'mf3'!$E$5:$E$146)","v":0},null,null,null,null,43,{"$f":"INDEX(INDIRECT(\"mf2!A\"&$G$11):INDIRECT(\"mf2!A\"&$H$15),MATCH('mf1'!A47,INDIRECT(\"mf2!A\"&$G$11):INDIRECT(\"mf2!A\"&$H$15),0),1)","v":{"$error":"#N/A"}},{"$f":"INDEX('mf2'!$A$5:$E$100,MATCH('mf1'!A47,'mf2'!$A$5:$A$100,0),5)","v":{"$error":"#N/A"}},0,null,null,null,null,null,{"$f":"INDEX(INDIRECT(\"mf3!A\"&$G$12):INDIRECT(\"mf3!A\"&$H$16),MATCH('mf2'!A47,INDIRECT(\"mf3!A\"&$G$12):INDIRECT(\"mf3!A\"&$H$16),0),1)","v":{"$error":"#N/A"}},{"$f":"INDEX('mf3'!$A$5:$E$100,MATCH('mf2'!A47,'mf3'!$A$5:$A$100,0),5)","v":{"$error":"#N/A"}},0,null,null,null,null,null,{"$f":"INDEX(INDIRECT(\"mf3!A\"&$G$12):INDIRECT(\"mf3!A\"&$H$16),MATCH('mf1'!A47,INDIRECT(\"mf3!A\"&$G$12):INDIRECT(\"mf3!A\"&$H$16),0),1)","v":{"$error":"#N/A"}},{"$f":"INDEX('mf3'!$A$5:$E$100,MATCH('mf1'!A47,'mf3'!$A$5:$A$100,0),5)","v":{"$error":"#N/A"}},0]
[null,{"$f":"SUMIF('mf1'!$B$5:$E$146,A45,'mf1'!$E$5:$E$146)","v":0},{"$f":"SUMIF('mf2'!$B$5:$E$146,A45,'mf2'!$E$5:$E$146)","v":0},{"$f":"SUMIF('mf3'!$B$5:$E$146,A45,'mf3'!$E$5:$E$146)","v":0},null,null,null,null,44,{"$f":"INDEX(INDIRECT(\"mf2!A\"&$G$11):INDIRECT(\"mf2!A\"&$H$15),MATCH('mf1'!A48,INDIRECT(\"mf2!A\"&$G$11):INDIRECT(\"mf2!A\"&$H$15),0),1)","v":{"$error":"#N/A"}},{"$f":"INDEX('mf2'!$A$5:$E$100,MATCH('mf1'!A48,'mf2'!$A$5:$A$100,0),5)","v":{"$error":"#N/A"}},0,null,null,null,null,null,{"$f":"INDEX(INDIRECT(\"mf3!A\"&$G$12):INDIRECT(\"mf3!A\"&$H$16),MATCH('mf2'!A48,INDIRECT(\"mf3!A\"&$G$12):INDIRECT(\"mf3!A\"&$H$16),0),1)","v":{"$error":"#N/A"}},{"$f":"INDEX('mf3'!$A$5:$E$100,MATCH('mf2'!A48,'mf3'!$A$5:$A$100,0),5)","v":{"$error":"#N/A"}},0,null,null,null,null,null,{"$f":"INDEX(INDIRECT(\"mf3!A\"&$G$12):INDIRECT(\"mf3!A\"&$H$16),MATCH('mf1'!A48,INDIRECT(\"mf3!A\"&$G$12):INDIRECT(\"mf3!A\"&$H$16),0),1)","v":{"$error":"#N/A"}},{"$f":"INDEX('mf3'!$A$5:$E$100,MATCH('mf1'!A48,'mf3'!$A$5:$A$100,0),5)","v":{"$error":"#N/A"}},0]
[null,{"$f":"SUMIF('mf1'!$B$5:$E$146,A46,'mf1'!$E$5:$E$146)","v":0},{"$f":"SUMIF('mf2'!$B$5:$E$146,A46,'mf2'!$E$5:$E$146)","v":0},{"$f":"SUMIF('mf3'!$B$5:$E$146,A46,'mf3'!$E$5:$E$146)","v":0},null,null,null,null,45,{"$f":"INDEX(INDIRECT(\"mf2!A\"&$G$11):INDIRECT(\"mf2!A\"&$H$15),MATCH('mf1'!A49,INDIRECT(\"mf2!A\"&$G$11):INDIRECT(\"mf2!A\"&$H$15),0),1)","v":{"$error":"#N/A"}},{"$f":"INDEX('mf2'!$A$5:$E$100,MATCH('mf1'!A49,'mf2'!$A$5:$A$100,0),5)","v":{"$error":"#N/A"}},0,null,null,null,null,null,{"$f":"INDEX(INDIRECT(\"mf3!A\"&$G$12):INDIRECT(\"mf3!A\"&$H$16),MATCH('mf2'!A49,INDIRECT(\"mf3!A\"&$G$12):INDIRECT(\"mf3!A\"&$H$16),0),1)","v":{"$error":"#N/A"}},{"$f":"INDEX('mf3'!$A$5:$E$100,MATCH('mf2'!A49,'mf3'!$A$5:$A$100,0),5)","v":{"$error":"#N/A"}},0,null,null,null,null,null,{"$f":"INDEX(INDIRECT(\"mf3!A\"&$G$12):INDIRECT(\"mf3!A\"&$H$16),MATCH('mf1'!A49,INDIRECT(\"mf3!A\"&$G$12):INDIRECT(\"mf3!A\"&$H$16),0),1)","v":{"$error":"#N/A"}},{"$f":"INDEX('mf3'!$A$5:$E$100,MATCH('mf1'!A49,'mf3'!$A$5:$A$100,0),5)","v":{"$error":"#N/A"}},0]
[null,{"$f":"SUMIF('mf1'!$B$5:$E$146,A47,'mf1'!$E$5:$E$146)","v":0},{"$f":"SUMIF('mf2'!$B$5:$E$146,A47,'mf2'!$E$5:$E$146)","v":0},{"$f":"SUMIF('mf3'!$B$5:$E$146,A47,'mf3'!$E$5:$E$146)","v":0},null,null,null,null,46,{"$f":"INDEX(INDIRECT(\"mf2!A\"&$G$11):INDIRECT(\"mf2!A\"&$H$15),MATCH('mf1'!A50,INDIRECT(\"mf2!A\"&$G$11):INDIRECT(\"mf2!A\"&$H$15),0),1)","v":{"$error":"#N/A"}},{"$f":"INDEX('mf2'!$A$5:$E$100,MATCH('mf1'!A50,'mf2'!$A$5:$A$100,0),5)","v":{"$error":"#N/A"}},0,null,null,null,null,null,{"$f":"INDEX(INDIRECT(\"mf3!A\"&$G$12):INDIRECT(\"mf3!A\"&$H$16),MATCH('mf2'!A50,INDIRECT(\"mf3!A\"&$G$12):INDIRECT(\"mf3!A\"&$H$16),0),1)","v":{"$error":"#N/A"}},{"$f":"INDEX('mf3'!$A$5:$E$100,MATCH('mf2'!A50,'mf3'!$A$5:$A$100,0),5)","v":{"$error":"#N/A"}},0,null,null,null,null,null,{"$f":"INDEX(INDIRECT(\"mf3!A\"&$G$12):INDIRECT(\"mf3!A\"&$H$16),MATCH('mf1'!A50,INDIRECT(\"mf3!A\"&$G$12):INDIRECT(\"mf3!A\"&$H$16),0),1)","v":{"$error":"#N/A"}},{"$f":"INDEX('mf3'!$A$5:$E$100,MATCH('mf1'!A50,'mf3'!$A$5:$A$100,0),5)","v":{"$error":"#N/A"}},0]
[null,{"$f":"SUMIF('mf1'!$B$5:$E$146,A48,'mf1'!$E$5:$E$146)","v":0},{"$f":"SUMIF('mf2'!$B$5:$E$146,A48,'mf2'!$E$5:$E$146)","v":0},{"$f":"SUMIF('mf3'!$B$5:$E$146,A48,'mf3'!$E$5:$E$146)","v":0},null,null,null,null,47,{"$f":"INDEX(INDIRECT(\"mf2!A\"&$G$11):INDIRECT(\"mf2!A\"&$H$15),MATCH('mf1'!A51,INDIRECT(\"mf2!A\"&$G$11):INDIRECT(\"mf2!A\"&$H$15),0),1)","v":{"$error":"#N/A"}},{"$f":"INDEX('mf2'!$A$5:$E$100,MATCH('mf1'!A51,'mf2'!$A$5:$A$100,0),5)","v":{"$error":"#N/A"}},0,null,null,null,null,null,{"$f":"INDEX(INDIRECT(\"mf3!A\"&$G$12):INDIRECT(\"mf3!A\"&$H$16),MATCH('mf2'!A51,INDIRECT(\"mf3!A\"&$G$12):INDIRECT(\"mf3!A\"&$H$16),0),1)","v":{"$error":"#N/A"}},{"$f":"INDEX('mf3'!$A$5:$E$100,MATCH('mf2'!A51,'mf3'!$A$5:$A$100,0),5)","v":{"$error":"#N/A"}},0,null,null,null,null,null,{"$f":"INDEX(INDIRECT(\"mf3!A\"&$G$12):INDIRECT(\"mf3!A\"&$H$16),MATCH('mf1'!A51,INDIRECT(\"mf3!A\"&$G$12):INDIRECT(\"mf3!A\"&$H$16),0),1)","v":{"$error":"#N/A"}},{"$f":"INDEX('mf3'!$A$5:$E$100,MATCH('mf1'!A51,'mf3'!$A$5:$A$100,0),5)","v":{"$error":"#N/A"}},0]
[null,{"$f":"SUMIF('mf1'!$B$5:$E$146,A49,'mf1'!$E$5:$E$146)","v":0},{"$f":"SUMIF('mf2'!$B$5:$E$146,A49,'mf2'!$E$5:$E$146)","v":0},{"$f":"SUMIF('mf3'!$B$5:$E$146,A49,'mf3'!$E$5:$E$146)","v":0},null,null,null,null,48,{"$f":"INDEX(INDIRECT(\"mf2!A\"&$G$11):INDIRECT(\"mf2!A\"&$H$15),MATCH('mf1'!A52,INDIRECT(\"mf2!A\"&$G$11):INDIRECT(\"mf2!A\"&$H$15),0),1)","v":{"$error":"#N/A"}},{"$f":"INDEX('mf2'!$A$5:$E$100,MATCH('mf1'!A52,'mf2'!$A$5:$A$100,0),5)","v":{"$error":"#N/A"}},0,null,null,null,null,null,{"$f":"INDEX(INDIRECT(\"mf3!A\"&$G$12):INDIRECT(\"mf3!A\"&$H$16),MATCH('mf2'!A52,INDIRECT(\"mf3!A\"&$G$12):INDIRECT(\"mf3!A\"&$H$16),0),1)","v":{"$error":"#N/A"}},{"$f":"INDEX('mf3'!$A$5:$E$100,MATCH('mf2'!A52,'mf3'!$A$5:$A$100,0),5)","v":{"$error":"#N/A"}},0,null,null,null,null,null,{"$f":"INDEX(INDIRECT(\"mf3!A\"&$G$12):INDIRECT(\"mf3!A\"&$H$16),MATCH('mf1'!A52,INDIRECT(\"mf3!A\"&$G$12):INDIRECT(\"mf3!A\"&$H$16),0),1)","v":{"$error":"#N/A"}},{"$f":"INDEX('mf3'!$A$5:$E$100,MATCH('mf1'!A52,'mf3'!$A$5:$A$100,0),5)","v":{"$error":"#N/A"}},0]
[null,{"$f":"SUMIF('mf1'!$B$5:$E$146,A50,'mf1'!$E$5:$E$146)","v":0},{"$f":"SUMIF('mf2'!$B$5:$E$146,A50,'mf2'!$E$5:$E$146)","v":0},{"$f":"SUMIF('mf3'!$B$5:$E$146,A50,'mf3'!$E$5:$E$146)","v":0},null,null,null,null,49,{"$f":"INDEX(INDIRECT(\"mf2!A\"&$G$11):INDIRECT(\"mf2!A\"&$H$15),MATCH('mf1'!A53,INDIRECT(\"mf2!A\"&$G$11):INDIRECT(\"mf2!A\"&$H$15),0),1)","v":{"$error":"#N/A"}},{"$f":"INDEX('mf2'!$A$5:$E$100,MATCH('mf1'!A53,'mf2'!$A$5:$A$100,0),5)","v":{"$error":"#N/A"}},0,null,null,null,null,null,{"$f":"INDEX(INDIRECT(\"mf3!A\"&$G$12):INDIRECT(\"mf3!A\"&$H$16),MATCH('mf2'!A53,INDIRECT(\"mf3!A\"&$G$12):INDIRECT(\"mf3!A\"&$H$16),0),1)","v":{"$error":"#N/A"}},{"$f":"INDEX('mf3'!$A$5:$E$100,MATCH('mf2'!A53,'mf3'!$A$5:$A$100,0),5)","v":{"$error":"#N/A"}},0,null,null,null,null,null,{"$f":"INDEX(INDIRECT(\"mf3!A\"&$G$12):INDIRECT(\"mf3!A\"&$H$16),MATCH('mf1'!A53,INDIRECT(\"mf3!A\"&$G$12):INDIRECT(\"mf3!A\"&$H$16),0),1)","v":{"$error":"#N/A"}},{"$f":"INDEX('mf3'!$A$5:$E$100,MATCH('mf1'!A53,'mf3'!$A$5:$A$100,0),5)","v":{"$error":"#N/A"}},0]
[null,{"$f":"SUMIF('mf1'!$B$5:$E$146,A51,'mf1'!$E$5:$E$146)","v":0},{"$f":"SUMIF('mf2'!$B$5:$E$146,A51,'mf2'!$E$5:$E$146)","v":0},{"$f":"SUMIF('mf3'!$B$5:$E$146,A51,'mf3'!$E$5:$E$146)","v":0},null,null,null,null,50,{"$f":"INDEX(INDIRECT(\"mf2!A\"&$G$11):INDIRECT(\"mf2!A\"&$H$15),MATCH('mf1'!A54,INDIRECT(\"mf2!A\"&$G$11):INDIRECT(\"mf2!A\"&$H$15),0),1)","v":{"$error":"#N/A"}},{"$f":"INDEX('mf2'!$A$5:$E$100,MATCH('mf1'!A54,'mf2'!$A$5:$A$100,0),5)","v":{"$error":"#N/A"}},0,null,null,null,null,null,{"$f":"INDEX(INDIRECT(\"mf3!A\"&$G$12):INDIRECT(\"mf3!A\"&$H$16),MATCH('mf2'!A54,INDIRECT(\"mf3!A\"&$G$12):INDIRECT(\"mf3!A\"&$H$16),0),1)","v":{"$error":"#N/A"}},{"$f":"INDEX('mf3'!$A$5:$E$100,MATCH('mf2'!A54,'mf3'!$A$5:$A$100,0),5)","v":{"$error":"#N/A"}},0,null,null,null,null,null,{"$f":"INDEX(INDIRECT(\"mf3!A\"&$G$12):INDIRECT(\"mf3!A\"&$H$16),MATCH('mf1'!A54,INDIRECT(\"mf3!A\"&$G$12):INDIRECT(\"mf3!A\"&$H$16),0),1)","v":{"$error":"#N/A"}},{"$f":"INDEX('mf3'!$A$5:$E$100,MATCH('mf1'!A54,'mf3'!$A$5:$A$100,0),5)","v":{"$error":"#N/A"}},0]
[null,{"$f":"SUMIF('mf1'!$B$5:$E$146,A52,'mf1'!$E$5:$E$146)","v":0},{"$f":"SUMIF('mf2'!$B$5:$E$146,A52,'mf2'!$E$5:$E$146)","v":0},{"$f":"SUMIF('mf3'!$B$5:$E$146,A52,'mf3'!$E$5:$E$146)","v":0},null,null,null,null,51,{"$f":"INDEX(INDIRECT(\"mf2!A\"&$G$11):INDIRECT(\"mf2!A\"&$H$15),MATCH('mf1'!A55,INDIRECT(\"mf2!A\"&$G$11):INDIRECT(\"mf2!A\"&$H$15),0),1)","v":{"$error":"#N/A"}},{"$f":"INDEX('mf2'!$A$5:$E$100,MATCH('mf1'!A55,'mf2'!$A$5:$A$100,0),5)","v":{"$error":"#N/A"}},0,null,null,null,null,null,{"$f":"INDEX(INDIRECT(\"mf3!A\"&$G$12):INDIRECT(\"mf3!A\"&$H$16),MATCH('mf2'!A55,INDIRECT(\"mf3!A\"&$G$12):INDIRECT(\"mf3!A\"&$H$16),0),1)","v":{"$error":"#N/A"}},{"$f":"INDEX('mf3'!$A$5:$E$100,MATCH('mf2'!A55,'mf3'!$A$5:$A$100,0),5)","v":{"$error":"#N/A"}},0,null,null,null,null,null,{"$f":"INDEX(INDIRECT(\"mf3!A\"&$G$12):INDIRECT(\"mf3!A\"&$H$16),MATCH('mf1'!A55,INDIRECT(\"mf3!A\"&$G$12):INDIRECT(\"mf3!A\"&$H$16),0),1)","v":{"$error":"#N/A"}},{"$f":"INDEX('mf3'!$A$5:$E$100,MATCH('mf1'!A55,'mf3'!$A$5:$A$100,0),5)","v":{"$error":"#N/A"}},0]
[null,null,null,null,null,null,null,null,52,{"$f":"INDEX(INDIRECT(\"mf2!A\"&$G$11):INDIRECT(\"mf2!A\"&$H$15),MATCH('mf1'!A56,INDIRECT(\"mf2!A\"&$G$11):INDIRECT(\"mf2!A\"&$H$15),0),1)","v":{"$error":"#N/A"}},{"$f":"INDEX('mf2'!$A$5:$E$100,MATCH('mf1'!A56,'mf2'!$A$5:$A$100,0),5)","v":{"$error":"#N/A"}},0,null,null,null,null,null,{"$f":"INDEX(INDIRECT(\"mf3!A\"&$G$12):INDIRECT(\"mf3!A\"&$H$16),MATCH('mf2'!A56,INDIRECT(\"mf3!A\"&$G$12):INDIRECT(\"mf3!A\"&$H$16),0),1)","v":{"$error":"#N/A"}},{"$f":"INDEX('mf3'!$A$5:$E$100,MATCH('mf2'!A56,'mf3'!$A$5:$A$100,0),5)","v":{"$error":"#N/A"}},0,null,null,null,null,null,{"$f":"INDEX(INDIRECT(\"mf3!A\"&$G$12):INDIRECT(\"mf3!A\"&$H$16),MATCH('mf1'!A56,INDIRECT(\"mf3!A\"&$G$12):INDIRECT(\"mf3!A\"&$H$16),0),1)","v":{"$error":"#N/A"}},{"$f":"INDEX('mf3'!$A$5:$E$100,MATCH('mf1'!A56,'mf3'!$A$5:$A$100,0),5)","v":{"$error":"#N/A"}},0]
[null,null,null,null,null,null,null,null,53,{"$f":"INDEX(INDIRECT(\"mf2!A\"&$G$11):INDIRECT(\"mf2!A\"&$H$15),MATCH('mf1'!A57,INDIRECT(\"mf2!A\"&$G$11):INDIRECT(\"mf2!A\"&$H$15),0),1)","v":{"$error":"#N/A"}},{"$f":"INDEX('mf2'!$A$5:$E$100,MATCH('mf1'!A57,'mf2'!$A$5:$A$100,0),5)","v":{"$error":"#N/A"}},0,null,null,null,null,null,{"$f":"INDEX(INDIRECT(\"mf3!A\"&$G$12):INDIRECT(\"mf3!A\"&$H$16),MATCH('mf2'!A57,INDIRECT(\"mf3!A\"&$G$12):INDIRECT(\"mf3!A\"&$H$16),0),1)","v":{"$error":"#N/A"}},{"$f":"INDEX('mf3'!$A$5:$E$100,MATCH('mf2'!A57,'mf3'!$A$5:$A$100,0),5)","v":{"$error":"#N/A"}},0,null,null,null,null,null,{"$f":"INDEX(INDIRECT(\"mf3!A\"&$G$12):INDIRECT(\"mf3!A\"&$H$16),MATCH('mf1'!A57,INDIRECT(\"mf3!A\"&$G$12):INDIRECT(\"mf3!A\"&$H$16),0),1)","v":{"$error":"#N/A"}},{"$f":"INDEX('mf3'!$A$5:$E$100,MATCH('mf1'!A57,'mf3'!$A$5:$A$100,0),5)","v":{"$error":"#N/A"}},0]
[null,null,null,null,null,null,null,null,54,{"$f":"INDEX(INDIRECT(\"mf2!A\"&$G$11):INDIRECT(\"mf2!A\"&$H$15),MATCH('mf1'!A58,INDIRECT(\"mf2!A\"&$G$11):INDIRECT(\"mf2!A\"&$H$15),0),1)","v":{"$error":"#N/A"}},{"$f":"INDEX('mf2'!$A$5:$E$100,MATCH('mf1'!A58,'mf2'!$A$5:$A$100,0),5)","v":{"$error":"#N/A"}},0,null,null,null,null,null,{"$f":"INDEX(INDIRECT(\"mf3!A\"&$G$12):INDIRECT(\"mf3!A\"&$H$16),MATCH('mf2'!A58,INDIRECT(\"mf3!A\"&$G$12):INDIRECT(\"mf3!A\"&$H$16),0),1)","v":{"$error":"#N/A"}},{"$f":"INDEX('mf3'!$A$5:$E$100,MATCH('mf2'!A58,'mf3'!$A$5:$A$100,0),5)","v":{"$error":"#N/A"}},0,null,null,null,null,null,{"$f":"INDEX(INDIRECT(\"mf3!A\"&$G$12):INDIRECT(\"mf3!A\"&$H$16),MATCH('mf1'!A58,INDIRECT(\"mf3!A\"&$G$12):INDIRECT(\"mf3!A\"&$H$16),0),1)","v":{"$error":"#N/A"}},{"$f":"INDEX('mf3'!$A$5:$E$100,MATCH('mf1'!A58,'mf3'!$A$5:$A$100,0),5)","v":{"$error":"#N/A"}},0]
[null,null,null,null,null,null,null,null,55,{"$f":"INDEX(INDIRECT(\"mf2!A\"&$G$11):INDIRECT(\"mf2!A\"&$H$15),MATCH('mf1'!A59,INDIRECT(\"mf2!A\"&$G$11):INDIRECT(\"mf2!A\"&$H$15),0),1)","v":{"$error":"#N/A"}},{"$f":"INDEX('mf2'!$A$5:$E$100,MATCH('mf1'!A59,'mf2'!$A$5:$A$100,0),5)","v":{"$error":"#N/A"}},0,null,null,null,null,null,{"$f":"INDEX(INDIRECT(\"mf3!A\"&$G$12):INDIRECT(\"mf3!A\"&$H$16),MATCH('mf2'!A59,INDIRECT(\"mf3!A\"&$G$12):INDIRECT(\"mf3!A\"&$H$16),0),1)","v":{"$error":"#N/A"}},{"$f":"INDEX('mf3'!$A$5:$E$100,MATCH('mf2'!A59,'mf3'!$A$5:$A$100,0),5)","v":{"$error":"#N/A"}},0,null,null,null,null,null,{"$f":"INDEX(INDIRECT(\"mf3!A\"&$G$12):INDIRECT(\"mf3!A\"&$H$16),MATCH('mf1'!A59,INDIRECT(\"mf3!A\"&$G$12):INDIRECT(\"mf3!A\"&$H$16),0),1)","v":{"$error":"#N/A"}},{"$f":"INDEX('mf3'!$A$5:$E$100,MATCH('mf1'!A59,'mf3'!$A$5:$A$100,0),5)","v":{"$error":"#N/A"}},0]
[null,null,null,null,null,null,null,null,56,{"$f":"INDEX(INDIRECT(\"mf2!A\"&$G$11):INDIRECT(\"mf2!A\"&$H$15),MATCH('mf1'!A60,INDIRECT(\"mf2!A\"&$G$11):INDIRECT(\"mf2!A\"&$H$15),0),1)","v":{"$error":"#N/A"}},{"$f":"INDEX('mf2'!$A$5:$E$100,MATCH('mf1'!A60,'mf2'!$A$5:$A$100,0),5)","v":{"$error":"#N/A"}},0,null,null,null,null,null,{"$f":"INDEX(INDIRECT(\"mf3!A\"&$G$12):INDIRECT(\"mf3!A\"&$H$16),MATCH('mf2'!A60,INDIRECT(\"mf3!A\"&$G$12):INDIRECT(\"mf3!A\"&$H$16),0),1)","v":{"$error":"#N/A"}},{"$f":"INDEX('mf3'!$A$5:$E$100,MATCH('mf2'!A60,'mf3'!$A$5:$A$100,0),5)","v":{"$error":"#N/A"}},0,null,null,null,null,null,{"$f":"INDEX(INDIRECT(\"mf3!A\"&$G$12):INDIRECT(\"mf3!A\"&$H$16),MATCH('mf1'!A60,INDIRECT(\"mf3!A\"&$G$12):INDIRECT(\"mf3!A\"&$H$16),0),1)","v":{"$error":"#N/A"}},{"$f":"INDEX('mf3'!$A$5:$E$100,MATCH('mf1'!A60,'mf3'!$A$5:$A$100,0),5)","v":{"$error":"#N/A"}},0]
[null,null,null,null,null,null,null,null,57,{"$f":"INDEX(INDIRECT(\"mf2!A\"&$G$11):INDIRECT(\"mf2!A\"&$H$15),MATCH('mf1'!A61,INDIRECT(\"mf2!A\"&$G$11):INDIRECT(\"mf2!A\"&$H$15),0),1)","v":{"$error":"#N/A"}},{"$f":"INDEX('mf2'!$A$5:$E$100,MATCH('mf1'!A61,'mf2'!$A$5:$A$100,0),5)","v":{"$error":"#N/A"}},0,null,null,null,null,null,{"$f":"INDEX(INDIRECT(\"mf3!A\"&$G$12):INDIRECT(\"mf3!A\"&$H$16),MATCH('mf2'!A61,INDIRECT(\"mf3!A\"&$G$12):INDIRECT(\"mf3!A\"&$H$16),0),1)","v":{"$error":"#N/A"}},{"$f":"INDEX('mf3'!$A$5:$E$100,MATCH('mf2'!A61,'mf3'!$A$5:$A$100,0),5)","v":{"$error":"#N/A"}},0,null,null,null,null,null,{"$f":"INDEX(INDIRECT(\"mf3!A\"&$G$12):INDIRECT(\"mf3!A\"&$H$16),MATCH('mf1'!A61,INDIRECT(\"mf3!A\"&$G$12):INDIRECT(\"mf3!A\"&$H$16),0),1)","v":{"$error":"#N/A"}},{"$f":"INDEX('mf3'!$A$5:$E$100,MATCH('mf1'!A61,'mf3'!$A$5:$A$100,0),5)","v":{"$error":"#N/A"}},0]
[null,null,null,null,null,null,null,null,58,{"$f":"INDEX(INDIRECT(\"mf2!A\"&$G$11):INDIRECT(\"mf2!A\"&$H$15),MATCH('mf1'!A62,INDIRECT(\"mf2!A\"&$G$11):INDIRECT(\"mf2!A\"&$H$15),0),1)","v":{"$error":"#N/A"}},{"$f":"INDEX('mf2'!$A$5:$E$100,MATCH('mf1'!A62,'mf2'!$A$5:$A$100,0),5)","v":{"$error":"#N/A"}},0,null,null,null,null,null,{"$f":"INDEX(INDIRECT(\"mf3!A\"&$G$12):INDIRECT(\"mf3!A\"&$H$16),MATCH('mf2'!A62,INDIRECT(\"mf3!A\"&$G$12):INDIRECT(\"mf3!A\"&$H$16),0),1)","v":{"$error":"#N/A"}},{"$f":"INDEX('mf3'!$A$5:$E$100,MATCH('mf2'!A62,'mf3'!$A$5:$A$100,0),5)","v":{"$error":"#N/A"}},0,null,null,null,null,null,{"$f":"INDEX(INDIRECT(\"mf3!A\"&$G$12):INDIRECT(\"mf3!A\"&$H$16),MATCH('mf1'!A62,INDIRECT(\"mf3!A\"&$G$12):INDIRECT(\"mf3!A\"&$H$16),0),1)","v":{"$error":"#N/A"}},{"$f":"INDEX('mf3'!$A$5:$E$100,MATCH('mf1'!A62,'mf3'!$A$5:$A$100,0),5)","v":{"$error":"#N/A"}},0]
[null,null,null,null,null,null,null,null,59,{"$f":"INDEX(INDIRECT(\"mf2!A\"&$G$11):INDIRECT(\"mf2!A\"&$H$15),MATCH('mf1'!A63,INDIRECT(\"mf2!A\"&$G$11):INDIRECT(\"mf2!A\"&$H$15),0),1)","v":{"$error":"#N/A"}},{"$f":"INDEX('mf2'!$A$5:$E$100,MATCH('mf1'!A63,'mf2'!$A$5:$A$100,0),5)","v":{"$error":"#N/A"}},0,null,null,null,null,null,{"$f":"INDEX(INDIRECT(\"mf3!A\"&$G$12):INDIRECT(\"mf3!A\"&$H$16),MATCH('mf2'!A63,INDIRECT(\"mf3!A\"&$G$12):INDIRECT(\"mf3!A\"&$H$16),0),1)","v":{"$error":"#N/A"}},{"$f":"INDEX('mf3'!$A$5:$E$100,MATCH('mf2'!A63,'mf3'!$A$5:$A$100,0),5)","v":{"$error":"#N/A"}},0,null,null,null,null,null,{"$f":"INDEX(INDIRECT(\"mf3!A\"&$G$12):INDIRECT(\"mf3!A\"&$H$16),MATCH('mf1'!A63,INDIRECT(\"mf3!A\"&$G$12):INDIRECT(\"mf3!A\"&$H$16),0),1)","v":{"$error":"#N/A"}},{"$f":"INDEX('mf3'!$A$5:$E$100,MATCH('mf1'!A63,'mf3'!$A$5:$A$100,0),5)","v":{"$error":"#N/A"}},0]
[null,null,null,null,null,null,null,null,60,{"$f":"INDEX(INDIRECT(\"mf2!A\"&$G$11):INDIRECT(\"mf2!A\"&$H$15),MATCH('mf1'!A64,INDIRECT(\"mf2!A\"&$G$11):INDIRECT(\"mf2!A\"&$H$15),0),1)","v":{"$error":"#N/A"}},{"$f":"INDEX('mf2'!$A$5:$E$100,MATCH('mf1'!A64,'mf2'!$A$5:$A$100,0),5)","v":{"$error":"#N/A"}},0,null,null,null,null,null,{"$f":"INDEX(INDIRECT(\"mf3!A\"&$G$12):INDIRECT(\"mf3!A\"&$H$16),MATCH('mf2'!A64,INDIRECT(\"mf3!A\"&$G$12):INDIRECT(\"mf3!A\"&$H$16),0),1)","v":{"$error":"#N/A"}},{"$f":"INDEX('mf3'!$A$5:$E$100,MATCH('mf2'!A64,'mf3'!$A$5:$A$100,0),5)","v":{"$error":"#N/A"}},0,null,null,null,null,null,{"$f":"INDEX(INDIRECT(\"mf3!A\"&$G$12):INDIRECT(\"mf3!A\"&$H$16),MATCH('mf1'!A64,INDIRECT(\"mf3!A\"&$G$12):INDIRECT(\"mf3!A\"&$H$16),0),1)","v":{"$error":"#N/A"}},{"$f":"INDEX('mf3'!$A$5:$E$100,MATCH('mf1'!A64,'mf3'!$A$5:$A$100,0),5)","v":{"$error":"#N/A"}},0]
[null,null,null,null,null,null,null,null,61,{"$f":"INDEX(INDIRECT(\"mf2!A\"&$G$11):INDIRECT(\"mf2!A\"&$H$15),MATCH('mf1'!A65,INDIRECT(\"mf2!A\"&$G$11):INDIRECT(\"mf2!A\"&$H$15),0),1)","v":{"$error":"#N/A"}},{"$f":"INDEX('mf2'!$A$5:$E$100,MATCH('mf1'!A65,'mf2'!$A$5:$A$100,0),5)","v":{"$error":"#N/A"}},0,null,null,null,null,null,{"$f":"INDEX(INDIRECT(\"mf3!A\"&$G$12):INDIRECT(\"mf3!A\"&$H$16),MATCH('mf2'!A65,INDIRECT(\"mf3!A\"&$G$12):INDIRECT(\"mf3!A\"&$H$16),0),1)","v":{"$error":"#N/A"}},{"$f":"INDEX('mf3'!$A$5:$E$100,MATCH('mf2'!A65,'mf3'!$A$5:$A$100,0),5)","v":{"$error":"#N/A"}},0,null,null,null,null,null,{"$f":"INDEX(INDIRECT(\"mf3!A\"&$G$12):INDIRECT(\"mf3!A\"&$H$16),MATCH('mf1'!A65,INDIRECT(\"mf3!A\"&$G$12):INDIRECT(\"mf3!A\"&$H$16),0),1)","v":{"$error":"#N/A"}},{"$f":"INDEX('mf3'!$A$5:$E$100,MATCH('mf1'!A65,'mf3'!$A$5:$A$100,0),5)","v":{"$error":"#N/A"}},0]
[null,null,null,null,null,null,null,null,62,{"$f":"INDEX(INDIRECT(\"mf2!A\"&$G$11):INDIRECT(\"mf2!A\"&$H$15),MATCH('mf1'!A66,INDIRECT(\"mf2!A\"&$G$11):INDIRECT(\"mf2!A\"&$H$15),0),1)","v":{"$error":"#N/A"}},{"$f":"INDEX('mf2'!$A$5:$E$100,MATCH('mf1'!A66,'mf2'!$A$5:$A$100,0),5)","v":{"$error":"#N/A"}},0,null,null,null,null,null,{"$f":"INDEX(INDIRECT(\"mf3!A\"&$G$12):INDIRECT(\"mf3!A\"&$H$16),MATCH('mf2'!A66,INDIRECT(\"mf3!A\"&$G$12):INDIRECT(\"mf3!A\"&$H$16),0),1)","v":{"$error":"#N/A"}},{"$f":"INDEX('mf3'!$A$5:$E$100,MATCH('mf2'!A66,'mf3'!$A$5:$A$100,0),5)","v":{"$error":"#N/A"}},0,null,null,null,null,null,{"$f":"INDEX(INDIRECT(\"mf3!A\"&$G$12):INDIRECT(\"mf3!A\"&$H$16),MATCH('mf1'!A66,INDIRECT(\"mf3!A\"&$G$12):INDIRECT(\"mf3!A\"&$H$16),0),1)","v":{"$error":"#N/A"}},{"$f":"INDEX('mf3'!$A$5:$E$100,MATCH('mf1'!A66,'mf3'!$A$5:$A$100,0),5)","v":{"$error":"#N/A"}},0]
[null,null,null,null,null,null,null,null,63,{"$f":"INDEX(INDIRECT(\"mf2!A\"&$G$11):INDIRECT(\"mf2!A\"&$H$15),MATCH('mf1'!A67,INDIRECT(\"mf2!A\"&$G$11):INDIRECT(\"mf2!A\"&$H$15),0),1)","v":{"$error":"#N/A"}},{"$f":"INDEX('mf2'!$A$5:$E$100,MATCH('mf1'!A67,'mf2'!$A$5:$A$100,0),5)","v":{"$error":"#N/A"}},0,null,null,null,null,null,{"$f":"INDEX(INDIRECT(\"mf3!A\"&$G$12):INDIRECT(\"mf3!A\"&$H$16),MATCH('mf2'!A67,INDIRECT(\"mf3!A\"&$G$12):INDIRECT(\"mf3!A\"&$H$16),0),1)","v":{"$error":"#N/A"}},{"$f":"INDEX('mf3'!$A$5:$E$100,MATCH('mf2'!A67,'mf3'!$A$5:$A$100,0),5)","v":{"$error":"#N/A"}},0,null,null,null,null,null,{"$f":"INDEX(INDIRECT(\"mf3!A\"&$G$12):INDIRECT(\"mf3!A\"&$H$16),MATCH('mf1'!A67,INDIRECT(\"mf3!A\"&$G$12):INDIRECT(\"mf3!A\"&$H$16),0),1)","v":{"$error":"#N/A"}},{"$f":"INDEX('mf3'!$A$5:$E$100,MATCH('mf1'!A67,'mf3'!$A$5:$A$100,0),5)","v":{"$error":"#N/A"}},0]
[null,null,null,null,null,null,null,null,64,{"$f":"INDEX(INDIRECT(\"mf2!A\"&$G$11):INDIRECT(\"mf2!A\"&$H$15),MATCH('mf1'!A68,INDIRECT(\"mf2!A\"&$G$11):INDIRECT(\"mf2!A\"&$H$15),0),1)","v":{"$error":"#N/A"}},{"$f":"INDEX('mf2'!$A$5:$E$100,MATCH('mf1'!A68,'mf2'!$A$5:$A$100,0),5)","v":{"$error":"#N/A"}},0,null,null,null,null,null,{"$f":"INDEX(INDIRECT(\"mf3!A\"&$G$12):INDIRECT(\"mf3!A\"&$H$16),MATCH('mf2'!A68,INDIRECT(\"mf3!A\"&$G$12):INDIRECT(\"mf3!A\"&$H$16),0),1)","v":{"$error":"#N/A"}},{"$f":"INDEX('mf3'!$A$5:$E$100,MATCH('mf2'!A68,'mf3'!$A$5:$A$100,0),5)","v":{"$error":"#N/A"}},0,null,null,null,null,null,{"$f":"INDEX(INDIRECT(\"mf3!A\"&$G$12):INDIRECT(\"mf3!A\"&$H$16),MATCH('mf1'!A68,INDIRECT(\"mf3!A\"&$G$12):INDIRECT(\"mf3!A\"&$H$16),0),1)","v":{"$error":"#N/A"}},{"$f":"INDEX('mf3'!$A$5:$E$100,MATCH('mf1'!A68,'mf3'!$A$5:$A$100,0),5)","v":{"$error":"#N/A"}},0]
[null,null,null,null,null,null,null,null,65,{"$f":"INDEX(INDIRECT(\"mf2!A\"&$G$11):INDIRECT(\"mf2!A\"&$H$15),MATCH('mf1'!A69,INDIRECT(\"mf2!A\"&$G$11):INDIRECT(\"mf2!A\"&$H$15),0),1)","v":{"$error":"#N/A"}},{"$f":"INDEX('mf2'!$A$5:$E$100,MATCH('mf1'!A69,'mf2'!$A$5:$A$100,0),5)","v":{"$error":"#N/A"}},0,null,null,null,null,null,{"$f":"INDEX(INDIRECT(\"mf3!A\"&$G$12):INDIRECT(\"mf3!A\"&$H$16),MATCH('mf2'!A69,INDIRECT(\"mf3!A\"&$G$12):INDIRECT(\"mf3!A\"&$H$16),0),1)","v":{"$error":"#N/A"}},{"$f":"INDEX('mf3'!$A$5:$E$100,MATCH('mf2'!A69,'mf3'!$A$5:$A$100,0),5)","v":{"$error":"#N/A"}},0,null,null,null,null,null,{"$f":"INDEX(INDIRECT(\"mf3!A\"&$G$12):INDIRECT(\"mf3!A\"&$H$16),MATCH('mf1'!A69,INDIRECT(\"mf3!A\"&$G$12):INDIRECT(\"mf3!A\"&$H$16),0),1)","v":{"$error":"#N/A"}},{"$f":"INDEX('mf3'!$A$5:$E$100,MATCH('mf1'!A69,'mf3'!$A$5:$A$100,0),5)","v":{"$error":"#N/A"}},0]
[null,null,null,null,null,null,null,null,66,{"$f":"INDEX(INDIRECT(\"mf2!A\"&$G$11):INDIRECT(\"mf2!A\"&$H$15),MATCH('mf1'!A70,INDIRECT(\"mf2!A\"&$G$11):INDIRECT(\"mf2!A\"&$H$15),0),1)","v":{"$error":"#N/A"}},{"$f":"INDEX('mf2'!$A$5:$E$100,MATCH('mf1'!A70,'mf2'!$A$5:$A$100,0),5)","v":{"$error":"#N/A"}},{"$f":"IF(ISERROR(J67),0,1)","v":0},null,null,null,null,null,{"$f":"INDEX(INDIRECT(\"mf3!A\"&$G$12):INDIRECT(\"mf3!A\"&$H$16),MATCH('mf2'!A70,INDIRECT(\"mf3!A\"&$G$12):INDIRECT(\"mf3!A\"&$H$16),0),1)","v":{"$error":"#N/A"}},{"$f":"INDEX('mf3'!$A$5:$E$100,MATCH('mf2'!A70,'mf3'!$A$5:$A$100,0),5)","v":{"$error":"#N/A"}},0,null,null,null,null,null,{"$f":"INDEX(INDIRECT(\"mf3!A\"&$G$12):INDIRECT(\"mf3!A\"&$H$16),MATCH('mf1'!A70,INDIRECT(\"mf3!A\"&$G$12):INDIRECT(\"mf3!A\"&$H$16),0),1)","v":{"$error":"#N/A"}},{"$f":"INDEX('mf3'!$A$5:$E$100,MATCH('mf1'!A70,'mf3'!$A$5:$A$100,0),5)","v":{"$error":"#N/A"}},{"$f":"IF(ISERROR(Z67),0,1)","v":0}]
[null,null,null,null,null,null,null,null,{"$f":"I67+1","v":67},{"$f":"INDEX(INDIRECT(\"mf2!A\"&$G$11):INDIRECT(\"mf2!A\"&$H$15),MATCH('mf1'!A71,INDIRECT(\"mf2!A\"&$G$11):INDIRECT(\"mf2!A\"&$H$15),0),1)","v":{"$error":"#N/A"}},{"$f":"INDEX('mf2'!$A$5:$E$100,MATCH('mf1'!A71,'mf2'!$A$5:$A$100,0),5)","v":{"$error":"#N/A"}},0,null,null,null,null,null,{"$f":"INDEX(INDIRECT(\"mf3!A\"&$G$12):INDIRECT(\"mf3!A\"&$H$16),MATCH('mf2'!A71,INDIRECT(\"mf3!A\"&$G$12):INDIRECT(\"mf3!A\"&$H$16),0),1)","v":{"$error":"#N/A"}},{"$f":"INDEX('mf3'!$A$5:$E$100,MATCH('mf2'!A71,'mf3'!$A$5:$A$100,0),5)","v":{"$error":"#N/A"}},0,null,null,null,null,null,{"$f":"INDEX(INDIRECT(\"mf3!A\"&$G$12):INDIRECT(\"mf3!A\"&$H$16),MATCH('mf1'!A71,INDIRECT(\"mf3!A\"&$G$12):INDIRECT(\"mf3!A\"&$H$16),0),1)","v":{"$error":"#N/A"}},{"$f":"INDEX('mf3'!$A$5:$E$100,MATCH('mf1'!A71,'mf3'!$A$5:$A$100,0),5)","v":{"$error":"#N/A"}},0]
[null,null,null,null,null,null,null,null,68,{"$f":"INDEX(INDIRECT(\"mf2!A\"&$G$11):INDIRECT(\"mf2!A\"&$H$15),MATCH('mf1'!A72,INDIRECT(\"mf2!A\"&$G$11):INDIRECT(\"mf2!A\"&$H$15),0),1)","v":{"$error":"#N/A"}},{"$f":"INDEX('mf2'!$A$5:$E$100,MATCH('mf1'!A72,'mf2'!$A$5:$A$100,0),5)","v":{"$error":"#N/A"}},0,null,null,null,null,null,{"$f":"INDEX(INDIRECT(\"mf3!A\"&$G$12):INDIRECT(\"mf3!A\"&$H$16),MATCH('mf2'!A72,INDIRECT(\"mf3!A\"&$G$12):INDIRECT(\"mf3!A\"&$H$16),0),1)","v":{"$error":"#N/A"}},{"$f":"INDEX('mf3'!$A$5:$E$100,MATCH('mf2'!A72,'mf3'!$A$5:$A$100,0),5)","v":{"$error":"#N/A"}},0,null,null,null,null,null,{"$f":"INDEX(INDIRECT(\"mf3!A\"&$G$12):INDIRECT(\"mf3!A\"&$H$16),MATCH('mf1'!A72,INDIRECT(\"mf3!A\"&$G$12):INDIRECT(\"mf3!A\"&$H$16),0),1)","v":{"$error":"#N/A"}},{"$f":"INDEX('mf3'!$A$5:$E$100,MATCH('mf1'!A72,'mf3'!$A$5:$A$100,0),5)","v":{"$error":"#N/A"}},0]
[null,null,null,null,null,null,null,null,69,{"$f":"INDEX(INDIRECT(\"mf2!A\"&$G$11):INDIRECT(\"mf2!A\"&$H$15),MATCH('mf1'!A73,INDIRECT(\"mf2!A\"&$G$11):INDIRECT(\"mf2!A\"&$H$15),0),1)","v":{"$error":"#N/A"}},{"$f":"INDEX('mf2'!$A$5:$E$100,MATCH('mf1'!A73,'mf2'!$A$5:$A$100,0),5)","v":{"$error":"#N/A"}},0,null,null,null,null,null,{"$f":"INDEX(INDIRECT(\"mf3!A\"&$G$12):INDIRECT(\"mf3!A\"&$H$16),MATCH('mf2'!A73,INDIRECT(\"mf3!A\"&$G$12):INDIRECT(\"mf3!A\"&$H$16),0),1)","v":{"$error":"#N/A"}},{"$f":"INDEX('mf3'!$A$5:$E$100,MATCH('mf2'!A73,'mf3'!$A$5:$A$100,0),5)","v":{"$error":"#N/A"}},0,null,null,null,null,null,{"$f":"INDEX(INDIRECT(\"mf3!A\"&$G$12):INDIRECT(\"mf3!A\"&$H$16),MATCH('mf1'!A73,INDIRECT(\"mf3!A\"&$G$12):INDIRECT(\"mf3!A\"&$H$16),0),1)","v":{"$error":"#N/A"}},{"$f":"INDEX('mf3'!$A$5:$E$100,MATCH('mf1'!A73,'mf3'!$A$5:$A$100,0),5)","v":{"$error":"#N/A"}},0]
[null,null,null,null,null,null,null,null,70,{"$f":"INDEX(INDIRECT(\"mf2!A\"&$G$11):INDIRECT(\"mf2!A\"&$H$15),MATCH('mf1'!A74,INDIRECT(\"mf2!A\"&$G$11):INDIRECT(\"mf2!A\"&$H$15),0),1)","v":{"$error":"#N/A"}},{"$f":"INDEX('mf2'!$A$5:$E$100,MATCH('mf1'!A74,'mf2'!$A$5:$A$100,0),5)","v":{"$error":"#N/A"}},0,null,null,null,null,null,{"$f":"INDEX(INDIRECT(\"mf3!A\"&$G$12):INDIRECT(\"mf3!A\"&$H$16),MATCH('mf2'!A74,INDIRECT(\"mf3!A\"&$G$12):INDIRECT(\"mf3!A\"&$H$16),0),1)","v":{"$error":"#N/A"}},{"$f":"INDEX('mf3'!$A$5:$E$100,MATCH('mf2'!A74,'mf3'!$A$5:$A$100,0),5)","v":{"$error":"#N/A"}},0,null,null,null,null,null,{"$f":"INDEX(INDIRECT(\"mf3!A\"&$G$12):INDIRECT(\"mf3!A\"&$H$16),MATCH('mf1'!A74,INDIRECT(\"mf3!A\"&$G$12):INDIRECT(\"mf3!A\"&$H$16),0),1)","v":{"$error":"#N/A"}},{"$f":"INDEX('mf3'!$A$5:$E$100,MATCH('mf1'!A74,'mf3'!$A$5:$A$100,0),5)","v":{"$error":"#N/A"}},0]
[null,null,null,null,null,null,null,null,71,{"$f":"INDEX(INDIRECT(\"mf2!A\"&$G$11):INDIRECT(\"mf2!A\"&$H$15),MATCH('mf1'!A75,INDIRECT(\"mf2!A\"&$G$11):INDIRECT(\"mf2!A\"&$H$15),0),1)","v":{"$error":"#N/A"}},{"$f":"INDEX('mf2'!$A$5:$E$100,MATCH('mf1'!A75,'mf2'!$A$5:$A$100,0),5)","v":{"$error":"#N/A"}},0,null,null,null,null,null,{"$f":"INDEX(INDIRECT(\"mf3!A\"&$G$12):INDIRECT(\"mf3!A\"&$H$16),MATCH('mf2'!A75,INDIRECT(\"mf3!A\"&$G$12):INDIRECT(\"mf3!A\"&$H$16),0),1)","v":{"$error":"#N/A"}},{"$f":"INDEX('mf3'!$A$5:$E$100,MATCH('mf2'!A75,'mf3'!$A$5:$A$100,0),5)","v":{"$error":"#N/A"}},0,null,null,null,null,null,{"$f":"INDEX(INDIRECT(\"mf3!A\"&$G$12):INDIRECT(\"mf3!A\"&$H$16),MATCH('mf1'!A75,INDIRECT(\"mf3!A\"&$G$12):INDIRECT(\"mf3!A\"&$H$16),0),1)","v":{"$error":"#N/A"}},{"$f":"INDEX('mf3'!$A$5:$E$100,MATCH('mf1'!A75,'mf3'!$A$5:$A$100,0),5)","v":{"$error":"#N/A"}},0]
[null,null,null,null,null,null,null,null,72,{"$f":"INDEX(INDIRECT(\"mf2!A\"&$G$11):INDIRECT(\"mf2!A\"&$H$15),MATCH('mf1'!A76,INDIRECT(\"mf2!A\"&$G$11):INDIRECT(\"mf2!A\"&$H$15),0),1)","v":{"$error":"#N/A"}},{"$f":"INDEX('mf2'!$A$5:$E$100,MATCH('mf1'!A76,'mf2'!$A$5:$A$100,0),5)","v":{"$error":"#N/A"}},0,null,null,null,null,null,{"$f":"INDEX(INDIRECT(\"mf3!A\"&$G$12):INDIRECT(\"mf3!A\"&$H$16),MATCH('mf2'!A76,INDIRECT(\"mf3!A\"&$G$12):INDIRECT(\"mf3!A\"&$H$16),0),1)","v":{"$error":"#N/A"}},{"$f":"INDEX('mf3'!$A$5:$E$100,MATCH('mf2'!A76,'mf3'!$A$5:$A$100,0),5)","v":{"$error":"#N/A"}},0,null,null,null,null,null,{"$f":"INDEX(INDIRECT(\"mf3!A\"&$G$12):INDIRECT(\"mf3!A\"&$H$16),MATCH('mf1'!A76,INDIRECT(\"mf3!A\"&$G$12):INDIRECT(\"mf3!A\"&$H$16),0),1)","v":{"$error":"#N/A"}},{"$f":"INDEX('mf3'!$A$5:$E$100,MATCH('mf1'!A76,'mf3'!$A$5:$A$100,0),5)","v":{"$error":"#N/A"}},0]
[null,null,null,null,null,null,null,null,73,{"$f":"INDEX(INDIRECT(\"mf2!A\"&$G$11):INDIRECT(\"mf2!A\"&$H$15),MATCH('mf1'!A77,INDIRECT(\"mf2!A\"&$G$11):INDIRECT(\"mf2!A\"&$H$15),0),1)","v":{"$error":"#N/A"}},{"$f":"INDEX('mf2'!$A$5:$E$100,MATCH('mf1'!A77,'mf2'!$A$5:$A$100,0),5)","v":{"$error":"#N/A"}},0,null,null,null,null,null,{"$f":"INDEX(INDIRECT(\"mf3!A\"&$G$12):INDIRECT(\"mf3!A\"&$H$16),MATCH('mf2'!A77,INDIRECT(\"mf3!A\"&$G$12):INDIRECT(\"mf3!A\"&$H$16),0),1)","v":{"$error":"#N/A"}},{"$f":"INDEX('mf3'!$A$5:$E$100,MATCH('mf2'!A77,'mf3'!$A$5:$A$100,0),5)","v":{"$error":"#N/A"}},0,null,null,null,null,null,{"$f":"INDEX(INDIRECT(\"mf3!A\"&$G$12):INDIRECT(\"mf3!A\"&$H$16),MATCH('mf1'!A77,INDIRECT(\"mf3!A\"&$G$12):INDIRECT(\"mf3!A\"&$H$16),0),1)","v":{"$error":"#N/A"}},{"$f":"INDEX('mf3'!$A$5:$E$100,MATCH('mf1'!A77,'mf3'!$A$5:$A$100,0),5)","v":{"$error":"#N/A"}},0]
[null,null,null,null,null,null,null,null,74,{"$f":"INDEX(INDIRECT(\"mf2!A\"&$G$11):INDIRECT(\"mf2!A\"&$H$15),MATCH('mf1'!A78,INDIRECT(\"mf2!A\"&$G$11):INDIRECT(\"mf2!A\"&$H$15),0),1)","v":{"$error":"#N/A"}},{"$f":"INDEX('mf2'!$A$5:$E$100,MATCH('mf1'!A78,'mf2'!$A$5:$A$100,0),5)","v":{"$error":"#N/A"}},0,null,null,null,null,null,{"$f":"INDEX(INDIRECT(\"mf3!A\"&$G$12):INDIRECT(\"mf3!A\"&$H$16),MATCH('mf2'!A78,INDIRECT(\"mf3!A\"&$G$12):INDIRECT(\"mf3!A\"&$H$16),0),1)","v":{"$error":"#N/A"}},{"$f":"INDEX('mf3'!$A$5:$E$100,MATCH('mf2'!A78,'mf3'!$A$5:$A$100,0),5)","v":{"$error":"#N/A"}},0,null,null,null,null,null,{"$f":"INDEX(INDIRECT(\"mf3!A\"&$G$12):INDIRECT(\"mf3!A\"&$H$16),MATCH('mf1'!A78,INDIRECT(\"mf3!A\"&$G$12):INDIRECT(\"mf3!A\"&$H$16),0),1)","v":{"$error":"#N/A"}},{"$f":"INDEX('mf3'!$A$5:$E$100,MATCH('mf1'!A78,'mf3'!$A$5:$A$100,0),5)","v":{"$error":"#N/A"}},0]
[null,null,null,null,null,null,null,null,75,{"$f":"INDEX(INDIRECT(\"mf2!A\"&$G$11):INDIRECT(\"mf2!A\"&$H$15),MATCH('mf1'!A79,INDIRECT(\"mf2!A\"&$G$11):INDIRECT(\"mf2!A\"&$H$15),0),1)","v":{"$error":"#N/A"}},{"$f":"INDEX('mf2'!$A$5:$E$100,MATCH('mf1'!A79,'mf2'!$A$5:$A$100,0),5)","v":{"$error":"#N/A"}},0,null,null,null,null,null,{"$f":"INDEX(INDIRECT(\"mf3!A\"&$G$12):INDIRECT(\"mf3!A\"&$H$16),MATCH('mf2'!A79,INDIRECT(\"mf3!A\"&$G$12):INDIRECT(\"mf3!A\"&$H$16),0),1)","v":{"$error":"#N/A"}},{"$f":"INDEX('mf3'!$A$5:$E$100,MATCH('mf2'!A79,'mf3'!$A$5:$A$100,0),5)","v":{"$error":"#N/A"}},0,null,null,null,null,null,{"$f":"INDEX(INDIRECT(\"mf3!A\"&$G$12):INDIRECT(\"mf3!A\"&$H$16),MATCH('mf1'!A79,INDIRECT(\"mf3!A\"&$G$12):INDIRECT(\"mf3!A\"&$H$16),0),1)","v":{"$error":"#N/A"}},{"$f":"INDEX('mf3'!$A$5:$E$100,MATCH('mf1'!A79,'mf3'!$A$5:$A$100,0),5)","v":{"$error":"#N/A"}},0]
[null,null,null,null,null,null,null,null,76,{"$f":"INDEX(INDIRECT(\"mf2!A\"&$G$11):INDIRECT(\"mf2!A\"&$H$15),MATCH('mf1'!A80,INDIRECT(\"mf2!A\"&$G$11):INDIRECT(\"mf2!A\"&$H$15),0),1)","v":{"$error":"#N/A"}},{"$f":"INDEX('mf2'!$A$5:$E$100,MATCH('mf1'!A80,'mf2'!$A$5:$A$100,0),5)","v":{"$error":"#N/A"}},0,null,null,null,null,null,{"$f":"INDEX(INDIRECT(\"mf3!A\"&$G$12):INDIRECT(\"mf3!A\"&$H$16),MATCH('mf2'!A80,INDIRECT(\"mf3!A\"&$G$12):INDIRECT(\"mf3!A\"&$H$16),0),1)","v":{"$error":"#N/A"}},{"$f":"INDEX('mf3'!$A$5:$E$100,MATCH('mf2'!A80,'mf3'!$A$5:$A$100,0),5)","v":{"$error":"#N/A"}},0,null,null,null,null,null,{"$f":"INDEX(INDIRECT(\"mf3!A\"&$G$12):INDIRECT(\"mf3!A\"&$H$16),MATCH('mf1'!A80,INDIRECT(\"mf3!A\"&$G$12):INDIRECT(\"mf3!A\"&$H$16),0),1)","v":{"$error":"#N/A"}},{"$f":"INDEX('mf3'!$A$5:$E$100,MATCH('mf1'!A80,'mf3'!$A$5:$A$100,0),5)","v":{"$error":"#N/A"}},0]
[null,null,null,null,null,null,null,null,77,{"$f":"INDEX(INDIRECT(\"mf2!A\"&$G$11):INDIRECT(\"mf2!A\"&$H$15),MATCH('mf1'!A81,INDIRECT(\"mf2!A\"&$G$11):INDIRECT(\"mf2!A\"&$H$15),0),1)","v":{"$error":"#N/A"}},{"$f":"INDEX('mf2'!$A$5:$E$100,MATCH('mf1'!A81,'mf2'!$A$5:$A$100,0),5)","v":{"$error":"#N/A"}},0,null,null,null,null,null,{"$f":"INDEX(INDIRECT(\"mf3!A\"&$G$12):INDIRECT(\"mf3!A\"&$H$16),MATCH('mf2'!A81,INDIRECT(\"mf3!A\"&$G$12):INDIRECT(\"mf3!A\"&$H$16),0),1)","v":{"$error":"#N/A"}},{"$f":"INDEX('mf3'!$A$5:$E$100,MATCH('mf2'!A81,'mf3'!$A$5:$A$100,0),5)","v":{"$error":"#N/A"}},0,null,null,null,null,null,{"$f":"INDEX(INDIRECT(\"mf3!A\"&$G$12):INDIRECT(\"mf3!A\"&$H$16),MATCH('mf1'!A81,INDIRECT(\"mf3!A\"&$G$12):INDIRECT(\"mf3!A\"&$H$16),0),1)","v":{"$error":"#N/A"}},{"$f":"INDEX('mf3'!$A$5:$E$100,MATCH('mf1'!A81,'mf3'!$A$5:$A$100,0),5)","v":{"$error":"#N/A"}},0]
[null,null,null,null,null,null,null,null,78,{"$f":"INDEX(INDIRECT(\"mf2!A\"&$G$11):INDIRECT(\"mf2!A\"&$H$15),MATCH('mf1'!A82,INDIRECT(\"mf2!A\"&$G$11):INDIRECT(\"mf2!A\"&$H$15),0),1)","v":{"$error":"#N/A"}},{"$f":"INDEX('mf2'!$A$5:$E$100,MATCH('mf1'!A82,'mf2'!$A$5:$A$100,0),5)","v":{"$error":"#N/A"}},0,null,null,null,null,null,{"$f":"INDEX(INDIRECT(\"mf3!A\"&$G$12):INDIRECT(\"mf3!A\"&$H$16),MATCH('mf2'!A82,INDIRECT(\"mf3!A\"&$G$12):INDIRECT(\"mf3!A\"&$H$16),0),1)","v":{"$error":"#N/A"}},{"$f":"INDEX('mf3'!$A$5:$E$100,MATCH('mf2'!A82,'mf3'!$A$5:$A$100,0),5)","v":{"$error":"#N/A"}},0,null,null,null,null,null,{"$f":"INDEX(INDIRECT(\"mf3!A\"&$G$12):INDIRECT(\"mf3!A\"&$H$16),MATCH('mf1'!A82,INDIRECT(\"mf3!A\"&$G$12):INDIRECT(\"mf3!A\"&$H$16),0),1)","v":{"$error":"#N/A"}},{"$f":"INDEX('mf3'!$A$5:$E$100,MATCH('mf1'!A82,'mf3'!$A$5:$A$100,0),5)","v":{"$error":"#N/A"}},0]
[null,null,null,null,null,null,null,null,79,{"$f":"INDEX(INDIRECT(\"mf2!A\"&$G$11):INDIRECT(\"mf2!A\"&$H$15),MATCH('mf1'!A83,INDIRECT(\"mf2!A\"&$G$11):INDIRECT(\"mf2!A\"&$H$15),0),1)","v":{"$error":"#N/A"}},{"$f":"INDEX('mf2'!$A$5:$E$100,MATCH('mf1'!A83,'mf2'!$A$5:$A$100,0),5)","v":{"$error":"#N/A"}},0,null,null,null,null,null,{"$f":"INDEX(INDIRECT(\"mf3!A\"&$G$12):INDIRECT(\"mf3!A\"&$H$16),MATCH('mf2'!A83,INDIRECT(\"mf3!A\"&$G$12):INDIRECT(\"mf3!A\"&$H$16),0),1)","v":{"$error":"#N/A"}},{"$f":"INDEX('mf3'!$A$5:$E$100,MATCH('mf2'!A83,'mf3'!$A$5:$A$100,0),5)","v":{"$error":"#N/A"}},0,null,null,null,null,null,{"$f":"INDEX(INDIRECT(\"mf3!A\"&$G$12):INDIRECT(\"mf3!A\"&$H$16),MATCH('mf1'!A83,INDIRECT(\"mf3!A\"&$G$12):INDIRECT(\"mf3!A\"&$H$16),0),1)","v":{"$error":"#N/A"}},{"$f":"INDEX('mf3'!$A$5:$E$100,MATCH('mf1'!A83,'mf3'!$A$5:$A$100,0),5)","v":{"$error":"#N/A"}},0]
[null,null,null,null,null,null,null,null,80,{"$f":"INDEX(INDIRECT(\"mf2!A\"&$G$11):INDIRECT(\"mf2!A\"&$H$15),MATCH('mf1'!A84,INDIRECT(\"mf2!A\"&$G$11):INDIRECT(\"mf2!A\"&$H$15),0),1)","v":{"$error":"#N/A"}},{"$f":"INDEX('mf2'!$A$5:$E$100,MATCH('mf1'!A84,'mf2'!$A$5:$A$100,0),5)","v":{"$error":"#N/A"}},0,null,null,null,null,null,{"$f":"INDEX(INDIRECT(\"mf3!A\"&$G$12):INDIRECT(\"mf3!A\"&$H$16),MATCH('mf2'!A84,INDIRECT(\"mf3!A\"&$G$12):INDIRECT(\"mf3!A\"&$H$16),0),1)","v":{"$error":"#N/A"}},{"$f":"INDEX('mf3'!$A$5:$E$100,MATCH('mf2'!A84,'mf3'!$A$5:$A$100,0),5)","v":{"$error":"#N/A"}},0,null,null,null,null,null,{"$f":"INDEX(INDIRECT(\"mf3!A\"&$G$12):INDIRECT(\"mf3!A\"&$H$16),MATCH('mf1'!A84,INDIRECT(\"mf3!A\"&$G$12):INDIRECT(\"mf3!A\"&$H$16),0),1)","v":{"$error":"#N/A"}},{"$f":"INDEX('mf3'!$A$5:$E$100,MATCH('mf1'!A84,'mf3'!$A$5:$A$100,0),5)","v":{"$error":"#N/A"}},0]
[null,null,null,null,null,null,null,null,81,{"$f":"INDEX(INDIRECT(\"mf2!A\"&$G$11):INDIRECT(\"mf2!A\"&$H$15),MATCH('mf1'!A85,INDIRECT(\"mf2!A\"&$G$11):INDIRECT(\"mf2!A\"&$H$15),0),1)","v":{"$error":"#N/A"}},{"$f":"INDEX('mf2'!$A$5:$E$100,MATCH('mf1'!A85,'mf2'!$A$5:$A$100,0),5)","v":{"$error":"#N/A"}},0,null,null,null,null,null,{"$f":"INDEX(INDIRECT(\"mf3!A\"&$G$12):INDIRECT(\"mf3!A\"&$H$16),MATCH('mf2'!A85,INDIRECT(\"mf3!A\"&$G$12):INDIRECT(\"mf3!A\"&$H$16),0),1)","v":{"$error":"#N/A"}},{"$f":"INDEX('mf3'!$A$5:$E$100,MATCH('mf2'!A85,'mf3'!$A$5:$A$100,0),5)","v":{"$error":"#N/A"}},0,null,null,null,null,null,{"$f":"INDEX(INDIRECT(\"mf3!A\"&$G$12):INDIRECT(\"mf3!A\"&$H$16),MATCH('mf1'!A85,INDIRECT(\"mf3!A\"&$G$12):INDIRECT(\"mf3!A\"&$H$16),0),1)","v":{"$error":"#N/A"}},{"$f":"INDEX('mf3'!$A$5:$E$100,MATCH('mf1'!A85,'mf3'!$A$5:$A$100,0),5)","v":{"$error":"#N/A"}},0]
[null,null,null,null,null,null,null,null,82,{"$f":"INDEX(INDIRECT(\"mf2!A\"&$G$11):INDIRECT(\"mf2!A\"&$H$15),MATCH('mf1'!A86,INDIRECT(\"mf2!A\"&$G$11):INDIRECT(\"mf2!A\"&$H$15),0),1)","v":{"$error":"#N/A"}},{"$f":"INDEX('mf2'!$A$5:$E$100,MATCH('mf1'!A86,'mf2'!$A$5:$A$100,0),5)","v":{"$error":"#N/A"}},0,null,null,null,null,null,{"$f":"INDEX(INDIRECT(\"mf3!A\"&$G$12):INDIRECT(\"mf3!A\"&$H$16),MATCH('mf2'!A86,INDIRECT(\"mf3!A\"&$G$12):INDIRECT(\"mf3!A\"&$H$16),0),1)","v":{"$error":"#N/A"}},{"$f":"INDEX('mf3'!$A$5:$E$100,MATCH('mf2'!A86,'mf3'!$A$5:$A$100,0),5)","v":{"$error":"#N/A"}},0,null,null,null,null,null,{"$f":"INDEX(INDIRECT(\"mf3!A\"&$G$12):INDIRECT(\"mf3!A\"&$H$16),MATCH('mf1'!A86,INDIRECT(\"mf3!A\"&$G$12):INDIRECT(\"mf3!A\"&$H$16),0),1)","v":{"$error":"#N/A"}},{"$f":"INDEX('mf3'!$A$5:$E$100,MATCH('mf1'!A86,'mf3'!$A$5:$A$100,0),5)","v":{"$error":"#N/A"}},0]
[null,null,null,null,null,null,null,null,83,{"$f":"INDEX(INDIRECT(\"mf2!A\"&$G$11):INDIRECT(\"mf2!A\"&$H$15),MATCH('mf1'!A87,INDIRECT(\"mf2!A\"&$G$11):INDIRECT(\"mf2!A\"&$H$15),0),1)","v":{"$error":"#N/A"}},{"$f":"INDEX('mf2'!$A$5:$E$100,MATCH('mf1'!A87,'mf2'!$A$5:$A$100,0),5)","v":{"$error":"#N/A"}},0,null,null,null,null,null,{"$f":"INDEX(INDIRECT(\"mf3!A\"&$G$12):INDIRECT(\"mf3!A\"&$H$16),MATCH('mf2'!A87,INDIRECT(\"mf3!A\"&$G$12):INDIRECT(\"mf3!A\"&$H$16),0),1)","v":{"$error":"#N/A"}},{"$f":"INDEX('mf3'!$A$5:$E$100,MATCH('mf2'!A87,'mf3'!$A$5:$A$100,0),5)","v":{"$error":"#N/A"}},0,null,null,null,null,null,{"$f":"INDEX(INDIRECT(\"mf3!A\"&$G$12):INDIRECT(\"mf3!A\"&$H$16),MATCH('mf1'!A87,INDIRECT(\"mf3!A\"&$G$12):INDIRECT(\"mf3!A\"&$H$16),0),1)","v":{"$error":"#N/A"}},{"$f":"INDEX('mf3'!$A$5:$E$100,MATCH('mf1'!A87,'mf3'!$A$5:$A$100,0),5)","v":{"$error":"#N/A"}},0]
[null,null,null,null,null,null,null,null,84,{"$f":"INDEX(INDIRECT(\"mf2!A\"&$G$11):INDIRECT(\"mf2!A\"&$H$15),MATCH('mf1'!A88,INDIRECT(\"mf2!A\"&$G$11):INDIRECT(\"mf2!A\"&$H$15),0),1)","v":{"$error":"#N/A"}},{"$f":"INDEX('mf2'!$A$5:$E$100,MATCH('mf1'!A88,'mf2'!$A$5:$A$100,0),5)","v":{"$error":"#N/A"}},0,null,null,null,null,null,{"$f":"INDEX(INDIRECT(\"mf3!A\"&$G$12):INDIRECT(\"mf3!A\"&$H$16),MATCH('mf2'!A88,INDIRECT(\"mf3!A\"&$G$12):INDIRECT(\"mf3!A\"&$H$16),0),1)","v":{"$error":"#N/A"}},{"$f":"INDEX('mf3'!$A$5:$E$100,MATCH('mf2'!A88,'mf3'!$A$5:$A$100,0),5)","v":{"$error":"#N/A"}},0,null,null,null,null,null,{"$f":"INDEX(INDIRECT(\"mf3!A\"&$G$12):INDIRECT(\"mf3!A\"&$H$16),MATCH('mf1'!A88,INDIRECT(\"mf3!A\"&$G$12):INDIRECT(\"mf3!A\"&$H$16),0),1)","v":{"$error":"#N/A"}},{"$f":"INDEX('mf3'!$A$5:$E$100,MATCH('mf1'!A88,'mf3'!$A$5:$A$100,0),5)","v":{"$error":"#N/A"}},0]
[null,null,null,null,null,null,null,null,85,{"$f":"INDEX(INDIRECT(\"mf2!A\"&$G$11):INDIRECT(\"mf2!A\"&$H$15),MATCH('mf1'!A89,INDIRECT(\"mf2!A\"&$G$11):INDIRECT(\"mf2!A\"&$H$15),0),1)","v":{"$error":"#N/A"}},{"$f":"INDEX('mf2'!$A$5:$E$100,MATCH('mf1'!A89,'mf2'!$A$5:$A$100,0),5)","v":{"$error":"#N/A"}},0,null,null,null,null,null,{"$f":"INDEX(INDIRECT(\"mf3!A\"&$G$12):INDIRECT(\"mf3!A\"&$H$16),MATCH('mf2'!A89,INDIRECT(\"mf3!A\"&$G$12):INDIRECT(\"mf3!A\"&$H$16),0),1)","v":{"$error":"#N/A"}},{"$f":"INDEX('mf3'!$A$5:$E$100,MATCH('mf2'!A89,'mf3'!$A$5:$A$100,0),5)","v":{"$error":"#N/A"}},0,null,null,null,null,null,{"$f":"INDEX(INDIRECT(\"mf3!A\"&$G$12):INDIRECT(\"mf3!A\"&$H$16),MATCH('mf1'!A89,INDIRECT(\"mf3!A\"&$G$12):INDIRECT(\"mf3!A\"&$H$16),0),1)","v":{"$error":"#N/A"}},{"$f":"INDEX('mf3'!$A$5:$E$100,MATCH('mf1'!A89,'mf3'!$A$5:$A$100,0),5)","v":{"$error":"#N/A"}},0]
[null,null,null,null,null,null,null,null,86,{"$f":"INDEX(INDIRECT(\"mf2!A\"&$G$11):INDIRECT(\"mf2!A\"&$H$15),MATCH('mf1'!A90,INDIRECT(\"mf2!A\"&$G$11):INDIRECT(\"mf2!A\"&$H$15),0),1)","v":{"$error":"#N/A"}},{"$f":"INDEX('mf2'!$A$5:$E$100,MATCH('mf1'!A90,'mf2'!$A$5:$A$100,0),5)","v":{"$error":"#N/A"}},0,null,null,null,null,null,{"$f":"INDEX(INDIRECT(\"mf3!A\"&$G$12):INDIRECT(\"mf3!A\"&$H$16),MATCH('mf2'!A90,INDIRECT(\"mf3!A\"&$G$12):INDIRECT(\"mf3!A\"&$H$16),0),1)","v":{"$error":"#N/A"}},{"$f":"INDEX('mf3'!$A$5:$E$100,MATCH('mf2'!A90,'mf3'!$A$5:$A$100,0),5)","v":{"$error":"#N/A"}},0,null,null,null,null,null,{"$f":"INDEX(INDIRECT(\"mf3!A\"&$G$12):INDIRECT(\"mf3!A\"&$H$16),MATCH('mf1'!A90,INDIRECT(\"mf3!A\"&$G$12):INDIRECT(\"mf3!A\"&$H$16),0),1)","v":{"$error":"#N/A"}},{"$f":"INDEX('mf3'!$A$5:$E$100,MATCH('mf1'!A90,'mf3'!$A$5:$A$100,0),5)","v":{"$error":"#N/A"}},0]
[null,null,null,null,null,null,null,null,87,{"$f":"INDEX(INDIRECT(\"mf2!A\"&$G$11):INDIRECT(\"mf2!A\"&$H$15),MATCH('mf1'!A91,INDIRECT(\"mf2!A\"&$G$11):INDIRECT(\"mf2!A\"&$H$15),0),1)","v":{"$error":"#N/A"}},{"$f":"INDEX('mf2'!$A$5:$E$100,MATCH('mf1'!A91,'mf2'!$A$5:$A$100,0),5)","v":{"$error":"#N/A"}},0,null,null,null,null,null,{"$f":"INDEX(INDIRECT(\"mf3!A\"&$G$12):INDIRECT(\"mf3!A\"&$H$16),MATCH('mf2'!A91,INDIRECT(\"mf3!A\"&$G$12):INDIRECT(\"mf3!A\"&$H$16),0),1)","v":{"$error":"#N/A"}},{"$f":"INDEX('mf3'!$A$5:$E$100,MATCH('mf2'!A91,'mf3'!$A$5:$A$100,0),5)","v":{"$error":"#N/A"}},0,null,null,null,null,null,{"$f":"INDEX(INDIRECT(\"mf3!A\"&$G$12):INDIRECT(\"mf3!A\"&$H$16),MATCH('mf1'!A91,INDIRECT(\"mf3!A\"&$G$12):INDIRECT(\"mf3!A\"&$H$16),0),1)","v":{"$error":"#N/A"}},{"$f":"INDEX('mf3'!$A$5:$E$100,MATCH('mf1'!A91,'mf3'!$A$5:$A$100,0),5)","v":{"$error":"#N/A"}},0]
[null,null,null,null,null,null,null,null,88,{"$f":"INDEX(INDIRECT(\"mf2!A\"&$G$11):INDIRECT(\"mf2!A\"&$H$15),MATCH('mf1'!A92,INDIRECT(\"mf2!A\"&$G$11):INDIRECT(\"mf2!A\"&$H$15),0),1)","v":{"$error":"#N/A"}},{"$f":"INDEX('mf2'!$A$5:$E$100,MATCH('mf1'!A92,'mf2'!$A$5:$A$100,0),5)","v":{"$error":"#N/A"}},0,null,null,null,null,null,{"$f":"INDEX(INDIRECT(\"mf3!A\"&$G$12):INDIRECT(\"mf3!A\"&$H$16),MATCH('mf2'!A92,INDIRECT(\"mf3!A\"&$G$12):INDIRECT(\"mf3!A\"&$H$16),0),1)","v":{"$error":"#N/A"}},{"$f":"INDEX('mf3'!$A$5:$E$100,MATCH('mf2'!A92,'mf3'!$A$5:$A$100,0),5)","v":{"$error":"#N/A"}},0,null,null,null,null,null,{"$f":"INDEX(INDIRECT(\"mf3!A\"&$G$12):INDIRECT(\"mf3!A\"&$H$16),MATCH('mf1'!A92,INDIRECT(\"mf3!A\"&$G$12):INDIRECT(\"mf3!A\"&$H$16),0),1)","v":{"$error":"#N/A"}},{"$f":"INDEX('mf3'!$A$5:$E$100,MATCH('mf1'!A92,'mf3'!$A$5:$A$100,0),5)","v":{"$error":"#N/A"}},0]
[null,null,null,null,null,null,null,null,89,{"$f":"INDEX(INDIRECT(\"mf2!A\"&$G$11):INDIRECT(\"mf2!A\"&$H$15),MATCH('mf1'!A93,INDIRECT(\"mf2!A\"&$G$11):INDIRECT(\"mf2!A\"&$H$15),0),1)","v":{"$error":"#N/A"}},{"$f":"INDEX('mf2'!$A$5:$E$100,MATCH('mf1'!A93,'mf2'!$A$5:$A$100,0),5)","v":{"$error":"#N/A"}},0,null,null,null,null,null,{"$f":"INDEX(INDIRECT(\"mf3!A\"&$G$12):INDIRECT(\"mf3!A\"&$H$16),MATCH('mf2'!A93,INDIRECT(\"mf3!A\"&$G$12):INDIRECT(\"mf3!A\"&$H$16),0),1)","v":{"$error":"#N/A"}},{"$f":"INDEX('mf3'!$A$5:$E$100,MATCH('mf2'!A93,'mf3'!$A$5:$A$100,0),5)","v":{"$error":"#N/A"}},0,null,null,null,null,null,{"$f":"INDEX(INDIRECT(\"mf3!A\"&$G$12):INDIRECT(\"mf3!A\"&$H$16),MATCH('mf1'!A93,INDIRECT(\"mf3!A\"&$G$12):INDIRECT(\"mf3!A\"&$H$16),0),1)","v":{"$error":"#N/A"}},{"$f":"INDEX('mf3'!$A$5:$E$100,MATCH('mf1'!A93,'mf3'!$A$5:$A$100,0),5)","v":{"$error":"#N/A"}},0]
[null,null,null,null,null,null,null,null,90,{"$f":"INDEX(INDIRECT(\"mf2!A\"&$G$11):INDIRECT(\"mf2!A\"&$H$15),MATCH('mf1'!A94,INDIRECT(\"mf2!A\"&$G$11):INDIRECT(\"mf2!A\"&$H$15),0),1)","v":{"$error":"#N/A"}},{"$f":"INDEX('mf2'!$A$5:$E$100,MATCH('mf1'!A94,'mf2'!$A$5:$A$100,0),5)","v":{"$error":"#N/A"}},0,null,null,null,null,null,{"$f":"INDEX(INDIRECT(\"mf3!A\"&$G$12):INDIRECT(\"mf3!A\"&$H$16),MATCH('mf2'!A94,INDIRECT(\"mf3!A\"&$G$12):INDIRECT(\"mf3!A\"&$H$16),0),1)","v":{"$error":"#N/A"}},{"$f":"INDEX('mf3'!$A$5:$E$100,MATCH('mf2'!A94,'mf3'!$A$5:$A$100,0),5)","v":{"$error":"#N/A"}},0,null,null,null,null,null,{"$f":"INDEX(INDIRECT(\"mf3!A\"&$G$12):INDIRECT(\"mf3!A\"&$H$16),MATCH('mf1'!A94,INDIRECT(\"mf3!A\"&$G$12):INDIRECT(\"mf3!A\"&$H$16),0),1)","v":{"$error":"#N/A"}},{"$f":"INDEX('mf3'!$A$5:$E$100,MATCH('mf1'!A94,'mf3'!$A$5:$A$100,0),5)","v":{"$error":"#N/A"}},0]
[null,null,null,null,null,null,null,null,91,{"$f":"INDEX(INDIRECT(\"mf2!A\"&$G$11):INDIRECT(\"mf2!A\"&$H$15),MATCH('mf1'!A95,INDIRECT(\"mf2!A\"&$G$11):INDIRECT(\"mf2!A\"&$H$15),0),1)","v":{"$error":"#N/A"}},{"$f":"INDEX('mf2'!$A$5:$E$100,MATCH('mf1'!A95,'mf2'!$A$5:$A$100,0),5)","v":{"$error":"#N/A"}},0,null,null,null,null,null,{"$f":"INDEX(INDIRECT(\"mf3!A\"&$G$12):INDIRECT(\"mf3!A\"&$H$16),MATCH('mf2'!A95,INDIRECT(\"mf3!A\"&$G$12):INDIRECT(\"mf3!A\"&$H$16),0),1)","v":{"$error":"#N/A"}},{"$f":"INDEX('mf3'!$A$5:$E$100,MATCH('mf2'!A95,'mf3'!$A$5:$A$100,0),5)","v":{"$error":"#N/A"}},{"$f":"IF(ISERROR(R92),0,1)","v":0},null,null,null,null,null,{"$f":"INDEX(INDIRECT(\"mf3!A\"&$G$12):INDIRECT(\"mf3!A\"&$H$16),MATCH('mf1'!A95,INDIRECT(\"mf3!A\"&$G$12):INDIRECT(\"mf3!A\"&$H$16),0),1)","v":{"$error":"#N/A"}},{"$f":"INDEX('mf3'!$A$5:$E$100,MATCH('mf1'!A95,'mf3'!$A$5:$A$100,0),5)","v":{"$error":"#N/A"}},0]
[null,null,null,null,null,null,null,null,92,{"$f":"INDEX(INDIRECT(\"mf2!A\"&$G$11):INDIRECT(\"mf2!A\"&$H$15),MATCH('mf1'!A96,INDIRECT(\"mf2!A\"&$G$11):INDIRECT(\"mf2!A\"&$H$15),0),1)","v":{"$error":"#N/A"}},{"$f":"INDEX('mf2'!$A$5:$E$100,MATCH('mf1'!A96,'mf2'!$A$5:$A$100,0),5)","v":{"$error":"#N/A"}},0,null,null,null,null,null,{"$f":"INDEX(INDIRECT(\"mf3!A\"&$G$12):INDIRECT(\"mf3!A\"&$H$16),MATCH('mf2'!A96,INDIRECT(\"mf3!A\"&$G$12):INDIRECT(\"mf3!A\"&$H$16),0),1)","v":{"$error":"#N/A"}},{"$f":"INDEX('mf3'!$A$5:$E$100,MATCH('mf2'!A96,'mf3'!$A$5:$A$100,0),5)","v":{"$error":"#N/A"}},0,null,null,null,null,null,{"$f":"INDEX(INDIRECT(\"mf3!A\"&$G$12):INDIRECT(\"mf3!A\"&$H$16),MATCH('mf1'!A96,INDIRECT(\"mf3!A\"&$G$12):INDIRECT(\"mf3!A\"&$H$16),0),1)","v":{"$error":"#N/A"}},{"$f":"INDEX('mf3'!$A$5:$E$100,MATCH('mf1'!A96,'mf3'!$A$5:$A$100,0),5)","v":{"$error":"#N/A"}},0]
[null,null,null,null,null,null,null,null,{"$f":"I93+1","v":93},{"$f":"INDEX(INDIRECT(\"mf2!A\"&$G$11):INDIRECT(\"mf2!A\"&$H$15),MATCH('mf1'!A97,INDIRECT(\"mf2!A\"&$G$11):INDIRECT(\"mf2!A\"&$H$15),0),1)","v":{"$error":"#N/A"}},{"$f":"INDEX('mf2'!$A$5:$E$100,MATCH('mf1'!A97,'mf2'!$A$5:$A$100,0),5)","v":{"$error":"#N/A"}},0,null,null,null,null,null,{"$f":"INDEX(INDIRECT(\"mf3!A\"&$G$12):INDIRECT(\"mf3!A\"&$H$16),MATCH('mf2'!A97,INDIRECT(\"mf3!A\"&$G$12):INDIRECT(\"mf3!A\"&$H$16),0),1)","v":{"$error":"#N/A"}},{"$f":"INDEX('mf3'!$A$5:$E$100,MATCH('mf2'!A97,'mf3'!$A$5:$A$100,0),5)","v":{"$error":"#N/A"}},0,null,null,null,null,null,{"$f":"INDEX(INDIRECT(\"mf3!A\"&$G$12):INDIRECT(\"mf3!A\"&$H$16),MATCH('mf1'!A97,INDIRECT(\"mf3!A\"&$G$12):INDIRECT(\"mf3!A\"&$H$16),0),1)","v":{"$error":"#N/A"}},{"$f":"INDEX('mf3'!$A$5:$E$100,MATCH('mf1'!A97,'mf3'!$A$5:$A$100,0),5)","v":{"$error":"#N/A"}},0]
[null,null,null,null,null,null,null,null,94,{"$f":"INDEX(INDIRECT(\"mf2!A\"&$G$11):INDIRECT(\"mf2!A\"&$H$15),MATCH('mf1'!A98,INDIRECT(\"mf2!A\"&$G$11):INDIRECT(\"mf2!A\"&$H$15),0),1)","v":{"$error":"#N/A"}},{"$f":"INDEX('mf2'!$A$5:$E$100,MATCH('mf1'!A98,'mf2'!$A$5:$A$100,0),5)","v":{"$error":"#N/A"}},0,null,null,null,null,null,{"$f":"INDEX(INDIRECT(\"mf3!A\"&$G$12):INDIRECT(\"mf3!A\"&$H$16),MATCH('mf2'!A98,INDIRECT(\"mf3!A\"&$G$12):INDIRECT(\"mf3!A\"&$H$16),0),1)","v":{"$error":"#N/A"}},{"$f":"INDEX('mf3'!$A$5:$E$100,MATCH('mf2'!A98,'mf3'!$A$5:$A$100,0),5)","v":{"$error":"#N/A"}},0,null,null,null,null,null,{"$f":"INDEX(INDIRECT(\"mf3!A\"&$G$12):INDIRECT(\"mf3!A\"&$H$16),MATCH('mf1'!A98,INDIRECT(\"mf3!A\"&$G$12):INDIRECT(\"mf3!A\"&$H$16),0),1)","v":{"$error":"#N/A"}},{"$f":"INDEX('mf3'!$A$5:$E$100,MATCH('mf1'!A98,'mf3'!$A$5:$A$100,0),5)","v":{"$error":"#N/A"}},0]
[null,null,null,null,null,null,null,null,95,{"$f":"INDEX(INDIRECT(\"mf2!A\"&$G$11):INDIRECT(\"mf2!A\"&$H$15),MATCH('mf1'!A99,INDIRECT(\"mf2!A\"&$G$11):INDIRECT(\"mf2!A\"&$H$15),0),1)","v":{"$error":"#N/A"}},{"$f":"INDEX('mf2'!$A$5:$E$100,MATCH('mf1'!A99,'mf2'!$A$5:$A$100,0),5)","v":{"$error":"#N/A"}},0,null,null,null,null,null,{"$f":"INDEX(INDIRECT(\"mf3!A\"&$G$12):INDIRECT(\"mf3!A\"&$H$16),MATCH('mf2'!A99,INDIRECT(\"mf3!A\"&$G$12):INDIRECT(\"mf3!A\"&$H$16),0),1)","v":{"$error":"#N/A"}},{"$f":"INDEX('mf3'!$A$5:$E$100,MATCH('mf2'!A99,'mf3'!$A$5:$A$100,0),5)","v":{"$error":"#N/A"}},0,null,null,null,null,null,{"$f":"INDEX(INDIRECT(\"mf3!A\"&$G$12):INDIRECT(\"mf3!A\"&$H$16),MATCH('mf1'!A99,INDIRECT(\"mf3!A\"&$G$12):INDIRECT(\"mf3!A\"&$H$16),0),1)","v":{"$error":"#N/A"}},{"$f":"INDEX('mf3'!$A$5:$E$100,MATCH('mf1'!A99,'mf3'!$A$5:$A$100,0),5)","v":{"$error":"#N/A"}},0]
[null,null,null,null,null,null,null,null,96,{"$f":"INDEX(INDIRECT(\"mf2!A\"&$G$11):INDIRECT(\"mf2!A\"&$H$15),MATCH('mf1'!A100,INDIRECT(\"mf2!A\"&$G$11):INDIRECT(\"mf2!A\"&$H$15),0),1)","v":{"$error":"#N/A"}},{"$f":"INDEX('mf2'!$A$5:$E$100,MATCH('mf1'!A100,'mf2'!$A$5:$A$100,0),5)","v":{"$error":"#N/A"}},0,null,null,null,null,null,{"$f":"INDEX(INDIRECT(\"mf3!A\"&$G$12):INDIRECT(\"mf3!A\"&$H$16),MATCH('mf2'!A100,INDIRECT(\"mf3!A\"&$G$12):INDIRECT(\"mf3!A\"&$H$16),0),1)","v":{"$error":"#N/A"}},{"$f":"INDEX('mf3'!$A$5:$E$100,MATCH('mf2'!A100,'mf3'!$A$5:$A$100,0),5)","v":{"$error":"#N/A"}},0,null,null,null,null,null,{"$f":"INDEX(INDIRECT(\"mf3!A\"&$G$12):INDIRECT(\"mf3!A\"&$H$16),MATCH('mf1'!A100,INDIRECT(\"mf3!A\"&$G$12):INDIRECT(\"mf3!A\"&$H$16),0),1)","v":{"$error":"#N/A"}},{"$f":"INDEX('mf3'!$A$5:$E$100,MATCH('mf1'!A100,'mf3'!$A$5:$A$100,0),5)","v":{"$error":"#N/A"}},0]
[null,null,null,null,null,null,null,null,97,{"$f":"INDEX(INDIRECT(\"mf2!A\"&$G$11):INDIRECT(\"mf2!A\"&$H$15),MATCH('mf1'!A101,INDIRECT(\"mf2!A\"&$G$11):INDIRECT(\"mf2!A\"&$H$15),0),1)","v":{"$error":"#N/A"}},{"$f":"INDEX('mf2'!$A$5:$E$100,MATCH('mf1'!A101,'mf2'!$A$5:$A$100,0),5)","v":{"$error":"#N/A"}},0,null,null,null,null,null,{"$f":"INDEX(INDIRECT(\"mf3!A\"&$G$12):INDIRECT(\"mf3!A\"&$H$16),MATCH('mf2'!A101,INDIRECT(\"mf3!A\"&$G$12):INDIRECT(\"mf3!A\"&$H$16),0),1)","v":{"$error":"#N/A"}},{"$f":"INDEX('mf3'!$A$5:$E$100,MATCH('mf2'!A101,'mf3'!$A$5:$A$100,0),5)","v":{"$error":"#N/A"}},0,null,null,null,null,null,{"$f":"INDEX(INDIRECT(\"mf3!A\"&$G$12):INDIRECT(\"mf3!A\"&$H$16),MATCH('mf1'!A101,INDIRECT(\"mf3!A\"&$G$12):INDIRECT(\"mf3!A\"&$H$16),0),1)","v":{"$error":"#N/A"}},{"$f":"INDEX('mf3'!$A$5:$E$100,MATCH('mf1'!A101,'mf3'!$A$5:$A$100,0),5)","v":{"$error":"#N/A"}},0]
[null,null,null,null,null,null,null,null,98,{"$f":"INDEX(INDIRECT(\"mf2!A\"&$G$11):INDIRECT(\"mf2!A\"&$H$15),MATCH('mf1'!A102,INDIRECT(\"mf2!A\"&$G$11):INDIRECT(\"mf2!A\"&$H$15),0),1)","v":{"$error":"#N/A"}},{"$f":"INDEX('mf2'!$A$5:$E$100,MATCH('mf1'!A102,'mf2'!$A$5:$A$100,0),5)","v":{"$error":"#N/A"}},0,null,null,null,null,null,{"$f":"INDEX(INDIRECT(\"mf3!A\"&$G$12):INDIRECT(\"mf3!A\"&$H$16),MATCH('mf2'!A102,INDIRECT(\"mf3!A\"&$G$12):INDIRECT(\"mf3!A\"&$H$16),0),1)","v":{"$error":"#N/A"}},{"$f":"INDEX('mf3'!$A$5:$E$100,MATCH('mf2'!A102,'mf3'!$A$5:$A$100,0),5)","v":{"$error":"#N/A"}},0,null,null,null,null,null,{"$f":"INDEX(INDIRECT(\"mf3!A\"&$G$12):INDIRECT(\"mf3!A\"&$H$16),MATCH('mf1'!A102,INDIRECT(\"mf3!A\"&$G$12):INDIRECT(\"mf3!A\"&$H$16),0),1)","v":{"$error":"#N/A"}},{"$f":"INDEX('mf3'!$A$5:$E$100,MATCH('mf1'!A102,'mf3'!$A$5:$A$100,0),5)","v":{"$error":"#N/A"}},0]
[null,null,null,null,null,null,null,null,99,{"$f":"INDEX(INDIRECT(\"mf2!A\"&$G$11):INDIRECT(\"mf2!A\"&$H$15),MATCH('mf1'!A103,INDIRECT(\"mf2!A\"&$G$11):INDIRECT(\"mf2!A\"&$H$15),0),1)","v":{"$error":"#N/A"}},{"$f":"INDEX('mf2'!$A$5:$E$100,MATCH('mf1'!A103,'mf2'!$A$5:$A$100,0),5)","v":{"$error":"#N/A"}},0,null,null,null,null,null,{"$f":"INDEX(INDIRECT(\"mf3!A\"&$G$12):INDIRECT(\"mf3!A\"&$H$16),MATCH('mf2'!A103,INDIRECT(\"mf3!A\"&$G$12):INDIRECT(\"mf3!A\"&$H$16),0),1)","v":{"$error":"#N/A"}},{"$f":"INDEX('mf3'!$A$5:$E$100,MATCH('mf2'!A103,'mf3'!$A$5:$A$100,0),5)","v":{"$error":"#N/A"}},0,null,null,null,null,null,{"$f":"INDEX(INDIRECT(\"mf3!A\"&$G$12):INDIRECT(\"mf3!A\"&$H$16),MATCH('mf1'!A103,INDIRECT(\"mf3!A\"&$G$12):INDIRECT(\"mf3!A\"&$H$16),0),1)","v":{"$error":"#N/A"}},{"$f":"INDEX('mf3'!$A$5:$E$100,MATCH('mf1'!A103,'mf3'!$A$5:$A$100,0),5)","v":{"$error":"#N/A"}},0]
[null,null,null,null,null,null,null,null,100,{"$f":"INDEX(INDIRECT(\"mf2!A\"&$G$11):INDIRECT(\"mf2!A\"&$H$15),MATCH('mf1'!A104,INDIRECT(\"mf2!A\"&$G$11):INDIRECT(\"mf2!A\"&$H$15),0),1)","v":{"$error":"#N/A"}},{"$f":"INDEX('mf2'!$A$5:$E$100,MATCH('mf1'!A104,'mf2'!$A$5:$A$100,0),5)","v":{"$error":"#N/A"}},0,null,null,null,null,null,{"$f":"INDEX(INDIRECT(\"mf3!A\"&$G$12):INDIRECT(\"mf3!A\"&$H$16),MATCH('mf2'!A104,INDIRECT(\"mf3!A\"&$G$12):INDIRECT(\"mf3!A\"&$H$16),0),1)","v":{"$error":"#N/A"}},{"$f":"INDEX('mf3'!$A$5:$E$100,MATCH('mf2'!A104,'mf3'!$A$5:$A$100,0),5)","v":{"$error":"#N/A"}},0,null,null,null,null,null,{"$f":"INDEX(INDIRECT(\"mf3!A\"&$G$12):INDIRECT(\"mf3!A\"&$H$16),MATCH('mf1'!A104,INDIRECT(\"mf3!A\"&$G$12):INDIRECT(\"mf3!A\"&$H$16),0),1)","v":{"$error":"#N/A"}},{"$f":"INDEX('mf3'!$A$5:$E$100,MATCH('mf1'!A104,'mf3'!$A$5:$A$100,0),5)","v":{"$error":"#N/A"}},0]
[null,null,null,null,null,null,null,null,null,null,null,{"$f":"SUM(L2:L101)-J103-J104","v":24},null,null,null,null,null,null,null,{"$f":"SUM(T2:T101)-R103","v":24},null,null,null,null,null,null,null,{"$f":"SUM(AB2:AB101)-Z103","v":24}]
[null,null,null,null,null,null,null,null,null,{"$f":"IF(ISERROR(MATCH(\"Others / Unlisted\",'mf1'!A1:A1068,0)),0,1)","v":0},null,null,null,null,null,null,null,{"$f":"IF(ISERROR(MATCH(\"Others / Unlisted\",'mf2'!A1:A1068,0)),0,1)","v":0},null,null,null,null,null,null,null,{"$f":"IF(ISERROR(MATCH(\"Others / Unlisted\",'mf3'!A1:A1068,0)),0,1)","v":0}]
[null,null,null,null,null,null,null,null,null,{"$f":"IF(ISERROR(MATCH(\"Mutual Funds\",'mf1'!A1:A1068,0)),0,1)","v":0}]

{"sheet":"Results-advanced","index":3,"n_rows":177,"n_cols":46,"rows_kept":177,"cut":false,"hidden":false,"merged":[]}
[]
[]
[]
[]
["Common Stocks (% in equity folio, excluding internationl stocks).",{"$f":"'Results-simple'!B1","v":"quantum tax saving fund"},{"$f":"'Results-simple'!C1","v":"quantum long term equity"},"Value",null,"Common Stocks (% in equity folio)",{"$f":"'Results-simple'!C1","v":"quantum long term equity"},{"$f":"'Results-simple'!D1","v":"quantum tax saving fund"},"Value",null,null,null,null,{"$f":"IF(O5=\"\",IF(O6=\"\",IF(O7=\"\",IF(O8=\"\",IF(O9=\"\",IF(O10=\"\",IF(O11=\"\",IF(O12=\"\",IF(O13=\"\",IF(O14=\"\",IF(O15=\"\",IF(O16=\"\",IF(O17=\"\",IF(O18=\"\",IF(O19=\"\",IF(O20=\"\",IF(O21=\"\",IF(O22=\"\",IF(O23=\"\",IF(O24=\"\",IF(O25=\"\",IF(O26=\"\",IF(O27=\"\",IF(O28=\"\",IF(O29=\"\",IF(O30=\"\",O31,O30),O29),O28),O27),O26),O25),O24),O23),O22),O21),O20),O19),O18),O17),O16),O15),O14),O13),O12),O11),O10),O9),O8),O7),O6),O5)","v":"Bajaj Auto"},{"$f":"IF(ISERROR(INDEX($F$6:$F$30,MATCH(A6,$F$6:$F$30,0),1)),\"\",INDEX($F$6:$F$30,MATCH(A6,$F$6:$F$30,0),1))","v":"Bajaj Auto"},null,null,null,"Common Stocks (% in equity folio)",{"$f":"'Results-simple'!B1","v":"quantum tax saving fund"},{"$f":"'Results-simple'!D1","v":"quantum tax saving fund"},"Value"]
["Bajaj Auto",{"$f":"  IF(A6=\"Zztock\",\"\",IF(ISERROR(A6),\"\",IF(A6=0,\"\",INDEX('mf1'!$A$5:$E$100,MATCH(A6,'mf1'!$A$5:$A$100,0),5))))","v":7.97},{"$f":" IF(A6=\"Zztock\",\"\",IF(ISERROR(A6),\"\",IF(A6=0,\"\",INDEX('mf2'!$A$5:$E$100,MATCH(A6,'mf2'!$A$5:$A$100,0),5))))","v":8.14},{"$f":" IF(A6=\"Zztock\",\"\",IF(ISERROR(A6),\"\",IF(A6=0,\"\",(mf2value*'Results-advanced'!B6+mf1value*'Results-advanced'!C6)/100)))","v":16110},{"$f":"IF(A6<>\"\",1,0)","v":1},"Bajaj Auto",{"$f":" IF(F6=\"Zztock\",\"\",IF(ISERROR(F6),\"\",IF(F6=0,\"\",INDEX('mf2'!$A$5:$E$100,MATCH(F6,'mf2'!$A$5:$A$100,0),5))))","v":8.14},{"$f":" IF(F6=\"Zztock\",\"\",IF(ISERROR(F6),\"\",IF(F6=0,\"\",INDEX('mf3'!$A$5:$E$100,MATCH(F6,'mf3'!$A$5:$A$100,0),5))))","v":7.97},{"$f":" IF(F6=\"Zztock\",\"\",IF(ISERROR(F6),\"\",IF(F6=0,\"\",(mf3value*'Results-advanced'!G6+'Results-advanced'!H6*mf2value)/100)))","v":16110},{"$f":"IF(F6<>\"\",1,0)","v":1},null,null,{"$f":"INDEX(common3,MATCH(0,COUNTIF($M$5:M5,common3),0))","v":"Bajaj Auto"},{"$f":"IF(O6=\"\",IF(O7=\"\",IF(O8=\"\",IF(O9=\"\",IF(O10=\"\",IF(O11=\"\",IF(O12=\"\",IF(O13=\"\",IF(O14=\"\",IF(O15=\"\",IF(O16=\"\",IF(O17=\"\",IF(O18=\"\",IF(O19=\"\",IF(O20=\"\",IF(O21=\"\",IF(O22=\"\",IF(O23=\"\",IF(O24=\"\",IF(O25=\"\",IF(O26=\"\",IF(O27=\"\",IF(O28=\"\",IF(O29=\"\",IF(O30=\"\",IF(O31=\"\",O32,O31),O30),O29),O28),O27),O26),O25),O24),O23),O22),O21),O20),O19),O18),O17),O16),O15),O14),O13),O12),O11),O10),O9),O8),O7),O6)","v":"Bharti Airtel"},"Bharti Airtel",null,null,null,"Bajaj Auto",{"$f":" IF(S6=\"Zztock\",\"\",IF(ISERROR(S6),\"\",IF(S6=0,\"\",INDEX('mf1'!$A$5:$E$100,MATCH(S6,'mf1'!$A$5:$A$100,0),5))))","v":7.97},{"$f":" IF(S6=\"Zztock\",\"\", IF(ISERROR(S6),\"\",IF(S6=0,\"\",INDEX('mf3'!$A$5:$E$100,MATCH(S6,'mf3'!$A$5:$A$100,0),5))))","v":7.97},{"$f":" IF(S6=\"Zztock\",\"\", IF(ISERROR(S6),\"\",IF(S6=0,\"\",(mf3value*'Results-advanced'!T6+'Results-advanced'!U6*mf1value)/100)))","v":15940},{"$f":"IF(S6<>\"\",1,0)","v":1}]
["Bharti Airtel",{"$f":"  IF(A7=\"Zztock\",\"\",IF(ISERROR(A7),\"\",IF(A7=0,\"\",INDEX('mf1'!$A$5:$E$100,MATCH(A7,'mf1'!$A$5:$A$100,0),5))))","v":2.29},{"$f":" IF(A7=\"Zztock\",\"\",IF(ISERROR(A7),\"\",IF(A7=0,\"\",INDEX('mf2'!$A$5:$E$100,MATCH(A7,'mf2'!$A$5:$A$100,0),5))))","v":2.2999999999999998},{"$f":" IF(A7=\"Zztock\",\"\",IF(ISERROR(A7),\"\",IF(A7=0,\"\",(mf2value*'Results-advanced'!B7+mf1value*'Results-advanced'!C7)/100)))","v":4590},{"$f":"IF(A7<>\"\",1,0)","v":1},"Bharti Airtel",{"$f":" IF(F7=\"Zztock\",\"\",IF(ISERROR(F7),\"\",IF(F7=0,\"\",INDEX('mf2'!$A$5:$E$100,MATCH(F7,'mf2'!$A$5:$A$100,0),5))))","v":2.2999999999999998},{"$f":" IF(F7=\"Zztock\",\"\",IF(ISERROR(F7),\"\",IF(F7=0,\"\",INDEX('mf3'!$A$5:$E$100,MATCH(F7,'mf3'!$A$5:$A$100,0),5))))","v":2.29},{"$f":" IF(F7=\"Zztock\",\"\",IF(ISERROR(F7),\"\",IF(F7=0,\"\",(mf3value*'Results-advanced'!G7+'Results-advanced'!H7*mf2value)/100)))","v":4590},{"$f":"IF(F7<>\"\",1,0)","v":1},null,null,{"$f":"INDEX(common3,MATCH(0,COUNTIF($M$5:M6,common3),0))","v":"Bharti Airtel"},"Cipla","Cipla",null,null,null,"Bharti Airtel",{"$f":" IF(S7=\"Zztock\",\"\",IF(ISERROR(S7),\"\",IF(S7=0,\"\",INDEX('mf1'!$A$5:$E$100,MATCH(S7,'mf1'!$A$5:$A$100,0),5))))","v":2.29},{"$f":" IF(S7=\"Zztock\",\"\", IF(ISERROR(S7),\"\",IF(S7=0,\"\",INDEX('mf3'!$A$5:$E$100,MATCH(S7,'mf3'!$A$5:$A$100,0),5))))","v":2.29},{"$f":" IF(S7=\"Zztock\",\"\", IF(ISERROR(S7),\"\",IF(S7=0,\"\",(mf3value*'Results-advanced'!T7+'Results-advanced'!U7*mf1value)/100)))","v":4580},{"$f":"IF(S7<>\"\",1,0)","v":1}]
["Cipla",{"$f":"  IF(A8=\"Zztock\",\"\",IF(ISERROR(A8),\"\",IF(A8=0,\"\",INDEX('mf1'!$A$5:$E$100,MATCH(A8,'mf1'!$A$5:$A$100,0),5))))","v":3.09},{"$f":" IF(A8=\"Zztock\",\"\",IF(ISERROR(A8),\"\",IF(A8=0,\"\",INDEX('mf2'!$A$5:$E$100,MATCH(A8,'mf2'!$A$5:$A$100,0),5))))","v":2.83},{"$f":" IF(A8=\"Zztock\",\"\",IF(ISERROR(A8),\"\",IF(A8=0,\"\",(mf2value*'Results-advanced'!B8+mf1value*'Results-advanced'!C8)/100)))","v":5920},1,"Cipla",{"$f":" IF(F8=\"Zztock\",\"\",IF(ISERROR(F8),\"\",IF(F8=0,\"\",INDEX('mf2'!$A$5:$E$100,MATCH(F8,'mf2'!$A$5:$A$100,0),5))))","v":2.83},{"$f":" IF(F8=\"Zztock\",\"\",IF(ISERROR(F8),\"\",IF(F8=0,\"\",INDEX('mf3'!$A$5:$E$100,MATCH(F8,'mf3'!$A$5:$A$100,0),5))))","v":3.09},{"$f":" IF(F8=\"Zztock\",\"\",IF(ISERROR(F8),\"\",IF(F8=0,\"\",(mf3value*'Results-advanced'!G8+'Results-advanced'!H8*mf2value)/100)))","v":5920},1,null,null,{"$f":"INDEX(common3,MATCH(0,COUNTIF($M$5:M7,common3),0))","v":"Cipla"},"Exide Ind","Exide Ind",null,null,null,"Cipla",{"$f":" IF(S8=\"Zztock\",\"\",IF(ISERROR(S8),\"\",IF(S8=0,\"\",INDEX('mf1'!$A$5:$E$100,MATCH(S8,'mf1'!$A$5:$A$100,0),5))))","v":3.09},{"$f":" IF(S8=\"Zztock\",\"\", IF(ISERROR(S8),\"\",IF(S8=0,\"\",INDEX('mf3'!$A$5:$E$100,MATCH(S8,'mf3'!$A$5:$A$100,0),5))))","v":3.09},{"$f":" IF(S8=\"Zztock\",\"\", IF(ISERROR(S8),\"\",IF(S8=0,\"\",(mf3value*'Results-advanced'!T8+'Results-advanced'!U8*mf1value)/100)))","v":6180},1]
["Exide Ind",{"$f":"  IF(A9=\"Zztock\",\"\",IF(ISERROR(A9),\"\",IF(A9=0,\"\",INDEX('mf1'!$A$5:$E$100,MATCH(A9,'mf1'!$A$5:$A$100,0),5))))","v":3.08},{"$f":" IF(A9=\"Zztock\",\"\",IF(ISERROR(A9),\"\",IF(A9=0,\"\",INDEX('mf2'!$A$5:$E$100,MATCH(A9,'mf2'!$A$5:$A$100,0),5))))","v":3.2},{"$f":" IF(A9=\"Zztock\",\"\",IF(ISERROR(A9),\"\",IF(A9=0,\"\",(mf2value*'Results-advanced'!B9+mf1value*'Results-advanced'!C9)/100)))","v":6280},1,"Exide Ind",{"$f":" IF(F9=\"Zztock\",\"\",IF(ISERROR(F9),\"\",IF(F9=0,\"\",INDEX('mf2'!$A$5:$E$100,MATCH(F9,'mf2'!$A$5:$A$100,0),5))))","v":3.2},{"$f":" IF(F9=\"Zztock\",\"\",IF(ISERROR(F9),\"\",IF(F9=0,\"\",INDEX('mf3'!$A$5:$E$100,MATCH(F9,'mf3'!$A$5:$A$100,0),5))))","v":3.08},{"$f":" IF(F9=\"Zztock\",\"\",IF(ISERROR(F9),\"\",IF(F9=0,\"\",(mf3value*'Results-advanced'!G9+'Results-advanced'!H9*mf2value)/100)))","v":6280},1,null,null,{"$f":"INDEX(common3,MATCH(0,COUNTIF($M$5:M8,common3),0))","v":"Exide Ind"},"GAIL","GAIL",null,null,null,"Exide Ind",{"$f":" IF(S9=\"Zztock\",\"\",IF(ISERROR(S9),\"\",IF(S9=0,\"\",INDEX('mf1'!$A$5:$E$100,MATCH(S9,'mf1'!$A$5:$A$100,0),5))))","v":3.08},{"$f":" IF(S9=\"Zztock\",\"\", IF(ISERROR(S9),\"\",IF(S9=0,\"\",INDEX('mf3'!$A$5:$E$100,MATCH(S9,'mf3'!$A$5:$A$100,0),5))))","v":3.08},{"$f":" IF(S9=\"Zztock\",\"\", IF(ISERROR(S9),\"\",IF(S9=0,\"\",(mf3value*'Results-advanced'!T9+'Results-advanced'!U9*mf1value)/100)))","v":6160},1]
["GAIL",{"$f":"  IF(A10=\"Zztock\",\"\",IF(ISERROR(A10),\"\",IF(A10=0,\"\",INDEX('mf1'!$A$5:$E$100,MATCH(A10,'mf1'!$A$5:$A$100,0),5))))","v":2.6},{"$f":" IF(A10=\"Zztock\",\"\",IF(ISERROR(A10),\"\",IF(A10=0,\"\",INDEX('mf2'!$A$5:$E$100,MATCH(A10,'mf2'!$A$5:$A$100,0),5))))","v":2.56},{"$f":" IF(A10=\"Zztock\",\"\",IF(ISERROR(A10),\"\",IF(A10=0,\"\",(mf2value*'Results-advanced'!B10+mf1value*'Results-advanced'!C10)/100)))","v":5160},1,"GAIL",{"$f":" IF(F10=\"Zztock\",\"\",IF(ISERROR(F10),\"\",IF(F10=0,\"\",INDEX('mf2'!$A$5:$E$100,MATCH(F10,'mf2'!$A$5:$A$100,0),5))))","v":2.56},{"$f":" IF(F10=\"Zztock\",\"\",IF(ISERROR(F10),\"\",IF(F10=0,\"\",INDEX('mf3'!$A$5:$E$100,MATCH(F10,'mf3'!$A$5:$A$100,0),5))))","v":2.6},{"$f":" IF(F10=\"Zztock\",\"\",IF(ISERROR(F10),\"\",IF(F10=0,\"\",(mf3value*'Results-advanced'!G10+'Results-advanced'!H10*mf2value)/100)))","v":5160},1,null,null,{"$f":"INDEX(common3,MATCH(0,COUNTIF($M$5:M9,common3),0))","v":"GAIL"},"HDFC","HDFC",null,null,null,"GAIL",{"$f":" IF(S10=\"Zztock\",\"\",IF(ISERROR(S10),\"\",IF(S10=0,\"\",INDEX('mf1'!$A$5:$E$100,MATCH(S10,'mf1'!$A$5:$A$100,0),5))))","v":2.6},{"$f":" IF(S10=\"Zztock\",\"\", IF(ISERROR(S10),\"\",IF(S10=0,\"\",INDEX('mf3'!$A$5:$E$100,MATCH(S10,'mf3'!$A$5:$A$100,0),5))))","v":2.6},{"$f":" IF(S10=\"Zztock\",\"\", IF(ISERROR(S10),\"\",IF(S10=0,\"\",(mf3value*'Results-advanced'!T10+'Results-advanced'!U10*mf1value)/100)))","v":5200},1]
["HDFC",{"$f":"  IF(A11=\"Zztock\",\"\",IF(ISERROR(A11),\"\",IF(A11=0,\"\",INDEX('mf1'!$A$5:$E$100,MATCH(A11,'mf1'!$A$5:$A$100,0),5))))","v":6.75},{"$f":" IF(A11=\"Zztock\",\"\",IF(ISERROR(A11),\"\",IF(A11=0,\"\",INDEX('mf2'!$A$5:$E$100,MATCH(A11,'mf2'!$A$5:$A$100,0),5))))","v":6.76},{"$f":" IF(A11=\"Zztock\",\"\",IF(ISERROR(A11),\"\",IF(A11=0,\"\",(mf2value*'Results-advanced'!B11+mf1value*'Results-advanced'!C11)/100)))","v":13510},1,"HDFC",{"$f":" IF(F11=\"Zztock\",\"\",IF(ISERROR(F11),\"\",IF(F11=0,\"\",INDEX('mf2'!$A$5:$E$100,MATCH(F11,'mf2'!$A$5:$A$100,0),5))))","v":6.76},{"$f":" IF(F11=\"Zztock\",\"\",IF(ISERROR(F11),\"\",IF(F11=0,\"\",INDEX('mf3'!$A$5:$E$100,MATCH(F11,'mf3'!$A$5:$A$100,0),5))))","v":6.75},{"$f":" IF(F11=\"Zztock\",\"\",IF(ISERROR(F11),\"\",IF(F11=0,\"\",(mf3value*'Results-advanced'!G11+'Results-advanced'!H11*mf2value)/100)))","v":13510},1,null,null,{"$f":"INDEX(common3,MATCH(0,COUNTIF($M$5:M10,common3),0))","v":"HDFC"},"Hero Motocorp","Hero Motocorp",null,null,null,"HDFC",{"$f":" IF(S11=\"Zztock\",\"\",IF(ISERROR(S11),\"\",IF(S11=0,\"\",INDEX('mf1'!$A$5:$E$100,MATCH(S11,'mf1'!$A$5:$A$100,0),5))))","v":6.75},{"$f":" IF(S11=\"Zztock\",\"\", IF(ISERROR(S11),\"\",IF(S11=0,\"\",INDEX('mf3'!$A$5:$E$100,MATCH(S11,'mf3'!$A$5:$A$100,0),5))))","v":6.75},{"$f":" IF(S11=\"Zztock\",\"\", IF(ISERROR(S11),\"\",IF(S11=0,\"\",(mf3value*'Results-advanced'!T11+'Results-advanced'!U11*mf1value)/100)))","v":13500},1]
["Hero Motocorp",{"$f":"  IF(A12=\"Zztock\",\"\",IF(ISERROR(A12),\"\",IF(A12=0,\"\",INDEX('mf1'!$A$5:$E$100,MATCH(A12,'mf1'!$A$5:$A$100,0),5))))","v":6.74},{"$f":" IF(A12=\"Zztock\",\"\",IF(ISERROR(A12),\"\",IF(A12=0,\"\",INDEX('mf2'!$A$5:$E$100,MATCH(A12,'mf2'!$A$5:$A$100,0),5))))","v":6.77},{"$f":" IF(A12=\"Zztock\",\"\",IF(ISERROR(A12),\"\",IF(A12=0,\"\",(mf2value*'Results-advanced'!B12+mf1value*'Results-advanced'!C12)/100)))","v":13510},1,"Hero Motocorp",{"$f":" IF(F12=\"Zztock\",\"\",IF(ISERROR(F12),\"\",IF(F12=0,\"\",INDEX('mf2'!$A$5:$E$100,MATCH(F12,'mf2'!$A$5:$A$100,0),5))))","v":6.77},{"$f":" IF(F12=\"Zztock\",\"\",IF(ISERROR(F12),\"\",IF(F12=0,\"\",INDEX('mf3'!$A$5:$E$100,MATCH(F12,'mf3'!$A$5:$A$100,0),5))))","v":6.74},{"$f":" IF(F12=\"Zztock\",\"\",IF(ISERROR(F12),\"\",IF(F12=0,\"\",(mf3value*'Results-advanced'!G12+'Results-advanced'!H12*mf2value)/100)))","v":13510},1,null,null,{"$f":"INDEX(common3,MATCH(0,COUNTIF($M$5:M11,common3),0))","v":"Hero Motocorp"},"ICICI Bank","ICICI Bank",null,null,null,"Hero Motocorp",{"$f":" IF(S12=\"Zztock\",\"\",IF(ISERROR(S12),\"\",IF(S12=0,\"\",INDEX('mf1'!$A$5:$E$100,MATCH(S12,'mf1'!$A$5:$A$100,0),5))))","v":6.74},{"$f":" IF(S12=\"Zztock\",\"\", IF(ISERROR(S12),\"\",IF(S12=0,\"\",INDEX('mf3'!$A$5:$E$100,MATCH(S12,'mf3'!$A$5:$A$100,0),5))))","v":6.74},{"$f":" IF(S12=\"Zztock\",\"\", IF(ISERROR(S12),\"\",IF(S12=0,\"\",(mf3value*'Results-advanced'!T12+'Results-advanced'!U12*mf1value)/100)))","v":13480},1]
["ICICI Bank",{"$f":"  IF(A13=\"Zztock\",\"\",IF(ISERROR(A13),\"\",IF(A13=0,\"\",INDEX('mf1'!$A$5:$E$100,MATCH(A13,'mf1'!$A$5:$A$100,0),5))))","v":3.47},{"$f":" IF(A13=\"Zztock\",\"\",IF(ISERROR(A13),\"\",IF(A13=0,\"\",INDEX('mf2'!$A$5:$E$100,MATCH(A13,'mf2'!$A$5:$A$100,0),5))))","v":3.52},{"$f":" IF(A13=\"Zztock\",\"\",IF(ISERROR(A13),\"\",IF(A13=0,\"\",(mf2value*'Results-advanced'!B13+mf1value*'Results-advanced'!C13)/100)))","v":6990},1,"ICICI Bank",{"$f":" IF(F13=\"Zztock\",\"\",IF(ISERROR(F13),\"\",IF(F13=0,\"\",INDEX('mf2'!$A$5:$E$100,MATCH(F13,'mf2'!$A$5:$A$100,0),5))))","v":3.52},{"$f":" IF(F13=\"Zztock\",\"\",IF(ISERROR(F13),\"\",IF(F13=0,\"\",INDEX('mf3'!$A$5:$E$100,MATCH(F13,'mf3'!$A$5:$A$100,0),5))))","v":3.47},{"$f":" IF(F13=\"Zztock\",\"\",IF(ISERROR(F13),\"\",IF(F13=0,\"\",(mf3value*'Results-advanced'!G13+'Results-advanced'!H13*mf2value)/100)))","v":6990},1,null,null,{"$f":"INDEX(common3,MATCH(0,COUNTIF($M$5:M12,common3),0))","v":"ICICI Bank"},"Indian Hotels","Indian Hotels",null,null,null,"ICICI Bank",{"$f":" IF(S13=\"Zztock\",\"\",IF(ISERROR(S13),\"\",IF(S13=0,\"\",INDEX('mf1'!$A$5:$E$100,MATCH(S13,'mf1'!$A$5:$A$100,0),5))))","v":3.47},{"$f":" IF(S13=\"Zztock\",\"\", IF(ISERROR(S13),\"\",IF(S13=0,\"\",INDEX('mf3'!$A$5:$E$100,MATCH(S13,'mf3'!$A$5:$A$100,0),5))))","v":3.47},{"$f":" IF(S13=\"Zztock\",\"\", IF(ISERROR(S13),\"\",IF(S13=0,\"\",(mf3value*'Results-advanced'!T13+'Results-advanced'!U13*mf1value)/100)))","v":6940},1]
["Indian Hotels",{"$f":"  IF(A14=\"Zztock\",\"\",IF(ISERROR(A14),\"\",IF(A14=0,\"\",INDEX('mf1'!$A$5:$E$100,MATCH(A14,'mf1'!$A$5:$A$100,0),5))))","v":3.16},{"$f":" IF(A14=\"Zztock\",\"\",IF(ISERROR(A14),\"\",IF(A14=0,\"\",INDEX('mf2'!$A$5:$E$100,MATCH(A14,'mf2'!$A$5:$A$100,0),5))))","v":3.04},{"$f":" IF(A14=\"Zztock\",\"\",IF(ISERROR(A14),\"\",IF(A14=0,\"\",(mf2value*'Results-advanced'!B14+mf1value*'Results-advanced'!C14)/100)))","v":6200},1,"Indian Hotels",{"$f":" IF(F14=\"Zztock\",\"\",IF(ISERROR(F14),\"\",IF(F14=0,\"\",INDEX('mf2'!$A$5:$E$100,MATCH(F14,'mf2'!$A$5:$A$100,0),5))))","v":3.04},{"$f":" IF(F14=\"Zztock\",\"\",IF(ISERROR(F14),\"\",IF(F14=0,\"\",INDEX('mf3'!$A$5:$E$100,MATCH(F14,'mf3'!$A$5:$A$100,0),5))))","v":3.16},{"$f":" IF(F14=\"Zztock\",\"\",IF(ISERROR(F14),\"\",IF(F14=0,\"\",(mf3value*'Results-advanced'!G14+'Results-advanced'!H14*mf2value)/100)))","v":6200},1,null,null,{"$f":"INDEX(common3,MATCH(0,COUNTIF($M$5:M13,common3),0))","v":"Indian Hotels"},"Infosys","Infosys",null,null,null,"Indian Hotels",{"$f":" IF(S14=\"Zztock\",\"\",IF(ISERROR(S14),\"\",IF(S14=0,\"\",INDEX('mf1'!$A$5:$E$100,MATCH(S14,'mf1'!$A$5:$A$100,0),5))))","v":3.16},{"$f":" IF(S14=\"Zztock\",\"\", IF(ISERROR(S14),\"\",IF(S14=0,\"\",INDEX('mf3'!$A$5:$E$100,MATCH(S14,'mf3'!$A$5:$A$100,0),5))))","v":3.16},{"$f":" IF(S14=\"Zztock\",\"\", IF(ISERROR(S14),\"\",IF(S14=0,\"\",(mf3value*'Results-advanced'!T14+'Results-advanced'!U14*mf1value)/100)))","v":6320},1]
["Infosys",{"$f":"  IF(A15=\"Zztock\",\"\",IF(ISERROR(A15),\"\",IF(A15=0,\"\",INDEX('mf1'!$A$5:$E$100,MATCH(A15,'mf1'!$A$5:$A$100,0),5))))","v":5.57},{"$f":" IF(A15=\"Zztock\",\"\",IF(ISERROR(A15),\"\",IF(A15=0,\"\",INDEX('mf2'!$A$5:$E$100,MATCH(A15,'mf2'!$A$5:$A$100,0),5))))","v":5.59},{"$f":" IF(A15=\"Zztock\",\"\",IF(ISERROR(A15),\"\",IF(A15=0,\"\",(mf2value*'Results-advanced'!B15+mf1value*'Results-advanced'!C15)/100)))","v":11160},1,"Infosys",{"$f":" IF(F15=\"Zztock\",\"\",IF(ISERROR(F15),\"\",IF(F15=0,\"\",INDEX('mf2'!$A$5:$E$100,MATCH(F15,'mf2'!$A$5:$A$100,0),5))))","v":5.59},{"$f":" IF(F15=\"Zztock\",\"\",IF(ISERROR(F15),\"\",IF(F15=0,\"\",INDEX('mf3'!$A$5:$E$100,MATCH(F15,'mf3'!$A$5:$A$100,0),5))))","v":5.57},{"$f":" IF(F15=\"Zztock\",\"\",IF(ISERROR(F15),\"\",IF(F15=0,\"\",(mf3value*'Results-advanced'!G15+'Results-advanced'!H15*mf2value)/100)))","v":11160},1,null,null,{"$f":"INDEX(common3,MATCH(0,COUNTIF($M$5:M14,common3),0))","v":"Infosys"},"IOC","IOC",null,null,null,"Infosys",{"$f":" IF(S15=\"Zztock\",\"\",IF(ISERROR(S15),\"\",IF(S15=0,\"\",INDEX('mf1'!$A$5:$E$100,MATCH(S15,'mf1'!$A$5:$A$100,0),5))))","v":5.57},{"$f":" IF(S15=\"Zztock\",\"\", IF(ISERROR(S15),\"\",IF(S15=0,\"\",INDEX('mf3'!$A$5:$E$100,MATCH(S15,'mf3'!$A$5:$A$100,0),5))))","v":5.57},{"$f":" IF(S15=\"Zztock\",\"\", IF(ISERROR(S15),\"\",IF(S15=0,\"\",(mf3value*'Results-advanced'!T15+'Results-advanced'!U15*mf1value)/100)))","v":11140},1]
["IOC",{"$f":"  IF(A16=\"Zztock\",\"\",IF(ISERROR(A16),\"\",IF(A16=0,\"\",INDEX('mf1'!$A$5:$E$100,MATCH(A16,'mf1'!$A$5:$A$100,0),5))))","v":4.25},{"$f":" IF(A16=\"Zztock\",\"\",IF(ISERROR(A16),\"\",IF(A16=0,\"\",INDEX('mf2'!$A$5:$E$100,MATCH(A16,'mf2'!$A$5:$A$100,0),5))))","v":4.18},{"$f":" IF(A16=\"Zztock\",\"\",IF(ISERROR(A16),\"\",IF(A16=0,\"\",(mf2value*'Results-advanced'!B16+mf1value*'Results-advanced'!C16)/100)))","v":8430},1,"IOC",{"$f":" IF(F16=\"Zztock\",\"\",IF(ISERROR(F16),\"\",IF(F16=0,\"\",INDEX('mf2'!$A$5:$E$100,MATCH(F16,'mf2'!$A$5:$A$100,0),5))))","v":4.18},{"$f":" IF(F16=\"Zztock\",\"\",IF(ISERROR(F16),\"\",IF(F16=0,\"\",INDEX('mf3'!$A$5:$E$100,MATCH(F16,'mf3'!$A$5:$A$100,0),5))))","v":4.25},{"$f":" IF(F16=\"Zztock\",\"\",IF(ISERROR(F16),\"\",IF(F16=0,\"\",(mf3value*'Results-advanced'!G16+'Results-advanced'!H16*mf2value)/100)))","v":8430},1,null,null,{"$f":"INDEX(common3,MATCH(0,COUNTIF($M$5:M15,common3),0))","v":"IOC"},"Kotak Mahindra","Kotak Mahindra",null,null,null,"IOC",{"$f":" IF(S16=\"Zztock\",\"\",IF(ISERROR(S16),\"\",IF(S16=0,\"\",INDEX('mf1'!$A$5:$E$100,MATCH(S16,'mf1'!$A$5:$A$100,0),5))))","v":4.25},{"$f":" IF(S16=\"Zztock\",\"\", IF(ISERROR(S16),\"\",IF(S16=0,\"\",INDEX('mf3'!$A$5:$E$100,MATCH(S16,'mf3'!$A$5:$A$100,0),5))))","v":4.25},{"$f":" IF(S16=\"Zztock\",\"\", IF(ISERROR(S16),\"\",IF(S16=0,\"\",(mf3value*'Results-advanced'!T16+'Results-advanced'!U16*mf1value)/100)))","v":8500},1]
["Kotak Mahindra",{"$f":"  IF(A17=\"Zztock\",\"\",IF(ISERROR(A17),\"\",IF(A17=0,\"\",INDEX('mf1'!$A$5:$E$100,MATCH(A17,'mf1'!$A$5:$A$100,0),5))))","v":1.84},{"$f":" IF(A17=\"Zztock\",\"\",IF(ISERROR(A17),\"\",IF(A17=0,\"\",INDEX('mf2'!$A$5:$E$100,MATCH(A17,'mf2'!$A$5:$A$100,0),5))))","v":1.82},{"$f":" IF(A17=\"Zztock\",\"\",IF(ISERROR(A17),\"\",IF(A17=0,\"\",(mf2value*'Results-advanced'!B17+mf1value*'Results-advanced'!C17)/100)))","v":3660},1,"Kotak Mahindra",{"$f":" IF(F17=\"Zztock\",\"\",IF(ISERROR(F17),\"\",IF(F17=0,\"\",INDEX('mf2'!$A$5:$E$100,MATCH(F17,'mf2'!$A$5:$A$100,0),5))))","v":1.82},{"$f":" IF(F17=\"Zztock\",\"\",IF(ISERROR(F17),\"\",IF(F17=0,\"\",INDEX('mf3'!$A$5:$E$100,MATCH(F17,'mf3'!$A$5:$A$100,0),5))))","v":1.84},{"$f":" IF(F17=\"Zztock\",\"\",IF(ISERROR(F17),\"\",IF(F17=0,\"\",(mf3value*'Results-advanced'!G17+'Results-advanced'!H17*mf2value)/100)))","v":3660},1,null,null,{"$f":"INDEX(common3,MATCH(0,COUNTIF($M$5:M16,common3),0))","v":"Kotak Mahindra"},"Larsen","Larsen",null,null,null,"Kotak Mahindra",{"$f":" IF(S17=\"Zztock\",\"\",IF(ISERROR(S17),\"\",IF(S17=0,\"\",INDEX('mf1'!$A$5:$E$100,MATCH(S17,'mf1'!$A$5:$A$100,0),5))))","v":1.84},{"$f":" IF(S17=\"Zztock\",\"\", IF(ISERROR(S17),\"\",IF(S17=0,\"\",INDEX('mf3'!$A$5:$E$100,MATCH(S17,'mf3'!$A$5:$A$100,0),5))))","v":1.84},{"$f":" IF(S17=\"Zztock\",\"\", IF(ISERROR(S17),\"\",IF(S17=0,\"\",(mf3value*'Results-advanced'!T17+'Results-advanced'!U17*mf1value)/100)))","v":3680},1]
["Larsen",{"$f":"  IF(A18=\"Zztock\",\"\",IF(ISERROR(A18),\"\",IF(A18=0,\"\",INDEX('mf1'!$A$5:$E$100,MATCH(A18,'mf1'!$A$5:$A$100,0),5))))","v":2.13},{"$f":" IF(A18=\"Zztock\",\"\",IF(ISERROR(A18),\"\",IF(A18=0,\"\",INDEX('mf2'!$A$5:$E$100,MATCH(A18,'mf2'!$A$5:$A$100,0),5))))","v":2.12},{"$f":" IF(A18=\"Zztock\",\"\",IF(ISERROR(A18),\"\",IF(A18=0,\"\",(mf2value*'Results-advanced'!B18+mf1value*'Results-advanced'!C18)/100)))","v":4250},1,"Larsen",{"$f":" IF(F18=\"Zztock\",\"\",IF(ISERROR(F18),\"\",IF(F18=0,\"\",INDEX('mf2'!$A$5:$E$100,MATCH(F18,'mf2'!$A$5:$A$100,0),5))))","v":2.12},{"$f":" IF(F18=\"Zztock\",\"\",IF(ISERROR(F18),\"\",IF(F18=0,\"\",INDEX('mf3'!$A$5:$E$100,MATCH(F18,'mf3'!$A$5:$A$100,0),5))))","v":2.13},{"$f":" IF(F18=\"Zztock\",\"\",IF(ISERROR(F18),\"\",IF(F18=0,\"\",(mf3value*'Results-advanced'!G18+'Results-advanced'!H18*mf2value)/100)))","v":4250},1,null,null,{"$f":"INDEX(common3,MATCH(0,COUNTIF($M$5:M17,common3),0))","v":"Larsen"},"NTPC","NTPC",null,null,null,"Larsen",{"$f":" IF(S18=\"Zztock\",\"\",IF(ISERROR(S18),\"\",IF(S18=0,\"\",INDEX('mf1'!$A$5:$E$100,MATCH(S18,'mf1'!$A$5:$A$100,0),5))))","v":2.13},{"$f":" IF(S18=\"Zztock\",\"\", IF(ISERROR(S18),\"\",IF(S18=0,\"\",INDEX('mf3'!$A$5:$E$100,MATCH(S18,'mf3'!$A$5:$A$100,0),5))))","v":2.13},{"$f":" IF(S18=\"Zztock\",\"\", IF(ISERROR(S18),\"\",IF(S18=0,\"\",(mf3value*'Results-advanced'!T18+'Results-advanced'!U18*mf1value)/100)))","v":4260},1]
["NTPC",{"$f":"  IF(A19=\"Zztock\",\"\",IF(ISERROR(A19),\"\",IF(A19=0,\"\",INDEX('mf1'!$A$5:$E$100,MATCH(A19,'mf1'!$A$5:$A$100,0),5))))","v":3.91},{"$f":" IF(A19=\"Zztock\",\"\",IF(ISERROR(A19),\"\",IF(A19=0,\"\",INDEX('mf2'!$A$5:$E$100,MATCH(A19,'mf2'!$A$5:$A$100,0),5))))","v":4.05},{"$f":" IF(A19=\"Zztock\",\"\",IF(ISERROR(A19),\"\",IF(A19=0,\"\",(mf2value*'Results-advanced'!B19+mf1value*'Results-advanced'!C19)/100)))","v":7960},1,"NTPC",{"$f":" IF(F19=\"Zztock\",\"\",IF(ISERROR(F19),\"\",IF(F19=0,\"\",INDEX('mf2'!$A$5:$E$100,MATCH(F19,'mf2'!$A$5:$A$100,0),5))))","v":4.05},{"$f":" IF(F19=\"Zztock\",\"\",IF(ISERROR(F19),\"\",IF(F19=0,\"\",INDEX('mf3'!$A$5:$E$100,MATCH(F19,'mf3'!$A$5:$A$100,0),5))))","v":3.91},{"$f":" IF(F19=\"Zztock\",\"\",IF(ISERROR(F19),\"\",IF(F19=0,\"\",(mf3value*'Results-advanced'!G19+'Results-advanced'!H19*mf2value)/100)))","v":7960},1,null,null,{"$f":"INDEX(common3,MATCH(0,COUNTIF($M$5:M18,common3),0))","v":"NTPC"},"ONGC","ONGC",null,null,null,"NTPC",{"$f":" IF(S19=\"Zztock\",\"\",IF(ISERROR(S19),\"\",IF(S19=0,\"\",INDEX('mf1'!$A$5:$E$100,MATCH(S19,'mf1'!$A$5:$A$100,0),5))))","v":3.91},{"$f":" IF(S19=\"Zztock\",\"\", IF(ISERROR(S19),\"\",IF(S19=0,\"\",INDEX('mf3'!$A$5:$E$100,MATCH(S19,'mf3'!$A$5:$A$100,0),5))))","v":3.91},{"$f":" IF(S19=\"Zztock\",\"\", IF(ISERROR(S19),\"\",IF(S19=0,\"\",(mf3value*'Results-advanced'!T19+'Results-advanced'!U19*mf1value)/100)))","v":7820},1]
["ONGC",{"$f":"  IF(A20=\"Zztock\",\"\",IF(ISERROR(A20),\"\",IF(A20=0,\"\",INDEX('mf1'!$A$5:$E$100,MATCH(A20,'mf1'!$A$5:$A$100,0),5))))","v":3.25},{"$f":" IF(A20=\"Zztock\",\"\",IF(ISERROR(A20),\"\",IF(A20=0,\"\",INDEX('mf2'!$A$5:$E$100,MATCH(A20,'mf2'!$A$5:$A$100,0),5))))","v":3.15},{"$f":" IF(A20=\"Zztock\",\"\",IF(ISERROR(A20),\"\",IF(A20=0,\"\",(mf2value*'Results-advanced'!B20+mf1value*'Results-advanced'!C20)/100)))","v":6400},1,"ONGC",{"$f":" IF(F20=\"Zztock\",\"\",IF(ISERROR(F20),\"\",IF(F20=0,\"\",INDEX('mf2'!$A$5:$E$100,MATCH(F20,'mf2'!$A$5:$A$100,0),5))))","v":3.15},{"$f":" IF(F20=\"Zztock\",\"\",IF(ISERROR(F20),\"\",IF(F20=0,\"\",INDEX('mf3'!$A$5:$E$100,MATCH(F20,'mf3'!$A$5:$A$100,0),5))))","v":3.25},{"$f":" IF(F20=\"Zztock\",\"\",IF(ISERROR(F20),\"\",IF(F20=0,\"\",(mf3value*'Results-advanced'!G20+'Results-advanced'!H20*mf2value)/100)))","v":6400},1,null,null,{"$f":"INDEX(common3,MATCH(0,COUNTIF($M$5:M19,common3),0))","v":"ONGC"},"Petronet LNG","Petronet LNG",null,null,null,"ONGC",{"$f":" IF(S20=\"Zztock\",\"\",IF(ISERROR(S20),\"\",IF(S20=0,\"\",INDEX('mf1'!$A$5:$E$100,MATCH(S20,'mf1'!$A$5:$A$100,0),5))))","v":3.25},{"$f":" IF(S20=\"Zztock\",\"\", IF(ISERROR(S20),\"\",IF(S20=0,\"\",INDEX('mf3'!$A$5:$E$100,MATCH(S20,'mf3'!$A$5:$A$100,0),5))))","v":3.25},{"$f":" IF(S20=\"Zztock\",\"\", IF(ISERROR(S20),\"\",IF(S20=0,\"\",(mf3value*'Results-advanced'!T20+'Results-advanced'!U20*mf1value)/100)))","v":6500},1]
["Petronet LNG",{"$f":"  IF(A21=\"Zztock\",\"\",IF(ISERROR(A21),\"\",IF(A21=0,\"\",INDEX('mf1'!$A$5:$E$100,MATCH(A21,'mf1'!$A$5:$A$100,0),5))))","v":3.76},{"$f":" IF(A21=\"Zztock\",\"\",IF(ISERROR(A21),\"\",IF(A21=0,\"\",INDEX('mf2'!$A$5:$E$100,MATCH(A21,'mf2'!$A$5:$A$100,0),5))))","v":3.48},{"$f":" IF(A21=\"Zztock\",\"\",IF(ISERROR(A21),\"\",IF(A21=0,\"\",(mf2value*'Results-advanced'!B21+mf1value*'Results-advanced'!C21)/100)))","v":7240},1,"Petronet LNG",{"$f":" IF(F21=\"Zztock\",\"\",IF(ISERROR(F21),\"\",IF(F21=0,\"\",INDEX('mf2'!$A$5:$E$100,MATCH(F21,'mf2'!$A$5:$A$100,0),5))))","v":3.48},{"$f":" IF(F21=\"Zztock\",\"\",IF(ISERROR(F21),\"\",IF(F21=0,\"\",INDEX('mf3'!$A$5:$E$100,MATCH(F21,'mf3'!$A$5:$A$100,0),5))))","v":3.76},{"$f":" IF(F21=\"Zztock\",\"\",IF(ISERROR(F21),\"\",IF(F21=0,\"\",(mf3value*'Results-advanced'!G21+'Results-advanced'!H21*mf2value)/100)))","v":7240},1,null,null,{"$f":"INDEX(common3,MATCH(0,COUNTIF($M$5:M20,common3),0))","v":"Petronet LNG"},"Power Grid Corp","Power Grid Corp",null,null,null,"Petronet LNG",{"$f":" IF(S21=\"Zztock\",\"\",IF(ISERROR(S21),\"\",IF(S21=0,\"\",INDEX('mf1'!$A$5:$E$100,MATCH(S21,'mf1'!$A$5:$A$100,0),5))))","v":3.76},{"$f":" IF(S21=\"Zztock\",\"\", IF(ISERROR(S21),\"\",IF(S21=0,\"\",INDEX('mf3'!$A$5:$E$100,MATCH(S21,'mf3'!$A$5:$A$100,0),5))))","v":3.76},{"$f":" IF(S21=\"Zztock\",\"\", IF(ISERROR(S21),\"\",IF(S21=0,\"\",(mf3value*'Results-advanced'!T21+'Results-advanced'!U21*mf1value)/100)))","v":7520},1]
["Power Grid Corp",{"$f":"  IF(A22=\"Zztock\",\"\",IF(ISERROR(A22),\"\",IF(A22=0,\"\",INDEX('mf1'!$A$5:$E$100,MATCH(A22,'mf1'!$A$5:$A$100,0),5))))","v":3.26},{"$f":" IF(A22=\"Zztock\",\"\",IF(ISERROR(A22),\"\",IF(A22=0,\"\",INDEX('mf2'!$A$5:$E$100,MATCH(A22,'mf2'!$A$5:$A$100,0),5))))","v":2.83},{"$f":" IF(A22=\"Zztock\",\"\",IF(ISERROR(A22),\"\",IF(A22=0,\"\",(mf2value*'Results-advanced'!B22+mf1value*'Results-advanced'!C22)/100)))","v":6090},1,"Power Grid Corp",{"$f":" IF(F22=\"Zztock\",\"\",IF(ISERROR(F22),\"\",IF(F22=0,\"\",INDEX('mf2'!$A$5:$E$100,MATCH(F22,'mf2'!$A$5:$A$100,0),5))))","v":2.83},{"$f":" IF(F22=\"Zztock\",\"\",IF(ISERROR(F22),\"\",IF(F22=0,\"\",INDEX('mf3'!$A$5:$E$100,MATCH(F22,'mf3'!$A$5:$A$100,0),5))))","v":3.26},{"$f":" IF(F22=\"Zztock\",\"\",IF(ISERROR(F22),\"\",IF(F22=0,\"\",(mf3value*'Results-advanced'!G22+'Results-advanced'!H22*mf2value)/100)))","v":6090},1,null,null,{"$f":"INDEX(common3,MATCH(0,COUNTIF($M$5:M21,common3),0))","v":"Power Grid Corp"},"PTC India","PTC India",null,null,null,"Power Grid Corp",{"$f":" IF(S22=\"Zztock\",\"\",IF(ISERROR(S22),\"\",IF(S22=0,\"\",INDEX('mf1'!$A$5:$E$100,MATCH(S22,'mf1'!$A$5:$A$100,0),5))))","v":3.26},{"$f":" IF(S22=\"Zztock\",\"\", IF(ISERROR(S22),\"\",IF(S22=0,\"\",INDEX('mf3'!$A$5:$E$100,MATCH(S22,'mf3'!$A$5:$A$100,0),5))))","v":3.26},{"$f":" IF(S22=\"Zztock\",\"\", IF(ISERROR(S22),\"\",IF(S22=0,\"\",(mf3value*'Results-advanced'!T22+'Results-advanced'!U22*mf1value)/100)))","v":6520},1]
["PTC India",{"$f":"  IF(A23=\"Zztock\",\"\",IF(ISERROR(A23),\"\",IF(A23=0,\"\",INDEX('mf1'!$A$5:$E$100,MATCH(A23,'mf1'!$A$5:$A$100,0),5))))","v":2.81},{"$f":" IF(A23=\"Zztock\",\"\",IF(ISERROR(A23),\"\",IF(A23=0,\"\",INDEX('mf2'!$A$5:$E$100,MATCH(A23,'mf2'!$A$5:$A$100,0),5))))","v":2.73},{"$f":" IF(A23=\"Zztock\",\"\",IF(ISERROR(A23),\"\",IF(A23=0,\"\",(mf2value*'Results-advanced'!B23+mf1value*'Results-advanced'!C23)/100)))","v":5540},1,"PTC India",{"$f":" IF(F23=\"Zztock\",\"\",IF(ISERROR(F23),\"\",IF(F23=0,\"\",INDEX('mf2'!$A$5:$E$100,MATCH(F23,'mf2'!$A$5:$A$100,0),5))))","v":2.73},{"$f":" IF(F23=\"Zztock\",\"\",IF(ISERROR(F23),\"\",IF(F23=0,\"\",INDEX('mf3'!$A$5:$E$100,MATCH(F23,'mf3'!$A$5:$A$100,0),5))))","v":2.81},{"$f":" IF(F23=\"Zztock\",\"\",IF(ISERROR(F23),\"\",IF(F23=0,\"\",(mf3value*'Results-advanced'!G23+'Results-advanced'!H23*mf2value)/100)))","v":5540},1,null,null,{"$f":"INDEX(common3,MATCH(0,COUNTIF($M$5:M22,common3),0))","v":"PTC India"},"SBI","SBI",null,null,null,"PTC India",{"$f":" IF(S23=\"Zztock\",\"\",IF(ISERROR(S23),\"\",IF(S23=0,\"\",INDEX('mf1'!$A$5:$E$100,MATCH(S23,'mf1'!$A$5:$A$100,0),5))))","v":2.81},{"$f":" IF(S23=\"Zztock\",\"\", IF(ISERROR(S23),\"\",IF(S23=0,\"\",INDEX('mf3'!$A$5:$E$100,MATCH(S23,'mf3'!$A$5:$A$100,0),5))))","v":2.81},{"$f":" IF(S23=\"Zztock\",\"\", IF(ISERROR(S23),\"\",IF(S23=0,\"\",(mf3value*'Results-advanced'!T23+'Results-advanced'!U23*mf1value)/100)))","v":5620},1]
["SBI",{"$f":"  IF(A24=\"Zztock\",\"\",IF(ISERROR(A24),\"\",IF(A24=0,\"\",INDEX('mf1'!$A$5:$E$100,MATCH(A24,'mf1'!$A$5:$A$100,0),5))))","v":3.67},{"$f":" IF(A24=\"Zztock\",\"\",IF(ISERROR(A24),\"\",IF(A24=0,\"\",INDEX('mf2'!$A$5:$E$100,MATCH(A24,'mf2'!$A$5:$A$100,0),5))))","v":3.57},{"$f":" IF(A24=\"Zztock\",\"\",IF(ISERROR(A24),\"\",IF(A24=0,\"\",(mf2value*'Results-advanced'!B24+mf1value*'Results-advanced'!C24)/100)))","v":7240},1,"SBI",{"$f":" IF(F24=\"Zztock\",\"\",IF(ISERROR(F24),\"\",IF(F24=0,\"\",INDEX('mf2'!$A$5:$E$100,MATCH(F24,'mf2'!$A$5:$A$100,0),5))))","v":3.57},{"$f":" IF(F24=\"Zztock\",\"\",IF(ISERROR(F24),\"\",IF(F24=0,\"\",INDEX('mf3'!$A$5:$E$100,MATCH(F24,'mf3'!$A$5:$A$100,0),5))))","v":3.67},{"$f":" IF(F24=\"Zztock\",\"\",IF(ISERROR(F24),\"\",IF(F24=0,\"\",(mf3value*'Results-advanced'!G24+'Results-advanced'!H24*mf2value)/100)))","v":7240},1,null,null,{"$f":"INDEX(common3,MATCH(0,COUNTIF($M$5:M23,common3),0))","v":"SBI"},"Tata Chemicals","Tata Chemicals",null,null,null,"SBI",{"$f":" IF(S24=\"Zztock\",\"\",IF(ISERROR(S24),\"\",IF(S24=0,\"\",INDEX('mf1'!$A$5:$E$100,MATCH(S24,'mf1'!$A$5:$A$100,0),5))))","v":3.67},{"$f":" IF(S24=\"Zztock\",\"\", IF(ISERROR(S24),\"\",IF(S24=0,\"\",INDEX('mf3'!$A$5:$E$100,MATCH(S24,'mf3'!$A$5:$A$100,0),5))))","v":3.67},{"$f":" IF(S24=\"Zztock\",\"\", IF(ISERROR(S24),\"\",IF(S24=0,\"\",(mf3value*'Results-advanced'!T24+'Results-advanced'!U24*mf1value)/100)))","v":7340},1]
["Tata Chemicals",{"$f":"  IF(A25=\"Zztock\",\"\",IF(ISERROR(A25),\"\",IF(A25=0,\"\",INDEX('mf1'!$A$5:$E$100,MATCH(A25,'mf1'!$A$5:$A$100,0),5))))","v":4.2},{"$f":" IF(A25=\"Zztock\",\"\",IF(ISERROR(A25),\"\",IF(A25=0,\"\",INDEX('mf2'!$A$5:$E$100,MATCH(A25,'mf2'!$A$5:$A$100,0),5))))","v":4.16},{"$f":" IF(A25=\"Zztock\",\"\",IF(ISERROR(A25),\"\",IF(A25=0,\"\",(mf2value*'Results-advanced'!B25+mf1value*'Results-advanced'!C25)/100)))","v":8360},1,"Tata Chemicals",{"$f":" IF(F25=\"Zztock\",\"\",IF(ISERROR(F25),\"\",IF(F25=0,\"\",INDEX('mf2'!$A$5:$E$100,MATCH(F25,'mf2'!$A$5:$A$100,0),5))))","v":4.16},{"$f":" IF(F25=\"Zztock\",\"\",IF(ISERROR(F25),\"\",IF(F25=0,\"\",INDEX('mf3'!$A$5:$E$100,MATCH(F25,'mf3'!$A$5:$A$100,0),5))))","v":4.2},{"$f":" IF(F25=\"Zztock\",\"\",IF(ISERROR(F25),\"\",IF(F25=0,\"\",(mf3value*'Results-advanced'!G25+'Results-advanced'!H25*mf2value)/100)))","v":8360},1,null,null,{"$f":"INDEX(common3,MATCH(0,COUNTIF($M$5:M24,common3),0))","v":"Tata Chemicals"},"Tata Motors","Tata Motors",null,null,null,"Tata Chemicals",{"$f":" IF(S25=\"Zztock\",\"\",IF(ISERROR(S25),\"\",IF(S25=0,\"\",INDEX('mf1'!$A$5:$E$100,MATCH(S25,'mf1'!$A$5:$A$100,0),5))))","v":4.2},{"$f":" IF(S25=\"Zztock\",\"\", IF(ISERROR(S25),\"\",IF(S25=0,\"\",INDEX('mf3'!$A$5:$E$100,MATCH(S25,'mf3'!$A$5:$A$100,0),5))))","v":4.2},{"$f":" IF(S25=\"Zztock\",\"\", IF(ISERROR(S25),\"\",IF(S25=0,\"\",(mf3value*'Results-advanced'!T25+'Results-advanced'!U25*mf1value)/100)))","v":8400},1]
["Tata Motors",{"$f":"  IF(A26=\"Zztock\",\"\",IF(ISERROR(A26),\"\",IF(A26=0,\"\",INDEX('mf1'!$A$5:$E$100,MATCH(A26,'mf1'!$A$5:$A$100,0),5))))","v":4.54},{"$f":" IF(A26=\"Zztock\",\"\",IF(ISERROR(A26),\"\",IF(A26=0,\"\",INDEX('mf2'!$A$5:$E$100,MATCH(A26,'mf2'!$A$5:$A$100,0),5))))","v":4.59},{"$f":" IF(A26=\"Zztock\",\"\",IF(ISERROR(A26),\"\",IF(A26=0,\"\",(mf2value*'Results-advanced'!B26+mf1value*'Results-advanced'!C26)/100)))","v":9130},1,"Tata Motors",{"$f":" IF(F26=\"Zztock\",\"\",IF(ISERROR(F26),\"\",IF(F26=0,\"\",INDEX('mf2'!$A$5:$E$100,MATCH(F26,'mf2'!$A$5:$A$100,0),5))))","v":4.59},{"$f":" IF(F26=\"Zztock\",\"\",IF(ISERROR(F26),\"\",IF(F26=0,\"\",INDEX('mf3'!$A$5:$E$100,MATCH(F26,'mf3'!$A$5:$A$100,0),5))))","v":4.54},{"$f":" IF(F26=\"Zztock\",\"\",IF(ISERROR(F26),\"\",IF(F26=0,\"\",(mf3value*'Results-advanced'!G26+'Results-advanced'!H26*mf2value)/100)))","v":9130},1,null,null,{"$f":"INDEX(common3,MATCH(0,COUNTIF($M$5:M25,common3),0))","v":"Tata Motors"},"Tata Steel","Tata Steel",null,null,null,"Tata Motors",{"$f":" IF(S26=\"Zztock\",\"\",IF(ISERROR(S26),\"\",IF(S26=0,\"\",INDEX('mf1'!$A$5:$E$100,MATCH(S26,'mf1'!$A$5:$A$100,0),5))))","v":4.54},{"$f":" IF(S26=\"Zztock\",\"\", IF(ISERROR(S26),\"\",IF(S26=0,\"\",INDEX('mf3'!$A$5:$E$100,MATCH(S26,'mf3'!$A$5:$A$100,0),5))))","v":4.54},{"$f":" IF(S26=\"Zztock\",\"\", IF(ISERROR(S26),\"\",IF(S26=0,\"\",(mf3value*'Results-advanced'!T26+'Results-advanced'!U26*mf1value)/100)))","v":9080},1]
["Tata Steel",{"$f":"  IF(A27=\"Zztock\",\"\",IF(ISERROR(A27),\"\",IF(A27=0,\"\",INDEX('mf1'!$A$5:$E$100,MATCH(A27,'mf1'!$A$5:$A$100,0),5))))","v":1.88},{"$f":" IF(A27=\"Zztock\",\"\",IF(ISERROR(A27),\"\",IF(A27=0,\"\",INDEX('mf2'!$A$5:$E$100,MATCH(A27,'mf2'!$A$5:$A$100,0),5))))","v":2.11},{"$f":" IF(A27=\"Zztock\",\"\",IF(ISERROR(A27),\"\",IF(A27=0,\"\",(mf2value*'Results-advanced'!B27+mf1value*'Results-advanced'!C27)/100)))","v":3990},1,"Tata Steel",{"$f":" IF(F27=\"Zztock\",\"\",IF(ISERROR(F27),\"\",IF(F27=0,\"\",INDEX('mf2'!$A$5:$E$100,MATCH(F27,'mf2'!$A$5:$A$100,0),5))))","v":2.11},{"$f":" IF(F27=\"Zztock\",\"\",IF(ISERROR(F27),\"\",IF(F27=0,\"\",INDEX('mf3'!$A$5:$E$100,MATCH(F27,'mf3'!$A$5:$A$100,0),5))))","v":1.88},{"$f":" IF(F27=\"Zztock\",\"\",IF(ISERROR(F27),\"\",IF(F27=0,\"\",(mf3value*'Results-advanced'!G27+'Results-advanced'!H27*mf2value)/100)))","v":3990},1,null,null,{"$f":"INDEX(common3,MATCH(0,COUNTIF($M$5:M26,common3),0))","v":"Tata Steel"},"TCS","TCS",null,null,null,"Tata Steel",{"$f":" IF(S27=\"Zztock\",\"\",IF(ISERROR(S27),\"\",IF(S27=0,\"\",INDEX('mf1'!$A$5:$E$100,MATCH(S27,'mf1'!$A$5:$A$100,0),5))))","v":1.88},{"$f":" IF(S27=\"Zztock\",\"\", IF(ISERROR(S27),\"\",IF(S27=0,\"\",INDEX('mf3'!$A$5:$E$100,MATCH(S27,'mf3'!$A$5:$A$100,0),5))))","v":1.88},{"$f":" IF(S27=\"Zztock\",\"\", IF(ISERROR(S27),\"\",IF(S27=0,\"\",(mf3value*'Results-advanced'!T27+'Results-advanced'!U27*mf1value)/100)))","v":3760},1]
["TCS",{"$f":"  IF(A28=\"Zztock\",\"\",IF(ISERROR(A28),\"\",IF(A28=0,\"\",INDEX('mf1'!$A$5:$E$100,MATCH(A28,'mf1'!$A$5:$A$100,0),5))))","v":4.93},{"$f":" IF(A28=\"Zztock\",\"\",IF(ISERROR(A28),\"\",IF(A28=0,\"\",INDEX('mf2'!$A$5:$E$100,MATCH(A28,'mf2'!$A$5:$A$100,0),5))))","v":4.8600000000000003},{"$f":" IF(A28=\"Zztock\",\"\",IF(ISERROR(A28),\"\",IF(A28=0,\"\",(mf2value*'Results-advanced'!B28+mf1value*'Results-advanced'!C28)/100)))","v":9790},1,"TCS",{"$f":" IF(F28=\"Zztock\",\"\",IF(ISERROR(F28),\"\",IF(F28=0,\"\",INDEX('mf2'!$A$5:$E$100,MATCH(F28,'mf2'!$A$5:$A$100,0),5))))","v":4.8600000000000003},{"$f":" IF(F28=\"Zztock\",\"\",IF(ISERROR(F28),\"\",IF(F28=0,\"\",INDEX('mf3'!$A$5:$E$100,MATCH(F28,'mf3'!$A$5:$A$100,0),5))))","v":4.93},{"$f":" IF(F28=\"Zztock\",\"\",IF(ISERROR(F28),\"\",IF(F28=0,\"\",(mf3value*'Results-advanced'!G28+'Results-advanced'!H28*mf2value)/100)))","v":9790},1,null,null,{"$f":"INDEX(common3,MATCH(0,COUNTIF($M$5:M27,common3),0))","v":"TCS"},"Wipro","Wipro",null,null,null,"TCS",{"$f":" IF(S28=\"Zztock\",\"\",IF(ISERROR(S28),\"\",IF(S28=0,\"\",INDEX('mf1'!$A$5:$E$100,MATCH(S28,'mf1'!$A$5:$A$100,0),5))))","v":4.93},{"$f":" IF(S28=\"Zztock\",\"\", IF(ISERROR(S28),\"\",IF(S28=0,\"\",INDEX('mf3'!$A$5:$E$100,MATCH(S28,'mf3'!$A$5:$A$100,0),5))))","v":4.93},{"$f":" IF(S28=\"Zztock\",\"\", IF(ISERROR(S28),\"\",IF(S28=0,\"\",(mf3value*'Results-advanced'!T28+'Results-advanced'!U28*mf1value)/100)))","v":9860},1]
["Wipro",{"$f":"  IF(A29=\"Zztock\",\"\",IF(ISERROR(A29),\"\",IF(A29=0,\"\",INDEX('mf1'!$A$5:$E$100,MATCH(A29,'mf1'!$A$5:$A$100,0),5))))","v":2.12},{"$f":" IF(A29=\"Zztock\",\"\",IF(ISERROR(A29),\"\",IF(A29=0,\"\",INDEX('mf2'!$A$5:$E$100,MATCH(A29,'mf2'!$A$5:$A$100,0),5))))","v":2.2000000000000002},{"$f":" IF(A29=\"Zztock\",\"\",IF(ISERROR(A29),\"\",IF(A29=0,\"\",(mf2value*'Results-advanced'!B29+mf1value*'Results-advanced'!C29)/100)))","v":4320},1,"Wipro",{"$f":" IF(F29=\"Zztock\",\"\",IF(ISERROR(F29),\"\",IF(F29=0,\"\",INDEX('mf2'!$A$5:$E$100,MATCH(F29,'mf2'!$A$5:$A$100,0),5))))","v":2.2000000000000002},{"$f":" IF(F29=\"Zztock\",\"\",IF(ISERROR(F29),\"\",IF(F29=0,\"\",INDEX('mf3'!$A$5:$E$100,MATCH(F29,'mf3'!$A$5:$A$100,0),5))))","v":2.12},{"$f":" IF(F29=\"Zztock\",\"\",IF(ISERROR(F29),\"\",IF(F29=0,\"\",(mf3value*'Results-advanced'!G29+'Results-advanced'!H29*mf2value)/100)))","v":4320},1,null,null,{"$f":"INDEX(common3,MATCH(0,COUNTIF($M$5:M28,common3),0))","v":"Wipro"},"ZZtock","ZZtock",null,null,null,"Wipro",{"$f":" IF(S29=\"Zztock\",\"\",IF(ISERROR(S29),\"\",IF(S29=0,\"\",INDEX('mf1'!$A$5:$E$100,MATCH(S29,'mf1'!$A$5:$A$100,0),5))))","v":2.12},{"$f":" IF(S29=\"Zztock\",\"\", IF(ISERROR(S29),\"\",IF(S29=0,\"\",INDEX('mf3'!$A$5:$E$100,MATCH(S29,'mf3'!$A$5:$A$100,0),5))))","v":2.12},{"$f":" IF(S29=\"Zztock\",\"\", IF(ISERROR(S29),\"\",IF(S29=0,\"\",(mf3value*'Results-advanced'!T29+'Results-advanced'!U29*mf1value)/100)))","v":4240},1]
["ZZtock",{"$f":"  IF(A30=\"Zztock\",\"\",IF(ISERROR(A30),\"\",IF(A30=0,\"\",INDEX('mf1'!$A$5:$E$100,MATCH(A30,'mf1'!$A$5:$A$100,0),5))))","v":""},{"$f":" IF(A30=\"Zztock\",\"\",IF(ISERROR(A30),\"\",IF(A30=0,\"\",INDEX('mf2'!$A$5:$E$100,MATCH(A30,'mf2'!$A$5:$A$100,0),5))))","v":""},{"$f":" IF(A30=\"Zztock\",\"\",IF(ISERROR(A30),\"\",IF(A30=0,\"\",(mf2value*'Results-advanced'!B30+mf1value*'Results-advanced'!C30)/100)))","v":""},1,"ZZtock",{"$f":" IF(F30=\"Zztock\",\"\",IF(ISERROR(F30),\"\",IF(F30=0,\"\",INDEX('mf2'!$A$5:$E$100,MATCH(F30,'mf2'!$A$5:$A$100,0),5))))","v":""},{"$f":" IF(F30=\"Zztock\",\"\",IF(ISERROR(F30),\"\",IF(F30=0,\"\",INDEX('mf3'!$A$5:$E$100,MATCH(F30,'mf3'!$A$5:$A$100,0),5))))","v":""},{"$f":" IF(F30=\"Zztock\",\"\",IF(ISERROR(F30),\"\",IF(F30=0,\"\",(mf3value*'Results-advanced'!G30+'Results-advanced'!H30*mf2value)/100)))","v":""},1,null,null,{"$f":"INDEX(common3,MATCH(0,COUNTIF($M$5:M29,common3),0))","v":"ZZtock"},0,null,null,null,null,"ZZtock",{"$f":" IF(S30=\"Zztock\",\"\",IF(ISERROR(S30),\"\",IF(S30=0,\"\",INDEX('mf1'!$A$5:$E$100,MATCH(S30,'mf1'!$A$5:$A$100,0),5))))","v":""},{"$f":" IF(S30=\"Zztock\",\"\", IF(ISERROR(S30),\"\",IF(S30=0,\"\",INDEX('mf3'!$A$5:$E$100,MATCH(S30,'mf3'!$A$5:$A$100,0),5))))","v":""},{"$f":" IF(S30=\"Zztock\",\"\", IF(ISERROR(S30),\"\",IF(S30=0,\"\",(mf3value*'Results-advanced'!T30+'Results-advanced'!U30*mf1value)/100)))","v":""},1]
["ZZtock",{"$f":"  IF(A31=\"Zztock\",\"\",IF(ISERROR(A31),\"\",IF(A31=0,\"\",INDEX('mf1'!$A$5:$E$100,MATCH(A31,'mf1'!$A$5:$A$100,0),5))))","v":""},{"$f":" IF(A31=\"Zztock\",\"\",IF(ISERROR(A31),\"\",IF(A31=0,\"\",INDEX('mf2'!$A$5:$E$100,MATCH(A31,'mf2'!$A$5:$A$100,0),5))))","v":""},{"$f":" IF(A31=\"Zztock\",\"\",IF(ISERROR(A31),\"\",IF(A31=0,\"\",(mf2value*'Results-advanced'!B31+mf1value*'Results-advanced'!C31)/100)))","v":""},1,"ZZtock",{"$f":" IF(F31=\"Zztock\",\"\",IF(ISERROR(F31),\"\",IF(F31=0,\"\",INDEX('mf2'!$A$5:$E$100,MATCH(F31,'mf2'!$A$5:$A$100,0),5))))","v":""},{"$f":" IF(F31=\"Zztock\",\"\",IF(ISERROR(F31),\"\",IF(F31=0,\"\",INDEX('mf3'!$A$5:$E$100,MATCH(F31,'mf3'!$A$5:$A$100,0),5))))","v":""},{"$f":" IF(F31=\"Zztock\",\"\",IF(ISERROR(F31),\"\",IF(F31=0,\"\",(mf3value*'Results-advanced'!G31+'Results-advanced'!H31*mf2value)/100)))","v":""},1,null,null,{"$f":"INDEX(common3,MATCH(0,COUNTIF($M$5:M30,common3),0))","v":0},null,null,null,null,null,"ZZtock",{"$f":" IF(S31=\"Zztock\",\"\",IF(ISERROR(S31),\"\",IF(S31=0,\"\",INDEX('mf1'!$A$5:$E$100,MATCH(S31,'mf1'!$A$5:$A$100,0),5))))","v":""},{"$f":" IF(S31=\"Zztock\",\"\", IF(ISERROR(S31),\"\",IF(S31=0,\"\",INDEX('mf3'!$A$5:$E$100,MATCH(S31,'mf3'!$A$5:$A$100,0),5))))","v":""},{"$f":" IF(S31=\"Zztock\",\"\", IF(ISERROR(S31),\"\",IF(S31=0,\"\",(mf3value*'Results-advanced'!T31+'Results-advanced'!U31*mf1value)/100)))","v":""},1]
["ZZtock",{"$f":"  IF(A32=\"Zztock\",\"\",IF(ISERROR(A32),\"\",IF(A32=0,\"\",INDEX('mf1'!$A$5:$E$100,MATCH(A32,'mf1'!$A$5:$A$100,0),5))))","v":""},{"$f":" IF(A32=\"Zztock\",\"\",IF(ISERROR(A32),\"\",IF(A32=0,\"\",INDEX('mf2'!$A$5:$E$100,MATCH(A32,'mf2'!$A$5:$A$100,0),5))))","v":""},{"$f":" IF(A32=\"Zztock\",\"\",IF(ISERROR(A32),\"\",IF(A32=0,\"\",(mf2value*'Results-advanced'!B32+mf1value*'Results-advanced'!C32)/100)))","v":""},1,"ZZtock",{"$f":" IF(F32=\"Zztock\",\"\",IF(ISERROR(F32),\"\",IF(F32=0,\"\",INDEX('mf2'!$A$5:$E$100,MATCH(F32,'mf2'!$A$5:$A$100,0),5))))","v":""},{"$f":" IF(F32=\"Zztock\",\"\",IF(ISERROR(F32),\"\",IF(F32=0,\"\",INDEX('mf3'!$A$5:$E$100,MATCH(F32,'mf3'!$A$5:$A$100,0),5))))","v":""},{"$f":" IF(F32=\"Zztock\",\"\",IF(ISERROR(F32),\"\",IF(F32=0,\"\",(mf3value*'Results-advanced'!G32+'Results-advanced'!H32*mf2value)/100)))","v":""},1,null,null,null,null,null,null,null,null,"ZZtock",{"$f":" IF(S32=\"Zztock\",\"\",IF(ISERROR(S32),\"\",IF(S32=0,\"\",INDEX('mf1'!$A$5:$E$100,MATCH(S32,'mf1'!$A$5:$A$100,0),5))))","v":""},{"$f":" IF(S32=\"Zztock\",\"\", IF(ISERROR(S32),\"\",IF(S32=0,\"\",INDEX('mf3'!$A$5:$E$100,MATCH(S32,'mf3'!$A$5:$A$100,0),5))))","v":""},{"$f":" IF(S32=\"Zztock\",\"\", IF(ISERROR(S32),\"\",IF(S32=0,\"\",(mf3value*'Results-advanced'!T32+'Results-advanced'!U32*mf1value)/100)))","v":""},1]
["ZZtock",{"$f":"  IF(A33=\"Zztock\",\"\",IF(ISERROR(A33),\"\",IF(A33=0,\"\",INDEX('mf1'!$A$5:$E$100,MATCH(A33,'mf1'!$A$5:$A$100,0),5))))","v":""},{"$f":" IF(A33=\"Zztock\",\"\",IF(ISERROR(A33),\"\",IF(A33=0,\"\",INDEX('mf2'!$A$5:$E$100,MATCH(A33,'mf2'!$A$5:$A$100,0),5))))","v":""},{"$f":" IF(A33=\"Zztock\",\"\",IF(ISERROR(A33),\"\",IF(A33=0,\"\",(mf2value*'Results-advanced'!B33+mf1value*'Results-advanced'!C33)/100)))","v":""},1,"ZZtock",{"$f":" IF(F33=\"Zztock\",\"\",IF(ISERROR(F33),\"\",IF(F33=0,\"\",INDEX('mf2'!$A$5:$E$100,MATCH(F33,'mf2'!$A$5:$A$100,0),5))))","v":""},{"$f":" IF(F33=\"Zztock\",\"\",IF(ISERROR(F33),\"\",IF(F33=0,\"\",INDEX('mf3'!$A$5:$E$100,MATCH(F33,'mf3'!$A$5:$A$100,0),5))))","v":""},{"$f":" IF(F33=\"Zztock\",\"\",IF(ISERROR(F33),\"\",IF(F33=0,\"\",(mf3value*'Results-advanced'!G33+'Results-advanced'!H33*mf2value)/100)))","v":""},1,null,null,null,null,null,null,null,null,"ZZtock",{"$f":" IF(S33=\"Zztock\",\"\",IF(ISERROR(S33),\"\",IF(S33=0,\"\",INDEX('mf1'!$A$5:$E$100,MATCH(S33,'mf1'!$A$5:$A$100,0),5))))","v":""},{"$f":" IF(S33=\"Zztock\",\"\", IF(ISERROR(S33),\"\",IF(S33=0,\"\",INDEX('mf3'!$A$5:$E$100,MATCH(S33,'mf3'!$A$5:$A$100,0),5))))","v":""},{"$f":" IF(S33=\"Zztock\",\"\", IF(ISERROR(S33),\"\",IF(S33=0,\"\",(mf3value*'Results-advanced'!T33+'Results-advanced'!U33*mf1value)/100)))","v":""},1]
["ZZtock",{"$f":"  IF(A34=\"Zztock\",\"\",IF(ISERROR(A34),\"\",IF(A34=0,\"\",INDEX('mf1'!$A$5:$E$100,MATCH(A34,'mf1'!$A$5:$A$100,0),5))))","v":""},{"$f":" IF(A34=\"Zztock\",\"\",IF(ISERROR(A34),\"\",IF(A34=0,\"\",INDEX('mf2'!$A$5:$E$100,MATCH(A34,'mf2'!$A$5:$A$100,0),5))))","v":""},{"$f":" IF(A34=\"Zztock\",\"\",IF(ISERROR(A34),\"\",IF(A34=0,\"\",(mf2value*'Results-advanced'!B34+mf1value*'Results-advanced'!C34)/100)))","v":""},1,"ZZtock",{"$f":" IF(F34=\"Zztock\",\"\",IF(ISERROR(F34),\"\",IF(F34=0,\"\",INDEX('mf2'!$A$5:$E$100,MATCH(F34,'mf2'!$A$5:$A$100,0),5))))","v":""},{"$f":" IF(F34=\"Zztock\",\"\",IF(ISERROR(F34),\"\",IF(F34=0,\"\",INDEX('mf3'!$A$5:$E$100,MATCH(F34,'mf3'!$A$5:$A$100,0),5))))","v":""},{"$f":" IF(F34=\"Zztock\",\"\",IF(ISERROR(F34),\"\",IF(F34=0,\"\",(mf3value*'Results-advanced'!G34+'Results-advanced'!H34*mf2value)/100)))","v":""},1,null,null,null,null,null,null,null,null,"ZZtock",{"$f":" IF(S34=\"Zztock\",\"\",IF(ISERROR(S34),\"\",IF(S34=0,\"\",INDEX('mf1'!$A$5:$E$100,MATCH(S34,'mf1'!$A$5:$A$100,0),5))))","v":""},{"$f":" IF(S34=\"Zztock\",\"\", IF(ISERROR(S34),\"\",IF(S34=0,\"\",INDEX('mf3'!$A$5:$E$100,MATCH(S34,'mf3'!$A$5:$A$100,0),5))))","v":""},{"$f":" IF(S34=\"Zztock\",\"\", IF(ISERROR(S34),\"\",IF(S34=0,\"\",(mf3value*'Results-advanced'!T34+'Results-advanced'!U34*mf1value)/100)))","v":""},1]
["ZZtock",{"$f":"  IF(A35=\"Zztock\",\"\",IF(ISERROR(A35),\"\",IF(A35=0,\"\",INDEX('mf1'!$A$5:$E$100,MATCH(A35,'mf1'!$A$5:$A$100,0),5))))","v":""},{"$f":" IF(A35=\"Zztock\",\"\",IF(ISERROR(A35),\"\",IF(A35=0,\"\",INDEX('mf2'!$A$5:$E$100,MATCH(A35,'mf2'!$A$5:$A$100,0),5))))","v":""},{"$f":" IF(A35=\"Zztock\",\"\",IF(ISERROR(A35),\"\",IF(A35=0,\"\",(mf2value*'Results-advanced'!B35+mf1value*'Results-advanced'!C35)/100)))","v":""},1,"ZZtock",{"$f":" IF(F35=\"Zztock\",\"\",IF(ISERROR(F35),\"\",IF(F35=0,\"\",INDEX('mf2'!$A$5:$E$100,MATCH(F35,'mf2'!$A$5:$A$100,0),5))))","v":""},{"$f":" IF(F35=\"Zztock\",\"\",IF(ISERROR(F35),\"\",IF(F35=0,\"\",INDEX('mf3'!$A$5:$E$100,MATCH(F35,'mf3'!$A$5:$A$100,0),5))))","v":""},{"$f":" IF(F35=\"Zztock\",\"\",IF(ISERROR(F35),\"\",IF(F35=0,\"\",(mf3value*'Results-advanced'!G35+'Results-advanced'!H35*mf2value)/100)))","v":""},1,null,null,null,null,null,null,null,null,"ZZtock",{"$f":" IF(S35=\"Zztock\",\"\",IF(ISERROR(S35),\"\",IF(S35=0,\"\",INDEX('mf1'!$A$5:$E$100,MATCH(S35,'mf1'!$A$5:$A$100,0),5))))","v":""},{"$f":" IF(S35=\"Zztock\",\"\", IF(ISERROR(S35),\"\",IF(S35=0,\"\",INDEX('mf3'!$A$5:$E$100,MATCH(S35,'mf3'!$A$5:$A$100,0),5))))","v":""},{"$f":" IF(S35=\"Zztock\",\"\", IF(ISERROR(S35),\"\",IF(S35=0,\"\",(mf3value*'Results-advanced'!T35+'Results-advanced'!U35*mf1value)/100)))","v":""},1]
["ZZtock",{"$f":"  IF(A36=\"Zztock\",\"\",IF(ISERROR(A36),\"\",IF(A36=0,\"\",INDEX('mf1'!$A$5:$E$100,MATCH(A36,'mf1'!$A$5:$A$100,0),5))))","v":""},{"$f":" IF(A36=\"Zztock\",\"\",IF(ISERROR(A36),\"\",IF(A36=0,\"\",INDEX('mf2'!$A$5:$E$100,MATCH(A36,'mf2'!$A$5:$A$100,0),5))))","v":""},{"$f":" IF(A36=\"Zztock\",\"\",IF(ISERROR(A36),\"\",IF(A36=0,\"\",(mf2value*'Results-advanced'!B36+mf1value*'Results-advanced'!C36)/100)))","v":""},1,"ZZtock",{"$f":" IF(F36=\"Zztock\",\"\",IF(ISERROR(F36),\"\",IF(F36=0,\"\",INDEX('mf2'!$A$5:$E$100,MATCH(F36,'mf2'!$A$5:$A$100,0),5))))","v":""},{"$f":" IF(F36=\"Zztock\",\"\",IF(ISERROR(F36),\"\",IF(F36=0,\"\",INDEX('mf3'!$A$5:$E$100,MATCH(F36,'mf3'!$A$5:$A$100,0),5))))","v":""},{"$f":" IF(F36=\"Zztock\",\"\",IF(ISERROR(F36),\"\",IF(F36=0,\"\",(mf3value*'Results-advanced'!G36+'Results-advanced'!H36*mf2value)/100)))","v":""},1,null,null,null,null,null,null,null,null,"ZZtock",{"$f":" IF(S36=\"Zztock\",\"\",IF(ISERROR(S36),\"\",IF(S36=0,\"\",INDEX('mf1'!$A$5:$E$100,MATCH(S36,'mf1'!$A$5:$A$100,0),5))))","v":""},{"$f":" IF(S36=\"Zztock\",\"\", IF(ISERROR(S36),\"\",IF(S36=0,\"\",INDEX('mf3'!$A$5:$E$100,MATCH(S36,'mf3'!$A$5:$A$100,0),5))))","v":""},{"$f":" IF(S36=\"Zztock\",\"\", IF(ISERROR(S36),\"\",IF(S36=0,\"\",(mf3value*'Results-advanced'!T36+'Results-advanced'!U36*mf1value)/100)))","v":""},1]
["ZZtock",{"$f":"  IF(A37=\"Zztock\",\"\",IF(ISERROR(A37),\"\",IF(A37=0,\"\",INDEX('mf1'!$A$5:$E$100,MATCH(A37,'mf1'!$A$5:$A$100,0),5))))","v":""},{"$f":" IF(A37=\"Zztock\",\"\",IF(ISERROR(A37),\"\",IF(A37=0,\"\",INDEX('mf2'!$A$5:$E$100,MATCH(A37,'mf2'!$A$5:$A$100,0),5))))","v":""},{"$f":" IF(A37=\"Zztock\",\"\",IF(ISERROR(A37),\"\",IF(A37=0,\"\",(mf2value*'Results-advanced'!B37+mf1value*'Results-advanced'!C37)/100)))","v":""},1,"ZZtock",{"$f":" IF(F37=\"Zztock\",\"\",IF(ISERROR(F37),\"\",IF(F37=0,\"\",INDEX('mf2'!$A$5:$E$100,MATCH(F37,'mf2'!$A$5:$A$100,0),5))))","v":""},{"$f":" IF(F37=\"Zztock\",\"\",IF(ISERROR(F37),\"\",IF(F37=0,\"\",INDEX('mf3'!$A$5:$E$100,MATCH(F37,'mf3'!$A$5:$A$100,0),5))))","v":""},{"$f":" IF(F37=\"Zztock\",\"\",IF(ISERROR(F37),\"\",IF(F37=0,\"\",(mf3value*'Results-advanced'!G37+'Results-advanced'!H37*mf2value)/100)))","v":""},1,null,null,null,null,null,null,null,null,"ZZtock",{"$f":" IF(S37=\"Zztock\",\"\",IF(ISERROR(S37),\"\",IF(S37=0,\"\",INDEX('mf1'!$A$5:$E$100,MATCH(S37,'mf1'!$A$5:$A$100,0),5))))","v":""},{"$f":" IF(S37=\"Zztock\",\"\", IF(ISERROR(S37),\"\",IF(S37=0,\"\",INDEX('mf3'!$A$5:$E$100,MATCH(S37,'mf3'!$A$5:$A$100,0),5))))","v":""},{"$f":" IF(S37=\"Zztock\",\"\", IF(ISERROR(S37),\"\",IF(S37=0,\"\",(mf3value*'Results-advanced'!T37+'Results-advanced'!U37*mf1value)/100)))","v":""},1]
["ZZtock",{"$f":"  IF(A38=\"Zztock\",\"\",IF(ISERROR(A38),\"\",IF(A38=0,\"\",INDEX('mf1'!$A$5:$E$100,MATCH(A38,'mf1'!$A$5:$A$100,0),5))))","v":""},{"$f":" IF(A38=\"Zztock\",\"\",IF(ISERROR(A38),\"\",IF(A38=0,\"\",INDEX('mf2'!$A$5:$E$100,MATCH(A38,'mf2'!$A$5:$A$100,0),5))))","v":""},{"$f":" IF(A38=\"Zztock\",\"\",IF(ISERROR(A38),\"\",IF(A38=0,\"\",(mf2value*'Results-advanced'!B38+mf1value*'Results-advanced'!C38)/100)))","v":""},1,"ZZtock",{"$f":" IF(F38=\"Zztock\",\"\",IF(ISERROR(F38),\"\",IF(F38=0,\"\",INDEX('mf2'!$A$5:$E$100,MATCH(F38,'mf2'!$A$5:$A$100,0),5))))","v":""},{"$f":" IF(F38=\"Zztock\",\"\",IF(ISERROR(F38),\"\",IF(F38=0,\"\",INDEX('mf3'!$A$5:$E$100,MATCH(F38,'mf3'!$A$5:$A$100,0),5))))","v":""},{"$f":" IF(F38=\"Zztock\",\"\",IF(ISERROR(F38),\"\",IF(F38=0,\"\",(mf3value*'Results-advanced'!G38+'Results-advanced'!H38*mf2value)/100)))","v":""},1,null,null,null,null,null,null,null,null,"ZZtock",{"$f":" IF(S38=\"Zztock\",\"\",IF(ISERROR(S38),\"\",IF(S38=0,\"\",INDEX('mf1'!$A$5:$E$100,MATCH(S38,'mf1'!$A$5:$A$100,0),5))))","v":""},{"$f":" IF(S38=\"Zztock\",\"\", IF(ISERROR(S38),\"\",IF(S38=0,\"\",INDEX('mf3'!$A$5:$E$100,MATCH(S38,'mf3'!$A$5:$A$100,0),5))))","v":""},{"$f":" IF(S38=\"Zztock\",\"\", IF(ISERROR(S38),\"\",IF(S38=0,\"\",(mf3value*'Results-advanced'!T38+'Results-advanced'!U38*mf1value)/100)))","v":""},1]
["ZZtock",{"$f":"  IF(A39=\"Zztock\",\"\",IF(ISERROR(A39),\"\",IF(A39=0,\"\",INDEX('mf1'!$A$5:$E$100,MATCH(A39,'mf1'!$A$5:$A$100,0),5))))","v":""},{"$f":" IF(A39=\"Zztock\",\"\",IF(ISERROR(A39),\"\",IF(A39=0,\"\",INDEX('mf2'!$A$5:$E$100,MATCH(A39,'mf2'!$A$5:$A$100,0),5))))","v":""},{"$f":" IF(A39=\"Zztock\",\"\",IF(ISERROR(A39),\"\",IF(A39=0,\"\",(mf2value*'Results-advanced'!B39+mf1value*'Results-advanced'!C39)/100)))","v":""},1,"ZZtock",{"$f":" IF(F39=\"Zztock\",\"\",IF(ISERROR(F39),\"\",IF(F39=0,\"\",INDEX('mf2'!$A$5:$E$100,MATCH(F39,'mf2'!$A$5:$A$100,0),5))))","v":""},{"$f":" IF(F39=\"Zztock\",\"\",IF(ISERROR(F39),\"\",IF(F39=0,\"\",INDEX('mf3'!$A$5:$E$100,MATCH(F39,'mf3'!$A$5:$A$100,0),5))))","v":""},{"$f":" IF(F39=\"Zztock\",\"\",IF(ISERROR(F39),\"\",IF(F39=0,\"\",(mf3value*'Results-advanced'!G39+'Results-advanced'!H39*mf2value)/100)))","v":""},1,null,null,null,null,null,null,null,null,"ZZtock",{"$f":" IF(S39=\"Zztock\",\"\",IF(ISERROR(S39),\"\",IF(S39=0,\"\",INDEX('mf1'!$A$5:$E$100,MATCH(S39,'mf1'!$A$5:$A$100,0),5))))","v":""},{"$f":" IF(S39=\"Zztock\",\"\", IF(ISERROR(S39),\"\",IF(S39=0,\"\",INDEX('mf3'!$A$5:$E$100,MATCH(S39,'mf3'!$A$5:$A$100,0),5))))","v":""},{"$f":" IF(S39=\"Zztock\",\"\", IF(ISERROR(S39),\"\",IF(S39=0,\"\",(mf3value*'Results-advanced'!T39+'Results-advanced'!U39*mf1value)/100)))","v":""},1]
["ZZtock",{"$f":"  IF(A40=\"Zztock\",\"\",IF(ISERROR(A40),\"\",IF(A40=0,\"\",INDEX('mf1'!$A$5:$E$100,MATCH(A40,'mf1'!$A$5:$A$100,0),5))))","v":""},{"$f":" IF(A40=\"Zztock\",\"\",IF(ISERROR(A40),\"\",IF(A40=0,\"\",INDEX('mf2'!$A$5:$E$100,MATCH(A40,'mf2'!$A$5:$A$100,0),5))))","v":""},{"$f":" IF(A40=\"Zztock\",\"\",IF(ISERROR(A40),\"\",IF(A40=0,\"\",(mf2value*'Results-advanced'!B40+mf1value*'Results-advanced'!C40)/100)))","v":""},1,"ZZtock",{"$f":" IF(F40=\"Zztock\",\"\",IF(ISERROR(F40),\"\",IF(F40=0,\"\",INDEX('mf2'!$A$5:$E$100,MATCH(F40,'mf2'!$A$5:$A$100,0),5))))","v":""},{"$f":" IF(F40=\"Zztock\",\"\",IF(ISERROR(F40),\"\",IF(F40=0,\"\",INDEX('mf3'!$A$5:$E$100,MATCH(F40,'mf3'!$A$5:$A$100,0),5))))","v":""},{"$f":" IF(F40=\"Zztock\",\"\",IF(ISERROR(F40),\"\",IF(F40=0,\"\",(mf3value*'Results-advanced'!G40+'Results-advanced'!H40*mf2value)/100)))","v":""},1,null,null,null,null,null,null,null,null,"ZZtock",{"$f":" IF(S40=\"Zztock\",\"\",IF(ISERROR(S40),\"\",IF(S40=0,\"\",INDEX('mf1'!$A$5:$E$100,MATCH(S40,'mf1'!$A$5:$A$100,0),5))))","v":""},{"$f":" IF(S40=\"Zztock\",\"\", IF(ISERROR(S40),\"\",IF(S40=0,\"\",INDEX('mf3'!$A$5:$E$100,MATCH(S40,'mf3'!$A$5:$A$100,0),5))))","v":""},{"$f":" IF(S40=\"Zztock\",\"\", IF(ISERROR(S40),\"\",IF(S40=0,\"\",(mf3value*'Results-advanced'!T40+'Results-advanced'!U40*mf1value)/100)))","v":""},1]
["ZZtock",{"$f":"  IF(A41=\"Zztock\",\"\",IF(ISERROR(A41),\"\",IF(A41=0,\"\",INDEX('mf1'!$A$5:$E$100,MATCH(A41,'mf1'!$A$5:$A$100,0),5))))","v":""},{"$f":" IF(A41=\"Zztock\",\"\",IF(ISERROR(A41),\"\",IF(A41=0,\"\",INDEX('mf2'!$A$5:$E$100,MATCH(A41,'mf2'!$A$5:$A$100,0),5))))","v":""},{"$f":" IF(A41=\"Zztock\",\"\",IF(ISERROR(A41),\"\",IF(A41=0,\"\",(mf2value*'Results-advanced'!B41+mf1value*'Results-advanced'!C41)/100)))","v":""},1,"ZZtock",{"$f":" IF(F41=\"Zztock\",\"\",IF(ISERROR(F41),\"\",IF(F41=0,\"\",INDEX('mf2'!$A$5:$E$100,MATCH(F41,'mf2'!$A$5:$A$100,0),5))))","v":""},{"$f":" IF(F41=\"Zztock\",\"\",IF(ISERROR(F41),\"\",IF(F41=0,\"\",INDEX('mf3'!$A$5:$E$100,MATCH(F41,'mf3'!$A$5:$A$100,0),5))))","v":""},{"$f":" IF(F41=\"Zztock\",\"\",IF(ISERROR(F41),\"\",IF(F41=0,\"\",(mf3value*'Results-advanced'!G41+'Results-advanced'!H41*mf2value)/100)))","v":""},1,null,null,null,null,null,null,null,null,"ZZtock",{"$f":" IF(S41=\"Zztock\",\"\",IF(ISERROR(S41),\"\",IF(S41=0,\"\",INDEX('mf1'!$A$5:$E$100,MATCH(S41,'mf1'!$A$5:$A$100,0),5))))","v":""},{"$f":" IF(S41=\"Zztock\",\"\", IF(ISERROR(S41),\"\",IF(S41=0,\"\",INDEX('mf3'!$A$5:$E$100,MATCH(S41,'mf3'!$A$5:$A$100,0),5))))","v":""},{"$f":" IF(S41=\"Zztock\",\"\", IF(ISERROR(S41),\"\",IF(S41=0,\"\",(mf3value*'Results-advanced'!T41+'Results-advanced'!U41*mf1value)/100)))","v":""},1]
["ZZtock",{"$f":"  IF(A42=\"Zztock\",\"\",IF(ISERROR(A42),\"\",IF(A42=0,\"\",INDEX('mf1'!$A$5:$E$100,MATCH(A42,'mf1'!$A$5:$A$100,0),5))))","v":""},{"$f":" IF(A42=\"Zztock\",\"\",IF(ISERROR(A42),\"\",IF(A42=0,\"\",INDEX('mf2'!$A$5:$E$100,MATCH(A42,'mf2'!$A$5:$A$100,0),5))))","v":""},{"$f":" IF(A42=\"Zztock\",\"\",IF(ISERROR(A42),\"\",IF(A42=0,\"\",(mf2value*'Results-advanced'!B42+mf1value*'Results-advanced'!C42)/100)))","v":""},1,"ZZtock",{"$f":" IF(F42=\"Zztock\",\"\",IF(ISERROR(F42),\"\",IF(F42=0,\"\",INDEX('mf2'!$A$5:$E$100,MATCH(F42,'mf2'!$A$5:$A$100,0),5))))","v":""},{"$f":" IF(F42=\"Zztock\",\"\",IF(ISERROR(F42),\"\",IF(F42=0,\"\",INDEX('mf3'!$A$5:$E$100,MATCH(F42,'mf3'!$A$5:$A$100,0),5))))","v":""},{"$f":" IF(F42=\"Zztock\",\"\",IF(ISERROR(F42),\"\",IF(F42=0,\"\",(mf3value*'Results-advanced'!G42+'Results-advanced'!H42*mf2value)/100)))","v":""},1,null,null,null,null,null,null,null,null,"ZZtock",{"$f":" IF(S42=\"Zztock\",\"\",IF(ISERROR(S42),\"\",IF(S42=0,\"\",INDEX('mf1'!$A$5:$E$100,MATCH(S42,'mf1'!$A$5:$A$100,0),5))))","v":""},{"$f":" IF(S42=\"Zztock\",\"\", IF(ISERROR(S42),\"\",IF(S42=0,\"\",INDEX('mf3'!$A$5:$E$100,MATCH(S42,'mf3'!$A$5:$A$100,0),5))))","v":""},{"$f":" IF(S42=\"Zztock\",\"\", IF(ISERROR(S42),\"\",IF(S42=0,\"\",(mf3value*'Results-advanced'!T42+'Results-advanced'!U42*mf1value)/100)))","v":""},1]
["ZZtock",{"$f":"  IF(A43=\"Zztock\",\"\",IF(ISERROR(A43),\"\",IF(A43=0,\"\",INDEX('mf1'!$A$5:$E$100,MATCH(A43,'mf1'!$A$5:$A$100,0),5))))","v":""},{"$f":" IF(A43=\"Zztock\",\"\",IF(ISERROR(A43),\"\",IF(A43=0,\"\",INDEX('mf2'!$A$5:$E$100,MATCH(A43,'mf2'!$A$5:$A$100,0),5))))","v":""},{"$f":" IF(A43=\"Zztock\",\"\",IF(ISERROR(A43),\"\",IF(A43=0,\"\",(mf2value*'Results-advanced'!B43+mf1value*'Results-advanced'!C43)/100)))","v":""},1,"ZZtock",{"$f":" IF(F43=\"Zztock\",\"\",IF(ISERROR(F43),\"\",IF(F43=0,\"\",INDEX('mf2'!$A$5:$E$100,MATCH(F43,'mf2'!$A$5:$A$100,0),5))))","v":""},{"$f":" IF(F43=\"Zztock\",\"\",IF(ISERROR(F43),\"\",IF(F43=0,\"\",INDEX('mf3'!$A$5:$E$100,MATCH(F43,'mf3'!$A$5:$A$100,0),5))))","v":""},{"$f":" IF(F43=\"Zztock\",\"\",IF(ISERROR(F43),\"\",IF(F43=0,\"\",(mf3value*'Results-advanced'!G43+'Results-advanced'!H43*mf2value)/100)))","v":""},1,null,null,null,null,null,null,null,null,"ZZtock",{"$f":" IF(S43=\"Zztock\",\"\",IF(ISERROR(S43),\"\",IF(S43=0,\"\",INDEX('mf1'!$A$5:$E$100,MATCH(S43,'mf1'!$A$5:$A$100,0),5))))","v":""},{"$f":" IF(S43=\"Zztock\",\"\", IF(ISERROR(S43),\"\",IF(S43=0,\"\",INDEX('mf3'!$A$5:$E$100,MATCH(S43,'mf3'!$A$5:$A$100,0),5))))","v":""},{"$f":" IF(S43=\"Zztock\",\"\", IF(ISERROR(S43),\"\",IF(S43=0,\"\",(mf3value*'Results-advanced'!T43+'Results-advanced'!U43*mf1value)/100)))","v":""},1]
["ZZtock",{"$f":"  IF(A44=\"Zztock\",\"\",IF(ISERROR(A44),\"\",IF(A44=0,\"\",INDEX('mf1'!$A$5:$E$100,MATCH(A44,'mf1'!$A$5:$A$100,0),5))))","v":""},{"$f":" IF(A44=\"Zztock\",\"\",IF(ISERROR(A44),\"\",IF(A44=0,\"\",INDEX('mf2'!$A$5:$E$100,MATCH(A44,'mf2'!$A$5:$A$100,0),5))))","v":""},{"$f":" IF(A44=\"Zztock\",\"\",IF(ISERROR(A44),\"\",IF(A44=0,\"\",(mf2value*'Results-advanced'!B44+mf1value*'Results-advanced'!C44)/100)))","v":""},1,"ZZtock",{"$f":" IF(F44=\"Zztock\",\"\",IF(ISERROR(F44),\"\",IF(F44=0,\"\",INDEX('mf2'!$A$5:$E$100,MATCH(F44,'mf2'!$A$5:$A$100,0),5))))","v":""},{"$f":" IF(F44=\"Zztock\",\"\",IF(ISERROR(F44),\"\",IF(F44=0,\"\",INDEX('mf3'!$A$5:$E$100,MATCH(F44,'mf3'!$A$5:$A$100,0),5))))","v":""},{"$f":" IF(F44=\"Zztock\",\"\",IF(ISERROR(F44),\"\",IF(F44=0,\"\",(mf3value*'Results-advanced'!G44+'Results-advanced'!H44*mf2value)/100)))","v":""},1,null,null,null,null,null,null,null,null,"ZZtock",{"$f":" IF(S44=\"Zztock\",\"\",IF(ISERROR(S44),\"\",IF(S44=0,\"\",INDEX('mf1'!$A$5:$E$100,MATCH(S44,'mf1'!$A$5:$A$100,0),5))))","v":""},{"$f":" IF(S44=\"Zztock\",\"\", IF(ISERROR(S44),\"\",IF(S44=0,\"\",INDEX('mf3'!$A$5:$E$100,MATCH(S44,'mf3'!$A$5:$A$100,0),5))))","v":""},{"$f":" IF(S44=\"Zztock\",\"\", IF(ISERROR(S44),\"\",IF(S44=0,\"\",(mf3value*'Results-advanced'!T44+'Results-advanced'!U44*mf1value)/100)))","v":""},1]
["ZZtock",{"$f":"  IF(A45=\"Zztock\",\"\",IF(ISERROR(A45),\"\",IF(A45=0,\"\",INDEX('mf1'!$A$5:$E$100,MATCH(A45,'mf1'!$A$5:$A$100,0),5))))","v":""},{"$f":" IF(A45=\"Zztock\",\"\",IF(ISERROR(A45),\"\",IF(A45=0,\"\",INDEX('mf2'!$A$5:$E$100,MATCH(A45,'mf2'!$A$5:$A$100,0),5))))","v":""},{"$f":" IF(A45=\"Zztock\",\"\",IF(ISERROR(A45),\"\",IF(A45=0,\"\",(mf2value*'Results-advanced'!B45+mf1value*'Results-advanced'!C45)/100)))","v":""},1,"ZZtock",{"$f":" IF(F45=\"Zztock\",\"\",IF(ISERROR(F45),\"\",IF(F45=0,\"\",INDEX('mf2'!$A$5:$E$100,MATCH(F45,'mf2'!$A$5:$A$100,0),5))))","v":""},{"$f":" IF(F45=\"Zztock\",\"\",IF(ISERROR(F45),\"\",IF(F45=0,\"\",INDEX('mf3'!$A$5:$E$100,MATCH(F45,'mf3'!$A$5:$A$100,0),5))))","v":""},{"$f":" IF(F45=\"Zztock\",\"\",IF(ISERROR(F45),\"\",IF(F45=0,\"\",(mf3value*'Results-advanced'!G45+'Results-advanced'!H45*mf2value)/100)))","v":""},1,null,null,null,null,null,null,null,null,"ZZtock",{"$f":" IF(S45=\"Zztock\",\"\",IF(ISERROR(S45),\"\",IF(S45=0,\"\",INDEX('mf1'!$A$5:$E$100,MATCH(S45,'mf1'!$A$5:$A$100,0),5))))","v":""},{"$f":" IF(S45=\"Zztock\",\"\", IF(ISERROR(S45),\"\",IF(S45=0,\"\",INDEX('mf3'!$A$5:$E$100,MATCH(S45,'mf3'!$A$5:$A$100,0),5))))","v":""},{"$f":" IF(S45=\"Zztock\",\"\", IF(ISERROR(S45),\"\",IF(S45=0,\"\",(mf3value*'Results-advanced'!T45+'Results-advanced'!U45*mf1value)/100)))","v":""},1]
["ZZtock",{"$f":"  IF(A46=\"Zztock\",\"\",IF(ISERROR(A46),\"\",IF(A46=0,\"\",INDEX('mf1'!$A$5:$E$100,MATCH(A46,'mf1'!$A$5:$A$100,0),5))))","v":""},{"$f":" IF(A46=\"Zztock\",\"\",IF(ISERROR(A46),\"\",IF(A46=0,\"\",INDEX('mf2'!$A$5:$E$100,MATCH(A46,'mf2'!$A$5:$A$100,0),5))))","v":""},{"$f":" IF(A46=\"Zztock\",\"\",IF(ISERROR(A46),\"\",IF(A46=0,\"\",(mf2value*'Results-advanced'!B46+mf1value*'Results-advanced'!C46)/100)))","v":""},1,"ZZtock",{"$f":" IF(F46=\"Zztock\",\"\",IF(ISERROR(F46),\"\",IF(F46=0,\"\",INDEX('mf2'!$A$5:$E$100,MATCH(F46,'mf2'!$A$5:$A$100,0),5))))","v":""},{"$f":" IF(F46=\"Zztock\",\"\",IF(ISERROR(F46),\"\",IF(F46=0,\"\",INDEX('mf3'!$A$5:$E$100,MATCH(F46,'mf3'!$A$5:$A$100,0),5))))","v":""},{"$f":" IF(F46=\"Zztock\",\"\",IF(ISERROR(F46),\"\",IF(F46=0,\"\",(mf3value*'Results-advanced'!G46+'Results-advanced'!H46*mf2value)/100)))","v":""},1,null,null,null,null,null,null,null,null,"ZZtock",{"$f":" IF(S46=\"Zztock\",\"\",IF(ISERROR(S46),\"\",IF(S46=0,\"\",INDEX('mf1'!$A$5:$E$100,MATCH(S46,'mf1'!$A$5:$A$100,0),5))))","v":""},{"$f":" IF(S46=\"Zztock\",\"\", IF(ISERROR(S46),\"\",IF(S46=0,\"\",INDEX('mf3'!$A$5:$E$100,MATCH(S46,'mf3'!$A$5:$A$100,0),5))))","v":""},{"$f":" IF(S46=\"Zztock\",\"\", IF(ISERROR(S46),\"\",IF(S46=0,\"\",(mf3value*'Results-advanced'!T46+'Results-advanced'!U46*mf1value)/100)))","v":""},1]
["ZZtock",{"$f":"  IF(A47=\"Zztock\",\"\",IF(ISERROR(A47),\"\",IF(A47=0,\"\",INDEX('mf1'!$A$5:$E$100,MATCH(A47,'mf1'!$A$5:$A$100,0),5))))","v":""},{"$f":" IF(A47=\"Zztock\",\"\",IF(ISERROR(A47),\"\",IF(A47=0,\"\",INDEX('mf2'!$A$5:$E$100,MATCH(A47,'mf2'!$A$5:$A$100,0),5))))","v":""},{"$f":" IF(A47=\"Zztock\",\"\",IF(ISERROR(A47),\"\",IF(A47=0,\"\",(mf2value*'Results-advanced'!B47+mf1value*'Results-advanced'!C47)/100)))","v":""},1,"ZZtock",{"$f":" IF(F47=\"Zztock\",\"\",IF(ISERROR(F47),\"\",IF(F47=0,\"\",INDEX('mf2'!$A$5:$E$100,MATCH(F47,'mf2'!$A$5:$A$100,0),5))))","v":""},{"$f":" IF(F47=\"Zztock\",\"\",IF(ISERROR(F47),\"\",IF(F47=0,\"\",INDEX('mf3'!$A$5:$E$100,MATCH(F47,'mf3'!$A$5:$A$100,0),5))))","v":""},{"$f":" IF(F47=\"Zztock\",\"\",IF(ISERROR(F47),\"\",IF(F47=0,\"\",(mf3value*'Results-advanced'!G47+'Results-advanced'!H47*mf2value)/100)))","v":""},1,null,null,null,null,null,null,null,null,"ZZtock",{"$f":" IF(S47=\"Zztock\",\"\",IF(ISERROR(S47),\"\",IF(S47=0,\"\",INDEX('mf1'!$A$5:$E$100,MATCH(S47,'mf1'!$A$5:$A$100,0),5))))","v":""},{"$f":" IF(S47=\"Zztock\",\"\", IF(ISERROR(S47),\"\",IF(S47=0,\"\",INDEX('mf3'!$A$5:$E$100,MATCH(S47,'mf3'!$A$5:$A$100,0),5))))","v":""},{"$f":" IF(S47=\"Zztock\",\"\", IF(ISERROR(S47),\"\",IF(S47=0,\"\",(mf3value*'Results-advanced'!T47+'Results-advanced'!U47*mf1value)/100)))","v":""},1]
["ZZtock",{"$f":"  IF(A48=\"Zztock\",\"\",IF(ISERROR(A48),\"\",IF(A48=0,\"\",INDEX('mf1'!$A$5:$E$100,MATCH(A48,'mf1'!$A$5:$A$100,0),5))))","v":""},{"$f":" IF(A48=\"Zztock\",\"\",IF(ISERROR(A48),\"\",IF(A48=0,\"\",INDEX('mf2'!$A$5:$E$100,MATCH(A48,'mf2'!$A$5:$A$100,0),5))))","v":""},{"$f":" IF(A48=\"Zztock\",\"\",IF(ISERROR(A48),\"\",IF(A48=0,\"\",(mf2value*'Results-advanced'!B48+mf1value*'Results-advanced'!C48)/100)))","v":""},1,"ZZtock",{"$f":" IF(F48=\"Zztock\",\"\",IF(ISERROR(F48),\"\",IF(F48=0,\"\",INDEX('mf2'!$A$5:$E$100,MATCH(F48,'mf2'!$A$5:$A$100,0),5))))","v":""},{"$f":" IF(F48=\"Zztock\",\"\",IF(ISERROR(F48),\"\",IF(F48=0,\"\",INDEX('mf3'!$A$5:$E$100,MATCH(F48,'mf3'!$A$5:$A$100,0),5))))","v":""},{"$f":" IF(F48=\"Zztock\",\"\",IF(ISERROR(F48),\"\",IF(F48=0,\"\",(mf3value*'Results-advanced'!G48+'Results-advanced'!H48*mf2value)/100)))","v":""},1,null,null,null,null,null,null,null,null,"ZZtock",{"$f":" IF(S48=\"Zztock\",\"\",IF(ISERROR(S48),\"\",IF(S48=0,\"\",INDEX('mf1'!$A$5:$E$100,MATCH(S48,'mf1'!$A$5:$A$100,0),5))))","v":""},{"$f":" IF(S48=\"Zztock\",\"\", IF(ISERROR(S48),\"\",IF(S48=0,\"\",INDEX('mf3'!$A$5:$E$100,MATCH(S48,'mf3'!$A$5:$A$100,0),5))))","v":""},{"$f":" IF(S48=\"Zztock\",\"\", IF(ISERROR(S48),\"\",IF(S48=0,\"\",(mf3value*'Results-advanced'!T48+'Results-advanced'!U48*mf1value)/100)))","v":""},1]
["ZZtock",{"$f":"  IF(A49=\"Zztock\",\"\",IF(ISERROR(A49),\"\",IF(A49=0,\"\",INDEX('mf1'!$A$5:$E$100,MATCH(A49,'mf1'!$A$5:$A$100,0),5))))","v":""},{"$f":" IF(A49=\"Zztock\",\"\",IF(ISERROR(A49),\"\",IF(A49=0,\"\",INDEX('mf2'!$A$5:$E$100,MATCH(A49,'mf2'!$A$5:$A$100,0),5))))","v":""},{"$f":" IF(A49=\"Zztock\",\"\",IF(ISERROR(A49),\"\",IF(A49=0,\"\",(mf2value*'Results-advanced'!B49+mf1value*'Results-advanced'!C49)/100)))","v":""},1,"ZZtock",{"$f":" IF(F49=\"Zztock\",\"\",IF(ISERROR(F49),\"\",IF(F49=0,\"\",INDEX('mf2'!$A$5:$E$100,MATCH(F49,'mf2'!$A$5:$A$100,0),5))))","v":""},{"$f":" IF(F49=\"Zztock\",\"\",IF(ISERROR(F49),\"\",IF(F49=0,\"\",INDEX('mf3'!$A$5:$E$100,MATCH(F49,'mf3'!$A$5:$A$100,0),5))))","v":""},{"$f":" IF(F49=\"Zztock\",\"\",IF(ISERROR(F49),\"\",IF(F49=0,\"\",(mf3value*'Results-advanced'!G49+'Results-advanced'!H49*mf2value)/100)))","v":""},1,null,null,null,null,null,null,null,null,"ZZtock",{"$f":" IF(S49=\"Zztock\",\"\",IF(ISERROR(S49),\"\",IF(S49=0,\"\",INDEX('mf1'!$A$5:$E$100,MATCH(S49,'mf1'!$A$5:$A$100,0),5))))","v":""},{"$f":" IF(S49=\"Zztock\",\"\", IF(ISERROR(S49),\"\",IF(S49=0,\"\",INDEX('mf3'!$A$5:$E$100,MATCH(S49,'mf3'!$A$5:$A$100,0),5))))","v":""},{"$f":" IF(S49=\"Zztock\",\"\", IF(ISERROR(S49),\"\",IF(S49=0,\"\",(mf3value*'Results-advanced'!T49+'Results-advanced'!U49*mf1value)/100)))","v":""},1]
["ZZtock",{"$f":"  IF(A50=\"Zztock\",\"\",IF(ISERROR(A50),\"\",IF(A50=0,\"\",INDEX('mf1'!$A$5:$E$100,MATCH(A50,'mf1'!$A$5:$A$100,0),5))))","v":""},{"$f":" IF(A50=\"Zztock\",\"\",IF(ISERROR(A50),\"\",IF(A50=0,\"\",INDEX('mf2'!$A$5:$E$100,MATCH(A50,'mf2'!$A$5:$A$100,0),5))))","v":""},{"$f":" IF(A50=\"Zztock\",\"\",IF(ISERROR(A50),\"\",IF(A50=0,\"\",(mf2value*'Results-advanced'!B50+mf1value*'Results-advanced'!C50)/100)))","v":""},1,"ZZtock",{"$f":" IF(F50=\"Zztock\",\"\",IF(ISERROR(F50),\"\",IF(F50=0,\"\",INDEX('mf2'!$A$5:$E$100,MATCH(F50,'mf2'!$A$5:$A$100,0),5))))","v":""},{"$f":" IF(F50=\"Zztock\",\"\",IF(ISERROR(F50),\"\",IF(F50=0,\"\",INDEX('mf3'!$A$5:$E$100,MATCH(F50,'mf3'!$A$5:$A$100,0),5))))","v":""},{"$f":" IF(F50=\"Zztock\",\"\",IF(ISERROR(F50),\"\",IF(F50=0,\"\",(mf3value*'Results-advanced'!G50+'Results-advanced'!H50*mf2value)/100)))","v":""},1,null,null,null,null,null,null,null,null,"ZZtock",{"$f":" IF(S50=\"Zztock\",\"\",IF(ISERROR(S50),\"\",IF(S50=0,\"\",INDEX('mf1'!$A$5:$E$100,MATCH(S50,'mf1'!$A$5:$A$100,0),5))))","v":""},{"$f":" IF(S50=\"Zztock\",\"\", IF(ISERROR(S50),\"\",IF(S50=0,\"\",INDEX('mf3'!$A$5:$E$100,MATCH(S50,'mf3'!$A$5:$A$100,0),5))))","v":""},{"$f":" IF(S50=\"Zztock\",\"\", IF(ISERROR(S50),\"\",IF(S50=0,\"\",(mf3value*'Results-advanced'!T50+'Results-advanced'!U50*mf1value)/100)))","v":""},1]
["ZZtock",{"$f":"  IF(A51=\"Zztock\",\"\",IF(ISERROR(A51),\"\",IF(A51=0,\"\",INDEX('mf1'!$A$5:$E$100,MATCH(A51,'mf1'!$A$5:$A$100,0),5))))","v":""},{"$f":" IF(A51=\"Zztock\",\"\",IF(ISERROR(A51),\"\",IF(A51=0,\"\",INDEX('mf2'!$A$5:$E$100,MATCH(A51,'mf2'!$A$5:$A$100,0),5))))","v":""},{"$f":" IF(A51=\"Zztock\",\"\",IF(ISERROR(A51),\"\",IF(A51=0,\"\",(mf2value*'Results-advanced'!B51+mf1value*'Results-advanced'!C51)/100)))","v":""},1,"ZZtock",{"$f":" IF(F51=\"Zztock\",\"\",IF(ISERROR(F51),\"\",IF(F51=0,\"\",INDEX('mf2'!$A$5:$E$100,MATCH(F51,'mf2'!$A$5:$A$100,0),5))))","v":""},{"$f":" IF(F51=\"Zztock\",\"\",IF(ISERROR(F51),\"\",IF(F51=0,\"\",INDEX('mf3'!$A$5:$E$100,MATCH(F51,'mf3'!$A$5:$A$100,0),5))))","v":""},{"$f":" IF(F51=\"Zztock\",\"\",IF(ISERROR(F51),\"\",IF(F51=0,\"\",(mf3value*'Results-advanced'!G51+'Results-advanced'!H51*mf2value)/100)))","v":""},1,null,null,null,null,null,null,null,null,"ZZtock",{"$f":" IF(S51=\"Zztock\",\"\",IF(ISERROR(S51),\"\",IF(S51=0,\"\",INDEX('mf1'!$A$5:$E$100,MATCH(S51,'mf1'!$A$5:$A$100,0),5))))","v":""},{"$f":" IF(S51=\"Zztock\",\"\", IF(ISERROR(S51),\"\",IF(S51=0,\"\",INDEX('mf3'!$A$5:$E$100,MATCH(S51,'mf3'!$A$5:$A$100,0),5))))","v":""},{"$f":" IF(S51=\"Zztock\",\"\", IF(ISERROR(S51),\"\",IF(S51=0,\"\",(mf3value*'Results-advanced'!T51+'Results-advanced'!U51*mf1value)/100)))","v":""},1]
["ZZtock",{"$f":"  IF(A52=\"Zztock\",\"\",IF(ISERROR(A52),\"\",IF(A52=0,\"\",INDEX('mf1'!$A$5:$E$100,MATCH(A52,'mf1'!$A$5:$A$100,0),5))))","v":""},{"$f":" IF(A52=\"Zztock\",\"\",IF(ISERROR(A52),\"\",IF(A52=0,\"\",INDEX('mf2'!$A$5:$E$100,MATCH(A52,'mf2'!$A$5:$A$100,0),5))))","v":""},{"$f":" IF(A52=\"Zztock\",\"\",IF(ISERROR(A52),\"\",IF(A52=0,\"\",(mf2value*'Results-advanced'!B52+mf1value*'Results-advanced'!C52)/100)))","v":""},1,"ZZtock",{"$f":" IF(F52=\"Zztock\",\"\",IF(ISERROR(F52),\"\",IF(F52=0,\"\",INDEX('mf2'!$A$5:$E$100,MATCH(F52,'mf2'!$A$5:$A$100,0),5))))","v":""},{"$f":" IF(F52=\"Zztock\",\"\",IF(ISERROR(F52),\"\",IF(F52=0,\"\",INDEX('mf3'!$A$5:$E$100,MATCH(F52,'mf3'!$A$5:$A$100,0),5))))","v":""},{"$f":" IF(F52=\"Zztock\",\"\",IF(ISERROR(F52),\"\",IF(F52=0,\"\",(mf3value*'Results-advanced'!G52+'Results-advanced'!H52*mf2value)/100)))","v":""},1,null,null,null,null,null,null,null,null,"ZZtock",{"$f":" IF(S52=\"Zztock\",\"\",IF(ISERROR(S52),\"\",IF(S52=0,\"\",INDEX('mf1'!$A$5:$E$100,MATCH(S52,'mf1'!$A$5:$A$100,0),5))))","v":""},{"$f":" IF(S52=\"Zztock\",\"\", IF(ISERROR(S52),\"\",IF(S52=0,\"\",INDEX('mf3'!$A$5:$E$100,MATCH(S52,'mf3'!$A$5:$A$100,0),5))))","v":""},{"$f":" IF(S52=\"Zztock\",\"\", IF(ISERROR(S52),\"\",IF(S52=0,\"\",(mf3value*'Results-advanced'!T52+'Results-advanced'!U52*mf1value)/100)))","v":""},1]
["ZZtock",{"$f":"  IF(A53=\"Zztock\",\"\",IF(ISERROR(A53),\"\",IF(A53=0,\"\",INDEX('mf1'!$A$5:$E$100,MATCH(A53,'mf1'!$A$5:$A$100,0),5))))","v":""},{"$f":" IF(A53=\"Zztock\",\"\",IF(ISERROR(A53),\"\",IF(A53=0,\"\",INDEX('mf2'!$A$5:$E$100,MATCH(A53,'mf2'!$A$5:$A$100,0),5))))","v":""},{"$f":" IF(A53=\"Zztock\",\"\",IF(ISERROR(A53),\"\",IF(A53=0,\"\",(mf2value*'Results-advanced'!B53+mf1value*'Results-advanced'!C53)/100)))","v":""},1,"ZZtock",{"$f":" IF(F53=\"Zztock\",\"\",IF(ISERROR(F53),\"\",IF(F53=0,\"\",INDEX('mf2'!$A$5:$E$100,MATCH(F53,'mf2'!$A$5:$A$100,0),5))))","v":""},{"$f":" IF(F53=\"Zztock\",\"\",IF(ISERROR(F53),\"\",IF(F53=0,\"\",INDEX('mf3'!$A$5:$E$100,MATCH(F53,'mf3'!$A$5:$A$100,0),5))))","v":""},{"$f":" IF(F53=\"Zztock\",\"\",IF(ISERROR(F53),\"\",IF(F53=0,\"\",(mf3value*'Results-advanced'!G53+'Results-advanced'!H53*mf2value)/100)))","v":""},1,null,null,null,null,null,null,null,null,"ZZtock",{"$f":" IF(S53=\"Zztock\",\"\",IF(ISERROR(S53),\"\",IF(S53=0,\"\",INDEX('mf1'!$A$5:$E$100,MATCH(S53,'mf1'!$A$5:$A$100,0),5))))","v":""},{"$f":" IF(S53=\"Zztock\",\"\", IF(ISERROR(S53),\"\",IF(S53=0,\"\",INDEX('mf3'!$A$5:$E$100,MATCH(S53,'mf3'!$A$5:$A$100,0),5))))","v":""},{"$f":" IF(S53=\"Zztock\",\"\", IF(ISERROR(S53),\"\",IF(S53=0,\"\",(mf3value*'Results-advanced'!T53+'Results-advanced'!U53*mf1value)/100)))","v":""},1]
["ZZtock",{"$f":"  IF(A54=\"Zztock\",\"\",IF(ISERROR(A54),\"\",IF(A54=0,\"\",INDEX('mf1'!$A$5:$E$100,MATCH(A54,'mf1'!$A$5:$A$100,0),5))))","v":""},{"$f":" IF(A54=\"Zztock\",\"\",IF(ISERROR(A54),\"\",IF(A54=0,\"\",INDEX('mf2'!$A$5:$E$100,MATCH(A54,'mf2'!$A$5:$A$100,0),5))))","v":""},{"$f":" IF(A54=\"Zztock\",\"\",IF(ISERROR(A54),\"\",IF(A54=0,\"\",(mf2value*'Results-advanced'!B54+mf1value*'Results-advanced'!C54)/100)))","v":""},1,"ZZtock",{"$f":" IF(F54=\"Zztock\",\"\",IF(ISERROR(F54),\"\",IF(F54=0,\"\",INDEX('mf2'!$A$5:$E$100,MATCH(F54,'mf2'!$A$5:$A$100,0),5))))","v":""},{"$f":" IF(F54=\"Zztock\",\"\",IF(ISERROR(F54),\"\",IF(F54=0,\"\",INDEX('mf3'!$A$5:$E$100,MATCH(F54,'mf3'!$A$5:$A$100,0),5))))","v":""},{"$f":" IF(F54=\"Zztock\",\"\",IF(ISERROR(F54),\"\",IF(F54=0,\"\",(mf3value*'Results-advanced'!G54+'Results-advanced'!H54*mf2value)/100)))","v":""},1,null,null,null,null,null,null,null,null,"ZZtock",{"$f":" IF(S54=\"Zztock\",\"\",IF(ISERROR(S54),\"\",IF(S54=0,\"\",INDEX('mf1'!$A$5:$E$100,MATCH(S54,'mf1'!$A$5:$A$100,0),5))))","v":""},{"$f":" IF(S54=\"Zztock\",\"\", IF(ISERROR(S54),\"\",IF(S54=0,\"\",INDEX('mf3'!$A$5:$E$100,MATCH(S54,'mf3'!$A$5:$A$100,0),5))))","v":""},{"$f":" IF(S54=\"Zztock\",\"\", IF(ISERROR(S54),\"\",IF(S54=0,\"\",(mf3value*'Results-advanced'!T54+'Results-advanced'!U54*mf1value)/100)))","v":""},1]
["ZZtock",{"$f":"  IF(A55=\"Zztock\",\"\",IF(ISERROR(A55),\"\",IF(A55=0,\"\",INDEX('mf1'!$A$5:$E$100,MATCH(A55,'mf1'!$A$5:$A$100,0),5))))","v":""},{"$f":" IF(A55=\"Zztock\",\"\",IF(ISERROR(A55),\"\",IF(A55=0,\"\",INDEX('mf2'!$A$5:$E$100,MATCH(A55,'mf2'!$A$5:$A$100,0),5))))","v":""},{"$f":" IF(A55=\"Zztock\",\"\",IF(ISERROR(A55),\"\",IF(A55=0,\"\",(mf2value*'Results-advanced'!B55+mf1value*'Results-advanced'!C55)/100)))","v":""},1,"ZZtock",{"$f":" IF(F55=\"Zztock\",\"\",IF(ISERROR(F55),\"\",IF(F55=0,\"\",INDEX('mf2'!$A$5:$E$100,MATCH(F55,'mf2'!$A$5:$A$100,0),5))))","v":""},{"$f":" IF(F55=\"Zztock\",\"\",IF(ISERROR(F55),\"\",IF(F55=0,\"\",INDEX('mf3'!$A$5:$E$100,MATCH(F55,'mf3'!$A$5:$A$100,0),5))))","v":""},{"$f":" IF(F55=\"Zztock\",\"\",IF(ISERROR(F55),\"\",IF(F55=0,\"\",(mf3value*'Results-advanced'!G55+'Results-advanced'!H55*mf2value)/100)))","v":""},1,null,null,null,null,null,null,null,null,"ZZtock",{"$f":" IF(S55=\"Zztock\",\"\",IF(ISERROR(S55),\"\",IF(S55=0,\"\",INDEX('mf1'!$A$5:$E$100,MATCH(S55,'mf1'!$A$5:$A$100,0),5))))","v":""},{"$f":" IF(S55=\"Zztock\",\"\", IF(ISERROR(S55),\"\",IF(S55=0,\"\",INDEX('mf3'!$A$5:$E$100,MATCH(S55,'mf3'!$A$5:$A$100,0),5))))","v":""},{"$f":" IF(S55=\"Zztock\",\"\", IF(ISERROR(S55),\"\",IF(S55=0,\"\",(mf3value*'Results-advanced'!T55+'Results-advanced'!U55*mf1value)/100)))","v":""},1]
["ZZtock",{"$f":"  IF(A56=\"Zztock\",\"\",IF(ISERROR(A56),\"\",IF(A56=0,\"\",INDEX('mf1'!$A$5:$E$100,MATCH(A56,'mf1'!$A$5:$A$100,0),5))))","v":""},{"$f":" IF(A56=\"Zztock\",\"\",IF(ISERROR(A56),\"\",IF(A56=0,\"\",INDEX('mf2'!$A$5:$E$100,MATCH(A56,'mf2'!$A$5:$A$100,0),5))))","v":""},{"$f":" IF(A56=\"Zztock\",\"\",IF(ISERROR(A56),\"\",IF(A56=0,\"\",(mf2value*'Results-advanced'!B56+mf1value*'Results-advanced'!C56)/100)))","v":""},1,"ZZtock",{"$f":" IF(F56=\"Zztock\",\"\",IF(ISERROR(F56),\"\",IF(F56=0,\"\",INDEX('mf2'!$A$5:$E$100,MATCH(F56,'mf2'!$A$5:$A$100,0),5))))","v":""},{"$f":" IF(F56=\"Zztock\",\"\",IF(ISERROR(F56),\"\",IF(F56=0,\"\",INDEX('mf3'!$A$5:$E$100,MATCH(F56,'mf3'!$A$5:$A$100,0),5))))","v":""},{"$f":" IF(F56=\"Zztock\",\"\",IF(ISERROR(F56),\"\",IF(F56=0,\"\",(mf3value*'Results-advanced'!G56+'Results-advanced'!H56*mf2value)/100)))","v":""},1,null,null,null,null,null,null,null,null,"ZZtock",{"$f":" IF(S56=\"Zztock\",\"\",IF(ISERROR(S56),\"\",IF(S56=0,\"\",INDEX('mf1'!$A$5:$E$100,MATCH(S56,'mf1'!$A$5:$A$100,0),5))))","v":""},{"$f":" IF(S56=\"Zztock\",\"\", IF(ISERROR(S56),\"\",IF(S56=0,\"\",INDEX('mf3'!$A$5:$E$100,MATCH(S56,'mf3'!$A$5:$A$100,0),5))))","v":""},{"$f":" IF(S56=\"Zztock\",\"\", IF(ISERROR(S56),\"\",IF(S56=0,\"\",(mf3value*'Results-advanced'!T56+'Results-advanced'!U56*mf1value)/100)))","v":""},1]
["ZZtock",{"$f":"  IF(A57=\"Zztock\",\"\",IF(ISERROR(A57),\"\",IF(A57=0,\"\",INDEX('mf1'!$A$5:$E$100,MATCH(A57,'mf1'!$A$5:$A$100,0),5))))","v":""},{"$f":" IF(A57=\"Zztock\",\"\",IF(ISERROR(A57),\"\",IF(A57=0,\"\",INDEX('mf2'!$A$5:$E$100,MATCH(A57,'mf2'!$A$5:$A$100,0),5))))","v":""},{"$f":" IF(A57=\"Zztock\",\"\",IF(ISERROR(A57),\"\",IF(A57=0,\"\",(mf2value*'Results-advanced'!B57+mf1value*'Results-advanced'!C57)/100)))","v":""},1,"ZZtock",{"$f":" IF(F57=\"Zztock\",\"\",IF(ISERROR(F57),\"\",IF(F57=0,\"\",INDEX('mf2'!$A$5:$E$100,MATCH(F57,'mf2'!$A$5:$A$100,0),5))))","v":""},{"$f":" IF(F57=\"Zztock\",\"\",IF(ISERROR(F57),\"\",IF(F57=0,\"\",INDEX('mf3'!$A$5:$E$100,MATCH(F57,'mf3'!$A$5:$A$100,0),5))))","v":""},{"$f":" IF(F57=\"Zztock\",\"\",IF(ISERROR(F57),\"\",IF(F57=0,\"\",(mf3value*'Results-advanced'!G57+'Results-advanced'!H57*mf2value)/100)))","v":""},1,null,null,null,null,null,null,null,null,"ZZtock",{"$f":" IF(S57=\"Zztock\",\"\",IF(ISERROR(S57),\"\",IF(S57=0,\"\",INDEX('mf1'!$A$5:$E$100,MATCH(S57,'mf1'!$A$5:$A$100,0),5))))","v":""},{"$f":" IF(S57=\"Zztock\",\"\", IF(ISERROR(S57),\"\",IF(S57=0,\"\",INDEX('mf3'!$A$5:$E$100,MATCH(S57,'mf3'!$A$5:$A$100,0),5))))","v":""},{"$f":" IF(S57=\"Zztock\",\"\", IF(ISERROR(S57),\"\",IF(S57=0,\"\",(mf3value*'Results-advanced'!T57+'Results-advanced'!U57*mf1value)/100)))","v":""},1]
["ZZtock",{"$f":"  IF(A58=\"Zztock\",\"\",IF(ISERROR(A58),\"\",IF(A58=0,\"\",INDEX('mf1'!$A$5:$E$100,MATCH(A58,'mf1'!$A$5:$A$100,0),5))))","v":""},{"$f":" IF(A58=\"Zztock\",\"\",IF(ISERROR(A58),\"\",IF(A58=0,\"\",INDEX('mf2'!$A$5:$E$100,MATCH(A58,'mf2'!$A$5:$A$100,0),5))))","v":""},{"$f":" IF(A58=\"Zztock\",\"\",IF(ISERROR(A58),\"\",IF(A58=0,\"\",(mf2value*'Results-advanced'!B58+mf1value*'Results-advanced'!C58)/100)))","v":""},1,"ZZtock",{"$f":" IF(F58=\"Zztock\",\"\",IF(ISERROR(F58),\"\",IF(F58=0,\"\",INDEX('mf2'!$A$5:$E$100,MATCH(F58,'mf2'!$A$5:$A$100,0),5))))","v":""},{"$f":" IF(F58=\"Zztock\",\"\",IF(ISERROR(F58),\"\",IF(F58=0,\"\",INDEX('mf3'!$A$5:$E$100,MATCH(F58,'mf3'!$A$5:$A$100,0),5))))","v":""},{"$f":" IF(F58=\"Zztock\",\"\",IF(ISERROR(F58),\"\",IF(F58=0,\"\",(mf3value*'Results-advanced'!G58+'Results-advanced'!H58*mf2value)/100)))","v":""},1,null,null,null,null,null,null,null,null,"ZZtock",{"$f":" IF(S58=\"Zztock\",\"\",IF(ISERROR(S58),\"\",IF(S58=0,\"\",INDEX('mf1'!$A$5:$E$100,MATCH(S58,'mf1'!$A$5:$A$100,0),5))))","v":""},{"$f":" IF(S58=\"Zztock\",\"\", IF(ISERROR(S58),\"\",IF(S58=0,\"\",INDEX('mf3'!$A$5:$E$100,MATCH(S58,'mf3'!$A$5:$A$100,0),5))))","v":""},{"$f":" IF(S58=\"Zztock\",\"\", IF(ISERROR(S58),\"\",IF(S58=0,\"\",(mf3value*'Results-advanced'!T58+'Results-advanced'!U58*mf1value)/100)))","v":""},1]
["ZZtock",{"$f":"  IF(A59=\"Zztock\",\"\",IF(ISERROR(A59),\"\",IF(A59=0,\"\",INDEX('mf1'!$A$5:$E$100,MATCH(A59,'mf1'!$A$5:$A$100,0),5))))","v":""},{"$f":" IF(A59=\"Zztock\",\"\",IF(ISERROR(A59),\"\",IF(A59=0,\"\",INDEX('mf2'!$A$5:$E$100,MATCH(A59,'mf2'!$A$5:$A$100,0),5))))","v":""},{"$f":" IF(A59=\"Zztock\",\"\",IF(ISERROR(A59),\"\",IF(A59=0,\"\",(mf2value*'Results-advanced'!B59+mf1value*'Results-advanced'!C59)/100)))","v":""},1,"ZZtock",{"$f":" IF(F59=\"Zztock\",\"\",IF(ISERROR(F59),\"\",IF(F59=0,\"\",INDEX('mf2'!$A$5:$E$100,MATCH(F59,'mf2'!$A$5:$A$100,0),5))))","v":""},{"$f":" IF(F59=\"Zztock\",\"\",IF(ISERROR(F59),\"\",IF(F59=0,\"\",INDEX('mf3'!$A$5:$E$100,MATCH(F59,'mf3'!$A$5:$A$100,0),5))))","v":""},{"$f":" IF(F59=\"Zztock\",\"\",IF(ISERROR(F59),\"\",IF(F59=0,\"\",(mf3value*'Results-advanced'!G59+'Results-advanced'!H59*mf2value)/100)))","v":""},1,null,null,null,null,null,null,null,null,"ZZtock",{"$f":" IF(S59=\"Zztock\",\"\",IF(ISERROR(S59),\"\",IF(S59=0,\"\",INDEX('mf1'!$A$5:$E$100,MATCH(S59,'mf1'!$A$5:$A$100,0),5))))","v":""},{"$f":" IF(S59=\"Zztock\",\"\", IF(ISERROR(S59),\"\",IF(S59=0,\"\",INDEX('mf3'!$A$5:$E$100,MATCH(S59,'mf3'!$A$5:$A$100,0),5))))","v":""},{"$f":" IF(S59=\"Zztock\",\"\", IF(ISERROR(S59),\"\",IF(S59=0,\"\",(mf3value*'Results-advanced'!T59+'Results-advanced'!U59*mf1value)/100)))","v":""},1]
["ZZtock",{"$f":"  IF(A60=\"Zztock\",\"\",IF(ISERROR(A60),\"\",IF(A60=0,\"\",INDEX('mf1'!$A$5:$E$100,MATCH(A60,'mf1'!$A$5:$A$100,0),5))))","v":""},{"$f":" IF(A60=\"Zztock\",\"\",IF(ISERROR(A60),\"\",IF(A60=0,\"\",INDEX('mf2'!$A$5:$E$100,MATCH(A60,'mf2'!$A$5:$A$100,0),5))))","v":""},{"$f":" IF(A60=\"Zztock\",\"\",IF(ISERROR(A60),\"\",IF(A60=0,\"\",(mf2value*'Results-advanced'!B60+mf1value*'Results-advanced'!C60)/100)))","v":""},1,"ZZtock",{"$f":" IF(F60=\"Zztock\",\"\",IF(ISERROR(F60),\"\",IF(F60=0,\"\",INDEX('mf2'!$A$5:$E$100,MATCH(F60,'mf2'!$A$5:$A$100,0),5))))","v":""},{"$f":" IF(F60=\"Zztock\",\"\",IF(ISERROR(F60),\"\",IF(F60=0,\"\",INDEX('mf3'!$A$5:$E$100,MATCH(F60,'mf3'!$A$5:$A$100,0),5))))","v":""},{"$f":" IF(F60=\"Zztock\",\"\",IF(ISERROR(F60),\"\",IF(F60=0,\"\",(mf3value*'Results-advanced'!G60+'Results-advanced'!H60*mf2value)/100)))","v":""},1,null,null,null,null,null,null,null,null,"ZZtock",{"$f":" IF(S60=\"Zztock\",\"\",IF(ISERROR(S60),\"\",IF(S60=0,\"\",INDEX('mf1'!$A$5:$E$100,MATCH(S60,'mf1'!$A$5:$A$100,0),5))))","v":""},{"$f":" IF(S60=\"Zztock\",\"\", IF(ISERROR(S60),\"\",IF(S60=0,\"\",INDEX('mf3'!$A$5:$E$100,MATCH(S60,'mf3'!$A$5:$A$100,0),5))))","v":""},{"$f":" IF(S60=\"Zztock\",\"\", IF(ISERROR(S60),\"\",IF(S60=0,\"\",(mf3value*'Results-advanced'!T60+'Results-advanced'!U60*mf1value)/100)))","v":""},1]
["ZZtock",{"$f":"  IF(A61=\"Zztock\",\"\",IF(ISERROR(A61),\"\",IF(A61=0,\"\",INDEX('mf1'!$A$5:$E$100,MATCH(A61,'mf1'!$A$5:$A$100,0),5))))","v":""},{"$f":" IF(A61=\"Zztock\",\"\",IF(ISERROR(A61),\"\",IF(A61=0,\"\",INDEX('mf2'!$A$5:$E$100,MATCH(A61,'mf2'!$A$5:$A$100,0),5))))","v":""},{"$f":" IF(A61=\"Zztock\",\"\",IF(ISERROR(A61),\"\",IF(A61=0,\"\",(mf2value*'Results-advanced'!B61+mf1value*'Results-advanced'!C61)/100)))","v":""},1,"ZZtock",{"$f":" IF(F61=\"Zztock\",\"\",IF(ISERROR(F61),\"\",IF(F61=0,\"\",INDEX('mf2'!$A$5:$E$100,MATCH(F61,'mf2'!$A$5:$A$100,0),5))))","v":""},{"$f":" IF(F61=\"Zztock\",\"\",IF(ISERROR(F61),\"\",IF(F61=0,\"\",INDEX('mf3'!$A$5:$E$100,MATCH(F61,'mf3'!$A$5:$A$100,0),5))))","v":""},{"$f":" IF(F61=\"Zztock\",\"\",IF(ISERROR(F61),\"\",IF(F61=0,\"\",(mf3value*'Results-advanced'!G61+'Results-advanced'!H61*mf2value)/100)))","v":""},1,null,null,null,null,null,null,null,null,"ZZtock",{"$f":" IF(S61=\"Zztock\",\"\",IF(ISERROR(S61),\"\",IF(S61=0,\"\",INDEX('mf1'!$A$5:$E$100,MATCH(S61,'mf1'!$A$5:$A$100,0),5))))","v":""},{"$f":" IF(S61=\"Zztock\",\"\", IF(ISERROR(S61),\"\",IF(S61=0,\"\",INDEX('mf3'!$A$5:$E$100,MATCH(S61,'mf3'!$A$5:$A$100,0),5))))","v":""},{"$f":" IF(S61=\"Zztock\",\"\", IF(ISERROR(S61),\"\",IF(S61=0,\"\",(mf3value*'Results-advanced'!T61+'Results-advanced'!U61*mf1value)/100)))","v":""},1]
["ZZtock",{"$f":"  IF(A62=\"Zztock\",\"\",IF(ISERROR(A62),\"\",IF(A62=0,\"\",INDEX('mf1'!$A$5:$E$100,MATCH(A62,'mf1'!$A$5:$A$100,0),5))))","v":""},{"$f":" IF(A62=\"Zztock\",\"\",IF(ISERROR(A62),\"\",IF(A62=0,\"\",INDEX('mf2'!$A$5:$E$100,MATCH(A62,'mf2'!$A$5:$A$100,0),5))))","v":""},{"$f":" IF(A62=\"Zztock\",\"\",IF(ISERROR(A62),\"\",IF(A62=0,\"\",(mf2value*'Results-advanced'!B62+mf1value*'Results-advanced'!C62)/100)))","v":""},1,"ZZtock",{"$f":" IF(F62=\"Zztock\",\"\",IF(ISERROR(F62),\"\",IF(F62=0,\"\",INDEX('mf2'!$A$5:$E$100,MATCH(F62,'mf2'!$A$5:$A$100,0),5))))","v":""},{"$f":" IF(F62=\"Zztock\",\"\",IF(ISERROR(F62),\"\",IF(F62=0,\"\",INDEX('mf3'!$A$5:$E$100,MATCH(F62,'mf3'!$A$5:$A$100,0),5))))","v":""},{"$f":" IF(F62=\"Zztock\",\"\",IF(ISERROR(F62),\"\",IF(F62=0,\"\",(mf3value*'Results-advanced'!G62+'Results-advanced'!H62*mf2value)/100)))","v":""},1,null,null,null,null,null,null,null,null,"ZZtock",{"$f":" IF(S62=\"Zztock\",\"\",IF(ISERROR(S62),\"\",IF(S62=0,\"\",INDEX('mf1'!$A$5:$E$100,MATCH(S62,'mf1'!$A$5:$A$100,0),5))))","v":""},{"$f":" IF(S62=\"Zztock\",\"\", IF(ISERROR(S62),\"\",IF(S62=0,\"\",INDEX('mf3'!$A$5:$E$100,MATCH(S62,'mf3'!$A$5:$A$100,0),5))))","v":""},{"$f":" IF(S62=\"Zztock\",\"\", IF(ISERROR(S62),\"\",IF(S62=0,\"\",(mf3value*'Results-advanced'!T62+'Results-advanced'!U62*mf1value)/100)))","v":""},1]
["ZZtock",{"$f":"  IF(A63=\"Zztock\",\"\",IF(ISERROR(A63),\"\",IF(A63=0,\"\",INDEX('mf1'!$A$5:$E$100,MATCH(A63,'mf1'!$A$5:$A$100,0),5))))","v":""},{"$f":" IF(A63=\"Zztock\",\"\",IF(ISERROR(A63),\"\",IF(A63=0,\"\",INDEX('mf2'!$A$5:$E$100,MATCH(A63,'mf2'!$A$5:$A$100,0),5))))","v":""},{"$f":" IF(A63=\"Zztock\",\"\",IF(ISERROR(A63),\"\",IF(A63=0,\"\",(mf2value*'Results-advanced'!B63+mf1value*'Results-advanced'!C63)/100)))","v":""},1,"ZZtock",{"$f":" IF(F63=\"Zztock\",\"\",IF(ISERROR(F63),\"\",IF(F63=0,\"\",INDEX('mf2'!$A$5:$E$100,MATCH(F63,'mf2'!$A$5:$A$100,0),5))))","v":""},{"$f":" IF(F63=\"Zztock\",\"\",IF(ISERROR(F63),\"\",IF(F63=0,\"\",INDEX('mf3'!$A$5:$E$100,MATCH(F63,'mf3'!$A$5:$A$100,0),5))))","v":""},{"$f":" IF(F63=\"Zztock\",\"\",IF(ISERROR(F63),\"\",IF(F63=0,\"\",(mf3value*'Results-advanced'!G63+'Results-advanced'!H63*mf2value)/100)))","v":""},1,null,null,null,null,null,null,null,null,"ZZtock",{"$f":" IF(S63=\"Zztock\",\"\",IF(ISERROR(S63),\"\",IF(S63=0,\"\",INDEX('mf1'!$A$5:$E$100,MATCH(S63,'mf1'!$A$5:$A$100,0),5))))","v":""},{"$f":" IF(S63=\"Zztock\",\"\", IF(ISERROR(S63),\"\",IF(S63=0,\"\",INDEX('mf3'!$A$5:$E$100,MATCH(S63,'mf3'!$A$5:$A$100,0),5))))","v":""},{"$f":" IF(S63=\"Zztock\",\"\", IF(ISERROR(S63),\"\",IF(S63=0,\"\",(mf3value*'Results-advanced'!T63+'Results-advanced'!U63*mf1value)/100)))","v":""},1]
["ZZtock",{"$f":"  IF(A64=\"Zztock\",\"\",IF(ISERROR(A64),\"\",IF(A64=0,\"\",INDEX('mf1'!$A$5:$E$100,MATCH(A64,'mf1'!$A$5:$A$100,0),5))))","v":""},{"$f":" IF(A64=\"Zztock\",\"\",IF(ISERROR(A64),\"\",IF(A64=0,\"\",INDEX('mf2'!$A$5:$E$100,MATCH(A64,'mf2'!$A$5:$A$100,0),5))))","v":""},{"$f":" IF(A64=\"Zztock\",\"\",IF(ISERROR(A64),\"\",IF(A64=0,\"\",(mf2value*'Results-advanced'!B64+mf1value*'Results-advanced'!C64)/100)))","v":""},1,"ZZtock",{"$f":" IF(F64=\"Zztock\",\"\",IF(ISERROR(F64),\"\",IF(F64=0,\"\",INDEX('mf2'!$A$5:$E$100,MATCH(F64,'mf2'!$A$5:$A$100,0),5))))","v":""},{"$f":" IF(F64=\"Zztock\",\"\",IF(ISERROR(F64),\"\",IF(F64=0,\"\",INDEX('mf3'!$A$5:$E$100,MATCH(F64,'mf3'!$A$5:$A$100,0),5))))","v":""},{"$f":" IF(F64=\"Zztock\",\"\",IF(ISERROR(F64),\"\",IF(F64=0,\"\",(mf3value*'Results-advanced'!G64+'Results-advanced'!H64*mf2value)/100)))","v":""},1,null,null,null,null,null,null,null,null,"ZZtock",{"$f":" IF(S64=\"Zztock\",\"\",IF(ISERROR(S64),\"\",IF(S64=0,\"\",INDEX('mf1'!$A$5:$E$100,MATCH(S64,'mf1'!$A$5:$A$100,0),5))))","v":""},{"$f":" IF(S64=\"Zztock\",\"\", IF(ISERROR(S64),\"\",IF(S64=0,\"\",INDEX('mf3'!$A$5:$E$100,MATCH(S64,'mf3'!$A$5:$A$100,0),5))))","v":""},{"$f":" IF(S64=\"Zztock\",\"\", IF(ISERROR(S64),\"\",IF(S64=0,\"\",(mf3value*'Results-advanced'!T64+'Results-advanced'!U64*mf1value)/100)))","v":""},1]
["ZZtock",{"$f":"  IF(A65=\"Zztock\",\"\",IF(ISERROR(A65),\"\",IF(A65=0,\"\",INDEX('mf1'!$A$5:$E$100,MATCH(A65,'mf1'!$A$5:$A$100,0),5))))","v":""},{"$f":" IF(A65=\"Zztock\",\"\",IF(ISERROR(A65),\"\",IF(A65=0,\"\",INDEX('mf2'!$A$5:$E$100,MATCH(A65,'mf2'!$A$5:$A$100,0),5))))","v":""},{"$f":" IF(A65=\"Zztock\",\"\",IF(ISERROR(A65),\"\",IF(A65=0,\"\",(mf2value*'Results-advanced'!B65+mf1value*'Results-advanced'!C65)/100)))","v":""},1,"ZZtock",{"$f":" IF(F65=\"Zztock\",\"\",IF(ISERROR(F65),\"\",IF(F65=0,\"\",INDEX('mf2'!$A$5:$E$100,MATCH(F65,'mf2'!$A$5:$A$100,0),5))))","v":""},{"$f":" IF(F65=\"Zztock\",\"\",IF(ISERROR(F65),\"\",IF(F65=0,\"\",INDEX('mf3'!$A$5:$E$100,MATCH(F65,'mf3'!$A$5:$A$100,0),5))))","v":""},{"$f":" IF(F65=\"Zztock\",\"\",IF(ISERROR(F65),\"\",IF(F65=0,\"\",(mf3value*'Results-advanced'!G65+'Results-advanced'!H65*mf2value)/100)))","v":""},1,null,null,null,null,null,null,null,null,"ZZtock",{"$f":" IF(S65=\"Zztock\",\"\",IF(ISERROR(S65),\"\",IF(S65=0,\"\",INDEX('mf1'!$A$5:$E$100,MATCH(S65,'mf1'!$A$5:$A$100,0),5))))","v":""},{"$f":" IF(S65=\"Zztock\",\"\", IF(ISERROR(S65),\"\",IF(S65=0,\"\",INDEX('mf3'!$A$5:$E$100,MATCH(S65,'mf3'!$A$5:$A$100,0),5))))","v":""},{"$f":" IF(S65=\"Zztock\",\"\", IF(ISERROR(S65),\"\",IF(S65=0,\"\",(mf3value*'Results-advanced'!T65+'Results-advanced'!U65*mf1value)/100)))","v":""},1]
["ZZtock",{"$f":"  IF(A66=\"Zztock\",\"\",IF(ISERROR(A66),\"\",IF(A66=0,\"\",INDEX('mf1'!$A$5:$E$100,MATCH(A66,'mf1'!$A$5:$A$100,0),5))))","v":""},{"$f":" IF(A66=\"Zztock\",\"\",IF(ISERROR(A66),\"\",IF(A66=0,\"\",INDEX('mf2'!$A$5:$E$100,MATCH(A66,'mf2'!$A$5:$A$100,0),5))))","v":""},{"$f":" IF(A66=\"Zztock\",\"\",IF(ISERROR(A66),\"\",IF(A66=0,\"\",(mf2value*'Results-advanced'!B66+mf1value*'Results-advanced'!C66)/100)))","v":""},1,"ZZtock",{"$f":" IF(F66=\"Zztock\",\"\",IF(ISERROR(F66),\"\",IF(F66=0,\"\",INDEX('mf2'!$A$5:$E$100,MATCH(F66,'mf2'!$A$5:$A$100,0),5))))","v":""},{"$f":" IF(F66=\"Zztock\",\"\",IF(ISERROR(F66),\"\",IF(F66=0,\"\",INDEX('mf3'!$A$5:$E$100,MATCH(F66,'mf3'!$A$5:$A$100,0),5))))","v":""},{"$f":" IF(F66=\"Zztock\",\"\",IF(ISERROR(F66),\"\",IF(F66=0,\"\",(mf3value*'Results-advanced'!G66+'Results-advanced'!H66*mf2value)/100)))","v":""},1,null,null,null,null,null,null,null,null,"ZZtock",{"$f":" IF(S66=\"Zztock\",\"\",IF(ISERROR(S66),\"\",IF(S66=0,\"\",INDEX('mf1'!$A$5:$E$100,MATCH(S66,'mf1'!$A$5:$A$100,0),5))))","v":""},{"$f":" IF(S66=\"Zztock\",\"\", IF(ISERROR(S66),\"\",IF(S66=0,\"\",INDEX('mf3'!$A$5:$E$100,MATCH(S66,'mf3'!$A$5:$A$100,0),5))))","v":""},{"$f":" IF(S66=\"Zztock\",\"\", IF(ISERROR(S66),\"\",IF(S66=0,\"\",(mf3value*'Results-advanced'!T66+'Results-advanced'!U66*mf1value)/100)))","v":""},1]
["ZZtock",{"$f":"  IF(A67=\"Zztock\",\"\",IF(ISERROR(A67),\"\",IF(A67=0,\"\",INDEX('mf1'!$A$5:$E$100,MATCH(A67,'mf1'!$A$5:$A$100,0),5))))","v":""},{"$f":" IF(A67=\"Zztock\",\"\",IF(ISERROR(A67),\"\",IF(A67=0,\"\",INDEX('mf2'!$A$5:$E$100,MATCH(A67,'mf2'!$A$5:$A$100,0),5))))","v":""},{"$f":" IF(A67=\"Zztock\",\"\",IF(ISERROR(A67),\"\",IF(A67=0,\"\",(mf2value*'Results-advanced'!B67+mf1value*'Results-advanced'!C67)/100)))","v":""},1,"ZZtock",{"$f":" IF(F67=\"Zztock\",\"\",IF(ISERROR(F67),\"\",IF(F67=0,\"\",INDEX('mf2'!$A$5:$E$100,MATCH(F67,'mf2'!$A$5:$A$100,0),5))))","v":""},{"$f":" IF(F67=\"Zztock\",\"\",IF(ISERROR(F67),\"\",IF(F67=0,\"\",INDEX('mf3'!$A$5:$E$100,MATCH(F67,'mf3'!$A$5:$A$100,0),5))))","v":""},{"$f":" IF(F67=\"Zztock\",\"\",IF(ISERROR(F67),\"\",IF(F67=0,\"\",(mf3value*'Results-advanced'!G67+'Results-advanced'!H67*mf2value)/100)))","v":""},1,null,null,null,null,null,null,null,null,"ZZtock",{"$f":" IF(S67=\"Zztock\",\"\",IF(ISERROR(S67),\"\",IF(S67=0,\"\",INDEX('mf1'!$A$5:$E$100,MATCH(S67,'mf1'!$A$5:$A$100,0),5))))","v":""},{"$f":" IF(S67=\"Zztock\",\"\", IF(ISERROR(S67),\"\",IF(S67=0,\"\",INDEX('mf3'!$A$5:$E$100,MATCH(S67,'mf3'!$A$5:$A$100,0),5))))","v":""},{"$f":" IF(S67=\"Zztock\",\"\", IF(ISERROR(S67),\"\",IF(S67=0,\"\",(mf3value*'Results-advanced'!T67+'Results-advanced'!U67*mf1value)/100)))","v":""},1]
["ZZtock",{"$f":"  IF(A68=\"Zztock\",\"\",IF(ISERROR(A68),\"\",IF(A68=0,\"\",INDEX('mf1'!$A$5:$E$100,MATCH(A68,'mf1'!$A$5:$A$100,0),5))))","v":""},{"$f":" IF(A68=\"Zztock\",\"\",IF(ISERROR(A68),\"\",IF(A68=0,\"\",INDEX('mf2'!$A$5:$E$100,MATCH(A68,'mf2'!$A$5:$A$100,0),5))))","v":""},{"$f":" IF(A68=\"Zztock\",\"\",IF(ISERROR(A68),\"\",IF(A68=0,\"\",(mf2value*'Results-advanced'!B68+mf1value*'Results-advanced'!C68)/100)))","v":""},1,"ZZtock",{"$f":" IF(F68=\"Zztock\",\"\",IF(ISERROR(F68),\"\",IF(F68=0,\"\",INDEX('mf2'!$A$5:$E$100,MATCH(F68,'mf2'!$A$5:$A$100,0),5))))","v":""},{"$f":" IF(F68=\"Zztock\",\"\",IF(ISERROR(F68),\"\",IF(F68=0,\"\",INDEX('mf3'!$A$5:$E$100,MATCH(F68,'mf3'!$A$5:$A$100,0),5))))","v":""},{"$f":" IF(F68=\"Zztock\",\"\",IF(ISERROR(F68),\"\",IF(F68=0,\"\",(mf3value*'Results-advanced'!G68+'Results-advanced'!H68*mf2value)/100)))","v":""},1,null,null,null,null,null,null,null,null,"ZZtock",{"$f":" IF(S68=\"Zztock\",\"\",IF(ISERROR(S68),\"\",IF(S68=0,\"\",INDEX('mf1'!$A$5:$E$100,MATCH(S68,'mf1'!$A$5:$A$100,0),5))))","v":""},{"$f":" IF(S68=\"Zztock\",\"\", IF(ISERROR(S68),\"\",IF(S68=0,\"\",INDEX('mf3'!$A$5:$E$100,MATCH(S68,'mf3'!$A$5:$A$100,0),5))))","v":""},{"$f":" IF(S68=\"Zztock\",\"\", IF(ISERROR(S68),\"\",IF(S68=0,\"\",(mf3value*'Results-advanced'!T68+'Results-advanced'!U68*mf1value)/100)))","v":""},1]
["ZZtock",{"$f":"  IF(A69=\"Zztock\",\"\",IF(ISERROR(A69),\"\",IF(A69=0,\"\",INDEX('mf1'!$A$5:$E$100,MATCH(A69,'mf1'!$A$5:$A$100,0),5))))","v":""},{"$f":" IF(A69=\"Zztock\",\"\",IF(ISERROR(A69),\"\",IF(A69=0,\"\",INDEX('mf2'!$A$5:$E$100,MATCH(A69,'mf2'!$A$5:$A$100,0),5))))","v":""},{"$f":" IF(A69=\"Zztock\",\"\",IF(ISERROR(A69),\"\",IF(A69=0,\"\",(mf2value*'Results-advanced'!B69+mf1value*'Results-advanced'!C69)/100)))","v":""},1,"ZZtock",{"$f":" IF(F69=\"Zztock\",\"\",IF(ISERROR(F69),\"\",IF(F69=0,\"\",INDEX('mf2'!$A$5:$E$100,MATCH(F69,'mf2'!$A$5:$A$100,0),5))))","v":""},{"$f":" IF(F69=\"Zztock\",\"\",IF(ISERROR(F69),\"\",IF(F69=0,\"\",INDEX('mf3'!$A$5:$E$100,MATCH(F69,'mf3'!$A$5:$A$100,0),5))))","v":""},{"$f":" IF(F69=\"Zztock\",\"\",IF(ISERROR(F69),\"\",IF(F69=0,\"\",(mf3value*'Results-advanced'!G69+'Results-advanced'!H69*mf2value)/100)))","v":""},1,null,null,null,null,null,null,null,null,"ZZtock",{"$f":" IF(S69=\"Zztock\",\"\",IF(ISERROR(S69),\"\",IF(S69=0,\"\",INDEX('mf1'!$A$5:$E$100,MATCH(S69,'mf1'!$A$5:$A$100,0),5))))","v":""},{"$f":" IF(S69=\"Zztock\",\"\", IF(ISERROR(S69),\"\",IF(S69=0,\"\",INDEX('mf3'!$A$5:$E$100,MATCH(S69,'mf3'!$A$5:$A$100,0),5))))","v":""},{"$f":" IF(S69=\"Zztock\",\"\", IF(ISERROR(S69),\"\",IF(S69=0,\"\",(mf3value*'Results-advanced'!T69+'Results-advanced'!U69*mf1value)/100)))","v":""},1]
["ZZtock",{"$f":"  IF(A70=\"Zztock\",\"\",IF(ISERROR(A70),\"\",IF(A70=0,\"\",INDEX('mf1'!$A$5:$E$100,MATCH(A70,'mf1'!$A$5:$A$100,0),5))))","v":""},{"$f":" IF(A70=\"Zztock\",\"\",IF(ISERROR(A70),\"\",IF(A70=0,\"\",INDEX('mf2'!$A$5:$E$100,MATCH(A70,'mf2'!$A$5:$A$100,0),5))))","v":""},{"$f":" IF(A70=\"Zztock\",\"\",IF(ISERROR(A70),\"\",IF(A70=0,\"\",(mf2value*'Results-advanced'!B70+mf1value*'Results-advanced'!C70)/100)))","v":""},1,"ZZtock",{"$f":" IF(F70=\"Zztock\",\"\",IF(ISERROR(F70),\"\",IF(F70=0,\"\",INDEX('mf2'!$A$5:$E$100,MATCH(F70,'mf2'!$A$5:$A$100,0),5))))","v":""},{"$f":" IF(F70=\"Zztock\",\"\",IF(ISERROR(F70),\"\",IF(F70=0,\"\",INDEX('mf3'!$A$5:$E$100,MATCH(F70,'mf3'!$A$5:$A$100,0),5))))","v":""},{"$f":" IF(F70=\"Zztock\",\"\",IF(ISERROR(F70),\"\",IF(F70=0,\"\",(mf3value*'Results-advanced'!G70+'Results-advanced'!H70*mf2value)/100)))","v":""},1,null,null,null,null,null,null,null,null,"ZZtock",{"$f":" IF(S70=\"Zztock\",\"\",IF(ISERROR(S70),\"\",IF(S70=0,\"\",INDEX('mf1'!$A$5:$E$100,MATCH(S70,'mf1'!$A$5:$A$100,0),5))))","v":""},{"$f":" IF(S70=\"Zztock\",\"\", IF(ISERROR(S70),\"\",IF(S70=0,\"\",INDEX('mf3'!$A$5:$E$100,MATCH(S70,'mf3'!$A$5:$A$100,0),5))))","v":""},{"$f":" IF(S70=\"Zztock\",\"\", IF(ISERROR(S70),\"\",IF(S70=0,\"\",(mf3value*'Results-advanced'!T70+'Results-advanced'!U70*mf1value)/100)))","v":""},1]
["ZZtock",{"$f":"  IF(A71=\"Zztock\",\"\",IF(ISERROR(A71),\"\",IF(A71=0,\"\",INDEX('mf1'!$A$5:$E$100,MATCH(A71,'mf1'!$A$5:$A$100,0),5))))","v":""},{"$f":" IF(A71=\"Zztock\",\"\",IF(ISERROR(A71),\"\",IF(A71=0,\"\",INDEX('mf2'!$A$5:$E$100,MATCH(A71,'mf2'!$A$5:$A$100,0),5))))","v":""},{"$f":" IF(A71=\"Zztock\",\"\",IF(ISERROR(A71),\"\",IF(A71=0,\"\",(mf2value*'Results-advanced'!B71+mf1value*'Results-advanced'!C71)/100)))","v":""},{"$f":"IF(A71<>\"\",1,0)","v":1},"ZZtock",{"$f":" IF(F71=\"Zztock\",\"\",IF(ISERROR(F71),\"\",IF(F71=0,\"\",INDEX('mf2'!$A$5:$E$100,MATCH(F71,'mf2'!$A$5:$A$100,0),5))))","v":""},{"$f":" IF(F71=\"Zztock\",\"\",IF(ISERROR(F71),\"\",IF(F71=0,\"\",INDEX('mf3'!$A$5:$E$100,MATCH(F71,'mf3'!$A$5:$A$100,0),5))))","v":""},{"$f":" IF(F71=\"Zztock\",\"\",IF(ISERROR(F71),\"\",IF(F71=0,\"\",(mf3value*'Results-advanced'!G71+'Results-advanced'!H71*mf2value)/100)))","v":""},{"$f":"IF(F71<>\"\",1,0)","v":1},null,null,null,null,null,null,null,null,"ZZtock",{"$f":" IF(S71=\"Zztock\",\"\",IF(ISERROR(S71),\"\",IF(S71=0,\"\",INDEX('mf1'!$A$5:$E$100,MATCH(S71,'mf1'!$A$5:$A$100,0),5))))","v":""},{"$f":" IF(S71=\"Zztock\",\"\", IF(ISERROR(S71),\"\",IF(S71=0,\"\",INDEX('mf3'!$A$5:$E$100,MATCH(S71,'mf3'!$A$5:$A$100,0),5))))","v":""},{"$f":" IF(S71=\"Zztock\",\"\", IF(ISERROR(S71),\"\",IF(S71=0,\"\",(mf3value*'Results-advanced'!T71+'Results-advanced'!U71*mf1value)/100)))","v":""},{"$f":"IF(S71<>\"\",1,0)","v":1}]
["ZZtock",{"$f":"  IF(A72=\"Zztock\",\"\",IF(ISERROR(A72),\"\",IF(A72=0,\"\",INDEX('mf1'!$A$5:$E$100,MATCH(A72,'mf1'!$A$5:$A$100,0),5))))","v":""},{"$f":" IF(A72=\"Zztock\",\"\",IF(ISERROR(A72),\"\",IF(A72=0,\"\",INDEX('mf2'!$A$5:$E$100,MATCH(A72,'mf2'!$A$5:$A$100,0),5))))","v":""},{"$f":" IF(A72=\"Zztock\",\"\",IF(ISERROR(A72),\"\",IF(A72=0,\"\",(mf2value*'Results-advanced'!B72+mf1value*'Results-advanced'!C72)/100)))","v":""},1,"ZZtock",{"$f":" IF(F72=\"Zztock\",\"\",IF(ISERROR(F72),\"\",IF(F72=0,\"\",INDEX('mf2'!$A$5:$E$100,MATCH(F72,'mf2'!$A$5:$A$100,0),5))))","v":""},{"$f":" IF(F72=\"Zztock\",\"\",IF(ISERROR(F72),\"\",IF(F72=0,\"\",INDEX('mf3'!$A$5:$E$100,MATCH(F72,'mf3'!$A$5:$A$100,0),5))))","v":""},{"$f":" IF(F72=\"Zztock\",\"\",IF(ISERROR(F72),\"\",IF(F72=0,\"\",(mf3value*'Results-advanced'!G72+'Results-advanced'!H72*mf2value)/100)))","v":""},1,null,null,null,null,null,null,null,null,"ZZtock",{"$f":" IF(S72=\"Zztock\",\"\",IF(ISERROR(S72),\"\",IF(S72=0,\"\",INDEX('mf1'!$A$5:$E$100,MATCH(S72,'mf1'!$A$5:$A$100,0),5))))","v":""},{"$f":" IF(S72=\"Zztock\",\"\", IF(ISERROR(S72),\"\",IF(S72=0,\"\",INDEX('mf3'!$A$5:$E$100,MATCH(S72,'mf3'!$A$5:$A$100,0),5))))","v":""},{"$f":" IF(S72=\"Zztock\",\"\", IF(ISERROR(S72),\"\",IF(S72=0,\"\",(mf3value*'Results-advanced'!T72+'Results-advanced'!U72*mf1value)/100)))","v":""},1]
["ZZtock",{"$f":"  IF(A73=\"Zztock\",\"\",IF(ISERROR(A73),\"\",IF(A73=0,\"\",INDEX('mf1'!$A$5:$E$100,MATCH(A73,'mf1'!$A$5:$A$100,0),5))))","v":""},{"$f":" IF(A73=\"Zztock\",\"\",IF(ISERROR(A73),\"\",IF(A73=0,\"\",INDEX('mf2'!$A$5:$E$100,MATCH(A73,'mf2'!$A$5:$A$100,0),5))))","v":""},{"$f":" IF(A73=\"Zztock\",\"\",IF(ISERROR(A73),\"\",IF(A73=0,\"\",(mf2value*'Results-advanced'!B73+mf1value*'Results-advanced'!C73)/100)))","v":""},1,"ZZtock",{"$f":" IF(F73=\"Zztock\",\"\",IF(ISERROR(F73),\"\",IF(F73=0,\"\",INDEX('mf2'!$A$5:$E$100,MATCH(F73,'mf2'!$A$5:$A$100,0),5))))","v":""},{"$f":" IF(F73=\"Zztock\",\"\",IF(ISERROR(F73),\"\",IF(F73=0,\"\",INDEX('mf3'!$A$5:$E$100,MATCH(F73,'mf3'!$A$5:$A$100,0),5))))","v":""},{"$f":" IF(F73=\"Zztock\",\"\",IF(ISERROR(F73),\"\",IF(F73=0,\"\",(mf3value*'Results-advanced'!G73+'Results-advanced'!H73*mf2value)/100)))","v":""},1,null,null,null,null,null,null,null,null,"ZZtock",{"$f":" IF(S73=\"Zztock\",\"\",IF(ISERROR(S73),\"\",IF(S73=0,\"\",INDEX('mf1'!$A$5:$E$100,MATCH(S73,'mf1'!$A$5:$A$100,0),5))))","v":""},{"$f":" IF(S73=\"Zztock\",\"\", IF(ISERROR(S73),\"\",IF(S73=0,\"\",INDEX('mf3'!$A$5:$E$100,MATCH(S73,'mf3'!$A$5:$A$100,0),5))))","v":""},{"$f":" IF(S73=\"Zztock\",\"\", IF(ISERROR(S73),\"\",IF(S73=0,\"\",(mf3value*'Results-advanced'!T73+'Results-advanced'!U73*mf1value)/100)))","v":""},1]
["ZZtock",{"$f":"  IF(A74=\"Zztock\",\"\",IF(ISERROR(A74),\"\",IF(A74=0,\"\",INDEX('mf1'!$A$5:$E$100,MATCH(A74,'mf1'!$A$5:$A$100,0),5))))","v":""},{"$f":" IF(A74=\"Zztock\",\"\",IF(ISERROR(A74),\"\",IF(A74=0,\"\",INDEX('mf2'!$A$5:$E$100,MATCH(A74,'mf2'!$A$5:$A$100,0),5))))","v":""},{"$f":" IF(A74=\"Zztock\",\"\",IF(ISERROR(A74),\"\",IF(A74=0,\"\",(mf2value*'Results-advanced'!B74+mf1value*'Results-advanced'!C74)/100)))","v":""},1,"ZZtock",{"$f":" IF(F74=\"Zztock\",\"\",IF(ISERROR(F74),\"\",IF(F74=0,\"\",INDEX('mf2'!$A$5:$E$100,MATCH(F74,'mf2'!$A$5:$A$100,0),5))))","v":""},{"$f":" IF(F74=\"Zztock\",\"\",IF(ISERROR(F74),\"\",IF(F74=0,\"\",INDEX('mf3'!$A$5:$E$100,MATCH(F74,'mf3'!$A$5:$A$100,0),5))))","v":""},{"$f":" IF(F74=\"Zztock\",\"\",IF(ISERROR(F74),\"\",IF(F74=0,\"\",(mf3value*'Results-advanced'!G74+'Results-advanced'!H74*mf2value)/100)))","v":""},1,null,null,null,null,null,null,null,null,"ZZtock",{"$f":" IF(S74=\"Zztock\",\"\",IF(ISERROR(S74),\"\",IF(S74=0,\"\",INDEX('mf1'!$A$5:$E$100,MATCH(S74,'mf1'!$A$5:$A$100,0),5))))","v":""},{"$f":" IF(S74=\"Zztock\",\"\", IF(ISERROR(S74),\"\",IF(S74=0,\"\",INDEX('mf3'!$A$5:$E$100,MATCH(S74,'mf3'!$A$5:$A$100,0),5))))","v":""},{"$f":" IF(S74=\"Zztock\",\"\", IF(ISERROR(S74),\"\",IF(S74=0,\"\",(mf3value*'Results-advanced'!T74+'Results-advanced'!U74*mf1value)/100)))","v":""},1]
["ZZtock",{"$f":"  IF(A75=\"Zztock\",\"\",IF(ISERROR(A75),\"\",IF(A75=0,\"\",INDEX('mf1'!$A$5:$E$100,MATCH(A75,'mf1'!$A$5:$A$100,0),5))))","v":""},{"$f":" IF(A75=\"Zztock\",\"\",IF(ISERROR(A75),\"\",IF(A75=0,\"\",INDEX('mf2'!$A$5:$E$100,MATCH(A75,'mf2'!$A$5:$A$100,0),5))))","v":""},{"$f":" IF(A75=\"Zztock\",\"\",IF(ISERROR(A75),\"\",IF(A75=0,\"\",(mf2value*'Results-advanced'!B75+mf1value*'Results-advanced'!C75)/100)))","v":""},1,"ZZtock",{"$f":" IF(F75=\"Zztock\",\"\",IF(ISERROR(F75),\"\",IF(F75=0,\"\",INDEX('mf2'!$A$5:$E$100,MATCH(F75,'mf2'!$A$5:$A$100,0),5))))","v":""},{"$f":" IF(F75=\"Zztock\",\"\",IF(ISERROR(F75),\"\",IF(F75=0,\"\",INDEX('mf3'!$A$5:$E$100,MATCH(F75,'mf3'!$A$5:$A$100,0),5))))","v":""},{"$f":" IF(F75=\"Zztock\",\"\",IF(ISERROR(F75),\"\",IF(F75=0,\"\",(mf3value*'Results-advanced'!G75+'Results-advanced'!H75*mf2value)/100)))","v":""},1,null,null,null,null,null,null,null,null,"ZZtock",{"$f":" IF(S75=\"Zztock\",\"\",IF(ISERROR(S75),\"\",IF(S75=0,\"\",INDEX('mf1'!$A$5:$E$100,MATCH(S75,'mf1'!$A$5:$A$100,0),5))))","v":""},{"$f":" IF(S75=\"Zztock\",\"\", IF(ISERROR(S75),\"\",IF(S75=0,\"\",INDEX('mf3'!$A$5:$E$100,MATCH(S75,'mf3'!$A$5:$A$100,0),5))))","v":""},{"$f":" IF(S75=\"Zztock\",\"\", IF(ISERROR(S75),\"\",IF(S75=0,\"\",(mf3value*'Results-advanced'!T75+'Results-advanced'!U75*mf1value)/100)))","v":""},1]
["ZZtock",{"$f":"  IF(A76=\"Zztock\",\"\",IF(ISERROR(A76),\"\",IF(A76=0,\"\",INDEX('mf1'!$A$5:$E$100,MATCH(A76,'mf1'!$A$5:$A$100,0),5))))","v":""},{"$f":" IF(A76=\"Zztock\",\"\",IF(ISERROR(A76),\"\",IF(A76=0,\"\",INDEX('mf2'!$A$5:$E$100,MATCH(A76,'mf2'!$A$5:$A$100,0),5))))","v":""},{"$f":" IF(A76=\"Zztock\",\"\",IF(ISERROR(A76),\"\",IF(A76=0,\"\",(mf2value*'Results-advanced'!B76+mf1value*'Results-advanced'!C76)/100)))","v":""},1,"ZZtock",{"$f":" IF(F76=\"Zztock\",\"\",IF(ISERROR(F76),\"\",IF(F76=0,\"\",INDEX('mf2'!$A$5:$E$100,MATCH(F76,'mf2'!$A$5:$A$100,0),5))))","v":""},{"$f":" IF(F76=\"Zztock\",\"\",IF(ISERROR(F76),\"\",IF(F76=0,\"\",INDEX('mf3'!$A$5:$E$100,MATCH(F76,'mf3'!$A$5:$A$100,0),5))))","v":""},{"$f":" IF(F76=\"Zztock\",\"\",IF(ISERROR(F76),\"\",IF(F76=0,\"\",(mf3value*'Results-advanced'!G76+'Results-advanced'!H76*mf2value)/100)))","v":""},1,null,null,null,null,null,null,null,null,"ZZtock",{"$f":" IF(S76=\"Zztock\",\"\",IF(ISERROR(S76),\"\",IF(S76=0,\"\",INDEX('mf1'!$A$5:$E$100,MATCH(S76,'mf1'!$A$5:$A$100,0),5))))","v":""},{"$f":" IF(S76=\"Zztock\",\"\", IF(ISERROR(S76),\"\",IF(S76=0,\"\",INDEX('mf3'!$A$5:$E$100,MATCH(S76,'mf3'!$A$5:$A$100,0),5))))","v":""},{"$f":" IF(S76=\"Zztock\",\"\", IF(ISERROR(S76),\"\",IF(S76=0,\"\",(mf3value*'Results-advanced'!T76+'Results-advanced'!U76*mf1value)/100)))","v":""},1]
["ZZtock",{"$f":"  IF(A77=\"Zztock\",\"\",IF(ISERROR(A77),\"\",IF(A77=0,\"\",INDEX('mf1'!$A$5:$E$100,MATCH(A77,'mf1'!$A$5:$A$100,0),5))))","v":""},{"$f":" IF(A77=\"Zztock\",\"\",IF(ISERROR(A77),\"\",IF(A77=0,\"\",INDEX('mf2'!$A$5:$E$100,MATCH(A77,'mf2'!$A$5:$A$100,0),5))))","v":""},{"$f":" IF(A77=\"Zztock\",\"\",IF(ISERROR(A77),\"\",IF(A77=0,\"\",(mf2value*'Results-advanced'!B77+mf1value*'Results-advanced'!C77)/100)))","v":""},1,"ZZtock",{"$f":" IF(F77=\"Zztock\",\"\",IF(ISERROR(F77),\"\",IF(F77=0,\"\",INDEX('mf2'!$A$5:$E$100,MATCH(F77,'mf2'!$A$5:$A$100,0),5))))","v":""},{"$f":" IF(F77=\"Zztock\",\"\",IF(ISERROR(F77),\"\",IF(F77=0,\"\",INDEX('mf3'!$A$5:$E$100,MATCH(F77,'mf3'!$A$5:$A$100,0),5))))","v":""},{"$f":" IF(F77=\"Zztock\",\"\",IF(ISERROR(F77),\"\",IF(F77=0,\"\",(mf3value*'Results-advanced'!G77+'Results-advanced'!H77*mf2value)/100)))","v":""},1,null,null,null,null,null,null,null,null,"ZZtock",{"$f":" IF(S77=\"Zztock\",\"\",IF(ISERROR(S77),\"\",IF(S77=0,\"\",INDEX('mf1'!$A$5:$E$100,MATCH(S77,'mf1'!$A$5:$A$100,0),5))))","v":""},{"$f":" IF(S77=\"Zztock\",\"\", IF(ISERROR(S77),\"\",IF(S77=0,\"\",INDEX('mf3'!$A$5:$E$100,MATCH(S77,'mf3'!$A$5:$A$100,0),5))))","v":""},{"$f":" IF(S77=\"Zztock\",\"\", IF(ISERROR(S77),\"\",IF(S77=0,\"\",(mf3value*'Results-advanced'!T77+'Results-advanced'!U77*mf1value)/100)))","v":""},1]
["ZZtock",{"$f":"  IF(A78=\"Zztock\",\"\",IF(ISERROR(A78),\"\",IF(A78=0,\"\",INDEX('mf1'!$A$5:$E$100,MATCH(A78,'mf1'!$A$5:$A$100,0),5))))","v":""},{"$f":" IF(A78=\"Zztock\",\"\",IF(ISERROR(A78),\"\",IF(A78=0,\"\",INDEX('mf2'!$A$5:$E$100,MATCH(A78,'mf2'!$A$5:$A$100,0),5))))","v":""},{"$f":" IF(A78=\"Zztock\",\"\",IF(ISERROR(A78),\"\",IF(A78=0,\"\",(mf2value*'Results-advanced'!B78+mf1value*'Results-advanced'!C78)/100)))","v":""},1,"ZZtock",{"$f":" IF(F78=\"Zztock\",\"\",IF(ISERROR(F78),\"\",IF(F78=0,\"\",INDEX('mf2'!$A$5:$E$100,MATCH(F78,'mf2'!$A$5:$A$100,0),5))))","v":""},{"$f":" IF(F78=\"Zztock\",\"\",IF(ISERROR(F78),\"\",IF(F78=0,\"\",INDEX('mf3'!$A$5:$E$100,MATCH(F78,'mf3'!$A$5:$A$100,0),5))))","v":""},{"$f":" IF(F78=\"Zztock\",\"\",IF(ISERROR(F78),\"\",IF(F78=0,\"\",(mf3value*'Results-advanced'!G78+'Results-advanced'!H78*mf2value)/100)))","v":""},1,null,null,null,null,null,null,null,null,"ZZtock",{"$f":" IF(S78=\"Zztock\",\"\",IF(ISERROR(S78),\"\",IF(S78=0,\"\",INDEX('mf1'!$A$5:$E$100,MATCH(S78,'mf1'!$A$5:$A$100,0),5))))","v":""},{"$f":" IF(S78=\"Zztock\",\"\", IF(ISERROR(S78),\"\",IF(S78=0,\"\",INDEX('mf3'!$A$5:$E$100,MATCH(S78,'mf3'!$A$5:$A$100,0),5))))","v":""},{"$f":" IF(S78=\"Zztock\",\"\", IF(ISERROR(S78),\"\",IF(S78=0,\"\",(mf3value*'Results-advanced'!T78+'Results-advanced'!U78*mf1value)/100)))","v":""},1,null,{"$f":"COUNT(AI78:AI108)","v":0},null,null,null,null,null,null,null,"Bajaj Auto",null,"Bajaj Auto",{"$f":"IF(AI78<>\"\",IF(AI78=\"ZZtock\",0,1),0)","v":1},null,"Bajaj Auto",null,"Bajaj Auto",{"$f":"IF(AN78<>\"\",IF(AN78=\"ZZtock\",0,1),0)","v":1},null,"Bajaj Auto",null,"Bajaj Auto",{"$f":"IF(AS78<>\"\",IF(AS78=\"ZZtock\",0,1),0)","v":1}]
["ZZtock",{"$f":"  IF(A79=\"Zztock\",\"\",IF(ISERROR(A79),\"\",IF(A79=0,\"\",INDEX('mf1'!$A$5:$E$100,MATCH(A79,'mf1'!$A$5:$A$100,0),5))))","v":""},{"$f":" IF(A79=\"Zztock\",\"\",IF(ISERROR(A79),\"\",IF(A79=0,\"\",INDEX('mf2'!$A$5:$E$100,MATCH(A79,'mf2'!$A$5:$A$100,0),5))))","v":""},{"$f":" IF(A79=\"Zztock\",\"\",IF(ISERROR(A79),\"\",IF(A79=0,\"\",(mf2value*'Results-advanced'!B79+mf1value*'Results-advanced'!C79)/100)))","v":""},1,"ZZtock",{"$f":" IF(F79=\"Zztock\",\"\",IF(ISERROR(F79),\"\",IF(F79=0,\"\",INDEX('mf2'!$A$5:$E$100,MATCH(F79,'mf2'!$A$5:$A$100,0),5))))","v":""},{"$f":" IF(F79=\"Zztock\",\"\",IF(ISERROR(F79),\"\",IF(F79=0,\"\",INDEX('mf3'!$A$5:$E$100,MATCH(F79,'mf3'!$A$5:$A$100,0),5))))","v":""},{"$f":" IF(F79=\"Zztock\",\"\",IF(ISERROR(F79),\"\",IF(F79=0,\"\",(mf3value*'Results-advanced'!G79+'Results-advanced'!H79*mf2value)/100)))","v":""},1,null,null,null,null,null,null,null,null,"ZZtock",{"$f":" IF(S79=\"Zztock\",\"\",IF(ISERROR(S79),\"\",IF(S79=0,\"\",INDEX('mf1'!$A$5:$E$100,MATCH(S79,'mf1'!$A$5:$A$100,0),5))))","v":""},{"$f":" IF(S79=\"Zztock\",\"\", IF(ISERROR(S79),\"\",IF(S79=0,\"\",INDEX('mf3'!$A$5:$E$100,MATCH(S79,'mf3'!$A$5:$A$100,0),5))))","v":""},{"$f":" IF(S79=\"Zztock\",\"\", IF(ISERROR(S79),\"\",IF(S79=0,\"\",(mf3value*'Results-advanced'!T79+'Results-advanced'!U79*mf1value)/100)))","v":""},1,null,null,null,null,null,null,null,null,null,"Bharti Airtel",null,"Bharti Airtel",{"$f":"IF(AI79<>\"\",IF(AI79=\"ZZtock\",0,1),0)","v":1},null,"Bharti Airtel",null,"Bharti Airtel",{"$f":"IF(AN79<>\"\",IF(AN79=\"ZZtock\",0,1),0)","v":1},null,"Bharti Airtel",null,"Bharti Airtel",{"$f":"IF(AS79<>\"\",IF(AS79=\"ZZtock\",0,1),0)","v":1}]
["ZZtock",{"$f":"  IF(A80=\"Zztock\",\"\",IF(ISERROR(A80),\"\",IF(A80=0,\"\",INDEX('mf1'!$A$5:$E$100,MATCH(A80,'mf1'!$A$5:$A$100,0),5))))","v":""},{"$f":" IF(A80=\"Zztock\",\"\",IF(ISERROR(A80),\"\",IF(A80=0,\"\",INDEX('mf2'!$A$5:$E$100,MATCH(A80,'mf2'!$A$5:$A$100,0),5))))","v":""},{"$f":" IF(A80=\"Zztock\",\"\",IF(ISERROR(A80),\"\",IF(A80=0,\"\",(mf2value*'Results-advanced'!B80+mf1value*'Results-advanced'!C80)/100)))","v":""},1,"ZZtock",{"$f":" IF(F80=\"Zztock\",\"\",IF(ISERROR(F80),\"\",IF(F80=0,\"\",INDEX('mf2'!$A$5:$E$100,MATCH(F80,'mf2'!$A$5:$A$100,0),5))))","v":""},{"$f":" IF(F80=\"Zztock\",\"\",IF(ISERROR(F80),\"\",IF(F80=0,\"\",INDEX('mf3'!$A$5:$E$100,MATCH(F80,'mf3'!$A$5:$A$100,0),5))))","v":""},{"$f":" IF(F80=\"Zztock\",\"\",IF(ISERROR(F80),\"\",IF(F80=0,\"\",(mf3value*'Results-advanced'!G80+'Results-advanced'!H80*mf2value)/100)))","v":""},1,null,null,null,null,null,null,null,null,"ZZtock",{"$f":" IF(S80=\"Zztock\",\"\",IF(ISERROR(S80),\"\",IF(S80=0,\"\",INDEX('mf1'!$A$5:$E$100,MATCH(S80,'mf1'!$A$5:$A$100,0),5))))","v":""},{"$f":" IF(S80=\"Zztock\",\"\", IF(ISERROR(S80),\"\",IF(S80=0,\"\",INDEX('mf3'!$A$5:$E$100,MATCH(S80,'mf3'!$A$5:$A$100,0),5))))","v":""},{"$f":" IF(S80=\"Zztock\",\"\", IF(ISERROR(S80),\"\",IF(S80=0,\"\",(mf3value*'Results-advanced'!T80+'Results-advanced'!U80*mf1value)/100)))","v":""},1,null,null,null,null,null,null,null,null,null,"Cipla",null,"Cipla",1,null,"Cipla",null,"Cipla",1,null,"Cipla",null,"Cipla",1]
["ZZtock",{"$f":"  IF(A81=\"Zztock\",\"\",IF(ISERROR(A81),\"\",IF(A81=0,\"\",INDEX('mf1'!$A$5:$E$100,MATCH(A81,'mf1'!$A$5:$A$100,0),5))))","v":""},{"$f":" IF(A81=\"Zztock\",\"\",IF(ISERROR(A81),\"\",IF(A81=0,\"\",INDEX('mf2'!$A$5:$E$100,MATCH(A81,'mf2'!$A$5:$A$100,0),5))))","v":""},{"$f":" IF(A81=\"Zztock\",\"\",IF(ISERROR(A81),\"\",IF(A81=0,\"\",(mf2value*'Results-advanced'!B81+mf1value*'Results-advanced'!C81)/100)))","v":""},1,"ZZtock",{"$f":" IF(F81=\"Zztock\",\"\",IF(ISERROR(F81),\"\",IF(F81=0,\"\",INDEX('mf2'!$A$5:$E$100,MATCH(F81,'mf2'!$A$5:$A$100,0),5))))","v":""},{"$f":" IF(F81=\"Zztock\",\"\",IF(ISERROR(F81),\"\",IF(F81=0,\"\",INDEX('mf3'!$A$5:$E$100,MATCH(F81,'mf3'!$A$5:$A$100,0),5))))","v":""},{"$f":" IF(F81=\"Zztock\",\"\",IF(ISERROR(F81),\"\",IF(F81=0,\"\",(mf3value*'Results-advanced'!G81+'Results-advanced'!H81*mf2value)/100)))","v":""},1,null,null,null,null,null,null,null,null,"ZZtock",{"$f":" IF(S81=\"Zztock\",\"\",IF(ISERROR(S81),\"\",IF(S81=0,\"\",INDEX('mf1'!$A$5:$E$100,MATCH(S81,'mf1'!$A$5:$A$100,0),5))))","v":""},{"$f":" IF(S81=\"Zztock\",\"\", IF(ISERROR(S81),\"\",IF(S81=0,\"\",INDEX('mf3'!$A$5:$E$100,MATCH(S81,'mf3'!$A$5:$A$100,0),5))))","v":""},{"$f":" IF(S81=\"Zztock\",\"\", IF(ISERROR(S81),\"\",IF(S81=0,\"\",(mf3value*'Results-advanced'!T81+'Results-advanced'!U81*mf1value)/100)))","v":""},1,null,null,null,null,null,null,null,null,null,"Exide Ind",null,"Exide Ind",1,null,"Exide Ind",null,"Exide Ind",1,null,"Exide Ind",null,"Exide Ind",1]
["ZZtock",{"$f":"  IF(A82=\"Zztock\",\"\",IF(ISERROR(A82),\"\",IF(A82=0,\"\",INDEX('mf1'!$A$5:$E$100,MATCH(A82,'mf1'!$A$5:$A$100,0),5))))","v":""},{"$f":" IF(A82=\"Zztock\",\"\",IF(ISERROR(A82),\"\",IF(A82=0,\"\",INDEX('mf2'!$A$5:$E$100,MATCH(A82,'mf2'!$A$5:$A$100,0),5))))","v":""},{"$f":" IF(A82=\"Zztock\",\"\",IF(ISERROR(A82),\"\",IF(A82=0,\"\",(mf2value*'Results-advanced'!B82+mf1value*'Results-advanced'!C82)/100)))","v":""},1,"ZZtock",{"$f":" IF(F82=\"Zztock\",\"\",IF(ISERROR(F82),\"\",IF(F82=0,\"\",INDEX('mf2'!$A$5:$E$100,MATCH(F82,'mf2'!$A$5:$A$100,0),5))))","v":""},{"$f":" IF(F82=\"Zztock\",\"\",IF(ISERROR(F82),\"\",IF(F82=0,\"\",INDEX('mf3'!$A$5:$E$100,MATCH(F82,'mf3'!$A$5:$A$100,0),5))))","v":""},{"$f":" IF(F82=\"Zztock\",\"\",IF(ISERROR(F82),\"\",IF(F82=0,\"\",(mf3value*'Results-advanced'!G82+'Results-advanced'!H82*mf2value)/100)))","v":""},1,null,null,null,null,null,null,null,null,"ZZtock",{"$f":" IF(S82=\"Zztock\",\"\",IF(ISERROR(S82),\"\",IF(S82=0,\"\",INDEX('mf1'!$A$5:$E$100,MATCH(S82,'mf1'!$A$5:$A$100,0),5))))","v":""},{"$f":" IF(S82=\"Zztock\",\"\", IF(ISERROR(S82),\"\",IF(S82=0,\"\",INDEX('mf3'!$A$5:$E$100,MATCH(S82,'mf3'!$A$5:$A$100,0),5))))","v":""},{"$f":" IF(S82=\"Zztock\",\"\", IF(ISERROR(S82),\"\",IF(S82=0,\"\",(mf3value*'Results-advanced'!T82+'Results-advanced'!U82*mf1value)/100)))","v":""},1,null,null,null,null,null,null,null,null,null,"GAIL",null,"GAIL",1,null,"GAIL",null,"GAIL",1,null,"GAIL",null,"GAIL",1]
["ZZtock",{"$f":"  IF(A83=\"Zztock\",\"\",IF(ISERROR(A83),\"\",IF(A83=0,\"\",INDEX('mf1'!$A$5:$E$100,MATCH(A83,'mf1'!$A$5:$A$100,0),5))))","v":""},{"$f":" IF(A83=\"Zztock\",\"\",IF(ISERROR(A83),\"\",IF(A83=0,\"\",INDEX('mf2'!$A$5:$E$100,MATCH(A83,'mf2'!$A$5:$A$100,0),5))))","v":""},{"$f":" IF(A83=\"Zztock\",\"\",IF(ISERROR(A83),\"\",IF(A83=0,\"\",(mf2value*'Results-advanced'!B83+mf1value*'Results-advanced'!C83)/100)))","v":""},1,"ZZtock",{"$f":" IF(F83=\"Zztock\",\"\",IF(ISERROR(F83),\"\",IF(F83=0,\"\",INDEX('mf2'!$A$5:$E$100,MATCH(F83,'mf2'!$A$5:$A$100,0),5))))","v":""},{"$f":" IF(F83=\"Zztock\",\"\",IF(ISERROR(F83),\"\",IF(F83=0,\"\",INDEX('mf3'!$A$5:$E$100,MATCH(F83,'mf3'!$A$5:$A$100,0),5))))","v":""},{"$f":" IF(F83=\"Zztock\",\"\",IF(ISERROR(F83),\"\",IF(F83=0,\"\",(mf3value*'Results-advanced'!G83+'Results-advanced'!H83*mf2value)/100)))","v":""},1,null,null,null,null,null,null,null,null,"ZZtock",{"$f":" IF(S83=\"Zztock\",\"\",IF(ISERROR(S83),\"\",IF(S83=0,\"\",INDEX('mf1'!$A$5:$E$100,MATCH(S83,'mf1'!$A$5:$A$100,0),5))))","v":""},{"$f":" IF(S83=\"Zztock\",\"\", IF(ISERROR(S83),\"\",IF(S83=0,\"\",INDEX('mf3'!$A$5:$E$100,MATCH(S83,'mf3'!$A$5:$A$100,0),5))))","v":""},{"$f":" IF(S83=\"Zztock\",\"\", IF(ISERROR(S83),\"\",IF(S83=0,\"\",(mf3value*'Results-advanced'!T83+'Results-advanced'!U83*mf1value)/100)))","v":""},1,null,null,null,null,null,null,null,null,null,"HDFC",null,"HDFC",1,null,"HDFC",null,"HDFC",1,null,"HDFC",null,"HDFC",1]
["ZZtock",{"$f":"  IF(A84=\"Zztock\",\"\",IF(ISERROR(A84),\"\",IF(A84=0,\"\",INDEX('mf1'!$A$5:$E$100,MATCH(A84,'mf1'!$A$5:$A$100,0),5))))","v":""},{"$f":" IF(A84=\"Zztock\",\"\",IF(ISERROR(A84),\"\",IF(A84=0,\"\",INDEX('mf2'!$A$5:$E$100,MATCH(A84,'mf2'!$A$5:$A$100,0),5))))","v":""},{"$f":" IF(A84=\"Zztock\",\"\",IF(ISERROR(A84),\"\",IF(A84=0,\"\",(mf2value*'Results-advanced'!B84+mf1value*'Results-advanced'!C84)/100)))","v":""},1,"ZZtock",{"$f":" IF(F84=\"Zztock\",\"\",IF(ISERROR(F84),\"\",IF(F84=0,\"\",INDEX('mf2'!$A$5:$E$100,MATCH(F84,'mf2'!$A$5:$A$100,0),5))))","v":""},{"$f":" IF(F84=\"Zztock\",\"\",IF(ISERROR(F84),\"\",IF(F84=0,\"\",INDEX('mf3'!$A$5:$E$100,MATCH(F84,'mf3'!$A$5:$A$100,0),5))))","v":""},{"$f":" IF(F84=\"Zztock\",\"\",IF(ISERROR(F84),\"\",IF(F84=0,\"\",(mf3value*'Results-advanced'!G84+'Results-advanced'!H84*mf2value)/100)))","v":""},1,null,null,null,null,null,null,null,null,"ZZtock",{"$f":" IF(S84=\"Zztock\",\"\",IF(ISERROR(S84),\"\",IF(S84=0,\"\",INDEX('mf1'!$A$5:$E$100,MATCH(S84,'mf1'!$A$5:$A$100,0),5))))","v":""},{"$f":" IF(S84=\"Zztock\",\"\", IF(ISERROR(S84),\"\",IF(S84=0,\"\",INDEX('mf3'!$A$5:$E$100,MATCH(S84,'mf3'!$A$5:$A$100,0),5))))","v":""},{"$f":" IF(S84=\"Zztock\",\"\", IF(ISERROR(S84),\"\",IF(S84=0,\"\",(mf3value*'Results-advanced'!T84+'Results-advanced'!U84*mf1value)/100)))","v":""},1,null,null,null,null,null,null,null,null,null,"Hero Motocorp",null,"Hero Motocorp",1,null,"Hero Motocorp",null,"Hero Motocorp",1,null,"Hero Motocorp",null,"Hero Motocorp",1]
["ZZtock",{"$f":"  IF(A85=\"Zztock\",\"\",IF(ISERROR(A85),\"\",IF(A85=0,\"\",INDEX('mf1'!$A$5:$E$100,MATCH(A85,'mf1'!$A$5:$A$100,0),5))))","v":""},{"$f":" IF(A85=\"Zztock\",\"\",IF(ISERROR(A85),\"\",IF(A85=0,\"\",INDEX('mf2'!$A$5:$E$100,MATCH(A85,'mf2'!$A$5:$A$100,0),5))))","v":""},{"$f":" IF(A85=\"Zztock\",\"\",IF(ISERROR(A85),\"\",IF(A85=0,\"\",(mf2value*'Results-advanced'!B85+mf1value*'Results-advanced'!C85)/100)))","v":""},1,"ZZtock",{"$f":" IF(F85=\"Zztock\",\"\",IF(ISERROR(F85),\"\",IF(F85=0,\"\",INDEX('mf2'!$A$5:$E$100,MATCH(F85,'mf2'!$A$5:$A$100,0),5))))","v":""},{"$f":" IF(F85=\"Zztock\",\"\",IF(ISERROR(F85),\"\",IF(F85=0,\"\",INDEX('mf3'!$A$5:$E$100,MATCH(F85,'mf3'!$A$5:$A$100,0),5))))","v":""},{"$f":" IF(F85=\"Zztock\",\"\",IF(ISERROR(F85),\"\",IF(F85=0,\"\",(mf3value*'Results-advanced'!G85+'Results-advanced'!H85*mf2value)/100)))","v":""},1,null,null,null,null,null,null,null,null,"ZZtock",{"$f":" IF(S85=\"Zztock\",\"\",IF(ISERROR(S85),\"\",IF(S85=0,\"\",INDEX('mf1'!$A$5:$E$100,MATCH(S85,'mf1'!$A$5:$A$100,0),5))))","v":""},{"$f":" IF(S85=\"Zztock\",\"\", IF(ISERROR(S85),\"\",IF(S85=0,\"\",INDEX('mf3'!$A$5:$E$100,MATCH(S85,'mf3'!$A$5:$A$100,0),5))))","v":""},{"$f":" IF(S85=\"Zztock\",\"\", IF(ISERROR(S85),\"\",IF(S85=0,\"\",(mf3value*'Results-advanced'!T85+'Results-advanced'!U85*mf1value)/100)))","v":""},1,null,null,null,null,null,null,null,null,null,"ICICI Bank",null,"ICICI Bank",1,null,"ICICI Bank",null,"ICICI Bank",1,null,"ICICI Bank",null,"ICICI Bank",1]
["ZZtock",{"$f":"  IF(A86=\"Zztock\",\"\",IF(ISERROR(A86),\"\",IF(A86=0,\"\",INDEX('mf1'!$A$5:$E$100,MATCH(A86,'mf1'!$A$5:$A$100,0),5))))","v":""},{"$f":" IF(A86=\"Zztock\",\"\",IF(ISERROR(A86),\"\",IF(A86=0,\"\",INDEX('mf2'!$A$5:$E$100,MATCH(A86,'mf2'!$A$5:$A$100,0),5))))","v":""},{"$f":" IF(A86=\"Zztock\",\"\",IF(ISERROR(A86),\"\",IF(A86=0,\"\",(mf2value*'Results-advanced'!B86+mf1value*'Results-advanced'!C86)/100)))","v":""},1,"ZZtock",{"$f":" IF(F86=\"Zztock\",\"\",IF(ISERROR(F86),\"\",IF(F86=0,\"\",INDEX('mf2'!$A$5:$E$100,MATCH(F86,'mf2'!$A$5:$A$100,0),5))))","v":""},{"$f":" IF(F86=\"Zztock\",\"\",IF(ISERROR(F86),\"\",IF(F86=0,\"\",INDEX('mf3'!$A$5:$E$100,MATCH(F86,'mf3'!$A$5:$A$100,0),5))))","v":""},{"$f":" IF(F86=\"Zztock\",\"\",IF(ISERROR(F86),\"\",IF(F86=0,\"\",(mf3value*'Results-advanced'!G86+'Results-advanced'!H86*mf2value)/100)))","v":""},1,null,null,null,null,null,null,null,null,"ZZtock",{"$f":" IF(S86=\"Zztock\",\"\",IF(ISERROR(S86),\"\",IF(S86=0,\"\",INDEX('mf1'!$A$5:$E$100,MATCH(S86,'mf1'!$A$5:$A$100,0),5))))","v":""},{"$f":" IF(S86=\"Zztock\",\"\", IF(ISERROR(S86),\"\",IF(S86=0,\"\",INDEX('mf3'!$A$5:$E$100,MATCH(S86,'mf3'!$A$5:$A$100,0),5))))","v":""},{"$f":" IF(S86=\"Zztock\",\"\", IF(ISERROR(S86),\"\",IF(S86=0,\"\",(mf3value*'Results-advanced'!T86+'Results-advanced'!U86*mf1value)/100)))","v":""},1,null,null,null,null,null,null,null,null,null,"Indian Hotels",null,"Indian Hotels",1,null,"Indian Hotels",null,"Indian Hotels",1,null,"Indian Hotels",null,"Indian Hotels",1]
["ZZtock",{"$f":"  IF(A87=\"Zztock\",\"\",IF(ISERROR(A87),\"\",IF(A87=0,\"\",INDEX('mf1'!$A$5:$E$100,MATCH(A87,'mf1'!$A$5:$A$100,0),5))))","v":""},{"$f":" IF(A87=\"Zztock\",\"\",IF(ISERROR(A87),\"\",IF(A87=0,\"\",INDEX('mf2'!$A$5:$E$100,MATCH(A87,'mf2'!$A$5:$A$100,0),5))))","v":""},{"$f":" IF(A87=\"Zztock\",\"\",IF(ISERROR(A87),\"\",IF(A87=0,\"\",(mf2value*'Results-advanced'!B87+mf1value*'Results-advanced'!C87)/100)))","v":""},1,"ZZtock",{"$f":" IF(F87=\"Zztock\",\"\",IF(ISERROR(F87),\"\",IF(F87=0,\"\",INDEX('mf2'!$A$5:$E$100,MATCH(F87,'mf2'!$A$5:$A$100,0),5))))","v":""},{"$f":" IF(F87=\"Zztock\",\"\",IF(ISERROR(F87),\"\",IF(F87=0,\"\",INDEX('mf3'!$A$5:$E$100,MATCH(F87,'mf3'!$A$5:$A$100,0),5))))","v":""},{"$f":" IF(F87=\"Zztock\",\"\",IF(ISERROR(F87),\"\",IF(F87=0,\"\",(mf3value*'Results-advanced'!G87+'Results-advanced'!H87*mf2value)/100)))","v":""},1,null,null,null,null,null,null,null,null,"ZZtock",{"$f":" IF(S87=\"Zztock\",\"\",IF(ISERROR(S87),\"\",IF(S87=0,\"\",INDEX('mf1'!$A$5:$E$100,MATCH(S87,'mf1'!$A$5:$A$100,0),5))))","v":""},{"$f":" IF(S87=\"Zztock\",\"\", IF(ISERROR(S87),\"\",IF(S87=0,\"\",INDEX('mf3'!$A$5:$E$100,MATCH(S87,'mf3'!$A$5:$A$100,0),5))))","v":""},{"$f":" IF(S87=\"Zztock\",\"\", IF(ISERROR(S87),\"\",IF(S87=0,\"\",(mf3value*'Results-advanced'!T87+'Results-advanced'!U87*mf1value)/100)))","v":""},1,null,null,null,null,null,null,null,null,null,"Infosys",null,"Infosys",1,null,"Infosys",null,"Infosys",1,null,"Infosys",null,"Infosys",1]
["ZZtock",{"$f":"  IF(A88=\"Zztock\",\"\",IF(ISERROR(A88),\"\",IF(A88=0,\"\",INDEX('mf1'!$A$5:$E$100,MATCH(A88,'mf1'!$A$5:$A$100,0),5))))","v":""},{"$f":" IF(A88=\"Zztock\",\"\",IF(ISERROR(A88),\"\",IF(A88=0,\"\",INDEX('mf2'!$A$5:$E$100,MATCH(A88,'mf2'!$A$5:$A$100,0),5))))","v":""},{"$f":" IF(A88=\"Zztock\",\"\",IF(ISERROR(A88),\"\",IF(A88=0,\"\",(mf2value*'Results-advanced'!B88+mf1value*'Results-advanced'!C88)/100)))","v":""},1,"ZZtock",{"$f":" IF(F88=\"Zztock\",\"\",IF(ISERROR(F88),\"\",IF(F88=0,\"\",INDEX('mf2'!$A$5:$E$100,MATCH(F88,'mf2'!$A$5:$A$100,0),5))))","v":""},{"$f":" IF(F88=\"Zztock\",\"\",IF(ISERROR(F88),\"\",IF(F88=0,\"\",INDEX('mf3'!$A$5:$E$100,MATCH(F88,'mf3'!$A$5:$A$100,0),5))))","v":""},{"$f":" IF(F88=\"Zztock\",\"\",IF(ISERROR(F88),\"\",IF(F88=0,\"\",(mf3value*'Results-advanced'!G88+'Results-advanced'!H88*mf2value)/100)))","v":""},1,null,null,null,null,null,null,null,null,"ZZtock",{"$f":" IF(S88=\"Zztock\",\"\",IF(ISERROR(S88),\"\",IF(S88=0,\"\",INDEX('mf1'!$A$5:$E$100,MATCH(S88,'mf1'!$A$5:$A$100,0),5))))","v":""},{"$f":" IF(S88=\"Zztock\",\"\", IF(ISERROR(S88),\"\",IF(S88=0,\"\",INDEX('mf3'!$A$5:$E$100,MATCH(S88,'mf3'!$A$5:$A$100,0),5))))","v":""},{"$f":" IF(S88=\"Zztock\",\"\", IF(ISERROR(S88),\"\",IF(S88=0,\"\",(mf3value*'Results-advanced'!T88+'Results-advanced'!U88*mf1value)/100)))","v":""},1,null,null,null,null,null,null,null,null,null,"IOC",null,"IOC",1,null,"IOC",null,"IOC",1,null,"IOC",null,"IOC",1]
["ZZtock",{"$f":"  IF(A89=\"Zztock\",\"\",IF(ISERROR(A89),\"\",IF(A89=0,\"\",INDEX('mf1'!$A$5:$E$100,MATCH(A89,'mf1'!$A$5:$A$100,0),5))))","v":""},{"$f":" IF(A89=\"Zztock\",\"\",IF(ISERROR(A89),\"\",IF(A89=0,\"\",INDEX('mf2'!$A$5:$E$100,MATCH(A89,'mf2'!$A$5:$A$100,0),5))))","v":""},{"$f":" IF(A89=\"Zztock\",\"\",IF(ISERROR(A89),\"\",IF(A89=0,\"\",(mf2value*'Results-advanced'!B89+mf1value*'Results-advanced'!C89)/100)))","v":""},1,"ZZtock",{"$f":" IF(F89=\"Zztock\",\"\",IF(ISERROR(F89),\"\",IF(F89=0,\"\",INDEX('mf2'!$A$5:$E$100,MATCH(F89,'mf2'!$A$5:$A$100,0),5))))","v":""},{"$f":" IF(F89=\"Zztock\",\"\",IF(ISERROR(F89),\"\",IF(F89=0,\"\",INDEX('mf3'!$A$5:$E$100,MATCH(F89,'mf3'!$A$5:$A$100,0),5))))","v":""},{"$f":" IF(F89=\"Zztock\",\"\",IF(ISERROR(F89),\"\",IF(F89=0,\"\",(mf3value*'Results-advanced'!G89+'Results-advanced'!H89*mf2value)/100)))","v":""},1,null,null,null,null,null,null,null,null,"ZZtock",{"$f":" IF(S89=\"Zztock\",\"\",IF(ISERROR(S89),\"\",IF(S89=0,\"\",INDEX('mf1'!$A$5:$E$100,MATCH(S89,'mf1'!$A$5:$A$100,0),5))))","v":""},{"$f":" IF(S89=\"Zztock\",\"\", IF(ISERROR(S89),\"\",IF(S89=0,\"\",INDEX('mf3'!$A$5:$E$100,MATCH(S89,'mf3'!$A$5:$A$100,0),5))))","v":""},{"$f":" IF(S89=\"Zztock\",\"\", IF(ISERROR(S89),\"\",IF(S89=0,\"\",(mf3value*'Results-advanced'!T89+'Results-advanced'!U89*mf1value)/100)))","v":""},1,null,null,null,null,null,null,null,null,null,"Kotak Mahindra",null,"Kotak Mahindra",1,null,"Kotak Mahindra",null,"Kotak Mahindra",1,null,"Kotak Mahindra",null,"Kotak Mahindra",1]
["ZZtock",{"$f":"  IF(A90=\"Zztock\",\"\",IF(ISERROR(A90),\"\",IF(A90=0,\"\",INDEX('mf1'!$A$5:$E$100,MATCH(A90,'mf1'!$A$5:$A$100,0),5))))","v":""},{"$f":" IF(A90=\"Zztock\",\"\",IF(ISERROR(A90),\"\",IF(A90=0,\"\",INDEX('mf2'!$A$5:$E$100,MATCH(A90,'mf2'!$A$5:$A$100,0),5))))","v":""},{"$f":" IF(A90=\"Zztock\",\"\",IF(ISERROR(A90),\"\",IF(A90=0,\"\",(mf2value*'Results-advanced'!B90+mf1value*'Results-advanced'!C90)/100)))","v":""},1,"ZZtock",{"$f":" IF(F90=\"Zztock\",\"\",IF(ISERROR(F90),\"\",IF(F90=0,\"\",INDEX('mf2'!$A$5:$E$100,MATCH(F90,'mf2'!$A$5:$A$100,0),5))))","v":""},{"$f":" IF(F90=\"Zztock\",\"\",IF(ISERROR(F90),\"\",IF(F90=0,\"\",INDEX('mf3'!$A$5:$E$100,MATCH(F90,'mf3'!$A$5:$A$100,0),5))))","v":""},{"$f":" IF(F90=\"Zztock\",\"\",IF(ISERROR(F90),\"\",IF(F90=0,\"\",(mf3value*'Results-advanced'!G90+'Results-advanced'!H90*mf2value)/100)))","v":""},1,null,null,null,null,null,null,null,null,"ZZtock",{"$f":" IF(S90=\"Zztock\",\"\",IF(ISERROR(S90),\"\",IF(S90=0,\"\",INDEX('mf1'!$A$5:$E$100,MATCH(S90,'mf1'!$A$5:$A$100,0),5))))","v":""},{"$f":" IF(S90=\"Zztock\",\"\", IF(ISERROR(S90),\"\",IF(S90=0,\"\",INDEX('mf3'!$A$5:$E$100,MATCH(S90,'mf3'!$A$5:$A$100,0),5))))","v":""},{"$f":" IF(S90=\"Zztock\",\"\", IF(ISERROR(S90),\"\",IF(S90=0,\"\",(mf3value*'Results-advanced'!T90+'Results-advanced'!U90*mf1value)/100)))","v":""},1,null,null,null,null,null,null,null,null,null,"Larsen",null,"Larsen",1,null,"Larsen",null,"Larsen",1,null,"Larsen",null,"Larsen",1]
["ZZtock",{"$f":"  IF(A91=\"Zztock\",\"\",IF(ISERROR(A91),\"\",IF(A91=0,\"\",INDEX('mf1'!$A$5:$E$100,MATCH(A91,'mf1'!$A$5:$A$100,0),5))))","v":""},{"$f":" IF(A91=\"Zztock\",\"\",IF(ISERROR(A91),\"\",IF(A91=0,\"\",INDEX('mf2'!$A$5:$E$100,MATCH(A91,'mf2'!$A$5:$A$100,0),5))))","v":""},{"$f":" IF(A91=\"Zztock\",\"\",IF(ISERROR(A91),\"\",IF(A91=0,\"\",(mf2value*'Results-advanced'!B91+mf1value*'Results-advanced'!C91)/100)))","v":""},1,"ZZtock",{"$f":" IF(F91=\"Zztock\",\"\",IF(ISERROR(F91),\"\",IF(F91=0,\"\",INDEX('mf2'!$A$5:$E$100,MATCH(F91,'mf2'!$A$5:$A$100,0),5))))","v":""},{"$f":" IF(F91=\"Zztock\",\"\",IF(ISERROR(F91),\"\",IF(F91=0,\"\",INDEX('mf3'!$A$5:$E$100,MATCH(F91,'mf3'!$A$5:$A$100,0),5))))","v":""},{"$f":" IF(F91=\"Zztock\",\"\",IF(ISERROR(F91),\"\",IF(F91=0,\"\",(mf3value*'Results-advanced'!G91+'Results-advanced'!H91*mf2value)/100)))","v":""},1,null,null,null,null,null,null,null,null,"ZZtock",{"$f":" IF(S91=\"Zztock\",\"\",IF(ISERROR(S91),\"\",IF(S91=0,\"\",INDEX('mf1'!$A$5:$E$100,MATCH(S91,'mf1'!$A$5:$A$100,0),5))))","v":""},{"$f":" IF(S91=\"Zztock\",\"\", IF(ISERROR(S91),\"\",IF(S91=0,\"\",INDEX('mf3'!$A$5:$E$100,MATCH(S91,'mf3'!$A$5:$A$100,0),5))))","v":""},{"$f":" IF(S91=\"Zztock\",\"\", IF(ISERROR(S91),\"\",IF(S91=0,\"\",(mf3value*'Results-advanced'!T91+'Results-advanced'!U91*mf1value)/100)))","v":""},1,null,null,null,null,null,null,null,null,null,"NTPC",null,"NTPC",1,null,"NTPC",null,"NTPC",1,null,"NTPC",null,"NTPC",1]
["ZZtock",{"$f":"  IF(A92=\"Zztock\",\"\",IF(ISERROR(A92),\"\",IF(A92=0,\"\",INDEX('mf1'!$A$5:$E$100,MATCH(A92,'mf1'!$A$5:$A$100,0),5))))","v":""},{"$f":" IF(A92=\"Zztock\",\"\",IF(ISERROR(A92),\"\",IF(A92=0,\"\",INDEX('mf2'!$A$5:$E$100,MATCH(A92,'mf2'!$A$5:$A$100,0),5))))","v":""},{"$f":" IF(A92=\"Zztock\",\"\",IF(ISERROR(A92),\"\",IF(A92=0,\"\",(mf2value*'Results-advanced'!B92+mf1value*'Results-advanced'!C92)/100)))","v":""},1,"ZZtock",{"$f":" IF(F92=\"Zztock\",\"\",IF(ISERROR(F92),\"\",IF(F92=0,\"\",INDEX('mf2'!$A$5:$E$100,MATCH(F92,'mf2'!$A$5:$A$100,0),5))))","v":""},{"$f":" IF(F92=\"Zztock\",\"\",IF(ISERROR(F92),\"\",IF(F92=0,\"\",INDEX('mf3'!$A$5:$E$100,MATCH(F92,'mf3'!$A$5:$A$100,0),5))))","v":""},{"$f":" IF(F92=\"Zztock\",\"\",IF(ISERROR(F92),\"\",IF(F92=0,\"\",(mf3value*'Results-advanced'!G92+'Results-advanced'!H92*mf2value)/100)))","v":""},1,null,null,null,null,null,null,null,null,"ZZtock",{"$f":" IF(S92=\"Zztock\",\"\",IF(ISERROR(S92),\"\",IF(S92=0,\"\",INDEX('mf1'!$A$5:$E$100,MATCH(S92,'mf1'!$A$5:$A$100,0),5))))","v":""},{"$f":" IF(S92=\"Zztock\",\"\", IF(ISERROR(S92),\"\",IF(S92=0,\"\",INDEX('mf3'!$A$5:$E$100,MATCH(S92,'mf3'!$A$5:$A$100,0),5))))","v":""},{"$f":" IF(S92=\"Zztock\",\"\", IF(ISERROR(S92),\"\",IF(S92=0,\"\",(mf3value*'Results-advanced'!T92+'Results-advanced'!U92*mf1value)/100)))","v":""},1,null,null,null,null,null,null,null,null,null,"ONGC",null,"ONGC",1,null,"ONGC",null,"ONGC",1,null,"ONGC",null,"ONGC",1]
["ZZtock",{"$f":"  IF(A93=\"Zztock\",\"\",IF(ISERROR(A93),\"\",IF(A93=0,\"\",INDEX('mf1'!$A$5:$E$100,MATCH(A93,'mf1'!$A$5:$A$100,0),5))))","v":""},{"$f":" IF(A93=\"Zztock\",\"\",IF(ISERROR(A93),\"\",IF(A93=0,\"\",INDEX('mf2'!$A$5:$E$100,MATCH(A93,'mf2'!$A$5:$A$100,0),5))))","v":""},{"$f":" IF(A93=\"Zztock\",\"\",IF(ISERROR(A93),\"\",IF(A93=0,\"\",(mf2value*'Results-advanced'!B93+mf1value*'Results-advanced'!C93)/100)))","v":""},1,"ZZtock",{"$f":" IF(F93=\"Zztock\",\"\",IF(ISERROR(F93),\"\",IF(F93=0,\"\",INDEX('mf2'!$A$5:$E$100,MATCH(F93,'mf2'!$A$5:$A$100,0),5))))","v":""},{"$f":" IF(F93=\"Zztock\",\"\",IF(ISERROR(F93),\"\",IF(F93=0,\"\",INDEX('mf3'!$A$5:$E$100,MATCH(F93,'mf3'!$A$5:$A$100,0),5))))","v":""},{"$f":" IF(F93=\"Zztock\",\"\",IF(ISERROR(F93),\"\",IF(F93=0,\"\",(mf3value*'Results-advanced'!G93+'Results-advanced'!H93*mf2value)/100)))","v":""},1,null,null,null,null,null,null,null,null,"ZZtock",{"$f":" IF(S93=\"Zztock\",\"\",IF(ISERROR(S93),\"\",IF(S93=0,\"\",INDEX('mf1'!$A$5:$E$100,MATCH(S93,'mf1'!$A$5:$A$100,0),5))))","v":""},{"$f":" IF(S93=\"Zztock\",\"\", IF(ISERROR(S93),\"\",IF(S93=0,\"\",INDEX('mf3'!$A$5:$E$100,MATCH(S93,'mf3'!$A$5:$A$100,0),5))))","v":""},{"$f":" IF(S93=\"Zztock\",\"\", IF(ISERROR(S93),\"\",IF(S93=0,\"\",(mf3value*'Results-advanced'!T93+'Results-advanced'!U93*mf1value)/100)))","v":""},1,null,null,null,null,null,null,null,null,null,"Petronet LNG",null,"Petronet LNG",1,null,"Petronet LNG",null,"Petronet LNG",1,null,"Petronet LNG",null,"Petronet LNG",1]
["ZZtock",{"$f":"  IF(A94=\"Zztock\",\"\",IF(ISERROR(A94),\"\",IF(A94=0,\"\",INDEX('mf1'!$A$5:$E$100,MATCH(A94,'mf1'!$A$5:$A$100,0),5))))","v":""},{"$f":" IF(A94=\"Zztock\",\"\",IF(ISERROR(A94),\"\",IF(A94=0,\"\",INDEX('mf2'!$A$5:$E$100,MATCH(A94,'mf2'!$A$5:$A$100,0),5))))","v":""},{"$f":" IF(A94=\"Zztock\",\"\",IF(ISERROR(A94),\"\",IF(A94=0,\"\",(mf2value*'Results-advanced'!B94+mf1value*'Results-advanced'!C94)/100)))","v":""},1,"ZZtock",{"$f":" IF(F94=\"Zztock\",\"\",IF(ISERROR(F94),\"\",IF(F94=0,\"\",INDEX('mf2'!$A$5:$E$100,MATCH(F94,'mf2'!$A$5:$A$100,0),5))))","v":""},{"$f":" IF(F94=\"Zztock\",\"\",IF(ISERROR(F94),\"\",IF(F94=0,\"\",INDEX('mf3'!$A$5:$E$100,MATCH(F94,'mf3'!$A$5:$A$100,0),5))))","v":""},{"$f":" IF(F94=\"Zztock\",\"\",IF(ISERROR(F94),\"\",IF(F94=0,\"\",(mf3value*'Results-advanced'!G94+'Results-advanced'!H94*mf2value)/100)))","v":""},1,null,null,null,null,null,null,null,null,"ZZtock",{"$f":" IF(S94=\"Zztock\",\"\",IF(ISERROR(S94),\"\",IF(S94=0,\"\",INDEX('mf1'!$A$5:$E$100,MATCH(S94,'mf1'!$A$5:$A$100,0),5))))","v":""},{"$f":" IF(S94=\"Zztock\",\"\", IF(ISERROR(S94),\"\",IF(S94=0,\"\",INDEX('mf3'!$A$5:$E$100,MATCH(S94,'mf3'!$A$5:$A$100,0),5))))","v":""},{"$f":" IF(S94=\"Zztock\",\"\", IF(ISERROR(S94),\"\",IF(S94=0,\"\",(mf3value*'Results-advanced'!T94+'Results-advanced'!U94*mf1value)/100)))","v":""},1,null,null,null,null,null,null,null,null,null,"Power Grid Corp",null,"Power Grid Corp",1,null,"Power Grid Corp",null,"Power Grid Corp",1,null,"Power Grid Corp",null,"Power Grid Corp",1]
["ZZtock",{"$f":"  IF(A95=\"Zztock\",\"\",IF(ISERROR(A95),\"\",IF(A95=0,\"\",INDEX('mf1'!$A$5:$E$100,MATCH(A95,'mf1'!$A$5:$A$100,0),5))))","v":""},{"$f":" IF(A95=\"Zztock\",\"\",IF(ISERROR(A95),\"\",IF(A95=0,\"\",INDEX('mf2'!$A$5:$E$100,MATCH(A95,'mf2'!$A$5:$A$100,0),5))))","v":""},{"$f":" IF(A95=\"Zztock\",\"\",IF(ISERROR(A95),\"\",IF(A95=0,\"\",(mf2value*'Results-advanced'!B95+mf1value*'Results-advanced'!C95)/100)))","v":""},1,"ZZtock",{"$f":" IF(F95=\"Zztock\",\"\",IF(ISERROR(F95),\"\",IF(F95=0,\"\",INDEX('mf2'!$A$5:$E$100,MATCH(F95,'mf2'!$A$5:$A$100,0),5))))","v":""},{"$f":" IF(F95=\"Zztock\",\"\",IF(ISERROR(F95),\"\",IF(F95=0,\"\",INDEX('mf3'!$A$5:$E$100,MATCH(F95,'mf3'!$A$5:$A$100,0),5))))","v":""},{"$f":" IF(F95=\"Zztock\",\"\",IF(ISERROR(F95),\"\",IF(F95=0,\"\",(mf3value*'Results-advanced'!G95+'Results-advanced'!H95*mf2value)/100)))","v":""},1,null,null,null,null,null,null,null,null,"ZZtock",{"$f":" IF(S95=\"Zztock\",\"\",IF(ISERROR(S95),\"\",IF(S95=0,\"\",INDEX('mf1'!$A$5:$E$100,MATCH(S95,'mf1'!$A$5:$A$100,0),5))))","v":""},{"$f":" IF(S95=\"Zztock\",\"\", IF(ISERROR(S95),\"\",IF(S95=0,\"\",INDEX('mf3'!$A$5:$E$100,MATCH(S95,'mf3'!$A$5:$A$100,0),5))))","v":""},{"$f":" IF(S95=\"Zztock\",\"\", IF(ISERROR(S95),\"\",IF(S95=0,\"\",(mf3value*'Results-advanced'!T95+'Results-advanced'!U95*mf1value)/100)))","v":""},1,null,null,null,null,null,null,null,null,null,"PTC India",null,"PTC India",1,null,"PTC India",null,"PTC India",1,null,"PTC India",null,"PTC India",1]
["ZZtock",{"$f":"  IF(A96=\"Zztock\",\"\",IF(ISERROR(A96),\"\",IF(A96=0,\"\",INDEX('mf1'!$A$5:$E$100,MATCH(A96,'mf1'!$A$5:$A$100,0),5))))","v":""},{"$f":" IF(A96=\"Zztock\",\"\",IF(ISERROR(A96),\"\",IF(A96=0,\"\",INDEX('mf2'!$A$5:$E$100,MATCH(A96,'mf2'!$A$5:$A$100,0),5))))","v":""},{"$f":" IF(A96=\"Zztock\",\"\",IF(ISERROR(A96),\"\",IF(A96=0,\"\",(mf2value*'Results-advanced'!B96+mf1value*'Results-advanced'!C96)/100)))","v":""},1,"ZZtock",{"$f":" IF(F96=\"Zztock\",\"\",IF(ISERROR(F96),\"\",IF(F96=0,\"\",INDEX('mf2'!$A$5:$E$100,MATCH(F96,'mf2'!$A$5:$A$100,0),5))))","v":""},{"$f":" IF(F96=\"Zztock\",\"\",IF(ISERROR(F96),\"\",IF(F96=0,\"\",INDEX('mf3'!$A$5:$E$100,MATCH(F96,'mf3'!$A$5:$A$100,0),5))))","v":""},{"$f":" IF(F96=\"Zztock\",\"\",IF(ISERROR(F96),\"\",IF(F96=0,\"\",(mf3value*'Results-advanced'!G96+'Results-advanced'!H96*mf2value)/100)))","v":""},1,null,null,null,null,null,null,null,null,"ZZtock",{"$f":" IF(S96=\"Zztock\",\"\",IF(ISERROR(S96),\"\",IF(S96=0,\"\",INDEX('mf1'!$A$5:$E$100,MATCH(S96,'mf1'!$A$5:$A$100,0),5))))","v":""},{"$f":" IF(S96=\"Zztock\",\"\", IF(ISERROR(S96),\"\",IF(S96=0,\"\",INDEX('mf3'!$A$5:$E$100,MATCH(S96,'mf3'!$A$5:$A$100,0),5))))","v":""},{"$f":" IF(S96=\"Zztock\",\"\", IF(ISERROR(S96),\"\",IF(S96=0,\"\",(mf3value*'Results-advanced'!T96+'Results-advanced'!U96*mf1value)/100)))","v":""},1,null,null,null,null,null,null,null,null,null,"SBI",null,"SBI",1,null,"SBI",null,"SBI",1,null,"SBI",null,"SBI",1]
["ZZtock",{"$f":"  IF(A97=\"Zztock\",\"\",IF(ISERROR(A97),\"\",IF(A97=0,\"\",INDEX('mf1'!$A$5:$E$100,MATCH(A97,'mf1'!$A$5:$A$100,0),5))))","v":""},{"$f":" IF(A97=\"Zztock\",\"\",IF(ISERROR(A97),\"\",IF(A97=0,\"\",INDEX('mf2'!$A$5:$E$100,MATCH(A97,'mf2'!$A$5:$A$100,0),5))))","v":""},{"$f":" IF(A97=\"Zztock\",\"\",IF(ISERROR(A97),\"\",IF(A97=0,\"\",(mf2value*'Results-advanced'!B97+mf1value*'Results-advanced'!C97)/100)))","v":""},1,"ZZtock",{"$f":" IF(F97=\"Zztock\",\"\",IF(ISERROR(F97),\"\",IF(F97=0,\"\",INDEX('mf2'!$A$5:$E$100,MATCH(F97,'mf2'!$A$5:$A$100,0),5))))","v":""},{"$f":" IF(F97=\"Zztock\",\"\",IF(ISERROR(F97),\"\",IF(F97=0,\"\",INDEX('mf3'!$A$5:$E$100,MATCH(F97,'mf3'!$A$5:$A$100,0),5))))","v":""},{"$f":" IF(F97=\"Zztock\",\"\",IF(ISERROR(F97),\"\",IF(F97=0,\"\",(mf3value*'Results-advanced'!G97+'Results-advanced'!H97*mf2value)/100)))","v":""},1,null,null,null,null,null,null,null,null,"ZZtock",{"$f":" IF(S97=\"Zztock\",\"\",IF(ISERROR(S97),\"\",IF(S97=0,\"\",INDEX('mf1'!$A$5:$E$100,MATCH(S97,'mf1'!$A$5:$A$100,0),5))))","v":""},{"$f":" IF(S97=\"Zztock\",\"\", IF(ISERROR(S97),\"\",IF(S97=0,\"\",INDEX('mf3'!$A$5:$E$100,MATCH(S97,'mf3'!$A$5:$A$100,0),5))))","v":""},{"$f":" IF(S97=\"Zztock\",\"\", IF(ISERROR(S97),\"\",IF(S97=0,\"\",(mf3value*'Results-advanced'!T97+'Results-advanced'!U97*mf1value)/100)))","v":""},1,null,null,null,null,null,null,null,null,null,"Tata Chemicals",null,"Tata Chemicals",1,null,"Tata Chemicals",null,"Tata Chemicals",1,null,"Tata Chemicals",null,"Tata Chemicals",1]
["ZZtock",{"$f":"  IF(A98=\"Zztock\",\"\",IF(ISERROR(A98),\"\",IF(A98=0,\"\",INDEX('mf1'!$A$5:$E$100,MATCH(A98,'mf1'!$A$5:$A$100,0),5))))","v":""},{"$f":" IF(A98=\"Zztock\",\"\",IF(ISERROR(A98),\"\",IF(A98=0,\"\",INDEX('mf2'!$A$5:$E$100,MATCH(A98,'mf2'!$A$5:$A$100,0),5))))","v":""},{"$f":" IF(A98=\"Zztock\",\"\",IF(ISERROR(A98),\"\",IF(A98=0,\"\",(mf2value*'Results-advanced'!B98+mf1value*'Results-advanced'!C98)/100)))","v":""},1,"ZZtock",{"$f":" IF(F98=\"Zztock\",\"\",IF(ISERROR(F98),\"\",IF(F98=0,\"\",INDEX('mf2'!$A$5:$E$100,MATCH(F98,'mf2'!$A$5:$A$100,0),5))))","v":""},{"$f":" IF(F98=\"Zztock\",\"\",IF(ISERROR(F98),\"\",IF(F98=0,\"\",INDEX('mf3'!$A$5:$E$100,MATCH(F98,'mf3'!$A$5:$A$100,0),5))))","v":""},{"$f":" IF(F98=\"Zztock\",\"\",IF(ISERROR(F98),\"\",IF(F98=0,\"\",(mf3value*'Results-advanced'!G98+'Results-advanced'!H98*mf2value)/100)))","v":""},1,null,null,null,null,null,null,null,null,"ZZtock",{"$f":" IF(S98=\"Zztock\",\"\",IF(ISERROR(S98),\"\",IF(S98=0,\"\",INDEX('mf1'!$A$5:$E$100,MATCH(S98,'mf1'!$A$5:$A$100,0),5))))","v":""},{"$f":" IF(S98=\"Zztock\",\"\", IF(ISERROR(S98),\"\",IF(S98=0,\"\",INDEX('mf3'!$A$5:$E$100,MATCH(S98,'mf3'!$A$5:$A$100,0),5))))","v":""},{"$f":" IF(S98=\"Zztock\",\"\", IF(ISERROR(S98),\"\",IF(S98=0,\"\",(mf3value*'Results-advanced'!T98+'Results-advanced'!U98*mf1value)/100)))","v":""},1,null,null,null,null,null,null,null,null,null,"Tata Motors",null,"Tata Motors",1,null,"Tata Motors",null,"Tata Motors",1,null,"Tata Motors",null,"Tata Motors",1]
["ZZtock",{"$f":"  IF(A99=\"Zztock\",\"\",IF(ISERROR(A99),\"\",IF(A99=0,\"\",INDEX('mf1'!$A$5:$E$100,MATCH(A99,'mf1'!$A$5:$A$100,0),5))))","v":""},{"$f":" IF(A99=\"Zztock\",\"\",IF(ISERROR(A99),\"\",IF(A99=0,\"\",INDEX('mf2'!$A$5:$E$100,MATCH(A99,'mf2'!$A$5:$A$100,0),5))))","v":""},{"$f":" IF(A99=\"Zztock\",\"\",IF(ISERROR(A99),\"\",IF(A99=0,\"\",(mf2value*'Results-advanced'!B99+mf1value*'Results-advanced'!C99)/100)))","v":""},1,"ZZtock",{"$f":" IF(F99=\"Zztock\",\"\",IF(ISERROR(F99),\"\",IF(F99=0,\"\",INDEX('mf2'!$A$5:$E$100,MATCH(F99,'mf2'!$A$5:$A$100,0),5))))","v":""},{"$f":" IF(F99=\"Zztock\",\"\",IF(ISERROR(F99),\"\",IF(F99=0,\"\",INDEX('mf3'!$A$5:$E$100,MATCH(F99,'mf3'!$A$5:$A$100,0),5))))","v":""},{"$f":" IF(F99=\"Zztock\",\"\",IF(ISERROR(F99),\"\",IF(F99=0,\"\",(mf3value*'Results-advanced'!G99+'Results-advanced'!H99*mf2value)/100)))","v":""},1,null,null,null,null,null,null,null,null,"ZZtock",{"$f":" IF(S99=\"Zztock\",\"\",IF(ISERROR(S99),\"\",IF(S99=0,\"\",INDEX('mf1'!$A$5:$E$100,MATCH(S99,'mf1'!$A$5:$A$100,0),5))))","v":""},{"$f":" IF(S99=\"Zztock\",\"\", IF(ISERROR(S99),\"\",IF(S99=0,\"\",INDEX('mf3'!$A$5:$E$100,MATCH(S99,'mf3'!$A$5:$A$100,0),5))))","v":""},{"$f":" IF(S99=\"Zztock\",\"\", IF(ISERROR(S99),\"\",IF(S99=0,\"\",(mf3value*'Results-advanced'!T99+'Results-advanced'!U99*mf1value)/100)))","v":""},1,null,null,null,null,null,null,null,null,null,"Tata Steel",null,"Tata Steel",1,null,"Tata Steel",null,"Tata Steel",1,null,"Tata Steel",null,"Tata Steel",1]
["ZZtock",{"$f":"  IF(A100=\"Zztock\",\"\",IF(ISERROR(A100),\"\",IF(A100=0,\"\",INDEX('mf1'!$A$5:$E$100,MATCH(A100,'mf1'!$A$5:$A$100,0),5))))","v":""},{"$f":" IF(A100=\"Zztock\",\"\",IF(ISERROR(A100),\"\",IF(A100=0,\"\",INDEX('mf2'!$A$5:$E$100,MATCH(A100,'mf2'!$A$5:$A$100,0),5))))","v":""},{"$f":" IF(A100=\"Zztock\",\"\",IF(ISERROR(A100),\"\",IF(A100=0,\"\",(mf2value*'Results-advanced'!B100+mf1value*'Results-advanced'!C100)/100)))","v":""},1,"ZZtock",{"$f":" IF(F100=\"Zztock\",\"\",IF(ISERROR(F100),\"\",IF(F100=0,\"\",INDEX('mf2'!$A$5:$E$100,MATCH(F100,'mf2'!$A$5:$A$100,0),5))))","v":""},{"$f":" IF(F100=\"Zztock\",\"\",IF(ISERROR(F100),\"\",IF(F100=0,\"\",INDEX('mf3'!$A$5:$E$100,MATCH(F100,'mf3'!$A$5:$A$100,0),5))))","v":""},{"$f":" IF(F100=\"Zztock\",\"\",IF(ISERROR(F100),\"\",IF(F100=0,\"\",(mf3value*'Results-advanced'!G100+'Results-advanced'!H100*mf2value)/100)))","v":""},1,null,null,null,null,null,null,null,null,"ZZtock",{"$f":" IF(S100=\"Zztock\",\"\",IF(ISERROR(S100),\"\",IF(S100=0,\"\",INDEX('mf1'!$A$5:$E$100,MATCH(S100,'mf1'!$A$5:$A$100,0),5))))","v":""},{"$f":" IF(S100=\"Zztock\",\"\", IF(ISERROR(S100),\"\",IF(S100=0,\"\",INDEX('mf3'!$A$5:$E$100,MATCH(S100,'mf3'!$A$5:$A$100,0),5))))","v":""},{"$f":" IF(S100=\"Zztock\",\"\", IF(ISERROR(S100),\"\",IF(S100=0,\"\",(mf3value*'Results-advanced'!T100+'Results-advanced'!U100*mf1value)/100)))","v":""},1,null,null,null,null,null,null,null,null,null,"TCS",null,"TCS",1,null,"TCS",null,"TCS",1,null,"TCS",null,"TCS",1]
["ZZtock",{"$f":"  IF(A101=\"Zztock\",\"\",IF(ISERROR(A101),\"\",IF(A101=0,\"\",INDEX('mf1'!$A$5:$E$100,MATCH(A101,'mf1'!$A$5:$A$100,0),5))))","v":""},{"$f":" IF(A101=\"Zztock\",\"\",IF(ISERROR(A101),\"\",IF(A101=0,\"\",INDEX('mf2'!$A$5:$E$100,MATCH(A101,'mf2'!$A$5:$A$100,0),5))))","v":""},{"$f":" IF(A101=\"Zztock\",\"\",IF(ISERROR(A101),\"\",IF(A101=0,\"\",(mf2value*'Results-advanced'!B101+mf1value*'Results-advanced'!C101)/100)))","v":""},null,"ZZtock",{"$f":" IF(F101=\"Zztock\",\"\",IF(ISERROR(F101),\"\",IF(F101=0,\"\",INDEX('mf2'!$A$5:$E$100,MATCH(F101,'mf2'!$A$5:$A$100,0),5))))","v":""},{"$f":" IF(F101=\"Zztock\",\"\",IF(ISERROR(F101),\"\",IF(F101=0,\"\",INDEX('mf3'!$A$5:$E$100,MATCH(F101,'mf3'!$A$5:$A$100,0),5))))","v":""},{"$f":" IF(F101=\"Zztock\",\"\",IF(ISERROR(F101),\"\",IF(F101=0,\"\",(mf3value*'Results-advanced'!G101+'Results-advanced'!H101*mf2value)/100)))","v":""},null,null,null,null,null,null,null,null,null,"ZZtock",{"$f":" IF(S101=\"Zztock\",\"\",IF(ISERROR(S101),\"\",IF(S101=0,\"\",INDEX('mf1'!$A$5:$E$100,MATCH(S101,'mf1'!$A$5:$A$100,0),5))))","v":""},{"$f":" IF(S101=\"Zztock\",\"\", IF(ISERROR(S101),\"\",IF(S101=0,\"\",INDEX('mf3'!$A$5:$E$100,MATCH(S101,'mf3'!$A$5:$A$100,0),5))))","v":""},{"$f":" IF(S101=\"Zztock\",\"\", IF(ISERROR(S101),\"\",IF(S101=0,\"\",(mf3value*'Results-advanced'!T101+'Results-advanced'!U101*mf1value)/100)))","v":""},1,null,null,null,null,null,null,null,null,null,"Wipro",null,"Wipro",1,null,"Wipro",null,"Wipro",1,null,"Wipro",null,"Wipro",1]
["ZZtock",{"$f":"  IF(A102=\"Zztock\",\"\",IF(ISERROR(A102),\"\",IF(A102=0,\"\",INDEX('mf1'!$A$5:$E$100,MATCH(A102,'mf1'!$A$5:$A$100,0),5))))","v":""},{"$f":" IF(A102=\"Zztock\",\"\",IF(ISERROR(A102),\"\",IF(A102=0,\"\",INDEX('mf2'!$A$5:$E$100,MATCH(A102,'mf2'!$A$5:$A$100,0),5))))","v":""},{"$f":" IF(A102=\"Zztock\",\"\",IF(ISERROR(A102),\"\",IF(A102=0,\"\",(mf2value*'Results-advanced'!B102+mf1value*'Results-advanced'!C102)/100)))","v":""},null,"ZZtock",{"$f":" IF(F102=\"Zztock\",\"\",IF(ISERROR(F102),\"\",IF(F102=0,\"\",INDEX('mf2'!$A$5:$E$100,MATCH(F102,'mf2'!$A$5:$A$100,0),5))))","v":""},{"$f":" IF(F102=\"Zztock\",\"\",IF(ISERROR(F102),\"\",IF(F102=0,\"\",INDEX('mf3'!$A$5:$E$100,MATCH(F102,'mf3'!$A$5:$A$100,0),5))))","v":""},{"$f":" IF(F102=\"Zztock\",\"\",IF(ISERROR(F102),\"\",IF(F102=0,\"\",(mf3value*'Results-advanced'!G102+'Results-advanced'!H102*mf2value)/100)))","v":""},null,null,null,null,null,null,null,null,null,"ZZtock",{"$f":" IF(S102=\"Zztock\",\"\",IF(ISERROR(S102),\"\",IF(S102=0,\"\",INDEX('mf1'!$A$5:$E$100,MATCH(S102,'mf1'!$A$5:$A$100,0),5))))","v":""},{"$f":" IF(S102=\"Zztock\",\"\", IF(ISERROR(S102),\"\",IF(S102=0,\"\",INDEX('mf3'!$A$5:$E$100,MATCH(S102,'mf3'!$A$5:$A$100,0),5))))","v":""},{"$f":" IF(S102=\"Zztock\",\"\", IF(ISERROR(S102),\"\",IF(S102=0,\"\",(mf3value*'Results-advanced'!T102+'Results-advanced'!U102*mf1value)/100)))","v":""},1,null,null,null,null,null,null,null,null,null,"ZZtock",null,"ZZtock",0,null,"ZZtock",null,"ZZtock",0,null,"ZZtock",null,"ZZtock",0]
["ZZtock",{"$f":"  IF(A103=\"Zztock\",\"\",IF(ISERROR(A103),\"\",IF(A103=0,\"\",INDEX('mf1'!$A$5:$E$100,MATCH(A103,'mf1'!$A$5:$A$100,0),5))))","v":""},{"$f":" IF(A103=\"Zztock\",\"\",IF(ISERROR(A103),\"\",IF(A103=0,\"\",INDEX('mf2'!$A$5:$E$100,MATCH(A103,'mf2'!$A$5:$A$100,0),5))))","v":""},{"$f":" IF(A103=\"Zztock\",\"\",IF(ISERROR(A103),\"\",IF(A103=0,\"\",(mf2value*'Results-advanced'!B103+mf1value*'Results-advanced'!C103)/100)))","v":""},null,"ZZtock",{"$f":" IF(F103=\"Zztock\",\"\",IF(ISERROR(F103),\"\",IF(F103=0,\"\",INDEX('mf2'!$A$5:$E$100,MATCH(F103,'mf2'!$A$5:$A$100,0),5))))","v":""},{"$f":" IF(F103=\"Zztock\",\"\",IF(ISERROR(F103),\"\",IF(F103=0,\"\",INDEX('mf3'!$A$5:$E$100,MATCH(F103,'mf3'!$A$5:$A$100,0),5))))","v":""},{"$f":" IF(F103=\"Zztock\",\"\",IF(ISERROR(F103),\"\",IF(F103=0,\"\",(mf3value*'Results-advanced'!G103+'Results-advanced'!H103*mf2value)/100)))","v":""},null,null,null,null,null,null,null,null,null,"ZZtock",{"$f":" IF(S103=\"Zztock\",\"\",IF(ISERROR(S103),\"\",IF(S103=0,\"\",INDEX('mf1'!$A$5:$E$100,MATCH(S103,'mf1'!$A$5:$A$100,0),5))))","v":""},{"$f":" IF(S103=\"Zztock\",\"\", IF(ISERROR(S103),\"\",IF(S103=0,\"\",INDEX('mf3'!$A$5:$E$100,MATCH(S103,'mf3'!$A$5:$A$100,0),5))))","v":""},{"$f":" IF(S103=\"Zztock\",\"\", IF(ISERROR(S103),\"\",IF(S103=0,\"\",(mf3value*'Results-advanced'!T103+'Results-advanced'!U103*mf1value)/100)))","v":""},1,null,null,null,null,null,null,null,null,null,"ZZtock",null,null,0,null,"ZZtock",null,null,0,null,"ZZtock",null,null,0]
["ZZtock",{"$f":"  IF(A104=\"Zztock\",\"\",IF(ISERROR(A104),\"\",IF(A104=0,\"\",INDEX('mf1'!$A$5:$E$100,MATCH(A104,'mf1'!$A$5:$A$100,0),5))))","v":""},{"$f":" IF(A104=\"Zztock\",\"\",IF(ISERROR(A104),\"\",IF(A104=0,\"\",INDEX('mf2'!$A$5:$E$100,MATCH(A104,'mf2'!$A$5:$A$100,0),5))))","v":""},{"$f":" IF(A104=\"Zztock\",\"\",IF(ISERROR(A104),\"\",IF(A104=0,\"\",(mf2value*'Results-advanced'!B104+mf1value*'Results-advanced'!C104)/100)))","v":""},null,"ZZtock",{"$f":" IF(F104=\"Zztock\",\"\",IF(ISERROR(F104),\"\",IF(F104=0,\"\",INDEX('mf2'!$A$5:$E$100,MATCH(F104,'mf2'!$A$5:$A$100,0),5))))","v":""},{"$f":" IF(F104=\"Zztock\",\"\",IF(ISERROR(F104),\"\",IF(F104=0,\"\",INDEX('mf3'!$A$5:$E$100,MATCH(F104,'mf3'!$A$5:$A$100,0),5))))","v":""},{"$f":" IF(F104=\"Zztock\",\"\",IF(ISERROR(F104),\"\",IF(F104=0,\"\",(mf3value*'Results-advanced'!G104+'Results-advanced'!H104*mf2value)/100)))","v":""},null,null,null,null,null,null,null,null,null,"ZZtock",{"$f":" IF(S104=\"Zztock\",\"\",IF(ISERROR(S104),\"\",IF(S104=0,\"\",INDEX('mf1'!$A$5:$E$100,MATCH(S104,'mf1'!$A$5:$A$100,0),5))))","v":""},{"$f":" IF(S104=\"Zztock\",\"\", IF(ISERROR(S104),\"\",IF(S104=0,\"\",INDEX('mf3'!$A$5:$E$100,MATCH(S104,'mf3'!$A$5:$A$100,0),5))))","v":""},{"$f":" IF(S104=\"Zztock\",\"\", IF(ISERROR(S104),\"\",IF(S104=0,\"\",(mf3value*'Results-advanced'!T104+'Results-advanced'!U104*mf1value)/100)))","v":""},1,null,null,null,null,null,null,null,null,null,"ZZtock",null,null,0,null,"ZZtock",null,null,0,null,"ZZtock",null,null,0]
["ZZtock",{"$f":"  IF(A105=\"Zztock\",\"\",IF(ISERROR(A105),\"\",IF(A105=0,\"\",INDEX('mf1'!$A$5:$E$100,MATCH(A105,'mf1'!$A$5:$A$100,0),5))))","v":""},{"$f":" IF(A105=\"Zztock\",\"\",IF(ISERROR(A105),\"\",IF(A105=0,\"\",INDEX('mf2'!$A$5:$E$100,MATCH(A105,'mf2'!$A$5:$A$100,0),5))))","v":""},{"$f":" IF(A105=\"Zztock\",\"\",IF(ISERROR(A105),\"\",IF(A105=0,\"\",(mf2value*'Results-advanced'!B105+mf1value*'Results-advanced'!C105)/100)))","v":""},null,"ZZtock",{"$f":" IF(F105=\"Zztock\",\"\",IF(ISERROR(F105),\"\",IF(F105=0,\"\",INDEX('mf2'!$A$5:$E$100,MATCH(F105,'mf2'!$A$5:$A$100,0),5))))","v":""},{"$f":" IF(F105=\"Zztock\",\"\",IF(ISERROR(F105),\"\",IF(F105=0,\"\",INDEX('mf3'!$A$5:$E$100,MATCH(F105,'mf3'!$A$5:$A$100,0),5))))","v":""},{"$f":" IF(F105=\"Zztock\",\"\",IF(ISERROR(F105),\"\",IF(F105=0,\"\",(mf3value*'Results-advanced'!G105+'Results-advanced'!H105*mf2value)/100)))","v":""},null,null,null,null,null,null,null,null,null,"ZZtock",{"$f":" IF(S105=\"Zztock\",\"\",IF(ISERROR(S105),\"\",IF(S105=0,\"\",INDEX('mf1'!$A$5:$E$100,MATCH(S105,'mf1'!$A$5:$A$100,0),5))))","v":""},{"$f":" IF(S105=\"Zztock\",\"\", IF(ISERROR(S105),\"\",IF(S105=0,\"\",INDEX('mf3'!$A$5:$E$100,MATCH(S105,'mf3'!$A$5:$A$100,0),5))))","v":""},{"$f":" IF(S105=\"Zztock\",\"\", IF(ISERROR(S105),\"\",IF(S105=0,\"\",(mf3value*'Results-advanced'!T105+'Results-advanced'!U105*mf1value)/100)))","v":""},1,null,null,null,null,null,null,null,null,null,"ZZtock",null,null,0,null,"ZZtock",null,null,0,null,"ZZtock",null,null,0]
[null,null,null,null,null,null,null,null,null,null,null,null,null,null,null,null,null,null,null,null,null,null,null,null,null,null,null,null,null,null,null,null,"ZZtock",null,null,0,null,"ZZtock",null,null,0,null,"ZZtock",null,null,0]
[null,null,null,null,null,null,null,null,null,null,null,null,null,null,null,null,null,null,null,null,null,null,null,null,null,null,null,null,null,null,null,null,"ZZtock",null,null,0,null,"ZZtock",null,null,0,null,"ZZtock",null,null,0]
[null,null,null,null,null,null,null,null,null,null,null,null,null,null,null,null,null,null,null,null,null,null,null,null,null,null,null,null,null,null,null,null,"ZZtock",null,null,0,null,"ZZtock",null,null,0,null,"ZZtock",null,null,0]
[null,null,null,null,null,null,null,null,null,null,null,null,null,null,null,null,null,null,null,null,null,null,null,null,null,null,null,null,null,null,null,null,"ZZtock",null,null,0,null,"ZZtock",null,null,0,null,"ZZtock",null,null,0]
[null,null,null,null,null,null,null,null,null,null,null,null,null,null,null,null,null,null,null,null,null,null,null,null,null,null,null,null,null,null,null,null,"ZZtock",null,null,0,null,"ZZtock",null,null,0,null,"ZZtock",null,null,0]
[null,null,null,null,null,null,null,null,null,null,null,null,null,null,null,null,null,null,null,null,null,null,null,null,null,null,null,null,null,null,null,null,"ZZtock",null,null,0,null,"ZZtock",null,null,0,null,"ZZtock",null,null,0]
[null,null,null,null,null,null,null,null,null,null,null,null,null,null,null,null,null,null,null,null,null,null,null,null,null,null,null,null,null,null,null,null,"ZZtock",null,null,0,null,"ZZtock",null,null,0,null,"ZZtock",null,null,0]
[null,null,null,null,null,null,null,null,null,null,null,null,null,null,null,null,null,null,null,null,null,null,null,null,null,null,null,null,null,null,null,null,"ZZtock",null,null,0,null,"ZZtock",null,null,0,null,"ZZtock",null,null,0]
[null,null,null,null,null,null,null,null,null,null,null,null,null,null,null,null,null,null,null,null,null,null,null,null,null,null,null,null,null,null,null,null,"ZZtock",null,null,0,null,"ZZtock",null,null,0,null,"ZZtock",null,null,0]
[null,null,null,null,null,null,null,null,null,null,null,null,null,null,null,null,null,null,null,null,null,null,null,null,null,null,null,null,null,null,null,null,"ZZtock",null,null,0,null,"ZZtock",null,null,0,null,"ZZtock",null,null,0]
[null,null,null,null,null,null,null,null,null,null,null,null,null,null,null,null,null,null,null,null,null,null,null,null,null,null,null,null,null,null,null,null,"ZZtock",null,null,0,null,"ZZtock",null,null,0,null,"ZZtock",null,null,0]
[null,null,null,null,null,null,null,null,null,null,null,null,null,null,null,null,null,null,null,null,null,null,null,null,null,null,null,null,null,null,null,null,"ZZtock",null,null,0,null,"ZZtock",null,null,0,null,"ZZtock",null,null,0]
[null,null,null,null,null,null,null,null,null,null,null,null,null,null,null,null,null,null,null,null,null,null,null,null,null,null,null,null,null,null,null,null,"ZZtock",null,null,0,null,"ZZtock",null,null,0,null,"ZZtock",null,null,0]
[null,null,null,null,null,null,null,null,null,null,null,null,null,null,null,null,null,null,null,null,null,null,null,null,null,null,null,null,null,null,null,null,"ZZtock",null,null,0,null,"ZZtock",null,null,0,null,"ZZtock",null,null,0]
[null,null,null,null,null,null,null,null,null,null,null,null,null,null,null,null,null,null,null,null,null,null,null,null,null,null,null,null,null,null,null,null,"ZZtock",null,null,0,null,"ZZtock",null,null,0,null,"ZZtock",null,null,0]
[null,null,null,null,null,null,null,null,null,null,null,null,null,null,null,null,null,null,null,null,null,null,null,null,null,null,null,null,null,null,null,null,"ZZtock",null,null,0,null,"ZZtock",null,null,0,null,"ZZtock",null,null,0]
[null,null,null,null,null,null,null,null,null,null,null,null,null,null,null,null,null,null,null,null,null,null,null,null,null,null,null,null,null,null,null,null,"ZZtock",null,null,0,null,"ZZtock",null,null,0,null,"ZZtock",null,null,0]
[null,null,null,null,null,null,null,null,null,null,null,null,null,null,null,null,null,null,null,null,null,null,null,null,null,null,null,null,null,null,null,null,"ZZtock",null,null,0,null,"ZZtock",null,null,0,null,"ZZtock",null,null,0]
[null,null,null,null,null,null,null,null,null,null,null,null,null,null,null,null,null,null,null,null,null,null,null,null,null,null,null,null,null,null,null,null,"ZZtock",null,null,0,null,"ZZtock",null,null,0,null,"ZZtock",null,null,0]
[null,null,null,null,null,null,null,null,null,null,null,null,null,null,null,null,null,null,null,null,null,null,null,null,null,null,null,null,null,null,null,null,"ZZtock",null,null,0,null,"ZZtock",null,null,0,null,"ZZtock",null,null,0]
[null,null,null,null,null,null,null,null,null,null,null,null,null,null,null,null,null,null,null,null,null,null,null,null,null,null,null,null,null,null,null,null,"ZZtock",null,null,0,null,"ZZtock",null,null,0,null,"ZZtock",null,null,0]
[null,null,null,null,null,null,null,null,null,null,null,null,null,null,null,null,null,null,null,null,null,null,null,null,null,null,null,null,null,null,null,null,"ZZtock",null,null,0,null,"ZZtock",null,null,0,null,"ZZtock",null,null,0]
[null,null,null,null,null,null,null,null,null,null,null,null,null,null,null,null,null,null,null,null,null,null,null,null,null,null,null,null,null,null,null,null,"ZZtock",null,null,0,null,"ZZtock",null,null,0,null,"ZZtock",null,null,0]
[null,null,null,null,null,null,null,null,null,null,null,null,null,null,null,null,null,null,null,null,null,null,null,null,null,null,null,null,null,null,null,null,"ZZtock",null,null,0,null,"ZZtock",null,null,0,null,"ZZtock",null,null,0]
[null,null,null,null,null,null,null,null,null,null,null,null,null,null,null,null,null,null,null,null,null,null,null,null,null,null,null,null,null,null,null,null,"ZZtock",null,null,0,null,"ZZtock",null,null,0,null,"ZZtock",null,null,0]
[null,null,null,null,null,null,null,null,null,null,null,null,null,null,null,null,null,null,null,null,null,null,null,null,null,null,null,null,null,null,null,null,"ZZtock",null,null,0,null,"ZZtock",null,null,0,null,"ZZtock",null,null,0]
[null,null,null,null,null,null,null,null,null,null,null,null,null,null,null,null,null,null,null,null,null,null,null,null,null,null,null,null,null,null,null,null,"ZZtock",null,null,0,null,"ZZtock",null,null,0,null,"ZZtock",null,null,0]
[null,null,null,null,null,null,null,null,null,null,null,null,null,null,null,null,null,null,null,null,null,null,null,null,null,null,null,null,null,null,null,null,"ZZtock",null,null,0,null,"ZZtock",null,null,0,null,"ZZtock",null,null,0]
[null,null,null,null,null,null,null,null,null,null,null,null,null,null,null,null,null,null,null,null,null,null,null,null,null,null,null,null,null,null,null,null,"ZZtock",null,null,0,null,"ZZtock",null,null,0,null,"ZZtock",null,null,0]
[null,null,null,null,null,null,null,null,null,null,null,null,null,null,null,null,null,null,null,null,null,null,null,null,null,null,null,null,null,null,null,null,"ZZtock",null,null,0,null,"ZZtock",null,null,0,null,"ZZtock",null,null,0]
[null,null,null,null,null,null,null,null,null,null,null,null,null,null,null,null,null,null,null,null,null,null,null,null,null,null,null,null,null,null,null,null,"ZZtock",null,null,0,null,"ZZtock",null,null,0,null,"ZZtock",null,null,0]
[null,null,null,null,null,null,null,null,null,null,null,null,null,null,null,null,null,null,null,null,null,null,null,null,null,null,null,null,null,null,null,null,"ZZtock",null,null,0,null,"ZZtock",null,null,0,null,"ZZtock",null,null,0]
[null,null,null,null,null,null,null,null,null,null,null,null,null,null,null,null,null,null,null,null,null,null,null,null,null,null,null,null,null,null,null,null,"ZZtock",null,null,0,null,"ZZtock",null,null,0,null,"ZZtock",null,null,0]
[null,null,null,null,null,null,null,null,null,null,null,null,null,null,null,null,null,null,null,null,null,null,null,null,null,null,null,null,null,null,null,null,"ZZtock",null,null,0,null,"ZZtock",null,null,0,null,"ZZtock",null,null,0]
[null,null,null,null,null,null,null,null,null,null,null,null,null,null,null,null,null,null,null,null,null,null,null,null,null,null,null,null,null,null,null,null,"ZZtock",null,null,0,null,"ZZtock",null,null,0,null,"ZZtock",null,null,0]
[null,null,null,null,null,null,null,null,null,null,null,null,null,null,null,null,null,null,null,null,null,null,null,null,null,null,null,null,null,null,null,null,"ZZtock",null,null,0,null,"ZZtock",null,null,0,null,"ZZtock",null,null,0]
[null,null,null,null,null,null,null,null,null,null,null,null,null,null,null,null,null,null,null,null,null,null,null,null,null,null,null,null,null,null,null,null,"ZZtock",null,null,0,null,"ZZtock",null,null,0,null,"ZZtock",null,null,0]
[null,null,null,null,null,null,null,null,null,null,null,null,null,null,null,null,null,null,null,null,null,null,null,null,null,null,null,null,null,null,null,null,"ZZtock",null,null,{"$f":"IF(AI143<>\"\",IF(AI143=\"ZZtock\",0,1),0)","v":0},null,"ZZtock",null,null,{"$f":"IF(AN143<>\"\",IF(AN143=\"ZZtock\",0,1),0)","v":0},null,"ZZtock",null,null,{"$f":"IF(AS143<>\"\",IF(AS143=\"ZZtock\",0,1),0)","v":0}]
[null,null,null,null,null,null,null,null,null,null,null,null,null,null,null,null,null,null,null,null,null,null,null,null,null,null,null,null,null,null,null,null,"ZZtock",null,null,0,null,"ZZtock",null,null,0,null,"ZZtock",null,null,0]
[null,null,null,null,null,null,null,null,null,null,null,null,null,null,null,null,null,null,null,null,null,null,null,null,null,null,null,null,null,null,null,null,"ZZtock",null,null,0,null,"ZZtock",null,null,0,null,"ZZtock",null,null,0]
[null,null,null,null,null,null,null,null,null,null,null,null,null,null,null,null,null,null,null,null,null,null,null,null,null,null,null,null,null,null,null,null,"ZZtock",null,null,0,null,"ZZtock",null,null,0,null,"ZZtock",null,null,0]
[null,null,null,null,null,null,null,null,null,null,null,null,null,null,null,null,null,null,null,null,null,null,null,null,null,null,null,null,null,null,null,null,"ZZtock",null,null,0,null,"ZZtock",null,null,0,null,"ZZtock",null,null,0]
[null,null,null,null,null,null,null,null,null,null,null,null,null,null,null,null,null,null,null,null,null,null,null,null,null,null,null,null,null,null,null,null,"ZZtock",null,null,0,null,"ZZtock",null,null,0,null,"ZZtock",null,null,0]
[null,null,null,null,null,null,null,null,null,null,null,null,null,null,null,null,null,null,null,null,null,null,null,null,null,null,null,null,null,null,null,null,"ZZtock",null,null,0,null,"ZZtock",null,null,0,null,"ZZtock",null,null,0]
[null,null,null,null,null,null,null,null,null,null,null,null,null,null,null,null,null,null,null,null,null,null,null,null,null,null,null,null,null,null,null,null,"ZZtock",null,null,0,null,"ZZtock",null,null,0,null,"ZZtock",null,null,0]
[null,null,null,null,null,null,null,null,null,null,null,null,null,null,null,null,null,null,null,null,null,null,null,null,null,null,null,null,null,null,null,null,"ZZtock",null,null,0,null,"ZZtock",null,null,0,null,"ZZtock",null,null,0]
[null,null,null,null,null,null,null,null,null,null,null,null,null,null,null,null,null,null,null,null,null,null,null,null,null,null,null,null,null,null,null,null,"ZZtock",null,null,0,null,"ZZtock",null,null,0,null,"ZZtock",null,null,0]
[null,null,null,null,null,null,null,null,null,null,null,null,null,null,null,null,null,null,null,null,null,null,null,null,null,null,null,null,null,null,null,null,"ZZtock",null,null,0,null,"ZZtock",null,null,0,null,"ZZtock",null,null,0]
[null,null,null,null,null,null,null,null,null,null,null,null,null,null,null,null,null,null,null,null,null,null,null,null,null,null,null,null,null,null,null,null,"ZZtock",null,null,0,null,"ZZtock",null,null,0,null,"ZZtock",null,null,0]
[null,null,null,null,null,null,null,null,null,null,null,null,null,null,null,null,null,null,null,null,null,null,null,null,null,null,null,null,null,null,null,null,"ZZtock",null,null,0,null,"ZZtock",null,null,0,null,"ZZtock",null,null,0]
[null,null,null,null,null,null,null,null,null,null,null,null,null,null,null,null,null,null,null,null,null,null,null,null,null,null,null,null,null,null,null,null,"ZZtock",null,null,0,null,"ZZtock",null,null,0,null,"ZZtock",null,null,0]
[null,null,null,null,null,null,null,null,null,null,null,null,null,null,null,null,null,null,null,null,null,null,null,null,null,null,null,null,null,null,null,null,"ZZtock",null,null,0,null,"ZZtock",null,null,0,null,"ZZtock",null,null,0]
[null,null,null,null,null,null,null,null,null,null,null,null,null,null,null,null,null,null,null,null,null,null,null,null,null,null,null,null,null,null,null,null,"ZZtock",null,null,0,null,"ZZtock",null,null,0,null,"ZZtock",null,null,0]
[null,null,null,null,null,null,null,null,null,null,null,null,null,null,null,null,null,null,null,null,null,null,null,null,null,null,null,null,null,null,null,null,"ZZtock",null,null,0,null,"ZZtock",null,null,0,null,"ZZtock",null,null,0]
[null,null,null,null,null,null,null,null,null,null,null,null,null,null,null,null,null,null,null,null,null,null,null,null,null,null,null,null,null,null,null,null,"ZZtock",null,null,0,null,"ZZtock",null,null,0,null,"ZZtock",null,null,0]
[null,null,null,null,null,null,null,null,null,null,null,null,null,null,null,null,null,null,null,null,null,null,null,null,null,null,null,null,null,null,null,null,"ZZtock",null,null,0,null,"ZZtock",null,null,0,null,"ZZtock",null,null,0]
[null,null,null,null,null,null,null,null,null,null,null,null,null,null,null,null,null,null,null,null,null,null,null,null,null,null,null,null,null,null,null,null,"ZZtock",null,null,0,null,"ZZtock",null,null,0,null,"ZZtock",null,null,0]
[null,null,null,null,null,null,null,null,null,null,null,null,null,null,null,null,null,null,null,null,null,null,null,null,null,null,null,null,null,null,null,null,"ZZtock",null,null,0,null,"ZZtock",null,null,0,null,"ZZtock",null,null,0]
[null,null,null,null,null,null,null,null,null,null,null,null,null,null,null,null,null,null,null,null,null,null,null,null,null,null,null,null,null,null,null,null,"ZZtock",null,null,0,null,"ZZtock",null,null,0,null,"ZZtock",null,null,0]
[null,null,null,null,null,null,null,null,null,null,null,null,null,null,null,null,null,null,null,null,null,null,null,null,null,null,null,null,null,null,null,null,"ZZtock",null,null,0,null,"ZZtock",null,null,0,null,"ZZtock",null,null,0]
[null,null,null,null,null,null,null,null,null,null,null,null,null,null,null,null,null,null,null,null,null,null,null,null,null,null,null,null,null,null,null,null,"ZZtock",null,null,0,null,"ZZtock",null,null,0,null,"ZZtock",null,null,0]
[null,null,null,null,null,null,null,null,null,null,null,null,null,null,null,null,null,null,null,null,null,null,null,null,null,null,null,null,null,null,null,null,"ZZtock",null,null,0,null,"ZZtock",null,null,0,null,"ZZtock",null,null,0]
[null,null,null,null,null,null,null,null,null,null,null,null,null,null,null,null,null,null,null,null,null,null,null,null,null,null,null,null,null,null,null,null,"ZZtock",null,null,0,null,"ZZtock",null,null,0,null,"ZZtock",null,null,0]
[null,null,null,null,null,null,null,null,null,null,null,null,null,null,null,null,null,null,null,null,null,null,null,null,null,null,null,null,null,null,null,null,"ZZtock",null,null,0,null,"ZZtock",null,null,0,null,"ZZtock",null,null,0]
[null,null,null,null,null,null,null,null,null,null,null,null,null,null,null,null,null,null,null,null,null,null,null,null,null,null,null,null,null,null,null,null,"ZZtock",null,null,0,null,"ZZtock",null,null,0,null,"ZZtock",null,null,0]
[null,null,null,null,null,null,null,null,null,null,null,null,null,null,null,null,null,null,null,null,null,null,null,null,null,null,null,null,null,null,null,null,"ZZtock",null,null,0,null,"ZZtock",null,null,0,null,"ZZtock",null,null,0]
[null,null,null,null,null,null,null,null,null,null,null,null,null,null,null,null,null,null,null,null,null,null,null,null,null,null,null,null,null,null,null,null,"ZZtock",null,null,0,null,"ZZtock",null,null,0,null,"ZZtock",null,null,0]
[null,null,null,null,null,null,null,null,null,null,null,null,null,null,null,null,null,null,null,null,null,null,null,null,null,null,null,null,null,null,null,null,"ZZtock",null,null,0,null,"ZZtock",null,null,0,null,"ZZtock",null,null,0]
[null,null,null,null,null,null,null,null,null,null,null,null,null,null,null,null,null,null,null,null,null,null,null,null,null,null,null,null,null,null,null,null,"ZZtock",null,null,0,null,"ZZtock",null,null,0,null,"ZZtock",null,null,0]
[null,null,null,null,null,null,null,null,null,null,null,null,null,null,null,null,null,null,null,null,null,null,null,null,null,null,null,null,null,null,null,null,"ZZtock",null,null,0,null,"ZZtock",null,null,0,null,"ZZtock",null,null,0]
[null,null,null,null,null,null,null,null,null,null,null,null,null,null,null,null,null,null,null,null,null,null,null,null,null,null,null,null,null,null,null,null,"ZZtock",null,null,0,null,"ZZtock",null,null,0,null,"ZZtock",null,null,0]
[null,null,null,null,null,null,null,null,null,null,null,null,null,null,null,null,null,null,null,null,null,null,null,null,null,null,null,null,null,null,null,null,"ZZtock",null,null,0,null,"ZZtock",null,null,0,null,"ZZtock",null,null,0]

{"sheet":"mf1","index":4,"n_rows":30,"n_cols":5,"rows_kept":30,"cut":false,"hidden":false,"merged":[]}
["quantum tax saving fund"]
[]
["Equity","Sector","Qty","Value","%"]
[null,null,null,"(Rs cr)"]
["Bajaj Auto","Automotive",13010,3.88,7.97]
["HDFC","Banking & Financial Services",23355,3.28,6.75]
["Hero Motocorp","Automotive",9259,3.28,6.74]
["Infosys","Information Technology",26164,2.71,5.57]
["TCS","Information Technology",9549,2.4,4.93]
["Tata Motors","Automotive",41041,2.21,4.54]
["IOC","Oil & Gas",35939,2.0699999999999998,4.25]
["Tata Chemicals","Chemicals",36689,2.04,4.2]
["NTPC","Utilities",119471,1.9,3.91]
["Petronet LNG","Oil & Gas",51985,1.83,3.76]
["SBI","Banking & Financial Services",70661,1.78,3.67]
["ICICI Bank","Banking & Financial Services",65384,1.69,3.47]
["Power Grid Corp","Utilities",86297,1.59,3.26]
["ONGC","Oil & Gas",66894,1.58,3.25]
["Indian Hotels","Services",118267,1.54,3.16]
["Cipla","Pharmaceuticals",26239,1.5,3.09]
["Exide Ind","Automotive",80785,1.5,3.08]
["PTC India","Services",162331,1.37,2.81]
["GAIL","Oil & Gas",32977,1.27,2.6]
["Bharti Airtel","Telecommunication",33566,1.1100000000000001,2.29]
["Larsen","Engineering & Capital Goods",6832,1.03,2.13]
["Wipro","Information Technology",20943,1.03,2.12]
["Tata Steel","Metals & Mining",24741,0.92,1.88]
["Kotak Mahindra","Banking & Financial Services",11093,0.9,1.84]
["Money Market","Rating","Value","%"]
["Collateralised Borrowing & Lending Obligation (CBLO) ","-",3.56,7.31]

{"sheet":"mf2","index":5,"n_rows":32,"n_cols":5,"rows_kept":32,"cut":false,"hidden":false,"merged":[]}
["quantum long term equity"]
[]
["Equity","Sector","Qty","Value","%"]
[null,null,null,"(Rs cr)"]
["Bajaj Auto","Automotive",161859,48.21,8.14]
["Hero Motocorp","Automotive",113355,40.14,6.77]
["HDFC","Banking & Financial Services",284869,40.04,6.76]
["Infosys","Information Technology",319934,33.14,5.59]
["TCS","Information Technology",114709,28.81,4.8600000000000003]
["Tata Motors","Automotive",506070,27.21,4.59]
["IOC","Oil & Gas",429957,24.74,4.18]
["Tata Chemicals","Chemicals",442874,24.63,4.16]
["NTPC","Utilities",1507292,24,4.05]
["SBI","Banking & Financial Services",838432,21.17,3.57]
["ICICI Bank","Banking & Financial Services",807659,20.84,3.52]
["Petronet LNG","Oil & Gas",585666,20.61,3.48]
["Exide Ind","Automotive",1022865,18.95,3.2]
["ONGC","Oil & Gas",790026,18.670000000000002,3.15]
["Indian Hotels","Services",1384725,18.02,3.04]
["Cipla","Pharmaceuticals",293020,16.79,2.83]
["Power Grid Corp","Utilities",913744,16.79,2.83]
["PTC India","Services",1923659,16.2,2.73]
["GAIL","Oil & Gas",394638,15.15,2.56]
["Bharti Airtel","Telecommunication",411320,13.64,2.2999999999999998]
["Wipro","Information Technology",264974,13.03,2.2000000000000002]
["Larsen","Engineering & Capital Goods",83096,12.57,2.12]
["Tata Steel","Metals & Mining",337038,12.47,2.11]
["Kotak Mahindra","Banking & Financial Services",133648,10.78,1.82]
["Money Market","Rating","Value","%"]
["Collateralised Borrowing & Lending Obligation (CBLO) ","-",48.89,8.25]
["Treasury Bills (T-Bill)","-",0.49,0.08]
["364 Days Tbill (MD 24/11/2016)","-",0.49,0.08]

{"sheet":"mf3","index":6,"n_rows":30,"n_cols":5,"rows_kept":30,"cut":false,"hidden":false,"merged":[]}
["quantum tax saving fund"]
[]
["Equity","Sector","Qty","Value","%"]
[null,null,null,"(Rs cr)"]
["Bajaj Auto","Automotive",13010,3.88,7.97]
["HDFC","Banking & Financial Services",23355,3.28,6.75]
["Hero Motocorp","Automotive",9259,3.28,6.74]
["Infosys","Information Technology",26164,2.71,5.57]
["TCS","Information Technology",9549,2.4,4.93]
["Tata Motors","Automotive",41041,2.21,4.54]
["IOC","Oil & Gas",35939,2.0699999999999998,4.25]
["Tata Chemicals","Chemicals",36689,2.04,4.2]
["NTPC","Utilities",119471,1.9,3.91]
["Petronet LNG","Oil & Gas",51985,1.83,3.76]
["SBI","Banking & Financial Services",70661,1.78,3.67]
["ICICI Bank","Banking & Financial Services",65384,1.69,3.47]
["Power Grid Corp","Utilities",86297,1.59,3.26]
["ONGC","Oil & Gas",66894,1.58,3.25]
["Indian Hotels","Services",118267,1.54,3.16]
["Cipla","Pharmaceuticals",26239,1.5,3.09]
["Exide Ind","Automotive",80785,1.5,3.08]
["PTC India","Services",162331,1.37,2.81]
["GAIL","Oil & Gas",32977,1.27,2.6]
["Bharti Airtel","Telecommunication",33566,1.1100000000000001,2.29]
["Larsen","Engineering & Capital Goods",6832,1.03,2.13]
["Wipro","Information Technology",20943,1.03,2.12]
["Tata Steel","Metals & Mining",24741,0.92,1.88]
["Kotak Mahindra","Banking & Financial Services",11093,0.9,1.84]
["Money Market","Rating","Value","%"]
["Collateralised Borrowing & Lending Obligation (CBLO) ","-",3.56,7.31]

{"sheet":"temp","index":7,"n_rows":333,"n_cols":5,"rows_kept":333,"cut":false,"hidden":false,"merged":[]}
["Hindi"]
["|"]
["App "]
["|"]
["Subscriptions "]
["|"]
["Specials "]
["Game changers"]
["Power your trade"]
["gamechangers"]
["Game changers"]
[null,"Grow My Money","Tech Control","Tech Control"]
["Gujarati"]
["NAVs"]
["Quotes"]
["NAVs"]
["Commodities"]
["Futures"]
["News"]
["Messages"]
["Notices"]
["Videos"]
["All"]
["Sign in"]
["|"]
["Register"]
["|"]
["Feedback"]
["|"]
["Sign out"]
["|"]
["Feedback"]
["Profile "]
["Portfolio"]
["Watchlist"]
["Messages"]
["Alerts"]
["Keep me signed in"]
["Forgot password?"]
["connect with"]
["Don’t have an account?"]
["Create One"]
["New to Moneycontrol - Sign up now"]
["Its easy and FREE!"]
["Username"]
["Username should be atleast 4 characters"]
["Password"]
["Password should be 6-10 characters"]
["Confirm Password"]
["Email"]
["OR connect with"]
["News"]
["Markets"]
["Mutual Funds"]
["Commodities"]
["Property"]
["Personal Finance"]
["Portfolio"]
["Forum"]
["Live TV"]
["TV18"]
["Home"]
["Learn"]
["Evaluate"]
["Buy"]
["Track"]
["Tools"]
["Interact"]
["ETFs"]
["Investment Watch "]
["PowerYourTrade"]
["Apps"]
["MasterYourMoney"]
["Radar Help"]
["A Quick View"]
["Stocks in news"]
["Stocks you last visited"]
["Watchlist"]
["Portfolio"]
["Customize Stack 1 Customize Stack 2 Customize Stack 3 Customize Stack 4"]
["Customize"]
["Customize Stacks"]
["Customize Ticker"]
["Detach"]
["Recommendations"]
["1+1=11.Multiply your wealth now with multibaggers from poweryourtrade.com Subscribe Now"]
["Power Your Trade"]
["MC_Recommendations"]
["Quick View"]
["Customize Stacks Customize Ticker Detach Help Feedback"]
["Stocks in News"]
["Stocks Last Visited"]
["Watchlist"]
["Portfolio"]
["SENSEX NIFTY "]
[]
["You are here : Moneycontrol > Mutual Funds > ELSS > Quantum Mutual Fund > Quantum Tax Saving Fund (G) "]
[]
["Quantum Tax Saving Fund (G)"]
[]
["PLAN: Regular OPTIONS: Growth"]
["More Plan & Options"]
["Regular"]
["Quantum Tax Saving Fund (D)"]
["45.380 0 (0.00%)"]
["NAV as on 10 Oct, 2016"]
["CRISIL MF RANK"]
["Not Ranked"]
["Riskometer"]
["MODERATELY HIGH "]
["MODERATELY HIGH"]
["Principal at moderately high risk."]
["Set SMS Alert"]
["Buy"]
["FUND FAMILY : Quantum Mutual Fund FUND CLASS : ELSS"]
["Add to watchlist"]
["OR"]
["Add to Portfolio"]
["Optional"]
["Optional"]
["Optional"]
["Optional"]
["Add SIP"]
["Add to Watchist"]
["close[x]"]
["Have you invested in these stocks? You can track them better in your Portfolio"]
["Edit Watchlist"]
[]
["Login to moneycontrol.com"]
["x"]
["Existing Members, Login"]
["Keep me signed in"]
["Forgot Password?"]
["New to Moneycontrol - Sign up now"]
["Its easy and FREE!"]
["Username"]
["Username should be atleast 4 characters"]
["Password"]
["Password should be 6 to 10 characters"]
["Confirm Password"]
["Email"]
["OR connect with"]
["SNAPSHOT"]
["SNAPSHOT"]
["Performance"]
["Returns Calculator"]
["SIP Calculator"]
["Historic Graph"]
["Investment Info"]
["Overview"]
["Scheme Assets"]
["Dividend History"]
["Peers"]
["Competition"]
["NAV Details"]
["Performance Returns"]
["Performance Ranks"]
["Portfolio"]
["Overview"]
["Holdings"]
["Sector Allocation"]
["Asset Breakup"]
["News and Videos"]
["News Videos"]
[]
["Portfolio Holdings (Aug 31, 2016)"]
[]
["Equity","Sector","Qty","Value","%"]
[null,null,null,"(Rs cr)"]
["Bajaj Auto","Automotive",13010,3.88,7.97]
["HDFC","Banking & Financial Services",23355,3.28,6.75]
["Hero Motocorp","Automotive",9259,3.28,6.74]
["Infosys","Information Technology",26164,2.71,5.57]
["TCS","Information Technology",9549,2.4,4.93]
["Tata Motors","Automotive",41041,2.21,4.54]
["IOC","Oil & Gas",35939,2.0699999999999998,4.25]
["Tata Chemicals","Chemicals",36689,2.04,4.2]
["NTPC","Utilities",119471,1.9,3.91]
["Petronet LNG","Oil & Gas",51985,1.83,3.76]
["SBI","Banking & Financial Services",70661,1.78,3.67]
["ICICI Bank","Banking & Financial Services",65384,1.69,3.47]
["Power Grid Corp","Utilities",86297,1.59,3.26]
["ONGC","Oil & Gas",66894,1.58,3.25]
["Indian Hotels","Services",118267,1.54,3.16]
["Cipla","Pharmaceuticals",26239,1.5,3.09]
["Exide Ind","Automotive",80785,1.5,3.08]
["PTC India","Services",162331,1.37,2.81]
["GAIL","Oil & Gas",32977,1.27,2.6]
["Bharti Airtel","Telecommunication",33566,1.1100000000000001,2.29]
["Larsen","Engineering & Capital Goods",6832,1.03,2.13]
["Wipro","Information Technology",20943,1.03,2.12]
["Tata Steel","Metals & Mining",24741,0.92,1.88]
["Kotak Mahindra","Banking & Financial Services",11093,0.9,1.84]
["Money Market","Rating","Value","%"]
["Collateralised Borrowing & Lending Obligation (CBLO) ","-",3.56,7.31]
[]
["Related Searches"]
["Quantum Tax Saving Fund (G) Growth , Quantum Tax Saving Fund (G) Performance, Quantum Tax Saving Fund (G) NAV, Quantum Tax Saving Fund (G) Returns, Quantum Tax Saving Fund (G) Dividend History, Portfolio Of Quantum Tax Saving Fund (G) More »"]
["Quick Links"]
["Performance"]
["Scheme Returns"]
["Historic NAV Chart"]
["Returns Calculator"]
["SIP Calculator"]
["Investment Info"]
["Scheme Details"]
["Scheme Assets"]
["Dividend History"]
["News & Videos"]
["Peers"]
["Peer Comparison"]
["NAV Details"]
["Performance Returns"]
["Performance Ranks"]
["Portfolio"]
["Top Holdings"]
["Sector Allocation"]
["Asset Breakup"]
["Tools"]
["Top Performing Funds"]
["Find your Fund"]
["SIP Planner"]
["Sectors attracting Fund Managers"]
["What MFs are buying/selling?"]
["Compare funds"]
["Follow moneycontrol"]
["Facebook Twitter Google Plus RSS Wap SMS SMS Alert iPad iPhone Blackberry OVI Android Window Windows 8"]
["Explore Moneycontrol"]
["STOCKS"]
["A"]
["B"]
["C"]
["D"]
["E"]
["F"]
["G"]
["H"]
["I"]
["J"]
["K"]
["L"]
["M"]
["N"]
["O"]
["P"]
["Q"]
["R"]
["S"]
["T"]
["U"]
["V"]
["W"]
["X"]
["Y"]
["Z"]
["Others"]
["MUTUAL FUNDS"]
["A"]
["B"]
["C"]
["D"]
["E"]
["F"]
["G"]
["H"]
["I"]
["J"]
["K"]
["L"]
["M"]
["N"]
["O"]
["P"]
["Q"]
["R"]
["S"]
["T"]
["U"]
["V"]
["W"]
["X"]
["Y"]
["Z"]
["Live Sensex"]
["Public Sector Banks"]
["Market Statistics"]
["Plan Insurance"]
["Global Market"]
["Business News"]
["Mutual Fund"]
["Best Portfolio Manager"]
["Bse Sensex"]
["Nse Nifty"]
["Commodities Price"]
["Silver Price/Rate in India"]
["Gold Price/Rate in India"]
["Crude Oil"]
["USD to INR"]
["Bank Fixed Deposits"]
["Company Fixed Deposits"]
["Small Savings Schemes"]
["Bonds"]
["Budget: 2011, 2012, 2013, 2014, 2015 | Budget 2016"]
["RBI Credit Policy"]
["News Archive"]
["Financial Glossary"]
["Message Board"]
["Moneybhai"]
["Think India"]
["History India"]
["Latest News"]
["IBNLive News"]
["News in Hindi"]
["Cricket News"]
["Breaking News"]
["India News Hindi"]
["Paper Peek Exam Special"]
["CBSE Sample Papers"]
["India News"]
["Online Shopping in India"]
["Cairn India"]
["Euro"]
["Infosys"]
["Inflation"]
["Silver"]
["Glenmark Pharmaceuticals"]
["Snapdeal"]
["Starbucks"]
["Narendra Modi"]
["Crore"]
["Rss Feeds"]
["Site Map  |  About Us  |  Contact Us  |  Feedback  |  Advertise  |  Bookmark  |  Disclaimer  |  Privacy Statement  |  Terms of Use  |  Careers"]
["Copyright © e-Eighteen.com Ltd. All rights reserved. Reproduction of news articles, photos, videos or any other content in whole or in part in any form or medium without express written permission of moneycontrol.com is prohibited."]

{"sheet":"temp2","index":8,"n_rows":333,"n_cols":5,"rows_kept":333,"cut":false,"hidden":false,"merged":[]}
["Hindi"]
["|"]
["App "]
["|"]
["Subscriptions "]
["|"]
["Specials "]
["Game changers"]
["Power your trade"]
["gamechangers"]
["Game changers"]
[null,"Grow My Money","Tech Control","Tech Control"]
["Gujarati"]
["NAVs"]
["Quotes"]
["NAVs"]
["Commodities"]
["Futures"]
["News"]
["Messages"]
["Notices"]
["Videos"]
["All"]
["Sign in"]
["|"]
["Register"]
["|"]
["Feedback"]
["|"]
["Sign out"]
["|"]
["Feedback"]
["Profile "]
["Portfolio"]
["Watchlist"]
["Messages"]
["Alerts"]
["Keep me signed in"]
["Forgot password?"]
["connect with"]
["Don’t have an account?"]
["Create One"]
["New to Moneycontrol - Sign up now"]
["Its easy and FREE!"]
["Username"]
["Username should be atleast 4 characters"]
["Password"]
["Password should be 6-10 characters"]
["Confirm Password"]
["Email"]
["OR connect with"]
["News"]
["Markets"]
["Mutual Funds"]
["Commodities"]
["Property"]
["Personal Finance"]
["Portfolio"]
["Forum"]
["Live TV"]
["TV18"]
["Home"]
["Learn"]
["Evaluate"]
["Buy"]
["Track"]
["Tools"]
["Interact"]
["ETFs"]
["Investment Watch "]
["PowerYourTrade"]
["Apps"]
["MasterYourMoney"]
["Radar Help"]
["A Quick View"]
["Stocks in news"]
["Stocks you last visited"]
["Watchlist"]
["Portfolio"]
["Customize Stack 1 Customize Stack 2 Customize Stack 3 Customize Stack 4"]
["Customize"]
["Customize Stacks"]
["Customize Ticker"]
["Detach"]
["Recommendations"]
["1+1=11.Multiply your wealth now with multibaggers from poweryourtrade.com Subscribe Now"]
["Power Your Trade"]
["MC_Recommendations"]
["Quick View"]
["Customize Stacks Customize Ticker Detach Help Feedback"]
["Stocks in News"]
["Stocks Last Visited"]
["Watchlist"]
["Portfolio"]
["SENSEX NIFTY "]
[]
["You are here : Moneycontrol > Mutual Funds > ELSS > Quantum Mutual Fund > Quantum Tax Saving Fund (G) "]
[]
["Quantum Tax Saving Fund (G)"]
[]
["PLAN: Regular OPTIONS: Growth"]
["More Plan & Options"]
["Regular"]
["Quantum Tax Saving Fund (D)"]
["45.380 0 (0.00%)"]
["NAV as on 10 Oct, 2016"]
["CRISIL MF RANK"]
["Not Ranked"]
["Riskometer"]
["MODERATELY HIGH "]
["MODERATELY HIGH"]
["Principal at moderately high risk."]
["Set SMS Alert"]
["Buy"]
["FUND FAMILY : Quantum Mutual Fund FUND CLASS : ELSS"]
["Add to watchlist"]
["OR"]
["Add to Portfolio"]
["Optional"]
["Optional"]
["Optional"]
["Optional"]
["Add SIP"]
["Add to Watchist"]
["close[x]"]
["Have you invested in these stocks? You can track them better in your Portfolio"]
["Edit Watchlist"]
[]
["Login to moneycontrol.com"]
["x"]
["Existing Members, Login"]
["Keep me signed in"]
["Forgot Password?"]
["New to Moneycontrol - Sign up now"]
["Its easy and FREE!"]
["Username"]
["Username should be atleast 4 characters"]
["Password"]
["Password should be 6 to 10 characters"]
["Confirm Password"]
["Email"]
["OR connect with"]
["SNAPSHOT"]
["SNAPSHOT"]
["Performance"]
["Returns Calculator"]
["SIP Calculator"]
["Historic Graph"]
["Investment Info"]
["Overview"]
["Scheme Assets"]
["Dividend History"]
["Peers"]
["Competition"]
["NAV Details"]
["Performance Returns"]
["Performance Ranks"]
["Portfolio"]
["Overview"]
["Holdings"]
["Sector Allocation"]
["Asset Breakup"]
["News and Videos"]
["News Videos"]
[]
["Portfolio Holdings (Aug 31, 2016)"]
[]
["Equity","Sector","Qty","Value","%"]
[null,null,null,"(Rs cr)"]
["Bajaj Auto","Automotive",13010,3.88,7.97]
["HDFC","Banking & Financial Services",23355,3.28,6.75]
["Hero Motocorp","Automotive",9259,3.28,6.74]
["Infosys","Information Technology",26164,2.71,5.57]
["TCS","Information Technology",9549,2.4,4.93]
["Tata Motors","Automotive",41041,2.21,4.54]
["IOC","Oil & Gas",35939,2.0699999999999998,4.25]
["Tata Chemicals","Chemicals",36689,2.04,4.2]
["NTPC","Utilities",119471,1.9,3.91]
["Petronet LNG","Oil & Gas",51985,1.83,3.76]
["SBI","Banking & Financial Services",70661,1.78,3.67]
["ICICI Bank","Banking & Financial Services",65384,1.69,3.47]
["Power Grid Corp","Utilities",86297,1.59,3.26]
["ONGC","Oil & Gas",66894,1.58,3.25]
["Indian Hotels","Services",118267,1.54,3.16]
["Cipla","Pharmaceuticals",26239,1.5,3.09]
["Exide Ind","Automotive",80785,1.5,3.08]
["PTC India","Services",162331,1.37,2.81]
["GAIL","Oil & Gas",32977,1.27,2.6]
["Bharti Airtel","Telecommunication",33566,1.1100000000000001,2.29]
["Larsen","Engineering & Capital Goods",6832,1.03,2.13]
["Wipro","Information Technology",20943,1.03,2.12]
["Tata Steel","Metals & Mining",24741,0.92,1.88]
["Kotak Mahindra","Banking & Financial Services",11093,0.9,1.84]
["Money Market","Rating","Value","%"]
["Collateralised Borrowing & Lending Obligation (CBLO) ","-",3.56,7.31]
[]
["Related Searches"]
["Quantum Tax Saving Fund (G) Growth , Quantum Tax Saving Fund (G) Performance, Quantum Tax Saving Fund (G) NAV, Quantum Tax Saving Fund (G) Returns, Quantum Tax Saving Fund (G) Dividend History, Portfolio Of Quantum Tax Saving Fund (G) More »"]
["Quick Links"]
["Performance"]
["Scheme Returns"]
["Historic NAV Chart"]
["Returns Calculator"]
["SIP Calculator"]
["Investment Info"]
["Scheme Details"]
["Scheme Assets"]
["Dividend History"]
["News & Videos"]
["Peers"]
["Peer Comparison"]
["NAV Details"]
["Performance Returns"]
["Performance Ranks"]
["Portfolio"]
["Top Holdings"]
["Sector Allocation"]
["Asset Breakup"]
["Tools"]
["Top Performing Funds"]
["Find your Fund"]
["SIP Planner"]
["Sectors attracting Fund Managers"]
["What MFs are buying/selling?"]
["Compare funds"]
["Follow moneycontrol"]
["Facebook Twitter Google Plus RSS Wap SMS SMS Alert iPad iPhone Blackberry OVI Android Window Windows 8"]
["Explore Moneycontrol"]
["STOCKS"]
["A"]
["B"]
["C"]
["D"]
["E"]
["F"]
["G"]
["H"]
["I"]
["J"]
["K"]
["L"]
["M"]
["N"]
["O"]
["P"]
["Q"]
["R"]
["S"]
["T"]
["U"]
["V"]
["W"]
["X"]
["Y"]
["Z"]
["Others"]
["MUTUAL FUNDS"]
["A"]
["B"]
["C"]
["D"]
["E"]
["F"]
["G"]
["H"]
["I"]
["J"]
["K"]
["L"]
["M"]
["N"]
["O"]
["P"]
["Q"]
["R"]
["S"]
["T"]
["U"]
["V"]
["W"]
["X"]
["Y"]
["Z"]
["Live Sensex"]
["Public Sector Banks"]
["Market Statistics"]
["Plan Insurance"]
["Global Market"]
["Business News"]
["Mutual Fund"]
["Best Portfolio Manager"]
["Bse Sensex"]
["Nse Nifty"]
["Commodities Price"]
["Silver Price/Rate in India"]
["Gold Price/Rate in India"]
["Crude Oil"]
["USD to INR"]
["Bank Fixed Deposits"]
["Company Fixed Deposits"]
["Small Savings Schemes"]
["Bonds"]
["Budget: 2011, 2012, 2013, 2014, 2015 | Budget 2016"]
["RBI Credit Policy"]
["News Archive"]
["Financial Glossary"]
["Message Board"]
["Moneybhai"]
["Think India"]
["History India"]
["Latest News"]
["IBNLive News"]
["News in Hindi"]
["Cricket News"]
["Breaking News"]
["India News Hindi"]
["Paper Peek Exam Special"]
["CBSE Sample Papers"]
["India News"]
["Online Shopping in India"]
["Cairn India"]
["Euro"]
["Infosys"]
["Inflation"]
["Silver"]
["Glenmark Pharmaceuticals"]
["Snapdeal"]
["Starbucks"]
["Narendra Modi"]
["Crore"]
["Rss Feeds"]
["Site Map  |  About Us  |  Contact Us  |  Feedback  |  Advertise  |  Bookmark  |  Disclaimer  |  Privacy Statement  |  Terms of Use  |  Careers"]
["Copyright © e-Eighteen.com Ltd. All rights reserved. Reproduction of news articles, photos, videos or any other content in whole or in part in any form or medium without express written permission of moneycontrol.com is prohibited."]

{"sheet":"common","index":9,"n_rows":100,"n_cols":5,"rows_kept":100,"cut":false,"hidden":false,"merged":[]}
["Bajaj Auto",null,null,null,"Bajaj Auto"]
["HDFC",null,null,null,"Bharti Airtel"]
["Hero Motocorp",null,null,null,"Cipla"]
["Infosys",null,null,null,"Exide Ind"]
["TCS",null,null,null,"GAIL"]
["Tata Motors",null,null,null,"HDFC"]
["IOC",null,null,null,"Hero Motocorp"]
["Tata Chemicals",null,null,null,"ICICI Bank"]
["NTPC",null,null,null,"Indian Hotels"]
["Petronet LNG",null,null,null,"Infosys"]
["SBI",null,null,null,"IOC"]
["ICICI Bank",null,null,null,"Kotak Mahindra"]
["Power Grid Corp",null,null,null,"Larsen"]
["ONGC",null,null,null,"NTPC"]
["Indian Hotels",null,null,null,"ONGC"]
["Cipla",null,null,null,"Petronet LNG"]
["Exide Ind",null,null,null,"Power Grid Corp"]
["PTC India",null,null,null,"PTC India"]
["GAIL",null,null,null,"SBI"]
["Bharti Airtel",null,null,null,"Tata Chemicals"]
["Larsen",null,null,null,"Tata Motors"]
["Wipro",null,null,null,"Tata Steel"]
["Tata Steel",null,null,null,"TCS"]
["Kotak Mahindra",null,null,null,"Wipro"]
["ZZtock",null,null,null,"ZZtock"]
["ZZtock",null,null,null,"ZZtock"]
["ZZtock",null,null,null,"ZZtock"]
["ZZtock",null,null,null,"ZZtock"]
["ZZtock",null,null,null,"ZZtock"]
["ZZtock",null,null,null,"ZZtock"]
["ZZtock",null,null,null,"ZZtock"]
["ZZtock",null,null,null,"ZZtock"]
["ZZtock",null,null,null,"ZZtock"]
["ZZtock",null,null,null,"ZZtock"]
["ZZtock",null,null,null,"ZZtock"]
["ZZtock",null,null,null,"ZZtock"]
["ZZtock",null,null,null,"ZZtock"]
["ZZtock",null,null,null,"ZZtock"]
["ZZtock",null,null,null,"ZZtock"]
["ZZtock",null,null,null,"ZZtock"]
["ZZtock",null,null,null,"ZZtock"]
["ZZtock",null,null,null,"ZZtock"]
["ZZtock",null,null,null,"ZZtock"]
["ZZtock",null,null,null,"ZZtock"]
["ZZtock",null,null,null,"ZZtock"]
["ZZtock",null,null,null,"ZZtock"]
["ZZtock",null,null,null,"ZZtock"]
["ZZtock",null,null,null,"ZZtock"]
["ZZtock",null,null,null,"ZZtock"]
["ZZtock",null,null,null,"ZZtock"]
["ZZtock",null,null,null,"ZZtock"]
["ZZtock",null,null,null,"ZZtock"]
["ZZtock",null,null,null,"ZZtock"]
["ZZtock",null,null,null,"ZZtock"]
["ZZtock",null,null,null,"ZZtock"]
["ZZtock",null,null,null,"ZZtock"]
["ZZtock",null,null,null,"ZZtock"]
["ZZtock",null,null,null,"ZZtock"]
["ZZtock",null,null,null,"ZZtock"]
["ZZtock",null,null,null,"ZZtock"]
["ZZtock",null,null,null,"ZZtock"]
["ZZtock",null,null,null,"ZZtock"]
["ZZtock",null,null,null,"ZZtock"]
["ZZtock",null,null,null,"ZZtock"]
["ZZtock",null,null,null,"ZZtock"]
["ZZtock",null,null,null,"ZZtock"]
["ZZtock",null,null,null,"ZZtock"]
["ZZtock",null,null,null,"ZZtock"]
["ZZtock",null,null,null,"ZZtock"]
["ZZtock",null,null,null,"ZZtock"]
["ZZtock",null,null,null,"ZZtock"]
["ZZtock",null,null,null,"ZZtock"]
["ZZtock",null,null,null,"ZZtock"]
["ZZtock",null,null,null,"ZZtock"]
["ZZtock",null,null,null,"ZZtock"]
["ZZtock",null,null,null,"ZZtock"]
["ZZtock",null,null,null,"ZZtock"]
["ZZtock",null,null,null,"ZZtock"]
["ZZtock",null,null,null,"ZZtock"]
["ZZtock",null,null,null,"ZZtock"]
["ZZtock",null,null,null,"ZZtock"]
["ZZtock",null,null,null,"ZZtock"]
["ZZtock",null,null,null,"ZZtock"]
["ZZtock",null,null,null,"ZZtock"]
["ZZtock",null,null,null,"ZZtock"]
["ZZtock",null,null,null,"ZZtock"]
["ZZtock",null,null,null,"ZZtock"]
["ZZtock",null,null,null,"ZZtock"]
["ZZtock",null,null,null,"ZZtock"]
["ZZtock",null,null,null,"ZZtock"]
["ZZtock",null,null,null,"ZZtock"]
["ZZtock",null,null,null,"ZZtock"]
["ZZtock",null,null,null,"ZZtock"]
["ZZtock",null,null,null,"ZZtock"]
["ZZtock",null,null,null,"ZZtock"]
["ZZtock",null,null,null,"ZZtock"]
["ZZtock",null,null,null,"ZZtock"]
["ZZtock",null,null,null,"ZZtock"]
["ZZtock",null,null,null,"ZZtock"]
["ZZtock",null,null,null,"ZZtock"]

{"sheet":"Sheet1","index":10,"n_rows":205,"n_cols":25,"rows_kept":205,"cut":false,"hidden":false,"merged":[]}
["mf1",{"$f":"'Results-simple'!H10","v":28},null,"mf2",{"$f":"'Results-simple'!H11","v":28},null,null,"mf3",{"$f":"'Results-simple'!H12","v":28},null,null,"Bajaj Auto",null,"Bajaj Auto",{"$f":"IF(N1<>\"\",1,0)","v":1},null,"Bajaj Auto",null,"Bajaj Auto",{"$f":"IF(S1<>\"\",1,0)","v":1},null,"Bajaj Auto",null,"Bajaj Auto",{"$f":"IF(X1<>\"\",1,0)","v":1}]
[{"$f":"IF(ROW('mf1'!A5)<=Sheet1!$B$1,'mf1'!A5,\"\")","v":"Bajaj Auto"},null,null,{"$f":"IF(ROW('mf2'!A5)<=Sheet1!$E$1,'mf2'!A5,\"\")","v":"Bajaj Auto"},null,null,null,{"$f":"IF(ROW('mf3'!A5)<=Sheet1!$I$1,'mf3'!A5,\"\")","v":"Bajaj Auto"},null,null,null,"HDFC",null,"HDFC",{"$f":"IF(N2<>\"\",1,0)","v":1},null,"Hero Motocorp",null,"Hero Motocorp",{"$f":"IF(S2<>\"\",1,0)","v":1},null,"HDFC",null,"HDFC",{"$f":"IF(X2<>\"\",1,0)","v":1}]
[{"$f":"IF(ROW('mf1'!A6)<=Sheet1!$B$1,'mf1'!A6,\"\")","v":"HDFC"},null,null,{"$f":"IF(ROW('mf2'!A6)<=Sheet1!$E$1,'mf2'!A6,\"\")","v":"Hero Motocorp"},null,null,null,{"$f":"IF(ROW('mf3'!A6)<=Sheet1!$I$1,'mf3'!A6,\"\")","v":"HDFC"},null,null,null,"Hero Motocorp",null,"Hero Motocorp",1,null,"HDFC",null,"HDFC",1,null,"Hero Motocorp",null,"Hero Motocorp",1]
[{"$f":"IF(ROW('mf1'!A7)<=Sheet1!$B$1,'mf1'!A7,\"\")","v":"Hero Motocorp"},null,null,{"$f":"IF(ROW('mf2'!A7)<=Sheet1!$E$1,'mf2'!A7,\"\")","v":"HDFC"},null,null,null,{"$f":"IF(ROW('mf3'!A7)<=Sheet1!$I$1,'mf3'!A7,\"\")","v":"Hero Motocorp"},null,null,null,"Infosys",null,"Infosys",1,null,"Infosys",null,"Infosys",1,null,"Infosys",null,"Infosys",1]
[{"$f":"IF(ROW('mf1'!A8)<=Sheet1!$B$1,'mf1'!A8,\"\")","v":"Infosys"},null,null,{"$f":"IF(ROW('mf2'!A8)<=Sheet1!$E$1,'mf2'!A8,\"\")","v":"Infosys"},null,null,null,{"$f":"IF(ROW('mf3'!A8)<=Sheet1!$I$1,'mf3'!A8,\"\")","v":"Infosys"},null,null,null,"TCS",null,"TCS",1,null,"TCS",null,"TCS",1,null,"TCS",null,"TCS",1]
[{"$f":"IF(ROW('mf1'!A9)<=Sheet1!$B$1,'mf1'!A9,\"\")","v":"TCS"},null,null,{"$f":"IF(ROW('mf2'!A9)<=Sheet1!$E$1,'mf2'!A9,\"\")","v":"TCS"},null,null,null,{"$f":"IF(ROW('mf3'!A9)<=Sheet1!$I$1,'mf3'!A9,\"\")","v":"TCS"},null,null,null,"Tata Motors",null,"Tata Motors",1,null,"Tata Motors",null,"Tata Motors",1,null,"Tata Motors",null,"Tata Motors",1]
[{"$f":"IF(ROW('mf1'!A10)<=Sheet1!$B$1,'mf1'!A10,\"\")","v":"Tata Motors"},null,null,{"$f":"IF(ROW('mf2'!A10)<=Sheet1!$E$1,'mf2'!A10,\"\")","v":"Tata Motors"},null,null,null,{"$f":"IF(ROW('mf3'!A10)<=Sheet1!$I$1,'mf3'!A10,\"\")","v":"Tata Motors"},null,null,null,"IOC",null,"IOC",1,null,"IOC",null,"IOC",1,null,"IOC",null,"IOC",1]
[{"$f":"IF(ROW('mf1'!A11)<=Sheet1!$B$1,'mf1'!A11,\"\")","v":"IOC"},null,null,{"$f":"IF(ROW('mf2'!A11)<=Sheet1!$E$1,'mf2'!A11,\"\")","v":"IOC"},null,null,null,{"$f":"IF(ROW('mf3'!A11)<=Sheet1!$I$1,'mf3'!A11,\"\")","v":"IOC"},null,null,null,"Tata Chemicals",null,"Tata Chemicals",1,null,"Tata Chemicals",null,"Tata Chemicals",1,null,"Tata Chemicals",null,"Tata Chemicals",1]
[{"$f":"IF(ROW('mf1'!A12)<=Sheet1!$B$1,'mf1'!A12,\"\")","v":"Tata Chemicals"},null,null,{"$f":"IF(ROW('mf2'!A12)<=Sheet1!$E$1,'mf2'!A12,\"\")","v":"Tata Chemicals"},null,null,null,{"$f":"IF(ROW('mf3'!A12)<=Sheet1!$I$1,'mf3'!A12,\"\")","v":"Tata Chemicals"},null,null,null,"NTPC",null,"NTPC",1,null,"NTPC",null,"NTPC",1,null,"NTPC",null,"NTPC",1]
[{"$f":"IF(ROW('mf1'!A13)<=Sheet1!$B$1,'mf1'!A13,\"\")","v":"NTPC"},null,null,{"$f":"IF(ROW('mf2'!A13)<=Sheet1!$E$1,'mf2'!A13,\"\")","v":"NTPC"},null,null,null,{"$f":"IF(ROW('mf3'!A13)<=Sheet1!$I$1,'mf3'!A13,\"\")","v":"NTPC"},null,null,null,"Petronet LNG",null,"Petronet LNG",1,null,"SBI",null,"SBI",1,null,"Petronet LNG",null,"Petronet LNG",1]
[{"$f":"IF(ROW('mf1'!A14)<=Sheet1!$B$1,'mf1'!A14,\"\")","v":"Petronet LNG"},null,null,{"$f":"IF(ROW('mf2'!A14)<=Sheet1!$E$1,'mf2'!A14,\"\")","v":"SBI"},null,null,null,{"$f":"IF(ROW('mf3'!A14)<=Sheet1!$I$1,'mf3'!A14,\"\")","v":"Petronet LNG"},null,null,null,"SBI",null,"SBI",1,null,"ICICI Bank",null,"ICICI Bank",1,null,"SBI",null,"SBI",1]
[{"$f":"IF(ROW('mf1'!A15)<=Sheet1!$B$1,'mf1'!A15,\"\")","v":"SBI"},null,null,{"$f":"IF(ROW('mf2'!A15)<=Sheet1!$E$1,'mf2'!A15,\"\")","v":"ICICI Bank"},null,null,null,{"$f":"IF(ROW('mf3'!A15)<=Sheet1!$I$1,'mf3'!A15,\"\")","v":"SBI"},null,null,null,"ICICI Bank",null,"ICICI Bank",1,null,"Petronet LNG",null,"Petronet LNG",1,null,"ICICI Bank",null,"ICICI Bank",1]
[{"$f":"IF(ROW('mf1'!A16)<=Sheet1!$B$1,'mf1'!A16,\"\")","v":"ICICI Bank"},null,null,{"$f":"IF(ROW('mf2'!A16)<=Sheet1!$E$1,'mf2'!A16,\"\")","v":"Petronet LNG"},null,null,null,{"$f":"IF(ROW('mf3'!A16)<=Sheet1!$I$1,'mf3'!A16,\"\")","v":"ICICI Bank"},null,null,null,"Power Grid Corp",null,"Power Grid Corp",1,null,"Exide Ind",null,"Exide Ind",1,null,"Power Grid Corp",null,"Power Grid Corp",1]
[{"$f":"IF(ROW('mf1'!A17)<=Sheet1!$B$1,'mf1'!A17,\"\")","v":"Power Grid Corp"},null,null,{"$f":"IF(ROW('mf2'!A17)<=Sheet1!$E$1,'mf2'!A17,\"\")","v":"Exide Ind"},null,null,null,{"$f":"IF(ROW('mf3'!A17)<=Sheet1!$I$1,'mf3'!A17,\"\")","v":"Power Grid Corp"},null,null,null,"ONGC",null,"ONGC",1,null,"ONGC",null,"ONGC",1,null,"ONGC",null,"ONGC",1]
[{"$f":"IF(ROW('mf1'!A18)<=Sheet1!$B$1,'mf1'!A18,\"\")","v":"ONGC"},null,null,{"$f":"IF(ROW('mf2'!A18)<=Sheet1!$E$1,'mf2'!A18,\"\")","v":"ONGC"},null,null,null,{"$f":"IF(ROW('mf3'!A18)<=Sheet1!$I$1,'mf3'!A18,\"\")","v":"ONGC"},null,null,null,"Indian Hotels",null,"Indian Hotels",1,null,"Indian Hotels",null,"Indian Hotels",1,null,"Indian Hotels",null,"Indian Hotels",1]
[{"$f":"IF(ROW('mf1'!A19)<=Sheet1!$B$1,'mf1'!A19,\"\")","v":"Indian Hotels"},null,null,{"$f":"IF(ROW('mf2'!A19)<=Sheet1!$E$1,'mf2'!A19,\"\")","v":"Indian Hotels"},null,null,null,{"$f":"IF(ROW('mf3'!A19)<=Sheet1!$I$1,'mf3'!A19,\"\")","v":"Indian Hotels"},null,null,null,"Cipla",null,"Cipla",1,null,"Cipla",null,"Cipla",1,null,"Cipla",null,"Cipla",1]
[{"$f":"IF(ROW('mf1'!A20)<=Sheet1!$B$1,'mf1'!A20,\"\")","v":"Cipla"},null,null,{"$f":"IF(ROW('mf2'!A20)<=Sheet1!$E$1,'mf2'!A20,\"\")","v":"Cipla"},null,null,null,{"$f":"IF(ROW('mf3'!A20)<=Sheet1!$I$1,'mf3'!A20,\"\")","v":"Cipla"},null,null,null,"Exide Ind",null,"Exide Ind",1,null,"Power Grid Corp",null,"Power Grid Corp",1,null,"Exide Ind",null,"Exide Ind",1]
[{"$f":"IF(ROW('mf1'!A21)<=Sheet1!$B$1,'mf1'!A21,\"\")","v":"Exide Ind"},null,null,{"$f":"IF(ROW('mf2'!A21)<=Sheet1!$E$1,'mf2'!A21,\"\")","v":"Power Grid Corp"},null,null,null,{"$f":"IF(ROW('mf3'!A21)<=Sheet1!$I$1,'mf3'!A21,\"\")","v":"Exide Ind"},null,null,null,"PTC India",null,"PTC India",1,null,"PTC India",null,"PTC India",1,null,"PTC India",null,"PTC India",1]
[{"$f":"IF(ROW('mf1'!A22)<=Sheet1!$B$1,'mf1'!A22,\"\")","v":"PTC India"},null,null,{"$f":"IF(ROW('mf2'!A22)<=Sheet1!$E$1,'mf2'!A22,\"\")","v":"PTC India"},null,null,null,{"$f":"IF(ROW('mf3'!A22)<=Sheet1!$I$1,'mf3'!A22,\"\")","v":"PTC India"},null,null,null,"GAIL",null,"GAIL",1,null,"GAIL",null,"GAIL",1,null,"GAIL",null,"GAIL",1]
[{"$f":"IF(ROW('mf1'!A23)<=Sheet1!$B$1,'mf1'!A23,\"\")","v":"GAIL"},null,null,{"$f":"IF(ROW('mf2'!A23)<=Sheet1!$E$1,'mf2'!A23,\"\")","v":"GAIL"},null,null,null,{"$f":"IF(ROW('mf3'!A23)<=Sheet1!$I$1,'mf3'!A23,\"\")","v":"GAIL"},null,null,null,"Bharti Airtel",null,"Bharti Airtel",1,null,"Bharti Airtel",null,"Bharti Airtel",1,null,"Bharti Airtel",null,"Bharti Airtel",1]
[{"$f":"IF(ROW('mf1'!A24)<=Sheet1!$B$1,'mf1'!A24,\"\")","v":"Bharti Airtel"},null,null,{"$f":"IF(ROW('mf2'!A24)<=Sheet1!$E$1,'mf2'!A24,\"\")","v":"Bharti Airtel"},null,null,null,{"$f":"IF(ROW('mf3'!A24)<=Sheet1!$I$1,'mf3'!A24,\"\")","v":"Bharti Airtel"},null,null,null,"Larsen",null,"Larsen",1,null,"Wipro",null,"Wipro",1,null,"Larsen",null,"Larsen",1]
[{"$f":"IF(ROW('mf1'!A25)<=Sheet1!$B$1,'mf1'!A25,\"\")","v":"Larsen"},null,null,{"$f":"IF(ROW('mf2'!A25)<=Sheet1!$E$1,'mf2'!A25,\"\")","v":"Wipro"},null,null,null,{"$f":"IF(ROW('mf3'!A25)<=Sheet1!$I$1,'mf3'!A25,\"\")","v":"Larsen"},null,null,null,"Wipro",null,"Wipro",1,null,"Larsen",null,"Larsen",1,null,"Wipro",null,"Wipro",1]
[{"$f":"IF(ROW('mf1'!A26)<=Sheet1!$B$1,'mf1'!A26,\"\")","v":"Wipro"},null,null,{"$f":"IF(ROW('mf2'!A26)<=Sheet1!$E$1,'mf2'!A26,\"\")","v":"Larsen"},null,null,null,{"$f":"IF(ROW('mf3'!A26)<=Sheet1!$I$1,'mf3'!A26,\"\")","v":"Wipro"},null,null,null,"Tata Steel",null,"Tata Steel",1,null,"Tata Steel",null,"Tata Steel",1,null,"Tata Steel",null,"Tata Steel",1]
[{"$f":"IF(ROW('mf1'!A27)<=Sheet1!$B$1,'mf1'!A27,\"\")","v":"Tata Steel"},null,null,{"$f":"IF(ROW('mf2'!A27)<=Sheet1!$E$1,'mf2'!A27,\"\")","v":"Tata Steel"},null,null,null,{"$f":"IF(ROW('mf3'!A27)<=Sheet1!$I$1,'mf3'!A27,\"\")","v":"Tata Steel"},null,null,null,"Kotak Mahindra",null,"Kotak Mahindra",1,null,"Kotak Mahindra",null,"Kotak Mahindra",1,null,"Kotak Mahindra",null,"Kotak Mahindra",1]
[{"$f":"IF(ROW('mf1'!A28)<=Sheet1!$B$1,'mf1'!A28,\"\")","v":"Kotak Mahindra"},null,null,{"$f":"IF(ROW('mf2'!A28)<=Sheet1!$E$1,'mf2'!A28,\"\")","v":"Kotak Mahindra"},null,null,null,{"$f":"IF(ROW('mf3'!A28)<=Sheet1!$I$1,'mf3'!A28,\"\")","v":"Kotak Mahindra"},null,null,null,"",null,"",0,null,"",null,"",0,null,"",null,"",0]
[{"$f":"IF(ROW('mf1'!A29)<=Sheet1!$B$1,'mf1'!A29,\"\")","v":""},null,null,{"$f":"IF(ROW('mf2'!A29)<=Sheet1!$E$1,'mf2'!A29,\"\")","v":""},null,null,null,{"$f":"IF(ROW('mf3'!A29)<=Sheet1!$I$1,'mf3'!A29,\"\")","v":""},null,null,null,"",null,null,0,null,"",null,null,0,null,"",null,null,0]
[{"$f":"IF(ROW('mf1'!A30)<=Sheet1!$B$1,'mf1'!A30,\"\")","v":""},null,null,{"$f":"IF(ROW('mf2'!A30)<=Sheet1!$E$1,'mf2'!A30,\"\")","v":""},null,null,null,{"$f":"IF(ROW('mf3'!A30)<=Sheet1!$I$1,'mf3'!A30,\"\")","v":""},null,null,null,"",null,null,0,null,"",null,null,0,null,"",null,null,0]
[{"$f":"IF(ROW('mf1'!A31)<=Sheet1!$B$1,'mf1'!A31,\"\")","v":""},null,null,{"$f":"IF(ROW('mf2'!A31)<=Sheet1!$E$1,'mf2'!A31,\"\")","v":""},null,null,null,{"$f":"IF(ROW('mf3'!A31)<=Sheet1!$I$1,'mf3'!A31,\"\")","v":""},null,null,null,"",null,null,0,null,"",null,null,0,null,"",null,null,0]
[{"$f":"IF(ROW('mf1'!A32)<=Sheet1!$B$1,'mf1'!A32,\"\")","v":""},null,null,{"$f":"IF(ROW('mf2'!A32)<=Sheet1!$E$1,'mf2'!A32,\"\")","v":""},null,null,null,{"$f":"IF(ROW('mf3'!A32)<=Sheet1!$I$1,'mf3'!A32,\"\")","v":""},null,null,null,"",null,null,0,null,"",null,null,0,null,"",null,null,0]
[{"$f":"IF(ROW('mf1'!A33)<=Sheet1!$B$1,'mf1'!A33,\"\")","v":""},null,null,{"$f":"IF(ROW('mf2'!A33)<=Sheet1!$E$1,'mf2'!A33,\"\")","v":""},null,null,null,{"$f":"IF(ROW('mf3'!A33)<=Sheet1!$I$1,'mf3'!A33,\"\")","v":""},null,null,null,"",null,null,0,null,"",null,null,0,null,"",null,null,0]
[{"$f":"IF(ROW('mf1'!A34)<=Sheet1!$B$1,'mf1'!A34,\"\")","v":""},null,null,{"$f":"IF(ROW('mf2'!A34)<=Sheet1!$E$1,'mf2'!A34,\"\")","v":""},null,null,null,{"$f":"IF(ROW('mf3'!A34)<=Sheet1!$I$1,'mf3'!A34,\"\")","v":""},null,null,null,"",null,null,0,null,"",null,null,0,null,"",null,null,0]
[{"$f":"IF(ROW('mf1'!A35)<=Sheet1!$B$1,'mf1'!A35,\"\")","v":""},null,null,{"$f":"IF(ROW('mf2'!A35)<=Sheet1!$E$1,'mf2'!A35,\"\")","v":""},null,null,null,{"$f":"IF(ROW('mf3'!A35)<=Sheet1!$I$1,'mf3'!A35,\"\")","v":""},null,null,null,"",null,null,0,null,"",null,null,0,null,"",null,null,0]
[{"$f":"IF(ROW('mf1'!A36)<=Sheet1!$B$1,'mf1'!A36,\"\")","v":""},null,null,{"$f":"IF(ROW('mf2'!A36)<=Sheet1!$E$1,'mf2'!A36,\"\")","v":""},null,null,null,{"$f":"IF(ROW('mf3'!A36)<=Sheet1!$I$1,'mf3'!A36,\"\")","v":""},null,null,null,"",null,null,0,null,"",null,null,0,null,"",null,null,0]
[{"$f":"IF(ROW('mf1'!A37)<=Sheet1!$B$1,'mf1'!A37,\"\")","v":""},null,null,{"$f":"IF(ROW('mf2'!A37)<=Sheet1!$E$1,'mf2'!A37,\"\")","v":""},null,null,null,{"$f":"IF(ROW('mf3'!A37)<=Sheet1!$I$1,'mf3'!A37,\"\")","v":""},null,null,null,"",null,null,0,null,"",null,null,0,null,"",null,null,0]
[{"$f":"IF(ROW('mf1'!A38)<=Sheet1!$B$1,'mf1'!A38,\"\")","v":""},null,null,{"$f":"IF(ROW('mf2'!A38)<=Sheet1!$E$1,'mf2'!A38,\"\")","v":""},null,null,null,{"$f":"IF(ROW('mf3'!A38)<=Sheet1!$I$1,'mf3'!A38,\"\")","v":""},null,null,null,"",null,null,0,null,"",null,null,0,null,"",null,null,0]
[{"$f":"IF(ROW('mf1'!A39)<=Sheet1!$B$1,'mf1'!A39,\"\")","v":""},null,null,{"$f":"IF(ROW('mf2'!A39)<=Sheet1!$E$1,'mf2'!A39,\"\")","v":""},null,null,null,{"$f":"IF(ROW('mf3'!A39)<=Sheet1!$I$1,'mf3'!A39,\"\")","v":""},null,null,null,"",null,null,0,null,"",null,null,0,null,"",null,null,0]
[{"$f":"IF(ROW('mf1'!A40)<=Sheet1!$B$1,'mf1'!A40,\"\")","v":""},null,null,{"$f":"IF(ROW('mf2'!A40)<=Sheet1!$E$1,'mf2'!A40,\"\")","v":""},null,null,null,{"$f":"IF(ROW('mf3'!A40)<=Sheet1!$I$1,'mf3'!A40,\"\")","v":""},null,null,null,"",null,null,0,null,"",null,null,0,null,"",null,null,0]
[{"$f":"IF(ROW('mf1'!A41)<=Sheet1!$B$1,'mf1'!A41,\"\")","v":""},null,null,{"$f":"IF(ROW('mf2'!A41)<=Sheet1!$E$1,'mf2'!A41,\"\")","v":""},null,null,null,{"$f":"IF(ROW('mf3'!A41)<=Sheet1!$I$1,'mf3'!A41,\"\")","v":""},null,null,null,"",null,null,0,null,"",null,null,0,null,"",null,null,0]
[{"$f":"IF(ROW('mf1'!A42)<=Sheet1!$B$1,'mf1'!A42,\"\")","v":""},null,null,{"$f":"IF(ROW('mf2'!A42)<=Sheet1!$E$1,'mf2'!A42,\"\")","v":""},null,null,null,{"$f":"IF(ROW('mf3'!A42)<=Sheet1!$I$1,'mf3'!A42,\"\")","v":""},null,null,null,"",null,null,0,null,"",null,null,0,null,"",null,null,0]
[{"$f":"IF(ROW('mf1'!A43)<=Sheet1!$B$1,'mf1'!A43,\"\")","v":""},null,null,{"$f":"IF(ROW('mf2'!A43)<=Sheet1!$E$1,'mf2'!A43,\"\")","v":""},null,null,null,{"$f":"IF(ROW('mf3'!A43)<=Sheet1!$I$1,'mf3'!A43,\"\")","v":""},null,null,null,"",null,null,0,null,"",null,null,0,null,"",null,null,0]
[{"$f":"IF(ROW('mf1'!A44)<=Sheet1!$B$1,'mf1'!A44,\"\")","v":""},null,null,{"$f":"IF(ROW('mf2'!A44)<=Sheet1!$E$1,'mf2'!A44,\"\")","v":""},null,null,null,{"$f":"IF(ROW('mf3'!A44)<=Sheet1!$I$1,'mf3'!A44,\"\")","v":""},null,null,null,"",null,null,0,null,"",null,null,0,null,"",null,null,0]
[{"$f":"IF(ROW('mf1'!A45)<=Sheet1!$B$1,'mf1'!A45,\"\")","v":""},null,null,{"$f":"IF(ROW('mf2'!A45)<=Sheet1!$E$1,'mf2'!A45,\"\")","v":""},null,null,null,{"$f":"IF(ROW('mf3'!A45)<=Sheet1!$I$1,'mf3'!A45,\"\")","v":""},null,null,null,"",null,null,0,null,"",null,null,0,null,"",null,null,0]
[{"$f":"IF(ROW('mf1'!A46)<=Sheet1!$B$1,'mf1'!A46,\"\")","v":""},null,null,{"$f":"IF(ROW('mf2'!A46)<=Sheet1!$E$1,'mf2'!A46,\"\")","v":""},null,null,null,{"$f":"IF(ROW('mf3'!A46)<=Sheet1!$I$1,'mf3'!A46,\"\")","v":""},null,null,null,"",null,null,0,null,"",null,null,0,null,"",null,null,0]
[{"$f":"IF(ROW('mf1'!A47)<=Sheet1!$B$1,'mf1'!A47,\"\")","v":""},null,null,{"$f":"IF(ROW('mf2'!A47)<=Sheet1!$E$1,'mf2'!A47,\"\")","v":""},null,null,null,{"$f":"IF(ROW('mf3'!A47)<=Sheet1!$I$1,'mf3'!A47,\"\")","v":""},null,null,null,"",null,null,0,null,"",null,null,0,null,"",null,null,0]
[{"$f":"IF(ROW('mf1'!A48)<=Sheet1!$B$1,'mf1'!A48,\"\")","v":""},null,null,{"$f":"IF(ROW('mf2'!A48)<=Sheet1!$E$1,'mf2'!A48,\"\")","v":""},null,null,null,{"$f":"IF(ROW('mf3'!A48)<=Sheet1!$I$1,'mf3'!A48,\"\")","v":""},null,null,null,"",null,null,0,null,"",null,null,0,null,"",null,null,0]
[{"$f":"IF(ROW('mf1'!A49)<=Sheet1!$B$1,'mf1'!A49,\"\")","v":""},null,null,{"$f":"IF(ROW('mf2'!A49)<=Sheet1!$E$1,'mf2'!A49,\"\")","v":""},null,null,null,{"$f":"IF(ROW('mf3'!A49)<=Sheet1!$I$1,'mf3'!A49,\"\")","v":""},null,null,null,"",null,null,0,null,"",null,null,0,null,"",null,null,0]
[{"$f":"IF(ROW('mf1'!A50)<=Sheet1!$B$1,'mf1'!A50,\"\")","v":""},null,null,{"$f":"IF(ROW('mf2'!A50)<=Sheet1!$E$1,'mf2'!A50,\"\")","v":""},null,null,null,{"$f":"IF(ROW('mf3'!A50)<=Sheet1!$I$1,'mf3'!A50,\"\")","v":""},null,null,null,"",null,null,0,null,"",null,null,0,null,"",null,null,0]
[{"$f":"IF(ROW('mf1'!A51)<=Sheet1!$B$1,'mf1'!A51,\"\")","v":""},null,null,{"$f":"IF(ROW('mf2'!A51)<=Sheet1!$E$1,'mf2'!A51,\"\")","v":""},null,null,null,{"$f":"IF(ROW('mf3'!A51)<=Sheet1!$I$1,'mf3'!A51,\"\")","v":""},null,null,null,"",null,null,0,null,"",null,null,0,null,"",null,null,0]
[{"$f":"IF(ROW('mf1'!A52)<=Sheet1!$B$1,'mf1'!A52,\"\")","v":""},null,null,{"$f":"IF(ROW('mf2'!A52)<=Sheet1!$E$1,'mf2'!A52,\"\")","v":""},null,null,null,{"$f":"IF(ROW('mf3'!A52)<=Sheet1!$I$1,'mf3'!A52,\"\")","v":""},null,null,null,"",null,null,0,null,"",null,null,0,null,"",null,null,0]
[{"$f":"IF(ROW('mf1'!A53)<=Sheet1!$B$1,'mf1'!A53,\"\")","v":""},null,null,{"$f":"IF(ROW('mf2'!A53)<=Sheet1!$E$1,'mf2'!A53,\"\")","v":""},null,null,null,{"$f":"IF(ROW('mf3'!A53)<=Sheet1!$I$1,'mf3'!A53,\"\")","v":""},null,null,null,"",null,null,0,null,"",null,null,0,null,"",null,null,0]
[{"$f":"IF(ROW('mf1'!A54)<=Sheet1!$B$1,'mf1'!A54,\"\")","v":""},null,null,{"$f":"IF(ROW('mf2'!A54)<=Sheet1!$E$1,'mf2'!A54,\"\")","v":""},null,null,null,{"$f":"IF(ROW('mf3'!A54)<=Sheet1!$I$1,'mf3'!A54,\"\")","v":""},null,null,null,"",null,null,0,null,"",null,null,0,null,"",null,null,0]
[{"$f":"IF(ROW('mf1'!A55)<=Sheet1!$B$1,'mf1'!A55,\"\")","v":""},null,null,{"$f":"IF(ROW('mf2'!A55)<=Sheet1!$E$1,'mf2'!A55,\"\")","v":""},null,null,null,{"$f":"IF(ROW('mf3'!A55)<=Sheet1!$I$1,'mf3'!A55,\"\")","v":""},null,null,null,"",null,null,0,null,"",null,null,0,null,"",null,null,0]
[{"$f":"IF(ROW('mf1'!A56)<=Sheet1!$B$1,'mf1'!A56,\"\")","v":""},null,null,{"$f":"IF(ROW('mf2'!A56)<=Sheet1!$E$1,'mf2'!A56,\"\")","v":""},null,null,null,{"$f":"IF(ROW('mf3'!A56)<=Sheet1!$I$1,'mf3'!A56,\"\")","v":""},null,null,null,"",null,null,0,null,"",null,null,0,null,"",null,null,0]
[{"$f":"IF(ROW('mf1'!A57)<=Sheet1!$B$1,'mf1'!A57,\"\")","v":""},null,null,{"$f":"IF(ROW('mf2'!A57)<=Sheet1!$E$1,'mf2'!A57,\"\")","v":""},null,null,null,{"$f":"IF(ROW('mf3'!A57)<=Sheet1!$I$1,'mf3'!A57,\"\")","v":""},null,null,null,"",null,null,0,null,"",null,null,0,null,"",null,null,0]
[{"$f":"IF(ROW('mf1'!A58)<=Sheet1!$B$1,'mf1'!A58,\"\")","v":""},null,null,{"$f":"IF(ROW('mf2'!A58)<=Sheet1!$E$1,'mf2'!A58,\"\")","v":""},null,null,null,{"$f":"IF(ROW('mf3'!A58)<=Sheet1!$I$1,'mf3'!A58,\"\")","v":""},null,null,null,"",null,null,0,null,"",null,null,0,null,"",null,null,0]
[{"$f":"IF(ROW('mf1'!A59)<=Sheet1!$B$1,'mf1'!A59,\"\")","v":""},null,null,{"$f":"IF(ROW('mf2'!A59)<=Sheet1!$E$1,'mf2'!A59,\"\")","v":""},null,null,null,{"$f":"IF(ROW('mf3'!A59)<=Sheet1!$I$1,'mf3'!A59,\"\")","v":""},null,null,null,"",null,null,0,null,"",null,null,0,null,"",null,null,0]
[{"$f":"IF(ROW('mf1'!A60)<=Sheet1!$B$1,'mf1'!A60,\"\")","v":""},null,null,{"$f":"IF(ROW('mf2'!A60)<=Sheet1!$E$1,'mf2'!A60,\"\")","v":""},null,null,null,{"$f":"IF(ROW('mf3'!A60)<=Sheet1!$I$1,'mf3'!A60,\"\")","v":""},null,null,null,"",null,null,0,null,"",null,null,0,null,"",null,null,0]
[{"$f":"IF(ROW('mf1'!A61)<=Sheet1!$B$1,'mf1'!A61,\"\")","v":""},null,null,{"$f":"IF(ROW('mf2'!A61)<=Sheet1!$E$1,'mf2'!A61,\"\")","v":""},null,null,null,{"$f":"IF(ROW('mf3'!A61)<=Sheet1!$I$1,'mf3'!A61,\"\")","v":""},null,null,null,"",null,null,0,null,"",null,null,0,null,"",null,null,0]
[{"$f":"IF(ROW('mf1'!A62)<=Sheet1!$B$1,'mf1'!A62,\"\")","v":""},null,null,{"$f":"IF(ROW('mf2'!A62)<=Sheet1!$E$1,'mf2'!A62,\"\")","v":""},null,null,null,{"$f":"IF(ROW('mf3'!A62)<=Sheet1!$I$1,'mf3'!A62,\"\")","v":""},null,null,null,"",null,null,0,null,"",null,null,0,null,"",null,null,0]
[{"$f":"IF(ROW('mf1'!A63)<=Sheet1!$B$1,'mf1'!A63,\"\")","v":""},null,null,{"$f":"IF(ROW('mf2'!A63)<=Sheet1!$E$1,'mf2'!A63,\"\")","v":""},null,null,null,{"$f":"IF(ROW('mf3'!A63)<=Sheet1!$I$1,'mf3'!A63,\"\")","v":""},null,null,null,"",null,null,0,null,"",null,null,0,null,"",null,null,0]
[{"$f":"IF(ROW('mf1'!A64)<=Sheet1!$B$1,'mf1'!A64,\"\")","v":""},null,null,{"$f":"IF(ROW('mf2'!A64)<=Sheet1!$E$1,'mf2'!A64,\"\")","v":""},null,null,null,{"$f":"IF(ROW('mf3'!A64)<=Sheet1!$I$1,'mf3'!A64,\"\")","v":""},null,null,null,"",null,null,0,null,"",null,null,0,null,"",null,null,0]
[{"$f":"IF(ROW('mf1'!A65)<=Sheet1!$B$1,'mf1'!A65,\"\")","v":""},null,null,{"$f":"IF(ROW('mf2'!A65)<=Sheet1!$E$1,'mf2'!A65,\"\")","v":""},null,null,null,{"$f":"IF(ROW('mf3'!A65)<=Sheet1!$I$1,'mf3'!A65,\"\")","v":""},null,null,null,"",null,null,0,null,"",null,null,0,null,"",null,null,0]
[{"$f":"IF(ROW('mf1'!A66)<=Sheet1!$B$1,'mf1'!A66,\"\")","v":""},null,null,{"$f":"IF(ROW('mf2'!A66)<=Sheet1!$E$1,'mf2'!A66,\"\")","v":""},null,null,null,{"$f":"IF(ROW('mf3'!A66)<=Sheet1!$I$1,'mf3'!A66,\"\")","v":""},null,null,null,"",null,null,0,null,"",null,null,0,null,"",null,null,0]
[{"$f":"IF(ROW('mf1'!A67)<=Sheet1!$B$1,'mf1'!A67,\"\")","v":""},null,null,{"$f":"IF(ROW('mf2'!A67)<=Sheet1!$E$1,'mf2'!A67,\"\")","v":""},null,null,null,{"$f":"IF(ROW('mf3'!A67)<=Sheet1!$I$1,'mf3'!A67,\"\")","v":""},null,null,null,"",null,null,0,null,"",null,null,0,null,"",null,null,0]
[{"$f":"IF(ROW('mf1'!A68)<=Sheet1!$B$1,'mf1'!A68,\"\")","v":""},null,null,{"$f":"IF(ROW('mf2'!A68)<=Sheet1!$E$1,'mf2'!A68,\"\")","v":""},null,null,null,{"$f":"IF(ROW('mf3'!A68)<=Sheet1!$I$1,'mf3'!A68,\"\")","v":""},null,null,null,"",null,null,0,null,"",null,null,0,null,"",null,null,0]
[{"$f":"IF(ROW('mf1'!A69)<=Sheet1!$B$1,'mf1'!A69,\"\")","v":""},null,null,{"$f":"IF(ROW('mf2'!A69)<=Sheet1!$E$1,'mf2'!A69,\"\")","v":""},null,null,null,{"$f":"IF(ROW('mf3'!A69)<=Sheet1!$I$1,'mf3'!A69,\"\")","v":""},null,null,null,"",null,null,{"$f":"IF(N66<>\"\",1,0)","v":0},null,"",null,null,{"$f":"IF(S66<>\"\",1,0)","v":0},null,"",null,null,{"$f":"IF(X66<>\"\",1,0)","v":0}]
[{"$f":"IF(ROW('mf1'!A70)<=Sheet1!$B$1,'mf1'!A70,\"\")","v":""},null,null,{"$f":"IF(ROW('mf2'!A70)<=Sheet1!$E$1,'mf2'!A70,\"\")","v":""},null,null,null,{"$f":"IF(ROW('mf3'!A70)<=Sheet1!$I$1,'mf3'!A70,\"\")","v":""},null,null,null,"",null,null,0,null,"",null,null,0,null,"",null,null,0]
[{"$f":"IF(ROW('mf1'!A71)<=Sheet1!$B$1,'mf1'!A71,\"\")","v":""},null,null,{"$f":"IF(ROW('mf2'!A71)<=Sheet1!$E$1,'mf2'!A71,\"\")","v":""},null,null,null,{"$f":"IF(ROW('mf3'!A71)<=Sheet1!$I$1,'mf3'!A71,\"\")","v":""},null,null,null,"",null,null,0,null,"",null,null,0,null,"",null,null,0]
[{"$f":"IF(ROW('mf1'!A72)<=Sheet1!$B$1,'mf1'!A72,\"\")","v":""},null,null,{"$f":"IF(ROW('mf2'!A72)<=Sheet1!$E$1,'mf2'!A72,\"\")","v":""},null,null,null,{"$f":"IF(ROW('mf3'!A72)<=Sheet1!$I$1,'mf3'!A72,\"\")","v":""},null,null,null,"",null,null,0,null,"",null,null,0,null,"",null,null,0]
[{"$f":"IF(ROW('mf1'!A73)<=Sheet1!$B$1,'mf1'!A73,\"\")","v":""},null,null,{"$f":"IF(ROW('mf2'!A73)<=Sheet1!$E$1,'mf2'!A73,\"\")","v":""},null,null,null,{"$f":"IF(ROW('mf3'!A73)<=Sheet1!$I$1,'mf3'!A73,\"\")","v":""},null,null,null,"",null,null,0,null,"",null,null,0,null,"",null,null,0]
[{"$f":"IF(ROW('mf1'!A74)<=Sheet1!$B$1,'mf1'!A74,\"\")","v":""},null,null,{"$f":"IF(ROW('mf2'!A74)<=Sheet1!$E$1,'mf2'!A74,\"\")","v":""},null,null,null,{"$f":"IF(ROW('mf3'!A74)<=Sheet1!$I$1,'mf3'!A74,\"\")","v":""},null,null,null,"",null,null,0,null,"",null,null,0,null,"",null,null,0]
[{"$f":"IF(ROW('mf1'!A75)<=Sheet1!$B$1,'mf1'!A75,\"\")","v":""},null,null,{"$f":"IF(ROW('mf2'!A75)<=Sheet1!$E$1,'mf2'!A75,\"\")","v":""},null,null,null,{"$f":"IF(ROW('mf3'!A75)<=Sheet1!$I$1,'mf3'!A75,\"\")","v":""},null,null,null,"",null,null,0,null,"",null,null,0,null,"",null,null,0]
[{"$f":"IF(ROW('mf1'!A76)<=Sheet1!$B$1,'mf1'!A76,\"\")","v":""},null,null,{"$f":"IF(ROW('mf2'!A76)<=Sheet1!$E$1,'mf2'!A76,\"\")","v":""},null,null,null,{"$f":"IF(ROW('mf3'!A76)<=Sheet1!$I$1,'mf3'!A76,\"\")","v":""},null,null,null,"",null,null,0,null,"",null,null,0,null,"",null,null,0]
[{"$f":"IF(ROW('mf1'!A77)<=Sheet1!$B$1,'mf1'!A77,\"\")","v":""},null,null,{"$f":"IF(ROW('mf2'!A77)<=Sheet1!$E$1,'mf2'!A77,\"\")","v":""},null,null,null,{"$f":"IF(ROW('mf3'!A77)<=Sheet1!$I$1,'mf3'!A77,\"\")","v":""},null,null,null,"",null,null,0,null,"",null,null,0,null,"",null,null,0]
[{"$f":"IF(ROW('mf1'!A78)<=Sheet1!$B$1,'mf1'!A78,\"\")","v":""},null,null,{"$f":"IF(ROW('mf2'!A78)<=Sheet1!$E$1,'mf2'!A78,\"\")","v":""},null,null,null,{"$f":"IF(ROW('mf3'!A78)<=Sheet1!$I$1,'mf3'!A78,\"\")","v":""},null,null,null,"",null,null,0,null,"",null,null,0,null,"",null,null,0]
[{"$f":"IF(ROW('mf1'!A79)<=Sheet1!$B$1,'mf1'!A79,\"\")","v":""},null,null,{"$f":"IF(ROW('mf2'!A79)<=Sheet1!$E$1,'mf2'!A79,\"\")","v":""},null,null,null,{"$f":"IF(ROW('mf3'!A79)<=Sheet1!$I$1,'mf3'!A79,\"\")","v":""},null,null,null,"",null,null,0,null,"",null,null,0,null,"",null,null,0]
[{"$f":"IF(ROW('mf1'!A80)<=Sheet1!$B$1,'mf1'!A80,\"\")","v":""},null,null,{"$f":"IF(ROW('mf2'!A80)<=Sheet1!$E$1,'mf2'!A80,\"\")","v":""},null,null,null,{"$f":"IF(ROW('mf3'!A80)<=Sheet1!$I$1,'mf3'!A80,\"\")","v":""},null,null,null,"",null,null,0,null,"",null,null,0,null,"",null,null,0]
[{"$f":"IF(ROW('mf1'!A81)<=Sheet1!$B$1,'mf1'!A81,\"\")","v":""},null,null,{"$f":"IF(ROW('mf2'!A81)<=Sheet1!$E$1,'mf2'!A81,\"\")","v":""},null,null,null,{"$f":"IF(ROW('mf3'!A81)<=Sheet1!$I$1,'mf3'!A81,\"\")","v":""},null,null,null,"",null,null,0,null,"",null,null,0,null,"",null,null,0]
[{"$f":"IF(ROW('mf1'!A82)<=Sheet1!$B$1,'mf1'!A82,\"\")","v":""},null,null,{"$f":"IF(ROW('mf2'!A82)<=Sheet1!$E$1,'mf2'!A82,\"\")","v":""},null,null,null,{"$f":"IF(ROW('mf3'!A82)<=Sheet1!$I$1,'mf3'!A82,\"\")","v":""},null,null,null,"",null,null,0,null,"",null,null,0,null,"",null,null,0]
[{"$f":"IF(ROW('mf1'!A83)<=Sheet1!$B$1,'mf1'!A83,\"\")","v":""},null,null,{"$f":"IF(ROW('mf2'!A83)<=Sheet1!$E$1,'mf2'!A83,\"\")","v":""},null,null,null,{"$f":"IF(ROW('mf3'!A83)<=Sheet1!$I$1,'mf3'!A83,\"\")","v":""},null,null,null,"",null,null,0,null,"",null,null,0,null,"",null,null,0]
[{"$f":"IF(ROW('mf1'!A84)<=Sheet1!$B$1,'mf1'!A84,\"\")","v":""},null,null,{"$f":"IF(ROW('mf2'!A84)<=Sheet1!$E$1,'mf2'!A84,\"\")","v":""},null,null,null,{"$f":"IF(ROW('mf3'!A84)<=Sheet1!$I$1,'mf3'!A84,\"\")","v":""},null,null,null,"",null,null,0,null,"",null,null,0,null,"",null,null,0]
[{"$f":"IF(ROW('mf1'!A85)<=Sheet1!$B$1,'mf1'!A85,\"\")","v":""},null,null,{"$f":"IF(ROW('mf2'!A85)<=Sheet1!$E$1,'mf2'!A85,\"\")","v":""},null,null,null,{"$f":"IF(ROW('mf3'!A85)<=Sheet1!$I$1,'mf3'!A85,\"\")","v":""},null,null,null,"",null,null,0,null,"",null,null,0,null,"",null,null,0]
[{"$f":"IF(ROW('mf1'!A86)<=Sheet1!$B$1,'mf1'!A86,\"\")","v":""},null,null,{"$f":"IF(ROW('mf2'!A86)<=Sheet1!$E$1,'mf2'!A86,\"\")","v":""},null,null,null,{"$f":"IF(ROW('mf3'!A86)<=Sheet1!$I$1,'mf3'!A86,\"\")","v":""},null,null,null,"",null,null,0,null,"",null,null,0,null,"",null,null,0]
[{"$f":"IF(ROW('mf1'!A87)<=Sheet1!$B$1,'mf1'!A87,\"\")","v":""},null,null,{"$f":"IF(ROW('mf2'!A87)<=Sheet1!$E$1,'mf2'!A87,\"\")","v":""},null,null,null,{"$f":"IF(ROW('mf3'!A87)<=Sheet1!$I$1,'mf3'!A87,\"\")","v":""},null,null,null,"",null,null,0,null,"",null,null,0,null,"",null,null,0]
[{"$f":"IF(ROW('mf1'!A88)<=Sheet1!$B$1,'mf1'!A88,\"\")","v":""},null,null,{"$f":"IF(ROW('mf2'!A88)<=Sheet1!$E$1,'mf2'!A88,\"\")","v":""},null,null,null,{"$f":"IF(ROW('mf3'!A88)<=Sheet1!$I$1,'mf3'!A88,\"\")","v":""},null,null,null,"",null,null,0,null,"",null,null,0,null,"",null,null,0]
[{"$f":"IF(ROW('mf1'!A89)<=Sheet1!$B$1,'mf1'!A89,\"\")","v":""},null,null,{"$f":"IF(ROW('mf2'!A89)<=Sheet1!$E$1,'mf2'!A89,\"\")","v":""},null,null,null,{"$f":"IF(ROW('mf3'!A89)<=Sheet1!$I$1,'mf3'!A89,\"\")","v":""},null,null,null,"",null,null,0,null,"",null,null,0,null,"",null,null,0]
[{"$f":"IF(ROW('mf1'!A90)<=Sheet1!$B$1,'mf1'!A90,\"\")","v":""},null,null,{"$f":"IF(ROW('mf2'!A90)<=Sheet1!$E$1,'mf2'!A90,\"\")","v":""},null,null,null,{"$f":"IF(ROW('mf3'!A90)<=Sheet1!$I$1,'mf3'!A90,\"\")","v":""},null,null,null,"",null,null,0,null,"",null,null,0,null,"",null,null,0]
[{"$f":"IF(ROW('mf1'!A91)<=Sheet1!$B$1,'mf1'!A91,\"\")","v":""},null,null,{"$f":"IF(ROW('mf2'!A91)<=Sheet1!$E$1,'mf2'!A91,\"\")","v":""},null,null,null,{"$f":"IF(ROW('mf3'!A91)<=Sheet1!$I$1,'mf3'!A91,\"\")","v":""},null,null,null,"",null,null,0,null,"",null,null,0,null,"",null,null,0]
[{"$f":"IF(ROW('mf1'!A92)<=Sheet1!$B$1,'mf1'!A92,\"\")","v":""},null,null,{"$f":"IF(ROW('mf2'!A92)<=Sheet1!$E$1,'mf2'!A92,\"\")","v":""},null,null,null,{"$f":"IF(ROW('mf3'!A92)<=Sheet1!$I$1,'mf3'!A92,\"\")","v":""},null,null,null,"",null,null,0,null,"",null,null,0,null,"",null,null,0]
[{"$f":"IF(ROW('mf1'!A93)<=Sheet1!$B$1,'mf1'!A93,\"\")","v":""},null,null,{"$f":"IF(ROW('mf2'!A93)<=Sheet1!$E$1,'mf2'!A93,\"\")","v":""},null,null,null,{"$f":"IF(ROW('mf3'!A93)<=Sheet1!$I$1,'mf3'!A93,\"\")","v":""},null,null,null,"",null,null,0,null,"",null,null,0,null,"",null,null,0]
[{"$f":"IF(ROW('mf1'!A94)<=Sheet1!$B$1,'mf1'!A94,\"\")","v":""},null,null,{"$f":"IF(ROW('mf2'!A94)<=Sheet1!$E$1,'mf2'!A94,\"\")","v":""},null,null,null,{"$f":"IF(ROW('mf3'!A94)<=Sheet1!$I$1,'mf3'!A94,\"\")","v":""},null,null,null,"",null,null,0,null,"",null,null,0,null,"",null,null,0]
[{"$f":"IF(ROW('mf1'!A95)<=Sheet1!$B$1,'mf1'!A95,\"\")","v":""},null,null,{"$f":"IF(ROW('mf2'!A95)<=Sheet1!$E$1,'mf2'!A95,\"\")","v":""},null,null,null,{"$f":"IF(ROW('mf3'!A95)<=Sheet1!$I$1,'mf3'!A95,\"\")","v":""},null,null,null,"",null,null,0,null,"",null,null,0,null,"",null,null,0]
[{"$f":"IF(ROW('mf1'!A96)<=Sheet1!$B$1,'mf1'!A96,\"\")","v":""},null,null,{"$f":"IF(ROW('mf2'!A96)<=Sheet1!$E$1,'mf2'!A96,\"\")","v":""},null,null,null,{"$f":"IF(ROW('mf3'!A96)<=Sheet1!$I$1,'mf3'!A96,\"\")","v":""},null,null,null,"",null,null,0,null,"",null,null,0,null,"",null,null,0]
[{"$f":"IF(ROW('mf1'!A97)<=Sheet1!$B$1,'mf1'!A97,\"\")","v":""},null,null,{"$f":"IF(ROW('mf2'!A97)<=Sheet1!$E$1,'mf2'!A97,\"\")","v":""},null,null,null,{"$f":"IF(ROW('mf3'!A97)<=Sheet1!$I$1,'mf3'!A97,\"\")","v":""},null,null,null,"",null,null,0,null,"",null,null,0,null,"",null,null,0]
[{"$f":"IF(ROW('mf1'!A98)<=Sheet1!$B$1,'mf1'!A98,\"\")","v":""},null,null,{"$f":"IF(ROW('mf2'!A98)<=Sheet1!$E$1,'mf2'!A98,\"\")","v":""},null,null,null,{"$f":"IF(ROW('mf3'!A98)<=Sheet1!$I$1,'mf3'!A98,\"\")","v":""},null,null,null,"",null,null,0,null,"",null,null,0,null,"",null,null,0]
[{"$f":"IF(ROW('mf1'!A99)<=Sheet1!$B$1,'mf1'!A99,\"\")","v":""},null,null,{"$f":"IF(ROW('mf2'!A99)<=Sheet1!$E$1,'mf2'!A99,\"\")","v":""},null,null,null,{"$f":"IF(ROW('mf3'!A99)<=Sheet1!$I$1,'mf3'!A99,\"\")","v":""},null,null,null,"",null,null,0,null,"",null,null,0,null,"",null,null,0]
[{"$f":"IF(ROW('mf1'!A100)<=Sheet1!$B$1,'mf1'!A100,\"\")","v":""},null,null,{"$f":"IF(ROW('mf2'!A100)<=Sheet1!$E$1,'mf2'!A100,\"\")","v":""},null,null,null,{"$f":"IF(ROW('mf3'!A100)<=Sheet1!$I$1,'mf3'!A100,\"\")","v":""},null,null,null,"",null,null,0,null,"",null,null,0,null,"",null,null,0]
[{"$f":"IF(ROW('mf1'!A101)<=Sheet1!$B$1,'mf1'!A101,\"\")","v":""},null,null,{"$f":"IF(ROW('mf2'!A101)<=Sheet1!$E$1,'mf2'!A101,\"\")","v":""},null,null,null,{"$f":"IF(ROW('mf3'!A101)<=Sheet1!$I$1,'mf3'!A101,\"\")","v":""},null,null,null,"",null,null,0,null,"",null,null,0,null,"",null,null,0]
[{"$f":"IF(ROW('mf1'!A102)<=Sheet1!$B$1,'mf1'!A102,\"\")","v":""},null,null,{"$f":"IF(ROW('mf2'!A102)<=Sheet1!$E$1,'mf2'!A102,\"\")","v":""},null,null,null,{"$f":"IF(ROW('mf3'!A102)<=Sheet1!$I$1,'mf3'!A102,\"\")","v":""},null,null,null,"",null,null,0,null,"",null,null,0,null,"",null,null,0]
[{"$f":"IF(ROW('mf1'!A103)<=Sheet1!$B$1,'mf1'!A103,\"\")","v":""},null,null,{"$f":"IF(ROW('mf2'!A103)<=Sheet1!$E$1,'mf2'!A103,\"\")","v":""},null,null,null,{"$f":"IF(ROW('mf3'!A103)<=Sheet1!$I$1,'mf3'!A103,\"\")","v":""},null,null,null,"",null,null,0,null,"",null,null,0,null,"",null,null,0]
[{"$f":"IF(ROW('mf1'!A104)<=Sheet1!$B$1,'mf1'!A104,\"\")","v":""},null,null,{"$f":"IF(ROW('mf2'!A104)<=Sheet1!$E$1,'mf2'!A104,\"\")","v":""},null,null,null,{"$f":"IF(ROW('mf3'!A104)<=Sheet1!$I$1,'mf3'!A104,\"\")","v":""},null,null,null,"",null,null,0,null,"",null,null,0,null,"",null,null,0]
[{"$f":"IF(ROW('mf1'!A105)<=Sheet1!$B$1,'mf1'!A105,\"\")","v":""},null,null,{"$f":"IF(ROW('mf2'!A105)<=Sheet1!$E$1,'mf2'!A105,\"\")","v":""},null,null,null,{"$f":"IF(ROW('mf3'!A105)<=Sheet1!$I$1,'mf3'!A105,\"\")","v":""},null,null,null,"",null,null,0,null,"",null,null,0,null,"",null,null,0]
[{"$f":"IF(ROW('mf1'!A106)<=Sheet1!$B$1,'mf1'!A106,\"\")","v":""},null,null,{"$f":"IF(ROW('mf2'!A106)<=Sheet1!$E$1,'mf2'!A106,\"\")","v":""},null,null,null,{"$f":"IF(ROW('mf3'!A106)<=Sheet1!$I$1,'mf3'!A106,\"\")","v":""},null,null,null,"",null,null,0,null,"",null,null,0,null,"",null,null,0]
[{"$f":"IF(ROW('mf1'!A107)<=Sheet1!$B$1,'mf1'!A107,\"\")","v":""},null,null,{"$f":"IF(ROW('mf2'!A107)<=Sheet1!$E$1,'mf2'!A107,\"\")","v":""},null,null,null,{"$f":"IF(ROW('mf3'!A107)<=Sheet1!$I$1,'mf3'!A107,\"\")","v":""},null,null,null,"",null,null,0,null,"",null,null,0,null,"",null,null,0]
[{"$f":"IF(ROW('mf1'!A108)<=Sheet1!$B$1,'mf1'!A108,\"\")","v":""},null,null,{"$f":"IF(ROW('mf2'!A108)<=Sheet1!$E$1,'mf2'!A108,\"\")","v":""},null,null,null,{"$f":"IF(ROW('mf3'!A108)<=Sheet1!$I$1,'mf3'!A108,\"\")","v":""},null,null,null,"",null,null,0,null,"",null,null,0,null,"",null,null,0]
[{"$f":"IF(ROW('mf1'!A109)<=Sheet1!$B$1,'mf1'!A109,\"\")","v":""},null,null,{"$f":"IF(ROW('mf2'!A109)<=Sheet1!$E$1,'mf2'!A109,\"\")","v":""},null,null,null,{"$f":"IF(ROW('mf3'!A109)<=Sheet1!$I$1,'mf3'!A109,\"\")","v":""},null,null,null,"",null,null,0,null,"",null,null,0,null,"",null,null,0]
[{"$f":"IF(ROW('mf1'!A110)<=Sheet1!$B$1,'mf1'!A110,\"\")","v":""},null,null,{"$f":"IF(ROW('mf2'!A110)<=Sheet1!$E$1,'mf2'!A110,\"\")","v":""},null,null,null,{"$f":"IF(ROW('mf3'!A110)<=Sheet1!$I$1,'mf3'!A110,\"\")","v":""},null,null,null,"",null,null,0,null,"",null,null,0,null,"",null,null,0]
[{"$f":"IF(ROW('mf1'!A111)<=Sheet1!$B$1,'mf1'!A111,\"\")","v":""},null,null,{"$f":"IF(ROW('mf2'!A111)<=Sheet1!$E$1,'mf2'!A111,\"\")","v":""},null,null,null,{"$f":"IF(ROW('mf3'!A111)<=Sheet1!$I$1,'mf3'!A111,\"\")","v":""},null,null,null,"",null,null,0,null,"",null,null,0,null,"",null,null,0]
[{"$f":"IF(ROW('mf1'!A112)<=Sheet1!$B$1,'mf1'!A112,\"\")","v":""},null,null,{"$f":"IF(ROW('mf2'!A112)<=Sheet1!$E$1,'mf2'!A112,\"\")","v":""},null,null,null,{"$f":"IF(ROW('mf3'!A112)<=Sheet1!$I$1,'mf3'!A112,\"\")","v":""},null,null,null,"",null,null,0,null,"",null,null,0,null,"",null,null,0]
[{"$f":"IF(ROW('mf1'!A113)<=Sheet1!$B$1,'mf1'!A113,\"\")","v":""},null,null,{"$f":"IF(ROW('mf2'!A113)<=Sheet1!$E$1,'mf2'!A113,\"\")","v":""},null,null,null,{"$f":"IF(ROW('mf3'!A113)<=Sheet1!$I$1,'mf3'!A113,\"\")","v":""},null,null,null,"",null,null,0,null,"",null,null,0,null,"",null,null,0]
[{"$f":"IF(ROW('mf1'!A114)<=Sheet1!$B$1,'mf1'!A114,\"\")","v":""},null,null,{"$f":"IF(ROW('mf2'!A114)<=Sheet1!$E$1,'mf2'!A114,\"\")","v":""},null,null,null,{"$f":"IF(ROW('mf3'!A114)<=Sheet1!$I$1,'mf3'!A114,\"\")","v":""},null,null,null,"",null,null,0,null,"",null,null,0,null,"",null,null,0]
[{"$f":"IF(ROW('mf1'!A115)<=Sheet1!$B$1,'mf1'!A115,\"\")","v":""},null,null,{"$f":"IF(ROW('mf2'!A115)<=Sheet1!$E$1,'mf2'!A115,\"\")","v":""},null,null,null,{"$f":"IF(ROW('mf3'!A115)<=Sheet1!$I$1,'mf3'!A115,\"\")","v":""},null,null,null,"",null,null,0,null,"",null,null,0,null,"",null,null,0]
[{"$f":"IF(ROW('mf1'!A116)<=Sheet1!$B$1,'mf1'!A116,\"\")","v":""},null,null,{"$f":"IF(ROW('mf2'!A116)<=Sheet1!$E$1,'mf2'!A116,\"\")","v":""},null,null,null,{"$f":"IF(ROW('mf3'!A116)<=Sheet1!$I$1,'mf3'!A116,\"\")","v":""},null,null,null,"",null,null,0,null,"",null,null,0,null,"",null,null,0]
[{"$f":"IF(ROW('mf1'!A117)<=Sheet1!$B$1,'mf1'!A117,\"\")","v":""},null,null,{"$f":"IF(ROW('mf2'!A117)<=Sheet1!$E$1,'mf2'!A117,\"\")","v":""},null,null,null,{"$f":"IF(ROW('mf3'!A117)<=Sheet1!$I$1,'mf3'!A117,\"\")","v":""},null,null,null,"",null,null,0,null,"",null,null,0,null,"",null,null,0]
[{"$f":"IF(ROW('mf1'!A118)<=Sheet1!$B$1,'mf1'!A118,\"\")","v":""},null,null,{"$f":"IF(ROW('mf2'!A118)<=Sheet1!$E$1,'mf2'!A118,\"\")","v":""},null,null,null,{"$f":"IF(ROW('mf3'!A118)<=Sheet1!$I$1,'mf3'!A118,\"\")","v":""},null,null,null,"",null,null,0,null,"",null,null,0,null,"",null,null,0]
[{"$f":"IF(ROW('mf1'!A119)<=Sheet1!$B$1,'mf1'!A119,\"\")","v":""},null,null,{"$f":"IF(ROW('mf2'!A119)<=Sheet1!$E$1,'mf2'!A119,\"\")","v":""},null,null,null,{"$f":"IF(ROW('mf3'!A119)<=Sheet1!$I$1,'mf3'!A119,\"\")","v":""},null,null,null,"",null,null,0,null,"",null,null,0,null,"",null,null,0]
[{"$f":"IF(ROW('mf1'!A120)<=Sheet1!$B$1,'mf1'!A120,\"\")","v":""},null,null,{"$f":"IF(ROW('mf2'!A120)<=Sheet1!$E$1,'mf2'!A120,\"\")","v":""},null,null,null,{"$f":"IF(ROW('mf3'!A120)<=Sheet1!$I$1,'mf3'!A120,\"\")","v":""},null,null,null,"",null,null,0,null,"",null,null,0,null,"",null,null,0]
[{"$f":"IF(ROW('mf1'!A121)<=Sheet1!$B$1,'mf1'!A121,\"\")","v":""},null,null,{"$f":"IF(ROW('mf2'!A121)<=Sheet1!$E$1,'mf2'!A121,\"\")","v":""},null,null,null,{"$f":"IF(ROW('mf3'!A121)<=Sheet1!$I$1,'mf3'!A121,\"\")","v":""},null,null,null,"",null,null,0,null,"",null,null,0,null,"",null,null,0]
[{"$f":"IF(ROW('mf1'!A122)<=Sheet1!$B$1,'mf1'!A122,\"\")","v":""},null,null,{"$f":"IF(ROW('mf2'!A122)<=Sheet1!$E$1,'mf2'!A122,\"\")","v":""},null,null,null,{"$f":"IF(ROW('mf3'!A122)<=Sheet1!$I$1,'mf3'!A122,\"\")","v":""},null,null,null,"",null,null,0,null,"",null,null,0,null,"",null,null,0]
[{"$f":"IF(ROW('mf1'!A123)<=Sheet1!$B$1,'mf1'!A123,\"\")","v":""},null,null,{"$f":"IF(ROW('mf2'!A123)<=Sheet1!$E$1,'mf2'!A123,\"\")","v":""},null,null,null,{"$f":"IF(ROW('mf3'!A123)<=Sheet1!$I$1,'mf3'!A123,\"\")","v":""},null,null,null,"",null,null,0,null,"",null,null,0,null,"",null,null,0]
[{"$f":"IF(ROW('mf1'!A124)<=Sheet1!$B$1,'mf1'!A124,\"\")","v":""},null,null,{"$f":"IF(ROW('mf2'!A124)<=Sheet1!$E$1,'mf2'!A124,\"\")","v":""},null,null,null,{"$f":"IF(ROW('mf3'!A124)<=Sheet1!$I$1,'mf3'!A124,\"\")","v":""},null,null,null,"",null,null,0,null,"",null,null,0,null,"",null,null,0]
[{"$f":"IF(ROW('mf1'!A125)<=Sheet1!$B$1,'mf1'!A125,\"\")","v":""},null,null,{"$f":"IF(ROW('mf2'!A125)<=Sheet1!$E$1,'mf2'!A125,\"\")","v":""},null,null,null,{"$f":"IF(ROW('mf3'!A125)<=Sheet1!$I$1,'mf3'!A125,\"\")","v":""},null,null,null,"",null,null,0,null,"",null,null,0,null,"",null,null,0]
[{"$f":"IF(ROW('mf1'!A126)<=Sheet1!$B$1,'mf1'!A126,\"\")","v":""},null,null,{"$f":"IF(ROW('mf2'!A126)<=Sheet1!$E$1,'mf2'!A126,\"\")","v":""},null,null,null,{"$f":"IF(ROW('mf3'!A126)<=Sheet1!$I$1,'mf3'!A126,\"\")","v":""},null,null,null,"",null,null,0,null,"",null,null,0,null,"",null,null,0]
[{"$f":"IF(ROW('mf1'!A127)<=Sheet1!$B$1,'mf1'!A127,\"\")","v":""},null,null,{"$f":"IF(ROW('mf2'!A127)<=Sheet1!$E$1,'mf2'!A127,\"\")","v":""},null,null,null,{"$f":"IF(ROW('mf3'!A127)<=Sheet1!$I$1,'mf3'!A127,\"\")","v":""},null,null,null,"",null,null,0,null,"",null,null,0,null,"",null,null,0]
[{"$f":"IF(ROW('mf1'!A128)<=Sheet1!$B$1,'mf1'!A128,\"\")","v":""},null,null,{"$f":"IF(ROW('mf2'!A128)<=Sheet1!$E$1,'mf2'!A128,\"\")","v":""},null,null,null,{"$f":"IF(ROW('mf3'!A128)<=Sheet1!$I$1,'mf3'!A128,\"\")","v":""},null,null,null,"",null,null,0,null,"",null,null,0,null,"",null,null,0]
[{"$f":"IF(ROW('mf1'!A129)<=Sheet1!$B$1,'mf1'!A129,\"\")","v":""},null,null,{"$f":"IF(ROW('mf2'!A129)<=Sheet1!$E$1,'mf2'!A129,\"\")","v":""},null,null,null,{"$f":"IF(ROW('mf3'!A129)<=Sheet1!$I$1,'mf3'!A129,\"\")","v":""},null,null,null,"",null,null,0,null,"",null,null,0,null,"",null,null,0]
[{"$f":"IF(ROW('mf1'!A130)<=Sheet1!$B$1,'mf1'!A130,\"\")","v":""},null,null,{"$f":"IF(ROW('mf2'!A130)<=Sheet1!$E$1,'mf2'!A130,\"\")","v":""},null,null,null,{"$f":"IF(ROW('mf3'!A130)<=Sheet1!$I$1,'mf3'!A130,\"\")","v":""},null,null,null,"",null,null,0,null,"",null,null,0,null,"",null,null,0]
[{"$f":"IF(ROW('mf1'!A131)<=Sheet1!$B$1,'mf1'!A131,\"\")","v":""},null,null,{"$f":"IF(ROW('mf2'!A131)<=Sheet1!$E$1,'mf2'!A131,\"\")","v":""},null,null,null,{"$f":"IF(ROW('mf3'!A131)<=Sheet1!$I$1,'mf3'!A131,\"\")","v":""},null,null,null,"",null,null,0,null,"",null,null,0,null,"",null,null,0]
[{"$f":"IF(ROW('mf1'!A132)<=Sheet1!$B$1,'mf1'!A132,\"\")","v":""},null,null,{"$f":"IF(ROW('mf2'!A132)<=Sheet1!$E$1,'mf2'!A132,\"\")","v":""},null,null,null,{"$f":"IF(ROW('mf3'!A132)<=Sheet1!$I$1,'mf3'!A132,\"\")","v":""},null,null,null,"",null,null,0,null,"",null,null,0,null,"",null,null,0]
[{"$f":"IF(ROW('mf1'!A133)<=Sheet1!$B$1,'mf1'!A133,\"\")","v":""},null,null,{"$f":"IF(ROW('mf2'!A133)<=Sheet1!$E$1,'mf2'!A133,\"\")","v":""},null,null,null,{"$f":"IF(ROW('mf3'!A133)<=Sheet1!$I$1,'mf3'!A133,\"\")","v":""},null,null,null,"",null,null,{"$f":"IF(N130<>\"\",1,0)","v":0},null,"",null,null,{"$f":"IF(S130<>\"\",1,0)","v":0},null,"",null,null,{"$f":"IF(X130<>\"\",1,0)","v":0}]
[{"$f":"IF(ROW('mf1'!A134)<=Sheet1!$B$1,'mf1'!A134,\"\")","v":""},null,null,{"$f":"IF(ROW('mf2'!A134)<=Sheet1!$E$1,'mf2'!A134,\"\")","v":""},null,null,null,{"$f":"IF(ROW('mf3'!A134)<=Sheet1!$I$1,'mf3'!A134,\"\")","v":""},null,null,null,"",null,null,0,null,"",null,null,0,null,"",null,null,0]
[{"$f":"IF(ROW('mf1'!A135)<=Sheet1!$B$1,'mf1'!A135,\"\")","v":""},null,null,{"$f":"IF(ROW('mf2'!A135)<=Sheet1!$E$1,'mf2'!A135,\"\")","v":""},null,null,null,{"$f":"IF(ROW('mf3'!A135)<=Sheet1!$I$1,'mf3'!A135,\"\")","v":""},null,null,null,"",null,null,0,null,"",null,null,0,null,"",null,null,0]
[{"$f":"IF(ROW('mf1'!A136)<=Sheet1!$B$1,'mf1'!A136,\"\")","v":""},null,null,{"$f":"IF(ROW('mf2'!A136)<=Sheet1!$E$1,'mf2'!A136,\"\")","v":""},null,null,null,{"$f":"IF(ROW('mf3'!A136)<=Sheet1!$I$1,'mf3'!A136,\"\")","v":""},null,null,null,"",null,null,0,null,"",null,null,0,null,"",null,null,0]
[{"$f":"IF(ROW('mf1'!A137)<=Sheet1!$B$1,'mf1'!A137,\"\")","v":""},null,null,{"$f":"IF(ROW('mf2'!A137)<=Sheet1!$E$1,'mf2'!A137,\"\")","v":""},null,null,null,{"$f":"IF(ROW('mf3'!A137)<=Sheet1!$I$1,'mf3'!A137,\"\")","v":""},null,null,null,"",null,null,0,null,"",null,null,0,null,"",null,null,0]
[{"$f":"IF(ROW('mf1'!A138)<=Sheet1!$B$1,'mf1'!A138,\"\")","v":""},null,null,{"$f":"IF(ROW('mf2'!A138)<=Sheet1!$E$1,'mf2'!A138,\"\")","v":""},null,null,null,{"$f":"IF(ROW('mf3'!A138)<=Sheet1!$I$1,'mf3'!A138,\"\")","v":""},null,null,null,"",null,null,0,null,"",null,null,0,null,"",null,null,0]
[{"$f":"IF(ROW('mf1'!A139)<=Sheet1!$B$1,'mf1'!A139,\"\")","v":""},null,null,{"$f":"IF(ROW('mf2'!A139)<=Sheet1!$E$1,'mf2'!A139,\"\")","v":""},null,null,null,{"$f":"IF(ROW('mf3'!A139)<=Sheet1!$I$1,'mf3'!A139,\"\")","v":""},null,null,null,"",null,null,0,null,"",null,null,0,null,"",null,null,0]
[{"$f":"IF(ROW('mf1'!A140)<=Sheet1!$B$1,'mf1'!A140,\"\")","v":""},null,null,{"$f":"IF(ROW('mf2'!A140)<=Sheet1!$E$1,'mf2'!A140,\"\")","v":""},null,null,null,{"$f":"IF(ROW('mf3'!A140)<=Sheet1!$I$1,'mf3'!A140,\"\")","v":""},null,null,null,"",null,null,0,null,"",null,null,0,null,"",null,null,0]
[{"$f":"IF(ROW('mf1'!A141)<=Sheet1!$B$1,'mf1'!A141,\"\")","v":""},null,null,{"$f":"IF(ROW('mf2'!A141)<=Sheet1!$E$1,'mf2'!A141,\"\")","v":""},null,null,null,{"$f":"IF(ROW('mf3'!A141)<=Sheet1!$I$1,'mf3'!A141,\"\")","v":""},null,null,null,"",null,null,0,null,"",null,null,0,null,"",null,null,0]
[{"$f":"IF(ROW('mf1'!A142)<=Sheet1!$B$1,'mf1'!A142,\"\")","v":""},null,null,{"$f":"IF(ROW('mf2'!A142)<=Sheet1!$E$1,'mf2'!A142,\"\")","v":""},null,null,null,{"$f":"IF(ROW('mf3'!A142)<=Sheet1!$I$1,'mf3'!A142,\"\")","v":""},null,null,null,"",null,null,0,null,"",null,null,0,null,"",null,null,0]
[{"$f":"IF(ROW('mf1'!A143)<=Sheet1!$B$1,'mf1'!A143,\"\")","v":""},null,null,{"$f":"IF(ROW('mf2'!A143)<=Sheet1!$E$1,'mf2'!A143,\"\")","v":""},null,null,null,{"$f":"IF(ROW('mf3'!A143)<=Sheet1!$I$1,'mf3'!A143,\"\")","v":""},null,null,null,"",null,null,0,null,"",null,null,0,null,"",null,null,0]
[{"$f":"IF(ROW('mf1'!A144)<=Sheet1!$B$1,'mf1'!A144,\"\")","v":""},null,null,{"$f":"IF(ROW('mf2'!A144)<=Sheet1!$E$1,'mf2'!A144,\"\")","v":""},null,null,null,{"$f":"IF(ROW('mf3'!A144)<=Sheet1!$I$1,'mf3'!A144,\"\")","v":""},null,null,null,"",null,null,0,null,"",null,null,0,null,"",null,null,0]
[{"$f":"IF(ROW('mf1'!A145)<=Sheet1!$B$1,'mf1'!A145,\"\")","v":""},null,null,{"$f":"IF(ROW('mf2'!A145)<=Sheet1!$E$1,'mf2'!A145,\"\")","v":""},null,null,null,{"$f":"IF(ROW('mf3'!A145)<=Sheet1!$I$1,'mf3'!A145,\"\")","v":""},null,null,null,"",null,null,0,null,"",null,null,0,null,"",null,null,0]
[{"$f":"IF(ROW('mf1'!A146)<=Sheet1!$B$1,'mf1'!A146,\"\")","v":""},null,null,{"$f":"IF(ROW('mf2'!A146)<=Sheet1!$E$1,'mf2'!A146,\"\")","v":""},null,null,null,{"$f":"IF(ROW('mf3'!A146)<=Sheet1!$I$1,'mf3'!A146,\"\")","v":""},null,null,null,"",null,null,0,null,"",null,null,0,null,"",null,null,0]
[{"$f":"IF(ROW('mf1'!A147)<=Sheet1!$B$1,'mf1'!A147,\"\")","v":""},null,null,{"$f":"IF(ROW('mf2'!A147)<=Sheet1!$E$1,'mf2'!A147,\"\")","v":""},null,null,null,{"$f":"IF(ROW('mf3'!A147)<=Sheet1!$I$1,'mf3'!A147,\"\")","v":""},null,null,null,"",null,null,0,null,"",null,null,0,null,"",null,null,0]
[{"$f":"IF(ROW('mf1'!A148)<=Sheet1!$B$1,'mf1'!A148,\"\")","v":""},null,null,{"$f":"IF(ROW('mf2'!A148)<=Sheet1!$E$1,'mf2'!A148,\"\")","v":""},null,null,null,{"$f":"IF(ROW('mf3'!A148)<=Sheet1!$I$1,'mf3'!A148,\"\")","v":""},null,null,null,"",null,null,0,null,"",null,null,0,null,"",null,null,0]
[{"$f":"IF(ROW('mf1'!A149)<=Sheet1!$B$1,'mf1'!A149,\"\")","v":""},null,null,{"$f":"IF(ROW('mf2'!A149)<=Sheet1!$E$1,'mf2'!A149,\"\")","v":""},null,null,null,{"$f":"IF(ROW('mf3'!A149)<=Sheet1!$I$1,'mf3'!A149,\"\")","v":""},null,null,null,"",null,null,0,null,"",null,null,0,null,"",null,null,0]
[{"$f":"IF(ROW('mf1'!A150)<=Sheet1!$B$1,'mf1'!A150,\"\")","v":""},null,null,{"$f":"IF(ROW('mf2'!A150)<=Sheet1!$E$1,'mf2'!A150,\"\")","v":""},null,null,null,{"$f":"IF(ROW('mf3'!A150)<=Sheet1!$I$1,'mf3'!A150,\"\")","v":""},null,null,null,"",null,null,0,null,"",null,null,0,null,"",null,null,0]
[{"$f":"IF(ROW('mf1'!A151)<=Sheet1!$B$1,'mf1'!A151,\"\")","v":""},null,null,{"$f":"IF(ROW('mf2'!A151)<=Sheet1!$E$1,'mf2'!A151,\"\")","v":""},null,null,null,{"$f":"IF(ROW('mf3'!A151)<=Sheet1!$I$1,'mf3'!A151,\"\")","v":""},null,null,null,"",null,null,0,null,"",null,null,0,null,"",null,null,0]
[{"$f":"IF(ROW('mf1'!A152)<=Sheet1!$B$1,'mf1'!A152,\"\")","v":""},null,null,{"$f":"IF(ROW('mf2'!A152)<=Sheet1!$E$1,'mf2'!A152,\"\")","v":""},null,null,null,{"$f":"IF(ROW('mf3'!A152)<=Sheet1!$I$1,'mf3'!A152,\"\")","v":""},null,null,null,"",null,null,0,null,"",null,null,0,null,"",null,null,0]
[{"$f":"IF(ROW('mf1'!A153)<=Sheet1!$B$1,'mf1'!A153,\"\")","v":""},null,null,{"$f":"IF(ROW('mf2'!A153)<=Sheet1!$E$1,'mf2'!A153,\"\")","v":""},null,null,null,{"$f":"IF(ROW('mf3'!A153)<=Sheet1!$I$1,'mf3'!A153,\"\")","v":""},null,null,null,"",null,null,0,null,"",null,null,0,null,"",null,null,0]
[{"$f":"IF(ROW('mf1'!A154)<=Sheet1!$B$1,'mf1'!A154,\"\")","v":""},null,null,{"$f":"IF(ROW('mf2'!A154)<=Sheet1!$E$1,'mf2'!A154,\"\")","v":""},null,null,null,{"$f":"IF(ROW('mf3'!A154)<=Sheet1!$I$1,'mf3'!A154,\"\")","v":""},null,null,null,"",null,null,0,null,"",null,null,0,null,"",null,null,0]
[{"$f":"IF(ROW('mf1'!A155)<=Sheet1!$B$1,'mf1'!A155,\"\")","v":""},null,null,{"$f":"IF(ROW('mf2'!A155)<=Sheet1!$E$1,'mf2'!A155,\"\")","v":""},null,null,null,{"$f":"IF(ROW('mf3'!A155)<=Sheet1!$I$1,'mf3'!A155,\"\")","v":""},null,null,null,"",null,null,0,null,"",null,null,0,null,"",null,null,0]
[{"$f":"IF(ROW('mf1'!A156)<=Sheet1!$B$1,'mf1'!A156,\"\")","v":""},null,null,{"$f":"IF(ROW('mf2'!A156)<=Sheet1!$E$1,'mf2'!A156,\"\")","v":""},null,null,null,{"$f":"IF(ROW('mf3'!A156)<=Sheet1!$I$1,'mf3'!A156,\"\")","v":""},null,null,null,"",null,null,0,null,"",null,null,0,null,"",null,null,0]
[{"$f":"IF(ROW('mf1'!A157)<=Sheet1!$B$1,'mf1'!A157,\"\")","v":""},null,null,{"$f":"IF(ROW('mf2'!A157)<=Sheet1!$E$1,'mf2'!A157,\"\")","v":""},null,null,null,{"$f":"IF(ROW('mf3'!A157)<=Sheet1!$I$1,'mf3'!A157,\"\")","v":""},null,null,null,"",null,null,0,null,"",null,null,0,null,"",null,null,0]
[{"$f":"IF(ROW('mf1'!A158)<=Sheet1!$B$1,'mf1'!A158,\"\")","v":""},null,null,{"$f":"IF(ROW('mf2'!A158)<=Sheet1!$E$1,'mf2'!A158,\"\")","v":""},null,null,null,{"$f":"IF(ROW('mf3'!A158)<=Sheet1!$I$1,'mf3'!A158,\"\")","v":""},null,null,null,"",null,null,0,null,"",null,null,0,null,"",null,null,0]
[{"$f":"IF(ROW('mf1'!A159)<=Sheet1!$B$1,'mf1'!A159,\"\")","v":""},null,null,{"$f":"IF(ROW('mf2'!A159)<=Sheet1!$E$1,'mf2'!A159,\"\")","v":""},null,null,null,{"$f":"IF(ROW('mf3'!A159)<=Sheet1!$I$1,'mf3'!A159,\"\")","v":""},null,null,null,"",null,null,0,null,"",null,null,0,null,"",null,null,0]
[{"$f":"IF(ROW('mf1'!A160)<=Sheet1!$B$1,'mf1'!A160,\"\")","v":""},null,null,{"$f":"IF(ROW('mf2'!A160)<=Sheet1!$E$1,'mf2'!A160,\"\")","v":""},null,null,null,{"$f":"IF(ROW('mf3'!A160)<=Sheet1!$I$1,'mf3'!A160,\"\")","v":""},null,null,null,"",null,null,0,null,"",null,null,0,null,"",null,null,0]
[{"$f":"IF(ROW('mf1'!A161)<=Sheet1!$B$1,'mf1'!A161,\"\")","v":""},null,null,{"$f":"IF(ROW('mf2'!A161)<=Sheet1!$E$1,'mf2'!A161,\"\")","v":""},null,null,null,{"$f":"IF(ROW('mf3'!A161)<=Sheet1!$I$1,'mf3'!A161,\"\")","v":""},null,null,null,"",null,null,0,null,"",null,null,0,null,"",null,null,0]
[{"$f":"IF(ROW('mf1'!A162)<=Sheet1!$B$1,'mf1'!A162,\"\")","v":""},null,null,{"$f":"IF(ROW('mf2'!A162)<=Sheet1!$E$1,'mf2'!A162,\"\")","v":""},null,null,null,{"$f":"IF(ROW('mf3'!A162)<=Sheet1!$I$1,'mf3'!A162,\"\")","v":""},null,null,null,"",null,null,0,null,"",null,null,0,null,"",null,null,0]
[{"$f":"IF(ROW('mf1'!A163)<=Sheet1!$B$1,'mf1'!A163,\"\")","v":""},null,null,{"$f":"IF(ROW('mf2'!A163)<=Sheet1!$E$1,'mf2'!A163,\"\")","v":""},null,null,null,{"$f":"IF(ROW('mf3'!A163)<=Sheet1!$I$1,'mf3'!A163,\"\")","v":""},null,null,null,"",null,null,0,null,"",null,null,0,null,"",null,null,0]
[{"$f":"IF(ROW('mf1'!A164)<=Sheet1!$B$1,'mf1'!A164,\"\")","v":""},null,null,{"$f":"IF(ROW('mf2'!A164)<=Sheet1!$E$1,'mf2'!A164,\"\")","v":""},null,null,null,{"$f":"IF(ROW('mf3'!A164)<=Sheet1!$I$1,'mf3'!A164,\"\")","v":""},null,null,null,"",null,null,0,null,"",null,null,0,null,"",null,null,0]
[{"$f":"IF(ROW('mf1'!A165)<=Sheet1!$B$1,'mf1'!A165,\"\")","v":""},null,null,{"$f":"IF(ROW('mf2'!A165)<=Sheet1!$E$1,'mf2'!A165,\"\")","v":""},null,null,null,{"$f":"IF(ROW('mf3'!A165)<=Sheet1!$I$1,'mf3'!A165,\"\")","v":""},null,null,null,"",null,null,0,null,"",null,null,0,null,"",null,null,0]
[{"$f":"IF(ROW('mf1'!A166)<=Sheet1!$B$1,'mf1'!A166,\"\")","v":""},null,null,{"$f":"IF(ROW('mf2'!A166)<=Sheet1!$E$1,'mf2'!A166,\"\")","v":""},null,null,null,{"$f":"IF(ROW('mf3'!A166)<=Sheet1!$I$1,'mf3'!A166,\"\")","v":""},null,null,null,"",null,null,0,null,"",null,null,0,null,"",null,null,0]
[{"$f":"IF(ROW('mf1'!A167)<=Sheet1!$B$1,'mf1'!A167,\"\")","v":""},null,null,{"$f":"IF(ROW('mf2'!A167)<=Sheet1!$E$1,'mf2'!A167,\"\")","v":""},null,null,null,{"$f":"IF(ROW('mf3'!A167)<=Sheet1!$I$1,'mf3'!A167,\"\")","v":""},null,null,null,"",null,null,0,null,"",null,null,0,null,"",null,null,0]
[{"$f":"IF(ROW('mf1'!A168)<=Sheet1!$B$1,'mf1'!A168,\"\")","v":""},null,null,{"$f":"IF(ROW('mf2'!A168)<=Sheet1!$E$1,'mf2'!A168,\"\")","v":""},null,null,null,{"$f":"IF(ROW('mf3'!A168)<=Sheet1!$I$1,'mf3'!A168,\"\")","v":""},null,null,null,"",null,null,0,null,"",null,null,0,null,"",null,null,0]
[{"$f":"IF(ROW('mf1'!A169)<=Sheet1!$B$1,'mf1'!A169,\"\")","v":""},null,null,{"$f":"IF(ROW('mf2'!A169)<=Sheet1!$E$1,'mf2'!A169,\"\")","v":""},null,null,null,{"$f":"IF(ROW('mf3'!A169)<=Sheet1!$I$1,'mf3'!A169,\"\")","v":""},null,null,null,"",null,null,0,null,"",null,null,0,null,"",null,null,0]
[{"$f":"IF(ROW('mf1'!A170)<=Sheet1!$B$1,'mf1'!A170,\"\")","v":""},null,null,{"$f":"IF(ROW('mf2'!A170)<=Sheet1!$E$1,'mf2'!A170,\"\")","v":""},null,null,null,{"$f":"IF(ROW('mf3'!A170)<=Sheet1!$I$1,'mf3'!A170,\"\")","v":""},null,null,null,"",null,null,0,null,"",null,null,0,null,"",null,null,0]
[{"$f":"IF(ROW('mf1'!A171)<=Sheet1!$B$1,'mf1'!A171,\"\")","v":""},null,null,{"$f":"IF(ROW('mf2'!A171)<=Sheet1!$E$1,'mf2'!A171,\"\")","v":""},null,null,null,{"$f":"IF(ROW('mf3'!A171)<=Sheet1!$I$1,'mf3'!A171,\"\")","v":""},null,null,null,"",null,null,0,null,"",null,null,0,null,"",null,null,0]
[{"$f":"IF(ROW('mf1'!A172)<=Sheet1!$B$1,'mf1'!A172,\"\")","v":""},null,null,{"$f":"IF(ROW('mf2'!A172)<=Sheet1!$E$1,'mf2'!A172,\"\")","v":""},null,null,null,{"$f":"IF(ROW('mf3'!A172)<=Sheet1!$I$1,'mf3'!A172,\"\")","v":""},null,null,null,"",null,null,0,null,"",null,null,0,null,"",null,null,0]
[{"$f":"IF(ROW('mf1'!A173)<=Sheet1!$B$1,'mf1'!A173,\"\")","v":""},null,null,{"$f":"IF(ROW('mf2'!A173)<=Sheet1!$E$1,'mf2'!A173,\"\")","v":""},null,null,null,{"$f":"IF(ROW('mf3'!A173)<=Sheet1!$I$1,'mf3'!A173,\"\")","v":""},null,null,null,"",null,null,0,null,"",null,null,0,null,"",null,null,0]
[{"$f":"IF(ROW('mf1'!A174)<=Sheet1!$B$1,'mf1'!A174,\"\")","v":""},null,null,{"$f":"IF(ROW('mf2'!A174)<=Sheet1!$E$1,'mf2'!A174,\"\")","v":""},null,null,null,{"$f":"IF(ROW('mf3'!A174)<=Sheet1!$I$1,'mf3'!A174,\"\")","v":""},null,null,null,"",null,null,0,null,"",null,null,0,null,"",null,null,0]
[{"$f":"IF(ROW('mf1'!A175)<=Sheet1!$B$1,'mf1'!A175,\"\")","v":""},null,null,{"$f":"IF(ROW('mf2'!A175)<=Sheet1!$E$1,'mf2'!A175,\"\")","v":""},null,null,null,{"$f":"IF(ROW('mf3'!A175)<=Sheet1!$I$1,'mf3'!A175,\"\")","v":""},null,null,null,"",null,null,0,null,"",null,null,0,null,"",null,null,0]
[{"$f":"IF(ROW('mf1'!A176)<=Sheet1!$B$1,'mf1'!A176,\"\")","v":""},null,null,{"$f":"IF(ROW('mf2'!A176)<=Sheet1!$E$1,'mf2'!A176,\"\")","v":""},null,null,null,{"$f":"IF(ROW('mf3'!A176)<=Sheet1!$I$1,'mf3'!A176,\"\")","v":""},null,null,null,"",null,null,0,null,"",null,null,0,null,"",null,null,0]
[{"$f":"IF(ROW('mf1'!A177)<=Sheet1!$B$1,'mf1'!A177,\"\")","v":""},null,null,{"$f":"IF(ROW('mf2'!A177)<=Sheet1!$E$1,'mf2'!A177,\"\")","v":""},null,null,null,{"$f":"IF(ROW('mf3'!A177)<=Sheet1!$I$1,'mf3'!A177,\"\")","v":""},null,null,null,"",null,null,0,null,"",null,null,0,null,"",null,null,0]
[{"$f":"IF(ROW('mf1'!A178)<=Sheet1!$B$1,'mf1'!A178,\"\")","v":""},null,null,{"$f":"IF(ROW('mf2'!A178)<=Sheet1!$E$1,'mf2'!A178,\"\")","v":""},null,null,null,{"$f":"IF(ROW('mf3'!A178)<=Sheet1!$I$1,'mf3'!A178,\"\")","v":""},null,null,null,"",null,null,0,null,"",null,null,0,null,"",null,null,0]
[{"$f":"IF(ROW('mf1'!A179)<=Sheet1!$B$1,'mf1'!A179,\"\")","v":""},null,null,{"$f":"IF(ROW('mf2'!A179)<=Sheet1!$E$1,'mf2'!A179,\"\")","v":""},null,null,null,{"$f":"IF(ROW('mf3'!A179)<=Sheet1!$I$1,'mf3'!A179,\"\")","v":""},null,null,null,"",null,null,0,null,"",null,null,0,null,"",null,null,0]
[{"$f":"IF(ROW('mf1'!A180)<=Sheet1!$B$1,'mf1'!A180,\"\")","v":""},null,null,{"$f":"IF(ROW('mf2'!A180)<=Sheet1!$E$1,'mf2'!A180,\"\")","v":""},null,null,null,{"$f":"IF(ROW('mf3'!A180)<=Sheet1!$I$1,'mf3'!A180,\"\")","v":""},null,null,null,"",null,null,0,null,"",null,null,0,null,"",null,null,0]
[{"$f":"IF(ROW('mf1'!A181)<=Sheet1!$B$1,'mf1'!A181,\"\")","v":""},null,null,{"$f":"IF(ROW('mf2'!A181)<=Sheet1!$E$1,'mf2'!A181,\"\")","v":""},null,null,null,{"$f":"IF(ROW('mf3'!A181)<=Sheet1!$I$1,'mf3'!A181,\"\")","v":""},null,null,null,"",null,null,0,null,"",null,null,0,null,"",null,null,0]
[{"$f":"IF(ROW('mf1'!A182)<=Sheet1!$B$1,'mf1'!A182,\"\")","v":""},null,null,{"$f":"IF(ROW('mf2'!A182)<=Sheet1!$E$1,'mf2'!A182,\"\")","v":""},null,null,null,{"$f":"IF(ROW('mf3'!A182)<=Sheet1!$I$1,'mf3'!A182,\"\")","v":""},null,null,null,"",null,null,0,null,"",null,null,0,null,"",null,null,0]
[{"$f":"IF(ROW('mf1'!A183)<=Sheet1!$B$1,'mf1'!A183,\"\")","v":""},null,null,{"$f":"IF(ROW('mf2'!A183)<=Sheet1!$E$1,'mf2'!A183,\"\")","v":""},null,null,null,{"$f":"IF(ROW('mf3'!A183)<=Sheet1!$I$1,'mf3'!A183,\"\")","v":""},null,null,null,"",null,null,0,null,"",null,null,0,null,"",null,null,0]
[{"$f":"IF(ROW('mf1'!A184)<=Sheet1!$B$1,'mf1'!A184,\"\")","v":""},null,null,{"$f":"IF(ROW('mf2'!A184)<=Sheet1!$E$1,'mf2'!A184,\"\")","v":""},null,null,null,{"$f":"IF(ROW('mf3'!A184)<=Sheet1!$I$1,'mf3'!A184,\"\")","v":""},null,null,null,"",null,null,0,null,"",null,null,0,null,"",null,null,0]
[{"$f":"IF(ROW('mf1'!A185)<=Sheet1!$B$1,'mf1'!A185,\"\")","v":""},null,null,{"$f":"IF(ROW('mf2'!A185)<=Sheet1!$E$1,'mf2'!A185,\"\")","v":""},null,null,null,{"$f":"IF(ROW('mf3'!A185)<=Sheet1!$I$1,'mf3'!A185,\"\")","v":""},null,null,null,"",null,null,0,null,"",null,null,0,null,"",null,null,0]
[{"$f":"IF(ROW('mf1'!A186)<=Sheet1!$B$1,'mf1'!A186,\"\")","v":""},null,null,{"$f":"IF(ROW('mf2'!A186)<=Sheet1!$E$1,'mf2'!A186,\"\")","v":""},null,null,null,{"$f":"IF(ROW('mf3'!A186)<=Sheet1!$I$1,'mf3'!A186,\"\")","v":""},null,null,null,"",null,null,0,null,"",null,null,0,null,"",null,null,0]
[{"$f":"IF(ROW('mf1'!A187)<=Sheet1!$B$1,'mf1'!A187,\"\")","v":""},null,null,{"$f":"IF(ROW('mf2'!A187)<=Sheet1!$E$1,'mf2'!A187,\"\")","v":""},null,null,null,{"$f":"IF(ROW('mf3'!A187)<=Sheet1!$I$1,'mf3'!A187,\"\")","v":""},null,null,null,"",null,null,0,null,"",null,null,0,null,"",null,null,0]
[{"$f":"IF(ROW('mf1'!A188)<=Sheet1!$B$1,'mf1'!A188,\"\")","v":""},null,null,{"$f":"IF(ROW('mf2'!A188)<=Sheet1!$E$1,'mf2'!A188,\"\")","v":""},null,null,null,{"$f":"IF(ROW('mf3'!A188)<=Sheet1!$I$1,'mf3'!A188,\"\")","v":""},null,null,null,"",null,null,0,null,"",null,null,0,null,"",null,null,0]
[{"$f":"IF(ROW('mf1'!A189)<=Sheet1!$B$1,'mf1'!A189,\"\")","v":""},null,null,{"$f":"IF(ROW('mf2'!A189)<=Sheet1!$E$1,'mf2'!A189,\"\")","v":""},null,null,null,{"$f":"IF(ROW('mf3'!A189)<=Sheet1!$I$1,'mf3'!A189,\"\")","v":""},null,null,null,"",null,null,0,null,"",null,null,0,null,"",null,null,0]
[{"$f":"IF(ROW('mf1'!A190)<=Sheet1!$B$1,'mf1'!A190,\"\")","v":""},null,null,{"$f":"IF(ROW('mf2'!A190)<=Sheet1!$E$1,'mf2'!A190,\"\")","v":""},null,null,null,{"$f":"IF(ROW('mf3'!A190)<=Sheet1!$I$1,'mf3'!A190,\"\")","v":""},null,null,null,"",null,null,0,null,"",null,null,0,null,"",null,null,0]
[{"$f":"IF(ROW('mf1'!A191)<=Sheet1!$B$1,'mf1'!A191,\"\")","v":""},null,null,{"$f":"IF(ROW('mf2'!A191)<=Sheet1!$E$1,'mf2'!A191,\"\")","v":""},null,null,null,{"$f":"IF(ROW('mf3'!A191)<=Sheet1!$I$1,'mf3'!A191,\"\")","v":""},null,null,null,"",null,null,0,null,"",null,null,0,null,"",null,null,0]
[{"$f":"IF(ROW('mf1'!A192)<=Sheet1!$B$1,'mf1'!A192,\"\")","v":""},null,null,{"$f":"IF(ROW('mf2'!A192)<=Sheet1!$E$1,'mf2'!A192,\"\")","v":""},null,null,null,{"$f":"IF(ROW('mf3'!A192)<=Sheet1!$I$1,'mf3'!A192,\"\")","v":""},null,null,null,"",null,null,0,null,"",null,null,0,null,"",null,null,0]
[{"$f":"IF(ROW('mf1'!A193)<=Sheet1!$B$1,'mf1'!A193,\"\")","v":""},null,null,{"$f":"IF(ROW('mf2'!A193)<=Sheet1!$E$1,'mf2'!A193,\"\")","v":""},null,null,null,{"$f":"IF(ROW('mf3'!A193)<=Sheet1!$I$1,'mf3'!A193,\"\")","v":""},null,null,null,"",null,null,0,null,"",null,null,0,null,"",null,null,0]
[{"$f":"IF(ROW('mf1'!A194)<=Sheet1!$B$1,'mf1'!A194,\"\")","v":""},null,null,{"$f":"IF(ROW('mf2'!A194)<=Sheet1!$E$1,'mf2'!A194,\"\")","v":""},null,null,null,{"$f":"IF(ROW('mf3'!A194)<=Sheet1!$I$1,'mf3'!A194,\"\")","v":""},null,null,null,"",null,null,0,null,"",null,null,0,null,"",null,null,0]
[{"$f":"IF(ROW('mf1'!A195)<=Sheet1!$B$1,'mf1'!A195,\"\")","v":""},null,null,{"$f":"IF(ROW('mf2'!A195)<=Sheet1!$E$1,'mf2'!A195,\"\")","v":""},null,null,null,{"$f":"IF(ROW('mf3'!A195)<=Sheet1!$I$1,'mf3'!A195,\"\")","v":""},null,null,null,"",null,null,0,null,"",null,null,0,null,"",null,null,0]
[{"$f":"IF(ROW('mf1'!A196)<=Sheet1!$B$1,'mf1'!A196,\"\")","v":""},null,null,{"$f":"IF(ROW('mf2'!A196)<=Sheet1!$E$1,'mf2'!A196,\"\")","v":""},null,null,null,{"$f":"IF(ROW('mf3'!A196)<=Sheet1!$I$1,'mf3'!A196,\"\")","v":""},null,null,null,"",null,null,0,null,"",null,null,0,null,"",null,null,0]
[{"$f":"IF(ROW('mf1'!A197)<=Sheet1!$B$1,'mf1'!A197,\"\")","v":""},null,null,{"$f":"IF(ROW('mf2'!A197)<=Sheet1!$E$1,'mf2'!A197,\"\")","v":""},null,null,null,{"$f":"IF(ROW('mf3'!A197)<=Sheet1!$I$1,'mf3'!A197,\"\")","v":""},null,null,null,"",null,null,{"$f":"IF(N194<>\"\",1,0)","v":0},null,"",null,null,{"$f":"IF(S194<>\"\",1,0)","v":0},null,"",null,null,{"$f":"IF(X194<>\"\",1,0)","v":0}]
[{"$f":"IF(ROW('mf1'!A198)<=Sheet1!$B$1,'mf1'!A198,\"\")","v":""},null,null,{"$f":"IF(ROW('mf2'!A198)<=Sheet1!$E$1,'mf2'!A198,\"\")","v":""},null,null,null,{"$f":"IF(ROW('mf3'!A198)<=Sheet1!$I$1,'mf3'!A198,\"\")","v":""},null,null,null,"",null,null,0,null,"",null,null,0,null,"",null,null,0]
[{"$f":"IF(ROW('mf1'!A199)<=Sheet1!$B$1,'mf1'!A199,\"\")","v":""},null,null,{"$f":"IF(ROW('mf2'!A199)<=Sheet1!$E$1,'mf2'!A199,\"\")","v":""},null,null,null,{"$f":"IF(ROW('mf3'!A199)<=Sheet1!$I$1,'mf3'!A199,\"\")","v":""},null,null,null,"",null,null,0,null,"",null,null,0,null,"",null,null,0]
[{"$f":"IF(ROW('mf1'!A200)<=Sheet1!$B$1,'mf1'!A200,\"\")","v":""},null,null,{"$f":"IF(ROW('mf2'!A200)<=Sheet1!$E$1,'mf2'!A200,\"\")","v":""},null,null,null,{"$f":"IF(ROW('mf3'!A200)<=Sheet1!$I$1,'mf3'!A200,\"\")","v":""},null,null,null,"",null,null,0,null,"",null,null,0,null,"",null,null,0]
[{"$f":"IF(ROW('mf1'!A201)<=Sheet1!$B$1,'mf1'!A201,\"\")","v":""},null,null,{"$f":"IF(ROW('mf2'!A201)<=Sheet1!$E$1,'mf2'!A201,\"\")","v":""},null,null,null,{"$f":"IF(ROW('mf3'!A201)<=Sheet1!$I$1,'mf3'!A201,\"\")","v":""},null,null,null,"",null,null,0,null,"",null,null,0,null,"",null,null,0]
[{"$f":"IF(ROW('mf1'!A202)<=Sheet1!$B$1,'mf1'!A202,\"\")","v":""},null,null,{"$f":"IF(ROW('mf2'!A202)<=Sheet1!$E$1,'mf2'!A202,\"\")","v":""},null,null,null,{"$f":"IF(ROW('mf3'!A202)<=Sheet1!$I$1,'mf3'!A202,\"\")","v":""},null,null,null,"",null,null,0,null,"",null,null,0,null,"",null,null,0]
[{"$f":"IF(ROW('mf1'!A203)<=Sheet1!$B$1,'mf1'!A203,\"\")","v":""},null,null,{"$f":"IF(ROW('mf2'!A203)<=Sheet1!$E$1,'mf2'!A203,\"\")","v":""},null,null,null,{"$f":"IF(ROW('mf3'!A203)<=Sheet1!$I$1,'mf3'!A203,\"\")","v":""},null,null,null,"",null,null,0,null,"",null,null,0,null,"",null,null,0]
[{"$f":"IF(ROW('mf1'!A204)<=Sheet1!$B$1,'mf1'!A204,\"\")","v":""},null,null,{"$f":"IF(ROW('mf2'!A204)<=Sheet1!$E$1,'mf2'!A204,\"\")","v":""},null,null,null,{"$f":"IF(ROW('mf3'!A204)<=Sheet1!$I$1,'mf3'!A204,\"\")","v":""},null,null,null,null,null,null,0,null,null,null,null,0,null,null,null,null,0]
[null,null,null,null,null,null,null,null,null,null,null,null,null,null,0,null,null,null,null,0,null,null,null,null,0]
[null,null,null,null,null,null,null,null,null,null,null,null,null,null,0,null,null,null,null,0,null,null,null,null,0]
[null,null,null,null,null,null,null,null,null,null,null,null,null,null,0,null,null,null,null,0,null,null,null,null,0]
[null,null,null,null,null,null,null,null,null,null,null,null,null,null,0,null,null,null,null,0,null,null,null,null,0]